{"text_format":"1","workbook":"xlsx","n_sheets":4,"sheets":["Welcome","Title List","Summary","HIDDEN"],"not_rendered":{"charts":0,"images":20,"macros":1,"external_links":0,"defined_names":8,"comments":1,"pivot_tables":0},"unopened":[],"bounds":{"document_bytes":16777216,"sheet_cells":100000,"rows_first":2000,"rows_last":500,"rows_between":2000,"halvings":0,"cell_chars":16384,"cell_head_chars":4096},"cells_cut":0,"cells_raw":0,"read":"whole","date_system":"1900"}

{"sheet":"Welcome","index":0,"n_rows":32,"n_cols":11,"rows_kept":32,"cut":false,"hidden":false,"merged":[[31,1,31,19],[24,3,24,19],[18,2,18,19],[28,1,28,19],[14,2,14,19],[16,2,16,19],[26,2,26,19],[20,2,20,19],[23,2,23,19],[21,3,21,19]]}
[]
[]
[]
[]
[]
[null,null,null,null,null,null,null,null,null,null,"Fall 2022 Order Form"]
[]
[]
[]
[]
[]
[]
[null,null,"INSTRUCTIONS:"]
[]
[null,"","On the Title List tab below, view the list of eBooks and print books available.  Make your selections by entering the quantity you wish to order in the appropriate column."]
[]
[null,"","By clicking the Sort Order button at the top, this will condense the list to show only your selections.  To expand the list back to show everything, click on the Unsort Order button."]
[]
[null,"","If you wish to apply the Buy 2, Get 1 Free promotion, place an X in Column AC next to the titles you wish to receive Free."]
[]
[null,"","Once all your selections are complete, click on the Finalize Order button at the top of the Title List tab.  This will copy your selections to the Summary tab where you can also"]
[null,null,null,"enter your ship to and bill to addresses along with any other order information."]
[]
[null,"","If you need to make any changes once you have finalized the order, click on the Edit Order button on the Summary tab.  This will revert the order back to the Title List tab"]
[null,null,null,"where you can make the changes.  Once changes are made, click on the Finalize Order button again and you will be brought back to the Summary tab."]
[]
[null,"","To reset the form back to the start, click on the Restart Order button."]
[]
[null,"** DO NOT HIDE OR DELETE ANY COLUMNS / ROWS AS THIS WILL CREATE ERRORS AND THE FORM WILL NOT WORK PROPERLY**"]
[]
[]
[null,"Thank you and we hope you enjoy your books!!"]

{"sheet":"Title List","index":1,"n_rows":22271,"n_cols":78,"rows_kept":2250,"cut":true,"hidden":false,"merged":[[1,33,1,34],[1,37,1,38],[1,40,1,41],[11934,0,11934,4]],"bounds":{"rows_first":1000,"rows_last":250,"rows_between":1000,"halvings":1}}
[]
[null,null,null,null,null,null,null,null,null,null,null,null,null,null,null,null,null,null,null,null,null,null,"Eligible for:",null,{"$f":"IF(AO5>=500,AQ10350/3,0)","v":0},null,"Free Books (excluding Bundles)",null,null,null,null,null,null,"EB TOTALS",null,null,null,"HC TOTALS",null,null,"ORDER TOTALS"]
[]
[null,null,null,null,null,null,null,null,null,null,null,null,null,null,null,null,null,null,null,null,null,null,"Free books used so far:",null,{"$f":"AR10349","v":0},null,null,null,"Indiana Rep:",null,"mikewhite@booklookindiana.com",null,null,{"$f":"AG10349+AH10349+AO10350","v":0},"Total Qty",null,null,{"$f":"AK10349+AL10349+AO10350","v":0},"Total Qty",null,{"$f":"AH4+AL4","v":0},"Total Qty"]
[null,null,null,null,null,null,null,null,null,null,null,null,null,null,null,null,null,null,null,null,null,null,"eBooks",null,"Print Books",null,"Bundles",null,null,null,"TOTALS",null,null,{"$f":"AI10350","v":0},"Total Subtotal B4 PROMO",null,null,{"$f":"AM10350","v":0},"Total Subtotal B4 PROMO",null,{"$f":"AH5+AL5","v":0},"Subtotal"]
[null,null,null,null,null,null,null,null,null,null,null,null,null,null,null,null,null,null,null,null,"Qty of Books",null,{"$f":"AH4","v":0},null,{"$f":"AL4","v":0},null,null,null,null,null,{"$f":"W6+Y6","v":0},null,null,{"$f":"AJ10349","v":0},"Total FREE Subtotal",null,null,{"$f":"AN10349","v":0},"Total FREE Subtotal",null,{"$f":"AH6+AL6","v":0},"Total FREE"]
[]
[null,null,null,null,null,null,null,null,null,null,null,null,null,null,null,null,null,null,null,null,"Subtotal",null,{"$f":"AH5","v":0},null,{"$f":"AL5","v":0},null,{"$f":"AP10349","v":0},null,null,null,{"$f":"W8+Y8+AA8","v":0},null,null,{"$f":"AH5+AH6","v":0},"TOTAL EB",null,null,{"$f":"AL5+AL6","v":0},"TOTAL HC",null,{"$f":"AH8+AL8","v":0},"TOTAL ORDER"]
[null,null,null,null,null,null,null,null,null,null,null,null,null,null,null,null,null,null,null,null,"Less promo",null,{"$f":"IF(AO5>=500,AH6,0)","v":0},null,{"$f":"IF(AO5>=500,AL6,0)","v":0},null,null,null,null,null,{"$f":"W9+Y9","v":0}]
[]
[null,null,null,null,null,null,null,null,null,null,null,null,null,null,null,null,null,null,null,null,null,null,null,null,null,null,null,null,null,null,{"$f":"AE8+AE9","v":0},null,"HIDDEN","HIDDEN","HIDDEN","HIDDEN","HIDDEN","HIDDEN","HIDDEN","HIDDEN","HIDDEN","HIDDEN","HIDDEN","HIDDEN","HIDDEN","HIDDEN","HIDDEN"]
[]
["Multi User eBook Qty",null,"Print               Qty",null,"Bundle Qty",null,"eBook                    ISBN",null,"Print                       ISBN",null,"Title (NEW listed in Blue)",null,null,null,"Series",null,null,null,"Publisher",null,"Multi User eBook Price",null,"School / Library Print Price",null,"Bundle Price",null,"Subtotal",null,"Mark X                                    for FREE",null,"Custom Field",null,"EB                     PURCH             QTY","EB                           FREE                     QTY","EB                     PURCH             TOTAL","EB                     FREE             TOTAL","HC                     PURCH             QTY","HC                        FREE                     QTY","HC                     PURCH             TOTAL","HC                    FREE             TOTAL","BUNDLE             QTY","BUNDLE TOTAL","PURCH                 QTY                 TOTAL","FREE                   QTY                 TOTAL","TOTAL QTY                       SORT COLUMN","PURCH        TOTAL    ","FREE             TOTAL","Season Released",null,"Copyright Year",null,"Dewey Number",null,"Reviews",null,"Publishers' Catalog Page Number",null,"LIST PRICE",null,"Imprint",null,"AR Level",null,"Subject",null,"Language",null,"Binding",null,"Page Count",null,"Guided Reading Level",null,"Lexile Level",null," Reading Level           (by Grade)",null,"Author"]
[]
[null,null,null,null,null,null,null,null,null,null,"Complete Series of 9",null,null,null,"1,2,3... Count With Me ",null,null,null,null,null,{"$f":"SUM(U16:U24)","v":0},null,{"$f":"SUM(W16:W24)","v":215.54999999999995},null,{"$f":"SUM(Y16:Y24)","v":0}]
[null,null,{"$f":"C15","v":0},null,null,null,"Not Available",null,9781607539193,null,"Across the Country 18, 19, 20",null,null,null,"1,2,3... Count With Me ",null,null,null,"Amicus",null,0,null,23.95,null,0,null,{"$f":"IF(AC16=FALSE,AT16,0)","v":0},null,null,null,null,null,{"$f":"IF(AND(A16>=1,AC16=\"\"),A16,0)","v":0},{"$f":"IF(AND(A16>=1,AC16=\"x\"),A16,0)","v":0},{"$f":"IF(AND(A16>=1,AC16=\"\"),U16,0)","v":0},{"$f":"IF(AND(A16>=1,AC16=\"x\"),-U16,0)","v":0},{"$f":"IF(AND(C16>=1,AC16=\"\"),C16,0)","v":0},{"$f":"IF(AND(C16>=1,AC16=\"x\"),C16,0)","v":0},{"$f":"IF(AND(C16>=1,AC16=\"\"),W16*C16,0)","v":0},{"$f":"IF(AND(C16>=1,AC16=\"x\"),-W16*C16,0)","v":0},{"$f":"E16","v":0},{"$f":"Y16*E16","v":0},{"$f":"AG16+AK16+AO16","v":0},{"$f":"AH16+AL16","v":0},{"$f":"AQ16+AR16","v":0},{"$f":"AI16+AM16+AP16","v":0},{"$f":"AJ16+AN16","v":0},"Fall 2016",null,2017,null,"388.3/4",null,null,null,"Website",null,34.25,null,"Amicus Readers",null,1.5,null,"Math",null,"English",null,"Reinforced Library",null,24,null,"G",null,"380L",null,"K - 3",null,"Martha E. H. Rustad"]
[null,null,{"$f":"C15","v":0},null,null,null,"Not Available",null,9781607539209,null,"Chicks 2, 4, 6",null,null,null,"1,2,3... Count With Me ",null,null,null,"Amicus",null,0,null,23.95,null,0,null,0,null,null,null,null,null,0,0,0,0,0,0,0,0,0,0,0,0,0,0,0,"Fall 2016",null,2017,null,"513.2/11",null,null,null,"Website",null,34.25,null,"Amicus Readers",null,1.3,null,"Math",null,"English",null,"Reinforced Library",null,24,null,"E",null,"410L",null,"K - 3",null,"Martha E. H. Rustad"]
[null,null,{"$f":"C15","v":0},null,null,null,"Not Available",null,9781607537151,null,"Down in the Jungle 1,2,3",null,null,null,"1,2,3... Count With Me ",null,null,null,"Amicus",null,0,null,23.95,null,0,null,0,null,null,null,null,null,0,0,0,0,0,0,0,0,0,0,0,0,0,0,0,"Fall 2015",null,2016,null,"513.2/11",null,null,null,"Website",null,34.25,null,"Amicus Readers",null,1.5,null,"Math",null,"English",null,"Reinforced Library",null,24,null,"E",null,"380L",null,"K - 3",null,"Tracey E. Dils"]
[null,null,{"$f":"C15","v":0},null,null,null,"Not Available",null,9781607537182,null,"Down on the Farm 1,2,3",null,null,null,"1,2,3... Count With Me ",null,null,null,"Amicus",null,0,null,23.95,null,0,null,0,null,null,null,null,null,0,0,0,0,0,0,0,0,0,0,0,0,0,0,0,"Fall 2015",null,2016,null,"513.2/11",null,null,null,"Website",null,34.25,null,"Amicus Readers",null,1.3,null,"Math",null,"English",null,"Reinforced Library",null,24,null,"E",null,"370L",null,"K - 3",null,"Tracey E. Dils"]
[null,null,{"$f":"C15","v":0},null,null,null,"Not Available",null,9781607537199,null,"Falling Leaves 1,2,3",null,null,null,"1,2,3... Count With Me ",null,null,null,"Amicus",null,0,null,23.95,null,0,null,0,null,null,null,null,null,0,0,0,0,0,0,0,0,0,0,0,0,0,0,0,"Fall 2015",null,2016,null,"513.2/11",null,null,null,"Website",null,34.25,null,"Amicus Readers",null,1.4,null,"Math",null,"English",null,"Reinforced Library",null,24,null,"E",null,"360L",null,"K - 3",null,"Tracey E. Dils"]
[null,null,{"$f":"C15","v":0},null,null,null,"Not Available",null,9781607537168,null,"My Pets and Me 1,2,3",null,null,null,"1,2,3... Count With Me ",null,null,null,"Amicus",null,0,null,23.95,null,0,null,0,null,null,null,null,null,0,0,0,0,0,0,0,0,0,0,0,0,0,0,0,"Fall 2015",null,2016,null,"513.2/11",null,null,null,"Website",null,34.25,null,"Amicus Readers",null,1.3,null,"Math",null,"English",null,"Reinforced Library",null,24,null,"E",null,"340L",null,"K - 3",null,"Tracey E. Dils"]
[null,null,{"$f":"C15","v":0},null,null,null,"Not Available",null,9781607539223,null,"On a Safari 5, 10, 15",null,null,null,"1,2,3... Count With Me ",null,null,null,"Amicus",null,0,null,23.95,null,0,null,0,null,null,null,null,null,0,0,0,0,0,0,0,0,0,0,0,0,0,0,0,"Fall 2016",null,2017,null,"513.2/11",null,null,null,"Website",null,34.25,null,"Amicus Readers",null,1.4,null,"Math",null,"English",null,"Reinforced Library",null,24,null,"G",null,"280L",null,"K - 3",null,"Martha E. H. Rustad"]
[null,null,{"$f":"C15","v":0},null,null,null,"Not Available",null,9781607539230,null,"One More Bug",null,null,null,"1,2,3... Count With Me ",null,null,null,"Amicus",null,0,null,23.95,null,0,null,0,null,null,null,null,null,0,0,0,0,0,0,0,0,0,0,0,0,0,0,0,"Fall 2016",null,2017,null,"513.2/11",null,null,null,"Website",null,34.25,null,"Amicus Readers",null,1.6,null,"Math",null,"English",null,"Reinforced Library",null,24,null,"F",null,"390L",null,"K - 3",null,"Martha E. H. Rustad"]
[null,null,{"$f":"C15","v":0},null,null,null,"Not Available",null,9781607537175,null,"Under the Sea 1,2,3",null,null,null,"1,2,3... Count With Me ",null,null,null,"Amicus",null,0,null,23.95,null,0,null,0,null,null,null,null,null,0,0,0,0,0,0,0,0,0,0,0,0,0,0,0,"Fall 2015",null,2016,null,"513.2/11",null,null,null,"Website",null,34.25,null,"Amicus Readers",null,1.7,null,"Math",null,"English",null,"Reinforced Library",null,24,null,"E",null,"460L",null,"K - 3",null,"Tracey E. Dils"]
[]
[null,null,null,null,null,null,null,null,null,null,"Complete Series of 6",null,null,null,"Adventures in Science",null,null,null,null,null,{"$f":"SUM(U27:U32)","v":0},null,{"$f":"SUM(W27:W32)","v":143.69999999999999},null,{"$f":"SUM(Y27:Y32)","v":0}]
[null,null,{"$f":"C26","v":0},null,null,null,"Not Available",null,9781607539612,null,"Do You Really Want to Burn Your Toast?",null,null,null,"Adventures in Science",null,null,null,"Amicus",null,0,null,23.95,null,0,null,{"$f":"IF(AC27=FALSE,AT27,0)","v":0},null,null,null,null,null,{"$f":"IF(AND(A27>=1,AC27=\"\"),A27,0)","v":0},{"$f":"IF(AND(A27>=1,AC27=\"x\"),A27,0)","v":0},{"$f":"IF(AND(A27>=1,AC27=\"\"),U27,0)","v":0},{"$f":"IF(AND(A27>=1,AC27=\"x\"),-U27,0)","v":0},{"$f":"IF(AND(C27>=1,AC27=\"\"),C27,0)","v":0},{"$f":"IF(AND(C27>=1,AC27=\"x\"),C27,0)","v":0},{"$f":"IF(AND(C27>=1,AC27=\"\"),W27*C27,0)","v":0},{"$f":"IF(AND(C27>=1,AC27=\"x\"),-W27*C27,0)","v":0},{"$f":"E27","v":0},{"$f":"Y27*E27","v":0},{"$f":"AG27+AK27+AO27","v":0},{"$f":"AH27+AL27","v":0},{"$f":"AQ27+AR27","v":0},{"$f":"AI27+AM27+AP27","v":0},{"$f":"AJ27+AN27","v":0},"Fall 2016",null,2017,null,536,null,null,null,39,null,34.25,null,"Amicus Illustrated",null,2.6,null,"Science",null,"English",null,"Reinforced Library",null,24,null,"J",null,"520L",null,"2 – 5",null,"Daniel D. Maurer"]
[null,null,{"$f":"C26","v":0},null,null,null,"Not Available",null,9781607539575,null,"Do You Really Want to Create a Mudslide?",null,null,null,"Adventures in Science",null,null,null,"Amicus",null,0,null,23.95,null,0,null,0,null,null,null,null,null,0,0,0,0,0,0,0,0,0,0,0,0,0,0,0,"Fall 2016",null,2017,null,"551.3/52",null,null,null,39,null,34.25,null,"Amicus Illustrated",null,2.8,null,"Science",null,"English",null,"Reinforced Library",null,24,null,"J",null,"610L",null,"2 – 5",null,"Daniel D. Maurer"]
[null,null,{"$f":"C26","v":0},null,null,null,"Not Available",null,9781607539599,null,"Do You Really Want to Drive in a Blizzard?",null,null,null,"Adventures in Science",null,null,null,"Amicus",null,0,null,23.95,null,0,null,0,null,null,null,null,null,0,0,0,0,0,0,0,0,0,0,0,0,0,0,0,"Fall 2016",null,2017,null,551.63,null,null,null,39,null,34.25,null,"Amicus Illustrated",null,3,null,"Science",null,"English",null,"Reinforced Library",null,24,null,"J",null,"590L",null,"2 – 5",null,"Daniel D. Maurer"]
[null,null,{"$f":"C26","v":0},null,null,null,"Not Available",null,9781607539582,null,"Do You Really Want to Skate on Thin Ice?",null,null,null,"Adventures in Science",null,null,null,"Amicus",null,0,null,23.95,null,0,null,0,null,null,null,null,null,0,0,0,0,0,0,0,0,0,0,0,0,0,0,0,"Fall 2016",null,2017,null,530.4,null,null,null,39,null,34.25,null,"Amicus Illustrated",null,2.9,null,"Science",null,"English",null,"Reinforced Library",null,24,null,"J",null,"600L",null,"2 – 5",null,"Daniel D. Maurer"]
[null,null,{"$f":"C26","v":0},null,null,null,"Not Available",null,9781607539605,null,"Do You Really Want to Walk in the Dark?",null,null,null,"Adventures in Science",null,null,null,"Amicus",null,0,null,23.95,null,0,null,0,null,null,null,null,null,0,0,0,0,0,0,0,0,0,0,0,0,0,0,0,"Fall 2016",null,2017,null,535,null,null,null,39,null,34.25,null,"Amicus Illustrated",null,3,null,"Science",null,"English",null,"Reinforced Library",null,24,null,"J",null,"570L",null,"2 – 5",null,"Daniel D. Maurer"]
[null,null,{"$f":"C26","v":0},null,null,null,"Not Available",null,9781607539568,null,"Do You Really Want to Yell in a Cave?",null,null,null,"Adventures in Science",null,null,null,"Amicus",null,0,null,23.95,null,0,null,0,null,null,null,null,null,0,0,0,0,0,0,0,0,0,0,0,0,0,0,0,"Fall 2016",null,2017,null,534,null,null,null,39,null,34.25,null,"Amicus Illustrated",null,2.4,null,"Science",null,"English",null,"Reinforced Library",null,24,null,"J",null,"440L",null,"2 – 5",null,"Daniel D. Maurer"]
[]
[null,null,null,null,null,null,null,null,null,null,"Complete Series of 6",null,null,null,"Aesop's Fables Remixed",null,null,null,null,null,{"$f":"SUM(U35:U40)","v":0},null,{"$f":"SUM(W35:W40)","v":143.69999999999999},null,{"$f":"SUM(Y35:Y40)","v":0}]
[null,null,{"$f":"C34","v":0},null,null,null,"Not Available",null,9781607539520,null,"Abby Visits the Big City",null,null,null,"Aesop's Fables Remixed",null,null,null,"Amicus",null,0,null,23.95,null,0,null,{"$f":"IF(AC35=FALSE,AT35,0)","v":0},null,null,null,null,null,{"$f":"IF(AND(A35>=1,AC35=\"\"),A35,0)","v":0},{"$f":"IF(AND(A35>=1,AC35=\"x\"),A35,0)","v":0},{"$f":"IF(AND(A35>=1,AC35=\"\"),U35,0)","v":0},{"$f":"IF(AND(A35>=1,AC35=\"x\"),-U35,0)","v":0},{"$f":"IF(AND(C35>=1,AC35=\"\"),C35,0)","v":0},{"$f":"IF(AND(C35>=1,AC35=\"x\"),C35,0)","v":0},{"$f":"IF(AND(C35>=1,AC35=\"\"),W35*C35,0)","v":0},{"$f":"IF(AND(C35>=1,AC35=\"x\"),-W35*C35,0)","v":0},{"$f":"E35","v":0},{"$f":"Y35*E35","v":0},{"$f":"AG35+AK35+AO35","v":0},{"$f":"AH35+AL35","v":0},{"$f":"AQ35+AR35","v":0},{"$f":"AI35+AM35+AP35","v":0},{"$f":"AJ35+AN35","v":0},"Fall 2016",null,2017,null,398.2,null,null,null,42,null,34.25,null,"Amicus Illustrated",null,2.7,null,"Language Arts",null,"English",null,"Reinforced Library",null,24,null,"J",null,"340L",null,"2 – 5",null,"Connie Colwell Miller"]
[null,null,{"$f":"C34","v":0},null,null,null,"Not Available",null,9781607539513,null,"Andrew and the Birthday Surprise",null,null,null,"Aesop's Fables Remixed",null,null,null,"Amicus",null,0,null,23.95,null,0,null,0,null,null,null,null,null,0,0,0,0,0,0,0,0,0,0,0,0,0,0,0,"Fall 2016",null,2017,null,398.2,null,null,null,42,null,34.25,null,"Amicus Illustrated",null,2.2000000000000002,null,"Language Arts",null,"English",null,"Reinforced Library",null,24,null,"J",null,"350L",null,"2 – 5",null,"Connie Colwell Miller"]
[null,null,{"$f":"C34","v":0},null,null,null,"Not Available",null,9781607539506,null,"Henry’s Track and Field Day",null,null,null,"Aesop's Fables Remixed",null,null,null,"Amicus",null,0,null,23.95,null,0,null,0,null,null,null,null,null,0,0,0,0,0,0,0,0,0,0,0,0,0,0,0,"Fall 2016",null,2017,null,398.2,null,null,null,42,null,34.25,null,"Amicus Illustrated",null,2.6,null,"Language Arts",null,"English",null,"Reinforced Library",null,24,null,"J",null,"300L",null,"2 – 5",null,"Connie Colwell Miller"]
[null,null,{"$f":"C34","v":0},null,null,null,"Not Available",null,9781607539544,null,"James and the Kindergartener",null,null,null,"Aesop's Fables Remixed",null,null,null,"Amicus",null,0,null,23.95,null,0,null,0,null,null,null,null,null,0,0,0,0,0,0,0,0,0,0,0,0,0,0,0,"Fall 2016",null,2017,null,398.2,null,null,null,42,null,34.25,null,"Amicus Illustrated",null,2.4,null,"Language Arts",null,"English",null,"Reinforced Library",null,24,null,"J",null,"380L",null,"2 – 5",null,"Connie Colwell Miller"]
[null,null,{"$f":"C34","v":0},null,null,null,"Not Available",null,9781607539551,null,"Mary, Anna, and the Little Brother",null,null,null,"Aesop's Fables Remixed",null,null,null,"Amicus",null,0,null,23.95,null,0,null,0,null,null,null,null,null,0,0,0,0,0,0,0,0,0,0,0,0,0,0,0,"Fall 2016",null,2017,null,398.2,null,null,null,42,null,34.25,null,"Amicus Illustrated",null,2.2999999999999998,null,"Language Arts",null,"English",null,"Reinforced Library",null,24,null,"J",null,"300L",null,"2 – 5",null,"Connie Colwell Miller"]
[null,null,{"$f":"C34","v":0},null,null,null,"Not Available",null,9781607539537,null,"Rosie’s Special Gift",null,null,null,"Aesop's Fables Remixed",null,null,null,"Amicus",null,0,null,23.95,null,0,null,0,null,null,null,null,null,0,0,0,0,0,0,0,0,0,0,0,0,0,0,0,"Fall 2016",null,2017,null,398.2,null,null,null,42,null,34.25,null,"Amicus Illustrated",null,2.4,null,"Language Arts",null,"English",null,"Reinforced Library",null,24,null,"J",null,"360L",null,"2 – 5",null,"Connie Colwell Miller"]
[]
[null,null,null,null,null,null,null,null,null,null,"Complete Series of 6",null,null,null,"Amazing Adventures",null,null,null,null,null,{"$f":"SUM(U43:U48)","v":257.10000000000002},null,{"$f":"SUM(W43:W48)","v":125.7},null,{"$f":"SUM(Y43:Y48)","v":155.69999999999999}]
[{"$f":"A42","v":0},null,{"$f":"C42","v":0},null,{"$f":"E42","v":0},null,9781681513515,null,9781681513157,null,"Blast off to Space",null,null,null,"Amazing Adventures",null,null,null,"Amicus",null,42.85,null,20.95,null,{"$f":"W43+5","v":25.95},null,{"$f":"IF(AC43=FALSE,AT43,0)","v":0},null,null,null,null,null,{"$f":"IF(AND(A43>=1,AC43=\"\"),A43,0)","v":0},{"$f":"IF(AND(A43>=1,AC43=\"x\"),A43,0)","v":0},{"$f":"IF(AND(A43>=1,AC43=\"\"),U43,0)","v":0},{"$f":"IF(AND(A43>=1,AC43=\"x\"),-U43,0)","v":0},{"$f":"IF(AND(C43>=1,AC43=\"\"),C43,0)","v":0},{"$f":"IF(AND(C43>=1,AC43=\"x\"),C43,0)","v":0},{"$f":"IF(AND(C43>=1,AC43=\"\"),W43*C43,0)","v":0},{"$f":"IF(AND(C43>=1,AC43=\"x\"),-W43*C43,0)","v":0},{"$f":"E43","v":0},{"$f":"Y43*E43","v":0},{"$f":"AG43+AK43+AO43","v":0},{"$f":"AH43+AL43","v":0},{"$f":"AQ43+AR43","v":0},{"$f":"AI43+AM43+AP43","v":0},{"$f":"AJ43+AN43","v":0},"Spring 2018",null,2018,null,629.4,null,null,null,"Website",null,29.95,null,"Amicus Readers",null,1,null,"Social Studies",null,"English",null,"Reinforced Library",null,16,null,"F",null,"320L",null,"K - 2",null,"K.C. Kelley"]
[{"$f":"A42","v":0},null,{"$f":"C42","v":0},null,{"$f":"E42","v":0},null,9781681513508,null,9781681513140,null,"Explore a Cave",null,null,null,"Amazing Adventures",null,null,null,"Amicus",null,42.85,null,20.95,null,25.95,null,0,null,null,null,null,null,0,0,0,0,0,0,0,0,0,0,0,0,0,0,0,"Spring 2018",null,2018,null,"551.44/7",null,null,null,"Website",null,29.95,null,"Amicus Readers",null,1,null,"Social Studies",null,"English",null,"Reinforced Library",null,16,null,"F",null,"310L",null,"K - 2",null,"K.C. Kelley"]
[{"$f":"A42","v":0},null,{"$f":"C42","v":0},null,{"$f":"E42","v":0},null,9781681513478,null,9781681513119,null,"Hike a Mountain",null,null,null,"Amazing Adventures",null,null,null,"Amicus",null,42.85,null,20.95,null,25.95,null,0,null,null,null,null,null,0,0,0,0,0,0,0,0,0,0,0,0,0,0,0,"Spring 2018",null,2018,null,796.51,null,null,null,"Website",null,29.95,null,"Amicus Readers",null,0.8,null,"Social Studies",null,"English",null,"Reinforced Library",null,16,null,"F",null,"290L",null,"K - 2",null,"K.C. Kelley"]
[{"$f":"A42","v":0},null,{"$f":"C42","v":0},null,{"$f":"E42","v":0},null,9781681513492,null,9781681513133,null,"Journey through a Desert",null,null,null,"Amazing Adventures",null,null,null,"Amicus",null,42.85,null,20.95,null,25.95,null,0,null,null,null,null,null,0,0,0,0,0,0,0,0,0,0,0,0,0,0,0,"Spring 2018",null,2018,null,"551.41/5",null,null,null,"Website",null,29.95,null,"Amicus Readers",null,0.8,null,"Social Studies",null,"English",null,"Reinforced Library",null,16,null,"F",null,"240L",null,"K - 2",null,"K.C. Kelley"]
[{"$f":"A42","v":0},null,{"$f":"C42","v":0},null,{"$f":"E42","v":0},null,9781681513461,null,9781681513102,null,"Snorkel Coral Reefs",null,null,null,"Amazing Adventures",null,null,null,"Amicus",null,42.85,null,20.95,null,25.95,null,0,null,null,null,null,null,0,0,0,0,0,0,0,0,0,0,0,0,0,0,0,"Spring 2018",null,2018,null,"578.77/89",null,null,null,"Website",null,29.95,null,"Amicus Readers",null,0.9,null,"Social Studies",null,"English",null,"Reinforced Library",null,16,null,"F",null,"300L",null,"K - 2",null,"K.C. Kelley"]
[{"$f":"A42","v":0},null,{"$f":"C42","v":0},null,{"$f":"E42","v":0},null,9781681513485,null,9781681513126,null,"Trek the Rain Forest",null,null,null,"Amazing Adventures",null,null,null,"Amicus",null,42.85,null,20.95,null,25.95,null,0,null,null,null,null,null,0,0,0,0,0,0,0,0,0,0,0,0,0,0,0,"Spring 2018",null,2018,null,591.73400000000004,null,null,null,"Website",null,29.95,null,"Amicus Readers",null,1,null,"Social Studies",null,"English",null,"Reinforced Library",null,16,null,"F",null,"300L",null,"K - 2",null,"K.C. Kelley"]
[]
[null,null,null,null,null,null,null,null,null,null,"Complete Series of 3",null,null,null,"Amicus Ink Board Books",null,null,null,null,null,{"$f":"SUM(U51:U53)","v":42.900000000000006},null,{"$f":"SUM(W51:W53)","v":29.97},null,{"$f":"SUM(Y51:Y53)","v":44.97}]
[{"$f":"A50","v":0},null,{"$f":"C50","v":0},null,{"$f":"E50","v":0},null,9781681525129,null,9781681521947,null,"It's Not the Baby",null,null,null,"Amicus Ink Board Books",null,null,null,"Amicus",null,14.3,null,9.99,null,{"$f":"W51+5","v":14.99},null,{"$f":"IF(AC51=FALSE,AT51,0)","v":0},null,null,null,null,null,{"$f":"IF(AND(A51>=1,AC51=\"\"),A51,0)","v":0},{"$f":"IF(AND(A51>=1,AC51=\"x\"),A51,0)","v":0},{"$f":"IF(AND(A51>=1,AC51=\"\"),U51,0)","v":0},{"$f":"IF(AND(A51>=1,AC51=\"x\"),-U51,0)","v":0},{"$f":"IF(AND(C51>=1,AC51=\"\"),C51,0)","v":0},{"$f":"IF(AND(C51>=1,AC51=\"x\"),C51,0)","v":0},{"$f":"IF(AND(C51>=1,AC51=\"\"),W51*C51,0)","v":0},{"$f":"IF(AND(C51>=1,AC51=\"x\"),-W51*C51,0)","v":0},{"$f":"E51","v":0},{"$f":"Y51*E51","v":0},{"$f":"AG51+AK51+AO51","v":0},{"$f":"AH51+AL51","v":0},{"$f":"AQ51+AR51","v":0},{"$f":"AI51+AM51+AP51","v":0},{"$f":"AJ51+AN51","v":0},"Fall 2017",null,2018,null,"E",null,null,null,14,null,9.99,null,"Amicus Ink",null,"Not Quizzable",null,"Fiction",null,"English",null,"Board Book",null,14,null,null,null,null,null,"4 - 8",null,"J. Patrick Lewis & Leigh Lewis"]
[{"$f":"A50","v":0},null,{"$f":"C50","v":0},null,{"$f":"E50","v":0},null,9781681525150,null,9781681524092,null,"It's Not the Puppy",null,null,null,"Amicus Ink Board Books",null,null,null,"Amicus",null,14.3,null,9.99,null,{"$f":"W52+5","v":14.99},null,{"$f":"IF(AC52=FALSE,AT52,0)","v":0},null,null,null,null,null,{"$f":"IF(AND(A52>=1,AC52=\"\"),A52,0)","v":0},{"$f":"IF(AND(A52>=1,AC52=\"x\"),A52,0)","v":0},{"$f":"IF(AND(A52>=1,AC52=\"\"),U52,0)","v":0},{"$f":"IF(AND(A52>=1,AC52=\"x\"),-U52,0)","v":0},0,0,0,0,{"$f":"E52","v":0},{"$f":"Y52*E52","v":0},{"$f":"AG52+AK52+AO52","v":0},{"$f":"AH52+AL52","v":0},{"$f":"AQ52+AR52","v":0},{"$f":"AI52+AM52+AP52","v":0},{"$f":"AJ52+AN52","v":0},"Spring 2019",null,2019,null,"E",null,null,null,14,null,9.99,null,"Amicus Ink",null,"Not Quizzable",null,"Fiction",null,"English",null,"Board Book",null,14,null,null,null,null,null,"4 - 8",null,"J. Patrick Lewis & Leigh Lewis"]
[{"$f":"A50","v":0},null,{"$f":"C50","v":0},null,{"$f":"E50","v":0},null,9781681525679,null,9781681525037,null,"Who is Making a Mess?",null,null,null,"Amicus Ink Board Books",null,null,null,"Amicus",null,14.3,null,9.99,null,{"$f":"W53+5","v":14.99},null,{"$f":"IF(AC53=FALSE,AT53,0)","v":0},null,null,null,null,null,{"$f":"IF(AND(A53>=1,AC53=\"\"),A53,0)","v":0},{"$f":"IF(AND(A53>=1,AC53=\"x\"),A53,0)","v":0},{"$f":"IF(AND(A53>=1,AC53=\"\"),U53,0)","v":0},{"$f":"IF(AND(A53>=1,AC53=\"x\"),-U53,0)","v":0},0,0,0,0,{"$f":"E53","v":0},{"$f":"Y53*E53","v":0},{"$f":"AG53+AK53+AO53","v":0},{"$f":"AH53+AL53","v":0},{"$f":"AQ53+AR53","v":0},{"$f":"AI53+AM53+AP53","v":0},{"$f":"AJ53+AN53","v":0},"Spring 2020",null,2020,null,"E",null,"KR",null,14,null,9.99,null,"Amicus Ink",null,"Not Quizzable",null,"Fiction",null,"English",null,"Board Book",null,20,null,null,null,null,null,"4 - 8",null,"Maria D’Haene"]
[]
[null,null,null,null,null,null,null,null,null,null,"Complete Series of 3",null,null,null,"Amicus Ink Board Books - Farm Animals",null,null,null,null,null,{"$f":"SUM(U56:U58)","v":0},null,{"$f":"SUM(W56:W58)","v":23.97},null,{"$f":"SUM(Y56:Y58)","v":0}]
[null,null,{"$f":"C55","v":0},null,null,null,"Not Available",null,9781681521251,null,"Cows Moo",null,null,null,"Amicus Ink Board Books - Farm Animals",null,null,null,"Amicus",null,0,null,7.99,null,0,null,{"$f":"IF(AC56=FALSE,AT56,0)","v":0},null,null,null,null,null,{"$f":"IF(AND(A56>=1,AC56=\"\"),A56,0)","v":0},{"$f":"IF(AND(A56>=1,AC56=\"x\"),A56,0)","v":0},{"$f":"IF(AND(A56>=1,AC56=\"\"),U56,0)","v":0},{"$f":"IF(AND(A56>=1,AC56=\"x\"),-U56,0)","v":0},{"$f":"IF(AND(C56>=1,AC56=\"\"),C56,0)","v":0},{"$f":"IF(AND(C56>=1,AC56=\"x\"),C56,0)","v":0},{"$f":"IF(AND(C56>=1,AC56=\"\"),W56*C56,0)","v":0},{"$f":"IF(AND(C56>=1,AC56=\"x\"),-W56*C56,0)","v":0},{"$f":"E56","v":0},{"$f":"Y56*E56","v":0},{"$f":"AG56+AK56+AO56","v":0},{"$f":"AH56+AL56","v":0},{"$f":"AQ56+AR56","v":0},{"$f":"AI56+AM56+AP56","v":0},{"$f":"AJ56+AN56","v":0},"Fall 2016",null,2017,null,636.20000000000005,null,null,null,14,null,7.99,null,"Amicus Ink",null,"Not Quizzable",null,"Animals",null,"English",null,"Board Book",null,14,null,null,null,null,null,"PreK - 1",null,"Rebecca Glaser"]
[null,null,{"$f":"C55","v":0},null,null,null,"Not Available",null,9781681521275,null,"Ducks Quack",null,null,null,"Amicus Ink Board Books - Farm Animals",null,null,null,"Amicus",null,0,null,7.99,null,0,null,{"$f":"IF(AC57=FALSE,AT57,0)","v":0},null,null,null,null,null,{"$f":"IF(AND(A57>=1,AC57=\"\"),A57,0)","v":0},{"$f":"IF(AND(A57>=1,AC57=\"x\"),A57,0)","v":0},{"$f":"IF(AND(A57>=1,AC57=\"\"),U57,0)","v":0},{"$f":"IF(AND(A57>=1,AC57=\"x\"),-U57,0)","v":0},0,0,0,0,{"$f":"E57","v":0},{"$f":"Y57*E57","v":0},{"$f":"AG57+AK57+AO57","v":0},{"$f":"AH57+AL57","v":0},{"$f":"AQ57+AR57","v":0},{"$f":"AI57+AM57+AP57","v":0},{"$f":"AJ57+AN57","v":0},"Fall 2016",null,2017,null,"636.5/97",null,null,null,14,null,7.99,null,"Amicus Ink",null,"Not Quizzable",null,"Animals",null,"English",null,"Board Book",null,14,null,null,null,null,null,"PreK - 1",null,"Rebecca Glaser"]
[null,null,{"$f":"C55","v":0},null,null,null,"Not Available",null,9781681521282,null,"Pigs Oink",null,null,null,"Amicus Ink Board Books - Farm Animals",null,null,null,"Amicus",null,0,null,7.99,null,0,null,{"$f":"IF(AC58=FALSE,AT58,0)","v":0},null,null,null,null,null,{"$f":"IF(AND(A58>=1,AC58=\"\"),A58,0)","v":0},{"$f":"IF(AND(A58>=1,AC58=\"x\"),A58,0)","v":0},{"$f":"IF(AND(A58>=1,AC58=\"\"),U58,0)","v":0},{"$f":"IF(AND(A58>=1,AC58=\"x\"),-U58,0)","v":0},0,0,0,0,{"$f":"E58","v":0},{"$f":"Y58*E58","v":0},{"$f":"AG58+AK58+AO58","v":0},{"$f":"AH58+AL58","v":0},{"$f":"AQ58+AR58","v":0},{"$f":"AI58+AM58+AP58","v":0},{"$f":"AJ58+AN58","v":0},"Fall 2016",null,2017,null,636.1,null,null,null,14,null,7.99,null,"Amicus Ink",null,"Not Quizzable",null,"Animals",null,"English",null,"Board Book",null,14,null,null,null,null,null,"PreK - 1",null,"Rebecca Glaser"]
[]
[null,null,null,null,null,null,null,null,null,null,"Complete Series of 4",null,null,null,"Amicus Ink Board Books - Pets",null,null,null,null,null,{"$f":"SUM(U61:U64)","v":0},null,{"$f":"SUM(W61:W64)","v":31.96},null,{"$f":"SUM(Y61:Y64)","v":0}]
[null,null,{"$f":"C60","v":0},null,null,null,"Not Available",null,9781681521992,null,"Bunnies Hop",null,null,null,"Amicus Ink Board Books - Pets",null,null,null,"Amicus",null,0,null,7.99,null,0,null,{"$f":"IF(AC61=FALSE,AT61,0)","v":0},null,null,null,null,null,{"$f":"IF(AND(A61>=1,AC61=\"\"),A61,0)","v":0},{"$f":"IF(AND(A61>=1,AC61=\"x\"),A61,0)","v":0},{"$f":"IF(AND(A61>=1,AC61=\"\"),U61,0)","v":0},{"$f":"IF(AND(A61>=1,AC61=\"x\"),-U61,0)","v":0},{"$f":"IF(AND(C61>=1,AC61=\"\"),C61,0)","v":0},{"$f":"IF(AND(C61>=1,AC61=\"x\"),C61,0)","v":0},{"$f":"IF(AND(C61>=1,AC61=\"\"),W61*C61,0)","v":0},{"$f":"IF(AND(C61>=1,AC61=\"x\"),-W61*C61,0)","v":0},{"$f":"E61","v":0},{"$f":"Y61*E61","v":0},{"$f":"AG61+AK61+AO61","v":0},{"$f":"AH61+AL61","v":0},{"$f":"AQ61+AR61","v":0},{"$f":"AI61+AM61+AP61","v":0},{"$f":"AJ61+AN61","v":0},"Fall 2017",null,2018,null,636.93200000000002,null,null,null,14,null,7.99,null,"Amicus Ink",null,"Not Quizzable",null,"Animals",null,"English",null,"Board Book",null,14,null,null,null,null,null,"PreK - 1",null,"Rebecca Glaser"]
[null,null,{"$f":"C60","v":0},null,null,null,"Not Available",null,9781681521985,null,"Fish Swim",null,null,null,"Amicus Ink Board Books - Pets",null,null,null,"Amicus",null,0,null,7.99,null,0,null,{"$f":"IF(AC62=FALSE,AT62,0)","v":0},null,null,null,null,null,{"$f":"IF(AND(A62>=1,AC62=\"\"),A62,0)","v":0},{"$f":"IF(AND(A62>=1,AC62=\"x\"),A62,0)","v":0},{"$f":"IF(AND(A62>=1,AC62=\"\"),U62,0)","v":0},{"$f":"IF(AND(A62>=1,AC62=\"x\"),-U62,0)","v":0},0,0,0,0,{"$f":"E62","v":0},{"$f":"Y62*E62","v":0},{"$f":"AG62+AK62+AO62","v":0},{"$f":"AH62+AL62","v":0},{"$f":"AQ62+AR62","v":0},{"$f":"AI62+AM62+AP62","v":0},{"$f":"AJ62+AN62","v":0},"Fall 2017",null,2018,null,639.34,null,null,null,14,null,7.99,null,"Amicus Ink",null,"Not Quizzable",null,"Animals",null,"English",null,"Board Book",null,14,null,null,null,null,null,"PreK - 1",null,"Rebecca Glaser"]
[null,null,{"$f":"C60","v":0},null,null,null,"Not Available",null,9781681521978,null,"Kittens Pounce",null,null,null,"Amicus Ink Board Books - Pets",null,null,null,"Amicus",null,0,null,7.99,null,0,null,{"$f":"IF(AC63=FALSE,AT63,0)","v":0},null,null,null,null,null,{"$f":"IF(AND(A63>=1,AC63=\"\"),A63,0)","v":0},{"$f":"IF(AND(A63>=1,AC63=\"x\"),A63,0)","v":0},{"$f":"IF(AND(A63>=1,AC63=\"\"),U63,0)","v":0},{"$f":"IF(AND(A63>=1,AC63=\"x\"),-U63,0)","v":0},0,0,0,0,{"$f":"E63","v":0},{"$f":"Y63*E63","v":0},{"$f":"AG63+AK63+AO63","v":0},{"$f":"AH63+AL63","v":0},{"$f":"AQ63+AR63","v":0},{"$f":"AI63+AM63+AP63","v":0},{"$f":"AJ63+AN63","v":0},"Fall 2017",null,2018,null,"636.8/07",null,null,null,14,null,7.99,null,"Amicus Ink",null,"Not Quizzable",null,"Animals",null,"English",null,"Board Book",null,14,null,null,null,null,null,"PreK - 1",null,"Rebecca Glaser"]
[null,null,{"$f":"C60","v":0},null,null,null,"Not Available",null,9781681521961,null,"Puppies Chase",null,null,null,"Amicus Ink Board Books - Pets",null,null,null,"Amicus",null,0,null,7.99,null,0,null,{"$f":"IF(AC64=FALSE,AT64,0)","v":0},null,null,null,null,null,{"$f":"IF(AND(A64>=1,AC64=\"\"),A64,0)","v":0},{"$f":"IF(AND(A64>=1,AC64=\"x\"),A64,0)","v":0},{"$f":"IF(AND(A64>=1,AC64=\"\"),U64,0)","v":0},{"$f":"IF(AND(A64>=1,AC64=\"x\"),-U64,0)","v":0},0,0,0,0,{"$f":"E64","v":0},{"$f":"Y64*E64","v":0},{"$f":"AG64+AK64+AO64","v":0},{"$f":"AH64+AL64","v":0},{"$f":"AQ64+AR64","v":0},{"$f":"AI64+AM64+AP64","v":0},{"$f":"AJ64+AN64","v":0},"Fall 2017",null,2018,null,"636.7/07",null,null,null,14,null,7.99,null,"Amicus Ink",null,"Not Quizzable",null,"Animals",null,"English",null,"Board Book",null,14,null,null,null,null,null,"PreK - 1",null,"Rebecca Glaser"]
[]
[null,null,null,null,null,null,null,null,null,null,"Complete Series of 7",null,null,null,"Amicus Ink Board Books - Vehicles",null,null,null,null,null,{"$f":"SUM(U67:U73)","v":0},null,{"$f":"SUM(W67:W73)","v":55.930000000000007},null,{"$f":"SUM(Y67:Y73)","v":0}]
[null,null,{"$f":"C66","v":0},null,null,null,"Not Available",null,9781681522432,null,"Boats Float",null,null,null,"Amicus Ink Board Books - Vehicles",null,null,null,"Amicus",null,0,null,7.99,null,0,null,{"$f":"IF(AC67=FALSE,AT67,0)","v":0},null,null,null,null,null,{"$f":"IF(AND(A67>=1,AC67=\"\"),A67,0)","v":0},{"$f":"IF(AND(A67>=1,AC67=\"x\"),A67,0)","v":0},{"$f":"IF(AND(A67>=1,AC67=\"\"),U67,0)","v":0},{"$f":"IF(AND(A67>=1,AC67=\"x\"),-U67,0)","v":0},{"$f":"IF(AND(C67>=1,AC67=\"\"),C67,0)","v":0},{"$f":"IF(AND(C67>=1,AC67=\"x\"),C67,0)","v":0},{"$f":"IF(AND(C67>=1,AC67=\"\"),W67*C67,0)","v":0},{"$f":"IF(AND(C67>=1,AC67=\"x\"),-W67*C67,0)","v":0},{"$f":"E67","v":0},{"$f":"Y67*E67","v":0},{"$f":"AG67+AK67+AO67","v":0},{"$f":"AH67+AL67","v":0},{"$f":"AQ67+AR67","v":0},{"$f":"AI67+AM67+AP67","v":0},{"$f":"AJ67+AN67","v":0},"Spring 2018",null,2018,null,623.82000000000005,null,null,null,14,null,7.99,null,"Amicus Ink",null,"Not Quizzable",null,"Transportation",null,"English",null,"Board Book",null,14,null,null,null,null,null,"PreK - 1",null,"Rebecca Glaser"]
[null,null,{"$f":"C66","v":0},null,null,null,"Not Available",null,9781681521213,null,"Cars Zoom",null,null,null,"Amicus Ink Board Books - Vehicles",null,null,null,"Amicus",null,0,null,7.99,null,0,null,0,null,null,null,null,null,0,0,0,0,0,0,0,0,0,0,0,0,0,0,0,"Fall 2016",null,2017,null,629.22199999999998,null,null,null,14,null,7.99,null,"Amicus Ink",null,"Not Quizzable",null,"Transportation",null,"English",null,"Board Book",null,14,null,null,null,null,null,"PreK - 1",null,"Rebecca Glaser"]
[null,null,{"$f":"C66","v":0},null,null,null,"Not Available",null,9781681522401,null,"Fire Trucks Rescue",null,null,null,"Amicus Ink Board Books - Vehicles",null,null,null,"Amicus",null,0,null,7.99,null,0,null,0,null,null,null,null,null,0,0,0,0,0,0,0,0,0,0,0,0,0,0,0,"Spring 2018",null,2018,null,"628.9/259",null,null,null,14,null,7.99,null,"Amicus Ink",null,"Not Quizzable",null,"Transportation",null,"English",null,"Board Book",null,14,null,null,null,null,null,"PreK - 1",null,"Rebecca Glaser"]
[null,null,{"$f":"C66","v":0},null,null,null,"Not Available",null,9781681521220,null,"Planes Soar",null,null,null,"Amicus Ink Board Books - Vehicles",null,null,null,"Amicus",null,0,null,7.99,null,0,null,0,null,null,null,null,null,0,0,0,0,0,0,0,0,0,0,0,0,0,0,0,"Fall 2016",null,2017,null,"629.133/34",null,null,null,14,null,7.99,null,"Amicus Ink",null,"Not Quizzable",null,"Transportation",null,"English",null,"Board Book",null,14,null,null,null,null,null,"PreK - 1",null,"Rebecca Glaser"]
[null,null,{"$f":"C66","v":0},null,null,null,"Not Available",null,9781681521237,null,"Tractors Pull",null,null,null,"Amicus Ink Board Books - Vehicles",null,null,null,"Amicus",null,0,null,7.99,null,0,null,0,null,null,null,null,null,0,0,0,0,0,0,0,0,0,0,0,0,0,0,0,"Spring 2018",null,2018,null,625.20000000000005,null,null,null,14,null,7.99,null,"Amicus Ink",null,"Not Quizzable",null,"Transportation",null,"English",null,"Board Book",null,14,null,null,null,null,null,"PreK - 1",null,"Rebecca Glaser"]
[null,null,{"$f":"C66","v":0},null,null,null,"Not Available",null,9781681522425,null,"Trains Chug",null,null,null,"Amicus Ink Board Books - Vehicles",null,null,null,"Amicus",null,0,null,7.99,null,0,null,0,null,null,null,null,null,0,0,0,0,0,0,0,0,0,0,0,0,0,0,0,"Spring 2018",null,2018,null,625.20000000000005,null,null,null,14,null,7.99,null,"Amicus Ink",null,"Not Quizzable",null,"Transportation",null,"English",null,"Board Book",null,14,null,null,null,null,null,"PreK - 1",null,"Rebecca Glaser"]
[null,null,{"$f":"C66","v":0},null,null,null,"Not Available",null,9781681521244,null,"Trucks Haul",null,null,null,"Amicus Ink Board Books - Vehicles",null,null,null,"Amicus",null,0,null,7.99,null,0,null,0,null,null,null,null,null,0,0,0,0,0,0,0,0,0,0,0,0,0,0,0,"Fall 2016",null,2017,null,629.22400000000005,null,null,null,14,null,7.99,null,"Amicus Ink",null,"Not Quizzable",null,"Transportation",null,"English",null,"Board Book",null,14,null,null,null,null,null,"PreK - 1",null,"Rebecca Glaser"]
[]
[null,null,null,null,null,null,null,null,null,null,"Complete Series of 6",null,null,null,"Amicus Ink Board Books - Wild Animals",null,null,null,null,null,{"$f":"SUM(U76:U81)","v":0},null,{"$f":"SUM(W76:W81)","v":47.940000000000005},null,{"$f":"SUM(Y76:Y81)","v":0}]
[null,null,{"$f":"C75","v":0},null,null,null,"Not Available",null,9781681520674,null,"Dolphins Play",null,null,null,"Amicus Ink Board Books - Wild Animals",null,null,null,"Amicus",null,0,null,7.99,null,0,null,{"$f":"IF(AC76=FALSE,AT76,0)","v":0},null,null,null,null,null,{"$f":"IF(AND(A76>=1,AC76=\"\"),A76,0)","v":0},{"$f":"IF(AND(A76>=1,AC76=\"x\"),A76,0)","v":0},{"$f":"IF(AND(A76>=1,AC76=\"\"),U76,0)","v":0},{"$f":"IF(AND(A76>=1,AC76=\"x\"),-U76,0)","v":0},{"$f":"IF(AND(C76>=1,AC76=\"\"),C76,0)","v":0},{"$f":"IF(AND(C76>=1,AC76=\"x\"),C76,0)","v":0},{"$f":"IF(AND(C76>=1,AC76=\"\"),W76*C76,0)","v":0},{"$f":"IF(AND(C76>=1,AC76=\"x\"),-W76*C76,0)","v":0},{"$f":"E76","v":0},{"$f":"Y76*E76","v":0},{"$f":"AG76+AK76+AO76","v":0},{"$f":"AH76+AL76","v":0},{"$f":"AQ76+AR76","v":0},{"$f":"AI76+AM76+AP76","v":0},{"$f":"AJ76+AN76","v":0},"Spring 2016",null,2016,null,599.53,null,null,null,14,null,7.99,null,"Amicus Ink",null,"Not Quizzable",null,"Animals",null,"English",null,"Board Book",null,14,null,null,null,null,null,"PreK - 1",null,"Rebecca Glaser"]
[null,null,{"$f":"C75","v":0},null,null,null,"Not Available",null,9781681520681,null,"Elephants Spray",null,null,null,"Amicus Ink Board Books - Wild Animals",null,null,null,"Amicus",null,0,null,7.99,null,0,null,0,null,null,null,null,null,0,0,0,0,0,0,0,0,0,0,0,0,0,0,0,"Spring 2016",null,2016,null,599.66999999999996,null,null,null,14,null,7.99,null,"Amicus Ink",null,"Not Quizzable",null,"Animals",null,"English",null,"Board Book",null,14,null,null,null,null,null,"PreK - 1",null,"Rebecca Glaser"]
[null,null,{"$f":"C75","v":0},null,null,null,"Not Available",null,9781681520698,null,"Giraffes Stretch",null,null,null,"Amicus Ink Board Books - Wild Animals",null,null,null,"Amicus",null,0,null,7.99,null,0,null,0,null,null,null,null,null,0,0,0,0,0,0,0,0,0,0,0,0,0,0,0,"Spring 2016",null,2016,null,599.63800000000003,null,null,null,14,null,7.99,null,"Amicus Ink",null,"Not Quizzable",null,"Animals",null,"English",null,"Board Book",null,14,null,null,null,null,null,"PreK - 1",null,"Rebecca Glaser"]
[null,null,{"$f":"C75","v":0},null,null,null,"Not Available",null,9781681520711,null,"Lions Roar",null,null,null,"Amicus Ink Board Books - Wild Animals",null,null,null,"Amicus",null,0,null,7.99,null,0,null,0,null,null,null,null,null,0,0,0,0,0,0,0,0,0,0,0,0,0,0,0,"Spring 2016",null,2016,null,"599.75/5",null,null,null,14,null,7.99,null,"Amicus Ink",null,"Not Quizzable",null,"Animals",null,"English",null,"Board Book",null,14,null,null,null,null,null,"PreK - 1",null,"Rebecca Glaser"]
[null,null,{"$f":"C75","v":0},null,null,null,"Not Available",null,9781681520728,null,"Monkeys Swing",null,null,null,"Amicus Ink Board Books - Wild Animals",null,null,null,"Amicus",null,0,null,7.99,null,0,null,0,null,null,null,null,null,0,0,0,0,0,0,0,0,0,0,0,0,0,0,0,"Spring 2016",null,2016,null,599.79999999999995,null,null,null,14,null,7.99,null,"Amicus Ink",null,"Not Quizzable",null,"Animals",null,"English",null,"Board Book",null,14,null,null,null,null,null,"PreK - 1",null,"Rebecca Glaser"]
[null,null,{"$f":"C75","v":0},null,null,null,"Not Available",null,9781681520704,null,"Penguins Waddle",null,null,null,"Amicus Ink Board Books - Wild Animals",null,null,null,"Amicus",null,0,null,7.99,null,0,null,0,null,null,null,null,null,0,0,0,0,0,0,0,0,0,0,0,0,0,0,0,"Spring 2016",null,2016,null,599.79999999999995,null,null,null,14,null,7.99,null,"Amicus Ink",null,"Not Quizzable",null,"Animals",null,"English",null,"Board Book",null,14,null,null,null,null,null,"PreK - 1",null,"Rebecca Glaser"]
[]
[null,null,null,null,null,null,null,null,null,null,"Complete Series of 20",null,null,null,"Amicus Ink Picture Books",null,null,null,null,null,{"$f":"SUM(U84:U103)","v":491.89999999999992},null,{"$f":"SUM(W84:W103)","v":361.80000000000007},null,438.81000000000012]
[{"$f":"A83","v":0},null,{"$f":"C83","v":0},null,{"$f":"E83","v":0},null,9781681525143,null,9781681524085,null,"Crane & Crane",null,null,null,"Amicus Ink Picture Books",null,null,null,"Amicus",null,25.75,null,17.989999999999998,null,{"$f":"W84+5","v":22.99},null,{"$f":"IF(AC84=FALSE,AT84,0)","v":0},null,null,null,null,null,{"$f":"IF(AND(A84>=1,AC84=\"\"),A84,0)","v":0},{"$f":"IF(AND(A84>=1,AC84=\"x\"),A84,0)","v":0},{"$f":"IF(AND(A84>=1,AC84=\"\"),U84,0)","v":0},{"$f":"IF(AND(A84>=1,AC84=\"x\"),-U84,0)","v":0},{"$f":"IF(AND(C84>=1,AC84=\"\"),C84,0)","v":0},{"$f":"IF(AND(C84>=1,AC84=\"x\"),C84,0)","v":0},{"$f":"IF(AND(C84>=1,AC84=\"\"),W84*C84,0)","v":0},{"$f":"IF(AND(C84>=1,AC84=\"x\"),-W84*C84,0)","v":0},{"$f":"E84*2","v":0},{"$f":"Y84*E84","v":0},{"$f":"AG84+AK84+AO84","v":0},{"$f":"AH84+AL84","v":0},{"$f":"AQ84+AR84","v":0},{"$f":"AI84+AM84+AP84","v":0},{"$f":"AJ84+AN84","v":0},"Spring 2019",null,2019,null,"E",null,null,null,8,null,17.989999999999998,null,"Amicus Ink",null,null,null,"Fiction",null,"English",null,"Hardcover with Jacket",null,32,null,null,null,null,null,"PreK – 2",null,"Linda Joy Singleton"]
[null,null,{"$f":"C83","v":0},null,null,null,"Not Available",null,9781681521930,null,"Daddy Cuddle",null,null,null,"Amicus Ink Picture Books",null,null,null,"Amicus",null,0,null,17.989999999999998,null,0,null,0,null,null,null,null,null,{"$f":"IF(AND(A85>=1,AC85=\"\"),A85,0)","v":0},0,0,0,0,0,0,0,{"$f":"E85","v":0},{"$f":"Y85*E85","v":0},0,0,{"$f":"AQ85+AR85","v":0},0,0,"Spring 2017",null,2017,null,"E",null,null,null,11,null,17.989999999999998,null,"Amicus Ink",null,null,null,"Fiction",null,"English",null,"Hardcover with Jacket",null,32,null,null,null,null,null,"PreK – 2",null,"Kate Mayes"]
[{"$f":"A83","v":0},null,{"$f":"C83","v":0},null,{"$f":"E83","v":0},null,9781681525051,null,9781681525020,null,"Extraordinary Ordinary Ella",null,null,null,"Amicus Ink Picture Books",null,null,null,"Amicus",null,25.75,null,17.989999999999998,null,{"$f":"W86+5","v":22.99},null,0,null,null,null,null,null,0,0,0,0,0,0,0,0,0,0,0,0,0,0,0,"Spring 2020",null,2020,null,"E",null,null,null,10,null,17.989999999999998,null,"Amicus Ink",null,"Not Quizzable",null,"Fiction",null,"English",null,"Hardcover with Jacket",null,32,null,null,null,null,null,"PreK – 2",null,"Amber Hendricks"]
[{"$f":"A83","v":0},null,{"$f":"C83","v":0},null,{"$f":"E83","v":0},null,9781681527543,null,9781681527536,null,"Great Cookie Kerfuffle, The",null,null,null,"Amicus Ink Picture Books",null,null,null,"Amicus",null,27.2,null,18.989999999999998,null,{"$f":"W87+5","v":23.99},null,{"$f":"IF(AC87=FALSE,AT87,0)","v":0},null,null,null,null,null,{"$f":"IF(AND(A87>=1,AC87=\"\"),A87,0)","v":0},{"$f":"IF(AND(A87>=1,AC87=\"x\"),A87,0)","v":0},{"$f":"IF(AND(A87>=1,AC87=\"\"),U87,0)","v":0},{"$f":"IF(AND(A87>=1,AC87=\"x\"),-U87,0)","v":0},{"$f":"IF(AND(C87>=1,AC87=\"\"),C87,0)","v":0},{"$f":"IF(AND(C87>=1,AC87=\"x\"),C87,0)","v":0},{"$f":"IF(AND(C87>=1,AC87=\"\"),W87*C87,0)","v":0},{"$f":"IF(AND(C87>=1,AC87=\"x\"),-W87*C87,0)","v":0},{"$f":"E87","v":0},{"$f":"Y87*E87","v":0},{"$f":"AG87+AK87+AO87","v":0},{"$f":"AH87+AL87","v":0},{"$f":"AQ87+AR87","v":0},{"$f":"AI87+AM87+AP87","v":0},{"$f":"AJ87+AN87","v":0},"Fall 2022",null,2023,null,"E",null,null,null,5,null,18.989999999999998,null,"Amicus Ink",null,null,null,"Fiction",null,"English",null,"Hardcover with Jacket",null,32,null,null,null,null,null,"PreK – 2",null,"Jessica Shaw"]
[{"$f":"A83","v":0},null,{"$f":"C83","v":0},null,{"$f":"E83","v":0},null,9781681525112,null,9781681522395,null,"Grow",null,null,null,"Amicus Ink Picture Books",null,null,null,"Amicus",null,25.75,null,17.989999999999998,null,22.99,null,0,null,null,null,null,null,0,0,0,0,0,0,0,0,0,0,0,0,0,0,0,"Spring 2018",null,2018,null,"E",null,null,null,11,null,17.989999999999998,null,"Amicus Ink",null,null,null,"Fiction",null,"English",null,"Hardcover with Jacket",null,32,null,null,null,null,null,"PreK – 2",null,"Cynthia Platt"]
[{"$f":"A83","v":0},null,{"$f":"C83","v":0},null,{"$f":"E83","v":0},null,9781681525068,null,9781681524047,null,"I’ve Got Eyes!: Exceptional Eyes of the Animal World",null,null,null,"Amicus Ink Picture Books",null,null,null,"Amicus",null,25.75,null,17.989999999999998,null,22.99,null,0,null,null,null,null,null,0,0,0,0,0,0,0,0,0,0,0,0,0,0,0,"Fall 2018",null,2018,null,"591.4/4",null,"PW",null,11,null,17.989999999999998,null,"Amicus Ink",null,null,null,"Fiction",null,"English",null,"Hardcover with Jacket",null,32,null,null,null,null,null,"PreK – 2",null,"Julie Murphy"]
[{"$f":"A83","v":0},null,{"$f":"C83","v":0},null,{"$f":"E83","v":0},null,9781681525044,null,9781681525013,null,"I've Got a Tail!: Terrific Tails of the Animal World",null,null,null,"Amicus Ink Picture Books",null,null,null,"Amicus",null,25.75,null,17.989999999999998,null,22.99,null,0,null,null,null,null,null,0,0,0,0,0,0,0,0,0,0,0,0,0,0,0,"Spring 2020",null,2020,null,591.47,null,"PW",null,11,null,17.989999999999998,null,"Amicus Ink",null,"Not Quizzable",null,"Fiction",null,"English",null,"Hardcover with Jacket",null,32,null,null,null,null,null,"PreK – 2",null,"Julie Murphy"]
[{"$f":"A83","v":0},null,{"$f":"C83","v":0},null,{"$f":"E83","v":0},null,9781681525136,null,9781681521954,null,"I've Got Feet: Fantastical Feet of the Animal World",null,null,null,"Amicus Ink Picture Books",null,null,null,"Amicus",null,25.75,null,17.989999999999998,null,22.99,null,0,null,null,null,null,null,0,0,0,0,0,0,0,0,0,0,0,0,0,0,0,"Spring 2017",null,2017,null,"591.47/9",null,"PW",null,11,null,17.989999999999998,null,"Amicus Ink",null,2.7,null,"Fiction",null,"English",null,"Hardcover with Jacket",null,32,null,null,null,null,null,"PreK – 2",null,"Julie Murphy"]
[{"$f":"A83","v":0},null,{"$f":"C83","v":0},null,{"$f":"E83","v":0},null,9781681525105,null,9781681522029,null,"Just My Style",null,null,null,"Amicus Ink Picture Books",null,null,null,"Amicus",null,25.75,null,17.989999999999998,null,22.99,null,0,null,null,null,null,null,0,0,0,0,0,0,0,0,0,0,0,0,0,0,0,"Spring 2018",null,2018,null,"E",null,null,null,11,null,17.989999999999998,null,"Amicus Ink",null,null,null,"Fiction",null,"English",null,"Hardcover with Jacket",null,32,null,null,null,null,null,"PreK – 2",null,"Diane Z. Shore & Jessica Alexander"]
[{"$f":"A83","v":0},null,{"$f":"C83","v":0},null,{"$f":"E83","v":0},null,9781681526553,null,9781681526546,null,"Little Round Panda on the Big Blue Earth, A",null,null,null,"Amicus Ink Picture Books",null,null,null,"Amicus",null,27.2,null,18.989999999999998,null,23.99,null,0,null,null,null,null,null,0,0,0,0,0,0,0,0,0,0,0,0,0,0,0,"Fall 2021",null,2021,null,599.78899999999999,null,"SLJ",null,9,null,18.989999999999998,null,"Amicus Ink",null,null,null,"Fiction",null,"English",null,"Hardcover with Jacket",null,32,null,null,null,null,null,"PreK – 2",null,"Tory Christie"]
[{"$f":"A83","v":0},null,{"$f":"C83","v":0},null,{"$f":"E83","v":0},null,9781681525181,null,9781681522371,null,"Mighty Steam Engine, The",null,null,null,"Amicus Ink Picture Books",null,null,null,"Amicus",null,25.75,null,17.989999999999998,null,22.99,null,0,null,null,null,null,null,0,0,0,0,0,0,0,0,0,0,0,0,0,0,0,"Fall 2019",null,2019,null,"E",null,"SLJ",null,10,null,17.989999999999998,null,"Amicus Ink",null,4.9000000000000004,null,"Fiction",null,"English",null,"Hardcover with Jacket",null,32,null,null,null,null,null,"PreK – 2",null,"Yvonne Ng"]
[{"$f":"A83","v":0},null,{"$f":"C83","v":0},null,{"$f":"E83","v":0},null,9781681525730,null,9781681525723,null,"My Room Is a Zoo!",null,null,null,"Amicus Ink Picture Books",null,null,null,"Amicus",null,27.2,null,18.989999999999998,null,23.99,null,0,null,null,null,null,null,0,0,0,0,0,0,0,0,0,0,0,0,0,0,0,"Fall 2021",null,2021,null,"E",null,null,null,8,null,18.989999999999998,null,"Amicus Ink",null,null,null,"Fiction",null,"English",null,"Hardcover with Jacket",null,32,null,null,null,null,null,"PreK – 2",null,"Jerry Ruff"]
[{"$f":"A83","v":0},null,{"$f":"C83","v":0},null,{"$f":"E83","v":0},null,9781681525198,null,9781681524153,null,"No Hugs!",null,null,null,"Amicus Ink Picture Books",null,null,null,"Amicus",null,24.3,null,16.989999999999998,null,21.99,null,0,null,null,null,null,null,0,0,0,0,0,0,0,0,0,0,0,0,0,0,0,"Fall 2019",null,2019,null,"E",null,"SLJ",null,10,null,16.989999999999998,null,"Amicus Ink",null,null,null,"Fiction",null,"English",null,"Hardcover with Jacket",null,24,null,null,null,null,null,"PreK – 2",null,"Deirdre A. Prischmann"]
[{"$f":"A83","v":0},null,{"$f":"C83","v":0},null,{"$f":"E83","v":0},null,9781681527468,null,9781681527451,null,"One Blue Gnu",null,null,null,"Amicus Ink Picture Books",null,null,null,"Amicus",null,25.7,null,17.989999999999998,null,22.99,null,0,null,null,null,null,null,0,0,0,0,0,0,0,0,0,0,0,0,0,0,0,"Spring 2022",null,2022,null,590,null,"BL",null,8,null,17.989999999999998,null,"Amicus Ink",null,null,null,"Fiction",null,"English",null,"Hardcover with Jacket",null,32,null,null,null,null,null,"PreK – 2",null,"Danna Smith"]
[{"$f":"A83","v":0},null,{"$f":"C83","v":0},null,{"$f":"E83","v":0},null,9781681527567,null,9781681527550,null,"Peas in a Pod",null,null,null,"Amicus Ink Picture Books",null,null,null,"Amicus",null,25.7,null,17.989999999999998,null,{"$f":"W98+5","v":22.99},null,{"$f":"IF(AC98=FALSE,AT98,0)","v":0},null,null,null,null,null,{"$f":"IF(AND(A98>=1,AC98=\"\"),A98,0)","v":0},{"$f":"IF(AND(A98>=1,AC98=\"x\"),A98,0)","v":0},{"$f":"IF(AND(A98>=1,AC98=\"\"),U98,0)","v":0},{"$f":"IF(AND(A98>=1,AC98=\"x\"),-U98,0)","v":0},{"$f":"IF(AND(C98>=1,AC98=\"\"),C98,0)","v":0},{"$f":"IF(AND(C98>=1,AC98=\"x\"),C98,0)","v":0},{"$f":"IF(AND(C98>=1,AC98=\"\"),W98*C98,0)","v":0},{"$f":"IF(AND(C98>=1,AC98=\"x\"),-W98*C98,0)","v":0},{"$f":"E98","v":0},{"$f":"Y98*E98","v":0},{"$f":"AG98+AK98+AO98","v":0},{"$f":"AH98+AL98","v":0},{"$f":"AQ98+AR98","v":0},{"$f":"AI98+AM98+AP98","v":0},{"$f":"AJ98+AN98","v":0},"Fall 2022",null,2023,null,"E",null,null,null,7,null,17.989999999999998,null,"Amicus Ink",null,null,null,"Fiction",null,"English",null,"Hardcover with Jacket",null,32,null,null,null,null,null,"PreK – 2",null,"Rachel Noble"]
[{"$f":"A83","v":0},null,{"$f":"C83","v":0},null,{"$f":"E83","v":0},null,9781681527482,null,9781681527475,null,"Sun & Son",null,null,null,"Amicus Ink Picture Books",null,null,null,"Amicus",null,25.7,null,17.989999999999998,null,22.99,null,0,null,null,null,null,null,0,0,0,0,0,0,0,0,0,0,0,0,0,0,0,"Spring 2022",null,2022,null,"E",null,null,null,8,null,17.989999999999998,null,"Amicus Ink",null,null,null,"Fiction",null,"English",null,"Hardcover with Jacket",null,32,null,null,null,null,null,"PreK – 2",null,"Linda Joy Singleton"]
[{"$f":"A83","v":0},null,{"$f":"C83","v":0},null,{"$f":"E83","v":0},null,9781681526560,null,9781681522388,null,"They're Tearing Up Mulberry Street",null,null,null,"Amicus Ink Picture Books",null,null,null,"Amicus",null,25.7,null,17.989999999999998,null,22.99,null,0,null,null,null,null,null,0,0,0,0,0,0,0,0,0,0,0,0,0,0,0,"Fall 2021",null,2021,null,"625.8/5",null,null,null,10,null,17.989999999999998,null,"Amicus Ink",null,4.3,null,"Fiction",null,"English",null,"Hardcover with Jacket",null,24,null,null,null,null,null,"PreK – 2",null,"Yvonne Ng"]
[{"$f":"A83","v":0},null,{"$f":"C83","v":0},null,{"$f":"E83","v":0},null,9781681525204,null,9781681524986,null,"Tiny Brown Monkey on the Big Blue Earth, A",null,null,null,"Amicus Ink Picture Books",null,null,null,"Amicus",null,25.75,null,17.989999999999998,null,22.99,null,0,null,null,null,null,null,0,0,0,0,0,0,0,0,0,0,0,0,0,0,0,"Fall 2019",null,2019,null,"E",null,"SLJ",null,9,null,17.989999999999998,null,"Amicus Ink",null,2.8,null,"Fiction",null,"English",null,"Hardcover with Jacket",null,32,null,null,null,null,null,"PreK – 2",null,"Tory Christie"]
[{"$f":"A83","v":0},null,{"$f":"C83","v":0},null,{"$f":"E83","v":0},null,9781681525075,null,9781681524054,null,"Twinkle, Twinkle, Little Lamb",null,null,null,"Amicus Ink Picture Books",null,null,null,"Amicus",null,25.75,null,17.989999999999998,null,22.99,null,0,null,null,null,null,null,0,0,0,0,0,0,0,0,0,0,0,0,0,0,0,"Fall 2018",null,2018,null,"E",null,null,null,11,null,17.989999999999998,null,"Amicus Ink",null,null,null,"Fiction",null,"English",null,"Hardcover with Jacket",null,32,null,null,null,null,null,"PreK – 2",null,"Bridget Heos"]
[{"$f":"A83","v":0},null,{"$f":"C83","v":0},null,{"$f":"E83","v":0},null,9781681526584,null,9781681526577,null,"Who Knew? Under the Apple Tree",null,null,null,"Amicus Ink Picture Books",null,null,null,"Amicus",null,25.7,null,17.989999999999998,null,22.99,null,0,null,null,null,null,null,0,0,0,0,0,0,0,0,0,0,0,0,0,0,0,"Fall 2021",null,2021,null,"513.2/1",null,null,null,8,null,17.989999999999998,null,"Amicus Ink",null,2.9,null,"Fiction",null,"English",null,"Hardcover with Jacket",null,24,null,null,null,null,null,"PreK – 2",null,"Laurie Lazzaro Knowlton"]
[]
[null,null,null,null,null,null,null,null,null,null,"Complete Series of 3",null,null,null,"Ancient Wonders",null,null,null,null,null,{"$f":"SUM(U106:U108)","v":0},null,{"$f":"SUM(W106:W108)","v":74.849999999999994},null,{"$f":"SUM(Y106:Y108)","v":0}]
[null,null,{"$f":"C105","v":0},null,null,null,"Not Available",null,9781607534662,null,"Egyptian Pyramids",null,null,null,"Ancient Wonders",null,null,null,"Amicus",null,0,null,24.95,null,0,null,{"$f":"IF(AC106=FALSE,AT106,0)","v":0},null,null,null,null,null,{"$f":"IF(AND(A106>=1,AC106=\"\"),A106,0)","v":0},{"$f":"IF(AND(A106>=1,AC106=\"x\"),A106,0)","v":0},{"$f":"IF(AND(A106>=1,AC106=\"\"),U106,0)","v":0},{"$f":"IF(AND(A106>=1,AC106=\"x\"),-U106,0)","v":0},{"$f":"IF(AND(C106>=1,AC106=\"\"),C106,0)","v":0},{"$f":"IF(AND(C106>=1,AC106=\"x\"),C106,0)","v":0},{"$f":"IF(AND(C106>=1,AC106=\"\"),W106*C106,0)","v":0},{"$f":"IF(AND(C106>=1,AC106=\"x\"),-W106*C106,0)","v":0},{"$f":"E106","v":0},{"$f":"Y106*E106","v":0},{"$f":"AG106+AK106+AO106","v":0},{"$f":"AH106+AL106","v":0},{"$f":"AQ106+AR106","v":0},{"$f":"AI106+AM106+AP106","v":0},{"$f":"AJ106+AN106","v":0},"Fall 2014",null,2015,null,932.01,null,null,null,"Website",null,35.700000000000003,null,"Amicus High Interest",null,3.2,null,"History",null,"English",null,"Reinforced Library",null,32,null,"L",null,"420L",null,"2 – 5",null,"Elizabeth Raum"]
[null,null,{"$f":"C105","v":0},null,null,null,"Not Available",null,9781607534679,null,"Great Wall of China",null,null,null,"Ancient Wonders",null,null,null,"Amicus",null,0,null,24.95,null,0,null,{"$f":"IF(AC107=FALSE,AT107,0)","v":0},null,null,null,null,null,{"$f":"IF(AND(A107>=1,AC107=\"\"),A107,0)","v":0},{"$f":"IF(AND(A107>=1,AC107=\"x\"),A107,0)","v":0},{"$f":"IF(AND(A107>=1,AC107=\"\"),U107,0)","v":0},{"$f":"IF(AND(A107>=1,AC107=\"x\"),-U107,0)","v":0},0,0,0,0,{"$f":"E107","v":0},{"$f":"Y107*E107","v":0},{"$f":"AG107+AK107+AO107","v":0},{"$f":"AH107+AL107","v":0},{"$f":"AQ107+AR107","v":0},{"$f":"AI107+AM107+AP107","v":0},{"$f":"AJ107+AN107","v":0},"Fall 2014",null,2015,null,951,null,null,null,"Website",null,35.700000000000003,null,"Amicus High Interest",null,3.2,null,"History",null,"English",null,"Reinforced Library",null,32,null,"L",null,"530L",null,"2 – 5",null,"Elizabeth Raum"]
[null,null,{"$f":"C105","v":0},null,null,null,"Not Available",null,9781607534709,null,"Taj Mahal",null,null,null,"Ancient Wonders",null,null,null,"Amicus",null,0,null,24.95,null,0,null,{"$f":"IF(AC108=FALSE,AT108,0)","v":0},null,null,null,null,null,{"$f":"IF(AND(A108>=1,AC108=\"\"),A108,0)","v":0},{"$f":"IF(AND(A108>=1,AC108=\"x\"),A108,0)","v":0},{"$f":"IF(AND(A108>=1,AC108=\"\"),U108,0)","v":0},{"$f":"IF(AND(A108>=1,AC108=\"x\"),-U108,0)","v":0},0,0,0,0,{"$f":"E108","v":0},{"$f":"Y108*E108","v":0},{"$f":"AG108+AK108+AO108","v":0},{"$f":"AH108+AL108","v":0},{"$f":"AQ108+AR108","v":0},{"$f":"AI108+AM108+AP108","v":0},{"$f":"AJ108+AN108","v":0},"Fall 2014",null,2015,null,"954/.2",null,null,null,"Website",null,35.700000000000003,null,"Amicus High Interest",null,3.6,null,"History",null,"English",null,"Reinforced Library",null,32,null,"L",null,"540L",null,"2 – 5",null,"Elizabeth Raum"]
[]
[null,null,null,null,null,null,null,null,null,null,"Complete Series of 4",null,null,null,"Animal Antonyms",null,null,null,null,null,{"$f":"SUM(U111:U113)","v":0},null,{"$f":"SUM(W111:W113)","v":62.849999999999994},null,{"$f":"SUM(Y111:Y113)","v":0}]
[null,null,{"$f":"C110","v":0},null,null,null,"Not Available",null,9781607535010,null,"Animals In and Out",null,null,null,"Animal Antonyms",null,null,null,"Amicus",null,0,null,20.95,null,0,null,{"$f":"IF(AC111=FALSE,AT111,0)","v":0},null,null,null,null,null,{"$f":"IF(AND(A111>=1,AC111=\"\"),A111,0)","v":0},{"$f":"IF(AND(A111>=1,AC111=\"x\"),A111,0)","v":0},{"$f":"IF(AND(A111>=1,AC111=\"\"),U111,0)","v":0},{"$f":"IF(AND(A111>=1,AC111=\"x\"),-U111,0)","v":0},{"$f":"IF(AND(C111>=1,AC111=\"\"),C111,0)","v":0},{"$f":"IF(AND(C111>=1,AC111=\"x\"),C111,0)","v":0},{"$f":"IF(AND(C111>=1,AC111=\"\"),W111*C111,0)","v":0},{"$f":"IF(AND(C111>=1,AC111=\"x\"),-W111*C111,0)","v":0},{"$f":"E111","v":0},{"$f":"Y111*E111","v":0},{"$f":"AG111+AK111+AO111","v":0},{"$f":"AH111+AL111","v":0},{"$f":"AQ111+AR111","v":0},{"$f":"AI111+AM111+AP111","v":0},{"$f":"AJ111+AN111","v":0},"Fall 2013",null,2014,null,428.1,null,null,null,"Website",null,29.95,null,"Amicus Readers",null,1.4,null,"Animals",null,"English",null,"Reinforced Library",null,16,null,"E",null,"AD450L",null,"1 - 4",null,"Beth Bence Reinke"]
[null,null,{"$f":"C110","v":0},null,null,null,"Not Available",null,9781607535034,null,"Animals Over and Under",null,null,null,"Animal Antonyms",null,null,null,"Amicus",null,0,null,20.95,null,0,null,{"$f":"IF(AC112=FALSE,AT112,0)","v":0},null,null,null,null,null,{"$f":"IF(AND(A112>=1,AC112=\"\"),A112,0)","v":0},{"$f":"IF(AND(A112>=1,AC112=\"x\"),A112,0)","v":0},{"$f":"IF(AND(A112>=1,AC112=\"\"),U112,0)","v":0},{"$f":"IF(AND(A112>=1,AC112=\"x\"),-U112,0)","v":0},0,0,0,0,{"$f":"E112","v":0},{"$f":"Y112*E112","v":0},{"$f":"AG112+AK112+AO112","v":0},{"$f":"AH112+AL112","v":0},{"$f":"AQ112+AR112","v":0},{"$f":"AI112+AM112+AP112","v":0},{"$f":"AJ112+AN112","v":0},"Fall 2013",null,2014,null,428.1,null,null,null,"Website",null,29.95,null,"Amicus Readers",null,1.4,null,"Animals",null,"English",null,"Reinforced Library",null,16,null,"E",null,"AD420L",null,"1 - 4",null,"Beth Bence Reinke"]
[null,null,{"$f":"C110","v":0},null,null,null,"Not Available",null,9781607535003,null,"Animals Up and Down",null,null,null,"Animal Antonyms",null,null,null,"Amicus",null,0,null,20.95,null,0,null,{"$f":"IF(AC113=FALSE,AT113,0)","v":0},null,null,null,null,null,{"$f":"IF(AND(A113>=1,AC113=\"\"),A113,0)","v":0},{"$f":"IF(AND(A113>=1,AC113=\"x\"),A113,0)","v":0},{"$f":"IF(AND(A113>=1,AC113=\"\"),U113,0)","v":0},{"$f":"IF(AND(A113>=1,AC113=\"x\"),-U113,0)","v":0},0,0,0,0,{"$f":"E113","v":0},{"$f":"Y113*E113","v":0},{"$f":"AG113+AK113+AO113","v":0},{"$f":"AH113+AL113","v":0},{"$f":"AQ113+AR113","v":0},{"$f":"AI113+AM113+AP113","v":0},{"$f":"AJ113+AN113","v":0},"Fall 2013",null,2014,null,428.1,null,null,null,"Website",null,29.95,null,"Amicus Readers",null,1.7,null,"Animals",null,"English",null,"Reinforced Library",null,16,null,"E",null,"AD460L",null,"1 - 4",null,"Beth Bence Reinke"]
[]
[null,null,null,null,null,null,null,null,null,null,"Complete Series of 6",null,null,null,"Animal Builders",null,null,null,null,null,{"$f":"SUM(U116:U121)","v":294},null,{"$f":"SUM(W116:W121)","v":143.69999999999999},null,{"$f":"SUM(Y116:Y121)","v":173.7}]
[{"$f":"A115","v":0},null,{"$f":"C115","v":0},null,{"$f":"E115","v":0},null,9781681512617,null,9781681511719,null,"Bears Make Dens",null,null,null,"Animal Builders",null,null,null,"Amicus",null,49,null,23.95,null,{"$f":"W116+5","v":28.95},null,{"$f":"IF(AC116=FALSE,AT116,0)","v":0},null,null,null,null,null,{"$f":"IF(AND(A116>=1,AC116=\"\"),A116,0)","v":0},{"$f":"IF(AND(A116>=1,AC116=\"x\"),A116,0)","v":0},{"$f":"IF(AND(A116>=1,AC116=\"\"),U116,0)","v":0},{"$f":"IF(AND(A116>=1,AC116=\"x\"),-U116,0)","v":0},{"$f":"IF(AND(C116>=1,AC116=\"\"),C116,0)","v":0},{"$f":"IF(AND(C116>=1,AC116=\"x\"),C116,0)","v":0},{"$f":"IF(AND(C116>=1,AC116=\"\"),W116*C116,0)","v":0},{"$f":"IF(AND(C116>=1,AC116=\"x\"),-W116*C116,0)","v":0},{"$f":"E116","v":0},{"$f":"Y116*E116","v":0},{"$f":"AG116+AK116+AO116","v":0},{"$f":"AH116+AL116","v":0},{"$f":"AQ116+AR116","v":0},{"$f":"AI116+AM116+AP116","v":0},{"$f":"AJ116+AN116","v":0},"Fall 2017",null,2018,null,"599.78/5",null,null,null,39,null,34.25,null,"Amicus Illustrated",null,2.1,null,"Animals",null,"English",null,"Reinforced Library",null,24,null,"J",null,"500L",null,"K - 3",null,"Elizabeth Raum"]
[{"$f":"A115","v":0},null,{"$f":"C115","v":0},null,{"$f":"E115","v":0},null,9781681512587,null,9781681511689,null,"Beavers Build Lodges",null,null,null,"Animal Builders",null,null,null,"Amicus",null,49,null,23.95,null,28.95,null,0,null,null,null,null,null,0,0,0,0,0,0,0,0,0,0,0,0,0,0,0,"Fall 2017",null,2018,null,599.37156400000003,null,null,null,39,null,34.25,null,"Amicus Illustrated",null,2.4,null,"Animals",null,"English",null,"Reinforced Library",null,24,null,"J",null,"520L",null,"K - 3",null,"Elizabeth Raum"]
[{"$f":"A115","v":0},null,{"$f":"C115","v":0},null,{"$f":"E115","v":0},null,9781681512594,null,9781681511696,null,"Bees Build Beehives",null,null,null,"Animal Builders",null,null,null,"Amicus",null,49,null,23.95,null,28.95,null,0,null,null,null,null,null,0,0,0,0,0,0,0,0,0,0,0,0,0,0,0,"Fall 2017",null,2018,null,"595.79/9",null,null,null,39,null,34.25,null,"Amicus Illustrated",null,2.5,null,"Animals",null,"English",null,"Reinforced Library",null,24,null,"J",null,"550L",null,"K - 3",null,"Elizabeth Raum"]
[{"$f":"A115","v":0},null,{"$f":"C115","v":0},null,{"$f":"E115","v":0},null,9781681512600,null,9781681511702,null,"Birds Build Nests",null,null,null,"Animal Builders",null,null,null,"Amicus",null,49,null,23.95,null,28.95,null,0,null,null,null,null,null,0,0,0,0,0,0,0,0,0,0,0,0,0,0,0,"Fall 2017",null,2018,null,598,null,null,null,39,null,34.25,null,"Amicus Illustrated",null,2.8,null,"Animals",null,"English",null,"Reinforced Library",null,24,null,"J",null,"590L",null,"K - 3",null,"Elizabeth Raum"]
[{"$f":"A115","v":0},null,{"$f":"C115","v":0},null,{"$f":"E115","v":0},null,9781681512624,null,9781681511726,null,"Orangutans Build Tree Nests",null,null,null,"Animal Builders",null,null,null,"Amicus",null,49,null,23.95,null,28.95,null,0,null,null,null,null,null,0,0,0,0,0,0,0,0,0,0,0,0,0,0,0,"Fall 2017",null,2018,null,"599.88/3",null,null,null,39,null,34.25,null,"Amicus Illustrated",null,2.4,null,"Animals",null,"English",null,"Reinforced Library",null,24,null,"J",null,"560L",null,"K - 3",null,"Elizabeth Raum"]
[{"$f":"A115","v":0},null,{"$f":"C115","v":0},null,{"$f":"E115","v":0},null,9781681512631,null,9781681511733,null,"Rabbits Dig Burrows",null,null,null,"Animal Builders",null,null,null,"Amicus",null,49,null,23.95,null,28.95,null,0,null,null,null,null,null,0,0,0,0,0,0,0,0,0,0,0,0,0,0,0,"Fall 2017",null,2018,null,599.32000000000005,null,null,null,39,null,34.25,null,"Amicus Illustrated",null,2.5,null,"Animals",null,"English",null,"Reinforced Library",null,24,null,"J",null,"520L",null,"K - 3",null,"Elizabeth Raum"]
[]
[null,null,null,null,null,null,null,null,null,null,"Complete Series of 6",null,null,null,"Animal Habitats at Risk",null,null,null,null,null,{"$f":"SUM(U124:U129)","v":294},null,{"$f":"SUM(W124:W129)","v":143.69999999999999},null,{"$f":"SUM(Y124:Y129)","v":173.7}]
[{"$f":"A123","v":0},null,{"$f":"C123","v":0},null,{"$f":"E123","v":0},null,9781681517827,null,9781681517001,null,"Bat Colony’s Search for a New Home, A",null,null,null,"Animal Habitats at Risk",null,null,null,"Amicus",null,49,null,23.95,null,{"$f":"W124+5","v":28.95},null,{"$f":"IF(AC124=FALSE,AT124,0)","v":0},null,null,null,null,null,{"$f":"IF(AND(A124>=1,AC124=\"\"),A124,0)","v":0},{"$f":"IF(AND(A124>=1,AC124=\"x\"),A124,0)","v":0},{"$f":"IF(AND(A124>=1,AC124=\"\"),U124,0)","v":0},{"$f":"IF(AND(A124>=1,AC124=\"x\"),-U124,0)","v":0},{"$f":"IF(AND(C124>=1,AC124=\"\"),C124,0)","v":0},{"$f":"IF(AND(C124>=1,AC124=\"x\"),C124,0)","v":0},{"$f":"IF(AND(C124>=1,AC124=\"\"),W124*C124,0)","v":0},{"$f":"IF(AND(C124>=1,AC124=\"x\"),-W124*C124,0)","v":0},{"$f":"E124","v":0},{"$f":"Y124*E124","v":0},{"$f":"AG124+AK124+AO124","v":0},{"$f":"AH124+AL124","v":0},{"$f":"AQ124+AR124","v":0},{"$f":"AI124+AM124+AP124","v":0},{"$f":"AJ124+AN124","v":0},"Fall 2019",null,2020,null,599.4,null,"SLJ",null,39,null,34.25,null,"Amicus Illustrated",null,3.1,null,"Animals",null,"English",null,"Reinforced Library",null,24,null,"J",null,"590L",null,"K - 3",null,"Mary Ellen Klukow"]
[{"$f":"A123","v":0},null,{"$f":"C123","v":0},null,{"$f":"E123","v":0},null,9781681517858,null,9781681517032,null,"Bee's Difficult Search for Food, A",null,null,null,"Animal Habitats at Risk",null,null,null,"Amicus",null,49,null,23.95,null,28.95,null,0,null,null,null,null,null,0,0,0,0,0,0,0,0,0,0,0,0,0,0,0,"Fall 2019",null,2020,null,"595.79/9",null,"SLJ",null,39,null,34.25,null,"Amicus Illustrated",null,3.3,null,"Animals",null,"English",null,"Reinforced Library",null,24,null,"J",null,"600L",null,"K - 3",null,"Mary Ellen Klukow"]
[{"$f":"A123","v":0},null,{"$f":"C123","v":0},null,{"$f":"E123","v":0},null,9781681517834,null,9781681517018,null,"Frog's Dangerous Home, A",null,null,null,"Animal Habitats at Risk",null,null,null,"Amicus",null,49,null,23.95,null,28.95,null,0,null,null,null,null,null,0,0,0,0,0,0,0,0,0,0,0,0,0,0,0,"Fall 2019",null,2020,null,"333.95/789",null,"SLJ",null,39,null,34.25,null,"Amicus Illustrated",null,3.1,null,"Animals",null,"English",null,"Reinforced Library",null,24,null,"J",null,"630L",null,"K - 3",null,"Mary Ellen Klukow"]
[{"$f":"A123","v":0},null,{"$f":"C123","v":0},null,{"$f":"E123","v":0},null,9781681517865,null,9781681517049,null,"Sparrow's Disappearing Home, A",null,null,null,"Animal Habitats at Risk",null,null,null,"Amicus",null,49,null,23.95,null,28.95,null,0,null,null,null,null,null,0,0,0,0,0,0,0,0,0,0,0,0,0,0,0,"Fall 2019",null,2020,null,"333.95/887",null,"SLJ",null,39,null,34.25,null,"Amicus Illustrated",null,3.2,null,"Animals",null,"English",null,"Reinforced Library",null,24,null,"J",null,"590L",null,"K - 3",null,"Mary Ellen Klukow"]
[{"$f":"A123","v":0},null,{"$f":"C123","v":0},null,{"$f":"E123","v":0},null,9781681517872,null,9781681517056,null,"Turtle's Dangerous Journey, A",null,null,null,"Animal Habitats at Risk",null,null,null,"Amicus",null,49,null,23.95,null,28.95,null,0,null,null,null,null,null,0,0,0,0,0,0,0,0,0,0,0,0,0,0,0,"Fall 2019",null,2020,null,"333.95/792",null,"SLJ",null,39,null,34.25,null,"Amicus Illustrated",null,3,null,"Animals",null,"English",null,"Reinforced Library",null,24,null,"J",null,"570L",null,"K - 3",null,"Mary Ellen Klukow"]
[{"$f":"A123","v":0},null,{"$f":"C123","v":0},null,{"$f":"E123","v":0},null,9781681517841,null,9781681517025,null,"Wild Cat's Shrinking Home, A",null,null,null,"Animal Habitats at Risk",null,null,null,"Amicus",null,49,null,23.95,null,28.95,null,0,null,null,null,null,null,0,0,0,0,0,0,0,0,0,0,0,0,0,0,0,"Fall 2019",null,2020,null,"599.75/3",null,"SLJ",null,39,null,34.25,null,"Amicus Illustrated",null,3.5,null,"Animals",null,"English",null,"Reinforced Library",null,24,null,"J",null,"680L",null,"K - 3",null,"Mary Ellen Klukow"]
[]
[null,null,null,null,null,null,null,null,null,null,"Complete Series of 6",null,null,null,"Animal Kingdom",null,null,null,null,null,{"$f":"SUM(U132:U137)","v":0},null,{"$f":"SUM(W132:W137)","v":149.69999999999999},null,{"$f":"SUM(Y132:Y137)","v":0}]
[null,null,{"$f":"C131","v":0},null,null,null,"Not Available",null,9781607534716,null,"Amphibians",null,null,null,"Animal Kingdom",null,null,null,"Amicus",null,0,null,24.95,null,0,null,{"$f":"IF(AC132=FALSE,AT132,0)","v":0},null,null,null,null,null,{"$f":"IF(AND(A132>=1,AC132=\"\"),A132,0)","v":0},{"$f":"IF(AND(A132>=1,AC132=\"x\"),A132,0)","v":0},{"$f":"IF(AND(A132>=1,AC132=\"\"),U132,0)","v":0},{"$f":"IF(AND(A132>=1,AC132=\"x\"),-U132,0)","v":0},{"$f":"IF(AND(C132>=1,AC132=\"\"),C132,0)","v":0},{"$f":"IF(AND(C132>=1,AC132=\"x\"),C132,0)","v":0},{"$f":"IF(AND(C132>=1,AC132=\"\"),W132*C132,0)","v":0},{"$f":"IF(AND(C132>=1,AC132=\"x\"),-W132*C132,0)","v":0},{"$f":"E132","v":0},{"$f":"Y132*E132","v":0},{"$f":"AG132+AK132+AO132","v":0},{"$f":"AH132+AL132","v":0},{"$f":"AQ132+AR132","v":0},{"$f":"AI132+AM132+AP132","v":0},{"$f":"AJ132+AN132","v":0},"Fall 2014",null,2015,null,597.79999999999995,null,null,null,31,null,35.700000000000003,null,"Amicus High Interest",null,3.1,null,"Animals",null,"English",null,"Reinforced Library",null,32,null,"L",null,"500L",null,"2 – 5",null,"Michelle Levine"]
[null,null,{"$f":"C131","v":0},null,null,null,"Not Available",null,9781607534723,null,"Birds",null,null,null,"Animal Kingdom",null,null,null,"Amicus",null,0,null,24.95,null,0,null,0,null,null,null,null,null,0,0,0,0,0,0,0,0,0,0,0,0,0,0,0,"Fall 2014",null,2015,null,598,null,null,null,31,null,35.700000000000003,null,"Amicus High Interest",null,3.2,null,"Animals",null,"English",null,"Reinforced Library",null,32,null,"L",null,"560L",null,"2 – 5",null,"Allan Morey"]
[null,null,{"$f":"C131","v":0},null,null,null,"Not Available",null,9781607534730,null,"Fish",null,null,null,"Animal Kingdom",null,null,null,"Amicus",null,0,null,24.95,null,0,null,0,null,null,null,null,null,0,0,0,0,0,0,0,0,0,0,0,0,0,0,0,"Fall 2014",null,2015,null,597,null,null,null,31,null,35.700000000000003,null,"Amicus High Interest",null,2.8,null,"Animals",null,"English",null,"Reinforced Library",null,32,null,"L",null,"490L",null,"2 – 5",null,"Michelle Levine"]
[null,null,{"$f":"C131","v":0},null,null,null,"Not Available",null,9781607534747,null,"Insects",null,null,null,"Animal Kingdom",null,null,null,"Amicus",null,0,null,24.95,null,0,null,0,null,null,null,null,null,0,0,0,0,0,0,0,0,0,0,0,0,0,0,0,"Fall 2014",null,2015,null,595.70000000000005,null,null,null,31,null,35.700000000000003,null,"Amicus High Interest",null,3.2,null,"Animals",null,"English",null,"Reinforced Library",null,32,null,"L",null,"490L",null,"2 – 5",null,"Allan Morey"]
[null,null,{"$f":"C131","v":0},null,null,null,"Not Available",null,9781607534754,null,"Mammals",null,null,null,"Animal Kingdom",null,null,null,"Amicus",null,0,null,24.95,null,0,null,0,null,null,null,null,null,0,0,0,0,0,0,0,0,0,0,0,0,0,0,0,"Fall 2014",null,2015,null,599,null,null,null,31,null,35.700000000000003,null,"Amicus High Interest",null,2.9,null,"Animals",null,"English",null,"Reinforced Library",null,32,null,"L",null,"480L",null,"2 – 5",null,"Michelle Levine"]
[null,null,{"$f":"C131","v":0},null,null,null,"Not Available",null,9781607534761,null,"Reptiles",null,null,null,"Animal Kingdom",null,null,null,"Amicus",null,0,null,24.95,null,0,null,0,null,null,null,null,null,0,0,0,0,0,0,0,0,0,0,0,0,0,0,0,"Fall 2014",null,2015,null,597.9,null,null,null,31,null,35.700000000000003,null,"Amicus High Interest",null,3,null,"Animals",null,"English",null,"Reinforced Library",null,32,null,"L",null,"450L",null,"2 – 5",null,"Michelle Levine"]
[]
[null,null,null,null,null,null,null,null,null,null,"Complete Series of 7",null,null,null,"Animales africanos (Spot African Animals)",null,null,null,null,null,{"$f":"SUM(U140:U146)","v":299.95000000000005},null,{"$f":"SUM(W140:W146)","v":146.65},null,{"$f":"SUM(Y140:Y146)","v":181.64999999999998}]
[{"$f":"A139","v":0},null,{"$f":"C139","v":0},null,{"$f":"E139","v":0},null,9781681519081,null,9781681518824,null,"Las cebras (Zebras)",null,null,null,"Animales africanos (Spot African Animals)",null,null,null,"Amicus",null,42.85,null,20.95,null,{"$f":"W140+5","v":25.95},null,{"$f":"IF(AC140=FALSE,AT140,0)","v":0},null,null,null,null,null,{"$f":"IF(AND(A140>=1,AC140=\"\"),A140,0)","v":0},{"$f":"IF(AND(A140>=1,AC140=\"x\"),A140,0)","v":0},{"$f":"IF(AND(A140>=1,AC140=\"\"),U140,0)","v":0},{"$f":"IF(AND(A140>=1,AC140=\"x\"),-U140,0)","v":0},{"$f":"IF(AND(C140>=1,AC140=\"\"),C140,0)","v":0},{"$f":"IF(AND(C140>=1,AC140=\"x\"),C140,0)","v":0},{"$f":"IF(AND(C140>=1,AC140=\"\"),W140*C140,0)","v":0},{"$f":"IF(AND(C140>=1,AC140=\"x\"),-W140*C140,0)","v":0},{"$f":"E140","v":0},{"$f":"Y140*E140","v":0},{"$f":"AG140+AK140+AO140","v":0},{"$f":"AH140+AL140","v":0},{"$f":"AQ140+AR140","v":0},{"$f":"AI140+AM140+AP140","v":0},{"$f":"AJ140+AN140","v":0},"Fall 2019",null,2020,null,"599.665/7",null,null,null,51,null,29.95,null,"Spot",null,0.9,null,"Animals",null,"Spanish",null,"Reinforced Library",null,16,null,null,null,null,null,"PreK - 3",null,"Mary Ellen Klukow"]
[{"$f":"A139","v":0},null,{"$f":"C139","v":0},null,{"$f":"E139","v":0},null,9781681519043,null,9781681518787,null,"Las jirafas (Giraffes)",null,null,null,"Animales africanos (Spot African Animals)",null,null,null,"Amicus",null,42.85,null,20.95,null,25.95,null,0,null,null,null,null,null,0,0,0,0,0,0,0,0,0,0,0,0,0,0,0,"Fall 2019",null,2020,null,599.63800000000003,null,null,null,51,null,29.95,null,"Spot",null,0.9,null,"Animals",null,"Spanish",null,"Reinforced Library",null,16,null,null,null,null,null,"PreK - 3",null,"Mary Ellen Klukow"]
[{"$f":"A139","v":0},null,{"$f":"C139","v":0},null,{"$f":"E139","v":0},null,9781681519029,null,9781681518763,null,"Los cocodrilos (Crocodiles)",null,null,null,"Animales africanos (Spot African Animals)",null,null,null,"Amicus",null,42.85,null,20.95,null,25.95,null,0,null,null,null,null,null,0,0,0,0,0,0,0,0,0,0,0,0,0,0,0,"Fall 2019",null,2020,null,"597.98/2",null,null,null,51,null,29.95,null,"Spot",null,0.8,null,"Animals",null,"Spanish",null,"Reinforced Library",null,16,null,null,null,null,null,"PreK - 3",null,"Mary Ellen Klukow"]
[{"$f":"A139","v":0},null,{"$f":"C139","v":0},null,{"$f":"E139","v":0},null,9781681519036,null,9781681518770,null,"Los elefantes (Elephants)",null,null,null,"Animales africanos (Spot African Animals)",null,null,null,"Amicus",null,42.85,null,20.95,null,25.95,null,0,null,null,null,null,null,0,0,0,0,0,0,0,0,0,0,0,0,0,0,0,"Fall 2019",null,2020,null,599.66999999999996,null,null,null,51,null,29.95,null,"Spot",null,0.9,null,"Animals",null,"Spanish",null,"Reinforced Library",null,16,null,null,null,null,null,"PreK - 3",null,"Mary Ellen Klukow"]
[{"$f":"A139","v":0},null,{"$f":"C139","v":0},null,{"$f":"E139","v":0},null,9781681519050,null,9781681518794,null,"Los gorilas (Gorillas) ",null,null,null,"Animales africanos (Spot African Animals)",null,null,null,"Amicus",null,42.85,null,20.95,null,25.95,null,0,null,null,null,null,null,0,0,0,0,0,0,0,0,0,0,0,0,0,0,0,"Fall 2019",null,2020,null,599.88400000000001,null,null,null,51,null,29.95,null,"Spot",null,0.9,null,"Animals",null,"Spanish",null,"Reinforced Library",null,16,null,null,null,null,null,"PreK - 3",null,"Mary Ellen Klukow"]
[{"$f":"A139","v":0},null,{"$f":"C139","v":0},null,{"$f":"E139","v":0},null,9781681519012,null,9781681518756,null,"Los guepardos (Cheetahs)",null,null,null,"Animales africanos (Spot African Animals)",null,null,null,"Amicus",null,42.85,null,20.95,null,25.95,null,0,null,null,null,null,null,0,0,0,0,0,0,0,0,0,0,0,0,0,0,0,"Fall 2019",null,2020,null,"599.75/9",null,null,null,51,null,29.95,null,"Spot",null,0.9,null,"Animals",null,"Spanish",null,"Reinforced Library",null,16,null,null,null,null,null,"PreK - 3",null,"Mary Ellen Klukow"]
[{"$f":"A139","v":0},null,{"$f":"C139","v":0},null,{"$f":"E139","v":0},null,9781681519074,null,9781681518817,null,"Los leones (Lions)",null,null,null,"Animales africanos (Spot African Animals)",null,null,null,"Amicus",null,42.85,null,20.95,null,25.95,null,0,null,null,null,null,null,0,0,0,0,0,0,0,0,0,0,0,0,0,0,0,"Fall 2019",null,2020,null,599.75699999999995,null,null,null,51,null,29.95,null,"Spot",null,0.9,null,"Animals",null,"Spanish",null,"Reinforced Library",null,16,null,null,null,null,null,"PreK - 3",null,"Mary Ellen Klukow"]
[]
[null,null,null,null,null,null,null,null,null,null,"Complete Series of 3",null,null,null,"Animales constructores (Animal Builders)",null,null,null,null,null,{"$f":"SUM(U149:U151)","v":0},null,{"$f":"SUM(W149:W151)","v":71.849999999999994},null,{"$f":"SUM(Y149:Y151)","v":0}]
[null,null,{"$f":"C148","v":0},null,null,null,"Not Available",null,9781681512792,null,"Las abejas y sus colmenas (Bees Build Beehives)",null,null,null,"Animales constructores (Animal Builders)",null,null,null,"Amicus",null,0,null,23.95,null,0,null,{"$f":"IF(AC149=FALSE,AT149,0)","v":0},null,null,null,null,null,{"$f":"IF(AND(A149>=1,AC149=\"\"),A149,0)","v":0},{"$f":"IF(AND(A149>=1,AC149=\"x\"),A149,0)","v":0},{"$f":"IF(AND(A149>=1,AC149=\"\"),U149,0)","v":0},{"$f":"IF(AND(A149>=1,AC149=\"x\"),-U149,0)","v":0},{"$f":"IF(AND(C149>=1,AC149=\"\"),C149,0)","v":0},{"$f":"IF(AND(C149>=1,AC149=\"x\"),C149,0)","v":0},{"$f":"IF(AND(C149>=1,AC149=\"\"),W149*C149,0)","v":0},{"$f":"IF(AND(C149>=1,AC149=\"x\"),-W149*C149,0)","v":0},{"$f":"E149","v":0},{"$f":"Y149*E149","v":0},{"$f":"AG149+AK149+AO149","v":0},{"$f":"AH149+AL149","v":0},{"$f":"AQ149+AR149","v":0},{"$f":"AI149+AM149+AP149","v":0},{"$f":"AJ149+AN149","v":0},"Fall 2017",null,2018,null,"595.79/9",null,"SLJ",null,50,null,34.25,null,"Amicus Illustrated",null,2.2999999999999998,null,"Animals",null,"Spanish",null,"Reinforced Library",null,24,null,null,null,null,null,"K - 3",null,"Elizabeth Raum"]
[null,null,{"$f":"C148","v":0},null,null,null,"Not Available",null,9781681512822,null,"Los orangutanes y sus nidos (Orangutans Build Tree Nests)",null,null,null,"Animales constructores (Animal Builders)",null,null,null,"Amicus",null,0,null,23.95,null,0,null,{"$f":"IF(AC150=FALSE,AT150,0)","v":0},null,null,null,null,null,{"$f":"IF(AND(A150>=1,AC150=\"\"),A150,0)","v":0},{"$f":"IF(AND(A150>=1,AC150=\"x\"),A150,0)","v":0},{"$f":"IF(AND(A150>=1,AC150=\"\"),U150,0)","v":0},{"$f":"IF(AND(A150>=1,AC150=\"x\"),-U150,0)","v":0},0,0,0,0,{"$f":"E150","v":0},{"$f":"Y150*E150","v":0},{"$f":"AG150+AK150+AO150","v":0},{"$f":"AH150+AL150","v":0},{"$f":"AQ150+AR150","v":0},{"$f":"AI150+AM150+AP150","v":0},{"$f":"AJ150+AN150","v":0},"Fall 2017",null,2018,null,"599.88/3",null,"SLJ",null,50,null,34.25,null,"Amicus Illustrated",null,2.1,null,"Animals",null,"Spanish",null,"Reinforced Library",null,24,null,null,null,null,null,"K - 3",null,"Elizabeth Raum"]
[null,null,{"$f":"C148","v":0},null,null,null,"Not Available",null,9781681512808,null,"Los pájaros y sus nidos (Birds Build Nests)",null,null,null,"Animales constructores (Animal Builders)",null,null,null,"Amicus",null,0,null,23.95,null,0,null,{"$f":"IF(AC151=FALSE,AT151,0)","v":0},null,null,null,null,null,{"$f":"IF(AND(A151>=1,AC151=\"\"),A151,0)","v":0},{"$f":"IF(AND(A151>=1,AC151=\"x\"),A151,0)","v":0},{"$f":"IF(AND(A151>=1,AC151=\"\"),U151,0)","v":0},{"$f":"IF(AND(A151>=1,AC151=\"x\"),-U151,0)","v":0},0,0,0,0,{"$f":"E151","v":0},{"$f":"Y151*E151","v":0},{"$f":"AG151+AK151+AO151","v":0},{"$f":"AH151+AL151","v":0},{"$f":"AQ151+AR151","v":0},{"$f":"AI151+AM151+AP151","v":0},{"$f":"AJ151+AN151","v":0},"Fall 2017",null,2018,null,598,null,"SLJ",null,50,null,34.25,null,"Amicus Illustrated",null,2.7,null,"Animals",null,"Spanish",null,"Reinforced Library",null,24,null,null,null,null,null,"K - 3",null,"Elizabeth Raum"]
[]
[null,null,null,null,null,null,null,null,null,null,"Complete Series of 6",null,null,null,"Animales del océano (Spot Ocean Animals)",null,null,null,null,null,{"$f":"SUM(U154:U159)","v":257.10000000000002},null,{"$f":"SUM(W154:W159)","v":125.7},null,{"$f":"SUM(Y154:Y159)","v":155.69999999999999}]
[{"$f":"A153","v":0},null,{"$f":"C153","v":0},null,{"$f":"E153","v":0},null,9781645492399,null,9781645492337,null,"Las anguilas (Eels)",null,null,null,"Animales del océano (Spot Ocean Animals)",null,null,null,"Amicus",null,42.85,null,20.95,null,{"$f":"W154+5","v":25.95},null,{"$f":"IF(AC154=FALSE,AT154,0)","v":0},null,null,null,null,null,{"$f":"IF(AND(A154>=1,AC154=\"\"),A154,0)","v":0},{"$f":"IF(AND(A154>=1,AC154=\"x\"),A154,0)","v":0},{"$f":"IF(AND(A154>=1,AC154=\"\"),U154,0)","v":0},{"$f":"IF(AND(A154>=1,AC154=\"x\"),-U154,0)","v":0},{"$f":"IF(AND(C154>=1,AC154=\"\"),C154,0)","v":0},{"$f":"IF(AND(C154>=1,AC154=\"x\"),C154,0)","v":0},{"$f":"IF(AND(C154>=1,AC154=\"\"),W154*C154,0)","v":0},{"$f":"IF(AND(C154>=1,AC154=\"x\"),-W154*C154,0)","v":0},{"$f":"E154","v":0},{"$f":"Y154*E154","v":0},{"$f":"AG154+AK154+AO154","v":0},{"$f":"AH154+AL154","v":0},{"$f":"AQ154+AR154","v":0},{"$f":"AI154+AM154+AP154","v":0},{"$f":"AJ154+AN154","v":0},"Spring 2021",null,2021,null,"597/.43",null,null,null,49,null,29.95,null,"Spot",null,1,null,"Life Science",null,"Spanish",null,"Reinforced Library",null,16,null,"C",null,null,null,"K & Up",null,"Mari Schuh"]
[{"$f":"A153","v":0},null,{"$f":"C153","v":0},null,{"$f":"E153","v":0},null,9781645492405,null,9781645492344,null,"Las langostas (Lobsters)",null,null,null,"Animales del océano (Spot Ocean Animals)",null,null,null,"Amicus",null,42.85,null,20.95,null,25.95,null,0,null,null,null,null,null,0,0,0,0,0,0,0,0,0,0,0,0,0,0,0,"Spring 2021",null,2021,null,"595.3/84",null,null,null,49,null,29.95,null,"Spot",null,1.4,null,"Life Science",null,"Spanish",null,"Reinforced Library",null,16,null,"C",null,null,null,"K & Up",null,"Mari Schuh"]
[{"$f":"A153","v":0},null,{"$f":"C153","v":0},null,{"$f":"E153","v":0},null,9781645492436,null,9781645492375,null,"Los calamares (Squids)",null,null,null,"Animales del océano (Spot Ocean Animals)",null,null,null,"Amicus",null,42.85,null,20.95,null,25.95,null,0,null,null,null,null,null,0,0,0,0,0,0,0,0,0,0,0,0,0,0,0,"Spring 2021",null,2021,null,"594/.58",null,null,null,49,null,29.95,null,"Spot",null,1,null,"Life Science",null,"Spanish",null,"Reinforced Library",null,16,null,"C",null,null,null,"K & Up",null,"Mari Schuh"]
[{"$f":"A153","v":0},null,{"$f":"C153","v":0},null,{"$f":"E153","v":0},null,9781645492382,null,9781645492320,null,"Los corales (Corals)",null,null,null,"Animales del océano (Spot Ocean Animals)",null,null,null,"Amicus",null,42.85,null,20.95,null,25.95,null,0,null,null,null,null,null,0,0,0,0,0,0,0,0,0,0,0,0,0,0,0,"Spring 2021",null,2021,null,593.6,null,null,null,49,null,29.95,null,"Spot",null,1.8,null,"Life Science",null,"Spanish",null,"Reinforced Library",null,16,null,"C",null,null,null,"K & Up",null,"Mari Schuh"]
[{"$f":"A153","v":0},null,{"$f":"C153","v":0},null,{"$f":"E153","v":0},null,9781645492429,null,9781645492368,null,"Los dragones de mar (Sea Dragons)",null,null,null,"Animales del océano (Spot Ocean Animals)",null,null,null,"Amicus",null,42.85,null,20.95,null,25.95,null,0,null,null,null,null,null,0,0,0,0,0,0,0,0,0,0,0,0,0,0,0,"Spring 2021",null,2021,null,"597/.679",null,null,null,49,null,29.95,null,"Spot",null,1.3,null,"Life Science",null,"Spanish",null,"Reinforced Library",null,16,null,"C",null,null,null,"K & Up",null,"Mari Schuh"]
[{"$f":"A153","v":0},null,{"$f":"C153","v":0},null,{"$f":"E153","v":0},null,9781645492412,null,9781645492351,null,"Los manatíes (Manatees)",null,null,null,"Animales del océano (Spot Ocean Animals)",null,null,null,"Amicus",null,42.85,null,20.95,null,25.95,null,0,null,null,null,null,null,0,0,0,0,0,0,0,0,0,0,0,0,0,0,0,"Spring 2021",null,2021,null,599.54999999999995,null,null,null,49,null,29.95,null,"Spot",null,0.9,null,"Life Science",null,"Spanish",null,"Reinforced Library",null,16,null,"C",null,null,null,"K & Up",null,"Mari Schuh"]
[]
[null,null,null,null,null,null,null,null,null,null,"Complete Series of 6",null,null,null,"Animales norteamericanos (North American Animals)",null,null,null,null,null,{"$f":"SUM(U162:U167)","v":0},null,{"$f":"SUM(W162:W167)","v":143.69999999999999},null,{"$f":"SUM(Y162:Y167)","v":0}]
[null,null,{"$f":"C161","v":0},null,null,null,"Not Available",null,9781681516189,null,"El bisonte americano ( American Bison)",null,null,null,"Animales norteamericanos (North American Animals)",null,null,null,"Amicus",null,0,null,23.95,null,0,null,{"$f":"IF(AC162=FALSE,AT162,0)","v":0},null,null,null,null,null,{"$f":"IF(AND(A162>=1,AC162=\"\"),A162,0)","v":0},{"$f":"IF(AND(A162>=1,AC162=\"x\"),A162,0)","v":0},{"$f":"IF(AND(A162>=1,AC162=\"\"),U162,0)","v":0},{"$f":"IF(AND(A162>=1,AC162=\"x\"),-U162,0)","v":0},{"$f":"IF(AND(C162>=1,AC162=\"\"),C162,0)","v":0},{"$f":"IF(AND(C162>=1,AC162=\"x\"),C162,0)","v":0},{"$f":"IF(AND(C162>=1,AC162=\"\"),W162*C162,0)","v":0},{"$f":"IF(AND(C162>=1,AC162=\"x\"),-W162*C162,0)","v":0},{"$f":"E162","v":0},{"$f":"Y162*E162","v":0},{"$f":"AG162+AK162+AO162","v":0},{"$f":"AH162+AL162","v":0},{"$f":"AQ162+AR162","v":0},{"$f":"AI162+AM162+AP162","v":0},{"$f":"AJ162+AN162","v":0},"Fall 2018",null,2019,null,"599.64/3",null,null,null,50,null,34.25,null,"Amicus High Interest ",null,2.9,null,"Animals",null,"Spanish",null,"Reinforced Library",null,24,null,null,null,null,null,"K - 3",null,"Jill Sherman"]
[null,null,{"$f":"C161","v":0},null,null,null,"Not Available",null,9781681516219,null,"El borrego cimarrón (Bighorn Sheep)",null,null,null,"Animales norteamericanos (North American Animals)",null,null,null,"Amicus",null,0,null,23.95,null,0,null,0,null,null,null,null,null,0,0,0,0,0,0,0,0,0,0,0,0,0,0,0,"Fall 2018",null,2019,null,"599.649/7",null,null,null,50,null,34.25,null,"Amicus High Interest ",null,2.4,null,"Animals",null,"Spanish",null,"Reinforced Library",null,24,null,null,null,null,null,"K - 3",null,"Jill Sherman"]
[null,null,{"$f":"C161","v":0},null,null,null,"Not Available",null,9781681516226,null,"El caribú (Caribou)",null,null,null,"Animales norteamericanos (North American Animals)",null,null,null,"Amicus",null,0,null,23.95,null,0,null,0,null,null,null,null,null,0,0,0,0,0,0,0,0,0,0,0,0,0,0,0,"Fall 2018",null,2019,null,"599.65/8",null,null,null,50,null,34.25,null,"Amicus High Interest ",null,2.7,null,"Animals",null,"Spanish",null,"Reinforced Library",null,24,null,null,null,null,null,"K - 3",null,"Rachel Grack"]
[null,null,{"$f":"C161","v":0},null,null,null,"Not Available",null,9781681516202,null,"Las águilas calvas (Bald Eagles)",null,null,null,"Animales norteamericanos (North American Animals)",null,null,null,"Amicus",null,0,null,23.95,null,0,null,0,null,null,null,null,null,0,0,0,0,0,0,0,0,0,0,0,0,0,0,0,"Fall 2018",null,2019,null,"598.9/43",null,null,null,50,null,34.25,null,"Amicus High Interest ",null,2.2000000000000002,null,"Animals",null,"Spanish",null,"Reinforced Library",null,24,null,null,null,null,null,"K - 3",null,"Rachel Grack"]
[null,null,{"$f":"C161","v":0},null,null,null,"Not Available",null,9781681516196,null,"Los armadillos (Armadillos)",null,null,null,"Animales norteamericanos (North American Animals)",null,null,null,"Amicus",null,0,null,23.95,null,0,null,0,null,null,null,null,null,0,0,0,0,0,0,0,0,0,0,0,0,0,0,0,"Fall 2018",null,2019,null,"599.3/12",null,null,null,50,null,34.25,null,"Amicus High Interest ",null,3,null,"Animals",null,"Spanish",null,"Reinforced Library",null,24,null,null,null,null,null,"K - 3",null,"Jill Sherman"]
[null,null,{"$f":"C161","v":0},null,null,null,"Not Available",null,9781681516240,null,"Los puercoespines (Porcupines)",null,null,null,"Animales norteamericanos (North American Animals)",null,null,null,"Amicus",null,0,null,23.95,null,0,null,0,null,null,null,null,null,0,0,0,0,0,0,0,0,0,0,0,0,0,0,0,"Fall 2018",null,2019,null,"599.35/97",null,null,null,50,null,34.25,null,"Amicus High Interest ",null,3.2,null,"Animals",null,"Spanish",null,"Reinforced Library",null,24,null,null,null,null,null,"K - 3",null,"Jill Sherman"]
[]
[null,null,null,null,null,null,null,null,null,null,"Complete Series of 6",null,null,null,"Animals Measure Up",null,null,null,null,null,{"$f":"SUM(U170:U175)","v":294},null,{"$f":"SUM(W170:W175)","v":143.69999999999999},null,{"$f":"SUM(Y170:Y175)","v":173.7}]
[{"$f":"A169","v":0},null,{"$f":"C169","v":0},null,{"$f":"E169","v":0},null,9781681514666,null,9781681513843,null,"How Deep in the Ocean?: Ocean Animal Habitats",null,null,null,"Animals Measure Up",null,null,null,"Amicus",null,49,null,23.95,null,{"$f":"W170+5","v":28.95},null,{"$f":"IF(AC170=FALSE,AT170,0)","v":0},null,null,null,null,null,{"$f":"IF(AND(A170>=1,AC170=\"\"),A170,0)","v":0},{"$f":"IF(AND(A170>=1,AC170=\"x\"),A170,0)","v":0},{"$f":"IF(AND(A170>=1,AC170=\"\"),U170,0)","v":0},{"$f":"IF(AND(A170>=1,AC170=\"x\"),-U170,0)","v":0},{"$f":"IF(AND(C170>=1,AC170=\"\"),C170,0)","v":0},{"$f":"IF(AND(C170>=1,AC170=\"x\"),C170,0)","v":0},{"$f":"IF(AND(C170>=1,AC170=\"\"),W170*C170,0)","v":0},{"$f":"IF(AND(C170>=1,AC170=\"x\"),-W170*C170,0)","v":0},{"$f":"E170","v":0},{"$f":"Y170*E170","v":0},{"$f":"AG170+AK170+AO170","v":0},{"$f":"AH170+AL170","v":0},{"$f":"AQ170+AR170","v":0},{"$f":"AI170+AM170+AP170","v":0},{"$f":"AJ170+AN170","v":0},"Fall 2018",null,2019,null,578.77,null,null,null,39,null,34.25,null,"Amicus Illustrated",null,null,null,"Animals",null,"English",null,"Reinforced Library",null,24,null,"J",null,"520L",null,"K - 3",null,"Monika Davies"]
[{"$f":"A169","v":0},null,{"$f":"C169","v":0},null,{"$f":"E169","v":0},null,9781681514673,null,9781681513850,null,"How Far Home?: Animal Migrations",null,null,null,"Animals Measure Up",null,null,null,"Amicus",null,49,null,23.95,null,28.95,null,0,null,null,null,null,null,0,0,0,0,0,0,0,0,0,0,0,0,0,0,0,"Fall 2018",null,2019,null,"591.56/8",null,null,null,39,null,34.25,null,"Amicus Illustrated",null,null,null,"Animals",null,"English",null,"Reinforced Library",null,24,null,"J",null,"530L",null,"K - 3",null,"Monika Davies"]
[{"$f":"A169","v":0},null,{"$f":"C169","v":0},null,{"$f":"E169","v":0},null,9781681514680,null,9781681513867,null,"How Far Underground?: Burrowing Animals",null,null,null,"Animals Measure Up",null,null,null,"Amicus",null,49,null,23.95,null,28.95,null,0,null,null,null,null,null,0,0,0,0,0,0,0,0,0,0,0,0,0,0,0,"Fall 2018",null,2019,null,"591.56/48",null,null,null,39,null,34.25,null,"Amicus Illustrated",null,null,null,"Animals",null,"English",null,"Reinforced Library",null,24,null,"J",null,"560L",null,"K - 3",null,"Monika Davies"]
[{"$f":"A169","v":0},null,{"$f":"C169","v":0},null,{"$f":"E169","v":0},null,9781681514697,null,9781681513874,null,"How High in the Rainforest?: Rainforest Animal Habitats",null,null,null,"Animals Measure Up",null,null,null,"Amicus",null,49,null,23.95,null,28.95,null,0,null,null,null,null,null,0,0,0,0,0,0,0,0,0,0,0,0,0,0,0,"Fall 2018",null,2019,null,577.34,null,null,null,39,null,34.25,null,"Amicus Illustrated",null,null,null,"Animals",null,"English",null,"Reinforced Library",null,24,null,"J",null,"520L",null,"K - 3",null,"Monika Davies"]
[{"$f":"A169","v":0},null,{"$f":"C169","v":0},null,{"$f":"E169","v":0},null,9781681514703,null,9781681513881,null,"How High in the Sky?:  Flying Animals",null,null,null,"Animals Measure Up",null,null,null,"Amicus",null,49,null,23.95,null,28.95,null,0,null,null,null,null,null,0,0,0,0,0,0,0,0,0,0,0,0,0,0,0,"Fall 2018",null,2019,null,"591.47/9",null,null,null,39,null,34.25,null,"Amicus Illustrated",null,null,null,"Animals",null,"English",null,"Reinforced Library",null,24,null,"J",null,"550L",null,"K - 3",null,"Monika Davies"]
[{"$f":"A169","v":0},null,{"$f":"C169","v":0},null,{"$f":"E169","v":0},null,9781681514710,null,9781681513898,null,"How High up the Mountain?: Mountain Animal Habitats",null,null,null,"Animals Measure Up",null,null,null,"Amicus",null,49,null,23.95,null,28.95,null,0,null,null,null,null,null,0,0,0,0,0,0,0,0,0,0,0,0,0,0,0,"Fall 2018",null,2019,null,"577.5/3",null,null,null,39,null,34.25,null,"Amicus Illustrated",null,null,null,"Animals",null,"English",null,"Reinforced Library",null,24,null,"J",null,"520L",null,"K - 3",null,"Monika Davies"]
[]
[null,null,null,null,null,null,null,null,null,null,"Complete Series of 5",null,null,null,"Animals with Jobs",null,null,null,null,null,{"$f":"SUM(U178:U182)","v":0},null,{"$f":"SUM(W178:W182)","v":124.75},null,{"$f":"SUM(Y178:Y182)","v":0}]
[null,null,{"$f":"C177","v":0},null,null,null,"Not Available",null,9781607533788,null,"Bomb Sniffing Dogs",null,null,null,"Animals with Jobs",null,null,null,"Amicus",null,0,null,24.95,null,0,null,{"$f":"IF(AC178=FALSE,AT178,0)","v":0},null,null,null,null,null,{"$f":"IF(AND(A178>=1,AC178=\"\"),A178,0)","v":0},{"$f":"IF(AND(A178>=1,AC178=\"x\"),A178,0)","v":0},{"$f":"IF(AND(A178>=1,AC178=\"\"),U178,0)","v":0},{"$f":"IF(AND(A178>=1,AC178=\"x\"),-U178,0)","v":0},{"$f":"IF(AND(C178>=1,AC178=\"\"),C178,0)","v":0},{"$f":"IF(AND(C178>=1,AC178=\"x\"),C178,0)","v":0},{"$f":"IF(AND(C178>=1,AC178=\"\"),W178*C178,0)","v":0},{"$f":"IF(AND(C178>=1,AC178=\"x\"),-W178*C178,0)","v":0},{"$f":"E178","v":0},{"$f":"Y178*E178","v":0},{"$f":"AG178+AK178+AO178","v":0},{"$f":"AH178+AL178","v":0},{"$f":"AQ178+AR178","v":0},{"$f":"AI178+AM178+AP178","v":0},{"$f":"AJ178+AN178","v":0},"Fall 2013",null,2014,null,636.73,null,null,null,"Website",null,35.700000000000003,null,"Amicus High Interest",null,2.9,null,"Animals",null,"English",null,"Reinforced Library",null,32,null,"L",null,"520L",null,"2 – 5",null,"Ann Weil"]
[null,null,{"$f":"C177","v":0},null,null,null,"Not Available",null,9781607533825,null,"Guide Dogs",null,null,null,"Animals with Jobs",null,null,null,"Amicus",null,0,null,24.95,null,0,null,{"$f":"IF(AC179=FALSE,AT179,0)","v":0},null,null,null,null,null,{"$f":"IF(AND(A179>=1,AC179=\"\"),A179,0)","v":0},{"$f":"IF(AND(A179>=1,AC179=\"x\"),A179,0)","v":0},{"$f":"IF(AND(A179>=1,AC179=\"\"),U179,0)","v":0},{"$f":"IF(AND(A179>=1,AC179=\"x\"),-U179,0)","v":0},0,0,0,0,{"$f":"E179","v":0},{"$f":"Y179*E179","v":0},{"$f":"AG179+AK179+AO179","v":0},{"$f":"AH179+AL179","v":0},{"$f":"AQ179+AR179","v":0},{"$f":"AI179+AM179+AP179","v":0},{"$f":"AJ179+AN179","v":0},"Fall 2013",null,2014,null,"362.4/183",null,null,null,"Website",null,35.700000000000003,null,"Amicus High Interest",null,2.9,null,"Animals",null,"English",null,"Reinforced Library",null,32,null,"L",null,"570L",null,"2 – 5",null,"Elizabeth Raum"]
[null,null,{"$f":"C177","v":0},null,null,null,"Not Available",null,9781607533771,null,"K9 Police Dogs",null,null,null,"Animals with Jobs",null,null,null,"Amicus",null,0,null,24.95,null,0,null,{"$f":"IF(AC180=FALSE,AT180,0)","v":0},null,null,null,null,null,{"$f":"IF(AND(A180>=1,AC180=\"\"),A180,0)","v":0},{"$f":"IF(AND(A180>=1,AC180=\"x\"),A180,0)","v":0},{"$f":"IF(AND(A180>=1,AC180=\"\"),U180,0)","v":0},{"$f":"IF(AND(A180>=1,AC180=\"x\"),-U180,0)","v":0},0,0,0,0,{"$f":"E180","v":0},{"$f":"Y180*E180","v":0},{"$f":"AG180+AK180+AO180","v":0},{"$f":"AH180+AL180","v":0},{"$f":"AQ180+AR180","v":0},{"$f":"AI180+AM180+AP180","v":0},{"$f":"AJ180+AN180","v":0},"Fall 2013",null,2014,null,"363.2/32",null,null,null,"Website",null,35.700000000000003,null,"Amicus High Interest",null,3,null,"Animals",null,"English",null,"Reinforced Library",null,32,null,"L",null,"520L",null,"2 – 5",null,"Elizabeth Raum"]
[null,null,{"$f":"C177","v":0},null,null,null,"Not Available",null,9781607533801,null,"Search and Rescue Dogs",null,null,null,"Animals with Jobs",null,null,null,"Amicus",null,0,null,24.95,null,0,null,{"$f":"IF(AC181=FALSE,AT181,0)","v":0},null,null,null,null,null,{"$f":"IF(AND(A181>=1,AC181=\"\"),A181,0)","v":0},{"$f":"IF(AND(A181>=1,AC181=\"x\"),A181,0)","v":0},{"$f":"IF(AND(A181>=1,AC181=\"\"),U181,0)","v":0},{"$f":"IF(AND(A181>=1,AC181=\"x\"),-U181,0)","v":0},0,0,0,0,{"$f":"E181","v":0},{"$f":"Y181*E181","v":0},{"$f":"AG181+AK181+AO181","v":0},{"$f":"AH181+AL181","v":0},{"$f":"AQ181+AR181","v":0},{"$f":"AI181+AM181+AP181","v":0},{"$f":"AJ181+AN181","v":0},"Fall 2013",null,2014,null,"363.7/0886",null,null,null,"Website",null,35.700000000000003,null,"Amicus High Interest",null,3,null,"Animals",null,"English",null,"Reinforced Library",null,32,null,"L",null,"540L",null,"2 – 5",null,"Connie Colwell Miller"]
[null,null,{"$f":"C177","v":0},null,null,null,"Not Available",null,9781607533818,null,"Therapy Animals",null,null,null,"Animals with Jobs",null,null,null,"Amicus",null,0,null,24.95,null,0,null,{"$f":"IF(AC182=FALSE,AT182,0)","v":0},null,null,null,null,null,{"$f":"IF(AND(A182>=1,AC182=\"\"),A182,0)","v":0},{"$f":"IF(AND(A182>=1,AC182=\"x\"),A182,0)","v":0},{"$f":"IF(AND(A182>=1,AC182=\"\"),U182,0)","v":0},{"$f":"IF(AND(A182>=1,AC182=\"x\"),-U182,0)","v":0},0,0,0,0,{"$f":"E182","v":0},{"$f":"Y182*E182","v":0},{"$f":"AG182+AK182+AO182","v":0},{"$f":"AH182+AL182","v":0},{"$f":"AQ182+AR182","v":0},{"$f":"AI182+AM182+AP182","v":0},{"$f":"AJ182+AN182","v":0},"Fall 2013",null,2014,null,"615.8/5158",null,null,null,"Website",null,35.700000000000003,null,"Amicus High Interest",null,3.1,null,"Animals",null,"English",null,"Reinforced Library",null,32,null,"L",null,"560L",null,"2 – 5",null,"Connie Colwell Miller"]
[]
[null,null,null,null,null,null,null,null,null,null,"Complete Series of 4",null,null,null,"Be Safe!",null,null,null,null,null,{"$f":"SUM(U185:U188)","v":0},null,{"$f":"SUM(W185:W188)","v":95.8},null,{"$f":"SUM(Y185:Y188)","v":0}]
[null,null,{"$f":"C184","v":0},null,null,null,"Not Available",null,9781607534440,null,"Be Safe around Fire",null,null,null,"Be Safe!",null,null,null,"Amicus",null,0,null,23.95,null,0,null,{"$f":"IF(AC185=FALSE,AT185,0)","v":0},null,null,null,null,null,{"$f":"IF(AND(A185>=1,AC185=\"\"),A185,0)","v":0},{"$f":"IF(AND(A185>=1,AC185=\"x\"),A185,0)","v":0},{"$f":"IF(AND(A185>=1,AC185=\"\"),U185,0)","v":0},{"$f":"IF(AND(A185>=1,AC185=\"x\"),-U185,0)","v":0},{"$f":"IF(AND(C185>=1,AC185=\"\"),C185,0)","v":0},{"$f":"IF(AND(C185>=1,AC185=\"x\"),C185,0)","v":0},{"$f":"IF(AND(C185>=1,AC185=\"\"),W185*C185,0)","v":0},{"$f":"IF(AND(C185>=1,AC185=\"x\"),-W185*C185,0)","v":0},{"$f":"E185","v":0},{"$f":"Y185*E185","v":0},{"$f":"AG185+AK185+AO185","v":0},{"$f":"AH185+AL185","v":0},{"$f":"AQ185+AR185","v":0},{"$f":"AI185+AM185+AP185","v":0},{"$f":"AJ185+AN185","v":0},"Fall 2014",null,2015,null,613.6,null,null,null,42,null,34.25,null,"Amicus Illustrated",null,2.7,null,"Health",null,"English",null,"Reinforced Library",null,24,null,"I",null,"510L",null,"2 – 5",null,"Bridget Heos"]
[null,null,{"$f":"C184","v":0},null,null,null,"Not Available",null,9781607534471,null,"Be Safe around Strangers",null,null,null,"Be Safe!",null,null,null,"Amicus",null,0,null,23.95,null,0,null,{"$f":"IF(AC186=FALSE,AT186,0)","v":0},null,null,null,null,null,{"$f":"IF(AND(A186>=1,AC186=\"\"),A186,0)","v":0},{"$f":"IF(AND(A186>=1,AC186=\"x\"),A186,0)","v":0},{"$f":"IF(AND(A186>=1,AC186=\"\"),U186,0)","v":0},{"$f":"IF(AND(A186>=1,AC186=\"x\"),-U186,0)","v":0},0,0,0,0,{"$f":"E186","v":0},{"$f":"Y186*E186","v":0},{"$f":"AG186+AK186+AO186","v":0},{"$f":"AH186+AL186","v":0},{"$f":"AQ186+AR186","v":0},{"$f":"AI186+AM186+AP186","v":0},{"$f":"AJ186+AN186","v":0},"Fall 2014",null,2015,null," 613.60835",null,null,null,42,null,34.25,null,"Amicus Illustrated",null,2.5,null,"Health",null,"English",null,"Reinforced Library",null,24,null,"I",null,"470L",null,"2 – 5",null,"Bridget Heos"]
[null,null,{"$f":"C184","v":0},null,null,null,"Not Available",null,9781607534488,null,"Be Safe around Water",null,null,null,"Be Safe!",null,null,null,"Amicus",null,0,null,23.95,null,0,null,{"$f":"IF(AC187=FALSE,AT187,0)","v":0},null,null,null,null,null,{"$f":"IF(AND(A187>=1,AC187=\"\"),A187,0)","v":0},{"$f":"IF(AND(A187>=1,AC187=\"x\"),A187,0)","v":0},{"$f":"IF(AND(A187>=1,AC187=\"\"),U187,0)","v":0},{"$f":"IF(AND(A187>=1,AC187=\"x\"),-U187,0)","v":0},0,0,0,0,{"$f":"E187","v":0},{"$f":"Y187*E187","v":0},{"$f":"AG187+AK187+AO187","v":0},{"$f":"AH187+AL187","v":0},{"$f":"AQ187+AR187","v":0},{"$f":"AI187+AM187+AP187","v":0},{"$f":"AJ187+AN187","v":0},"Fall 2014",null,2015,null,797.200289,null,null,null,42,null,34.25,null,"Amicus Illustrated",null,2.4,null,"Health",null,"English",null,"Reinforced Library",null,24,null,"I",null,"480L",null,"2 – 5",null,"Bridget Heos"]
[null,null,{"$f":"C184","v":0},null,null,null,"Not Available",null,9781607534433,null,"Be Safe on Your Bike",null,null,null,"Be Safe!",null,null,null,"Amicus",null,0,null,23.95,null,0,null,{"$f":"IF(AC188=FALSE,AT188,0)","v":0},null,null,null,null,null,{"$f":"IF(AND(A188>=1,AC188=\"\"),A188,0)","v":0},{"$f":"IF(AND(A188>=1,AC188=\"x\"),A188,0)","v":0},{"$f":"IF(AND(A188>=1,AC188=\"\"),U188,0)","v":0},{"$f":"IF(AND(A188>=1,AC188=\"x\"),-U188,0)","v":0},0,0,0,0,{"$f":"E188","v":0},{"$f":"Y188*E188","v":0},{"$f":"AG188+AK188+AO188","v":0},{"$f":"AH188+AL188","v":0},{"$f":"AQ188+AR188","v":0},{"$f":"AI188+AM188+AP188","v":0},{"$f":"AJ188+AN188","v":0},"Fall 2014",null,2015,null,"796.6028/9",null,null,null,42,null,34.25,null,"Amicus Illustrated",null,2,null,"Health",null,"English",null,"Reinforced Library",null,24,null,"I",null,"510L",null,"2 – 5",null,"Bridget Heos"]
[]
[null,null,null,null,null,null,null,null,null,null,"Complete Series of 4",null,null,null,"Bilingual Fairy Tales",null,null,null,null,null,{"$f":"SUM(U191:U194)","v":0},null,{"$f":"SUM(W191:W194)","v":99.8},null,{"$f":"SUM(Y191:Y194)","v":0}]
[null,null,{"$f":"C190","v":0},null,null,null,"Not Available",null,9781607533573,null,"Princess and the Pea, The/La princesesa y el guisante",null,null,null,"Bilingual Fairy Tales",null,null,null,"Amicus",null,0,null,24.95,null,0,null,{"$f":"IF(AC191=FALSE,AT191,0)","v":0},null,null,null,null,null,{"$f":"IF(AND(A191>=1,AC191=\"\"),A191,0)","v":0},{"$f":"IF(AND(A191>=1,AC191=\"x\"),A191,0)","v":0},{"$f":"IF(AND(A191>=1,AC191=\"\"),U191,0)","v":0},{"$f":"IF(AND(A191>=1,AC191=\"x\"),-U191,0)","v":0},{"$f":"IF(AND(C191>=1,AC191=\"\"),C191,0)","v":0},{"$f":"IF(AND(C191>=1,AC191=\"x\"),C191,0)","v":0},{"$f":"IF(AND(C191>=1,AC191=\"\"),W191*C191,0)","v":0},{"$f":"IF(AND(C191>=1,AC191=\"x\"),-W191*C191,0)","v":0},{"$f":"E191","v":0},{"$f":"Y191*E191","v":0},{"$f":"AG191+AK191+AO191","v":0},{"$f":"AH191+AL191","v":0},{"$f":"AQ191+AR191","v":0},{"$f":"AI191+AM191+AP191","v":0},{"$f":"AJ191+AN191","v":0},"Fall 2013",null,2014,null,"E",null,null,null,42,null,35.700000000000003,null,"Amicus Illustrated",null,"Not Quizzable",null,"Fiction",null,"Bilingual",null,"Reinforced Library",null,32,null,"K",null,null,null,"2 - 4",null,"Adapted by Francesc Boada"]
[null,null,{"$f":"C190","v":0},null,null,null,"Not Available",null,9781607533580,null,"Puss in Boots/El gato con botas",null,null,null,"Bilingual Fairy Tales",null,null,null,"Amicus",null,0,null,24.95,null,0,null,{"$f":"IF(AC192=FALSE,AT192,0)","v":0},null,null,null,null,null,{"$f":"IF(AND(A192>=1,AC192=\"\"),A192,0)","v":0},{"$f":"IF(AND(A192>=1,AC192=\"x\"),A192,0)","v":0},{"$f":"IF(AND(A192>=1,AC192=\"\"),U192,0)","v":0},{"$f":"IF(AND(A192>=1,AC192=\"x\"),-U192,0)","v":0},0,0,0,0,{"$f":"E192","v":0},{"$f":"Y192*E192","v":0},{"$f":"AG192+AK192+AO192","v":0},{"$f":"AH192+AL192","v":0},{"$f":"AQ192+AR192","v":0},{"$f":"AI192+AM192+AP192","v":0},{"$f":"AJ192+AN192","v":0},"Fall 2013",null,2014,null,"398.2 E",null,null,null,42,null,35.700000000000003,null,"Amicus Illustrated",null,"Not Quizzable",null,"Fiction",null,"Bilingual",null,"Reinforced Library",null,32,null,"M",null,null,null,"2 - 4",null,"Adapted by Francesc Boada"]
[null,null,{"$f":"C190","v":0},null,null,null,"Not Available",null,9781607533603,null,"Rapunzel",null,null,null,"Bilingual Fairy Tales",null,null,null,"Amicus",null,0,null,24.95,null,0,null,{"$f":"IF(AC193=FALSE,AT193,0)","v":0},null,null,null,null,null,{"$f":"IF(AND(A193>=1,AC193=\"\"),A193,0)","v":0},{"$f":"IF(AND(A193>=1,AC193=\"x\"),A193,0)","v":0},{"$f":"IF(AND(A193>=1,AC193=\"\"),U193,0)","v":0},{"$f":"IF(AND(A193>=1,AC193=\"x\"),-U193,0)","v":0},0,0,0,0,{"$f":"E193","v":0},{"$f":"Y193*E193","v":0},{"$f":"AG193+AK193+AO193","v":0},{"$f":"AH193+AL193","v":0},{"$f":"AQ193+AR193","v":0},{"$f":"AI193+AM193+AP193","v":0},{"$f":"AJ193+AN193","v":0},"Fall 2013",null,2014,null,"398.2 E",null,null,null,42,null,35.700000000000003,null,"Amicus Illustrated",null,"Not Quizzable",null,"Fiction",null,"Bilingual",null,"Reinforced Library",null,32,null,"K",null,null,null,"2 - 4",null,"Adapted by Xavier Carrasco"]
[null,null,{"$f":"C190","v":0},null,null,null,"Not Available",null,9781607533597,null,"Rumpelstiltskin",null,null,null,"Bilingual Fairy Tales",null,null,null,"Amicus",null,0,null,24.95,null,0,null,{"$f":"IF(AC194=FALSE,AT194,0)","v":0},null,null,null,null,null,{"$f":"IF(AND(A194>=1,AC194=\"\"),A194,0)","v":0},{"$f":"IF(AND(A194>=1,AC194=\"x\"),A194,0)","v":0},{"$f":"IF(AND(A194>=1,AC194=\"\"),U194,0)","v":0},{"$f":"IF(AND(A194>=1,AC194=\"x\"),-U194,0)","v":0},0,0,0,0,{"$f":"E194","v":0},{"$f":"Y194*E194","v":0},{"$f":"AG194+AK194+AO194","v":0},{"$f":"AH194+AL194","v":0},{"$f":"AQ194+AR194","v":0},{"$f":"AI194+AM194+AP194","v":0},{"$f":"AJ194+AN194","v":0},"Fall 2013",null,2014,null,"398.2 E",null,null,null,42,null,35.700000000000003,null,"Amicus Illustrated",null,"Not Quizzable",null,"Fiction",null,"Bilingual",null,"Reinforced Library",null,32,null,"K",null,null,null,"2 - 4",null,"Adaptation by Francesc Bofill"]
[]
[null,null,null,null,null,null,null,null,null,null,"Complete Series of 6",null,null,null,"Clima extremo (Spot Extreme Weather)",null,null,null,null,null,{"$f":"SUM(U197:U202)","v":257.10000000000002},null,{"$f":"SUM(W197:W202)","v":125.7},null,{"$f":"SUM(Y197:Y202)","v":155.69999999999999}]
[{"$f":"A196","v":0},null,{"$f":"C196","v":0},null,{"$f":"E196","v":0},null,9781645492221,null,9781645491965,null,"Las inundaciones (Floods)",null,null,null,"Clima extremo (Spot Extreme Weather)",null,null,null,"Amicus",null,42.85,null,20.95,null,{"$f":"W197+5","v":25.95},null,{"$f":"IF(AC197=FALSE,AT197,0)","v":0},null,null,null,null,null,{"$f":"IF(AND(A197>=1,AC197=\"\"),A197,0)","v":0},{"$f":"IF(AND(A197>=1,AC197=\"x\"),A197,0)","v":0},{"$f":"IF(AND(A197>=1,AC197=\"\"),U197,0)","v":0},{"$f":"IF(AND(A197>=1,AC197=\"x\"),-U197,0)","v":0},{"$f":"IF(AND(C197>=1,AC197=\"\"),C197,0)","v":0},{"$f":"IF(AND(C197>=1,AC197=\"x\"),C197,0)","v":0},{"$f":"IF(AND(C197>=1,AC197=\"\"),W197*C197,0)","v":0},{"$f":"IF(AND(C197>=1,AC197=\"x\"),-W197*C197,0)","v":0},{"$f":"E197","v":0},{"$f":"Y197*E197","v":0},{"$f":"AG197+AK197+AO197","v":0},{"$f":"AH197+AL197","v":0},{"$f":"AQ197+AR197","v":0},{"$f":"AI197+AM197+AP197","v":0},{"$f":"AJ197+AN197","v":0},"Spring 2021",null,2021,null,"551.48/9",null,null,null,49,null,29.95,null,"Spot",null,1,null,"Nature",null,"Spanish",null,"Reinforced Library",null,16,null,"D",null,null,null,"K & Up",null,"Anastasia Suen"]
[{"$f":"A196","v":0},null,{"$f":"C196","v":0},null,{"$f":"E196","v":0},null,9781645492207,null,9781645491941,null,"Las ventiscas (Blizzards)",null,null,null,"Clima extremo (Spot Extreme Weather)",null,null,null,"Amicus",null,42.85,null,20.95,null,25.95,null,0,null,null,null,null,null,0,0,0,0,0,0,0,0,0,0,0,0,0,0,0,"Spring 2021",null,2021,null,"551.55/5",null,null,null,49,null,29.95,null,"Spot",null,1.5,null,"Nature",null,"Spanish",null,"Reinforced Library",null,16,null,"D",null,null,null,"K & Up",null,"Anastasia Suen"]
[{"$f":"A196","v":0},null,{"$f":"C196","v":0},null,{"$f":"E196","v":0},null,9781645492238,null,9781645491972,null,"Los huracanes (Hurricanes)",null,null,null,"Clima extremo (Spot Extreme Weather)",null,null,null,"Amicus",null,42.85,null,20.95,null,25.95,null,0,null,null,null,null,null,0,0,0,0,0,0,0,0,0,0,0,0,0,0,0,"Spring 2021",null,2021,null,"551.55/2",null,null,null,49,null,29.95,null,"Spot",null,0.8,null,"Nature",null,"Spanish",null,"Reinforced Library",null,16,null,"D",null,null,null,"K & Up",null,"Anastasia Suen"]
[{"$f":"A196","v":0},null,{"$f":"C196","v":0},null,{"$f":"E196","v":0},null,9781645492252,null,9781645491996,null,"Los incendios forestales (Forest Fires)",null,null,null,"Clima extremo (Spot Extreme Weather)",null,null,null,"Amicus",null,42.85,null,20.95,null,25.95,null,0,null,null,null,null,null,0,0,0,0,0,0,0,0,0,0,0,0,0,0,0,"Spring 2021",null,2021,null,"634.9/618",null,null,null,49,null,29.95,null,"Spot",null,1.7,null,"Nature",null,"Spanish",null,"Reinforced Library",null,16,null,"D",null,null,null,"K & Up",null,"Anastasia Suen"]
[{"$f":"A196","v":0},null,{"$f":"C196","v":0},null,{"$f":"E196","v":0},null,9781645492214,null,9781645491958,null,"Los terremotos (Earthquakes)",null,null,null,"Clima extremo (Spot Extreme Weather)",null,null,null,"Amicus",null,42.85,null,20.95,null,25.95,null,0,null,null,null,null,null,0,0,0,0,0,0,0,0,0,0,0,0,0,0,0,"Spring 2021",null,2021,null,551.22,null,null,null,49,null,29.95,null,"Spot",null,1.1000000000000001,null,"Nature",null,"Spanish",null,"Reinforced Library",null,16,null,"D",null,null,null,"K & Up",null,"Anastasia Suen"]
[{"$f":"A196","v":0},null,{"$f":"C196","v":0},null,{"$f":"E196","v":0},null,9781645492245,null,9781645491989,null,"Los tornados (Tornadoes)",null,null,null,"Clima extremo (Spot Extreme Weather)",null,null,null,"Amicus",null,42.85,null,20.95,null,25.95,null,0,null,null,null,null,null,0,0,0,0,0,0,0,0,0,0,0,0,0,0,0,"Spring 2021",null,2021,null,"551.55/3",null,null,null,49,null,29.95,null,"Spot",null,0.8,null,"Nature",null,"Spanish",null,"Reinforced Library",null,16,null,"D",null,null,null,"K & Up",null,"Anastasia Suen"]
[]
[null,null,null,null,null,null,null,null,null,null,"Complete NEW Series of 6",null,null,null,"Curiosidad por los vehículos geniales (Curious about Cool Rides)",null,null,null,null,null,{"$f":"SUM(U205:U210)","v":294},null,{"$f":"SUM(W205:W210)","v":143.69999999999999},null,{"$f":"SUM(Y205:Y210)","v":173.7}]
[{"$f":"A204","v":0},null,{"$f":"C204","v":0},null,{"$f":"E204","v":0},null,9781645494652,null,9781645494591,null,"Curiosidad por autos de IndyCar (Curiosity about Indy Cars)",null,null,null,"Curiosidad por los vehículos geniales (Curious about Cool Rides)",null,null,null,"Amicus",null,49,null,23.95,null,{"$f":"W205+5","v":28.95},null,{"$f":"IF(AC205=FALSE,AT205,0)","v":0},null,null,null,null,null,{"$f":"IF(AND(A205>=1,AC205=\"\"),A205,0)","v":0},{"$f":"IF(AND(A205>=1,AC205=\"x\"),A205,0)","v":0},{"$f":"IF(AND(A205>=1,AC205=\"\"),U205,0)","v":0},{"$f":"IF(AND(A205>=1,AC205=\"x\"),-U205,0)","v":0},{"$f":"IF(AND(C205>=1,AC205=\"\"),C205,0)","v":0},{"$f":"IF(AND(C205>=1,AC205=\"x\"),C205,0)","v":0},{"$f":"IF(AND(C205>=1,AC205=\"\"),W205*C205,0)","v":0},{"$f":"IF(AND(C205>=1,AC205=\"x\"),-W205*C205,0)","v":0},{"$f":"E205","v":0},{"$f":"Y205*E205","v":0},{"$f":"AG205+AK205+AO205","v":0},{"$f":"AH205+AL205","v":0},{"$f":"AQ205+AR205","v":0},{"$f":"AI205+AM205+AP205","v":0},{"$f":"AJ205+AN205","v":0},"Fall 2022",null,2023,null,"629.228/5",null,null,null,49,null,34.25,null,"Curious About",null,null,null,"Technology & Engineering",null,"Spanish",null,"Reinforced Library",null,24,null,"",null,null,null,"1 - 4",null,"Rachel Grack"]
[{"$f":"A204","v":0},null,{"$f":"C204","v":0},null,{"$f":"E204","v":0},null,9781645494638,null,9781645494577,null,"Curiosidad por los dragsters (Curiosity about Dragsters)",null,null,null,"Curiosidad por los vehículos geniales (Curious about Cool Rides)",null,null,null,"Amicus",null,49,null,23.95,null,28.95,null,0,null,null,null,null,null,0,0,0,0,0,0,0,0,0,0,0,0,0,0,0,"Fall 2022",null,2023,null,"629.228/6",null,null,null,49,null,34.25,null,"Curious About",null,null,null,"Technology & Engineering",null,"Spanish",null,"Reinforced Library",null,24,null,"",null,null,null,"1 - 4",null,"Rachel Grack"]
[{"$f":"A204","v":0},null,{"$f":"C204","v":0},null,{"$f":"E204","v":0},null,9781645494645,null,9781645494584,null,"Curiosidad por los hot rods (Curiosity about Hot Rods)",null,null,null,"Curiosidad por los vehículos geniales (Curious about Cool Rides)",null,null,null,"Amicus",null,49,null,23.95,null,28.95,null,0,null,null,null,null,null,0,0,0,0,0,0,0,0,0,0,0,0,0,0,0,"Fall 2022",null,2023,null,"629.228/5",null,null,null,49,null,34.25,null,"Curious About",null,null,null,"Technology & Engineering",null,"Spanish",null,"Reinforced Library",null,24,null,"",null,null,null,"1 - 4",null,"Rachel Grack"]
[{"$f":"A204","v":0},null,{"$f":"C204","v":0},null,{"$f":"E204","v":0},null,9781645494669,null,9781645494607,null,"Curiosidad por los lowriders (Curiosity about Lowriders)",null,null,null,"Curiosidad por los vehículos geniales (Curious about Cool Rides)",null,null,null,"Amicus",null,49,null,23.95,null,28.95,null,0,null,null,null,null,null,0,0,0,0,0,0,0,0,0,0,0,0,0,0,0,"Fall 2022",null,2023,null,629.22199999999998,null,null,null,49,null,34.25,null,"Curious About",null,null,null,"Technology & Engineering",null,"Spanish",null,"Reinforced Library",null,24,null,"",null,null,null,"1 - 4",null,"Rachel Grack"]
[{"$f":"A204","v":0},null,{"$f":"C204","v":0},null,{"$f":"E204","v":0},null,9781645494676,null,9781645494614,null,"Curiosidad por los monster trucks (Curiosity about Monster Trucks)",null,null,null,"Curiosidad por los vehículos geniales (Curious about Cool Rides)",null,null,null,"Amicus",null,49,null,23.95,null,28.95,null,0,null,null,null,null,null,0,0,0,0,0,0,0,0,0,0,0,0,0,0,0,"Fall 2022",null,2023,null,629.22400000000005,null,null,null,49,null,34.25,null,"Curious About",null,null,null,"Technology & Engineering",null,"Spanish",null,"Reinforced Library",null,24,null,"",null,null,null,"1 - 4",null,"Rachel Grack"]
[{"$f":"A204","v":0},null,{"$f":"C204","v":0},null,{"$f":"E204","v":0},null,9781645494683,null,9781645494621,null,"Curiosidad por los stock cars (Curiosity about Stock Cars)",null,null,null,"Curiosidad por los vehículos geniales (Curious about Cool Rides)",null,null,null,"Amicus",null,49,null,23.95,null,28.95,null,0,null,null,null,null,null,0,0,0,0,0,0,0,0,0,0,0,0,0,0,0,"Fall 2022",null,2023,null,"629.228/5",null,null,null,49,null,34.25,null,"Curious About",null,null,null,"Technology & Engineering",null,"Spanish",null,"Reinforced Library",null,24,null,"",null,null,null,"1 - 4",null,"Rachel Grack"]
[]
[null,null,null,null,null,null,null,null,null,null,"Complete NEW Series of 6",null,null,null,"Curious about Cool Rides",null,null,null,null,null,{"$f":"SUM(U213:U218)","v":294},null,{"$f":"SUM(W213:W218)","v":143.69999999999999},null,{"$f":"SUM(Y213:Y218)","v":173.7}]
[{"$f":"A212","v":0},null,{"$f":"C212","v":0},null,{"$f":"E212","v":0},null,9781645491569,null,9781645491149,null,"Curious about Dragsters",null,null,null,"Curious about Cool Rides",null,null,null,"Amicus",null,49,null,23.95,null,{"$f":"W213+5","v":28.95},null,{"$f":"IF(AC213=FALSE,AT213,0)","v":0},null,null,null,null,null,{"$f":"IF(AND(A213>=1,AC213=\"\"),A213,0)","v":0},{"$f":"IF(AND(A213>=1,AC213=\"x\"),A213,0)","v":0},{"$f":"IF(AND(A213>=1,AC213=\"\"),U213,0)","v":0},{"$f":"IF(AND(A213>=1,AC213=\"x\"),-U213,0)","v":0},{"$f":"IF(AND(C213>=1,AC213=\"\"),C213,0)","v":0},{"$f":"IF(AND(C213>=1,AC213=\"x\"),C213,0)","v":0},{"$f":"IF(AND(C213>=1,AC213=\"\"),W213*C213,0)","v":0},{"$f":"IF(AND(C213>=1,AC213=\"x\"),-W213*C213,0)","v":0},{"$f":"E213","v":0},{"$f":"Y213*E213","v":0},{"$f":"AG213+AK213+AO213","v":0},{"$f":"AH213+AL213","v":0},{"$f":"AQ213+AR213","v":0},{"$f":"AI213+AM213+AP213","v":0},{"$f":"AJ213+AN213","v":0},"Fall 2022",null,2023,null,"629.228/5",null,null,null,26,null,34.25,null,"Curious About",null,null,null,"Technology & Engineering",null,"English",null,"Reinforced Library",null,24,null,"K",null,null,null,"1 - 4",null,"Rachel Grack"]
[{"$f":"A212","v":0},null,{"$f":"C212","v":0},null,{"$f":"E212","v":0},null,9781645491576,null,9781645491156,null,"Curious about Hot Rods",null,null,null,"Curious about Cool Rides",null,null,null,"Amicus",null,49,null,23.95,null,28.95,null,0,null,null,null,null,null,0,0,0,0,0,0,0,0,0,0,0,0,0,0,0,"Fall 2022",null,2023,null,"629.228/6",null,null,null,26,null,34.25,null,"Curious About",null,null,null,"Technology & Engineering",null,"English",null,"Reinforced Library",null,24,null,"K",null,null,null,"1 - 4",null,"Rachel Grack"]
[{"$f":"A212","v":0},null,{"$f":"C212","v":0},null,{"$f":"E212","v":0},null,9781645491583,null,9781645491163,null,"Curious about Indy Cars",null,null,null,"Curious about Cool Rides",null,null,null,"Amicus",null,49,null,23.95,null,28.95,null,0,null,null,null,null,null,0,0,0,0,0,0,0,0,0,0,0,0,0,0,0,"Fall 2022",null,2023,null,"629.228/5",null,null,null,26,null,34.25,null,"Curious About",null,null,null,"Technology & Engineering",null,"English",null,"Reinforced Library",null,24,null,"K",null,null,null,"1 - 4",null,"Rachel Grack"]
[{"$f":"A212","v":0},null,{"$f":"C212","v":0},null,{"$f":"E212","v":0},null,9781645491590,null,9781645491170,null,"Curious about Lowriders",null,null,null,"Curious about Cool Rides",null,null,null,"Amicus",null,49,null,23.95,null,28.95,null,0,null,null,null,null,null,0,0,0,0,0,0,0,0,0,0,0,0,0,0,0,"Fall 2022",null,2023,null,629.22199999999998,null,null,null,26,null,34.25,null,"Curious About",null,null,null,"Technology & Engineering",null,"English",null,"Reinforced Library",null,24,null,"K",null,null,null,"1 - 4",null,"Rachel Grack"]
[{"$f":"A212","v":0},null,{"$f":"C212","v":0},null,{"$f":"E212","v":0},null,9781645491606,null,9781645491187,null,"Curious about Monster Trucks",null,null,null,"Curious about Cool Rides",null,null,null,"Amicus",null,49,null,23.95,null,28.95,null,0,null,null,null,null,null,0,0,0,0,0,0,0,0,0,0,0,0,0,0,0,"Fall 2022",null,2023,null,629.22400000000005,null,null,null,26,null,34.25,null,"Curious About",null,null,null,"Technology & Engineering",null,"English",null,"Reinforced Library",null,24,null,"K",null,null,null,"1 - 4",null,"Rachel Grack"]
[{"$f":"A212","v":0},null,{"$f":"C212","v":0},null,{"$f":"E212","v":0},null,9781645491613,null,9781645491194,null,"Curious about Stock Cars",null,null,null,"Curious about Cool Rides",null,null,null,"Amicus",null,49,null,23.95,null,28.95,null,0,null,null,null,null,null,0,0,0,0,0,0,0,0,0,0,0,0,0,0,0,"Fall 2022",null,2023,null,"629.228/5",null,null,null,26,null,34.25,null,"Curious About",null,null,null,"Technology & Engineering",null,"English",null,"Reinforced Library",null,24,null,"K",null,null,null,"1 - 4",null,"Rachel Grack"]
[]
[null,null,null,null,null,null,null,null,null,null,"Complete Series of 8",null,null,null,"Curious about Outer Space",null,null,null,null,null,{"$f":"SUM(U221:U228)","v":392},null,{"$f":"SUM(W221:W228)","v":191.59999999999997},null,{"$f":"SUM(Y221:Y228)","v":231.59999999999997}]
[{"$f":"A220","v":0},null,{"$f":"C220","v":0},null,{"$f":"E220","v":0},null,9781645490579,null,9781681519722,null,"Curious about Jupiter",null,null,null,"Curious about Outer Space",null,null,null,"Amicus",null,49,null,23.95,null,{"$f":"W221+5","v":28.95},null,{"$f":"IF(AC221=FALSE,AT221,0)","v":0},null,null,null,null,null,{"$f":"IF(AND(A221>=1,AC221=\"\"),A221,0)","v":0},{"$f":"IF(AND(A221>=1,AC221=\"x\"),A221,0)","v":0},{"$f":"IF(AND(A221>=1,AC221=\"\"),U221,0)","v":0},{"$f":"IF(AND(A221>=1,AC221=\"x\"),-U221,0)","v":0},{"$f":"IF(AND(C221>=1,AC221=\"\"),C221,0)","v":0},{"$f":"IF(AND(C221>=1,AC221=\"x\"),C221,0)","v":0},{"$f":"IF(AND(C221>=1,AC221=\"\"),W221*C221,0)","v":0},{"$f":"IF(AND(C221>=1,AC221=\"x\"),-W221*C221,0)","v":0},{"$f":"E221","v":0},{"$f":"Y221*E221","v":0},{"$f":"AG221+AK221+AO221","v":0},{"$f":"AH221+AL221","v":0},{"$f":"AQ221+AR221","v":0},{"$f":"AI221+AM221+AP221","v":0},{"$f":"AJ221+AN221","v":0},"Spring 2022",null,2022,null,523.45000000000005,null,null,null,28,null,34.25,null,"Curious About",null,null,null,"Science",null,"English",null,"Reinforced Library",null,24,null,"K",null,null,null,"1 - 4",null,"Rachel Grack"]
[{"$f":"A220","v":0},null,{"$f":"C220","v":0},null,{"$f":"E220","v":0},null,9781645490586,null,9781681519739,null,"Curious about Mars",null,null,null,"Curious about Outer Space",null,null,null,"Amicus",null,49,null,23.95,null,{"$f":"W222+5","v":28.95},null,0,null,null,null,null,null,0,0,0,0,0,0,0,0,0,0,0,0,0,0,0,"Spring 2022",null,2022,null,523.42999999999995,null,null,null,28,null,34.25,null,"Curious About",null,null,null,"Science",null,"English",null,"Reinforced Library",null,24,null,"K",null,null,null,"1 - 4",null,"Rachel Grack"]
[{"$f":"A220","v":0},null,{"$f":"C220","v":0},null,{"$f":"E220","v":0},null,9781645490593,null,9781681519746,null,"Curious about Mercury",null,null,null,"Curious about Outer Space",null,null,null,"Amicus",null,49,null,23.95,null,28.95,null,0,null,null,null,null,null,0,0,0,0,0,0,0,0,0,0,0,0,0,0,0,"Spring 2022",null,2022,null,523.41,null,null,null,28,null,34.25,null,"Curious About",null,null,null,"Science",null,"English",null,"Reinforced Library",null,24,null,"K",null,null,null,"1 - 4",null,"Rachel Grack"]
[{"$f":"A220","v":0},null,{"$f":"C220","v":0},null,{"$f":"E220","v":0},null,9781645490609,null,9781681519753,null,"Curious about Neptune",null,null,null,"Curious about Outer Space",null,null,null,"Amicus",null,49,null,23.95,null,28.95,null,0,null,null,null,null,null,0,0,0,0,0,0,0,0,0,0,0,0,0,0,0,"Spring 2022",null,2022,null,523.48,null,null,null,28,null,34.25,null,"Curious About",null,null,null,"Science",null,"English",null,"Reinforced Library",null,24,null,"K",null,null,null,"1 - 4",null,"Rachel Grack"]
[{"$f":"A220","v":0},null,{"$f":"C220","v":0},null,{"$f":"E220","v":0},null,9781645490616,null,9781681519760,null,"Curious about Saturn",null,null,null,"Curious about Outer Space",null,null,null,"Amicus",null,49,null,23.95,null,28.95,null,0,null,null,null,null,null,0,0,0,0,0,0,0,0,0,0,0,0,0,0,0,"Spring 2022",null,2022,null,523.46,null,null,null,28,null,34.25,null,"Curious About",null,null,null,"Science",null,"English",null,"Reinforced Library",null,24,null,"K",null,null,null,"1 - 4",null,"Gillia M. Olson"]
[{"$f":"A220","v":0},null,{"$f":"C220","v":0},null,{"$f":"E220","v":0},null,9781645490562,null,9781681519715,null,"Curious about the Moon",null,null,null,"Curious about Outer Space",null,null,null,"Amicus",null,49,null,23.95,null,28.95,null,0,null,null,null,null,null,0,0,0,0,0,0,0,0,0,0,0,0,0,0,0,"Spring 2022",null,2022,null,523.29999999999995,null,null,null,28,null,34.25,null,"Curious About",null,null,null,"Science",null,"English",null,"Reinforced Library",null,24,null,"K",null,null,null,"1 - 4",null,"Rachel Grack"]
[{"$f":"A220","v":0},null,{"$f":"C220","v":0},null,{"$f":"E220","v":0},null,9781645490623,null,9781681519777,null,"Curious about Uranus",null,null,null,"Curious about Outer Space",null,null,null,"Amicus",null,49,null,23.95,null,28.95,null,0,null,null,null,null,null,0,0,0,0,0,0,0,0,0,0,0,0,0,0,0,"Spring 2022",null,2022,null,523.47,null,null,null,28,null,34.25,null,"Curious About",null,null,null,"Science",null,"English",null,"Reinforced Library",null,24,null,"K",null,null,null,"1 - 4",null,"Rachel Grack"]
[{"$f":"A220","v":0},null,{"$f":"C220","v":0},null,{"$f":"E220","v":0},null,9781645490630,null,9781681519784,null,"Curious about Venus",null,null,null,"Curious about Outer Space",null,null,null,"Amicus",null,49,null,23.95,null,28.95,null,0,null,null,null,null,null,0,0,0,0,0,0,0,0,0,0,0,0,0,0,0,"Spring 2022",null,2022,null,523.41999999999996,null,null,null,28,null,34.25,null,"Curious About",null,null,null,"Science",null,"English",null,"Reinforced Library",null,24,null,"K",null,null,null,"1 - 4",null,"Rachel Grack"]
[]
[null,null,null,null,null,null,null,null,null,null,"Complete Series of 6",null,null,null,"Curious about Pets",null,null,null,null,null,{"$f":"SUM(U231:U236)","v":294},null,{"$f":"SUM(W231:W236)","v":143.69999999999999},null,{"$f":"SUM(Y231:Y236)","v":173.7}]
[{"$f":"A230","v":0},null,{"$f":"C230","v":0},null,{"$f":"E230","v":0},null,9781645490548,null,9781681519692,null,"Curious about Birds",null,null,null,"Curious about Pets",null,null,null,"Amicus",null,49,null,23.95,null,{"$f":"W231+5","v":28.95},null,{"$f":"IF(AC231=FALSE,AT231,0)","v":0},null,null,null,null,null,{"$f":"IF(AND(A231>=1,AC231=\"\"),A231,0)","v":0},{"$f":"IF(AND(A231>=1,AC231=\"x\"),A231,0)","v":0},{"$f":"IF(AND(A231>=1,AC231=\"\"),U231,0)","v":0},{"$f":"IF(AND(A231>=1,AC231=\"x\"),-U231,0)","v":0},{"$f":"IF(AND(C231>=1,AC231=\"\"),C231,0)","v":0},{"$f":"IF(AND(C231>=1,AC231=\"x\"),C231,0)","v":0},{"$f":"IF(AND(C231>=1,AC231=\"\"),W231*C231,0)","v":0},{"$f":"IF(AND(C231>=1,AC231=\"x\"),-W231*C231,0)","v":0},{"$f":"E231","v":0},{"$f":"Y231*E231","v":0},{"$f":"AG231+AK231+AO231","v":0},{"$f":"AH231+AL231","v":0},{"$f":"AQ231+AR231","v":0},{"$f":"AI231+AM231+AP231","v":0},{"$f":"AJ231+AN231","v":0},"Spring 2022",null,2022,null,"636.6/8",null,null,null,27,null,34.25,null,"Curious About",null,2.4,null,"Animals",null,"English",null,"Reinforced Library",null,24,null,"K",null,null,null,"1 - 4",null,"Jill Sherman"]
[{"$f":"A230","v":0},null,{"$f":"C230","v":0},null,{"$f":"E230","v":0},null,9781645490500,null,9781681519654,null,"Curious about Cats",null,null,null,"Curious about Pets",null,null,null,"Amicus",null,49,null,23.95,null,28.95,null,0,null,null,null,null,null,0,0,0,0,0,0,{"$f":"IF(AND(C232>=1,AC232=\"\"),W232*C232,0)","v":0},{"$f":"IF(AND(C232>=1,AC232=\"x\"),-W232*C232,0)","v":0},0,0,0,0,0,0,0,"Spring 2022",null,2022,null,636.79999999999995,null,null,null,27,null,34.25,null,"Curious About",null,2.4,null,"Animals",null,"English",null,"Reinforced Library",null,24,null,"K",null,null,null,"1 - 4",null,"M.K. Osborne"]
[{"$f":"A230","v":0},null,{"$f":"C230","v":0},null,{"$f":"E230","v":0},null,9781645490517,null,9781681519661,null,"Curious about Dogs",null,null,null,"Curious about Pets",null,null,null,"Amicus",null,49,null,23.95,null,28.95,null,0,null,null,null,null,null,0,0,0,0,0,0,0,0,0,0,0,0,0,0,0,"Spring 2022",null,2022,null,636.70000000000005,null,null,null,27,null,34.25,null,"Curious About",null,2.5,null,"Animals",null,"English",null,"Reinforced Library",null,24,null,"K",null,null,null,"1 - 4",null,"M.K. Osborne"]
[{"$f":"A230","v":0},null,{"$f":"C230","v":0},null,{"$f":"E230","v":0},null,9781645490524,null,9781681519678,null,"Curious about Hamsters",null,null,null,"Curious about Pets",null,null,null,"Amicus",null,49,null,23.95,null,28.95,null,0,null,null,null,null,null,0,0,0,0,0,0,0,0,0,0,0,0,0,0,0,"Spring 2022",null,2022,null,"636.935/6",null,null,null,27,null,34.25,null,"Curious About",null,2.4,null,"Animals",null,"English",null,"Reinforced Library",null,24,null,"K",null,null,null,"1 - 4",null,"M.K. Osborne"]
[{"$f":"A230","v":0},null,{"$f":"C230","v":0},null,{"$f":"E230","v":0},null,9781645490531,null,9781681519685,null,"Curious about Horses",null,null,null,"Curious about Pets",null,null,null,"Amicus",null,49,null,23.95,null,28.95,null,0,null,null,null,null,null,0,0,0,0,0,0,0,0,0,0,0,0,0,0,0,"Spring 2022",null,2022,null,636.1,null,null,null,27,null,34.25,null,"Curious About",null,2.5,null,"Animals",null,"English",null,"Reinforced Library",null,24,null,"K",null,null,null,"1 - 4",null,"Jill Sherman"]
[{"$f":"A230","v":0},null,{"$f":"C230","v":0},null,{"$f":"E230","v":0},null,9781645490555,null,9781681519708,null,"Curious about Rabbits",null,null,null,"Curious about Pets",null,null,null,"Amicus",null,49,null,23.95,null,28.95,null,0,null,null,null,null,null,0,0,0,0,0,0,0,0,0,0,0,0,0,0,0,"Spring 2022",null,2022,null,"636.932/2",null,null,null,27,null,34.25,null,"Curious About",null,2.6,null,"Animals",null,"English",null,"Reinforced Library",null,24,null,"K",null,null,null,"1 - 4",null,"Jill Sherman"]
[]
[null,null,null,null,null,null,null,null,null,null,"Complete Series of 6",null,null,null,"Curious about Unexplained Mysteries",null,null,null,null,null,{"$f":"SUM(U239:U244)","v":294},null,{"$f":"SUM(W239:W244)","v":143.69999999999999},null,{"$f":"SUM(Y239:Y244)","v":173.7}]
[{"$f":"A238","v":0},null,{"$f":"C238","v":0},null,{"$f":"E238","v":0},null,9781645490647,null,9781681519791,null,"Curious about Aliens",null,null,null,"Curious about Unexplained Mysteries",null,null,null,"Amicus",null,49,null,23.95,null,{"$f":"W239+5","v":28.95},null,{"$f":"IF(AC239=FALSE,AT239,0)","v":0},null,null,null,null,null,{"$f":"IF(AND(A239>=1,AC239=\"\"),A239,0)","v":0},{"$f":"IF(AND(A239>=1,AC239=\"x\"),A239,0)","v":0},{"$f":"IF(AND(A239>=1,AC239=\"\"),U239,0)","v":0},{"$f":"IF(AND(A239>=1,AC239=\"x\"),-U239,0)","v":0},{"$f":"IF(AND(C239>=1,AC239=\"\"),C239,0)","v":0},{"$f":"IF(AND(C239>=1,AC239=\"x\"),C239,0)","v":0},{"$f":"IF(AND(C239>=1,AC239=\"\"),W239*C239,0)","v":0},{"$f":"IF(AND(C239>=1,AC239=\"x\"),-W239*C239,0)","v":0},{"$f":"E239","v":0},{"$f":"Y239*E239","v":0},{"$f":"AG239+AK239+AO239","v":0},{"$f":"AH239+AL239","v":0},{"$f":"AQ239+AR239","v":0},{"$f":"AI239+AM239+AP239","v":0},{"$f":"AJ239+AN239","v":0},"Spring 2022",null,2022,null,1.9419999999999999,null,null,null,28,null,34.25,null,"Curious About",null,2.9,null,"Legends, Myths, & Paranormal",null,"English",null,"Reinforced Library",null,24,null,"K",null,null,null,"1 - 4",null,"Gillia M. Olson"]
[{"$f":"A238","v":0},null,{"$f":"C238","v":0},null,{"$f":"E238","v":0},null,9781645490654,null,9781681519807,null,"Curious about Bigfoot",null,null,null,"Curious about Unexplained Mysteries",null,null,null,"Amicus",null,49,null,23.95,null,28.95,null,0,null,null,null,null,null,0,0,0,0,0,0,0,0,0,0,0,0,0,0,0,"Spring 2022",null,2022,null,1.944,null,null,null,28,null,34.25,null,"Curious About",null,3,null,"Legends, Myths, & Paranormal",null,"English",null,"Reinforced Library",null,24,null,"K",null,null,null,"1 - 4",null,"Gillia M. Olson"]
[{"$f":"A238","v":0},null,{"$f":"C238","v":0},null,{"$f":"E238","v":0},null,9781645490661,null,9781681519814,null,"Curious about Ghosts",null,null,null,"Curious about Unexplained Mysteries",null,null,null,"Amicus",null,49,null,23.95,null,28.95,null,0,null,null,null,null,null,0,0,0,0,0,0,0,0,0,0,0,0,0,0,0,"Spring 2022",null,2022,null,133.1,null,null,null,28,null,34.25,null,"Curious About",null,2.8,null,"Legends, Myths, & Paranormal",null,"English",null,"Reinforced Library",null,24,null,"K",null,null,null,"1 - 4",null,"Gillia M. Olson"]
[{"$f":"A238","v":0},null,{"$f":"C238","v":0},null,{"$f":"E238","v":0},null,9781645490678,null,9781681519821,null,"Curious about Haunted Places",null,null,null,"Curious about Unexplained Mysteries",null,null,null,"Amicus",null,49,null,23.95,null,28.95,null,0,null,null,null,null,null,0,0,0,0,0,0,0,0,0,0,0,0,0,0,0,"Spring 2022",null,2022,null,"133.1/2",null,null,null,28,null,34.25,null,"Curious About",null,2.9,null,"Legends, Myths, & Paranormal",null,"English",null,"Reinforced Library",null,24,null,"K",null,null,null,"1 - 4",null,"Gillia M. Olson"]
[{"$f":"A238","v":0},null,{"$f":"C238","v":0},null,{"$f":"E238","v":0},null,9781645490685,null,9781681519838,null,"Curious about the Loch Ness Monster",null,null,null,"Curious about Unexplained Mysteries",null,null,null,"Amicus",null,49,null,23.95,null,28.95,null,0,null,null,null,null,null,0,0,0,0,0,0,0,0,0,0,0,0,0,0,0,"Spring 2022",null,2022,null,1.944,null,null,null,28,null,34.25,null,"Curious About",null,2.9,null,"Legends, Myths, & Paranormal",null,"English",null,"Reinforced Library",null,24,null,"K",null,null,null,"1 - 4",null,"Gillia M. Olson"]
[{"$f":"A238","v":0},null,{"$f":"C238","v":0},null,{"$f":"E238","v":0},null,9781645490692,null,9781681519845,null,"Curious about UFOs",null,null,null,"Curious about Unexplained Mysteries",null,null,null,"Amicus",null,49,null,23.95,null,28.95,null,0,null,null,null,null,null,0,0,0,0,0,0,0,0,0,0,0,0,0,0,0,"Spring 2022",null,2022,null,1.9419999999999999,null,null,null,28,null,34.25,null,"Curious About",null,2.9,null,"Legends, Myths, & Paranormal",null,"English",null,"Reinforced Library",null,24,null,"K",null,null,null,"1 - 4",null,"Gillia M. Olson"]
[]
[null,null,null,null,null,null,null,null,null,null,"Complete NEW Series of 6",null,null,null,"Curious about Wild Animals",null,null,null,null,null,{"$f":"SUM(U247:U252)","v":294},null,{"$f":"SUM(W247:W252)","v":143.69999999999999},null,{"$f":"SUM(Y247:Y252)","v":173.7}]
[{"$f":"A246","v":0},null,{"$f":"C246","v":0},null,{"$f":"E246","v":0},null,9781645491743,null,9781645491323,null,"Curious about Dolphins",null,null,null,"Curious about Wild Animals",null,null,null,"Amicus",null,49,null,23.95,null,{"$f":"W247+5","v":28.95},null,{"$f":"IF(AC247=FALSE,AT247,0)","v":0},null,null,null,null,null,{"$f":"IF(AND(A247>=1,AC247=\"\"),A247,0)","v":0},{"$f":"IF(AND(A247>=1,AC247=\"x\"),A247,0)","v":0},{"$f":"IF(AND(A247>=1,AC247=\"\"),U247,0)","v":0},{"$f":"IF(AND(A247>=1,AC247=\"x\"),-U247,0)","v":0},{"$f":"IF(AND(C247>=1,AC247=\"\"),C247,0)","v":0},{"$f":"IF(AND(C247>=1,AC247=\"x\"),C247,0)","v":0},{"$f":"IF(AND(C247>=1,AC247=\"\"),W247*C247,0)","v":0},{"$f":"IF(AND(C247>=1,AC247=\"x\"),-W247*C247,0)","v":0},{"$f":"E247","v":0},{"$f":"Y247*E247","v":0},{"$f":"AG247+AK247+AO247","v":0},{"$f":"AH247+AL247","v":0},{"$f":"AQ247+AR247","v":0},{"$f":"AI247+AM247+AP247","v":0},{"$f":"AJ247+AN247","v":0},"Fall 2022",null,2023,null,599.53,null,null,null,25,null,34.25,null,"Curious About",null,null,null,"Animals",null,"English",null,"Reinforced Library",null,24,null,"K",null,null,null,"1 - 4",null,"Annie C. Holdren"]
[{"$f":"A246","v":0},null,{"$f":"C246","v":0},null,{"$f":"E246","v":0},null,9781645491750,null,9781645491330,null,"Curious about Jellyfish",null,null,null,"Curious about Wild Animals",null,null,null,"Amicus",null,49,null,23.95,null,28.95,null,0,null,null,null,null,null,0,0,0,0,0,0,0,0,0,0,0,0,0,0,0,"Fall 2022",null,2023,null,"593.5/3",null,null,null,25,null,34.25,null,"Curious About",null,null,null,"Animals",null,"English",null,"Reinforced Library",null,24,null,"K",null,null,null,"1 - 4",null,"Annie C. Holdren"]
[{"$f":"A246","v":0},null,{"$f":"C246","v":0},null,{"$f":"E246","v":0},null,9781645491767,null,9781645491347,null,"Curious about Narwhals",null,null,null,"Curious about Wild Animals",null,null,null,"Amicus",null,49,null,23.95,null,28.95,null,0,null,null,null,null,null,0,0,0,0,0,0,0,0,0,0,0,0,0,0,0,"Fall 2022",null,2023,null,"599.5/43",null,null,null,25,null,34.25,null,"Curious About",null,null,null,"Animals",null,"English",null,"Reinforced Library",null,24,null,"K",null,null,null,"1 - 4",null,"Annie C. Holdren"]
[{"$f":"A246","v":0},null,{"$f":"C246","v":0},null,{"$f":"E246","v":0},null,9781645491774,null,9781645491354,null,"Curious about Pandas",null,null,null,"Curious about Wild Animals",null,null,null,"Amicus",null,49,null,23.95,null,28.95,null,0,null,null,null,null,null,0,0,0,0,0,0,0,0,0,0,0,0,0,0,0,"Fall 2022",null,2023,null,599.78899999999999,null,null,null,25,null,34.25,null,"Curious About",null,null,null,"Animals",null,"English",null,"Reinforced Library",null,24,null,"K",null,null,null,"1 - 4",null,"Amy S. Hansen"]
[{"$f":"A246","v":0},null,{"$f":"C246","v":0},null,{"$f":"E246","v":0},null,9781645491781,null,9781645491361,null,"Curious about Sharks",null,null,null,"Curious about Wild Animals",null,null,null,"Amicus",null,49,null,23.95,null,28.95,null,0,null,null,null,null,null,0,0,0,0,0,0,0,0,0,0,0,0,0,0,0,"Fall 2022",null,2023,null,"597.3/3",null,null,null,25,null,34.25,null,"Curious About",null,null,null,"Animals",null,"English",null,"Reinforced Library",null,24,null,"K",null,null,null,"1 - 4",null,"Amy S. Hansen"]
[{"$f":"A246","v":0},null,{"$f":"C246","v":0},null,{"$f":"E246","v":0},null,9781645491798,null,9781645491378,null,"Curious about Sloths",null,null,null,"Curious about Wild Animals",null,null,null,"Amicus",null,49,null,23.95,null,28.95,null,0,null,null,null,null,null,0,0,0,0,0,0,0,0,0,0,0,0,0,0,0,"Fall 2022",null,2023,null,"599.3/13",null,null,null,25,null,34.25,null,"Curious About",null,null,null,"Animals",null,"English",null,"Reinforced Library",null,24,null,"K",null,null,null,"1 - 4",null,"Amy S. Hansen"]
[]
[null,null,null,null,null,null,null,null,null,null,"Complete Series of 8",null,null,null,"Deportes (Spot Sports)",null,null,null,null,null,{"$f":"SUM(U255:U262)","v":342.80000000000007},null,{"$f":"SUM(W255:W262)","v":167.6},null,{"$f":"SUM(Y255:Y262)","v":207.59999999999997}]
[{"$f":"A254","v":0},null,{"$f":"C254","v":0},null,{"$f":"E254","v":0},null,9781645492191,null,9781645491934,null,"Atletismo (Track & Field)",null,null,null,"Deportes (Spot Sports)",null,null,null,"Amicus",null,42.85,null,20.95,null,{"$f":"W255+5","v":25.95},null,{"$f":"IF(AC255=FALSE,AT255,0)","v":0},null,null,null,null,null,{"$f":"IF(AND(A255>=1,AC255=\"\"),A255,0)","v":0},{"$f":"IF(AND(A255>=1,AC255=\"x\"),A255,0)","v":0},{"$f":"IF(AND(A255>=1,AC255=\"\"),U255,0)","v":0},{"$f":"IF(AND(A255>=1,AC255=\"x\"),-U255,0)","v":0},{"$f":"IF(AND(C255>=1,AC255=\"\"),C255,0)","v":0},{"$f":"IF(AND(C255>=1,AC255=\"x\"),C255,0)","v":0},{"$f":"IF(AND(C255>=1,AC255=\"\"),W255*C255,0)","v":0},{"$f":"IF(AND(C255>=1,AC255=\"x\"),-W255*C255,0)","v":0},{"$f":"E255","v":0},{"$f":"Y255*E255","v":0},{"$f":"AG255+AK255+AO255","v":0},{"$f":"AH255+AL255","v":0},{"$f":"AQ255+AR255","v":0},{"$f":"AI255+AM255+AP255","v":0},{"$f":"AJ255+AN255","v":0},"Spring 2021",null,2021,null,796.42,null,null,null,49,null,29.95,null,"Spot",null,1.3,null,"Sports & Recreation",null,"Spanish",null,"Reinforced Library",null,16,null,null,null,null,null,"K & Up",null,"Mari Schuh"]
[{"$f":"A254","v":0},null,{"$f":"C254","v":0},null,{"$f":"E254","v":0},null,9781645492122,null,9781645491866,null,"Boliche (Bowling)",null,null,null,"Deportes (Spot Sports)",null,null,null,"Amicus",null,42.85,null,20.95,null,25.95,null,0,null,null,null,null,null,0,0,0,0,0,0,0,0,0,0,0,0,0,0,0,"Spring 2021",null,2021,null,794.6,null,null,null,49,null,29.95,null,"Spot",null,0.9,null,"Sports & Recreation",null,"Spanish",null,"Reinforced Library",null,16,null,null,null,null,null,"K & Up",null,"Mari Schuh"]
[{"$f":"A254","v":0},null,{"$f":"C254","v":0},null,{"$f":"E254","v":0},null,9781645492146,null,9781645491880,null,"Esquí alpino (Downhill Skiing)",null,null,null,"Deportes (Spot Sports)",null,null,null,"Amicus",null,42.85,null,20.95,null,25.95,null,0,null,null,null,null,null,0,0,0,0,0,0,0,0,0,0,0,0,0,0,0,"Spring 2021",null,2021,null,796.93,null,null,null,49,null,29.95,null,"Spot",null,1.1000000000000001,null,"Sports & Recreation",null,"Spanish",null,"Reinforced Library",null,16,null,null,null,null,null,"K & Up",null,"Mari Schuh"]
[{"$f":"A254","v":0},null,{"$f":"C254","v":0},null,{"$f":"E254","v":0},null,9781645492153,null,9781645491897,null,"Lacrosse (Lacrosse)",null,null,null,"Deportes (Spot Sports)",null,null,null,"Amicus",null,42.85,null,20.95,null,25.95,null,0,null,null,null,null,null,0,0,0,0,0,0,0,0,0,0,0,0,0,0,0,"Spring 2021",null,2021,null,"796.36/2",null,null,null,49,null,29.95,null,"Spot",null,0.9,null,"Sports & Recreation",null,"Spanish",null,"Reinforced Library",null,16,null,null,null,null,null,"K & Up",null,"Mari Schuh"]
[{"$f":"A254","v":0},null,{"$f":"C254","v":0},null,{"$f":"E254","v":0},null,9781645492160,null,9781645491903,null,"Patineta (Skateboarding)",null,null,null,"Deportes (Spot Sports)",null,null,null,"Amicus",null,42.85,null,20.95,null,25.95,null,0,null,null,null,null,null,0,0,0,0,0,0,0,0,0,0,0,0,0,0,0,"Spring 2021",null,2021,null,796.22,null,null,null,49,null,29.95,null,"Spot",null,1.2,null,"Sports & Recreation",null,"Spanish",null,"Reinforced Library",null,16,null,null,null,null,null,"K & Up",null,"Mari Schuh"]
[{"$f":"A254","v":0},null,{"$f":"C254","v":0},null,{"$f":"E254","v":0},null,9781645492139,null,9781645491873,null,"Porrismo (Cheerleading)",null,null,null,"Deportes (Spot Sports)",null,null,null,"Amicus",null,42.85,null,20.95,null,25.95,null,0,null,null,null,null,null,0,0,0,0,0,0,0,0,0,0,0,0,0,0,0,"Spring 2021",null,2021,null,"791.6/4",null,null,null,49,null,29.95,null,"Spot",null,1.4,null,"Sports & Recreation",null,"Spanish",null,"Reinforced Library",null,16,null,null,null,null,null,"K & Up",null,"Mari Schuh"]
[{"$f":"A254","v":0},null,{"$f":"C254","v":0},null,{"$f":"E254","v":0},null,9781645492177,null,9781645491910,null,"Sofbol (Softball)",null,null,null,"Deportes (Spot Sports)",null,null,null,"Amicus",null,42.85,null,20.95,null,25.95,null,0,null,null,null,null,null,0,0,0,0,0,0,0,0,0,0,0,0,0,0,0,"Spring 2021",null,2021,null,"796.357/8",null,null,null,49,null,29.95,null,"Spot",null,1.2,null,"Sports & Recreation",null,"Spanish",null,"Reinforced Library",null,16,null,null,null,null,null,"K & Up",null,"Mari Schuh"]
[{"$f":"A254","v":0},null,{"$f":"C254","v":0},null,{"$f":"E254","v":0},null,9781645492184,null,9781645491927,null,"Tenis (Tennis)",null,null,null,"Deportes (Spot Sports)",null,null,null,"Amicus",null,42.85,null,20.95,null,25.95,null,0,null,null,null,null,null,0,0,0,0,0,0,0,0,0,0,0,0,0,0,0,"Spring 2021",null,2021,null,796.34199999999998,null,null,null,49,null,29.95,null,"Spot",null,0.7,null,"Sports & Recreation",null,"Spanish",null,"Reinforced Library",null,16,null,null,null,null,null,"K & Up",null,"Mari Schuh"]
[]
[null,null,null,null,null,null,null,null,null,null,"Complete Series of 6",null,null,null,"Deportes olímpicos de verano (Summer Olympic Sports)",null,null,null,null,null,{"$f":"SUM(U265:U270)","v":306.3},null,{"$f":"SUM(W265:W270)","v":149.69999999999999},null,{"$f":"SUM(Y265:Y270)","v":179.7}]
[{"$f":"A264","v":0},null,{"$f":"C264","v":0},null,{"$f":"E264","v":0},null,9781681519258,null,9781681518992,null,"El atletismo (Track & Field)",null,null,null,"Deportes olímpicos de verano (Summer Olympic Sports)",null,null,null,"Amicus",null,51.05,null,24.95,null,{"$f":"W265+5","v":29.95},null,{"$f":"IF(AC265=FALSE,AT265,0)","v":0},null,null,null,null,null,{"$f":"IF(AND(A265>=1,AC265=\"\"),A265,0)","v":0},{"$f":"IF(AND(A265>=1,AC265=\"x\"),A265,0)","v":0},{"$f":"IF(AND(A265>=1,AC265=\"\"),U265,0)","v":0},{"$f":"IF(AND(A265>=1,AC265=\"x\"),-U265,0)","v":0},{"$f":"IF(AND(C265>=1,AC265=\"\"),C265,0)","v":0},{"$f":"IF(AND(C265>=1,AC265=\"x\"),C265,0)","v":0},{"$f":"IF(AND(C265>=1,AC265=\"\"),W265*C265,0)","v":0},{"$f":"IF(AND(C265>=1,AC265=\"x\"),-W265*C265,0)","v":0},{"$f":"E265","v":0},{"$f":"Y265*E265","v":0},{"$f":"AG265+AK265+AO265","v":0},{"$f":"AH265+AL265","v":0},{"$f":"AQ265+AR265","v":0},{"$f":"AI265+AM265+AP265","v":0},{"$f":"AJ265+AN265","v":0},"Spring 2020",null,2020,null,796.42,null,"BL",null,50,null,35.700000000000003,null,"Amicus High Interest",null,3.6,null,"Sports & Recreation",null,"Spanish",null,"Reinforced Library",null,32,null,null,null,null,null,"1 - 4",null,"M. K. Osborne"]
[{"$f":"A264","v":0},null,{"$f":"C264","v":0},null,{"$f":"E264","v":0},null,9781681519210,null,9781681518954,null,"El baloncesto (Basketball)",null,null,null,"Deportes olímpicos de verano (Summer Olympic Sports)",null,null,null,"Amicus",null,51.05,null,24.95,null,29.95,null,0,null,null,null,null,null,0,0,0,0,0,0,0,0,0,0,0,0,0,0,0,"Spring 2020",null,2020,null,796.32299999999998,null,"BL",null,50,null,35.700000000000003,null,"Amicus High Interest",null,3.7,null,"Sports & Recreation",null,"Spanish",null,"Reinforced Library",null,32,null,null,null,null,null,"1 - 4",null,"M. K. Osborne"]
[{"$f":"A264","v":0},null,{"$f":"C264","v":0},null,{"$f":"E264","v":0},null,9781681519265,null,9781681519005,null,"El vóleibol (Volleyball)",null,null,null,"Deportes olímpicos de verano (Summer Olympic Sports)",null,null,null,"Amicus",null,51.05,null,24.95,null,29.95,null,0,null,null,null,null,null,0,0,0,0,0,0,0,0,0,0,0,0,0,0,0,"Spring 2020",null,2020,null,796.32500000000005,null,"BL",null,50,null,35.700000000000003,null,"Amicus High Interest",null,3.7,null,"Sports & Recreation",null,"Spanish",null,"Reinforced Library",null,32,null,null,null,null,null,"1 - 4",null,"M. K. Osborne"]
[{"$f":"A264","v":0},null,{"$f":"C264","v":0},null,{"$f":"E264","v":0},null,9781681519234,null,9781681518978,null,"La gimnasia (Gymnastics)",null,null,null,"Deportes olímpicos de verano (Summer Olympic Sports)",null,null,null,"Amicus",null,51.05,null,24.95,null,29.95,null,0,null,null,null,null,null,0,0,0,0,0,0,0,0,0,0,0,0,0,0,0,"Spring 2020",null,2020,null,796.44,null,"BL",null,50,null,35.700000000000003,null,"Amicus High Interest",null,4.0999999999999996,null,"Sports & Recreation",null,"Spanish",null,"Reinforced Library",null,32,null,null,null,null,null,"1 - 4",null,"M. K. Osborne"]
[{"$f":"A264","v":0},null,{"$f":"C264","v":0},null,{"$f":"E264","v":0},null,9781681519241,null,9781681518985,null,"La natación y los saltos ornamentales (Swimmming & Diving)",null,null,null,"Deportes olímpicos de verano (Summer Olympic Sports)",null,null,null,"Amicus",null,51.05,null,24.95,null,29.95,null,0,null,null,null,null,null,0,0,0,0,0,0,0,0,0,0,0,0,0,0,0,"Spring 2020",null,2020,null,797.2,null,"BL",null,50,null,35.700000000000003,null,"Amicus High Interest",null,3.5,null,"Sports & Recreation",null,"Spanish",null,"Reinforced Library",null,32,null,null,null,null,null,"1 - 4",null,"M. K. Osborne"]
[{"$f":"A264","v":0},null,{"$f":"C264","v":0},null,{"$f":"E264","v":0},null,9781681519227,null,9781681518961,null,"Los deportes de combate (Combat Sports)",null,null,null,"Deportes olímpicos de verano (Summer Olympic Sports)",null,null,null,"Amicus",null,51.05,null,24.95,null,29.95,null,0,null,null,null,null,null,0,0,0,0,0,0,0,0,0,0,0,0,0,0,0,"Spring 2020",null,2020,null,796.8,null,"BL",null,50,null,35.700000000000003,null,"Amicus High Interest",null,3.8,null,"Sports & Recreation",null,"Spanish",null,"Reinforced Library",null,32,null,null,null,null,null,"1 - 4",null,"M. K. Osborne"]
[]
[null,null,null,null,null,null,null,null,null,null,"Complete Series of 5",null,null,null,"Digging for Dinosaurs",null,null,null,null,null,{"$f":"SUM(U273:U277)","v":0},null,{"$f":"SUM(W273:W277)","v":124.75},null,{"$f":"SUM(Y273:Y277)","v":0}]
[null,null,{"$f":"C272","v":0},null,null,null,"Not Available",null,9781607533658,null,"Apatosaurus",null,null,null,"Digging for Dinosaurs",null,null,null,"Amicus",null,0,null,24.95,null,0,null,{"$f":"IF(AC273=FALSE,AT273,0)","v":0},null,null,null,null,null,{"$f":"IF(AND(A273>=1,AC273=\"\"),A273,0)","v":0},{"$f":"IF(AND(A273>=1,AC273=\"x\"),A273,0)","v":0},{"$f":"IF(AND(A273>=1,AC273=\"\"),U273,0)","v":0},{"$f":"IF(AND(A273>=1,AC273=\"x\"),-U273,0)","v":0},{"$f":"IF(AND(C273>=1,AC273=\"\"),C273,0)","v":0},{"$f":"IF(AND(C273>=1,AC273=\"x\"),C273,0)","v":0},{"$f":"IF(AND(C273>=1,AC273=\"\"),W273*C273,0)","v":0},{"$f":"IF(AND(C273>=1,AC273=\"x\"),-W273*C273,0)","v":0},{"$f":"E273","v":0},{"$f":"Y273*E273","v":0},{"$f":"AG273+AK273+AO273","v":0},{"$f":"AH273+AL273","v":0},{"$f":"AQ273+AR273","v":0},{"$f":"AI273+AM273+AP273","v":0},{"$f":"AJ273+AN273","v":0},"Fall 2013",null,2014,null,"567.913/8",null,null,null,"Website",null,35.700000000000003,null,"Amicus High Interest",null,3,null,"Animals",null,"English",null,"Reinforced Library",null,32,null,"L",null,"540L",null,"2 – 5",null,"Barbara Alpert"]
[null,null,{"$f":"C272","v":0},null,null,null,"Not Available",null,9781607533665,null,"Pterodactyl",null,null,null,"Digging for Dinosaurs",null,null,null,"Amicus",null,0,null,24.95,null,0,null,{"$f":"IF(AC274=FALSE,AT274,0)","v":0},null,null,null,null,null,{"$f":"IF(AND(A274>=1,AC274=\"\"),A274,0)","v":0},{"$f":"IF(AND(A274>=1,AC274=\"x\"),A274,0)","v":0},{"$f":"IF(AND(A274>=1,AC274=\"\"),U274,0)","v":0},{"$f":"IF(AND(A274>=1,AC274=\"x\"),-U274,0)","v":0},0,0,0,0,{"$f":"E274","v":0},{"$f":"Y274*E274","v":0},{"$f":"AG274+AK274+AO274","v":0},{"$f":"AH274+AL274","v":0},{"$f":"AQ274+AR274","v":0},{"$f":"AI274+AM274+AP274","v":0},{"$f":"AJ274+AN274","v":0},"Fall 2013",null,2014,null,567.91800000000001,null,null,null,"Website",null,35.700000000000003,null,"Amicus High Interest",null,3,null,"Animals",null,"English",null,"Reinforced Library",null,32,null,"L",null,"550L",null,"2 – 5",null,"Barbara Alpert"]
[null,null,{"$f":"C272","v":0},null,null,null,"Not Available",null,9781607533672,null,"Stegosaurus",null,null,null,"Digging for Dinosaurs",null,null,null,"Amicus",null,0,null,24.95,null,0,null,{"$f":"IF(AC275=FALSE,AT275,0)","v":0},null,null,null,null,null,{"$f":"IF(AND(A275>=1,AC275=\"\"),A275,0)","v":0},{"$f":"IF(AND(A275>=1,AC275=\"x\"),A275,0)","v":0},{"$f":"IF(AND(A275>=1,AC275=\"\"),U275,0)","v":0},{"$f":"IF(AND(A275>=1,AC275=\"x\"),-U275,0)","v":0},0,0,0,0,{"$f":"E275","v":0},{"$f":"Y275*E275","v":0},{"$f":"AG275+AK275+AO275","v":0},{"$f":"AH275+AL275","v":0},{"$f":"AQ275+AR275","v":0},{"$f":"AI275+AM275+AP275","v":0},{"$f":"AJ275+AN275","v":0},"Fall 2013",null,2014,null,"567.915/3",null,null,null,"Website",null,35.700000000000003,null,"Amicus High Interest",null,2.9,null,"Animals",null,"English",null,"Reinforced Library",null,32,null,"L",null,"540L",null,"2 – 5",null,"Barbara Alpert"]
[null,null,{"$f":"C272","v":0},null,null,null,"Not Available",null,9781607533696,null,"Tyrannosaurus Rex",null,null,null,"Digging for Dinosaurs",null,null,null,"Amicus",null,0,null,24.95,null,0,null,{"$f":"IF(AC276=FALSE,AT276,0)","v":0},null,null,null,null,null,{"$f":"IF(AND(A276>=1,AC276=\"\"),A276,0)","v":0},{"$f":"IF(AND(A276>=1,AC276=\"x\"),A276,0)","v":0},{"$f":"IF(AND(A276>=1,AC276=\"\"),U276,0)","v":0},{"$f":"IF(AND(A276>=1,AC276=\"x\"),-U276,0)","v":0},0,0,0,0,{"$f":"E276","v":0},{"$f":"Y276*E276","v":0},{"$f":"AG276+AK276+AO276","v":0},{"$f":"AH276+AL276","v":0},{"$f":"AQ276+AR276","v":0},{"$f":"AI276+AM276+AP276","v":0},{"$f":"AJ276+AN276","v":0},"Fall 2013",null,2014,null,567.91200000000003,null,null,null,"Website",null,35.700000000000003,null,"Amicus High Interest",null,3.1,null,"Animals",null,"English",null,"Reinforced Library",null,32,null,"L",null,"470L",null,"2 – 5",null,"Barbara Alpert"]
[null,null,{"$f":"C272","v":0},null,null,null,"Not Available",null,9781607533702,null,"Velociraptor",null,null,null,"Digging for Dinosaurs",null,null,null,"Amicus",null,0,null,24.95,null,0,null,{"$f":"IF(AC277=FALSE,AT277,0)","v":0},null,null,null,null,null,{"$f":"IF(AND(A277>=1,AC277=\"\"),A277,0)","v":0},{"$f":"IF(AND(A277>=1,AC277=\"x\"),A277,0)","v":0},{"$f":"IF(AND(A277>=1,AC277=\"\"),U277,0)","v":0},{"$f":"IF(AND(A277>=1,AC277=\"x\"),-U277,0)","v":0},0,0,0,0,{"$f":"E277","v":0},{"$f":"Y277*E277","v":0},{"$f":"AG277+AK277+AO277","v":0},{"$f":"AH277+AL277","v":0},{"$f":"AQ277+AR277","v":0},{"$f":"AI277+AM277+AP277","v":0},{"$f":"AJ277+AN277","v":0},"Fall 2013",null,2014,null,567.91200000000003,null,null,null,"Website",null,35.700000000000003,null,"Amicus High Interest",null,3,null,"Animals",null,"English",null,"Reinforced Library",null,32,null,"L",null,"550L",null,"2 – 5",null,"Barbara Alpert"]
[]
[null,null,null,null,null,null,null,null,null,null,"Complete Series of 9",null,null,null,"Do You Really Want a Pet?",null,null,null,null,null,{"$f":"SUM(U280:U288)","v":0},null,{"$f":"SUM(W280:W288)","v":215.54999999999995},null,{"$f":"SUM(Y280:Y288)","v":0}]
[null,null,{"$f":"C279","v":0},null,null,null,"Not Available",null,9781607532057,null,"Do You Really Want a Bird?",null,null,null,"Do You Really Want a Pet?",null,null,null,"Amicus",null,0,null,23.95,null,0,null,{"$f":"IF(AC280=FALSE,AT280,0)","v":0},null,null,null,null,null,{"$f":"IF(AND(A280>=1,AC280=\"\"),A280,0)","v":0},{"$f":"IF(AND(A280>=1,AC280=\"x\"),A280,0)","v":0},{"$f":"IF(AND(A280>=1,AC280=\"\"),U280,0)","v":0},{"$f":"IF(AND(A280>=1,AC280=\"x\"),-U280,0)","v":0},{"$f":"IF(AND(C280>=1,AC280=\"\"),C280,0)","v":0},{"$f":"IF(AND(C280>=1,AC280=\"x\"),C280,0)","v":0},{"$f":"IF(AND(C280>=1,AC280=\"\"),W280*C280,0)","v":0},{"$f":"IF(AND(C280>=1,AC280=\"x\"),-W280*C280,0)","v":0},{"$f":"E280","v":0},{"$f":"Y280*E280","v":0},{"$f":"AG280+AK280+AO280","v":0},{"$f":"AH280+AL280","v":0},{"$f":"AQ280+AR280","v":0},{"$f":"AI280+AM280+AP280","v":0},{"$f":"AJ280+AN280","v":0},"Fall 2013",null,2014,null,"636.6/8",null,null,null,40,null,34.25,null,"Amicus Illustrated",null,2.5,null,"Animals",null,"English",null,"Reinforced Library",null,24,null,"I",null,"540L",null,"2 – 5",null,"Bridget Heos"]
[null,null,{"$f":"C279","v":0},null,null,null,"Not Available",null,9781607532033,null,"Do You Really Want a Cat?",null,null,null,"Do You Really Want a Pet?",null,null,null,"Amicus",null,0,null,23.95,null,0,null,0,null,null,null,null,null,0,0,0,0,0,0,0,0,0,0,0,0,0,0,0,"Fall 2013",null,2014,null,636.79999999999995,null,null,null,40,null,34.25,null,"Amicus Illustrated",null,2.2000000000000002,null,"Animals",null,"English",null,"Reinforced Library",null,24,null,"I",null,"520L",null,"2 – 5",null,"Bridget Heos"]
[null,null,{"$f":"C279","v":0},null,null,null,"Not Available",null,9781607532040,null,"Do You Really Want a Dog?",null,null,null,"Do You Really Want a Pet?",null,null,null,"Amicus",null,0,null,23.95,null,0,null,0,null,null,null,null,null,0,0,0,0,0,0,0,0,0,0,0,0,0,0,0,"Fall 2013",null,2014,null,636.70000000000005,null,null,null,40,null,34.25,null,"Amicus Illustrated",null,2.2999999999999998,null,"Animals",null,"English",null,"Reinforced Library",null,24,null,"I",null,"530L",null,"2 – 5",null,"Bridget Heos"]
[null,null,{"$f":"C279","v":0},null,null,null,"Not Available",null,9781607537496,null,"Do You Really Want a Guinea Pig?",null,null,null,"Do You Really Want a Pet?",null,null,null,"Amicus",null,0,null,23.95,null,0,null,0,null,null,null,null,null,0,0,0,0,0,0,0,0,0,0,0,0,0,0,0,"Fall 2015",null,2016,null,"636.935/92",null,null,null,40,null,34.25,null,"Amicus Illustrated",null,2.7,null,"Animals",null,"English",null,"Reinforced Library",null,24,null,"J",null,"470L",null,"2 – 5",null,"Bridget Heos"]
[null,null,{"$f":"C279","v":0},null,null,null,"Not Available",null,9781607532064,null,"Do You Really Want a Hamster?",null,null,null,"Do You Really Want a Pet?",null,null,null,"Amicus",null,0,null,23.95,null,0,null,0,null,null,null,null,null,0,0,0,0,0,0,0,0,0,0,0,0,0,0,0,"Fall 2013",null,2014,null,"636.935/6",null,null,null,40,null,34.25,null,"Amicus Illustrated",null,2.4,null,"Animals",null,"English",null,"Reinforced Library",null,24,null,"J",null,"530L",null,"2 – 5",null,"Bridget Heos"]
[null,null,{"$f":"C279","v":0},null,null,null,"Not Available",null,9781607532071,null,"Do You Really Want a Horse?",null,null,null,"Do You Really Want a Pet?",null,null,null,"Amicus",null,0,null,23.95,null,0,null,0,null,null,null,null,null,0,0,0,0,0,0,0,0,0,0,0,0,0,0,0,"Fall 2013",null,2014,null,636.1,null,null,null,40,null,34.25,null,"Amicus Illustrated",null,2.4,null,"Animals",null,"English",null,"Reinforced Library",null,24,null,"J",null,"510L",null,"2 – 5",null,"Bridget Heos"]
[null,null,{"$f":"C279","v":0},null,null,null,"Not Available",null,9781607537502,null,"Do You Really Want a Lizard?",null,null,null,"Do You Really Want a Pet?",null,null,null,"Amicus",null,0,null,23.95,null,0,null,0,null,null,null,null,null,0,0,0,0,0,0,0,0,0,0,0,0,0,0,0,"Fall 2015",null,2016,null,"639.3/95",null,null,null,40,null,34.25,null,"Amicus Illustrated",null,2.8,null,"Animals",null,"English",null,"Reinforced Library",null,24,null,"J",null,"560L",null,"2 – 5",null,"Bridget Heos"]
[null,null,{"$f":"C279","v":0},null,null,null,"Not Available",null,9781607532088,null,"Do You Really Want a Rabbit?",null,null,null,"Do You Really Want a Pet?",null,null,null,"Amicus",null,0,null,23.95,null,0,null,0,null,null,null,null,null,0,0,0,0,0,0,0,0,0,0,0,0,0,0,0,"Fall 2013",null,2014,null,636.93499999999995,null,null,null,40,null,34.25,null,"Amicus Illustrated",null,2.5,null,"Animals",null,"English",null,"Reinforced Library",null,24,null,"J",null,"520L",null,"2 – 5",null,"Bridget Heos"]
[null,null,{"$f":"C279","v":0},null,null,null,"Not Available",null,9781607537519,null,"Do You Really Want a Snake?",null,null,null,"Do You Really Want a Pet?",null,null,null,"Amicus",null,0,null,23.95,null,0,null,0,null,null,null,null,null,0,0,0,0,0,0,0,0,0,0,0,0,0,0,0,"Fall 2015",null,2016,null,"639.3/96",null,null,null,40,null,34.25,null,"Amicus Illustrated",null,2.9,null,"Animals",null,"English",null,"Reinforced Library",null,24,null,"J",null,"490L",null,"2 – 5",null,"Bridget Heos"]
[]
[null,null,null,null,null,null,null,null,null,null,"Complete Series of 12",null,null,null,"Do You Really Want to Meet a Dinosaur?",null,null,null,null,null,{"$f":"SUM(U291:U302)","v":588},null,{"$f":"SUM(W291:W302)","v":287.39999999999992},null,{"$f":"SUM(Y291:Y302)","v":347.39999999999992}]
[{"$f":"A290","v":0},null,{"$f":"C290","v":0},null,{"$f":"E290","v":0},null,9781681512037,null,9781681511139,null,"Do You Really Want to Meet a Pterosaur?",null,null,null,"Do You Really Want to Meet a Dinosaur?",null,null,null,"Amicus",null,49,null,23.95,null,{"$f":"W291+5","v":28.95},null,{"$f":"IF(AC291=FALSE,AT291,0)","v":0},null,null,null,null,null,{"$f":"IF(AND(A291>=1,AC291=\"\"),A291,0)","v":0},{"$f":"IF(AND(A291>=1,AC291=\"x\"),A291,0)","v":0},{"$f":"IF(AND(A291>=1,AC291=\"\"),U291,0)","v":0},{"$f":"IF(AND(A291>=1,AC291=\"x\"),-U291,0)","v":0},{"$f":"IF(AND(C291>=1,AC291=\"\"),C291,0)","v":0},{"$f":"IF(AND(C291>=1,AC291=\"x\"),C291,0)","v":0},{"$f":"IF(AND(C291>=1,AC291=\"\"),W291*C291,0)","v":0},{"$f":"IF(AND(C291>=1,AC291=\"x\"),-W291*C291,0)","v":0},{"$f":"E291","v":0},{"$f":"Y291*E291","v":0},{"$f":"AG291+AK291+AO291","v":0},{"$f":"AH291+AL291","v":0},{"$f":"AQ291+AR291","v":0},{"$f":"AI291+AM291+AP291","v":0},{"$f":"AJ291+AN291","v":0},"Fall 2017",null,2018,null,567.91800000000001,null,null,null,40,null,34.25,null,"Amicus Illustrated",null,2.5,null,"Animals",null,"English",null,"Reinforced Library",null,24,null,"J",null,"560L",null,"K - 3",null,"Annette Bay Pimentel"]
[{"$f":"A290","v":0},null,{"$f":"C290","v":0},null,{"$f":"E290","v":0},null,9781681517902,null,9781681517087,null,"Do You Really Want to Meet Allosaurus?",null,null,null,"Do You Really Want to Meet a Dinosaur?",null,null,null,"Amicus",null,49,null,23.95,null,28.95,null,0,null,null,null,null,null,0,0,0,0,0,0,0,0,0,0,0,0,0,0,0,"Fall 2019",null,2020,null,567.91200000000003,null,null,null,40,null,34.25,null,"Amicus Illustrated",null,2.4,null,"Animals",null,"English",null,"Reinforced Library",null,24,null,"J",null,"500L",null,"K - 3",null,"Annette Bay Pimentel"]
[{"$f":"A290","v":0},null,{"$f":"C290","v":0},null,{"$f":"E290","v":0},null,9781681517919,null,9781681517094,null,"Do You Really Want to Meet Ankylosaurus?",null,null,null,"Do You Really Want to Meet a Dinosaur?",null,null,null,"Amicus",null,49,null,23.95,null,28.95,null,0,null,null,null,null,null,0,0,0,0,0,0,0,0,0,0,0,0,0,0,0,"Fall 2019",null,2020,null,567.91499999999996,null,null,null,40,null,34.25,null,"Amicus Illustrated",null,2.2999999999999998,null,"Animals",null,"English",null,"Reinforced Library",null,24,null,"J",null,"510L",null,"K - 3",null,"Annette Bay Pimentel"]
[{"$f":"A290","v":0},null,{"$f":"C290","v":0},null,{"$f":"E290","v":0},null,9781681512020,null,9781681511122,null,"Do You Really Want to Meet Apatosaurus?",null,null,null,"Do You Really Want to Meet a Dinosaur?",null,null,null,"Amicus",null,49,null,23.95,null,28.95,null,0,null,null,null,null,null,0,0,0,0,0,0,0,0,0,0,0,0,0,0,0,"Fall 2017",null,2018,null,"567.913/8",null,null,null,40,null,34.25,null,"Amicus Illustrated",null,2.4,null,"Animals",null,"English",null,"Reinforced Library",null,24,null,"J",null,"500L",null,"K - 3",null,"Annette Bay Pimentel"]
[{"$f":"A290","v":0},null,{"$f":"C290","v":0},null,{"$f":"E290","v":0},null,9781681517889,null,9781681517063,null,"Do You Really Want to Meet Diplodocus?",null,null,null,"Do You Really Want to Meet a Dinosaur?",null,null,null,"Amicus",null,49,null,23.95,null,28.95,null,0,null,null,null,null,null,0,0,0,0,0,0,0,0,0,0,0,0,0,0,0,"Fall 2019",null,2020,null,567.91300000000001,null,null,null,40,null,34.25,null,"Amicus Illustrated",null,2.4,null,"Animals",null,"English",null,"Reinforced Library",null,24,null,"J",null,"500L",null,"K - 3",null,"Annette Bay Pimentel"]
[{"$f":"A290","v":0},null,{"$f":"C290","v":0},null,{"$f":"E290","v":0},null,9781681517926,null,9781681517100,null,"Do You Really Want to Meet Edmontosaurus?",null,null,null,"Do You Really Want to Meet a Dinosaur?",null,null,null,"Amicus",null,49,null,23.95,null,28.95,null,0,null,null,null,null,null,0,0,0,0,0,0,0,0,0,0,0,0,0,0,0,"Fall 2019",null,2020,null,567.91399999999999,null,null,null,40,null,34.25,null,"Amicus Illustrated",null,2.5,null,"Animals",null,"English",null,"Reinforced Library",null,24,null,"J",null,"500L",null,"K - 3",null,"Annette Bay Pimentel"]
[{"$f":"A290","v":0},null,{"$f":"C290","v":0},null,{"$f":"E290","v":0},null,9781681517933,null,9781681517117,null,"Do You Really Want to Meet Iguanodon?",null,null,null,"Do You Really Want to Meet a Dinosaur?",null,null,null,"Amicus",null,49,null,23.95,null,28.95,null,0,null,null,null,null,null,0,0,0,0,0,0,0,0,0,0,0,0,0,0,0,"Fall 2019",null,2020,null,567.91399999999999,null,null,null,40,null,34.25,null,"Amicus Illustrated",null,2.6,null,"Animals",null,"English",null,"Reinforced Library",null,24,null,"J",null,"530L",null,"K - 3",null,"Annette Bay Pimentel"]
[{"$f":"A290","v":0},null,{"$f":"C290","v":0},null,{"$f":"E290","v":0},null,9781681517896,null,9781681517070,null,"Do You Really Want to Meet Spinosaurus?",null,null,null,"Do You Really Want to Meet a Dinosaur?",null,null,null,"Amicus",null,49,null,23.95,null,28.95,null,0,null,null,null,null,null,0,0,0,0,0,0,0,0,0,0,0,0,0,0,0,"Fall 2019",null,2020,null,567.91200000000003,null,null,null,40,null,34.25,null,"Amicus Illustrated",null,2.2999999999999998,null,"Animals",null,"English",null,"Reinforced Library",null,24,null,"J",null,"540L",null,"K - 3",null,"Annette Bay Pimentel"]
[{"$f":"A290","v":0},null,{"$f":"C290","v":0},null,{"$f":"E290","v":0},null,9781681512044,null,9781681511146,null,"Do You Really Want to Meet Stegosaurus?",null,null,null,"Do You Really Want to Meet a Dinosaur?",null,null,null,"Amicus",null,49,null,23.95,null,28.95,null,0,null,null,null,null,null,0,0,0,0,0,0,0,0,0,0,0,0,0,0,0,"Fall 2017",null,2018,null,"567.915/3",null,null,null,40,null,34.25,null,"Amicus Illustrated",null,2.4,null,"Animals",null,"English",null,"Reinforced Library",null,24,null,"J",null,"560L",null,"K - 3",null,"Annette Bay Pimentel"]
[{"$f":"A290","v":0},null,{"$f":"C290","v":0},null,{"$f":"E290","v":0},null,9781681512051,null,9781681511153,null,"Do You Really Want to Meet Triceratops?",null,null,null,"Do You Really Want to Meet a Dinosaur?",null,null,null,"Amicus",null,49,null,23.95,null,28.95,null,0,null,null,null,null,null,0,0,0,0,0,0,0,0,0,0,0,0,0,0,0,"Fall 2017",null,2018,null,"567.915/8",null,null,null,40,null,34.25,null,"Amicus Illustrated",null,2.6,null,"Animals",null,"English",null,"Reinforced Library",null,24,null,"J",null,"530L",null,"K - 3",null,"Annette Bay Pimentel"]
[{"$f":"A290","v":0},null,{"$f":"C290","v":0},null,{"$f":"E290","v":0},null,9781681512068,null,9781681511160,null,"Do You Really Want to Meet Tyrannosaurus Rex?",null,null,null,"Do You Really Want to Meet a Dinosaur?",null,null,null,"Amicus",null,49,null,23.95,null,28.95,null,0,null,null,null,null,null,0,0,0,0,0,0,0,0,0,0,0,0,0,0,0,"Fall 2017",null,2018,null,"567.912/9",null,null,null,40,null,34.25,null,"Amicus Illustrated",null,2.6,null,"Animals",null,"English",null,"Reinforced Library",null,24,null,"J",null,"560L",null,"K - 3",null,"Annette Bay Pimentel"]
[{"$f":"A290","v":0},null,{"$f":"C290","v":0},null,{"$f":"E290","v":0},null,9781681512075,null,9781681511177,null,"Do You Really Want to Meet Velociraptor?",null,null,null,"Do You Really Want to Meet a Dinosaur?",null,null,null,"Amicus",null,49,null,23.95,null,28.95,null,0,null,null,null,null,null,0,0,0,0,0,0,0,0,0,0,0,0,0,0,0,"Fall 2017",null,2018,null,567.91200000000003,null,null,null,40,null,34.25,null,"Amicus Illustrated",null,2.5,null,"Animals",null,"English",null,"Reinforced Library",null,24,null,"J",null,"540L",null,"K - 3",null,"Annette Bay Pimentel"]
[]
[null,null,null,null,null,null,null,null,null,null,"Complete Series of 24",null,null,null,"Do You Really Want to Meet…?",null,null,null,null,null,{"$f":"SUM(U305:U328)","v":294},null,{"$f":"SUM(W305:W328)","v":574.79999999999995},null,{"$f":"SUM(Y305:Z328)","v":173.7}]
[null,null,{"$f":"C304","v":0},null,null,null,"Not Available",null,9781607539445,null,"Do You Really Want to Meet a Badger?",null,null,null,"Do You Really Want to Meet…?",null,null,null,"Amicus",null,0,null,23.95,null,0,null,{"$f":"IF(AC305=FALSE,AT305,0)","v":0},null,null,null,null,null,{"$f":"IF(AND(A305>=1,AC305=\"\"),A305,0)","v":0},{"$f":"IF(AND(A305>=1,AC305=\"x\"),A305,0)","v":0},{"$f":"IF(AND(A305>=1,AC305=\"\"),U305,0)","v":0},{"$f":"IF(AND(A305>=1,AC305=\"x\"),-U305,0)","v":0},{"$f":"IF(AND(C305>=1,AC305=\"\"),C305,0)","v":0},{"$f":"IF(AND(C305>=1,AC305=\"x\"),C305,0)","v":0},{"$f":"IF(AND(C305>=1,AC305=\"\"),W305*C305,0)","v":0},{"$f":"IF(AND(C305>=1,AC305=\"x\"),-W305*C305,0)","v":0},{"$f":"E305","v":0},{"$f":"Y305*E305","v":0},{"$f":"AG305+AK305+AO305","v":0},{"$f":"AH305+AL305","v":0},{"$f":"AQ305+AR305","v":0},{"$f":"AI305+AM305+AP305","v":0},{"$f":"AJ305+AN305","v":0},"Fall 2016",null,2017,null,"599.76/7",null,"BL",null,40,null,34.25,null,"Amicus Illustrated",null,2.4,null,"Animals",null,"English",null,"Reinforced Library",null,24,null,"J",null,"540L",null,"K - 3",null,"Bridget Heos"]
[null,null,{"$f":"C304","v":0},null,null,null,"Not Available",null,9781607539452,null,"Do You Really Want to Meet a Camel?",null,null,null,"Do You Really Want to Meet…?",null,null,null,"Amicus",null,0,null,23.95,null,0,null,0,null,null,null,null,null,0,0,0,0,0,0,0,0,0,0,0,0,0,0,0,"Fall 2016",null,2017,null,"599.63/62",null,"BL",null,40,null,34.25,null,"Amicus Illustrated",null,2.6,null,"Animals",null,"English",null,"Reinforced Library",null,24,null,"J",null,"550L",null,"K - 3",null,"Bridget Heos"]
[null,null,{"$f":"C304","v":0},null,null,null,"Not Available",null,9781607537380,null,"Do You Really Want to Meet a Cape Buffalo?",null,null,null,"Do You Really Want to Meet…?",null,null,null,"Amicus",null,0,null,23.95,null,0,null,0,null,null,null,null,null,0,0,0,0,0,0,0,0,0,0,0,0,0,0,0,"Fall 2015",null,2016,null," 599.64/2",null,"BL",null,40,null,34.25,null,"Amicus Illustrated",null,2.6,null,"Animals",null,"English",null,"Reinforced Library",null,24,null,"J",null,"510L",null,"K - 3",null,"Cari Meister"]
[{"$f":"A304","v":0},null,{"$f":"C304","v":0},null,{"$f":"E304","v":0},null,9781681514727,null,9781681513904,null,"Do You Really Want to Meet a Cheetah?",null,null,null,"Do You Really Want to Meet…?",null,null,null,"Amicus",null,49,null,23.95,null,{"$f":"W308+5","v":28.95},null,0,null,null,null,null,null,0,0,0,0,0,0,0,0,0,0,0,0,0,0,0,"Fall 2018",null,2019,null,"599.75/9",null,"BL",null,40,null,34.25,null,"Amicus Illustrated",null,2.1,null,"Animals",null,"English",null,"Reinforced Library",null,24,null,"J",null,"520L",null,"K - 3",null,"Cari Meister"]
[{"$f":"A304","v":0},null,{"$f":"C304","v":0},null,{"$f":"E304","v":0},null,9781681514734,null,9781681513911,null,"Do You Really Want to Meet a Chimpanzee?",null,null,null,"Do You Really Want to Meet…?",null,null,null,"Amicus",null,49,null,23.95,null,{"$f":"W309+5","v":28.95},null,0,null,null,null,null,null,0,0,0,0,0,0,0,0,0,0,0,0,0,0,0,"Fall 2018",null,2019,null,599.88499999999999,null,"BL",null,40,null,34.25,null,"Amicus Illustrated",null,2.2000000000000002,null,"Animals",null,"English",null,"Reinforced Library",null,24,null,"J",null,"500L",null,"K - 3",null,"Cari Meister"]
[null,null,{"$f":"C304","v":0},null,null,null,"Not Available",null,9781607534570,null,"Do You Really Want to Meet a Crocodile?",null,null,null,"Do You Really Want to Meet…?",null,null,null,"Amicus",null,0,null,23.95,null,0,null,0,null,null,null,null,null,0,0,0,0,0,0,0,0,0,0,0,0,0,0,0,"Fall 2014",null,2015,null,"597.98/2",null,"BL",null,40,null,34.25,null,"Amicus Illustrated",null,2.5,null,"Animals",null,"English",null,"Reinforced Library",null,24,null,"J",null,"480L",null,"K - 3",null,"Cari Meister"]
[{"$f":"A304","v":0},null,{"$f":"C304","v":0},null,{"$f":"E304","v":0},null,9781681514741,null,9781681513928,null,"Do You Really Want to Meet a Fox?",null,null,null,"Do You Really Want to Meet…?",null,null,null,"Amicus",null,49,null,23.95,null,{"$f":"W311+5","v":28.95},null,0,null,null,null,null,null,0,0,0,0,0,0,0,0,0,0,0,0,0,0,0,"Fall 2018",null,2019,null,599.77499999999998,null,"BL",null,40,null,34.25,null,"Amicus Illustrated",null,2.1,null,"Animals",null,"English",null,"Reinforced Library",null,24,null,"J",null,"510L",null,"K - 3",null,"Cari Meister"]
[null,null,{"$f":"C304","v":0},null,null,null,"Not Available",null,9781607539469,null,"Do You Really Want to Meet a Hippopotamus?",null,null,null,"Do You Really Want to Meet…?",null,null,null,"Amicus",null,0,null,23.95,null,0,null,0,null,null,null,null,null,0,0,0,0,0,0,0,0,0,0,0,0,0,0,0,"Fall 2016",null,2017,null,"599.63/5",null,"BL",null,40,null,34.25,null,"Amicus Illustrated",null,2.6,null,"Animals",null,"English",null,"Reinforced Library",null,24,null,"J",null,"500L",null,"K - 3",null,"Bridget Heos"]
[null,null,{"$f":"C304","v":0},null,null,null,"Not Available",null,9781607537342,null,"Do You Really Want to Meet a Kangaroo?",null,null,null,"Do You Really Want to Meet…?",null,null,null,"Amicus",null,0,null,23.95,null,0,null,0,null,null,null,null,null,0,0,0,0,0,0,0,0,0,0,0,0,0,0,0,"Fall 2015",null,2016,null," 599.2/22",null,"BL",null,40,null,34.25,null,"Amicus Illustrated",null,2.7,null,"Animals",null,"English",null,"Reinforced Library",null,24,null,"J",null,"540L",null,"K - 3",null,"Cari Meister"]
[null,null,{"$f":"C304","v":0},null,null,null,"Not Available",null,9781607537359,null,"Do You Really Want to Meet a Lion?",null,null,null,"Do You Really Want to Meet…?",null,null,null,"Amicus",null,0,null,23.95,null,0,null,0,null,null,null,null,null,0,0,0,0,0,0,0,0,0,0,0,0,0,0,0,"Fall 2015",null,2016,null,599.75699999999995,null,"BL",null,40,null,34.25,null,"Amicus Illustrated",null,2.6,null,"Animals",null,"English",null,"Reinforced Library",null,24,null,"J",null,"530L",null,"K - 3",null,"Cari Meister"]
[null,null,{"$f":"C304","v":0},null,null,null,"Not Available",null,9781607534563,null,"Do You Really Want to Meet a Monkey?",null,null,null,"Do You Really Want to Meet…?",null,null,null,"Amicus",null,0,null,23.95,null,0,null,0,null,null,null,null,null,0,0,0,0,0,0,0,0,0,0,0,0,0,0,0,"Fall 2014",null,2015,null,599.79999999999995,null,"BL",null,40,null,34.25,null,"Amicus Illustrated",null,2.2999999999999998,null,"Animals",null,"English",null,"Reinforced Library",null,24,null,"J",null,"530L",null,"K - 3",null,"Cari Meister"]
[null,null,{"$f":"C304","v":0},null,null,null,"Not Available",null,9781607537366,null,"Do You Really Want to Meet a Moose?",null,null,null,"Do You Really Want to Meet…?",null,null,null,"Amicus",null,0,null,23.95,null,0,null,0,null,null,null,null,null,0,0,0,0,0,0,0,0,0,0,0,0,0,0,0,"Fall 2015",null,2016,null," 599.65/7",null,"BL",null,40,null,34.25,null,"Amicus Illustrated",null,2.8,null,"Animals",null,"English",null,"Reinforced Library",null,24,null,"J",null,"590L",null,"K - 3",null,"Cari Meister"]
[null,null,{"$f":"C304","v":0},null,null,null,"Not Available",null,9781607534600,null,"Do You Really Want to Meet a Platypus?",null,null,null,"Do You Really Want to Meet…?",null,null,null,"Amicus",null,0,null,23.95,null,0,null,0,null,null,null,null,null,0,0,0,0,0,0,0,0,0,0,0,0,0,0,0,"Fall 2014",null,2015,null,"599.2/9",null,"BL",null,40,null,34.25,null,"Amicus Illustrated",null,2.6,null,"Animals",null,"English",null,"Reinforced Library",null,24,null,"J",null,"560L",null,"K - 3",null,"Cari Meister"]
[null,null,{"$f":"C304","v":0},null,null,null,"Not Available",null,9781607534556,null,"Do You Really Want to Meet a Polar Bear?",null,null,null,"Do You Really Want to Meet…?",null,null,null,"Amicus",null,0,null,23.95,null,0,null,0,null,null,null,null,null,0,0,0,0,0,0,0,0,0,0,0,0,0,0,0,"Fall 2014",null,2015,null,599.78599999999994,null,"BL",null,40,null,34.25,null,"Amicus Illustrated",null,2.7,null,"Animals",null,"English",null,"Reinforced Library",null,24,null,"J",null,"560L",null,"K - 3",null,"Marcie Aboff"]
[null,null,{"$f":"C304","v":0},null,null,null,"Not Available",null,9781607537373,null,"Do You Really Want to Meet a Shark?",null,null,null,"Do You Really Want to Meet…?",null,null,null,"Amicus",null,0,null,23.95,null,0,null,0,null,null,null,null,null,0,0,0,0,0,0,0,0,0,0,0,0,0,0,0,"Fall 2015",null,2016,null," 597.3/3",null,"BL",null,40,null,34.25,null,"Amicus Illustrated",null,2.4,null,"Animals",null,"English",null,"Reinforced Library",null,24,null,"J",null,"530L",null,"K - 3",null,"Cari Meister"]
[null,null,{"$f":"C304","v":0},null,null,null,"Not Available",null,9781607534587,null,"Do You Really Want to Meet a Swan?",null,null,null,"Do You Really Want to Meet…?",null,null,null,"Amicus",null,0,null,23.95,null,0,null,0,null,null,null,null,null,0,0,0,0,0,0,0,0,0,0,0,0,0,0,0,"Fall 2014",null,2015,null,"598.4/18",null,"BL",null,40,null,34.25,null,"Amicus Illustrated",null,2.2999999999999998,null,"Animals",null,"English",null,"Reinforced Library",null,24,null,"J",null,"490L",null,"K - 3",null,"Cari Meister"]
[null,null,{"$f":"C304","v":0},null,null,null,"Not Available",null,9781607534594,null,"Do You Really Want to Meet a Tiger?",null,null,null,"Do You Really Want to Meet…?",null,null,null,"Amicus",null,0,null,23.95,null,0,null,0,null,null,null,null,null,0,0,0,0,0,0,0,0,0,0,0,0,0,0,0,"Fall 2014",null,2015,null,599.75599999999997,null,"BL",null,40,null,34.25,null,"Amicus Illustrated",null,3,null,"Animals",null,"English",null,"Reinforced Library",null,24,null,"J",null,"590L",null,"K - 3",null,"Cari Meister"]
[{"$f":"A304","v":0},null,{"$f":"C304","v":0},null,{"$f":"E304","v":0},null,9781681514758,null,9781681513935,null,"Do You Really Want to Meet a Weasel?",null,null,null,"Do You Really Want to Meet…?",null,null,null,"Amicus",null,49,null,23.95,null,{"$f":"W322+5","v":28.95},null,0,null,null,null,null,null,0,0,0,0,0,0,0,0,0,0,0,0,0,0,0,"Fall 2018",null,2019,null,"599.76/62",null,"BL",null,40,null,34.25,null,"Amicus Illustrated",null,2.6,null,"Animals",null,"English",null,"Reinforced Library",null,24,null,"J",null,"490L",null,"K - 3",null,"Cari Meister"]
[null,null,{"$f":"C304","v":0},null,null,null,"Not Available",null,9781607539490,null,"Do You Really Want to Meet a Wolf?",null,null,null,"Do You Really Want to Meet…?",null,null,null,"Amicus",null,0,null,23.95,null,0,null,0,null,null,null,null,null,0,0,0,0,0,0,0,0,0,0,0,0,0,0,0,"Fall 2016",null,2017,null,599.77300000000002,null,"BL",null,40,null,34.25,null,"Amicus Illustrated",null,2.4,null,"Animals",null,"English",null,"Reinforced Library",null,24,null,"J",null,"530L",null,"K - 3",null,"Bridget Heos"]
[{"$f":"A304","v":0},null,{"$f":"C304","v":0},null,{"$f":"E304","v":0},null,9781681514765,null,9781681513942,null,"Do You Really Want to Meet an Anteater?",null,null,null,"Do You Really Want to Meet…?",null,null,null,"Amicus",null,49,null,23.95,null,{"$f":"W324+5","v":28.95},null,0,null,null,null,null,null,0,0,0,0,0,0,0,0,0,0,0,0,0,0,0,"Fall 2018",null,2019,null,"599.3/14",null,"BL",null,40,null,34.25,null,"Amicus Illustrated",null,2.4,null,"Animals",null,"English",null,"Reinforced Library",null,24,null,"J",null,"530L",null,"K - 3",null,"Cari Meister"]
[null,null,{"$f":"C304","v":0},null,null,null,"Not Available",null,9781607537335,null,"Do You Really Want to Meet an Elephant?",null,null,null,"Do You Really Want to Meet…?",null,null,null,"Amicus",null,0,null,23.95,null,0,null,0,null,null,null,null,null,0,0,0,0,0,0,0,0,0,0,0,0,0,0,0,"Fall 2015",null,2016,null,599.66999999999996,null,"BL",null,40,null,34.25,null,"Amicus Illustrated",null,2.5,null,"Animals",null,"English",null,"Reinforced Library",null,24,null,"J",null,"500L",null,"K - 3",null,"Cari Meister"]
[{"$f":"A304","v":0},null,{"$f":"C304","v":0},null,{"$f":"E304","v":0},null,9781681514772,null,9781681513959,null,"Do You Really Want to Meet an Octopus?",null,null,null,"Do You Really Want to Meet…?",null,null,null,"Amicus",null,49,null,23.95,null,{"$f":"W326+5","v":28.95},null,0,null,null,null,null,null,0,0,0,0,0,0,0,0,0,0,0,0,0,0,0,"Fall 2018",null,2019,null,"594/.56",null,"BL",null,40,null,34.25,null,"Amicus Illustrated",null,2.5,null,"Animals",null,"English",null,"Reinforced Library",null,24,null,"J",null,"510L",null,"K - 3",null,"Cari Meister"]
[null,null,{"$f":"C304","v":0},null,null,null,"Not Available",null,9781607539476,null,"Do You Really Want to Meet an Orca?",null,null,null,"Do You Really Want to Meet…?",null,null,null,"Amicus",null,0,null,23.95,null,0,null,0,null,null,null,null,null,0,0,0,0,0,0,0,0,0,0,0,0,0,0,0,"Fall 2016",null,2017,null,"599.53/6",null,"BL",null,40,null,34.25,null,"Amicus Illustrated",null,2.6,null,"Animals",null,"English",null,"Reinforced Library",null,24,null,"J",null,"550L",null,"K - 3",null,"Bridget Heos"]
[null,null,{"$f":"C304","v":0},null,null,null,"Not Available",null,9781607539483,null,"Do You Really Want to Meet an Owl?",null,null,null,"Do You Really Want to Meet…?",null,null,null,"Amicus",null,0,null,23.95,null,0,null,0,null,null,null,null,null,0,0,0,0,0,0,0,0,0,0,0,0,0,0,0,"Fall 2016",null,2017,null,"598.9/7",null,"BL",null,40,null,34.25,null,"Amicus Illustrated",null,2.4,null,"Animals",null,"English",null,"Reinforced Library",null,24,null,"J",null,"500L",null,"K - 3",null,"Bridget Heos"]
[]
[null,null,null,null,null,null,null,null,null,null,"Complete Series of 6",null,null,null,"Do You Really Want to Visit...? (Biomes)",null,null,null,null,null,{"$f":"SUM(U331:U336)","v":0},null,{"$f":"SUM(W331:W336)","v":143.69999999999999},null,{"$f":"SUM(Y331:Y336)","v":0}]
[null,null,{"$f":"C330","v":0},null,null,null,"Not Available",null,9781607534495,null,"Do You Really Want to Visit a Coral Reef?",null,null,null,"Do You Really Want to Visit...? (Biomes)",null,null,null,"Amicus",null,0,null,23.95,null,0,null,{"$f":"IF(AC331=FALSE,AT331,0)","v":0},null,null,null,null,null,{"$f":"IF(AND(A331>=1,AC331=\"\"),A331,0)","v":0},{"$f":"IF(AND(A331>=1,AC331=\"x\"),A331,0)","v":0},{"$f":"IF(AND(A331>=1,AC331=\"\"),U331,0)","v":0},{"$f":"IF(AND(A331>=1,AC331=\"x\"),-U331,0)","v":0},{"$f":"IF(AND(C331>=1,AC331=\"\"),C331,0)","v":0},{"$f":"IF(AND(C331>=1,AC331=\"x\"),C331,0)","v":0},{"$f":"IF(AND(C331>=1,AC331=\"\"),W331*C331,0)","v":0},{"$f":"IF(AND(C331>=1,AC331=\"x\"),-W331*C331,0)","v":0},{"$f":"E331","v":0},{"$f":"Y331*E331","v":0},{"$f":"AG331+AK331+AO331","v":0},{"$f":"AH331+AL331","v":0},{"$f":"AQ331+AR331","v":0},{"$f":"AI331+AM331+AP331","v":0},{"$f":"AJ331+AN331","v":0},"Fall 2014",null,2015,null,"578.77/89",null,null,null,40,null,34.25,null,"Amicus Illustrated",null,2.7,null,"Nature",null,"English",null,"Reinforced Library",null,24,null,"J",null,"520L",null,"2 – 5",null,"Bridget Heos"]
[null,null,{"$f":"C330","v":0},null,null,null,"Not Available",null,9781607534501,null,"Do You Really Want to Visit a Desert?",null,null,null,"Do You Really Want to Visit...? (Biomes)",null,null,null,"Amicus",null,0,null,23.95,null,0,null,0,null,null,null,null,null,0,0,0,0,0,0,0,0,0,0,0,0,0,0,0,"Fall 2014",null,2015,null,577.54,null,null,null,40,null,34.25,null,"Amicus Illustrated",null,2.2999999999999998,null,"Nature",null,"English",null,"Reinforced Library",null,24,null,"J",null,"540L",null,"2 – 5",null,"Bridget Heos"]
[null,null,{"$f":"C330","v":0},null,null,null,"Not Available",null,9781607534525,null,"Do You Really Want to Visit a Prairie?",null,null,null,"Do You Really Want to Visit...? (Biomes)",null,null,null,"Amicus",null,0,null,23.95,null,0,null,0,null,null,null,null,null,0,0,0,0,0,0,0,0,0,0,0,0,0,0,0,"Fall 2014",null,2015,null,"577.4/4",null,null,null,40,null,34.25,null,"Amicus Illustrated",null,2.5,null,"Nature",null,"English",null,"Reinforced Library",null,24,null,"J",null,"560L",null,"2 – 5",null,"Bridget Heos"]
[null,null,{"$f":"C330","v":0},null,null,null,"Not Available",null,9781607534532,null,"Do You Really Want to Visit a Rainforest?",null,null,null,"Do You Really Want to Visit...? (Biomes)",null,null,null,"Amicus",null,0,null,23.95,null,0,null,0,null,null,null,null,null,0,0,0,0,0,0,0,0,0,0,0,0,0,0,0,"Fall 2014",null,2015,null,577.34,null,null,null,40,null,34.25,null,"Amicus Illustrated",null,2.6,null,"Nature",null,"English",null,"Reinforced Library",null,24,null,"J",null,"550L",null,"2 – 5",null,"Bridget Heos"]
[null,null,{"$f":"C330","v":0},null,null,null,"Not Available",null,9781607534518,null,"Do You Really Want to Visit a Temperate Forest?",null,null,null,"Do You Really Want to Visit...? (Biomes)",null,null,null,"Amicus",null,0,null,23.95,null,0,null,0,null,null,null,null,null,0,0,0,0,0,0,0,0,0,0,0,0,0,0,0,"Fall 2014",null,2015,null,577.29999999999995,null,null,null,40,null,34.25,null,"Amicus Illustrated",null,2.6,null,"Nature",null,"English",null,"Reinforced Library",null,24,null,"J",null,"530L",null,"2 – 5",null,"Bridget Heos"]
[null,null,{"$f":"C330","v":0},null,null,null,"Not Available",null,9781607534549,null,"Do You Really Want to Visit a Wetland?",null,null,null,"Do You Really Want to Visit...? (Biomes)",null,null,null,"Amicus",null,0,null,23.95,null,0,null,0,null,null,null,null,null,0,0,0,0,0,0,0,0,0,0,0,0,0,0,0,"Fall 2014",null,2015,null,577.67999999999995,null,null,null,40,null,34.25,null,"Amicus Illustrated",null,2.9,null,"Nature",null,"English",null,"Reinforced Library",null,24,null,"J",null,"630L",null,"2 – 5",null,"Bridget Heos"]
[]
[null,null,null,null,null,null,null,null,null,null,"Complete Series of 8",null,null,null,"Do You Really Want to Visit...? (Planets)",null,null,null,null,null,{"$f":"SUM(U339:U346)","v":0},null,{"$f":"SUM(W339:W346)","v":191.59999999999997},null,{"$f":"SUM(Y339:Y346)","v":0}]
[null,null,{"$f":"C338","v":0},null,null,null,"Not Available",null,9781607531999,null,"Do You Really Want to Visit Jupiter?",null,null,null,"Do You Really Want to Visit...? (Planets)",null,null,null,"Amicus",null,0,null,23.95,null,0,null,{"$f":"IF(AC339=FALSE,AT339,0)","v":0},null,null,null,null,null,{"$f":"IF(AND(A339>=1,AC339=\"\"),A339,0)","v":0},{"$f":"IF(AND(A339>=1,AC339=\"x\"),A339,0)","v":0},{"$f":"IF(AND(A339>=1,AC339=\"\"),U339,0)","v":0},{"$f":"IF(AND(A339>=1,AC339=\"x\"),-U339,0)","v":0},{"$f":"IF(AND(C339>=1,AC339=\"\"),C339,0)","v":0},{"$f":"IF(AND(C339>=1,AC339=\"x\"),C339,0)","v":0},{"$f":"IF(AND(C339>=1,AC339=\"\"),W339*C339,0)","v":0},{"$f":"IF(AND(C339>=1,AC339=\"x\"),-W339*C339,0)","v":0},{"$f":"E339","v":0},{"$f":"Y339*E339","v":0},{"$f":"AG339+AK339+AO339","v":0},{"$f":"AH339+AL339","v":0},{"$f":"AQ339+AR339","v":0},{"$f":"AI339+AM339+AP339","v":0},{"$f":"AJ339+AN339","v":0},"Fall 2013",null,2014,null,523.45000000000005,null,null,null,40,null,34.25,null,"Amicus Illustrated",null,2.9,null,"Science",null,"English",null,"Reinforced Library",null,24,null,null,null,"600L",null,"2 – 5",null,"Bridget Heos"]
[null,null,{"$f":"C338","v":0},null,null,null,"Not Available",null,9781607531982,null,"Do You Really Want to Visit Mars?",null,null,null,"Do You Really Want to Visit...? (Planets)",null,null,null,"Amicus",null,0,null,23.95,null,0,null,0,null,null,null,null,null,0,0,0,0,0,0,0,0,0,0,0,0,0,0,0,"Fall 2013",null,2014,null,523.42999999999995,null,null,null,40,null,34.25,null,"Amicus Illustrated",null,3,null,"Science",null,"English",null,"Reinforced Library",null,24,null,null,null,"570L",null,"2 – 5",null,"Thomas K. Adamson"]
[null,null,{"$f":"C338","v":0},null,null,null,"Not Available",null,9781607531951,null,"Do You Really Want to Visit Mercury?",null,null,null,"Do You Really Want to Visit...? (Planets)",null,null,null,"Amicus",null,0,null,23.95,null,0,null,0,null,null,null,null,null,0,0,0,0,0,0,0,0,0,0,0,0,0,0,0,"Fall 2013",null,2014,null,523.41,null,null,null,40,null,34.25,null,"Amicus Illustrated",null,3.1,null,"Science",null,"English",null,"Reinforced Library",null,24,null,null,null,"600L",null,"2 – 5",null,"Thomas K. Adamson"]
[null,null,{"$f":"C338","v":0},null,null,null,"Not Available",null,9781607532019,null,"Do You Really Want to Visit Neptune?",null,null,null,"Do You Really Want to Visit...? (Planets)",null,null,null,"Amicus",null,0,null,23.95,null,0,null,0,null,null,null,null,null,0,0,0,0,0,0,0,0,0,0,0,0,0,0,0,"Fall 2013",null,2014,null,523.48,null,null,null,40,null,34.25,null,"Amicus Illustrated",null,3,null,"Science",null,"English",null,"Reinforced Library",null,24,null,null,null,"580L",null,"2 – 5",null,"Bridget Heos"]
[null,null,{"$f":"C338","v":0},null,null,null,"Not Available",null,9781607532002,null,"Do You Really Want to Visit Saturn?",null,null,null,"Do You Really Want to Visit...? (Planets)",null,null,null,"Amicus",null,0,null,23.95,null,0,null,0,null,null,null,null,null,0,0,0,0,0,0,0,0,0,0,0,0,0,0,0,"Fall 2013",null,2014,null,523.46,null,null,null,40,null,34.25,null,"Amicus Illustrated",null,2.9,null,"Science",null,"English",null,"Reinforced Library",null,24,null,null,null,"510L",null,"2 – 5",null,"Bridget Heos"]
[null,null,{"$f":"C338","v":0},null,null,null,"Not Available",null,9781607531975,null,"Do You Really Want to Visit The Moon?",null,null,null,"Do You Really Want to Visit...? (Planets)",null,null,null,"Amicus",null,0,null,23.95,null,0,null,0,null,null,null,null,null,0,0,0,0,0,0,0,0,0,0,0,0,0,0,0,"Fall 2013",null,2014,null,523.29999999999995,null,null,null,40,null,34.25,null,"Amicus Illustrated",null,2.8,null,"Science",null,"English",null,"Reinforced Library",null,24,null,null,null,"540L",null,"2 – 5",null,"Thomas K. Adamson"]
[null,null,{"$f":"C338","v":0},null,null,null,"Not Available",null,9781607532026,null,"Do You Really Want to Visit Uranus?",null,null,null,"Do You Really Want to Visit...? (Planets)",null,null,null,"Amicus",null,0,null,23.95,null,0,null,0,null,null,null,null,null,0,0,0,0,0,0,0,0,0,0,0,0,0,0,0,"Fall 2013",null,2014,null,523.47,null,null,null,40,null,34.25,null,"Amicus Illustrated",null,2.6,null,"Science",null,"English",null,"Reinforced Library",null,24,null,null,null,"560L",null,"2 – 5",null,"Bridget Heos"]
[null,null,{"$f":"C338","v":0},null,null,null,"Not Available",null,9781607531968,null,"Do You Really Want to Visit Venus?",null,null,null,"Do You Really Want to Visit...? (Planets)",null,null,null,"Amicus",null,0,null,23.95,null,0,null,0,null,null,null,null,null,0,0,0,0,0,0,0,0,0,0,0,0,0,0,0,"Fall 2013",null,2014,null,523.41999999999996,null,null,null,40,null,34.25,null,"Amicus Illustrated",null,2.8,null,"Science",null,"English",null,"Reinforced Library",null,24,null,null,null,"530L",null,"2 – 5",null,"Thomas K. Adamson"]
[]
[null,null,null,null,null,null,null,null,null,null,"Complete Series of 6",null,null,null,"Ecosystem Food Webs",null,null,null,null,null,{"$f":"SUM(U349:U354)","v":294},null,{"$f":"SUM(W349:W354)","v":143.69999999999999},null,{"$f":"SUM(Y349:Y354)","v":173.7}]
[{"$f":"A348","v":0},null,{"$f":"C348","v":0},null,{"$f":"E348","v":0},null,9781645490845,null,9781645490043,null,"Arctic Food Web, An",null,null,null,"Ecosystem Food Webs",null,null,null,"Amicus",null,49,null,23.95,null,{"$f":"W349+5","v":28.95},null,{"$f":"IF(AC349=FALSE,AT349,0)","v":0},null,null,null,null,null,{"$f":"IF(AND(A349>=1,AC349=\"\"),A349,0)","v":0},{"$f":"IF(AND(A349>=1,AC349=\"x\"),A349,0)","v":0},{"$f":"IF(AND(A349>=1,AC349=\"\"),U349,0)","v":0},{"$f":"IF(AND(A349>=1,AC349=\"x\"),-U349,0)","v":0},{"$f":"IF(AND(C349>=1,AC349=\"\"),C349,0)","v":0},{"$f":"IF(AND(C349>=1,AC349=\"x\"),C349,0)","v":0},{"$f":"IF(AND(C349>=1,AC349=\"\"),W349*C349,0)","v":0},{"$f":"IF(AND(C349>=1,AC349=\"x\"),-W349*C349,0)","v":0},{"$f":"E349","v":0},{"$f":"Y349*E349","v":0},{"$f":"AG349+AK349+AO349","v":0},{"$f":"AH349+AL349","v":0},{"$f":"AQ349+AR349","v":0},{"$f":"AI349+AM349+AP349","v":0},{"$f":"AJ349+AN349","v":0},"Spring 2021",null,2021,null,"577.5/8609113",null,null,null,39,null,34.25,null,"Amicus Illustrated",null,null,null,"Nature",null,"English",null,"Reinforced Library",null,24,null,"L",null,"540L",null,"Grade 2 & up",null,"Imogen Kingsley"]
[{"$f":"A348","v":0},null,{"$f":"C348","v":0},null,{"$f":"E348","v":0},null,9781645490807,null,9781645490005,null,"Desert Food Web, A",null,null,null,"Ecosystem Food Webs",null,null,null,"Amicus",null,49,null,23.95,null,28.95,null,0,null,null,null,null,null,0,0,0,0,0,0,0,0,0,0,0,0,0,0,0,"Spring 2021",null,2021,null,577.54097300000001,null,null,null,39,null,34.25,null,"Amicus Illustrated",null,null,null,"Nature",null,"English",null,"Reinforced Library",null,24,null,"L",null,"570L",null,"Grade 2 & up",null,"Cari Meister"]
[{"$f":"A348","v":0},null,{"$f":"C348","v":0},null,{"$f":"E348","v":0},null,9781645490814,null,9781645490012,null,"Freshwater Food Web, A",null,null,null,"Ecosystem Food Webs",null,null,null,"Amicus",null,49,null,23.95,null,28.95,null,0,null,null,null,null,null,0,0,0,0,0,0,0,0,0,0,0,0,0,0,0,"Spring 2021",null,2021,null,577.68097299999999,null,null,null,39,null,34.25,null,"Amicus Illustrated",null,null,null,"Nature",null,"English",null,"Reinforced Library",null,24,null,"L",null,"500L",null,"Grade 2 & up",null,"Cari Meister"]
[{"$f":"A348","v":0},null,{"$f":"C348","v":0},null,{"$f":"E348","v":0},null,9781645490821,null,9781645490029,null,"Grassland Food Web, A",null,null,null,"Ecosystem Food Webs",null,null,null,"Amicus",null,49,null,23.95,null,28.95,null,0,null,null,null,null,null,0,0,0,0,0,0,0,0,0,0,0,0,0,0,0,"Spring 2021",null,2021,null,577.4,null,null,null,39,null,34.25,null,"Amicus Illustrated",null,null,null,"Nature",null,"English",null,"Reinforced Library",null,24,null,"L",null,"530L",null,"Grade 2 & up",null,"Cari Meister"]
[{"$f":"A348","v":0},null,{"$f":"C348","v":0},null,{"$f":"E348","v":0},null,9781645490852,null,9781645490050,null,"Ocean Food Web, An",null,null,null,"Ecosystem Food Webs",null,null,null,"Amicus",null,49,null,23.95,null,28.95,null,0,null,null,null,null,null,0,0,0,0,0,0,0,0,0,0,0,0,0,0,0,"Spring 2021",null,2021,null,577.70000000000005,null,null,null,39,null,34.25,null,"Amicus Illustrated",null,null,null,"Nature",null,"English",null,"Reinforced Library",null,24,null,"L",null,"510L",null,"Grade 2 & up",null,"Cari Meister"]
[{"$f":"A348","v":0},null,{"$f":"C348","v":0},null,{"$f":"E348","v":0},null,9781645490838,null,9781645490036,null,"Rainforest Food Web, A",null,null,null,"Ecosystem Food Webs",null,null,null,"Amicus",null,49,null,23.95,null,28.95,null,0,null,null,null,null,null,0,0,0,0,0,0,0,0,0,0,0,0,0,0,0,"Spring 2021",null,2021,null,"577.340981/1",null,null,null,39,null,34.25,null,"Amicus Illustrated",null,null,null,"Nature",null,"English",null,"Reinforced Library",null,24,null,"L",null,"530L",null,"Grade 2 & up",null,"Cari Meister"]
[]
[null,null,null,null,null,null,null,null,null,null,"Complete Series of 4",null,null,null,"Estaciones (Spot Seasons)",null,null,null,null,null,{"$f":"SUM(U357:U360)","v":0},null,{"$f":"SUM(W357:W360)","v":83.8},null,{"$f":"SUM(Y357:Y360)","v":0}]
[null,null,{"$f":"C356","v":0},null,null,null,"Not Available",null,9781681516295,null,"El invierno (Winter)",null,null,null,"Estaciones (Spot Seasons)",null,null,null,"Amicus",null,0,null,20.95,null,0,null,{"$f":"IF(AC357=FALSE,AT357,0)","v":0},null,null,null,null,null,{"$f":"IF(AND(A357>=1,AC357=\"\"),A357,0)","v":0},{"$f":"IF(AND(A357>=1,AC357=\"x\"),A357,0)","v":0},{"$f":"IF(AND(A357>=1,AC357=\"\"),U357,0)","v":0},{"$f":"IF(AND(A357>=1,AC357=\"x\"),-U357,0)","v":0},{"$f":"IF(AND(C357>=1,AC357=\"\"),C357,0)","v":0},{"$f":"IF(AND(C357>=1,AC357=\"x\"),C357,0)","v":0},{"$f":"IF(AND(C357>=1,AC357=\"\"),W357*C357,0)","v":0},{"$f":"IF(AND(C357>=1,AC357=\"x\"),-W357*C357,0)","v":0},{"$f":"E357","v":0},{"$f":"Y357*E357","v":0},{"$f":"AG357+AK357+AO357","v":0},{"$f":"AH357+AL357","v":0},{"$f":"AQ357+AR357","v":0},{"$f":"AI357+AM357+AP357","v":0},{"$f":"AJ357+AN357","v":0},"Spring 2019",null,2019,null,508.2,null,"SLJ",null,51,null,29.95,null,"Spot",null,1.2,null,"Nature",null,"Spanish",null,"Reinforced Library",null,16,null,null,null,"240L",null,"PreK - 3",null,"Mari Schuh"]
[null,null,{"$f":"C356","v":0},null,null,null,"Not Available",null,9781681516288,null,"El otoño (Autumn)",null,null,null,"Estaciones (Spot Seasons)",null,null,null,"Amicus",null,0,null,20.95,null,0,null,{"$f":"IF(AC358=FALSE,AT358,0)","v":0},null,null,null,null,null,{"$f":"IF(AND(A358>=1,AC358=\"\"),A358,0)","v":0},{"$f":"IF(AND(A358>=1,AC358=\"x\"),A358,0)","v":0},{"$f":"IF(AND(A358>=1,AC358=\"\"),U358,0)","v":0},{"$f":"IF(AND(A358>=1,AC358=\"x\"),-U358,0)","v":0},0,0,0,0,{"$f":"E358","v":0},{"$f":"Y358*E358","v":0},{"$f":"AG358+AK358+AO358","v":0},{"$f":"AH358+AL358","v":0},{"$f":"AQ358+AR358","v":0},{"$f":"AI358+AM358+AP358","v":0},{"$f":"AJ358+AN358","v":0},"Spring 2019",null,2019,null,508.2,null,"SLJ",null,51,null,29.95,null,"Spot",null,1.5,null,"Nature",null,"Spanish",null,"Reinforced Library",null,16,null,null,null,"200L",null,"PreK - 3",null,"Mari Schuh"]
[null,null,{"$f":"C356","v":0},null,null,null,"Not Available",null,9781681516271,null,"El verano (Summer)",null,null,null,"Estaciones (Spot Seasons)",null,null,null,"Amicus",null,0,null,20.95,null,0,null,{"$f":"IF(AC359=FALSE,AT359,0)","v":0},null,null,null,null,null,{"$f":"IF(AND(A359>=1,AC359=\"\"),A359,0)","v":0},{"$f":"IF(AND(A359>=1,AC359=\"x\"),A359,0)","v":0},{"$f":"IF(AND(A359>=1,AC359=\"\"),U359,0)","v":0},{"$f":"IF(AND(A359>=1,AC359=\"x\"),-U359,0)","v":0},0,0,0,0,{"$f":"E359","v":0},{"$f":"Y359*E359","v":0},{"$f":"AG359+AK359+AO359","v":0},{"$f":"AH359+AL359","v":0},{"$f":"AQ359+AR359","v":0},{"$f":"AI359+AM359+AP359","v":0},{"$f":"AJ359+AN359","v":0},"Spring 2019",null,2019,null,508.2,null,"SLJ",null,51,null,29.95,null,"Spot",null,1.3,null,"Nature",null,"Spanish",null,"Reinforced Library",null,16,null,null,null,"200L",null,"PreK - 3",null,"Mari Schuh"]
[null,null,{"$f":"C356","v":0},null,null,null,"Not Available",null,9781681516264,null,"La primavera (Spring)",null,null,null,"Estaciones (Spot Seasons)",null,null,null,"Amicus",null,0,null,20.95,null,0,null,{"$f":"IF(AC360=FALSE,AT360,0)","v":0},null,null,null,null,null,{"$f":"IF(AND(A360>=1,AC360=\"\"),A360,0)","v":0},{"$f":"IF(AND(A360>=1,AC360=\"x\"),A360,0)","v":0},{"$f":"IF(AND(A360>=1,AC360=\"\"),U360,0)","v":0},{"$f":"IF(AND(A360>=1,AC360=\"x\"),-U360,0)","v":0},0,0,0,0,{"$f":"E360","v":0},{"$f":"Y360*E360","v":0},{"$f":"AG360+AK360+AO360","v":0},{"$f":"AH360+AL360","v":0},{"$f":"AQ360+AR360","v":0},{"$f":"AI360+AM360+AP360","v":0},{"$f":"AJ360+AN360","v":0},"Spring 2019",null,2019,null,508.2,null,"SLJ",null,51,null,29.95,null,"Spot",null,1.1000000000000001,null,"Nature",null,"Spanish",null,"Reinforced Library",null,16,null,null,null,"160L",null,"PreK - 3",null,"Mari Schuh"]
[]
[null,null,null,null,null,null,null,null,null,null,"Complete Series of 14",null,null,null,"Favorite Cat Breeds",null,null,null,null,null,{"$f":"SUM(U363:U376)","v":294},null,{"$f":"SUM(W363:W376)","v":335.2999999999999},null,{"$f":"SUM(Y363:Y376)","v":173.7}]
[null,null,{"$f":"C362","v":0},null,null,null,"Not Available",null,9781607539667,null,"Abyssinian Cats",null,null,null,"Favorite Cat Breeds",null,null,null,"Amicus",null,0,null,23.95,null,0,null,{"$f":"IF(AC363=FALSE,AT363,0)","v":0},null,null,null,null,null,{"$f":"IF(AND(A363>=1,AC363=\"\"),A363,0)","v":0},{"$f":"IF(AND(A363>=1,AC363=\"x\"),A363,0)","v":0},{"$f":"IF(AND(A363>=1,AC363=\"\"),U363,0)","v":0},{"$f":"IF(AND(A363>=1,AC363=\"x\"),-U363,0)","v":0},{"$f":"IF(AND(C363>=1,AC363=\"\"),C363,0)","v":0},{"$f":"IF(AND(C363>=1,AC363=\"x\"),C363,0)","v":0},{"$f":"IF(AND(C363>=1,AC363=\"\"),W363*C363,0)","v":0},{"$f":"IF(AND(C363>=1,AC363=\"x\"),-W363*C363,0)","v":0},{"$f":"E363","v":0},{"$f":"Y363*E363","v":0},{"$f":"AG363+AK363+AO363","v":0},{"$f":"AH363+AL363","v":0},{"$f":"AQ363+AR363","v":0},{"$f":"AI363+AM363+AP363","v":0},{"$f":"AJ363+AN363","v":0},"Fall 2016",null,2017,null,"636.8/26",null,null,null,31,null,34.25,null,"Amicus High Interest",null,2,null,"Animals",null,"English",null,"Reinforced Library",null,24,null,"I",null,"470L",null,"1 - 4",null,"Mari Schuh"]
[null,null,{"$f":"C362","v":0},null,null,null,"Not Available",null,9781607539674,null,"American Shorthair Cats",null,null,null,"Favorite Cat Breeds",null,null,null,"Amicus",null,0,null,23.95,null,0,null,0,null,null,null,null,null,0,0,0,0,0,0,0,0,0,0,0,0,0,0,0,"Fall 2016",null,2017,null,"636.8/22",null,null,null,31,null,34.25,null,"Amicus High Interest",null,2.1,null,"Animals",null,"English",null,"Reinforced Library",null,24,null,"I",null,"470L",null,"1 - 4",null,"Mari Schuh"]
[null,null,{"$f":"C362","v":0},null,null,null,"Not Available",null,9781607539681,null,"Birman Cats",null,null,null,"Favorite Cat Breeds",null,null,null,"Amicus",null,0,null,23.95,null,0,null,0,null,null,null,null,null,0,0,0,0,0,0,0,0,0,0,0,0,0,0,0,"Fall 2016",null,2017,null,"636.8/24",null,null,null,31,null,34.25,null,"Amicus High Interest",null,2.1,null,"Animals",null,"English",null,"Reinforced Library",null,24,null,"I",null,"390L",null,"1 - 4",null,"Mari Schuh"]
[{"$f":"A362","v":0},null,{"$f":"C362","v":0},null,{"$f":"E362","v":0},null,9781681518558,null,9781681518152,null,"British Shorthair Cats",null,null,null,"Favorite Cat Breeds",null,null,null,"Amicus",null,49,null,23.95,null,{"$f":"W366+5","v":28.95},null,0,null,null,null,null,null,0,0,0,0,0,0,0,0,0,0,0,0,0,0,0,"Spring 2020",null,2020,null,"636.8/22",null,null,null,31,null,34.25,null,"Amicus High Interest",null,2.1,null,"Animals",null,"English",null,"Reinforced Library",null,24,null,"I",null,null,null,"1 - 4",null,"Mary Ellen Klukow"]
[{"$f":"A362","v":0},null,{"$f":"C362","v":0},null,{"$f":"E362","v":0},null,9781681518565,null,9781681518169,null,"Devon Rex Cats",null,null,null,"Favorite Cat Breeds",null,null,null,"Amicus",null,49,null,23.95,null,{"$f":"W367+5","v":28.95},null,0,null,null,null,null,null,0,0,0,0,0,0,0,0,0,0,0,0,0,0,0,"Spring 2020",null,2020,null,"636.8/22",null,null,null,31,null,34.25,null,"Amicus High Interest",null,2.1,null,"Animals",null,"English",null,"Reinforced Library",null,24,null,"I",null,null,null,"1 - 4",null,"Mary Ellen Klukow"]
[{"$f":"A362","v":0},null,{"$f":"C362","v":0},null,{"$f":"E362","v":0},null,9781681518572,null,9781681518176,null,"Exotic Cats",null,null,null,"Favorite Cat Breeds",null,null,null,"Amicus",null,49,null,23.95,null,{"$f":"W368+5","v":28.95},null,0,null,null,null,null,null,0,0,0,0,0,0,0,0,0,0,0,0,0,0,0,"Spring 2020",null,2020,null,"636.8/2",null,null,null,31,null,34.25,null,"Amicus High Interest",null,2.2999999999999998,null,"Animals",null,"English",null,"Reinforced Library",null,24,null,"I",null,null,null,"1 - 4",null,"Mary Ellen Klukow"]
[null,null,{"$f":"C362","v":0},null,null,null,"Not Available",null,9781607539698,null,"Maine Coon Cats",null,null,null,"Favorite Cat Breeds",null,null,null,"Amicus",null,0,null,23.95,null,0,null,0,null,null,null,null,null,0,0,0,0,0,0,0,0,0,0,0,0,0,0,0,"Fall 2016",null,2017,null,"636.8/3",null,null,null,31,null,34.25,null,"Amicus High Interest",null,2,null,"Animals",null,"English",null,"Reinforced Library",null,24,null,"I",null,"470L",null,"1 - 4",null,"Mari Schuh"]
[{"$f":"A362","v":0},null,{"$f":"C362","v":0},null,{"$f":"E362","v":0},null,9781681518589,null,9781681518183,null,"Oriental Cats",null,null,null,"Favorite Cat Breeds",null,null,null,"Amicus",null,49,null,23.95,null,{"$f":"W370+5","v":28.95},null,0,null,null,null,null,null,0,0,0,0,0,0,0,0,0,0,0,0,0,0,0,"Spring 2020",null,2020,null,636.79999999999995,null,null,null,31,null,34.25,null,"Amicus High Interest",null,2.5,null,"Animals",null,"English",null,"Reinforced Library",null,24,null,"I",null,null,null,"1 - 4",null,"Mary Ellen Klukow"]
[null,null,{"$f":"C362","v":0},null,null,null,"Not Available",null,9781607539704,null,"Persian Cats",null,null,null,"Favorite Cat Breeds",null,null,null,"Amicus",null,0,null,23.95,null,0,null,0,null,null,null,null,null,0,0,0,0,0,0,0,0,0,0,0,0,0,0,0,"Fall 2016",null,2017,null,"636.8/32",null,null,null,31,null,34.25,null,"Amicus High Interest",null,2.1,null,"Animals",null,"English",null,"Reinforced Library",null,24,null,"I",null,"500L",null,"1 - 4",null,"Mari Schuh"]
[null,null,{"$f":"C362","v":0},null,null,null,"Not Available",null,9781607539711,null,"Ragdoll Cats",null,null,null,"Favorite Cat Breeds",null,null,null,"Amicus",null,0,null,23.95,null,0,null,0,null,null,null,null,null,0,0,0,0,0,0,0,0,0,0,0,0,0,0,0,"Fall 2016",null,2017,null,"636.8/3",null,null,null,31,null,34.25,null,"Amicus High Interest",null,2,null,"Animals",null,"English",null,"Reinforced Library",null,24,null,"I",null,"430L",null,"1 - 4",null,"Mari Schuh"]
[{"$f":"A362","v":0},null,{"$f":"C362","v":0},null,{"$f":"E362","v":0},null,9781681518596,null,9781681518190,null,"Scottish Folds",null,null,null,"Favorite Cat Breeds",null,null,null,"Amicus",null,49,null,23.95,null,{"$f":"W373+5","v":28.95},null,0,null,null,null,null,null,0,0,0,0,0,0,0,0,0,0,0,0,0,0,0,"Spring 2020",null,2020,null,636.79999999999995,null,null,null,31,null,34.25,null,"Amicus High Interest",null,2.2999999999999998,null,"Animals",null,"English",null,"Reinforced Library",null,24,null,"I",null,null,null,"1 - 4",null,"Mary Ellen Klukow"]
[null,null,{"$f":"C362","v":0},null,null,null,"Not Available",null,9781607539728,null,"Siamese Cats",null,null,null,"Favorite Cat Breeds",null,null,null,"Amicus",null,0,null,23.95,null,0,null,0,null,null,null,null,null,0,0,0,0,0,0,0,0,0,0,0,0,0,0,0,"Fall 2016",null,2017,null,"636.8/25",null,null,null,31,null,34.25,null,"Amicus High Interest",null,2,null,"Animals",null,"English",null,"Reinforced Library",null,24,null,"I",null,"480L",null,"1 - 4",null,"Mari Schuh"]
[{"$f":"A362","v":0},null,{"$f":"C362","v":0},null,{"$f":"E362","v":0},null,9781681518602,null,9781681518206,null,"Siberian Cats",null,null,null,"Favorite Cat Breeds",null,null,null,"Amicus",null,49,null,23.95,null,{"$f":"W375+5","v":28.95},null,0,null,null,null,null,null,0,0,0,0,0,0,0,0,0,0,0,0,0,0,0,"Spring 2020",null,2020,null,636.79999999999995,null,null,null,31,null,34.25,null,"Amicus High Interest",null,2.2999999999999998,null,"Animals",null,"English",null,"Reinforced Library",null,24,null,"I",null,null,null,"1 - 4",null,"Mary Ellen Klukow"]
[null,null,{"$f":"C362","v":0},null,null,null,"Not Available",null,9781607539735,null,"Sphynx Cats",null,null,null,"Favorite Cat Breeds",null,null,null,"Amicus",null,0,null,23.95,null,0,null,0,null,null,null,null,null,0,0,0,0,0,0,0,0,0,0,0,0,0,0,0,"Fall 2016",null,2017,null,636.79999999999995,null,null,null,31,null,34.25,null,"Amicus High Interest",null,2.1,null,"Animals",null,"English",null,"Reinforced Library",null,24,null,"I",null,"410L",null,"1 - 4",null,"Mari Schuh"]
[]
[null,null,null,null,null,null,null,null,null,null,"Complete Series of 14",null,null,null,"Favorite Dog Breeds",null,null,null,null,null,{"$f":"SUM(U379:U392)","v":686},null,{"$f":"SUM(W379:W392)","v":335.2999999999999},null,{"$f":"SUM(Y379:Y392)","v":405.2999999999999}]
[{"$f":"A378","v":0},null,{"$f":"C378","v":0},null,{"$f":"E378","v":0},null,9781681512143,null,9781681511245,null,"Beagles",null,null,null,"Favorite Dog Breeds",null,null,null,"Amicus",null,49,null,23.95,null,{"$f":"W379+5","v":28.95},null,{"$f":"IF(AC379=FALSE,AT379,0)","v":0},null,null,null,null,null,{"$f":"IF(AND(A379>=1,AC379=\"\"),A379,0)","v":0},{"$f":"IF(AND(A379>=1,AC379=\"x\"),A379,0)","v":0},{"$f":"IF(AND(A379>=1,AC379=\"\"),U379,0)","v":0},{"$f":"IF(AND(A379>=1,AC379=\"x\"),-U379,0)","v":0},{"$f":"IF(AND(C379>=1,AC379=\"\"),C379,0)","v":0},{"$f":"IF(AND(C379>=1,AC379=\"x\"),C379,0)","v":0},{"$f":"IF(AND(C379>=1,AC379=\"\"),W379*C379,0)","v":0},{"$f":"IF(AND(C379>=1,AC379=\"x\"),-W379*C379,0)","v":0},{"$f":"E379","v":0},{"$f":"Y379*E379","v":0},{"$f":"AG379+AK379+AO379","v":0},{"$f":"AH379+AL379","v":0},{"$f":"AQ379+AR379","v":0},{"$f":"AI379+AM379+AP379","v":0},{"$f":"AJ379+AN379","v":0},"Fall 2017",null,2018,null,"636.753/7",null,null,null,31,null,34.25,null,"Amicus High Interest",null,2,null,"Animals",null,"English",null,"Reinforced Library",null,24,null,"I",null,"460L",null,"1 - 4",null,"Martha E. H. Rustad"]
[{"$f":"A378","v":0},null,{"$f":"C378","v":0},null,{"$f":"E378","v":0},null,9781681512150,null,9781681511252,null,"Boxers",null,null,null,"Favorite Dog Breeds",null,null,null,"Amicus",null,49,null,23.95,null,28.95,null,0,null,null,null,null,null,0,0,0,0,0,0,0,0,0,0,0,0,0,0,0,"Fall 2017",null,2018,null,636.73,null,null,null,31,null,34.25,null,"Amicus High Interest",null,2,null,"Animals",null,"English",null,"Reinforced Library",null,24,null,"I",null,"430L",null,"1 - 4",null,"Martha E. H. Rustad"]
[{"$f":"A378","v":0},null,{"$f":"C378","v":0},null,{"$f":"E378","v":0},null,9781681512167,null,9781681511269,null,"Bulldogs",null,null,null,"Favorite Dog Breeds",null,null,null,"Amicus",null,49,null,23.95,null,28.95,null,0,null,null,null,null,null,0,0,0,0,0,0,0,0,0,0,0,0,0,0,0,"Fall 2017",null,2018,null,636.72,null,null,null,31,null,34.25,null,"Amicus High Interest",null,2.1,null,"Animals",null,"English",null,"Reinforced Library",null,24,null,"I",null,"420L",null,"1 - 4",null,"Martha E. H. Rustad"]
[{"$f":"A378","v":0},null,{"$f":"C378","v":0},null,{"$f":"E378","v":0},null,9781681517384,null,9781681516561,null,"Dalmatians",null,null,null,"Favorite Dog Breeds",null,null,null,"Amicus",null,49,null,23.95,null,28.95,null,0,null,null,null,null,null,0,0,0,0,0,0,0,0,0,0,0,0,0,0,0,"Fall 2019",null,2020,null,636.72,null,null,null,31,null,34.25,null,"Amicus High Interest",null,2,null,"Animals",null,"English",null,"Reinforced Library",null,24,null,"I",null,"450L",null,"1 - 4",null,"Mary Ellen Klukow"]
[{"$f":"A378","v":0},null,{"$f":"C378","v":0},null,{"$f":"E378","v":0},null,9781681512174,null,9781681511276,null,"German Shepherds",null,null,null,"Favorite Dog Breeds",null,null,null,"Amicus",null,49,null,23.95,null,28.95,null,0,null,null,null,null,null,0,0,0,0,0,0,0,0,0,0,0,0,0,0,0,"Fall 2017",null,2018,null,"636.737/6",null,null,null,31,null,34.25,null,"Amicus High Interest",null,2.2999999999999998,null,"Animals",null,"English",null,"Reinforced Library",null,24,null,"I",null,"480L",null,"1 - 4",null,"Martha E. H. Rustad"]
[{"$f":"A378","v":0},null,{"$f":"C378","v":0},null,{"$f":"E378","v":0},null,9781681517391,null,9781681516578,null,"Golden Retrievers",null,null,null,"Favorite Dog Breeds",null,null,null,"Amicus",null,49,null,23.95,null,28.95,null,0,null,null,null,null,null,0,0,0,0,0,0,0,0,0,0,0,0,0,0,0,"Fall 2019",null,2020,null,"636.752/7",null,null,null,31,null,34.25,null,"Amicus High Interest",null,2.2999999999999998,null,"Animals",null,"English",null,"Reinforced Library",null,24,null,"I",null,"510L",null,"1 - 4",null,"Mary Ellen Klukow"]
[{"$f":"A378","v":0},null,{"$f":"C378","v":0},null,{"$f":"E378","v":0},null,9781681517407,null,9781681516585,null,"Great Danes",null,null,null,"Favorite Dog Breeds",null,null,null,"Amicus",null,49,null,23.95,null,28.95,null,0,null,null,null,null,null,0,0,0,0,0,0,0,0,0,0,0,0,0,0,0,"Fall 2019",null,2020,null,636.73,null,null,null,31,null,34.25,null,"Amicus High Interest",null,2.2999999999999998,null,"Animals",null,"English",null,"Reinforced Library",null,24,null,"I",null,"490L",null,"1 - 4",null,"Mary Ellen Klukow"]
[{"$f":"A378","v":0},null,{"$f":"C378","v":0},null,{"$f":"E378","v":0},null,9781681512181,null,9781681511283,null,"Labrador Retrievers",null,null,null,"Favorite Dog Breeds",null,null,null,"Amicus",null,49,null,23.95,null,28.95,null,0,null,null,null,null,null,0,0,0,0,0,0,0,0,0,0,0,0,0,0,0,"Fall 2017",null,2018,null,"636.752/7",null,null,null,31,null,34.25,null,"Amicus High Interest",null,2.2999999999999998,null,"Animals",null,"English",null,"Reinforced Library",null,24,null,"I",null,"490L",null,"1 - 4",null,"Martha E. H. Rustad"]
[{"$f":"A378","v":0},null,{"$f":"C378","v":0},null,{"$f":"E378","v":0},null,9781681512198,null,9781681511290,null,"Poodles",null,null,null,"Favorite Dog Breeds",null,null,null,"Amicus",null,49,null,23.95,null,28.95,null,0,null,null,null,null,null,0,0,0,0,0,0,0,0,0,0,0,0,0,0,0,"Fall 2017",null,2018,null,"636.72/8",null,null,null,31,null,34.25,null,"Amicus High Interest",null,2.1,null,"Animals",null,"English",null,"Reinforced Library",null,24,null,"I",null,"480L",null,"1 - 4",null,"Martha E. H. Rustad"]
[{"$f":"A378","v":0},null,{"$f":"C378","v":0},null,{"$f":"E378","v":0},null,9781681512204,null,9781681511306,null,"Saint Bernards",null,null,null,"Favorite Dog Breeds",null,null,null,"Amicus",null,49,null,23.95,null,28.95,null,0,null,null,null,null,null,0,0,0,0,0,0,0,0,0,0,0,0,0,0,0,"Fall 2017",null,2018,null,636.73,null,null,null,31,null,34.25,null,"Amicus High Interest",null,2.2999999999999998,null,"Animals",null,"English",null,"Reinforced Library",null,24,null,"I",null,"460L",null,"1 - 4",null,"Martha E. H. Rustad"]
[{"$f":"A378","v":0},null,{"$f":"C378","v":0},null,{"$f":"E378","v":0},null,9781681512211,null,9781681511313,null,"Scottish Terriers",null,null,null,"Favorite Dog Breeds",null,null,null,"Amicus",null,49,null,23.95,null,28.95,null,0,null,null,null,null,null,0,0,0,0,0,0,0,0,0,0,0,0,0,0,0,"Fall 2017",null,2018,null,636.755,null,null,null,31,null,34.25,null,"Amicus High Interest",null,2.2999999999999998,null,"Animals",null,"English",null,"Reinforced Library",null,24,null,"I",null,"490L",null,"1 - 4",null,"Martha E. H. Rustad"]
[{"$f":"A378","v":0},null,{"$f":"C378","v":0},null,{"$f":"E378","v":0},null,9781681517414,null,9781681516592,null,"Shih Tzus",null,null,null,"Favorite Dog Breeds",null,null,null,"Amicus",null,49,null,23.95,null,28.95,null,0,null,null,null,null,null,0,0,0,0,0,0,0,0,0,0,0,0,0,0,0,"Fall 2019",null,2020,null,636.76,null,null,null,31,null,34.25,null,"Amicus High Interest",null,2.1,null,"Animals",null,"English",null,"Reinforced Library",null,24,null,"I",null,"460L",null,"1 - 4",null,"Mary Ellen Klukow"]
[{"$f":"A378","v":0},null,{"$f":"C378","v":0},null,{"$f":"E378","v":0},null,9781681517421,null,9781681516608,null,"Siberian Huskies",null,null,null,"Favorite Dog Breeds",null,null,null,"Amicus",null,49,null,23.95,null,28.95,null,0,null,null,null,null,null,0,0,0,0,0,0,0,0,0,0,0,0,0,0,0,"Fall 2019",null,2020,null,636.73,null,null,null,31,null,34.25,null,"Amicus High Interest",null,2.2000000000000002,null,"Animals",null,"English",null,"Reinforced Library",null,24,null,"I",null,"480L",null,"1 - 4",null,"Mary Ellen Klukow"]
[{"$f":"A378","v":0},null,{"$f":"C378","v":0},null,{"$f":"E378","v":0},null,9781681517438,null,9781681516615,null,"Yorkshire Terriers",null,null,null,"Favorite Dog Breeds",null,null,null,"Amicus",null,49,null,23.95,null,28.95,null,0,null,null,null,null,null,0,0,0,0,0,0,0,0,0,0,0,0,0,0,0,"Fall 2019",null,2020,null,636.76,null,null,null,31,null,34.25,null,"Amicus High Interest",null,2.2000000000000002,null,"Animals",null,"English",null,"Reinforced Library",null,24,null,"I",null,"480L",null,"1 - 4",null,"Mary Ellen Klukow"]
[]
[null,null,null,null,null,null,null,null,null,null,"Complete Series of 8",null,null,null,"Favorite Horse Breeds",null,null,null,null,null,{"$f":"SUM(U395:U402)","v":392},null,{"$f":"SUM(W395:W402)","v":191.59999999999997},null,{"$f":"SUM(Y395:Y402)","v":231.59999999999997}]
[{"$f":"A394","v":0},null,{"$f":"C394","v":0},null,{"$f":"E394","v":0},null,9781681515021,null,9781681514208,null,"American Paint Horses",null,null,null,"Favorite Horse Breeds",null,null,null,"Amicus",null,49,null,23.95,null,{"$f":"W395+5","v":28.95},null,{"$f":"IF(AC395=FALSE,AT395,0)","v":0},null,null,null,null,null,{"$f":"IF(AND(A395>=1,AC395=\"\"),A395,0)","v":0},{"$f":"IF(AND(A395>=1,AC395=\"x\"),A395,0)","v":0},{"$f":"IF(AND(A395>=1,AC395=\"\"),U395,0)","v":0},{"$f":"IF(AND(A395>=1,AC395=\"x\"),-U395,0)","v":0},{"$f":"IF(AND(C395>=1,AC395=\"\"),C395,0)","v":0},{"$f":"IF(AND(C395>=1,AC395=\"x\"),C395,0)","v":0},{"$f":"IF(AND(C395>=1,AC395=\"\"),W395*C395,0)","v":0},{"$f":"IF(AND(C395>=1,AC395=\"x\"),-W395*C395,0)","v":0},{"$f":"E395","v":0},{"$f":"Y395*E395","v":0},{"$f":"AG395+AK395+AO395","v":0},{"$f":"AH395+AL395","v":0},{"$f":"AQ395+AR395","v":0},{"$f":"AI395+AM395+AP395","v":0},{"$f":"AJ395+AN395","v":0},"Fall 2018",null,2019,null,"636.1/3",null,null,null,31,null,34.25,null,"Amicus High Interest",null,2.2000000000000002,null,"Animals",null,"English",null,"Reinforced Library",null,24,null,"I",null,"460L",null,"K - 3",null,"Cari Meister"]
[{"$f":"A394","v":0},null,{"$f":"C394","v":0},null,{"$f":"E394","v":0},null,9781681515038,null,9781681514215,null,"American Quarter Horses",null,null,null,"Favorite Horse Breeds",null,null,null,"Amicus",null,49,null,23.95,null,28.95,null,0,null,null,null,null,null,0,0,0,0,0,0,0,0,0,0,0,0,0,0,0,"Fall 2018",null,2019,null,"636.1/33",null,null,null,31,null,34.25,null,"Amicus High Interest",null,2,null,"Animals",null,"English",null,"Reinforced Library",null,24,null,"I",null,"370L",null,"K - 3",null,"Cari Meister"]
[{"$f":"A394","v":0},null,{"$f":"C394","v":0},null,{"$f":"E394","v":0},null,9781681515045,null,9781681514222,null,"American Saddlebred Horses",null,null,null,"Favorite Horse Breeds",null,null,null,"Amicus",null,49,null,23.95,null,28.95,null,0,null,null,null,null,null,0,0,0,0,0,0,0,0,0,0,0,0,0,0,0,"Fall 2018",null,2019,null,"636.1/3",null,null,null,31,null,34.25,null,"Amicus High Interest",null,2.1,null,"Animals",null,"English",null,"Reinforced Library",null,24,null,"I",null,"460L",null,"K - 3",null,"Cari Meister"]
[{"$f":"A394","v":0},null,{"$f":"C394","v":0},null,{"$f":"E394","v":0},null,9781681515052,null,9781681514239,null,"Appaloosa Horses",null,null,null,"Favorite Horse Breeds",null,null,null,"Amicus",null,49,null,23.95,null,28.95,null,0,null,null,null,null,null,0,0,0,0,0,0,0,0,0,0,0,0,0,0,0,"Fall 2018",null,2019,null,"636.1/3",null,null,null,31,null,34.25,null,"Amicus High Interest",null,2.1,null,"Animals",null,"English",null,"Reinforced Library",null,24,null,"I",null,"410L",null,"K - 3",null,"Cari Meister"]
[{"$f":"A394","v":0},null,{"$f":"C394","v":0},null,{"$f":"E394","v":0},null,9781681515069,null,9781681514246,null,"Arabian Horses",null,null,null,"Favorite Horse Breeds",null,null,null,"Amicus",null,49,null,23.95,null,28.95,null,0,null,null,null,null,null,0,0,0,0,0,0,0,0,0,0,0,0,0,0,0,"Fall 2018",null,2019,null,"636.1/12",null,null,null,31,null,34.25,null,"Amicus High Interest",null,2.2999999999999998,null,"Animals",null,"English",null,"Reinforced Library",null,24,null,"I",null,"440L",null,"K - 3",null,"Cari Meister"]
[{"$f":"A394","v":0},null,{"$f":"C394","v":0},null,{"$f":"E394","v":0},null,9781681515076,null,9781681514253,null,"Clydesdale Horses",null,null,null,"Favorite Horse Breeds",null,null,null,"Amicus",null,49,null,23.95,null,28.95,null,0,null,null,null,null,null,0,0,0,0,0,0,0,0,0,0,0,0,0,0,0,"Fall 2018",null,2019,null,"636.1/5",null,null,null,31,null,34.25,null,"Amicus High Interest",null,2.1,null,"Animals",null,"English",null,"Reinforced Library",null,24,null,"I",null,"430L",null,"K - 3",null,"Cari Meister"]
[{"$f":"A394","v":0},null,{"$f":"C394","v":0},null,{"$f":"E394","v":0},null,9781681515083,null,9781681514260,null,"Morgan Horses",null,null,null,"Favorite Horse Breeds",null,null,null,"Amicus",null,49,null,23.95,null,28.95,null,0,null,null,null,null,null,0,0,0,0,0,0,0,0,0,0,0,0,0,0,0,"Fall 2018",null,2019,null,"636.1/77",null,null,null,31,null,34.25,null,"Amicus High Interest",null,2.4,null,"Animals",null,"English",null,"Reinforced Library",null,24,null,"I",null,"490L",null,"K - 3",null,"Cari Meister"]
[{"$f":"A394","v":0},null,{"$f":"C394","v":0},null,{"$f":"E394","v":0},null,9781681515090,null,9781681514277,null,"Thoroughbred Horses",null,null,null,"Favorite Horse Breeds",null,null,null,"Amicus",null,49,null,23.95,null,28.95,null,0,null,null,null,null,null,0,0,0,0,0,0,0,0,0,0,0,0,0,0,0,"Fall 2018",null,2019,null,"636.1/32",null,null,null,31,null,34.25,null,"Amicus High Interest",null,2,null,"Animals",null,"English",null,"Reinforced Library",null,24,null,"I",null,"450L",null,"K - 3",null,"Cari Meister"]
[]
[null,null,null,null,null,null,null,null,null,null,"Complete Series of 8",null,null,null,"Field Trips, Let's Go!",null,null,null,null,null,{"$f":"SUM(U405:U412)","v":342.80000000000007},null,{"$f":"SUM(W405:W412)","v":167.6},null,{"$f":"SUM(Y405:Y412)","v":207.59999999999997}]
[{"$f":"A404","v":0},null,{"$f":"C404","v":0},null,{"$f":"E404","v":0},null,9781681513386,null,9781681513027,null,"Aquarium",null,null,null,"Field Trips, Let's Go!",null,null,null,"Amicus",null,42.85,null,20.95,null,{"$f":"W405+5","v":25.95},null,{"$f":"IF(AC405=FALSE,AT405,0)","v":0},null,null,null,null,null,{"$f":"IF(AND(A405>=1,AC405=\"\"),A405,0)","v":0},{"$f":"IF(AND(A405>=1,AC405=\"x\"),A405,0)","v":0},{"$f":"IF(AND(A405>=1,AC405=\"\"),U405,0)","v":0},{"$f":"IF(AND(A405>=1,AC405=\"x\"),-U405,0)","v":0},{"$f":"IF(AND(C405>=1,AC405=\"\"),C405,0)","v":0},{"$f":"IF(AND(C405>=1,AC405=\"x\"),C405,0)","v":0},{"$f":"IF(AND(C405>=1,AC405=\"\"),W405*C405,0)","v":0},{"$f":"IF(AND(C405>=1,AC405=\"x\"),-W405*C405,0)","v":0},{"$f":"E405","v":0},{"$f":"Y405*E405","v":0},{"$f":"AG405+AK405+AO405","v":0},{"$f":"AH405+AL405","v":0},{"$f":"AQ405+AR405","v":0},{"$f":"AI405+AM405+AP405","v":0},{"$f":"AJ405+AN405","v":0},"Spring 2018",null,2018,null,639.34,null,null,null,"Website",null,29.95,null,"Amicus Readers",null,1,null,"Social Studies",null,"English",null,"Reinforced Library",null,16,null,"E",null,"290L",null,"K - 2",null,"K.C. Kelley"]
[{"$f":"A404","v":0},null,{"$f":"C404","v":0},null,{"$f":"E404","v":0},null,9781681513416,null,9781681513058,null,"Farm",null,null,null,"Field Trips, Let's Go!",null,null,null,"Amicus",null,42.85,null,20.95,null,25.95,null,0,null,null,null,null,null,0,0,0,0,0,0,0,0,0,0,0,0,0,0,0,"Spring 2018",null,2018,null,630,null,null,null,"Website",null,29.95,null,"Amicus Readers",null,0.9,null,"Social Studies",null,"English",null,"Reinforced Library",null,16,null,"E",null,"250L",null,"K - 2",null,"K.C. Kelley"]
[{"$f":"A404","v":0},null,{"$f":"C404","v":0},null,{"$f":"E404","v":0},null,9781681513409,null,9781681513041,null,"Fire Station",null,null,null,"Field Trips, Let's Go!",null,null,null,"Amicus",null,42.85,null,20.95,null,25.95,null,0,null,null,null,null,null,0,0,0,0,0,0,0,0,0,0,0,0,0,0,0,"Spring 2018",null,2018,null,363.37,null,null,null,"Website",null,29.95,null,"Amicus Readers",null,1.1000000000000001,null,"Social Studies",null,"English",null,"Reinforced Library",null,16,null,"E",null,"330L",null,"K - 2",null,"K.C. Kelley"]
[{"$f":"A404","v":0},null,{"$f":"C404","v":0},null,{"$f":"E404","v":0},null,9781681513423,null,9781681513065,null,"Library",null,null,null,"Field Trips, Let's Go!",null,null,null,"Amicus",null,42.85,null,20.95,null,25.95,null,0,null,null,null,null,null,0,0,0,0,0,0,0,0,0,0,0,0,0,0,0,"Spring 2018",null,2018,null,27,null,null,null,"Website",null,29.95,null,"Amicus Readers",null,1,null,"Social Studies",null,"English",null,"Reinforced Library",null,16,null,"E",null,"280L",null,"K - 2",null,"K.C. Kelley"]
[{"$f":"A404","v":0},null,{"$f":"C404","v":0},null,{"$f":"E404","v":0},null,9781681513393,null,9781681513034,null,"Museum",null,null,null,"Field Trips, Let's Go!",null,null,null,"Amicus",null,42.85,null,20.95,null,25.95,null,0,null,null,null,null,null,0,0,0,0,0,0,0,0,0,0,0,0,0,0,0,"Spring 2018",null,2018,null,69,null,null,null,"Website",null,29.95,null,"Amicus Readers",null,1.1000000000000001,null,"Social Studies",null,"English",null,"Reinforced Library",null,16,null,"E",null,"350L",null,"K - 2",null,"K.C. Kelley"]
[{"$f":"A404","v":0},null,{"$f":"C404","v":0},null,{"$f":"E404","v":0},null,9781681513454,null,9781681513096,null,"Stadium",null,null,null,"Field Trips, Let's Go!",null,null,null,"Amicus",null,42.85,null,20.95,null,25.95,null,0,null,null,null,null,null,0,0,0,0,0,0,0,0,0,0,0,0,0,0,0,"Spring 2018",null,2018,null,"725/.827",null,null,null,"Website",null,29.95,null,"Amicus Readers",null,0.9,null,"Social Studies",null,"English",null,"Reinforced Library",null,16,null,"E",null,"300L",null,"K - 2",null,"K.C. Kelley"]
[{"$f":"A404","v":0},null,{"$f":"C404","v":0},null,{"$f":"E404","v":0},null,9781681513430,null,9781681513072,null,"Theater",null,null,null,"Field Trips, Let's Go!",null,null,null,"Amicus",null,42.85,null,20.95,null,25.95,null,0,null,null,null,null,null,0,0,0,0,0,0,0,0,0,0,0,0,0,0,0,"Spring 2018",null,2018,null,792,null,null,null,"Website",null,29.95,null,"Amicus Readers",null,1.1000000000000001,null,"Social Studies",null,"English",null,"Reinforced Library",null,16,null,"E",null,"330L",null,"K - 2",null,"K.C. Kelley"]
[{"$f":"A404","v":0},null,{"$f":"C404","v":0},null,{"$f":"E404","v":0},null,9781681513447,null,9781681513089,null,"Zoo",null,null,null,"Field Trips, Let's Go!",null,null,null,"Amicus",null,42.85,null,20.95,null,25.95,null,0,null,null,null,null,null,0,0,0,0,0,0,0,0,0,0,0,0,0,0,0,"Spring 2018",null,2018,null,"590/.73",null,null,null,"Website",null,29.95,null,"Amicus Readers",null,0.9,null,"Social Studies",null,"English",null,"Reinforced Library",null,16,null,"E",null,"280L",null,"K - 2",null,"K.C. Kelley"]
[]
[null,null,null,null,null,null,null,null,null,null,"Complete Series of 3",null,null,null,"First Words and Pictures (Board Book)",null,null,null,null,null,{"$f":"SUM(U415:U417)","v":0},null,{"$f":"SUM(W415:W417)","v":29.97},null,{"$f":"SUM(Y415:Y417)","v":0}]
[null,null,{"$f":"C414","v":0},null,null,null,"Not Available",null,9781681524108,null,"Around Town",null,null,null,"First Words and Pictures (Board Book)",null,null,null,"Amicus",null,0,null,9.99,null,0,null,{"$f":"IF(AC415=FALSE,AT415,0)","v":0},null,null,null,null,null,{"$f":"IF(AND(A415>=1,AC415=\"\"),A415,0)","v":0},{"$f":"IF(AND(A415>=1,AC415=\"x\"),A415,0)","v":0},{"$f":"IF(AND(A415>=1,AC415=\"\"),U415,0)","v":0},{"$f":"IF(AND(A415>=1,AC415=\"x\"),-U415,0)","v":0},{"$f":"IF(AND(C415>=1,AC415=\"\"),C415,0)","v":0},{"$f":"IF(AND(C415>=1,AC415=\"x\"),C415,0)","v":0},{"$f":"IF(AND(C415>=1,AC415=\"\"),W415*C415,0)","v":0},{"$f":"IF(AND(C415>=1,AC415=\"x\"),-W415*C415,0)","v":0},{"$f":"E415","v":0},{"$f":"Y415*E415","v":0},{"$f":"AG415+AK415+AO415","v":0},{"$f":"AH415+AL415","v":0},{"$f":"AQ415+AR415","v":0},{"$f":"AI415+AM415+AP415","v":0},{"$f":"AJ415+AN415","v":0},"Spring 2018",null,2018,null,307.76,null,null,null,14,null,9.99,null,"Amicus Ink",null,"Not Quizzable",null,"Fiction",null,"English",null,"Board Book",null,14,null,null,null,null,null,"PreK - 1",null,"Margot Channing"]
[null,null,{"$f":"C414","v":0},null,null,null,"Not Available",null,9781681524115,null,"At Home",null,null,null,"First Words and Pictures (Board Book)",null,null,null,"Amicus",null,0,null,9.99,null,0,null,{"$f":"IF(AC416=FALSE,AT416,0)","v":0},null,null,null,null,null,{"$f":"IF(AND(A416>=1,AC416=\"\"),A416,0)","v":0},{"$f":"IF(AND(A416>=1,AC416=\"x\"),A416,0)","v":0},{"$f":"IF(AND(A416>=1,AC416=\"\"),U416,0)","v":0},{"$f":"IF(AND(A416>=1,AC416=\"x\"),-U416,0)","v":0},0,0,0,0,{"$f":"E416","v":0},{"$f":"Y416*E416","v":0},{"$f":"AG416+AK416+AO416","v":0},{"$f":"AH416+AL416","v":0},{"$f":"AQ416+AR416","v":0},{"$f":"AI416+AM416+AP416","v":0},{"$f":"AJ416+AN416","v":0},"Spring 2018",null,2018,null,"643/.6",null,null,null,14,null,9.99,null,"Amicus Ink",null,"Not Quizzable",null,"Fiction",null,"English",null,"Board Book",null,14,null,null,null,null,null,"PreK - 1",null,"Margot Channing"]
[null,null,{"$f":"C414","v":0},null,null,null,"Not Available",null,9781681522012,null,"On the Go",null,null,null,"First Words and Pictures (Board Book)",null,null,null,"Amicus",null,0,null,9.99,null,0,null,{"$f":"IF(AC417=FALSE,AT417,0)","v":0},null,null,null,null,null,{"$f":"IF(AND(A417>=1,AC417=\"\"),A417,0)","v":0},{"$f":"IF(AND(A417>=1,AC417=\"x\"),A417,0)","v":0},{"$f":"IF(AND(A417>=1,AC417=\"\"),U417,0)","v":0},{"$f":"IF(AND(A417>=1,AC417=\"x\"),-U417,0)","v":0},0,0,0,0,{"$f":"E417","v":0},{"$f":"Y417*E417","v":0},{"$f":"AG417+AK417+AO417","v":0},{"$f":"AH417+AL417","v":0},{"$f":"AQ417+AR417","v":0},{"$f":"AI417+AM417+AP417","v":0},{"$f":"AJ417+AN417","v":0},"Fall 2017",null,2018,null,"629.04/6",null,null,null,14,null,9.99,null,"Amicus Ink",null,"Not Quizzable",null,"Fiction",null,"English",null,"Board Book",null,14,null,null,null,null,null,"PreK - 1",null,"Margot Channing"]
[]
[null,null,null,null,null,null,null,null,null,null,"Complete Series of 4",null,null,null,"Freaky Nature",null,null,null,null,null,{"$f":"SUM(U420:U423)","v":0},null,{"$f":"SUM(W420:W423)","v":99.8},null,{"$f":"SUM(Y420:Y423)","v":0}]
[null,null,{"$f":"C419","v":0},null,null,null,"Not Available",null,9781607537809,null,"Mutants in Nature",null,null,null,"Freaky Nature",null,null,null,"Amicus",null,0,null,24.95,null,0,null,{"$f":"IF(AC420=FALSE,AT420,0)","v":0},null,null,null,null,null,{"$f":"IF(AND(A420>=1,AC420=\"\"),A420,0)","v":0},{"$f":"IF(AND(A420>=1,AC420=\"x\"),A420,0)","v":0},{"$f":"IF(AND(A420>=1,AC420=\"\"),U420,0)","v":0},{"$f":"IF(AND(A420>=1,AC420=\"x\"),-U420,0)","v":0},{"$f":"IF(AND(C420>=1,AC420=\"\"),C420,0)","v":0},{"$f":"IF(AND(C420>=1,AC420=\"x\"),C420,0)","v":0},{"$f":"IF(AND(C420>=1,AC420=\"\"),W420*C420,0)","v":0},{"$f":"IF(AND(C420>=1,AC420=\"x\"),-W420*C420,0)","v":0},{"$f":"E420","v":0},{"$f":"Y420*E420","v":0},{"$f":"AG420+AK420+AO420","v":0},{"$f":"AH420+AL420","v":0},{"$f":"AQ420+AR420","v":0},{"$f":"AI420+AM420+AP420","v":0},{"$f":"AJ420+AN420","v":0},"Fall 2015",null,2016,null," 576.5/49",null,null,null,31,null,35.700000000000003,null,"Amicus High Interest",null,3.4,null,"Animals & Nature",null,"English",null,"Reinforced Library",null,32,null,"L",null,"530L",null,"2 – 5",null,"Kirsten W. Larson"]
[null,null,{"$f":"C419","v":0},null,null,null,"Not Available",null,9781607537816,null,"Super Powers in Nature",null,null,null,"Freaky Nature",null,null,null,"Amicus",null,0,null,24.95,null,0,null,{"$f":"IF(AC421=FALSE,AT421,0)","v":0},null,null,null,null,null,{"$f":"IF(AND(A421>=1,AC421=\"\"),A421,0)","v":0},{"$f":"IF(AND(A421>=1,AC421=\"x\"),A421,0)","v":0},{"$f":"IF(AND(A421>=1,AC421=\"\"),U421,0)","v":0},{"$f":"IF(AND(A421>=1,AC421=\"x\"),-U421,0)","v":0},0,0,0,0,{"$f":"E421","v":0},{"$f":"Y421*E421","v":0},{"$f":"AG421+AK421+AO421","v":0},{"$f":"AH421+AL421","v":0},{"$f":"AQ421+AR421","v":0},{"$f":"AI421+AM421+AP421","v":0},{"$f":"AJ421+AN421","v":0},"Fall 2015",null,2016,null,591.4,null,null,null,31,null,35.700000000000003,null,"Amicus High Interest",null,3.2,null,"Animals & Nature",null,"English",null,"Reinforced Library",null,32,null,"L",null,"550L",null,"2 – 5",null,"Kirsten W. Larson"]
[null,null,{"$f":"C419","v":0},null,null,null,"Not Available",null,9781607537823,null,"Vampires in Nature",null,null,null,"Freaky Nature",null,null,null,"Amicus",null,0,null,24.95,null,0,null,{"$f":"IF(AC422=FALSE,AT422,0)","v":0},null,null,null,null,null,{"$f":"IF(AND(A422>=1,AC422=\"\"),A422,0)","v":0},{"$f":"IF(AND(A422>=1,AC422=\"x\"),A422,0)","v":0},{"$f":"IF(AND(A422>=1,AC422=\"\"),U422,0)","v":0},{"$f":"IF(AND(A422>=1,AC422=\"x\"),-U422,0)","v":0},0,0,0,0,{"$f":"E422","v":0},{"$f":"Y422*E422","v":0},{"$f":"AG422+AK422+AO422","v":0},{"$f":"AH422+AL422","v":0},{"$f":"AQ422+AR422","v":0},{"$f":"AI422+AM422+AP422","v":0},{"$f":"AJ422+AN422","v":0},"Fall 2015",null,2016,null,"591.5/3",null,null,null,31,null,35.700000000000003,null,"Amicus High Interest",null,3.2,null,"Animals & Nature",null,"English",null,"Reinforced Library",null,32,null,"L",null,"480L",null,"2 – 5",null,"Kirsten W. Larson"]
[null,null,{"$f":"C419","v":0},null,null,null,"Not Available",null,9781607537830,null,"Zombies in Nature",null,null,null,"Freaky Nature",null,null,null,"Amicus",null,0,null,24.95,null,0,null,{"$f":"IF(AC423=FALSE,AT423,0)","v":0},null,null,null,null,null,{"$f":"IF(AND(A423>=1,AC423=\"\"),A423,0)","v":0},{"$f":"IF(AND(A423>=1,AC423=\"x\"),A423,0)","v":0},{"$f":"IF(AND(A423>=1,AC423=\"\"),U423,0)","v":0},{"$f":"IF(AND(A423>=1,AC423=\"x\"),-U423,0)","v":0},0,0,0,0,{"$f":"E423","v":0},{"$f":"Y423*E423","v":0},{"$f":"AG423+AK423+AO423","v":0},{"$f":"AH423+AL423","v":0},{"$f":"AQ423+AR423","v":0},{"$f":"AI423+AM423+AP423","v":0},{"$f":"AJ423+AN423","v":0},"Fall 2015",null,2016,null,"577.8/57",null,null,null,31,null,35.700000000000003,null,"Amicus High Interest",null,3.3,null,"Animals & Nature",null,"English",null,"Reinforced Library",null,32,null,"L",null,"510L",null,"2 – 5",null,"Kirsten W. Larson"]
[]
[null,null,null,null,null,null,null,null,null,null,"Complete Series of 6",null,null,null,"Great Outdoors",null,null,null,null,null,{"$f":"SUM(U426:U431)","v":0},null,{"$f":"SUM(W426:W431)","v":149.69999999999999},null,{"$f":"SUM(Y426:Y431)","v":0}]
[null,null,{"$f":"C425","v":0},null,null,null,"Not Available",null,9781607537960,null,"Camping",null,null,null,"Great Outdoors",null,null,null,"Amicus",null,0,null,24.95,null,0,null,{"$f":"IF(AC426=FALSE,AT426,0)","v":0},null,null,null,null,null,{"$f":"IF(AND(A426>=1,AC426=\"\"),A426,0)","v":0},{"$f":"IF(AND(A426>=1,AC426=\"x\"),A426,0)","v":0},{"$f":"IF(AND(A426>=1,AC426=\"\"),U426,0)","v":0},{"$f":"IF(AND(A426>=1,AC426=\"x\"),-U426,0)","v":0},{"$f":"IF(AND(C426>=1,AC426=\"\"),C426,0)","v":0},{"$f":"IF(AND(C426>=1,AC426=\"x\"),C426,0)","v":0},{"$f":"IF(AND(C426>=1,AC426=\"\"),W426*C426,0)","v":0},{"$f":"IF(AND(C426>=1,AC426=\"x\"),-W426*C426,0)","v":0},{"$f":"E426","v":0},{"$f":"Y426*E426","v":0},{"$f":"AG426+AK426+AO426","v":0},{"$f":"AH426+AL426","v":0},{"$f":"AQ426+AR426","v":0},{"$f":"AI426+AM426+AP426","v":0},{"$f":"AJ426+AN426","v":0},"Fall 2016",null,2017,null,796.54,null,null,null,31,null,35.700000000000003,null,"Amicus High Interest",null,3.1,null,"Animals & Nature",null,"English",null,"Reinforced Library",null,32,null,"K",null,"550L",null,"2 – 5",null,"Allan Morey"]
[null,null,{"$f":"C425","v":0},null,null,null,"Not Available",null,9781607537977,null,"Canoeing",null,null,null,"Great Outdoors",null,null,null,"Amicus",null,0,null,24.95,null,0,null,0,null,null,null,null,null,0,0,0,0,0,0,0,0,0,0,0,0,0,0,0,"Fall 2016",null,2017,null,797.12199999999996,null,null,null,31,null,35.700000000000003,null,"Amicus High Interest",null,3.1,null,"Animals & Nature",null,"English",null,"Reinforced Library",null,32,null,"K",null,"530L",null,"2 – 5",null,"Matt Doeden"]
[null,null,{"$f":"C425","v":0},null,null,null,"Not Available",null,9781607537984,null,"Duck Hunting",null,null,null,"Great Outdoors",null,null,null,"Amicus",null,0,null,24.95,null,0,null,0,null,null,null,null,null,0,0,0,0,0,0,0,0,0,0,0,0,0,0,0,"Fall 2016",null,2017,null,"799.2/44",null,null,null,31,null,35.700000000000003,null,"Amicus High Interest",null,3.3,null,"Animals & Nature",null,"English",null,"Reinforced Library",null,32,null,"K",null,"600L",null,"2 – 5",null,"Matt Doeden"]
[null,null,{"$f":"C425","v":0},null,null,null,"Not Available",null,9781607537991,null,"Freshwater Fishing",null,null,null,"Great Outdoors",null,null,null,"Amicus",null,0,null,24.95,null,0,null,0,null,null,null,null,null,0,0,0,0,0,0,0,0,0,0,0,0,0,0,0,"Fall 2016",null,2017,null,"799.1/1",null,null,null,31,null,35.700000000000003,null,"Amicus High Interest",null,3,null,"Animals & Nature",null,"English",null,"Reinforced Library",null,32,null,"K",null,"570L",null,"2 – 5",null,"Allan Morey"]
[null,null,{"$f":"C425","v":0},null,null,null,"Not Available",null,9781607538004,null,"Hiking",null,null,null,"Great Outdoors",null,null,null,"Amicus",null,0,null,24.95,null,0,null,0,null,null,null,null,null,0,0,0,0,0,0,0,0,0,0,0,0,0,0,0,"Fall 2016",null,2017,null,796.51,null,null,null,31,null,35.700000000000003,null,"Amicus High Interest",null,3.2,null,"Animals & Nature",null,"English",null,"Reinforced Library",null,32,null,"K",null,"560L",null,"2 – 5",null,"Allan Morey"]
[null,null,{"$f":"C425","v":0},null,null,null,"Not Available",null,9781607538011,null,"Rock Climbing",null,null,null,"Great Outdoors",null,null,null,"Amicus",null,0,null,24.95,null,0,null,0,null,null,null,null,null,0,0,0,0,0,0,0,0,0,0,0,0,0,0,0,"Fall 2016",null,2017,null,"796.522/3",null,null,null,31,null,35.700000000000003,null,"Amicus High Interest",null,3.3,null,"Animals & Nature",null,"English",null,"Reinforced Library",null,32,null,"K",null,"540L",null,"2 – 5",null,"Matt Doeden"]
[]
[null,null,null,null,null,null,null,null,null,null,"Complete Series of 2",null,null,null,"Grow Your Food",null,null,null,null,null,{"$f":"SUM(U434:U435)","v":0},null,{"$f":"SUM(W434:W435)","v":47.9},null,{"$f":"SUM(Y434:Y435)","v":0}]
[null,null,{"$f":"C433","v":0},null,null,null,"Not Available",null,9781607537397,null,"So You Want to Grow a Pie?",null,null,null,"Grow Your Food",null,null,null,"Amicus",null,0,null,23.95,null,0,null,{"$f":"IF(AC434=FALSE,AT434,0)","v":0},null,null,null,null,null,{"$f":"IF(AND(A434>=1,AC434=\"\"),A434,0)","v":0},{"$f":"IF(AND(A434>=1,AC434=\"x\"),A434,0)","v":0},{"$f":"IF(AND(A434>=1,AC434=\"\"),U434,0)","v":0},{"$f":"IF(AND(A434>=1,AC434=\"x\"),-U434,0)","v":0},{"$f":"IF(AND(C434>=1,AC434=\"\"),C434,0)","v":0},{"$f":"IF(AND(C434>=1,AC434=\"x\"),C434,0)","v":0},{"$f":"IF(AND(C434>=1,AC434=\"\"),W434*C434,0)","v":0},{"$f":"IF(AND(C434>=1,AC434=\"x\"),-W434*C434,0)","v":0},{"$f":"E434","v":0},{"$f":"Y434*E434","v":0},{"$f":"AG434+AK434+AO434","v":0},{"$f":"AH434+AL434","v":0},{"$f":"AQ434+AR434","v":0},{"$f":"AI434+AM434+AP434","v":0},{"$f":"AJ434+AN434","v":0},"Fall 2015",null,2016,null," 634",null,null,null,41,null,34.25,null,"Amicus Illustrated",null,2.6,null,"Health",null,"English",null,"Reinforced Library",null,24,null,"J",null,"520L",null,"2 – 5",null,"Bridget Heos"]
[null,null,{"$f":"C433","v":0},null,null,null,"Not Available",null,9781607537410,null,"So You Want to Grow a Salad?",null,null,null,"Grow Your Food",null,null,null,"Amicus",null,0,null,23.95,null,0,null,{"$f":"IF(AC435=FALSE,AT435,0)","v":0},null,null,null,null,null,{"$f":"IF(AND(A435>=1,AC435=\"\"),A435,0)","v":0},{"$f":"IF(AND(A435>=1,AC435=\"x\"),A435,0)","v":0},{"$f":"IF(AND(A435>=1,AC435=\"\"),U435,0)","v":0},{"$f":"IF(AND(A435>=1,AC435=\"x\"),-U435,0)","v":0},0,0,0,0,{"$f":"E435","v":0},{"$f":"Y435*E435","v":0},{"$f":"AG435+AK435+AO435","v":0},{"$f":"AH435+AL435","v":0},{"$f":"AQ435+AR435","v":0},{"$f":"AI435+AM435+AP435","v":0},{"$f":"AJ435+AN435","v":0},"Fall 2015",null,2016,null,635,null,null,null,41,null,34.25,null,"Amicus Illustrated",null,2.7,null,"Health",null,"English",null,"Reinforced Library",null,24,null,"J",null,"500L",null,"2 – 5",null,"Bridget Heos"]
[]
[null,null,null,null,null,null,null,null,null,null,"Complete Series of 4",null,null,null,"Healthy Me!",null,null,null,null,null,{"$f":"SUM(U438:U441)","v":0},null,{"$f":"SUM(W438:W441)","v":95.8},null,{"$f":"SUM(Y438:Y441)","v":0}]
[null,null,{"$f":"C437","v":0},null,null,null,"Not Available",null,9781607535867,null,"My Body Needs Exercise",null,null,null,"Healthy Me!",null,null,null,"Amicus",null,0,null,23.95,null,0,null,{"$f":"IF(AC438=FALSE,AT438,0)","v":0},null,null,null,null,null,{"$f":"IF(AND(A438>=1,AC438=\"\"),A438,0)","v":0},{"$f":"IF(AND(A438>=1,AC438=\"x\"),A438,0)","v":0},{"$f":"IF(AND(A438>=1,AC438=\"\"),U438,0)","v":0},{"$f":"IF(AND(A438>=1,AC438=\"x\"),-U438,0)","v":0},{"$f":"IF(AND(C438>=1,AC438=\"\"),C438,0)","v":0},{"$f":"IF(AND(C438>=1,AC438=\"x\"),C438,0)","v":0},{"$f":"IF(AND(C438>=1,AC438=\"\"),W438*C438,0)","v":0},{"$f":"IF(AND(C438>=1,AC438=\"x\"),-W438*C438,0)","v":0},{"$f":"E438","v":0},{"$f":"Y438*E438","v":0},{"$f":"AG438+AK438+AO438","v":0},{"$f":"AH438+AL438","v":0},{"$f":"AQ438+AR438","v":0},{"$f":"AI438+AM438+AP438","v":0},{"$f":"AJ438+AN438","v":0},"Fall 2014",null,2015,null,613.70000000000005,null,null,null,31,null,34.25,null,"Amicus High Interest",null,2.2999999999999998,null,"Health",null,"English",null,"Reinforced Library",null,24,null,"I",null,"420L",null,"1 - 4",null,"Jenna Lee Gleisner"]
[null,null,{"$f":"C437","v":0},null,null,null,"Not Available",null,9781607535874,null,"My Body Needs Food",null,null,null,"Healthy Me!",null,null,null,"Amicus",null,0,null,23.95,null,0,null,{"$f":"IF(AC439=FALSE,AT439,0)","v":0},null,null,null,null,null,{"$f":"IF(AND(A439>=1,AC439=\"\"),A439,0)","v":0},{"$f":"IF(AND(A439>=1,AC439=\"x\"),A439,0)","v":0},{"$f":"IF(AND(A439>=1,AC439=\"\"),U439,0)","v":0},{"$f":"IF(AND(A439>=1,AC439=\"x\"),-U439,0)","v":0},0,0,0,0,{"$f":"E439","v":0},{"$f":"Y439*E439","v":0},{"$f":"AG439+AK439+AO439","v":0},{"$f":"AH439+AL439","v":0},{"$f":"AQ439+AR439","v":0},{"$f":"AI439+AM439+AP439","v":0},{"$f":"AJ439+AN439","v":0},"Fall 2014",null,2015,null,613.20000000000005,null,null,null,31,null,34.25,null,"Amicus High Interest",null,2.2999999999999998,null,"Health",null,"English",null,"Reinforced Library",null,24,null,"I",null,"400L",null,"1 - 4",null,"Jenna Lee Gleisner"]
[null,null,{"$f":"C437","v":0},null,null,null,"Not Available",null,9781607535881,null,"My Body Needs Rest",null,null,null,"Healthy Me!",null,null,null,"Amicus",null,0,null,23.95,null,0,null,{"$f":"IF(AC440=FALSE,AT440,0)","v":0},null,null,null,null,null,{"$f":"IF(AND(A440>=1,AC440=\"\"),A440,0)","v":0},{"$f":"IF(AND(A440>=1,AC440=\"x\"),A440,0)","v":0},{"$f":"IF(AND(A440>=1,AC440=\"\"),U440,0)","v":0},{"$f":"IF(AND(A440>=1,AC440=\"x\"),-U440,0)","v":0},0,0,0,0,{"$f":"E440","v":0},{"$f":"Y440*E440","v":0},{"$f":"AG440+AK440+AO440","v":0},{"$f":"AH440+AL440","v":0},{"$f":"AQ440+AR440","v":0},{"$f":"AI440+AM440+AP440","v":0},{"$f":"AJ440+AN440","v":0},"Fall 2014",null,2015,null,"612.8/21083",null,null,null,31,null,34.25,null,"Amicus High Interest",null,2.4,null,"Health",null,"English",null,"Reinforced Library",null,24,null,"I",null,"510L",null,"1 - 4",null,"Jenna Lee Gleisner"]
[null,null,{"$f":"C437","v":0},null,null,null,"Not Available",null,9781607535898,null,"My Body Needs to Be Clean",null,null,null,"Healthy Me!",null,null,null,"Amicus",null,0,null,23.95,null,0,null,{"$f":"IF(AC441=FALSE,AT441,0)","v":0},null,null,null,null,null,{"$f":"IF(AND(A441>=1,AC441=\"\"),A441,0)","v":0},{"$f":"IF(AND(A441>=1,AC441=\"x\"),A441,0)","v":0},{"$f":"IF(AND(A441>=1,AC441=\"\"),U441,0)","v":0},{"$f":"IF(AND(A441>=1,AC441=\"x\"),-U441,0)","v":0},0,0,0,0,{"$f":"E441","v":0},{"$f":"Y441*E441","v":0},{"$f":"AG441+AK441+AO441","v":0},{"$f":"AH441+AL441","v":0},{"$f":"AQ441+AR441","v":0},{"$f":"AI441+AM441+AP441","v":0},{"$f":"AJ441+AN441","v":0},"Fall 2014",null,2015,null,613.4,null,null,null,31,null,34.25,null,"Amicus High Interest",null,2.5,null,"Health",null,"English",null,"Reinforced Library",null,24,null,"I",null,"490L",null,"1 - 4",null,"Jenna Lee Gleisner"]
[]
[null,null,null,null,null,null,null,null,null,null,"Complete Series of 6",null,null,null,"Hear Homophones Here",null,null,null,null,null,{"$f":"SUM(U444:U449)","v":0},null,{"$f":"SUM(W444:W449)","v":125.7},null,{"$f":"SUM(Y444:Y449)","v":0}]
[null,null,{"$f":"C443","v":0},null,null,null,"Not Available",null,9781607535683,null,"Are You a Ewe?",null,null,null,"Hear Homophones Here",null,null,null,"Amicus",null,0,null,20.95,null,0,null,{"$f":"IF(AC444=FALSE,AT444,0)","v":0},null,null,null,null,null,{"$f":"IF(AND(A444>=1,AC444=\"\"),A444,0)","v":0},{"$f":"IF(AND(A444>=1,AC444=\"x\"),A444,0)","v":0},{"$f":"IF(AND(A444>=1,AC444=\"\"),U444,0)","v":0},{"$f":"IF(AND(A444>=1,AC444=\"x\"),-U444,0)","v":0},{"$f":"IF(AND(C444>=1,AC444=\"\"),C444,0)","v":0},{"$f":"IF(AND(C444>=1,AC444=\"x\"),C444,0)","v":0},{"$f":"IF(AND(C444>=1,AC444=\"\"),W444*C444,0)","v":0},{"$f":"IF(AND(C444>=1,AC444=\"x\"),-W444*C444,0)","v":0},{"$f":"E444","v":0},{"$f":"Y444*E444","v":0},{"$f":"AG444+AK444+AO444","v":0},{"$f":"AH444+AL444","v":0},{"$f":"AQ444+AR444","v":0},{"$f":"AI444+AM444+AP444","v":0},{"$f":"AJ444+AN444","v":0},"Fall 2014",null,2015,null,428.1,null,null,null,"Website",null,29.95,null,"Amicus Readers",null,1.4,null,"Language Arts",null,"English",null,"Reinforced Library",null,16,null,"E",null,"380L",null,"1 - 4",null,"Rebecca Felix"]
[null,null,{"$f":"C443","v":0},null,null,null,"Not Available",null,9781607535690,null,"Can You Be a Bee?",null,null,null,"Hear Homophones Here",null,null,null,"Amicus",null,0,null,20.95,null,0,null,0,null,null,null,null,null,0,0,0,0,0,0,0,0,0,0,0,0,0,0,0,"Fall 2014",null,2015,null,"428/.1",null,null,null,"Website",null,29.95,null,"Amicus Readers",null,1.7,null,"Language Arts",null,"English",null,"Reinforced Library",null,16,null,"E",null,"390L",null,"1 - 4",null,"Rebecca Felix"]
[null,null,{"$f":"C443","v":0},null,null,null,"Not Available",null,9781607535706,null,"New Gnu Knew, The",null,null,null,"Hear Homophones Here",null,null,null,"Amicus",null,0,null,20.95,null,0,null,0,null,null,null,null,null,0,0,0,0,0,0,0,0,0,0,0,0,0,0,0,"Fall 2014",null,2015,null,428.1,null,null,null,"Website",null,29.95,null,"Amicus Readers",null,1.8,null,"Language Arts",null,"English",null,"Reinforced Library",null,16,null,"E",null,"460L",null,"1 - 4",null,"Rebecca Felix"]
[null,null,{"$f":"C443","v":0},null,null,null,"Not Available",null,9781607535713,null,"Pair of Pears, A",null,null,null,"Hear Homophones Here",null,null,null,"Amicus",null,0,null,20.95,null,0,null,0,null,null,null,null,null,0,0,0,0,0,0,0,0,0,0,0,0,0,0,0,"Fall 2014",null,2015,null,"428/.1",null,null,null,"Website",null,29.95,null,"Amicus Readers",null,1.8,null,"Language Arts",null,"English",null,"Reinforced Library",null,16,null,"E",null,"400L",null,"1 - 4",null,"Rebecca Felix"]
[null,null,{"$f":"C443","v":0},null,null,null,"Not Available",null,9781607535720,null,"Rows of Roses",null,null,null,"Hear Homophones Here",null,null,null,"Amicus",null,0,null,20.95,null,0,null,0,null,null,null,null,null,0,0,0,0,0,0,0,0,0,0,0,0,0,0,0,"Fall 2014",null,2015,null,428.1,null,null,null,"Website",null,29.95,null,"Amicus Readers",null,1.7,null,"Language Arts",null,"English",null,"Reinforced Library",null,16,null,"E",null,"440L",null,"1 - 4",null,"Rebecca Felix"]
[null,null,{"$f":"C443","v":0},null,null,null,"Not Available",null,9781607535737,null,"They Won One!",null,null,null,"Hear Homophones Here",null,null,null,"Amicus",null,0,null,20.95,null,0,null,0,null,null,null,null,null,0,0,0,0,0,0,0,0,0,0,0,0,0,0,0,"Fall 2014",null,2015,null,428.1,null,null,null,"Website",null,29.95,null,"Amicus Readers",null,1.8,null,"Language Arts",null,"English",null,"Reinforced Library",null,16,null,"E",null,"380L",null,"1 - 4",null,"Rebecca Felix"]
[]
[null,null,null,null,null,null,null,null,null,null,"Complete Series of 5",null,null,null,"Inside My Body",null,null,null,null,null,{"$f":"SUM(U452:U456)","v":0},null,{"$f":"SUM(W452:W456)","v":119.75},null,{"$f":"SUM(Y452:Y456)","v":0}]
[null,null,{"$f":"C451","v":0},null,null,null,"Not Available",null,9781607537533,null,"My Bones",null,null,null,"Inside My Body",null,null,null,"Amicus",null,0,null,23.95,null,0,null,{"$f":"IF(AC452=FALSE,AT452,0)","v":0},null,null,null,null,null,{"$f":"IF(AND(A452>=1,AC452=\"\"),A452,0)","v":0},{"$f":"IF(AND(A452>=1,AC452=\"x\"),A452,0)","v":0},{"$f":"IF(AND(A452>=1,AC452=\"\"),U452,0)","v":0},{"$f":"IF(AND(A452>=1,AC452=\"x\"),-U452,0)","v":0},{"$f":"IF(AND(C452>=1,AC452=\"\"),C452,0)","v":0},{"$f":"IF(AND(C452>=1,AC452=\"x\"),C452,0)","v":0},{"$f":"IF(AND(C452>=1,AC452=\"\"),W452*C452,0)","v":0},{"$f":"IF(AND(C452>=1,AC452=\"x\"),-W452*C452,0)","v":0},{"$f":"E452","v":0},{"$f":"Y452*E452","v":0},{"$f":"AG452+AK452+AO452","v":0},{"$f":"AH452+AL452","v":0},{"$f":"AQ452+AR452","v":0},{"$f":"AI452+AM452+AP452","v":0},{"$f":"AJ452+AN452","v":0},"Fall 2015",null,2016,null," 611/.71",null,null,null,39,null,34.25,null,"Amicus Illustrated",null,2.1,null,"Health",null,"English",null,"Reinforced Library",null,24,null,null,null,"480L",null,"2 – 5",null,"Emily C. Dawson"]
[null,null,{"$f":"C451","v":0},null,null,null,"Not Available",null,9781607537540,null,"My Brain",null,null,null,"Inside My Body",null,null,null,"Amicus",null,0,null,23.95,null,0,null,{"$f":"IF(AC453=FALSE,AT453,0)","v":0},null,null,null,null,null,{"$f":"IF(AND(A453>=1,AC453=\"\"),A453,0)","v":0},{"$f":"IF(AND(A453>=1,AC453=\"x\"),A453,0)","v":0},{"$f":"IF(AND(A453>=1,AC453=\"\"),U453,0)","v":0},{"$f":"IF(AND(A453>=1,AC453=\"x\"),-U453,0)","v":0},0,0,0,0,{"$f":"E453","v":0},{"$f":"Y453*E453","v":0},{"$f":"AG453+AK453+AO453","v":0},{"$f":"AH453+AL453","v":0},{"$f":"AQ453+AR453","v":0},{"$f":"AI453+AM453+AP453","v":0},{"$f":"AJ453+AN453","v":0},"Fall 2015",null,2016,null,"612.8/2",null,null,null,39,null,34.25,null,"Amicus Illustrated",null,2.4,null,"Health",null,"English",null,"Reinforced Library",null,24,null,null,null,"490L",null,"2 – 5",null,"Annette Bay Pimentel"]
[null,null,{"$f":"C451","v":0},null,null,null,"Not Available",null,9781607537557,null,"My Heart",null,null,null,"Inside My Body",null,null,null,"Amicus",null,0,null,23.95,null,0,null,{"$f":"IF(AC454=FALSE,AT454,0)","v":0},null,null,null,null,null,{"$f":"IF(AND(A454>=1,AC454=\"\"),A454,0)","v":0},{"$f":"IF(AND(A454>=1,AC454=\"x\"),A454,0)","v":0},{"$f":"IF(AND(A454>=1,AC454=\"\"),U454,0)","v":0},{"$f":"IF(AND(A454>=1,AC454=\"x\"),-U454,0)","v":0},0,0,0,0,{"$f":"E454","v":0},{"$f":"Y454*E454","v":0},{"$f":"AG454+AK454+AO454","v":0},{"$f":"AH454+AL454","v":0},{"$f":"AQ454+AR454","v":0},{"$f":"AI454+AM454+AP454","v":0},{"$f":"AJ454+AN454","v":0},"Fall 2015",null,2016,null,"612.1/7",null,null,null,39,null,34.25,null,"Amicus Illustrated",null,2.5,null,"Health",null,"English",null,"Reinforced Library",null,24,null,null,null,"480L",null,"2 – 5",null,"Jody Jensen Shaffer"]
[null,null,{"$f":"C451","v":0},null,null,null,"Not Available",null,9781607537571,null,"My Muscles",null,null,null,"Inside My Body",null,null,null,"Amicus",null,0,null,23.95,null,0,null,{"$f":"IF(AC455=FALSE,AT455,0)","v":0},null,null,null,null,null,{"$f":"IF(AND(A455>=1,AC455=\"\"),A455,0)","v":0},{"$f":"IF(AND(A455>=1,AC455=\"x\"),A455,0)","v":0},{"$f":"IF(AND(A455>=1,AC455=\"\"),U455,0)","v":0},{"$f":"IF(AND(A455>=1,AC455=\"x\"),-U455,0)","v":0},0,0,0,0,{"$f":"E455","v":0},{"$f":"Y455*E455","v":0},{"$f":"AG455+AK455+AO455","v":0},{"$f":"AH455+AL455","v":0},{"$f":"AQ455+AR455","v":0},{"$f":"AI455+AM455+AP455","v":0},{"$f":"AJ455+AN455","v":0},"Fall 2015",null,2016,null,"612.7/4",null,null,null,39,null,34.25,null,"Amicus Illustrated",null,2.5,null,"Health",null,"English",null,"Reinforced Library",null,24,null,null,null,"540L",null,"2 – 5",null,"Jody Jensen Shaffer"]
[null,null,{"$f":"C451","v":0},null,null,null,"Not Available",null,9781607537588,null,"My Stomach",null,null,null,"Inside My Body",null,null,null,"Amicus",null,0,null,23.95,null,0,null,{"$f":"IF(AC456=FALSE,AT456,0)","v":0},null,null,null,null,null,{"$f":"IF(AND(A456>=1,AC456=\"\"),A456,0)","v":0},{"$f":"IF(AND(A456>=1,AC456=\"x\"),A456,0)","v":0},{"$f":"IF(AND(A456>=1,AC456=\"\"),U456,0)","v":0},{"$f":"IF(AND(A456>=1,AC456=\"x\"),-U456,0)","v":0},0,0,0,0,{"$f":"E456","v":0},{"$f":"Y456*E456","v":0},{"$f":"AG456+AK456+AO456","v":0},{"$f":"AH456+AL456","v":0},{"$f":"AQ456+AR456","v":0},{"$f":"AI456+AM456+AP456","v":0},{"$f":"AJ456+AN456","v":0},"Fall 2015",null,2016,null," 612.3/2",null,null,null,39,null,34.25,null,"Amicus Illustrated",null,2.4,null,"Health",null,"English",null,"Reinforced Library",null,24,null,null,null,"480L",null,"2 – 5",null,"Annette Bay Pimentel"]
[]
[null,null,null,null,null,null,null,null,null,null,"Complete Series of 4",null,null,null,"Keeping Cities Clean",null,null,null,null,null,{"$f":"SUM(U459:U462)","v":0},null,{"$f":"SUM(W459:W462)","v":95.8},null,{"$f":"SUM(Y459:Y462)","v":0}]
[null,null,{"$f":"C458","v":0},null,null,null,"Not Available",null,9781607539643,null,"Follow that Bottle!",null,null,null,"Keeping Cities Clean",null,null,null,"Amicus",null,0,null,23.95,null,0,null,{"$f":"IF(AC459=FALSE,AT459,0)","v":0},null,null,null,null,null,{"$f":"IF(AND(A459>=1,AC459=\"\"),A459,0)","v":0},{"$f":"IF(AND(A459>=1,AC459=\"x\"),A459,0)","v":0},{"$f":"IF(AND(A459>=1,AC459=\"\"),U459,0)","v":0},{"$f":"IF(AND(A459>=1,AC459=\"x\"),-U459,0)","v":0},{"$f":"IF(AND(C459>=1,AC459=\"\"),C459,0)","v":0},{"$f":"IF(AND(C459>=1,AC459=\"x\"),C459,0)","v":0},{"$f":"IF(AND(C459>=1,AC459=\"\"),W459*C459,0)","v":0},{"$f":"IF(AND(C459>=1,AC459=\"x\"),-W459*C459,0)","v":0},{"$f":"E459","v":0},{"$f":"Y459*E459","v":0},{"$f":"AG459+AK459+AO459","v":0},{"$f":"AH459+AL459","v":0},{"$f":"AQ459+AR459","v":0},{"$f":"AI459+AM459+AP459","v":0},{"$f":"AJ459+AN459","v":0},"Fall 2016",null,2017,null,"363.72/88",null,null,null,42,null,34.25,null,"Amicus Illustrated",null,2.9,null,"Science & Technology",null,"English",null,"Reinforced Library",null,24,null,"J",null,"540L",null,"2 – 5",null,"Bridget Heos"]
[null,null,{"$f":"C458","v":0},null,null,null,"Not Available",null,9781607539636,null,"Follow that Garbage!",null,null,null,"Keeping Cities Clean",null,null,null,"Amicus",null,0,null,23.95,null,0,null,{"$f":"IF(AC460=FALSE,AT460,0)","v":0},null,null,null,null,null,{"$f":"IF(AND(A460>=1,AC460=\"\"),A460,0)","v":0},{"$f":"IF(AND(A460>=1,AC460=\"x\"),A460,0)","v":0},{"$f":"IF(AND(A460>=1,AC460=\"\"),U460,0)","v":0},{"$f":"IF(AND(A460>=1,AC460=\"x\"),-U460,0)","v":0},0,0,0,0,{"$f":"E460","v":0},{"$f":"Y460*E460","v":0},{"$f":"AG460+AK460+AO460","v":0},{"$f":"AH460+AL460","v":0},{"$f":"AQ460+AR460","v":0},{"$f":"AI460+AM460+AP460","v":0},{"$f":"AJ460+AN460","v":0},"Fall 2016",null,2017,null,"363.72/8",null,null,null,42,null,34.25,null,"Amicus Illustrated",null,2.9,null,"Science & Technology",null,"English",null,"Reinforced Library",null,24,null,"J",null,"610L",null,"2 – 5",null,"Bridget Heos"]
[null,null,{"$f":"C458","v":0},null,null,null,"Not Available",null,9781607539650,null,"Follow that Paper!",null,null,null,"Keeping Cities Clean",null,null,null,"Amicus",null,0,null,23.95,null,0,null,{"$f":"IF(AC461=FALSE,AT461,0)","v":0},null,null,null,null,null,{"$f":"IF(AND(A461>=1,AC461=\"\"),A461,0)","v":0},{"$f":"IF(AND(A461>=1,AC461=\"x\"),A461,0)","v":0},{"$f":"IF(AND(A461>=1,AC461=\"\"),U461,0)","v":0},{"$f":"IF(AND(A461>=1,AC461=\"x\"),-U461,0)","v":0},0,0,0,0,{"$f":"E461","v":0},{"$f":"Y461*E461","v":0},{"$f":"AG461+AK461+AO461","v":0},{"$f":"AH461+AL461","v":0},{"$f":"AQ461+AR461","v":0},{"$f":"AI461+AM461+AP461","v":0},{"$f":"AJ461+AN461","v":0},"Fall 2016",null,2017,null,"363.72/88",null,null,null,42,null,34.25,null,"Amicus Illustrated",null,2.9,null,"Science & Technology",null,"English",null,"Reinforced Library",null,24,null,"J",null,"580L",null,"2 – 5",null,"Bridget Heos"]
[null,null,{"$f":"C458","v":0},null,null,null,"Not Available",null,9781607539629,null,"Follow that Tap Water!",null,null,null,"Keeping Cities Clean",null,null,null,"Amicus",null,0,null,23.95,null,0,null,{"$f":"IF(AC462=FALSE,AT462,0)","v":0},null,null,null,null,null,{"$f":"IF(AND(A462>=1,AC462=\"\"),A462,0)","v":0},{"$f":"IF(AND(A462>=1,AC462=\"x\"),A462,0)","v":0},{"$f":"IF(AND(A462>=1,AC462=\"\"),U462,0)","v":0},{"$f":"IF(AND(A462>=1,AC462=\"x\"),-U462,0)","v":0},0,0,0,0,{"$f":"E462","v":0},{"$f":"Y462*E462","v":0},{"$f":"AG462+AK462+AO462","v":0},{"$f":"AH462+AL462","v":0},{"$f":"AQ462+AR462","v":0},{"$f":"AI462+AM462+AP462","v":0},{"$f":"AJ462+AN462","v":0},"Fall 2016",null,2017,null,"363.6/1",null,null,null,42,null,34.25,null,"Amicus Illustrated",null,3,null,"Science & Technology",null,"English",null,"Reinforced Library",null,24,null,"J",null,"670L",null,"2 – 5",null,"Bridget Heos"]
[]
[null,null,null,null,null,null,null,null,null,null,"Complete Series of 3",null,null,null,"Kids Save the Earth",null,null,null,null,null,{"$f":"SUM(U465:U467)","v":0},null,{"$f":"SUM(W465:W467)","v":71.849999999999994},null,{"$f":"SUM(Y465:Y467)","v":0}]
[null,null,{"$f":"C464","v":0},null,null,null,"Not Available",null,9781607535201,null,"Recycle Every Day",null,null,null,"Kids Save the Earth",null,null,null,"Amicus",null,0,null,23.95,null,0,null,{"$f":"IF(AC465=FALSE,AT465,0)","v":0},null,null,null,null,null,{"$f":"IF(AND(A465>=1,AC465=\"\"),A465,0)","v":0},{"$f":"IF(AND(A465>=1,AC465=\"x\"),A465,0)","v":0},{"$f":"IF(AND(A465>=1,AC465=\"\"),U465,0)","v":0},{"$f":"IF(AND(A465>=1,AC465=\"x\"),-U465,0)","v":0},{"$f":"IF(AND(C465>=1,AC465=\"\"),C465,0)","v":0},{"$f":"IF(AND(C465>=1,AC465=\"x\"),C465,0)","v":0},{"$f":"IF(AND(C465>=1,AC465=\"\"),W465*C465,0)","v":0},{"$f":"IF(AND(C465>=1,AC465=\"x\"),-W465*C465,0)","v":0},{"$f":"E465","v":0},{"$f":"Y465*E465","v":0},{"$f":"AG465+AK465+AO465","v":0},{"$f":"AH465+AL465","v":0},{"$f":"AQ465+AR465","v":0},{"$f":"AI465+AM465+AP465","v":0},{"$f":"AJ465+AN465","v":0},"Fall 2013",null,2014,null,"363.72/82",null,null,null,31,null,34.25,null,"Amicus High Interest",null,2.2999999999999998,null,"Science & Technology",null,"English",null,"Reinforced Library",null,24,null,"I",null,"340L",null,"2 – 5",null,"Tammy Gagne"]
[null,null,{"$f":"C464","v":0},null,null,null,"Not Available",null,9781607535188,null,"Save Energy Every Day",null,null,null,"Kids Save the Earth",null,null,null,"Amicus",null,0,null,23.95,null,0,null,{"$f":"IF(AC466=FALSE,AT466,0)","v":0},null,null,null,null,null,{"$f":"IF(AND(A466>=1,AC466=\"\"),A466,0)","v":0},{"$f":"IF(AND(A466>=1,AC466=\"x\"),A466,0)","v":0},{"$f":"IF(AND(A466>=1,AC466=\"\"),U466,0)","v":0},{"$f":"IF(AND(A466>=1,AC466=\"x\"),-U466,0)","v":0},0,0,0,0,{"$f":"E466","v":0},{"$f":"Y466*E466","v":0},{"$f":"AG466+AK466+AO466","v":0},{"$f":"AH466+AL466","v":0},{"$f":"AQ466+AR466","v":0},{"$f":"AI466+AM466+AP466","v":0},{"$f":"AJ466+AN466","v":0},"Fall 2013",null,2014,null,644,null,null,null,31,null,34.25,null,"Amicus High Interest",null,2.1,null,"Science & Technology",null,"English",null,"Reinforced Library",null,24,null,"I",null,"420L",null,"2 – 5",null,"Tammy Gagne"]
[null,null,{"$f":"C464","v":0},null,null,null,"Not Available",null,9781607535218,null,"Take Care of the Earth Every Day",null,null,null,"Kids Save the Earth",null,null,null,"Amicus",null,0,null,23.95,null,0,null,{"$f":"IF(AC467=FALSE,AT467,0)","v":0},null,null,null,null,null,{"$f":"IF(AND(A467>=1,AC467=\"\"),A467,0)","v":0},{"$f":"IF(AND(A467>=1,AC467=\"x\"),A467,0)","v":0},{"$f":"IF(AND(A467>=1,AC467=\"\"),U467,0)","v":0},{"$f":"IF(AND(A467>=1,AC467=\"x\"),-U467,0)","v":0},0,0,0,0,{"$f":"E467","v":0},{"$f":"Y467*E467","v":0},{"$f":"AG467+AK467+AO467","v":0},{"$f":"AH467+AL467","v":0},{"$f":"AQ467+AR467","v":0},{"$f":"AI467+AM467+AP467","v":0},{"$f":"AJ467+AN467","v":0},"Fall 2013",null,2014,null,363.7,null,null,null,31,null,34.25,null,"Amicus High Interest",null,1.9,null,"Science & Technology",null,"English",null,"Reinforced Library",null,24,null,"I",null,"410L",null,"2 – 5",null,"Tammy Gagne"]
[]
[null,null,null,null,null,null,null,null,null,null,"Complete Series of 5",null,null,null,"Let's Race",null,null,null,null,null,{"$f":"SUM(U470:U474)","v":0},null,{"$f":"SUM(W470:W474)","v":104.75},null,{"$f":"SUM(Y470:Y474)","v":0}]
[null,null,{"$f":"C469","v":0},null,null,null,"Not Available",null,9781607539117,null,"Boat Race, The",null,null,null,"Let's Race",null,null,null,"Amicus",null,0,null,20.95,null,0,null,{"$f":"IF(AC470=FALSE,AT470,0)","v":0},null,null,null,null,null,{"$f":"IF(AND(A470>=1,AC470=\"\"),A470,0)","v":0},{"$f":"IF(AND(A470>=1,AC470=\"x\"),A470,0)","v":0},{"$f":"IF(AND(A470>=1,AC470=\"\"),U470,0)","v":0},{"$f":"IF(AND(A470>=1,AC470=\"x\"),-U470,0)","v":0},{"$f":"IF(AND(C470>=1,AC470=\"\"),C470,0)","v":0},{"$f":"IF(AND(C470>=1,AC470=\"x\"),C470,0)","v":0},{"$f":"IF(AND(C470>=1,AC470=\"\"),W470*C470,0)","v":0},{"$f":"IF(AND(C470>=1,AC470=\"x\"),-W470*C470,0)","v":0},{"$f":"E470","v":0},{"$f":"Y470*E470","v":0},{"$f":"AG470+AK470+AO470","v":0},{"$f":"AH470+AL470","v":0},{"$f":"AQ470+AR470","v":0},{"$f":"AI470+AM470+AP470","v":0},{"$f":"AJ470+AN470","v":0},"Fall 2016",null,2017,null,"797.1/4",null,null,null,"Website",null,29.95,null,"Amicus Readers",null,0.6,null,"Language Arts",null,"English",null,"Reinforced Library",null,16,null,"D",null,"210L",null,"K - 3",null,"Rachel Bach"]
[null,null,{"$f":"C469","v":0},null,null,null,"Not Available",null,9781607539124,null,"Car Race, The",null,null,null,"Let's Race",null,null,null,"Amicus",null,0,null,20.95,null,0,null,0,null,null,null,null,null,0,0,0,0,0,0,0,0,0,0,0,0,0,0,0,"Fall 2016",null,2017,null,796.72,null,null,null,"Website",null,29.95,null,"Amicus Readers",null,0.7,null,"Language Arts",null,"English",null,"Reinforced Library",null,16,null,"D",null,"320L",null,"K - 3",null,"Rachel Bach"]
[null,null,{"$f":"C469","v":0},null,null,null,"Not Available",null,9781607539148,null,"Hot Air Balloon Race, The",null,null,null,"Let's Race",null,null,null,"Amicus",null,0,null,20.95,null,0,null,0,null,null,null,null,null,0,0,0,0,0,0,0,0,0,0,0,0,0,0,0,"Fall 2016",null,2017,null,"797.5/1",null,null,null,"Website",null,29.95,null,"Amicus Readers",null,0.9,null,"Language Arts",null,"English",null,"Reinforced Library",null,16,null,"D",null,"290L",null,"K - 3",null,"Rachel Bach"]
[null,null,{"$f":"C469","v":0},null,null,null,"Not Available",null,9781607539155,null,"Motorcycle Race, The",null,null,null,"Let's Race",null,null,null,"Amicus",null,0,null,20.95,null,0,null,0,null,null,null,null,null,0,0,0,0,0,0,0,0,0,0,0,0,0,0,0,"Fall 2016",null,2017,null,"796.7/56",null,null,null,"Website",null,29.95,null,"Amicus Readers",null,0.8,null,"Language Arts",null,"English",null,"Reinforced Library",null,16,null,"D",null,"270L",null,"K - 3",null,"Mari Schuh"]
[null,null,{"$f":"C469","v":0},null,null,null,"Not Available",null,9781607539162,null,"Tractor Race, The",null,null,null,"Let's Race",null,null,null,"Amicus",null,0,null,20.95,null,0,null,0,null,null,null,null,null,0,0,0,0,0,0,0,0,0,0,0,0,0,0,0,"Fall 2016",null,2017,null,629.22799999999995,null,null,null,"Website",null,29.95,null,"Amicus Readers",null,0.7,null,"Language Arts",null,"English",null,"Reinforced Library",null,16,null,"D",null,"210L",null,"K - 3",null,"Mari Schuh"]
[]
[null,null,null,null,null,null,null,null,null,null,"Complete Series of 6",null,null,null,"Little Animal Friends (Board Book)",null,null,null,null,null,{"$f":"SUM(U477:U482)","v":85.8},null,{"$f":"SUM(W477:W482)","v":59.940000000000005},null,{"$f":"SUM(Y477:Y482)","v":89.94}]
[{"$f":"A476","v":0},null,{"$f":"C476","v":0},null,{"$f":"E476","v":0},null,9781681525648,null,9781681525631,null,"Little Hippo",null,null,null,"Little Animal Friends (Board Book)",null,null,null,"Amicus",null,14.3,null,9.99,null,{"$f":"W477+5","v":14.99},null,{"$f":"IF(AC477=FALSE,AT477,0)","v":0},null,null,null,null,null,{"$f":"IF(AND(A477>=1,AC477=\"\"),A477,0)","v":0},{"$f":"IF(AND(A477>=1,AC477=\"x\"),A477,0)","v":0},{"$f":"IF(AND(A477>=1,AC477=\"\"),U477,0)","v":0},{"$f":"IF(AND(A477>=1,AC477=\"x\"),-U477,0)","v":0},{"$f":"IF(AND(C477>=1,AC477=\"\"),C477,0)","v":0},{"$f":"IF(AND(C477>=1,AC477=\"x\"),C477,0)","v":0},{"$f":"IF(AND(C477>=1,AC477=\"\"),W477*C477,0)","v":0},{"$f":"IF(AND(C477>=1,AC477=\"x\"),-W477*C477,0)","v":0},{"$f":"E477","v":0},{"$f":"Y477*E477","v":0},{"$f":"AG477+AK477+AO477","v":0},{"$f":"AH477+AL477","v":0},{"$f":"AQ477+AR477","v":0},{"$f":"AI477+AM477+AP477","v":0},{"$f":"AJ477+AN477","v":0},"Spring 2020",null,2020,null,"E",null,"KR",null,13,null,9.99,null,"Amicus Ink",null,"Not Quizzable",null,"Animals & Nature",null,"English",null,"Board Book",null,20,null,null,null,null,null,"PreK - 1",null,"Julie Abery"]
[{"$f":"A476","v":0},null,{"$f":"C476","v":0},null,{"$f":"E476","v":0},null,9781681525662,null,9781681525655,null,"Little Monkey",null,null,null,"Little Animal Friends (Board Book)",null,null,null,"Amicus",null,14.3,null,9.99,null,14.99,null,0,null,null,null,null,null,0,0,0,0,0,0,0,0,0,0,0,0,0,0,0,"Spring 2020",null,2020,null,"E",null,"KR",null,13,null,9.99,null,"Amicus Ink",null,"Not Quizzable",null,"Animals & Nature",null,"English",null,"Board Book",null,20,null,null,null,null,null,"PreK - 1",null,"Julie Abery"]
[{"$f":"A476","v":0},null,{"$f":"C476","v":0},null,{"$f":"E476","v":0},null,9781681525174,null,9781681524146,null,"Little Panda",null,null,null,"Little Animal Friends (Board Book)",null,null,null,"Amicus",null,14.3,null,9.99,null,14.99,null,0,null,null,null,null,null,0,0,0,0,0,0,0,0,0,0,0,0,0,0,0,"Spring 2019",null,2019,null,"E",null,"CCBC; KR",null,13,null,9.99,null,"Amicus Ink",null,"Not Quizzable",null,"Animals & Nature",null,"English",null,"Board Book",null,20,null,null,null,null,null,"PreK - 1",null,"Julie Abery"]
[{"$f":"A476","v":0},null,{"$f":"C476","v":0},null,{"$f":"E476","v":0},null,9781681527437,null,9781681527413,null,"Little Penguin",null,null,null,"Little Animal Friends (Board Book)",null,null,null,"Amicus",null,14.3,null,9.99,null,14.99,null,0,null,null,null,null,null,0,0,0,0,0,0,0,0,0,0,0,0,0,0,0,"Spring 2021",null,2021,null,"E",null,"KR",null,13,null,9.99,null,"Amicus Ink",null,"Not Quizzable",null,"Animals & Nature",null,"English",null,"Board Book",null,20,null,null,null,null,null,"PreK - 1",null,"Julie Abery"]
[{"$f":"A476","v":0},null,{"$f":"C476","v":0},null,{"$f":"E476","v":0},null,9781681525167,null,9781681524139,null,"Little Tiger",null,null,null,"Little Animal Friends (Board Book)",null,null,null,"Amicus",null,14.3,null,9.99,null,14.99,null,0,null,null,null,null,null,0,0,0,0,0,0,0,0,0,0,0,0,0,0,0,"Spring 2019",null,2019,null,"E",null,"CCBC; KR",null,13,null,9.99,null,"Amicus Ink",null,"Not Quizzable",null,"Animals & Nature",null,"English",null,"Board Book",null,20,null,null,null,null,null,"PreK - 1",null,"Julie Abery"]
[{"$f":"A476","v":0},null,{"$f":"C476","v":0},null,{"$f":"E476","v":0},null,9781681527444,null,9781681527420,null,"Little Zebra",null,null,null,"Little Animal Friends (Board Book)",null,null,null,"Amicus",null,14.3,null,9.99,null,14.99,null,0,null,null,null,null,null,0,0,0,0,0,0,0,0,0,0,0,0,0,0,0,"Spring 2021",null,2021,null,"E",null,"KR",null,13,null,9.99,null,"Amicus Ink",null,"Not Quizzable",null,"Animals & Nature",null,"English",null,"Board Book",null,20,null,null,null,null,null,"PreK - 1",null,"Julie Abery"]
[]
[null,null,null,null,null,null,null,null,null,null,"Complete Series of 4",null,null,null,"Little Nature Explorers",null,null,null,null,null,{"$f":"SUM(U485:U488)","v":57.2},null,{"$f":"SUM(W485:W488)","v":39.96},null,{"$f":"SUM(Y485:Y488)","v":59.96}]
[{"$f":"A484","v":0},null,{"$f":"C484","v":0},null,{"$f":"E484","v":0},null,9781681526607,null,9781681526591,null,"Autumn Leaves Fall",null,null,null,"Little Nature Explorers",null,null,null,"Amicus",null,14.3,null,9.99,null,{"$f":"W485+5","v":14.99},null,{"$f":"IF(AC485=FALSE,AT485,0)","v":0},null,null,null,null,null,{"$f":"IF(AND(A485>=1,AC485=\"\"),A485,0)","v":0},{"$f":"IF(AND(A485>=1,AC485=\"x\"),A485,0)","v":0},{"$f":"IF(AND(A485>=1,AC485=\"\"),U485,0)","v":0},{"$f":"IF(AND(A485>=1,AC485=\"x\"),-U485,0)","v":0},{"$f":"IF(AND(C485>=1,AC485=\"\"),C485,0)","v":0},{"$f":"IF(AND(C485>=1,AC485=\"x\"),C485,0)","v":0},{"$f":"IF(AND(C485>=1,AC485=\"\"),W485*C485,0)","v":0},{"$f":"IF(AND(C485>=1,AC485=\"x\"),-W485*C485,0)","v":0},{"$f":"E485","v":0},{"$f":"Y485*E485","v":0},{"$f":"AG485+AK485+AO485","v":0},{"$f":"AH485+AL485","v":0},{"$f":"AQ485+AR485","v":0},{"$f":"AI485+AM485+AP485","v":0},{"$f":"AJ485+AN485","v":0},"Fall 2022",null,2022,null,"581.4/8",null,"SLJ",null,12,null,9.99,null,"Amicus Ink",null,null,null,"Animals & Nature",null,"English",null,"Boardbook",null,20,null,"",null,null,null,"P - P",null,"Amber Hendricks"]
[{"$f":"A484","v":0},null,{"$f":"C484","v":0},null,{"$f":"E484","v":0},null,9781681527079,null,9781681527055,null,"Butterflies Soar",null,null,null,"Little Nature Explorers",null,null,null,"Amicus",null,14.3,null,9.99,null,{"$f":"W486+5","v":14.99},null,0,null,null,null,null,null,0,0,0,0,0,0,0,0,0,0,0,0,0,0,0,"Spring 2022",null,2022,null,"595.78/9",null,"SLJ",null,12,null,9.99,null,"Amicus Ink",null,null,null,"Animals & Nature",null,"English",null,"Boardbook",null,20,null,null,null,null,null,"P - P",null,"Amber Hendricks"]
[{"$f":"A484","v":0},null,{"$f":"C484","v":0},null,{"$f":"E484","v":0},null,9781681526621,null,9781681526614,null,"Forest Friends Sleep",null,null,null,"Little Nature Explorers",null,null,null,"Amicus",null,14.3,null,9.99,null,{"$f":"W487+5","v":14.99},null,0,null,null,null,null,null,0,0,0,0,0,0,0,0,0,0,0,0,0,0,0,"Fall 2022",null,2022,null,591.73,null,"SLJ",null,12,null,9.99,null,"Amicus Ink",null,null,null,"Animals & Nature",null,"English",null,"Boardbook",null,20,null,"",null,null,null,"P - P",null,"Amber Hendricks"]
[{"$f":"A484","v":0},null,{"$f":"C484","v":0},null,{"$f":"E484","v":0},null,9781681527086,null,9781681527062,null,"Wildflowers Grow",null,null,null,"Little Nature Explorers",null,null,null,"Amicus",null,14.3,null,9.99,null,14.99,null,0,null,null,null,null,null,0,0,0,0,0,0,0,0,0,0,0,0,0,0,0,"Spring 2022",null,2022,null,582.13,null,"SLJ",null,12,null,9.99,null,"Amicus Ink",null,null,null,"Animals & Nature",null,"English",null,"Boardbook",null,20,null,null,null,null,null,"P - P",null,"Amber Hendricks"]
[]
[null,null,null,null,null,null,null,null,null,null,"Complete Series of 6",null,null,null,"Living With…",null,null,null,null,null,{"$f":"SUM(U491:U496)","v":0},null,{"$f":"SUM(W491:W496)","v":149.69999999999999},null,{"$f":"SUM(Y491:Y496)","v":0}]
[null,null,{"$f":"C490","v":0},null,null,null,"Not Available",null,9781607534778,null,"Allergies",null,null,null,"Living With…",null,null,null,"Amicus",null,0,null,24.95,null,0,null,{"$f":"IF(AC491=FALSE,AT491,0)","v":0},null,null,null,null,null,{"$f":"IF(AND(A491>=1,AC491=\"\"),A491,0)","v":0},{"$f":"IF(AND(A491>=1,AC491=\"x\"),A491,0)","v":0},{"$f":"IF(AND(A491>=1,AC491=\"\"),U491,0)","v":0},{"$f":"IF(AND(A491>=1,AC491=\"x\"),-U491,0)","v":0},{"$f":"IF(AND(C491>=1,AC491=\"\"),C491,0)","v":0},{"$f":"IF(AND(C491>=1,AC491=\"x\"),C491,0)","v":0},{"$f":"IF(AND(C491>=1,AC491=\"\"),W491*C491,0)","v":0},{"$f":"IF(AND(C491>=1,AC491=\"x\"),-W491*C491,0)","v":0},{"$f":"E491","v":0},{"$f":"Y491*E491","v":0},{"$f":"AG491+AK491+AO491","v":0},{"$f":"AH491+AL491","v":0},{"$f":"AQ491+AR491","v":0},{"$f":"AI491+AM491+AP491","v":0},{"$f":"AJ491+AN491","v":0},"Fall 2014",null,2015,null,616.97,null,null,null,32,null,35.700000000000003,null,"Amicus High Interest",null,3.4,null,"Health",null,"English",null,"Reinforced Library",null,32,null,"L",null,"480L",null,"2 – 5",null,"Michelle Levine"]
[null,null,{"$f":"C490","v":0},null,null,null,"Not Available",null,9781607534785,null,"Asthma",null,null,null,"Living With…",null,null,null,"Amicus",null,0,null,24.95,null,0,null,0,null,null,null,null,null,0,0,0,0,0,0,0,0,0,0,0,0,0,0,0,"Fall 2014",null,2015,null,"616.2/38",null,null,null,32,null,35.700000000000003,null,"Amicus High Interest",null,3.2,null,"Health",null,"English",null,"Reinforced Library",null,32,null,"L",null,"500L",null,"2 – 5",null,"Michelle Levine"]
[null,null,{"$f":"C490","v":0},null,null,null,"Not Available",null,9781607534792,null,"Autism",null,null,null,"Living With…",null,null,null,"Amicus",null,0,null,24.95,null,0,null,0,null,null,null,null,null,0,0,0,0,0,0,0,0,0,0,0,0,0,0,0,"Fall 2014",null,2015,null,null,null,null,null,32,null,35.700000000000003,null,"Amicus High Interest",null,2.9,null,"Health",null,"English",null,"Reinforced Library",null,32,null,"L",null,null,null,"2 – 5",null,"Michelle Levine"]
[null,null,{"$f":"C490","v":0},null,null,null,"Not Available",null,9781607534822,null,"Cerebral Palsy",null,null,null,"Living With…",null,null,null,"Amicus",null,0,null,24.95,null,0,null,0,null,null,null,null,null,0,0,0,0,0,0,0,0,0,0,0,0,0,0,0,"Fall 2014",null,2015,null,"616.8/36",null,null,null,32,null,35.700000000000003,null,"Amicus High Interest",null,3,null,"Health",null,"English",null,"Reinforced Library",null,32,null,"L",null,"490L",null,"2 – 5",null,"Michelle Levine"]
[null,null,{"$f":"C490","v":0},null,null,null,"Not Available",null,9781607534808,null,"Diabetes",null,null,null,"Living With…",null,null,null,"Amicus",null,0,null,24.95,null,0,null,0,null,null,null,null,null,0,0,0,0,0,0,0,0,0,0,0,0,0,0,0,"Fall 2014",null,2015,null,"616.4/62",null,null,null,32,null,35.700000000000003,null,"Amicus High Interest",null,3.2,null,"Health",null,"English",null,"Reinforced Library",null,32,null,"L",null,"490L",null,"2 – 5",null,"Michelle Levine"]
[null,null,{"$f":"C490","v":0},null,null,null,"Not Available",null,9781607534815,null,"Down Syndrome",null,null,null,"Living With…",null,null,null,"Amicus",null,0,null,24.95,null,0,null,0,null,null,null,null,null,0,0,0,0,0,0,0,0,0,0,0,0,0,0,0,"Fall 2014",null,2015,null,"616.85/8842",null,null,null,32,null,35.700000000000003,null,"Amicus High Interest",null,3.2,null,"Health",null,"English",null,"Reinforced Library",null,32,null,"L",null,"510L",null,"2 – 5",null,"Michelle Levine"]
[]
[null,null,null,null,null,null,null,null,null,null,"Complete Series of 6",null,null,null,"Lizards",null,null,null,null,null,{"$f":"SUM(U499:U504)","v":0},null,{"$f":"SUM(W499:W504)","v":149.69999999999999},null,{"$f":"SUM(Y499:Y504)","v":0}]
[null,null,{"$f":"C498","v":0},null,null,null,"Not Available",null,9781607534839,null,"Bearded Dragons",null,null,null,"Lizards",null,null,null,"Amicus",null,0,null,24.95,null,0,null,{"$f":"IF(AC499=FALSE,AT499,0)","v":0},null,null,null,null,null,{"$f":"IF(AND(A499>=1,AC499=\"\"),A499,0)","v":0},{"$f":"IF(AND(A499>=1,AC499=\"x\"),A499,0)","v":0},{"$f":"IF(AND(A499>=1,AC499=\"\"),U499,0)","v":0},{"$f":"IF(AND(A499>=1,AC499=\"x\"),-U499,0)","v":0},{"$f":"IF(AND(C499>=1,AC499=\"\"),C499,0)","v":0},{"$f":"IF(AND(C499>=1,AC499=\"x\"),C499,0)","v":0},{"$f":"IF(AND(C499>=1,AC499=\"\"),W499*C499,0)","v":0},{"$f":"IF(AND(C499>=1,AC499=\"x\"),-W499*C499,0)","v":0},{"$f":"E499","v":0},{"$f":"Y499*E499","v":0},{"$f":"AG499+AK499+AO499","v":0},{"$f":"AH499+AL499","v":0},{"$f":"AQ499+AR499","v":0},{"$f":"AI499+AM499+AP499","v":0},{"$f":"AJ499+AN499","v":0},"Fall 2014",null,2015,null,"597.95/5",null,null,null,32,null,35.700000000000003,null,"Amicus High Interest",null,3.1,null,"Animals & Nature",null,"English",null,"Reinforced Library",null,32,null,"L",null,"520L",null,"2 – 5",null,"Elizabeth Raum"]
[null,null,{"$f":"C498","v":0},null,null,null,"Not Available",null,9781607534846,null,"Chameleons",null,null,null,"Lizards",null,null,null,"Amicus",null,0,null,24.95,null,0,null,0,null,null,null,null,null,0,0,0,0,0,0,0,0,0,0,0,0,0,0,0,"Fall 2014",null,2015,null,"597.95/6",null,null,null,32,null,35.700000000000003,null,"Amicus High Interest",null,3.4,null,"Animals & Nature",null,"English",null,"Reinforced Library",null,32,null,"L",null,"520L",null,"2 – 5",null,"Elizabeth Raum"]
[null,null,{"$f":"C498","v":0},null,null,null,"Not Available",null,9781607534853,null,"Geckos",null,null,null,"Lizards",null,null,null,"Amicus",null,0,null,24.95,null,0,null,0,null,null,null,null,null,0,0,0,0,0,0,0,0,0,0,0,0,0,0,0,"Fall 2014",null,2015,null,"597.95/2",null,null,null,32,null,35.700000000000003,null,"Amicus High Interest",null,3.2,null,"Animals & Nature",null,"English",null,"Reinforced Library",null,32,null,"L",null,"580L",null,"2 – 5",null,"Elizabeth Raum"]
[null,null,{"$f":"C498","v":0},null,null,null,"Not Available",null,9781607534860,null,"Gila Monsters",null,null,null,"Lizards",null,null,null,"Amicus",null,0,null,24.95,null,0,null,0,null,null,null,null,null,0,0,0,0,0,0,0,0,0,0,0,0,0,0,0,"Fall 2014",null,2015,null,"597.95/952",null,null,null,32,null,35.700000000000003,null,"Amicus High Interest",null,3.2,null,"Animals & Nature",null,"English",null,"Reinforced Library",null,32,null,"L",null,"430L",null,"2 – 5",null,"Elizabeth Raum"]
[null,null,{"$f":"C498","v":0},null,null,null,"Not Available",null,9781607534877,null,"Green Iguanas",null,null,null,"Lizards",null,null,null,"Amicus",null,0,null,24.95,null,0,null,0,null,null,null,null,null,0,0,0,0,0,0,0,0,0,0,0,0,0,0,0,"Fall 2014",null,2015,null,"597.95/42",null,null,null,32,null,35.700000000000003,null,"Amicus High Interest",null,3,null,"Animals & Nature",null,"English",null,"Reinforced Library",null,32,null,"L",null,"480L",null,"2 – 5",null,"Elizabeth Raum"]
[null,null,{"$f":"C498","v":0},null,null,null,"Not Available",null,9781607534884,null,"Komodo Dragons",null,null,null,"Lizards",null,null,null,"Amicus",null,0,null,24.95,null,0,null,0,null,null,null,null,null,0,0,0,0,0,0,0,0,0,0,0,0,0,0,0,"Fall 2014",null,2015,null,"597.95/968",null,null,null,32,null,35.700000000000003,null,"Amicus High Interest",null,3.2,null,"Animals & Nature",null,"English",null,"Reinforced Library",null,32,null,"L",null,"460L",null,"2 – 5",null,"Elizabeth Raum"]
[]
[null,null,null,null,null,null,null,null,null,null,"Complete Series of 6",null,null,null,"Lizards in the Wild",null,null,null,null,null,{"$f":"SUM(U507:U512)","v":294},null,{"$f":"SUM(W507:W512)","v":143.69999999999999},null,{"$f":"SUM(Y507:Y512)","v":173.7}]
[{"$f":"A506","v":0},null,{"$f":"C506","v":0},null,{"$f":"E506","v":0},null,9781681515922,null,9781681515540,null,"Bearded Dragons",null,null,null,"Lizards in the Wild",null,null,null,"Amicus",null,49,null,23.95,null,{"$f":"W507+5","v":28.95},null,{"$f":"IF(AC507=FALSE,AT507,0)","v":0},null,null,null,null,null,{"$f":"IF(AND(A507>=1,AC507=\"\"),A507,0)","v":0},{"$f":"IF(AND(A507>=1,AC507=\"x\"),A507,0)","v":0},{"$f":"IF(AND(A507>=1,AC507=\"\"),U507,0)","v":0},{"$f":"IF(AND(A507>=1,AC507=\"x\"),-U507,0)","v":0},{"$f":"IF(AND(C507>=1,AC507=\"\"),C507,0)","v":0},{"$f":"IF(AND(C507>=1,AC507=\"x\"),C507,0)","v":0},{"$f":"IF(AND(C507>=1,AC507=\"\"),W507*C507,0)","v":0},{"$f":"IF(AND(C507>=1,AC507=\"x\"),-W507*C507,0)","v":0},{"$f":"E507","v":0},{"$f":"Y507*E507","v":0},{"$f":"AG507+AK507+AO507","v":0},{"$f":"AH507+AL507","v":0},{"$f":"AQ507+AR507","v":0},{"$f":"AI507+AM507+AP507","v":0},{"$f":"AJ507+AN507","v":0},"Spring 2019",null,2019,null,"597.95/5",null,null,null,32,null,34.25,null,"Amicus High Interest",null,1.9,null,"Animals & Nature",null,"English",null,"Reinforced Library",null,24,null,"I",null,"410L",null,"K - 2",null,"Imogen Kingsley "]
[{"$f":"A506","v":0},null,{"$f":"C506","v":0},null,{"$f":"E506","v":0},null,9781681515939,null,9781681515557,null,"Chameleons",null,null,null,"Lizards in the Wild",null,null,null,"Amicus",null,49,null,23.95,null,28.95,null,0,null,null,null,null,null,0,0,0,0,0,0,0,0,0,0,0,0,0,0,0,"Spring 2019",null,2019,null,"597.95/6",null,null,null,32,null,34.25,null,"Amicus High Interest",null,1.9,null,"Animals & Nature",null,"English",null,"Reinforced Library",null,24,null,"I",null,"430L",null,"K - 2",null,"Imogen Kingsley "]
[{"$f":"A506","v":0},null,{"$f":"C506","v":0},null,{"$f":"E506","v":0},null,9781681515946,null,9781681515564,null,"Geckos",null,null,null,"Lizards in the Wild",null,null,null,"Amicus",null,49,null,23.95,null,28.95,null,0,null,null,null,null,null,0,0,0,0,0,0,0,0,0,0,0,0,0,0,0,"Spring 2019",null,2019,null,"597.95/2",null,null,null,32,null,34.25,null,"Amicus High Interest",null,1.9,null,"Animals & Nature",null,"English",null,"Reinforced Library",null,24,null,"I",null,"3810L",null,"K - 2",null,"Imogen Kingsley "]
[{"$f":"A506","v":0},null,{"$f":"C506","v":0},null,{"$f":"E506","v":0},null,9781681515953,null,9781681515571,null,"Gila Monsters",null,null,null,"Lizards in the Wild",null,null,null,"Amicus",null,49,null,23.95,null,28.95,null,0,null,null,null,null,null,0,0,0,0,0,0,0,0,0,0,0,0,0,0,0,"Spring 2019",null,2019,null,"597.95/952",null,null,null,32,null,34.25,null,"Amicus High Interest",null,2.2000000000000002,null,"Animals & Nature",null,"English",null,"Reinforced Library",null,24,null,"I",null,"430L",null,"K - 2",null,"Imogen Kingsley "]
[{"$f":"A506","v":0},null,{"$f":"C506","v":0},null,{"$f":"E506","v":0},null,9781681515960,null,9781681515588,null,"Green Iguanas",null,null,null,"Lizards in the Wild",null,null,null,"Amicus",null,49,null,23.95,null,28.95,null,0,null,null,null,null,null,0,0,0,0,0,0,0,0,0,0,0,0,0,0,0,"Spring 2019",null,2019,null,"597.95/42",null,null,null,32,null,34.25,null,"Amicus High Interest",null,2,null,"Animals & Nature",null,"English",null,"Reinforced Library",null,24,null,"I",null,"460L",null,"K - 2",null,"Imogen Kingsley "]
[{"$f":"A506","v":0},null,{"$f":"C506","v":0},null,{"$f":"E506","v":0},null,9781681515977,null,9781681515595,null,"Komodo Dragons",null,null,null,"Lizards in the Wild",null,null,null,"Amicus",null,49,null,23.95,null,28.95,null,0,null,null,null,null,null,0,0,0,0,0,0,0,0,0,0,0,0,0,0,0,"Spring 2019",null,2019,null,"597.95/968",null,null,null,32,null,34.25,null,"Amicus High Interest",null,1.9,null,"Animals & Nature",null,"English",null,"Reinforced Library",null,24,null,"I",null,"420L",null,"K - 2",null,"Imogen Kingsley "]
[]
[null,null,null,null,null,null,null,null,null,null,"Complete Series of 6",null,null,null,"Los gatos salvajes (Spot Wild Cats)",null,null,null,null,null,{"$f":"SUM(U515:U520)","v":257.10000000000002},null,{"$f":"SUM(W515:W520)","v":125.7},null,{"$f":"SUM(Y515:Y520)","v":155.69999999999999}]
[{"$f":"A514","v":0},null,{"$f":"C514","v":0},null,{"$f":"E514","v":0},null,9781645492061,null,9781645491804,null,"Los gatos monteses (Wild Cats)",null,null,null,"Los gatos salvajes (Spot Wild Cats)",null,null,null,"Amicus",null,42.85,null,20.95,null,{"$f":"W515+5","v":25.95},null,{"$f":"IF(AC515=FALSE,AT515,0)","v":0},null,null,null,null,null,{"$f":"IF(AND(A515>=1,AC515=\"\"),A515,0)","v":0},{"$f":"IF(AND(A515>=1,AC515=\"x\"),A515,0)","v":0},{"$f":"IF(AND(A515>=1,AC515=\"\"),U515,0)","v":0},{"$f":"IF(AND(A515>=1,AC515=\"x\"),-U515,0)","v":0},{"$f":"IF(AND(C515>=1,AC515=\"\"),C515,0)","v":0},{"$f":"IF(AND(C515>=1,AC515=\"x\"),C515,0)","v":0},{"$f":"IF(AND(C515>=1,AC515=\"\"),W515*C515,0)","v":0},{"$f":"IF(AND(C515>=1,AC515=\"x\"),-W515*C515,0)","v":0},{"$f":"E515","v":0},{"$f":"Y515*E515","v":0},{"$f":"AG515+AK515+AO515","v":0},{"$f":"AH515+AL515","v":0},{"$f":"AQ515+AR515","v":0},{"$f":"AI515+AM515+AP515","v":0},{"$f":"AJ515+AN515","v":0},"Spring 2021",null,2021,null,"599.75/36",null,"BL",null,49,null,29.95,null,"Spot",null,0.8,null,"Life Science",null,"Spanish",null,"Reinforced Library",null,16,null,null,null,null,null,"K & Up",null,"Alissa Thielges"]
[{"$f":"A514","v":0},null,{"$f":"C514","v":0},null,{"$f":"E514","v":0},null,9781645492085,null,9781645491828,null,"Los jaguares (Jaguars)",null,null,null,"Los gatos salvajes (Spot Wild Cats)",null,null,null,"Amicus",null,42.85,null,20.95,null,25.95,null,0,null,null,null,null,null,0,0,0,0,0,0,0,0,0,0,0,0,0,0,0,"Spring 2021",null,2021,null,"599.75/5",null,"BL",null,49,null,29.95,null,"Spot",null,0.6,null,"Life Science",null,"Spanish",null,"Reinforced Library",null,16,null,null,null,null,null,"K & Up",null,"Alissa Thielges"]
[{"$f":"A514","v":0},null,{"$f":"C514","v":0},null,{"$f":"E514","v":0},null,9781645492092,null,9781645491835,null,"Los leopardos (Leopards)",null,null,null,"Los gatos salvajes (Spot Wild Cats)",null,null,null,"Amicus",null,42.85,null,20.95,null,25.95,null,0,null,null,null,null,null,0,0,0,0,0,0,0,0,0,0,0,0,0,0,0,"Spring 2021",null,2021,null,599.75,null,"BL",null,49,null,29.95,null,"Spot",null,1.3,null,"Life Science",null,"Spanish",null,"Reinforced Library",null,16,null,null,null,null,null,"K & Up",null,"Alissa Thielges"]
[{"$f":"A514","v":0},null,{"$f":"C514","v":0},null,{"$f":"E514","v":0},null,9781645492108,null,9781645491842,null,"Los linces (Lynx)",null,null,null,"Los gatos salvajes (Spot Wild Cats)",null,null,null,"Amicus",null,42.85,null,20.95,null,25.95,null,0,null,null,null,null,null,0,0,0,0,0,0,0,0,0,0,0,0,0,0,0,"Spring 2021",null,2021,null,"599.75/3",null,"BL",null,49,null,29.95,null,"Spot",null,1.1000000000000001,null,"Life Science",null,"Spanish",null,"Reinforced Library",null,16,null,null,null,null,null,"K & Up",null,"Alissa Thielges"]
[{"$f":"A514","v":0},null,{"$f":"C514","v":0},null,{"$f":"E514","v":0},null,9781645492078,null,9781645491811,null,"Los pumas (Pumas)",null,null,null,"Los gatos salvajes (Spot Wild Cats)",null,null,null,"Amicus",null,42.85,null,20.95,null,25.95,null,0,null,null,null,null,null,0,0,0,0,0,0,0,0,0,0,0,0,0,0,0,"Spring 2021",null,2021,null,"599.75/24",null,"BL",null,49,null,29.95,null,"Spot",null,0.9,null,"Life Science",null,"Spanish",null,"Reinforced Library",null,16,null,null,null,null,null,"K & Up",null,"Alissa Thielges"]
[{"$f":"A514","v":0},null,{"$f":"C514","v":0},null,{"$f":"E514","v":0},null,9781645492115,null,9781645491859,null,"Los tigres (Tigers)",null,null,null,"Los gatos salvajes (Spot Wild Cats)",null,null,null,"Amicus",null,42.85,null,20.95,null,25.95,null,0,null,null,null,null,null,0,0,0,0,0,0,0,0,0,0,0,0,0,0,0,"Spring 2021",null,2021,null,599.75599999999997,null,"BL",null,49,null,29.95,null,"Spot",null,0.6,null,"Life Science",null,"Spanish",null,"Reinforced Library",null,16,null,null,null,null,null,"K & Up",null,"Alissa Thielges"]
[]
[null,null,null,null,null,null,null,null,null,null,"Complete Series of 2",null,null,null,"Make Money!",null,null,null,null,null,{"$f":"SUM(U523:U524)","v":0},null,{"$f":"SUM(W523:W524)","v":47.9},null,{"$f":"SUM(Y523:Y524)","v":0}]
[null,null,{"$f":"C522","v":0},null,null,null,"Not Available",null,9781607533627,null,"Be a Pet Sitter",null,null,null,"Make Money!",null,null,null,"Amicus",null,0,null,23.95,null,0,null,{"$f":"IF(AC523=FALSE,AT523,0)","v":0},null,null,null,null,null,{"$f":"IF(AND(A523>=1,AC523=\"\"),A523,0)","v":0},{"$f":"IF(AND(A523>=1,AC523=\"x\"),A523,0)","v":0},{"$f":"IF(AND(A523>=1,AC523=\"\"),U523,0)","v":0},{"$f":"IF(AND(A523>=1,AC523=\"x\"),-U523,0)","v":0},{"$f":"IF(AND(C523>=1,AC523=\"\"),C523,0)","v":0},{"$f":"IF(AND(C523>=1,AC523=\"x\"),C523,0)","v":0},{"$f":"IF(AND(C523>=1,AC523=\"\"),W523*C523,0)","v":0},{"$f":"IF(AND(C523>=1,AC523=\"x\"),-W523*C523,0)","v":0},{"$f":"E523","v":0},{"$f":"Y523*E523","v":0},{"$f":"AG523+AK523+AO523","v":0},{"$f":"AH523+AL523","v":0},{"$f":"AQ523+AR523","v":0},{"$f":"AI523+AM523+AP523","v":0},{"$f":"AJ523+AN523","v":0},"Fall 2013",null,2014,null,"636.088/7",null,null,null,42,null,34.25,null,"Amicus Illustrated",null,2.2000000000000002,null,"Math & Finance",null,"English",null,"Reinforced Library",null,24,null,"J",null,"510L",null,"2 – 5",null,"Bridget Heos"]
[null,null,{"$f":"C522","v":0},null,null,null,"Not Available",null,9781607533634,null,"Do Yard Work",null,null,null,"Make Money!",null,null,null,"Amicus",null,0,null,23.95,null,0,null,{"$f":"IF(AC524=FALSE,AT524,0)","v":0},null,null,null,null,null,{"$f":"IF(AND(A524>=1,AC524=\"\"),A524,0)","v":0},{"$f":"IF(AND(A524>=1,AC524=\"x\"),A524,0)","v":0},{"$f":"IF(AND(A524>=1,AC524=\"\"),U524,0)","v":0},{"$f":"IF(AND(A524>=1,AC524=\"x\"),-U524,0)","v":0},0,0,0,0,{"$f":"E524","v":0},{"$f":"Y524*E524","v":0},{"$f":"AG524+AK524+AO524","v":0},{"$f":"AH524+AL524","v":0},{"$f":"AQ524+AR524","v":0},{"$f":"AI524+AM524+AP524","v":0},{"$f":"AJ524+AN524","v":0},"Fall 2013",null,2014,null,"658/.041",null,null,null,42,null,34.25,null,"Amicus Illustrated",null,2.5,null,"Math & Finance",null,"English",null,"Reinforced Library",null,24,null,"J",null,"520L",null,"2 – 5",null,"Bridget Heos"]
[]
[null,null,null,null,null,null,null,null,null,null,"Complete Series of 16",null,null,null,"Making Good Choices",null,null,null,null,null,{"$f":"SUM(U527:U542)","v":784},null,{"$f":"SUM(W527:W542)","v":383.19999999999987},null,{"$f":"SUM(Y527:Y542)","v":463.19999999999987}]
[{"$f":"A526","v":0},null,{"$f":"C526","v":0},null,{"$f":"E526","v":0},null,9781645490708,null,9781681519852,null,"You Can Be Helpful: Step Aside or Pitch In?",null,null,null,"Making Good Choices",null,null,null,"Amicus",null,49,null,23.95,null,{"$f":"W527+5","v":28.95},null,{"$f":"IF(AC527=FALSE,AT527,0)","v":0},null,null,null,null,null,{"$f":"IF(AND(A527>=1,AC527=\"\"),A527,0)","v":0},{"$f":"IF(AND(A527>=1,AC527=\"x\"),A527,0)","v":0},{"$f":"IF(AND(A527>=1,AC527=\"\"),U527,0)","v":0},{"$f":"IF(AND(A527>=1,AC527=\"x\"),-U527,0)","v":0},{"$f":"IF(AND(C527>=1,AC527=\"\"),C527,0)","v":0},{"$f":"IF(AND(C527>=1,AC527=\"x\"),C527,0)","v":0},{"$f":"IF(AND(C527>=1,AC527=\"\"),W527*C527,0)","v":0},{"$f":"IF(AND(C527>=1,AC527=\"x\"),-W527*C527,0)","v":0},{"$f":"E527","v":0},{"$f":"Y527*E527","v":0},{"$f":"AG527+AK527+AO527","v":0},{"$f":"AH527+AL527","v":0},{"$f":"AQ527+AR527","v":0},{"$f":"AI527+AM527+AP527","v":0},{"$f":"AJ527+AN527","v":0},"Spring 2021",null,2021,null,"179/.9",null,"BL",null,41,null,34.25,null,"Amicus Illustrated",null,"Not Quizzable",null,"High Interest",null,"English",null,"Reinforced Library",null,24,null,"K",null,"530L",null,"K - 3",null,"Connie Colwell Miller"]
[{"$f":"A526","v":0},null,{"$f":"C526","v":0},null,{"$f":"E526","v":0},null,9781645490715,null,9781681519869,null,"You Can Be Polite: Be Rude or Use Tact?",null,null,null,"Making Good Choices",null,null,null,"Amicus",null,49,null,23.95,null,28.95,null,0,null,null,null,null,null,0,0,0,0,0,0,0,0,0,0,0,0,0,0,0,"Spring 2021",null,2021,null,"395.1/22",null,"BL",null,41,null,34.25,null,"Amicus Illustrated",null,"Not Quizzable",null,"High Interest",null,"English",null,"Reinforced Library",null,24,null,"K",null,"520L",null,"K - 3",null,"Connie Colwell Miller"]
[{"$f":"A526","v":0},null,{"$f":"C526","v":0},null,{"$f":"E526","v":0},null,9781681517704,null,9781681516882,null,"You Can Be Responsible: Do it Now or Put it Off?",null,null,null,"Making Good Choices",null,null,null,"Amicus",null,49,null,23.95,null,28.95,null,0,null,null,null,null,null,0,0,0,0,0,0,0,0,0,0,0,0,0,0,0,"Fall 2019",null,2020,null,179.9,null,"BL",null,41,null,34.25,null,"Amicus Illustrated",null,"Not Quizzable",null,"High Interest",null,"English",null,"Reinforced Library",null,24,null,"K",null,"510L",null,"K - 3",null,"Connie Colwell Miller"]
[{"$f":"A526","v":0},null,{"$f":"C526","v":0},null,{"$f":"E526","v":0},null,9781681512570,null,9781681511672,null,"You Can Control Your Voice: Loud or Quiet?",null,null,null,"Making Good Choices",null,null,null,"Amicus",null,49,null,23.95,null,28.95,null,0,null,null,null,null,null,0,0,0,0,0,0,0,0,0,0,0,0,0,0,0,"Fall 2017",null,2018,null,"395.5/3",null,"BL",null,41,null,34.25,null,"Amicus Illustrated",null,"Not Quizzable",null,"High Interest",null,"English",null,"Reinforced Library",null,24,null,"K",null,"500L",null,"K - 3",null,"Connie Colwell Miller"]
[{"$f":"A526","v":0},null,{"$f":"C526","v":0},null,{"$f":"E526","v":0},null,9781681517711,null,9781681516899,null,"You Can Encourage Others: Tease or Inspire?",null,null,null,"Making Good Choices",null,null,null,"Amicus",null,49,null,23.95,null,28.95,null,0,null,null,null,null,null,0,0,0,0,0,0,0,0,0,0,0,0,0,0,0,"Fall 2019",null,2020,null,158.30000000000001,null,"BL",null,41,null,34.25,null,"Amicus Illustrated",null,"Not Quizzable",null,"High Interest",null,"English",null,"Reinforced Library",null,24,null,"K",null,"490L",null,"K - 3",null,"Connie Colwell Miller"]
[{"$f":"A526","v":0},null,{"$f":"C526","v":0},null,{"$f":"E526","v":0},null,9781681517728,null,9781681516905,null,"You Can Follow Rules: Cheat or Play Fair?",null,null,null,"Making Good Choices",null,null,null,"Amicus",null,49,null,23.95,null,28.95,null,0,null,null,null,null,null,0,0,0,0,0,0,0,0,0,0,0,0,0,0,0,"Fall 2019",null,2020,null,796.01,null,"BL",null,41,null,34.25,null,"Amicus Illustrated",null,"Not Quizzable",null,"High Interest",null,"English",null,"Reinforced Library",null,24,null,"K",null,"490L",null,"K - 3",null,"Connie Colwell Miller"]
[{"$f":"A526","v":0},null,{"$f":"C526","v":0},null,{"$f":"E526","v":0},null,9781681512525,null,9781681511627,null,"You Can Handle Conflict: Hands or Words?",null,null,null,"Making Good Choices",null,null,null,"Amicus",null,49,null,23.95,null,28.95,null,0,null,null,null,null,null,0,0,0,0,0,0,0,0,0,0,0,0,0,0,0,"Fall 2017",null,2018,null,"155.4/192",null,"BL",null,41,null,34.25,null,"Amicus Illustrated",null,"Not Quizzable",null,"High Interest",null,"English",null,"Reinforced Library",null,24,null,"K",null,"500L",null,"K - 3",null,"Connie Colwell Miller"]
[{"$f":"A526","v":0},null,{"$f":"C526","v":0},null,{"$f":"E526","v":0},null,9781681512563,null,9781681511665,null,"You Can Listen to Directions: Stop or Go?",null,null,null,"Making Good Choices",null,null,null,"Amicus",null,49,null,23.95,null,28.95,null,0,null,null,null,null,null,0,0,0,0,0,0,0,0,0,0,0,0,0,0,0,"Fall 2017",null,2018,null,"155.4/19",null,"BL",null,41,null,34.25,null,"Amicus Illustrated",null,"Not Quizzable",null,"High Interest",null,"English",null,"Reinforced Library",null,24,null,"K",null,"510L",null,"K - 3",null,"Connie Colwell Miller"]
[{"$f":"A526","v":0},null,{"$f":"C526","v":0},null,{"$f":"E526","v":0},null,9781681517735,null,9781681516912,null,"You Can Make Changes: Ask or Ignore?",null,null,null,"Making Good Choices",null,null,null,"Amicus",null,49,null,23.95,null,28.95,null,0,null,null,null,null,null,0,0,0,0,0,0,0,0,0,0,0,0,0,0,0,"Fall 2019",null,2020,null,320.08300000000003,null,"BL",null,41,null,34.25,null,"Amicus Illustrated",null,"Not Quizzable",null,"High Interest",null,"English",null,"Reinforced Library",null,24,null,"K",null,"590L",null,"K - 3",null,"Connie Colwell Miller"]
[{"$f":"A526","v":0},null,{"$f":"C526","v":0},null,{"$f":"E526","v":0},null,9781645490722,null,9781681519876,null,"You Can Persevere: Quit or Keep Going?",null,null,null,"Making Good Choices",null,null,null,"Amicus",null,49,null,23.95,null,28.95,null,0,null,null,null,null,null,0,0,0,0,0,0,0,0,0,0,0,0,0,0,0,"Spring 2021",null,2021,null,"179/.9",null,"BL",null,41,null,34.25,null,"Amicus Illustrated",null,"Not Quizzable",null,"High Interest",null,"English",null,"Reinforced Library",null,24,null,"K",null,"580L",null,"K - 3",null,"Connie Colwell Miller"]
[{"$f":"A526","v":0},null,{"$f":"C526","v":0},null,{"$f":"E526","v":0},null,9781681517742,null,9781681516929,null,"You Can Respect Differences: Assume or Find Out?",null,null,null,"Making Good Choices",null,null,null,"Amicus",null,49,null,23.95,null,28.95,null,0,null,null,null,null,null,0,0,0,0,0,0,0,0,0,0,0,0,0,0,0,"Fall 2019",null,2020,null,179.9,null,"BL",null,41,null,34.25,null,"Amicus Illustrated",null,"Not Quizzable",null,"High Interest",null,"English",null,"Reinforced Library",null,24,null,"K",null,"490L",null,"K - 3",null,"Connie Colwell Miller"]
[{"$f":"A526","v":0},null,{"$f":"C526","v":0},null,{"$f":"E526","v":0},null,9781681512556,null,9781681511658,null,"You Can Stay in Control: Wild or Calm?",null,null,null,"Making Good Choices",null,null,null,"Amicus",null,49,null,23.95,null,28.95,null,0,null,null,null,null,null,0,0,0,0,0,0,0,0,0,0,0,0,0,0,0,"Fall 2017",null,2018,null,"155.4/19",null,"BL",null,41,null,34.25,null,"Amicus Illustrated",null,"Not Quizzable",null,"High Interest",null,"English",null,"Reinforced Library",null,24,null,"K",null,"500L",null,"K - 3",null,"Connie Colwell Miller"]
[{"$f":"A526","v":0},null,{"$f":"C526","v":0},null,{"$f":"E526","v":0},null,9781681517759,null,9781681516936,null,"You Can Stop Bullying: Stand By or Stand Up?",null,null,null,"Making Good Choices",null,null,null,"Amicus",null,49,null,23.95,null,28.95,null,0,null,null,null,null,null,0,0,0,0,0,0,0,0,0,0,0,0,0,0,0,"Fall 2019",null,2020,null,"302.34/3",null,"BL",null,41,null,34.25,null,"Amicus Illustrated",null,"Not Quizzable",null,"High Interest",null,"English",null,"Reinforced Library",null,24,null,"K",null,"510L",null,"K - 3",null,"Connie Colwell Miller"]
[{"$f":"A526","v":0},null,{"$f":"C526","v":0},null,{"$f":"E526","v":0},null,9781645490739,null,9781681519883,null,"You Can Use Money Wisely: Spend or Save?",null,null,null,"Making Good Choices",null,null,null,"Amicus",null,49,null,23.95,null,28.95,null,0,null,null,null,null,null,0,0,0,0,0,0,0,0,0,0,0,0,0,0,0,"Spring 2021",null,2021,null,332.4,null,"BL; ALA",null,41,null,34.25,null,"Amicus Illustrated",null,"Not Quizzable",null,"High Interest",null,"English",null,"Reinforced Library",null,24,null,"K",null,"520L",null,"K - 3",null,"Connie Colwell Miller"]
[{"$f":"A526","v":0},null,{"$f":"C526","v":0},null,{"$f":"E526","v":0},null,9781681512549,null,9781681511641,null,"You're Angry: Throw a Fit or Talk it Out? ",null,null,null,"Making Good Choices",null,null,null,"Amicus",null,49,null,23.95,null,28.95,null,0,null,null,null,null,null,0,0,0,0,0,0,0,0,0,0,0,0,0,0,0,"Fall 2017",null,2018,null,"155.4/1247",null,"BL",null,41,null,34.25,null,"Amicus Illustrated",null,"Not Quizzable",null,"High Interest",null,"English",null,"Reinforced Library",null,24,null,"K",null,"500L",null,"K - 3",null,"Connie Colwell Miller"]
[{"$f":"A526","v":0},null,{"$f":"C526","v":0},null,{"$f":"E526","v":0},null,9781681512532,null,9781681511634,null,"You're in Trouble: Fib or Truth?",null,null,null,"Making Good Choices",null,null,null,"Amicus",null,49,null,23.95,null,28.95,null,0,null,null,null,null,null,0,0,0,0,0,0,0,0,0,0,0,0,0,0,0,"Fall 2017",null,2018,null,"177/.3",null,"BL",null,41,null,34.25,null,"Amicus Illustrated",null,"Not Quizzable",null,"High Interest",null,"English",null,"Reinforced Library",null,24,null,"K",null,"500L",null,"K - 3",null,"Connie Colwell Miller"]
[]
[null,null,null,null,null,null,null,null,null,null,"Complete Series of 14",null,null,null,"Máquinas poderosas (Spot Mighty Machines)",null,null,null,null,null,{"$f":"SUM(U545:U558)","v":257.10000000000002},null,{"$f":"SUM(W545:W558)","v":293.29999999999995},null,{"$f":"SUM(Y545:Y558)","v":155.69999999999999}]
[null,null,{"$f":"C544","v":0},null,null,null,"Not Available",null,9781681516073,null,"Las camionetas (Trucks)",null,null,null,"Máquinas poderosas (Spot Mighty Machines)",null,null,null,"Amicus",null,0,null,20.95,null,0,null,{"$f":"IF(AC545=FALSE,AT545,0)","v":0},null,null,null,null,null,{"$f":"IF(AND(A545>=1,AC545=\"\"),A545,0)","v":0},{"$f":"IF(AND(A545>=1,AC545=\"x\"),A545,0)","v":0},{"$f":"IF(AND(A545>=1,AC545=\"\"),U545,0)","v":0},{"$f":"IF(AND(A545>=1,AC545=\"x\"),-U545,0)","v":0},{"$f":"IF(AND(C545>=1,AC545=\"\"),C545,0)","v":0},{"$f":"IF(AND(C545>=1,AC545=\"x\"),C545,0)","v":0},{"$f":"IF(AND(C545>=1,AC545=\"\"),W545*C545,0)","v":0},{"$f":"IF(AND(C545>=1,AC545=\"x\"),-W545*C545,0)","v":0},{"$f":"E545","v":0},{"$f":"Y545*E545","v":0},{"$f":"AG545+AK545+AO545","v":0},{"$f":"AH545+AL545","v":0},{"$f":"AQ545+AR545","v":0},{"$f":"AI545+AM545+AP545","v":0},{"$f":"AJ545+AN545","v":0},"Fall 2018",null,2019,null,"629.223/2",null,"SLJ",null,51,null,29.95,null,"Spot",null,2,null,"Science & Technology",null,"Spanish",null,"Reinforced Library",null,16,null,null,null,null,null,"PreK - 3",null,"Wendy Strobel Dieker"]
[null,null,{"$f":"C544","v":0},null,null,null,"Not Available",null,9781681512655,null,"Las mezcladoras de concreto (Concrete Mixers)",null,null,null,"Máquinas poderosas (Spot Mighty Machines)",null,null,null,"Amicus",null,0,null,20.95,null,0,null,0,null,null,null,null,null,0,0,0,0,0,0,0,0,0,0,0,0,0,0,0,"Fall 2017",null,2018,null,629.22500000000002,null,"SLJ",null,51,null,29.95,null,"Spot",null,1.2,null,"Science & Technology",null,"Spanish",null,"Reinforced Library",null,16,null,null,null,"240L",null,"PreK - 3",null,"Mari Schuh"]
[{"$f":"A544","v":0},null,{"$f":"C544","v":0},null,{"$f":"E544","v":0},null,9781681519111,null,9781681518855,null,"Las motocicletas (Motorcycles)",null,null,null,"Máquinas poderosas (Spot Mighty Machines)",null,null,null,"Amicus",null,42.85,null,20.95,null,{"$f":"W547+5","v":25.95},null,0,null,null,null,null,null,0,0,0,0,0,0,0,0,0,0,0,0,0,0,0,"Fall 2019",null,2020,null,"629.227/5",null,"SLJ",null,51,null,29.95,null,"Spot",null,1.9,null,"Science & Technology",null,"Spanish",null,"Reinforced Library",null,16,null,null,null,null,null,"PreK - 3",null,"Wendy Strobel Dieker"]
[null,null,{"$f":"C544","v":0},null,null,null,"Not Available",null,9781681512648,null,"Las topadoras (Bulldozers)",null,null,null,"Máquinas poderosas (Spot Mighty Machines)",null,null,null,"Amicus",null,0,null,20.95,null,0,null,0,null,null,null,null,null,0,0,0,0,0,0,0,0,0,0,0,0,0,0,0,"Fall 2017",null,2018,null,629.22500000000002,null,"SLJ",null,51,null,29.95,null,"Spot",null,1.1000000000000001,null,"Science & Technology",null,"Spanish",null,"Reinforced Library",null,16,null,null,null,"260L",null,"PreK - 3",null,"Mari Schuh"]
[{"$f":"A544","v":0},null,{"$f":"C544","v":0},null,{"$f":"E544","v":0},null,9781681519098,null,9781681518831,null,"Los aviones (Airplanes)",null,null,null,"Máquinas poderosas (Spot Mighty Machines)",null,null,null,"Amicus",null,42.85,null,20.95,null,{"$f":"W549+5","v":25.95},null,0,null,null,null,null,null,0,0,0,0,0,0,0,0,0,0,0,0,0,0,0,"Fall 2019",null,2020,null,"629.133/34",null,"SLJ",null,51,null,29.95,null,"Spot",null,1.3,null,"Science & Technology",null,"Spanish",null,"Reinforced Library",null,16,null,null,null,null,null,"PreK - 3",null,"Wendy Strobel Dieker"]
[null,null,{"$f":"C544","v":0},null,null,null,"Not Available",null,9781681516080,null,"Los camiones cisterna (Tanker Trucks)",null,null,null,"Máquinas poderosas (Spot Mighty Machines)",null,null,null,"Amicus",null,0,null,20.95,null,0,null,0,null,null,null,null,null,0,0,0,0,0,0,0,0,0,0,0,0,0,0,0,"Fall 2018",null,2019,null,629.22400000000005,null,"SLJ",null,51,null,29.95,null,"Spot",null,1.4,null,"Science & Technology",null,"Spanish",null,"Reinforced Library",null,16,null,null,null,null,null,"PreK - 3",null,"Wendy Strobel Dieker"]
[null,null,{"$f":"C544","v":0},null,null,null,"Not Available",null,9781681516066,null,"Los camiones de basura (Garbage Trucks)",null,null,null,"Máquinas poderosas (Spot Mighty Machines)",null,null,null,"Amicus",null,0,null,20.95,null,0,null,0,null,null,null,null,null,0,0,0,0,0,0,0,0,0,0,0,0,0,0,0,"Fall 2018",null,2019,null,"628.4/42",null,"SLJ",null,51,null,29.95,null,"Spot",null,0.9,null,"Science & Technology",null,"Spanish",null,"Reinforced Library",null,16,null,null,null,null,null,"PreK - 3",null,"Wendy Strobel Dieker"]
[null,null,{"$f":"C544","v":0},null,null,null,"Not Available",null,9781681516059,null,"Los camiones de bomberos (Fire Trucks)",null,null,null,"Máquinas poderosas (Spot Mighty Machines)",null,null,null,"Amicus",null,0,null,20.95,null,0,null,0,null,null,null,null,null,0,0,0,0,0,0,0,0,0,0,0,0,0,0,0,"Fall 2018",null,2019,null,"628.9/259",null,"SLJ",null,51,null,29.95,null,"Spot",null,1.5,null,"Science & Technology",null,"Spanish",null,"Reinforced Library",null,16,null,null,null,null,null,"PreK - 3",null,"Wendy Strobel Dieker"]
[null,null,{"$f":"C544","v":0},null,null,null,"Not Available",null,9781681516097,null,"Los camiones de remolque (Tow Trucks)",null,null,null,"Máquinas poderosas (Spot Mighty Machines)",null,null,null,"Amicus",null,0,null,20.95,null,0,null,0,null,null,null,null,null,0,0,0,0,0,0,0,0,0,0,0,0,0,0,0,"Fall 2018",null,2019,null,629.22500000000002,null,"SLJ",null,51,null,29.95,null,"Spot",null,1.6,null,"Science & Technology",null,"Spanish",null,"Reinforced Library",null,16,null,null,null,null,null,"PreK - 3",null,"Wendy Strobel Dieker"]
[null,null,{"$f":"C544","v":0},null,null,null,"Not Available",null,9781681516042,null,"Los camiones grandes (Big Rigs)",null,null,null,"Máquinas poderosas (Spot Mighty Machines)",null,null,null,"Amicus",null,0,null,20.95,null,0,null,0,null,null,null,null,null,0,0,0,0,0,0,0,0,0,0,0,0,0,0,0,"Fall 2018",null,2019,null,629.22400000000005,null,"SLJ",null,51,null,29.95,null,"Spot",null,0.9,null,"Science & Technology",null,"Spanish",null,"Reinforced Library",null,16,null,null,null,null,null,"PreK - 3",null,"Wendy Strobel Dieker"]
[{"$f":"A544","v":0},null,{"$f":"C544","v":0},null,{"$f":"E544","v":0},null,9781681519128,null,9781681518862,null,"Los coches de carreras (Race Cars)",null,null,null,"Máquinas poderosas (Spot Mighty Machines)",null,null,null,"Amicus",null,42.85,null,20.95,null,{"$f":"W555+5","v":25.95},null,0,null,null,null,null,null,0,0,0,0,0,0,0,0,0,0,0,0,0,0,0,"Fall 2019",null,2020,null,"629.228/5",null,"SLJ",null,51,null,29.95,null,"Spot",null,1.2,null,"Science & Technology",null,"Spanish",null,"Reinforced Library",null,16,null,null,null,null,null,"PreK - 3",null,"Wendy Strobel Dieker"]
[{"$f":"A544","v":0},null,{"$f":"C544","v":0},null,{"$f":"E544","v":0},null,9781681519104,null,9781681518848,null,"Los helicópteros (Helicopters)",null,null,null,"Máquinas poderosas (Spot Mighty Machines)",null,null,null,"Amicus",null,42.85,null,20.95,null,25.95,null,0,null,null,null,null,null,0,0,0,0,0,0,0,0,0,0,0,0,0,0,0,"Fall 2019",null,2020,null,"629.133/352",null,"SLJ",null,51,null,29.95,null,"Spot",null,1.3,null,"Science & Technology",null,"Spanish",null,"Reinforced Library",null,16,null,null,null,null,null,"PreK - 3",null,"Wendy Strobel Dieker"]
[{"$f":"A544","v":0},null,{"$f":"C544","v":0},null,{"$f":"E544","v":0},null,9781681519135,null,9781681518879,null,"Los tanques (Tanks)",null,null,null,"Máquinas poderosas (Spot Mighty Machines)",null,null,null,"Amicus",null,42.85,null,20.95,null,25.95,null,0,null,null,null,null,null,0,0,0,0,0,0,0,0,0,0,0,0,0,0,0,"Fall 2019",null,2020,null,"623.74/752",null,"SLJ",null,51,null,29.95,null,"Spot",null,1.3,null,"Science & Technology",null,"Spanish",null,"Reinforced Library",null,16,null,null,null,null,null,"PreK - 3",null,"Wendy Strobel Dieker"]
[{"$f":"A544","v":0},null,{"$f":"C544","v":0},null,{"$f":"E544","v":0},null,9781681519142,null,9781681518886,null,"Los trenes (Trains)",null,null,null,"Máquinas poderosas (Spot Mighty Machines)",null,null,null,"Amicus",null,42.85,null,20.95,null,25.95,null,0,null,null,null,null,null,0,0,0,0,0,0,0,0,0,0,0,0,0,0,0,"Fall 2019",null,2020,null,625.1,null,"SLJ",null,51,null,29.95,null,"Spot",null,1.1000000000000001,null,"Science & Technology",null,"Spanish",null,"Reinforced Library",null,16,null,null,null,null,null,"PreK - 3",null,"Wendy Strobel Dieker"]
[]
[null,null,null,null,null,null,null,null,null,null,"Complete Series of 4",null,null,null,"Math World",null,null,null,null,null,{"$f":"SUM(U561:U564)","v":0},null,{"$f":"SUM(W561:W564)","v":95.8},null,{"$f":"SUM(Y561:Y564)","v":0}]
[null,null,{"$f":"C560","v":0},null,null,null,"Not Available",null,9781607534624,null,"Counting Change",null,null,null,"Math World",null,null,null,"Amicus",null,0,null,23.95,null,0,null,{"$f":"IF(AC561=FALSE,AT561,0)","v":0},null,null,null,null,null,{"$f":"IF(AND(A561>=1,AC561=\"\"),A561,0)","v":0},{"$f":"IF(AND(A561>=1,AC561=\"x\"),A561,0)","v":0},{"$f":"IF(AND(A561>=1,AC561=\"\"),U561,0)","v":0},{"$f":"IF(AND(A561>=1,AC561=\"x\"),-U561,0)","v":0},{"$f":"IF(AND(C561>=1,AC561=\"\"),C561,0)","v":0},{"$f":"IF(AND(C561>=1,AC561=\"x\"),C561,0)","v":0},{"$f":"IF(AND(C561>=1,AC561=\"\"),W561*C561,0)","v":0},{"$f":"IF(AND(C561>=1,AC561=\"x\"),-W561*C561,0)","v":0},{"$f":"E561","v":0},{"$f":"Y561*E561","v":0},{"$f":"AG561+AK561+AO561","v":0},{"$f":"AH561+AL561","v":0},{"$f":"AQ561+AR561","v":0},{"$f":"AI561+AM561+AP561","v":0},{"$f":"AJ561+AN561","v":0},"Fall 2014",null,2015,null,"513.2/11",null,null,null,42,null,34.25,null,"Amicus Illustrated",null,2.2999999999999998,null,"Math & Finance",null,"English",null,"Reinforced Library",null,24,null,"I",null,"490L",null,"2 – 5",null,"Bridget Heos"]
[null,null,{"$f":"C560","v":0},null,null,null,"Not Available",null,9781607534631,null,"Making Graphs",null,null,null,"Math World",null,null,null,"Amicus",null,0,null,23.95,null,0,null,{"$f":"IF(AC562=FALSE,AT562,0)","v":0},null,null,null,null,null,{"$f":"IF(AND(A562>=1,AC562=\"\"),A562,0)","v":0},{"$f":"IF(AND(A562>=1,AC562=\"x\"),A562,0)","v":0},{"$f":"IF(AND(A562>=1,AC562=\"\"),U562,0)","v":0},{"$f":"IF(AND(A562>=1,AC562=\"x\"),-U562,0)","v":0},0,0,0,0,{"$f":"E562","v":0},{"$f":"Y562*E562","v":0},{"$f":"AG562+AK562+AO562","v":0},{"$f":"AH562+AL562","v":0},{"$f":"AQ562+AR562","v":0},{"$f":"AI562+AM562+AP562","v":0},{"$f":"AJ562+AN562","v":0},"Fall 2014",null,2015,null,511.5,null,null,null,42,null,34.25,null,"Amicus Illustrated",null,3.3,null,"Math & Finance",null,"English",null,"Reinforced Library",null,24,null,"I",null,"570L",null,"2 – 5",null,"Bridget Heos"]
[null,null,{"$f":"C560","v":0},null,null,null,"Not Available",null,9781607534648,null,"Measure It",null,null,null,"Math World",null,null,null,"Amicus",null,0,null,23.95,null,0,null,{"$f":"IF(AC563=FALSE,AT563,0)","v":0},null,null,null,null,null,{"$f":"IF(AND(A563>=1,AC563=\"\"),A563,0)","v":0},{"$f":"IF(AND(A563>=1,AC563=\"x\"),A563,0)","v":0},{"$f":"IF(AND(A563>=1,AC563=\"\"),U563,0)","v":0},{"$f":"IF(AND(A563>=1,AC563=\"x\"),-U563,0)","v":0},0,0,0,0,{"$f":"E563","v":0},{"$f":"Y563*E563","v":0},{"$f":"AG563+AK563+AO563","v":0},{"$f":"AH563+AL563","v":0},{"$f":"AQ563+AR563","v":0},{"$f":"AI563+AM563+AP563","v":0},{"$f":"AJ563+AN563","v":0},"Fall 2014",null,2015,null,530.79999999999995,null,null,null,42,null,34.25,null,"Amicus Illustrated",null,2.5,null,"Math & Finance",null,"English",null,"Reinforced Library",null,24,null,"J",null,"550L",null,"2 – 5",null,"Bridget Heos"]
[null,null,{"$f":"C560","v":0},null,null,null,"Not Available",null,9781607534617,null,"Telling Time",null,null,null,"Math World",null,null,null,"Amicus",null,0,null,23.95,null,0,null,{"$f":"IF(AC564=FALSE,AT564,0)","v":0},null,null,null,null,null,{"$f":"IF(AND(A564>=1,AC564=\"\"),A564,0)","v":0},{"$f":"IF(AND(A564>=1,AC564=\"x\"),A564,0)","v":0},{"$f":"IF(AND(A564>=1,AC564=\"\"),U564,0)","v":0},{"$f":"IF(AND(A564>=1,AC564=\"x\"),-U564,0)","v":0},0,0,0,0,{"$f":"E564","v":0},{"$f":"Y564*E564","v":0},{"$f":"AG564+AK564+AO564","v":0},{"$f":"AH564+AL564","v":0},{"$f":"AQ564+AR564","v":0},{"$f":"AI564+AM564+AP564","v":0},{"$f":"AJ564+AN564","v":0},"Fall 2014",null,2015,null,529.70000000000005,null,null,null,42,null,34.25,null,"Amicus Illustrated",null,2,null,"Math & Finance",null,"English",null,"Reinforced Library",null,24,null,"J",null,"490L",null,"2 – 5",null,"Bridget Heos"]
[]
[null,null,null,null,null,null,null,null,null,null,"Complete Series of 7",null,null,null,"Measuring Time",null,null,null,null,null,{"$f":"SUM(U567:U573)","v":0},null,{"$f":"SUM(W567:W573)","v":146.65},null,{"$f":"SUM(Y567:Y573)","v":0}]
[null,null,{"$f":"C566","v":0},null,null,null,"Not Available",null,9781607537236,null,"How Many Days?",null,null,null,"Measuring Time",null,null,null,"Amicus",null,0,null,20.95,null,0,null,{"$f":"IF(AC567=FALSE,AT567,0)","v":0},null,null,null,null,null,{"$f":"IF(AND(A567>=1,AC567=\"\"),A567,0)","v":0},{"$f":"IF(AND(A567>=1,AC567=\"x\"),A567,0)","v":0},{"$f":"IF(AND(A567>=1,AC567=\"\"),U567,0)","v":0},{"$f":"IF(AND(A567>=1,AC567=\"x\"),-U567,0)","v":0},{"$f":"IF(AND(C567>=1,AC567=\"\"),C567,0)","v":0},{"$f":"IF(AND(C567>=1,AC567=\"x\"),C567,0)","v":0},{"$f":"IF(AND(C567>=1,AC567=\"\"),W567*C567,0)","v":0},{"$f":"IF(AND(C567>=1,AC567=\"x\"),-W567*C567,0)","v":0},{"$f":"E567","v":0},{"$f":"Y567*E567","v":0},{"$f":"AG567+AK567+AO567","v":0},{"$f":"AH567+AL567","v":0},{"$f":"AQ567+AR567","v":0},{"$f":"AI567+AM567+AP567","v":0},{"$f":"AJ567+AN567","v":0},"Fall 2015",null,2016,null,529.70000000000005,null,null,null,"Website",null,29.95,null,"Amicus Readers",null,1.7,null,"Math & Finance",null,"English",null,"Reinforced Library",null,16,null,null,null,"430L",null,"K - 3",null,"Katherine Krieg"]
[null,null,{"$f":"C566","v":0},null,null,null,"Not Available",null,9781607537229,null,"How Many Hours?",null,null,null,"Measuring Time",null,null,null,"Amicus",null,0,null,20.95,null,0,null,0,null,null,null,null,null,0,0,0,0,0,0,0,0,0,0,0,0,0,0,0,"Fall 2015",null,2016,null,529.70000000000005,null,null,null,"Website",null,29.95,null,"Amicus Readers",null,1.7,null,"Math & Finance",null,"English",null,"Reinforced Library",null,16,null,null,null,"370L",null,"K - 3",null,"Katherine Krieg"]
[null,null,{"$f":"C566","v":0},null,null,null,"Not Available",null,9781607537212,null,"How Many Minutes?",null,null,null,"Measuring Time",null,null,null,"Amicus",null,0,null,20.95,null,0,null,0,null,null,null,null,null,0,0,0,0,0,0,0,0,0,0,0,0,0,0,0,"Fall 2015",null,2016,null,529.70000000000005,null,null,null,"Website",null,29.95,null,"Amicus Readers",null,1.8,null,"Math & Finance",null,"English",null,"Reinforced Library",null,16,null,null,null,"500L",null,"K - 3",null,"Katherine Krieg"]
[null,null,{"$f":"C566","v":0},null,null,null,"Not Available",null,9781607537250,null,"How Many Months?",null,null,null,"Measuring Time",null,null,null,"Amicus",null,0,null,20.95,null,0,null,0,null,null,null,null,null,0,0,0,0,0,0,0,0,0,0,0,0,0,0,0,"Fall 2015",null,2016,null,529.70000000000005,null,null,null,"Website",null,29.95,null,"Amicus Readers",null,1.8,null,"Math & Finance",null,"English",null,"Reinforced Library",null,16,null,null,null,"450L",null,"K - 3",null,"Katherine Krieg"]
[null,null,{"$f":"C566","v":0},null,null,null,"Not Available",null,9781607537205,null,"How Many Seconds?",null,null,null,"Measuring Time",null,null,null,"Amicus",null,0,null,20.95,null,0,null,0,null,null,null,null,null,0,0,0,0,0,0,0,0,0,0,0,0,0,0,0,"Fall 2015",null,2016,null,529.70000000000005,null,null,null,"Website",null,29.95,null,"Amicus Readers",null,1.8,null,"Math & Finance",null,"English",null,"Reinforced Library",null,16,null,null,null,"370L",null,"K - 3",null,"Katherine Krieg"]
[null,null,{"$f":"C566","v":0},null,null,null,"Not Available",null,9781607537243,null,"How Many Weeks?",null,null,null,"Measuring Time",null,null,null,"Amicus",null,0,null,20.95,null,0,null,0,null,null,null,null,null,0,0,0,0,0,0,0,0,0,0,0,0,0,0,0,"Fall 2015",null,2016,null,529.70000000000005,null,null,null,"Website",null,29.95,null,"Amicus Readers",null,1.9,null,"Math & Finance",null,"English",null,"Reinforced Library",null,16,null,null,null,"500L",null,"K - 3",null,"Katherine Krieg"]
[null,null,{"$f":"C566","v":0},null,null,null,"Not Available",null,9781607537267,null,"How Many Years?",null,null,null,"Measuring Time",null,null,null,"Amicus",null,0,null,20.95,null,0,null,0,null,null,null,null,null,0,0,0,0,0,0,0,0,0,0,0,0,0,0,0,"Fall 2015",null,2016,null,529.20000000000005,null,null,null,"Website",null,29.95,null,"Amicus Readers",null,1.8,null,"Math & Finance",null,"English",null,"Reinforced Library",null,16,null,null,null,"450L",null,"K - 3",null,"Katherine Krieg"]
[]
[null,null,null,null,null,null,null,null,null,null,"Complete Series of 10",null,null,null,"Mi vida con… (My Life With…)",null,null,null,null,null,{"$f":"SUM(U576:U585)","v":490},null,{"$f":"SUM(W576:W585)","v":239.49999999999994},null,289.49999999999994]
[{"$f":"A575","v":0},null,{"$f":"C575","v":0},null,{"$f":"E575","v":0},null,9781645494768,null,9781645494720,null,"Mi vida con alergia alimentaria (Food Allergy)",null,null,null,"Mi vida con… (My Life With…)",null,null,null,"Amicus",null,49,null,23.95,null,{"$f":"W576+5","v":28.95},null,{"$f":"IF(AC576=FALSE,AT576,0)","v":0},null,null,null,null,null,{"$f":"IF(AND(A576>=1,AC576=\"\"),A576,0)","v":0},{"$f":"IF(AND(A576>=1,AC576=\"x\"),A576,0)","v":0},{"$f":"IF(AND(A576>=1,AC576=\"\"),U576,0)","v":0},{"$f":"IF(AND(A576>=1,AC576=\"x\"),-U576,0)","v":0},{"$f":"IF(AND(C576>=1,AC576=\"\"),C576,0)","v":0},{"$f":"IF(AND(C576>=1,AC576=\"x\"),C576,0)","v":0},{"$f":"IF(AND(C576>=1,AC576=\"\"),W576*C576,0)","v":0},{"$f":"IF(AND(C576>=1,AC576=\"x\"),-W576*C576,0)","v":0},{"$f":"E576","v":0},{"$f":"Y576*E576","v":0},{"$f":"AG576+AK576+AO576","v":0},{"$f":"AH576+AL576","v":0},{"$f":"AQ576+AR576","v":0},{"$f":"AI576+AM576+AP576","v":0},{"$f":"AJ576+AN576","v":0},"Fall 2022",null,2023,null,"616.97/5",null,"SLJ",null,48,null,34.25,null,"Amicus Illustrated",null,"Not Quizzable",null,"Social and Emotional Health",null,"Spanish",null,"Reinforced Library",null,24,null,"",null,null,null,"Grade 2 & up",null,"Mari Schuh"]
[{"$f":"A575","v":0},null,{"$f":"C575","v":0},null,{"$f":"E575","v":0},null,9781645494737,null,9781645494690,null,"Mi vida con ansiedad (Anxiety)",null,null,null,"Mi vida con… (My Life With…)",null,null,null,"Amicus",null,49,null,23.95,null,28.95,null,0,null,null,null,null,null,0,0,0,0,0,0,0,0,0,0,0,0,0,0,0,"Fall 2022",null,2023,null,"155.4/1246",null,"SLJ",null,48,null,34.25,null,"Amicus Illustrated",null,"Not Quizzable",null,"Social and Emotional Health",null,"Spanish",null,"Reinforced Library",null,24,null,null,null,null,null,"Grade 2 & up",null,"Mari Schuh"]
[{"$f":"A575","v":0},null,{"$f":"C575","v":0},null,{"$f":"E575","v":0},null,9781645494744,null,9781645494706,null,"Mi vida con asma (Asthma)",null,null,null,"Mi vida con… (My Life With…)",null,null,null,"Amicus",null,49,null,23.95,null,28.95,null,0,null,null,null,null,null,0,0,0,0,0,0,0,0,0,0,0,0,0,0,0,"Fall 2022",null,2023,null,"616.2/38",null,"SLJ",null,48,null,34.25,null,"Amicus Illustrated",null,"Not Quizzable",null,"Social and Emotional Health",null,"Spanish",null,"Reinforced Library",null,24,null,"",null,null,null,"Grade 2 & up",null,"Mari Schuh"]
[{"$f":"A575","v":0},null,{"$f":"C575","v":0},null,{"$f":"E575","v":0},null,9781645492290,null,9781645492030,null,"Mi vida con autismo (Autism)",null,null,null,"Mi vida con… (My Life With…)",null,null,null,"Amicus",null,49,null,23.95,null,28.95,null,0,null,null,null,null,null,0,0,0,0,0,0,0,0,0,0,0,0,0,0,0,"Spring 2021",null,2021,null,"618.92/85882",null,"SLJ",null,48,null,34.25,null,"Amicus Illustrated",null,"Not Quizzable",null,"Social and Emotional Health",null,"Spanish",null,"Reinforced Library",null,24,null,null,null,null,null,"Grade 2 & up",null,"Mari Schuh"]
[{"$f":"A575","v":0},null,{"$f":"C575","v":0},null,{"$f":"E575","v":0},null,9781645492269,null,9781645492009,null,"Mi vida con ceguera (Blindness)",null,null,null,"Mi vida con… (My Life With…)",null,null,null,"Amicus",null,49,null,23.95,null,28.95,null,0,null,null,null,null,null,0,0,0,0,0,0,0,0,0,0,0,0,0,0,0,"Spring 2021",null,2021,null,"362.4/1092",null,"SLJ",null,48,null,34.25,null,"Amicus Illustrated",null,"Not Quizzable",null,"Social and Emotional Health",null,"Spanish",null,"Reinforced Library",null,24,null,null,null,null,null,"Grade 2 & up",null,"Mari Schuh"]
[{"$f":"A575","v":0},null,{"$f":"C575","v":0},null,{"$f":"E575","v":0},null,9781645492313,null,9781645492054,null,"Mi vida con dislexia (Dyslexia)",null,null,null,"Mi vida con… (My Life With…)",null,null,null,"Amicus",null,49,null,23.95,null,28.95,null,0,null,null,null,null,null,0,0,0,0,0,0,0,0,0,0,0,0,0,0,0,"Spring 2021",null,2021,null,"618.92/8553",null,"SLJ",null,48,null,34.25,null,"Amicus Illustrated",null,"Not Quizzable",null,"Social and Emotional Health",null,"Spanish",null,"Reinforced Library",null,24,null,null,null,null,null,"Grade 2 & up",null,"Mari Schuh"]
[{"$f":"A575","v":0},null,{"$f":"C575","v":0},null,{"$f":"E575","v":0},null,9781645494751,null,9781645494713,null,"Mi vida con parálisis cerebral (Cerebral Palsy)",null,null,null,"Mi vida con… (My Life With…)",null,null,null,"Amicus",null,49,null,23.95,null,28.95,null,0,null,null,null,null,null,0,0,0,0,0,0,0,0,0,0,0,0,0,0,0,"Fall 2022",null,2023,null,"618.92/836",null,"SLJ",null,48,null,34.25,null,"Amicus Illustrated",null,"Not Quizzable",null,"Social and Emotional Health",null,"Spanish",null,"Reinforced Library",null,24,null,null,null,null,null,"Grade 2 & up",null,"Mari Schuh"]
[{"$f":"A575","v":0},null,{"$f":"C575","v":0},null,{"$f":"E575","v":0},null,9781645492306,null,9781645492047,null,"Mi vida con síndrome de Down (Down Syndrome)",null,null,null,"Mi vida con… (My Life With…)",null,null,null,"Amicus",null,49,null,23.95,null,28.95,null,0,null,null,null,null,null,0,0,0,0,0,0,0,0,0,0,0,0,0,0,0,"Spring 2021",null,2021,null,"616.85/88420092",null,"SLJ",null,48,null,34.25,null,"Amicus Illustrated",null,"Not Quizzable",null,"Social and Emotional Health",null,"Spanish",null,"Reinforced Library",null,24,null,null,null,null,null,"Grade 2 & up",null,"Mari Schuh"]
[{"$f":"A575","v":0},null,{"$f":"C575","v":0},null,{"$f":"E575","v":0},null,9781645492276,null,9781645492016,null,"Mi vida con sordera (Deafness)",null,null,null,"Mi vida con… (My Life With…)",null,null,null,"Amicus",null,49,null,23.95,null,28.95,null,0,null,null,null,null,null,0,0,0,0,0,0,0,0,0,0,0,0,0,0,0,"Spring 2021",null,2021,null,"362.4/2092",null,"SLJ",null,48,null,34.25,null,"Amicus Illustrated",null,"Not Quizzable",null,"Social and Emotional Health",null,"Spanish",null,"Reinforced Library",null,24,null,null,null,null,null,"Grade 2 & up",null,"Mari Schuh"]
[{"$f":"A575","v":0},null,{"$f":"C575","v":0},null,{"$f":"E575","v":0},null,9781645492283,null,9781645492023,null,"Mi vida con TDAH (ADHD)",null,null,null,"Mi vida con… (My Life With…)",null,null,null,"Amicus",null,49,null,23.95,null,28.95,null,0,null,null,null,null,null,0,0,0,0,0,0,0,0,0,0,0,0,0,0,0,"Spring 2021",null,2021,null,"618.92/8589",null,"SLJ",null,48,null,34.25,null,"Amicus Illustrated",null,"Not Quizzable",null,"Social and Emotional Health",null,"Spanish",null,"Reinforced Library",null,24,null,null,null,null,null,"Grade 2 & up",null,"Mari Schuh"]
[]
[null,null,null,null,null,null,null,null,null,null,"Complete Series of 6",null,null,null,"Mini Math Mysteries",null,null,null,null,null,{"$f":"SUM(U588:U593)","v":294},null,{"$f":"SUM(W588:W593)","v":143.69999999999999},null,{"$f":"SUM(Y588:Y593)","v":173.7}]
[{"$f":"A587","v":0},null,{"$f":"C587","v":0},null,{"$f":"E587","v":0},null,9781645490869,null,9781645490067,null,"Case of the Carnival Clues, The",null,null,null,"Mini Math Mysteries",null,null,null,"Amicus",null,49,null,23.95,null,{"$f":"W588+5","v":28.95},null,{"$f":"IF(AC588=FALSE,AT588,0)","v":0},null,null,null,null,null,{"$f":"IF(AND(A588>=1,AC588=\"\"),A588,0)","v":0},{"$f":"IF(AND(A588>=1,AC588=\"x\"),A588,0)","v":0},{"$f":"IF(AND(A588>=1,AC588=\"\"),U588,0)","v":0},{"$f":"IF(AND(A588>=1,AC588=\"x\"),-U588,0)","v":0},{"$f":"IF(AND(C588>=1,AC588=\"\"),C588,0)","v":0},{"$f":"IF(AND(C588>=1,AC588=\"x\"),C588,0)","v":0},{"$f":"IF(AND(C588>=1,AC588=\"\"),W588*C588,0)","v":0},{"$f":"IF(AND(C588>=1,AC588=\"x\"),-W588*C588,0)","v":0},{"$f":"E588","v":0},{"$f":"Y588*E588","v":0},{"$f":"AG588+AK588+AO588","v":0},{"$f":"AH588+AL588","v":0},{"$f":"AQ588+AR588","v":0},{"$f":"AI588+AM588+AP588","v":0},{"$f":"AJ588+AN588","v":0},"Spring 2022",null,2022,null,510,null,"SLJ",null,38,null,34.25,null,"Amicus Illustrated",null,null,null,"Math & Finance",null,"English",null,"Reinforced Library",null,24,null,"K",null,null,null,"1 - 3",null,"K. Thomas"]
[{"$f":"A587","v":0},null,{"$f":"C587","v":0},null,{"$f":"E587","v":0},null,9781645490913,null,9781645490111,null,"Case of the Locked Time Capsule, The",null,null,null,"Mini Math Mysteries",null,null,null,"Amicus",null,49,null,23.95,null,{"$f":"W589+5","v":28.95},null,0,null,null,null,null,null,0,0,0,0,0,0,0,0,0,0,0,0,0,0,0,"Spring 2022",null,2022,null,516,null,"SLJ",null,38,null,34.25,null,"Amicus Illustrated",null,null,null,"Math & Finance",null,"English",null,"Reinforced Library",null,24,null,"K",null,null,null,"1 - 3",null,"K. Thomas"]
[{"$f":"A587","v":0},null,{"$f":"C587","v":0},null,{"$f":"E587","v":0},null,9781645490890,null,9781645490098,null,"Case of the Missing Class Pet, The",null,null,null,"Mini Math Mysteries",null,null,null,"Amicus",null,49,null,23.95,null,28.95,null,0,null,null,null,null,null,0,0,0,0,0,0,0,0,0,0,0,0,0,0,0,"Spring 2022",null,2022,null,"516/.156",null,"SLJ",null,38,null,34.25,null,"Amicus Illustrated",null,null,null,"Math & Finance",null,"English",null,"Reinforced Library",null,24,null,"K",null,null,null,"1 - 3",null,"K. Thomas"]
[{"$f":"A587","v":0},null,{"$f":"C587","v":0},null,{"$f":"E587","v":0},null,9781645490906,null,9781645490104,null,"Case of the Missing Cookies, The",null,null,null,"Mini Math Mysteries",null,null,null,"Amicus",null,49,null,23.95,null,28.95,null,0,null,null,null,null,null,0,0,0,0,0,0,0,0,0,0,0,0,0,0,0,"Spring 2022",null,2022,null,513.20000000000005,null,"SLJ",null,38,null,34.25,null,"Amicus Illustrated",null,null,null,"Math & Finance",null,"English",null,"Reinforced Library",null,24,null,"K",null,null,null,"1 - 3",null,"K. Thomas"]
[{"$f":"A587","v":0},null,{"$f":"C587","v":0},null,{"$f":"E587","v":0},null,9781645490876,null,9781645490074,null,"Case of the Pencil Problem, The",null,null,null,"Mini Math Mysteries",null,null,null,"Amicus",null,49,null,23.95,null,28.95,null,0,null,null,null,null,null,0,0,0,0,0,0,0,0,0,0,0,0,0,0,0,"Spring 2022",null,2022,null,513,null,"SLJ",null,38,null,34.25,null,"Amicus Illustrated",null,null,null,"Math & Finance",null,"English",null,"Reinforced Library",null,24,null,"K",null,null,null,"1 - 3",null,"K. Thomas"]
[{"$f":"A587","v":0},null,{"$f":"C587","v":0},null,{"$f":"E587","v":0},null,9781645490883,null,9781645490081,null,"Case of the School Store Thief, The",null,null,null,"Mini Math Mysteries",null,null,null,"Amicus",null,49,null,23.95,null,28.95,null,0,null,null,null,null,null,0,0,0,0,0,0,0,0,0,0,0,0,0,0,0,"Spring 2022",null,2022,null,513,null,"SLJ",null,38,null,34.25,null,"Amicus Illustrated",null,null,null,"Math & Finance",null,"English",null,"Reinforced Library",null,24,null,"K",null,null,null,"1 - 3",null,"K. Thomas"]
[]
[null,null,null,null,null,null,null,null,null,null,"Complete Series of 3",null,null,null,"Money Smarts",null,null,null,null,null,{"$f":"SUM(U596:U598)","v":0},null,{"$f":"SUM(W596:W598)","v":74.849999999999994},null,{"$f":"SUM(Y596:Y598)","v":0}]
[null,null,{"$f":"C595","v":0},null,null,null,"Not Available",null,9781607537939,null,"Earn Wisely",null,null,null,"Money Smarts",null,null,null,"Amicus",null,0,null,24.95,null,0,null,{"$f":"IF(AC596=FALSE,AT596,0)","v":0},null,null,null,null,null,{"$f":"IF(AND(A596>=1,AC596=\"\"),A596,0)","v":0},{"$f":"IF(AND(A596>=1,AC596=\"x\"),A596,0)","v":0},{"$f":"IF(AND(A596>=1,AC596=\"\"),U596,0)","v":0},{"$f":"IF(AND(A596>=1,AC596=\"x\"),-U596,0)","v":0},{"$f":"IF(AND(C596>=1,AC596=\"\"),C596,0)","v":0},{"$f":"IF(AND(C596>=1,AC596=\"x\"),C596,0)","v":0},{"$f":"IF(AND(C596>=1,AC596=\"\"),W596*C596,0)","v":0},{"$f":"IF(AND(C596>=1,AC596=\"x\"),-W596*C596,0)","v":0},{"$f":"E596","v":0},{"$f":"Y596*E596","v":0},{"$f":"AG596+AK596+AO596","v":0},{"$f":"AH596+AL596","v":0},{"$f":"AQ596+AR596","v":0},{"$f":"AI596+AM596+AP596","v":0},{"$f":"AJ596+AN596","v":0},"Fall 2015",null,2016,null,650.1,null,null,null,32,null,35.700000000000003,null,"Amicus High Interest",null,3.1,null,"Math & Finance",null,"English",null,"Reinforced Library",null,32,null,null,null,"520L",null,"2 – 5",null,"Heather E. Schwartz"]
[null,null,{"$f":"C595","v":0},null,null,null,"Not Available",null,9781607537946,null,"Save Wisely",null,null,null,"Money Smarts",null,null,null,"Amicus",null,0,null,24.95,null,0,null,{"$f":"IF(AC597=FALSE,AT597,0)","v":0},null,null,null,null,null,{"$f":"IF(AND(A597>=1,AC597=\"\"),A597,0)","v":0},{"$f":"IF(AND(A597>=1,AC597=\"x\"),A597,0)","v":0},{"$f":"IF(AND(A597>=1,AC597=\"\"),U597,0)","v":0},{"$f":"IF(AND(A597>=1,AC597=\"x\"),-U597,0)","v":0},0,0,0,0,{"$f":"E597","v":0},{"$f":"Y597*E597","v":0},{"$f":"AG597+AK597+AO597","v":0},{"$f":"AH597+AL597","v":0},{"$f":"AQ597+AR597","v":0},{"$f":"AI597+AM597+AP597","v":0},{"$f":"AJ597+AN597","v":0},"Fall 2015",null,2016,null,"332.1/752",null,null,null,32,null,35.700000000000003,null,"Amicus High Interest",null,3,null,"Math & Finance",null,"English",null,"Reinforced Library",null,32,null,null,null,"550L",null,"2 – 5",null,"Heather E. Schwartz"]
[null,null,{"$f":"C595","v":0},null,null,null,"Not Available",null,9781607537953,null,"Spend Wisely",null,null,null,"Money Smarts",null,null,null,"Amicus",null,0,null,24.95,null,0,null,{"$f":"IF(AC598=FALSE,AT598,0)","v":0},null,null,null,null,null,{"$f":"IF(AND(A598>=1,AC598=\"\"),A598,0)","v":0},{"$f":"IF(AND(A598>=1,AC598=\"x\"),A598,0)","v":0},{"$f":"IF(AND(A598>=1,AC598=\"\"),U598,0)","v":0},{"$f":"IF(AND(A598>=1,AC598=\"x\"),-U598,0)","v":0},0,0,0,0,{"$f":"E598","v":0},{"$f":"Y598*E598","v":0},{"$f":"AG598+AK598+AO598","v":0},{"$f":"AH598+AL598","v":0},{"$f":"AQ598+AR598","v":0},{"$f":"AI598+AM598+AP598","v":0},{"$f":"AJ598+AN598","v":0},"Fall 2015",null,2016,null,640.73,null,null,null,32,null,35.700000000000003,null,"Amicus High Interest",null,3.1,null,"Math & Finance",null,"English",null,"Reinforced Library",null,32,null,null,null,"550L",null,"2 – 5",null,"Heather E. Schwartz"]
[]
[null,null,null,null,null,null,null,null,null,null,"Complete Series of 4",null,null,null,"Monstrous Manners",null,null,null,null,null,{"$f":"SUM(U601:U604)","v":0},null,{"$f":"SUM(W601:W604)","v":95.8},null,{"$f":"SUM(Y601:Y604)","v":0}]
[null,null,{"$f":"C600","v":0},null,null,null,"Not Available",null,9781607537441,null,"Manners at a Restaurant",null,null,null,"Monstrous Manners",null,null,null,"Amicus",null,0,null,23.95,null,0,null,{"$f":"IF(AC601=FALSE,AT601,0)","v":0},null,null,null,null,null,{"$f":"IF(AND(A601>=1,AC601=\"\"),A601,0)","v":0},{"$f":"IF(AND(A601>=1,AC601=\"x\"),A601,0)","v":0},{"$f":"IF(AND(A601>=1,AC601=\"\"),U601,0)","v":0},{"$f":"IF(AND(A601>=1,AC601=\"x\"),-U601,0)","v":0},{"$f":"IF(AND(C601>=1,AC601=\"\"),C601,0)","v":0},{"$f":"IF(AND(C601>=1,AC601=\"x\"),C601,0)","v":0},{"$f":"IF(AND(C601>=1,AC601=\"\"),W601*C601,0)","v":0},{"$f":"IF(AND(C601>=1,AC601=\"x\"),-W601*C601,0)","v":0},{"$f":"E601","v":0},{"$f":"Y601*E601","v":0},{"$f":"AG601+AK601+AO601","v":0},{"$f":"AH601+AL601","v":0},{"$f":"AQ601+AR601","v":0},{"$f":"AI601+AM601+AP601","v":0},{"$f":"AJ601+AN601","v":0},"Fall 2015",null,2016,null,"395.5/4",null,null,null,42,null,34.25,null,"Amicus Illustrated",null,2.2000000000000002,null,"High Interest",null,"English",null,"Reinforced Library",null,24,null,null,null,"470L",null,"2 – 5",null,"Bridget Heos"]
[null,null,{"$f":"C600","v":0},null,null,null,"Not Available",null,9781607537465,null,"Manners at the Store",null,null,null,"Monstrous Manners",null,null,null,"Amicus",null,0,null,23.95,null,0,null,0,null,null,null,null,null,0,0,0,0,0,0,0,0,0,0,0,0,0,0,0,"Fall 2015",null,2016,null,395,null,null,null,42,null,34.25,null,"Amicus Illustrated",null,2.2000000000000002,null,"High Interest",null,"English",null,"Reinforced Library",null,24,null,null,null,"480L",null,"2 – 5",null,"Bridget Heos"]
[null,null,{"$f":"C600","v":0},null,null,null,"Not Available",null,9781607537472,null,"Manners on Vacation",null,null,null,"Monstrous Manners",null,null,null,"Amicus",null,0,null,23.95,null,0,null,0,null,null,null,null,null,0,0,0,0,0,0,0,0,0,0,0,0,0,0,0,"Fall 2015",null,2016,null,395,null,null,null,42,null,34.25,null,"Amicus Illustrated",null,2.5,null,"High Interest",null,"English",null,"Reinforced Library",null,24,null,null,null,"500L",null,"2 – 5",null,"Bridget Heos"]
[null,null,{"$f":"C600","v":0},null,null,null,"Not Available",null,9781607537489,null,"Manners with Technology",null,null,null,"Monstrous Manners",null,null,null,"Amicus",null,0,null,23.95,null,0,null,0,null,null,null,null,null,0,0,0,0,0,0,0,0,0,0,0,0,0,0,0,"Fall 2015",null,2016,null,395.5,null,null,null,42,null,34.25,null,"Amicus Illustrated",null,2.8,null,"High Interest",null,"English",null,"Reinforced Library",null,24,null,null,null,"530L",null,"2 – 5",null,"Bridget Heos"]
[]
[null,null,null,null,null,null,null,null,null,null,"Complete Series of 10",null,null,null,"My Life With...",null,null,null,null,null,{"$f":"SUM(U607:U616)","v":490},null,{"$f":"SUM(W607:W616)","v":239.49999999999994},null,289.49999999999994]
[{"$f":"A606","v":0},null,{"$f":"C606","v":0},null,{"$f":"E606","v":0},null,9781645494560,null,9781645494522,null,"My Life with a Food Allergy",null,null,null,"My Life With...",null,null,null,"Amicus",null,49,null,23.95,null,{"$f":"W607+5","v":28.95},null,{"$f":"IF(AC607=FALSE,AT607,0)","v":0},null,null,null,null,null,{"$f":"IF(AND(A607>=1,AC607=\"\"),A607,0)","v":0},{"$f":"IF(AND(A607>=1,AC607=\"x\"),A607,0)","v":0},{"$f":"IF(AND(A607>=1,AC607=\"\"),U607,0)","v":0},{"$f":"IF(AND(A607>=1,AC607=\"x\"),-U607,0)","v":0},{"$f":"IF(AND(C607>=1,AC607=\"\"),C607,0)","v":0},{"$f":"IF(AND(C607>=1,AC607=\"x\"),C607,0)","v":0},{"$f":"IF(AND(C607>=1,AC607=\"\"),W607*C607,0)","v":0},{"$f":"IF(AND(C607>=1,AC607=\"x\"),-W607*C607,0)","v":0},{"$f":"E607","v":0},{"$f":"Y607*E607","v":0},{"$f":"AG607+AK607+AO607","v":0},{"$f":"AH607+AL607","v":0},{"$f":"AQ607+AR607","v":0},{"$f":"AI607+AM607+AP607","v":0},{"$f":"AJ607+AN607","v":0},"Fall 2022",null,2023,null,"616.97/5",null,"BL; SLJ",null,37,null,34.25,null,"Amicus Illustrated",null,null,null,"Social and Emotional Health",null,"English",null,"Reinforced Library",null,24,null,"K",null,null,null,"1 - 4",null,"Mari Schuh"]
[{"$f":"A606","v":0},null,{"$f":"C606","v":0},null,{"$f":"E606","v":0},null,9781645490760,null,9781681519913,null,"My Life with ADHD",null,null,null,"My Life With . . .",null,null,null,"Amicus",null,49,null,23.95,null,28.95,null,0,null,null,null,null,null,0,0,0,0,0,0,0,0,0,0,0,0,0,0,0,"Spring 2021",null,2021,null,"618.92/8589",null,"BL; SLJ",null,37,null,34.25,null,"Amicus Illustrated",null,null,null,"Social and Emotional Health",null,"English",null,"Reinforced Library",null,24,null,"K",null,"540L",null,"1 - 4",null,"Mari Schuh"]
[{"$f":"A606","v":0},null,{"$f":"C606","v":0},null,{"$f":"E606","v":0},null,9781645494539,null,9781645494492,null,"My Life with Anxiety",null,null,null,"My Life With...",null,null,null,"Amicus",null,49,null,23.95,null,28.95,null,0,null,null,null,null,null,0,0,0,0,0,0,0,0,0,0,0,0,0,0,0,"Fall 2022",null,2023,null,"155.4/1246",null,"BL; SLJ",null,37,null,34.25,null,"Amicus Illustrated",null,null,null,"Social and Emotional Health",null,"English",null,"Reinforced Library",null,24,null,"K",null,null,null,"1 - 4",null,"Mari Schuh"]
[{"$f":"A606","v":0},null,{"$f":"C606","v":0},null,{"$f":"E606","v":0},null,9781645494546,null,9781645494508,null,"My Life with Asthma",null,null,null,"My Life With...",null,null,null,"Amicus",null,49,null,23.95,null,28.95,null,0,null,null,null,null,null,0,0,0,0,0,0,0,0,0,0,0,0,0,0,0,"Fall 2022",null,2023,null,"616.2/38",null,"BL; SLJ",null,37,null,34.25,null,"Amicus Illustrated",null,null,null,"Social and Emotional Health",null,"English",null,"Reinforced Library",null,24,null,"K",null,null,null,"1 - 4",null,"Mari Schuh"]
[{"$f":"A606","v":0},null,{"$f":"C606","v":0},null,{"$f":"E606","v":0},null,9781645490777,null,9781681519920,null,"My Life with Autism",null,null,null,"My Life With . . .",null,null,null,"Amicus",null,49,null,23.95,null,28.95,null,0,null,null,null,null,null,0,0,0,0,0,0,0,0,0,0,0,0,0,0,0,"Spring 2021",null,2021,null,"618.92/85882",null,"BL; SLJ",null,37,null,34.25,null,"Amicus Illustrated",null,null,null,"Social and Emotional Health",null,"English",null,"Reinforced Library",null,24,null,"K",null,"510L",null,"1 - 4",null,"Mari Schuh"]
[{"$f":"A606","v":0},null,{"$f":"C606","v":0},null,{"$f":"E606","v":0},null,9781645490746,null,9781681519890,null,"My Life with Blindness",null,null,null,"My Life With . . .",null,null,null,"Amicus",null,49,null,23.95,null,28.95,null,0,null,null,null,null,null,0,0,0,0,0,0,0,0,0,0,0,0,0,0,0,"Spring 2021",null,2021,null,"362.4/1092",null,"BL; SLJ",null,37,null,34.25,null,"Amicus Illustrated",null,null,null,"Social and Emotional Health",null,"English",null,"Reinforced Library",null,24,null,"K",null,"510L",null,"1 - 4",null,"Mari Schuh"]
[{"$f":"A606","v":0},null,{"$f":"C606","v":0},null,{"$f":"E606","v":0},null,9781645494553,null,9781645494515,null,"My Life with Cerebral Palsy",null,null,null,"My Life With...",null,null,null,"Amicus",null,49,null,23.95,null,28.95,null,0,null,null,null,null,null,0,0,0,0,0,0,0,0,0,0,0,0,0,0,0,"Fall 2022",null,2023,null,"618.92/836",null,"BL; SLJ",null,37,null,34.25,null,"Amicus Illustrated",null,null,null,"Social and Emotional Health",null,"English",null,"Reinforced Library",null,24,null,"K",null,null,null,"1 - 4",null,"Mari Schuh"]
[{"$f":"A606","v":0},null,{"$f":"C606","v":0},null,{"$f":"E606","v":0},null,9781645490753,null,9781681519906,null,"My Life with Deafness",null,null,null,"My Life With . . .",null,null,null,"Amicus",null,49,null,23.95,null,28.95,null,0,null,null,null,null,null,0,0,0,0,0,0,0,0,0,0,0,0,0,0,0,"Spring 2021",null,2021,null,"362.4/2092",null,"BL; SLJ",null,37,null,34.25,null,"Amicus Illustrated",null,null,null,"Social and Emotional Health",null,"English",null,"Reinforced Library",null,24,null,"K",null,"510L",null,"1 - 4",null,"Mari Schuh"]
[{"$f":"A606","v":0},null,{"$f":"C606","v":0},null,{"$f":"E606","v":0},null,9781645490784,null,9781681519937,null,"My Life with Down Syndrome",null,null,null,"My Life With . . .",null,null,null,"Amicus",null,49,null,23.95,null,28.95,null,0,null,null,null,null,null,0,0,0,0,0,0,0,0,0,0,0,0,0,0,0,"Spring 2021",null,2021,null,"616.85/88420092",null,"BL; SLJ",null,37,null,34.25,null,"Amicus Illustrated",null,null,null,"Social and Emotional Health",null,"English",null,"Reinforced Library",null,24,null,"K",null,"520L",null,"1 - 4",null,"Mari Schuh"]
[{"$f":"A606","v":0},null,{"$f":"C606","v":0},null,{"$f":"E606","v":0},null,9781645490791,null,9781681519944,null,"My Life with Dyslexia",null,null,null,"My Life With . . .",null,null,null,"Amicus",null,49,null,23.95,null,28.95,null,0,null,null,null,null,null,0,0,0,0,0,0,0,0,0,0,0,0,0,0,0,"Spring 2021",null,2021,null,"618.92/8553",null,"BL; SLJ",null,37,null,34.25,null,"Amicus Illustrated",null,null,null,"Social and Emotional Health",null,"English",null,"Reinforced Library",null,24,null,"K",null,"520L",null,"1 - 4",null,"Mari Schuh"]
[]
[null,null,null,null,null,null,null,null,null,null,"Complete Series of 1",null,null,null,"Nature Books",null,null,null,null,null,{"$f":"SUM(U619:U620)","v":0},null,{"$f":"SUM(W619:W620)","v":24.95},null,{"$f":"SUM(Y619:Y620)","v":0}]
[null,null,{"$f":"C618","v":0},null,null,null,"Not Available",null,9781607533511,null,"Egg is Quiet, An",null,null,null,"Nature Books",null,null,null,"Amicus",null,0,null,24.95,null,0,null,{"$f":"IF(AC619=FALSE,AT619,0)","v":0},null,null,null,null,null,{"$f":"IF(AND(A619>=1,AC619=\"\"),A619,0)","v":0},{"$f":"IF(AND(A619>=1,AC619=\"x\"),A619,0)","v":0},{"$f":"IF(AND(A619>=1,AC619=\"\"),U619,0)","v":0},{"$f":"IF(AND(A619>=1,AC619=\"x\"),-U619,0)","v":0},{"$f":"IF(AND(C619>=1,AC619=\"\"),C619,0)","v":0},{"$f":"IF(AND(C619>=1,AC619=\"x\"),C619,0)","v":0},{"$f":"IF(AND(C619>=1,AC619=\"\"),W619*C619,0)","v":0},{"$f":"IF(AND(C619>=1,AC619=\"x\"),-W619*C619,0)","v":0},{"$f":"E619","v":0},{"$f":"Y619*E619","v":0},{"$f":"AG619+AK619+AO619","v":0},{"$f":"AH619+AL619","v":0},{"$f":"AQ619+AR619","v":0},{"$f":"AI619+AM619+AP619","v":0},{"$f":"AJ619+AN619","v":0},"Fall 2013",null,2014,null,"571.8/61",null,null,null,41,null,35.700000000000003,null,"Amicus Illustrated",null,2.9,null,"Animals & Nature",null,"English",null,"Reinforced Library",null,36,null,null,null,"AD670L",null,"K - 3",null,"Dianna Aston"]
[]
[null,null,null,null,null,null,null,null,null,null,"Complete Series of 4",null,null,null,"Natural Disasters",null,null,null,null,null,{"$f":"SUM(U622:U625)","v":0},null,{"$f":"SUM(W622:W625)","v":99.8},null,{"$f":"SUM(Y622:Y625)","v":0}]
[null,null,{"$f":"C621","v":0},null,null,null,"Not Available",null,9781607539889,null,"Blizzard!",null,null,null,"Natural Disasters",null,null,null,"Amicus",null,0,null,24.95,null,0,null,{"$f":"IF(AC622=FALSE,AT622,0)","v":0},null,null,null,null,null,{"$f":"IF(AND(A622>=1,AC622=\"\"),A622,0)","v":0},{"$f":"IF(AND(A622>=1,AC622=\"x\"),A622,0)","v":0},{"$f":"IF(AND(A622>=1,AC622=\"\"),U622,0)","v":0},{"$f":"IF(AND(A622>=1,AC622=\"x\"),-U622,0)","v":0},{"$f":"IF(AND(C622>=1,AC622=\"\"),C622,0)","v":0},{"$f":"IF(AND(C622>=1,AC622=\"x\"),C622,0)","v":0},{"$f":"IF(AND(C622>=1,AC622=\"\"),W622*C622,0)","v":0},{"$f":"IF(AND(C622>=1,AC622=\"x\"),-W622*C622,0)","v":0},{"$f":"E622","v":0},{"$f":"Y622*E622","v":0},{"$f":"AG622+AK622+AO622","v":0},{"$f":"AH622+AL622","v":0},{"$f":"AQ622+AR622","v":0},{"$f":"AI622+AM622+AP622","v":0},{"$f":"AJ622+AN622","v":0},"Fall 2016",null,2017,null,"551.55/5",null,null,null,32,null,35.700000000000003,null,"Amicus High Interest",null,3.1,null,"Science & Technology",null,"English",null,"Reinforced Library",null,32,null,"L",null,"570L",null,"2 – 5",null,"Elizabeth Raum"]
[null,null,{"$f":"C621","v":0},null,null,null,"Not Available",null,9781607539919,null,"Hurricane!",null,null,null,"Natural Disasters",null,null,null,"Amicus",null,0,null,24.95,null,0,null,{"$f":"IF(AC623=FALSE,AT623,0)","v":0},null,null,null,null,null,{"$f":"IF(AND(A623>=1,AC623=\"\"),A623,0)","v":0},{"$f":"IF(AND(A623>=1,AC623=\"x\"),A623,0)","v":0},{"$f":"IF(AND(A623>=1,AC623=\"\"),U623,0)","v":0},{"$f":"IF(AND(A623>=1,AC623=\"x\"),-U623,0)","v":0},0,0,0,0,{"$f":"E623","v":0},{"$f":"Y623*E623","v":0},{"$f":"AG623+AK623+AO623","v":0},{"$f":"AH623+AL623","v":0},{"$f":"AQ623+AR623","v":0},{"$f":"AI623+AM623+AP623","v":0},{"$f":"AJ623+AN623","v":0},"Fall 2016",null,2017,null,"551.55/2",null,null,null,32,null,35.700000000000003,null,"Amicus High Interest",null,3.5,null,"Science & Technology",null,"English",null,"Reinforced Library",null,32,null,"L",null,"570L",null,"2 – 5",null,"Elizabeth Raum"]
[null,null,{"$f":"C621","v":0},null,null,null,"Not Available",null,9781607539926,null,"Tornado!",null,null,null,"Natural Disasters",null,null,null,"Amicus",null,0,null,24.95,null,0,null,{"$f":"IF(AC624=FALSE,AT624,0)","v":0},null,null,null,null,null,{"$f":"IF(AND(A624>=1,AC624=\"\"),A624,0)","v":0},{"$f":"IF(AND(A624>=1,AC624=\"x\"),A624,0)","v":0},{"$f":"IF(AND(A624>=1,AC624=\"\"),U624,0)","v":0},{"$f":"IF(AND(A624>=1,AC624=\"x\"),-U624,0)","v":0},0,0,0,0,{"$f":"E624","v":0},{"$f":"Y624*E624","v":0},{"$f":"AG624+AK624+AO624","v":0},{"$f":"AH624+AL624","v":0},{"$f":"AQ624+AR624","v":0},{"$f":"AI624+AM624+AP624","v":0},{"$f":"AJ624+AN624","v":0},"Fall 2016",null,2017,null,"551.55/3",null,null,null,32,null,35.700000000000003,null,"Amicus High Interest",null,3.2,null,"Science & Technology",null,"English",null,"Reinforced Library",null,32,null,"L",null,"560L",null,"2 – 5",null,"Elizabeth Raum"]
[null,null,{"$f":"C621","v":0},null,null,null,"Not Available",null,9781607539933,null,"Wildfire!",null,null,null,"Natural Disasters",null,null,null,"Amicus",null,0,null,24.95,null,0,null,{"$f":"IF(AC625=FALSE,AT625,0)","v":0},null,null,null,null,null,{"$f":"IF(AND(A625>=1,AC625=\"\"),A625,0)","v":0},{"$f":"IF(AND(A625>=1,AC625=\"x\"),A625,0)","v":0},{"$f":"IF(AND(A625>=1,AC625=\"\"),U625,0)","v":0},{"$f":"IF(AND(A625>=1,AC625=\"x\"),-U625,0)","v":0},0,0,0,0,{"$f":"E625","v":0},{"$f":"Y625*E625","v":0},{"$f":"AG625+AK625+AO625","v":0},{"$f":"AH625+AL625","v":0},{"$f":"AQ625+AR625","v":0},{"$f":"AI625+AM625+AP625","v":0},{"$f":"AJ625+AN625","v":0},"Fall 2016",null,2017,null,"363.37/9",null,null,null,32,null,35.700000000000003,null,"Amicus High Interest",null,3.3,null,"Science & Technology",null,"English",null,"Reinforced Library",null,32,null,"L",null,"520L",null,"2 – 5",null,"Elizabeth Raum"]
[]
[null,null,null,null,null,null,null,null,null,null,"Complete Series of 8",null,null,null,"North American Animals",null,null,null,null,null,{"$f":"SUM(U628:U635)","v":392},null,{"$f":"SUM(W628:W635)","v":191.59999999999997},null,{"$f":"SUM(Y628:Y635)","v":231.59999999999997}]
[{"$f":"A627","v":0},null,{"$f":"C627","v":0},null,{"$f":"E627","v":0},null,9781681514949,null,9781681514123,null,"American Bison",null,null,null,"North American Animals",null,null,null,"Amicus",null,49,null,23.95,null,{"$f":"W628+5","v":28.95},null,{"$f":"IF(AC628=FALSE,AT628,0)","v":0},null,null,null,null,null,{"$f":"IF(AND(A628>=1,AC628=\"\"),A628,0)","v":0},{"$f":"IF(AND(A628>=1,AC628=\"x\"),A628,0)","v":0},{"$f":"IF(AND(A628>=1,AC628=\"\"),U628,0)","v":0},{"$f":"IF(AND(A628>=1,AC628=\"x\"),-U628,0)","v":0},{"$f":"IF(AND(C628>=1,AC628=\"\"),C628,0)","v":0},{"$f":"IF(AND(C628>=1,AC628=\"x\"),C628,0)","v":0},{"$f":"IF(AND(C628>=1,AC628=\"\"),W628*C628,0)","v":0},{"$f":"IF(AND(C628>=1,AC628=\"x\"),-W628*C628,0)","v":0},{"$f":"E628","v":0},{"$f":"Y628*E628","v":0},{"$f":"AG628+AK628+AO628","v":0},{"$f":"AH628+AL628","v":0},{"$f":"AQ628+AR628","v":0},{"$f":"AI628+AM628+AP628","v":0},{"$f":"AJ628+AN628","v":0},"Fall 2018",null,2019,null,"599.64/3",null,null,null,32,null,34.950000000000003,null,"Amicus High Interest",null,2.7,null,"Animals & Nature",null,"English",null,"Reinforced Library",null,24,null,"I",null,"510L",null,"K - 3",null,"Jill Sherman"]
[{"$f":"A627","v":0},null,{"$f":"C627","v":0},null,{"$f":"E627","v":0},null,9781681514956,null,9781681514130,null,"Armadillos",null,null,null,"North American Animals",null,null,null,"Amicus",null,49,null,23.95,null,28.95,null,0,null,null,null,null,null,0,0,0,0,0,0,0,0,0,0,0,0,0,0,0,"Fall 2018",null,2019,null,"599.3/12",null,null,null,32,null,34.950000000000003,null,"Amicus High Interest",null,2.6,null,"Animals & Nature",null,"English",null,"Reinforced Library",null,24,null,"I",null,"500L",null,"K - 3",null,"Jill Sherman"]
[{"$f":"A627","v":0},null,{"$f":"C627","v":0},null,{"$f":"E627","v":0},null,9781681514963,null,9781681514147,null,"Bald Eagles",null,null,null,"North American Animals",null,null,null,"Amicus",null,49,null,23.95,null,28.95,null,0,null,null,null,null,null,0,0,0,0,0,0,0,0,0,0,0,0,0,0,0,"Fall 2018",null,2019,null,"598.9/43",null,null,null,32,null,34.950000000000003,null,"Amicus High Interest",null,2.4,null,"Animals & Nature",null,"English",null,"Reinforced Library",null,24,null,"I",null,"470L",null,"K - 3",null,"Rachel Grack"]
[{"$f":"A627","v":0},null,{"$f":"C627","v":0},null,{"$f":"E627","v":0},null,9781681514970,null,9781681514154,null,"Bighorn Sheep",null,null,null,"North American Animals",null,null,null,"Amicus",null,49,null,23.95,null,28.95,null,0,null,null,null,null,null,0,0,0,0,0,0,0,0,0,0,0,0,0,0,0,"Fall 2018",null,2019,null,599.649,null,null,null,32,null,34.950000000000003,null,"Amicus High Interest",null,2.5,null,"Animals & Nature",null,"English",null,"Reinforced Library",null,24,null,"I",null,"470L",null,"K - 3",null,"Jill Sherman"]
[{"$f":"A627","v":0},null,{"$f":"C627","v":0},null,{"$f":"E627","v":0},null,9781681514987,null,9781681514161,null,"Caribou",null,null,null,"North American Animals",null,null,null,"Amicus",null,49,null,23.95,null,28.95,null,0,null,null,null,null,null,0,0,0,0,0,0,0,0,0,0,0,0,0,0,0,"Fall 2018",null,2019,null,"599.65/8",null,null,null,32,null,34.950000000000003,null,"Amicus High Interest",null,2.7,null,"Animals & Nature",null,"English",null,"Reinforced Library",null,24,null,"I",null,"460L",null,"K - 3",null,"Rachel Grack"]
[{"$f":"A627","v":0},null,{"$f":"C627","v":0},null,{"$f":"E627","v":0},null,9781681514994,null,9781681514178,null,"Mountain Lions",null,null,null,"North American Animals",null,null,null,"Amicus",null,49,null,23.95,null,28.95,null,0,null,null,null,null,null,0,0,0,0,0,0,0,0,0,0,0,0,0,0,0,"Fall 2018",null,2019,null,"599.75/24",null,null,null,32,null,34.950000000000003,null,"Amicus High Interest",null,2.6,null,"Animals & Nature",null,"English",null,"Reinforced Library",null,24,null,"I",null,"470L",null,"K - 3",null,"Rachel Grack"]
[{"$f":"A627","v":0},null,{"$f":"C627","v":0},null,{"$f":"E627","v":0},null,9781681515007,null,9781681514185,null,"Porcupines",null,null,null,"North American Animals",null,null,null,"Amicus",null,49,null,23.95,null,28.95,null,0,null,null,null,null,null,0,0,0,0,0,0,0,0,0,0,0,0,0,0,0,"Fall 2018",null,2019,null,"599.35/974",null,null,null,32,null,34.950000000000003,null,"Amicus High Interest",null,2.5,null,"Animals & Nature",null,"English",null,"Reinforced Library",null,24,null,"I",null,"490L",null,"K - 3",null,"Jill Sherman"]
[{"$f":"A627","v":0},null,{"$f":"C627","v":0},null,{"$f":"E627","v":0},null,9781681515014,null,9781681514192,null,"Wolves",null,null,null,"North American Animals",null,null,null,"Amicus",null,49,null,23.95,null,28.95,null,0,null,null,null,null,null,0,0,0,0,0,0,0,0,0,0,0,0,0,0,0,"Fall 2018",null,2019,null,599.77300000000002,null,null,null,32,null,34.950000000000003,null,"Amicus High Interest",null,2.5,null,"Animals & Nature",null,"English",null,"Reinforced Library",null,24,null,"I",null,"470L",null,"K - 3",null,"Rachel Grack"]
[]
[null,null,null,null,null,null,null,null,null,null,"Complete Series of 4",null,null,null,"Paralympic Sports",null,null,null,null,null,{"$f":"SUM(U638:U641)","v":204.2},null,{"$f":"SUM(W638:W641)","v":99.8},null,{"$f":"SUM(Y638:Y641)","v":119.8}]
[{"$f":"A637","v":0},null,{"$f":"C637","v":0},null,{"$f":"E637","v":0},null,9781681518695,null,9781681518299,null,"Individual Sports at the Paralympics",null,null,null,"Paralympic Sports",null,null,null,"Amicus",null,51.05,null,24.95,null,{"$f":"W638+5","v":29.95},null,{"$f":"IF(AC638=FALSE,AT638,0)","v":0},null,null,null,null,null,{"$f":"IF(AND(A638>=1,AC638=\"\"),A638,0)","v":0},{"$f":"IF(AND(A638>=1,AC638=\"x\"),A638,0)","v":0},{"$f":"IF(AND(A638>=1,AC638=\"\"),U638,0)","v":0},{"$f":"IF(AND(A638>=1,AC638=\"x\"),-U638,0)","v":0},{"$f":"IF(AND(C638>=1,AC638=\"\"),C638,0)","v":0},{"$f":"IF(AND(C638>=1,AC638=\"x\"),C638,0)","v":0},{"$f":"IF(AND(C638>=1,AC638=\"\"),W638*C638,0)","v":0},{"$f":"IF(AND(C638>=1,AC638=\"x\"),-W638*C638,0)","v":0},{"$f":"E638","v":0},{"$f":"Y638*E638","v":0},{"$f":"AG638+AK638+AO638","v":0},{"$f":"AH638+AL638","v":0},{"$f":"AQ638+AR638","v":0},{"$f":"AI638+AM638+AP638","v":0},{"$f":"AJ638+AN638","v":0},"Spring 2020",null,2020,null,"796.04/56",null,null,null,32,null,35.700000000000003,null,"Amicus High Interest",null,3.5,null,"Sports & Recreation",null,"English",null,"Reinforced Library",null,32,null,"L",null,null,null,"2 – 5",null,"Matt Bowers"]
[{"$f":"A637","v":0},null,{"$f":"C637","v":0},null,{"$f":"E637","v":0},null,9781681518701,null,9781681518305,null,"Team Sports at the Paralympics",null,null,null,"Paralympic Sports",null,null,null,"Amicus",null,51.05,null,24.95,null,{"$f":"W639+5","v":29.95},null,{"$f":"IF(AC639=FALSE,AT639,0)","v":0},null,null,null,null,null,{"$f":"IF(AND(A639>=1,AC639=\"\"),A639,0)","v":0},{"$f":"IF(AND(A639>=1,AC639=\"x\"),A639,0)","v":0},{"$f":"IF(AND(A639>=1,AC639=\"\"),U639,0)","v":0},{"$f":"IF(AND(A639>=1,AC639=\"x\"),-U639,0)","v":0},0,0,0,0,{"$f":"E639","v":0},{"$f":"Y639*E639","v":0},{"$f":"AG639+AK639+AO639","v":0},{"$f":"AH639+AL639","v":0},{"$f":"AQ639+AR639","v":0},{"$f":"AI639+AM639+AP639","v":0},{"$f":"AJ639+AN639","v":0},"Spring 2020",null,2020,null,"796.04/56",null,null,null,32,null,35.700000000000003,null,"Amicus High Interest",null,3.4,null,"Sports & Recreation",null,"English",null,"Reinforced Library",null,32,null,"L",null,null,null,"2 – 5",null,"Matt Bowers"]
[{"$f":"A637","v":0},null,{"$f":"C637","v":0},null,{"$f":"E637","v":0},null,9781681518688,null,9781681518282,null,"Water Sports at the Paralympics",null,null,null,"Paralympic Sports",null,null,null,"Amicus",null,51.05,null,24.95,null,{"$f":"W640+5","v":29.95},null,{"$f":"IF(AC640=FALSE,AT640,0)","v":0},null,null,null,null,null,{"$f":"IF(AND(A640>=1,AC640=\"\"),A640,0)","v":0},{"$f":"IF(AND(A640>=1,AC640=\"x\"),A640,0)","v":0},{"$f":"IF(AND(A640>=1,AC640=\"\"),U640,0)","v":0},{"$f":"IF(AND(A640>=1,AC640=\"x\"),-U640,0)","v":0},0,0,0,0,{"$f":"E640","v":0},{"$f":"Y640*E640","v":0},{"$f":"AG640+AK640+AO640","v":0},{"$f":"AH640+AL640","v":0},{"$f":"AQ640+AR640","v":0},{"$f":"AI640+AM640+AP640","v":0},{"$f":"AJ640+AN640","v":0},"Spring 2020",null,2020,null,"796.04/56",null,null,null,32,null,35.700000000000003,null,"Amicus High Interest",null,3.5,null,"Sports & Recreation",null,"English",null,"Reinforced Library",null,32,null,"L",null,null,null,"2 – 5",null,"Matt Bowers"]
[{"$f":"A637","v":0},null,{"$f":"C637","v":0},null,{"$f":"E637","v":0},null,9781681518671,null,9781681518275,null,"Wheelchair Sports at the Paralympics",null,null,null,"Paralympic Sports",null,null,null,"Amicus",null,51.05,null,24.95,null,{"$f":"W641+5","v":29.95},null,{"$f":"IF(AC641=FALSE,AT641,0)","v":0},null,null,null,null,null,{"$f":"IF(AND(A641>=1,AC641=\"\"),A641,0)","v":0},{"$f":"IF(AND(A641>=1,AC641=\"x\"),A641,0)","v":0},{"$f":"IF(AND(A641>=1,AC641=\"\"),U641,0)","v":0},{"$f":"IF(AND(A641>=1,AC641=\"x\"),-U641,0)","v":0},0,0,0,0,{"$f":"E641","v":0},{"$f":"Y641*E641","v":0},{"$f":"AG641+AK641+AO641","v":0},{"$f":"AH641+AL641","v":0},{"$f":"AQ641+AR641","v":0},{"$f":"AI641+AM641+AP641","v":0},{"$f":"AJ641+AN641","v":0},"Spring 2020",null,2020,null,"796.04/56",null,null,null,32,null,35.700000000000003,null,"Amicus High Interest",null,3.5,null,"Sports & Recreation",null,"English",null,"Reinforced Library",null,32,null,"L",null,null,null,"2 – 5",null,"Matt Bowers"]
[]
[null,null,null,null,null,null,null,null,null,null,"Complete Series of 8",null,null,null,"Poisonous Animals",null,null,null,null,null,{"$f":"SUM(U644:U651)","v":0},null,{"$f":"SUM(W644:W651)","v":199.59999999999997},null,{"$f":"SUM(Y644:Y651)","v":0}]
[null,null,{"$f":"C643","v":0},null,null,null,"Not Available",null,9781607537847,null,"Black Widow Spiders",null,null,null,"Poisonous Animals",null,null,null,"Amicus",null,0,null,24.95,null,0,null,{"$f":"IF(AC644=FALSE,AT644,0)","v":0},null,null,null,null,null,{"$f":"IF(AND(A644>=1,AC644=\"\"),A644,0)","v":0},{"$f":"IF(AND(A644>=1,AC644=\"x\"),A644,0)","v":0},{"$f":"IF(AND(A644>=1,AC644=\"\"),U644,0)","v":0},{"$f":"IF(AND(A644>=1,AC644=\"x\"),-U644,0)","v":0},{"$f":"IF(AND(C644>=1,AC644=\"\"),C644,0)","v":0},{"$f":"IF(AND(C644>=1,AC644=\"x\"),C644,0)","v":0},{"$f":"IF(AND(C644>=1,AC644=\"\"),W644*C644,0)","v":0},{"$f":"IF(AND(C644>=1,AC644=\"x\"),-W644*C644,0)","v":0},{"$f":"E644","v":0},{"$f":"Y644*E644","v":0},{"$f":"AG644+AK644+AO644","v":0},{"$f":"AH644+AL644","v":0},{"$f":"AQ644+AR644","v":0},{"$f":"AI644+AM644+AP644","v":0},{"$f":"AJ644+AN644","v":0},"Fall 2015",null,2016,null,"595.4/4",null,null,null,32,null,35.700000000000003,null,"Amicus High Interest",null,3,null,"Animals & Nature",null,"English",null,"Reinforced Library",null,32,null,null,null,"470L",null,"2 – 5",null,"Elizabeth Raum"]
[null,null,{"$f":"C643","v":0},null,null,null,"Not Available",null,9781607537854,null,"Blue Ringed Octopuses",null,null,null,"Poisonous Animals",null,null,null,"Amicus",null,0,null,24.95,null,0,null,0,null,null,null,null,null,0,0,0,0,0,0,0,0,0,0,0,0,0,0,0,"Fall 2015",null,2016,null,594.55999999999995,null,null,null,32,null,35.700000000000003,null,"Amicus High Interest",null,2.8,null,"Animals & Nature",null,"English",null,"Reinforced Library",null,32,null,null,null,"440L",null,"2 – 5",null,"Elizabeth Raum"]
[null,null,{"$f":"C643","v":0},null,null,null,"Not Available",null,9781607537861,null,"Box Jellyfish",null,null,null,"Poisonous Animals",null,null,null,"Amicus",null,0,null,24.95,null,0,null,0,null,null,null,null,null,0,0,0,0,0,0,0,0,0,0,0,0,0,0,0,"Fall 2015",null,2016,null," 593.5/3",null,null,null,32,null,35.700000000000003,null,"Amicus High Interest",null,3.1,null,"Animals & Nature",null,"English",null,"Reinforced Library",null,32,null,null,null,"500L",null,"2 – 5",null,"Elizabeth Raum"]
[null,null,{"$f":"C643","v":0},null,null,null,"Not Available",null,9781607537878,null,"Poison Dart Frogs",null,null,null,"Poisonous Animals",null,null,null,"Amicus",null,0,null,24.95,null,0,null,0,null,null,null,null,null,0,0,0,0,0,0,0,0,0,0,0,0,0,0,0,"Fall 2015",null,2016,null,"597.8/77",null,null,null,32,null,35.700000000000003,null,"Amicus High Interest",null,3.1,null,"Animals & Nature",null,"English",null,"Reinforced Library",null,32,null,null,null,"530L",null,"2 – 5",null,"Elizabeth Raum"]
[null,null,{"$f":"C643","v":0},null,null,null,"Not Available",null,9781607537885,null,"Scorpions",null,null,null,"Poisonous Animals",null,null,null,"Amicus",null,0,null,24.95,null,0,null,0,null,null,null,null,null,0,0,0,0,0,0,0,0,0,0,0,0,0,0,0,"Fall 2015",null,2016,null,"595.4/6",null,null,null,32,null,35.700000000000003,null,"Amicus High Interest",null,3.2,null,"Animals & Nature",null,"English",null,"Reinforced Library",null,32,null,null,null,"500L",null,"2 – 5",null,"Elizabeth Raum"]
[null,null,{"$f":"C643","v":0},null,null,null,"Not Available",null,9781607537892,null,"Stingrays",null,null,null,"Poisonous Animals",null,null,null,"Amicus",null,0,null,24.95,null,0,null,0,null,null,null,null,null,0,0,0,0,0,0,0,0,0,0,0,0,0,0,0,"Fall 2015",null,2016,null,"597.3/5",null,null,null,32,null,35.700000000000003,null,"Amicus High Interest",null,3,null,"Animals & Nature",null,"English",null,"Reinforced Library",null,32,null,null,null,"430L",null,"2 – 5",null,"Elizabeth Raum"]
[null,null,{"$f":"C643","v":0},null,null,null,"Not Available",null,9781607537908,null,"Stonefish",null,null,null,"Poisonous Animals",null,null,null,"Amicus",null,0,null,24.95,null,0,null,0,null,null,null,null,null,0,0,0,0,0,0,0,0,0,0,0,0,0,0,0,"Fall 2015",null,2016,null," 597/.68",null,null,null,32,null,35.700000000000003,null,"Amicus High Interest",null,2.9,null,"Animals & Nature",null,"English",null,"Reinforced Library",null,32,null,null,null,"500L",null,"2 – 5",null,"Elizabeth Raum"]
[null,null,{"$f":"C643","v":0},null,null,null,"Not Available",null,9781607537915,null,"Taipans",null,null,null,"Poisonous Animals",null,null,null,"Amicus",null,0,null,24.95,null,0,null,0,null,null,null,null,null,0,0,0,0,0,0,0,0,0,0,0,0,0,0,0,"Fall 2015",null,2016,null,"597.96/4",null,null,null,32,null,35.700000000000003,null,"Amicus High Interest",null,3.1,null,"Animals & Nature",null,"English",null,"Reinforced Library",null,32,null,null,null,"480L",null,"2 – 5",null,"Elizabeth Raum"]
[]
[null,null,null,null,null,null,null,null,null,null,"Complete Series of 16",null,null,null,"Pro Sports Biographies",null,null,null,null,null,{"$f":"SUM(U654:U669)","v":784},null,{"$f":"SUM(W654:W669)","v":383.19999999999987},null,{"$f":"SUM(Y654:Y669)","v":463.19999999999987}]
[{"$f":"A653","v":0},null,{"$f":"C653","v":0},null,{"$f":"E653","v":0},null,9781681517445,null,9781681516622,null,"Aaron Judge",null,null,null,"Pro Sports Biographies",null,null,null,"Amicus",null,49,null,23.95,null,{"$f":"W654+5","v":28.95},null,{"$f":"IF(AC654=FALSE,AT654,0)","v":0},null,null,null,null,null,{"$f":"IF(AND(A654>=1,AC654=\"\"),A654,0)","v":0},{"$f":"IF(AND(A654>=1,AC654=\"x\"),A654,0)","v":0},{"$f":"IF(AND(A654>=1,AC654=\"\"),U654,0)","v":0},{"$f":"IF(AND(A654>=1,AC654=\"x\"),-U654,0)","v":0},{"$f":"IF(AND(C654>=1,AC654=\"\"),C654,0)","v":0},{"$f":"IF(AND(C654>=1,AC654=\"x\"),C654,0)","v":0},{"$f":"IF(AND(C654>=1,AC654=\"\"),W654*C654,0)","v":0},{"$f":"IF(AND(C654>=1,AC654=\"x\"),-W654*C654,0)","v":0},{"$f":"E654","v":0},{"$f":"Y654*E654","v":0},{"$f":"AG654+AK654+AO654","v":0},{"$f":"AH654+AL654","v":0},{"$f":"AQ654+AR654","v":0},{"$f":"AI654+AM654+AP654","v":0},{"$f":"AJ654+AN654","v":0},"Fall 2019",null,2020,null,"796.357092 B",null,null,null,33,null,34.25,null,"Amicus High Interest",null,2.2999999999999998,null,"Sports & Recreation",null,"English",null,"Reinforced Library",null,24,null,"I",null,"460L",null,"1 - 4",null,"Allan Morey"]
[{"$f":"A653","v":0},null,{"$f":"C653","v":0},null,{"$f":"E653","v":0},null,9781681517452,null,9781681516639,null,"Aaron Rodgers",null,null,null,"Pro Sports Biographies",null,null,null,"Amicus",null,49,null,23.95,null,28.95,null,0,null,null,null,null,null,0,0,0,0,0,0,0,0,0,0,0,0,0,0,0,"Fall 2019",null,2020,null,"796.332092 B",null,null,null,33,null,34.25,null,"Amicus High Interest",null,2.4,null,"Sports & Recreation",null,"English",null,"Reinforced Library",null,24,null,"I",null,"470L",null,"1 - 4",null,"Allan Morey"]
[{"$f":"A653","v":0},null,{"$f":"C653","v":0},null,{"$f":"E653","v":0},null,9781681512259,null,9781681511351,null,"Bryce Harper",null,null,null,"Pro Sports Biographies",null,null,null,"Amicus",null,49,null,23.95,null,28.95,null,0,null,null,null,null,null,0,0,0,0,0,0,0,0,0,0,0,0,0,0,0,"Fall 2017",null,2018,null,"796.357092 B",null,null,null,33,null,34.25,null,"Amicus High Interest",null,2,null,"Sports & Recreation",null,"English",null,"Reinforced Library",null,24,null,"I",null,"480L",null,"1 - 4",null,"Elizabeth Raum"]
[{"$f":"A653","v":0},null,{"$f":"C653","v":0},null,{"$f":"E653","v":0},null,9781681512273,null,9781681511375,null,"Cam Newton",null,null,null,"Pro Sports Biographies",null,null,null,"Amicus",null,49,null,23.95,null,28.95,null,0,null,null,null,null,null,0,0,0,0,0,0,0,0,0,0,0,0,0,0,0,"Fall 2017",null,2018,null,"796.332092 B",null,null,null,33,null,34.25,null,"Amicus High Interest",null,2.4,null,"Sports & Recreation",null,"English",null,"Reinforced Library",null,24,null,"I",null,"510L",null,"1 - 4",null,"Elizabeth Raum"]
[{"$f":"A653","v":0},null,{"$f":"C653","v":0},null,{"$f":"E653","v":0},null,9781681512228,null,9781681511320,null,"Carli Lloyd",null,null,null,"Pro Sports Biographies",null,null,null,"Amicus",null,49,null,23.95,null,28.95,null,0,null,null,null,null,null,0,0,0,0,0,0,0,0,0,0,0,0,0,0,0,"Fall 2017",null,2018,null,"796.334092 B",null,null,null,33,null,34.25,null,"Amicus High Interest",null,2.2999999999999998,null,"Sports & Recreation",null,"English",null,"Reinforced Library",null,24,null,"I",null,"520L",null,"1 - 4",null,"Elizabeth Raum"]
[{"$f":"A653","v":0},null,{"$f":"C653","v":0},null,{"$f":"E653","v":0},null,9781681512242,null,9781681511344,null,"Chloe Kim",null,null,null,"Pro Sports Biographies",null,null,null,"Amicus",null,49,null,23.95,null,28.95,null,0,null,null,null,null,null,0,0,0,0,0,0,0,0,0,0,0,0,0,0,0,"Fall 2017",null,2018,null,"796.939092 B",null,null,null,33,null,34.25,null,"Amicus High Interest",null,2.5,null,"Sports & Recreation",null,"English",null,"Reinforced Library",null,24,null,"I",null,"490L",null,"1 - 4",null,"Elizabeth Raum"]
[{"$f":"A653","v":0},null,{"$f":"C653","v":0},null,{"$f":"E653","v":0},null,9781681512266,null,9781681511368,null,"J.J. Watt",null,null,null,"Pro Sports Biographies",null,null,null,"Amicus",null,49,null,23.95,null,28.95,null,0,null,null,null,null,null,0,0,0,0,0,0,0,0,0,0,0,0,0,0,0,"Fall 2017",null,2018,null,"796.332092 B",null,null,null,33,null,34.25,null,"Amicus High Interest",null,2.2999999999999998,null,"Sports & Recreation",null,"English",null,"Reinforced Library",null,24,null,"I",null,"480L",null,"1 - 4",null,"Elizabeth Raum"]
[{"$f":"A653","v":0},null,{"$f":"C653","v":0},null,{"$f":"E653","v":0},null,9781681512280,null,9781681511382,null,"LeBron James",null,null,null,"Pro Sports Biographies",null,null,null,"Amicus",null,49,null,23.95,null,28.95,null,0,null,null,null,null,null,0,0,0,0,0,0,0,0,0,0,0,0,0,0,0,"Fall 2017",null,2018,null,"796.323092 B",null,null,null,33,null,34.25,null,"Amicus High Interest",null,2.2999999999999998,null,"Sports & Recreation",null,"English",null,"Reinforced Library",null,24,null,"I",null,"500L",null,"1 - 4",null,"Elizabeth Raum"]
[{"$f":"A653","v":0},null,{"$f":"C653","v":0},null,{"$f":"E653","v":0},null,9781681512235,null,9781681511337,null,"Maya Moore",null,null,null,"Pro Sports Biographies",null,null,null,"Amicus",null,49,null,23.95,null,28.95,null,0,null,null,null,null,null,0,0,0,0,0,0,0,0,0,0,0,0,0,0,0,"Fall 2017",null,2018,null,"796.323092 B",null,null,null,33,null,34.25,null,"Amicus High Interest",null,2.5,null,"Sports & Recreation",null,"English",null,"Reinforced Library",null,24,null,"I",null,"540L",null,"1 - 4",null,"Elizabeth Raum"]
[{"$f":"A653","v":0},null,{"$f":"C653","v":0},null,{"$f":"E653","v":0},null,9781681517469,null,9781681516646,null,"Megan Rapinoe",null,null,null,"Pro Sports Biographies",null,null,null,"Amicus",null,49,null,23.95,null,28.95,null,0,null,null,null,null,null,0,0,0,0,0,0,0,0,0,0,0,0,0,0,0,"Fall 2019",null,2020,null,796.33409200000006,null,null,null,33,null,34.25,null,"Amicus High Interest",null,2.4,null,"Sports & Recreation",null,"English",null,"Reinforced Library",null,24,null,"I",null,"510L",null,"1 - 4",null,"Jill Sherman"]
[{"$f":"A653","v":0},null,{"$f":"C653","v":0},null,{"$f":"E653","v":0},null,9781681517476,null,9781681516653,null,"Ronda Rousey",null,null,null,"Pro Sports Biographies",null,null,null,"Amicus",null,49,null,23.95,null,28.95,null,0,null,null,null,null,null,0,0,0,0,0,0,0,0,0,0,0,0,0,0,0,"Fall 2019",null,2020,null,"796.812092 B",null,null,null,33,null,34.25,null,"Amicus High Interest",null,2.6,null,"Sports & Recreation",null,"English",null,"Reinforced Library",null,24,null,"I",null,"520L",null,"1 - 4",null,"Jill Sherman"]
[{"$f":"A653","v":0},null,{"$f":"C653","v":0},null,{"$f":"E653","v":0},null,9781681512297,null,9781681511399,null,"Serena Williams",null,null,null,"Pro Sports Biographies",null,null,null,"Amicus",null,49,null,23.95,null,28.95,null,0,null,null,null,null,null,0,0,0,0,0,0,0,0,0,0,0,0,0,0,0,"Fall 2017",null,2018,null,"796.342092 B",null,null,null,33,null,34.25,null,"Amicus High Interest",null,2.6,null,"Sports & Recreation",null,"English",null,"Reinforced Library",null,24,null,"I",null,"570L",null,"1 - 4",null,"Elizabeth Raum"]
[{"$f":"A653","v":0},null,{"$f":"C653","v":0},null,{"$f":"E653","v":0},null,9781681517483,null,9781681516660,null,"Simone Biles",null,null,null,"Pro Sports Biographies",null,null,null,"Amicus",null,49,null,23.95,null,28.95,null,0,null,null,null,null,null,0,0,0,0,0,0,0,0,0,0,0,0,0,0,0,"Fall 2019",null,2020,null,"796.44092 B",null,null,null,33,null,34.25,null,"Amicus High Interest",null,2.5,null,"Sports & Recreation",null,"English",null,"Reinforced Library",null,24,null,"I",null,"500L",null,"1 - 4",null,"Jill Sherman"]
[{"$f":"A653","v":0},null,{"$f":"C653","v":0},null,{"$f":"E653","v":0},null,9781681517490,null,9781681516677,null,"Stephen Curry",null,null,null,"Pro Sports Biographies",null,null,null,"Amicus",null,49,null,23.95,null,28.95,null,0,null,null,null,null,null,0,0,0,0,0,0,0,0,0,0,0,0,0,0,0,"Fall 2019",null,2020,null,"796.323092 B",null,null,null,33,null,34.25,null,"Amicus High Interest",null,2.1,null,"Sports & Recreation",null,"English",null,"Reinforced Library",null,24,null,"I",null,"470L",null,"1 - 4",null,"Elizabeth Raum"]
[{"$f":"A653","v":0},null,{"$f":"C653","v":0},null,{"$f":"E653","v":0},null,9781681517506,null,9781681516684,null,"Sylvia Fowles",null,null,null,"Pro Sports Biographies",null,null,null,"Amicus",null,49,null,23.95,null,28.95,null,0,null,null,null,null,null,0,0,0,0,0,0,0,0,0,0,0,0,0,0,0,"Fall 2019",null,2020,null,"796.323092 B",null,null,null,33,null,34.25,null,"Amicus High Interest",null,2.4,null,"Sports & Recreation",null,"English",null,"Reinforced Library",null,24,null,"I",null,"510L",null,"1 - 4",null,"Jill Sherman"]
[{"$f":"A653","v":0},null,{"$f":"C653","v":0},null,{"$f":"E653","v":0},null,9781681517513,null,9781681516691,null,"Von Miller",null,null,null,"Pro Sports Biographies",null,null,null,"Amicus",null,49,null,23.95,null,28.95,null,0,null,null,null,null,null,0,0,0,0,0,0,0,0,0,0,0,0,0,0,0,"Fall 2019",null,2020,null,"796.332092 B",null,null,null,33,null,34.25,null,"Amicus High Interest",null,2.6,null,"Sports & Recreation",null,"English",null,"Reinforced Library",null,24,null,"I",null,"480L",null,"1 - 4",null,"Allan Morey"]
[]
[null,null,null,null,null,null,null,null,null,null,"Complete Series of 6",null,null,null,"Pro Sports Superstars",null,null,null,null,null,{"$f":"SUM(U672:U677)","v":0},null,{"$f":"SUM(W672:W677)","v":143.69999999999999},null,{"$f":"SUM(Y672:Y677)","v":0}]
[null,null,{"$f":"C671","v":0},null,null,null,"Not Available",null,9781607539407,null,"Superstars of NASCAR",null,null,null,"Pro Sports Superstars",null,null,null,"Amicus",null,0,null,23.95,null,0,null,{"$f":"IF(AC672=FALSE,AT672,0)","v":0},null,null,null,null,null,{"$f":"IF(AND(A672>=1,AC672=\"\"),A672,0)","v":0},{"$f":"IF(AND(A672>=1,AC672=\"x\"),A672,0)","v":0},{"$f":"IF(AND(A672>=1,AC672=\"\"),U672,0)","v":0},{"$f":"IF(AND(A672>=1,AC672=\"x\"),-U672,0)","v":0},{"$f":"IF(AND(C672>=1,AC672=\"\"),C672,0)","v":0},{"$f":"IF(AND(C672>=1,AC672=\"x\"),C672,0)","v":0},{"$f":"IF(AND(C672>=1,AC672=\"\"),W672*C672,0)","v":0},{"$f":"IF(AND(C672>=1,AC672=\"x\"),-W672*C672,0)","v":0},{"$f":"E672","v":0},{"$f":"Y672*E672","v":0},{"$f":"AG672+AK672+AO672","v":0},{"$f":"AH672+AL672","v":0},{"$f":"AQ672+AR672","v":0},{"$f":"AI672+AM672+AP672","v":0},{"$f":"AJ672+AN672","v":0},"Fall 2016",null,2017,null,"796.720922 B",null,null,null,33,null,34.25,null,"Amicus High Interest",null,2.5,null,"Sports & Recreation",null,"English",null,"Reinforced Library",null,24,null,"I",null,"510L",null,"1 - 4",null,"Todd Kortemeier"]
[null,null,{"$f":"C671","v":0},null,null,null,"Not Available",null,9781607539414,null,"Superstars of Pro Tennis",null,null,null,"Pro Sports Superstars",null,null,null,"Amicus",null,0,null,23.95,null,0,null,0,null,null,null,null,null,0,0,0,0,0,0,0,0,0,0,0,0,0,0,0,"Fall 2016",null,2017,null,"796.3420922 B",null,null,null,33,null,34.25,null,"Amicus High Interest",null,2.2999999999999998,null,"Sports & Recreation",null,"English",null,"Reinforced Library",null,24,null,"I",null,"480L",null,"1 - 4",null,"Todd Kortemeier"]
[null,null,{"$f":"C671","v":0},null,null,null,"Not Available",null,9781607539384,null,"Superstars of the NHL",null,null,null,"Pro Sports Superstars",null,null,null,"Amicus",null,0,null,23.95,null,0,null,0,null,null,null,null,null,0,0,0,0,0,0,0,0,0,0,0,0,0,0,0,"Fall 2016",null,2017,null,"796.9620922 B",null,null,null,33,null,34.25,null,"Amicus High Interest",null,2.5,null,"Sports & Recreation",null,"English",null,"Reinforced Library",null,24,null,"I",null,"460L",null,"1 - 4",null,"Todd Kortemeier"]
[null,null,{"$f":"C671","v":0},null,null,null,"Not Available",null,9781607539391,null,"Superstars of the UFC",null,null,null,"Pro Sports Superstars",null,null,null,"Amicus",null,0,null,23.95,null,0,null,0,null,null,null,null,null,0,0,0,0,0,0,0,0,0,0,0,0,0,0,0,"Fall 2016",null,2017,null,"796.80922 B",null,null,null,33,null,34.25,null,"Amicus High Interest",null,2.7,null,"Sports & Recreation",null,"English",null,"Reinforced Library",null,24,null,"I",null,"470L",null,"1 - 4",null,"Todd Kortemeier"]
[null,null,{"$f":"C671","v":0},null,null,null,"Not Available",null,9781607539421,null,"Superstars of World Soccer",null,null,null,"Pro Sports Superstars",null,null,null,"Amicus",null,0,null,23.95,null,0,null,0,null,null,null,null,null,0,0,0,0,0,0,0,0,0,0,0,0,0,0,0,"Fall 2016",null,2017,null,"796.3340922 B",null,null,null,33,null,34.25,null,"Amicus High Interest",null,2.4,null,"Sports & Recreation",null,"English",null,"Reinforced Library",null,24,null,"I",null,"480L",null,"1 - 4",null,"Todd Kortemeier"]
[null,null,{"$f":"C671","v":0},null,null,null,"Not Available",null,9781607539438,null,"Superstars of WWE",null,null,null,"Pro Sports Superstars",null,null,null,"Amicus",null,0,null,23.95,null,0,null,0,null,null,null,null,null,0,0,0,0,0,0,0,0,0,0,0,0,0,0,0,"Fall 2016",null,2017,null,"796.8120922 B",null,null,null,33,null,34.25,null,"Amicus High Interest",null,2.5,null,"Sports & Recreation",null,"English",null,"Reinforced Library",null,24,null,"I",null,"440L",null,"1 - 4",null,"Todd Kortemeier"]
[]
[null,null,null,null,null,null,null,null,null,null,"Complete Series of 8",null,null,null,"Pro Sports Superstars '18 —NFL",null,null,null,null,null,{"$f":"SUM(U680:U687)","v":392},null,{"$f":"SUM(W680:W687)","v":191.59999999999997},null,{"$f":"SUM(Y680:Y687)","v":231.59999999999997}]
[{"$f":"A679","v":0},null,{"$f":"C679","v":0},null,{"$f":"E679","v":0},null,9781681514840,null,9781681514024,null,"Superstars of the Chicago Bears",null,null,null,"Pro Sports Superstars '18 —NFL",null,null,null,"Amicus",null,49,null,23.95,null,{"$f":"W680+5","v":28.95},null,{"$f":"IF(AC680=FALSE,AT680,0)","v":0},null,null,null,null,null,{"$f":"IF(AND(A680>=1,AC680=\"\"),A680,0)","v":0},{"$f":"IF(AND(A680>=1,AC680=\"x\"),A680,0)","v":0},{"$f":"IF(AND(A680>=1,AC680=\"\"),U680,0)","v":0},{"$f":"IF(AND(A680>=1,AC680=\"x\"),-U680,0)","v":0},{"$f":"IF(AND(C680>=1,AC680=\"\"),C680,0)","v":0},{"$f":"IF(AND(C680>=1,AC680=\"x\"),C680,0)","v":0},{"$f":"IF(AND(C680>=1,AC680=\"\"),W680*C680,0)","v":0},{"$f":"IF(AND(C680>=1,AC680=\"x\"),-W680*C680,0)","v":0},{"$f":"E680","v":0},{"$f":"Y680*E680","v":0},{"$f":"AG680+AK680+AO680","v":0},{"$f":"AH680+AL680","v":0},{"$f":"AQ680+AR680","v":0},{"$f":"AI680+AM680+AP680","v":0},{"$f":"AJ680+AN680","v":0},"Fall 2018",null,2019,null,"796.332/640977311",null,null,null,33,null,34.25,null,"Amicus High Interest",null,2.2999999999999998,null,"Sports & Recreation",null,"English",null,"Reinforced Library",null,24,null,"I",null,"520L",null,"K - 3",null,"M. K. Osborne"]
[{"$f":"A679","v":0},null,{"$f":"C679","v":0},null,{"$f":"E679","v":0},null,9781681514871,null,9781681514055,null,"Superstars of the Green Bay Packers",null,null,null,"Pro Sports Superstars '18 —NFL",null,null,null,"Amicus",null,49,null,23.95,null,28.95,null,0,null,null,null,null,null,0,0,0,0,0,0,0,0,0,0,0,0,0,0,0,"Fall 2018",null,2019,null,"796.332/640977561",null,null,null,33,null,34.25,null,"Amicus High Interest",null,2.2999999999999998,null,"Sports & Recreation",null,"English",null,"Reinforced Library",null,24,null,"I",null,"460L",null,"K - 3",null,"M. K. Osborne"]
[{"$f":"A679","v":0},null,{"$f":"C679","v":0},null,{"$f":"E679","v":0},null,9781681514888,null,9781681514062,null,"Superstars of the Houston Texans",null,null,null,"Pro Sports Superstars '18 —NFL",null,null,null,"Amicus",null,49,null,23.95,null,28.95,null,0,null,null,null,null,null,0,0,0,0,0,0,0,0,0,0,0,0,0,0,0,"Fall 2018",null,2019,null,"796.332/64097471",null,null,null,33,null,34.25,null,"Amicus High Interest",null,2.5,null,"Sports & Recreation",null,"English",null,"Reinforced Library",null,24,null,"I",null,"550L",null,"K - 3",null,"Allan Morey"]
[{"$f":"A679","v":0},null,{"$f":"C679","v":0},null,{"$f":"E679","v":0},null,9781681514895,null,9781681514079,null,"Superstars of the Indianapolis Colts",null,null,null,"Pro Sports Superstars '18 —NFL",null,null,null,"Amicus",null,49,null,23.95,null,28.95,null,0,null,null,null,null,null,0,0,0,0,0,0,0,0,0,0,0,0,0,0,0,"Fall 2018",null,2019,null,"796.332/640977252",null,null,null,33,null,34.25,null,"Amicus High Interest",null,2.4,null,"Sports & Recreation",null,"English",null,"Reinforced Library",null,24,null,"I",null,"490L",null,"K - 3",null,"M. K. Osborne"]
[{"$f":"A679","v":0},null,{"$f":"C679","v":0},null,{"$f":"E679","v":0},null,9781681514901,null,9781681514086,null,"Superstars of the New England Patriots",null,null,null,"Pro Sports Superstars '18 —NFL",null,null,null,"Amicus",null,49,null,23.95,null,28.95,null,0,null,null,null,null,null,0,0,0,0,0,0,0,0,0,0,0,0,0,0,0,"Fall 2018",null,2019,null,"796.332/640974461",null,null,null,33,null,34.25,null,"Amicus High Interest",null,2.5,null,"Sports & Recreation",null,"English",null,"Reinforced Library",null,24,null,"I",null,"500L",null,"K - 3",null,"M. K. Osborne"]
[{"$f":"A679","v":0},null,{"$f":"C679","v":0},null,{"$f":"E679","v":0},null,9781681514918,null,9781681514093,null,"Superstars of the New York Giants",null,null,null,"Pro Sports Superstars '18 —NFL",null,null,null,"Amicus",null,49,null,23.95,null,28.95,null,0,null,null,null,null,null,0,0,0,0,0,0,0,0,0,0,0,0,0,0,0,"Fall 2018",null,2019,null,"796.332/64097471",null,null,null,33,null,34.25,null,"Amicus High Interest",null,2.6,null,"Sports & Recreation",null,"English",null,"Reinforced Library",null,24,null,"I",null,"530L",null,"K - 3",null,"M. K. Osborne"]
[{"$f":"A679","v":0},null,{"$f":"C679","v":0},null,{"$f":"E679","v":0},null,9781681514925,null,9781681514109,null,"Superstars of the Pittsburgh Steelers",null,null,null,"Pro Sports Superstars '18 —NFL",null,null,null,"Amicus",null,49,null,23.95,null,28.95,null,0,null,null,null,null,null,0,0,0,0,0,0,0,0,0,0,0,0,0,0,0,"Fall 2018",null,2019,null,"796.332/640974886",null,null,null,33,null,34.25,null,"Amicus High Interest",null,2.4,null,"Sports & Recreation",null,"English",null,"Reinforced Library",null,24,null,"I",null,"450L",null,"K - 3",null,"M. K. Osborne"]
[{"$f":"A679","v":0},null,{"$f":"C679","v":0},null,{"$f":"E679","v":0},null,9781681514932,null,9781681514116,null,"Superstars of the Seattle Seahawks",null,null,null,"Pro Sports Superstars '18 —NFL",null,null,null,"Amicus",null,49,null,23.95,null,28.95,null,0,null,null,null,null,null,0,0,0,0,0,0,0,0,0,0,0,0,0,0,0,"Fall 2018",null,2019,null,"796.332/6409797772",null,null,null,33,null,34.25,null,"Amicus High Interest",null,2.5,null,"Sports & Recreation",null,"English",null,"Reinforced Library",null,24,null,"I",null,"570L",null,"K - 3",null,"Allan Morey"]
[]
[null,null,null,null,null,null,null,null,null,null,"Complete Series of 7",null,null,null,"Pro Sports Superstars (MLB)",null,null,null,null,null,{"$f":"SUM(U690:U696)","v":0},null,{"$f":"SUM(W690:W696)","v":167.64999999999998},null,{"$f":"SUM(Y690:Y696)","v":0}]
[null,null,{"$f":"C689","v":0},null,null,null,"Not Available",null,9781607535904,null,"Superstars of the Atlanta Braves",null,null,null,"Pro Sports Superstars (MLB)",null,null,null,"Amicus",null,0,null,23.95,null,0,null,{"$f":"IF(AC690=FALSE,AT690,0)","v":0},null,null,null,null,null,{"$f":"IF(AND(A690>=1,AC690=\"\"),A690,0)","v":0},{"$f":"IF(AND(A690>=1,AC690=\"x\"),A690,0)","v":0},{"$f":"IF(AND(A690>=1,AC690=\"\"),U690,0)","v":0},{"$f":"IF(AND(A690>=1,AC690=\"x\"),-U690,0)","v":0},{"$f":"IF(AND(C690>=1,AC690=\"\"),C690,0)","v":0},{"$f":"IF(AND(C690>=1,AC690=\"x\"),C690,0)","v":0},{"$f":"IF(AND(C690>=1,AC690=\"\"),W690*C690,0)","v":0},{"$f":"IF(AND(C690>=1,AC690=\"x\"),-W690*C690,0)","v":0},{"$f":"E690","v":0},{"$f":"Y690*E690","v":0},{"$f":"AG690+AK690+AO690","v":0},{"$f":"AH690+AL690","v":0},{"$f":"AQ690+AR690","v":0},{"$f":"AI690+AM690+AP690","v":0},{"$f":"AJ690+AN690","v":0},"Fall 2014",null,2015,null,"796.357/6409758231",null,null,null,"Website",null,34.25,null,"Amicus High Interest",null,2.5,null,"Sports & Recreation",null,"English",null,"Reinforced Library",null,24,null,"I",null,"480L",null,"1 - 4",null,"Max Hammer"]
[null,null,{"$f":"C689","v":0},null,null,null,"Not Available",null,9781607535911,null,"Superstars of the Boston Red Sox",null,null,null,"Pro Sports Superstars (MLB)",null,null,null,"Amicus",null,0,null,23.95,null,0,null,0,null,null,null,null,null,0,0,0,0,0,0,0,0,0,0,0,0,0,0,0,"Fall 2014",null,2015,null,"796.357/640974461",null,null,null,"Website",null,34.25,null,"Amicus High Interest",null,2.6,null,"Sports & Recreation",null,"English",null,"Reinforced Library",null,24,null,"I",null,"510L",null,"1 - 4",null,"Max Hammer"]
[null,null,{"$f":"C689","v":0},null,null,null,"Not Available",null,9781607535935,null,"Superstars of the Los Angeles Dodgers",null,null,null,"Pro Sports Superstars (MLB)",null,null,null,"Amicus",null,0,null,23.95,null,0,null,0,null,null,null,null,null,0,0,0,0,0,0,0,0,0,0,0,0,0,0,0,"Fall 2014",null,2015,null,"796.357/640979494",null,null,null,"Website",null,34.25,null,"Amicus High Interest",null,2.9,null,"Sports & Recreation",null,"English",null,"Reinforced Library",null,24,null,"I",null,"510L",null,"1 - 4",null,"Max Hammer"]
[null,null,{"$f":"C689","v":0},null,null,null,"Not Available",null,9781607535942,null,"Superstars of the New York Yankees",null,null,null,"Pro Sports Superstars (MLB)",null,null,null,"Amicus",null,0,null,23.95,null,0,null,0,null,null,null,null,null,0,0,0,0,0,0,0,0,0,0,0,0,0,0,0,"Fall 2014",null,2015,null,"796.357/64097471",null,null,null,"Website",null,34.25,null,"Amicus High Interest",null,2.6,null,"Sports & Recreation",null,"English",null,"Reinforced Library",null,24,null,"I",null,"470L",null,"1 - 4",null,"Annabelle Tometich"]
[null,null,{"$f":"C689","v":0},null,null,null,"Not Available",null,9781607535959,null,"Superstars of the Philadelphia Phillies",null,null,null,"Pro Sports Superstars (MLB)",null,null,null,"Amicus",null,0,null,23.95,null,0,null,0,null,null,null,null,null,0,0,0,0,0,0,0,0,0,0,0,0,0,0,0,"Fall 2014",null,2015,null,"796.357/640974811",null,null,null,"Website",null,34.25,null,"Amicus High Interest",null,2.4,null,"Sports & Recreation",null,"English",null,"Reinforced Library",null,24,null,"I",null,"490L",null,"1 - 4",null,"Annabelle Tometich"]
[null,null,{"$f":"C689","v":0},null,null,null,"Not Available",null,9781607535966,null,"Superstars of the San Francisco Giants",null,null,null,"Pro Sports Superstars (MLB)",null,null,null,"Amicus",null,0,null,23.95,null,0,null,0,null,null,null,null,null,0,0,0,0,0,0,0,0,0,0,0,0,0,0,0,"Fall 2014",null,2015,null,"796.357/640979461",null,null,null,"Website",null,34.25,null,"Amicus High Interest",null,2.4,null,"Sports & Recreation",null,"English",null,"Reinforced Library",null,24,null,"I",null,"490L",null,"1 - 4",null,"Annabelle Tometich"]
[null,null,{"$f":"C689","v":0},null,null,null,"Not Available",null,9781607535973,null,"Superstars of the St. Louis Cardinals",null,null,null,"Pro Sports Superstars (MLB)",null,null,null,"Amicus",null,0,null,23.95,null,0,null,0,null,null,null,null,null,0,0,0,0,0,0,0,0,0,0,0,0,0,0,0,"Fall 2014",null,2015,null,"796.357/640977866",null,null,null,"Website",null,34.25,null,"Amicus High Interest",null,2.4,null,"Sports & Recreation",null,"English",null,"Reinforced Library",null,24,null,"I",null,"480L",null,"1 - 4",null,"Annabelle Tometich"]
[]
[null,null,null,null,null,null,null,null,null,null,"Complete Series of 4",null,null,null,"Pro Sports Superstars (NBA)",null,null,null,null,null,{"$f":"SUM(U699:U702)","v":0},null,{"$f":"SUM(W699:W702)","v":95.8},null,{"$f":"SUM(Y699:Y702)","v":0}]
[null,null,{"$f":"C698","v":0},null,null,null,"Not Available",null,9781607537656,null,"Superstars of the Boston Celtics",null,null,null,"Pro Sports Superstars (NBA)",null,null,null,"Amicus",null,0,null,23.95,null,0,null,{"$f":"IF(AC699=FALSE,AT699,0)","v":0},null,null,null,null,null,{"$f":"IF(AND(A699>=1,AC699=\"\"),A699,0)","v":0},{"$f":"IF(AND(A699>=1,AC699=\"x\"),A699,0)","v":0},{"$f":"IF(AND(A699>=1,AC699=\"\"),U699,0)","v":0},{"$f":"IF(AND(A699>=1,AC699=\"x\"),-U699,0)","v":0},{"$f":"IF(AND(C699>=1,AC699=\"\"),C699,0)","v":0},{"$f":"IF(AND(C699>=1,AC699=\"x\"),C699,0)","v":0},{"$f":"IF(AND(C699>=1,AC699=\"\"),W699*C699,0)","v":0},{"$f":"IF(AND(C699>=1,AC699=\"x\"),-W699*C699,0)","v":0},{"$f":"E699","v":0},{"$f":"Y699*E699","v":0},{"$f":"AG699+AK699+AO699","v":0},{"$f":"AH699+AL699","v":0},{"$f":"AQ699+AR699","v":0},{"$f":"AI699+AM699+AP699","v":0},{"$f":"AJ699+AN699","v":0},"Fall 2015",null,2016,null,"796.323/640974461",null,null,null,"Website",null,34.25,null,"Amicus High Interest",null,1.9,null,"Sports & Recreation",null,"English",null,"Reinforced Library",null,24,null,"I",null,"450L",null,"1 - 4",null,"Annabelle Martin"]
[null,null,{"$f":"C698","v":0},null,null,null,"Not Available",null,9781607537670,null,"Superstars of the Cleveland Cavaliers",null,null,null,"Pro Sports Superstars (NBA)",null,null,null,"Amicus",null,0,null,23.95,null,0,null,{"$f":"IF(AC700=FALSE,AT700,0)","v":0},null,null,null,null,null,{"$f":"IF(AND(A700>=1,AC700=\"\"),A700,0)","v":0},{"$f":"IF(AND(A700>=1,AC700=\"x\"),A700,0)","v":0},{"$f":"IF(AND(A700>=1,AC700=\"\"),U700,0)","v":0},{"$f":"IF(AND(A700>=1,AC700=\"x\"),-U700,0)","v":0},0,0,0,0,{"$f":"E700","v":0},{"$f":"Y700*E700","v":0},{"$f":"AG700+AK700+AO700","v":0},{"$f":"AH700+AL700","v":0},0,{"$f":"AI700+AM700+AP700","v":0},{"$f":"AJ700+AN700","v":0},"Fall 2015",null,2016,null,"796.323/640977132",null,null,null,"Website",null,34.25,null,"Amicus High Interest",null,2.1,null,"Sports & Recreation",null,"English",null,"Reinforced Library",null,24,null,"I",null,"470L",null,"1 - 4",null,"Annabelle Martin"]
[null,null,{"$f":"C698","v":0},null,null,null,"Not Available",null,9781607537694,null,"Superstars of the Los Angeles Lakers",null,null,null,"Pro Sports Superstars (NBA)",null,null,null,"Amicus",null,0,null,23.95,null,0,null,{"$f":"IF(AC701=FALSE,AT701,0)","v":0},null,null,null,null,null,{"$f":"IF(AND(A701>=1,AC701=\"\"),A701,0)","v":0},{"$f":"IF(AND(A701>=1,AC701=\"x\"),A701,0)","v":0},{"$f":"IF(AND(A701>=1,AC701=\"\"),U701,0)","v":0},{"$f":"IF(AND(A701>=1,AC701=\"x\"),-U701,0)","v":0},0,0,0,0,{"$f":"E701","v":0},{"$f":"Y701*E701","v":0},{"$f":"AG701+AK701+AO701","v":0},{"$f":"AH701+AL701","v":0},{"$f":"AQ701+AR701","v":0},{"$f":"AI701+AM701+AP701","v":0},{"$f":"AJ701+AN701","v":0},"Fall 2015",null,2016,null,"796.323/640979494",null,null,null,"Website",null,34.25,null,"Amicus High Interest",null,2.2999999999999998,null,"Sports & Recreation",null,"English",null,"Reinforced Library",null,24,null,"I",null,"450L",null,"1 - 4",null,"Annabelle Martin"]
[null,null,{"$f":"C698","v":0},null,null,null,"Not Available",null,9781607537687,null,"Superstars of the Oklahoma City Thunder",null,null,null,"Pro Sports Superstars (NBA)",null,null,null,"Amicus",null,0,null,23.95,null,0,null,{"$f":"IF(AC702=FALSE,AT702,0)","v":0},null,null,null,null,null,{"$f":"IF(AND(A702>=1,AC702=\"\"),A702,0)","v":0},{"$f":"IF(AND(A702>=1,AC702=\"x\"),A702,0)","v":0},{"$f":"IF(AND(A702>=1,AC702=\"\"),U702,0)","v":0},{"$f":"IF(AND(A702>=1,AC702=\"x\"),-U702,0)","v":0},0,0,0,0,{"$f":"E702","v":0},{"$f":"Y702*E702","v":0},{"$f":"AG702+AK702+AO702","v":0},{"$f":"AH702+AL702","v":0},{"$f":"AQ702+AR702","v":0},{"$f":"AI702+AM702+AP702","v":0},{"$f":"AJ702+AN702","v":0},"Fall 2015",null,2016,null,"796.323/640976638",null,null,null,"Website",null,34.25,null,"Amicus High Interest",null,2.2000000000000002,null,"Sports & Recreation",null,"English",null,"Reinforced Library",null,24,null,"I",null,"480L",null,"1 - 4",null,"Max Hammer"]
[]
[null,null,null,null,null,null,null,null,null,null,"Complete Series of 6",null,null,null,"Protecting Our People",null,null,null,null,null,{"$f":"SUM(U705:U710)","v":0},null,{"$f":"SUM(W705:W710)","v":149.69999999999999},null,{"$f":"SUM(Y705:Y710)","v":0}]
[null,null,{"$f":"C704","v":0},null,null,null,"Not Available",null,9781607539827,null,"CIA, The",null,null,null,"Protecting Our People",null,null,null,"Amicus",null,0,null,24.95,null,0,null,{"$f":"IF(AC705=FALSE,AT705,0)","v":0},null,null,null,null,null,{"$f":"IF(AND(A705>=1,AC705=\"\"),A705,0)","v":0},{"$f":"IF(AND(A705>=1,AC705=\"x\"),A705,0)","v":0},{"$f":"IF(AND(A705>=1,AC705=\"\"),U705,0)","v":0},{"$f":"IF(AND(A705>=1,AC705=\"x\"),-U705,0)","v":0},{"$f":"IF(AND(C705>=1,AC705=\"\"),C705,0)","v":0},{"$f":"IF(AND(C705>=1,AC705=\"x\"),C705,0)","v":0},{"$f":"IF(AND(C705>=1,AC705=\"\"),W705*C705,0)","v":0},{"$f":"IF(AND(C705>=1,AC705=\"x\"),-W705*C705,0)","v":0},{"$f":"E705","v":0},{"$f":"Y705*E705","v":0},{"$f":"AG705+AK705+AO705","v":0},{"$f":"AH705+AL705","v":0},{"$f":"AQ705+AR705","v":0},{"$f":"AI705+AM705+AP705","v":0},{"$f":"AJ705+AN705","v":0},"Fall 2016",null,2017,null,327.12729999999999,null,null,null,33,null,35.700000000000003,null,"Amicus High Interest",null,3.4,null,"Careers",null,"English",null,"Reinforced Library",null,32,null,"L",null,"540L",null,"2 – 5",null,"Kirsten W. Larson"]
[null,null,{"$f":"C704","v":0},null,null,null,"Not Available",null,9781607539834,null,"FBI, The",null,null,null,"Protecting Our People",null,null,null,"Amicus",null,0,null,24.95,null,0,null,0,null,null,null,null,null,0,0,0,0,0,0,0,0,0,0,0,0,0,0,0,"Fall 2016",null,2017,null,363.25097299999999,null,null,null,33,null,35.700000000000003,null,"Amicus High Interest",null,3.3,null,"Careers",null,"English",null,"Reinforced Library",null,32,null,"L",null,"520L",null,"2 – 5",null,"Kirsten W. Larson"]
[null,null,{"$f":"C704","v":0},null,null,null,"Not Available",null,9781607539841,null,"Federal Air Marshals",null,null,null,"Protecting Our People",null,null,null,"Amicus",null,0,null,24.95,null,0,null,0,null,null,null,null,null,0,0,0,0,0,0,0,0,0,0,0,0,0,0,0,"Fall 2016",null,2017,null,"363.28/76",null,null,null,33,null,35.700000000000003,null,"Amicus High Interest",null,3.6,null,"Careers",null,"English",null,"Reinforced Library",null,32,null,"L",null,"560L",null,"2 – 5",null,"Kirsten W. Larson"]
[null,null,{"$f":"C704","v":0},null,null,null,"Not Available",null,9781607539858,null,"SWAT Teams",null,null,null,"Protecting Our People",null,null,null,"Amicus",null,0,null,24.95,null,0,null,0,null,null,null,null,null,0,0,0,0,0,0,0,0,0,0,0,0,0,0,0,"Fall 2016",null,2017,null,"363.2/3",null,null,null,33,null,35.700000000000003,null,"Amicus High Interest",null,3.4,null,"Careers",null,"English",null,"Reinforced Library",null,32,null,"L",null,"560L",null,"2 – 5",null,"Kirsten W. Larson"]
[null,null,{"$f":"C704","v":0},null,null,null,"Not Available",null,9781607539865,null,"U.S. Border Patrol",null,null,null,"Protecting Our People",null,null,null,"Amicus",null,0,null,24.95,null,0,null,0,null,null,null,null,null,0,0,0,0,0,0,0,0,0,0,0,0,0,0,0,"Fall 2016",null,2017,null,"363.28/50973",null,null,null,33,null,35.700000000000003,null,"Amicus High Interest",null,3.8,null,"Careers",null,"English",null,"Reinforced Library",null,32,null,"L",null,"530L",null,"2 – 5",null,"Kirsten W. Larson"]
[null,null,{"$f":"C704","v":0},null,null,null,"Not Available",null,9781607539872,null,"U.S. Secret Service",null,null,null,"Protecting Our People",null,null,null,"Amicus",null,0,null,24.95,null,0,null,0,null,null,null,null,null,0,0,0,0,0,0,0,0,0,0,0,0,0,0,0,"Fall 2016",null,2017,null,"363.28/30973",null,null,null,33,null,35.700000000000003,null,"Amicus High Interest",null,3.5,null,"Careers",null,"English",null,"Reinforced Library",null,32,null,"L",null,"510L",null,"2 – 5",null,"Kirsten W. Larson"]
[]
[null,null,null,null,null,null,null,null,null,null,"Complete Series of 6",null,null,null,"Punctuation Station",null,null,null,null,null,{"$f":"SUM(U713:U718)","v":0},null,{"$f":"SUM(W713:W718)","v":125.7},null,{"$f":"SUM(Y713:Y718)","v":0}]
[null,null,{"$f":"C712","v":0},null,null,null,"Not Available",null,9781607537274,null,"\"What Did He Say?\"",null,null,null,"Punctuation Station",null,null,null,"Amicus",null,0,null,20.95,null,0,null,{"$f":"IF(AC713=FALSE,AT713,0)","v":0},null,null,null,null,null,{"$f":"IF(AND(A713>=1,AC713=\"\"),A713,0)","v":0},{"$f":"IF(AND(A713>=1,AC713=\"x\"),A713,0)","v":0},{"$f":"IF(AND(A713>=1,AC713=\"\"),U713,0)","v":0},{"$f":"IF(AND(A713>=1,AC713=\"x\"),-U713,0)","v":0},{"$f":"IF(AND(C713>=1,AC713=\"\"),C713,0)","v":0},{"$f":"IF(AND(C713>=1,AC713=\"x\"),C713,0)","v":0},{"$f":"IF(AND(C713>=1,AC713=\"\"),W713*C713,0)","v":0},{"$f":"IF(AND(C713>=1,AC713=\"x\"),-W713*C713,0)","v":0},{"$f":"E713","v":0},{"$f":"Y713*E713","v":0},{"$f":"AG713+AK713+AO713","v":0},{"$f":"AH713+AL713","v":0},{"$f":"AQ713+AR713","v":0},{"$f":"AI713+AM713+AP713","v":0},{"$f":"AJ713+AN713","v":0},"Fall 2015",null,2016,null,"428.1/3",null,null,null,"Website",null,29.95,null,"Amicus Readers",null,2,null,"Language Arts",null,"English",null,"Reinforced Library",null,16,null,null,null,"500L",null,"K - 3",null,"Marie Powell"]
[null,null,{"$f":"C712","v":0},null,null,null,"Not Available",null,9781607537304,null,"Stop Right There.",null,null,null,"Punctuation Station",null,null,null,"Amicus",null,0,null,20.95,null,0,null,0,null,null,null,null,null,0,0,0,0,0,0,0,0,0,0,0,0,0,0,0,"Fall 2015",null,2016,null,"428.1/3",null,null,null,"Website",null,29.95,null,"Amicus Readers",null,1.9,null,"Language Arts",null,"English",null,"Reinforced Library",null,16,null,null,null,"520L",null,"K - 3",null,"Marie Powell"]
[null,null,{"$f":"C712","v":0},null,null,null,"Not Available",null,9781607537311,null,"Take a Pause, Paul",null,null,null,"Punctuation Station",null,null,null,"Amicus",null,0,null,20.95,null,0,null,0,null,null,null,null,null,0,0,0,0,0,0,0,0,0,0,0,0,0,0,0,"Fall 2015",null,2016,null,"428.1/3",null,null,null,"Website",null,29.95,null,"Amicus Readers",null,2.1,null,"Language Arts",null,"English",null,"Reinforced Library",null,16,null,null,null,"500L",null,"K - 3",null,"Marie Powell"]
[null,null,{"$f":"C712","v":0},null,null,null,"Not Available",null,9781607537281,null,"This is Exciting!",null,null,null,"Punctuation Station",null,null,null,"Amicus",null,0,null,20.95,null,0,null,0,null,null,null,null,null,0,0,0,0,0,0,0,0,0,0,0,0,0,0,0,"Fall 2015",null,2016,null,"428.1/3",null,null,null,"Website",null,29.95,null,"Amicus Readers",null,2,null,"Language Arts",null,"English",null,"Reinforced Library",null,16,null,null,null,"470L",null,"K - 3",null,"Marie Powell"]
[null,null,{"$f":"C712","v":0},null,null,null,"Not Available",null,9781607537298,null,"We're Going to the Smiths' House",null,null,null,"Punctuation Station",null,null,null,"Amicus",null,0,null,20.95,null,0,null,0,null,null,null,null,null,0,0,0,0,0,0,0,0,0,0,0,0,0,0,0,"Fall 2015",null,2016,null,"428.1/3",null,null,null,"Website",null,29.95,null,"Amicus Readers",null,1.8,null,"Language Arts",null,"English",null,"Reinforced Library",null,16,null,null,null,"440L",null,"K - 3",null,"Marie Powell"]
[null,null,{"$f":"C712","v":0},null,null,null,"Not Available",null,9781607537328,null,"What Is That?",null,null,null,"Punctuation Station",null,null,null,"Amicus",null,0,null,20.95,null,0,null,0,null,null,null,null,null,0,0,0,0,0,0,0,0,0,0,0,0,0,0,0,"Fall 2015",null,2016,null,"421/.1",null,null,null,"Website",null,29.95,null,"Amicus Readers",null,1.6,null,"Language Arts",null,"English",null,"Reinforced Library",null,16,null,null,null,"400L",null,"K - 3",null,"Marie Powell"]
[]
[null,null,null,null,null,null,null,null,null,null,"Complete Series of 8",null,null,null,"Razas de caballos favoritos (Favorite Horse Breeds)",null,null,null,null,null,{"$f":"SUM(U721:U728)","v":0},null,{"$f":"SUM(W721:W728)","v":191.59999999999997},null,{"$f":"SUM(Y721:Y728)","v":0}]
[null,null,{"$f":"C720","v":0},null,null,null,"Not Available",null,9781681516134,null,"Caballos appaloosa (Appaloosa Horses)",null,null,null,"Razas de caballos favoritos (Favorite Horse Breeds)",null,null,null,"Amicus",null,0,null,23.95,null,0,null,{"$f":"IF(AC721=FALSE,AT721,0)","v":0},null,null,null,null,null,{"$f":"IF(AND(A721>=1,AC721=\"\"),A721,0)","v":0},{"$f":"IF(AND(A721>=1,AC721=\"x\"),A721,0)","v":0},{"$f":"IF(AND(A721>=1,AC721=\"\"),U721,0)","v":0},{"$f":"IF(AND(A721>=1,AC721=\"x\"),-U721,0)","v":0},{"$f":"IF(AND(C721>=1,AC721=\"\"),C721,0)","v":0},{"$f":"IF(AND(C721>=1,AC721=\"x\"),C721,0)","v":0},{"$f":"IF(AND(C721>=1,AC721=\"\"),W721*C721,0)","v":0},{"$f":"IF(AND(C721>=1,AC721=\"x\"),-W721*C721,0)","v":0},{"$f":"E721","v":0},{"$f":"Y721*E721","v":0},{"$f":"AG721+AK721+AO721","v":0},{"$f":"AH721+AL721","v":0},{"$f":"AQ721+AR721","v":0},{"$f":"AI721+AM721+AP721","v":0},{"$f":"AJ721+AN721","v":0},"Fall 2018",null,2019,null,"636.1/3",null,null,null,50,null,34.25,null,"Amicus High Interest ",null,2.1,null,"Animals & Nature",null,"Spanish",null,"Reinforced Library",null,24,null,null,null,null,null,"K - 3",null,"Cari Meister"]
[null,null,{"$f":"C720","v":0},null,null,null,"Not Available",null,9781681516141,null,"Caballos árabes (Arabian Horses)",null,null,null,"Razas de caballos favoritos (Favorite Horse Breeds)",null,null,null,"Amicus",null,0,null,23.95,null,0,null,0,null,null,null,null,null,0,0,0,0,0,0,0,0,0,0,0,0,0,0,0,"Fall 2018",null,2019,null,"636.1/12",null,null,null,50,null,34.25,null,"Amicus High Interest ",null,2.4,null,"Animals & Nature",null,"Spanish",null,"Reinforced Library",null,24,null,null,null,null,null,"K - 3",null,"Cari Meister"]
[null,null,{"$f":"C720","v":0},null,null,null,"Not Available",null,9781681516158,null,"Caballos Clydesdale (Clydesdale Horses)",null,null,null,"Razas de caballos favoritos (Favorite Horse Breeds)",null,null,null,"Amicus",null,0,null,23.95,null,0,null,0,null,null,null,null,null,0,0,0,0,0,0,0,0,0,0,0,0,0,0,0,"Fall 2018",null,2019,null,"636.1/5",null,null,null,50,null,34.25,null,"Amicus High Interest ",null,2,null,"Animals & Nature",null,"Spanish",null,"Reinforced Library",null,24,null,null,null,null,null,"K - 3",null,"Cari Meister"]
[null,null,{"$f":"C720","v":0},null,null,null,"Not Available",null,9781681516110,null,"Caballos cuarto de milla americanos (American Quarter Horse)",null,null,null,"Razas de caballos favoritos (Favorite Horse Breeds)",null,null,null,"Amicus",null,0,null,23.95,null,0,null,0,null,null,null,null,null,0,0,0,0,0,0,0,0,0,0,0,0,0,0,0,"Fall 2018",null,2019,null,"636.1/33",null,null,null,50,null,34.25,null,"Amicus High Interest ",null,2.6,null,"Animals & Nature",null,"Spanish",null,"Reinforced Library",null,24,null,null,null,null,null,"K - 3",null,"Cari Meister"]
[null,null,{"$f":"C720","v":0},null,null,null,"Not Available",null,9781681516165,null,"Caballos Morgan (Morgan Horses)",null,null,null,"Razas de caballos favoritos (Favorite Horse Breeds)",null,null,null,"Amicus",null,0,null,23.95,null,0,null,0,null,null,null,null,null,0,0,0,0,0,0,0,0,0,0,0,0,0,0,0,"Fall 2018",null,2019,null,"636.1/77",null,null,null,50,null,34.25,null,"Amicus High Interest ",null,2.5,null,"Animals & Nature",null,"Spanish",null,"Reinforced Library",null,24,null,null,null,null,null,"K - 3",null,"Cari Meister"]
[null,null,{"$f":"C720","v":0},null,null,null,"Not Available",null,9781681516103,null,"Caballos paint americanos (American Paint Horse)",null,null,null,"Razas de caballos favoritos (Favorite Horse Breeds)",null,null,null,"Amicus",null,0,null,23.95,null,0,null,0,null,null,null,null,null,0,0,0,0,0,0,0,0,0,0,0,0,0,0,0,"Fall 2018",null,2019,null,"636.1/3",null,null,null,50,null,34.25,null,"Amicus High Interest ",null,2.6,null,"Animals & Nature",null,"Spanish",null,"Reinforced Library",null,24,null,null,null,null,null,"K - 3",null,"Cari Meister"]
[null,null,{"$f":"C720","v":0},null,null,null,"Not Available",null,9781681516172,null,"Caballos pura sangre (Thoroughbred Horses)",null,null,null,"Razas de caballos favoritos (Favorite Horse Breeds)",null,null,null,"Amicus",null,0,null,23.95,null,0,null,0,null,null,null,null,null,0,0,0,0,0,0,0,0,0,0,0,0,0,0,0,"Fall 2018",null,2019,null,"636.1/32",null,null,null,50,null,34.25,null,"Amicus High Interest ",null,2.2999999999999998,null,"Animals & Nature",null,"Spanish",null,"Reinforced Library",null,24,null,null,null,null,null,"K - 3",null,"Cari Meister"]
[null,null,{"$f":"C720","v":0},null,null,null,"Not Available",null,9781681516127,null,"Caballos silla americanos (American Saddlebred Horse)",null,null,null,"Razas de caballos favoritos (Favorite Horse Breeds)",null,null,null,"Amicus",null,0,null,23.95,null,0,null,0,null,null,null,null,null,0,0,0,0,0,0,0,0,0,0,0,0,0,0,0,"Fall 2018",null,2019,null,"636.1/3",null,null,null,50,null,34.25,null,"Amicus High Interest ",null,2.5,null,"Animals & Nature",null,"Spanish",null,"Reinforced Library",null,24,null,null,null,null,null,"K - 3",null,"Cari Meister"]
[]
[null,null,null,null,null,null,null,null,null,null,"Complete Series of 6",null,null,null,"Razas de perros favoritas (Favorite Dog Breeds)",null,null,null,null,null,{"$f":"SUM(U731:U736)","v":294},null,{"$f":"SUM(W731:W736)","v":143.69999999999999},null,{"$f":"SUM(Y731:Y736)","v":173.7}]
[{"$f":"A730","v":0},null,{"$f":"C730","v":0},null,{"$f":"E730","v":0},null,9781681519159,null,9781681518893,null,"Los dálmatas (Dalmations)",null,null,null,"Razas de perros favoritas (Favorite Dog Breeds)",null,null,null,"Amicus",null,49,null,23.95,null,{"$f":"W731+5","v":28.95},null,{"$f":"IF(AC731=FALSE,AT731,0)","v":0},null,null,null,null,null,{"$f":"IF(AND(A731>=1,AC731=\"\"),A731,0)","v":0},{"$f":"IF(AND(A731>=1,AC731=\"x\"),A731,0)","v":0},{"$f":"IF(AND(A731>=1,AC731=\"\"),U731,0)","v":0},{"$f":"IF(AND(A731>=1,AC731=\"x\"),-U731,0)","v":0},{"$f":"IF(AND(C731>=1,AC731=\"\"),C731,0)","v":0},{"$f":"IF(AND(C731>=1,AC731=\"x\"),C731,0)","v":0},{"$f":"IF(AND(C731>=1,AC731=\"\"),W731*C731,0)","v":0},{"$f":"IF(AND(C731>=1,AC731=\"x\"),-W731*C731,0)","v":0},{"$f":"E731","v":0},{"$f":"Y731*E731","v":0},{"$f":"AG731+AK731+AO731","v":0},{"$f":"AH731+AL731","v":0},{"$f":"AQ731+AR731","v":0},{"$f":"AI731+AM731+AP731","v":0},{"$f":"AJ731+AN731","v":0},"Fall 2019",null,2020,null,636.72,null,null,null,50,null,34.25,null,"Amicus High Interest",null,2.5,null,"Animals & Nature",null,"Spanish",null,"Reinforced Library",null,24,null,null,null,null,null,"1 - 4",null,"Mary Ellen Klukow"]
[{"$f":"A730","v":0},null,{"$f":"C730","v":0},null,{"$f":"E730","v":0},null,9781681519166,null,9781681518909,null,"Los golden retrievers (Golden Retrievers)",null,null,null,"Razas de perros favoritas (Favorite Dog Breeds)",null,null,null,"Amicus",null,49,null,23.95,null,28.95,null,0,null,null,null,null,null,0,0,0,0,0,0,0,0,0,0,0,0,0,0,0,"Fall 2019",null,2020,null,"636.752/7",null,null,null,50,null,34.25,null,"Amicus High Interest",null,2.6,null,"Animals & Nature",null,"Spanish",null,"Reinforced Library",null,24,null,null,null,null,null,"1 - 4",null,"Mary Ellen Klukow"]
[{"$f":"A730","v":0},null,{"$f":"C730","v":0},null,{"$f":"E730","v":0},null,9781681519173,null,9781681518916,null,"Los gran daneses (Great Danes)",null,null,null,"Razas de perros favoritas (Favorite Dog Breeds)",null,null,null,"Amicus",null,49,null,23.95,null,28.95,null,0,null,null,null,null,null,0,0,0,0,0,0,0,0,0,0,0,0,0,0,0,"Fall 2019",null,2020,null,636.73,null,null,null,50,null,34.25,null,"Amicus High Interest",null,2.1,null,"Animals & Nature",null,"Spanish",null,"Reinforced Library",null,24,null,null,null,null,null,"1 - 4",null,"Mary Ellen Klukow"]
[{"$f":"A730","v":0},null,{"$f":"C730","v":0},null,{"$f":"E730","v":0},null,9781681519197,null,9781681518930,null,"Los husky siberianos (Siberian Huskies)",null,null,null,"Razas de perros favoritas (Favorite Dog Breeds)",null,null,null,"Amicus",null,49,null,23.95,null,28.95,null,0,null,null,null,null,null,0,0,0,0,0,0,0,0,0,0,0,0,0,0,0,"Fall 2019",null,2020,null,636.73,null,null,null,50,null,34.25,null,"Amicus High Interest",null,2.1,null,"Animals & Nature",null,"Spanish",null,"Reinforced Library",null,24,null,null,null,null,null,"1 - 4",null,"Mary Ellen Klukow"]
[{"$f":"A730","v":0},null,{"$f":"C730","v":0},null,{"$f":"E730","v":0},null,9781681519180,null,9781681518923,null,"Los Shih Tzu (Shih Tzus)",null,null,null,"Razas de perros favoritas (Favorite Dog Breeds)",null,null,null,"Amicus",null,49,null,23.95,null,28.95,null,0,null,null,null,null,null,0,0,0,0,0,0,0,0,0,0,0,0,0,0,0,"Fall 2019",null,2020,null,636.76,null,null,null,50,null,34.25,null,"Amicus High Interest",null,2.1,null,"Animals & Nature",null,"Spanish",null,"Reinforced Library",null,24,null,null,null,null,null,"1 - 4",null,"Mary Ellen Klukow"]
[{"$f":"A730","v":0},null,{"$f":"C730","v":0},null,{"$f":"E730","v":0},null,9781681519203,null,9781681518947,null,"Los Yorkshire terriers (Yorksire Terriers)",null,null,null,"Razas de perros favoritas (Favorite Dog Breeds)",null,null,null,"Amicus",null,49,null,23.95,null,28.95,null,0,null,null,null,null,null,0,0,0,0,0,0,0,0,0,0,0,0,0,0,0,"Fall 2019",null,2020,null,636.76,null,null,null,50,null,34.25,null,"Amicus High Interest",null,2.1,null,"Animals & Nature",null,"Spanish",null,"Reinforced Library",null,24,null,null,null,null,null,"1 - 4",null,"Mary Ellen Klukow"]
[]
[null,null,null,null,null,null,null,null,null,null,"Complete Series of 12",null,null,null,"Real-life Superheroes",null,null,null,null,null,{"$f":"SUM(U739:U750)","v":514.20000000000016},null,{"$f":"SUM(W739:W750)","v":251.39999999999995},null,{"$f":"SUM(Y739:Y750)","v":311.39999999999992}]
[{"$f":"A738","v":0},null,{"$f":"C738","v":0},null,{"$f":"E738","v":0},null,9781681513522,null,9781681512907,null,"Chefs",null,null,null,"Real-life Superheroes",null,null,null,"Amicus",null,42.85,null,20.95,null,{"$f":"W739+5","v":25.95},null,{"$f":"IF(AC739=FALSE,AT739,0)","v":0},null,null,null,null,null,{"$f":"IF(AND(A739>=1,AC739=\"\"),A739,0)","v":0},{"$f":"IF(AND(A739>=1,AC739=\"x\"),A739,0)","v":0},{"$f":"IF(AND(A739>=1,AC739=\"\"),U739,0)","v":0},{"$f":"IF(AND(A739>=1,AC739=\"x\"),-U739,0)","v":0},{"$f":"IF(AND(C739>=1,AC739=\"\"),C739,0)","v":0},{"$f":"IF(AND(C739>=1,AC739=\"x\"),C739,0)","v":0},{"$f":"IF(AND(C739>=1,AC739=\"\"),W739*C739,0)","v":0},{"$f":"IF(AND(C739>=1,AC739=\"x\"),-W739*C739,0)","v":0},{"$f":"E739","v":0},{"$f":"Y739*E739","v":0},{"$f":"AG739+AK739+AO739","v":0},{"$f":"AH739+AL739","v":0},{"$f":"AQ739+AR739","v":0},{"$f":"AI739+AM739+AP739","v":0},{"$f":"AJ739+AN739","v":0},"Spring 2018",null,2018,null,641.50919999999996,null,null,null,"Website",null,29.95,null,"Amicus Readers",null,1,null,"Social Studies",null,"English",null,"Reinforced Library",null,16,null,"E",null,"250L",null,"K - 2",null,"Emma Less"]
[{"$f":"A738","v":0},null,{"$f":"C738","v":0},null,{"$f":"E738","v":0},null,9781681513539,null,9781681512914,null,"Construction Workers",null,null,null,"Real-life Superheroes",null,null,null,"Amicus",null,42.85,null,20.95,null,25.95,null,0,null,null,null,null,null,0,0,0,0,0,0,0,0,0,0,0,0,0,0,0,"Spring 2018",null,2018,null,624,null,null,null,"Website",null,29.95,null,"Amicus Readers",null,1,null,"Social Studies",null,"English",null,"Reinforced Library",null,16,null,"E",null,"350L",null,"K - 2",null,"Emma Less"]
[{"$f":"A738","v":0},null,{"$f":"C738","v":0},null,{"$f":"E738","v":0},null,9781681513546,null,9781681512921,null,"Dentists",null,null,null,"Real-life Superheroes",null,null,null,"Amicus",null,42.85,null,20.95,null,25.95,null,0,null,null,null,null,null,0,0,0,0,0,0,0,0,0,0,0,0,0,0,0,"Spring 2018",null,2018,null,617,null,null,null,"Website",null,29.95,null,"Amicus Readers",null,1.1000000000000001,null,"Social Studies",null,"English",null,"Reinforced Library",null,16,null,"E",null,"320L",null,"K - 2",null,"Emma Less"]
[{"$f":"A738","v":0},null,{"$f":"C738","v":0},null,{"$f":"E738","v":0},null,9781681513553,null,9781681512938,null,"Doctors",null,null,null,"Real-life Superheroes",null,null,null,"Amicus",null,42.85,null,20.95,null,25.95,null,0,null,null,null,null,null,0,0,0,0,0,0,0,0,0,0,0,0,0,0,0,"Spring 2018",null,2018,null,610.91999999999996,null,null,null,"Website",null,29.95,null,"Amicus Readers",null,1,null,"Social Studies",null,"English",null,"Reinforced Library",null,16,null,"E",null,"260L",null,"K - 2",null,"Emma Less"]
[{"$f":"A738","v":0},null,{"$f":"C738","v":0},null,{"$f":"E738","v":0},null,9781681513560,null,9781681512945,null,"Farmers",null,null,null,"Real-life Superheroes",null,null,null,"Amicus",null,42.85,null,20.95,null,25.95,null,0,null,null,null,null,null,0,0,0,0,0,0,0,0,0,0,0,0,0,0,0,"Spring 2018",null,2018,null,630.91999999999996,null,null,null,"Website",null,29.95,null,"Amicus Readers",null,1,null,"Social Studies",null,"English",null,"Reinforced Library",null,16,null,"E",null,"240L",null,"K - 2",null,"Emma Less"]
[{"$f":"A738","v":0},null,{"$f":"C738","v":0},null,{"$f":"E738","v":0},null,9781681513577,null,9781681512952,null,"Firefighters",null,null,null,"Real-life Superheroes",null,null,null,"Amicus",null,42.85,null,20.95,null,25.95,null,0,null,null,null,null,null,0,0,0,0,0,0,0,0,0,0,0,0,0,0,0,"Spring 2018",null,2018,null,628.9,null,null,null,"Website",null,29.95,null,"Amicus Readers",null,1,null,"Social Studies",null,"English",null,"Reinforced Library",null,16,null,"E",null,"280L",null,"K - 2",null,"Emma Less"]
[{"$f":"A738","v":0},null,{"$f":"C738","v":0},null,{"$f":"E738","v":0},null,9781681513584,null,9781681512969,null,"Librarians",null,null,null,"Real-life Superheroes",null,null,null,"Amicus",null,42.85,null,20.95,null,25.95,null,0,null,null,null,null,null,0,0,0,0,0,0,0,0,0,0,0,0,0,0,0,"Spring 2018",null,2018,null,20.92,null,null,null,"Website",null,29.95,null,"Amicus Readers",null,1,null,"Social Studies",null,"English",null,"Reinforced Library",null,16,null,"E",null,"320L",null,"K - 2",null,"Emma Less"]
[{"$f":"A738","v":0},null,{"$f":"C738","v":0},null,{"$f":"E738","v":0},null,9781681513621,null,9781681513003,null,"Mechanics",null,null,null,"Real-life Superheroes",null,null,null,"Amicus",null,42.85,null,20.95,null,25.95,null,0,null,null,null,null,null,0,0,0,0,0,0,0,0,0,0,0,0,0,0,0,"Spring 2018",null,2018,null,629.04,null,null,null,"Website",null,29.95,null,"Amicus Readers",null,0.9,null,"Social Studies",null,"English",null,"Reinforced Library",null,16,null,"E",null,"360L",null,"K - 2",null,"Emma Less"]
[{"$f":"A738","v":0},null,{"$f":"C738","v":0},null,{"$f":"E738","v":0},null,9781681513591,null,9781681512976,null,"Nurses",null,null,null,"Real-life Superheroes",null,null,null,"Amicus",null,42.85,null,20.95,null,25.95,null,0,null,null,null,null,null,0,0,0,0,0,0,0,0,0,0,0,0,0,0,0,"Spring 2018",null,2018,null,610.73,null,null,null,"Website",null,29.95,null,"Amicus Readers",null,1,null,"Social Studies",null,"English",null,"Reinforced Library",null,16,null,"E",null,"280L",null,"K - 2",null,"Emma Less"]
[{"$f":"A738","v":0},null,{"$f":"C738","v":0},null,{"$f":"E738","v":0},null,9781681513607,null,9781681512983,null,"Police Officers",null,null,null,"Real-life Superheroes",null,null,null,"Amicus",null,42.85,null,20.95,null,25.95,null,0,null,null,null,null,null,0,0,0,0,0,0,0,0,0,0,0,0,0,0,0,"Spring 2018",null,2018,null,363.2,null,null,null,"Website",null,29.95,null,"Amicus Readers",null,1,null,"Social Studies",null,"English",null,"Reinforced Library",null,16,null,"E",null,"330L",null,"K - 2",null,"Emma Less"]
[{"$f":"A738","v":0},null,{"$f":"C738","v":0},null,{"$f":"E738","v":0},null,9781681513614,null,9781681512990,null,"Teachers",null,null,null,"Real-life Superheroes",null,null,null,"Amicus",null,42.85,null,20.95,null,25.95,null,0,null,null,null,null,null,0,0,0,0,0,0,0,0,0,0,0,0,0,0,0,"Spring 2018",null,2018,null,371.1,null,null,null,"Website",null,29.95,null,"Amicus Readers",null,1,null,"Social Studies",null,"English",null,"Reinforced Library",null,16,null,"E",null,"280L",null,"K - 2",null,"Emma Less"]
[{"$f":"A738","v":0},null,{"$f":"C738","v":0},null,{"$f":"E738","v":0},null,9781681513638,null,9781681513010,null,"Veterinarians",null,null,null,"Real-life Superheroes",null,null,null,"Amicus",null,42.85,null,20.95,null,25.95,null,0,null,null,null,null,null,0,0,0,0,0,0,0,0,0,0,0,0,0,0,0,"Spring 2018",null,2018,null,636.08909200000005,null,null,null,"Website",null,29.95,null,"Amicus Readers",null,1,null,"Social Studies",null,"English",null,"Reinforced Library",null,16,null,"E",null,"230L",null,"K - 2",null,"Emma Less"]
[]
[null,null,null,null,null,null,null,null,null,null,"Complete Series of 4",null,null,null,"Riddle Diddle Dumplings (Board Book)",null,null,null,null,null,{"$f":"SUM(U753:U756)","v":57.2},null,{"$f":"SUM(W753:W756)","v":39.96},null,{"$f":"SUM(Y753:Y756)","v":59.96}]
[{"$f":"A752","v":0},null,{"$f":"C752","v":0},null,{"$f":"E752","v":0},null,9781681525082,null,9781681524061,null,"Riddle Diddle Farm",null,null,null,"Riddle Diddle Dumplings (Board Book)",null,null,null,"Amicus",null,14.3,null,9.99,null,{"$f":"W753+5","v":14.99},null,{"$f":"IF(AC753=FALSE,AT753,0)","v":0},null,null,null,null,null,{"$f":"IF(AND(A753>=1,AC753=\"\"),A753,0)","v":0},{"$f":"IF(AND(A753>=1,AC753=\"x\"),A753,0)","v":0},{"$f":"IF(AND(A753>=1,AC753=\"\"),U753,0)","v":0},{"$f":"IF(AND(A753>=1,AC753=\"x\"),-U753,0)","v":0},{"$f":"IF(AND(C753>=1,AC753=\"\"),C753,0)","v":0},{"$f":"IF(AND(C753>=1,AC753=\"x\"),C753,0)","v":0},{"$f":"IF(AND(C753>=1,AC753=\"\"),W753*C753,0)","v":0},{"$f":"IF(AND(C753>=1,AC753=\"x\"),-W753*C753,0)","v":0},{"$f":"E753","v":0},{"$f":"Y753*E753","v":0},{"$f":"AG753+AK753+AO753","v":0},{"$f":"AH753+AL753","v":0},{"$f":"AQ753+AR753","v":0},{"$f":"AI753+AM753+AP753","v":0},{"$f":"AJ753+AN753","v":0},"Fall 2018",null,2018,null,636,null,null,null,14,null,9.99,null,"Amicus Ink",null,"Not Quizzable",null,"Animals & Nature",null,"English",null,"Board Book",null,10,null,null,null,null,null,"PreK - 1",null,"Diane Z. Shore and Deanna Calvert"]
[{"$f":"A752","v":0},null,{"$f":"C752","v":0},null,{"$f":"E752","v":0},null,9781681525211,null,9781681524993,null,"Riddle Diddle Ocean",null,null,null,"Riddle Diddle Dumplings (Board Book)",null,null,null,"Amicus",null,14.3,null,9.99,null,{"$f":"W754+5","v":14.99},null,{"$f":"IF(AC754=FALSE,AT754,0)","v":0},null,null,null,null,null,{"$f":"IF(AND(A754>=1,AC754=\"\"),A754,0)","v":0},{"$f":"IF(AND(A754>=1,AC754=\"x\"),A754,0)","v":0},{"$f":"IF(AND(A754>=1,AC754=\"\"),U754,0)","v":0},{"$f":"IF(AND(A754>=1,AC754=\"x\"),-U754,0)","v":0},0,0,0,0,{"$f":"E754","v":0},{"$f":"Y754*E754","v":0},{"$f":"AG754+AK754+AO754","v":0},{"$f":"AH754+AL754","v":0},{"$f":"AQ754+AR754","v":0},{"$f":"AI754+AM754+AP754","v":0},{"$f":"AJ754+AN754","v":0},"Fall 2019",null,2019,null,591.77,null,null,null,14,null,9.99,null,"Amicus Ink",null,"Not Quizzable",null,"Animals & Nature",null,"English",null,"Board Book",null,10,null,"na",null,null,null,"PreK - 1",null,"Diane Z. Shore and Deanna Calvert"]
[{"$f":"A752","v":0},null,{"$f":"C752","v":0},null,{"$f":"E752","v":0},null,9781681525228,null,9781681525006,null,"Riddle Diddle Rainforest",null,null,null,"Riddle Diddle Dumplings (Board Book)",null,null,null,"Amicus",null,14.3,null,9.99,null,{"$f":"W755+5","v":14.99},null,{"$f":"IF(AC755=FALSE,AT755,0)","v":0},null,null,null,null,null,{"$f":"IF(AND(A755>=1,AC755=\"\"),A755,0)","v":0},{"$f":"IF(AND(A755>=1,AC755=\"x\"),A755,0)","v":0},{"$f":"IF(AND(A755>=1,AC755=\"\"),U755,0)","v":0},{"$f":"IF(AND(A755>=1,AC755=\"x\"),-U755,0)","v":0},0,0,0,0,{"$f":"E755","v":0},{"$f":"Y755*E755","v":0},{"$f":"AG755+AK755+AO755","v":0},{"$f":"AH755+AL755","v":0},{"$f":"AQ755+AR755","v":0},{"$f":"AI755+AM755+AP755","v":0},{"$f":"AJ755+AN755","v":0},"Fall 2019",null,2019,null,591.73400000000004,null,null,null,14,null,9.99,null,"Amicus Ink",null,"Not Quizzable",null,"Animals & Nature",null,"English",null,"Board Book",null,10,null,"na",null,null,null,"PreK - 1",null,"Diane Z. Shore and Deanna Calvert"]
[{"$f":"A752","v":0},null,{"$f":"C752","v":0},null,{"$f":"E752","v":0},null,9781681525099,null,9781681524078,null,"Riddle Diddle Safari",null,null,null,"Riddle Diddle Dumplings (Board Book)",null,null,null,"Amicus",null,14.3,null,9.99,null,{"$f":"W756+5","v":14.99},null,{"$f":"IF(AC756=FALSE,AT756,0)","v":0},null,null,null,null,null,{"$f":"IF(AND(A756>=1,AC756=\"\"),A756,0)","v":0},{"$f":"IF(AND(A756>=1,AC756=\"x\"),A756,0)","v":0},{"$f":"IF(AND(A756>=1,AC756=\"\"),U756,0)","v":0},{"$f":"IF(AND(A756>=1,AC756=\"x\"),-U756,0)","v":0},0,0,0,0,{"$f":"E756","v":0},{"$f":"Y756*E756","v":0},{"$f":"AG756+AK756+AO756","v":0},{"$f":"AH756+AL756","v":0},{"$f":"AQ756+AR756","v":0},{"$f":"AI756+AM756+AP756","v":0},{"$f":"AJ756+AN756","v":0},"Fall 2018",null,2018,null,591.96,null,null,null,14,null,9.99,null,"Amicus Ink",null,"Not Quizzable",null,"Animals & Nature",null,"English",null,"Board Book",null,10,null,null,null,null,null,"PreK - 1",null,"Diane Z. Shore and Deanna Calvert"]
[]
[null,null,null,null,null,null,null,null,null,null,"Complete Series of 7",null,null,null,"Robotics in Our World",null,null,null,null,null,{"$f":"SUM(U759:U765)","v":357.35},null,{"$f":"SUM(W759:W765)","v":174.64999999999998},null,{"$f":"SUM(Y759:Y765)","v":209.64999999999998}]
[{"$f":"A758","v":0},null,{"$f":"C758","v":0},null,{"$f":"E758","v":0},null,9781681512303,null,9781681511405,null,"Drones",null,null,null,"Robotics in Our World",null,null,null,"Amicus",null,51.05,null,24.95,null,{"$f":"W759+5","v":29.95},null,{"$f":"IF(AC759=FALSE,AT759,0)","v":0},null,null,null,null,null,{"$f":"IF(AND(A759>=1,AC759=\"\"),A759,0)","v":0},{"$f":"IF(AND(A759>=1,AC759=\"x\"),A759,0)","v":0},{"$f":"IF(AND(A759>=1,AC759=\"\"),U759,0)","v":0},{"$f":"IF(AND(A759>=1,AC759=\"x\"),-U759,0)","v":0},{"$f":"IF(AND(C759>=1,AC759=\"\"),C759,0)","v":0},{"$f":"IF(AND(C759>=1,AC759=\"x\"),C759,0)","v":0},{"$f":"IF(AND(C759>=1,AC759=\"\"),W759*C759,0)","v":0},{"$f":"IF(AND(C759>=1,AC759=\"x\"),-W759*C759,0)","v":0},{"$f":"E759","v":0},{"$f":"Y759*E759","v":0},{"$f":"AG759+AK759+AO759","v":0},{"$f":"AH759+AL759","v":0},{"$f":"AQ759+AR759","v":0},{"$f":"AI759+AM759+AP759","v":0},{"$f":"AJ759+AN759","v":0},"Fall 2017",null,2018,null,"623.74/69",null,null,null,33,null,35.700000000000003,null,"Amicus High Interest",null,3.6,null,"Science & Technology",null,"English",null,"Reinforced Library",null,32,null,"L",null,"550L",null,"2 – 5",null,"Kirsten W. Larson"]
[{"$f":"A758","v":0},null,{"$f":"C758","v":0},null,{"$f":"E758","v":0},null,9781681512310,null,9781681511412,null,"Factory Robots",null,null,null,"Robotics in Our World",null,null,null,"Amicus",null,51.05,null,24.95,null,29.95,null,0,null,null,null,null,null,0,0,0,0,0,0,0,0,0,0,0,0,0,0,0,"Fall 2017",null,2018,null,"629.8/92",null,null,null,33,null,35.700000000000003,null,"Amicus High Interest",null,3.4,null,"Science & Technology",null,"English",null,"Reinforced Library",null,32,null,"L",null,"550L",null,"2 – 5",null,"Nadia Higgins"]
[{"$f":"A758","v":0},null,{"$f":"C758","v":0},null,{"$f":"E758","v":0},null,9781681512327,null,9781681511429,null,"Hobby Robots",null,null,null,"Robotics in Our World",null,null,null,"Amicus",null,51.05,null,24.95,null,29.95,null,0,null,null,null,null,null,0,0,0,0,0,0,0,0,0,0,0,0,0,0,0,"Fall 2017",null,2018,null,"629.8/92",null,null,null,33,null,35.700000000000003,null,"Amicus High Interest",null,3.6,null,"Science & Technology",null,"English",null,"Reinforced Library",null,32,null,"L",null,"560L",null,"2 – 5",null,"Kirsten W. Larson"]
[{"$f":"A758","v":0},null,{"$f":"C758","v":0},null,{"$f":"E758","v":0},null,9781681512341,null,9781681511443,null,"Military Robots",null,null,null,"Robotics in Our World",null,null,null,"Amicus",null,51.05,null,24.95,null,29.95,null,0,null,null,null,null,null,0,0,0,0,0,0,0,0,0,0,0,0,0,0,0,"Fall 2017",null,2018,null,623,null,null,null,33,null,35.700000000000003,null,"Amicus High Interest",null,3.6,null,"Science & Technology",null,"English",null,"Reinforced Library",null,32,null,"L",null,"570L",null,"2 – 5",null,"Kirsten W. Larson"]
[{"$f":"A758","v":0},null,{"$f":"C758","v":0},null,{"$f":"E758","v":0},null,9781681512358,null,9781681511450,null,"Robots at Home",null,null,null,"Robotics in Our World",null,null,null,"Amicus",null,51.05,null,24.95,null,29.95,null,0,null,null,null,null,null,0,0,0,0,0,0,0,0,0,0,0,0,0,0,0,"Fall 2017",null,2018,null,"629.8/93",null,null,null,33,null,35.700000000000003,null,"Amicus High Interest",null,3.3,null,"Science & Technology",null,"English",null,"Reinforced Library",null,32,null,"L",null,"580L",null,"2 – 5",null,"Nadia Higgins"]
[{"$f":"A758","v":0},null,{"$f":"C758","v":0},null,{"$f":"E758","v":0},null,9781681512365,null,9781681511467,null,"Robots in Fiction",null,null,null,"Robotics in Our World",null,null,null,"Amicus",null,51.05,null,24.95,null,29.95,null,0,null,null,null,null,null,0,0,0,0,0,0,0,0,0,0,0,0,0,0,0,"Fall 2017",null,2018,null,"809/.9336",null,null,null,33,null,35.700000000000003,null,"Amicus High Interest",null,3.5,null,"Science & Technology",null,"English",null,"Reinforced Library",null,32,null,"L",null,"550L",null,"2 – 5",null,"Nadia Higgins"]
[{"$f":"A758","v":0},null,{"$f":"C758","v":0},null,{"$f":"E758","v":0},null,9781681512372,null,9781681511474,null,"Space Robots",null,null,null,"Robotics in Our World",null,null,null,"Amicus",null,51.05,null,24.95,null,29.95,null,0,null,null,null,null,null,0,0,0,0,0,0,0,0,0,0,0,0,0,0,0,"Fall 2017",null,2018,null,629.42999999999995,null,null,null,33,null,35.700000000000003,null,"Amicus High Interest",null,3.6,null,"Science & Technology",null,"English",null,"Reinforced Library",null,32,null,"L",null,"550L",null,"2 – 5",null,"Kirsten W. Larson"]
[]
[null,null,null,null,null,null,null,null,null,null,"Complete Series of 8",null,null,null,"Say What?: Parts of Speech",null,null,null,null,null,{"$f":"SUM(U768:U775)","v":0},null,{"$f":"SUM(W768:W775)","v":167.6},null,{"$f":"SUM(Y768:Y775)","v":0}]
[null,null,{"$f":"C767","v":0},null,null,null,"Not Available",null,9781607539308,null,"How Big Is It?",null,null,null,"Say What?: Parts of Speech",null,null,null,"Amicus",null,0,null,20.95,null,0,null,{"$f":"IF(AC768=FALSE,AT768,0)","v":0},null,null,null,null,null,{"$f":"IF(AND(A768>=1,AC768=\"\"),A768,0)","v":0},{"$f":"IF(AND(A768>=1,AC768=\"x\"),A768,0)","v":0},{"$f":"IF(AND(A768>=1,AC768=\"\"),U768,0)","v":0},{"$f":"IF(AND(A768>=1,AC768=\"x\"),-U768,0)","v":0},{"$f":"IF(AND(C768>=1,AC768=\"\"),C768,0)","v":0},{"$f":"IF(AND(C768>=1,AC768=\"x\"),C768,0)","v":0},{"$f":"IF(AND(C768>=1,AC768=\"\"),W768*C768,0)","v":0},{"$f":"IF(AND(C768>=1,AC768=\"x\"),-W768*C768,0)","v":0},{"$f":"E768","v":0},{"$f":"Y768*E768","v":0},{"$f":"AG768+AK768+AO768","v":0},{"$f":"AH768+AL768","v":0},{"$f":"AQ768+AR768","v":0},{"$f":"AI768+AM768+AP768","v":0},{"$f":"AJ768+AN768","v":0},"Fall 2016",null,2017,null," 428.2/4",null,null,null,"Website",null,29.95,null,"Amicus Readers",null,"Not Quizzable",null,"Language Arts",null,"English",null,"Reinforced Library",null,16,null,"G",null,"420L",null,"K - 3",null,"Cari Meister"]
[null,null,{"$f":"C767","v":0},null,null,null,"Not Available",null,9781607539315,null,"How Fast Is It?",null,null,null,"Say What?: Parts of Speech",null,null,null,"Amicus",null,0,null,20.95,null,0,null,0,null,null,null,null,null,0,0,0,0,0,0,0,0,0,0,0,0,0,0,0,"Fall 2016",null,2017,null,"428.2/4",null,null,null,"Website",null,29.95,null,"Amicus Readers",null,"Not Quizzable",null,"Language Arts",null,"English",null,"Reinforced Library",null,16,null,"G",null,"360L",null,"K - 3",null,"Cari Meister"]
[null,null,{"$f":"C767","v":0},null,null,null,"Not Available",null,9781607539346,null,"No School Today",null,null,null,"Say What?: Parts of Speech",null,null,null,"Amicus",null,0,null,20.95,null,0,null,0,null,null,null,null,null,0,0,0,0,0,0,0,0,0,0,0,0,0,0,0,"Fall 2016",null,2017,null,428.2,null,null,null,"Website",null,29.95,null,"Amicus Readers",null,"Not Quizzable",null,"Language Arts",null,"English",null,"Reinforced Library",null,16,null,"G",null,"440L",null,"K - 3",null,"Cari Meister"]
[null,null,{"$f":"C767","v":0},null,null,null,"Not Available",null,9781607539322,null,"Ouch! It Bit Me!",null,null,null,"Say What?: Parts of Speech",null,null,null,"Amicus",null,0,null,20.95,null,0,null,0,null,null,null,null,null,0,0,0,0,0,0,0,0,0,0,0,0,0,0,0,"Fall 2016",null,2017,null,"428.2/4",null,null,null,"Website",null,29.95,null,"Amicus Readers",null,"Not Quizzable",null,"Language Arts",null,"English",null,"Reinforced Library",null,16,null,"G",null,"330L",null,"K - 3",null,"Cari Meister"]
[null,null,{"$f":"C767","v":0},null,null,null,"Not Available",null,9781607539353,null,"Pepperoni or Sausage?",null,null,null,"Say What?: Parts of Speech",null,null,null,"Amicus",null,0,null,20.95,null,0,null,0,null,null,null,null,null,0,0,0,0,0,0,0,0,0,0,0,0,0,0,0,"Fall 2016",null,2017,null,"428.2/4",null,null,null,"Website",null,29.95,null,"Amicus Readers",null,"Not Quizzable",null,"Language Arts",null,"English",null,"Reinforced Library",null,16,null,"G",null,"510L",null,"K - 3",null,"Cari Meister"]
[null,null,{"$f":"C767","v":0},null,null,null,"Not Available",null,9781607539339,null,"What Is It Doing?",null,null,null,"Say What?: Parts of Speech",null,null,null,"Amicus",null,0,null,20.95,null,0,null,0,null,null,null,null,null,0,0,0,0,0,0,0,0,0,0,0,0,0,0,0,"Fall 2016",null,2017,null,"428.2/4",null,null,null,"Website",null,29.95,null,"Amicus Readers",null,"Not Quizzable",null,"Language Arts",null,"English",null,"Reinforced Library",null,16,null,"G",null,"470L",null,"K - 3",null,"Cari Meister"]
[null,null,{"$f":"C767","v":0},null,null,null,"Not Available",null,9781607539377,null,"Who Ate It?",null,null,null,"Say What?: Parts of Speech",null,null,null,"Amicus",null,0,null,20.95,null,0,null,0,null,null,null,null,null,0,0,0,0,0,0,0,0,0,0,0,0,0,0,0,"Fall 2016",null,2017,null,428.2,null,null,null,"Website",null,29.95,null,"Amicus Readers",null,"Not Quizzable",null,"Language Arts",null,"English",null,"Reinforced Library",null,16,null,"G",null,"460L",null,"K - 3",null,"Cari Meister"]
[null,null,{"$f":"C767","v":0},null,null,null,"Not Available",null,9781607539360,null,"Who Is Up There?",null,null,null,"Say What?: Parts of Speech",null,null,null,"Amicus",null,0,null,20.95,null,0,null,0,null,null,null,null,null,0,0,0,0,0,0,0,0,0,0,0,0,0,0,0,"Fall 2016",null,2017,null,428.2,null,null,null,"Website",null,29.95,null,"Amicus Readers",null,"Not Quizzable",null,"Language Arts",null,"English",null,"Reinforced Library",null,16,null,"G",null,"450L",null,"K - 3",null,"Cari Meister"]
[]
[null,null,null,null,null,null,null,null,null,null,"Complete Series of 10",null,null,null,"Sequence Amazing Structures",null,null,null,null,null,{"$f":"SUM(U778:U787)","v":510.50000000000006},null,{"$f":"SUM(W778:W787)","v":249.49999999999994},null,{"$f":"SUM(Y778:Y787)","v":299.49999999999994}]
[{"$f":"A777","v":0},null,{"$f":"C777","v":0},null,{"$f":"E777","v":0},null,9781681515106,null,9781681514284,null,"Building a Bridge",null,null,null,"Sequence Amazing Structures",null,null,null,"Amicus",null,51.05,null,24.95,null,{"$f":"W778+5","v":29.95},null,{"$f":"IF(AC778=FALSE,AT778,0)","v":0},null,null,null,null,null,{"$f":"IF(AND(A778>=1,AC778=\"\"),A778,0)","v":0},{"$f":"IF(AND(A778>=1,AC778=\"x\"),A778,0)","v":0},{"$f":"IF(AND(A778>=1,AC778=\"\"),U778,0)","v":0},{"$f":"IF(AND(A778>=1,AC778=\"x\"),-U778,0)","v":0},{"$f":"IF(AND(C778>=1,AC778=\"\"),C778,0)","v":0},{"$f":"IF(AND(C778>=1,AC778=\"x\"),C778,0)","v":0},{"$f":"IF(AND(C778>=1,AC778=\"\"),W778*C778,0)","v":0},{"$f":"IF(AND(C778>=1,AC778=\"x\"),-W778*C778,0)","v":0},{"$f":"E778","v":0},{"$f":"Y778*E778","v":0},{"$f":"AG778+AK778+AO778","v":0},{"$f":"AH778+AL778","v":0},{"$f":"AQ778+AR778","v":0},{"$f":"AI778+AM778+AP778","v":0},{"$f":"AJ778+AN778","v":0},"Fall 2018",null,2019,null,624.20000000000005,null,null,null,46,null,35.700000000000003,null,"Sequence",null,3.7,null,"Science & Technology",null,"English",null,"Reinforced Library",null,32,null,"M",null,"480L",null,"2 – 5",null,"Angie Smibert"]
[{"$f":"A777","v":0},null,{"$f":"C777","v":0},null,{"$f":"E777","v":0},null,9781681515113,null,9781681514291,null,"Building a Dam",null,null,null,"Sequence Amazing Structures",null,null,null,"Amicus",null,51.05,null,24.95,null,29.95,null,0,null,null,null,null,null,0,0,0,0,0,0,0,0,0,0,0,0,0,0,0,"Fall 2018",null,2019,null,"627/.8",null,null,null,46,null,35.700000000000003,null,"Sequence",null,3.8,null,"Science & Technology",null,"English",null,"Reinforced Library",null,32,null,"M",null,"540L",null,"2 – 5",null,"Angie Smibert"]
[{"$f":"A777","v":0},null,{"$f":"C777","v":0},null,{"$f":"E777","v":0},null,9781681518749,null,9781681518343,null,"Building a Highway",null,null,null,"Sequence Amazing Structures",null,null,null,"Amicus",null,51.05,null,24.95,null,29.95,null,0,null,null,null,null,null,0,0,0,0,0,0,0,0,0,0,0,0,0,0,0,"Spring 2020",null,2020,null,625.70000000000005,null,null,null,46,null,35.700000000000003,null,"Sequence",null,3.5,null,"Science & Technology",null,"English",null,"Reinforced Library",null,32,null,"M",null,null,null,"2 – 5",null,"Karen Latchana Kenney"]
[{"$f":"A777","v":0},null,{"$f":"C777","v":0},null,{"$f":"E777","v":0},null,9781681515120,null,9781681514307,null,"Building a Roller Coaster",null,null,null,"Sequence Amazing Structures",null,null,null,"Amicus",null,51.05,null,24.95,null,29.95,null,0,null,null,null,null,null,0,0,0,0,0,0,0,0,0,0,0,0,0,0,0,"Fall 2018",null,2019,null,796.5,null,null,null,46,null,35.700000000000003,null,"Sequence",null,3.6,null,"Science & Technology",null,"English",null,"Reinforced Library",null,32,null,"M",null,"530L",null,"2 – 5",null,"Karen Latchana Kenney"]
[{"$f":"A777","v":0},null,{"$f":"C777","v":0},null,{"$f":"E777","v":0},null,9781681515137,null,9781681514314,null,"Building a Skyscraper",null,null,null,"Sequence Amazing Structures",null,null,null,"Amicus",null,51.05,null,24.95,null,29.95,null,0,null,null,null,null,null,0,0,0,0,0,0,0,0,0,0,0,0,0,0,0,"Fall 2018",null,2019,null,"690/.52",null,null,null,46,null,35.700000000000003,null,"Sequence",null,3.6,null,"Science & Technology",null,"English",null,"Reinforced Library",null,32,null,"M",null,"540L",null,"2 – 5",null,"Karen Latchana Kenney"]
[{"$f":"A777","v":0},null,{"$f":"C777","v":0},null,{"$f":"E777","v":0},null,9781681515144,null,9781681514321,null,"Building a Stadium",null,null,null,"Sequence Amazing Structures",null,null,null,"Amicus",null,51.05,null,24.95,null,29.95,null,0,null,null,null,null,null,0,0,0,0,0,0,0,0,0,0,0,0,0,0,0,"Fall 2018",null,2019,null,"690/.5827",null,null,null,46,null,35.700000000000003,null,"Sequence",null,3.9,null,"Science & Technology",null,"English",null,"Reinforced Library",null,32,null,"M",null,"510L",null,"2 – 5",null,"Angie Smibert"]
[{"$f":"A777","v":0},null,{"$f":"C777","v":0},null,{"$f":"E777","v":0},null,9781681518725,null,9781681518329,null,"Building a Subway",null,null,null,"Sequence Amazing Structures",null,null,null,"Amicus",null,51.05,null,24.95,null,29.95,null,0,null,null,null,null,null,0,0,0,0,0,0,0,0,0,0,0,0,0,0,0,"Spring 2020",null,2020,null,"625.4/2",null,null,null,46,null,35.700000000000003,null,"Sequence",null,3.5,null,"Science & Technology",null,"English",null,"Reinforced Library",null,32,null,"M",null,null,null,"2 – 5",null,"Annie C. Holdren"]
[{"$f":"A777","v":0},null,{"$f":"C777","v":0},null,{"$f":"E777","v":0},null,9781681515151,null,9781681514338,null,"Building a Tunnel",null,null,null,"Sequence Amazing Structures",null,null,null,"Amicus",null,51.05,null,24.95,null,29.95,null,0,null,null,null,null,null,0,0,0,0,0,0,0,0,0,0,0,0,0,0,0,"Fall 2018",null,2019,null,"624.1/93",null,null,null,46,null,35.700000000000003,null,"Sequence",null,3.5,null,"Science & Technology",null,"English",null,"Reinforced Library",null,32,null,"M",null,"530L",null,"2 – 5",null,"Karen Latchana Kenney"]
[{"$f":"A777","v":0},null,{"$f":"C777","v":0},null,{"$f":"E777","v":0},null,9781681518718,null,9781681518312,null,"Building an Airport",null,null,null,"Sequence Amazing Structures",null,null,null,"Amicus",null,51.05,null,24.95,null,29.95,null,0,null,null,null,null,null,0,0,0,0,0,0,0,0,0,0,0,0,0,0,0,"Spring 2020",null,2020,null,"690/.539",null,null,null,46,null,35.700000000000003,null,"Sequence",null,3.5,null,"Science & Technology",null,"English",null,"Reinforced Library",null,32,null,"M",null,null,null,"2 – 5",null,"Karen Latchana Kenney"]
[{"$f":"A777","v":0},null,{"$f":"C777","v":0},null,{"$f":"E777","v":0},null,9781681518732,null,9781681518336,null,"Building an Offshore Oil Rig",null,null,null,"Sequence Amazing Structures",null,null,null,"Amicus",null,51.05,null,24.95,null,29.95,null,0,null,null,null,null,null,0,0,0,0,0,0,0,0,0,0,0,0,0,0,0,"Spring 2020",null,2020,null,"622/.3381",null,null,null,46,null,35.700000000000003,null,"Sequence",null,4.2,null,"Science & Technology",null,"English",null,"Reinforced Library",null,32,null,"M",null,null,null,"2 – 5",null,"Annie C. Holdren"]
[]
[null,null,null,null,null,null,null,null,null,null,"Complete Series of 5",null,null,null,"Sequence American Government",null,null,null,null,null,{"$f":"SUM(U790:U794)","v":255.25},null,{"$f":"SUM(W790:W794)","v":124.75},null,{"$f":"SUM(Y790:Y794)","v":149.75}]
[{"$f":"A789","v":0},null,{"$f":"C789","v":0},null,{"$f":"E789","v":0},null,9781681517544,null,9781681516721,null,"Understanding How Laws Are Made",null,null,null,"Sequence American Government",null,null,null,"Amicus",null,51.05,null,24.95,null,{"$f":"W790+5","v":29.95},null,{"$f":"IF(AC790=FALSE,AT790,0)","v":0},null,null,null,null,null,{"$f":"IF(AND(A790>=1,AC790=\"\"),A790,0)","v":0},{"$f":"IF(AND(A790>=1,AC790=\"x\"),A790,0)","v":0},{"$f":"IF(AND(A790>=1,AC790=\"\"),U790,0)","v":0},{"$f":"IF(AND(A790>=1,AC790=\"x\"),-U790,0)","v":0},{"$f":"IF(AND(C790>=1,AC790=\"\"),C790,0)","v":0},{"$f":"IF(AND(C790>=1,AC790=\"x\"),C790,0)","v":0},{"$f":"IF(AND(C790>=1,AC790=\"\"),W790*C790,0)","v":0},{"$f":"IF(AND(C790>=1,AC790=\"x\"),-W790*C790,0)","v":0},{"$f":"E790","v":0},{"$f":"Y790*E790","v":0},{"$f":"AG790+AK790+AO790","v":0},{"$f":"AH790+AL790","v":0},{"$f":"AQ790+AR790","v":0},{"$f":"AI790+AM790+AP790","v":0},{"$f":"AJ790+AN790","v":0},"Fall 2019",null,2020,null,328.73,null,null,null,46,null,35.700000000000003,null,"Sequence",null,3.4,null,"Social Studies",null,"English",null,"Reinforced Library",null,32,null,"M",null,43501,null,"2 – 5",null,"Matt Bowers "]
[{"$f":"A789","v":0},null,{"$f":"C789","v":0},null,{"$f":"E789","v":0},null,9781681517568,null,9781681516745,null,"Understanding Presidential Elections",null,null,null,"Sequence American Government",null,null,null,"Amicus",null,51.05,null,24.95,null,29.95,null,0,null,null,null,null,null,0,0,0,0,0,0,0,0,0,0,0,0,{"$f":"AQ791+AR791","v":0},0,0,"Fall 2019",null,2020,null,324.60973000000001,null,null,null,46,null,35.700000000000003,null,"Sequence",null,3.7,null,"Social Studies",null,"English",null,"Reinforced Library",null,32,null,"M",null,43501,null,"2 – 5",null,"Matt Bowers "]
[{"$f":"A789","v":0},null,{"$f":"C789","v":0},null,{"$f":"E789","v":0},null,9781681517537,null,9781681516714,null,"Writing the Bill of Rights",null,null,null,"Sequence American Government",null,null,null,"Amicus",null,51.05,null,24.95,null,29.95,null,0,null,null,null,null,null,0,0,0,0,0,0,0,0,0,0,0,0,{"$f":"AQ792+AR792","v":0},0,0,"Fall 2019",null,2020,null,"342.7303/9",null,null,null,46,null,35.700000000000003,null,"Sequence",null,4,null,"Social Studies",null,"English",null,"Reinforced Library",null,32,null,"M",null,43501,null,"2 – 5",null,"Matt Bowers "]
[{"$f":"A789","v":0},null,{"$f":"C789","v":0},null,{"$f":"E789","v":0},null,9781681517551,null,9781681516738,null,"Writing the Declaration of Independence",null,null,null,"Sequence American Government",null,null,null,"Amicus",null,51.05,null,24.95,null,29.95,null,0,null,null,null,null,null,0,0,0,0,0,0,0,0,0,0,0,0,{"$f":"AQ793+AR793","v":0},0,0,"Fall 2019",null,2020,null,"973.3/13",null,null,null,46,null,35.700000000000003,null,"Sequence",null,3.8,null,"Social Studies",null,"English",null,"Reinforced Library",null,32,null,"M",null,43501,null,"2 – 5",null,"Matt Bowers "]
[{"$f":"A789","v":0},null,{"$f":"C789","v":0},null,{"$f":"E789","v":0},null,9781681517575,null,9781681516752,null,"Writing the U.S. Constitution",null,null,null,"Sequence American Government",null,null,null,"Amicus",null,51.05,null,24.95,null,29.95,null,0,null,null,null,null,null,0,0,0,0,0,0,0,0,0,0,0,0,{"$f":"AQ794+AR794","v":0},0,0,"Fall 2019",null,2020,null,"342.7302/9",null,null,null,46,null,35.700000000000003,null,"Sequence",null,3.8,null,"Social Studies",null,"English",null,"Reinforced Library",null,32,null,"M",null,43501,null,"2 – 5",null,"Matt Bowers "]
[]
[null,null,null,null,null,null,null,null,null,null,"Complete Series of 12",null,null,null,"Sequence Change Maker Biographies",null,null,null,null,null,{"$f":"SUM(U797:U808)","v":612.6},null,{"$f":"SUM(W797:W808)","v":299.39999999999992},null,{"$f":"SUM(Y797:Y808)","v":359.39999999999992}]
[{"$f":"A796","v":0},null,{"$f":"C796","v":0},null,{"$f":"E796","v":0},null,9781645490326,null,9781681519470,null,"Life of Clara Barton, The",null,null,null,"Sequence Change Maker Biographies",null,null,null,"Amicus",null,51.05,null,24.95,null,{"$f":"W797+5","v":29.95},null,{"$f":"IF(AC797=FALSE,AT797,0)","v":0},null,null,null,null,null,{"$f":"IF(AND(A797>=1,AC797=\"\"),A797,0)","v":0},{"$f":"IF(AND(A797>=1,AC797=\"x\"),A797,0)","v":0},{"$f":"IF(AND(A797>=1,AC797=\"\"),U797,0)","v":0},{"$f":"IF(AND(A797>=1,AC797=\"x\"),-U797,0)","v":0},{"$f":"IF(AND(C797>=1,AC797=\"\"),C797,0)","v":0},{"$f":"IF(AND(C797>=1,AC797=\"x\"),C797,0)","v":0},{"$f":"IF(AND(C797>=1,AC797=\"\"),W797*C797,0)","v":0},{"$f":"IF(AND(C797>=1,AC797=\"x\"),-W797*C797,0)","v":0},{"$f":"E797","v":0},{"$f":"Y797*E797","v":0},{"$f":"AG797+AK797+AO797","v":0},{"$f":"AH797+AL797","v":0},{"$f":"AQ797+AR797","v":0},{"$f":"AI797+AM797+AP797","v":0},{"$f":"AJ797+AN797","v":0},"Spring 2022",null,2022,null,"361.7/634092",null,null,null,46,null,35.700000000000003,null,"Sequence",null,3.6,null,"Biography",null,"English",null,"Reinforced Library",null,32,null,"M",null,null,null,"2 - 5",null,"Gillia M. Olson"]
[{"$f":"A796","v":0},null,{"$f":"C796","v":0},null,{"$f":"E796","v":0},null,9781645490333,null,9781681519487,null,"Life of Dolores Huerta, The",null,null,null,"Sequence Change Maker Biographies",null,null,null,"Amicus",null,51.05,null,24.95,null,29.95,null,0,null,null,null,null,null,0,0,0,0,0,0,0,0,0,0,0,0,0,0,0,"Spring 2022",null,2022,null,"331.4/7813092",null,null,null,46,null,35.700000000000003,null,"Sequence",null,3.6,null,"Biography",null,"English",null,"Reinforced Library",null,32,null,"M",null,null,null,"2 - 5",null,"Gillia M. Olson"]
[{"$f":"A796","v":0},null,{"$f":"C796","v":0},null,{"$f":"E796","v":0},null,9781645490340,null,9781681519494,null,"Life of Elizabeth Cady Stanton, The",null,null,null,"Sequence Change Maker Biographies",null,null,null,"Amicus",null,51.05,null,24.95,null,29.95,null,0,null,null,null,null,null,0,0,0,0,0,0,0,0,0,0,0,0,0,0,0,"Spring 2022",null,2022,null,305.42092000000002,null,null,null,46,null,35.700000000000003,null,"Sequence",null,3.6,null,"Biography",null,"English",null,"Reinforced Library",null,32,null,"M",null,null,null,"2 - 5",null,"Gillia M. Olson"]
[{"$f":"A796","v":0},null,{"$f":"C796","v":0},null,{"$f":"E796","v":0},null,9781681517582,null,9781681516769,null,"Life of Harriet Tubman, The",null,null,null,"Sequence Change Maker Biographies",null,null,null,"Amicus",null,51.05,null,24.95,null,29.95,null,0,null,null,null,null,null,0,0,0,0,0,0,0,0,0,0,0,0,0,0,0,"Fall 2019",null,2020,null,"306.3/62092 [B]",null,null,null,46,null,35.700000000000003,null,"Sequence",null,3.5,null,"Biography",null,"English",null,"Reinforced Library",null,32,null,"M",null,43501,null,"2 - 5",null,"Elizabeth Raum"]
[{"$f":"A796","v":0},null,{"$f":"C796","v":0},null,{"$f":"E796","v":0},null,9781681517599,null,9781681516776,null,"Life of Malala Yousafzai, The",null,null,null,"Sequence Change Maker Biographies",null,null,null,"Amicus",null,51.05,null,24.95,null,29.95,null,0,null,null,null,null,null,0,0,0,0,0,0,0,0,0,0,0,0,0,0,0,"Fall 2019",null,2020,null,371.82209549100003,null,null,null,46,null,35.700000000000003,null,"Sequence",null,3.5,null,"Biography",null,"English",null,"Reinforced Library",null,32,null,"M",null,43501,null,"2 - 5",null,"Elizabeth Raum"]
[{"$f":"A796","v":0},null,{"$f":"C796","v":0},null,{"$f":"E796","v":0},null,9781681517605,null,9781681516783,null,"Life of Marie Curie, The",null,null,null,"Sequence Change Maker Biographies",null,null,null,"Amicus",null,51.05,null,24.95,null,29.95,null,0,null,null,null,null,null,0,0,0,0,0,0,0,0,0,0,0,0,0,0,0,"Fall 2019",null,2020,null,"540.92 [B]",null,null,null,46,null,35.700000000000003,null,"Sequence",null,3.6,null,"Biography",null,"English",null,"Reinforced Library",null,32,null,"M",null,43501,null,"2 - 5",null,"Elizabeth Raum"]
[{"$f":"A796","v":0},null,{"$f":"C796","v":0},null,{"$f":"E796","v":0},null,9781645490357,null,9781681519500,null,"Life of Rosa Parks, The",null,null,null,"Sequence Change Maker Biographies",null,null,null,"Amicus",null,51.05,null,24.95,null,29.95,null,0,null,null,null,null,null,0,0,0,0,0,0,0,0,0,0,0,0,0,0,0,"Spring 2022",null,2022,null,323.09199999999998,null,null,null,46,null,35.700000000000003,null,"Sequence",null,3.7,null,"Biography",null,"English",null,"Reinforced Library",null,32,null,"M",null,null,null,"2 - 5",null,"Gillia M. Olson"]
[{"$f":"A796","v":0},null,{"$f":"C796","v":0},null,{"$f":"E796","v":0},null,9781681517612,null,9781681516790,null,"Life of Ruby Bridges, The",null,null,null,"Sequence Change Maker Biographies",null,null,null,"Amicus",null,51.05,null,24.95,null,29.95,null,0,null,null,null,null,null,0,0,0,0,0,0,0,0,0,0,0,0,0,0,0,"Fall 2019",null,2020,null,"379.2/63092 [B]",null,null,null,46,null,35.700000000000003,null,"Sequence",null,3.6,null,"Biography",null,"English",null,"Reinforced Library",null,32,null,"M",null,43501,null,"2 - 5",null,"Elizabeth Raum"]
[{"$f":"A796","v":0},null,{"$f":"C796","v":0},null,{"$f":"E796","v":0},null,9781645490364,null,9781681519517,null,"Life of Sacagawea, The",null,null,null,"Sequence Change Maker Biographies",null,null,null,"Amicus",null,51.05,null,24.95,null,29.95,null,0,null,null,null,null,null,0,0,0,0,0,0,0,0,0,0,0,0,0,0,0,"Spring 2022",null,2022,null,"978.004/9745740092",null,null,null,46,null,35.700000000000003,null,"Sequence",null,3.7,null,"Biography",null,"English",null,"Reinforced Library",null,32,null,"M",null,null,null,"2 - 5",null,"Gillia M. Olson"]
[{"$f":"A796","v":0},null,{"$f":"C796","v":0},null,{"$f":"E796","v":0},null,9781681517629,null,9781681516806,null,"Life of Sally Ride, The",null,null,null,"Sequence Change Maker Biographies",null,null,null,"Amicus",null,51.05,null,24.95,null,29.95,null,0,null,null,null,null,null,0,0,0,0,0,0,0,0,0,0,0,0,0,0,0,"Fall 2019",null,2020,null,"629.450092 [B]",null,null,null,46,null,35.700000000000003,null,"Sequence",null,3.7,null,"Biography",null,"English",null,"Reinforced Library",null,32,null,"M",null,43501,null,"2 - 5",null,"Elizabeth Raum"]
[{"$f":"A796","v":0},null,{"$f":"C796","v":0},null,{"$f":"E796","v":0},null,9781645490371,null,9781681519524,null,"Life of Sojourner Truth, The",null,null,null,"Sequence Change Maker Biographies",null,null,null,"Amicus",null,51.05,null,24.95,null,29.95,null,0,null,null,null,null,null,0,0,0,0,0,0,0,0,0,0,0,0,0,0,0,"Spring 2022",null,2022,null,"326/.8092",null,null,null,46,null,35.700000000000003,null,"Sequence",null,3.7,null,"Biography",null,"English",null,"Reinforced Library",null,32,null,"M",null,null,null,"2 - 5",null,"Gillia M. Olson"]
[{"$f":"A796","v":0},null,{"$f":"C796","v":0},null,{"$f":"E796","v":0},null,9781681517636,null,9781681516813,null,"Life of Susan B. Anthony, The",null,null,null,"Sequence Change Maker Biographies",null,null,null,"Amicus",null,51.05,null,24.95,null,29.95,null,0,null,null,null,null,null,0,0,0,0,0,0,0,0,0,0,0,0,0,0,0,"Fall 2019",null,2020,null,"305.4209 [B]",null,null,null,46,null,35.700000000000003,null,"Sequence",null,3.4,null,"Biography",null,"English",null,"Reinforced Library",null,32,null,"M",null,43501,null,"2 - 5",null,"Elizabeth Raum"]
[]
[null,null,null,null,null,null,null,null,null,null,"Complete Series of 12",null,null,null,"Sequence Developments in Technology",null,null,null,null,null,{"$f":"SUM(U811:U822)","v":612.6},null,{"$f":"SUM(W811:W822)","v":299.39999999999992},null,{"$f":"SUM(Y811:Y822)","v":359.39999999999992}]
[{"$f":"A810","v":0},null,{"$f":"C810","v":0},null,{"$f":"E810","v":0},null,9781645490449,null,9781681519593,null,"Airplanes from Then to Now",null,null,null,"Sequence Developments in Technology",null,null,null,"Amicus",null,51.05,null,24.95,null,{"$f":"W811+5","v":29.95},null,{"$f":"IF(AC811=FALSE,AT811,0)","v":0},null,null,null,null,null,{"$f":"IF(AND(A811>=1,AC811=\"\"),A811,0)","v":0},{"$f":"IF(AND(A811>=1,AC811=\"x\"),A811,0)","v":0},{"$f":"IF(AND(A811>=1,AC811=\"\"),U811,0)","v":0},{"$f":"IF(AND(A811>=1,AC811=\"x\"),-U811,0)","v":0},{"$f":"IF(AND(C811>=1,AC811=\"\"),C811,0)","v":0},{"$f":"IF(AND(C811>=1,AC811=\"x\"),C811,0)","v":0},{"$f":"IF(AND(C811>=1,AC811=\"\"),W811*C811,0)","v":0},{"$f":"IF(AND(C811>=1,AC811=\"x\"),-W811*C811,0)","v":0},{"$f":"E811","v":0},{"$f":"Y811*E811","v":0},{"$f":"AG811+AK811+AO811","v":0},{"$f":"AH811+AL811","v":0},{"$f":"AQ811+AR811","v":0},{"$f":"AI811+AM811+AP811","v":0},{"$f":"AJ811+AN811","v":0},"Spring 2022",null,2022,null,629.13300000000004,null,null,null,46,null,35.700000000000003,null,"Sequence",null,null,null,"Science & Technology",null,"English",null,"Reinforced Library",null,32,null,"M",null,null,null,"2 - 5",null,"Grack, Rachel"]
[{"$f":"A810","v":0},null,{"$f":"C810","v":0},null,{"$f":"E810","v":0},null,9781681517643,null,9781681516820,null,"Automobiles from Then to Now",null,null,null,"Sequence Developments in Technology",null,null,null,"Amicus",null,51.05,null,24.95,null,29.95,null,0,null,null,null,null,null,0,0,0,0,0,0,0,0,0,0,0,0,0,0,0,"Fall 2019",null,2020,null,629.22208999999998,null,null,null,46,null,35.700000000000003,null,"Sequence",null,3.6,null,"Science & Technology",null,"English",null,"Reinforced Library",null,32,null,"M",null,43501,null,"2 – 5",null,"Rachel Grack"]
[{"$f":"A810","v":0},null,{"$f":"C810","v":0},null,{"$f":"E810","v":0},null,9781645490456,null,9781681519609,null,"Computers from Then to Now",null,null,null,"Sequence Developments in Technology",null,null,null,"Amicus",null,51.05,null,24.95,null,29.95,null,0,null,null,null,null,null,0,0,0,0,0,0,0,0,0,0,0,0,0,0,0,"Spring 2022",null,2022,null,4.09,null,null,null,46,null,35.700000000000003,null,"Sequence",null,null,null,"Science & Technology",null,"English",null,"Reinforced Library",null,32,null,"M",null,null,null,"2 - 5",null,"Smibert, Angie"]
[{"$f":"A810","v":0},null,{"$f":"C810","v":0},null,{"$f":"E810","v":0},null,9781645490463,null,9781681519616,null,"Movies from Then to Now",null,null,null,"Sequence Developments in Technology",null,null,null,"Amicus",null,51.05,null,24.95,null,29.95,null,0,null,null,null,null,null,0,0,0,0,0,0,0,0,0,0,0,0,0,0,0,"Spring 2022",null,2022,null,791.43089999999995,null,null,null,46,null,35.700000000000003,null,"Sequence",null,null,null,"Science & Technology",null,"English",null,"Reinforced Library",null,32,null,"M",null,null,null,"2 - 5",null,"Grack, Rachel"]
[{"$f":"A810","v":0},null,{"$f":"C810","v":0},null,{"$f":"E810","v":0},null,9781681517650,null,9781681516837,null,"Navigation from Then to Now",null,null,null,"Sequence Developments in Technology",null,null,null,"Amicus",null,51.05,null,24.95,null,29.95,null,0,null,null,null,null,null,0,0,0,0,0,0,0,0,0,0,0,0,0,0,0,"Fall 2019",null,2020,null,623.89,null,null,null,46,null,35.700000000000003,null,"Sequence",null,3.7,null,"Science & Technology",null,"English",null,"Reinforced Library",null,32,null,"M",null,43501,null,"2 – 5",null,"Rachel Grack"]
[{"$f":"A810","v":0},null,{"$f":"C810","v":0},null,{"$f":"E810","v":0},null,9781645490470,null,9781681519623,null,"Phones from Then to Now",null,null,null,"Sequence Developments in Technology",null,null,null,"Amicus",null,51.05,null,24.95,null,29.95,null,0,null,null,null,null,null,0,0,0,0,0,0,0,0,0,0,0,0,0,0,0,"Spring 2022",null,2022,null,621.38608999999997,null,null,null,46,null,35.700000000000003,null,"Sequence",null,null,null,"Science & Technology",null,"English",null,"Reinforced Library",null,32,null,"M",null,null,null,"2 - 5",null,"Smibert, Angie"]
[{"$f":"A810","v":0},null,{"$f":"C810","v":0},null,{"$f":"E810","v":0},null,9781645490487,null,9781681519630,null,"Photography from Then to Now",null,null,null,"Sequence Developments in Technology",null,null,null,"Amicus",null,51.05,null,24.95,null,29.95,null,0,null,null,null,null,null,0,0,0,0,0,0,0,0,0,0,0,0,0,0,0,"Spring 2022",null,2022,null,771.3,null,null,null,46,null,35.700000000000003,null,"Sequence",null,null,null,"Science & Technology",null,"English",null,"Reinforced Library",null,32,null,"M",null,null,null,"2 - 5",null,"Grack, Rachel"]
[{"$f":"A810","v":0},null,{"$f":"C810","v":0},null,{"$f":"E810","v":0},null,9781681517674,null,9781681516851,null,"Robots from Then to Now",null,null,null,"Sequence Developments in Technology",null,null,null,"Amicus",null,51.05,null,24.95,null,29.95,null,0,null,null,null,null,null,0,0,0,0,0,0,0,0,0,0,0,0,0,0,0,"Fall 2019",null,2020,null,"629.8/9209",null,null,null,46,null,35.700000000000003,null,"Sequence",null,3.7,null,"Science & Technology",null,"English",null,"Reinforced Library",null,32,null,"M",null,43501,null,"2 – 5",null,"Rachel Grack"]
[{"$f":"A810","v":0},null,{"$f":"C810","v":0},null,{"$f":"E810","v":0},null,9781681517698,null,9781681516875,null,"Space Travel from Then to Now",null,null,null,"Sequence Developments in Technology",null,null,null,"Amicus",null,51.05,null,24.95,null,29.95,null,0,null,null,null,null,null,0,0,0,0,0,0,0,0,0,0,0,0,0,0,0,"Fall 2019",null,2020,null,"629.4/1",null,null,null,46,null,35.700000000000003,null,"Sequence",null,3.8,null,"Science & Technology",null,"English",null,"Reinforced Library",null,32,null,"M",null,43501,null,"2 – 5",null,"Rachel Grack"]
[{"$f":"A810","v":0},null,{"$f":"C810","v":0},null,{"$f":"E810","v":0},null,9781681517681,null,9781681516868,null,"Toilets from Then to Now",null,null,null,"Sequence Developments in Technology",null,null,null,"Amicus",null,51.05,null,24.95,null,29.95,null,0,null,null,null,null,null,0,0,0,0,0,0,0,0,0,0,0,0,0,0,0,"Fall 2019",null,2020,null,"696/.182",null,null,null,46,null,35.700000000000003,null,"Sequence",null,3.8,null,"Science & Technology",null,"English",null,"Reinforced Library",null,32,null,"M",null,43501,null,"2 – 5",null,"Rachel Grack"]
[{"$f":"A810","v":0},null,{"$f":"C810","v":0},null,{"$f":"E810","v":0},null,9781645490494,null,9781681519647,null,"Video Games from Then to Now",null,null,null,"Sequence Developments in Technology",null,null,null,"Amicus",null,51.05,null,24.95,null,29.95,null,0,null,null,null,null,null,0,0,0,0,0,0,0,0,0,0,0,0,0,0,0,"Spring 2022",null,2022,null,794.8,null,null,null,46,null,35.700000000000003,null,"Sequence",null,null,null,"Science & Technology",null,"English",null,"Reinforced Library",null,32,null,"M",null,null,null,"2 - 5",null,"Smibert, Angie"]
[{"$f":"A810","v":0},null,{"$f":"C810","v":0},null,{"$f":"E810","v":0},null,9781681517667,null,9781681516844,null,"Wireless Technology from Then to Now",null,null,null,"Sequence Developments in Technology",null,null,null,"Amicus",null,51.05,null,24.95,null,29.95,null,0,null,null,null,null,null,0,0,0,0,0,0,0,0,0,0,0,0,0,0,0,"Fall 2019",null,2020,null,621.38208999999995,null,null,null,46,null,35.700000000000003,null,"Sequence",null,4,null,"Science & Technology",null,"English",null,"Reinforced Library",null,32,null,"M",null,43501,null,"2 – 5",null,"Rachel Grack"]
[]
[null,null,null,null,null,null,null,null,null,null,"Complete Series of 6",null,null,null,"Sequence Discovering Dinosaurs",null,null,null,null,null,{"$f":"SUM(U825:U830)","v":306.3},null,{"$f":"SUM(W825:W830)","v":149.69999999999999},null,{"$f":"SUM(Y825:Y830)","v":179.7}]
[{"$f":"A824","v":0},null,{"$f":"C824","v":0},null,{"$f":"E824","v":0},null,9781681515168,null,9781681514345,null,"Discovering Apatosaurus",null,null,null,"Sequence Discovering Dinosaurs",null,null,null,"Amicus",null,51.05,null,24.95,null,{"$f":"W825+5","v":29.95},null,{"$f":"IF(AC825=FALSE,AT825,0)","v":0},null,null,null,null,null,{"$f":"IF(AND(A825>=1,AC825=\"\"),A825,0)","v":0},{"$f":"IF(AND(A825>=1,AC825=\"x\"),A825,0)","v":0},{"$f":"IF(AND(A825>=1,AC825=\"\"),U825,0)","v":0},{"$f":"IF(AND(A825>=1,AC825=\"x\"),-U825,0)","v":0},{"$f":"IF(AND(C825>=1,AC825=\"\"),C825,0)","v":0},{"$f":"IF(AND(C825>=1,AC825=\"x\"),C825,0)","v":0},{"$f":"IF(AND(C825>=1,AC825=\"\"),W825*C825,0)","v":0},{"$f":"IF(AND(C825>=1,AC825=\"x\"),-W825*C825,0)","v":0},{"$f":"E825","v":0},{"$f":"Y825*E825","v":0},{"$f":"AG825+AK825+AO825","v":0},{"$f":"AH825+AL825","v":0},{"$f":"AQ825+AR825","v":0},{"$f":"AI825+AM825+AP825","v":0},{"$f":"AJ825+AN825","v":0},"Fall 2018",null,2019,null,"567.913/8",null,null,null,46,null,35.700000000000003,null,"Amicus High Interest",null,3.5,null,"Animals & Nature",null,"English",null,"Reinforced Library",null,32,null,"M",null,"510L",null,"2 – 5",null,"Kathy Frost"]
[{"$f":"A824","v":0},null,{"$f":"C824","v":0},null,{"$f":"E824","v":0},null,9781681515175,null,9781681514352,null,"Discovering Pterosaurs",null,null,null,"Sequence Discovering Dinosaurs",null,null,null,"Amicus",null,51.05,null,24.95,null,29.95,null,0,null,null,null,null,null,0,0,0,0,0,0,0,0,0,0,0,0,0,0,0,"Fall 2018",null,2019,null,567.91800000000001,null,null,null,46,null,35.700000000000003,null,"Amicus High Interest",null,3.6,null,"Animals & Nature",null,"English",null,"Reinforced Library",null,32,null,"M",null,"550L",null,"2 – 5",null,"Kathy Frost"]
[{"$f":"A824","v":0},null,{"$f":"C824","v":0},null,{"$f":"E824","v":0},null,9781681515182,null,9781681514369,null,"Discovering Stegosaurus",null,null,null,"Sequence Discovering Dinosaurs",null,null,null,"Amicus",null,51.05,null,24.95,null,29.95,null,0,null,null,null,null,null,0,0,0,0,0,0,0,0,0,0,0,0,0,0,0,"Fall 2018",null,2019,null,"567.915/3",null,null,null,46,null,35.700000000000003,null,"Amicus High Interest",null,3.6,null,"Animals & Nature",null,"English",null,"Reinforced Library",null,32,null,"M",null,"530L",null,"2 – 5",null,"Laura Hamilton Waxman"]
[{"$f":"A824","v":0},null,{"$f":"C824","v":0},null,{"$f":"E824","v":0},null,9781681515199,null,9781681514376,null,"Discovering Triceratops",null,null,null,"Sequence Discovering Dinosaurs",null,null,null,"Amicus",null,51.05,null,24.95,null,29.95,null,0,null,null,null,null,null,0,0,0,0,0,0,0,0,0,0,0,0,0,0,0,"Fall 2018",null,2019,null,"567.915/8",null,null,null,46,null,35.700000000000003,null,"Amicus High Interest",null,3.7,null,"Animals & Nature",null,"English",null,"Reinforced Library",null,32,null,"M",null,"580L",null,"2 – 5",null,"Laura Hamilton Waxman"]
[{"$f":"A824","v":0},null,{"$f":"C824","v":0},null,{"$f":"E824","v":0},null,9781681515205,null,9781681514383,null,"Discovering Tyrannosaurus Rex",null,null,null,"Sequence Discovering Dinosaurs",null,null,null,"Amicus",null,51.05,null,24.95,null,29.95,null,0,null,null,null,null,null,0,0,0,0,0,0,0,0,0,0,0,0,0,0,0,"Fall 2018",null,2019,null,"567.912/9",null,null,null,46,null,35.700000000000003,null,"Amicus High Interest",null,3.5,null,"Animals & Nature",null,"English",null,"Reinforced Library",null,32,null,"M",null,"520L",null,"2 – 5",null,"Laura Hamilton Waxman"]
[{"$f":"A824","v":0},null,{"$f":"C824","v":0},null,{"$f":"E824","v":0},null,9781681515212,null,9781681514390,null,"Discovering Velociraptor",null,null,null,"Sequence Discovering Dinosaurs",null,null,null,"Amicus",null,51.05,null,24.95,null,29.95,null,0,null,null,null,null,null,0,0,0,0,0,0,0,0,0,0,0,0,0,0,0,"Fall 2018",null,2019,null,567.91200000000003,null,null,null,46,null,35.700000000000003,null,"Amicus High Interest",null,3.7,null,"Animals & Nature",null,"English",null,"Reinforced Library",null,32,null,"M",null,"520L",null,"2 – 5",null,"Rachel Grack"]
[]
[null,null,null,null,null,null,null,null,null,null,"Complete Series of 6",null,null,null,"Sequence Entertainment",null,null,null,null,null,{"$f":"SUM(U833:U838)","v":306.3},null,{"$f":"SUM(W833:W838)","v":149.69999999999999},null,{"$f":"SUM(Y833:Y838)","v":179.7}]
[{"$f":"A832","v":0},null,{"$f":"C832","v":0},null,{"$f":"E832","v":0},null,9781681515229,null,9781681514406,null,"Making a Book",null,null,null,"Sequence Entertainment",null,null,null,"Amicus",null,51.05,null,24.95,null,{"$f":"W833+5","v":29.95},null,{"$f":"IF(AC833=FALSE,AT833,0)","v":0},null,null,null,null,null,{"$f":"IF(AND(A833>=1,AC833=\"\"),A833,0)","v":0},{"$f":"IF(AND(A833>=1,AC833=\"x\"),A833,0)","v":0},{"$f":"IF(AND(A833>=1,AC833=\"\"),U833,0)","v":0},{"$f":"IF(AND(A833>=1,AC833=\"x\"),-U833,0)","v":0},{"$f":"IF(AND(C833>=1,AC833=\"\"),C833,0)","v":0},{"$f":"IF(AND(C833>=1,AC833=\"x\"),C833,0)","v":0},{"$f":"IF(AND(C833>=1,AC833=\"\"),W833*C833,0)","v":0},{"$f":"IF(AND(C833>=1,AC833=\"x\"),-W833*C833,0)","v":0},{"$f":"E833","v":0},{"$f":"Y833*E833","v":0},{"$f":"AG833+AK833+AO833","v":0},{"$f":"AH833+AL833","v":0},{"$f":"AQ833+AR833","v":0},{"$f":"AI833+AM833+AP833","v":0},{"$f":"AJ833+AN833","v":0},"Fall 2018",null,2019,null,null,null,null,null,46,null,35.700000000000003,null,"Amicus High Interest",null,null,null,"Arts, Crafts, & Activities",null,"English",null,"Reinforced Library",null,32,null,"M",null,"520L",null,"2 – 5",null,"Nadia Higgins"]
[{"$f":"A832","v":0},null,{"$f":"C832","v":0},null,{"$f":"E832","v":0},null,9781681515236,null,9781681514413,null,"Making a Movie",null,null,null,"Sequence Entertainment",null,null,null,"Amicus",null,51.05,null,24.95,null,29.95,null,0,null,null,null,null,null,0,0,0,0,0,0,0,0,0,0,0,0,0,0,0,"Fall 2018",null,2019,null,777,null,null,null,46,null,35.700000000000003,null,"Amicus High Interest",null,null,null,"Arts, Crafts, & Activities",null,"English",null,"Reinforced Library",null,32,null,"M",null,"480L",null,"2 – 5",null,"Nadia Higgins"]
[{"$f":"A832","v":0},null,{"$f":"C832","v":0},null,{"$f":"E832","v":0},null,9781681515243,null,9781681514420,null,"Making a Podcast",null,null,null,"Sequence Entertainment",null,null,null,"Amicus",null,51.05,null,24.95,null,29.95,null,0,null,null,null,null,null,0,0,0,0,0,0,0,0,0,0,0,0,0,0,0,"Fall 2018",null,2019,null,"006.7/876",null,null,null,46,null,35.700000000000003,null,"Amicus High Interest",null,null,null,"Arts, Crafts, & Activities",null,"English",null,"Reinforced Library",null,32,null,"M",null,"530L",null,"2 – 5",null,"Nadia Higgins"]
[{"$f":"A832","v":0},null,{"$f":"C832","v":0},null,{"$f":"E832","v":0},null,9781681515250,null,9781681514437,null,"Making a TV Show",null,null,null,"Sequence Entertainment",null,null,null,"Amicus",null,51.05,null,24.95,null,29.95,null,0,null,null,null,null,null,0,0,0,0,0,0,0,0,0,0,0,0,0,0,0,"Fall 2018",null,2019,null,"791.4502/32",null,null,null,46,null,35.700000000000003,null,"Amicus High Interest",null,null,null,"Arts, Crafts, & Activities",null,"English",null,"Reinforced Library",null,32,null,"M",null,"480L",null,"2 – 5",null,"Nadia Higgins"]
[{"$f":"A832","v":0},null,{"$f":"C832","v":0},null,{"$f":"E832","v":0},null,9781681515267,null,9781681514444,null,"Making a Video Game",null,null,null,"Sequence Entertainment",null,null,null,"Amicus",null,51.05,null,24.95,null,29.95,null,0,null,null,null,null,null,0,0,0,0,0,0,0,0,0,0,0,0,{"$f":"AQ837+AR837","v":0},0,0,"Fall 2018",null,2019,null,"794.8/1536",null,null,null,46,null,35.700000000000003,null,"Amicus High Interest",null,null,null,"Arts, Crafts, & Activities",null,"English",null,"Reinforced Library",null,32,null,"M",null,"500L",null,"2 – 5",null,"Nadia Higgins"]
[{"$f":"A832","v":0},null,{"$f":"C832","v":0},null,{"$f":"E832","v":0},null,9781681515274,null,9781681514451,null,"Making an App",null,null,null,"Sequence Entertainment",null,null,null,"Amicus",null,51.05,null,24.95,null,29.95,null,0,null,null,null,null,null,0,0,0,0,0,0,0,0,0,0,0,0,{"$f":"AQ838+AR838","v":0},0,0,"Fall 2018",null,2019,null,5.3,null,null,null,46,null,35.700000000000003,null,"Amicus High Interest",null,null,null,"Arts, Crafts, & Activities",null,"English",null,"Reinforced Library",null,32,null,"M",null,"450L",null,"2 – 5",null,"Nadia Higgins"]
[]
[null,null,null,null,null,null,null,null,null,null,"Complete Series of 6",null,null,null,"Sequence National Landmarks",null,null,null,null,null,{"$f":"SUM(U841:U846)","v":306.3},null,{"$f":"SUM(W841:W846)","v":149.69999999999999},null,{"$f":"SUM(Y841:Y846)","v":179.7}]
[{"$f":"A840","v":0},null,{"$f":"C840","v":0},null,{"$f":"E840","v":0},null,9781645490388,null,9781681519531,null,"Building Mount Rushmore",null,null,null,"Sequence National Landmarks",null,null,null,"Amicus",null,51.05,null,24.95,null,{"$f":"W841+5","v":29.95},null,{"$f":"IF(AC841=FALSE,AT841,0)","v":0},null,null,null,null,null,{"$f":"IF(AND(A841>=1,AC841=\"\"),A841,0)","v":0},{"$f":"IF(AND(A841>=1,AC841=\"x\"),A841,0)","v":0},{"$f":"IF(AND(A841>=1,AC841=\"\"),U841,0)","v":0},{"$f":"IF(AND(A841>=1,AC841=\"x\"),-U841,0)","v":0},{"$f":"IF(AND(C841>=1,AC841=\"\"),C841,0)","v":0},{"$f":"IF(AND(C841>=1,AC841=\"x\"),C841,0)","v":0},{"$f":"IF(AND(C841>=1,AC841=\"\"),W841*C841,0)","v":0},{"$f":"IF(AND(C841>=1,AC841=\"x\"),-W841*C841,0)","v":0},{"$f":"E841","v":0},{"$f":"Y841*E841","v":0},{"$f":"AG841+AK841+AO841","v":0},{"$f":"AH841+AL841","v":0},{"$f":"AQ841+AR841","v":0},{"$f":"AI841+AM841+AP841","v":0},{"$f":"AJ841+AN841","v":0},"Fall 2022",null,2023,null,"978.3/93",null,null,null,45,null,35.700000000000003,null,"Sequence",null,null,null,"History",null,"English",null,"Hardcover",null,32,null,"M",null,null,null,"2 - 5",null,"Annie C. Holdren"]
[{"$f":"A840","v":0},null,{"$f":"C840","v":0},null,{"$f":"E840","v":0},null,9781645490401,null,9781681519555,null,"Building One World Trade Center",null,null,null,"Sequence National Landmarks",null,null,null,"Amicus",null,51.05,null,24.95,null,{"$f":"W842+5","v":29.95},null,0,null,null,null,null,null,0,0,0,0,0,0,0,0,0,0,0,0,0,0,0,"Fall 2022",null,2023,null,974.7,null,null,null,45,null,35.700000000000003,null,"Sequence",null,null,null,"History",null,"English",null,"Hardcover",null,32,null,"M",null,null,null,"2 - 5",null,"Annie C. Holdren"]
[{"$f":"A840","v":0},null,{"$f":"C840","v":0},null,{"$f":"E840","v":0},null,9781645490418,null,9781681519562,null,"Building the Gateway Arch",null,null,null,"Sequence National Landmarks",null,null,null,"Amicus",null,51.05,null,24.95,null,29.95,null,0,null,null,null,null,null,0,0,0,0,0,0,0,0,0,0,0,0,0,0,0,"Fall 2022",null,2023,null,"977.8/66",null,null,null,45,null,35.700000000000003,null,"Sequence",null,null,null,"History",null,"English",null,"Hardcover",null,32,null,"M",null,null,null,"2 - 5",null,"Annie C. Holdren"]
[{"$f":"A840","v":0},null,{"$f":"C840","v":0},null,{"$f":"E840","v":0},null,9781645490395,null,9781681519548,null,"Building the Golden Gate Bridge",null,null,null,"Sequence National Landmarks",null,null,null,"Amicus",null,51.05,null,24.95,null,29.95,null,0,null,null,null,null,null,0,0,0,0,0,0,0,0,0,0,0,0,0,0,0,"Fall 2022",null,2023,null,"624.2/30979461",null,null,null,45,null,35.700000000000003,null,"Sequence",null,null,null,"History",null,"English",null,"Hardcover",null,32,null,"M",null,null,null,"2 - 5",null,"Annie C. Holdren"]
[{"$f":"A840","v":0},null,{"$f":"C840","v":0},null,{"$f":"E840","v":0},null,9781645490425,null,9781681519579,null,"Building the Statue of Liberty",null,null,null,"Sequence National Landmarks",null,null,null,"Amicus",null,51.05,null,24.95,null,29.95,null,0,null,null,null,null,null,0,0,0,0,0,0,0,0,0,0,0,0,0,0,0,"Fall 2022",null,2023,null,"974.7/1",null,null,null,45,null,35.700000000000003,null,"Sequence",null,null,null,"History",null,"English",null,"Hardcover",null,32,null,"M",null,null,null,"2 - 5",null,"Annie C. Holdren"]
[{"$f":"A840","v":0},null,{"$f":"C840","v":0},null,{"$f":"E840","v":0},null,9781645490432,null,9781681519586,null,"Building the Vietnam Veterans Memorial",null,null,null,"Sequence National Landmarks",null,null,null,"Amicus",null,51.05,null,24.95,null,29.95,null,0,null,null,null,null,null,0,0,0,0,0,0,0,0,0,0,0,0,0,0,0,"Fall 2022",null,2023,null,975.3,null,null,null,45,null,35.700000000000003,null,"Sequence",null,null,null,"History",null,"English",null,"Hardcover",null,32,null,"M",null,null,null,"2 - 5",null,"Annie C. Holdren"]
[]
[null,null,null,null,null,null,null,null,null,null,"Complete Series of 2",null,null,null,"Serving in the Military",null,null,null,null,null,{"$f":"SUM(U849:U850)","v":0},null,{"$f":"SUM(W849:W850)","v":49.9},null,{"$f":"SUM(Y849:Y850)","v":0}]
[null,null,{"$f":"C848","v":0},null,null,null,"Not Available",null,9781607534921,null,"Green Berets",null,null,null,"Serving in the Military",null,null,null,"Amicus",null,0,null,24.95,null,0,null,{"$f":"IF(AC849=FALSE,AT849,0)","v":0},null,null,null,null,null,{"$f":"IF(AND(A849>=1,AC849=\"\"),A849,0)","v":0},{"$f":"IF(AND(A849>=1,AC849=\"x\"),A849,0)","v":0},{"$f":"IF(AND(A849>=1,AC849=\"\"),U849,0)","v":0},{"$f":"IF(AND(A849>=1,AC849=\"x\"),-U849,0)","v":0},{"$f":"IF(AND(C849>=1,AC849=\"\"),C849,0)","v":0},{"$f":"IF(AND(C849>=1,AC849=\"x\"),C849,0)","v":0},{"$f":"IF(AND(C849>=1,AC849=\"\"),W849*C849,0)","v":0},{"$f":"IF(AND(C849>=1,AC849=\"x\"),-W849*C849,0)","v":0},{"$f":"E849","v":0},{"$f":"Y849*E849","v":0},{"$f":"AG849+AK849+AO849","v":0},{"$f":"AH849+AL849","v":0},{"$f":"AQ849+AR849","v":0},{"$f":"AI849+AM849+AP849","v":0},{"$f":"AJ849+AN849","v":0},"Fall 2014",null,2015,null,"356/.1670973",null,null,null,"Website",null,35.700000000000003,null,"Amicus High Interest",null,3.2,null,"Careers",null,"English",null,"Reinforced Library",null,32,null,"L",null,"490L",null,"2 – 5",null,"Linda Bozzo"]
[null,null,{"$f":"C848","v":0},null,null,null,"Not Available",null,9781607534938,null,"Marine Expeditionary Units",null,null,null,"Serving in the Military",null,null,null,"Amicus",null,0,null,24.95,null,0,null,{"$f":"IF(AC850=FALSE,AT850,0)","v":0},null,null,null,null,null,{"$f":"IF(AND(A850>=1,AC850=\"\"),A850,0)","v":0},{"$f":"IF(AND(A850>=1,AC850=\"x\"),A850,0)","v":0},{"$f":"IF(AND(A850>=1,AC850=\"\"),U850,0)","v":0},{"$f":"IF(AND(A850>=1,AC850=\"x\"),-U850,0)","v":0},{"$f":"IF(AND(C850>=1,AC850=\"\"),C850,0)","v":0},{"$f":"IF(AND(C850>=1,AC850=\"x\"),C850,0)","v":0},{"$f":"IF(AND(C850>=1,AC850=\"\"),W850*C850,0)","v":0},{"$f":"IF(AND(C850>=1,AC850=\"x\"),-W850*C850,0)","v":0},{"$f":"E850","v":0},{"$f":"Y850*E850","v":0},{"$f":"AG850+AK850+AO850","v":0},{"$f":"AH850+AL850","v":0},{"$f":"AQ850+AR850","v":0},{"$f":"AI850+AM850+AP850","v":0},{"$f":"AJ850+AN850","v":0},"Fall 2014",null,2015,null,"359.9/631",null,null,null,"Website",null,35.700000000000003,null,"Amicus High Interest",null,3.2,null,"Careers",null,"English",null,"Reinforced Library",null,32,null,"L",null,"500L",null,"2 – 5",null,"Linda Bozzo"]
[]
[null,null,null,null,null,null,null,null,null,null,"Complete Series of 6",null,null,null,"Serving Our Country",null,null,null,null,null,{"$f":"SUM(U853:U858)","v":294},null,{"$f":"SUM(W853:W858)","v":143.69999999999999},null,{"$f":"SUM(Y853:Y858)","v":173.7}]
[{"$f":"A852","v":0},null,{"$f":"C852","v":0},null,{"$f":"E852","v":0},null,9781681515984,null,9781681515601,null,"U.S. Air Force",null,null,null,"Serving Our Country",null,null,null,"Amicus",null,49,null,23.95,null,{"$f":"W853+5","v":28.95},null,{"$f":"IF(AC853=FALSE,AT853,0)","v":0},null,null,null,null,null,{"$f":"IF(AND(A853>=1,AC853=\"\"),A853,0)","v":0},{"$f":"IF(AND(A853>=1,AC853=\"x\"),A853,0)","v":0},{"$f":"IF(AND(A853>=1,AC853=\"\"),U853,0)","v":0},{"$f":"IF(AND(A853>=1,AC853=\"x\"),-U853,0)","v":0},{"$f":"IF(AND(C853>=1,AC853=\"\"),C853,0)","v":0},{"$f":"IF(AND(C853>=1,AC853=\"x\"),C853,0)","v":0},{"$f":"IF(AND(C853>=1,AC853=\"\"),W853*C853,0)","v":0},{"$f":"IF(AND(C853>=1,AC853=\"x\"),-W853*C853,0)","v":0},{"$f":"E853","v":0},{"$f":"Y853*E853","v":0},{"$f":"AG853+AK853+AO853","v":0},{"$f":"AH853+AL853","v":0},{"$f":"AQ853+AR853","v":0},{"$f":"AI853+AM853+AP853","v":0},{"$f":"AJ853+AN853","v":0},"Spring 2019",null,2019,null,358.40097300000002,null,null,null,33,null,34.25,null,"Amicus High Interest",null,2.7,null,"Careers",null,"English",null,"Reinforced Library",null,24,null,"J",null,"490L",null,"K - 2",null,"Jill Sherman"]
[{"$f":"A852","v":0},null,{"$f":"C852","v":0},null,{"$f":"E852","v":0},null,9781681515991,null,9781681515618,null,"U.S. Army",null,null,null,"Serving Our Country",null,null,null,"Amicus",null,49,null,23.95,null,28.95,null,0,null,null,null,null,null,0,0,0,0,0,0,0,0,0,0,0,0,0,0,0,"Spring 2019",null,2019,null,355.00972999999999,null,null,null,33,null,34.25,null,"Amicus High Interest",null,2.6,null,"Careers",null,"English",null,"Reinforced Library",null,24,null,"J",null,"420L",null,"K - 2",null,"Jill Sherman"]
[{"$f":"A852","v":0},null,{"$f":"C852","v":0},null,{"$f":"E852","v":0},null,9781681516004,null,9781681515625,null,"U.S. Coast Guard",null,null,null,"Serving Our Country",null,null,null,"Amicus",null,49,null,23.95,null,28.95,null,0,null,null,null,null,null,0,0,0,0,0,0,0,0,0,0,0,0,0,0,0,"Spring 2019",null,2019,null,"363.28/60973",null,null,null,33,null,34.25,null,"Amicus High Interest",null,2.8,null,"Careers",null,"English",null,"Reinforced Library",null,24,null,"J",null,"530L",null,"K - 2",null,"Rachel Grack"]
[{"$f":"A852","v":0},null,{"$f":"C852","v":0},null,{"$f":"E852","v":0},null,9781681516011,null,9781681515632,null,"U.S. Marines",null,null,null,"Serving Our Country",null,null,null,"Amicus",null,49,null,23.95,null,28.95,null,0,null,null,null,null,null,0,0,0,0,0,0,0,0,0,0,0,0,0,0,0,"Spring 2019",null,2019,null,"359.9/60973",null,null,null,33,null,34.25,null,"Amicus High Interest",null,2.6,null,"Careers",null,"English",null,"Reinforced Library",null,24,null,"J",null,"490L",null,"K - 2",null,"Rachel Grack"]
[{"$f":"A852","v":0},null,{"$f":"C852","v":0},null,{"$f":"E852","v":0},null,9781681516028,null,9781681515649,null,"U.S. Navy",null,null,null,"Serving Our Country",null,null,null,"Amicus",null,49,null,23.95,null,28.95,null,0,null,null,null,null,null,0,0,0,0,0,0,0,0,0,0,0,0,0,0,0,"Spring 2019",null,2019,null,359.00972999999999,null,null,null,33,null,34.25,null,"Amicus High Interest",null,2.2000000000000002,null,"Careers",null,"English",null,"Reinforced Library",null,24,null,"J",null,"380L",null,"K - 2",null,"Jill Sherman"]
[{"$f":"A852","v":0},null,{"$f":"C852","v":0},null,{"$f":"E852","v":0},null,9781681516035,null,9781681515656,null,"U.S. Special Forces",null,null,null,"Serving Our Country",null,null,null,"Amicus",null,49,null,23.95,null,28.95,null,0,null,null,null,null,null,0,0,0,0,0,0,0,0,0,0,0,0,0,0,0,"Spring 2019",null,2019,null,"356/.160973",null,null,null,33,null,34.25,null,"Amicus High Interest",null,2.9,null,"Careers",null,"English",null,"Reinforced Library",null,24,null,"J",null,"510L",null,"K - 2",null,"Rachel Grack"]
[]
[null,null,null,null,null,null,null,null,null,null,"Complete Series of 8",null,null,null,"Sharks",null,null,null,null,null,{"$f":"SUM(U861:U868)","v":0},null,{"$f":"SUM(W861:W868)","v":199.59999999999997},null,{"$f":"SUM(Y861:Y868)","v":0}]
[null,null,{"$f":"C860","v":0},null,null,null,"Not Available",null,9781607539742,null,"Basking Sharks",null,null,null,"Sharks",null,null,null,"Amicus",null,0,null,24.95,null,0,null,{"$f":"IF(AC861=FALSE,AT861,0)","v":0},null,null,null,null,null,{"$f":"IF(AND(A861>=1,AC861=\"\"),A861,0)","v":0},{"$f":"IF(AND(A861>=1,AC861=\"x\"),A861,0)","v":0},{"$f":"IF(AND(A861>=1,AC861=\"\"),U861,0)","v":0},{"$f":"IF(AND(A861>=1,AC861=\"x\"),-U861,0)","v":0},{"$f":"IF(AND(C861>=1,AC861=\"\"),C861,0)","v":0},{"$f":"IF(AND(C861>=1,AC861=\"x\"),C861,0)","v":0},{"$f":"IF(AND(C861>=1,AC861=\"\"),W861*C861,0)","v":0},{"$f":"IF(AND(C861>=1,AC861=\"x\"),-W861*C861,0)","v":0},{"$f":"E861","v":0},{"$f":"Y861*E861","v":0},{"$f":"AG861+AK861+AO861","v":0},{"$f":"AH861+AL861","v":0},{"$f":"AQ861+AR861","v":0},{"$f":"AI861+AM861+AP861","v":0},{"$f":"AJ861+AN861","v":0},"Fall 2016",null,2017,null,597.29999999999995,null,null,null,33,null,35.700000000000003,null,"Amicus High Interest",null,3.2,null,"Animals & Nature",null,"English",null,"Reinforced Library",null,32,null,"L",null,"520L",null,"2 – 5",null,"Laura Hamilton Waxman"]
[null,null,{"$f":"C860","v":0},null,null,null,"Not Available",null,9781607539759,null,"Blacktip Reef Sharks",null,null,null,"Sharks",null,null,null,"Amicus",null,0,null,24.95,null,0,null,0,null,null,null,null,null,0,0,0,0,0,0,0,0,0,0,0,0,0,0,0,"Fall 2016",null,2017,null,"597.3/4",null,null,null,33,null,35.700000000000003,null,"Amicus High Interest",null,3.2,null,"Animals & Nature",null,"English",null,"Reinforced Library",null,32,null,"L",null,"530L",null,"2 – 5",null,"Allan Morey"]
[null,null,{"$f":"C860","v":0},null,null,null,"Not Available",null,9781607539766,null,"Bull Sharks",null,null,null,"Sharks",null,null,null,"Amicus",null,0,null,24.95,null,0,null,0,null,null,null,null,null,0,0,0,0,0,0,0,0,0,0,0,0,0,0,0,"Fall 2016",null,2017,null,"597.3/4",null,null,null,33,null,35.700000000000003,null,"Amicus High Interest",null,3,null,"Animals & Nature",null,"English",null,"Reinforced Library",null,32,null,"L",null,"530L",null,"2 – 5",null,"Laura Hamilton Waxman"]
[null,null,{"$f":"C860","v":0},null,null,null,"Not Available",null,9781607539773,null,"Great White Sharks",null,null,null,"Sharks",null,null,null,"Amicus",null,0,null,24.95,null,0,null,0,null,null,null,null,null,0,0,0,0,0,0,0,0,0,0,0,0,0,0,0,"Fall 2016",null,2017,null,"597.3/3",null,null,null,33,null,35.700000000000003,null,"Amicus High Interest",null,2.9,null,"Animals & Nature",null,"English",null,"Reinforced Library",null,32,null,"L",null,"500L",null,"2 – 5",null,"Laura Hamilton Waxman"]
[null,null,{"$f":"C860","v":0},null,null,null,"Not Available",null,9781607539780,null,"Hammerhead Sharks",null,null,null,"Sharks",null,null,null,"Amicus",null,0,null,24.95,null,0,null,0,null,null,null,null,null,0,0,0,0,0,0,0,0,0,0,0,0,0,0,0,"Fall 2016",null,2017,null,597.29999999999995,null,null,null,33,null,35.700000000000003,null,"Amicus High Interest",null,3.1,null,"Animals & Nature",null,"English",null,"Reinforced Library",null,32,null,"L",null,"470L",null,"2 – 5",null,"Allan Morey"]
[null,null,{"$f":"C860","v":0},null,null,null,"Not Available",null,9781607539797,null,"Mako Sharks",null,null,null,"Sharks",null,null,null,"Amicus",null,0,null,24.95,null,0,null,0,null,null,null,null,null,0,0,0,0,0,0,0,0,0,0,0,0,0,0,0,"Fall 2016",null,2017,null,"597.3/3",null,null,null,33,null,35.700000000000003,null,"Amicus High Interest",null,3.4,null,"Animals & Nature",null,"English",null,"Reinforced Library",null,32,null,"L",null,"510L",null,"2 – 5",null,"Allan Morey"]
[null,null,{"$f":"C860","v":0},null,null,null,"Not Available",null,9781607539803,null,"Tiger Sharks",null,null,null,"Sharks",null,null,null,"Amicus",null,0,null,24.95,null,0,null,0,null,null,null,null,null,0,0,0,0,0,0,0,0,0,0,0,0,0,0,0,"Fall 2016",null,2017,null,"597.3/4",null,null,null,33,null,35.700000000000003,null,"Amicus High Interest",null,3.2,null,"Animals & Nature",null,"English",null,"Reinforced Library",null,32,null,"L",null,"560L",null,"2 – 5",null,"Laura Hamilton Waxman"]
[null,null,{"$f":"C860","v":0},null,null,null,"Not Available",null,9781607539810,null,"Whale Sharks",null,null,null,"Sharks",null,null,null,"Amicus",null,0,null,24.95,null,0,null,0,null,null,null,null,null,0,0,0,0,0,0,0,0,0,0,0,0,0,0,0,"Fall 2016",null,2017,null,"597.3/3",null,null,null,33,null,35.700000000000003,null,"Amicus High Interest",null,3.2,null,"Animals & Nature",null,"English",null,"Reinforced Library",null,32,null,"L",null,"600L",null,"2 – 5",null,"Allan Morey"]
[]
[null,null,null,null,null,null,null,null,null,null,"Complete Series of 6",null,null,null,"Size It Up",null,null,null,null,null,{"$f":"SUM(U871:U876)","v":0},null,{"$f":"SUM(W871:W876)","v":125.7},null,{"$f":"SUM(Y871:Y876)","v":0}]
[null,null,{"$f":"C870","v":0},null,null,null,"Not Available",null,9781607535744,null,"Big, Bigger, Biggest",null,null,null,"Size It Up",null,null,null,"Amicus",null,0,null,20.95,null,0,null,{"$f":"IF(AC871=FALSE,AT871,0)","v":0},null,null,null,null,null,{"$f":"IF(AND(A871>=1,AC871=\"\"),A871,0)","v":0},{"$f":"IF(AND(A871>=1,AC871=\"x\"),A871,0)","v":0},{"$f":"IF(AND(A871>=1,AC871=\"\"),U871,0)","v":0},{"$f":"IF(AND(A871>=1,AC871=\"x\"),-U871,0)","v":0},{"$f":"IF(AND(C871>=1,AC871=\"\"),C871,0)","v":0},{"$f":"IF(AND(C871>=1,AC871=\"x\"),C871,0)","v":0},{"$f":"IF(AND(C871>=1,AC871=\"\"),W871*C871,0)","v":0},{"$f":"IF(AND(C871>=1,AC871=\"x\"),-W871*C871,0)","v":0},{"$f":"E871","v":0},{"$f":"Y871*E871","v":0},{"$f":"AG871+AK871+AO871","v":0},{"$f":"AH871+AL871","v":0},{"$f":"AQ871+AR871","v":0},{"$f":"AI871+AM871+AP871","v":0},{"$f":"AJ871+AN871","v":0},"Fall 2014",null,2015,null,428.2,null,null,null,"Website",null,29.95,null,"Amicus Readers",null,1.6,null,"Math & Finance",null,"English",null,"Reinforced Library",null,16,null,"F",null,"420L",null,"1 - 4",null,"Rebecca Felix"]
[null,null,{"$f":"C870","v":0},null,null,null,"Not Available",null,9781607535768,null,"Heavy, Heavier, and Heaviest",null,null,null,"Size It Up",null,null,null,"Amicus",null,0,null,20.95,null,0,null,0,null,null,null,null,null,0,0,0,0,0,0,0,0,0,0,0,0,0,0,0,"Fall 2014",null,2015,null,428.2,null,null,null,"Website",null,29.95,null,"Amicus Readers",null,1.8,null,"Math & Finance",null,"English",null,"Reinforced Library",null,16,null,"F",null,"300L",null,"1 - 4",null,"Rebecca Felix"]
[null,null,{"$f":"C870","v":0},null,null,null,"Not Available",null,9781607535775,null,"Long, Longer, Longest",null,null,null,"Size It Up",null,null,null,"Amicus",null,0,null,20.95,null,0,null,0,null,null,null,null,null,0,0,0,0,0,0,0,0,0,0,0,0,0,0,0,"Fall 2014",null,2015,null,428.2,null,null,null,"Website",null,29.95,null,"Amicus Readers",null,1.7,null,"Math & Finance",null,"English",null,"Reinforced Library",null,16,null,"F",null,"340L",null,"1 - 4",null,"Rebecca Felix"]
[null,null,{"$f":"C870","v":0},null,null,null,"Not Available",null,9781607535751,null,"Short, Shorter, Shortest",null,null,null,"Size It Up",null,null,null,"Amicus",null,0,null,20.95,null,0,null,0,null,null,null,null,null,0,0,0,0,0,0,0,0,0,0,0,0,0,0,0,"Fall 2014",null,2015,null,428.2,null,null,null,"Website",null,29.95,null,"Amicus Readers",null,1.9,null,"Math & Finance",null,"English",null,"Reinforced Library",null,16,null,"F",null,"360L",null,"1 - 4",null,"Rebecca Felix"]
[null,null,{"$f":"C870","v":0},null,null,null,"Not Available",null,9781607535782,null,"Small, Smaller, Smallest",null,null,null,"Size It Up",null,null,null,"Amicus",null,0,null,20.95,null,0,null,0,null,null,null,null,null,0,0,0,0,0,0,0,0,0,0,0,0,0,0,0,"Fall 2014",null,2015,null,428.2,null,null,null,"Website",null,29.95,null,"Amicus Readers",null,1.8,null,"Math & Finance",null,"English",null,"Reinforced Library",null,16,null,"F",null,"390L",null,"1 - 4",null,"Rebecca Felix"]
[null,null,{"$f":"C870","v":0},null,null,null,"Not Available",null,9781607535799,null,"Tall, Taller, Tallest",null,null,null,"Size It Up",null,null,null,"Amicus",null,0,null,20.95,null,0,null,0,null,null,null,null,null,0,0,0,0,0,0,0,0,0,0,0,0,0,0,0,"Fall 2014",null,2015,null,428.2,null,null,null,"Website",null,29.95,null,"Amicus Readers",null,1.8,null,"Math & Finance",null,"English",null,"Reinforced Library",null,16,null,"F",null,"440L",null,"1 - 4",null,"Rebecca Felix"]
[]
[null,null,null,null,null,null,null,null,null,null,"Complete Series of 6",null,null,null,"Snakes",null,null,null,null,null,{"$f":"SUM(U879:U884)","v":0},null,{"$f":"SUM(W879:W884)","v":149.69999999999999},null,{"$f":"SUM(Y879:Y884)","v":0}]
[null,null,{"$f":"C878","v":0},null,null,null,"Not Available",null,9781607533719,null,"Anacondas",null,null,null,"Snakes",null,null,null,"Amicus",null,0,null,24.95,null,0,null,{"$f":"IF(AC879=FALSE,AT879,0)","v":0},null,null,null,null,null,{"$f":"IF(AND(A879>=1,AC879=\"\"),A879,0)","v":0},{"$f":"IF(AND(A879>=1,AC879=\"x\"),A879,0)","v":0},{"$f":"IF(AND(A879>=1,AC879=\"\"),U879,0)","v":0},{"$f":"IF(AND(A879>=1,AC879=\"x\"),-U879,0)","v":0},{"$f":"IF(AND(C879>=1,AC879=\"\"),C879,0)","v":0},{"$f":"IF(AND(C879>=1,AC879=\"x\"),C879,0)","v":0},{"$f":"IF(AND(C879>=1,AC879=\"\"),W879*C879,0)","v":0},{"$f":"IF(AND(C879>=1,AC879=\"x\"),-W879*C879,0)","v":0},{"$f":"E879","v":0},{"$f":"Y879*E879","v":0},{"$f":"AG879+AK879+AO879","v":0},{"$f":"AH879+AL879","v":0},{"$f":"AQ879+AR879","v":0},{"$f":"AI879+AM879+AP879","v":0},{"$f":"AJ879+AN879","v":0},"Fall 2013",null,2014,null,"597.96/7",null,null,null,34,null,35.700000000000003,null,"Amicus High Interest",null,2.8,null,"Animals & Nature",null,"English",null,"Reinforced Library",null,32,null,"L",null,"480L",null,"2 – 5",null,"Elizabeth Raum"]
[null,null,{"$f":"C878","v":0},null,null,null,"Not Available",null,9781607533726,null,"Boa Constrictors",null,null,null,"Snakes",null,null,null,"Amicus",null,0,null,24.95,null,0,null,0,null,null,null,null,null,0,0,0,0,0,0,0,0,0,0,0,0,0,0,0,"Fall 2013",null,2014,null,"597.96/7",null,null,null,34,null,35.700000000000003,null,"Amicus High Interest",null,2.9,null,"Animals & Nature",null,"English",null,"Reinforced Library",null,32,null,"L",null,"590L",null,"2 – 5",null,"Elizabeth Raum"]
[null,null,{"$f":"C878","v":0},null,null,null,"Not Available",null,9781607533733,null,"Cobras",null,null,null,"Snakes",null,null,null,"Amicus",null,0,null,24.95,null,0,null,0,null,null,null,null,null,0,0,0,0,0,0,0,0,0,0,0,0,0,0,0,"Fall 2013",null,2014,null,"597.96/42",null,null,null,34,null,35.700000000000003,null,"Amicus High Interest",null,2.9,null,"Animals & Nature",null,"English",null,"Reinforced Library",null,32,null,"L",null,"540L",null,"2 – 5",null,"Elizabeth Raum"]
[null,null,{"$f":"C878","v":0},null,null,null,"Not Available",null,9781607533740,null,"Garter Snakes",null,null,null,"Snakes",null,null,null,"Amicus",null,0,null,24.95,null,0,null,0,null,null,null,null,null,0,0,0,0,0,0,0,0,0,0,0,0,0,0,0,"Fall 2013",null,2014,null,"597.96/2",null,null,null,34,null,35.700000000000003,null,"Amicus High Interest",null,3,null,"Animals & Nature",null,"English",null,"Reinforced Library",null,32,null,"L",null,"560L",null,"2 – 5",null,"Elizabeth Raum"]
[null,null,{"$f":"C878","v":0},null,null,null,"Not Available",null,9781607533757,null,"Pythons",null,null,null,"Snakes",null,null,null,"Amicus",null,0,null,24.95,null,0,null,0,null,null,null,null,null,0,0,0,0,0,0,0,0,0,0,0,0,0,0,0,"Fall 2013",null,2014,null,"597.96/78",null,null,null,34,null,35.700000000000003,null,"Amicus High Interest",null,2.9,null,"Animals & Nature",null,"English",null,"Reinforced Library",null,32,null,"L",null,"600L",null,"2 – 5",null,"Elizabeth Raum"]
[null,null,{"$f":"C878","v":0},null,null,null,"Not Available",null,9781607533764,null,"Rattlesnakes",null,null,null,"Snakes",null,null,null,"Amicus",null,0,null,24.95,null,0,null,0,null,null,null,null,null,0,0,0,0,0,0,0,0,0,0,0,0,0,0,0,"Fall 2013",null,2014,null,"597.96/38",null,null,null,34,null,35.700000000000003,null,"Amicus High Interest",null,3,null,"Animals & Nature",null,"English",null,"Reinforced Library",null,32,null,"L",null,"510L",null,"2 – 5",null,"Elizabeth Raum"]
[]
[null,null,null,null,null,null,null,null,null,null,"Complete Series of 4",null,null,null,"So Many Synonyms",null,null,null,null,null,{"$f":"SUM(U887:U890)","v":0},null,{"$f":"SUM(W887:W890)","v":83.8},null,{"$f":"SUM(Y887:Y890)","v":0}]
[null,null,{"$f":"C886","v":0},null,null,null,"Not Available",null,9781607535065,null,"Many Kinds of Big, The",null,null,null,"So Many Synonyms",null,null,null,"Amicus",null,0,null,20.95,null,0,null,{"$f":"IF(AC887=FALSE,AT887,0)","v":0},null,null,null,null,null,{"$f":"IF(AND(A887>=1,AC887=\"\"),A887,0)","v":0},{"$f":"IF(AND(A887>=1,AC887=\"x\"),A887,0)","v":0},{"$f":"IF(AND(A887>=1,AC887=\"\"),U887,0)","v":0},{"$f":"IF(AND(A887>=1,AC887=\"x\"),-U887,0)","v":0},{"$f":"IF(AND(C887>=1,AC887=\"\"),C887,0)","v":0},{"$f":"IF(AND(C887>=1,AC887=\"x\"),C887,0)","v":0},{"$f":"IF(AND(C887>=1,AC887=\"\"),W887*C887,0)","v":0},{"$f":"IF(AND(C887>=1,AC887=\"x\"),-W887*C887,0)","v":0},{"$f":"E887","v":0},{"$f":"Y887*E887","v":0},{"$f":"AG887+AK887+AO887","v":0},{"$f":"AH887+AL887","v":0},{"$f":"AQ887+AR887","v":0},{"$f":"AI887+AM887+AP887","v":0},{"$f":"AJ887+AN887","v":0},"Fall 2013",null,2014,null,428.1,null,null,null,"Website",null,29.95,null,"Amicus Readers",null,1.5,null,"Language Arts",null,"English",null,"Reinforced Library",null,16,null,"E",null,"AD430L",null,"1 - 4",null,"Bryan Dale-Marie"]
[null,null,{"$f":"C886","v":0},null,null,null,"Not Available",null,9781607535119,null,"Many Kinds of Cold, The",null,null,null,"So Many Synonyms",null,null,null,"Amicus",null,0,null,20.95,null,0,null,{"$f":"IF(AC888=FALSE,AT888,0)","v":0},null,null,null,null,null,{"$f":"IF(AND(A888>=1,AC888=\"\"),A888,0)","v":0},{"$f":"IF(AND(A888>=1,AC888=\"x\"),A888,0)","v":0},{"$f":"IF(AND(A888>=1,AC888=\"\"),U888,0)","v":0},{"$f":"IF(AND(A888>=1,AC888=\"x\"),-U888,0)","v":0},0,0,0,0,{"$f":"E888","v":0},{"$f":"Y888*E888","v":0},{"$f":"AG888+AK888+AO888","v":0},{"$f":"AH888+AL888","v":0},{"$f":"AQ888+AR888","v":0},{"$f":"AI888+AM888+AP888","v":0},{"$f":"AJ888+AN888","v":0},"Fall 2013",null,2014,null,428.1,null,null,null,"Website",null,29.95,null,"Amicus Readers",null,1.7,null,"Language Arts",null,"English",null,"Reinforced Library",null,16,null,"E",null,"AD430L",null,"1 - 4",null,"Bryan Dale-Marie"]
[null,null,{"$f":"C886","v":0},null,null,null,"Not Available",null,9781607535102,null,"Many Kinds of Hot, The",null,null,null,"So Many Synonyms",null,null,null,"Amicus",null,0,null,20.95,null,0,null,{"$f":"IF(AC889=FALSE,AT889,0)","v":0},null,null,null,null,null,{"$f":"IF(AND(A889>=1,AC889=\"\"),A889,0)","v":0},{"$f":"IF(AND(A889>=1,AC889=\"x\"),A889,0)","v":0},{"$f":"IF(AND(A889>=1,AC889=\"\"),U889,0)","v":0},{"$f":"IF(AND(A889>=1,AC889=\"x\"),-U889,0)","v":0},0,0,0,0,{"$f":"E889","v":0},{"$f":"Y889*E889","v":0},{"$f":"AG889+AK889+AO889","v":0},{"$f":"AH889+AL889","v":0},{"$f":"AQ889+AR889","v":0},{"$f":"AI889+AM889+AP889","v":0},{"$f":"AJ889+AN889","v":0},"Fall 2013",null,2014,null,428.1,null,null,null,"Website",null,29.95,null,"Amicus Readers",null,1.5,null,"Language Arts",null,"English",null,"Reinforced Library",null,16,null,"E",null,"AD410L",null,"1 - 4",null,"Bryan Dale-Marie"]
[null,null,{"$f":"C886","v":0},null,null,null,"Not Available",null,9781607535072,null,"Many Kinds of Small, The",null,null,null,"So Many Synonyms",null,null,null,"Amicus",null,0,null,20.95,null,0,null,{"$f":"IF(AC890=FALSE,AT890,0)","v":0},null,null,null,null,null,{"$f":"IF(AND(A890>=1,AC890=\"\"),A890,0)","v":0},{"$f":"IF(AND(A890>=1,AC890=\"x\"),A890,0)","v":0},{"$f":"IF(AND(A890>=1,AC890=\"\"),U890,0)","v":0},{"$f":"IF(AND(A890>=1,AC890=\"x\"),-U890,0)","v":0},0,0,0,0,{"$f":"E890","v":0},{"$f":"Y890*E890","v":0},{"$f":"AG890+AK890+AO890","v":0},{"$f":"AH890+AL890","v":0},{"$f":"AQ890+AR890","v":0},{"$f":"AI890+AM890+AP890","v":0},{"$f":"AJ890+AN890","v":0},"Fall 2013",null,2014,null,428.1,null,null,null,"Website",null,29.95,null,"Amicus Readers",null,1.7,null,"Language Arts",null,"English",null,"Reinforced Library",null,16,null,"E",null,"AD420L",null,"1 - 4",null,"Bryan Dale-Marie"]
[]
[null,null,null,null,null,null,null,null,null,null,"Complete Series of 8",null,null,null,"Spot African Animals",null,null,null,null,null,{"$f":"SUM(U893:U900)","v":342.80000000000007},null,{"$f":"SUM(W893:W900)","v":167.6},null,{"$f":"SUM(Y893:Y900)","v":207.59999999999997}]
[{"$f":"A892","v":0},null,{"$f":"C892","v":0},null,{"$f":"E892","v":0},null,9781681517186,null,9781681516363,null,"Cheetahs",null,null,null,"Spot African Animals",null,null,null,"Amicus",null,42.85,null,20.95,null,{"$f":"W893+5","v":25.95},null,{"$f":"IF(AC893=FALSE,AT893,0)","v":0},null,null,null,null,null,{"$f":"IF(AND(A893>=1,AC893=\"\"),A893,0)","v":0},{"$f":"IF(AND(A893>=1,AC893=\"x\"),A893,0)","v":0},{"$f":"IF(AND(A893>=1,AC893=\"\"),U893,0)","v":0},{"$f":"IF(AND(A893>=1,AC893=\"x\"),-U893,0)","v":0},{"$f":"IF(AND(C893>=1,AC893=\"\"),C893,0)","v":0},{"$f":"IF(AND(C893>=1,AC893=\"x\"),C893,0)","v":0},{"$f":"IF(AND(C893>=1,AC893=\"\"),W893*C893,0)","v":0},{"$f":"IF(AND(C893>=1,AC893=\"x\"),-W893*C893,0)","v":0},{"$f":"E893","v":0},{"$f":"Y893*E893","v":0},{"$f":"AG893+AK893+AO893","v":0},{"$f":"AH893+AL893","v":0},{"$f":"AQ893+AR893","v":0},{"$f":"AI893+AM893+AP893","v":0},{"$f":"AJ893+AN893","v":0},"Fall 2019",null,2020,null,"599.75/9",null,null,null,19,null,29.95,null,"Spot",null,0.9,null,"Animals & Nature",null,"English",null,"Reinforced Library",null,16,null,"C",null,"370L",null,"PreK - 3",null,"Mary Ellen Klukow"]
[{"$f":"A892","v":0},null,{"$f":"C892","v":0},null,{"$f":"E892","v":0},null,9781681517193,null,9781681516370,null,"Crocodiles",null,null,null,"Spot African Animals",null,null,null,"Amicus",null,42.85,null,20.95,null,25.95,null,0,null,null,null,null,null,0,0,0,0,0,0,0,0,0,0,0,0,0,0,0,"Fall 2019",null,2020,null,"597.98/2",null,null,null,19,null,29.95,null,"Spot",null,0.8,null,"Animals & Nature",null,"English",null,"Reinforced Library",null,16,null,"C",null,"300L",null,"PreK - 3",null,"Mary Ellen Klukow"]
[{"$f":"A892","v":0},null,{"$f":"C892","v":0},null,{"$f":"E892","v":0},null,9781681517209,null,9781681516387,null,"Elephants",null,null,null,"Spot African Animals",null,null,null,"Amicus",null,42.85,null,20.95,null,25.95,null,0,null,null,null,null,null,0,0,0,0,0,0,0,0,0,0,0,0,0,0,0,"Fall 2019",null,2020,null,599.66999999999996,null,null,null,19,null,29.95,null,"Spot",null,0.9,null,"Animals & Nature",null,"English",null,"Reinforced Library",null,16,null,"C",null,"330L",null,"PreK - 3",null,"Mary Ellen Klukow"]
[{"$f":"A892","v":0},null,{"$f":"C892","v":0},null,{"$f":"E892","v":0},null,9781681517216,null,9781681516394,null,"Giraffes",null,null,null,"Spot African Animals",null,null,null,"Amicus",null,42.85,null,20.95,null,25.95,null,0,null,null,null,null,null,0,0,0,0,0,0,0,0,0,0,0,0,0,0,0,"Fall 2019",null,2020,null,599.63800000000003,null,null,null,19,null,29.95,null,"Spot",null,0.9,null,"Animals & Nature",null,"English",null,"Reinforced Library",null,16,null,"C",null,"320L",null,"PreK - 3",null,"Mary Ellen Klukow"]
[{"$f":"A892","v":0},null,{"$f":"C892","v":0},null,{"$f":"E892","v":0},null,9781681517223,null,9781681516400,null,"Gorillas",null,null,null,"Spot African Animals",null,null,null,"Amicus",null,42.85,null,20.95,null,25.95,null,0,null,null,null,null,null,0,0,0,0,0,0,0,0,0,0,0,0,0,0,0,"Fall 2019",null,2020,null,599.88400000000001,null,null,null,19,null,29.95,null,"Spot",null,0.9,null,"Animals & Nature",null,"English",null,"Reinforced Library",null,16,null,"C",null,"340L",null,"PreK - 3",null,"Mary Ellen Klukow"]
[{"$f":"A892","v":0},null,{"$f":"C892","v":0},null,{"$f":"E892","v":0},null,9781681517230,null,9781681516417,null,"Hippos",null,null,null,"Spot African Animals",null,null,null,"Amicus",null,42.85,null,20.95,null,25.95,null,0,null,null,null,null,null,0,0,0,0,0,0,0,0,0,0,0,0,0,0,0,"Fall 2019",null,2020,null,"599.63/5",null,null,null,19,null,29.95,null,"Spot",null,0.9,null,"Animals & Nature",null,"English",null,"Reinforced Library",null,16,null,"C",null,"330L",null,"PreK - 3",null,"Mary Ellen Klukow"]
[{"$f":"A892","v":0},null,{"$f":"C892","v":0},null,{"$f":"E892","v":0},null,9781681517247,null,9781681516424,null,"Lions",null,null,null,"Spot African Animals",null,null,null,"Amicus",null,42.85,null,20.95,null,25.95,null,0,null,null,null,null,null,0,0,0,0,0,0,0,0,0,0,0,0,0,0,0,"Fall 2019",null,2020,null,599.75699999999995,null,null,null,19,null,29.95,null,"Spot",null,0.9,null,"Animals & Nature",null,"English",null,"Reinforced Library",null,16,null,"C",null,"310L",null,"PreK - 3",null,"Mary Ellen Klukow"]
[{"$f":"A892","v":0},null,{"$f":"C892","v":0},null,{"$f":"E892","v":0},null,9781681517254,null,9781681516431,null,"Zebras",null,null,null,"Spot African Animals",null,null,null,"Amicus",null,42.85,null,20.95,null,25.95,null,0,null,null,null,null,null,0,0,0,0,0,0,0,0,0,0,0,0,0,0,0,"Fall 2019",null,2020,null,"599.665/7",null,null,null,19,null,29.95,null,"Spot",null,0.9,null,"Animals & Nature",null,"English",null,"Reinforced Library",null,16,null,"C",null,"300L",null,"PreK - 3",null,"Mary Ellen Klukow"]
[]
[null,null,null,null,null,null,null,null,null,null,"Complete Series of 6",null,null,null,"Spot Arctic Animals",null,null,null,null,null,{"$f":"SUM(U903:U908)","v":257.10000000000002},null,{"$f":"SUM(W903:W908)","v":125.7},null,{"$f":"SUM(Y903:Y908)","v":155.69999999999999}]
[{"$f":"A902","v":0},null,{"$f":"C902","v":0},null,{"$f":"E902","v":0},null,9781681518350,null,9781681517957,null,"Arctic Foxes",null,null,null,"Spot Arctic Animals",null,null,null,"Amicus",null,42.85,null,20.95,null,{"$f":"W903+5","v":25.95},null,{"$f":"IF(AC903=FALSE,AT903,0)","v":0},null,null,null,null,null,{"$f":"IF(AND(A903>=1,AC903=\"\"),A903,0)","v":0},{"$f":"IF(AND(A903>=1,AC903=\"x\"),A903,0)","v":0},{"$f":"IF(AND(A903>=1,AC903=\"\"),U903,0)","v":0},{"$f":"IF(AND(A903>=1,AC903=\"x\"),-U903,0)","v":0},{"$f":"IF(AND(C903>=1,AC903=\"\"),C903,0)","v":0},{"$f":"IF(AND(C903>=1,AC903=\"x\"),C903,0)","v":0},{"$f":"IF(AND(C903>=1,AC903=\"\"),W903*C903,0)","v":0},{"$f":"IF(AND(C903>=1,AC903=\"x\"),-W903*C903,0)","v":0},{"$f":"E903","v":0},{"$f":"Y903*E903","v":0},{"$f":"AG903+AK903+AO903","v":0},{"$f":"AH903+AL903","v":0},{"$f":"AQ903+AR903","v":0},{"$f":"AI903+AM903+AP903","v":0},{"$f":"AJ903+AN903","v":0},"Spring 2020",null,2020,null,"599.776/4",null,null,null,19,null,29.95,null,"Spot",null,0.8,null,"Animals & Nature",null,"English",null,"Reinforced Library",null,16,null,"C",null,null,null,"PreK - 3",null,"Anastasia Suen"]
[{"$f":"A902","v":0},null,{"$f":"C902","v":0},null,{"$f":"E902","v":0},null,9781681518367,null,9781681517964,null,"Orcas",null,null,null,"Spot Arctic Animals",null,null,null,"Amicus",null,42.85,null,20.95,null,25.95,null,0,null,null,null,null,null,0,0,0,0,0,0,0,0,0,0,0,0,0,0,0,"Spring 2020",null,2020,null,"599.53/6",null,null,null,19,null,29.95,null,"Spot",null,1,null,"Animals & Nature",null,"English",null,"Reinforced Library",null,16,null,"C",null,null,null,"PreK - 3",null,"Anastasia Suen"]
[{"$f":"A902","v":0},null,{"$f":"C902","v":0},null,{"$f":"E902","v":0},null,9781681518374,null,9781681517971,null,"Polar Bears",null,null,null,"Spot Arctic Animals",null,null,null,"Amicus",null,42.85,null,20.95,null,25.95,null,0,null,null,null,null,null,0,0,0,0,0,0,0,0,0,0,0,0,0,0,0,"Spring 2020",null,2020,null,599.78599999999994,null,null,null,19,null,29.95,null,"Spot",null,0.9,null,"Animals & Nature",null,"English",null,"Reinforced Library",null,16,null,"C",null,null,null,"PreK - 3",null,"Anastasia Suen"]
[{"$f":"A902","v":0},null,{"$f":"C902","v":0},null,{"$f":"E902","v":0},null,9781681518381,null,9781681517988,null,"Reindeer",null,null,null,"Spot Arctic Animals",null,null,null,"Amicus",null,42.85,null,20.95,null,25.95,null,0,null,null,null,null,null,0,0,0,0,0,0,0,0,0,0,0,0,0,0,0,"Spring 2020",null,2020,null,"599.65/8",null,null,null,19,null,29.95,null,"Spot",null,0.9,null,"Animals & Nature",null,"English",null,"Reinforced Library",null,16,null,"C",null,null,null,"PreK - 3",null,"Anastasia Suen"]
[{"$f":"A902","v":0},null,{"$f":"C902","v":0},null,{"$f":"E902","v":0},null,9781681518398,null,9781681517995,null,"Sea Otters",null,null,null,"Spot Arctic Animals",null,null,null,"Amicus",null,42.85,null,20.95,null,25.95,null,0,null,null,null,null,null,0,0,0,0,0,0,0,0,0,0,0,0,0,0,0,"Spring 2020",null,2020,null,"599.769/5",null,null,null,19,null,29.95,null,"Spot",null,0.9,null,"Animals & Nature",null,"English",null,"Reinforced Library",null,16,null,"C",null,null,null,"PreK - 3",null,"Anastasia Suen"]
[{"$f":"A902","v":0},null,{"$f":"C902","v":0},null,{"$f":"E902","v":0},null,9781681518404,null,9781681518008,null,"Snowy Owls",null,null,null,"Spot Arctic Animals",null,null,null,"Amicus",null,42.85,null,20.95,null,25.95,null,0,null,null,null,null,null,0,0,0,0,0,0,0,0,0,0,0,0,0,0,0,"Spring 2020",null,2020,null,"598.9/7",null,null,null,19,null,29.95,null,"Spot",null,0.9,null,"Animals & Nature",null,"English",null,"Reinforced Library",null,16,null,"C",null,null,null,"PreK - 3",null,"Anastasia Suen"]
[]
[null,null,null,null,null,null,null,null,null,null,"Complete Series of 6",null,null,null,"Spot Awesome Nature",null,null,null,null,null,{"$f":"SUM(U911:U916)","v":257.10000000000002},null,{"$f":"SUM(W911:W916)","v":125.7},null,{"$f":"SUM(Y911:Y916)","v":155.69999999999999}]
[{"$f":"A910","v":0},null,{"$f":"C910","v":0},null,{"$f":"E910","v":0},null,9781681513270,null,9781681512877,null,"Flowers",null,null,null,"Spot Awesome Nature",null,null,null,"Amicus",null,42.85,null,20.95,null,{"$f":"W911+5","v":25.95},null,{"$f":"IF(AC911=FALSE,AT911,0)","v":0},null,null,null,null,null,{"$f":"IF(AND(A911>=1,AC911=\"\"),A911,0)","v":0},{"$f":"IF(AND(A911>=1,AC911=\"x\"),A911,0)","v":0},{"$f":"IF(AND(A911>=1,AC911=\"\"),U911,0)","v":0},{"$f":"IF(AND(A911>=1,AC911=\"x\"),-U911,0)","v":0},{"$f":"IF(AND(C911>=1,AC911=\"\"),C911,0)","v":0},{"$f":"IF(AND(C911>=1,AC911=\"x\"),C911,0)","v":0},{"$f":"IF(AND(C911>=1,AC911=\"\"),W911*C911,0)","v":0},{"$f":"IF(AND(C911>=1,AC911=\"x\"),-W911*C911,0)","v":0},{"$f":"E911","v":0},{"$f":"Y911*E911","v":0},{"$f":"AG911+AK911+AO911","v":0},{"$f":"AH911+AL911","v":0},{"$f":"AQ911+AR911","v":0},{"$f":"AI911+AM911+AP911","v":0},{"$f":"AJ911+AN911","v":0},"Spring 2018",null,2018,null,582,null,null,null,19,null,29.95,null,"Spot",null,1.1000000000000001,null,"Animals & Nature",null,"English",null,"Reinforced Library",null,16,null,"D",null,"310L",null,"PreK - 3",null,"K.C. Kelley"]
[{"$f":"A910","v":0},null,{"$f":"C910","v":0},null,{"$f":"E910","v":0},null,9781681513287,null,9781681512884,null,"Oceans",null,null,null,"Spot Awesome Nature",null,null,null,"Amicus",null,42.85,null,20.95,null,25.95,null,0,null,null,null,null,null,0,0,0,0,0,0,0,0,0,0,0,0,0,0,0,"Spring 2018",null,2018,null,551.46,null,null,null,19,null,29.95,null,"Spot",null,1,null,"Animals & Nature",null,"English",null,"Reinforced Library",null,16,null,"D",null,"350L",null,"PreK - 3",null,"K.C. Kelley"]
[{"$f":"A910","v":0},null,{"$f":"C910","v":0},null,{"$f":"E910","v":0},null,9781681513256,null,9781681512853,null,"Seasons",null,null,null,"Spot Awesome Nature",null,null,null,"Amicus",null,42.85,null,20.95,null,25.95,null,0,null,null,null,null,null,0,0,0,0,0,0,0,0,0,0,0,0,0,0,0,"Spring 2018",null,2018,null,508.2,null,null,null,19,null,29.95,null,"Spot",null,0.9,null,"Animals & Nature",null,"English",null,"Reinforced Library",null,16,null,"D",null,"280L",null,"PreK - 3",null,"K.C. Kelley"]
[{"$f":"A910","v":0},null,{"$f":"C910","v":0},null,{"$f":"E910","v":0},null,9781681513294,null,9781681512891,null,"Space",null,null,null,"Spot Awesome Nature",null,null,null,"Amicus",null,42.85,null,20.95,null,25.95,null,0,null,null,null,null,null,0,0,0,0,0,0,0,0,0,0,0,0,0,0,0,"Spring 2018",null,2018,null,523.1,null,null,null,19,null,29.95,null,"Spot",null,1,null,"Animals & Nature",null,"English",null,"Reinforced Library",null,16,null,"D",null,"340L",null,"PreK - 3",null,"K.C. Kelley"]
[{"$f":"A910","v":0},null,{"$f":"C910","v":0},null,{"$f":"E910","v":0},null,9781681513263,null,9781681512860,null,"Trees",null,null,null,"Spot Awesome Nature",null,null,null,"Amicus",null,42.85,null,20.95,null,25.95,null,0,null,null,null,null,null,0,0,0,0,0,0,0,0,0,0,0,0,0,0,0,"Spring 2018",null,2018,null,582.16,null,null,null,19,null,29.95,null,"Spot",null,0.9,null,"Animals & Nature",null,"English",null,"Reinforced Library",null,16,null,"D",null,"320L",null,"PreK - 3",null,"K.C. Kelley"]
[{"$f":"A910","v":0},null,{"$f":"C910","v":0},null,{"$f":"E910","v":0},null,9781681513249,null,9781681512846,null,"Weather",null,null,null,"Spot Awesome Nature",null,null,null,"Amicus",null,42.85,null,20.95,null,25.95,null,0,null,null,null,null,null,0,0,0,0,0,0,0,0,0,0,0,0,0,0,0,"Spring 2018",null,2018,null," 551.6",null,null,null,19,null,29.95,null,"Spot",null,1,null,"Animals & Nature",null,"English",null,"Reinforced Library",null,16,null,"D",null,"300L",null,"PreK - 3",null,"K.C. Kelley"]
[]
[null,null,null,null,null,null,null,null,null,null,"Complete Series of 8",null,null,null,"Spot Baby Animals",null,null,null,null,null,{"$f":"SUM(U919:U926)","v":342.80000000000007},null,{"$f":"SUM(W919:W926)","v":167.6},null,{"$f":"SUM(Y919:Y926)","v":207.59999999999997}]
[{"$f":"A918","v":0},null,{"$f":"C918","v":0},null,{"$f":"E918","v":0},null,9781681513300,null,9781681513164,null,"Baby Bears",null,null,null,"Spot Baby Animals",null,null,null,"Amicus",null,42.85,null,20.95,null,{"$f":"W919+5","v":25.95},null,{"$f":"IF(AC919=FALSE,AT919,0)","v":0},null,null,null,null,null,{"$f":"IF(AND(A919>=1,AC919=\"\"),A919,0)","v":0},{"$f":"IF(AND(A919>=1,AC919=\"x\"),A919,0)","v":0},{"$f":"IF(AND(A919>=1,AC919=\"\"),U919,0)","v":0},{"$f":"IF(AND(A919>=1,AC919=\"x\"),-U919,0)","v":0},{"$f":"IF(AND(C919>=1,AC919=\"\"),C919,0)","v":0},{"$f":"IF(AND(C919>=1,AC919=\"x\"),C919,0)","v":0},{"$f":"IF(AND(C919>=1,AC919=\"\"),W919*C919,0)","v":0},{"$f":"IF(AND(C919>=1,AC919=\"x\"),-W919*C919,0)","v":0},{"$f":"E919","v":0},{"$f":"Y919*E919","v":0},{"$f":"AG919+AK919+AO919","v":0},{"$f":"AH919+AL919","v":0},{"$f":"AQ919+AR919","v":0},{"$f":"AI919+AM919+AP919","v":0},{"$f":"AJ919+AN919","v":0},"Spring 2018",null,2018,null,599.78,null,null,null,19,null,29.95,null,"Spot",null,1.1000000000000001,null,"Animals & Nature",null,"English",null,"Reinforced Library",null,16,null,"C",null,"270L",null,"PreK - 3",null,"K.C. Kelley"]
[{"$f":"A918","v":0},null,{"$f":"C918","v":0},null,{"$f":"E918","v":0},null,9781681513324,null,9781681513188,null,"Baby Elephants",null,null,null,"Spot Baby Animals",null,null,null,"Amicus",null,42.85,null,20.95,null,25.95,null,0,null,null,null,null,null,0,0,0,0,0,0,0,0,0,0,0,0,0,0,0,"Spring 2018",null,2018,null,599.66999999999996,null,null,null,19,null,29.95,null,"Spot",null,0.9,null,"Animals & Nature",null,"English",null,"Reinforced Library",null,16,null,"C",null,"350L",null,"PreK - 3",null,"K.C. Kelley"]
[{"$f":"A918","v":0},null,{"$f":"C918","v":0},null,{"$f":"E918","v":0},null,9781681513331,null,9781681513195,null,"Baby Giraffes",null,null,null,"Spot Baby Animals",null,null,null,"Amicus",null,42.85,null,20.95,null,25.95,null,0,null,null,null,null,null,0,0,0,0,0,0,0,0,0,0,0,0,0,0,0,"Spring 2018",null,2018,null,"599.63813/92",null,null,null,19,null,29.95,null,"Spot",null,1,null,"Animals & Nature",null,"English",null,"Reinforced Library",null,16,null,"C",null,"280L",null,"PreK - 3",null,"K.C. Kelley"]
[{"$f":"A918","v":0},null,{"$f":"C918","v":0},null,{"$f":"E918","v":0},null,9781681513362,null,9781681513225,null,"Baby Hippos",null,null,null,"Spot Baby Animals",null,null,null,"Amicus",null,42.85,null,20.95,null,25.95,null,0,null,null,null,null,null,0,0,0,0,0,0,0,0,0,0,0,0,0,0,0,"Spring 2018",null,2018,null,"599.63/5139",null,null,null,19,null,29.95,null,"Spot",null,1,null,"Animals & Nature",null,"English",null,"Reinforced Library",null,16,null,"C",null,"350L",null,"PreK - 3",null,"K.C. Kelley"]
[{"$f":"A918","v":0},null,{"$f":"C918","v":0},null,{"$f":"E918","v":0},null,9781681513348,null,9781681513201,null,"Baby Lions",null,null,null,"Spot Baby Animals",null,null,null,"Amicus",null,42.85,null,20.95,null,25.95,null,0,null,null,null,null,null,0,0,0,0,0,0,0,0,0,0,0,0,0,0,0,"Spring 2018",null,2018,null,"599.75/51392",null,null,null,19,null,29.95,null,"Spot",null,1,null,"Animals & Nature",null,"English",null,"Reinforced Library",null,16,null,"C",null,"330L",null,"PreK - 3",null,"K.C. Kelley"]
[{"$f":"A918","v":0},null,{"$f":"C918","v":0},null,{"$f":"E918","v":0},null,9781681513355,null,9781681513218,null,"Baby Orangutans",null,null,null,"Spot Baby Animals",null,null,null,"Amicus",null,42.85,null,20.95,null,25.95,null,0,null,null,null,null,null,0,0,0,0,0,0,0,0,0,0,0,0,0,0,0,"Spring 2018",null,2018,null,"599.88/31392",null,null,null,19,null,29.95,null,"Spot",null,1,null,"Animals & Nature",null,"English",null,"Reinforced Library",null,16,null,"C",null,"340L",null,"PreK - 3",null,"K.C. Kelley"]
[{"$f":"A918","v":0},null,{"$f":"C918","v":0},null,{"$f":"E918","v":0},null,9781681513379,null,9781681513232,null,"Baby Tigers",null,null,null,"Spot Baby Animals",null,null,null,"Amicus",null,42.85,null,20.95,null,25.95,null,0,null,null,null,null,null,0,0,0,0,0,0,0,0,0,0,0,0,0,0,0,"Spring 2018",null,2018,null,"599.75613/92",null,null,null,19,null,29.95,null,"Spot",null,0.9,null,"Animals & Nature",null,"English",null,"Reinforced Library",null,16,null,"C",null,"280L",null,"PreK - 3",null,"K.C. Kelley"]
[{"$f":"A918","v":0},null,{"$f":"C918","v":0},null,{"$f":"E918","v":0},null,9781681513317,null,9781681513171,null,"Baby Wolves",null,null,null,"Spot Baby Animals",null,null,null,"Amicus",null,42.85,null,20.95,null,25.95,null,0,null,null,null,null,null,0,0,0,0,0,0,0,0,0,0,0,0,0,0,0,"Spring 2018",null,2018,null,"599.773/139",null,null,null,19,null,29.95,null,"Spot",null,0.9,null,"Animals & Nature",null,"English",null,"Reinforced Library",null,16,null,"C",null,"310L",null,"PreK - 3",null,"K.C. Kelley"]
[]
[null,null,null,null,null,null,null,null,null,null,"Complete Series of 8",null,null,null,"Spot Baby Farm Animals",null,null,null,null,null,{"$f":"SUM(U929:U936)","v":342.80000000000007},null,{"$f":"SUM(W929:W936)","v":167.6},null,{"$f":"SUM(Y929:Y936)","v":207.59999999999997}]
[{"$f":"A928","v":0},null,{"$f":"C928","v":0},null,{"$f":"E928","v":0},null,9781681515663,null,9781681515281,null,"Calves",null,null,null,"Spot Baby Farm Animals",null,null,null,"Amicus",null,42.85,null,20.95,null,{"$f":"W929+5","v":25.95},null,{"$f":"IF(AC929=FALSE,AT929,0)","v":0},null,null,null,null,null,{"$f":"IF(AND(A929>=1,AC929=\"\"),A929,0)","v":0},{"$f":"IF(AND(A929>=1,AC929=\"x\"),A929,0)","v":0},{"$f":"IF(AND(A929>=1,AC929=\"\"),U929,0)","v":0},{"$f":"IF(AND(A929>=1,AC929=\"x\"),-U929,0)","v":0},{"$f":"IF(AND(C929>=1,AC929=\"\"),C929,0)","v":0},{"$f":"IF(AND(C929>=1,AC929=\"x\"),C929,0)","v":0},{"$f":"IF(AND(C929>=1,AC929=\"\"),W929*C929,0)","v":0},{"$f":"IF(AND(C929>=1,AC929=\"x\"),-W929*C929,0)","v":0},{"$f":"E929","v":0},{"$f":"Y929*E929","v":0},{"$f":"AG929+AK929+AO929","v":0},{"$f":"AH929+AL929","v":0},{"$f":"AQ929+AR929","v":0},{"$f":"AI929+AM929+AP929","v":0},{"$f":"AJ929+AN929","v":0},"Spring 2019",null,2019,null,636.20000000000005,null,null,null,19,null,29.95,null,"Spot",null,0.8,null,"Animals & Nature",null,"English",null,"Reinforced Library",null,16,null,"C",null,"220L",null,"PreK - 3",null,"Anastasia Suen"]
[{"$f":"A928","v":0},null,{"$f":"C928","v":0},null,{"$f":"E928","v":0},null,9781681515670,null,9781681515298,null,"Chicks",null,null,null,"Spot Baby Farm Animals",null,null,null,"Amicus",null,42.85,null,20.95,null,25.95,null,0,null,null,null,null,null,0,0,0,0,0,0,0,0,0,0,0,0,0,0,0,"Spring 2019",null,2019,null,636.5,null,null,null,19,null,29.95,null,"Spot",null,0.9,null,"Animals & Nature",null,"English",null,"Reinforced Library",null,16,null,"C",null,"230L",null,"PreK - 3",null,"Anastasia Suen"]
[{"$f":"A928","v":0},null,{"$f":"C928","v":0},null,{"$f":"E928","v":0},null,9781681515687,null,9781681515304,null,"Ducklings",null,null,null,"Spot Baby Farm Animals",null,null,null,"Amicus",null,42.85,null,20.95,null,25.95,null,0,null,null,null,null,null,0,0,0,0,0,0,0,0,0,0,0,0,0,0,0,"Spring 2019",null,2019,null,"636.5/97",null,null,null,19,null,29.95,null,"Spot",null,0.9,null,"Animals & Nature",null,"English",null,"Reinforced Library",null,16,null,"C",null,"190L",null,"PreK - 3",null,"Anastasia Suen"]
[{"$f":"A928","v":0},null,{"$f":"C928","v":0},null,{"$f":"E928","v":0},null,9781681515694,null,9781681515311,null,"Foals",null,null,null,"Spot Baby Farm Animals",null,null,null,"Amicus",null,42.85,null,20.95,null,25.95,null,0,null,null,null,null,null,0,0,0,0,0,0,0,0,0,0,0,0,0,0,0,"Spring 2019",null,2019,null,636.1,null,null,null,19,null,29.95,null,"Spot",null,0.9,null,"Animals & Nature",null,"English",null,"Reinforced Library",null,16,null,"C",null,"290L",null,"PreK - 3",null,"Anastasia Suen"]
[{"$f":"A928","v":0},null,{"$f":"C928","v":0},null,{"$f":"E928","v":0},null,9781681515700,null,9781681515328,null,"Kids",null,null,null,"Spot Baby Farm Animals",null,null,null,"Amicus",null,42.85,null,20.95,null,25.95,null,0,null,null,null,null,null,0,0,0,0,0,0,0,0,0,0,0,0,0,0,0,"Spring 2019",null,2019,null,"636.3/907",null,null,null,19,null,29.95,null,"Spot",null,0.9,null,"Animals & Nature",null,"English",null,"Reinforced Library",null,16,null,"C",null,"330L",null,"PreK - 3",null,"Anastasia Suen"]
[{"$f":"A928","v":0},null,{"$f":"C928","v":0},null,{"$f":"E928","v":0},null,9781681515717,null,9781681515335,null,"Kittens",null,null,null,"Spot Baby Farm Animals",null,null,null,"Amicus",null,42.85,null,20.95,null,25.95,null,0,null,null,null,null,null,0,0,0,0,0,0,0,0,0,0,0,0,0,0,0,"Spring 2019",null,2019,null,"636.8/07",null,null,null,19,null,29.95,null,"Spot",null,0.8,null,"Animals & Nature",null,"English",null,"Reinforced Library",null,16,null,"C",null,"270L",null,"PreK - 3",null,"Anastasia Suen"]
[{"$f":"A928","v":0},null,{"$f":"C928","v":0},null,{"$f":"E928","v":0},null,9781681515724,null,9781681515342,null,"Lambs",null,null,null,"Spot Baby Farm Animals",null,null,null,"Amicus",null,42.85,null,20.95,null,25.95,null,0,null,null,null,null,null,0,0,0,0,0,0,0,0,0,0,0,0,0,0,0,"Spring 2019",null,2019,null,"636.3/07",null,null,null,19,null,29.95,null,"Spot",null,0.9,null,"Animals & Nature",null,"English",null,"Reinforced Library",null,16,null,"C",null,"290L",null,"PreK - 3",null,"Anastasia Suen"]
[{"$f":"A928","v":0},null,{"$f":"C928","v":0},null,{"$f":"E928","v":0},null,9781681515731,null,9781681515359,null,"Puppies",null,null,null,"Spot Baby Farm Animals",null,null,null,"Amicus",null,42.85,null,20.95,null,25.95,null,0,null,null,null,null,null,0,0,0,0,0,0,0,0,0,0,0,0,0,0,0,"Spring 2019",null,2019,null,"636.7/07",null,null,null,19,null,29.95,null,"Spot",null,0.9,null,"Animals & Nature",null,"English",null,"Reinforced Library",null,16,null,"C",null,"230L",null,"PreK - 3",null,"Anastasia Suen"]
[]
[null,null,null,null,null,null,null,null,null,null,"Complete Series of 16",null,null,null,"Spot Backyard Animals",null,null,null,null,null,{"$f":"SUM(U939:U954)","v":685.60000000000025},null,{"$f":"SUM(W939:W954)","v":335.19999999999993},null,{"$f":"SUM(Y939:Y954)","v":415.19999999999987}]
[{"$f":"A938","v":0},null,{"$f":"C938","v":0},null,{"$f":"E938","v":0},null,9781681511801,null,9781681510903,null,"Bats",null,null,null,"Spot Backyard Animals",null,null,null,"Amicus",null,42.85,null,20.95,null,{"$f":"W939+5","v":25.95},null,{"$f":"IF(AC939=FALSE,AT939,0)","v":0},null,null,null,null,null,{"$f":"IF(AND(A939>=1,AC939=\"\"),A939,0)","v":0},{"$f":"IF(AND(A939>=1,AC939=\"x\"),A939,0)","v":0},{"$f":"IF(AND(A939>=1,AC939=\"\"),U939,0)","v":0},{"$f":"IF(AND(A939>=1,AC939=\"x\"),-U939,0)","v":0},{"$f":"IF(AND(C939>=1,AC939=\"\"),C939,0)","v":0},{"$f":"IF(AND(C939>=1,AC939=\"x\"),C939,0)","v":0},{"$f":"IF(AND(C939>=1,AC939=\"\"),W939*C939,0)","v":0},{"$f":"IF(AND(C939>=1,AC939=\"x\"),-W939*C939,0)","v":0},{"$f":"E939","v":0},{"$f":"Y939*E939","v":0},{"$f":"AG939+AK939+AO939","v":0},{"$f":"AH939+AL939","v":0},{"$f":"AQ939+AR939","v":0},{"$f":"AI939+AM939+AP939","v":0},{"$f":"AJ939+AN939","v":0},"Fall 2017",null,2018,null,599.4,null,null,null,20,null,29.95,null,"Spot",null,0.8,null,"Animals & Nature",null,"English",null,"Reinforced Library",null,16,null,"C",null,"210L",null,"PreK - 3",null,"Wendy Strobel Dieker"]
[{"$f":"A938","v":0},null,{"$f":"C938","v":0},null,{"$f":"E938","v":0},null,9781681515809,null,9781681515427,null,"Chipmunks",null,null,null,"Spot Backyard Animals",null,null,null,"Amicus",null,42.85,null,20.95,null,25.95,null,0,null,null,null,null,null,0,0,0,0,0,0,0,0,0,0,0,0,0,0,0,"Spring 2019",null,2019,null,"599.36/4",null,null,null,20,null,29.95,null,"Spot",null,0.9,null,"Animals & Nature",null,"English",null,"Reinforced Library",null,16,null,"C",null,"310L",null,"PreK - 3",null,"Mari Schuh"]
[{"$f":"A938","v":0},null,{"$f":"C938","v":0},null,{"$f":"E938","v":0},null,9781681515823,null,9781681515441,null,"Deer",null,null,null,"Spot Backyard Animals",null,null,null,"Amicus",null,42.85,null,20.95,null,25.95,null,0,null,null,null,null,null,0,0,0,0,0,0,0,0,0,0,0,0,0,0,0,"Spring 2019",null,2019,null,599.65,null,null,null,20,null,29.95,null,"Spot",null,0.9,null,"Animals & Nature",null,"English",null,"Reinforced Library",null,16,null,"C",null,"300L",null,"PreK - 3",null,"Mari Schuh"]
[{"$f":"A938","v":0},null,{"$f":"C938","v":0},null,{"$f":"E938","v":0},null,9781681511818,null,9781681510910,null,"Frogs",null,null,null,"Spot Backyard Animals",null,null,null,"Amicus",null,42.85,null,20.95,null,25.95,null,0,null,null,null,null,null,0,0,0,0,0,0,0,0,0,0,0,0,0,0,0,"Fall 2017",null,2018,null,"597.8/9",null,null,null,20,null,29.95,null,"Spot",null,0.9,null,"Animals & Nature",null,"English",null,"Reinforced Library",null,16,null,"C",null,"300L",null,"PreK - 3",null,"Marysa Storm"]
[{"$f":"A938","v":0},null,{"$f":"C938","v":0},null,{"$f":"E938","v":0},null,9781681511825,null,9781681510927,null,"Geckos",null,null,null,"Spot Backyard Animals",null,null,null,"Amicus",null,42.85,null,20.95,null,25.95,null,0,null,null,null,null,null,0,0,0,0,0,0,0,0,0,0,0,0,0,0,0,"Fall 2017",null,2018,null,"597.95/2",null,null,null,20,null,29.95,null,"Spot",null,0.9,null,"Animals & Nature",null,"English",null,"Reinforced Library",null,16,null,"C",null,"290L",null,"PreK - 3",null,"Rachel Bach"]
[{"$f":"A938","v":0},null,{"$f":"C938","v":0},null,{"$f":"E938","v":0},null,9781681515847,null,9781681515465,null,"Geese",null,null,null,"Spot Backyard Animals",null,null,null,"Amicus",null,42.85,null,20.95,null,25.95,null,0,null,null,null,null,null,0,0,0,0,0,0,0,0,0,0,0,0,0,0,0,"Spring 2019",null,2019,null,"598.4/17",null,null,null,20,null,29.95,null,"Spot",null,0.9,null,"Animals & Nature",null,"English",null,"Reinforced Library",null,16,null,"C",null,"300L",null,"PreK - 3",null,"Mari Schuh"]
[{"$f":"A938","v":0},null,{"$f":"C938","v":0},null,{"$f":"E938","v":0},null,9781681515816,null,9781681515434,null,"Hawks",null,null,null,"Spot Backyard Animals",null,null,null,"Amicus",null,42.85,null,20.95,null,25.95,null,0,null,null,null,null,null,0,0,0,0,0,0,0,0,0,0,0,0,0,0,0,"Spring 2019",null,2019,null,"636.1/33",null,null,null,20,null,29.95,null,"Spot",null,0.9,null,"Animals & Nature",null,"English",null,"Reinforced Library",null,16,null,"C",null,"300L",null,"PreK - 3",null,"Mari Schuh"]
[{"$f":"A938","v":0},null,{"$f":"C938","v":0},null,{"$f":"E938","v":0},null,9781681511832,null,9781681510934,null,"Mice",null,null,null,"Spot Backyard Animals",null,null,null,"Amicus",null,42.85,null,20.95,null,25.95,null,0,null,null,null,null,null,0,0,0,0,0,0,0,0,0,0,0,0,0,0,0,"Fall 2017",null,2018,null,"599.35/3",null,null,null,20,null,29.95,null,"Spot",null,0.9,null,"Animals & Nature",null,"English",null,"Reinforced Library",null,16,null,"C",null,"330L",null,"PreK - 3",null,"Marysa Storm"]
[{"$f":"A938","v":0},null,{"$f":"C938","v":0},null,{"$f":"E938","v":0},null,9781681511849,null,9781681510941,null,"Owls",null,null,null,"Spot Backyard Animals",null,null,null,"Amicus",null,42.85,null,20.95,null,25.95,null,0,null,null,null,null,null,0,0,0,0,0,0,0,0,0,0,0,0,0,0,0,"Fall 2017",null,2018,null,"598.9/7",null,null,null,20,null,29.95,null,"Spot",null,0.9,null,"Animals & Nature",null,"English",null,"Reinforced Library",null,16,null,"C",null,"260L",null,"PreK - 3",null,"Wendy Strobel Dieker"]
[{"$f":"A938","v":0},null,{"$f":"C938","v":0},null,{"$f":"E938","v":0},null,9781681515830,null,9781681515458,null,"Prairie Dogs",null,null,null,"Spot Backyard Animals",null,null,null,"Amicus",null,42.85,null,20.95,null,25.95,null,0,null,null,null,null,null,0,0,0,0,0,0,0,0,0,0,0,0,0,0,0,"Spring 2019",null,2019,null,"599.36/7",null,null,null,20,null,29.95,null,"Spot",null,0.8,null,"Animals & Nature",null,"English",null,"Reinforced Library",null,16,null,"C",null,"260L",null,"PreK - 3",null,"Mari Schuh"]
[{"$f":"A938","v":0},null,{"$f":"C938","v":0},null,{"$f":"E938","v":0},null,9781681511856,null,9781681510958,null,"Raccoons",null,null,null,"Spot Backyard Animals",null,null,null,"Amicus",null,42.85,null,20.95,null,25.95,null,0,null,null,null,null,null,0,0,0,0,0,0,0,0,0,0,0,0,0,0,0,"Fall 2017",null,2018,null,"599.76/32",null,null,null,20,null,29.95,null,"Spot",null,0.9,null,"Animals & Nature",null,"English",null,"Reinforced Library",null,16,null,"C",null,"320L",null,"PreK - 3",null,"Marysa Storm"]
[{"$f":"A938","v":0},null,{"$f":"C938","v":0},null,{"$f":"E938","v":0},null,9781681515854,null,9781681515472,null,"Robins",null,null,null,"Spot Backyard Animals",null,null,null,"Amicus",null,42.85,null,20.95,null,25.95,null,0,null,null,null,null,null,0,0,0,0,0,0,0,0,0,0,0,0,0,0,0,"Spring 2019",null,2019,null,"598.8/42",null,null,null,20,null,29.95,null,"Spot",null,1,null,"Animals & Nature",null,"English",null,"Reinforced Library",null,16,null,"C",null,"330L",null,"PreK - 3",null,"Mari Schuh"]
[{"$f":"A938","v":0},null,{"$f":"C938","v":0},null,{"$f":"E938","v":0},null,9781681515861,null,9781681515489,null,"Salamanders",null,null,null,"Spot Backyard Animals",null,null,null,"Amicus",null,42.85,null,20.95,null,25.95,null,0,null,null,null,null,null,0,0,0,0,0,0,0,0,0,0,0,0,0,0,0,"Spring 2019",null,2019,null,"597.8/5",null,null,null,20,null,29.95,null,"Spot",null,0.9,null,"Animals & Nature",null,"English",null,"Reinforced Library",null,16,null,"C",null,"300L",null,"PreK - 3",null,"Mari Schuh"]
[{"$f":"A938","v":0},null,{"$f":"C938","v":0},null,{"$f":"E938","v":0},null,9781681511863,null,9781681510965,null,"Skunks",null,null,null,"Spot Backyard Animals",null,null,null,"Amicus",null,42.85,null,20.95,null,25.95,null,0,null,null,null,null,null,0,0,0,0,0,0,0,0,0,0,0,0,0,0,0,"Fall 2017",null,2018,null,"599.76/8",null,null,null,20,null,29.95,null,"Spot",null,0.9,null,"Animals & Nature",null,"English",null,"Reinforced Library",null,16,null,"C",null,"260L",null,"PreK - 3",null,"Wendy Strobel Dieker"]
[{"$f":"A938","v":0},null,{"$f":"C938","v":0},null,{"$f":"E938","v":0},null,9781681515878,null,9781681515496,null,"Snakes",null,null,null,"Spot Backyard Animals",null,null,null,"Amicus",null,42.85,null,20.95,null,25.95,null,0,null,null,null,null,null,0,0,0,0,0,0,0,0,0,0,0,0,0,0,0,"Spring 2019",null,2019,null,597.96,null,null,null,20,null,29.95,null,"Spot",null,0.9,null,"Animals & Nature",null,"English",null,"Reinforced Library",null,16,null,"C",null,"250L",null,"PreK - 3",null,"Mari Schuh"]
[{"$f":"A938","v":0},null,{"$f":"C938","v":0},null,{"$f":"E938","v":0},null,9781681511870,null,9781681510972,null,"Squirrels",null,null,null,"Spot Backyard Animals",null,null,null,"Amicus",null,42.85,null,20.95,null,25.95,null,0,null,null,null,null,null,0,0,0,0,0,0,0,0,0,0,0,0,0,0,0,"Fall 2017",null,2018,null,599.36,null,null,null,20,null,29.95,null,"Spot",null,0.9,null,"Animals & Nature",null,"English",null,"Reinforced Library",null,16,null,"C",null,"300L",null,"PreK - 3",null,"Wendy Strobel Dieker"]
[]
[null,null,null,null,null,null,null,null,null,null,"Complete Series of 6",null,null,null,"Spot Big Birds",null,null,null,null,null,{"$f":"SUM(U957:U962)","v":257.10000000000002},null,{"$f":"SUM(W957:W962)","v":125.7},null,{"$f":"SUM(Y957:Y962)","v":155.69999999999999}]
[{"$f":"A956","v":0},null,{"$f":"C956","v":0},null,{"$f":"E956","v":0},null,9781645491385,null,9781645490968,null,"Cranes",null,null,null,"Spot Big Birds",null,null,null,"Amicus",null,42.85,null,20.95,null,{"$f":"W957+5","v":25.95},null,{"$f":"IF(AC957=FALSE,AT957,0)","v":0},null,null,null,null,null,{"$f":"IF(AND(A957>=1,AC957=\"\"),A957,0)","v":0},{"$f":"IF(AND(A957>=1,AC957=\"x\"),A957,0)","v":0},{"$f":"IF(AND(A957>=1,AC957=\"\"),U957,0)","v":0},{"$f":"IF(AND(A957>=1,AC957=\"x\"),-U957,0)","v":0},{"$f":"IF(AND(C957>=1,AC957=\"\"),C957,0)","v":0},{"$f":"IF(AND(C957>=1,AC957=\"x\"),C957,0)","v":0},{"$f":"IF(AND(C957>=1,AC957=\"\"),W957*C957,0)","v":0},{"$f":"IF(AND(C957>=1,AC957=\"x\"),-W957*C957,0)","v":0},{"$f":"E957","v":0},{"$f":"Y957*E957","v":0},{"$f":"AG957+AK957+AO957","v":0},{"$f":"AH957+AL957","v":0},{"$f":"AQ957+AR957","v":0},{"$f":"AI957+AM957+AP957","v":0},{"$f":"AJ957+AN957","v":0},"Fall 2022",null,2023,null,593.6,null,null,null,17,null,29.95,null,"Spot",null,null,null,"Life Science",null,"English",null,"Reinforced Library",null,16,null,"C",null,null,null,"P - 2",null,"Lisa Amstutz"]
[{"$f":"A956","v":0},null,{"$f":"C956","v":0},null,{"$f":"E956","v":0},null,9781645491392,null,9781645490975,null,"Flamingos",null,null,null,"Spot Big Birds",null,null,null,"Amicus",null,42.85,null,20.95,null,25.95,null,0,null,null,null,null,null,0,0,0,0,0,0,0,0,0,0,0,0,0,0,0,"Fall 2022",null,2023,null,"597/.43",null,null,null,17,null,29.95,null,"Spot",null,null,null,"Life Science",null,"English",null,"Reinforced Library",null,16,null,"C",null,null,null,"P - 2",null,"Lisa Amstutz"]
[{"$f":"A956","v":0},null,{"$f":"C956","v":0},null,{"$f":"E956","v":0},null,9781645491408,null,9781645490982,null,"Herons",null,null,null,"Spot Big Birds",null,null,null,"Amicus",null,42.85,null,20.95,null,25.95,null,0,null,null,null,null,null,0,0,0,0,0,0,0,0,0,0,0,0,0,0,0,"Fall 2022",null,2023,null,"598.3/4",null,null,null,17,null,29.95,null,"Spot",null,null,null,"Life Science",null,"English",null,"Reinforced Library",null,16,null,"C",null,null,null,"P - 2",null,"Lisa Amstutz"]
[{"$f":"A956","v":0},null,{"$f":"C956","v":0},null,{"$f":"E956","v":0},null,9781645491415,null,9781645490999,null,"Ostriches",null,null,null,"Spot Big Birds",null,null,null,"Amicus",null,42.85,null,20.95,null,25.95,null,0,null,null,null,null,null,0,0,0,0,0,0,0,0,0,0,0,0,0,0,0,"Fall 2022",null,2023,null,"598.5/24",null,null,null,17,null,29.95,null,"Spot",null,null,null,"Life Science",null,"English",null,"Reinforced Library",null,16,null,"C",null,null,null,"P - 2",null,"Lisa Amstutz"]
[{"$f":"A956","v":0},null,{"$f":"C956","v":0},null,{"$f":"E956","v":0},null,9781645491422,null,9781645491002,null,"Storks",null,null,null,"Spot Big Birds",null,null,null,"Amicus",null,42.85,null,20.95,null,25.95,null,0,null,null,null,null,null,0,0,0,0,0,0,0,0,0,0,0,0,0,0,0,"Fall 2022",null,2023,null,"598.3/4",null,null,null,17,null,29.95,null,"Spot",null,null,null,"Life Science",null,"English",null,"Reinforced Library",null,16,null,"C",null,null,null,"P - 2",null,"Lisa Amstutz"]
[{"$f":"A956","v":0},null,{"$f":"C956","v":0},null,{"$f":"E956","v":0},null,9781645491439,null,9781645491019,null,"Swans",null,null,null,"Spot Big Birds",null,null,null,"Amicus",null,42.85,null,20.95,null,25.95,null,0,null,null,null,null,null,0,0,0,0,0,0,0,0,0,0,0,0,0,0,0,"Fall 2022",null,2023,null,"598.4/18",null,null,null,17,null,29.95,null,"Spot",null,null,null,"Life Science",null,"English",null,"Reinforced Library",null,16,null,"C",null,null,null,"P - 2",null,"Lisa Amstutz"]
[]
[null,null,null,null,null,null,null,null,null,null,"Complete Series of 14",null,null,null,"Spot Creepy Crawlies",null,null,null,null,null,{"$f":"SUM(U965:U978)","v":599.9000000000002},null,{"$f":"SUM(W965:W978)","v":293.29999999999995},null,{"$f":"SUM(Y965:Y978)","v":363.2999999999999}]
[{"$f":"A964","v":0},null,{"$f":"C964","v":0},null,{"$f":"E964","v":0},null,9781681511948,null,9781681511047,null,"Ants",null,null,null,"Spot Creepy Crawlies",null,null,null,"Amicus",null,42.85,null,20.95,null,{"$f":"W965+5","v":25.95},null,{"$f":"IF(AC965=FALSE,AT965,0)","v":0},null,null,null,null,null,{"$f":"IF(AND(A965>=1,AC965=\"\"),A965,0)","v":0},{"$f":"IF(AND(A965>=1,AC965=\"x\"),A965,0)","v":0},{"$f":"IF(AND(A965>=1,AC965=\"\"),U965,0)","v":0},{"$f":"IF(AND(A965>=1,AC965=\"x\"),-U965,0)","v":0},{"$f":"IF(AND(C965>=1,AC965=\"\"),C965,0)","v":0},{"$f":"IF(AND(C965>=1,AC965=\"x\"),C965,0)","v":0},{"$f":"IF(AND(C965>=1,AC965=\"\"),W965*C965,0)","v":0},{"$f":"IF(AND(C965>=1,AC965=\"x\"),-W965*C965,0)","v":0},{"$f":"E965","v":0},{"$f":"Y965*E965","v":0},{"$f":"AG965+AK965+AO965","v":0},{"$f":"AH965+AL965","v":0},{"$f":"AQ965+AR965","v":0},{"$f":"AI965+AM965+AP965","v":0},{"$f":"AJ965+AN965","v":0},"Fall 2017",null,2018,null,"595.79/6",null,null,null,20,null,29.95,null,"Spot",null,0.9,null,"Animals & Nature",null,"English",null,"Reinforced Library",null,16,null,"C",null,"320L",null,"PreK - 3",null,"Nessa Black"]
[{"$f":"A964","v":0},null,{"$f":"C964","v":0},null,{"$f":"E964","v":0},null,9781681511955,null,9781681511054,null,"Bees",null,null,null,"Spot Creepy Crawlies",null,null,null,"Amicus",null,42.85,null,20.95,null,25.95,null,0,null,null,null,null,null,0,0,0,0,0,0,0,0,0,0,0,0,0,0,0,"Fall 2017",null,2018,null,"595.79/9",null,null,null,20,null,29.95,null,"Spot",null,0.8,null,"Animals & Nature",null,"English",null,"Reinforced Library",null,16,null,"C",null,"270L",null,"PreK - 3",null,"Nessa Black"]
[{"$f":"A964","v":0},null,{"$f":"C964","v":0},null,{"$f":"E964","v":0},null,9781681511962,null,9781681511061,null,"Beetles",null,null,null,"Spot Creepy Crawlies",null,null,null,"Amicus",null,42.85,null,20.95,null,25.95,null,0,null,null,null,null,null,0,0,0,0,0,0,0,0,0,0,0,0,0,0,0,"Fall 2017",null,2018,null,595.76,null,null,null,20,null,29.95,null,"Spot",null,0.8,null,"Animals & Nature",null,"English",null,"Reinforced Library",null,16,null,"C",null,"260L",null,"PreK - 3",null,"Nessa Black"]
[{"$f":"A964","v":0},null,{"$f":"C964","v":0},null,{"$f":"E964","v":0},null,9781681511979,null,9781681511078,null,"Butterflies",null,null,null,"Spot Creepy Crawlies",null,null,null,"Amicus",null,42.85,null,20.95,null,25.95,null,0,null,null,null,null,null,0,0,0,0,0,0,0,0,0,0,0,0,0,0,0,"Fall 2017",null,2018,null,"595.78/9",null,null,null,20,null,29.95,null,"Spot",null,1,null,"Animals & Nature",null,"English",null,"Reinforced Library",null,16,null,"C",null,"320L",null,"PreK - 3",null,"Rachel Bach"]
[{"$f":"A964","v":0},null,{"$f":"C964","v":0},null,{"$f":"E964","v":0},null,9781681515748,null,9781681515366,null,"Crickets",null,null,null,"Spot Creepy Crawlies",null,null,null,"Amicus",null,42.85,null,20.95,null,25.95,null,0,null,null,null,null,null,0,0,0,0,0,0,0,0,0,0,0,0,0,0,0,"Spring 2019",null,2019,null,595.70000000000005,null,null,null,20,null,29.95,null,"Spot",null,0.8,null,"Animals & Nature",null,"English",null,"Reinforced Library",null,16,null,"C",null,"230L",null,"PreK - 3",null,"Nessa Black"]
[{"$f":"A964","v":0},null,{"$f":"C964","v":0},null,{"$f":"E964","v":0},null,9781681515755,null,9781681515373,null,"Dragonflies",null,null,null,"Spot Creepy Crawlies",null,null,null,"Amicus",null,42.85,null,20.95,null,25.95,null,0,null,null,null,null,null,0,0,0,0,0,0,0,0,0,0,0,0,0,0,0,"Spring 2019",null,2019,null,"595.7/33",null,null,null,20,null,29.95,null,"Spot",null,0.9,null,"Animals & Nature",null,"English",null,"Reinforced Library",null,16,null,"C",null,"270L",null,"PreK - 3",null,"Nessa Black"]
[{"$f":"A964","v":0},null,{"$f":"C964","v":0},null,{"$f":"E964","v":0},null,9781681511986,null,9781681511085,null,"Flies",null,null,null,"Spot Creepy Crawlies",null,null,null,"Amicus",null,42.85,null,20.95,null,25.95,null,0,null,null,null,null,null,0,0,0,0,0,0,0,0,0,0,0,0,0,0,0,"Fall 2017",null,2018,null,595.77,null,null,null,20,null,29.95,null,"Spot",null,0.8,null,"Animals & Nature",null,"English",null,"Reinforced Library",null,16,null,"C",null,"260L",null,"PreK - 3",null,"Nessa Black"]
[{"$f":"A964","v":0},null,{"$f":"C964","v":0},null,{"$f":"E964","v":0},null,9781681511993,null,9781681511092,null,"Ladybugs",null,null,null,"Spot Creepy Crawlies",null,null,null,"Amicus",null,42.85,null,20.95,null,25.95,null,0,null,null,null,null,null,0,0,0,0,0,0,0,0,0,0,0,0,0,0,0,"Fall 2017",null,2018,null,"595.76/9",null,null,null,20,null,29.95,null,"Spot",null,0.9,null,"Animals & Nature",null,"English",null,"Reinforced Library",null,16,null,"C",null,"290L",null,"PreK - 3",null,"Nessa Black"]
[{"$f":"A964","v":0},null,{"$f":"C964","v":0},null,{"$f":"E964","v":0},null,9781681515762,null,9781681515380,null,"Moths",null,null,null,"Spot Creepy Crawlies",null,null,null,"Amicus",null,42.85,null,20.95,null,25.95,null,0,null,null,null,null,null,0,0,0,0,0,0,0,0,0,0,0,0,0,0,0,"Spring 2019",null,2019,null,595.78,null,null,null,20,null,29.95,null,"Spot",null,0.9,null,"Animals & Nature",null,"English",null,"Reinforced Library",null,16,null,"C",null,"240L",null,"PreK - 3",null,"Nessa Black"]
[{"$f":"A964","v":0},null,{"$f":"C964","v":0},null,{"$f":"E964","v":0},null,9781681515779,null,9781681515397,null,"Scorpions",null,null,null,"Spot Creepy Crawlies",null,null,null,"Amicus",null,42.85,null,20.95,null,25.95,null,0,null,null,null,null,null,0,0,0,0,0,0,0,0,0,0,0,0,0,0,0,"Spring 2019",null,2019,null,"595.4/6",null,null,null,20,null,29.95,null,"Spot",null,0.9,null,"Animals & Nature",null,"English",null,"Reinforced Library",null,16,null,"C",null,"260L",null,"PreK - 3",null,"Nessa Black"]
[{"$f":"A964","v":0},null,{"$f":"C964","v":0},null,{"$f":"E964","v":0},null,9781681512006,null,9781681511108,null,"Spiders",null,null,null,"Spot Creepy Crawlies",null,null,null,"Amicus",null,42.85,null,20.95,null,25.95,null,0,null,null,null,null,null,0,0,0,0,0,0,0,0,0,0,0,0,0,0,0,"Fall 2017",null,2018,null,"595.4/4",null,null,null,20,null,29.95,null,"Spot",null,0.9,null,"Animals & Nature",null,"English",null,"Reinforced Library",null,16,null,"C",null,"260L",null,"PreK - 3",null,"Nessa Black"]
[{"$f":"A964","v":0},null,{"$f":"C964","v":0},null,{"$f":"E964","v":0},null,9781681515786,null,9781681515403,null,"Walking Sticks",null,null,null,"Spot Creepy Crawlies",null,null,null,"Amicus",null,42.85,null,20.95,null,25.95,null,0,null,null,null,null,null,0,0,0,0,0,0,0,0,0,0,0,0,0,0,0,"Spring 2019",null,2019,null,"595.7/29",null,null,null,20,null,29.95,null,"Spot",null,0.7,null,"Animals & Nature",null,"English",null,"Reinforced Library",null,16,null,"C",null,"240L",null,"PreK - 3",null,"Nessa Black"]
[{"$f":"A964","v":0},null,{"$f":"C964","v":0},null,{"$f":"E964","v":0},null,9781681515793,null,9781681515410,null,"Wasps",null,null,null,"Spot Creepy Crawlies",null,null,null,"Amicus",null,42.85,null,20.95,null,25.95,null,0,null,null,null,null,null,0,0,0,0,0,0,0,0,0,0,0,0,0,0,0,"Spring 2019",null,2019,null,595.79,null,null,null,20,null,29.95,null,"Spot",null,0.9,null,"Animals & Nature",null,"English",null,"Reinforced Library",null,16,null,"C",null,"270L",null,"PreK - 3",null,"Nessa Black"]
[{"$f":"A964","v":0},null,{"$f":"C964","v":0},null,{"$f":"E964","v":0},null,9781681512013,null,9781681511115,null,"Worms",null,null,null,"Spot Creepy Crawlies",null,null,null,"Amicus",null,42.85,null,20.95,null,25.95,null,0,null,null,null,null,null,0,0,0,0,0,0,0,0,0,0,0,0,0,0,0,"Fall 2017",null,2018,null,"592/.3",null,null,null,20,null,29.95,null,"Spot",null,0.8,null,"Animals & Nature",null,"English",null,"Reinforced Library",null,16,null,"C",null,"230L",null,"PreK - 3",null,"Nessa Black"]
[]
[null,null,null,null,null,null,null,null,null,null,"Complete Series of 6",null,null,null,"Spot Extreme Weather",null,null,null,null,null,{"$f":"SUM(U981:U986)","v":257.10000000000002},null,{"$f":"SUM(W981:W986)","v":125.7},null,{"$f":"SUM(Y981:Y986)","v":155.69999999999999}]
[{"$f":"A980","v":0},null,{"$f":"C980","v":0},null,{"$f":"E980","v":0},null,9781645490265,null,9781681519418,null,"Blizzards",null,null,null,"Spot Extreme Weather",null,null,null,"Amicus",null,42.85,null,20.95,null,{"$f":"W981+5","v":25.95},null,{"$f":"IF(AC981=FALSE,AT981,0)","v":0},null,null,null,null,null,{"$f":"IF(AND(A981>=1,AC981=\"\"),A981,0)","v":0},{"$f":"IF(AND(A981>=1,AC981=\"x\"),A981,0)","v":0},{"$f":"IF(AND(A981>=1,AC981=\"\"),U981,0)","v":0},{"$f":"IF(AND(A981>=1,AC981=\"x\"),-U981,0)","v":0},{"$f":"IF(AND(C981>=1,AC981=\"\"),C981,0)","v":0},{"$f":"IF(AND(C981>=1,AC981=\"x\"),C981,0)","v":0},{"$f":"IF(AND(C981>=1,AC981=\"\"),W981*C981,0)","v":0},{"$f":"IF(AND(C981>=1,AC981=\"x\"),-W981*C981,0)","v":0},{"$f":"E981","v":0},{"$f":"Y981*E981","v":0},{"$f":"AG981+AK981+AO981","v":0},{"$f":"AH981+AL981","v":0},{"$f":"AQ981+AR981","v":0},{"$f":"AI981+AM981+AP981","v":0},{"$f":"AJ981+AN981","v":0},"Spring 2021",null,2021,null,"551.55/5",null,"SLJ",null,21,null,29.95,null,"Spot",null,0.9,null,"Science & Technology",null,"English",null,"Reinforced Library",null,16,null,"D",null,null,null,"K & Up",null,"Anastasia Suen"]
[{"$f":"A980","v":0},null,{"$f":"C980","v":0},null,{"$f":"E980","v":0},null,9781645490272,null,9781681519425,null,"Earthquakes",null,null,null,"Spot Extreme Weather",null,null,null,"Amicus",null,42.85,null,20.95,null,25.95,null,0,null,null,null,null,null,0,0,0,0,0,0,0,0,0,0,0,0,0,0,0,"Spring 2021",null,2021,null,551.22,null,"SLJ",null,21,null,29.95,null,"Spot",null,0.9,null,"Science & Technology",null,"English",null,"Reinforced Library",null,16,null,"D",null,null,null,"K & Up",null,"Anastasia Suen"]
[{"$f":"A980","v":0},null,{"$f":"C980","v":0},null,{"$f":"E980","v":0},null,9781645490289,null,9781681519432,null,"Floods",null,null,null,"Spot Extreme Weather",null,null,null,"Amicus",null,42.85,null,20.95,null,25.95,null,0,null,null,null,null,null,0,0,0,0,0,0,0,0,0,0,0,0,0,0,0,"Spring 2021",null,2021,null,"551.48/9",null,"SLJ",null,21,null,29.95,null,"Spot",null,0.8,null,"Science & Technology",null,"English",null,"Reinforced Library",null,16,null,"D",null,null,null,"K & Up",null,"Anastasia Suen"]
[{"$f":"A980","v":0},null,{"$f":"C980","v":0},null,{"$f":"E980","v":0},null,9781645490296,null,9781681519449,null,"Hurricanes",null,null,null,"Spot Extreme Weather",null,null,null,"Amicus",null,42.85,null,20.95,null,25.95,null,0,null,null,null,null,null,0,0,0,0,0,0,0,0,0,0,0,0,0,0,0,"Spring 2021",null,2021,null,"551.55/2",null,"SLJ",null,21,null,29.95,null,"Spot",null,1,null,"Science & Technology",null,"English",null,"Reinforced Library",null,16,null,"D",null,null,null,"K & Up",null,"Anastasia Suen"]
[{"$f":"A980","v":0},null,{"$f":"C980","v":0},null,{"$f":"E980","v":0},null,9781645490302,null,9781681519456,null,"Tornadoes",null,null,null,"Spot Extreme Weather",null,null,null,"Amicus",null,42.85,null,20.95,null,25.95,null,0,null,null,null,null,null,0,0,0,0,0,0,0,0,0,0,0,0,0,0,0,"Spring 2021",null,2021,null,"551.55/3",null,"SLJ",null,21,null,29.95,null,"Spot",null,0.9,null,"Science & Technology",null,"English",null,"Reinforced Library",null,16,null,"D",null,null,null,"K & Up",null,"Anastasia Suen"]
[{"$f":"A980","v":0},null,{"$f":"C980","v":0},null,{"$f":"E980","v":0},null,9781645490319,null,9781681519463,null,"Wildfires",null,null,null,"Spot Extreme Weather",null,null,null,"Amicus",null,42.85,null,20.95,null,25.95,null,0,null,null,null,null,null,0,0,0,0,0,0,0,0,0,0,0,0,0,0,0,"Spring 2021",null,2021,null,"634.9/618",null,"SLJ",null,21,null,29.95,null,"Spot",null,0.9,null,"Science & Technology",null,"English",null,"Reinforced Library",null,16,null,"D",null,null,null,"K & Up",null,"Anastasia Suen"]
[]
[null,null,null,null,null,null,null,null,null,null,"Complete Series of 12",null,null,null,"Spot Holidays",null,null,null,null,null,{"$f":"SUM(U989:U1000)","v":514.20000000000016},null,{"$f":"SUM(W989:W1000)","v":251.39999999999995},null,{"$f":"SUM(Y989:Y1000)","v":311.39999999999992}]
[{"$f":"A988","v":0},null,{"$f":"C988","v":0},null,{"$f":"E988","v":0},null,9781681518411,null,9781681518015,null,"Christmas",null,null,null,"Spot Holidays",null,null,null,"Amicus",null,42.85,null,20.95,null,{"$f":"W989+5","v":25.95},null,{"$f":"IF(AC989=FALSE,AT989,0)","v":0},null,null,null,null,null,{"$f":"IF(AND(A989>=1,AC989=\"\"),A989,0)","v":0},{"$f":"IF(AND(A989>=1,AC989=\"x\"),A989,0)","v":0},{"$f":"IF(AND(A989>=1,AC989=\"\"),U989,0)","v":0},{"$f":"IF(AND(A989>=1,AC989=\"x\"),-U989,0)","v":0},{"$f":"IF(AND(C989>=1,AC989=\"\"),C989,0)","v":0},{"$f":"IF(AND(C989>=1,AC989=\"x\"),C989,0)","v":0},{"$f":"IF(AND(C989>=1,AC989=\"\"),W989*C989,0)","v":0},{"$f":"IF(AND(C989>=1,AC989=\"x\"),-W989*C989,0)","v":0},{"$f":"E989","v":0},{"$f":"Y989*E989","v":0},{"$f":"AG989+AK989+AO989","v":0},{"$f":"AH989+AL989","v":0},{"$f":"AQ989+AR989","v":0},{"$f":"AI989+AM989+AP989","v":0},{"$f":"AJ989+AN989","v":0},"Spring 2020",null,2020,null,394.2663,null,null,null,21,null,29.95,null,"Spot",null,1,null,"Social Studies",null,"English",null,"Reinforced Library",null,16,null,"E",null,null,null,"PreK - 3",null,"Mari Schuh "]
[{"$f":"A988","v":0},null,{"$f":"C988","v":0},null,{"$f":"E988","v":0},null,9781681518428,null,9781681518022,null,"Diwali",null,null,null,"Spot Holidays",null,null,null,"Amicus",null,42.85,null,20.95,null,25.95,null,0,null,null,null,null,null,0,0,0,0,0,0,0,0,0,0,0,0,0,0,0,"Spring 2020",null,2020,null,"294.5/36",null,null,null,21,null,29.95,null,"Spot",null,1,null,"Social Studies",null,"English",null,"Reinforced Library",null,16,null,"E",null,null,null,"PreK - 3",null,"Mari Schuh "]
[{"$f":"A988","v":0},null,{"$f":"C988","v":0},null,{"$f":"E988","v":0},null,9781681518435,null,9781681518039,null,"Easter",null,null,null,"Spot Holidays",null,null,null,"Amicus",null,42.85,null,20.95,null,25.95,null,0,null,null,null,null,null,0,0,0,0,0,0,0,0,0,0,0,0,0,0,0,"Spring 2020",null,2020,null,394.26670000000001,null,null,null,21,null,29.95,null,"Spot",null,0.9,null,"Social Studies",null,"English",null,"Reinforced Library",null,16,null,"E",null,null,null,"PreK - 3",null,"Mari Schuh "]
[{"$f":"A988","v":0},null,{"$f":"C988","v":0},null,{"$f":"E988","v":0},null,9781645491446,null,9781645491026,null,"Halloween",null,null,null,"Spot Holidays",null,null,null,"Amicus",null,42.85,null,20.95,null,25.95,null,0,null,null,null,null,null,0,0,0,0,0,0,0,0,0,0,0,0,0,0,0,"Spring 2022",null,2022,null,394.26459999999997,null,null,null,18,null,29.95,null,"Spot",null,null,null,"Social Studies",null,"English",null,"Reinforced Library",null,16,null,"E",null,null,null,"PreK - 3",null,"Mari Schuh "]
[{"$f":"A988","v":0},null,{"$f":"C988","v":0},null,{"$f":"E988","v":0},null,9781681518442,null,9781681518046,null,"Hanukkah",null,null,null,"Spot Holidays",null,null,null,"Amicus",null,42.85,null,20.95,null,25.95,null,0,null,null,null,null,null,0,0,0,0,0,0,0,0,0,0,0,0,0,0,0,"Spring 2020",null,2020,null,394.267,null,null,null,21,null,29.95,null,"Spot",null,1,null,"Social Studies",null,"English",null,"Reinforced Library",null,16,null,"E",null,null,null,"PreK - 3",null,"Mari Schuh "]
[{"$f":"A988","v":0},null,{"$f":"C988","v":0},null,{"$f":"E988","v":0},null,9781645491453,null,9781645491033,null,"Independence Day",null,null,null,"Spot Holidays",null,null,null,"Amicus",null,42.85,null,20.95,null,25.95,null,0,null,null,null,null,null,0,0,0,0,0,0,0,0,0,0,0,0,0,0,0,"Spring 2022",null,2022,null,394.26339999999999,null,null,null,18,null,29.95,null,"Spot",null,null,null,"Social Studies",null,"English",null,"Reinforced Library",null,16,null,"E",null,null,null,"PreK - 3",null,"Mari Schuh "]
[{"$f":"A988","v":0},null,{"$f":"C988","v":0},null,{"$f":"E988","v":0},null,9781681518459,null,9781681518053,null,"Kwanzaa",null,null,null,"Spot Holidays",null,null,null,"Amicus",null,42.85,null,20.95,null,25.95,null,0,null,null,null,null,null,0,0,0,0,0,0,0,0,0,0,0,0,0,0,0,"Spring 2020",null,2020,null,394.26119999999997,null,null,null,21,null,29.95,null,"Spot",null,0.9,null,"Social Studies",null,"English",null,"Reinforced Library",null,16,null,"E",null,null,null,"PreK - 3",null,"Mari Schuh "]
[{"$f":"A988","v":0},null,{"$f":"C988","v":0},null,{"$f":"E988","v":0},null,9781645491460,null,9781645491040,null,"Presidents' Day",null,null,null,"Spot Holidays",null,null,null,"Amicus",null,42.85,null,20.95,null,25.95,null,0,null,null,null,null,null,0,0,0,0,0,0,0,0,0,0,0,0,0,0,0,"Spring 2022",null,2022,null,394.26100000000002,null,null,null,18,null,29.95,null,"Spot",null,null,null,"Social Studies",null,"English",null,"Reinforced Library",null,16,null,"E",null,null,null,"PreK - 3",null,"Mari Schuh "]
[{"$f":"A988","v":0},null,{"$f":"C988","v":0},null,{"$f":"E988","v":0},null,9781681518466,null,9781681518060,null,"Ramadan",null,null,null,"Spot Holidays",null,null,null,"Amicus",null,42.85,null,20.95,null,25.95,null,0,null,null,null,null,null,0,0,0,0,0,0,0,0,0,0,0,0,0,0,0,"Spring 2020",null,2020,null,"297.3/62",null,null,null,21,null,29.95,null,"Spot",null,1,null,"Social Studies",null,"English",null,"Reinforced Library",null,16,null,"E",null,null,null,"PreK - 3",null,"Mari Schuh "]
[{"$f":"A988","v":0},null,{"$f":"C988","v":0},null,{"$f":"E988","v":0},null,9781645491477,null,9781645491057,null,"Thanksgiving",null,null,null,"Spot Holidays",null,null,null,"Amicus",null,42.85,null,20.95,null,25.95,null,0,null,null,null,null,null,0,0,0,0,0,0,0,0,0,0,0,0,0,0,0,"Spring 2022",null,2022,null,394.26490000000001,null,null,null,18,null,29.95,null,"Spot",null,null,null,"Social Studies",null,"English",null,"Reinforced Library",null,16,null,"E",null,null,null,"PreK - 3",null,"Mari Schuh "]
[{"$f":"A988","v":0},null,{"$f":"C988","v":0},null,{"$f":"E988","v":0},null,9781645491484,null,9781645491064,null,"Valentine's Day",null,null,null,"Spot Holidays",null,null,null,"Amicus",null,42.85,null,20.95,null,25.95,null,0,null,null,null,null,null,0,0,0,0,0,0,0,0,0,0,0,0,0,0,0,"Spring 2022",null,2022,null,394.26179999999999,null,null,null,18,null,29.95,null,"Spot",null,null,null,"Social Studies",null,"English",null,"Reinforced Library",null,16,null,"E",null,null,null,"PreK - 3",null,"Mari Schuh "]
[{"$f":"A988","v":0},null,{"$f":"C988","v":0},null,{"$f":"E988","v":0},null,9781645491491,null,9781645491071,null,"Veterans Day",null,null,null,"Spot Holidays",null,null,null,"Amicus",null,42.85,null,20.95,null,25.95,null,0,null,null,null,null,null,{"$f":"IF(AND(A1000>=1,AC1000=\"\"),A1000,0)","v":0},{"$f":"IF(AND(A1000>=1,AC1000=\"x\"),A1000,0)","v":0},{"$f":"IF(AND(A1000>=1,AC1000=\"\"),U1000,0)","v":0},{"$f":"IF(AND(A1000>=1,AC1000=\"x\"),-U1000,0)","v":0},0,0,0,0,{"$f":"E1000","v":0},{"$f":"Y1000*E1000","v":0},0,0,0,0,0,"Spring 2022",null,2022,null,394.26400000000001,null,null,null,18,null,29.95,null,"Spot",null,null,null,"Social Studies",null,"English",null,"Reinforced Library",null,16,null,"E",null,null,null,"PreK - 3",null,"Mari Schuh "]
[{"$f":"A1002","v":0},null,{"$f":"C1002","v":0},null,{"$f":"E1002","v":0},null,9781681514598,null,9781681513775,null,"Tow Trucks",null,null,null,"Spot Mighty Machines",null,null,null,"Amicus",null,42.85,null,20.95,null,25.95,null,0,null,null,null,null,null,0,0,0,0,0,0,0,0,0,0,0,0,0,0,0,"Fall 2018",null,2019,null,629.22500000000002,null,null,null,21,null,29.95,null,"Spot",null,0.8,null,"Science & Technology",null,"English",null,"Reinforced Library",null,16,null,"D",null,"300L",null,"PreK - 3",null,"Wendy Strobel Dieker"]
[{"$f":"A1022","v":0},null,{"$f":"C1022","v":0},null,{"$f":"E1022","v":0},null,9781681517155,null,9781681516332,null,"Stingrays",null,null,null,"Spot Ocean Animals",null,null,null,"Amicus",null,42.85,null,20.95,null,25.95,null,0,null,null,null,null,null,0,0,0,0,0,0,0,0,0,0,0,0,0,0,0,"Fall 2019",null,2020,null,"597.3/5",null,"BL",null,20,null,29.95,null,"Spot",null,0.9,null,"Animals & Nature",null,"English",null,"Reinforced Library",null,16,null,"C",null,"340L",null,"PreK - 3",null,"Mari Schuh"]
[{"$f":"A1052","v":0},null,{"$f":"C1052","v":0},null,{"$f":"E1052","v":0},null,9781681514468,null,9781681513645,null,"Birds",null,null,null,"Spot Pets",null,null,null,"Amicus",null,42.85,null,20.95,null,{"$f":"W1053+5","v":25.95},null,{"$f":"IF(AC1053=FALSE,AT1053,0)","v":0},null,null,null,null,null,{"$f":"IF(AND(A1053>=1,AC1053=\"\"),A1053,0)","v":0},{"$f":"IF(AND(A1053>=1,AC1053=\"x\"),A1053,0)","v":0},{"$f":"IF(AND(A1053>=1,AC1053=\"\"),U1053,0)","v":0},{"$f":"IF(AND(A1053>=1,AC1053=\"x\"),-U1053,0)","v":0},{"$f":"IF(AND(C1053>=1,AC1053=\"\"),C1053,0)","v":0},{"$f":"IF(AND(C1053>=1,AC1053=\"x\"),C1053,0)","v":0},{"$f":"IF(AND(C1053>=1,AC1053=\"\"),W1053*C1053,0)","v":0},{"$f":"IF(AND(C1053>=1,AC1053=\"x\"),-W1053*C1053,0)","v":0},{"$f":"E1053","v":0},{"$f":"Y1053*E1053","v":0},{"$f":"AG1053+AK1053+AO1053","v":0},{"$f":"AH1053+AL1053","v":0},{"$f":"AQ1053+AR1053","v":0},{"$f":"AI1053+AM1053+AP1053","v":0},{"$f":"AJ1053+AN1053","v":0},"Fall 2018",null,2019,null,"636.6/8",null,null,null,20,null,29.95,null,"Spot",null,0.9,null,"Animals & Nature",null,"English",null,"Reinforced Library",null,16,null,"C",null,"260L",null,"PreK - 3",null,"Mari Schuh"]
[{"$f":"A1068","v":0},null,{"$f":"C1068","v":0},null,{"$f":"E1068","v":0},null,9781645490197,null,9781681519340,null,"Cheerleading",null,null,null,"Spot Sports",null,null,null,"Amicus",null,42.85,null,20.95,null,25.95,null,0,null,null,null,null,null,0,0,0,0,0,0,0,0,0,0,0,0,0,0,0,"Spring 2021",null,2021,null,"791.6/4",null,"BL",null,22,null,29.95,null,"Spot",null,1,null,"Sports & Recreation",null,"English",null,"Reinforced Library",null,16,null,"D",null,null,null,"PreK - 3",null,"Mari Schuh"]
[{"$f":"A1068","v":0},null,{"$f":"C1068","v":0},null,{"$f":"E1068","v":0},null,9781645490258,null,9781681519401,null,"Track and Field",null,null,null,"Spot Sports",null,null,null,"Amicus",null,42.85,null,20.95,null,25.95,null,0,null,null,null,null,null,0,0,0,0,0,0,0,0,0,0,0,0,0,0,0,"Spring 2021",null,2021,null,796.42,null,"BL",null,22,null,29.95,null,"Spot",null,0.9,null,"Sports & Recreation",null,"English",null,"Reinforced Library",null,16,null,"D",null,null,null,"PreK - 3",null,"Mari Schuh"]
[null,null,null,null,null,null,null,null,null,null,"Complete Series of 6",null,null,null,"Vowels",null,null,null,null,null,{"$f":"SUM(U1124:U1129)","v":0},null,{"$f":"SUM(W1124:W1129)","v":125.7},null,{"$f":"SUM(Y1124:Y1129)","v":0}]
[null,null,{"$f":"C1141","v":0},null,null,null,"Not Available",null,9781607531838,null,"Ant?, An",null,null,null,"What's It Like to Be…?",null,null,null,"Amicus",null,0,null,23.95,null,0,null,{"$f":"IF(AC1142=FALSE,AT1142,0)","v":0},null,null,null,null,null,{"$f":"IF(AND(A1142>=1,AC1142=\"\"),A1142,0)","v":0},{"$f":"IF(AND(A1142>=1,AC1142=\"x\"),A1142,0)","v":0},{"$f":"IF(AND(A1142>=1,AC1142=\"\"),U1142,0)","v":0},{"$f":"IF(AND(A1142>=1,AC1142=\"x\"),-U1142,0)","v":0},{"$f":"IF(AND(C1142>=1,AC1142=\"\"),C1142,0)","v":0},{"$f":"IF(AND(C1142>=1,AC1142=\"x\"),C1142,0)","v":0},{"$f":"IF(AND(C1142>=1,AC1142=\"\"),W1142*C1142,0)","v":0},{"$f":"IF(AND(C1142>=1,AC1142=\"x\"),-W1142*C1142,0)","v":0},{"$f":"E1142","v":0},{"$f":"Y1142*E1142","v":0},{"$f":"AG1142+AK1142+AO1142","v":0},{"$f":"AH1142+AL1142","v":0},{"$f":"AQ1142+AR1142","v":0},{"$f":"AI1142+AM1142+AP1142","v":0},{"$f":"AJ1142+AN1142","v":0},"Fall 2011",null,2012,null,"595.79/6",null,null,null,"Website",null,34.25,null,"Amicus Illustrated",null,null,null,"Animals & Nature",null,"English",null,"Reinforced Library",null,24,null,null,null,null,null,"1 - 4",null,"Jinny Johnson"]
[{"$f":"A1149","v":0},null,{"$f":"C1149","v":0},null,{"$f":"E1149","v":0},null,9781681514819,null,9781681513997,null,"I'll Be a Teacher",null,null,null,"When I Grow Up",null,null,null,"Amicus",null,49,null,23.95,null,{"$f":"W1157+5","v":28.95},null,0,null,null,null,null,null,0,0,0,0,0,0,0,0,0,0,0,0,0,0,0,"Fall 2018",null,2019,null,371.10023000000001,null,null,null,42,null,34.25,null,"Amicus Illustrated",null,2.2999999999999998,null,"Careers",null,"English",null,"Reinforced Library",null,24,null,"I",null,"530L",null,"K - 3",null,"Connie Colwell Miller"]
[null,null,null,null,null,null,null,null,null,null,"Complete Series of 6",null,null,null,"Who Made My Stuff?",null,null,null,null,null,{"$f":"SUM(U1177:U1182)","v":294},null,{"$f":"SUM(W1177:W1182)","v":143.69999999999999},null,{"$f":"SUM(Y1177:Y1182)","v":173.7}]
[]
[{"$f":"A1222","v":0},null,{"$f":"C1222","v":0},null,{"$f":"E1222","v":0},null,9781944997328,null,9781944102678,null,"Grover Cleveland",null,null,null,"A First Look at America’s Presidents",null,null,null,"Bearport Publishing",null,41.36,null,18.95,null,23.95,null,0,null,null,null,null,null,0,0,0,0,0,0,0,0,0,0,0,0,0,0,0,"Fall 2016",null,2017,null,"973.8'5092",null,null,null,"Website",null,26.99,null,"Bearport Books",null,4.0999999999999996,null,"Social Studies",null,"English",null,"Reinforced Library",null,24,null,"N",null,690,null,"K - 3",null,"K.C. Kelley"]
[{"$f":"A1241","v":0},null,{"$f":"C1241","v":0},null,{"$f":"E1241","v":0},null,"9781636910215",null,9781636910079,null,"Mountain Attack: A Yeti Encounter",null,null,null,"A Stranger World",null,null,null,"Bearport Publishing",null,42.79,null,19.95,null,24.95,null,0,null,null,null,null,null,0,0,0,0,0,0,0,0,0,0,0,0,0,0,0,"Fall 2021",null,2022,null,1.9440954960000001,null,null,null,39,null,28.5,null,"Bear Claw Books",null,3.8,null,"Legends, Myths, & Paranormal",null,"English",null,"Reinforced Library",null,24,null,"",null,530,null,"3 - 6",null,"Anita Croy"]
[{"$f":"A1257","v":0},null,{"$f":"C1257","v":0},null,{"$f":"E1257","v":0},null,9781627246088,null,9781627245234,null,"Salton Sea Resort",null,null,null,"Abandoned: Towns Without People",null,null,null,"Bearport Publishing",null,42.79,null,19.95,null,{"$f":"W1261+5","v":24.95},null,{"$f":"IF(AC1261=FALSE,AT1261,0)","v":0},null,null,null,null,null,{"$f":"IF(AND(A1261>=1,AC1261=\"\"),A1261,0)","v":0},{"$f":"IF(AND(A1261>=1,AC1261=\"x\"),A1261,0)","v":0},{"$f":"IF(AND(A1261>=1,AC1261=\"\"),U1261,0)","v":0},{"$f":"IF(AND(A1261>=1,AC1261=\"x\"),-U1261,0)","v":0},0,0,0,0,{"$f":"E1261","v":0},{"$f":"Y1261*E1261","v":0},{"$f":"AG1261+AK1261+AO1261","v":0},{"$f":"AH1261+AL1261","v":0},{"$f":"AQ1261+AR1261","v":0},{"$f":"AI1261+AM1261+AP1261","v":0},{"$f":"AJ1261+AN1261","v":0},"Spring 2015",null,2015,null,"979.4'99",null,null,null,"Website",null,28.5,null,"Bearport Books",null,5.2,null,"Legends, Myths, & Paranormal",null,"English",null,"Reinforced Library",null,32,null,"Q",null,900,null,null,null,"Kevin Blake"]
[{"$f":"A1275","v":0},null,{"$f":"C1275","v":0},null,{"$f":"E1275","v":0},null,9781684027286,null,9781684026821,null,"Blake Shelton",null,null,null,"Amazing Americans: Country Music Stars",null,null,null,"Bearport Publishing",null,41.36,null,18.95,null,{"$f":"W1276+5","v":23.95},null,{"$f":"IF(AC1276=FALSE,AT1276,0)","v":0},null,null,null,null,null,{"$f":"IF(AND(A1276>=1,AC1276=\"\"),A1276,0)","v":0},{"$f":"IF(AND(A1276>=1,AC1276=\"x\"),A1276,0)","v":0},{"$f":"IF(AND(A1276>=1,AC1276=\"\"),U1276,0)","v":0},{"$f":"IF(AND(A1276>=1,AC1276=\"x\"),-U1276,0)","v":0},{"$f":"IF(AND(C1276>=1,AC1276=\"\"),C1276,0)","v":0},{"$f":"IF(AND(C1276>=1,AC1276=\"x\"),C1276,0)","v":0},{"$f":"IF(AND(C1276>=1,AC1276=\"\"),W1276*C1276,0)","v":0},{"$f":"IF(AND(C1276>=1,AC1276=\"x\"),-W1276*C1276,0)","v":0},{"$f":"E1276","v":0},{"$f":"Y1276*E1276","v":0},{"$f":"AG1276+AK1276+AO1276","v":0},{"$f":"AH1276+AL1276","v":0},{"$f":"AQ1276+AR1276","v":0},{"$f":"AI1276+AM1276+AP1276","v":0},{"$f":"AJ1276+AN1276","v":0},"Fall 2018",null,2019,null,782.42164209199996,null,null,null,66,null,26.99,null,"Bearcub Books",null,3.8,null,"Biography",null,"English",null,"Reinforced Library",null,24,null,"O",null,620,null,"PreK - 3",null,"Jim Gigliotti"]
[{"$f":"A1292","v":0},null,{"$f":"C1292","v":0},null,{"$f":"E1292","v":0},null,9781684027248,null,9781684026784,null,"Beyoncé",null,null,null,"Amazing Americans: Pop Music Stars",null,null,null,"Bearport Publishing",null,41.36,null,18.95,null,23.95,null,0,null,null,null,null,null,0,0,0,0,0,0,0,0,0,0,0,0,0,0,0,"Fall 2018",null,2019,null,782.42164091999996,null,null,null,66,null,26.99,null,"Bearcub Books",null,3.8,null,"Biography",null,"English",null,"Reinforced Library",null,24,null,"O",null,760,null,"PreK - 3",null,"E. Merwin"]
[{"$f":"A1327","v":0},null,{"$f":"C1327","v":0},null,{"$f":"E1327","v":0},null,9781684025404,null,9781684024827,null,"Historic and Lively",null,null,null,"American Place Puzzlers",null,null,null,"Bearport Publishing",null,41.36,null,18.95,null,23.95,null,0,null,null,null,null,null,0,0,0,0,0,0,0,0,0,0,0,0,0,0,0,"Spring 2018",null,2018,null,"975.5'4252",null,null,null,71,null,26.99,null,"Bearport Books",null,1.1000000000000001,null,"High Interest",null,"English",null,"Reinforced Library",null,24,null,"E",null,300,null,"PreK - 3",null,"Joyce Markovics"]
[{"$f":"A1347","v":0},null,{"$f":"C1347","v":0},null,{"$f":"E1347","v":0},null,9781936088409,null,9781936087389,null,"Little Newts",null,null,null,"Amphibiana",null,null,null,"Bearport Publishing",null,41.36,null,18.95,null,23.95,null,0,null,null,null,null,null,0,0,0,0,0,0,0,0,0,0,0,0,0,0,0,"Spring 2010",null,2010,null,"597.8'5",null,null,null,"Website",null,26.99,null,"Bearport Books",null,5.0999999999999996,null,"Animals & Nature",null,"English",null,"Reinforced Library",null,24,null,"N",null,660,null,null,null,"Meish Goldish"]
[{"$f":"A1363","v":0},null,{"$f":"C1363","v":0},null,{"$f":"E1363","v":0},null,9781647474850,null,9781647474690,null,"Baby Hippos",null,null,null,"Animal Babies Set 2",null,null,null,"Bearport Publishing",null,41.36,null,18.95,null,23.95,null,0,null,null,null,null,null,0,0,0,0,0,0,0,0,0,0,0,0,0,0,0,"Spring 2021",null,2021,null,"599.63'51392",null,null,null,"2022-10-11",null,26.99,null,"Bearcub Books",null,1.5,null,"Animals & Nature",null,"English",null,"Reinforced Library",null,24,null,"H",null,410,null,"Grade K - 1",null,"Jenna Grodzicki"]
[{"$f":"A1379","v":0},null,{"$f":"C1379","v":0},null,{"$f":"E1379","v":0},null,9798885090223,null,9798885090155,null,"Cooking with Chef Hedgehog",null,null,null,"Animal Chefs",null,null,null,"Bearport Publishing",null,28.95,null,18.95,null,{"$f":"W1380+5","v":23.95},null,{"$f":"IF(AC1380=FALSE,AT1380,0)","v":0},null,null,null,null,null,{"$f":"IF(AND(A1380>=1,AC1380=\"\"),A1380,0)","v":0},{"$f":"IF(AND(A1380>=1,AC1380=\"x\"),A1380,0)","v":0},{"$f":"IF(AND(A1380>=1,AC1380=\"\"),U1380,0)","v":0},{"$f":"IF(AND(A1380>=1,AC1380=\"x\"),-U1380,0)","v":0},{"$f":"IF(AND(C1380>=1,AC1380=\"\"),C1380,0)","v":0},{"$f":"IF(AND(C1380>=1,AC1380=\"x\"),C1380,0)","v":0},{"$f":"IF(AND(C1380>=1,AC1380=\"\"),W1380*C1380,0)","v":0},{"$f":"IF(AND(C1380>=1,AC1380=\"x\"),-W1380*C1380,0)","v":0},{"$f":"E1380","v":0},{"$f":"Y1380*E1380","v":0},{"$f":"AG1380+AK1380+AO1380","v":0},{"$f":"AH1380+AL1380","v":0},{"$f":"AQ1380+AR1380","v":0},{"$f":"AI1380+AM1380+AP1380","v":0},{"$f":"AJ1380+AN1380","v":0},"Fall 2022",null,2023,null,null,null,null,null,41,null,26.99,null,"Create! Books",null,null,null,"Animals & Nature",null,"English",null,"Reinforced Library",null,24,null,null,null,null,null,null,null,"Sarah Eason"]
[{"$f":"A1415","v":0},null,{"$f":"C1415","v":0},null,{"$f":"E1415","v":0},null,9781617721687,null,9781617721205,null,"See-Through Animals",null,null,null,"Animals with Super Powers",null,null,null,"Bearport Publishing",null,41.36,null,18.95,null,23.95,null,0,null,null,null,null,null,0,0,0,0,0,0,0,0,0,0,0,0,0,0,0,"Spring 2011",null,2011,null,"591.47'2",null,null,null,"Website",null,26.99,null,"Bearport Books",null,5.6,null,"Animals & Nature",null,"English",null,"Reinforced Library",null,24,null,"Q",null,960,null,null,null,"Natalie Lunis"]
[{"$f":"A1433","v":0},null,{"$f":"C1433","v":0},null,{"$f":"E1433","v":0},null,9781627246132,null,9781627245289,null,"Collared Lemming",null,null,null,"Arctic Animals: Life Outside the Igloo",null,null,null,"Bearport Publishing",null,41.36,null,18.95,null,23.95,null,0,null,null,null,null,null,0,0,0,0,0,0,0,0,0,0,0,0,0,0,0,"Spring 2015",null,2015,null,"599.35'82",null,null,null,"Website",null,26.99,null,"Bearport Books",null,4.2,null,"Animals & Nature",null,"English",null,"Reinforced Library",null,24,null,"M",null,570,null,"PreK - 3",null,"Dee Phillips"]
[{"$f":"A1449","v":0},null,{"$f":"C1449","v":0},null,{"$f":"E1449","v":0},null,9781617724848,null,9781617724398,null,"Derrick Rose",null,null,null,"Basketball Heroes Making a Difference",null,null,null,"Bearport Publishing",null,41.36,null,18.95,null,23.95,null,0,null,null,null,null,null,0,0,0,0,0,0,0,0,0,0,0,0,0,0,0,"Spring 2012",null,2012,null,796.32309199999997,null,null,null,"Website",null,26.99,null,"Bearport Books",null,5.8,null,"Sports & Recreation",null,"English",null,"Reinforced Library",null,24,null,"P",null,1010,null,null,null,"Michael Sandler"]
[{"$f":"A1468","v":0},null,{"$f":"C1468","v":0},null,{"$f":"E1468","v":0},null,9781642809985,null,9781642809763,null,"Alexandria Ocasio-Cortez",null,null,null,"Bearcub Bios Set 1",null,null,null,"Bearport Publishing",null,41.36,null,18.95,null,{"$f":"W1469+5","v":23.95},null,{"$f":"IF(AC1469=FALSE,AT1469,0)","v":0},null,null,null,null,null,{"$f":"IF(AND(A1469>=1,AC1469=\"\"),A1469,0)","v":0},{"$f":"IF(AND(A1469>=1,AC1469=\"x\"),A1469,0)","v":0},{"$f":"IF(AND(A1469>=1,AC1469=\"\"),U1469,0)","v":0},{"$f":"IF(AND(A1469>=1,AC1469=\"x\"),-U1469,0)","v":0},{"$f":"IF(AND(C1469>=1,AC1469=\"\"),C1469,0)","v":0},{"$f":"IF(AND(C1469>=1,AC1469=\"x\"),C1469,0)","v":0},{"$f":"IF(AND(C1469>=1,AC1469=\"\"),W1469*C1469,0)","v":0},{"$f":"IF(AND(C1469>=1,AC1469=\"x\"),-W1469*C1469,0)","v":0},{"$f":"E1469","v":0},{"$f":"Y1469*E1469","v":0},{"$f":"AG1469+AK1469+AO1469","v":0},{"$f":"AH1469+AL1469","v":0},{"$f":"AQ1469+AR1469","v":0},{"$f":"AI1469+AM1469+AP1469","v":0},{"$f":"AJ1469+AN1469","v":0},"Fall 2020",null,2021,null,"328.73/092",null,null,null,"2022-12-13",null,26.99,null,"Bearcub Books",null,1.9,null,"Biography",null,"English",null,"Reinforced Library",null,24,null,null,null,null,null,"K - 1",null,"Rachel Rose"]
[{"$f":"A1480","v":0},null,{"$f":"C1480","v":0},null,{"$f":"E1480","v":0},null,"9781647478605",null,9781647478445,null,"Misty Copeland: Groundbreaking Dancer",null,null,null,"Bearcub Bios Set 2",null,null,null,"Bearport Publishing",null,41.36,null,18.95,null,23.95,null,0,null,null,null,null,null,0,0,0,0,0,0,0,0,0,0,0,0,0,0,0,"Fall 2021",null,2022,null,"792.802'8092",null,null,null,"2022-12-13",null,26.99,null,"Bearcub Books",null,2.4,null,"High Interest",null,"English",null,"Reinforced Library",null,24,null,"H",null,450,null,"K - 1",null,"Rachel Rose"]
[{"$f":"A1518","v":0},null,{"$f":"C1518","v":0},null,{"$f":"E1518","v":0},null,9781936088720,null,9781936087938,null,"Peregrine Falcon",null,null,null,"Blink of an Eye: Superfast Animals",null,null,null,"Bearport Publishing",null,41.36,null,18.95,null,23.95,null,0,null,null,null,null,null,0,0,0,0,0,0,0,0,0,0,0,0,0,0,0,"Fall 2010",null,2011,null,"598.9'6",null,null,null,"Website",null,26.99,null,"Bearport Books",null,4.5,null,"Animals & Nature",null,"English",null,"Reinforced Library",null,24,null,"L",null,670,null,"K - 3",null,"Natalie Lunis"]
[{"$f":"A1535","v":0},null,{"$f":"C1535","v":0},null,{"$f":"E1535","v":0},null,9781642802351,null,9781642801668,null,"Murderous Mosquitoes",null,null,null,"Bugged Out! The World’s Most Dangerous Bugs",null,null,null,"Bearport Publishing",null,41.36,null,18.95,null,23.95,null,0,null,null,null,null,null,0,0,0,0,0,0,0,0,0,0,0,0,0,0,0,"Spring 2019",null,2019,null,"614.4'323",null,null,null,59,null,26.99,null,"Bearport Books",null,5.4,null,"Animals & Nature",null,"English",null,"Reinforced Library",null,24,null,"O",null,870,null,null,null,"Meish Goldish"]
[{"$f":"A1551","v":0},null,{"$f":"C1551","v":0},null,{"$f":"E1551","v":0},null,9781617721779,null,9781617721298,null,"Polar Bear",null,null,null,"Built for Cold: Arctic Animals",null,null,null,"Bearport Publishing",null,42.79,null,19.95,null,24.95,null,0,null,null,null,null,null,0,0,0,0,0,0,0,0,0,0,0,0,0,0,0,"Spring 2011",null,2011,null,599.78599999999994,null,null,null,"Website",null,28.5,null,"Bearport Books",null,5.4,null,"Animals & Nature",null,"English",null,"Reinforced Library",null,32,null,"P",null,950,null,null,null,"Stephen Person"]
[{"$f":"A1570","v":0},null,{"$f":"C1570","v":0},null,{"$f":"E1570","v":0},null,9781597164320,null,9781597162661,null,"Great Pyramid, The",null,null,null,"Castles, Palaces & Tombs",null,null,null,"Bearport Publishing",null,42.79,null,19.95,null,24.95,null,0,null,null,null,null,null,0,0,0,0,0,0,0,0,0,0,0,0,0,0,0,"Fall 2006",null,2007,null,932,null,null,null,"Website",null,28.5,null,"Bearport Books",null,4.7,null,"Social Studies",null,"English",null,"Reinforced Library",null,32,null,null,null,750,null,"2 - 7",null,"Jeanette Leardi"]
[{"$f":"A1599","v":0},null,{"$f":"C1599","v":0},null,{"$f":"E1599","v":0},null,9781597164931,null,9781597163590,null,"Triangle Shirtwaist Factory Fire, The",null,null,null,"Code Red",null,null,null,"Bearport Publishing",null,42.79,null,19.95,null,24.95,null,0,null,null,null,null,null,0,0,0,0,0,0,0,0,0,0,0,0,0,0,0,"Spring 2007",null,2007,null,"974.7'041",null,null,null,"Website",null,28.5,null,"Bearport Books",null,4.5999999999999996,null,"High Interest",null,"English",null,"Reinforced Library",null,32,null,null,null,720,null,"2 - 7",null,"Jacqueline Dembar Greene"]
[{"$f":"A1621","v":0},null,{"$f":"C1621","v":0},null,{"$f":"E1621","v":0},null,9781944997021,null,9781944102319,null,"Trapped in the Abandoned Hospital",null,null,null,"Cold Whispers II",null,null,null,"Bearport Publishing",null,42.79,null,19.95,null,24.95,null,0,null,null,null,null,null,0,0,0,0,0,0,0,0,0,0,0,0,0,0,0,"Fall 2016",null,2017,null,"FIC",null,null,null,78,null,28.5,null,"Bearport Books",null,3.9,null,"Legends, Myths, & Paranormal",null,"English",null,"Reinforced Library",null,32,null,"Q",null,570,null,null,null,"Dee Phillips"]
[null,null,null,null,null,null,null,null,null,null,"Complete Series of 7",null,null,null,"Colors Tell a Story",null,null,null,null,null,{"$f":"SUM(U1644:U1650)","v":289.52000000000004},null,{"$f":"SUM(W1644:W1650)","v":132.65},null,{"$f":"SUM(Y1644:Y1650)","v":167.64999999999998}]
[{"$f":"A1652","v":0},null,{"$f":"C1652","v":0},null,{"$f":"E1652","v":0},null,9781684023042,null,9781684022502,null,"Austria",null,null,null,"Countries We Come From",null,null,null,"Bearport Publishing",null,42.79,null,19.95,null,24.95,null,0,null,null,null,null,null,0,0,0,0,0,0,0,0,0,0,0,0,0,0,0,"Fall 2017",null,2018,null,943.6,null,null,null,"68 - 69",null,28.5,null,"Bearport Books",null,3.6,null,"Social Studies",null,"English",null,"Reinforced Library",null,32,null,"J",null,650,null,"K - 3",null,"Rachel Anne Cantor"]
[{"$f":"A1652","v":0},null,{"$f":"C1652","v":0},null,{"$f":"E1652","v":0},null,9781684025299,null,9781684024711,null,"Ethiopia",null,null,null,"Countries We Come From",null,null,null,"Bearport Publishing",null,42.79,null,19.95,null,24.95,null,0,null,null,null,null,null,0,0,0,0,0,0,0,0,0,0,0,0,0,0,0,"Spring 2018",null,2018,null,963,null,null,null,"68 - 69",null,28.5,null,"Bearport Books",null,4.0999999999999996,null,"Social Studies",null,"English",null,"Reinforced Library",null,32,null,"J",null,610,null,"K - 3",null,"Spencer Brinker"]
[{"$f":"A1652","v":0},null,{"$f":"C1652","v":0},null,{"$f":"E1652","v":0},null,9781642802634,null,9781642801941,null,"Portugal",null,null,null,"Countries We Come From",null,null,null,"Bearport Publishing",null,42.79,null,19.95,null,24.95,null,0,null,null,null,null,null,0,0,0,0,0,0,0,0,0,0,0,0,0,0,0,"Spring 2019",null,2019,null,946.9,null,null,null,"68 - 69",null,28.5,null,"Bearport Books",null,3.2,null,"Social Studies",null,"English",null,"Reinforced Library",null,32,null,"J",null,550,null,"K - 3",null,"Ariel Factor Birdoff"]
[null,null,null,null,null,null,null,null,null,null,"Complete Series of 10",null,null,null,"Country Explorers",null,null,null,null,null,{"$f":"SUM(U1729:U1738)","v":289.49999999999994},null,{"$f":"SUM(W1729:W1738)","v":189.49999999999997},null,{"$f":"SUM(Y1729:Y1738)","v":239.49999999999994}]
[]
[{"$f":"A1756","v":0},null,{"$f":"C1756","v":0},null,{"$f":"E1756","v":0},null,9781684026210,null,9781684026135,null,"Cuevas fantasmales (Ghost Caves)",null,null,null,"De puntillas en lugares escalofriantes (Tiptoe Into Scary Places)",null,null,null,"Bearport Publishing",null,41.36,null,18.95,null,23.95,null,0,null,null,null,null,null,0,0,0,0,0,0,0,0,0,0,0,0,0,0,0,"Spring 2018",null,2018,null,"133.1'22",null,null,null,"Website",null,26.99,null,"Bearport Books",null,null,null,"Legends, Myths, & Paranormal",null,"Spanish",null,"Reinforced Library",null,24,null,null,null,780,null,"K - 3",null,"Jessica Rudolph"]
[]
[{"$f":"A1815","v":0},null,{"$f":"C1815","v":0},null,{"$f":"E1815","v":0},null,9781936088461,null,9781936087440,null,"Green Tree Frogs",null,null,null,"Disappearing Acts",null,null,null,"Bearport Publishing",null,41.36,null,18.95,null,23.95,null,0,null,null,null,null,null,0,0,0,0,0,0,0,0,0,0,0,0,0,0,0,"Spring 2010",null,2010,null,"597.87'82",null,null,null,"Website",null,26.99,null,"Bearport Books",null,4.2,null,"Animals & Nature",null,"English",null,"Reinforced Library",null,24,null,"I",null,600,null,null,null,"Natalie Lunis"]
[null,null,null,null,null,null,null,null,null,null,"Complete Series of 4",null,null,null,"Disastrous Deaths",null,null,null,null,null,{"$f":"SUM(U1833:U1836)","v":171.16},null,{"$f":"SUM(W1833:W1836)","v":79.8},null,{"$f":"SUM(Y1833:Y1836)","v":99.8}]
[{"$f":"A1838","v":0},null,{"$f":"C1838","v":0},null,{"$f":"E1838","v":0},null,9781617726439,null,9781617725760,null,"Ground Zero Dogs",null,null,null,"Dog Heroes",null,null,null,"Bearport Publishing",null,42.79,null,19.95,null,{"$f":"W1851+5","v":24.95},null,0,null,null,null,null,null,0,0,0,0,0,0,0,0,0,0,0,0,0,0,0,"Fall 2012",null,2013,null,"636.7'0886",null,null,null,"Website",null,28.5,null,"Bearport Books",null,5.8,null,"Animals & Nature",null,"English",null,"Reinforced Library",null,32,null,"N",null,990,null,"2 - 7",null,"Meish Goldish"]
[{"$f":"A1838","v":0},null,{"$f":"C1838","v":0},null,{"$f":"E1838","v":0},null,9781617729829,null,9781617728860,null,"Shelter Dogs",null,null,null,"Dog Heroes",null,null,null,"Bearport Publishing",null,42.79,null,19.95,null,{"$f":"W1866+5","v":24.95},null,0,null,null,null,null,null,0,0,0,0,0,0,0,0,0,0,0,0,0,0,0,"Fall 2013",null,2014,null,"636.7'0832",null,null,null,"Website",null,28.5,null,"Bearport Books",null,5.3,null,"Animals & Nature",null,"English",null,"Reinforced Library",null,32,null,"O",null,960,null,"2 - 7",null,"Meish Goldish"]
[{"$f":"A1884","v":0},null,{"$f":"C1884","v":0},null,{"$f":"E1884","v":0},null,9781684021246,null,9781684021154,null,"My Indy/Buddy",null,null,null,"Double Dog Combos",null,null,null,"Bearport Publishing",null,59.9,null,39.9,null,{"$f":"W1885+5","v":44.9},null,{"$f":"IF(AC1885=FALSE,AT1885,0)","v":0},null,null,null,null,null,{"$f":"IF(AND(A1885>=1,AC1885=\"\"),A1885,0)","v":0},{"$f":"IF(AND(A1885>=1,AC1885=\"x\"),A1885,0)","v":0},{"$f":"IF(AND(A1885>=1,AC1885=\"\"),U1885,0)","v":0},{"$f":"IF(AND(A1885>=1,AC1885=\"x\"),-U1885,0)","v":0},{"$f":"IF(AND(C1885>=1,AC1885=\"\"),C1885,0)","v":0},{"$f":"IF(AND(C1885>=1,AC1885=\"x\"),C1885,0)","v":0},{"$f":"IF(AND(C1885>=1,AC1885=\"\"),W1885*C1885,0)","v":0},{"$f":"IF(AND(C1885>=1,AC1885=\"x\"),-W1885*C1885,0)","v":0},{"$f":"E1885","v":0},{"$f":"Y1885*E1885","v":0},{"$f":"AG1885+AK1885+AO1885","v":0},{"$f":"AH1885+AL1885","v":0},{"$f":"AQ1885+AR1885","v":0},{"$f":"AI1885+AM1885+AP1885","v":0},{"$f":"AJ1885+AN1885","v":0},"Spring 2017",null,2017,null,null,null,null,null,"Website",null,57,null,"Bearport Books",null,null,null,"Animals & Nature",null,"English",null,"Reinforced Library",null,32]
[{"$f":"A1915","v":0},null,{"$f":"C1915","v":0},null,{"$f":"E1915","v":0},null,"9781647479640",null,9781647479480,null,"Path of Potatoes, The",null,null,null,"Drive Thru Set 2",null,null,null,"Bearport Publishing",null,41.36,null,18.95,null,23.95,null,0,null,null,null,null,null,0,0,0,0,0,0,0,0,0,0,0,0,0,0,0,"Fall 2021",null,2022,null,"635'.21",null,null,null,30,null,26.99,null,"Fusion Books",null,null,null,"High Interest",null,"English",null,"Reinforced Library",null,24,null,"O",null,530,null,"1 - 3",null,"Harriet Brundle"]
[{"$f":"A1935","v":0},null,{"$f":"C1935","v":0},null,{"$f":"E1935","v":0},null,9781636919096,null,9781636918990,null,"Life of a Glass Jar",null,null,null,"Eco Journeys",null,null,null,"Bearport Publishing",null,28.95,null,18.95,null,{"$f":"W1936+5","v":23.95},null,{"$f":"IF(AC1936=FALSE,AT1936,0)","v":0},null,null,null,null,null,{"$f":"IF(AND(A1936>=1,AC1936=\"\"),A1936,0)","v":0},{"$f":"IF(AND(A1936>=1,AC1936=\"x\"),A1936,0)","v":0},{"$f":"IF(AND(A1936>=1,AC1936=\"\"),U1936,0)","v":0},{"$f":"IF(AND(A1936>=1,AC1936=\"x\"),-U1936,0)","v":0},{"$f":"IF(AND(C1936>=1,AC1936=\"\"),C1936,0)","v":0},{"$f":"IF(AND(C1936>=1,AC1936=\"x\"),C1936,0)","v":0},{"$f":"IF(AND(C1936>=1,AC1936=\"\"),W1936*C1936,0)","v":0},{"$f":"IF(AND(C1936>=1,AC1936=\"x\"),-W1936*C1936,0)","v":0},{"$f":"E1936","v":0},{"$f":"Y1936*E1936","v":0},{"$f":"AG1936+AK1936+AO1936","v":0},{"$f":"AH1936+AL1936","v":0},{"$f":"AQ1936+AR1936","v":0},{"$f":"AI1936+AM1936+AP1936","v":0},{"$f":"AJ1936+AN1936","v":0},"Fall 2022",null,2023,null,"666/.19",null,null,null,29,null,26.99,null,"Fusion Books",null,null,null,"Social Studies",null,"English",null,"Reinforced Library",null,24,null,null,null,null,null,null,null,"Louise Nelson"]
[{"$f":"A1951","v":0},null,{"$f":"C1951","v":0},null,{"$f":"E1951","v":0},null,9781684020775,null,9781684020256,null,"Sphinx, The",null,null,null,"Egypt’s Ancient Secrets",null,null,null,"Bearport Publishing",null,42.79,null,19.95,null,24.95,null,0,null,null,null,null,null,0,0,0,0,0,0,0,0,0,0,0,0,0,0,0,"Spring 2017",null,2017,null,"932'.012",null,null,null,"Website",null,28.5,null,"Bearport Books",null,5.7,null,"Legends, Myths, & Paranormal",null,"English",null,"Reinforced Library",null,32,null,null,null,940,null,null,null,"Ruth Owen"]
[{"$f":"A1967","v":0},null,{"$f":"C1967","v":0},null,{"$f":"E1967","v":0},null,9781617727795,null,9781617727290,null,"Flemish Giant Rabbit",null,null,null,"Even More SuperSized!",null,null,null,"Bearport Publishing",null,41.36,null,18.95,null,23.95,null,0,null,null,null,null,null,0,0,0,0,0,0,0,0,0,0,0,0,0,0,0,"Spring 2013",null,2013,null,"599.32'4",null,null,null,"Website",null,26.99,null,"Bearport Books",null,4,null,"Animals & Nature",null,"English",null,"Reinforced Library",null,24,null,"N",null,560,null,"K - 3",null,"Leon Gray"]
[{"$f":"A2001","v":0},null,{"$f":"C2001","v":0},null,{"$f":"E2001","v":0},null,"9781647479992",null,9781647479893,null,"Plant Facts",null,null,null,"Fact-o-graphics!",null,null,null,"Bearport Publishing",null,41.36,null,18.95,null,23.95,null,{"$f":"IF(AC2004=FALSE,AT2004,0)","v":0},null,null,null,null,null,{"$f":"IF(AND(A2004>=1,AC2004=\"\"),A2004,0)","v":0},{"$f":"IF(AND(A2004>=1,AC2004=\"x\"),A2004,0)","v":0},{"$f":"IF(AND(A2004>=1,AC2004=\"\"),U2004,0)","v":0},{"$f":"IF(AND(A2004>=1,AC2004=\"x\"),-U2004,0)","v":0},0,0,0,0,{"$f":"E2004","v":0},{"$f":"Y2004*E2004","v":0},{"$f":"AG2004+AK2004+AO2004","v":0},{"$f":"AH2004+AL2004","v":0},{"$f":"AQ2004+AR2004","v":0},{"$f":"AI2004+AM2004+AP2004","v":0},{"$f":"AJ2004+AN2004","v":0},"Fall 2021",null,2022,null,581.29999999999995,null,null,null,31,null,26.99,null,"Fusion Books",null,null,null,"High Interest",null,"English",null,"Reinforced Library",null,24,null,"P",null,620,null,"1 - 3",null,"William Anthony"]
[{"$f":"A2024","v":0},null,{"$f":"C2024","v":0},null,{"$f":"E2024","v":0},null,9781647475574,null,9781647475437,null,"Combines",null,null,null,"Farmer Llama's Farm Machines",null,null,null,"Bearport Publishing",null,41.36,null,18.95,null,23.95,null,0,null,null,null,null,null,0,0,0,0,0,0,0,0,0,0,0,0,0,0,0,"Spring 2021",null,2021,null,"631.3'7",null,null,null,32,null,26.99,null,"Fusion Books",null,null,null,"Science & Technology",null,"English",null,"Reinforced Library",null,24,null,"N",null,570,null,"Grade 1 - 3",null,"Kirsty Holmes"]
[{"$f":"A2036","v":0},null,{"$f":"C2036","v":0},null,{"$f":"E2036","v":0},null,9781627241526,null,9781627241007,null,"Smokejumpers",null,null,null,"Fire Fight! The Bravest",null,null,null,"Bearport Publishing",null,42.79,null,19.95,null,{"$f":"W2041+5","v":24.95},null,{"$f":"IF(AC2041=FALSE,AT2041,0)","v":0},null,null,null,null,null,{"$f":"IF(AND(A2041>=1,AC2041=\"\"),A2041,0)","v":0},{"$f":"IF(AND(A2041>=1,AC2041=\"x\"),A2041,0)","v":0},{"$f":"IF(AND(A2041>=1,AC2041=\"\"),U2041,0)","v":0},{"$f":"IF(AND(A2041>=1,AC2041=\"x\"),-U2041,0)","v":0},0,0,0,0,{"$f":"E2041","v":0},{"$f":"Y2041*E2041","v":0},{"$f":"AG2041+AK2041+AO2041","v":0},{"$f":"AH2041+AL2041","v":0},{"$f":"AQ2041+AR2041","v":0},{"$f":"AI2041+AM2041+AP2041","v":0},{"$f":"AJ2041+AN2041","v":0},"Spring 2014",null,2014,null,363.37092000000001,null,null,null,"Website",null,28.5,null,"Bearport Books",null,5.3,null,"High Interest",null,"English",null,"Reinforced Library",null,32,null,"O",null,950,null,null,null,"Meish Goldish"]
[null,null,null,null,null,null,null,null,null,null,"Complete Series of 12",null,null,null,"Football Stars Up Close",null,null,null,null,null,{"$f":"SUM(U2061:U2072)","v":496.32000000000011},null,{"$f":"SUM(W2061:W2072)","v":227.39999999999995},null,{"$f":"SUM(Y2061:Y2072)","v":287.39999999999992}]
[{"$f":"A2074","v":0},null,{"$f":"C2074","v":0},null,{"$f":"E2074","v":0},null,9781936088805,null,9781936088232,null,"Pro Football's Most Spectacular Quarterbacks",null,null,null,"Football-O-Rama",null,null,null,"Bearport Publishing",null,41.36,null,18.95,null,{"$f":"W2075+5","v":23.95},null,{"$f":"IF(AC2075=FALSE,AT2075,0)","v":0},null,null,null,null,null,{"$f":"IF(AND(A2075>=1,AC2075=\"\"),A2075,0)","v":0},{"$f":"IF(AND(A2075>=1,AC2075=\"x\"),A2075,0)","v":0},{"$f":"IF(AND(A2075>=1,AC2075=\"\"),U2075,0)","v":0},{"$f":"IF(AND(A2075>=1,AC2075=\"x\"),-U2075,0)","v":0},{"$f":"IF(AND(C2075>=1,AC2075=\"\"),C2075,0)","v":0},{"$f":"IF(AND(C2075>=1,AC2075=\"x\"),C2075,0)","v":0},{"$f":"IF(AND(C2075>=1,AC2075=\"\"),W2075*C2075,0)","v":0},{"$f":"IF(AND(C2075>=1,AC2075=\"x\"),-W2075*C2075,0)","v":0},{"$f":"E2075","v":0},{"$f":"Y2075*E2075","v":0},{"$f":"AG2075+AK2075+AO2075","v":0},{"$f":"AH2075+AL2075","v":0},{"$f":"AQ2075+AR2075","v":0},{"$f":"AI2075+AM2075+AP2075","v":0},{"$f":"AJ2075+AN2075","v":0},"Fall 2010",null,2011,null,"796.332092'2",null,null,null,"Website",null,26.99,null,"Bearport Books",null,5.4,null,"Sports & Recreation",null,"English",null,"Reinforced Library",null,24,null,"N",null,980,null,null,null,"Michael Sandler"]
[]
[{"$f":"A2125","v":0},null,{"$f":"C2125","v":0},null,{"$f":"E2125","v":0},null,9781627241458,null,9781627240932,null,"Light",null,null,null,"FUN-damental Experiments",null,null,null,"Bearport Publishing",null,41.36,null,18.95,null,23.95,null,0,null,null,null,null,null,0,0,0,0,0,0,0,0,0,0,0,0,0,0,0,"Spring 2014",null,2014,null,535,null,null,null,"Website",null,26.99,null,"Bearport Books",null,null,null,"Science & Technology",null,"English",null,"Reinforced Library",null,24,null,"P",null,600,null,"PreK - 3",null,"Ellen Lawrence"]
[{"$f":"A2140","v":0},null,{"$f":"C2140","v":0},null,{"$f":"E2140","v":0},null,"9781647479848",null,9781647479701,null,"Go Hiking!",null,null,null,"Get Outdoors",null,null,null,"Bearport Publishing",null,41.36,null,18.95,null,23.95,null,0,null,null,null,null,null,0,0,0,0,0,0,0,0,0,0,0,0,{"$f":"AQ2145+AR2145","v":0},0,0,"Fall 2021",null,2022,null,796.51,null,null,null,31,null,26.99,null,"Fusion Books",null,null,null,null,null,"English",null,"Reinforced Library",null,24,null,"N",null,550,null,"1 - 3",null,"Meghan Gottschall"]
[{"$f":"A2163","v":0},null,{"$f":"C2163","v":0},null,{"$f":"E2163","v":0},null,9781627241557,null,9781627241038,null,"Dirty Air",null,null,null,"Green World, Clean World",null,null,null,"Bearport Publishing",null,41.36,null,18.95,null,{"$f":"W2164+5","v":23.95},null,{"$f":"IF(AC2164=FALSE,AT2164,0)","v":0},null,null,null,null,null,{"$f":"IF(AND(A2164>=1,AC2164=\"\"),A2164,0)","v":0},{"$f":"IF(AND(A2164>=1,AC2164=\"x\"),A2164,0)","v":0},{"$f":"IF(AND(A2164>=1,AC2164=\"\"),U2164,0)","v":0},{"$f":"IF(AND(A2164>=1,AC2164=\"x\"),-U2164,0)","v":0},{"$f":"IF(AND(C2164>=1,AC2164=\"\"),C2164,0)","v":0},{"$f":"IF(AND(C2164>=1,AC2164=\"x\"),C2164,0)","v":0},{"$f":"IF(AND(C2164>=1,AC2164=\"\"),W2164*C2164,0)","v":0},{"$f":"IF(AND(C2164>=1,AC2164=\"x\"),-W2164*C2164,0)","v":0},{"$f":"E2164","v":0},{"$f":"Y2164*E2164","v":0},{"$f":"AG2164+AK2164+AO2164","v":0},{"$f":"AH2164+AL2164","v":0},{"$f":"AQ2164+AR2164","v":0},{"$f":"AI2164+AM2164+AP2164","v":0},{"$f":"AJ2164+AN2164","v":0},"Spring 2014",null,2014,null,"363.739'2",null,null,null,"Website",null,26.99,null,"Bearport Books",null,4.3,null,"High Interest",null,"English",null,"Reinforced Library",null,24,null,"N",null,830,null,"K - 3",null,"Ellen Lawrence"]
[{"$f":"A2178","v":0},null,{"$f":"C2178","v":0},null,{"$f":"E2178","v":0},null,9781642801200,null,9781642801132,null,"Christmas",null,null,null,"Happy Holidays!",null,null,null,"Bearport Publishing",null,26.95,null,16.95,null,{"$f":"W2179+5","v":21.95},null,{"$f":"IF(AC2179=FALSE,AT2179,0)","v":0},null,null,null,null,null,{"$f":"IF(AND(A2179>=1,AC2179=\"\"),A2179,0)","v":0},{"$f":"IF(AND(A2179>=1,AC2179=\"x\"),A2179,0)","v":0},{"$f":"IF(AND(A2179>=1,AC2179=\"\"),U2179,0)","v":0},{"$f":"IF(AND(A2179>=1,AC2179=\"x\"),-U2179,0)","v":0},{"$f":"IF(AND(C2179>=1,AC2179=\"\"),C2179,0)","v":0},{"$f":"IF(AND(C2179>=1,AC2179=\"x\"),C2179,0)","v":0},{"$f":"IF(AND(C2179>=1,AC2179=\"\"),W2179*C2179,0)","v":0},{"$f":"IF(AND(C2179>=1,AC2179=\"x\"),-W2179*C2179,0)","v":0},{"$f":"E2179","v":0},{"$f":"Y2179*E2179","v":0},{"$f":"AG2179+AK2179+AO2179","v":0},{"$f":"AH2179+AL2179","v":0},{"$f":"AQ2179+AR2179","v":0},{"$f":"AI2179+AM2179+AP2179","v":0},{"$f":"AJ2179+AN2179","v":0},"Fall 2018",null,2019,null,394.2663,null,null,null,21,null,24.21,null,"Bearcub Books",null,0.7,null,"Social Studies",null,"English",null,"Reinforced Library",null,16,null,"C",null,40,null,"PreK - 1",null,"Pearl Markovics"]
[{"$f":"A2211","v":0},null,{"$f":"C2211","v":0},null,{"$f":"E2211","v":0},null,9781936088775,null,9781936087990,null,"Voodoo in New Orleans",null,null,null,"HorrorScapes",null,null,null,"Bearport Publishing",null,42.79,null,19.95,null,{"$f":"W2215+5","v":24.95},null,{"$f":"IF(AC2215=FALSE,AT2215,0)","v":0},null,null,null,null,null,{"$f":"IF(AND(A2215>=1,AC2215=\"\"),A2215,0)","v":0},{"$f":"IF(AND(A2215>=1,AC2215=\"x\"),A2215,0)","v":0},{"$f":"IF(AND(A2215>=1,AC2215=\"\"),U2215,0)","v":0},{"$f":"IF(AND(A2215>=1,AC2215=\"x\"),-U2215,0)","v":0},0,0,0,0,{"$f":"E2215","v":0},{"$f":"Y2215*E2215","v":0},{"$f":"AG2215+AK2215+AO2215","v":0},{"$f":"AH2215+AL2215","v":0},{"$f":"AQ2215+AR2215","v":0},{"$f":"AI2215+AM2215+AP2215","v":0},{"$f":"AJ2215+AN2215","v":0},"Fall 2010",null,2011,null,"299.6'750976335",null,null,null,"Website",null,28.5,null,"Bearport Books",null,5.0999999999999996,null,"Legends, Myths, & Paranormal",null,"English",null,"Reinforced Library",null,32,null,null,null,900,null,null,null,"Stephen Person"]
[{"$f":"A2228","v":0},null,{"$f":"C2228","v":0},null,{"$f":"E2228","v":0},null,9781684020669,null,9781684020157,null,"Sunny on Alert!",null,null,null,"Hound Town Chronicles",null,null,null,"Bearport Publishing",null,42.79,null,19.95,null,24.95,null,0,null,null,null,null,null,0,0,0,0,0,0,0,0,0,0,0,0,0,0,0,"Spring 2017",null,2017,null,"FIC",null,null,null,79,null,28.5,null,"Bearport Books",null,4.0999999999999996,null,"Fiction",null,"English",null,"Reinforced Library",null,32,null,"P",null,680,null,null,null,"Spencer Brinker"]
[{"$f":"A2248","v":0},null,{"$f":"C2248","v":0},null,{"$f":"E2248","v":0},null,9781597166171,null,9781597165549,null,"Dinosaur Hunting",null,null,null,"I Love Reading: Dino World",null,null,null,"Bearport Publishing",null,27.95,null,17.95,null,{"$f":"W2249+5","v":22.95},null,{"$f":"IF(AC2249=FALSE,AT2249,0)","v":0},null,null,null,null,null,{"$f":"IF(AND(A2249>=1,AC2249=\"\"),A2249,0)","v":0},{"$f":"IF(AND(A2249>=1,AC2249=\"x\"),A2249,0)","v":0},{"$f":"IF(AND(A2249>=1,AC2249=\"\"),U2249,0)","v":0},{"$f":"IF(AND(A2249>=1,AC2249=\"x\"),-U2249,0)","v":0},{"$f":"IF(AND(C2249>=1,AC2249=\"\"),C2249,0)","v":0},{"$f":"IF(AND(C2249>=1,AC2249=\"x\"),C2249,0)","v":0},{"$f":"IF(AND(C2249>=1,AC2249=\"\"),W2249*C2249,0)","v":0},{"$f":"IF(AND(C2249>=1,AC2249=\"x\"),-W2249*C2249,0)","v":0},{"$f":"E2249","v":0},{"$f":"Y2249*E2249","v":0},{"$f":"AG2249+AK2249+AO2249","v":0},{"$f":"AH2249+AL2249","v":0},{"$f":"AQ2249+AR2249","v":0},{"$f":"AI2249+AM2249+AP2249","v":0},{"$f":"AJ2249+AN2249","v":0},"Fall 2007",null,2008,null,567.9,null,null,null,"Website",null,25.65,null,"Bearport Books",null,2.7,null,"Animals & Nature",null,"English",null,"Reinforced Library",null,24,null,"I",null,510,null,"PreK - 3",null,"Leonie Bennett"]
[{"$f":"A2263","v":0},null,{"$f":"C2263","v":0},null,{"$f":"E2263","v":0},null,9798885092067,null,9798885091923,null,"Civil Rights",null,null,null,"In the News: Need to Know",null,null,null,"Bearport Publishing",null,29.95,null,19.95,null,{"$f":"W2264+5","v":24.95},null,{"$f":"IF(AC2264=FALSE,AT2264,0)","v":0},null,null,null,null,null,null,null,null,null,null,null,null,null,null,null,null,null,null,null,null,"Fall 2022",null,2023,null,323.09730000000002,null,null,null,46,null,28.5,null,"SilverTip Books",null,null,null,null,null,"English",null,"Reinforced Library",null,32,null,null,null,null,null,44323,null,"Martha London"]
[{"$f":"A2279","v":0},null,{"$f":"C2279","v":0},null,{"$f":"E2279","v":0},null,9798885092371,null,9798885092234,null,"Magnetism",null,null,null,"Intro to Physics: Need to Know",null,null,null,"Bearport Publishing",null,29.95,null,19.95,null,24.95,null,0,null,null,null,null,null,null,null,null,null,null,null,null,null,null,null,null,null,null,null,null,"Fall 2022",null,2023,null,null,null,null,null,45,null,28.5,null,"SilverTip Books",null,null,null,null,null,"English",null,"Reinforced Library",null,32,null,null,null,null,null,44323,null,"Karen Latchana Kenney"]
[{"$f":"A2310","v":0},null,{"$f":"C2310","v":0},null,{"$f":"E2310","v":0},null,9781647471705,null,9781647471484,null,"Three-Toed Sloth",null,null,null,"Library of Awesome Animals Set 1",null,null,null,"Bearport Publishing",null,41.36,null,18.95,null,23.95,null,0,null,null,null,null,null,0,0,0,0,0,0,0,0,0,0,0,0,0,0,0,"Fall 2020",null,2021,null,"599.3/13",null,null,null,"56 - 57",null,26.99,null,"Bearport Books",null,null,null,"Animals & Nature",null,"English",null,"Reinforced Library",null,24,null,null,null,null,null,null,null,"Rachel Rose"]
[{"$f":"A2330","v":0},null,{"$f":"C2330","v":0},null,{"$f":"E2330","v":0},null,9781636919591,null,9781636919478,null,"Work It Out",null,null,null,"Life Works!",null,null,null,"Bearport Publishing",null,28.95,null,18.95,null,23.95,null,0,null,null,null,null,null,0,0,0,0,0,0,0,0,0,0,0,0,0,0,0,"Fall 2022",null,2023,null,null,null,null,null,22,null,26.99,null,"Fusion Books",null,null,null,null,null,"English",null,"Reinforced Library",null,24,null,null,null,null,null,44199,null,"Sloane Hughes"]
[null,null,null,null,null,null,null,null,null,null,"Complete Series of 6",null,null,null,"Los colores cuentan una historia (Colors Tell a Story)",null,null,null,null,null,{"$f":"SUM(U2354:U2359)","v":248.16000000000003},null,{"$f":"SUM(W2354:W2359)","v":113.7},null,{"$f":"SUM(Y2354:Y2359)","v":143.69999999999999}]
[{"$f":"A2361","v":0},null,{"$f":"C2361","v":0},null,{"$f":"E2361","v":0},null,9781642802993,null,9781642802306,null,"El Salvador (El Salvador)",null,null,null,"Los países de donde venimos (Countries We Come From)",null,null,null,"Bearport Publishing",null,42.79,null,19.95,null,24.95,null,0,null,null,null,null,null,0,0,0,0,0,0,0,0,0,0,0,0,0,0,0,"Spring 2019",null,2019,null,972.84,null,null,null,70,null,28.5,null,"Bearport Books",null,3,null,"Social Studies",null,"Spanish",null,"Reinforced Library",null,32,null,"J",null,500,null,"K - 3",null,"Joyce Markovics"]
[null,null,null,null,null,null,null,null,null,null,"Complete Series of 6",null,null,null,"Mythical Meals",null,null,null,null,null,{"$f":"SUM(U2409:U2414)","v":248.16000000000003},null,{"$f":"SUM(W2409:W2414)","v":113.7},null,{"$f":"SUM(Y2409:Y2414)","v":143.69999999999999}]
[]
[{"$f":"A2432","v":0},null,{"$f":"C2432","v":0},null,{"$f":"E2432","v":0},null,9781597169097,null,9781597167536,null,"Creeping Land Snails",null,null,null,"No Backbone! The World of Invertebrates",null,null,null,"Bearport Publishing",null,41.36,null,18.95,null,23.95,null,0,null,null,null,null,null,0,0,0,0,0,0,0,0,0,0,0,0,0,0,0,"Spring 2009",null,2009,null,"594'.38",null,null,null,"Website",null,26.99,null,"Bearport Books",null,4.4000000000000004,null,"Animals & Nature",null,"English",null,"Reinforced Library",null,24,null,"K",null,580,null,"K - 3",null,"Nancy White"]
[{"$f":"A2432","v":0},null,{"$f":"C2432","v":0},null,{"$f":"E2432","v":0},null,9781597169127,null,9781597167567,null,"Stinging Scorpions",null,null,null,"No Backbone! The World of Invertebrates",null,null,null,"Bearport Publishing",null,41.36,null,18.95,null,23.95,null,0,null,null,null,null,null,0,0,0,0,0,0,0,0,0,0,0,0,0,0,0,"Spring 2009",null,2009,null,"595.4'6",null,null,null,"Website",null,26.99,null,"Bearport Books",null,4.4000000000000004,null,"Animals & Nature",null,"English",null,"Reinforced Library",null,24,null,"K",null,590,null,"K - 3",null,"Natalie Lunis"]
[{"$f":"A2468","v":0},null,{"$f":"C2468","v":0},null,{"$f":"E2468","v":0},null,9781647475192,null,9781647475093,null,"Sun, The",null,null,null,"Off to Space!",null,null,null,"Bearport Publishing",null,41.36,null,18.95,null,{"$f":"W2472+5","v":23.95},null,{"$f":"IF(AC2472=FALSE,AT2472,0)","v":0},null,null,null,null,null,{"$f":"IF(AND(A2472>=1,AC2472=\"\"),A2472,0)","v":0},{"$f":"IF(AND(A2472>=1,AC2472=\"x\"),A2472,0)","v":0},{"$f":"IF(AND(A2472>=1,AC2472=\"\"),U2472,0)","v":0},{"$f":"IF(AND(A2472>=1,AC2472=\"x\"),-U2472,0)","v":0},0,0,0,0,{"$f":"E2472","v":0},{"$f":"Y2472*E2472","v":0},{"$f":"AG2472+AK2472+AO2472","v":0},{"$f":"AH2472+AL2472","v":0},{"$f":"AQ2472+AR2472","v":0},{"$f":"AI2472+AM2472+AP2472","v":0},{"$f":"AJ2472+AN2472","v":0},"Spring 2021",null,2021,null,523.70000000000005,null,null,null,9,null,26.99,null,"Bearcub Books",null,null,null,null,null,"English",null,"Reinforced Library",null,24,null,"I",null,460,null,"Grade K - 1",null,"Rachel Rose"]
[{"$f":"A2505","v":0},null,{"$f":"C2505","v":0},null,{"$f":"E2505","v":0},null,9781627246606,null,9781627245784,null,"Mis garras son largas y curvas (My Claws Are Large and Curved)",null,null,null,"Pistas de animales (Zoo Clues 1)",null,null,null,"Bearport Publishing",null,41.36,null,18.95,null,23.95,null,0,null,null,null,null,null,0,0,0,0,0,0,0,0,0,0,0,0,0,0,0,"Spring 2015",null,2015,null,"597.95'968",null,null,null,"Website",null,26.99,null,"Bearport Books",null,0.6,null,"Animals & Nature",null,"Spanish",null,"Reinforced Library",null,24,null,null,null,320,null,"PreK - 3",null,"Jessica Rudolph"]
[null,null,null,null,null,null,null,null,null,null,"Complete Series of 12",null,null,null,"Plant-ology",null,null,null,null,null,{"$f":"SUM(U2528:U2539)","v":496.32000000000011},null,{"$f":"SUM(W2528:W2539)","v":227.39999999999995},null,{"$f":"SUM(Y2528:Y2539)","v":287.39999999999992}]
[{"$f":"A2541","v":0},null,{"$f":"C2541","v":0},null,{"$f":"E2541","v":0},null,9781647476663,null,9781647476595,null,"Get Crafting for Your Busy Bunny",null,null,null,"Playful Pet Projects",null,null,null,"Bearport Publishing",null,41.36,null,18.95,null,{"$f":"W2542+5","v":23.95},null,{"$f":"IF(AC2542=FALSE,AT2542,0)","v":0},null,null,null,null,null,{"$f":"IF(AND(A2542>=1,AC2542=\"\"),A2542,0)","v":0},{"$f":"IF(AND(A2542>=1,AC2542=\"x\"),A2542,0)","v":0},{"$f":"IF(AND(A2542>=1,AC2542=\"\"),U2542,0)","v":0},{"$f":"IF(AND(A2542>=1,AC2542=\"x\"),-U2542,0)","v":0},{"$f":"IF(AND(C2542>=1,AC2542=\"\"),C2542,0)","v":0},{"$f":"IF(AND(C2542>=1,AC2542=\"x\"),C2542,0)","v":0},{"$f":"IF(AND(C2542>=1,AC2542=\"\"),W2542*C2542,0)","v":0},{"$f":"IF(AND(C2542>=1,AC2542=\"x\"),-W2542*C2542,0)","v":0},{"$f":"E2542","v":0},{"$f":"Y2542*E2542","v":0},{"$f":"AG2542+AK2542+AO2542","v":0},{"$f":"AH2542+AL2542","v":0},{"$f":"AQ2542+AR2542","v":0},{"$f":"AI2542+AM2542+AP2542","v":0},{"$f":"AJ2542+AN2542","v":0},"Spring 2021",null,2021,null,745.59199999999998,null,null,null,43,null,26.99,null,"Create! Books",null,null,null,null,null,"English",null,"Reinforced Library",null,24,null,null,null,680,null,"Grade 2 - 5",null,"Owen, Ruth"]
[{"$f":"A2557","v":0},null,{"$f":"C2557","v":0},null,{"$f":"E2557","v":0},null,"9781647478810",null,9781647478674,null,"Energy from Oil",null,null,null,"Power Up with Energy!",null,null,null,"Bearport Publishing",null,41.36,null,18.95,null,23.95,null,0,null,null,null,null,null,0,0,0,0,0,0,0,0,0,0,0,0,0,0,0,"Fall 2021",null,2022,null,"665.7'73",null,null,null,8,null,26.99,null,"Bearcub Books",null,null,null,null,null,"English",null,"Reinforced Library",null,24,null,"",null,440,null,"K - 1",null,"Karen Latchana Kenney"]
[{"$f":"A2593","v":0},null,{"$f":"C2593","v":0},null,{"$f":"E2593","v":0},null,9781642806175,null,9781642805635,null,"Goat on a Boat, A",null,null,null,"Read and Rhyme Level 3",null,null,null,"Bearport Publishing",null,26.95,null,16.95,null,21.95,null,0,null,null,null,null,null,0,0,0,0,0,0,0,0,0,0,0,0,0,0,0,"Fall 2019",null,2020,null,"428.6'2",null,null,null,"16 - 17",null,24.21,null,"Bearcub Books",null,null,null,"Language Arts",null,"English",null,"Reinforced Library",null,16,null,"D",null,450,null,"PreK - 1",null,"Spencer Brinker"]
[{"$f":"A2611","v":0},null,{"$f":"C2611","v":0},null,{"$f":"E2611","v":0},null,9781617723308,null,9781617722905,null,"Saving Animals from Hurricanes",null,null,null,"Rescuing Animals from Disasters",null,null,null,"Bearport Publishing",null,42.79,null,19.95,null,24.95,null,0,null,null,null,null,null,0,0,0,0,0,0,0,0,0,0,0,0,0,0,0,"Fall 2011",null,2012,null,"636.08'32",null,null,null,"Website",null,28.5,null,"Bearport Books",null,5.5,null,"Animals & Nature",null,"English",null,"Reinforced Library",null,32,null,"O",null,990,null,null,null,"Stephen Person"]
[{"$f":"A2629","v":0},null,{"$f":"C2629","v":0},null,{"$f":"E2629","v":0},null,9781636918068,null,9781636917924,null,"Bees",null,null,null,"Save the Animals!",null,null,null,"Bearport Publishing",null,28.95,null,18.95,null,23.95,null,0,null,null,null,null,null,0,0,0,0,0,0,0,0,0,0,0,0,0,0,0,"Fall 2022",null,2023,null,null,null,null,null,5,null,26.99,null,"Bearcub Books",null,null,null,null,null,"English",null,"Reinforced Library",null,24,null,"J",null,null,null,"K-1",null,"J. P. Press"]
[{"$f":"A2645","v":0},null,{"$f":"C2645","v":0},null,{"$f":"E2645","v":0},null,9781617729799,null,9781617728846,null,"Abandoned Amusement Parks",null,null,null,"Scary Places",null,null,null,"Bearport Publishing",null,42.79,null,19.95,null,{"$f":"W2646+5","v":24.95},null,{"$f":"IF(AC2646=FALSE,AT2646,0)","v":0},null,null,null,null,null,{"$f":"IF(AND(A2646>=1,AC2646=\"\"),A2646,0)","v":0},{"$f":"IF(AND(A2646>=1,AC2646=\"x\"),A2646,0)","v":0},{"$f":"IF(AND(A2646>=1,AC2646=\"\"),U2646,0)","v":0},{"$f":"IF(AND(A2646>=1,AC2646=\"x\"),-U2646,0)","v":0},{"$f":"IF(AND(C2646>=1,AC2646=\"\"),C2646,0)","v":0},{"$f":"IF(AND(C2646>=1,AC2646=\"x\"),C2646,0)","v":0},{"$f":"IF(AND(C2646>=1,AC2646=\"\"),W2646*C2646,0)","v":0},{"$f":"IF(AND(C2646>=1,AC2646=\"x\"),-W2646*C2646,0)","v":0},{"$f":"E2646","v":0},{"$f":"Y2646*E2646","v":0},{"$f":"AG2646+AK2646+AO2646","v":0},{"$f":"AH2646+AL2646","v":0},{"$f":"AQ2646+AR2646","v":0},{"$f":"AI2646+AM2646+AP2646","v":0},{"$f":"AJ2646+AN2646","v":0},"Fall 2013",null,2014,null,"791.06'873",null,null,null,"76 - 77",null,28.5,null,"Bearport Books",null,5.9,null,"Legends, Myths, & Paranormal",null,"English",null,"Reinforced Library",null,32,null,null,null,950,null,null,null,"Dinah Williams"]
[{"$f":"A2645","v":0},null,{"$f":"C2645","v":0},null,{"$f":"E2645","v":0},null,9781597166713,null,9781597165747,null,"Haunted Hotels",null,null,null,"Scary Places",null,null,null,"Bearport Publishing",null,42.79,null,19.95,null,24.95,null,0,null,null,null,null,null,0,0,0,0,0,0,0,0,0,0,0,0,0,0,0,"Spring 2008",null,2008,null,"133.1'22",null,null,null,"76 - 77",null,28.5,null,"Bearport Books",null,5,null,"Legends, Myths, & Paranormal",null,"English",null,"Reinforced Library",null,32,null,"S",null,800,null,null,null,"Sarah Parvis"]
[]
[null,null,null,null,null,null,null,null,null,null,"Complete Series of 4",null,null,null,"Seasons of Fun: Winter",null,null,null,null,null,{"$f":"SUM(U2717:U2720)","v":165.44},null,{"$f":"SUM(W2717:W2720)","v":75.8},null,{"$f":"SUM(Y2717:Y2720)","v":95.8}]
[]
[{"$f":"A2744","v":0},null,{"$f":"C2744","v":0},null,{"$f":"E2744","v":0},null,9781627243964,null,9781627243407,null,"Patterns in the Snow",null,null,null,"Seeing Patterns All Around",null,null,null,"Bearport Publishing",null,42.79,null,19.95,null,24.95,null,0,null,null,null,null,null,0,0,0,0,0,0,0,0,0,0,0,0,0,0,0,"Fall 2014",null,2015,null,516.15,null,null,null,"Website",null,28.5,null,"Bearport Books",null,1.9,null,"High Interest",null,"English",null,"Reinforced Library",null,32,null,"K",null,400,null,"K - 3",null,"J. Clark Sawyer"]
[]
[{"$f":"A2802","v":0},null,{"$f":"C2802","v":0},null,{"$f":"E2802","v":0},null,9781597164689,null,9781597163682,null,"Dogs",null,null,null,"Smart Animals",null,null,null,"Bearport Publishing",null,42.79,null,19.95,null,{"$f":"W2805+5","v":24.95},null,0,null,null,null,null,null,0,0,0,0,0,0,0,0,0,0,0,0,0,0,0,"Spring 2007",null,2007,null,636.70000000000005,null,null,null,"Website",null,28.5,null,"Bearport Books",null,4.3,null,"Animals & Nature",null,"English",null,"Reinforced Library",null,32,null,"M",null,640,null,"2 - 7",null,"Meish Goldish"]
[{"$f":"A2815","v":0},null,{"$f":"C2815","v":0},null,{"$f":"E2815","v":0},null,9781617729515,null,9781617729072,null,"Inside the Tarantula’s Burrow",null,null,null,"Snug as a Bug: Where Bugs Live",null,null,null,"Bearport Publishing",null,41.36,null,18.95,null,23.95,null,0,null,null,null,null,null,0,0,0,0,0,0,0,0,0,0,0,0,0,0,0,"Fall 2013",null,2014,null,"595.4'4",null,null,null,"Website",null,26.99,null,"Bearport Books",null,4,null,"Animals & Nature",null,"English",null,"Reinforced Library",null,24,null,"L",null,570,null,"K - 3",null,"Natalie Lunis"]
[{"$f":"A2837","v":0},null,{"$f":"C2837","v":0},null,{"$f":"E2837","v":0},null,9781597166850,null,9781597166355,null,"Delta Force in Action",null,null,null,"Special Ops",null,null,null,"Bearport Publishing",null,42.79,null,19.95,null,24.95,null,0,null,null,null,null,null,0,0,0,0,0,0,0,0,0,0,0,0,0,0,0,"Spring 2008",null,2008,null,"356'.167",null,null,null,"Website",null,28.5,null,"Bearport Books",null,4.9000000000000004,null,"High Interest",null,"English",null,"Reinforced Library",null,32,null,null,null,810,null,null,null,"Gail Blasser Riley"]
[{"$f":"A2851","v":0},null,{"$f":"C2851","v":0},null,{"$f":"E2851","v":0},null,9781597169837,null,9781597168724,null,"Beaver’s Lodge, The",null,null,null,"Spectacular Animal Towns",null,null,null,"Bearport Publishing",null,42.79,null,19.95,null,24.95,null,0,null,null,null,null,null,0,0,0,0,0,0,0,0,0,0,0,0,0,0,0,"Fall 2009",null,2010,null,"593.5'3",null,null,null,"Website",null,28.5,null,"Bearport Books",null,5.2,null,"Animals & Nature",null,"English",null,"Reinforced Library",null,32,null,"N",null,920,null,null,null,"Adam Reingold"]
[{"$f":"A2883","v":0},null,{"$f":"C2883","v":0},null,{"$f":"E2883","v":0},null,9781597168229,null,9781597167383,null,"Joe Montana and the San Francisco 49ers",null,null,null,"Super Bowl Superstars",null,null,null,"Bearport Publishing",null,41.36,null,18.95,null,23.95,null,0,null,null,null,null,null,0,0,0,0,0,0,0,0,0,0,0,0,0,0,0,"Fall 2008",null,2009,null,796.33209199999999,null,null,null,"Website",null,26.99,null,"Bearport Books",null,4.2,null,"Sports & Recreation",null,"English",null,"Reinforced Library",null,24,null,"N",null,780,null,null,null,"Michael Sandler"]
[{"$f":"A2901","v":0},null,{"$f":"C2901","v":0},null,{"$f":"E2901","v":0},null,9781597164801,null,9781597163927,null,"Komodo Dragon",null,null,null,"SuperSized!",null,null,null,"Bearport Publishing",null,41.36,null,18.95,null,23.95,null,0,null,null,null,null,null,0,0,0,0,0,0,0,0,0,0,0,0,0,0,0,"Spring 2007",null,2007,null,"597.95'968",null,null,null,"Website",null,26.99,null,"Bearport Books",null,3.4,null,"Animals & Nature",null,"English",null,"Reinforced Library",null,24,null,"I",null,550,null,"K - 3",null,"Natalie Lunis"]
[{"$f":"A2923","v":0},null,{"$f":"C2923","v":0},null,{"$f":"E2923","v":0},null,9781617729638,null,9781617729195,null,"California Sea Lion",null,null,null,"The Deep End: Animal Life Underwater",null,null,null,"Bearport Publishing",null,41.36,null,18.95,null,{"$f":"W2924+5","v":23.95},null,{"$f":"IF(AC2924=FALSE,AT2924,0)","v":0},null,null,null,null,null,{"$f":"IF(AND(A2924>=1,AC2924=\"\"),A2924,0)","v":0},{"$f":"IF(AND(A2924>=1,AC2924=\"x\"),A2924,0)","v":0},{"$f":"IF(AND(A2924>=1,AC2924=\"\"),U2924,0)","v":0},{"$f":"IF(AND(A2924>=1,AC2924=\"x\"),-U2924,0)","v":0},{"$f":"IF(AND(C2924>=1,AC2924=\"\"),C2924,0)","v":0},{"$f":"IF(AND(C2924>=1,AC2924=\"x\"),C2924,0)","v":0},{"$f":"IF(AND(C2924>=1,AC2924=\"\"),W2924*C2924,0)","v":0},{"$f":"IF(AND(C2924>=1,AC2924=\"x\"),-W2924*C2924,0)","v":0},{"$f":"E2924","v":0},{"$f":"Y2924*E2924","v":0},{"$f":"AG2924+AK2924+AO2924","v":0},{"$f":"AH2924+AL2924","v":0},{"$f":"AQ2924+AR2924","v":0},{"$f":"AI2924+AM2924+AP2924","v":0},{"$f":"AJ2924+AN2924","v":0},"Fall 2013",null,2014,null,"599.79'75",null,null,null,"Website",null,26.99,null,"Bearport Books",null,3.7,null,"Animals & Nature",null,"English",null,"Reinforced Library",null,24,null,"L",null,610,null,null,null,"Jen Green"]
[null,null,null,null,null,null,null,null,null,null,"Complete Series of 12",null,null,null,"The Hole Truth: Animal Life Underground",null,null,null,null,null,{"$f":"SUM(U2944:U2955)","v":496.32000000000011},null,{"$f":"SUM(W2944:W2955)","v":227.39999999999995},null,{"$f":"SUM(Y2944:Y2955)","v":287.39999999999992}]
[{"$f":"A2957","v":0},null,{"$f":"C2957","v":0},null,{"$f":"E2957","v":0},null,9798885090018,null,9781636919874,null,"Alone on Everest!",null,null,null,"The Limits of Survival",null,null,null,"Bearport Publishing",null,29.95,null,19.95,null,{"$f":"W2958+5","v":24.95},null,{"$f":"IF(AC2958=FALSE,AT2958,0)","v":0},null,null,null,null,null,{"$f":"IF(AND(A2958>=1,AC2958=\"\"),A2958,0)","v":0},{"$f":"IF(AND(A2958>=1,AC2958=\"x\"),A2958,0)","v":0},{"$f":"IF(AND(A2958>=1,AC2958=\"\"),U2958,0)","v":0},{"$f":"IF(AND(A2958>=1,AC2958=\"x\"),-U2958,0)","v":0},{"$f":"IF(AND(C2958>=1,AC2958=\"\"),C2958,0)","v":0},{"$f":"IF(AND(C2958>=1,AC2958=\"x\"),C2958,0)","v":0},{"$f":"IF(AND(C2958>=1,AC2958=\"\"),W2958*C2958,0)","v":0},{"$f":"IF(AND(C2958>=1,AC2958=\"x\"),-W2958*C2958,0)","v":0},{"$f":"E2958","v":0},{"$f":"Y2958*E2958","v":0},{"$f":"AG2958+AK2958+AO2958","v":0},{"$f":"AH2958+AL2958","v":0},{"$f":"AQ2958+AR2958","v":0},{"$f":"AI2958+AM2958+AP2958","v":0},{"$f":"AJ2958+AN2958","v":0},"Fall 2022",null,2023,null,null,null,null,null,35,null,28.5,null,"Bear Claw Books",null,null,null,null,null,"English",null,"Reinforced Library",null,24,null,null,null,null,null,44261,null,"James Buckley Jr."]
[{"$f":"A2986","v":0},null,{"$f":"C2986","v":0},null,{"$f":"E2986","v":0},null,9781684027095,null,9781684026630,null,"Wretched Washington",null,null,null,"Tiptoe into Scary Cities",null,null,null,"Bearport Publishing",null,41.36,null,18.95,null,23.95,null,0,null,null,null,null,null,0,0,0,0,0,0,0,0,0,0,0,0,0,0,0,"Fall 2018",null,2019,null,133.10975300000001,null,null,null,72,null,26.99,null,"Bearport Books",null,null,null,"Legends, Myths, & Paranormal",null,"English",null,"Reinforced Library",null,24,null,"R",null,570,null,null,null,"Spencer Brinker"]
[{"$f":"A2996","v":0},null,{"$f":"C2996","v":0},null,{"$f":"E2996","v":0},null,9781684023233,null,9781684022694,null,"Deserted Cities",null,null,null,"Tiptoe Into Scary Places",null,null,null,"Bearport Publishing",null,41.36,null,18.95,null,23.95,null,0,null,null,null,null,null,0,0,0,0,0,0,0,0,0,0,0,0,0,0,0,"Fall 2017",null,2018,null,"133.1'22",null,null,null,"74 - 75",null,26.99,null,"Bearcub Books",null,4.2,null,"Legends, Myths, & Paranormal",null,"English",null,"Reinforced Library",null,24,null,"R",null,760,null,"K - 3",null,"E. Merwin"]
[{"$f":"A3028","v":0},null,{"$f":"C3028","v":0},null,{"$f":"E3028","v":0},null,9781617729546,null,9781617729119,null,"Flying Lemur",null,null,null,"Treed: Animal Life in the Trees",null,null,null,"Bearport Publishing",null,41.36,null,18.95,null,{"$f":"W3029+5","v":23.95},null,{"$f":"IF(AC3029=FALSE,AT3029,0)","v":0},null,null,null,null,null,{"$f":"IF(AND(A3029>=1,AC3029=\"\"),A3029,0)","v":0},{"$f":"IF(AND(A3029>=1,AC3029=\"x\"),A3029,0)","v":0},{"$f":"IF(AND(A3029>=1,AC3029=\"\"),U3029,0)","v":0},{"$f":"IF(AND(A3029>=1,AC3029=\"x\"),-U3029,0)","v":0},{"$f":"IF(AND(C3029>=1,AC3029=\"\"),C3029,0)","v":0},{"$f":"IF(AND(C3029>=1,AC3029=\"x\"),C3029,0)","v":0},{"$f":"IF(AND(C3029>=1,AC3029=\"\"),W3029*C3029,0)","v":0},{"$f":"IF(AND(C3029>=1,AC3029=\"x\"),-W3029*C3029,0)","v":0},{"$f":"E3029","v":0},{"$f":"Y3029*E3029","v":0},{"$f":"AG3029+AK3029+AO3029","v":0},{"$f":"AH3029+AL3029","v":0},{"$f":"AQ3029+AR3029","v":0},{"$f":"AI3029+AM3029+AP3029","v":0},{"$f":"AJ3029+AN3029","v":0},"Fall 2013",null,2014,null,599.33000000000004,null,null,null,"Website",null,26.99,null,"Bearport Books",null,3.8,null,"Animals & Nature",null,"English",null,"Reinforced Library",null,24,null,"L",null,570,null,"K - 3",null,"Dee Phillips"]
[null,null,null,null,null,null,null,null,null,null,"Complete Series of 8",null,null,null,"Twice the Scare II Combos!",null,null,null,null,null,{"$f":"SUM(U3049:U3056)","v":479.19999999999993},null,{"$f":"SUM(W3049:W3056)","v":319.2},null,{"$f":"SUM(Y3049:Y3056)","v":359.19999999999993}]
[{"$f":"A3058","v":0},null,{"$f":"C3058","v":0},null,{"$f":"E3058","v":0},null,9781636916156,null,9781636916019,null,"Senate, The",null,null,null,"U.S. Government: Need to Know",null,null,null,"Bearport Publishing",null,29.95,null,19.95,null,24.95,null,0,null,null,null,null,null,0,0,0,0,0,0,0,0,0,0,0,0,0,0,0,"Spring 2022",null,2022,null,"328.73'071",null,null,null,48,null,28.5,null,"SilverTip Books",null,null,null,null,null,"English",null,"Reinforced Library",null,32,null,null,null,null,null,null,null,"Daniel R. Faust"]
[]
[null,null,null,null,null,null,null,null,null,null,"Complete Series of 5",null,null,null,"We Work! Animals with Jobs",null,null,null,null,null,{"$f":"SUM(U3119:U3123)","v":139.75},null,{"$f":"SUM(W3119:W3123)","v":89.75},null,{"$f":"SUM(Y3119:Y3123)","v":114.75}]
[null,null,null,null,null,null,null,null,null,null,"Complete Series of 7",null,null,null,"Weather Wise",null,null,null,null,null,{"$f":"SUM(U3134:U3140)","v":289.52000000000004},null,{"$f":"SUM(W3134:W3140)","v":132.65},null,{"$f":"SUM(Y3134:Y3140)","v":167.64999999999998}]
[{"$f":"A3142","v":0},null,{"$f":"C3142","v":0},null,{"$f":"E3142","v":0},null,9781627249119,null,9781627248488,null,"Rockhopper Penguin",null,null,null,"Weird But Cute",null,null,null,"Bearport Publishing",null,41.36,null,18.95,null,23.95,null,0,null,null,null,null,null,0,0,0,0,0,0,0,0,0,0,0,0,0,0,0,"Spring 2016",null,2016,null,598.47,null,null,null,"Website",null,26.99,null,"Bearport Books",null,2.5,null,"Animals & Nature",null,"English",null,"Reinforced Library",null,24,null,"I",null,520,null,"K - 3",null,"Jessica Rudolph"]
[null,null,null,null,null,null,null,null,null,null,"Complete Series of 6",null,null,null,"What Makes a Community? Set 2",null,null,null,null,null,{"$f":"SUM(U3168:U3173)","v":248.16000000000003},null,{"$f":"SUM(W3168:W3173)","v":113.7},null,{"$f":"SUM(Y3168:Y3173)","v":143.69999999999999}]
[{"$f":"A3199","v":0},null,{"$f":"C3199","v":0},null,{"$f":"E3199","v":0},null,9781647475048,null,9781647474942,null,"Why Do We Need Water?",null,null,null,"What's Up with Water?",null,null,null,"Bearport Publishing",null,41.36,null,18.95,null,{"$f":"W3203+5","v":23.95},null,{"$f":"IF(AC3203=FALSE,AT3203,0)","v":0},null,null,null,null,null,{"$f":"IF(AND(A3203>=1,AC3203=\"\"),A3203,0)","v":0},{"$f":"IF(AND(A3203>=1,AC3203=\"x\"),A3203,0)","v":0},{"$f":"IF(AND(A3203>=1,AC3203=\"\"),U3203,0)","v":0},{"$f":"IF(AND(A3203>=1,AC3203=\"x\"),-U3203,0)","v":0},0,0,0,0,{"$f":"E3203","v":0},{"$f":"Y3203*E3203","v":0},{"$f":"AG3203+AK3203+AO3203","v":0},{"$f":"AH3203+AL3203","v":0},0,{"$f":"AI3203+AM3203+AP3203","v":0},{"$f":"AJ3203+AN3203","v":0},"Spring 2021",null,2021,null,"612'.01522",null,null,null,8,null,26.99,null,"Bearcub Books",null,null,null,null,null,"English",null,"Reinforced Library",null,24,null,"J",null,360,null,"Grade K - 1",null,"Karen Latchana Kenney"]
[{"$f":"A3218","v":0},null,{"$f":"C3218","v":0},null,{"$f":"E3218","v":0},null,9781636918365,null,9781636918228,null,"Stomach Growl",null,null,null,"Why Does My Body Do That?",null,null,null,"Bearport Publishing",null,28.95,null,18.95,null,23.95,null,0,null,null,null,null,null,0,0,0,0,0,0,0,0,0,0,0,0,0,0,0,"Fall 2022",null,2023,null,null,null,null,null,6,null,26.99,null,"Bearcub Books",null,null,null,null,null,"English",null,"Reinforced Library",null,24,null,"I",null,null,null,"K-1",null,"Rachel Rose"]
[{"$f":"A3235","v":0},null,{"$f":"C3235","v":0},null,{"$f":"E3235","v":0},null,9781617729713,null,9781617729287,null,"Coyotes",null,null,null,"Wild Canine Pups",null,null,null,"Bearport Publishing",null,27.95,null,17.95,null,22.95,null,0,null,null,null,null,null,0,0,0,0,0,0,0,0,0,0,0,0,0,0,0,"Fall 2013",null,2014,null,"599.77'25",null,null,null,"Website",null,25.65,null,"Bearport Books",null,2.9,null,"Animals & Nature",null,"English",null,"Reinforced Library",null,24,null,"J",null,560,null,"K - 3",null,"Ruth Strother"]
[{"$f":"A3251","v":0},null,{"$f":"C3251","v":0},null,{"$f":"E3251","v":0},null,9781597166904,null,9781597166362,null,"David Eckstein and the St. Louis Cardinals",null,null,null,"World Series Superstars",null,null,null,"Bearport Publishing",null,41.36,null,18.95,null,{"$f":"W3252+5","v":23.95},null,{"$f":"IF(AC3252=FALSE,AT3252,0)","v":0},null,null,null,null,null,{"$f":"IF(AND(A3252>=1,AC3252=\"\"),A3252,0)","v":0},{"$f":"IF(AND(A3252>=1,AC3252=\"x\"),A3252,0)","v":0},{"$f":"IF(AND(A3252>=1,AC3252=\"\"),U3252,0)","v":0},{"$f":"IF(AND(A3252>=1,AC3252=\"x\"),-U3252,0)","v":0},{"$f":"IF(AND(C3252>=1,AC3252=\"\"),C3252,0)","v":0},{"$f":"IF(AND(C3252>=1,AC3252=\"x\"),C3252,0)","v":0},{"$f":"IF(AND(C3252>=1,AC3252=\"\"),W3252*C3252,0)","v":0},{"$f":"IF(AND(C3252>=1,AC3252=\"x\"),-W3252*C3252,0)","v":0},{"$f":"E3252","v":0},{"$f":"Y3252*E3252","v":0},{"$f":"AG3252+AK3252+AO3252","v":0},{"$f":"AH3252+AL3252","v":0},{"$f":"AQ3252+AR3252","v":0},{"$f":"AI3252+AM3252+AP3252","v":0},{"$f":"AJ3252+AN3252","v":0},"Spring 2008",null,2008,null,796.35709199999997,null,null,null,"Website",null,26.99,null,"Bearport Books",null,3.5,null,"Sports & Recreation",null,"English",null,"Reinforced Library",null,24,null,"M",null,720,null,"K - 5",null,"Michael Sandler"]
[{"$f":"A3265","v":0},null,{"$f":"C3265","v":0},null,{"$f":"E3265","v":0},null,9781617726422,null,9781617725753,null,"Triple H",null,null,null,"Wrestling's Tough Guys",null,null,null,"Bearport Publishing",null,41.36,null,18.95,null,23.95,null,0,null,null,null,null,null,0,0,0,0,0,0,0,0,0,0,0,0,0,0,0,"Fall 2012",null,2013,null,796.81209200000001,null,null,null,"Website",null,26.99,null,"Bearport Books",null,4.9000000000000004,null,"Sports & Recreation",null,"English",null,"Reinforced Library",null,24,null,"N",null,860,null,null,null,"Michael Sandler"]
[{"$f":"A3305","v":0},null,{"$f":"C3305","v":0},null,{"$f":"E3305","v":0},null,9781647476885,null,9781647476748,null,"Human Body, The",null,null,null,"X-treme Facts: Science",null,null,null,"Bearport Publishing",null,42.79,null,19.95,null,24.95,null,0,null,null,null,null,null,0,0,0,0,0,0,0,0,0,0,0,0,0,0,0,"Spring 2021",null,2021,null,612,null,null,null,53,null,28.5,null,"Bearport Books",null,null,null,null,null,"English",null,"Reinforced Library",null,32,null,null,null,750,null,"Grade 3 - 5",null,"Catherine C. Finan"]
[{"$f":"A3321","v":0},null,{"$f":"C3321","v":0},null,{"$f":"E3321","v":0},null,9781647471354,null,9781647471217,null,"Presidents, The",null,null,null,"X-treme Facts: U.S. History",null,null,null,"Bearport Publishing",null,42.79,null,19.95,null,24.95,null,0,null,null,null,null,null,0,0,0,0,0,0,0,0,0,0,0,0,0,0,0,"Fall 2020",null,2021,null,null,null,null,null,52,null,28.5,null,"Bearcub Books",null,null,null,"History",null,"English",null,"Reinforced Library",null,32,null,null,null,null,null,null,null,"Campbell Collison"]
[null,null,null,null,null,null,null,null,null,null,"Complete Series of 4",null,null,null,"Zombie Zone",null,null,null,null,null,{"$f":"SUM(U3342:U3345)","v":165.44},null,{"$f":"SUM(W3342:W3345)","v":75.8},null,{"$f":"SUM(Y3342:Y3345)","v":95.8}]
[{"$f":"A3347","v":0},null,{"$f":"C3347","v":0},null,{"$f":"E3347","v":0},null,9781627241618,null,9781627241090,null,"My Skin Is Gray and Wrinkly (Walrus)",null,null,null,"Zoo Clues 1",null,null,null,"Bearport Publishing",null,41.36,null,18.95,null,23.95,null,0,null,null,null,null,null,0,0,0,0,0,0,0,0,0,0,0,0,0,0,0,"Spring 2014",null,2014,null,"599.79'9",null,null,null,"Website",null,26.99,null,"Bearport Books",null,0.8,null,"Animals & Nature",null,"English",null,"Reinforced Library",null,24,null,"E",null,340,null,"PreK - 3",null,"Joyce Markovics"]
[{"$f":"A3391","v":0},null,{"$f":"C3391","v":0},null,{"$f":"E3391","v":0},null,9781680725100,null,9781680723946,null,"Baby Harp Seals",null,null,null,"Adorable Animals",null,null,null,"Black Rabbit Books",null,51.05,null,24.95,null,29.95,null,0,null,null,null,null,null,0,0,0,0,0,0,0,0,0,0,0,0,0,0,0,"Fall 2020",null,2019,null,"599.79/291392",null,null,null,34,null,35.700000000000003,null,"Bolt!",null,null,null,"Animals & Nature",null,"English",null,"Reinforced Library",null,32,null,null,null,"570L",null,"2-6",null,"Christine Thomas Alderman"]
[{"$f":"A3409","v":0},null,{"$f":"C3409","v":0},null,{"$f":"E3409","v":0},null,9781623103972,null,9781623103033,null,"Boy Who Cried Wolf Retold, The",null,null,null,"Aesop's Funny Fables",null,null,null,"Black Rabbit Books",null,49,null,23.95,null,28.95,null,0,null,null,null,null,null,0,0,0,0,0,0,0,0,0,0,0,0,0,0,0,"Spring 2021",null,2021,null,398.2,null,null,null,22,null,34.25,null,"Hi Jinx",null,3,null,"Humor",null,"English",null,"Reinforced Library",null,24,null,"O",null,null,null,"Grade 2 - 3",null,"Eric Braun"]
[{"$f":"A3417","v":0},null,{"$f":"C3417","v":0},null,{"$f":"E3417","v":0},null,9781680727951,null,9781680727890,null,"MH-53E Sea Dragon",null,null,null,"Air Power",null,null,null,"Black Rabbit Books",null,51.05,null,24.95,null,29.95,null,0,null,null,null,null,null,0,0,0,0,0,0,0,0,0,0,0,0,0,0,0,"Fall 2020",null,2020,null,"623.74/65",null,"SLJ",null,34,null,35.700000000000003,null,"Bolt!",null,3.2,null,"Science & Technology",null,"English",null,"Reinforced Library",null,32,null,null,null,"550L",null,"2-6",null,"Megan Cooley Peterson"]
[]
[{"$f":"A3454","v":0},null,{"$f":"C3454","v":0},null,{"$f":"E3454","v":0},null,9781781215524,null,9781781214510,null,"Whales and Dolphins",null,null,null,"Animal Detectives",null,null,null,"Black Rabbit Books",null,49,null,23.95,null,28.95,null,0,null,null,null,null,null,0,0,0,0,0,0,0,0,0,0,0,0,0,0,0,"Fall 2020",null,2020,null,null,null,null,null,"Website",null,34.25,null,"Brown Bear Books",null,3,null,"Animals & Nature",null,"English",null,"Reinforced Library",null,24,null,null,null,null,null,"2 - 4",null,"Anne O'Daly"]
[{"$f":"A3494","v":0},null,{"$f":"C3494","v":0},null,{"$f":"E3494","v":0},null,9781623106911,null,9781623106850,null,"Disgusting Water and Sewer Jobs",null,null,null,"Awesome, Disgusting Careers",null,null,null,"Black Rabbit Books",null,51.05,null,24.95,null,29.95,null,0,null,null,null,null,null,0,0,0,0,0,0,0,0,0,0,0,0,0,0,0,"Fall 2022",null,2023,null,567.91399999999999,null,null,null,16,null,35.700000000000003,null,"Hi Jinx",null,null,null,"Careers",null,"English",null,"Hardcover",null,24,null,"O",null,null,null,"4 - 6",null,"Bleckwehl, Mary E."]
[{"$f":"A3510","v":0},null,{"$f":"C3510","v":0},null,{"$f":"E3510","v":0},null,9781623101480,null,9781623101428,null,"Puppies",null,null,null,"Baby Animals",null,null,null,"Black Rabbit Books",null,49,null,23.95,null,28.95,null,0,null,null,null,null,null,0,0,0,0,0,0,0,0,0,0,0,0,0,0,0,"Fall 2020",null,2020,null,"636.7/07",null,"BL",null,12,null,34.25,null,"Bolt! Jr.",null,1.7,null,"Animals & Nature",null,"English",null,"Reinforced Library",null,24,null,null,null,null,null,"1 - 2",null,"Jen Besel"]
[null,null,{"$f":"C3525","v":0},null,null,null,"Not Available",null,9781599208350,null,"Gorilla",null,null,null,"Big Beasts",null,null,null,"Black Rabbit Books",null,0,null,23.95,null,0,null,0,null,null,null,null,null,0,0,0,0,0,0,0,0,0,0,0,0,0,0,0,"Spring 2013",null,2013,null,599.88400000000001,null,null,null,"Website",null,34.25,null,"Smart Apple Media",null,null,null,"Animals & Nature",null,"English",null,"Reinforced Library",null,24,null,null,null,"670L",null,"1 - 3",null,"Stephanie Turnbull"]
[{"$f":"A3548","v":0},null,{"$f":"C3548","v":0},null,{"$f":"E3548","v":0},null,9781680729030,null,9781680728972,null,"Is It a Bee or a Wasp?",null,null,null,"Can You Tell the Difference?",null,null,null,"Black Rabbit Books",null,49,null,23.95,null,{"$f":"W3549+5","v":28.95},null,{"$f":"IF(AC3549=FALSE,AT3549,0)","v":0},null,null,null,null,null,{"$f":"IF(AND(A3549>=1,AC3549=\"\"),A3549,0)","v":0},{"$f":"IF(AND(A3549>=1,AC3549=\"x\"),A3549,0)","v":0},{"$f":"IF(AND(A3549>=1,AC3549=\"\"),U3549,0)","v":0},{"$f":"IF(AND(A3549>=1,AC3549=\"x\"),-U3549,0)","v":0},{"$f":"IF(AND(C3549>=1,AC3549=\"\"),C3549,0)","v":0},{"$f":"IF(AND(C3549>=1,AC3549=\"x\"),C3549,0)","v":0},{"$f":"IF(AND(C3549>=1,AC3549=\"\"),W3549*C3549,0)","v":0},{"$f":"IF(AND(C3549>=1,AC3549=\"x\"),-W3549*C3549,0)","v":0},{"$f":"E3549","v":0},{"$f":"Y3549*E3549","v":0},{"$f":"AG3549+AK3549+AO3549","v":0},{"$f":"AH3549+AL3549","v":0},{"$f":"AQ3549+AR3549","v":0},{"$f":"AI3549+AM3549+AP3549","v":0},{"$f":"AJ3549+AN3549","v":0},"Fall 2019",null,2020,null,"595.79/9",null,null,null,22,null,34.25,null,"Hi Jinx",null,3,null,"Animals & Nature",null,"English",null,"Reinforced Library",null,24,null,null,null,null,null,"2 - 6",null,"Gail Terp"]
[{"$f":"A3580","v":0},null,{"$f":"C3580","v":0},null,{"$f":"E3580","v":0},null,9781680728071,null,9781680728019,null,"Siamese",null,null,null,"Cat Stats",null,null,null,"Black Rabbit Books",null,51.05,null,24.95,null,29.95,null,0,null,null,null,null,null,0,0,0,0,0,0,0,0,0,0,0,0,0,0,0,"Fall 2020",null,2020,null,"636.8/25",null,null,null,35,null,35.700000000000003,null,"Bolt!",null,3.3,null,"Animals & Nature",null,"English",null,"Reinforced Library",null,32,null,null,null,"560L",null,"2-6",null,"Nicki Clausen Grace"]
[null,null,{"$f":"C3588","v":0},null,null,null,"Not Available",null,9781933834795,null,"Arts, Society, and Religion",null,null,null,"CC: Native North Americans",null,null,null,"Black Rabbit Books",null,0,null,34.950000000000003,null,0,null,0,null,null,null,null,null,0,0,0,0,0,0,0,0,0,0,0,0,0,0,0,"Spring 2009",null,2009,null,"970.004/97",null,null,null,null,null,50,null,"Brown Bear Books",null,null,null,"History",null,"English",null,"Reinforced Library",null,112,null,null,null,null,null,"9 - 11",null,"Edited by Clare Collinson"]
[{"$f":"A3612","v":0},null,{"$f":"C3612","v":0},null,{"$f":"E3612","v":0},null,9781623105112,null,9781623105051,null,"El DBS Superleggera",null,null,null,"Coches épicos (Epic Cars)",null,null,null,"Black Rabbit Books",null,51.05,null,24.95,null,29.95,null,0,null,null,null,null,null,0,0,0,0,0,0,0,0,0,0,0,0,0,0,0,"Spring 2021",null,2021,null,"629.222/2",null,null,null,32,null,35.700000000000003,null,"Bolt!",null,3.8,null,"Science & Technology",null,"Spanish",null,"Reinforced Library",null,32,null,null,null,null,null,"Grade 2 - 3",null,"Megan Cooley Peterson"]
[{"$f":"A3628","v":0},null,{"$f":"C3628","v":0},null,{"$f":"E3628","v":0},null,9781680728200,null,9781680728149,null,"Termites",null,null,null,"Crawly Creatures",null,null,null,"Black Rabbit Books",null,51.05,null,24.95,null,29.95,null,0,null,null,null,null,null,0,0,0,0,0,0,0,0,0,0,0,0,0,0,0,"Fall 2020",null,2020,null,null,null,null,null,35,null,35.700000000000003,null,"Bolt!",null,3.1,null,"Animals & Nature",null,"English",null,"Reinforced Library",null,32,null,null,null,null,null,"2-6",null,"Lyn A. Sirota"]
[{"$f":"A3652","v":0},null,{"$f":"C3652","v":0},null,{"$f":"E3652","v":0},null,9781680729801,null,9781680729740,null,"El sol y otras estrellas (The Sun & Other Stars)",null,null,null,"Descubrimiento del espacio profundo (Deep Space Discovery)",null,null,null,"Black Rabbit Books",null,51.05,null,24.95,null,{"$f":"W3653+5","v":29.95},null,{"$f":"IF(AC3653=FALSE,AT3653,0)","v":0},null,null,null,null,null,{"$f":"IF(AND(A3653>=1,AC3653=\"\"),A3653,0)","v":0},{"$f":"IF(AND(A3653>=1,AC3653=\"x\"),A3653,0)","v":0},{"$f":"IF(AND(A3653>=1,AC3653=\"\"),U3653,0)","v":0},{"$f":"IF(AND(A3653>=1,AC3653=\"x\"),-U3653,0)","v":0},{"$f":"IF(AND(C3653>=1,AC3653=\"\"),C3653,0)","v":0},{"$f":"IF(AND(C3653>=1,AC3653=\"x\"),C3653,0)","v":0},{"$f":"IF(AND(C3653>=1,AC3653=\"\"),W3653*C3653,0)","v":0},{"$f":"IF(AND(C3653>=1,AC3653=\"x\"),-W3653*C3653,0)","v":0},{"$f":"E3653","v":0},{"$f":"Y3653*E3653","v":0},{"$f":"AG3653+AK3653+AO3653","v":0},{"$f":"AH3653+AL3653","v":0},{"$f":"AQ3653+AR3653","v":0},{"$f":"AI3653+AM3653+AP3653","v":0},{"$f":"AJ3653+AN3653","v":0},"Fall 2020",null,2019,null,523.70000000000005,null,null,null,32,null,35.700000000000003,null,"Bolt!",null,3.6,null,"Science & Technology",null,"Spanish",null,"Reinforced Library",null,32,null,null,null,"580L",null,"2-6",null,"Gail Terp"]
[{"$f":"A3686","v":0},null,{"$f":"C3686","v":0},null,{"$f":"E3686","v":0},null,9781623104863,null,9781623104566,null,"Stegosaurus",null,null,null,"Dinosaurs",null,null,null,"Black Rabbit Books",null,49,null,23.95,null,28.95,null,0,null,null,null,null,null,0,0,0,0,0,0,0,0,0,0,0,0,0,0,0,"Spring 2021",null,2021,null,"567.915/3",null,null,null,11,null,34.25,null,"Bolt! Jr.",null,null,null,"Life Science",null,"English",null,"Reinforced Library",null,24,null,"G",null,null,null,"PreK - 1",null,"Luke Colins"]
[{"$f":"A3702","v":0},null,{"$f":"C3702","v":0},null,{"$f":"E3702","v":0},null,9781680722130,null,9781680721492,null,"Boxers",null,null,null,"Doggie Data",null,null,null,"Black Rabbit Books",null,51.05,null,24.95,null,29.95,null,0,null,null,null,null,null,0,0,0,0,0,0,0,0,0,0,0,0,0,0,0,"Fall 2019",null,2020,null,636.73,null,null,null,35,null,35.700000000000003,null,"Bolt!",null,3.1,null,"Animals & Nature",null,"English",null,"Reinforced Library",null,32,null,"L–N",null,"520L",null,"2 – 5",null,"Margaret Mincks"]
[{"$f":"A3718","v":0},null,{"$f":"C3718","v":0},null,{"$f":"E3718","v":0},null,9781781217740,null,9781781217627,null,"Volcanoes and Earthquakes",null,null,null,"Earth Detectives",null,null,null,"Black Rabbit Books",null,49,null,23.95,null,28.95,null,0,null,null,null,null,null,0,0,0,0,0,0,0,0,0,0,0,0,{"$f":"AQ3723+AR3723","v":0},0,0,"Spring 2022",null,2022,null,null,null,null,null,"Website",null,34.25,null,"Brown Bear Books",null,null,null,"Animals & Nature",null,"English",null,"Reinforced Library",null,24,null,null,null,null,null,"2 - 4",null,"O'Daly, Anne"]
[{"$f":"A3734","v":0},null,{"$f":"C3734","v":0},null,{"$f":"E3734","v":0},null,9781680725445,null,9781680724288,null,"Green Berets",null,null,null,"Elite Warriors",null,null,null,"Black Rabbit Books",null,51.05,null,24.95,null,29.95,null,0,null,null,null,null,null,0,0,0,0,0,0,0,0,0,0,0,0,{"$f":"AQ3738+AR3738","v":0},0,0,"Fall 2020",null,2019,null,"356/.160973",null,null,null,35,null,35.700000000000003,null,"Bolt!",null,null,null,"Science & Technology",null,"English",null,"Reinforced Library",null,32,null,null,null,"520L",null,"2-6",null,"Tom Head"]
[{"$f":"A3756","v":0},null,{"$f":"C3756","v":0},null,{"$f":"E3756","v":0},null,9781623103460,null,9781623102524,null,"Acura NSX",null,null,null,"Epic Cars",null,null,null,"Black Rabbit Books",null,51.05,null,24.95,null,{"$f":"W3757+5","v":29.95},null,{"$f":"IF(AC3757=FALSE,AT3757,0)","v":0},null,null,null,null,null,{"$f":"IF(AND(A3757>=1,AC3757=\"\"),A3757,0)","v":0},{"$f":"IF(AND(A3757>=1,AC3757=\"x\"),A3757,0)","v":0},{"$f":"IF(AND(A3757>=1,AC3757=\"\"),U3757,0)","v":0},{"$f":"IF(AND(A3757>=1,AC3757=\"x\"),-U3757,0)","v":0},{"$f":"IF(AND(C3757>=1,AC3757=\"\"),C3757,0)","v":0},{"$f":"IF(AND(C3757>=1,AC3757=\"x\"),C3757,0)","v":0},{"$f":"IF(AND(C3757>=1,AC3757=\"\"),W3757*C3757,0)","v":0},{"$f":"IF(AND(C3757>=1,AC3757=\"x\"),-W3757*C3757,0)","v":0},{"$f":"E3757","v":0},{"$f":"Y3757*E3757","v":0},{"$f":"AG3757+AK3757+AO3757","v":0},{"$f":"AH3757+AL3757","v":0},{"$f":"AQ3757+AR3757","v":0},{"$f":"AI3757+AM3757+AP3757","v":0},{"$f":"AJ3757+AN3757","v":0},"Spring 2021",null,2021,null,"629.222/2",null,null,null,35,null,35.700000000000003,null,"Bolt!",null,3.1,null,"Science & Technology",null,"English",null,"Reinforced Library",null,32,null,"O",null,null,null,"2-6",null,"Megan Cooley Peterson"]
[null,null,{"$f":"C3788","v":0},null,null,null,"Not Available",null,9781781215395,null,"Salmon",null,null,null,"Fast Track: Life Cycles",null,null,null,"Black Rabbit Books",null,0,null,23.95,null,0,null,0,null,null,null,null,null,0,0,0,0,0,0,0,0,0,0,0,0,0,0,0,"Fall 2020",null,2020,null,null,null,null,null,"Website",null,34.25,null,"Brown Bear Books",null,2.8,null,"Animals & Nature",null,"English",null,"Reinforced Library",null,24,null,null,null,null,null,"K - 3",null,"Nancy Dickmann"]
[{"$f":"A3803","v":0},null,{"$f":"C3803","v":0},null,{"$f":"E3803","v":0},null,9781781214190,null,9781781214022,null,"Wedges",null,null,null,"Fast Track: Simple Machines",null,null,null,"Black Rabbit Books",null,49,null,23.95,null,28.95,null,0,null,null,null,null,null,0,0,0,0,0,0,0,0,0,0,0,0,0,0,0,"Spring 2018",null,2018,null,621.79999999999995,null,null,null,"Website",null,34.25,null,"Brown Bear Books",null,null,null,"Science & Technology",null,"English",null,"Reinforced Library",null,24,null,"J-N",null,null,null,"K - 3",null,"Nancy Dickmann"]
[null,null,{"$f":"C3819","v":0},null,null,null,"Not Available",null,9781936333028,null,"Plants and Microorganisms",null,null,null,"FAYFT: Introducing Biology",null,null,null,"Black Rabbit Books",null,0,null,32.950000000000003,null,0,null,0,null,null,null,null,null,0,0,0,0,0,0,0,0,0,0,0,0,0,0,0,"Spring 2010",null,2010,null,579,null,null,null,null,null,47.1,null,"Brown Bear Books",null,null,null,"Science & Technology",null,"English",null,"Reinforced Library",null,64,null,null,null,null,null,"8 - 10",null,"Edited by: Sarah Eason"]
[null,null,null,null,null,null,null,null,null,null,"Complete Series of 12",null,null,null,"Gearhead Garage",null,null,null,null,null,{"$f":"SUM(U3843:U3854)","v":306.3},null,{"$f":"SUM(W3843:W3854)","v":299.39999999999992},null,{"$f":"SUM(Y3843:Y3854)","v":179.7}]
[null,null,{"$f":"C3872","v":0},null,null,null,"Not Available",null,9781625884138,null,"Terror Bird",null,null,null,"Graphic Prehistoric Animals",null,null,null,"Black Rabbit Books",null,0,null,24.95,null,0,null,0,null,null,null,null,null,0,0,0,0,0,0,0,0,0,0,0,0,0,0,0,"Spring 2017",null,2017,null,568.29999999999995,null,null,null,null,null,35.700000000000003,null,"Smart Apple Media",null,null,null,"Animals & Nature",null,"English",null,"Reinforced Library",null,32,null,"X",null,800,null,"5 - 8",null,"Gary Jeffrey"]
[null,null,null,null,null,null,null,null,null,null,"Complete Series of 6",null,null,null,"History's Warriors",null,null,null,null,null,{"$f":"SUM(U3898:U3903)","v":306.3},null,{"$f":"SUM(W3898:W3903)","v":149.69999999999999},null,{"$f":"SUM(Y3898:Y3903)","v":179.7}]
[]
[{"$f":"A3929","v":0},null,{"$f":"C3929","v":0},null,{"$f":"E3929","v":0},null,9781680723649,null,9781680723342,null,"Pranks to Play at School",null,null,null,"Humorous Hi Jinx",null,null,null,"Black Rabbit Books",null,49,null,23.95,null,28.95,null,0,null,null,null,null,null,0,0,0,0,0,0,0,0,0,0,0,0,0,0,0,"Spring 2018",null,2018,null,"818/.602",null,null,null,23,null,34.25,null,"Hi Jinx",null,null,null,"Arts, Crafts, & Activities",null,"English",null,"Reinforced Library",null,24,null,null,null,null,null,"2 – 5",null,"Megan Cooley Peterson"]
[]
[{"$f":"A3977","v":0},null,{"$f":"C3977","v":0},null,{"$f":"E3977","v":0},null,9781680729436,null,9781680729375,null,"Make Your Own Stomp Rocket",null,null,null,"Make Your Own Fun",null,null,null,"Black Rabbit Books",null,49,null,23.95,null,28.95,null,0,null,null,null,null,null,0,0,0,0,0,0,0,0,0,0,0,0,0,0,0,"Fall 2019",null,2020,null,629.13,null,null,null,23,null,34.25,null,"Hi Jinx",null,null,null,"High Interest",null,"English",null,"Reinforced Library",null,24,null,null,null,null,null,"2 - 6",null,"Julia Garstecki & Stephanie Derkovitz"]
[null,null,null,null,null,null,null,null,null,null,"Complete Series of 6",null,null,null,"Military Tech",null,null,null,null,null,{"$f":"SUM(U4005:U4010)","v":306.3},null,{"$f":"SUM(W4005:W4010)","v":149.69999999999999},null,{"$f":"SUM(Y4005:Y4010)","v":179.7}]
[]
[{"$f":"A4031","v":0},null,{"$f":"C4031","v":0},null,{"$f":"E4031","v":0},null,9781623103569,null,9781623102623,null,"Tornadoes",null,null,null,"Natural Disasters",null,null,null,"Black Rabbit Books",null,51.05,null,24.95,null,29.95,null,0,null,null,null,null,null,0,0,0,0,0,0,0,0,0,0,0,0,0,0,0,"Fall 2021",null,2021,null,"551.55/3",null,null,null,37,null,35.700000000000003,null,"Bolt",null,null,null,"Animals & Nature",null,"English",null,"Reinforced Library",null,32,null,null,null,null,null,"2 - 3",null,"Christine Thomas Alderman"]
[{"$f":"A4046","v":0},null,{"$f":"C4046","v":0},null,{"$f":"E4046","v":0},null,9781623103620,null,9781623102685,null,"Olympic Track and Field Legends",null,null,null,"Olympic Greats",null,null,null,"Black Rabbit Books",null,51.05,null,24.95,null,29.95,null,0,null,null,null,null,null,0,0,0,0,0,0,0,0,0,0,0,0,0,0,0,"Spring 2022",null,2022,null,796.42,null,null,null,31,null,35.700000000000003,null,"Bolt",null,3.5,null,"Sports & Recreation",null,"English",null,"Reinforced Library",null,32,null,"O",null,null,null,"4 - 6",null,"Gitlin, Martin"]
[{"$f":"A4084","v":0},null,{"$f":"C4084","v":0},null,{"$f":"E4084","v":0},null,9781680728811,null,9781680728750,null,"LeBron James",null,null,null,"Player Profiles",null,null,null,"Black Rabbit Books",null,51.05,null,24.95,null,{"$f":"W4087+5","v":29.95},null,{"$f":"IF(AC4087=FALSE,AT4087,0)","v":0},null,null,null,null,null,{"$f":"IF(AND(A4087>=1,AC4087=\"\"),A4087,0)","v":0},{"$f":"IF(AND(A4087>=1,AC4087=\"x\"),A4087,0)","v":0},{"$f":"IF(AND(A4087>=1,AC4087=\"\"),U4087,0)","v":0},{"$f":"IF(AND(A4087>=1,AC4087=\"x\"),-U4087,0)","v":0},0,0,0,0,{"$f":"E4087","v":0},{"$f":"Y4087*E4087","v":0},{"$f":"AG4087+AK4087+AO4087","v":0},{"$f":"AH4087+AL4087","v":0},{"$f":"AQ4087+AR4087","v":0},{"$f":"AI4087+AM4087+AP4087","v":0},{"$f":"AJ4087+AN4087","v":0},"Fall 2020",null,2020,null,"796.323092 [B]",null,null,null,38,null,35.700000000000003,null,"Bolt!",null,3.2,null,"Sports & Recreation",null,"English",null,"Reinforced Library",null,32,null,null,null,"550L",null,"2-6",null,"Barbara Lowell"]
[{"$f":"A4105","v":0},null,{"$f":"C4105","v":0},null,{"$f":"E4105","v":0},null,9781623104146,null,9781623103200,null,"Rapping Rhymes about Animals",null,null,null,"Rap Your World",null,null,null,"Black Rabbit Books",null,49,null,23.95,null,{"$f":"W4106+5","v":28.95},null,{"$f":"IF(AC4106=FALSE,AT4106,0)","v":0},null,null,null,null,null,{"$f":"IF(AND(A4106>=1,AC4106=\"\"),A4106,0)","v":0},{"$f":"IF(AND(A4106>=1,AC4106=\"x\"),A4106,0)","v":0},{"$f":"IF(AND(A4106>=1,AC4106=\"\"),U4106,0)","v":0},{"$f":"IF(AND(A4106>=1,AC4106=\"x\"),-U4106,0)","v":0},{"$f":"IF(AND(C4106>=1,AC4106=\"\"),C4106,0)","v":0},{"$f":"IF(AND(C4106>=1,AC4106=\"x\"),C4106,0)","v":0},{"$f":"IF(AND(C4106>=1,AC4106=\"\"),W4106*C4106,0)","v":0},{"$f":"IF(AND(C4106>=1,AC4106=\"x\"),-W4106*C4106,0)","v":0},{"$f":"E4106","v":0},{"$f":"Y4106*E4106","v":0},{"$f":"AG4106+AK4106+AO4106","v":0},{"$f":"AH4106+AL4106","v":0},{"$f":"AQ4106+AR4106","v":0},{"$f":"AI4106+AM4106+AP4106","v":0},{"$f":"AJ4106+AN4106","v":0},"Spring 2021",null,2021,null,590.20000000000005,null,null,null,23,null,34.25,null,"Hi Jinx",null,null,null,"Poetry",null,"English",null,"Reinforced Library",null,24,null,"O",null,"670L",null,"Grade 2 - 3",null,"Thomas Kingsley Troupe"]
[null,null,{"$f":"C4119","v":0},null,null,null,"Not Available",null,9781625880710,null,"Freshwater Animals",null,null,null,"Safari Sam's Wild Animals",null,null,null,"Black Rabbit Books",null,0,null,23.95,null,0,null,0,null,null,null,null,null,0,0,0,0,0,0,0,0,0,0,0,0,0,0,0,"Spring 2016",null,2016,null,591.76,null,null,null,"Website",null,34.25,null,"Smart Apple Media",null,4.9000000000000004,null,"Animals & Nature",null,"English",null,"Reinforced Library",null,24,null,null,null,null,null,"1 - 3",null,"David West"]
[{"$f":"A4135","v":0},null,{"$f":"C4135","v":0},null,{"$f":"E4135","v":0},null,9781623105228,null,9781623105167,null,"Anacondas (Anacondas)",null,null,null,"Serpientes escurridizas (Slithering Snakes)",null,null,null,"Black Rabbit Books",null,51.05,null,24.95,null,{"$f":"W4136+5","v":29.95},null,{"$f":"IF(AC4136=FALSE,AT4136,0)","v":0},null,null,null,null,null,{"$f":"IF(AND(A4136>=1,AC4136=\"\"),A4136,0)","v":0},{"$f":"IF(AND(A4136>=1,AC4136=\"x\"),A4136,0)","v":0},{"$f":"IF(AND(A4136>=1,AC4136=\"\"),U4136,0)","v":0},{"$f":"IF(AND(A4136>=1,AC4136=\"x\"),-U4136,0)","v":0},{"$f":"IF(AND(C4136>=1,AC4136=\"\"),C4136,0)","v":0},{"$f":"IF(AND(C4136>=1,AC4136=\"x\"),C4136,0)","v":0},{"$f":"IF(AND(C4136>=1,AC4136=\"\"),W4136*C4136,0)","v":0},{"$f":"IF(AND(C4136>=1,AC4136=\"x\"),-W4136*C4136,0)","v":0},{"$f":"E4136","v":0},{"$f":"Y4136*E4136","v":0},{"$f":"AG4136+AK4136+AO4136","v":0},{"$f":"AH4136+AL4136","v":0},{"$f":"AQ4136+AR4136","v":0},{"$f":"AI4136+AM4136+AP4136","v":0},{"$f":"AJ4136+AN4136","v":0},"Fall 2021",null,2021,null,"597.96/7",null,null,null,33,null,35.700000000000003,null,"Bolt",null,3.3,null,"Animals & Nature",null,"English",null,"Reinforced Library",null,32,null,null,null,null,null,"2 - 3",null,"Gail Terp"]
[{"$f":"A4143","v":0},null,{"$f":"C4143","v":0},null,{"$f":"E4143","v":0},null,9781680726084,null,9781680726022,null,"Draw Walking Food!",null,null,null,"Silly Sketcher",null,null,null,"Black Rabbit Books",null,49,null,23.95,null,28.95,null,0,null,null,null,null,null,0,0,0,0,0,0,0,0,0,0,0,0,0,0,0,"Fall 2018",null,2019,null,"741.5/1",null,null,null,23,null,34.25,null,"Hi Jinx",null,null,null,"Arts, Crafts, & Activities",null,"English",null,"Reinforced Library",null,24,null,null,null,null,null,"2 – 5",null,"Luke Colins"]
[{"$f":"A4189","v":0},null,{"$f":"C4189","v":0},null,{"$f":"E4189","v":0},null,9781680722451,null,9781680721812,null,"Atlantis",null,null,null,"Strange . . . But True?",null,null,null,"Black Rabbit Books",null,51.05,null,24.95,null,{"$f":"W4191+5","v":29.95},null,0,null,null,null,null,null,0,0,0,0,0,0,0,0,0,0,0,0,0,0,0,"Fall 2019",null,2020,null,1.94,null,null,null,38,null,35.700000000000003,null,"Bolt!",null,3.3,null,"Legends, Myths, & Paranormal",null,"English",null,"Reinforced Library",null,32,null,"L–N",null,"500L",null,"2 – 5",null,"Kyla Steinkraus"]
[]
[{"$f":"A4219","v":0},null,{"$f":"C4219","v":0},null,{"$f":"E4219","v":0},null,9781680728729,null,9781680728668,null,"Tiger Sharks",null,null,null,"Swimming with Sharks",null,null,null,"Black Rabbit Books",null,51.05,null,24.95,null,29.95,null,0,null,null,null,null,null,0,0,0,0,0,0,0,0,0,0,0,0,0,0,0,"Fall 2020",null,2020,null,"597.3/4",null,null,null,38,null,35.700000000000003,null,"Bolt!",null,3.3,null,"Animals & Nature",null,"English",null,"Reinforced Library",null,32,null,null,null,"550L",null,"2-6",null,"Christine Thomas Alderman"]
[{"$f":"A4237","v":0},null,{"$f":"C4237","v":0},null,{"$f":"E4237","v":0},null,9781680725483,null,9781680724325,null,"Highlights of the Denver Broncos",null,null,null,"Team Stats—Football Edition",null,null,null,"Black Rabbit Books",null,51.05,null,24.95,null,29.95,null,0,null,null,null,null,null,0,0,0,0,0,0,0,0,0,0,0,0,0,0,0,"Fall 2020",null,2019,null,"796.332/640978883",null,null,null,39,null,35.700000000000003,null,"Bolt!",null,3.4,null,"Sports & Recreation",null,"English",null,"Reinforced Library",null,32,null,null,null,"540L",null,"2-6",null,"Marysa Storm"]
[null,null,{"$f":"C4253","v":0},null,null,null,"Not Available",null,9781781212394,null,"Telephones and Cell Phones",null,null,null,"Technology Timelines",null,null,null,"Black Rabbit Books",null,0,null,24.95,null,0,null,0,null,null,null,null,null,0,0,0,0,0,0,0,0,0,0,0,0,0,0,0,"Fall 2014",null,2015,null,621.38499999999999,null,null,null,null,null,35.700000000000003,null,"Brown Bear Books",null,6.4,null,"History",null,"English",null,"Reinforced Library",null,32,null,null,null,null,null,"7 - 9",null,"Tom Jackson"]
[{"$f":"A4292","v":0},null,{"$f":"C4292","v":0},null,{"$f":"E4292","v":0},null,9781623104221,null,9781623103286,null,"Imaginative Explorer's Guide to the Library, The",null,null,null,"The Imaginative Explorer's Guide",null,null,null,"Black Rabbit Books",null,49,null,23.95,null,28.95,null,0,null,null,null,null,null,0,0,0,0,0,0,0,0,0,0,0,0,0,0,0,"Spring 2021",null,2021,null,27,null,null,null,24,null,34.25,null,"Hi Jinx",null,null,null,"Sports & Recreation",null,"English",null,"Reinforced Library",null,24,null,"O",null,"550L",null,"Grade 2 - 3",null,"Eric Braun"]
[{"$f":"A4306","v":0},null,{"$f":"C4306","v":0},null,{"$f":"E4306","v":0},null,9781623103934,null,9781623102999,null,"U.S. Marines",null,null,null,"U.S. Military Forces",null,null,null,"Black Rabbit Books",null,51.05,null,24.95,null,29.95,null,0,null,null,null,null,null,0,0,0,0,0,0,0,0,0,0,0,0,0,0,0,"Spring 2022",null,2022,null,"359.9/60973",null,null,null,29,null,35.700000000000003,null,"Bolt",null,null,null,"High Interest",null,"English",null,"Reinforced Library",null,32,null,"O",null,null,null,"4 - 6",null,"Garstecki, Julia"]
[{"$f":"A4328","v":0},null,{"$f":"C4328","v":0},null,{"$f":"E4328","v":0},null,9781623108069,null,9781623108007,null,"Ambulancias (Ambulances)",null,null,null,"Vehículos de emergencia (Emergency Vehicles)",null,null,null,"Black Rabbit Books",null,49,null,23.95,null,{"$f":"W4329+5","v":28.95},null,{"$f":"IF(AC4329=FALSE,AT4329,0)","v":0},null,null,null,null,null,{"$f":"IF(AND(A4329>=1,AC4329=\"\"),A4329,0)","v":0},{"$f":"IF(AND(A4329>=1,AC4329=\"x\"),A4329,0)","v":0},{"$f":"IF(AND(A4329>=1,AC4329=\"\"),U4329,0)","v":0},{"$f":"IF(AND(A4329>=1,AC4329=\"x\"),-U4329,0)","v":0},{"$f":"IF(AND(C4329>=1,AC4329=\"\"),C4329,0)","v":0},{"$f":"IF(AND(C4329>=1,AC4329=\"x\"),C4329,0)","v":0},{"$f":"IF(AND(C4329>=1,AC4329=\"\"),W4329*C4329,0)","v":0},{"$f":"IF(AND(C4329>=1,AC4329=\"x\"),-W4329*C4329,0)","v":0},{"$f":"E4329","v":0},{"$f":"Y4329*E4329","v":0},{"$f":"AG4329+AK4329+AO4329","v":0},{"$f":"AH4329+AL4329","v":0},{"$f":"AQ4329+AR4329","v":0},{"$f":"AI4329+AM4329+AP4329","v":0},{"$f":"AJ4329+AN4329","v":0},"Fall 2022",null,2023,null,"629.222/34",null,null,null,9,null,34.25,null,"Bolt Jr.",null,null,null,"Community Life",null,"Spanish",null,"Hardcover",null,24,null,null,null,null,null,"K - 3",null,"Besel, Jen"]
[{"$f":"A4336","v":0},null,{"$f":"C4336","v":0},null,{"$f":"E4336","v":0},null,9781623107376,null,9781623107314,null,"Pteranodon vs. Eagle",null,null,null,"Versus!",null,null,null,"Black Rabbit Books",null,49,null,23.95,null,28.95,null,0,null,null,null,null,null,0,0,0,0,0,0,0,0,0,0,0,0,0,0,0,"Spring 2022",null,2022,null,567.91800000000001,null,null,null,21,null,34.25,null,"Hi Jinx",null,3.4,null,"Animals & Nature",null,"English",null,"Reinforced Library",null,24,null,"O",null,null,null,"2 – 5",null,"Duling, Kaitlyn"]
[null,null,{"$f":"C4381","v":0},null,null,null,"Not Available",null,9781680720662,null,"Demi Lovato",null,null,null,"Women Who Rock",null,null,null,"Black Rabbit Books",null,0,null,24.95,null,0,null,0,null,null,null,null,null,0,0,0,0,0,0,0,0,0,0,0,0,0,0,0,"Fall 2016",null,2017,null,"B",null,null,null,39,null,35.700000000000003,null,"Bolt!",null,2.9,null,"Biography",null,"English",null,"Reinforced Library",null,32,null,null,null,"360L",null,"2 – 5",null,"Gail Terp"]
[null,null,{"$f":"C4397","v":0},null,null,null,"Not Available",null,9781936333264,null,"Life Under Occupation",null,null,null,"World War II Sourcebook",null,null,null,"Black Rabbit Books",null,0,null,29.95,null,0,null,{"$f":"IF(AC4399=FALSE,AT4399,0)","v":0},null,null,null,null,null,{"$f":"IF(AND(A4399>=1,AC4399=\"\"),A4399,0)","v":0},{"$f":"IF(AND(A4399>=1,AC4399=\"x\"),A4399,0)","v":0},{"$f":"IF(AND(A4399>=1,AC4399=\"\"),U4399,0)","v":0},{"$f":"IF(AND(A4399>=1,AC4399=\"x\"),-U4399,0)","v":0},0,0,0,0,{"$f":"E4399","v":0},{"$f":"Y4399*E4399","v":0},{"$f":"AG4399+AK4399+AO4399","v":0},{"$f":"AH4399+AL4399","v":0},0,{"$f":"AI4399+AM4399+AP4399","v":0},{"$f":"AJ4399+AN4399","v":0},"Spring 2012",null,2012,null,"940.53/37",null,null,null,null,null,42.8,null,"Brown Bear Books",null,null,null,"History",null,"English",null,"Reinforced Library",null,48,null,null,null,null,null,"6 - 8",null,"Charlie Samuels"]
[null,null,{"$f":"C4410","v":0},null,null,null,"Not Available",null,9781781212332,null,"Life in the War",null,null,null,"World War II: The Full Story",null,null,null,"Black Rabbit Books",null,0,null,29.95,null,0,null,0,null,null,null,null,null,0,0,0,0,0,0,0,0,0,0,0,0,0,0,0,"Fall 2015",null,2016,null,940.53,null,null,null,null,null,42.8,null,"Brown Bear Books",null,7.6,null,"History",null,"English",null,"Reinforced Library",null,48,null,null,null,null,null,"7 - 9",null,"Tim Cooke"]
[{"$f":"A4428","v":0},null,{"$f":"C4428","v":0},null,{"$f":"E4428","v":0},null,9781645821007,null,9781632359346,null,"Communicating with Aliens",null,null,null,"Aliens!",null,null,null,"Bookstaves",null,51.05,null,24.95,null,29.95,null,0,null,null,null,null,null,0,0,0,0,0,0,0,0,0,0,0,0,0,0,0,"Spring 2022",null,2022,null,"576.8/39",null,null,null,null,null,35.700000000000003,null,"12-Story Library",null,null,null,"Legends, Myths, & Paranormal",null,"English",null,"Reinforced Library",null,32,null,"T",null,null,null,"3 - 6",null,"Mason, Jenny"]
[null,null,{"$f":"C4446","v":0},null,null,null,"Not Available",null,9781632350077,null,"12 Most Amazing American Cities, The",null,null,null,"Amazing America",null,null,null,"Bookstaves",null,0,null,24.95,null,0,null,0,null,null,null,null,null,0,0,0,0,0,0,0,0,0,0,0,0,0,0,0,"Spring 2015",null,2015,null,307.76,null,null,null,null,null,35.700000000000003,null,"12-Story Library",null,5.7,null,"Social Studies",null,"English",null,"Reinforced Library",null,32,null,null,null,"820L",null,"3 - 6",null,"Rebecca Rowell"]
[{"$f":"A4482","v":0},null,{"$f":"C4482","v":0},null,{"$f":"E4482","v":0},null,9781632356666,null,9781632355485,null,"Unsung Heroes of the Super Bowl",null,null,null,"Best of the Super Bowl",null,null,null,"Bookstaves",null,51.05,null,24.95,null,29.95,null,0,null,null,null,null,null,0,0,0,0,0,0,0,0,0,0,0,0,0,0,0,"Spring 2019",null,2019,null,"796.332/648",null,null,null,null,null,35.700000000000003,null,"12-Story Library",null,4.8,null,"Sports & Recreation",null,"English",null,"Reinforced Library",null,32,null,"T",null,null,null,"3 - 6",null,"Paul Bowker"]
[{"$f":"A4500","v":0},null,{"$f":"C4500","v":0},null,{"$f":"E4500","v":0},null,9781621435648,null,9781632354457,null,"Working in Fashion",null,null,null,"Career Files",null,null,null,"Bookstaves",null,51.05,null,24.95,null,29.95,null,0,null,null,null,null,null,0,0,0,0,0,0,0,0,0,0,0,0,0,0,0,"Spring 2018",null,2018,null,"746.9/2023",null,null,null,null,null,35.700000000000003,null,"12-Story Library",null,null,null,"Careers",null,"English",null,"Reinforced Library",null,32,null,"U",null,"810L",null,"3 - 6",null,"Mirella S. Miller"]
[{"$f":"A4512","v":0},null,{"$f":"C4512","v":0},null,{"$f":"E4512","v":0},null,9781645820031,null,9781632357151,null,"12 Chefs Who Changed the World",null,null,null,"Change Makers",null,null,null,"Bookstaves",null,51.05,null,24.95,null,{"$f":"W4518+5","v":29.95},null,0,null,null,null,null,null,0,0,0,0,0,0,0,0,0,0,0,0,0,0,0,"Spring 2020",null,2020,null,920,null,null,null,null,null,35.700000000000003,null,"12-Story Library",null,5.2,null,"Social Studies",null,"English",null,"Reinforced Library",null,32,null,"T",null,null,null,"2 – 5",null,"Jamie Kallio"]
[{"$f":"A4526","v":0},null,{"$f":"C4526","v":0},null,{"$f":"E4526","v":0},null,9781632356772,null,9781632355607,null,"Explore Russia: 12 Key Facts",null,null,null,"Country Profiles",null,null,null,"Bookstaves",null,51.05,null,24.95,null,29.95,null,0,null,null,null,null,null,0,0,0,0,0,0,0,0,0,0,0,0,0,0,0,"Spring 2019",null,2019,null,947,null,null,null,null,null,35.700000000000003,null,"12-Story Library",null,null,null,"Social Studies",null,"English",null,"Reinforced Library",null,32,null,"T",null,null,null,"3 - 6",null,"Alicia Z. Klepeis"]
[null,null,{"$f":"C4568","v":0},null,null,null,"Not Available",null,9781632352835,null,"12 Questions about the Declaration of Independence",null,null,null,"Examining Primary Sources",null,null,null,"Bookstaves",null,0,null,24.95,null,0,null,0,null,null,null,null,null,0,0,0,0,0,0,0,0,0,0,0,0,0,0,0,"Spring 2017",null,2017,null,"973.3/13",null,null,null,null,null,35.700000000000003,null,"12-Story Library",null,6.2,null,"Social Studies",null,"English",null,"Reinforced Library",null,32,null,"U",null,"860L",null,"3 - 6",null,"Mirella S. Miller"]
[null,null,null,null,null,null,null,null,null,null,"Complete Series of 8",null,null,null,"Game On!",null,null,null,null,null,{"$f":"SUM(U4589:U4596)","v":0},null,{"$f":"SUM(W4589:W4596)","v":175.59999999999997},null,{"$f":"SUM(Y4589:Y4596)","v":0}]
[{"$f":"A4598","v":0},null,{"$f":"C4598","v":0},null,{"$f":"E4598","v":0},null,9781645820161,null,9781632357298,null,"Explore Paris ",null,null,null,"Great Cities of the World",null,null,null,"Bookstaves",null,51.05,null,24.95,null,29.95,null,0,null,null,null,null,null,0,0,0,0,0,0,0,0,0,0,0,0,0,0,0,"Spring 2020",null,2020,null,944,null,null,null,null,null,35.700000000000003,null,"12-Story Library",null,null,null,"Social Studies",null,"English",null,"Reinforced Library",null,32,null,"T",null,null,null,"2 – 5",null,"Douglas J. Fehlen"]
[null,null,{"$f":"C4618","v":0},null,null,null,"Not Available",null,9781632352743,null,"12 Great Tips on Writing Fiction",null,null,null,"Great Tips on Writing",null,null,null,"Bookstaves",null,0,null,24.95,null,0,null,0,null,null,null,null,null,0,0,0,0,0,0,0,0,0,0,0,0,0,0,0,"Spring 2017",null,2017,null,411,null,null,null,null,null,35.700000000000003,null,"12-Story Library",null,"Not Quizable",null,"Language Arts",null,"English",null,"Reinforced Library",null,32,null,"U",null,"640L",null,"3 - 6",null,"Catherine Elisabeth Shipp"]
[{"$f":"A4638","v":0},null,{"$f":"C4638","v":0},null,{"$f":"E4638","v":0},null,9781632357076,null,9781632355942,null,"History’s Deserted Cities and Places",null,null,null,"Hidden History",null,null,null,"Bookstaves",null,51.05,null,24.95,null,29.95,null,0,null,null,null,null,null,0,0,0,0,0,0,0,0,0,0,0,0,0,0,0,"Spring 2019",null,2019,null,null,null,null,null,null,null,35.700000000000003,null,"12-Story Library",null,5.4,null,"History",null,"English",null,"Reinforced Library",null,32,null,"T",null,null,null,"3 - 6",null,"Tammy Gagne"]
[{"$f":"A4676","v":0},null,{"$f":"C4676","v":0},null,{"$f":"E4676","v":0},null,9781621435242,null,9781632354006,null,"Perspectives on European Colonization of America",null,null,null,"Perspectives on US History",null,null,null,"Bookstaves",null,51.05,null,24.95,null,{"$f":"W4677+5","v":29.95},null,{"$f":"IF(AC4677=FALSE,AT4677,0)","v":0},null,null,null,null,null,{"$f":"IF(AND(A4677>=1,AC4677=\"\"),A4677,0)","v":0},{"$f":"IF(AND(A4677>=1,AC4677=\"x\"),A4677,0)","v":0},{"$f":"IF(AND(A4677>=1,AC4677=\"\"),U4677,0)","v":0},{"$f":"IF(AND(A4677>=1,AC4677=\"x\"),-U4677,0)","v":0},{"$f":"IF(AND(C4677>=1,AC4677=\"\"),C4677,0)","v":0},{"$f":"IF(AND(C4677>=1,AC4677=\"x\"),C4677,0)","v":0},{"$f":"IF(AND(C4677>=1,AC4677=\"\"),W4677*C4677,0)","v":0},{"$f":"IF(AND(C4677>=1,AC4677=\"x\"),-W4677*C4677,0)","v":0},{"$f":"E4677","v":0},{"$f":"Y4677*E4677","v":0},{"$f":"AG4677+AK4677+AO4677","v":0},{"$f":"AH4677+AL4677","v":0},{"$f":"AQ4677+AR4677","v":0},{"$f":"AI4677+AM4677+AP4677","v":0},{"$f":"AJ4677+AN4677","v":0},"Spring 2018",null,2018,null,973.2,null,null,null,null,null,35.700000000000003,null,"12-Story Library",null,null,null,"History",null,"English",null,"Reinforced Library",null,32,null,"U",null,"760L",null,"3 - 6",null,"Clara MacCarald"]
[{"$f":"A4686","v":0},null,{"$f":"C4686","v":0},null,{"$f":"E4686","v":0},null,9781645820475,null,9781632357649,null,"What It Takes to Be a Pro Soccer Player",null,null,null,"Play Like a Pro",null,null,null,"Bookstaves",null,51.05,null,24.95,null,29.95,null,0,null,null,null,null,null,0,0,0,0,0,0,0,0,0,0,0,0,0,0,0,"Spring 2020",null,2020,null,796,null,null,null,null,null,35.700000000000003,null,"12-Story Library",null,null,null,"Sports & Recreation",null,"English",null,"Reinforced Library",null,32,null,"T",null,null,null,"2 – 5",null,"Kaitlyn Duling"]
[null,null,null,null,null,null,null,null,null,null,"Complete Series of 8",null,null,null,"Science Frontiers",null,null,null,null,null,{"$f":"SUM(U4712:U4719)","v":0},null,{"$f":"SUM(W4712:W4719)","v":199.59999999999997},null,{"$f":"SUM(Y4712:Y4719)","v":0}]
[null,null,{"$f":"C4721","v":0},null,null,null,"Not Available",null,9781632353047,null,"Nutrition Myths, Busted!",null,null,null,"Science Myths, Busted!",null,null,null,"Bookstaves",null,0,null,24.95,null,0,null,0,null,null,null,null,null,0,0,0,0,0,0,0,0,0,0,0,0,0,0,0,"Spring 2017",null,2017,null,613.202,null,null,null,null,null,35.700000000000003,null,"12-Story Library",null,5.6,null,"Science & Technology",null,"English",null,"Reinforced Library",null,32,null,"T",null,"830L",null,"3 - 6",null,"Marne Ventura"]
[null,null,{"$f":"C4758","v":0},null,null,null,"Not Available",null,9781632351616,null,"Flight Down",null,null,null,"Tartan House",null,null,null,"Bookstaves",null,0,null,21.95,null,0,null,0,null,null,null,null,null,0,0,0,0,0,0,0,0,0,0,0,0,0,0,0,"Spring 2016",null,2016,null,"FIC",null,null,null,null,null,31.35,null,"12-Story Library",null,4.7,null,"Fiction",null,"English",null,"Reinforced Library",null,96,null,null,null,"700L",null,"6 - 9",null,"Thomas Kingsley Troupe"]
[null,null,null,null,null,null,null,null,null,null,"Complete Series of 13",null,null,null,"Technology Breakthroughs",null,null,null,null,null,{"$f":"SUM(U4782:U4794)","v":408.40000000000003},null,{"$f":"SUM(W4782:W4794)","v":324.34999999999991},null,{"$f":"SUM(Y4782:Y4794)","v":239.59999999999997}]
[null,null,null,null,null,null,null,null,null,null,"Complete Series of 6",null,null,null,"The Coding Club",null,null,null,null,null,{"$f":"SUM(U4797:U4802)","v":0},null,{"$f":"SUM(W4797:W4802)","v":131.69999999999999},null,{"$f":"SUM(Y4797:Y4802)","v":0}]
[null,null,{"$f":"C4804","v":0},null,null,null,"Not Available",null,9781632352187,null,"12 Reasons to Love the Washington Nationals",null,null,null,"The MLB Fan's Guide",null,null,null,"Bookstaves",null,0,null,24.95,null,0,null,0,null,null,null,null,null,0,0,0,0,0,0,0,0,0,0,0,0,0,0,0,"Spring 2016",null,2016,null,796.3576409753,null,null,null,null,null,35.700000000000003,null,"12-Story Library",null,4.9000000000000004,null,"Sports & Recreation",null,"English",null,"Reinforced Library",null,32,null,"T",null,"710L",null,"3 - 6",null,"Bo Smolka"]
[null,null,{"$f":"C4827","v":0},null,null,null,"Not Available",null,9781632351524,null,"Fierce NFL Rivalries: 12 Super-Charged Matchups",null,null,null,"The NFL at a Glance",null,null,null,"Bookstaves",null,0,null,24.95,null,0,null,0,null,null,null,null,null,0,0,0,0,0,0,0,0,0,0,0,0,0,0,0,"Spring 2016",null,2016,null,796.33199999999999,null,null,null,null,null,35.700000000000003,null,"12-Story Library",null,5,null,"Sports & Recreation",null,"English",null,"Reinforced Library",null,32,null,"T",null,"740L",null,"3 - 6",null,"Matt Scheff"]
[{"$f":"A4860","v":0},null,{"$f":"C4860","v":0},null,{"$f":"E4860","v":0},null,9781621435433,null,9781632354211,null,"Incredible Nature",null,null,null,"Unbelievable",null,null,null,"Bookstaves",null,51.05,null,24.95,null,29.95,null,0,null,null,null,null,null,0,0,0,0,0,0,0,0,0,0,0,0,0,0,0,"Spring 2018",null,2018,null,508,null,null,null,null,null,35.700000000000003,null,"12-Story Library",null,5,null,"Social Studies",null,"English",null,"Reinforced Library",null,32,null,"T",null,"740L",null,"3 - 6",null,"Kristin Marciniak"]
[{"$f":"A4876","v":0},null,{"$f":"C4876","v":0},null,{"$f":"E4876","v":0},null,9781645822264,null,9781645821533,null,"Tornadoes: Causes and Effects",null,null,null,"Wild Weather",null,null,null,"Bookstaves",null,51.05,null,24.95,null,29.95,null,0,null,null,null,null,null,0,0,0,0,0,0,0,0,0,0,0,0,0,0,0,"Spring 2022",null,2022,null,"551.55/3",null,null,null,null,null,35.700000000000003,null,"12-Story Library",null,null,null,"Nature",null,"English",null,"Reinforced Library",null,32,null,"T",null,null,null,"3 - 6",null,"Corrigan, Kathleen"]
[{"$f":"A4888","v":0},null,{"$f":"C4888","v":0},null,{"$f":"E4888","v":0},null,9781645820635,null,9781632357830,null,"12 Women in the Space Industry",null,null,null,"Women Who Changed the World",null,null,null,"Bookstaves",null,51.05,null,24.95,null,29.95,null,0,null,null,null,null,null,0,0,0,0,0,0,0,0,0,0,0,0,0,0,0,"Spring 2020",null,2020,null,920,null,null,null,null,null,35.700000000000003,null,"12-Story Library",null,5.3,null,"Social Studies",null,"English",null,"Reinforced Library",null,32,null,"T",null,null,null,"2 – 5",null,"Marne Ventura"]
[{"$f":"A4918","v":0},null,{"$f":"C4918","v":0},null,{"$f":"E4918","v":0},null,9781645279938,null,9781645279914,null,"Algeria",null,null,null,"All Around the World",null,null,null,"Jump!, Inc.",null,26.25,null,18.95,null,{"$f":"W4919+5","v":23.95},null,{"$f":"IF(AC4919=FALSE,AT4919,0)","v":0},null,null,null,null,null,{"$f":"IF(AND(A4919>=1,AC4919=\"\"),A4919,0)","v":0},{"$f":"IF(AND(A4919>=1,AC4919=\"x\"),A4919,0)","v":0},{"$f":"IF(AND(A4919>=1,AC4919=\"\"),U4919,0)","v":0},{"$f":"IF(AND(A4919>=1,AC4919=\"x\"),-U4919,0)","v":0},{"$f":"IF(AND(C4919>=1,AC4919=\"\"),C4919,0)","v":0},{"$f":"IF(AND(C4919>=1,AC4919=\"x\"),C4919,0)","v":0},{"$f":"IF(AND(C4919>=1,AC4919=\"\"),W4919*C4919,0)","v":0},{"$f":"IF(AND(C4919>=1,AC4919=\"x\"),-W4919*C4919,0)","v":0},{"$f":"E4919","v":0},{"$f":"Y4919*E4919","v":0},{"$f":"AG4919+AK4919+AO4919","v":0},{"$f":"AH4919+AL4919","v":0},{"$f":"AQ4919+AR4919","v":0},{"$f":"AI4919+AM4919+AP4919","v":0},{"$f":"AJ4919+AN4919","v":0},"Fall 2021",null,2022,null,965,null,null,null,48,null,26.99,null,"Pogo Books",null,null,null,"Social Studies",null,"English",null,"Reinforced Library",null,24,null,"J",null,null,null,"2 – 5",null,"Kristine Spanier, MLIS"]
[{"$f":"A4918","v":0},null,{"$f":"C4918","v":0},null,{"$f":"E4918","v":0},null,9781624969065,null,9781624969041,null,"Egypt",null,null,null,"All Around the World",null,null,null,"Jump!, Inc.",null,26.25,null,18.95,null,23.95,null,0,null,null,null,null,null,0,0,0,0,0,0,0,0,0,0,0,0,0,0,0,"Fall 2018",null,2019,null,962,null,null,null,48,null,26.99,null,"Pogo Books",null,2.9,null,"Social Studies",null,"English",null,"Reinforced Library",null,24,null,"J",null,"550L",null,"2 – 5",null,"Jessica Dean"]
[{"$f":"A4918","v":0},null,{"$f":"C4918","v":0},null,{"$f":"E4918","v":0},null,9781641286558,null,9781641286527,null,"Scotland",null,null,null,"All Around the World",null,null,null,"Jump!, Inc.",null,26.25,null,18.95,null,23.95,null,0,null,null,null,null,null,0,0,0,0,0,0,0,0,0,0,0,0,0,0,0,"Fall 2019",null,2020,null,941.1,null,null,null,48,null,26.99,null,"Pogo Books",null,2.8,null,"Social Studies",null,"English",null,"Reinforced Library",null,24,null,"J",null,null,null,"2 – 5",null,"Kristine Spanier"]
[]
[{"$f":"A4998","v":0},null,{"$f":"C4998","v":0},null,{"$f":"E4998","v":0},null,9781624965050,null,9781620315576,null,"Circulatory System",null,null,null,"Amazing Body Systems",null,null,null,"Jump!, Inc.",null,26.25,null,18.95,null,{"$f":"W4999+5","v":23.95},null,{"$f":"IF(AC4999=FALSE,AT4999,0)","v":0},null,null,null,null,null,{"$f":"IF(AND(A4999>=1,AC4999=\"\"),A4999,0)","v":0},{"$f":"IF(AND(A4999>=1,AC4999=\"x\"),A4999,0)","v":0},{"$f":"IF(AND(A4999>=1,AC4999=\"\"),U4999,0)","v":0},{"$f":"IF(AND(A4999>=1,AC4999=\"x\"),-U4999,0)","v":0},{"$f":"IF(AND(C4999>=1,AC4999=\"\"),C4999,0)","v":0},{"$f":"IF(AND(C4999>=1,AC4999=\"x\"),C4999,0)","v":0},{"$f":"IF(AND(C4999>=1,AC4999=\"\"),W4999*C4999,0)","v":0},{"$f":"IF(AND(C4999>=1,AC4999=\"x\"),-W4999*C4999,0)","v":0},{"$f":"E4999","v":0},{"$f":"Y4999*E4999","v":0},{"$f":"AG4999+AK4999+AO4999","v":0},{"$f":"AH4999+AL4999","v":0},{"$f":"AQ4999+AR4999","v":0},{"$f":"AI4999+AM4999+AP4999","v":0},{"$f":"AJ4999+AN4999","v":0},"Spring 2017",null,2017,null,612.1,null,null,null,64,null,26.99,null,"Pogo Books",null,2.8,null,"Health",null,"English",null,"Reinforced Library",null,24,null,"J",null,"480L",null,"2 - 4",null,"Karen Latchana Kenney"]
[{"$f":"A5015","v":0},null,{"$f":"C5015","v":0},null,{"$f":"E5015","v":0},null,9781645275732,null,9781645275718,null,"Shooting Stars",null,null,null,"Amazing Sights in the Sky",null,null,null,"Jump!, Inc.",null,26.25,null,18.95,null,{"$f":"W5020+5","v":23.95},null,{"$f":"IF(AC5020=FALSE,AT5020,0)","v":0},null,null,null,null,null,{"$f":"IF(AND(A5020>=1,AC5020=\"\"),A5020,0)","v":0},{"$f":"IF(AND(A5020>=1,AC5020=\"x\"),A5020,0)","v":0},{"$f":"IF(AND(A5020>=1,AC5020=\"\"),U5020,0)","v":0},{"$f":"IF(AND(A5020>=1,AC5020=\"x\"),-U5020,0)","v":0},0,0,0,0,{"$f":"E5020","v":0},{"$f":"Y5020*E5020","v":0},{"$f":"AG5020+AK5020+AO5020","v":0},{"$f":"AH5020+AL5020","v":0},{"$f":"AQ5020+AR5020","v":0},{"$f":"AI5020+AM5020+AP5020","v":0},{"$f":"AJ5020+AN5020","v":0},"Fall 2020",null,2021,null,null,null,null,null,62,null,26.99,null,"Pogo Books",null,null,null,"High Interest",null,"English",null,"Reinforced Library",null,24,null,"J",null,null,null,null,null,"Jane P. Gardner"]
[null,null,null,null,null,null,null,null,null,null,"Complete Series of 7",null,null,null,"Animal Architects",null,null,null,null,null,{"$f":"SUM(U5040:U5046)","v":183.75},null,{"$f":"SUM(W5040:W5046)","v":132.65},null,{"$f":"SUM(Y5040:Y5046)","v":167.64999999999998}]
[{"$f":"A5072","v":0},null,{"$f":"C5072","v":0},null,{"$f":"E5072","v":0},null,9781645278818,null,9781645278801,null,"Cerdos en la granja (Pigs on the Farm)",null,null,null,"Animales de la granja (Farm Animals)",null,null,null,"Jump!, Inc.",null,26.25,null,17.95,null,22.95,null,0,null,null,null,null,null,0,0,0,0,0,0,0,0,0,0,0,0,0,0,0,"Spring 2021",null,2021,null,636.4,null,null,null,77,null,25.65,null,"Bullfrog Books",null,1.2,null,"Animals & Nature",null,"Spanish",null,"Reinforced Library",null,24,null,null,null,null,null,"K–3",null,"Bizzy Harris"]
[{"$f":"A5092","v":0},null,{"$f":"C5092","v":0},null,{"$f":"E5092","v":0},null,9781624960017,null,9781620310014,null,"Cows",null,null,null,"Animals on the Farm",null,null,null,"Jump!, Inc.",null,26.25,null,18.95,null,23.95,null,0,null,null,null,null,null,0,0,0,0,0,0,0,0,0,0,0,0,0,0,0,"Spring 2013",null,2013,null,636.20000000000005,null,null,null,"Website",null,26.99,null,"Bullfrog Books",null,0.8,null,"Animals & Nature",null,"English",null,"Reinforced Library",null,24,null,"D",null,"330L",null,"PreK – 2",null,"Cari Meister"]
[{"$f":"A5101","v":0},null,{"$f":"C5101","v":0},null,{"$f":"E5101","v":0},null,9781645274766,null,9781645274742,null,"Museum",null,null,null,"Around Town",null,null,null,"Jump!, Inc.",null,26.25,null,17.95,null,22.95,null,0,null,null,null,null,null,0,0,0,0,0,0,0,0,0,0,0,0,0,0,0,"Fall 2020",null,2021,null,69,null,null,null,20,null,25.65,null,"Tadpole Books",null,null,null,"Social Studies",null,"English",null,"Reinforced Library",null,16,null,"B",null,null,null,"PreK - 1",null,"Adeline J. Zimmerman"]
[{"$f":"A5123","v":0},null,{"$f":"C5123","v":0},null,{"$f":"E5123","v":0},null,9781624963407,null,9781620312803,null,"Acting",null,null,null,"Artist's Studio",null,null,null,"Jump!, Inc.",null,26.25,null,18.95,null,{"$f":"W5124+5","v":23.95},null,{"$f":"IF(AC5124=FALSE,AT5124,0)","v":0},null,null,null,null,null,{"$f":"IF(AND(A5124>=1,AC5124=\"\"),A5124,0)","v":0},{"$f":"IF(AND(A5124>=1,AC5124=\"x\"),A5124,0)","v":0},{"$f":"IF(AND(A5124>=1,AC5124=\"\"),U5124,0)","v":0},{"$f":"IF(AND(A5124>=1,AC5124=\"x\"),-U5124,0)","v":0},{"$f":"IF(AND(C5124>=1,AC5124=\"\"),C5124,0)","v":0},{"$f":"IF(AND(C5124>=1,AC5124=\"x\"),C5124,0)","v":0},{"$f":"IF(AND(C5124>=1,AC5124=\"\"),W5124*C5124,0)","v":0},{"$f":"IF(AND(C5124>=1,AC5124=\"x\"),-W5124*C5124,0)","v":0},{"$f":"E5124","v":0},{"$f":"Y5124*E5124","v":0},{"$f":"AG5124+AK5124+AO5124","v":0},{"$f":"AH5124+AL5124","v":0},{"$f":"AQ5124+AR5124","v":0},{"$f":"AI5124+AM5124+AP5124","v":0},{"$f":"AJ5124+AN5124","v":0},"Spring 2016",null,2016,null,"792.02/26",null,null,null,"Website",null,26.99,null,"Bullfrog Books",null,1,null,"Arts, Crafts, & Activities",null,"English",null,"Reinforced Library",null,24,null,"F",null,null,null,"PreK – 2",null,"Jenny Fretland VanVoorst"]
[{"$f":"A5139","v":0},null,{"$f":"C5139","v":0},null,{"$f":"E5139","v":0},null,9781624963773,null,9781620313114,null,"Prickly Animals",null,null,null,"Back Off! Animal Defenses",null,null,null,"Jump!, Inc.",null,26.25,null,18.95,null,23.95,null,0,null,null,null,null,null,0,0,0,0,0,0,0,0,0,0,0,0,0,0,0,"Spring 2016",null,2016,null,591.47,null,null,null,"Website",null,26.99,null,"Pogo Books",null,2.7,null,"Animals & Nature",null,"English",null,"Reinforced Library",null,24,null,"J",null,"510L",null,"2 - 4",null,"Nadia Higgins"]
[{"$f":"A5178","v":0},null,{"$f":"C5178","v":0},null,{"$f":"E5178","v":0},null,9781641280242,null,9781641280228,null,"Obeying Laws",null,null,null,"Being an Active Citizen",null,null,null,"Jump!, Inc.",null,26.25,null,18.95,null,{"$f":"W5179+5","v":23.95},null,{"$f":"IF(AC5179=FALSE,AT5179,0)","v":0},null,null,null,null,null,{"$f":"IF(AND(A5179>=1,AC5179=\"\"),A5179,0)","v":0},{"$f":"IF(AND(A5179>=1,AC5179=\"x\"),A5179,0)","v":0},{"$f":"IF(AND(A5179>=1,AC5179=\"\"),U5179,0)","v":0},{"$f":"IF(AND(A5179>=1,AC5179=\"x\"),-U5179,0)","v":0},{"$f":"IF(AND(C5179>=1,AC5179=\"\"),C5179,0)","v":0},{"$f":"IF(AND(C5179>=1,AC5179=\"x\"),C5179,0)","v":0},{"$f":"IF(AND(C5179>=1,AC5179=\"\"),W5179*C5179,0)","v":0},{"$f":"IF(AND(C5179>=1,AC5179=\"x\"),-W5179*C5179,0)","v":0},{"$f":"E5179","v":0},{"$f":"Y5179*E5179","v":0},{"$f":"AG5179+AK5179+AO5179","v":0},{"$f":"AH5179+AL5179","v":0},{"$f":"AQ5179+AR5179","v":0},{"$f":"AI5179+AM5179+AP5179","v":0},{"$f":"AJ5179+AN5179","v":0},"Fall 2018",null,2019,null,"340/.112",null,null,null,52,null,26.99,null,"Pogo Books",null,2.7,null,"High Interest",null,"English",null,"Reinforced Library",null,24,null,"J",null,"520L",null,"2 – 5",null,"Vincent Alexander"]
[{"$f":"A5195","v":0},null,{"$f":"C5195","v":0},null,{"$f":"E5195","v":0},null,9781645277224,null,9781645277217,null,"Jaguars",null,null,null,"Big Cats",null,null,null,"Jump!, Inc.",null,26.25,null,18.95,null,23.95,null,0,null,null,null,null,null,0,0,0,0,0,0,0,0,0,0,0,0,0,0,0,"Spring 2021",null,2021,null,599.75,null,null,null,41,null,26.99,null,"Bullfrog Books",null,1,null,"Animals & Nature",null,"English",null,"Reinforced Library",null,24,null,null,null,null,null,"K–3",null,"Marie Brandle"]
[{"$f":"A5203","v":0},null,{"$f":"C5203","v":0},null,{"$f":"E5203","v":0},null,9781624966460,null,9781620318843,null,"Showing Generosity",null,null,null,"Building Character",null,null,null,"Jump!, Inc.",null,26.25,null,18.95,null,23.95,null,0,null,null,null,null,null,0,0,0,0,0,0,0,0,0,0,0,0,0,0,0,"Spring 2018",null,2018,null,179,null,null,null,34,null,26.99,null,"Bullfrog Books",null,0.9,null,"High Interest",null,"English",null,"Reinforced Library",null,24,null,"F",null,"270L",null,"K - 3",null,"Rebecca Pettiford"]
[null,null,null,null,null,null,null,null,null,null,"Complete Series of 4",null,null,null,"Cazadores de formas (Shape Hunters)",null,null,null,null,null,{"$f":"SUM(U5229:U5232)","v":105},null,{"$f":"SUM(W5229:W5232)","v":75.8},null,{"$f":"SUM(Y5229:Y5232)","v":95.8}]
[{"$f":"A5241","v":0},null,{"$f":"C5241","v":0},null,{"$f":"E5241","v":0},null,9781645276845,null,9781645276821,null,"Celebrando todas las religiones (Celebrating All Religions)",null,null,null,"Celebrando nuestras comunidades (Celebrating Our Communities)",null,null,null,"Jump!, Inc.",null,26.25,null,18.95,null,23.95,null,0,null,null,null,null,null,0,0,0,0,0,0,0,0,0,0,0,0,0,0,0,"Fall 2020",null,2021,null,null,null,null,null,79,null,26.99,null,"Blue Owl Books",null,null,null,"Social Studies",null,"Spanish",null,"Reinforced Library",null,24,null,"H",null,null,null,"2 – 5",null,"Abby Colich"]
[{"$f":"A5282","v":0},null,{"$f":"C5282","v":0},null,{"$f":"E5282","v":0},null,9781624960369,null,9781620310403,null,"Blue in Nature",null,null,null,"Colors in Nature",null,null,null,"Jump!, Inc.",null,26.25,null,18.95,null,{"$f":"W5283+5","v":23.95},null,{"$f":"IF(AC5283=FALSE,AT5283,0)","v":0},null,null,null,null,null,{"$f":"IF(AND(A5283>=1,AC5283=\"\"),A5283,0)","v":0},{"$f":"IF(AND(A5283>=1,AC5283=\"x\"),A5283,0)","v":0},{"$f":"IF(AND(A5283>=1,AC5283=\"\"),U5283,0)","v":0},{"$f":"IF(AND(A5283>=1,AC5283=\"x\"),-U5283,0)","v":0},{"$f":"IF(AND(C5283>=1,AC5283=\"\"),C5283,0)","v":0},{"$f":"IF(AND(C5283>=1,AC5283=\"x\"),C5283,0)","v":0},{"$f":"IF(AND(C5283>=1,AC5283=\"\"),W5283*C5283,0)","v":0},{"$f":"IF(AND(C5283>=1,AC5283=\"x\"),-W5283*C5283,0)","v":0},{"$f":"E5283","v":0},{"$f":"Y5283*E5283","v":0},{"$f":"AG5283+AK5283+AO5283","v":0},{"$f":"AH5283+AL5283","v":0},{"$f":"AQ5283+AR5283","v":0},{"$f":"AI5283+AM5283+AP5283","v":0},{"$f":"AJ5283+AN5283","v":0},"Fall 2012",null,2013,null,535.6,null,null,null,"Website",null,26.99,null,"Bullfrog Books",null,0.8,null,"Animals & Nature",null,"English",null,"Reinforced Library",null,24,null,"F",null,"340L",null,"K - 2",null,"Heather Adamson"]
[{"$f":"A5290","v":0},null,{"$f":"C5290","v":0},null,{"$f":"E5290","v":0},null,9781624962431,null,9781620311561,null,"Crossing Guards",null,null,null,"Community Helpers",null,null,null,"Jump!, Inc.",null,26.25,null,18.95,null,23.95,null,0,null,null,null,null,null,0,0,0,0,0,0,0,0,0,0,0,0,0,0,0,"Fall 2014",null,2015,null,371.7,null,null,null,38,null,26.99,null,"Bullfrog Books",null,0.9,null,"Careers",null,"English",null,"Reinforced Library",null,24,null,"E",null,"370L",null,"K - 2",null,"Rebecca Pettiford"]
[{"$f":"A5290","v":0},null,{"$f":"C5290","v":0},null,{"$f":"E5290","v":0},null,9781624960352,null,9781620310793,null,"Teachers",null,null,null,"Community Helpers",null,null,null,"Jump!, Inc.",null,26.25,null,18.95,null,23.95,null,0,null,null,null,null,null,0,0,0,0,0,0,0,0,0,0,0,0,0,0,0,"Spring 2013",null,2013,null,371.1,null,null,null,38,null,26.99,null,"Bullfrog Books",null,0.9,null,"Careers",null,"English",null,"Reinforced Library",null,24,null,"E",null,"390L",null,"K - 2",null,"Cari Meister"]
[{"$f":"A5329","v":0},null,{"$f":"C5329","v":0},null,{"$f":"E5329","v":0},null,9781636908540,null,9781636908526,null,"Concrete Mixers",null,null,null,"Construction Zone",null,null,null,"Jump!, Inc.",null,26.25,null,18.95,null,23.95,null,0,null,null,null,null,null,0,0,0,0,0,0,0,0,0,0,0,0,0,0,0,"Fall 2022",null,2023,null,620.1,null,null,null,29,null,26.99,null,"Bullfrog Books",null,1,null,"Technology & Manufacturing",null,"English",null,"Reinforced Library",null,24,null,"F",null,null,null,"K–3",null,"Rebecca Pettiford"]
[{"$f":"A5362","v":0},null,{"$f":"C5362","v":0},null,{"$f":"E5362","v":0},null,9781636901701,null,9781636901688,null,"Del metal a la bicicleta (From Metal to Bicycle)",null,null,null,"De dónde viene? (Where Does It Come From?)",null,null,null,"Jump!, Inc.",null,26.25,null,17.95,null,22.95,null,0,null,null,null,null,null,0,0,0,0,0,0,0,0,0,0,0,0,0,0,0,"Fall 2021",null,2022,null,null,null,null,null,77,null,25.65,null,"Bullfrog Books",null,0.9,null,"High Interest",null,"Spanish",null,"Reinforced Library",null,24,null,"F",null,null,null,"K - 3",null,"Avery Toolen"]
[]
[{"$f":"A5388","v":0},null,{"$f":"C5388","v":0},null,{"$f":"E5388","v":0},null,9781624963148,null,9781620312278,null,"Volcanoes",null,null,null,"Disaster Zone",null,null,null,"Jump!, Inc.",null,26.25,null,18.95,null,23.95,null,0,null,null,null,null,null,0,0,0,0,0,0,0,0,0,0,0,0,0,0,0,"Fall 2015",null,2016,null,551.21,null,null,null,"Website",null,26.99,null,"Pogo Books",null,2.9,null,"Animals & Nature",null,"English",null,"Reinforced Library",null,24,null,"J",null,"500L",null,"2 - 4",null,"Cari Meister"]
[{"$f":"A5417","v":0},null,{"$f":"C5417","v":0},null,{"$f":"E5417","v":0},null,9781645279365,null,9781645279341,null,"Service Dogs",null,null,null,"Dogs on Duty",null,null,null,"Jump!, Inc.",null,26.25,null,18.95,null,{"$f":"W5421+5","v":23.95},null,{"$f":"IF(AC5421=FALSE,AT5421,0)","v":0},null,null,null,null,null,{"$f":"IF(AND(A5421>=1,AC5421=\"\"),A5421,0)","v":0},{"$f":"IF(AND(A5421>=1,AC5421=\"x\"),A5421,0)","v":0},{"$f":"IF(AND(A5421>=1,AC5421=\"\"),U5421,0)","v":0},{"$f":"IF(AND(A5421>=1,AC5421=\"x\"),-U5421,0)","v":0},0,0,0,0,0,0,{"$f":"AG5421+AK5421+AO5421","v":0},{"$f":"AH5421+AL5421","v":0},{"$f":"AQ5421+AR5421","v":0},{"$f":"AI5421+AM5421+AP5421","v":0},{"$f":"AJ5421+AN5421","v":0},"Spring 2022",null,2022,null,636.70000000000005,null,null,null,30,null,26.99,null,"Bullfrog Books",null,1,null,"Animals & Nature",null,"English",null,"Reinforced Library",null,24,null,"G",null,null,null,"K–3",null,"Marie Brandle"]
[]
[{"$f":"A5470","v":0},null,{"$f":"C5470","v":0},null,{"$f":"E5470","v":0},null,9781624965760,null,9781620316993,null,"Golden Gate Bridge",null,null,null,"Engineering Marvels",null,null,null,"Jump!, Inc.",null,26.25,null,18.95,null,23.95,null,0,null,null,null,null,null,0,0,0,0,0,0,0,0,0,0,0,0,0,0,0,"Fall 2017",null,2018,null,"624.2/30979461",null,null,null,62,null,26.99,null,"Pogo Books",null,2.9,null,"Science & Technology",null,"English",null,"Reinforced Library",null,24,null,"K",null,"510L",null,"2 - 4",null,"Nikole Brooks Bethea"]
[{"$f":"A5488","v":0},null,{"$f":"C5488","v":0},null,{"$f":"E5488","v":0},null,9781636907765,null,9781636907741,null,"Indian Ocean",null,null,null,"Exploring Our Oceans",null,null,null,"Jump!, Inc.",null,26.25,null,18.95,null,{"$f":"W5491+5","v":23.95},null,0,null,null,null,null,null,0,0,0,0,0,0,0,0,0,0,0,0,0,0,0,"Fall 2022",null,2023,null,551.46,null,null,null,54,null,26.99,null,"Pogo Books",null,2.8,null,"Animals & Nature",null,"English",null,"Reinforced Library",null,24,null,"J",null,null,null,"2–5",null,"Avery Toolen"]
[{"$f":"A5505","v":0},null,{"$f":"C5505","v":0},null,{"$f":"E5505","v":0},null,9781636901947,null,9781636901923,null,"Our Pet Bird",null,null,null,"Family Pets",null,null,null,"Jump!, Inc.",null,26.25,null,18.95,null,{"$f":"W5506+5","v":23.95},null,{"$f":"IF(AC5506=FALSE,AT5506,0)","v":0},null,null,null,null,null,{"$f":"IF(AND(A5506>=1,AC5506=\"\"),A5506,0)","v":0},{"$f":"IF(AND(A5506>=1,AC5506=\"x\"),A5506,0)","v":0},{"$f":"IF(AND(A5506>=1,AC5506=\"\"),U5506,0)","v":0},{"$f":"IF(AND(A5506>=1,AC5506=\"x\"),-U5506,0)","v":0},{"$f":"IF(AND(C5506>=1,AC5506=\"\"),C5506,0)","v":0},{"$f":"IF(AND(C5506>=1,AC5506=\"x\"),C5506,0)","v":0},{"$f":"IF(AND(C5506>=1,AC5506=\"\"),W5506*C5506,0)","v":0},{"$f":"IF(AND(C5506>=1,AC5506=\"x\"),-W5506*C5506,0)","v":0},{"$f":"E5506","v":0},{"$f":"Y5506*E5506","v":0},{"$f":"AG5506+AK5506+AO5506","v":0},{"$f":"AH5506+AL5506","v":0},{"$f":"AQ5506+AR5506","v":0},{"$f":"AI5506+AM5506+AP5506","v":0},{"$f":"AJ5506+AN5506","v":0},"Fall 2021",null,2022,null,null,null,null,null,8,null,26.99,null,"Grasshopper Books",null,null,null,"Animals & Nature",null,"English",null,"Reinforced Library",null,16,null,null,null,null,null,"Pre-K–K",null,"Michele Jakubowski"]
[{"$f":"A5523","v":0},null,{"$f":"C5523","v":0},null,{"$f":"E5523","v":0},null,9781624966125,null,9781620317655,null,"Chicks",null,null,null,"Farm Babies",null,null,null,"Jump!, Inc.",null,26.25,null,17.95,null,22.95,null,{"$f":"IF(AC5525=FALSE,AT5525,0)","v":0},null,null,null,null,null,{"$f":"IF(AND(A5525>=1,AC5525=\"\"),A5525,0)","v":0},{"$f":"IF(AND(A5525>=1,AC5525=\"x\"),A5525,0)","v":0},{"$f":"IF(AND(A5525>=1,AC5525=\"\"),U5525,0)","v":0},{"$f":"IF(AND(A5525>=1,AC5525=\"x\"),-U5525,0)","v":0},0,0,0,0,{"$f":"E5525","v":0},{"$f":"Y5525*E5525","v":0},{"$f":"AG5525+AK5525+AO5525","v":0},{"$f":"AH5525+AL5525","v":0},{"$f":"AQ5525+AR5525","v":0},{"$f":"AI5525+AM5525+AP5525","v":0},{"$f":"AJ5525+AN5525","v":0},"Fall 2017",null,2018,null,636.5,null,null,null,"Website",null,25.65,null,"Tadpole Books",null,0.8,null,"Animals & Nature",null,"English",null,"Reinforced Library",null,16,null,"E",null,null,null,"K - 2",null,"Tim Mayerling"]
[{"$f":"A5554","v":0},null,{"$f":"C5554","v":0},null,{"$f":"E5554","v":0},null,9781624963315,null,9781620312445,null,"Día de San Valentín (Valentine's Day)",null,null,null,"Fiestas (Holidays)",null,null,null,"Jump!, Inc.",null,26.25,null,18.95,null,23.95,null,0,null,null,null,null,null,0,0,0,0,0,0,0,0,0,0,0,0,0,0,0,"Fall 2015",null,2016,null,394.26179999999999,null,null,null,77,null,26.99,null,"Bullfrog Books",null,0.9,null,"Social Studies",null,"Spanish",null,"Reinforced Library",null,24,null,"F",null,null,null,"PreK – 2",null,"Rebecca Pettiford"]
[]
[{"$f":"A5592","v":0},null,{"$f":"C5592","v":0},null,{"$f":"E5592","v":0},null,9781636906683,null,9781636906669,null,"Exercising",null,null,null,"First Routines",null,null,null,"Jump!, Inc.",null,22.5,null,17.95,null,22.95,null,0,null,null,null,null,null,0,0,0,0,0,0,0,0,0,0,0,0,0,0,0,"Fall 2022",null,2023,null,613.70000000000005,null,null,null,15,null,25.65,null,"Tadpole Books",null,0.4,null,"Social Studies",null,"English",null,"Reinforced Library",null,16,null,"A",null,null,null,"PreK–1",null,"Jenna Lee Gleisner"]
[{"$f":"A5608","v":0},null,{"$f":"C5608","v":0},null,{"$f":"E5608","v":0},null,9781636900353,null,9781636900339,null,"Energy",null,null,null,"Foundations of Physics",null,null,null,"Jump!, Inc.",null,26.25,null,18.95,null,23.95,null,0,null,null,null,null,null,0,0,0,0,0,0,0,0,0,0,0,0,0,0,0,"Fall 2021",null,2022,null,null,null,null,null,66,null,26.99,null,"Pogo Books",null,2.7,null,"Science",null,"English",null,"Reinforced Library",null,24,null,"M",null,null,null,"2–5",null,"Anita Nahta Amin"]
[{"$f":"A5626","v":0},null,{"$f":"C5626","v":0},null,{"$f":"E5626","v":0},null,9781641289337,null,9781641289313,null,"Brown",null,null,null,"Fun with Colors",null,null,null,"Jump!, Inc.",null,26.25,null,17.95,null,22.95,null,0,null,null,null,null,null,0,0,0,0,0,0,0,0,0,0,0,0,0,0,0,"Fall 2019",null,2020,null,535.6,null,null,null,21,null,25.65,null,"Tadpole Books",null,null,null,"High Interest",null,"English",null,"Reinforced Library",null,16,null,"C",null,null,null,"PreK - 1",null,"Anna C. Peterson"]
[null,null,null,null,null,null,null,null,null,null,"Complete Series of 7",null,null,null,"Healthy Living",null,null,null,null,null,{"$f":"SUM(U5666:U5672)","v":183.75},null,{"$f":"SUM(W5666:W5672)","v":132.65},null,{"$f":"SUM(Y5666:Y5672)","v":167.64999999999998}]
[{"$f":"A5674","v":0},null,{"$f":"C5674","v":0},null,{"$f":"E5674","v":0},null,9781624966590,null,9781620318669,null,"Golden Gate Bridge",null,null,null,"Hello, America!",null,null,null,"Jump!, Inc.",null,26.25,null,18.95,null,23.95,null,0,null,null,null,null,null,0,0,0,0,0,0,0,0,0,0,0,0,0,0,0,"Spring 2018",null,2018,null,624.20000000000005,null,null,null,"Website",null,26.99,null,"Bullfrog Books",null,1,null,"Social Studies",null,"English",null,"Reinforced Library",null,24,null,"E",null,"350L",null,"K - 3",null,"Katherine Rawson"]
[{"$f":"A5698","v":0},null,{"$f":"C5698","v":0},null,{"$f":"E5698","v":0},null,9781636900803,null,9781636900780,null,"Christmas",null,null,null,"Holiday Fun!",null,null,null,"Jump!, Inc.",null,26.25,null,17.95,null,{"$f":"W5699+5","v":22.95},null,{"$f":"IF(AC5699=FALSE,AT5699,0)","v":0},null,null,null,null,null,{"$f":"IF(AND(A5699>=1,AC5699=\"\"),A5699,0)","v":0},{"$f":"IF(AND(A5699>=1,AC5699=\"x\"),A5699,0)","v":0},{"$f":"IF(AND(A5699>=1,AC5699=\"\"),U5699,0)","v":0},{"$f":"IF(AND(A5699>=1,AC5699=\"x\"),-U5699,0)","v":0},{"$f":"IF(AND(C5699>=1,AC5699=\"\"),C5699,0)","v":0},{"$f":"IF(AND(C5699>=1,AC5699=\"x\"),C5699,0)","v":0},{"$f":"IF(AND(C5699>=1,AC5699=\"\"),W5699*C5699,0)","v":0},{"$f":"IF(AND(C5699>=1,AC5699=\"x\"),-W5699*C5699,0)","v":0},{"$f":"E5699","v":0},{"$f":"Y5699*E5699","v":0},{"$f":"AG5699+AK5699+AO5699","v":0},{"$f":"AH5699+AL5699","v":0},{"$f":"AQ5699+AR5699","v":0},{"$f":"AI5699+AM5699+AP5699","v":0},{"$f":"AJ5699+AN5699","v":0},"Fall 2021",null,2022,null,394.2663,null,null,null,16,null,25.65,null,"Tadpole Books",null,0.8,null,"Social Studies",null,"English",null,"Reinforced Library",null,16,null,null,null,null,null,"PreK-1",null,"Adeline J. Zimmerman"]
[{"$f":"A5708","v":0},null,{"$f":"C5708","v":0},null,{"$f":"E5708","v":0},null,9781624962721,null,9781620311851,null,"Halloween",null,null,null,"Holidays",null,null,null,"Jump!, Inc.",null,26.25,null,18.95,null,23.95,null,0,null,null,null,null,null,0,0,0,0,0,0,0,0,0,0,0,0,0,0,0,"Fall 2015",null,2016,null,394.26459999999997,null,null,null,43,null,26.99,null,"Bullfrog Books",null,0.9,null,"Social Studies",null,"English",null,"Reinforced Library",null,24,null,"F",null,null,null,"K - 3",null,"Rebecca Pettiford"]
[{"$f":"A5744","v":0},null,{"$f":"C5744","v":0},null,{"$f":"E5744","v":0},null,9781624965197,null,9781620315712,null,"Syrup",null,null,null,"How Is It Made?",null,null,null,"Jump!, Inc.",null,26.25,null,18.95,null,23.95,null,0,null,null,null,null,null,0,0,0,0,0,0,0,0,0,0,0,0,0,0,0,"Spring 2017",null,2017,null,"664/.132",null,null,null,"Website",null,26.99,null,"Pogo Books",null,2.8,null,"Social Studies",null,"English",null,"Reinforced Library",null,24,null,"J",null,"560L",null,"K - 2",null,"R.J. Bailey"]
[{"$f":"A5752","v":0},null,{"$f":"C5752","v":0},null,{"$f":"E5752","v":0},null,9781624964107,null,9781620313633,null,"Tae Kwon Do",null,null,null,"I Love Sports",null,null,null,"Jump!, Inc.",null,26.25,null,18.95,null,23.95,null,0,null,null,null,null,null,0,0,0,0,0,0,0,0,0,0,0,0,0,0,0,"Fall 2016",null,2017,null,"796.815/7",null,null,null,"Website",null,26.99,null,"Bullfrog Books",null,1,null,"Sports & Recreation",null,"English",null,"Reinforced Library",null,24,null,"F",null,null,null,"K - 3",null,"Cari Meister"]
[{"$f":"A5774","v":0},null,{"$f":"C5774","v":0},null,{"$f":"E5774","v":0},null,9781641282093,null,9781641282079,null,"Neil deGrasse Tyson",null,null,null,"In the Spotlight",null,null,null,"Jump!, Inc.",null,26.25,null,18.95,null,23.95,null,0,null,null,null,null,null,0,0,0,0,0,0,0,0,0,0,0,0,0,0,0,"Spring 2019",null,2019,null,523.01092000000006,null,null,null,42,null,26.99,null,"Bullfrog Books",null,1,null,"Biography",null,"English",null,"Reinforced Library",null,24,null,"G",null,null,null,"K - 3",null,"Kaitlyn Duling"]
[{"$f":"A5799","v":0},null,{"$f":"C5799","v":0},null,{"$f":"E5799","v":0},null," 9781641280815",null,9781641280808,null,"Ventoso (Windy)",null,null,null,"Informe del tiempo (Weather Report)",null,null,null,"Jump!, Inc.",null,26.25,null,17.95,null,22.95,null,{"$f":"IF(AC5803=FALSE,AT5803,0)","v":0},null,null,null,null,null,{"$f":"IF(AND(A5803>=1,AC5803=\"\"),A5803,0)","v":0},{"$f":"IF(AND(A5803>=1,AC5803=\"x\"),A5803,0)","v":0},{"$f":"IF(AND(A5803>=1,AC5803=\"\"),U5803,0)","v":0},{"$f":"IF(AND(A5803>=1,AC5803=\"x\"),-U5803,0)","v":0},0,0,0,0,{"$f":"E5803","v":0},{"$f":"Y5803*E5803","v":0},{"$f":"AG5803+AK5803+AO5803","v":0},{"$f":"AH5803+AL5803","v":0},{"$f":"AQ5803+AR5803","v":0},{"$f":"AI5803+AM5803+AP5803","v":0},{"$f":"AJ5803+AN5803","v":0},"Fall 2018",null,2019,null,"551.5/18",null,null,null,75,null,25.65,null,"Tadpole Books",null,null,null,"Science & Technology",null,"Spanish",null,"Reinforced Library",null,16,null,null,null,null,null,"PreK - 1",null,"Tessa Kenan"]
[{"$f":"A5805","v":0},null,{"$f":"C5805","v":0},null,{"$f":"E5805","v":0},null,9781624962509,null,9781620311639,null,"Praying Mantises",null,null,null,"Insect World",null,null,null,"Jump!, Inc.",null,26.25,null,18.95,null,23.95,null,0,null,null,null,null,null,0,0,0,0,0,0,0,0,0,0,0,0,0,0,0,"Fall 2014",null,2015,null,"595.7/27",null,null,null,"Website",null,26.99,null,"Bullfrog Books",null,0.9,null,"Animals & Nature",null,"English",null,"Reinforced Library",null,24,null,"E",null,"330L",null,"K - 2",null,"Mari Schuh"]
[{"$f":"A5853","v":0},null,{"$f":"C5853","v":0},null,{"$f":"E5853","v":0},null,9781641280679,null,9781641280662,null,"El enojo (Angry)",null,null,null,"Las emociones (Emotions)",null,null,null,"Jump!, Inc.",null,26.25,null,17.95,null,{"$f":"W5854+5","v":22.95},null,{"$f":"IF(AC5854=FALSE,AT5854,0)","v":0},null,null,null,null,null,{"$f":"IF(AND(A5854>=1,AC5854=\"\"),A5854,0)","v":0},{"$f":"IF(AND(A5854>=1,AC5854=\"x\"),A5854,0)","v":0},{"$f":"IF(AND(A5854>=1,AC5854=\"\"),U5854,0)","v":0},{"$f":"IF(AND(A5854>=1,AC5854=\"x\"),-U5854,0)","v":0},{"$f":"IF(AND(C5854>=1,AC5854=\"\"),C5854,0)","v":0},{"$f":"IF(AND(C5854>=1,AC5854=\"x\"),C5854,0)","v":0},{"$f":"IF(AND(C5854>=1,AC5854=\"\"),W5854*C5854,0)","v":0},{"$f":"IF(AND(C5854>=1,AC5854=\"x\"),-W5854*C5854,0)","v":0},{"$f":"E5854","v":0},{"$f":"Y5854*E5854","v":0},{"$f":"AG5854+AK5854+AO5854","v":0},{"$f":"AH5854+AL5854","v":0},{"$f":"AQ5854+AR5854","v":0},{"$f":"AI5854+AM5854+AP5854","v":0},{"$f":"AJ5854+AN5854","v":0},"Fall 2018",null,2019,null,"152.4/7",null,null,null,75,null,25.65,null,"Tadpole Books",null,null,null,"High Interest",null,"Spanish",null,"Reinforced Library",null,16,null,null,null,null,null,"PreK - 1",null,"Genevieve Nilsen"]
[null,null,null,null,null,null,null,null,null,null,"Complete Series of 6",null,null,null,"Las partes de los animales (Animal Part Smarts) ",null,null,null,null,null,{"$f":"SUM(U5874:U5879)","v":157.5},null,{"$f":"SUM(W5874:W5879)","v":107.7},null,{"$f":"SUM(Y5874:Y5879)","v":137.69999999999999}]
[{"$f":"A5887","v":0},null,{"$f":"C5887","v":0},null,{"$f":"E5887","v":0},null,9781624965838,null,9781620317068,null,"Canyons",null,null,null,"Legendary Landforms",null,null,null,"Jump!, Inc.",null,26.25,null,18.95,null,{"$f":"W5888+5","v":23.95},null,{"$f":"IF(AC5888=FALSE,AT5888,0)","v":0},null,null,null,null,null,{"$f":"IF(AND(A5888>=1,AC5888=\"\"),A5888,0)","v":0},{"$f":"IF(AND(A5888>=1,AC5888=\"x\"),A5888,0)","v":0},{"$f":"IF(AND(A5888>=1,AC5888=\"\"),U5888,0)","v":0},{"$f":"IF(AND(A5888>=1,AC5888=\"x\"),-U5888,0)","v":0},{"$f":"IF(AND(C5888>=1,AC5888=\"\"),C5888,0)","v":0},{"$f":"IF(AND(C5888>=1,AC5888=\"x\"),C5888,0)","v":0},{"$f":"IF(AND(C5888>=1,AC5888=\"\"),W5888*C5888,0)","v":0},{"$f":"IF(AND(C5888>=1,AC5888=\"x\"),-W5888*C5888,0)","v":0},{"$f":"E5888","v":0},{"$f":"Y5888*E5888","v":0},{"$f":"AG5888+AK5888+AO5888","v":0},{"$f":"AH5888+AL5888","v":0},{"$f":"AQ5888+AR5888","v":0},{"$f":"AI5888+AM5888+AP5888","v":0},{"$f":"AJ5888+AN5888","v":0},"Fall 2017",null,2018,null,"551.44/2",null,null,null,"Website",null,26.99,null,"Pogo Books",null,2.9,null,"Animals & Nature",null,"English",null,"Reinforced Library",null,24,null,"J",null,"550L",null,"2 - 4",null,"Rebecca Pettiford"]
[{"$f":"A5895","v":0},null,{"$f":"C5895","v":0},null,{"$f":"E5895","v":0},null,9781641280020,null,9781641280006,null,"Trucks",null,null,null,"Let's Go!",null,null,null,"Jump!, Inc.",null,26.25,null,17.95,null,22.95,null,0,null,null,null,null,null,0,0,0,0,0,0,0,0,0,0,0,0,0,0,0,"Fall 2018",null,2019,null,629.22400000000005,null,null,null,23,null,25.65,null,"Tadpole Books",null,null,null,"Science & Technology",null,"English",null,"Reinforced Library",null,16,null,"C",null,null,null,"PreK - 1",null,"Tessa Kenan"]
[{"$f":"A5914","v":0},null,{"$f":"C5914","v":0},null,{"$f":"E5914","v":0},null,9781636902753,null,9781636902739,null,"Tennis",null,null,null,"Let's Play Sports!",null,null,null,"Jump!, Inc.",null,26.25,null,18.95,null,23.95,null,0,null,null,null,null,null,0,0,0,0,0,0,0,0,0,0,0,0,0,0,0,"Spring 2022",null,2022,null,796.34199999999998,null,null,null,17,null,26.99,null,"Tadpole Books",null,null,null,"Sports & Recreation",null,"English",null,"Reinforced Library",null,16,null,"C",null,null,null,"PreK-1",null,"Tessa Kenan"]
[null,null,null,null,null,null,null,null,null,null,"Complete Series of 8",null,null,null,"Los bebés de la selva (Rain Forest Babies)",null,null,null,null,null,{"$f":"SUM(U5959:U5966)","v":210},null,{"$f":"SUM(W5959:W5966)","v":143.6},null,{"$f":"SUM(Y5959:Y5966)","v":183.59999999999997}]
[]
[null,null,null,null,null,null,null,null,null,null,"Complete Series of 6",null,null,null,"Los grandes felinos (Big Cats)",null,null,null,null,null,{"$f":"SUM(U5993:U5998)","v":157.5},null,{"$f":"SUM(W5993:W5998)","v":113.7},null,{"$f":"SUM(Y5993:Y5998)","v":143.69999999999999}]
[null,null,null,null,null,null,null,null,null,null,"Complete Series of 6",null,null,null,"Machines and Motion",null,null,null,null,null,{"$f":"SUM(U6017:U6022)","v":157.5},null,{"$f":"SUM(W6017:W6022)","v":113.7},null,{"$f":"SUM(Y6017:Y6022)","v":143.69999999999999}]
[{"$f":"A6024","v":0},null,{"$f":"C6024","v":0},null,{"$f":"E6024","v":0},null,9781624960567,null,9781620310441,null,"Bulldozers",null,null,null,"Machines at Work",null,null,null,"Jump!, Inc.",null,26.25,null,18.95,null,23.95,null,0,null,null,null,null,null,0,0,0,0,0,0,0,0,0,0,0,0,0,0,0,"Fall 2012",null,2013,null,629.22500000000002,null,null,null,"Website",null,26.99,null,"Bullfrog Books",null,0.9,null,"Science & Technology",null,"English",null,"Reinforced Library",null,24,null,"F",null,"300L",null,"K - 2",null,"Cari Meister"]
[{"$f":"A6058","v":0},null,{"$f":"C6058","v":0},null,{"$f":"E6058","v":0},null,9781624967054,null,9781620319222,null,"Titanic",null,null,null,"Man-Made Disasters",null,null,null,"Jump!, Inc.",null,26.25,null,18.95,null,{"$f":"W6063+5","v":23.95},null,{"$f":"IF(AC6063=FALSE,AT6063,0)","v":0},null,null,null,null,null,{"$f":"IF(AND(A6063>=1,AC6063=\"\"),A6063,0)","v":0},{"$f":"IF(AND(A6063>=1,AC6063=\"x\"),A6063,0)","v":0},{"$f":"IF(AND(A6063>=1,AC6063=\"\"),U6063,0)","v":0},{"$f":"IF(AND(A6063>=1,AC6063=\"x\"),-U6063,0)","v":0},0,0,0,0,{"$f":"E6063","v":0},{"$f":"Y6063*E6063","v":0},{"$f":"AG6063+AK6063+AO6063","v":0},{"$f":"AH6063+AL6063","v":0},{"$f":"AQ6063+AR6063","v":0},{"$f":"AI6063+AM6063+AP6063","v":0},{"$f":"AJ6063+AN6063","v":0},"Spring 2018",null,2018,null,910.91629999999998,null,null,null,"Website",null,26.99,null,"Pogo Books",null,3.1,null,"History",null,"English",null,"Reinforced Library",null,24,null,"K",null,"440L",null,"2 – 5",null,"Jenny Fretland VanVoorst"]
[{"$f":"A6077","v":0},null,{"$f":"C6077","v":0},null,{"$f":"E6077","v":0},null,9781624964572,null,9781620314104,null,"Sort It!",null,null,null,"Math It!",null,null,null,"Jump!, Inc.",null,26.25,null,18.95,null,23.95,null,0,null,null,null,null,null,0,0,0,0,0,0,0,0,0,0,0,0,0,0,0,"Fall 2016",null,2017,null,"511.3/22",null,null,null,"Website",null,26.99,null,"Pogo Books",null,null,null,"Math & Finance",null,"English",null,"Reinforced Library",null,24,null,"J",null,"520L",null,"2 - 4",null,"Nadia Higgins"]
[{"$f":"A6095","v":0},null,{"$f":"C6095","v":0},null,{"$f":"E6095","v":0},null,9781636903279,null,9781636903255,null,"A Day with a Construction Worker",null,null,null,"Meet the Community Helpers!",null,null,null,"Jump!, Inc.",null,26.25,null,19.95,null,24.95,null,0,null,null,null,null,null,0,0,0,0,0,0,0,0,0,0,0,0,0,0,0,"Spring 2022",null,2022,null,428.6,null,null,null,9,null,27.99,null,"Grasshopper Books",null,null,null,"Social Studies",null,"English",null,"Reinforced Library",null,24,null,"H",null,null,null,"1–2",null,"Avery Toolen"]
[]
[{"$f":"A6129","v":0},null,{"$f":"C6129","v":0},null,{"$f":"E6129","v":0},null,9781645271536,null,9781645271512,null,"Feeling Happy",null,null,null,"Minding Emotions",null,null,null,"Jump!, Inc.",null,26.25,null,18.95,null,{"$f":"W6131+5","v":23.95},null,{"$f":"IF(AC6131=FALSE,AT6131,0)","v":0},null,null,null,null,null,{"$f":"IF(AND(A6131>=1,AC6131=\"\"),A6131,0)","v":0},{"$f":"IF(AND(A6131>=1,AC6131=\"x\"),A6131,0)","v":0},{"$f":"IF(AND(A6131>=1,AC6131=\"\"),U6131,0)","v":0},{"$f":"IF(AND(A6131>=1,AC6131=\"x\"),-U6131,0)","v":0},0,0,0,0,{"$f":"E6131","v":0},{"$f":"Y6131*E6131","v":0},{"$f":"AG6131+AK6131+AO6131","v":0},{"$f":"AH6131+AL6131","v":0},0,{"$f":"AI6131+AM6131+AP6131","v":0},{"$f":"AJ6131+AN6131","v":0},"Spring 2020",null,2020,null,155.4,null,null,null,68,null,26.99,null,"Blue Owl Books",null,null,null,"Social Studies",null,"English",null,"Reinforced Library",null,24,null,"H",null,null,null,"2 – 5",null,"Amber Bullis, MLIS"]
[{"$f":"A6160","v":0},null,{"$f":"C6160","v":0},null,{"$f":"E6160","v":0},null,9781624962608,null,9781620311738,null,"Beavers",null,null,null,"My First Animal Library",null,null,null,"Jump!, Inc.",null,26.25,null,18.95,null,23.95,null,0,null,null,null,null,null,0,0,0,0,0,0,0,0,0,0,0,0,0,0,0,"Fall 2014",null,2015,null,599.37,null,null,null,36,null,26.99,null,"Bullfrog Books",null,0.9,null,"Animals & Nature",null,"English",null,"Reinforced Library",null,24,null,"E",null,"340L",null,"K - 3",null,"Mari Schuh"]
[{"$f":"A6160","v":0},null,{"$f":"C6160","v":0},null,{"$f":"E6160","v":0},null,9781641285551,null,9781641285544,null,"Hippopotamuses",null,null,null,"My First Animal Library",null,null,null,"Jump!, Inc.",null,26.25,null,18.95,null,23.95,null,0,null,null,null,null,null,0,0,0,0,0,0,0,0,0,0,0,0,0,0,0,"Fall 2019",null,2020,null,599.63,null,null,null,36,null,26.99,null,"Bullfrog Books",null,1,null,"Animals & Nature",null,"English",null,"Reinforced Library",null,24,null,"E",null,null,null,"K - 3",null,"Penelope S. Nelson"]
[{"$f":"A6160","v":0},null,{"$f":"C6160","v":0},null,{"$f":"E6160","v":0},null,9781641285636,null,9781641285629,null,"Rhinoceroses",null,null,null,"My First Animal Library",null,null,null,"Jump!, Inc.",null,26.25,null,18.95,null,23.95,null,0,null,null,null,null,null,0,0,0,0,0,0,0,0,0,0,0,0,0,0,0,"Fall 2019",null,2020,null,599.66,null,null,null,36,null,26.99,null,"Bullfrog Books",null,1,null,"Animals & Nature",null,"English",null,"Reinforced Library",null,24,null,"E",null,null,null,"K - 3",null,"Penelope S. Nelson"]
[{"$f":"A6212","v":0},null,{"$f":"C6212","v":0},null,{"$f":"E6212","v":0},null,9781624961892,null,9781620311226,null,"Dogs",null,null,null,"My First Pet",null,null,null,"Jump!, Inc.",null,26.25,null,18.95,null,23.95,null,0,null,null,null,null,null,0,0,0,0,0,0,0,0,0,0,0,0,0,0,0,"Fall 2014",null,2015,null,"636.7/0887",null,null,null,"Website",null,26.99,null,"Bullfrog Books",null,0.9,null,"Animals & Nature",null,"English",null,"Reinforced Library",null,24,null,"D",null,"AD240L",null,"K - 2",null,"Cari Meister"]
[]
[{"$f":"A6267","v":0},null,{"$f":"C6267","v":0},null,{"$f":"E6267","v":0},null,9781624966002,null,9781620317532,null,"Light and Dark",null,null,null,"Opposites",null,null,null,"Jump!, Inc.",null,26.25,null,17.95,null,22.95,null,0,null,null,null,null,null,0,0,0,0,0,0,0,0,0,0,0,0,0,0,0,"Fall 2017",null,2018,null,535,null,null,null,23,null,25.65,null,"Tadpole Books",null,null,null,"Science & Technology",null,"English",null,"Reinforced Library",null,16,null,"C",null,null,null,"PreK – 2",null,"Erica Donner"]
[{"$f":"A6283","v":0},null,{"$f":"C6283","v":0},null,{"$f":"E6283","v":0},null,9781624967184,null,9781620319390,null,"I See Insects",null,null,null,"Outdoor Explorer",null,null,null,"Jump!, Inc.",null,26.25,null,17.95,null,22.95,null,0,null,null,null,null,null,0,0,0,0,0,0,0,0,0,0,0,0,0,0,0,"Spring 2018",null,2018,null,595.70000000000005,null,null,null,"Website",null,25.65,null,"Tadpole Books",null,null,null,"Animals & Nature",null,"English",null,"Reinforced Library",null,16,null,"A",null,"BR50L",null,"PreK - 1",null,"Tim Mayerling"]
[null,null,null,null,null,null,null,null,null,null,"Complete Series of 4",null,null,null,"Patterns in the Seasons",null,null,null,null,null,{"$f":"SUM(U6306:U6309)","v":105},null,{"$f":"SUM(W6306:W6309)","v":71.8},null,{"$f":"SUM(Y6306:Y6309)","v":91.8}]
[{"$f":"A6311","v":0},null,{"$f":"C6311","v":0},null,{"$f":"E6311","v":0},null,9781624967818,null,9781624967801,null,"Poodles",null,null,null,"Paw Prints",null,null,null,"Jump!, Inc.",null,26.25,null,18.95,null,23.95,null,0,null,null,null,null,null,0,0,0,0,0,0,0,0,0,0,0,0,0,0,0,"Fall 2018",null,2019,null,636.72,null,null,null,33,null,26.99,null,"Bullfrog Books",null,1,null,"Animals & Nature",null,"English",null,"Reinforced Library",null,24,null,"G",null,null,null,"K - 3",null,"Kaitlyn Duling"]
[{"$f":"A6358","v":0},null,{"$f":"C6358","v":0},null,{"$f":"E6358","v":0},null,9781645276005,null,9781645275985,null,"¿Qué pasa con el correo? (Where Does Mail Go?)",null,null,null,"Qué pasa con eso? (Where Does It Go?)",null,null,null,"Jump!, Inc.",null,26.25,null,18.95,null,23.95,null,{"$f":"IF(AC6360=FALSE,AT6360,0)","v":0},null,null,null,null,null,{"$f":"IF(AND(A6360>=1,AC6360=\"\"),A6360,0)","v":0},{"$f":"IF(AND(A6360>=1,AC6360=\"x\"),A6360,0)","v":0},{"$f":"IF(AND(A6360>=1,AC6360=\"\"),U6360,0)","v":0},{"$f":"IF(AND(A6360>=1,AC6360=\"x\"),-U6360,0)","v":0},0,0,0,0,{"$f":"E6360","v":0},{"$f":"Y6360*E6360","v":0},{"$f":"AG6360+AK6360+AO6360","v":0},{"$f":"AH6360+AL6360","v":0},0,{"$f":"AI6360+AM6360+AP6360","v":0},{"$f":"AJ6360+AN6360","v":0},"Fall 2020",null,2021,null,null,null,null,null,78,null,26.99,null,"Bullfrog Books",null,1,null,"High Interest",null,"Spanish",null,"Reinforced Library",null,24,null,"G",null,null,null,"K - 3",null,"Charlie W. Sterling"]
[]
[{"$f":"A6386","v":0},null,{"$f":"C6386","v":0},null,{"$f":"E6386","v":0},null,9781641286312,null,9781641286305,null,"Hawks",null,null,null,"Raptor World",null,null,null,"Jump!, Inc.",null,26.25,null,18.95,null,23.95,null,0,null,null,null,null,null,0,0,0,0,0,0,0,0,0,0,0,0,0,0,0,"Fall 2019",null,2020,null,598.9,null,null,null,43,null,26.99,null,"Bullfrog Books",null,1,null,"Animals & Nature",null,"English",null,"Reinforced Library",null,24,null,"E",null,null,null,"K - 3",null,"Jenna Lee Gleisner"]
[{"$f":"A6402","v":0},null,{"$f":"C6402","v":0},null,{"$f":"E6402","v":0},null,9781624965425,null,9781620316658,null,"Coral Snakes",null,null,null,"Reptile World",null,null,null,"Jump!, Inc.",null,26.25,null,18.95,null,23.95,null,0,null,null,null,null,null,0,0,0,0,0,0,0,0,0,0,0,0,0,0,0,"Fall 2017",null,2018,null,"597.96/44",null,null,null,"Website",null,26.99,null,"Bullfrog Books",null,0.9,null,"Animals & Nature",null,"English",null,"Reinforced Library",null,24,null,"E",null,null,null,"K - 2",null,"Imogen Kingsley"]
[{"$f":"A6423","v":0},null,{"$f":"C6423","v":0},null,{"$f":"E6423","v":0},null,9781624963032,null,9781620312162,null,"Robots at Home",null,null,null,"Robot World",null,null,null,"Jump!, Inc.",null,26.25,null,18.95,null,{"$f":"W6424+5","v":23.95},null,{"$f":"IF(AC6424=FALSE,AT6424,0)","v":0},null,null,null,null,null,{"$f":"IF(AND(A6424>=1,AC6424=\"\"),A6424,0)","v":0},{"$f":"IF(AND(A6424>=1,AC6424=\"x\"),A6424,0)","v":0},{"$f":"IF(AND(A6424>=1,AC6424=\"\"),U6424,0)","v":0},{"$f":"IF(AND(A6424>=1,AC6424=\"x\"),-U6424,0)","v":0},{"$f":"IF(AND(C6424>=1,AC6424=\"\"),C6424,0)","v":0},{"$f":"IF(AND(C6424>=1,AC6424=\"x\"),C6424,0)","v":0},{"$f":"IF(AND(C6424>=1,AC6424=\"\"),W6424*C6424,0)","v":0},{"$f":"IF(AND(C6424>=1,AC6424=\"x\"),-W6424*C6424,0)","v":0},{"$f":"E6424","v":0},{"$f":"Y6424*E6424","v":0},{"$f":"AG6424+AK6424+AO6424","v":0},{"$f":"AH6424+AL6424","v":0},{"$f":"AQ6424+AR6424","v":0},{"$f":"AI6424+AM6424+AP6424","v":0},{"$f":"AJ6424+AN6424","v":0},"Fall 2015",null,2016,null,629.89200000000005,null,null,null,"Website",null,26.99,null,"Pogo Books",null,2.9,null,"Science & Technology",null,"English",null,"Reinforced Library",null,24,null,"L",null,"490L",null,"2 - 4",null,"Jenny Fretland VanVoorst"]
[{"$f":"A6457","v":0},null,{"$f":"C6457","v":0},null,{"$f":"E6457","v":0},null,9781624966781,null,9781620319994,null,"Ganar dinero (Earning Money)",null,null,null,"Se inteligente con tu dinero (Money Smarts)",null,null,null,"Jump!, Inc.",null,26.25,null,18.95,null,23.95,null,{"$f":"IF(AC6460=FALSE,AT6460,0)","v":0},null,null,null,null,null,{"$f":"IF(AND(A6460>=1,AC6460=\"\"),A6460,0)","v":0},{"$f":"IF(AND(A6460>=1,AC6460=\"x\"),A6460,0)","v":0},{"$f":"IF(AND(A6460>=1,AC6460=\"\"),U6460,0)","v":0},{"$f":"IF(AND(A6460>=1,AC6460=\"x\"),-U6460,0)","v":0},0,0,0,0,{"$f":"E6460","v":0},{"$f":"Y6460*E6460","v":0},{"$f":"AG6460+AK6460+AO6460","v":0},{"$f":"AH6460+AL6460","v":0},{"$f":"AQ6460+AR6460","v":0},{"$f":"AI6460+AM6460+AP6460","v":0},{"$f":"AJ6460+AN6460","v":0},"Fall 2018",null,2018,null,null,null,null,null,"Website",null,26.99,null,"Bullfrog Books",null,2,null,"Math & Finance",null,"Spanish",null,"Reinforced Library",null,24,null,"E",null,"40L",null,"K - 3",null,"Nadia Higgins"]
[]
[{"$f":"A6493","v":0},null,{"$f":"C6493","v":0},null,{"$f":"E6493","v":0},null,9781641289566,null,9781641289559,null,"Angel Shark",null,null,null,"Shark Bites",null,null,null,"Jump!, Inc.",null,26.25,null,18.95,null,{"$f":"W6494+5","v":23.95},null,{"$f":"IF(AC6494=FALSE,AT6494,0)","v":0},null,null,null,null,null,{"$f":"IF(AND(A6494>=1,AC6494=\"\"),A6494,0)","v":0},{"$f":"IF(AND(A6494>=1,AC6494=\"x\"),A6494,0)","v":0},{"$f":"IF(AND(A6494>=1,AC6494=\"\"),U6494,0)","v":0},{"$f":"IF(AND(A6494>=1,AC6494=\"x\"),-U6494,0)","v":0},{"$f":"IF(AND(C6494>=1,AC6494=\"\"),C6494,0)","v":0},{"$f":"IF(AND(C6494>=1,AC6494=\"x\"),C6494,0)","v":0},{"$f":"IF(AND(C6494>=1,AC6494=\"\"),W6494*C6494,0)","v":0},{"$f":"IF(AND(C6494>=1,AC6494=\"x\"),-W6494*C6494,0)","v":0},{"$f":"E6494","v":0},{"$f":"Y6494*E6494","v":0},{"$f":"AG6494+AK6494+AO6494","v":0},{"$f":"AH6494+AL6494","v":0},{"$f":"AQ6494+AR6494","v":0},{"$f":"AI6494+AM6494+AP6494","v":0},{"$f":"AJ6494+AN6494","v":0},"Fall 2019",null,2020,null,597.29999999999995,null,null,null,35,null,26.99,null,"Bullfrog Books",null,1,null,"Animals & Nature",null,"English",null,"Reinforced Library",null,24,null,"F",null,null,null,"K - 3",null,"Jenna Lee Gleisner"]
[{"$f":"A6509","v":0},null,{"$f":"C6509","v":0},null,{"$f":"E6509","v":0},null,9781624966866,null,9781620318447,null,"Mercury",null,null,null,"Space Voyager",null,null,null,"Jump!, Inc.",null,26.25,null,18.95,null,23.95,null,0,null,null,null,null,null,0,0,0,0,0,0,0,0,0,0,0,0,0,0,0,"Spring 2018",null,2018,null,523.41,null,null,null,40,null,26.99,null,"Bullfrog Books",null,0.9,null,"Science & Technology",null,"English",null,"Reinforced Library",null,24,null,"F",null,"260L",null,"K - 3",null,"Vanessa Black"]
[]
[{"$f":"A6550","v":0},null,{"$f":"C6550","v":0},null,{"$f":"E6550","v":0},null,9781641281898,null,9781641281881,null,"Meteorologist",null,null,null,"STEM Careers",null,null,null,"Jump!, Inc.",null,26.25,null,18.95,null,23.95,null,0,null,null,null,null,null,0,0,0,0,0,0,0,0,0,0,0,0,0,0,0,"Spring 2019",null,2019,null,551.5,null,null,null,63,null,26.99,null,"Pogo Books",null,2.9,null,"Careers",null,"English",null,"Reinforced Library",null,24,null,"M",null,"510L",null,"2 – 5",null,"Karen Latchana Kenney"]
[null,null,null,null,null,null,null,null,null,null,"Complete Series of 4",null,null,null,"Super Science Feats: Medical Breakthroughs",null,null,null,null,null,{"$f":"SUM(U6584:U6587)","v":105},null,{"$f":"SUM(W6584:W6587)","v":75.8},null,{"$f":"SUM(Y6584:Y6587)","v":95.8}]
[{"$f":"A6595","v":0},null,{"$f":"C6595","v":0},null,{"$f":"E6595","v":0},null,9781645272045,null,9781645272021,null,"Don't Give Up",null,null,null,"The Sky's the Limit",null,null,null,"Jump!, Inc.",null,26.25,null,18.95,null,23.95,null,0,null,null,null,null,null,0,0,0,0,0,0,0,0,0,0,0,0,{"$f":"AQ6598+AR6598","v":0},0,0,"Spring 2020",null,2020,null,null,null,null,null,71,null,26.99,null,"Blue Owl Books",null,null,null,"Social Studies",null,"English",null,"Reinforced Library",null,24,null,"H",null,null,null,"2 – 5",null,"Susanne M. Bushman"]
[{"$f":"A6605","v":0},null,{"$f":"C6605","v":0},null,{"$f":"E6605","v":0},null,9781636900629,null,9781636900605,null,"Narwhals",null,null,null,"The World of Ocean Animals",null,null,null,"Jump!, Inc.",null,26.25,null,18.95,null,23.95,null,0,null,null,null,null,null,0,0,0,0,0,0,0,0,0,0,0,0,0,0,0,"Fall 2021",null,2022,null,599.5,null,null,null,58,null,26.99,null,"Pogo Books",null,2.8,null,"Animals & Nature",null,"English",null,"Reinforced Library",null,24,null,"I",null,null,null,"2–5",null,"Mari Schuh"]
[{"$f":"A6649","v":0},null,{"$f":"C6649","v":0},null,{"$f":"E6649","v":0},null,9781645272557,null,9781645272540,null,"Los trenes de pasajeros (Passenger Trains)",null,null,null,"Todos a bordo (All Aboard)",null,null,null,"Jump!, Inc.",null,26.25,null,18.95,null,23.95,null,{"$f":"IF(AC6653=FALSE,AT6653,0)","v":0},null,null,null,null,null,{"$f":"IF(AND(A6653>=1,AC6653=\"\"),A6653,0)","v":0},{"$f":"IF(AND(A6653>=1,AC6653=\"x\"),A6653,0)","v":0},{"$f":"IF(AND(A6653>=1,AC6653=\"\"),U6653,0)","v":0},{"$f":"IF(AND(A6653>=1,AC6653=\"x\"),-U6653,0)","v":0},0,0,0,0,{"$f":"E6653","v":0},{"$f":"Y6653*E6653","v":0},{"$f":"AG6653+AK6653+AO6653","v":0},{"$f":"AH6653+AL6653","v":0},{"$f":"AQ6653+AR6653","v":0},{"$f":"AI6653+AM6653+AP6653","v":0},{"$f":"AJ6653+AN6653","v":0},"Spring 2020",null,2020,null,385,null,null,null,78,null,26.99,null,"Bullfrog Books",null,1.9,null,"Science & Technology",null,"Spanish",null,"Reinforced Library",null,24,null,"G",null,null,null,"K - 3",null,"Jenna Lee Gleisner"]
[{"$f":"A6665","v":0},null,{"$f":"C6665","v":0},null,{"$f":"E6665","v":0},null,9781645271376,null,9781645271352,null,"Dust Bowl",null,null,null,"Turning Points in U.S. History",null,null,null,"Jump!, Inc.",null,26.25,null,18.95,null,23.95,null,0,null,null,null,null,null,0,0,0,0,0,0,0,0,0,0,0,0,0,0,0,"Spring 2020",null,2020,null,973.91700000000003,null,null,null,47,null,26.99,null,"Pogo Books",null,2.8,null,"History",null,"English",null,"Reinforced Library",null,24,null,"K",null,null,null,"2 – 5",null,"Veronica B. Wilkins"]
[{"$f":"A6685","v":0},null,{"$f":"C6685","v":0},null,{"$f":"E6685","v":0},null,9781641288101,null,9781641288095,null,"Everglades National Park",null,null,null,"U.S. National Parks",null,null,null,"Jump!, Inc.",null,26.25,null,18.95,null,23.95,null,0,null,null,null,null,null,0,0,0,0,0,0,0,0,0,0,0,0,0,0,0,"Fall 2019",null,2020,null,975.9,null,null,null,45,null,26.99,null,"Pogo Books",null,2.6,null,"Animals & Nature",null,"English",null,"Reinforced Library",null,24,null,"K",null,null,null,"2 – 5",null,"Penelope S. Nelson"]
[null,null,null,null,null,null,null,null,null,null,"Complete Series of 8",null,null,null,"Vamos! (Let's Go!)",null,null,null,null,null,{"$f":"SUM(U6703:U6710)","v":210},null,{"$f":"SUM(W6703:W6710)","v":143.6},null,{"$f":"SUM(Y6703:Y6710)","v":183.59999999999997}]
[{"$f":"A6737","v":0},null,{"$f":"C6737","v":0},null,{"$f":"E6737","v":0},null,9781641282543,null,9781641282529,null,"Watch a Banana Grow",null,null,null,"Watch It Grow",null,null,null,"Jump!, Inc.",null,26.25,null,18.95,null,{"$f":"W6738+5","v":23.95},null,{"$f":"IF(AC6738=FALSE,AT6738,0)","v":0},null,null,null,null,null,{"$f":"IF(AND(A6738>=1,AC6738=\"\"),A6738,0)","v":0},{"$f":"IF(AND(A6738>=1,AC6738=\"x\"),A6738,0)","v":0},{"$f":"IF(AND(A6738>=1,AC6738=\"\"),U6738,0)","v":0},{"$f":"IF(AND(A6738>=1,AC6738=\"x\"),-U6738,0)","v":0},{"$f":"IF(AND(C6738>=1,AC6738=\"\"),C6738,0)","v":0},{"$f":"IF(AND(C6738>=1,AC6738=\"x\"),C6738,0)","v":0},{"$f":"IF(AND(C6738>=1,AC6738=\"\"),W6738*C6738,0)","v":0},{"$f":"IF(AND(C6738>=1,AC6738=\"x\"),-W6738*C6738,0)","v":0},{"$f":"E6738","v":0},{"$f":"Y6738*E6738","v":0},{"$f":"AG6738+AK6738+AO6738","v":0},{"$f":"AH6738+AL6738","v":0},{"$f":"AQ6738+AR6738","v":0},{"$f":"AI6738+AM6738+AP6738","v":0},{"$f":"AJ6738+AN6738","v":0},"Spring 2019",null,2019,null,"634/.772",null,null,null,42,null,26.99,null,"Bullfrog Books",null,1,null,"Social Studies",null,"English",null,"Reinforced Library",null,24,null,"F",null,null,null,"K - 3",null,"Kirsten Chang"]
[{"$f":"A6753","v":0},null,{"$f":"C6753","v":0},null,{"$f":"E6753","v":0},null,9781624963155,null,9781620312285,null,"Planting",null,null,null,"Way to Grow! Gardening",null,null,null,"Jump!, Inc.",null,26.25,null,18.95,null,{"$f":"W6757+5","v":23.95},null,{"$f":"IF(AC6757=FALSE,AT6757,0)","v":0},null,null,null,null,null,{"$f":"IF(AND(A6757>=1,AC6757=\"\"),A6757,0)","v":0},{"$f":"IF(AND(A6757>=1,AC6757=\"x\"),A6757,0)","v":0},{"$f":"IF(AND(A6757>=1,AC6757=\"\"),U6757,0)","v":0},{"$f":"IF(AND(A6757>=1,AC6757=\"x\"),-U6757,0)","v":0},0,0,0,0,{"$f":"E6757","v":0},{"$f":"Y6757*E6757","v":0},{"$f":"AG6757+AK6757+AO6757","v":0},{"$f":"AH6757+AL6757","v":0},{"$f":"AQ6757+AR6757","v":0},{"$f":"AI6757+AM6757+AP6757","v":0},{"$f":"AJ6757+AN6757","v":0},"Fall 2015",null,2016,null,635,null,null,null,"Website",null,26.99,null,"Pogo Books",null,2.9,null,"Animals & Nature",null,"English",null,"Reinforced Library",null,24,null,"J",null,"560L",null,"2 - 4",null,"Rebecca Pettiford"]
[{"$f":"A6766","v":0},null,{"$f":"C6766","v":0},null,{"$f":"E6766","v":0},null,9781624964398,null,9781620313923,null,"Wind",null,null,null,"Weather Watch",null,null,null,"Jump!, Inc.",null,26.25,null,18.95,null,23.95,null,0,null,null,null,null,null,0,0,0,0,0,0,0,0,0,0,0,0,0,0,0,"Fall 2016",null,2017,null,"551.51/8",null,null,null,"Website",null,26.99,null,"Bullfrog Books",null,1,null,"Science & Technology",null,"English",null,"Reinforced Library",null,24,null,"E",null,null,null,"K - 2",null,"Jenny Fretland VanVoorst"]
[{"$f":"A6789","v":0},null,{"$f":"C6789","v":0},null,{"$f":"E6789","v":0},null,9781624964411,null,9781620313947,null,"Birds in Winter",null,null,null,"What Happens in Winter?",null,null,null,"Jump!, Inc.",null,26.25,null,18.95,null,23.95,null,{"$f":"IF(AC6791=FALSE,AT6791,0)","v":0},null,null,null,null,null,{"$f":"IF(AND(A6791>=1,AC6791=\"\"),A6791,0)","v":0},{"$f":"IF(AND(A6791>=1,AC6791=\"x\"),A6791,0)","v":0},{"$f":"IF(AND(A6791>=1,AC6791=\"\"),U6791,0)","v":0},{"$f":"IF(AND(A6791>=1,AC6791=\"x\"),-U6791,0)","v":0},0,0,0,0,{"$f":"E6791","v":0},{"$f":"Y6791*E6791","v":0},{"$f":"AG6791+AK6791+AO6791","v":0},{"$f":"AH6791+AL6791","v":0},{"$f":"AQ6791+AR6791","v":0},{"$f":"AI6791+AM6791+AP6791","v":0},{"$f":"AJ6791+AN6791","v":0},"Fall 2016",null,2017,null,598.15599999999995,null,null,null,"Website",null,26.99,null,"Bullfrog Books",null,1,null,"Animals & Nature",null,"English",null,"Reinforced Library",null,24,null,"D",null,null,null,"K - 2",null,"Jenny Fretland VanVoorst"]
[{"$f":"A6795","v":0},null,{"$f":"C6795","v":0},null,{"$f":"E6795","v":0},null,9781645279907,null,9781645279884,null,"From Wax to Crayon",null,null,null,"Where Does It Come From?",null,null,null,"Jump!, Inc.",null,26.25,null,18.95,null,23.95,null,0,null,null,null,null,null,0,0,0,0,0,0,0,0,0,0,0,0,0,0,0,"Fall 2021",null,2022,null,670,null,null,null,32,null,26.99,null,"Bullfrog Books",null,1,null,"High Interest",null,"English",null,"Reinforced Library",null,24,null,"F",null,null,null,"K - 3",null,"Avery Toolen"]
[{"$f":"A6836","v":0},null,{"$f":"C6836","v":0},null,{"$f":"E6836","v":0},null,9781624967290,null,9781620319611,null,"Who Lives on the Prairie?",null,null,null,"Who Lives Here?",null,null,null,"Jump!, Inc.",null,26.25,null,17.95,null,22.95,null,0,null,null,null,null,null,0,0,0,0,0,0,0,0,0,0,0,0,0,0,0,"Spring 2018",null,2018,null,591.74,null,null,null,"Website",null,25.65,null,"Tadpole Books",null,null,null,"Animals & Nature",null,"English",null,"Reinforced Library",null,16,null,"C",null,"210L",null,"PreK - 1",null,"Jenny Fretland VanVoorst"]
[null,null,null,null,null,null,null,null,null,null,"Complete Series of 5",null,null,null,"Working Together",null,null,null,null,null,{"$f":"SUM(U6862:U6866)","v":131.25},null,{"$f":"SUM(W6862:W6866)","v":94.75},null,{"$f":"SUM(Y6862:Y6866)","v":119.75}]
[null,null,null,null,null,null,null,null,null,null,"Complete Series of 5",null,null,null,"You've Got a Friend",null,null,null,null,null,{"$f":"SUM(U6877:U6881)","v":131.25},null,{"$f":"SUM(W6877:W6881)","v":94.75},null,{"$f":"SUM(Y6877:Y6881)","v":119.75}]
[]
[{"$f":"A6908","v":0},null,{"$f":"C6908","v":0},null,{"$f":"E6908","v":0},null,9781645196280,null,9781645195580,null,"Crabs",null,null,null,"Amazing Ocean Life",null,null,null,"Kaleidoscope",null,37.950000000000003,null,20.95,null,25.95,null,0,null,null,null,null,null,0,0,0,0,0,0,0,0,0,0,0,0,0,0,0,"Fall 2022",null,2023,null,null,null,null,null,null,null,26.95,null,"Bigfoot Jr.",null,null,null,"Animals & Nature",null,"English",null,"Reinforced Library",null,24,null,null,null,null,null,"K-Grade 2",null,"Colleen Sexton"]
[{"$f":"A6942","v":0},null,{"$f":"C6942","v":0},null,{"$f":"E6942","v":0},null,9781645195344,null,9781645194965,null,"Amazing Animal Electricity",null,null,null,"Animal Superpowers!",null,null,null,"Kaleidoscope",null,37.950000000000003,null,19.95,null,24.95,null,0,null,null,null,null,null,0,0,0,0,0,0,0,0,0,0,0,0,0,0,0,"Fall 2021",null,2022,null,591.1,null,null,null,null,null,26.95,null,"Bigfoot Books",null,4,null,"Animals & Nature",null,"English",null,"Reinforced Library",null,"32",null,"O",null,null,null,"Grades 2-5",null,"Colton Temple"]
[{"$f":"A6960","v":0},null,{"$f":"C6960","v":0},null,{"$f":"E6960","v":0},null,9781645192800,null,9781645192121,null,"Kellogg’s",null,null,null,"Food Brands We Love",null,null,null,"Kaleidoscope",null,37.950000000000003,null,19.95,null,24.95,null,0,null,null,null,null,null,0,0,0,0,0,0,0,0,0,0,0,0,0,0,0,"Fall 2020",null,2021,null,338.7,null,null,null,null,null,26.95,null,"Bigfoot Books",null,4.2,null,"High Interest",null,"English",null,"Reinforced Library",null,32,null,null,null,null,null,"Grade 3",null,"Kaitlyn Duling"]
[{"$f":"A6972","v":0},null,{"$f":"C6972","v":0},null,{"$f":"E6972","v":0},null,9781645196563,null,9781645195863,null,"Snowboarding",null,null,null,"I Can Play Sports!",null,null,null,"Kaleidoscope",null,37.950000000000003,null,20.95,null,25.95,null,0,null,null,null,null,null,0,0,0,0,0,0,0,0,0,0,0,0,0,0,0,"Fall 2022",null,2023,null,null,null,null,null,null,null,26.95,null,"Bigfoot Jr.",null,null,null,"Sports & Recreation",null,"English",null,"Reinforced Library",null,24,null,null,null,null,null,"K-Grade 2",null,"Thomas Kingsley Troupe"]
[{"$f":"A6986","v":0},null,{"$f":"C6986","v":0},null,{"$f":"E6986","v":0},null,9781645195252,null,9781645194873,null,"Stonehenge",null,null,null,"In Search of the Unexplained",null,null,null,"Kaleidoscope",null,37.950000000000003,null,19.95,null,24.95,null,0,null,null,null,null,null,0,0,0,0,0,0,0,0,0,0,0,0,0,0,0,"Fall 2021",null,2022,null,130,null,null,null,null,null,26.95,null,"Bigfoot Books",null,4.2,null,"Legends, Myths, & Paranormal",null,"English",null,"Reinforced Library",null,"32",null,"P",null,null,null,"Grades 2-5",null,"Jenna Lee Gleisner"]
[{"$f":"A7005","v":0},null,{"$f":"C7005","v":0},null,{"$f":"E7005","v":0},null,9781645196709,null,9781645196006,null,"Helicopters",null,null,null,"Mega Machines",null,null,null,"Kaleidoscope",null,37.950000000000003,null,20.95,null,25.95,null,0,null,null,null,null,null,0,0,0,0,0,0,0,0,0,0,0,0,0,0,0,"Fall 2022",null,2023,null,null,null,null,null,null,null,26.95,null,"Bigfoot Jr.",null,null,null,"Science & Technology",null,"English",null,"Reinforced Library",null,24,null,null,null,null,null,"K-Grade 2",null,"Mari Schuh"]
[{"$f":"A7045","v":0},null,{"$f":"C7045","v":0},null,{"$f":"E7045","v":0},null,9781645191858,null,9781645190844,null,"Steelers vs. Ravens",null,null,null,"NFL Rivalries",null,null,null,"Kaleidoscope",null,37.950000000000003,null,19.95,null,24.95,null,0,null,null,null,null,null,0,0,0,0,0,0,0,0,0,0,0,0,0,0,0,"Fall 2019",null,2020,null,null,null,null,null,null,null,26.95,null,"All-Star Sports",null,null,null,"Sports & Recreation",null,"English",null,"Reinforced Library",null,32,null,null,null,null,null,"3 - 6",null,"Karen Price"]
[{"$f":"A7053","v":0},null,{"$f":"C7053","v":0},null,{"$f":"E7053","v":0},null,9781645193104,null,9781645192428,null,"Story of the Las Vegas Raiders, The",null,null,null,"NFL Team Stories",null,null,null,"Kaleidoscope",null,37.950000000000003,null,19.95,null,24.95,null,0,null,null,null,null,null,0,0,0,0,0,0,0,0,0,0,0,0,0,0,0,"Fall 2020",null,2021,null,796.33199999999999,null,null,null,null,null,26.95,null,"Bigfoot Books",null,null,null,"Sports & Recreation",null,"English",null,"Reinforced Library",null,32,null,null,null,null,null,"Grade 3",null,"K.C. Kelley"]
[{"$f":"A7053","v":0},null,{"$f":"C7053","v":0},null,{"$f":"E7053","v":0},null,9781645193173,null,9781645192497,null,"Story of the Washington Redskins, The",null,null,null,"NFL Team Stories",null,null,null,"Kaleidoscope",null,37.950000000000003,null,19.95,null,24.95,null,0,null,null,null,null,null,0,0,0,0,0,0,0,0,0,0,0,0,0,0,0,"Fall 2020",null,2021,null,796.33199999999999,null,null,null,null,null,26.95,null,"Bigfoot Books",null,null,null,"Sports & Recreation",null,"English",null,"Reinforced Library",null,32,null,null,null,null,null,"Grade 3",null,"Jim Gigliotti"]
[{"$f":"A7094","v":0},null,{"$f":"C7094","v":0},null,{"$f":"E7094","v":0},null,9781645191179,null,9781645190172,null,"Nike",null,null,null,"Our Favorite Brands",null,null,null,"Kaleidoscope",null,37.950000000000003,null,19.95,null,24.95,null,0,null,null,null,null,null,0,0,0,0,0,0,0,0,0,0,0,0,0,0,0,"Fall 2019",null,2020,null,null,null,null,null,null,null,26.95,null,"Bigfoot Books",null,3.4,null,"High Interest",null,"English",null,"Reinforced Library",null,32,null,null,null,null,null,"3 - 6",null,"Martha London"]
[{"$f":"A7108","v":0},null,{"$f":"C7108","v":0},null,{"$f":"E7108","v":0},null,9781645191445,null,9781645190431,null,"Mike Trout",null,null,null,"Sports Superstars",null,null,null,"Kaleidoscope",null,37.950000000000003,null,19.95,null,24.95,null,0,null,null,null,null,null,0,0,0,0,0,0,0,0,0,0,0,0,0,0,0,"Fall 2019",null,2020,null,null,null,null,null,null,null,26.95,null,"All-Star Sports",null,3.6,null,"Sports & Recreation",null,"English",null,"Reinforced Library",null,32,null,null,null,null,null,"3 - 6",null,"Anthony K. Hewson"]
[{"$f":"A7152","v":0},null,{"$f":"C7152","v":0},null,{"$f":"E7152","v":0},null,9781645193180,null,9781645192503,null,"Disgusting Foods",null,null,null,"That’s Disgusting!",null,null,null,"Kaleidoscope",null,37.950000000000003,null,19.95,null,24.95,null,0,null,null,null,null,null,0,0,0,0,0,0,0,0,0,0,0,0,{"$f":"AQ7155+AR7155","v":0},0,0,"Fall 2020",null,2021,null,641.29999999999995,null,null,null,null,null,26.95,null,"Bigfoot Books",null,null,null,"High Interest",null,"English",null,"Reinforced Library",null,32,null,null,null,null,null,"Grade 3",null,"Joanne Mattern"]
[{"$f":"A7162","v":0},null,{"$f":"C7162","v":0},null,{"$f":"E7162","v":0},null,9781645191278,null,9781645190271,null,"Dodge Viper SRT",null,null,null,"Ultimate Supercars",null,null,null,"Kaleidoscope",null,37.950000000000003,null,19.95,null,24.95,null,0,null,null,null,null,null,0,0,0,0,0,0,0,0,0,0,0,0,0,0,0,"Fall 2019",null,2020,null,null,null,null,null,null,null,26.95,null,"Bigfoot Books",null,3.4,null,"Science & Technology",null,"English",null,"Reinforced Library",null,32,null,null,null,null,null,"3 - 6",null,"Tammy Gagne"]
[{"$f":"A7184","v":0},null,{"$f":"C7184","v":0},null,{"$f":"E7184","v":0},null,9781645195412,null,9781645195030,null,"Bottlenose Dolphins",null,null,null,"Wild About Animals",null,null,null,"Kaleidoscope",null,37.950000000000003,null,19.95,null,24.95,null,0,null,null,null,null,null,0,0,0,0,0,0,0,0,0,0,0,0,0,0,0,"Fall 2021",null,2022,null,591.29999999999995,null,null,null,null,null,26.95,null,"Bigfoot Books",null,null,null,"Animals & Nature",null,"English",null,"Reinforced Library",null,"32",null,"O",null,null,null,"Grades 2-5",null,"Renata Marie"]
[{"$f":"A7184","v":0},null,{"$f":"C7184","v":0},null,{"$f":"E7184","v":0},null,9781645196891,null,9781645196198,null,"Hyenas",null,null,null,"Wild About Animals",null,null,null,"Kaleidoscope",null,37.950000000000003,null,21.95,null,26.95,null,0,null,null,null,null,null,0,0,0,0,0,0,0,0,0,0,0,0,0,0,0,"Fall 2022",null,2023,null,null,null,null,null,null,null,28.95,null,"Bigfoot Books",null,null,null,"Animals & Nature",null,"English",null,"Reinforced Library",null,32,null,null,null,null,null,"Grades 2-5",null,"Renata Marie"]
[{"$f":"A7220","v":0},null,{"$f":"C7220","v":0},null,{"$f":"E7220","v":0},null,9781645191889,null,9781645190981,null,"Dean Ambrose",null,null,null,"Wrestling Superstars",null,null,null,"Kaleidoscope",null,37.950000000000003,null,19.95,null,24.95,null,0,null,null,null,null,null,0,0,0,0,0,0,0,0,0,0,0,0,0,0,0,"Fall 2019",null,2020,null,null,null,null,null,null,null,26.95,null,"Bigfoot Books",null,null,null,"Sports & Recreation",null,"English",null,"Reinforced Library",null,32,null,null,null,null,null,"3 - 6",null,"J. R. Kinley"]
[]
[{"$f":"A7272","v":0},null,{"$f":"C7272","v":0},null,{"$f":"E7272","v":0},null,9781678202859,null,9781678202842,null,"Important Black Americans in Business and Commerce",null,null,null,"Black Americans of Distinction",null,null,null,"Reference Point Press",null,45.95,null,32.950000000000003,null,{"$f":"W7274+5","v":37.950000000000003},null,0,null,null,null,null,null,0,0,0,0,0,0,0,0,0,0,0,0,0,0,0,"Fall 2022",null,2023,null,"338.090089/6073 B",null,null,null,null,null,43.93,null,"ReferencePoint Press",null,null,null,"Biography",null,"English",null,"Reinforced Library",null,64,null,null,null,"1000-1400",null,"6-12",null,"Kristina C. Castillo "]
[]
[null,null,null,null,null,null,null,null,null,null,"Complete Series of 6",null,null,null,"Careers in Engineering ",null,null,null,null,null,{"$f":"SUM(U7309:U7314)","v":275.7},null,{"$f":"SUM(W7309:W7314)","v":197.7},null,{"$f":"SUM(Y7309:Y7314)","v":227.7}]
[{"$f":"A7340","v":0},null,{"$f":"C7340","v":0},null,{"$f":"E7340","v":0},null,9781682821695,null,9781682821688,null,"Cause & Effect: The Vietnam War",null,null,null,"Cause & Effect: Modern Wars ",null,null,null,"Reference Point Press",null,45.95,null,32.950000000000003,null,37.950000000000003,null,0,null,null,null,null,null,0,0,0,0,0,0,0,0,0,0,0,0,0,0,0,"Fall 2017",null,2018,null,"959.704/3",null,null,null,null,null,43.93,null,"Reference Point Press",null,null,null,"History",null,"English",null,"Reinforced Library",null,80,null,null,null,null,null,"5 - 12",null,"Craig E. Blohm"]
[{"$f":"A7362","v":0},null,{"$f":"C7362","v":0},null,{"$f":"E7362","v":0},null,9781682823569,null,9781682823552,null,"Adoptive Families",null,null,null,"Changing Families ",null,null,null,"Reference Point Press",null,45.95,null,32.950000000000003,null,{"$f":"W7363+5","v":37.950000000000003},null,{"$f":"IF(AC7363=FALSE,AT7363,0)","v":0},null,null,null,null,null,{"$f":"IF(AND(A7363>=1,AC7363=\"\"),A7363,0)","v":0},{"$f":"IF(AND(A7363>=1,AC7363=\"x\"),A7363,0)","v":0},{"$f":"IF(AND(A7363>=1,AC7363=\"\"),U7363,0)","v":0},{"$f":"IF(AND(A7363>=1,AC7363=\"x\"),-U7363,0)","v":0},{"$f":"IF(AND(C7363>=1,AC7363=\"\"),C7363,0)","v":0},{"$f":"IF(AND(C7363>=1,AC7363=\"x\"),C7363,0)","v":0},{"$f":"IF(AND(C7363>=1,AC7363=\"\"),W7363*C7363,0)","v":0},{"$f":"IF(AND(C7363>=1,AC7363=\"x\"),-W7363*C7363,0)","v":0},{"$f":"E7363","v":0},{"$f":"Y7363*E7363","v":0},{"$f":"AG7363+AK7363+AO7363","v":0},{"$f":"AH7363+AL7363","v":0},{"$f":"AQ7363+AR7363","v":0},{"$f":"AI7363+AM7363+AP7363","v":0},{"$f":"AJ7363+AN7363","v":0},"Fall 2018",null,2019,null,306.87400000000002,null,null,null,null,null,43.93,null,"Reference Point Press",null,null,null,"Culture & Religion",null,"English",null,"Reinforced Library",null,64,null,null,null,null,null,"5 - 12",null,"Leanne Currie-McGhee"]
[{"$f":"A7369","v":0},null,{"$f":"C7369","v":0},null,{"$f":"E7369","v":0},null,9781682820377,null,9781682820360,null,"Young Adult Authors",null,null,null,"Collective Biographies",null,null,null,"Reference Point Press",null,45.95,null,32.950000000000003,null,37.950000000000003,null,0,null,null,null,null,null,0,0,0,0,0,0,0,0,0,0,0,0,0,0,0,"Fall 2016",null,2017,null,"810.9/9283 B",null,null,null,null,null,43.93,null,"Reference Point Press",null,null,null,"Biography",null,"English",null,"Reinforced Library",null,80,null,null,null,null,null,"5 - 12",null,"Christine Wilcox"]
[{"$f":"A7387","v":0},null,{"$f":"C7387","v":0},null,{"$f":"E7387","v":0},null,9781601522979,null,9781601520128,null,"Drug Legalization",null,null,null,"Compact Research: Current Issues",null,null,null,"Reference Point Press",null,45.95,null,32.950000000000003,null,37.950000000000003,null,0,null,null,null,null,null,0,0,0,0,0,0,0,0,0,0,0,0,0,0,0,"Spring 2009",null,2009,null,363.45097299999998,null,null,null,null,null,43.93,null,"Reference Point Press",null,null,null,"Social Studies",null,"English",null,"Reinforced Library",null,96,null,null,null,null,null,"5 - 12",null,"Peggy J. Parks"]
[{"$f":"A7387","v":0},null,{"$f":"C7387","v":0},null,{"$f":"E7387","v":0},null,9781601523839,null,9781601520203,null,"National Security",null,null,null,"Compact Research: Current Issues",null,null,null,"Reference Point Press",null,45.95,null,32.950000000000003,null,37.950000000000003,null,0,null,null,null,null,null,0,0,0,0,0,0,0,0,0,0,0,0,0,0,0,"Fall 2007",null,2008,null,"355/.033073",null,null,null,null,null,43.93,null,"Reference Point Press",null,null,null,"Social Studies",null,"English",null,"Reinforced Library",null,112,null,null,null,null,null,"5 - 12",null,"Stuart A. Kallen"]
[{"$f":"A7424","v":0},null,{"$f":"C7424","v":0},null,{"$f":"E7424","v":0},null,9781601522610,null,9781601522603,null,"Impulse Control Disorders",null,null,null,"Compact Research: Diseases and Disorders",null,null,null,"Reference Point Press",null,45.95,null,32.950000000000003,null,37.950000000000003,null,0,null,null,null,null,null,0,0,0,0,0,0,0,0,0,0,0,0,0,0,0,"Fall 2012",null,2013,null,"362.2/7",null,null,null,null,null,43.93,null,"Reference Point Press",null,null,null,"Health",null,"English",null,"Reinforced Library",null,96,null,null,null,null,null,"5 - 12",null,"Peggy J. Parks"]
[{"$f":"A7463","v":0},null,{"$f":"C7463","v":0},null,{"$f":"E7463","v":0},null,9781601522917,null,9781601520050,null,"Club Drugs",null,null,null,"Compact Research: Drugs",null,null,null,"Reference Point Press",null,45.95,null,32.950000000000003,null,37.950000000000003,null,0,null,null,null,null,null,0,0,0,0,0,0,0,0,0,0,0,0,0,0,0,"Fall 2007",null,2008,null,613.79999999999995,null,null,null,null,null,43.93,null,"Reference Point Press",null,null,null,"Health",null,"English",null,"Reinforced Library",null,112,null,null,null,null,null,"5 - 12",null,"Jill Karson"]
[{"$f":"A7481","v":0},null,{"$f":"C7481","v":0},null,{"$f":"E7481","v":0},null,9781601524041,null,9781601520784,null,"Biofuels",null,null,null,"Compact Research: Energy and the Environment",null,null,null,"Reference Point Press",null,45.95,null,32.950000000000003,null,{"$f":"W7482+5","v":37.950000000000003},null,{"$f":"IF(AC7482=FALSE,AT7482,0)","v":0},null,null,null,null,null,{"$f":"IF(AND(A7482>=1,AC7482=\"\"),A7482,0)","v":0},{"$f":"IF(AND(A7482>=1,AC7482=\"x\"),A7482,0)","v":0},{"$f":"IF(AND(A7482>=1,AC7482=\"\"),U7482,0)","v":0},{"$f":"IF(AND(A7482>=1,AC7482=\"x\"),-U7482,0)","v":0},{"$f":"IF(AND(C7482>=1,AC7482=\"\"),C7482,0)","v":0},{"$f":"IF(AND(C7482>=1,AC7482=\"x\"),C7482,0)","v":0},{"$f":"IF(AND(C7482>=1,AC7482=\"\"),W7482*C7482,0)","v":0},{"$f":"IF(AND(C7482>=1,AC7482=\"x\"),-W7482*C7482,0)","v":0},{"$f":"E7482","v":0},{"$f":"Y7482*E7482","v":0},{"$f":"AG7482+AK7482+AO7482","v":0},{"$f":"AH7482+AL7482","v":0},{"$f":"AQ7482+AR7482","v":0},{"$f":"AI7482+AM7482+AP7482","v":0},{"$f":"AJ7482+AN7482","v":0},"Fall 2009",null,2010,null,"333.95/39",null,null,null,null,null,43.93,null,"Reference Point Press",null,null,null,"Social Studies",null,"English",null,"Reinforced Library",null,96,null,null,null,null,null,"5 - 12",null,"Leanne Currie-McGhee"]
[{"$f":"A7499","v":0},null,{"$f":"C7499","v":0},null,{"$f":"E7499","v":0},null,9781601522658,null,9781601522641,null,"Cyberwarfare",null,null,null,"Compact Research: Internet",null,null,null,"Reference Point Press",null,45.95,null,32.950000000000003,null,{"$f":"W7501+5","v":37.950000000000003},null,{"$f":"IF(AC7501=FALSE,AT7501,0)","v":0},null,null,null,null,null,{"$f":"IF(AND(A7501>=1,AC7501=\"\"),A7501,0)","v":0},{"$f":"IF(AND(A7501>=1,AC7501=\"x\"),A7501,0)","v":0},{"$f":"IF(AND(A7501>=1,AC7501=\"\"),U7501,0)","v":0},{"$f":"IF(AND(A7501>=1,AC7501=\"x\"),-U7501,0)","v":0},0,0,0,0,{"$f":"E7501","v":0},{"$f":"Y7501*E7501","v":0},{"$f":"AG7501+AK7501+AO7501","v":0},{"$f":"AH7501+AL7501","v":0},{"$f":"AQ7501+AR7501","v":0},{"$f":"AI7501+AM7501+AP7501","v":0},{"$f":"AJ7501+AN7501","v":0},"Fall 2012",null,2013,null,355.4,null,null,null,null,null,43.93,null,"Reference Point Press",null,null,null,"Social Studies",null,"English",null,"Reinforced Library",null,96,null,null,null,null,null,"5 - 12",null,"Peggy J. Parks"]
[{"$f":"A7530","v":0},null,{"$f":"C7530","v":0},null,{"$f":"E7530","v":0},null,9781682821916,null,9781682821909,null,"Virtual Reality Developer",null,null,null,"Cutting Edge Careers ",null,null,null,"Reference Point Press",null,45.95,null,32.950000000000003,null,37.950000000000003,null,0,null,null,null,null,null,0,0,0,0,0,0,0,0,0,0,0,0,0,0,0,"Fall 2017",null,2018,null,6.8022999999999998,null,null,null,null,null,43.93,null,"Reference Point Press",null,null,null,"Careers",null,"English",null,"Reinforced Library",null,64,null,null,null,null,null,"5 - 12",null,"Kathryn Hulick "]
[{"$f":"A7546","v":0},null,{"$f":"C7546","v":0},null,{"$f":"E7546","v":0},null,9781682820476,null,9781682820469,null,"Cutting Edge Transportation Technology",null,null,null,"Cutting Edge Technology ",null,null,null,"Reference Point Press",null,45.95,null,32.950000000000003,null,37.950000000000003,null,0,null,null,null,null,null,0,0,0,0,0,0,0,0,0,0,0,0,0,0,0,"Fall 2016",null,2017,null,629.04,null,null,null,null,null,43.93,null,"Reference Point Press",null,null,null,"Science & Technology",null,"English",null,"Reinforced Library",null,80,null,null,null,null,null,"5 - 12",null,"Barbara Sheen"]
[{"$f":"A7569","v":0},null,{"$f":"C7569","v":0},null,{"$f":"E7569","v":0},null,9781682827888,null,9781682827871,null,"Dealing with Bipolar Disorder",null,null,null,"Dealing with Mental Disorders",null,null,null,"Reference Point Press",null,45.95,null,32.950000000000003,null,37.950000000000003,null,0,null,null,null,null,null,0,0,0,0,0,0,0,0,0,0,0,0,0,0,0,"Spring 2020",null,2020,null,null,null,null,null,null,null,43.93,null,"Reference Point Press",null,null,null,"Health",null,"English",null,"Reinforced Library",null,80,null,"6-12",null,"1000-1400",null,"6 - 12",null,"Melissa Abramovitz"]
[null,null,null,null,null,null,null,null,null,null,"Complete Series of 5",null,null,null,"Defining Events of the Twenty-First Century ",null,null,null,null,null,{"$f":"SUM(U7587:U7591)","v":229.75},null,{"$f":"SUM(W7587:W7591)","v":164.75},null,{"$f":"SUM(Y7587:Y7591)","v":189.75}]
[null,null,null,null,null,null,null,null,null,null,"Complete Series of 3",null,null,null,"Discovering Art",null,null,null,null,null,{"$f":"SUM(U7602:U7604)","v":137.85000000000002},null,{"$f":"SUM(W7602:W7604)","v":98.850000000000009},null,{"$f":"SUM(Y7602:Y7604)","v":113.85000000000001}]
[{"$f":"A7637","v":0},null,{"$f":"C7637","v":0},null,{"$f":"E7637","v":0},null,9781682820216,null,9781682820209,null,"Dangers of Marijuana, The",null,null,null,"Drug Dangers",null,null,null,"Reference Point Press",null,45.95,null,32.950000000000003,null,37.950000000000003,null,0,null,null,null,null,null,0,0,0,0,0,0,0,0,0,0,0,0,0,0,0,"Fall 2016",null,2017,null,"362.29/5",null,null,null,null,null,43.93,null,"Reference Point Press",null,null,null,"Health",null,"English",null,"Reinforced Library",null,80,null,null,null,null,null,"5 - 12",null,"Carla Mooney"]
[{"$f":"A7653","v":0},null,{"$f":"C7653","v":0},null,{"$f":"E7653","v":0},null,9781682827109,null,9781682827093,null,"Marijuana and Its Dangers",null,null,null,"Drugs and Their Dangers",null,null,null,"Reference Point Press",null,45.95,null,32.950000000000003,null,{"$f":"W7656+5","v":37.950000000000003},null,{"$f":"IF(AC7656=FALSE,AT7656,0)","v":0},null,null,null,null,null,{"$f":"IF(AND(A7656>=1,AC7656=\"\"),A7656,0)","v":0},{"$f":"IF(AND(A7656>=1,AC7656=\"x\"),A7656,0)","v":0},{"$f":"IF(AND(A7656>=1,AC7656=\"\"),U7656,0)","v":0},{"$f":"IF(AND(A7656>=1,AC7656=\"x\"),-U7656,0)","v":0},0,0,0,0,{"$f":"E7656","v":0},{"$f":"Y7656*E7656","v":0},{"$f":"AG7656+AK7656+AO7656","v":0},{"$f":"AH7656+AL7656","v":0},{"$f":"AQ7656+AR7656","v":0},{"$f":"AI7656+AM7656+AP7656","v":0},{"$f":"AJ7656+AN7656","v":0},"Fall 2019",null,2020,null,null,null,null,null,null,null,43.93,null,"Reference Point Press",null,null,null,"Health",null,"English",null,"Reinforced Library",null,80,null,null,null,null,null,"6 - 12"]
[{"$f":"A7673","v":0},null,{"$f":"C7673","v":0},null,{"$f":"E7673","v":0},null,9781682828625,null,9781682828618,null,"What Is the Impact of Declining Biodiversity?",null,null,null,"Environmental Impact",null,null,null,"Reference Point Press",null,45.95,null,32.950000000000003,null,{"$f":"W7675+5","v":37.950000000000003},null,{"$f":"IF(AC7675=FALSE,AT7675,0)","v":0},null,null,null,null,null,{"$f":"IF(AND(A7675>=1,AC7675=\"\"),A7675,0)","v":0},{"$f":"IF(AND(A7675>=1,AC7675=\"x\"),A7675,0)","v":0},{"$f":"IF(AND(A7675>=1,AC7675=\"\"),U7675,0)","v":0},{"$f":"IF(AND(A7675>=1,AC7675=\"x\"),-U7675,0)","v":0},{"$f":"IF(AND(C7675>=1,AC7675=\"\"),C7675,0)","v":0},{"$f":"IF(AND(C7675>=1,AC7675=\"x\"),C7675,0)","v":0},{"$f":"IF(AND(C7675>=1,AC7675=\"\"),W7675*C7675,0)","v":0},{"$f":"IF(AND(C7675>=1,AC7675=\"x\"),-W7675*C7675,0)","v":0},{"$f":"E7675","v":0},{"$f":"Y7675*E7675","v":0},{"$f":"AG7675+AK7675+AO7675","v":0},{"$f":"AH7675+AL7675","v":0},{"$f":"AQ7675+AR7675","v":0},{"$f":"AI7675+AM7675+AP7675","v":0},{"$f":"AJ7675+AN7675","v":0},"Fall 2020",null,2020,null,"333.95/16",null,null,null,null,null,43.93,null,"Reference Point Press",null,null,null,"Social Studies",null,"English",null,"Reinforced Library",null,80,null,null,null,"1000-1400",null,"6 - 12",null,"Stuart A. Kallen"]
[{"$f":"A7685","v":0},null,{"$f":"C7685","v":0},null,{"$f":"E7685","v":0},null,9781682821978,null,9781682821961,null,"Careers in Digital Media ",null,null,null,"Exploring Careers",null,null,null,"Reference Point Press",null,45.95,null,32.950000000000003,null,37.950000000000003,null,0,null,null,null,null,null,0,0,0,0,0,0,0,0,0,0,0,0,0,0,0,"Fall 2016",null,2017,null,"302.23/1023",null,null,null,null,null,43.93,null,"Reference Point Press",null,null,null,"Careers",null,"English",null,"Reinforced Library",null,80,null,null,null,null,null,"5 - 12",null,"Laura Roberts"]
[null,null,null,null,null,null,null,null,null,null,"Complete Series of 5",null,null,null,"Extraterrestrial Life",null,null,null,null,null,{"$f":"SUM(U7727:U7731)","v":229.75},null,{"$f":"SUM(W7727:W7731)","v":164.75},null,{"$f":"SUM(Y7727:Y7731)","v":189.75}]
[{"$f":"A7741","v":0},null,{"$f":"C7741","v":0},null,{"$f":"E7741","v":0},null,9781601529831,null,9781601529824,null,"Incarcerated Youth",null,null,null,"Forgotten Youth",null,null,null,"Reference Point Press",null,45.95,null,32.950000000000003,null,{"$f":"W7745+5","v":37.950000000000003},null,{"$f":"IF(AC7745=FALSE,AT7745,0)","v":0},null,null,null,null,null,{"$f":"IF(AND(A7745>=1,AC7745=\"\"),A7745,0)","v":0},{"$f":"IF(AND(A7745>=1,AC7745=\"x\"),A7745,0)","v":0},{"$f":"IF(AND(A7745>=1,AC7745=\"\"),U7745,0)","v":0},{"$f":"IF(AND(A7745>=1,AC7745=\"x\"),-U7745,0)","v":0},0,0,0,0,{"$f":"E7745","v":0},{"$f":"Y7745*E7745","v":0},{"$f":"AG7745+AK7745+AO7745","v":0},{"$f":"AH7745+AL7745","v":0},{"$f":"AQ7745+AR7745","v":0},{"$f":"AI7745+AM7745+AP7745","v":0},{"$f":"AJ7745+AN7745","v":0},"Fall 2016",null,2017,null,"365/.608350973",null,null,null,null,null,43.93,null,"Reference Point Press",null,null,null,"Social Studies",null,"English",null,"Reinforced Library",null,80,null,null,null,null,null,"5 - 12",null,"Stephanie Watson"]
[{"$f":"A7755","v":0},null,{"$f":"C7755","v":0},null,{"$f":"E7755","v":0},null,9781682827826,null,9781682827819,null,"Nicki Minaj",null,null,null,"Giants of Rap and Hip-Hop",null,null,null,"Reference Point Press",null,45.95,null,32.950000000000003,null,37.950000000000003,null,0,null,null,null,null,null,0,0,0,0,0,0,0,0,0,0,0,0,0,0,0,"Spring 2020",null,2020,null,782.42164909200005,null,null,null,null,null,43.93,null,"Reference Point Press",null,null,null,"Biography",null,"English",null,"Reinforced Library",null,64,null,"6-12",null,"1000-1400",null,"6 - 12",null,"Stuart A. Kallen"]
[{"$f":"A7772","v":0},null,{"$f":"C7772","v":0},null,{"$f":"E7772","v":0},null,9781682822081,null,9781682822074,null,"Growing Up in Canada",null,null,null,"Growing Up Around the World",null,null,null,"Reference Point Press",null,45.95,null,32.950000000000003,null,37.950000000000003,null,0,null,null,null,null,null,0,0,0,0,0,0,0,0,0,0,0,0,0,0,0,"Fall 2017",null,2018,null,971,null,null,null,null,null,43.93,null,"Reference Point Press",null,null,null,"Social Studies",null,"English",null,"Reinforced Library",null,80,null,null,null,null,null,"5 - 12",null,"Gail Snyder"]
[null,null,null,null,null,null,null,null,null,null,"Complete Series of 4",null,null,null,"High-Tech Careers ",null,null,null,null,null,{"$f":"SUM(U7795:U7798)","v":183.8},null,{"$f":"SUM(W7795:W7798)","v":131.80000000000001},null,{"$f":"SUM(Y7795:Y7798)","v":151.80000000000001}]
[{"$f":"A7824","v":0},null,{"$f":"C7824","v":0},null,{"$f":"E7824","v":0},null,9781682824160,null,9781682824153,null,"How the Internet Is Changing the World",null,null,null,"How Science Changed the World ",null,null,null,"Reference Point Press",null,45.95,null,32.950000000000003,null,37.950000000000003,null,0,null,null,null,null,null,0,0,0,0,0,0,0,0,0,0,0,0,0,0,0,"Fall 2018",null,2019,null,"302.23/1",null,null,null,null,null,43.93,null,"Reference Point Press",null,null,null,"Science & Technology",null,"English",null,"Reinforced Library",null,80,null,null,null,null,null,"5 - 12",null,"Bradley Steffens"]
[{"$f":"A7847","v":0},null,{"$f":"C7847","v":0},null,{"$f":"E7847","v":0},null,9781601526052,null,9781601526045,null,"Can Gun Control Reduce Violence?",null,null,null,"In Controversy",null,null,null,"Reference Point Press",null,45.95,null,32.950000000000003,null,37.950000000000003,null,0,null,null,null,null,null,0,0,0,0,0,0,0,0,0,0,0,0,0,0,0,"Spring 2014",null,2014,null,null,null,null,null,null,null,43.93,null,"Reference Point Press",null,null,null,"Social Studies",null,"English",null,"Reinforced Library",null,96,null,null,null,null,null,"5 - 12",null,"Patricia D. Netzley"]
[{"$f":"A7847","v":0},null,{"$f":"C7847","v":0},null,{"$f":"E7847","v":0},null,9781601524492,null,9781601524485,null,"How Serious a Problem Is Drug Use in Sports?",null,null,null,"In Controversy",null,null,null,"Reference Point Press",null,45.95,null,32.950000000000003,null,37.950000000000003,null,0,null,null,null,null,null,0,0,0,0,0,0,0,0,0,0,0,0,0,0,0,"Spring 2013",null,2013,null,362.29,null,null,null,null,null,43.93,null,"Reference Point Press",null,null,null,"Social Studies",null,"English",null,"Reinforced Library",null,96,null,null,null,null,null,"5 - 12",null,"Hal Marcovitz"]
[{"$f":"A7847","v":0},null,{"$f":"C7847","v":0},null,{"$f":"E7847","v":0},null,9781601523549,null,9781601521439,null,"Is Offshore Oil Drilling Worth the Risks?",null,null,null,"In Controversy",null,null,null,"Reference Point Press",null,45.95,null,32.950000000000003,null,37.950000000000003,null,0,null,null,null,null,null,0,0,0,0,0,0,0,0,0,0,0,0,0,0,0,"Fall 2010",null,2011,null,"363.738/2",null,null,null,null,null,43.93,null,"Reference Point Press",null,null,null,"Social Studies",null,"English",null,"Reinforced Library",null,96,null,null,null,null,null,"5 - 12",null,"Hal Marcovitz"]
[{"$f":"A7894","v":0},null,{"$f":"C7894","v":0},null,{"$f":"E7894","v":0},null,9781682827222,null,9781682827215,null,"School Shootings",null,null,null,"In Focus",null,null,null,"Reference Point Press",null,45.95,null,32.950000000000003,null,{"$f":"W7898+5","v":37.950000000000003},null,{"$f":"IF(AC7898=FALSE,AT7898,0)","v":0},null,null,null,null,null,{"$f":"IF(AND(A7898>=1,AC7898=\"\"),A7898,0)","v":0},{"$f":"IF(AND(A7898>=1,AC7898=\"x\"),A7898,0)","v":0},{"$f":"IF(AND(A7898>=1,AC7898=\"\"),U7898,0)","v":0},{"$f":"IF(AND(A7898>=1,AC7898=\"x\"),-U7898,0)","v":0},0,0,0,0,{"$f":"E7898","v":0},{"$f":"Y7898*E7898","v":0},{"$f":"AG7898+AK7898+AO7898","v":0},{"$f":"AH7898+AL7898","v":0},{"$f":"AQ7898+AR7898","v":0},{"$f":"AI7898+AM7898+AP7898","v":0},{"$f":"AJ7898+AN7898","v":0},"Fall 2019",null,2020,null,null,null,null,null,null,null,43.93,null,"Reference Point Press",null,null,null,"High Interest",null,"English",null,"Reinforced Library",null,80,null,null,null,null,null,"6 - 12"]
[{"$f":"A7925","v":0},null,{"$f":"C7925","v":0},null,{"$f":"E7925","v":0},null,9781682821022,null,9781682820995,null,"What Should Be Done About Illegal Immigration? ",null,null,null,"Issues in Society",null,null,null,"Reference Point Press",null,45.95,null,32.950000000000003,null,37.950000000000003,null,0,null,null,null,null,null,0,0,0,0,0,0,0,0,0,0,0,0,0,0,0,"Fall 2016",null,2017,null,"364.4/37",null,null,null,null,null,43.93,null,"Reference Point Press",null,null,null,"Social Studies",null,"English",null,"Reinforced Library",null,80,null,null,null,null,null,"5 - 12",null,"David Haugen"]
[{"$f":"A7950","v":0},null,{"$f":"C7950","v":0},null,{"$f":"E7950","v":0},null,9781682828243,null,9781682828236,null,"Skilled Jobs in Health Care",null,null,null,"Jobs for Skilled Workers",null,null,null,"Reference Point Press",null,45.95,null,32.950000000000003,null,{"$f":"W7953+5","v":37.950000000000003},null,{"$f":"IF(AC7953=FALSE,AT7953,0)","v":0},null,null,null,null,null,{"$f":"IF(AND(A7953>=1,AC7953=\"\"),A7953,0)","v":0},{"$f":"IF(AND(A7953>=1,AC7953=\"x\"),A7953,0)","v":0},{"$f":"IF(AND(A7953>=1,AC7953=\"\"),U7953,0)","v":0},{"$f":"IF(AND(A7953>=1,AC7953=\"x\"),-U7953,0)","v":0},0,0,0,0,{"$f":"E7953","v":0},{"$f":"Y7953*E7953","v":0},{"$f":"AG7953+AK7953+AO7953","v":0},{"$f":"AH7953+AL7953","v":0},{"$f":"AQ7953+AR7953","v":0},{"$f":"AI7953+AM7953+AP7953","v":0},{"$f":"AJ7953+AN7953","v":0},"Fall 2020",null,2020,null,610.69000000000005,null,null,null,null,null,43.93,null,"Reference Point Press",null,null,null,"Careers",null,"English",null,"Reinforced Library",null,80,null,null,null,"1000-1400",null,"6 - 12",null,"Cherese Cartlidge"]
[]
[{"$f":"A7977","v":0},null,{"$f":"C7977","v":0},null,{"$f":"E7977","v":0},null,9781601526397,null,9781601526380,null,"Life in Ancient Egypt",null,null,null,"Living History",null,null,null,"Reference Point Press",null,45.95,null,32.950000000000003,null,37.950000000000003,null,0,null,null,null,null,null,0,0,0,0,0,0,0,0,0,0,0,0,0,0,0,"Spring 2015",null,2015,null,"932/.01",null,null,null,null,null,43.93,null,"Reference Point Press",null,null,null,"History",null,"English",null,"Reinforced Library",null,96,null,null,null,null,null,"5 - 12",null,"Don Nardo"]
[{"$f":"A8013","v":0},null,{"$f":"C8013","v":0},null,{"$f":"E8013","v":0},null,9781678202798,null,9781678202781,null,"Eating Disorders on the Rise ",null,null,null,"Mental Health Crisis",null,null,null,"Reference Point Press",null,45.95,null,32.950000000000003,null,{"$f":"W8016+5","v":37.950000000000003},null,0,null,null,null,null,null,0,0,0,0,0,0,0,0,0,0,0,0,0,0,0,"Fall 2022",null,2023,null,"616.85/26",null,null,null,null,null,43.93,null,"ReferencePoint Press",null,null,null,"Health",null,"English",null,"Reinforced Library",null,64,null,null,null,"1000-1400",null,"6-12",null,"Don Nardo"]
[null,null,null,null,null,null,null,null,null,null,"Complete Series of 5",null,null,null,"Money and Finance Guide",null,null,null,null,null,{"$f":"SUM(U8040:U8044)","v":229.75},null,{"$f":"SUM(W8040:W8044)","v":164.75},null,{"$f":"SUM(Y8040:Y8044)","v":189.75}]
[{"$f":"A8053","v":0},null,{"$f":"C8053","v":0},null,{"$f":"E8053","v":0},null,9781601523563,null,9781601521453,null,"Aliens",null,null,null,"Monsters and Mythical Creatures",null,null,null,"Reference Point Press",null,45.95,null,32.950000000000003,null,{"$f":"W8054+5","v":37.950000000000003},null,{"$f":"IF(AC8054=FALSE,AT8054,0)","v":0},null,null,null,null,null,{"$f":"IF(AND(A8054>=1,AC8054=\"\"),A8054,0)","v":0},{"$f":"IF(AND(A8054>=1,AC8054=\"x\"),A8054,0)","v":0},{"$f":"IF(AND(A8054>=1,AC8054=\"\"),U8054,0)","v":0},{"$f":"IF(AND(A8054>=1,AC8054=\"x\"),-U8054,0)","v":0},{"$f":"IF(AND(C8054>=1,AC8054=\"\"),C8054,0)","v":0},{"$f":"IF(AND(C8054>=1,AC8054=\"x\"),C8054,0)","v":0},{"$f":"IF(AND(C8054>=1,AC8054=\"\"),W8054*C8054,0)","v":0},{"$f":"IF(AND(C8054>=1,AC8054=\"x\"),-W8054*C8054,0)","v":0},{"$f":"E8054","v":0},{"$f":"Y8054*E8054","v":0},{"$f":"AG8054+AK8054+AO8054","v":0},{"$f":"AH8054+AL8054","v":0},{"$f":"AQ8054+AR8054","v":0},{"$f":"AI8054+AM8054+AP8054","v":0},{"$f":"AJ8054+AN8054","v":0},"Fall 2010",null,2011,null,1.9419999999999999,null,null,null,null,null,43.93,null,"Reference Point Press",null,null,null,"Legends, Myths, & Paranormal",null,"English",null,"Reinforced Library",null,80,null,null,null,null,null,"5 - 12",null,"Stuart A. Kallen"]
[{"$f":"A8070","v":0},null,{"$f":"C8070","v":0},null,{"$f":"E8070","v":0},null,9781682826447,null,9781682826430,null,"K-Pop",null,null,null,"Music Scene",null,null,null,"Reference Point Press",null,45.95,null,32.950000000000003,null,{"$f":"W8073+5","v":37.950000000000003},null,{"$f":"IF(AC8073=FALSE,AT8073,0)","v":0},null,null,null,null,null,{"$f":"IF(AND(A8073>=1,AC8073=\"\"),A8073,0)","v":0},{"$f":"IF(AND(A8073>=1,AC8073=\"x\"),A8073,0)","v":0},{"$f":"IF(AND(A8073>=1,AC8073=\"\"),U8073,0)","v":0},{"$f":"IF(AND(A8073>=1,AC8073=\"x\"),-U8073,0)","v":0},0,0,0,0,{"$f":"E8073","v":0},{"$f":"Y8073*E8073","v":0},{"$f":"AG8073+AK8073+AO8073","v":0},{"$f":"AH8073+AL8073","v":0},{"$f":"AQ8073+AR8073","v":0},{"$f":"AI8073+AM8073+AP8073","v":0},{"$f":"AJ8073+AN8073","v":0},"Fall 2019",null,2020,null,null,null,null,null,null,null,43.93,null,"Reference Point Press",null,null,null,"High Interest",null,"English",null,"Reinforced Library",null,80,null,null,null,"1000-1400",null,"6 - 12",null,"Stuart A. Kallen"]
[{"$f":"A8084","v":0},null,{"$f":"C8084","v":0},null,{"$f":"E8084","v":0},null,9781678202712,null,9781678202705,null,"Gods of Nature in World Mythology",null,null,null,"Mythology Around the World",null,null,null,"Reference Point Press",null,45.95,null,32.950000000000003,null,{"$f":"W8088+5","v":37.950000000000003},null,0,null,null,null,null,null,0,0,0,0,0,0,0,0,0,0,0,0,0,0,0,"Fall 2022",null,2023,null,"202/.12",null,null,null,null,null,43.93,null,"ReferencePoint Press",null,null,null,"Legends, Myths, & Paranormal",null,"English",null,"Reinforced Library",null,64,null,null,null,"1000-1400",null,"6-12",null,"Don Nardo"]
[{"$f":"A8104","v":0},null,{"$f":"C8104","v":0},null,{"$f":"E8104","v":0},null,9781678204075,null,9781678204068,null,"Moons",null,null,null,"Our Solar System",null,null,null,"Reference Point Press",null,45.95,null,32.950000000000003,null,37.950000000000003,null,0,null,null,null,null,null,0,0,0,0,0,0,0,0,0,0,0,0,0,0,0,"Fall 2022",null,2023,null,null,null,null,null,null,null,43.93,null,"BrightPoint Press",null,null,null,"Science & Technology",null,"English",null,"Reinforced Library",null,64,null,null,null,"415-800",null,"6-12",null,"Carolyn Bennett Fraiser"]
[{"$f":"A8141","v":0},null,{"$f":"C8141","v":0},null,{"$f":"E8141","v":0},null,9781682822562,null,9781682822555,null,"Science and Sustainable Construction",null,null,null,"Science and Sustainability ",null,null,null,"Reference Point Press",null,45.95,null,32.950000000000003,null,{"$f":"W8143+5","v":37.950000000000003},null,{"$f":"IF(AC8143=FALSE,AT8143,0)","v":0},null,null,null,null,null,{"$f":"IF(AND(A8143>=1,AC8143=\"\"),A8143,0)","v":0},{"$f":"IF(AND(A8143>=1,AC8143=\"x\"),A8143,0)","v":0},{"$f":"IF(AND(A8143>=1,AC8143=\"\"),U8143,0)","v":0},{"$f":"IF(AND(A8143>=1,AC8143=\"x\"),-U8143,0)","v":0},0,0,0,0,{"$f":"E8143","v":0},{"$f":"Y8143*E8143","v":0},{"$f":"AG8143+AK8143+AO8143","v":0},{"$f":"AH8143+AL8143","v":0},{"$f":"AQ8143+AR8143","v":0},{"$f":"AI8143+AM8143+AP8143","v":0},{"$f":"AJ8143+AN8143","v":0},"Fall 2017",null,2018,null,"690.028/6",null,null,null,null,null,43.93,null,"Reference Point Press",null,null,null,"Science & Technology",null,"English",null,"Reinforced Library",null,80,null,null,null,null,null,"5 - 12",null,"Carla Mooney"]
[{"$f":"A8155","v":0},null,{"$f":"C8155","v":0},null,{"$f":"E8155","v":0},null,9781678203238,null,9781678203221,null,"Animals with Jobs: Putting Instinct and Training to Work",null,null,null,null,null,null,null,"Reference Point Press",null,45.95,null,32.950000000000003,null,37.950000000000003,null,0,null,null,null,null,null,0,0,0,0,0,0,0,0,0,0,0,0,0,0,0,"Fall 2022",null,2023,null,null,null,null,null,null,null,43.93,null,"ReferencePoint Press",null,null,null,"Animals & Nature",null,"English",null,"Reinforced Library",null,64,null,null,null,"1000-1400",null,"6-12",null,"Carla Mooney"]
[{"$f":"A8155","v":0},null,{"$f":"C8155","v":0},null,{"$f":"E8155","v":0},null,9781678203351,null,9781678203344,null,"Exploring Careers in the Gaming Industry",null,null,null,null,null,null,null,"Reference Point Press",null,45.95,null,32.950000000000003,null,37.950000000000003,null,0,null,null,null,null,null,0,0,0,0,0,0,0,0,0,0,0,0,0,0,0,"Fall 2022",null,2023,null,"794.8/3",null,null,null,null,null,43.93,null,"ReferencePoint Press",null,null,null,"Careers",null,"English",null,"Reinforced Library",null,64,null,null,null,"1000-1400",null,"6-12",null,"Celia McCarty"]
[{"$f":"A8155","v":0},null,{"$f":"C8155","v":0},null,{"$f":"E8155","v":0},null,9781678201715,null,9781678201708,null,"Homeless: Youth Living on the Streets\n",null,null,null,null,null,null,null,"Reference Point Press",null,45.95,null,32.950000000000003,null,37.950000000000003,null,0,null,null,null,null,null,0,0,0,0,0,0,0,0,0,0,0,0,0,0,0,"Fall 2021",null,2022,null,null,null,null,null,null,null,43.93,null,"ReferencePoint Press",null,null,null,null,null,"English",null,"Reinforced Library",null,64,null,null,null,"1000-1400",null,"6 - 12",null,"Gail Snyder"]
[{"$f":"A8155","v":0},null,{"$f":"C8155","v":0},null,{"$f":"E8155","v":0},null,9781678203511,null,9781678203504,null,"Racial Bias: Is Change Possible?",null,null,null,null,null,null,null,"Reference Point Press",null,45.95,null,32.950000000000003,null,37.950000000000003,null,0,null,null,null,null,null,0,0,0,0,0,0,0,0,0,0,0,0,0,0,0,"Fall 2022",null,2023,null,"305.800973",null,null,null,null,null,43.93,null,"ReferencePoint Press",null,null,null,"Current Issues",null,"English",null,"Reinforced Library",null,64,null,null,null,"1000-1400",null,"6-12",null,"Barbara Diggs"]
[null,null,null,null,null,null,null,null,null,null,"Complete Series of 4",null,null,null,"Smartphones and Society",null,null,null,null,null,{"$f":"SUM(U8248:U8251)","v":183.8},null,{"$f":"SUM(W8248:W8251)","v":131.80000000000001},null,{"$f":"SUM(Y8248:Y8251)","v":151.80000000000001}]
[{"$f":"A8260","v":0},null,{"$f":"C8260","v":0},null,{"$f":"E8260","v":0},null,9781682824306,null,9781682824290,null,"Cybersecurity Careers",null,null,null,"STEM Careers ",null,null,null,"Reference Point Press",null,45.95,null,32.950000000000003,null,{"$f":"W8262+5","v":37.950000000000003},null,{"$f":"IF(AC8262=FALSE,AT8262,0)","v":0},null,null,null,null,null,{"$f":"IF(AND(A8262>=1,AC8262=\"\"),A8262,0)","v":0},{"$f":"IF(AND(A8262>=1,AC8262=\"x\"),A8262,0)","v":0},{"$f":"IF(AND(A8262>=1,AC8262=\"\"),U8262,0)","v":0},{"$f":"IF(AND(A8262>=1,AC8262=\"x\"),-U8262,0)","v":0},0,0,0,0,{"$f":"E8262","v":0},{"$f":"Y8262*E8262","v":0},{"$f":"AG8262+AK8262+AO8262","v":0},{"$f":"AH8262+AL8262","v":0},{"$f":"AQ8262+AR8262","v":0},{"$f":"AI8262+AM8262+AP8262","v":0},{"$f":"AJ8262+AN8262","v":0},"Fall 2018",null,2019,null,5.8022999999999998,null,null,null,null,null,43.93,null,"Reference Point Press",null,null,null,"Careers",null,"English",null,"Reinforced Library",null,80,null,null,null,null,null,"5 - 12",null,"Kathryn Hulick"]
[{"$f":"A8275","v":0},null,{"$f":"C8275","v":0},null,{"$f":"E8275","v":0},null,9781682825020,null,9781682825013,null,"How Virtual Reality Will Impact Society",null,null,null,"Technology's Impact",null,null,null,"Reference Point Press",null,45.95,null,32.950000000000003,null,37.950000000000003,null,0,null,null,null,null,null,0,0,0,0,0,0,0,0,0,0,0,0,0,0,0,"Fall 2018",null,2019,null,6.8,null,null,null,null,null,43.93,null,"Reference Point Press",null,null,null,"Science & Technology",null,"English",null,"Reinforced Library",null,80,null,null,null,null,null,"5 - 12",null,"Cecilia Pinto McCarthy"]
[{"$f":"A8290","v":0},null,{"$f":"C8290","v":0},null,{"$f":"E8290","v":0},null,9781601529190,null,9781601529183,null,"Teens and Smoking",null,null,null,"Teen Choices",null,null,null,"Reference Point Press",null,45.95,null,32.950000000000003,null,37.950000000000003,null,0,null,null,null,null,null,0,0,0,0,0,0,0,0,0,0,0,0,0,0,0,"Fall 2015",null,2016,null,"362.29/608350973",null,null,null,null,null,43.93,null,"Reference Point Press",null,null,null,"Social Studies",null,"English",null,"Reinforced Library",null,80,null,null,null,null,null,"5 - 12",null,"Gail Snyder"]
[]
[{"$f":"A8349","v":0},null,{"$f":"C8349","v":0},null,{"$f":"E8349","v":0},null,9781682829684,null,9781682829677,null,"Teen Suicide",null,null,null,"Teen Problems",null,null,null,"Reference Point Press",null,45.95,null,32.950000000000003,null,37.950000000000003,null,0,null,null,null,null,null,0,0,0,0,0,0,0,0,0,0,0,0,0,0,0,"Fall 2020",null,2020,null,362.28083500000002,null,null,null,null,null,43.93,null,"Reference Point Press",null,null,null,"Health",null,"English",null,"Reinforced Library",null,80,null,null,null,"1000-1400",null,"6 - 12",null,"Mary Quirk"]
[{"$f":"A8364","v":0},null,{"$f":"C8364","v":0},null,{"$f":"E8364","v":0},null,9781601525253,null,9781601525246,null,"Cultural Milestones of the 2000s",null,null,null,"The Decade of the 2000s",null,null,null,"Reference Point Press",null,45.95,null,32.950000000000003,null,{"$f":"W8366+5","v":37.950000000000003},null,{"$f":"IF(AC8366=FALSE,AT8366,0)","v":0},null,null,null,null,null,{"$f":"IF(AND(A8366>=1,AC8366=\"\"),A8366,0)","v":0},{"$f":"IF(AND(A8366>=1,AC8366=\"x\"),A8366,0)","v":0},{"$f":"IF(AND(A8366>=1,AC8366=\"\"),U8366,0)","v":0},{"$f":"IF(AND(A8366>=1,AC8366=\"x\"),-U8366,0)","v":0},0,0,0,0,{"$f":"E8366","v":0},{"$f":"Y8366*E8366","v":0},{"$f":"AG8366+AK8366+AO8366","v":0},{"$f":"AH8366+AL8366","v":0},{"$f":"AQ8366+AR8366","v":0},{"$f":"AI8366+AM8366+AP8366","v":0},{"$f":"AJ8366+AN8366","v":0},"Fall 2013",null,2014,null,973.93,null,null,null,null,null,43.93,null,"Reference Point Press",null,null,null,"History",null,"English",null,"Reinforced Library",null,96,null,null,null,null,null,"5 - 12",null,"Craig E. Blohm"]
[]
[]
[{"$f":"A8420","v":0},null,{"$f":"C8420","v":0},null,{"$f":"E8420","v":0},null,9781601523921,null,9781601520319,null,"Witches",null,null,null,"The Mysterious & Unknown",null,null,null,"Reference Point Press",null,45.95,null,32.950000000000003,null,37.950000000000003,null,0,null,null,null,null,null,0,0,0,0,0,0,0,0,0,0,0,0,0,0,0,"Fall 2007",null,2008,null,"133.4/3",null,null,null,null,null,43.93,null,"Reference Point Press",null,null,null,"Legends, Myths, & Paranormal",null,"English",null,"Reinforced Library",null,96,null,null,null,null,null,"5 - 12",null,"Peggy J. Parks"]
[{"$f":"A8450","v":0},null,{"$f":"C8450","v":0},null,{"$f":"E8450","v":0},null,9781682826560,null,9781682826553,null,"Science and Technology of Soccer, The",null,null,null,"The Science and Technology of Sports",null,null,null,"Reference Point Press",null,45.95,null,32.950000000000003,null,37.950000000000003,null,0,null,null,null,null,null,0,0,0,0,0,0,0,0,0,0,0,0,0,0,0,"Fall 2019",null,2020,null,796.33399999999995,null,null,null,null,null,43.93,null,"Reference Point Press",null,null,null,"Science & Technology",null,"English",null,"Reinforced Library",null,80,null,null,null,"1000-1400",null,"6 - 12",null,"James Roland"]
[{"$f":"A8465","v":0},null,{"$f":"C8465","v":0},null,{"$f":"E8465","v":0},null,9781682828465,null,9781682828458,null,"Changing Lives Through Self-Driving Cars",null,null,null,"The Tech Effect",null,null,null,"Reference Point Press",null,45.95,null,32.950000000000003,null,37.950000000000003,null,0,null,null,null,null,null,0,0,0,0,0,0,0,0,0,0,0,0,0,0,0,"Fall 2020",null,2020,null,629.22199999999998,null,null,null,null,null,43.93,null,"Reference Point Press",null,null,null,"Social Studies",null,"English",null,"Reinforced Library",null,80,null,null,null,"1000-1400",null,"6 - 12",null,"Hal Marcovitz"]
[{"$f":"A8480","v":0},null,{"$f":"C8480","v":0},null,{"$f":"E8480","v":0},null,9781682825648,null,9781682825631,null,"Violence and Video Games",null,null,null,"The World of Video Games",null,null,null,"Reference Point Press",null,45.95,null,32.950000000000003,null,37.950000000000003,null,0,null,null,null,null,null,0,0,0,0,0,0,0,0,0,0,0,0,0,0,0,"Spring 2019",null,2019,null,null,null,null,null,null,null,43.93,null,"Reference Point Press",null,null,null,"Science & Technology",null,"English",null,"Reinforced Library",null,80,null,null,null,null,null,"6 - 12",null,"John L. Hakala"]
[{"$f":"A8488","v":0},null,{"$f":"C8488","v":0},null,{"$f":"E8488","v":0},null,9781682824467,null,9781682824450,null,"Terrorism",null,null,null,"Thinking Critically",null,null,null,"Reference Point Press",null,45.95,null,32.950000000000003,null,37.950000000000003,null,0,null,null,null,null,null,0,0,0,0,0,0,0,0,0,0,0,0,0,0,0,"Fall 2018",null,2019,null,363.32499999999999,null,null,null,null,null,43.93,null,"Reference Point Press",null,null,null,"Social Studies",null,"English",null,"Reinforced Library",null,80,null,null,null,null,null,"5 - 12",null,"John Allen"]
[{"$f":"A8535","v":0},null,{"$f":"C8535","v":0},null,{"$f":"E8535","v":0},null,9781601525956,null,9781601525949,null,"Constitution and the Founding of a New Nation, The",null,null,null,"Understanding American History",null,null,null,"Reference Point Press",null,45.95,null,32.950000000000003,null,37.950000000000003,null,0,null,null,null,null,null,0,0,0,0,0,0,0,0,0,0,0,0,0,0,0,"Fall 2013",null,2014,null,"342.7302/9",null,null,null,null,null,43.93,null,"Reference Point Press",null,null,null,"History",null,"English",null,"Reinforced Library",null,96,null,null,null,null,null,"5 - 12",null,"Hal Marcovitz"]
[{"$f":"A8554","v":0},null,{"$f":"C8554","v":0},null,{"$f":"E8554","v":0},null,9781678201654,null,9781678201647,null,"Tracking the Causes and Spread of Infectious Diseases",null,null,null,"Understanding Infectious Diseases",null,null,null,"Reference Point Press",null,45.95,null,32.950000000000003,null,{"$f":"W8559+5","v":37.950000000000003},null,{"$f":"IF(AC8559=FALSE,AT8559,0)","v":0},null,null,null,null,null,{"$f":"IF(AND(A8559>=1,AC8559=\"\"),A8559,0)","v":0},{"$f":"IF(AND(A8559>=1,AC8559=\"x\"),A8559,0)","v":0},{"$f":"IF(AND(A8559>=1,AC8559=\"\"),U8559,0)","v":0},{"$f":"IF(AND(A8559>=1,AC8559=\"x\"),-U8559,0)","v":0},0,0,0,0,{"$f":"E8559","v":0},{"$f":"Y8559*E8559","v":0},{"$f":"AG8559+AK8559+AO8559","v":0},{"$f":"AH8559+AL8559","v":0},{"$f":"AQ8559+AR8559","v":0},{"$f":"AI8559+AM8559+AP8559","v":0},{"$f":"AJ8559+AN8559","v":0},"Fall 2021",null,2022,null,null,null,null,null,null,null,43.93,null,"ReferencePoint Press",null,null,null,"Health",null,"English",null,"Reinforced Library",null,64,null,null,null,"1000-1400",null,"6-12",null,"Don Nardo"]
[{"$f":"A8567","v":0},null,{"$f":"C8567","v":0},null,{"$f":"E8567","v":0},null,9781682822845,null,9781682822838,null,"Understanding Violent Behavior",null,null,null,"Understanding Psychology ",null,null,null,"Reference Point Press",null,45.95,null,32.950000000000003,null,37.950000000000003,null,0,null,null,null,null,null,0,0,0,0,0,0,0,0,0,0,0,0,0,0,0,"Fall 2017",null,2018,null,"155.2/32",null,null,null,null,null,43.93,null,"Reference Point Press",null,null,null,"Social Studies",null,"English",null,"Reinforced Library",null,80,null,null,null,null,null,"5 - 12",null,"Christine Wilcox"]
[null,null,null,null,null,null,null,null,null,null,"Complete Series of 5",null,null,null,"Understanding the Holocaust",null,null,null,null,null,{"$f":"SUM(U8590:U8594)","v":229.75},null,{"$f":"SUM(W8590:W8594)","v":164.75},null,{"$f":"SUM(Y8590:Y8594)","v":189.75}]
[{"$f":"A8626","v":0},null,{"$f":"C8626","v":0},null,{"$f":"E8626","v":0},null,9781682825488,null,9781682825471,null,"Women and Feminism Today",null,null,null,"Women and Society",null,null,null,"Reference Point Press",null,45.95,null,32.950000000000003,null,37.950000000000003,null,0,null,null,null,null,null,0,0,0,0,0,0,0,0,0,0,0,0,0,0,0,"Spring 2019",null,2019,null,null,null,null,null,null,null,43.93,null,"Reference Point Press",null,null,null,"Social Studies",null,"English",null,"Reinforced Library",null,80,null,null,null,null,null,"6 - 12",null,"Crystal Sands"]
[{"$f":"A8641","v":0},null,{"$f":"C8641","v":0},null,{"$f":"E8641","v":0},null,9781678202590,null,9781678202583,null,"Greek Mythology Heroes and Villains",null,null,null,"World of Greek Mythology, The",null,null,null,"Reference Point Press",null,45.95,null,32.950000000000003,null,{"$f":"W8644+5","v":37.950000000000003},null,{"$f":"IF(AC8644=FALSE,AT8644,0)","v":0},null,null,null,null,null,{"$f":"IF(AND(A8644>=1,AC8644=\"\"),A8644,0)","v":0},{"$f":"IF(AND(A8644>=1,AC8644=\"x\"),A8644,0)","v":0},{"$f":"IF(AND(A8644>=1,AC8644=\"\"),U8644,0)","v":0},{"$f":"IF(AND(A8644>=1,AC8644=\"x\"),-U8644,0)","v":0},0,0,0,0,0,0,{"$f":"AG8644+AK8644+AO8644","v":0},{"$f":"AH8644+AL8644","v":0},0,{"$f":"AI8644+AM8644+AP8644","v":0},{"$f":"AJ8644+AN8644","v":0},"Spring 2022",null,2022,null,"398.20938/02",null,null,null,null,null,43.93,null,"BrightPoint Press",null,null,null,"Legends, Myths, & Paranormal",null,null,null,"Reinforced Library",null,80,null,null,null,"415-800",null,"6-12",null,"Maddie Spalding"]
[]
[null,null,null,null,null,null,null,null,null,null,"Complete Series of 6",null,null,null,"Agents of Government",null,null,null,null,null,{"$f":"SUM(U8679:U8684)","v":0},null,{"$f":"SUM(W8679:W8684)","v":179.7},null,{"$f":"SUM(Y8679:Y8684)","v":0}]
[null,null,{"$f":"C8692","v":0},null,null,null,"Not Available",null,9781608186112,null,"Frogs",null,null,null,"Amazing Animals",null,null,null,"The Creative Company",null,0,null,23.95,null,0,null,0,null,null,null,null,null,0,0,0,0,0,0,0,0,0,0,0,0,0,0,0,"Spring 2016",null,2016,null,"597.8/9",null,null,null,15,null,34.25,null,"Creative Education",null,2.8,null,"Animals & Nature",null,"English",null,"Reinforced Library",null,24,null,null,null,"530L",null,"1 - 4",null,"Valerie Bodden"]
[{"$f":"A8692","v":0},null,{"$f":"C8692","v":0},null,{"$f":"E8692","v":0},null,9781640005389,null,9781640263840,null,"Moose",null,null,null,"Amazing Animals",null,null,null,"The Creative Company",null,49,null,23.95,null,28.95,null,0,null,null,null,null,null,0,0,0,0,0,0,0,0,0,0,0,0,0,0,0,"Spring 2021",null,2021,null,null,null,null,null,15,null,34.25,null,"Creative Education",null,3.1,null,"Animals & Nature",null,"English",null,"Reinforced Library",null,24,null,"J",null,null,null,"1 - 4",null,"Kate Riggs"]
[{"$f":"A8692","v":0},null,{"$f":"C8692","v":0},null,{"$f":"E8692","v":0},null,9781640001565,null,9781640260405,null,"Seahorses",null,null,null,"Amazing Animals",null,null,null,"The Creative Company",null,49,null,23.95,null,28.95,null,0,null,null,null,null,null,0,0,0,0,0,0,0,0,0,0,0,0,0,0,0,"Spring 2019",null,2019,null,null,null,null,null,15,null,34.25,null,"Creative Education",null,3,null,"Animals & Nature",null,"English",null,"Reinforced Library",null,24,null,"J",null,"460L",null,"1 - 4",null,"Valerie Bodden"]
[{"$f":"A8692","v":0},null,{"$f":"C8692","v":0},null,{"$f":"E8692","v":0},null,9781640006485,null,9781640265189,null,"Woodpeckers",null,null,null,"Amazing Animals",null,null,null,"The Creative Company",null,49,null,23.95,null,28.95,null,0,null,null,null,null,null,0,0,0,0,0,0,0,0,0,0,0,0,0,0,0,"Spring 2022",null,2022,null,null,null,null,null,15,null,34.25,null,"Creative Education",null,null,null,"Animals & Nature",null,"English",null,"Reinforced Library",null,24,null,"J",null,null,null,"1 - 4",null,"Riggs, Kate"]
[{"$f":"A8774","v":0},null,{"$f":"C8774","v":0},null,{"$f":"E8774","v":0},null,9781640003545,null,9781640262195,null,"Mermaids",null,null,null,"Amazing Mysteries",null,null,null,"The Creative Company",null,49,null,23.95,null,28.95,null,0,null,null,null,null,null,0,0,0,0,0,0,0,0,0,0,0,0,0,0,0,"Spring 2020",null,2020,null,null,null,null,null,16,null,34.25,null,"Creative Education",null,null,null,"Legends, Myths, & Paranormal",null,"English",null,"Reinforced Library",null,24,null,"K",null,null,null,"3 - 6",null,"Ashley Gish"]
[{"$f":"A8812","v":0},null,{"$f":"C8812","v":0},null,{"$f":"E8812","v":0},null,9781640006270,null,9781640264977,null,"Luge",null,null,null,"Amazing Winter Olympics",null,null,null,"The Creative Company",null,49,null,23.95,null,28.95,null,0,null,null,null,null,null,0,0,0,0,0,0,0,0,0,0,0,0,0,0,0,"Spring 2022",null,2022,null,null,null,null,null,16,null,34.25,null,"Creative Education",null,4.2,null,"Sports & Recreation",null,"English",null,"Reinforced Library",null,24,null,"J",null,null,null,"1 - 4",null,"Gish, Ashley"]
[null,null,{"$f":"C8834","v":0},null,null,null,"Not Available",null,9781608187614,null,"Bigfoot",null,null,null,"Are They Real?",null,null,null,"The Creative Company",null,0,null,23.95,null,0,null,0,null,null,null,null,null,0,0,0,0,0,0,0,0,0,0,0,0,0,0,0,"Spring 2017",null,2017,null,1.944,null,null,null,48,null,34.25,null,"Creative Education",null,null,null,"Legends, Myths, & Paranormal",null,"English",null,"Reinforced Library",null,24,null,null,null,"530L",null,"1 - 3",null,"Laura K. Murray"]
[null,null,{"$f":"C8850","v":0},null,null,null,"Not Available",null,9781608182022,null,"Portraits",null,null,null,"Brushes with Greatness",null,null,null,"The Creative Company",null,0,null,29.95,null,0,null,{"$f":"IF(AC8852=FALSE,AT8852,0)","v":0},null,null,null,null,null,{"$f":"IF(AND(A8852>=1,AC8852=\"\"),A8852,0)","v":0},{"$f":"IF(AND(A8852>=1,AC8852=\"x\"),A8852,0)","v":0},{"$f":"IF(AND(A8852>=1,AC8852=\"\"),U8852,0)","v":0},{"$f":"IF(AND(A8852>=1,AC8852=\"x\"),-U8852,0)","v":0},0,0,0,0,{"$f":"E8852","v":0},{"$f":"Y8852*E8852","v":0},{"$f":"AG8852+AK8852+AO8852","v":0},{"$f":"AH8852+AL8852","v":0},{"$f":"AQ8852+AR8852","v":0},{"$f":"AI8852+AM8852+AP8852","v":0},{"$f":"AJ8852+AN8852","v":0},"Fall 2012",null,2013,null,757,null,null,null,53,null,42.8,null,"Creative Education",null,null,null,"Arts, Crafts, & Activities",null,"English",null,"Reinforced Library",null,48,null,null,null,"NC1460L",null,"4 - 6",null,"Joy Frisch-Schmoll"]
[null,null,{"$f":"C8859","v":0},null,null,null,"Not Available",null,9781608181766,null,"Story of Facebook, The",null,null,null,"Built for Success",null,null,null,"The Creative Company",null,0,null,29.95,null,0,null,0,null,null,null,null,null,0,0,0,0,0,0,0,0,0,0,0,0,0,0,0,"Fall 2012",null,2013,null,"006.7/54",null,null,null,51,null,42.8,null,"Creative Education",null,null,null,"Science & Technology",null,"English",null,"Reinforced Library",null,48,null,null,null,"NC1240L",null,"4 - 6",null,"Sara Gilbert"]
[]
[null,null,null,null,null,null,null,null,null,null,"Complete Series of 101",null,null,null,"Creative Editions",null,null,null,null,null,{"$f":"SUM(U8923:U9021)","v":2344.349999999999},null,{"$f":"SUM(W8923:W9021)","v":1900.4800000000009},null,{"$f":"SUM(Y8923:Y9021)","v":1987.0200000000007}]
[{"$f":"A8922","v":0},null,{"$f":"C8922","v":0},null,{"$f":"E8922","v":0},null,9781566605069,null,9781568462738,null,"Forever Flowers, The",null,null,null,"Creative Editions",null,null,null,"The Creative Company",null,27.2,null,18.989999999999998,null,{"$f":"W8941+5","v":23.99},null,0,null,null,null,null,null,0,0,0,0,0,0,0,0,0,0,0,0,0,0,0,"Fall 2014",null,2014,null,"E",null,null,null,64,null,18.989999999999998,null,"Creative Editions",null,null,null,"Fiction",null,"English",null,"Hardcover with Jacket",null,32,null,null,null,null,null,"PreK – 8",null,"Michael J. Rosen "]
[{"$f":"A8922","v":0},null,{"$f":"C8922","v":0},null,{"$f":"E8922","v":0},null,9781640001466,null,9781568463322,null,"I Am Polar Bear",null,null,null,"Creative Editions",null,null,null,"The Creative Company",null,27.2,null,18.989999999999998,null,23.99,null,0,null,null,null,null,null,0,0,0,0,0,0,0,0,0,0,0,0,0,0,0,"Fall 2019",null,2019,null,null,null,null,null,65,null,18.989999999999998,null,"Creative Editions",null,null,null,"Fiction",null,"English",null,"Hardcover with Jacket",null,32,null,null,null,null,null,"PreK – 8",null,"J. Patrick Lewis"]
[{"$f":"A8922","v":0},null,{"$f":"C8922","v":0},null,{"$f":"E8922","v":0},null,9781640003224,null,9781568463469,null,"Me + Tree ",null,null,null,"Creative Editions",null,null,null,"The Creative Company",null,27.2,null,18.990000000000002,null,{"$f":"W8971+5","v":23.990000000000002},null,0,null,null,null,null,null,0,0,0,0,0,0,0,0,0,0,0,0,0,0,0,"Spring 2021",null,2020,null,null,null,null,null,67,null,18.989999999999998,null,"Creative Editions",null,3.5,null,"Fiction",null,"English",null,"Hardcover with Jacket",null,32,null,null,null,null,null,"PreK – 8",null,"Alexandria Giardino"]
[{"$f":"A8922","v":0},null,{"$f":"C8922","v":0},null,{"$f":"E8922","v":0},null,9781640002289,null,9781568463414,null,"Ruby, Head High",null,null,null,"Creative Editions",null,null,null,"The Creative Company",null,28.6,null,19.989999999999998,null,{"$f":"W8995+5","v":24.99},null,0,null,null,null,null,null,0,0,0,0,0,0,0,0,0,0,0,0,0,0,0,"Spring 2019",null,2019,null,"E",null,null,null,69,null,19.989999999999998,null,"Creative Editions",null,3.6,null,"Fiction",null,"English",null,"Hardcover with Jacket",null,32,null,null,null,"630L",null,"PreK – 8",null,"Irene Cohen-Janca (original French); English translation by Amy Novesky"]
[{"$f":"A9023","v":0},null,{"$f":"C9023","v":0},null,{"$f":"E9023","v":0},null,9781566608398,null,9781568463001,null,"Counting on Birds (Board Book)",null,null,null,"Creative Editions Board Books",null,null,null,"The Creative Company",null,12.9,null,8.99,null,13.99,null,0,null,null,null,null,null,0,0,0,0,0,0,0,0,0,0,0,0,0,0,0,"Spring 2017",null,2017,null,598.15599999999995,null,null,null,72,null,8.99,null,"Creative Editions",null,1.3,null,"Fiction",null,"English",null,"Board Book",null,14,null,null,null,null,null,"PreK – 8",null,"Kate Riggs"]
[{"$f":"A9023","v":0},null,{"$f":"C9023","v":0},null,{"$f":"E9023","v":0},null,9781566609821,null,9781568463186,null,"Sounds of the Forest  (Board Book)",null,null,null,"Creative Editions Board Books",null,null,null,"The Creative Company",null,12.9,null,8.99,null,13.99,null,0,null,null,null,null,null,0,0,0,0,0,0,0,0,0,0,0,0,0,0,0,"Spring 2019",null,2019,null,"E",null,null,null,73,null,8.99,null,"Creative Editions",null,null,null,"Fiction",null,"English",null,"Board Book",null,14,null,null,null,"240L",null,"PreK – 8",null,"Kate Riggs"]
[{"$f":"A9053","v":0},null,{"$f":"C9053","v":0},null,{"$f":"E9053","v":0},null,"Not Available",null,9781583415870,null,"To Build a Fire",null,null,null,"Creative Short Stories",null,null,null,"The Creative Company",null,0,null,23.95,null,0,null,0,null,null,null,null,null,0,0,0,0,0,0,0,0,0,0,0,0,0,0,0,"Fall 2011",null,2011,null,"FIC",null,null,null,"52",null,34.25,null,"Creative Education",null,6.7,null,"Fiction",null,"English",null,"Reinforced Library",null,40,null,null,null,null,null,"PreK – 8",null,"Jack London"]
[{"$f":"A9063","v":0},null,{"$f":"C9063","v":0},null,{"$f":"E9063","v":0},null,9781640005617,null,9781640263970,null,"New York Giants",null,null,null,"Creative Sports: Super Bowl Champions",null,null,null,"The Creative Company",null,49,null,23.95,null,28.95,null,0,null,null,null,null,null,0,0,0,0,0,0,0,0,0,0,0,0,0,0,0,"Fall 2022",null,2023,null,"796.332/6409793135",null,null,null,33,null,34.25,null,"Creative Education",null,null,null,"Sports & Recreation",null,"English",null,"Reinforced Library",null,24,null,"M",null,null,null,"2 - 5",null,"Goodman, Michael E."]
[{"$f":"A9085","v":0},null,{"$f":"C9085","v":0},null,{"$f":"E9085","v":0},null,9781640004337,null,9781640263031,null,"Detroit Tigers",null,null,null,"Creative Sports: Veterans (MLB)",null,null,null,"The Creative Company",null,51.05,null,24.95,null,29.95,null,0,null,null,null,null,null,0,0,0,0,0,0,0,0,0,0,0,0,0,0,0,"Spring 2021",null,2021,null,null,null,null,null,34,null,35.700000000000003,null,"Creative Education",null,4.4000000000000004,null,"Sports & Recreation",null,"English",null,"Reinforced Library",null,32,null,"R",null,"710L",null,"Grade 3 - 4",null,"Jim Whiting"]
[{"$f":"A9125","v":0},null,{"$f":"C9125","v":0},null,{"$f":"E9125","v":0},null,9781566608589,null,9781608188109,null,"Tombs",null,null,null,"Creep Out ",null,null,null,"The Creative Company",null,49,null,23.95,null,28.95,null,0,null,null,null,null,null,0,0,0,0,0,0,0,0,0,0,0,0,0,0,0,"Fall 2017",null,2018,null,"133.1/22",null,null,null,48,null,34.25,null,"Creative Education",null,null,null,"Legends, Myths, & Paranormal",null,"English",null,"Reinforced Library",null,24,null,null,null,null,null,"1 - 3",null,"Valerie Bodden"]
[null,null,{"$f":"C9133","v":0},null,null,null,"Not Available",null,9781608183593,null,"Stick Insects",null,null,null,"Creepy Creatures",null,null,null,"The Creative Company",null,0,null,23.95,null,0,null,0,null,null,null,null,null,0,0,0,0,0,0,0,0,0,0,0,0,0,0,0,"Spring 2014",null,2014,null,"595.7/29",null,null,null,49,null,34.25,null,"Creative Education",null,2.9,null,"Animals & Nature",null,"English",null,"Reinforced Library",null,24,null,null,null,"490L",null,"1 - 3",null,"Valerie Bodden"]
[{"$f":"A9158","v":0},null,{"$f":"C9158","v":0},null,{"$f":"E9158","v":0},null,9781640001671,null,9781640260511,null,"Tyrannosaurus rex",null,null,null,"Dinosaur Days",null,null,null,"The Creative Company",null,49,null,23.95,null,28.95,null,0,null,null,null,null,null,0,0,0,0,0,0,0,0,0,0,0,0,0,0,0,"Spring 2019",null,2019,null,null,null,null,null,49,null,34.25,null,"Creative Education",null,2.9,null,"Animals & Nature",null,"English",null,"Reinforced Library",null,24,null,"N",null,"560L",null,"1 - 4",null,"Sara Gilbert"]
[{"$f":"A9174","v":0},null,{"$f":"C9174","v":0},null,{"$f":"E9174","v":0},null,9781640000292,null,9781640260009,null,"Tide Pool Treasures",null,null,null,"Down in the Ocean ",null,null,null,"The Creative Company",null,61.2,null,29.95,null,34.950000000000003,null,0,null,null,null,null,null,0,0,0,0,0,0,0,0,0,0,0,0,0,0,0,"Fall 2018",null,2019,null,"577.69/9",null,null,null,50,null,42.8,null,"Creative Education",null,null,null,"High Interest",null,"English",null,"Reinforced Library",null,48,null,null,null,null,null,"5 - 8",null,"Melissa Gish"]
[{"$f":"A9199","v":0},null,{"$f":"C9199","v":0},null,{"$f":"E9199","v":0},null,9781640005082,null,9781640264588,null,"Pandas rojos bebés (Baby Red Pandas)",null,null,null,"El principio de las (Starting Out)",null,null,null,"The Creative Company",null,42.85,null,20.95,null,25.95,null,0,null,null,null,null,null,0,0,0,0,0,0,0,0,0,0,0,0,0,0,0,"Spring 2021",null,2021,null,null,null,null,null,45,null,29.95,null,"Creative Education",null,1.3,null,"Animals & Nature",null,"Spanish",null,"Reinforced Library",null,16,null,"D",null,null,null,"K - 3",null,"Kate Riggs"]
[null,null,{"$f":"C9230","v":0},null,null,null,"Not Available",null,9781608181858,null,"Vikings",null,null,null,"Fearsome Fighters",null,null,null,"The Creative Company",null,0,null,29.95,null,0,null,{"$f":"IF(AC9235=FALSE,AT9235,0)","v":0},null,null,null,null,null,{"$f":"IF(AND(A9235>=1,AC9235=\"\"),A9235,0)","v":0},{"$f":"IF(AND(A9235>=1,AC9235=\"x\"),A9235,0)","v":0},{"$f":"IF(AND(A9235>=1,AC9235=\"\"),U9235,0)","v":0},{"$f":"IF(AND(A9235>=1,AC9235=\"x\"),-U9235,0)","v":0},0,0,0,0,{"$f":"E9235","v":0},{"$f":"Y9235*E9235","v":0},{"$f":"AG9235+AK9235+AO9235","v":0},{"$f":"AH9235+AL9235","v":0},{"$f":"AQ9235+AR9235","v":0},{"$f":"AI9235+AM9235+AP9235","v":0},{"$f":"AJ9235+AN9235","v":0},"Fall 2012",null,2013,null,"948/.022",null,null,null,51,null,42.8,null,"Creative Education",null,null,null,"History",null,"English",null,"Reinforced Library",null,48,null,null,null,"NC1280L",null,"4 - 6",null,"Nicole Helget"]
[{"$f":"A9247","v":0},null,{"$f":"C9247","v":0},null,{"$f":"E9247","v":0},null,9781640003583,null,9781640262232,null,"Cheyenne",null,null,null,"First Peoples",null,null,null,"The Creative Company",null,49,null,23.95,null,28.95,null,0,null,null,null,null,null,0,0,0,0,0,0,0,0,0,0,0,0,0,0,0,"Spring 2020",null,2020,null,null,null,null,null,51,null,34.25,null,"Creative Education",null,3.4,null,"History",null,"English",null,"Reinforced Library",null,24,null,"L",null,null,null,"3 - 6",null,"Valerie Bodden"]
[null,null,{"$f":"C9267","v":0},null,null,null,"Not Available",null,9781608180660,null,"To the Heart of Africa",null,null,null,"Great Expeditions",null,null,null,"The Creative Company",null,0,null,29.95,null,0,null,0,null,null,null,null,null,0,0,0,0,0,0,0,0,0,0,0,0,0,0,0,"Fall 2011",null,2011,null,"916.704/23092 B",null,null,null,"51",null,42.8,null,"Creative Education",null,null,null,"Social Studies",null,"English",null,"Reinforced Library",null,48,null,null,null,null,null,null,null,"Valerie Bodden"]
[null,null,{"$f":"C9282","v":0},null,null,null,"Not Available",null,9781608185603,null,"Bean",null,null,null,"Grow with Me",null,null,null,"The Creative Company",null,0,null,24.95,null,0,null,0,null,null,null,null,null,0,0,0,0,0,0,0,0,0,0,0,0,0,0,0,"Fall 2015",null,2016,null,635.65200000000004,null,null,null,50,null,35.700000000000003,null,"Creative Education",null,3.9,null,"Animals & Nature",null,"English",null,"Reinforced Library",null,32,null,null,null,"590L",null,"3 - 5",null,"Laura K. Murray"]
[null,null,{"$f":"C9314","v":0},null,null,null,"Not Available",null,9781608185115,null,"Proteins",null,null,null,"Healthy Plates",null,null,null,"The Creative Company",null,0,null,23.95,null,0,null,0,null,null,null,null,null,0,0,0,0,0,0,0,0,0,0,0,0,0,0,0,"Spring 2015",null,2015,null,"613.2/82",null,null,null,50,null,34.25,null,"Creative Education",null,3.3,null,"Health",null,"English",null,"Reinforced Library",null,24,null,null,null,"580L",null,"1 - 3",null,"Valerie Bodden"]
[null,null,{"$f":"C9337","v":0},null,null,null,"Not Available",null,9781608187669,null,"Giant Short-faced Bears",null,null,null,"Ice Age Mega Beasts",null,null,null,"The Creative Company",null,0,null,23.95,null,0,null,0,null,null,null,null,null,0,0,0,0,0,0,0,0,0,0,0,0,0,0,0,"Spring 2017",null,2017,null,569.78,null,null,null,50,null,34.25,null,"Creative Education",null,null,null,"Animals & Nature",null,"English",null,"Reinforced Library",null,24,null,null,null,"550L",null,"1 - 3",null,"Sara Gilbert"]
[{"$f":"A9353","v":0},null,{"$f":"C9353","v":0},null,{"$f":"E9353","v":0},null,9781640002197,null,9781640261037,null,"Las ambulancias (Ambulances)",null,null,null,"Increíbles vehículos de rescate (Amazing Rescue Vehicles)",null,null,null,"The Creative Company",null,49,null,23.95,null,{"$f":"W9354+5","v":28.95},null,{"$f":"IF(AC9354=FALSE,AT9354,0)","v":0},null,null,null,null,null,{"$f":"IF(AND(A9354>=1,AC9354=\"\"),A9354,0)","v":0},{"$f":"IF(AND(A9354>=1,AC9354=\"x\"),A9354,0)","v":0},{"$f":"IF(AND(A9354>=1,AC9354=\"\"),U9354,0)","v":0},{"$f":"IF(AND(A9354>=1,AC9354=\"x\"),-U9354,0)","v":0},{"$f":"IF(AND(C9354>=1,AC9354=\"\"),C9354,0)","v":0},{"$f":"IF(AND(C9354>=1,AC9354=\"x\"),C9354,0)","v":0},{"$f":"IF(AND(C9354>=1,AC9354=\"\"),W9354*C9354,0)","v":0},{"$f":"IF(AND(C9354>=1,AC9354=\"x\"),-W9354*C9354,0)","v":0},{"$f":"E9354","v":0},{"$f":"Y9354*E9354","v":0},{"$f":"AG9354+AK9354+AO9354","v":0},{"$f":"AH9354+AL9354","v":0},{"$f":"AQ9354+AR9354","v":0},{"$f":"AI9354+AM9354+AP9354","v":0},{"$f":"AJ9354+AN9354","v":0},"Spring 2019",null,2019,null,null,null,null,null,45,null,34.25,null,"Creative Education",null,3.8,null,"Science & Technology",null,"Spanish",null,"Reinforced Library",null,24,null,"K",null,"600L",null,"1 - 3",null,"Lori Dittmer"]
[null,null,{"$f":"C9369","v":0},null,null,null,"Not Available",null,9781608187034,null,"Armadillos",null,null,null,"Living Wild",null,null,null,"The Creative Company",null,0,null,29.95,null,0,null,0,null,null,null,null,null,0,0,0,0,0,0,0,0,0,0,0,0,0,0,0,"Fall 2016",null,2017,null,"599.3/12",null,null,null,29,null,42.8,null,"Creative Education",null,7.5,null,"Animals & Nature",null,"English",null,"Reinforced Library",null,48,null,null,null,null,null,"4 - 8",null,"Melissa Gish"]
[null,null,{"$f":"C9369","v":0},null,null,null,"Not Available",null,9781608184170,null,"Geckos",null,null,null,"Living Wild",null,null,null,"The Creative Company",null,0,null,29.95,null,0,null,0,null,null,null,null,null,0,0,0,0,0,0,0,0,0,0,0,0,0,0,0,"Fall 2014",null,2015,null,"597.95/2",null,null,null,29,null,42.8,null,"Creative Education",null,7.6,null,"Animals & Nature",null,"English",null,"Reinforced Library",null,48,null,null,null,"1300L",null,"4 - 8",null,"Melissa Gish"]
[null,null,{"$f":"C9369","v":0},null,null,null,"Not Available",null,9781608181711,null,"Vultures",null,null,null,"Living Wild",null,null,null,"The Creative Company",null,0,null,29.95,null,0,null,0,null,null,null,null,null,0,0,0,0,0,0,0,0,0,0,0,0,0,0,0,"Fall 2012",null,2013,null,"598.9/4",null,null,null,29,null,42.8,null,"Creative Education",null,null,null,"Animals & Nature",null,"English",null,"Reinforced Library",null,48,null,null,null,"NC1280L",null,"4 - 8",null,"Melissa Gish"]
[]
[]
[null,null,{"$f":"C9469","v":0},null,null,null,"Not Available",null,9781608186310,null,"Everglades",null,null,null,"National Park Explorers",null,null,null,"The Creative Company",null,0,null,23.95,null,0,null,0,null,null,null,null,null,0,0,0,0,0,0,0,0,0,0,0,0,0,0,0,"Spring 2016",null,2016,null,"975.9/39",null,null,null,52,null,34.25,null,"Creative Education",null,2.2999999999999998,null,"Animals & Nature",null,"English",null,"Reinforced Library",null,24,null,"N",null,"490L",null,"1 - 3",null,"Sara Gilbert"]
[{"$f":"A9500","v":0},null,{"$f":"C9500","v":0},null,{"$f":"E9500","v":0},null,9781640002609,null,9781640261426,null,"Houston Texans",null,null,null,"NFL Today '19",null,null,null,"The Creative Company",null,61.2,null,29.95,null,34.950000000000003,null,0,null,null,null,null,null,0,0,0,0,0,0,0,0,0,0,0,0,0,0,0,"Fall 2019",null,2020,null,"796.332/64097641411",null,null,null,34,null,42.8,null,"Creative Education",null,null,null,"Sports & Recreation",null,"English",null,"Reinforced Library",null,48,null,null,null,null,null,"4 - 6",null,"Jim Whiting"]
[{"$f":"A9500","v":0},null,{"$f":"C9500","v":0},null,{"$f":"E9500","v":0},null,9781640002760,null,9781640261587,null,"Seattle Seahawks",null,null,null,"NFL Today '19",null,null,null,"The Creative Company",null,61.2,null,29.95,null,34.950000000000003,null,0,null,null,null,null,null,0,0,0,0,0,0,0,0,0,0,0,0,0,0,0,"Fall 2019",null,2020,null,"796.332/6409797772",null,null,null,34,null,42.8,null,"Creative Education",null,4.5999999999999996,null,"Sports & Recreation",null,"English",null,"Reinforced Library",null,48,null,null,null,null,null,"4 - 6",null,"Jim Whiting"]
[]
[null,null,{"$f":"C9554","v":0},null,null,null,"Not Available",null,9781608185375,null,"Romanticism",null,null,null,"Odysseys in Art",null,null,null,"The Creative Company",null,0,null,33.950000000000003,null,0,null,0,null,null,null,null,null,0,0,0,0,0,0,0,0,0,0,0,0,0,0,0,"Fall 2015",null,2016,null,"709.03/42",null,null,null,39,null,48.55,null,"Creative Education",null,9.9,null,"Arts, Crafts, & Activities",null,"English",null,"Reinforced Library",null,80,null,null,null,"1300L",null,"7 - 9",null,"Jessica Gunderson"]
[{"$f":"A9572","v":0},null,{"$f":"C9572","v":0},null,{"$f":"E9572","v":0},null,9781566607193,null,9781608186839,null,"Medical Examination ",null,null,null,"Odysseys in Crime Scene Science ",null,null,null,"The Creative Company",null,69.45,null,33.950000000000003,null,38.950000000000003,null,0,null,null,null,null,null,0,0,0,0,0,0,0,0,0,0,0,0,0,0,0,"Fall 2017",null,2018,null,"363.25/62",null,null,null,39,null,48.55,null,"Creative Education",null,null,null,"Science & Technology",null,"English",null,"Reinforced Library",null,80,null,null,null,null,null,"7 - 9",null,"Valerie Bodden"]
[null,null,{"$f":"C9611","v":0},null,null,null,"Not Available",null,9781608185436,null,"Rainforest Food Chain, A",null,null,null,"Odysseys in Nature",null,null,null,"The Creative Company",null,0,null,33.950000000000003,null,0,null,0,null,null,null,null,null,0,0,0,0,0,0,0,0,0,0,0,0,0,0,0,"Fall 2015",null,2016,null,577.34,null,null,null,39,null,48.55,null,"Creative Education",null,7,null,"Animals & Nature",null,"English",null,"Reinforced Library",null,80,null,null,null,"1260L",null,"7 - 9",null,"A.D. Tarbox"]
[{"$f":"A9627","v":0},null,{"$f":"C9627","v":0},null,{"$f":"E9627","v":0},null,9781640002845,null,9781640261662,null,"Mother Teresa",null,null,null,"Odysseys in Peace",null,null,null,"The Creative Company",null,69.45,null,33.950000000000003,null,38.950000000000003,null,0,null,null,null,null,null,0,0,0,0,0,0,0,0,0,0,0,0,0,0,0,"Fall 2019",null,2020,null,null,null,null,null,39,null,48.55,null,"Creative Education",null,7.1,null,"High Interest",null,"English",null,"Reinforced Library",null,80,null,null,null,null,null,"7 - 9",null,"Laura K. Murray"]
[null,null,null,null,null,null,null,null,null,null,"Complete Series of 6",null,null,null,"Odysseys in the Environment",null,null,null,null,null,{"$f":"SUM(U9648:U9653)","v":416.7},null,{"$f":"SUM(W9648:W9653)","v":203.7},null,{"$f":"SUM(Y9648:Y9653)","v":233.7}]
[{"$f":"A9660","v":0},null,{"$f":"C9660","v":0},null,{"$f":"E9660","v":0},null,9781640000674,null,9781608189663,null,"Inuit ",null,null,null,"Peoples of North America",null,null,null,"The Creative Company",null,61.2,null,29.95,null,{"$f":"W9666+5","v":34.950000000000003},null,0,null,null,null,null,null,0,0,0,0,0,0,0,0,0,0,0,0,0,0,0,"Fall 2018",null,2019,null,"971.9004/9712",null,null,null,52,null,42.8,null,"Creative Education",null,null,null,"Social Studies",null,"English",null,"Reinforced Library",null,48,null,null,null,null,null,"4 - 7",null,"Valerie Bodden"]
[{"$f":"A9674","v":0},null,{"$f":"C9674","v":0},null,{"$f":"E9674","v":0},null,9781640008175,null,9781640266766,null,"El leopardo (Leopard)",null,null,null,"Planeta animal (Amazing Animals)",null,null,null,"The Creative Company",null,49,null,23.95,null,28.95,null,0,null,null,null,null,null,0,0,0,0,0,0,0,0,0,0,0,0,0,0,0,"Fall 2022",null,2023,null,"599.75/54",null,null,null,45,null,34.25,null,"Creative Education",null,null,null,"Life Science",null,"Spanish",null,"Hardcover",null,24,null,null,null,null,null,"1 - 4",null,"Riggs, Kate"]
[{"$f":"A9674","v":0},null,{"$f":"C9674","v":0},null,{"$f":"E9674","v":0},null,9781640003385,null,9781640262614,null,"La jirafa (Giraffe)",null,null,null,"Planeta animal (Amazing Animals)",null,null,null,"The Creative Company",null,49,null,23.95,null,28.95,null,0,null,null,null,null,null,0,0,0,0,0,0,0,0,0,0,0,0,0,0,0,"Spring 2020",null,2020,null,null,null,null,null,45,null,34.25,null,"Creative Education",null,2.2999999999999998,null,"Animals & Nature",null,"Spanish",null,"Reinforced Library",null,24,null,"J",null,null,null,"1 - 3",null,"Valerie Bodden"]
[null,null,{"$f":"C9727","v":0},null,null,null,"Not Available",null,9781608181995,null,"Yosemite National Park",null,null,null,"Preserving America",null,null,null,"The Creative Company",null,0,null,29.95,null,0,null,0,null,null,null,null,null,0,0,0,0,0,0,0,0,0,0,0,0,0,0,0,"Fall 2013",null,2014,null,"979.4/47",null,null,null,52,null,42.8,null,"Creative Education",null,null,null,"Animals & Nature",null,"English",null,"Reinforced Library",null,48,null,null,null,"1400L",null,"4 - 6",null,"Nate Frisch"]
[null,null,{"$f":"C9746","v":0},null,null,null,"Not Available",null,9781608187751,null,"Take the Bait ",null,null,null,"Reel Time",null,null,null,"The Creative Company",null,0,null,24.95,null,0,null,{"$f":"IF(AC9751=FALSE,AT9751,0)","v":0},null,null,null,null,null,{"$f":"IF(AND(A9751>=1,AC9751=\"\"),A9751,0)","v":0},{"$f":"IF(AND(A9751>=1,AC9751=\"x\"),A9751,0)","v":0},{"$f":"IF(AND(A9751>=1,AC9751=\"\"),U9751,0)","v":0},{"$f":"IF(AND(A9751>=1,AC9751=\"x\"),-U9751,0)","v":0},0,0,0,0,{"$f":"E9751","v":0},{"$f":"Y9751*E9751","v":0},{"$f":"AG9751+AK9751+AO9751","v":0},{"$f":"AH9751+AL9751","v":0},{"$f":"AQ9751+AR9751","v":0},{"$f":"AI9751+AM9751+AP9751","v":0},{"$f":"AJ9751+AN9751","v":0},"Spring 2017",null,2017,null,799.1,null,null,null,48,null,35.700000000000003,null,"Creative Education",null,null,null,"Sports & Recreation",null,"English",null,"Reinforced Library",null,32,null,null,null,"620L",null,"3 - 5",null,"Michael J. Rosen "]
[{"$f":"A9762","v":0},null,{"$f":"C9762","v":0},null,{"$f":"E9762","v":0},null,9781640000728,null,9781608189717,null,"Toads",null,null,null,"Seedlings: Backyard Animals ",null,null,null,"The Creative Company",null,49,null,23.95,null,28.95,null,0,null,null,null,null,null,0,0,0,0,0,0,0,0,0,0,0,0,0,0,0,"Fall 2018",null,2019,null,"597.8/7",null,null,null,10,null,34.25,null,"Creative Education",null,1.2,null,"Animals & Nature",null,"English",null,"Reinforced Library",null,24,null,null,null,null,null,"K - 3",null,"Quinn M. Arnold"]
[]
[null,null,{"$f":"C9820","v":0},null,null,null,"Not Available",null,9781608187874,null,"Pigs",null,null,null,"Seedlings: Farm Animals",null,null,null,"The Creative Company",null,0,null,23.95,null,0,null,0,null,null,null,null,null,0,0,0,0,0,0,0,0,0,0,0,0,0,0,0,"Spring 2017",null,2017,null,636.4,null,null,null,10,null,34.25,null,"Creative Education",null,1.2,null,"Animals & Nature",null,"English",null,"Reinforced Library",null,24,null,null,null,"360L",null,"K - 3",null,"Quinn M. Arnold"]
[null,null,{"$f":"C9836","v":0},null,null,null,"Not Available",null,9781608185221,null,"Motorcycles",null,null,null,"Seedlings: Fast Vehicles",null,null,null,"The Creative Company",null,0,null,23.95,null,0,null,0,null,null,null,null,null,0,0,0,0,0,0,0,0,0,0,0,0,0,0,0,"Spring 2015",null,2015,null,"629.227/5",null,null,null,10,null,34.25,null,"Creative Education",null,1.5,null,"Science & Technology",null,"English",null,"Reinforced Library",null,24,null,null,null,"370L",null,"K - 3",null,"Kate Riggs"]
[{"$f":"A9844","v":0},null,{"$f":"C9844","v":0},null,{"$f":"E9844","v":0},null,9781640004641,null,9781640263345,null,"Thanksgiving Day",null,null,null,"Seedlings: Holidays",null,null,null,"The Creative Company",null,49,null,23.95,null,28.95,null,0,null,null,null,null,null,0,0,0,0,0,0,0,0,0,0,0,0,0,0,0,"Spring 2021",null,2021,null,394.26490000000001,null,null,null,10,null,34.25,null,"Creative Education",null,2,null,"Social Studies",null,"English",null,"Reinforced Library",null,24,null,"E",null,null,null,"Grade K - 1",null,"Lori Dittmer"]
[{"$f":"A9870","v":0},null,{"$f":"C9870","v":0},null,{"$f":"E9870","v":0},null,9781640002906,null,9781640261723,null,"Skateboards",null,null,null,"Seedlings: On the Go",null,null,null,"The Creative Company",null,49,null,23.95,null,{"$f":"W9874+5","v":28.95},null,{"$f":"IF(AC9874=FALSE,AT9874,0)","v":0},null,null,null,null,null,{"$f":"IF(AND(A9874>=1,AC9874=\"\"),A9874,0)","v":0},{"$f":"IF(AND(A9874>=1,AC9874=\"x\"),A9874,0)","v":0},{"$f":"IF(AND(A9874>=1,AC9874=\"\"),U9874,0)","v":0},{"$f":"IF(AND(A9874>=1,AC9874=\"x\"),-U9874,0)","v":0},0,0,0,0,{"$f":"E9874","v":0},{"$f":"Y9874*E9874","v":0},{"$f":"AG9874+AK9874+AO9874","v":0},{"$f":"AH9874+AL9874","v":0},{"$f":"AQ9874+AR9874","v":0},{"$f":"AI9874+AM9874+AP9874","v":0},{"$f":"AJ9874+AN9874","v":0},"Fall 2019",null,2020,null,796.22,null,null,null,10,null,34.25,null,"Creative Education",null,1.5,null,"Science & Technology",null,"English",null,"Reinforced Library",null,24,null,null,null,null,null,"K - 3",null,"Quinn M. Arnold"]
[{"$f":"A9900","v":0},null,{"$f":"C9900","v":0},null,{"$f":"E9900","v":0},null,9781566609166,null,9781608188680,null,"Geckos",null,null,null,"Seedlings: Wild Animals",null,null,null,"The Creative Company",null,49,null,23.95,null,{"$f":"W9910+5","v":28.95},null,0,null,null,null,null,null,0,0,0,0,0,0,0,0,0,0,0,0,0,0,0,"Fall 2017",null,2018,null,"597.95/2",null,null,null,10,null,34.25,null,"Creative Education",null,1.3,null,"Animals & Nature",null,"English",null,"Reinforced Library",null,24,null,null,null,null,null,"K - 3",null,"Kate Riggs"]
[null,null,{"$f":"C9900","v":0},null,null,null,"Not Available",null,9781608183432,null,"Snakes",null,null,null,"Seedlings: Wild Animals",null,null,null,"The Creative Company",null,0,null,23.95,null,0,null,0,null,null,null,null,null,0,0,0,0,0,0,0,0,0,0,0,0,0,0,0,"Fall 2013",null,2014,null,597.96,null,null,null,10,null,34.25,null,"Creative Education",null,1,null,"Animals & Nature",null,"English",null,"Reinforced Library",null,24,null,null,null,"270L",null,"K - 3",null,"Kate Riggs"]
[null,null,{"$f":"C9943","v":0},null,null,null,"Not Available",null,9781608189281,null,"Los dentistas (Dentists)",null,null,null,"Semillas del saber (Seedlings: Community Helpers)",null,null,null,"The Creative Company",null,0,null,23.95,null,0,null,{"$f":"IF(AC9944=FALSE,AT9944,0)","v":0},null,null,null,null,null,{"$f":"IF(AND(A9944>=1,AC9944=\"\"),A9944,0)","v":0},{"$f":"IF(AND(A9944>=1,AC9944=\"x\"),A9944,0)","v":0},{"$f":"IF(AND(A9944>=1,AC9944=\"\"),U9944,0)","v":0},{"$f":"IF(AND(A9944>=1,AC9944=\"x\"),-U9944,0)","v":0},{"$f":"IF(AND(C9944>=1,AC9944=\"\"),C9944,0)","v":0},{"$f":"IF(AND(C9944>=1,AC9944=\"x\"),C9944,0)","v":0},{"$f":"IF(AND(C9944>=1,AC9944=\"\"),W9944*C9944,0)","v":0},{"$f":"IF(AND(C9944>=1,AC9944=\"x\"),-W9944*C9944,0)","v":0},{"$f":"E9944","v":0},{"$f":"Y9944*E9944","v":0},{"$f":"AG9944+AK9944+AO9944","v":0},{"$f":"AH9944+AL9944","v":0},{"$f":"AQ9944+AR9944","v":0},{"$f":"AI9944+AM9944+AP9944","v":0},{"$f":"AJ9944+AN9944","v":0},"Fall 2017",null,2018,null,null,null,null,null,45,null,34.25,null,"Creative Education",null,1.9,null,"High Interest",null,"Spanish",null,"Reinforced Library",null,24,null,null,null,null,null,"K - 3",null,"Quinn M. Arnold"]
[{"$f":"A9951","v":0},null,{"$f":"C9951","v":0},null,{"$f":"E9951","v":0},null,9781640004740,null,9781640264465,null,"Kwanzaa (Kwanzaa)",null,null,null,"Semillas del saber (Seedlings: Holidays)",null,null,null,"The Creative Company",null,49,null,23.95,null,28.95,null,0,null,null,null,null,null,0,0,0,0,0,0,0,0,0,0,0,0,0,0,0,"Spring 2021",null,2021,null,null,null,null,null,45,null,34.25,null,"Creative Education",null,2.2000000000000002,null,"Social Studies",null,"Spanish",null,"Reinforced Library",null,24,null,"E",null,null,null,"Grade K - 1",null,"Lori Dittmer"]
[{"$f":"A9972","v":0},null,{"$f":"C9972","v":0},null,{"$f":"E9972","v":0},null,9781640000186,null,9781608189533,null,"Urano (Uranus)",null,null,null,"Semillas del saber (Seedlings: Planets)",null,null,null,"The Creative Company",null,49,null,23.95,null,28.95,null,0,null,null,null,null,null,0,0,0,0,0,0,0,0,0,0,0,0,0,0,0,"Spring 2018",null,2018,null,null,null,null,null,45,null,34.25,null,"Creative Education",null,1.6,null,"High Interest",null,"Spanish",null,"Reinforced Library",null,24,null,null,null,null,null,"K - 3",null,"Lori Dittmer"]
[null,null,{"$f":"C10004","v":0},null,null,null,"Not Available",null,9781608185917,null,"Real Madrid",null,null,null,"Soccer Champions",null,null,null,"The Creative Company",null,0,null,29.95,null,0,null,0,null,null,null,null,null,0,0,0,0,0,0,0,0,0,0,0,0,0,0,0,"Fall 2015",null,2016,null,"796.334/64094641",null,null,null,48,null,42.8,null,"Creative Education",null,7.5,null,"Sports & Recreation",null,"English",null,"Reinforced Library",null,48,null,null,null,"1210L",null,"4 - 7",null,"Jim Whiting"]
[{"$f":"A10029","v":0},null,{"$f":"C10029","v":0},null,{"$f":"E10029","v":0},null,9781640004788,null,9781640263369,null,"Alligator",null,null,null,"Spotlight on Nature",null,null,null,"The Creative Company",null,51.05,null,24.95,null,{"$f":"W10030+5","v":29.95},null,{"$f":"IF(AC10030=FALSE,AT10030,0)","v":0},null,null,null,null,null,{"$f":"IF(AND(A10030>=1,AC10030=\"\"),A10030,0)","v":0},{"$f":"IF(AND(A10030>=1,AC10030=\"x\"),A10030,0)","v":0},{"$f":"IF(AND(A10030>=1,AC10030=\"\"),U10030,0)","v":0},{"$f":"IF(AND(A10030>=1,AC10030=\"x\"),-U10030,0)","v":0},{"$f":"IF(AND(C10030>=1,AC10030=\"\"),C10030,0)","v":0},{"$f":"IF(AND(C10030>=1,AC10030=\"x\"),C10030,0)","v":0},{"$f":"IF(AND(C10030>=1,AC10030=\"\"),W10030*C10030,0)","v":0},{"$f":"IF(AND(C10030>=1,AC10030=\"x\"),-W10030*C10030,0)","v":0},{"$f":"E10030","v":0},{"$f":"Y10030*E10030","v":0},{"$f":"AG10030+AK10030+AO10030","v":0},{"$f":"AH10030+AL10030","v":0},{"$f":"AQ10030+AR10030","v":0},{"$f":"AI10030+AM10030+AP10030","v":0},{"$f":"AJ10030+AN10030","v":0},"Fall 2021",null,2021,null,"597.98/4",null,null,null,21,null,35.700000000000003,null,"Creative Education",null,5.8,null,"Animals & Nature",null,"English",null,"Reinforced Library",null,32,null,"R",null,null,null,"4 - 6",null,"Melissa Gish"]
[null,null,null,null,null,null,null,null,null,null,"Complete Series of 26",null,null,null,"Starting Out",null,null,null,null,null,{"$f":"SUM(U10050:U10075)","v":1114.1000000000001},null,{"$f":"SUM(W10050:W10075)","v":544.69999999999993},null,{"$f":"SUM(Y10050:Y10075)","v":674.70000000000016}]
[{"$f":"A10049","v":0},null,{"$f":"C10049","v":0},null,{"$f":"E10049","v":0},null,9781640001930,null,9781640260771,null,"Baby Monkeys",null,null,null,"Starting Out",null,null,null,"The Creative Company",null,42.85,null,20.95,null,25.95,null,0,null,null,null,null,null,0,0,0,0,0,0,0,0,0,0,0,0,0,0,0,"Spring 2019",null,2019,null,null,null,null,null,6,null,29.95,null,"Creative Education",null,1,null,"Animals & Nature",null,"English",null,"Reinforced Library",null,24,null,"D",null,"330L",null,"K - 3",null,"Kate Riggs"]
[null,null,{"$f":"C10082","v":0},null,null,null,"Not Available",null,9781608182091,null,"Boxing",null,null,null,"Summer Olympic Legends",null,null,null,"The Creative Company",null,0,null,29.95,null,0,null,{"$f":"IF(AC10083=FALSE,AT10083,0)","v":0},null,null,null,null,null,{"$f":"IF(AND(A10083>=1,AC10083=\"\"),A10083,0)","v":0},{"$f":"IF(AND(A10083>=1,AC10083=\"x\"),A10083,0)","v":0},{"$f":"IF(AND(A10083>=1,AC10083=\"\"),U10083,0)","v":0},{"$f":"IF(AND(A10083>=1,AC10083=\"x\"),-U10083,0)","v":0},{"$f":"IF(AND(C10083>=1,AC10083=\"\"),C10083,0)","v":0},{"$f":"IF(AND(C10083>=1,AC10083=\"x\"),C10083,0)","v":0},{"$f":"IF(AND(C10083>=1,AC10083=\"\"),W10083*C10083,0)","v":0},{"$f":"IF(AND(C10083>=1,AC10083=\"x\"),-W10083*C10083,0)","v":0},{"$f":"E10083","v":0},{"$f":"Y10083*E10083","v":0},{"$f":"AG10083+AK10083+AO10083","v":0},{"$f":"AH10083+AL10083","v":0},{"$f":"AQ10083+AR10083","v":0},{"$f":"AI10083+AM10083+AP10083","v":0},{"$f":"AJ10083+AN10083","v":0},"Fall 2012",null,2013,null,796.83,null,null,null,48,null,42.8,null,"Creative Education",null,7.6,null,"Sports & Recreation",null,"English",null,"Reinforced Library",null,48,null,null,null,null,null,"4 - 6",null,"Shane Frederick"]
[null,null,{"$f":"C10104","v":0},null,null,null,"Not Available",null,9781608184965,null,"Kristen Stewart",null,null,null,"The Big Time",null,null,null,"The Creative Company",null,0,null,23.95,null,0,null,0,null,null,null,null,null,0,0,0,0,0,0,0,0,0,0,0,0,0,0,0,"Spring 2015",null,2015,null,"791.4302/8092",null,null,null,48,null,34.25,null,"Creative Education",null,3.1,null,"Biography",null,"English",null,"Reinforced Library",null,24,null,null,null,"550L",null,"1 - 3",null,"Valerie Bodden "]
[{"$f":"A10131","v":0},null,{"$f":"C10131","v":0},null,{"$f":"E10131","v":0},null,9781566608855,null,9781608188376,null,"Story of the Brooklyn Nets, The",null,null,null,"The NBA: A History of Hoops",null,null,null,"The Creative Company",null,61.2,null,29.95,null,34.950000000000003,null,0,null,null,null,null,null,0,0,0,0,0,0,0,0,0,0,0,0,0,0,0,"Fall 2017",null,2018,null,"796.323'640974723",null,null,null,34,null,42.8,null,"Creative Education",null,null,null,"Sports & Recreation",null,"English",null,"Reinforced Library",null,48,null,null,null,"1230L",null,"4 - 6",null,"Jim Whiting"]
[{"$f":"A10131","v":0},null,{"$f":"C10131","v":0},null,{"$f":"E10131","v":0},null,9781566609043,null,9781608188567,null,"Story of the Orlando Magic, The",null,null,null,"The NBA: A History of Hoops",null,null,null,"The Creative Company",null,61.2,null,29.95,null,34.950000000000003,null,0,null,null,null,null,null,0,0,0,0,0,0,0,0,0,0,0,0,0,0,0,"Fall 2017",null,2018,null,"796.323'640975924",null,null,null,34,null,42.8,null,"Creative Education",null,null,null,"Sports & Recreation",null,"English",null,"Reinforced Library",null,48,null,null,null,"1190L",null,"4 - 6",null,"Jim Whiting"]
[null,null,{"$f":"C10163","v":0},null,null,null,"Not Available",null,9781583416198,null,"New York Rangers",null,null,null,"The NHL: History & Heroes",null,null,null,"The Creative Company",null,0,null,29.95,null,0,null,0,null,null,null,null,null,0,0,0,0,0,0,0,0,0,0,0,0,0,0,0,"Fall 2009",null,2009,null,"796.962/64097471",null,null,null,"48",null,42.8,null,"Creative Education",null,7.3,null,"Sports & Recreation",null,"English",null,"Reinforced Library",null,48,null,null,null,null,null,null,null,"Michael Goodman"]
[{"$f":"A10192","v":0},null,{"$f":"C10192","v":0},null,{"$f":"E10192","v":0},null,9781640002951,null,9781640261778,null,"War in Iraq, The",null,null,null,"Turning Points",null,null,null,"The Creative Company",null,61.2,null,29.95,null,{"$f":"W10204+5","v":34.950000000000003},null,0,null,null,null,null,null,0,0,0,0,0,0,0,0,0,0,0,0,0,0,0,"Fall 2019",null,2020,null,null,null,null,null,52,null,42.8,null,"Creative Education",null,null,null,"History",null,"English",null,"Reinforced Library",null,48,null,null,null,null,null,"4 - 6",null,"Valerie Bodden"]
[null,null,null,null,null,null,null,null,null,null,"Complete Series of 3",null,null,null,"Voices in Poetry",null,null,null,null,null,{"$f":"SUM(U10224:U10226)","v":0},null,{"$f":"SUM(W10224:W10226)","v":89.85},null,{"$f":"SUM(Y10224:Y10226)","v":0}]
[{"$f":"A10236","v":0},null,{"$f":"C10236","v":0},null,{"$f":"E10236","v":0},null,9781566609746,null,9781608189229,null,"Camping Guide",null,null,null,"Wild Jobs",null,null,null,"The Creative Company",null,49,null,23.95,null,28.95,null,0,null,null,null,null,null,0,0,0,0,0,0,0,0,0,0,0,0,0,0,0,"Spring 2018",null,2018,null,null,null,null,null,49,null,34.25,null,"Creative Education",null,null,null,"Careers",null,"English",null,"Reinforced Library",null,24,null,null,null,null,null,"1 - 4",null,"Laura K. Murray"]
[null,null,{"$f":"C10244","v":0},null,null,null,"Not Available",null,9781608182732,null,"Toronto Blue Jays",null,null,null,"World Series Champions '13",null,null,null,"The Creative Company",null,0,null,23.95,null,0,null,0,null,null,null,null,null,0,0,0,0,0,0,0,0,0,0,0,0,0,0,0,"Spring 2013",null,2013,null,"796.357/6409713541",null,null,null,34,null,34.25,null,"Creative Education",null,null,null,"Sports & Recreation",null,"English",null,"Reinforced Library",null,24,null,null,null,"980L",null,"1 - 3",null,"Sara Gilbert"]
[]
[{"$f":"A10307","v":0},null,{"$f":"C10307","v":0},null,{"$f":"E10307","v":0},null,9781566608657,null,9781608188178,null,"Alligators",null,null,null,"X-Books: Predators",null,null,null,"The Creative Company",null,51.05,null,24.95,null,{"$f":"W10308+5","v":29.95},null,{"$f":"IF(AC10308=FALSE,AT10308,0)","v":0},null,null,null,null,null,{"$f":"IF(AND(A10308>=1,AC10308=\"\"),A10308,0)","v":0},{"$f":"IF(AND(A10308>=1,AC10308=\"x\"),A10308,0)","v":0},{"$f":"IF(AND(A10308>=1,AC10308=\"\"),U10308,0)","v":0},{"$f":"IF(AND(A10308>=1,AC10308=\"x\"),-U10308,0)","v":0},{"$f":"IF(AND(C10308>=1,AC10308=\"\"),C10308,0)","v":0},{"$f":"IF(AND(C10308>=1,AC10308=\"x\"),C10308,0)","v":0},{"$f":"IF(AND(C10308>=1,AC10308=\"\"),W10308*C10308,0)","v":0},{"$f":"IF(AND(C10308>=1,AC10308=\"x\"),-W10308*C10308,0)","v":0},{"$f":"E10308","v":0},{"$f":"Y10308*E10308","v":0},{"$f":"AG10308+AK10308+AO10308","v":0},{"$f":"AH10308+AL10308","v":0},{"$f":"AQ10308+AR10308","v":0},{"$f":"AI10308+AM10308+AP10308","v":0},{"$f":"AJ10308+AN10308","v":0},"Fall 2017",null,2018,null,"597.98/4",null,null,null,27,null,35.700000000000003,null,"Creative Education",null,4,null,"Animals & Nature",null,"English",null,"Reinforced Library",null,32,null,null,null,null,null,"3 - 5",null,"Melissa Gish"]
[{"$f":"A10323","v":0},null,{"$f":"C10323","v":0},null,{"$f":"E10323","v":0},null,9781640005242,null,9781640263703,null,"FBI Hostage Rescue Team",null,null,null,"X-Books: Special Forces",null,null,null,"The Creative Company",null,51.05,null,24.95,null,29.95,null,0,null,null,null,null,null,0,0,0,0,0,0,0,0,0,0,0,0,0,0,0,"Spring 2022",null,2022,null,null,null,null,null,27,null,35.700000000000003,null,"Creative Education",null,null,null,"High Interests",null,"English",null,"Reinforced Library",null,32,null,"Q",null,null,null,"3 - 6",null,"Gish, Melissa"]
[]
[]
[]
[]
[]
[]
[]
[]
[]
[]
[]
[]
[]
[]
[]
[]
[]
[]
[]
[]
[]
[]
[]
[]
[]
[]
[]
[]
[]
[]
[]
[]
[]
[]
[]
[]
[]
[]
[]
[]
[]
[]
[]
[]
[]
[]
[]
[]
[]
[]
[]
[]
[]
[]
[]
[]
[]
[]
[]
[]
[]
[]
[]
[]
[]
[]
[]
[]
[]
[]
[]
[]
[]
[]
[]
[]
["INTERNAL USE ONLY"]
[null,null,{"$f":"C11950","v":0}]
[]
[{"$f":"A12007","v":0},null,{"$f":"C12007","v":0},null,{"$f":"E12007","v":0}]
[{"$f":"A12007","v":0},null,{"$f":"C12007","v":0},null,{"$f":"E12007","v":0}]
[{"$f":"A12039","v":0},null,{"$f":"C12039","v":0},null,{"$f":"E12039","v":0}]
[]
[{"$f":"A12093","v":0},null,{"$f":"C12093","v":0},null,{"$f":"E12093","v":0}]
[null,null,{"$f":"C12108","v":0}]
[{"$f":"A12128","v":0},null,{"$f":"C12128","v":0},null,{"$f":"E12128","v":0}]
[]
[{"$f":"A12178","v":0},null,{"$f":"C12178","v":0},null,{"$f":"E12178","v":0}]
[null,null,{"$f":"C12196","v":0}]
[]
[null,null,{"$f":"C12228","v":0}]
[{"$f":"A12228","v":0},null,{"$f":"C12228","v":0},null,{"$f":"E12228","v":0}]
[null,null,{"$f":"C12280","v":0}]
[{"$f":"A12302","v":0},null,{"$f":"C12302","v":0},null,{"$f":"E12302","v":0}]
[]
[{"$f":"A12328","v":0},null,{"$f":"C12328","v":0},null,{"$f":"E12328","v":0}]
[null,null,{"$f":"C12349","v":0}]
[]
[]
[]
[]
[null,null,{"$f":"C12468","v":0}]
[null,null,{"$f":"C12490","v":0}]
[{"$f":"A12499","v":0},null,{"$f":"C12499","v":0},null,{"$f":"E12499","v":0}]
[null,null,{"$f":"C12524","v":0}]
[]
[{"$f":"A12577","v":0},null,{"$f":"C12577","v":0},null,{"$f":"E12577","v":0}]
[null,null,{"$f":"C12595","v":0}]
[{"$f":"A12603","v":0},null,{"$f":"C12603","v":0},null,{"$f":"E12603","v":0}]
[null,null,{"$f":"C12628","v":0}]
[{"$f":"A12662","v":0},null,{"$f":"C12662","v":0},null,{"$f":"E12662","v":0}]
[]
[]
[{"$f":"A12713","v":0},null,{"$f":"C12713","v":0},null,{"$f":"E12713","v":0}]
[]
[{"$f":"A12764","v":0},null,{"$f":"C12764","v":0},null,{"$f":"E12764","v":0}]
[null,null,{"$f":"C12784","v":0}]
[null,null,{"$f":"C12802","v":0}]
[{"$f":"A12816","v":0},null,{"$f":"C12816","v":0},null,{"$f":"E12816","v":0}]
[{"$f":"A12834","v":0},null,{"$f":"C12834","v":0},null,{"$f":"E12834","v":0}]
[{"$f":"A12862","v":0},null,{"$f":"C12862","v":0},null,{"$f":"E12862","v":0}]
[{"$f":"A12888","v":0},null,{"$f":"C12888","v":0},null,{"$f":"E12888","v":0}]
[{"$f":"A12904","v":0},null,{"$f":"C12904","v":0},null,{"$f":"E12904","v":0}]
[{"$f":"A12912","v":0},null,{"$f":"C12912","v":0},null,{"$f":"E12912","v":0}]
[{"$f":"A12946","v":0},null,{"$f":"C12946","v":0},null,{"$f":"E12946","v":0}]
[{"$f":"A12976","v":0},null,{"$f":"C12976","v":0},null,{"$f":"E12976","v":0}]
[{"$f":"A12992","v":0},null,{"$f":"C12992","v":0},null,{"$f":"E12992","v":0}]
[{"$f":"A12992","v":0},null,{"$f":"C12992","v":0},null,{"$f":"E12992","v":0}]
[null,null,{"$f":"C13026","v":0}]
[]
[{"$f":"A13073","v":0},null,{"$f":"C13073","v":0},null,{"$f":"E13073","v":0}]
[{"$f":"A13092","v":0},null,{"$f":"C13092","v":0},null,{"$f":"E13092","v":0}]
[null,null,{"$f":"C13116","v":0}]
[{"$f":"A13130","v":0},null,{"$f":"C13130","v":0},null,{"$f":"E13130","v":0}]
[{"$f":"A13165","v":0},null,{"$f":"C13165","v":0},null,{"$f":"E13165","v":0}]
[]
[{"$f":"A13199","v":0},null,{"$f":"C13199","v":0},null,{"$f":"E13199","v":0}]
[{"$f":"A13216","v":0},null,{"$f":"C13216","v":0},null,{"$f":"E13216","v":0}]
[]
[{"$f":"A13271","v":0},null,{"$f":"C13271","v":0},null,{"$f":"E13271","v":0}]
[{"$f":"A13287","v":0},null,{"$f":"C13287","v":0},null,{"$f":"E13287","v":0}]
[{"$f":"A13303","v":0},null,{"$f":"C13303","v":0},null,{"$f":"E13303","v":0}]
[{"$f":"A13311","v":0},null,{"$f":"C13311","v":0},null,{"$f":"E13311","v":0}]
[{"$f":"A13339","v":0},null,{"$f":"C13339","v":0},null,{"$f":"E13339","v":0}]
[{"$f":"A13373","v":0},null,{"$f":"C13373","v":0},null,{"$f":"E13373","v":0}]
[]
[{"$f":"A13404","v":0},null,{"$f":"C13404","v":0},null,{"$f":"E13404","v":0}]
[{"$f":"A13420","v":0},null,{"$f":"C13420","v":0},null,{"$f":"E13420","v":0}]
[{"$f":"A13459","v":0},null,{"$f":"C13459","v":0},null,{"$f":"E13459","v":0}]
[{"$f":"A13475","v":0},null,{"$f":"C13475","v":0},null,{"$f":"E13475","v":0}]
[null,null,{"$f":"C13494","v":0}]
[{"$f":"A13513","v":0},null,{"$f":"C13513","v":0},null,{"$f":"E13513","v":0}]
[{"$f":"A13523","v":0},null,{"$f":"C13523","v":0},null,{"$f":"E13523","v":0}]
[{"$f":"A13567","v":0},null,{"$f":"C13567","v":0},null,{"$f":"E13567","v":0}]
[{"$f":"A13576","v":0},null,{"$f":"C13576","v":0},null,{"$f":"E13576","v":0}]
[{"$f":"A13576","v":0},null,{"$f":"C13576","v":0},null,{"$f":"E13576","v":0}]
[{"$f":"A13576","v":0},null,{"$f":"C13576","v":0},null,{"$f":"E13576","v":0}]
[{"$f":"A13652","v":0},null,{"$f":"C13652","v":0},null,{"$f":"E13652","v":0}]
[{"$f":"A13664","v":0},null,{"$f":"C13664","v":0},null,{"$f":"E13664","v":0}]
[{"$f":"A13680","v":0},null,{"$f":"C13680","v":0},null,{"$f":"E13680","v":0}]
[{"$f":"A13698","v":0},null,{"$f":"C13698","v":0},null,{"$f":"E13698","v":0}]
[]
[{"$f":"A13756","v":0},null,{"$f":"C13756","v":0},null,{"$f":"E13756","v":0}]
[{"$f":"A13762","v":0},null,{"$f":"C13762","v":0},null,{"$f":"E13762","v":0}]
[null,null,{"$f":"C13762","v":0}]
[]
[{"$f":"A13839","v":0},null,{"$f":"C13839","v":0},null,{"$f":"E13839","v":0}]
[{"$f":"A13859","v":0},null,{"$f":"C13859","v":0},null,{"$f":"E13859","v":0}]
[{"$f":"A13875","v":0},null,{"$f":"C13875","v":0},null,{"$f":"E13875","v":0}]
[{"$f":"A13891","v":0},null,{"$f":"C13891","v":0},null,{"$f":"E13891","v":0}]
[]
[]
[]
[{"$f":"A13967","v":0},null,{"$f":"C13967","v":0},null,{"$f":"E13967","v":0}]
[{"$f":"A13998","v":0},null,{"$f":"C13998","v":0},null,{"$f":"E13998","v":0}]
[{"$f":"A14022","v":0},null,{"$f":"C14022","v":0},null,{"$f":"E14022","v":0}]
[{"$f":"A14049","v":0},null,{"$f":"C14049","v":0},null,{"$f":"E14049","v":0}]
[]
[]
[]
[{"$f":"A14117","v":0},null,{"$f":"C14117","v":0},null,{"$f":"E14117","v":0}]
[{"$f":"A14152","v":0},null,{"$f":"C14152","v":0},null,{"$f":"E14152","v":0}]
[{"$f":"A14172","v":0},null,{"$f":"C14172","v":0},null,{"$f":"E14172","v":0}]
[{"$f":"A14187","v":0},null,{"$f":"C14187","v":0},null,{"$f":"E14187","v":0}]
[{"$f":"A14203","v":0},null,{"$f":"C14203","v":0},null,{"$f":"E14203","v":0}]
[{"$f":"A14219","v":0},null,{"$f":"C14219","v":0},null,{"$f":"E14219","v":0}]
[{"$f":"A14254","v":0},null,{"$f":"C14254","v":0},null,{"$f":"E14254","v":0}]
[{"$f":"A14277","v":0},null,{"$f":"C14277","v":0},null,{"$f":"E14277","v":0}]
[{"$f":"A14285","v":0},null,{"$f":"C14285","v":0},null,{"$f":"E14285","v":0}]
[{"$f":"A14306","v":0},null,{"$f":"C14306","v":0},null,{"$f":"E14306","v":0}]
[{"$f":"A14322","v":0},null,{"$f":"C14322","v":0},null,{"$f":"E14322","v":0}]
[{"$f":"A14356","v":0},null,{"$f":"C14356","v":0},null,{"$f":"E14356","v":0}]
[{"$f":"A14356","v":0},null,{"$f":"C14356","v":0},null,{"$f":"E14356","v":0}]
[]
[{"$f":"A14404","v":0},null,{"$f":"C14404","v":0},null,{"$f":"E14404","v":0}]
[{"$f":"A14451","v":0},null,{"$f":"C14451","v":0},null,{"$f":"E14451","v":0}]
[{"$f":"A14465","v":0},null,{"$f":"C14465","v":0},null,{"$f":"E14465","v":0}]
[{"$f":"A14481","v":0},null,{"$f":"C14481","v":0},null,{"$f":"E14481","v":0}]
[{"$f":"A14497","v":0},null,{"$f":"C14497","v":0},null,{"$f":"E14497","v":0}]
[]
[]
[{"$f":"A14569","v":0},null,{"$f":"C14569","v":0},null,{"$f":"E14569","v":0}]
[{"$f":"A14569","v":0},null,{"$f":"C14569","v":0},null,{"$f":"E14569","v":0}]
[{"$f":"A14604","v":0},null,{"$f":"C14604","v":0},null,{"$f":"E14604","v":0}]
[{"$f":"A14640","v":0},null,{"$f":"C14640","v":0},null,{"$f":"E14640","v":0}]
[{"$f":"A14646","v":0},null,{"$f":"C14646","v":0},null,{"$f":"E14646","v":0}]
[]
[{"$f":"A14684","v":0},null,{"$f":"C14684","v":0},null,{"$f":"E14684","v":0}]
[{"$f":"A14708","v":0},null,{"$f":"C14708","v":0},null,{"$f":"E14708","v":0}]
[]
[]
[{"$f":"A14775","v":0},null,{"$f":"C14775","v":0},null,{"$f":"E14775","v":0}]
[{"$f":"A14791","v":0},null,{"$f":"C14791","v":0},null,{"$f":"E14791","v":0}]
[{"$f":"A14825","v":0},null,{"$f":"C14825","v":0},null,{"$f":"E14825","v":0}]
[{"$f":"A14847","v":0},null,{"$f":"C14847","v":0},null,{"$f":"E14847","v":0}]
[{"$f":"A14855","v":0},null,{"$f":"C14855","v":0},null,{"$f":"E14855","v":0}]
[{"$f":"A14881","v":0},null,{"$f":"C14881","v":0},null,{"$f":"E14881","v":0}]
[{"$f":"A14897","v":0},null,{"$f":"C14897","v":0},null,{"$f":"E14897","v":0}]
[{"$f":"A14920","v":0},null,{"$f":"C14920","v":0},null,{"$f":"E14920","v":0}]
[{"$f":"A14952","v":0},null,{"$f":"C14952","v":0},null,{"$f":"E14952","v":0}]
[{"$f":"A14962","v":0},null,{"$f":"C14962","v":0},null,{"$f":"E14962","v":0}]
[{"$f":"A14982","v":0},null,{"$f":"C14982","v":0},null,{"$f":"E14982","v":0}]
[{"$f":"A14997","v":0},null,{"$f":"C14997","v":0},null,{"$f":"E14997","v":0}]
[{"$f":"A15032","v":0},null,{"$f":"C15032","v":0},null,{"$f":"E15032","v":0}]
[{"$f":"A15057","v":0},null,{"$f":"C15057","v":0},null,{"$f":"E15057","v":0}]
[]
[{"$f":"A15083","v":0},null,{"$f":"C15083","v":0},null,{"$f":"E15083","v":0}]
[{"$f":"A15107","v":0},null,{"$f":"C15107","v":0},null,{"$f":"E15107","v":0}]
[{"$f":"A15142","v":0},null,{"$f":"C15142","v":0},null,{"$f":"E15142","v":0}]
[{"$f":"A15159","v":0},null,{"$f":"C15159","v":0},null,{"$f":"E15159","v":0}]
[{"$f":"A15175","v":0},null,{"$f":"C15175","v":0},null,{"$f":"E15175","v":0}]
[{"$f":"A15189","v":0},null,{"$f":"C15189","v":0},null,{"$f":"E15189","v":0}]
[]
[{"$f":"A15245","v":0},null,{"$f":"C15245","v":0},null,{"$f":"E15245","v":0}]
[{"$f":"A15259","v":0},null,{"$f":"C15259","v":0},null,{"$f":"E15259","v":0}]
[]
[{"$f":"A15293","v":0},null,{"$f":"C15293","v":0},null,{"$f":"E15293","v":0}]
[{"$f":"A15315","v":0},null,{"$f":"C15315","v":0},null,{"$f":"E15315","v":0}]
[{"$f":"A15341","v":0},null,{"$f":"C15341","v":0},null,{"$f":"E15341","v":0}]
[{"$f":"A15362","v":0},null,{"$f":"C15362","v":0},null,{"$f":"E15362","v":0}]
[]
[null,null,{"$f":"C15396","v":0}]
[]
[null,null,{"$f":"C15449","v":0}]
[]
[{"$f":"A15488","v":0},null,{"$f":"C15488","v":0},null,{"$f":"E15488","v":0}]
[{"$f":"A15504","v":0},null,{"$f":"C15504","v":0},null,{"$f":"E15504","v":0}]
[{"$f":"A15536","v":0},null,{"$f":"C15536","v":0},null,{"$f":"E15536","v":0}]
[]
[]
[{"$f":"A15592","v":0},null,{"$f":"C15592","v":0},null,{"$f":"E15592","v":0}]
[{"$f":"A15626","v":0},null,{"$f":"C15626","v":0},null,{"$f":"E15626","v":0}]
[{"$f":"A15642","v":0},null,{"$f":"C15642","v":0},null,{"$f":"E15642","v":0}]
[{"$f":"A15658","v":0},null,{"$f":"C15658","v":0},null,{"$f":"E15658","v":0}]
[]
[{"$f":"A15680","v":0},null,{"$f":"C15680","v":0},null,{"$f":"E15680","v":0}]
[]
[null,null,{"$f":"C15743","v":0}]
[{"$f":"A15766","v":0},null,{"$f":"C15766","v":0},null,{"$f":"E15766","v":0}]
[{"$f":"A15780","v":0},null,{"$f":"C15780","v":0},null,{"$f":"E15780","v":0}]
[{"$f":"A15813","v":0},null,{"$f":"C15813","v":0},null,{"$f":"E15813","v":0}]
[{"$f":"A15837","v":0},null,{"$f":"C15837","v":0},null,{"$f":"E15837","v":0}]
[]
[{"$f":"A15871","v":0},null,{"$f":"C15871","v":0},null,{"$f":"E15871","v":0}]
[{"$f":"A15885","v":0},null,{"$f":"C15885","v":0},null,{"$f":"E15885","v":0}]
[{"$f":"A15920","v":0},null,{"$f":"C15920","v":0},null,{"$f":"E15920","v":0}]
[]
[{"$f":"A15955","v":0},null,{"$f":"C15955","v":0},null,{"$f":"E15955","v":0}]
[{"$f":"A15970","v":0},null,{"$f":"C15970","v":0},null,{"$f":"E15970","v":0}]
[{"$f":"A15986","v":0},null,{"$f":"C15986","v":0},null,{"$f":"E15986","v":0}]
[null,null,{"$f":"C16015","v":0}]
[null,null,{"$f":"C16043","v":0}]
[{"$f":"A16059","v":0},null,{"$f":"C16059","v":0},null,{"$f":"E16059","v":0}]
[{"$f":"A16067","v":0},null,{"$f":"C16067","v":0},null,{"$f":"E16067","v":0}]
[]
[{"$f":"A16127","v":0},null,{"$f":"C16127","v":0},null,{"$f":"E16127","v":0}]
[]
[{"$f":"A16161","v":0},null,{"$f":"C16161","v":0},null,{"$f":"E16161","v":0}]
[null,null,{"$f":"C16177","v":0}]
[]
[{"$f":"A16230","v":0},null,{"$f":"C16230","v":0},null,{"$f":"E16230","v":0}]
[]
[{"$f":"A16260","v":0},null,{"$f":"C16260","v":0},null,{"$f":"E16260","v":0}]
[null,null,{"$f":"C16273","v":0}]
[]
[null,null,{"$f":"C16334","v":0}]
[{"$f":"A16352","v":0},null,{"$f":"C16352","v":0},null,{"$f":"E16352","v":0}]
[null,null,{"$f":"C16370","v":0}]
[{"$f":"A16388","v":0},null,{"$f":"C16388","v":0},null,{"$f":"E16388","v":0}]
[{"$f":"A16424","v":0},null,{"$f":"C16424","v":0},null,{"$f":"E16424","v":0}]
[{"$f":"A16436","v":0},null,{"$f":"C16436","v":0},null,{"$f":"E16436","v":0}]
[{"$f":"A16450","v":0},null,{"$f":"C16450","v":0},null,{"$f":"E16450","v":0}]
[{"$f":"A16474","v":0},null,{"$f":"C16474","v":0},null,{"$f":"E16474","v":0}]
[null,null,{"$f":"C16492","v":0}]
[{"$f":"A16522","v":0},null,{"$f":"C16522","v":0},null,{"$f":"E16522","v":0}]
[null,null,{"$f":"C16542","v":0}]
[{"$f":"A16562","v":0},null,{"$f":"C16562","v":0},null,{"$f":"E16562","v":0}]
[{"$f":"A16580","v":0},null,{"$f":"C16580","v":0},null,{"$f":"E16580","v":0}]
[]
[null,null,{"$f":"C16625","v":0}]
[null,null,{"$f":"C16645","v":0}]
[{"$f":"A16655","v":0},null,{"$f":"C16655","v":0},null,{"$f":"E16655","v":0}]
[]
[null,null,{"$f":"C16720","v":0}]
[null,null,{"$f":"C16728","v":0}]
[null,null,{"$f":"C16751","v":0}]
[null,null,{"$f":"C16770","v":0}]
[{"$f":"A16800","v":0},null,{"$f":"C16800","v":0},null,{"$f":"E16800","v":0}]
[]
[]
[{"$f":"A16842","v":0},null,{"$f":"C16842","v":0},null,{"$f":"E16842","v":0}]
[{"$f":"A16842","v":0},null,{"$f":"C16842","v":0},null,{"$f":"E16842","v":0}]
[{"$f":"A16906","v":0},null,{"$f":"C16906","v":0},null,{"$f":"E16906","v":0}]
[]
[]
[{"$f":"A16954","v":0},null,{"$f":"C16954","v":0},null,{"$f":"E16954","v":0}]
[]
[{"$f":"A16996","v":0},null,{"$f":"C16996","v":0},null,{"$f":"E16996","v":0}]
[{"$f":"A17025","v":0},null,{"$f":"C17025","v":0},null,{"$f":"E17025","v":0}]
[{"$f":"A17047","v":0},null,{"$f":"C17047","v":0},null,{"$f":"E17047","v":0}]
[{"$f":"A17063","v":0},null,{"$f":"C17063","v":0},null,{"$f":"E17063","v":0}]
[{"$f":"A17083","v":0},null,{"$f":"C17083","v":0},null,{"$f":"E17083","v":0}]
[{"$f":"A17119","v":0},null,{"$f":"C17119","v":0},null,{"$f":"E17119","v":0}]
[{"$f":"A17127","v":0},null,{"$f":"C17127","v":0},null,{"$f":"E17127","v":0}]
[{"$f":"A17152","v":0},null,{"$f":"C17152","v":0},null,{"$f":"E17152","v":0}]
[{"$f":"A17165","v":0},null,{"$f":"C17165","v":0},null,{"$f":"E17165","v":0}]
[]
[{"$f":"A17214","v":0},null,{"$f":"C17214","v":0},null,{"$f":"E17214","v":0}]
[{"$f":"A17214","v":0},null,{"$f":"C17214","v":0},null,{"$f":"E17214","v":0}]
[{"$f":"A17253","v":0},null,{"$f":"C17253","v":0},null,{"$f":"E17253","v":0}]
[{"$f":"A17261","v":0},null,{"$f":"C17261","v":0},null,{"$f":"E17261","v":0}]
[{"$f":"A17286","v":0},null,{"$f":"C17286","v":0},null,{"$f":"E17286","v":0}]
[]
[{"$f":"A17341","v":0},null,{"$f":"C17341","v":0},null,{"$f":"E17341","v":0}]
[{"$f":"A17361","v":0},null,{"$f":"C17361","v":0},null,{"$f":"E17361","v":0}]
[{"$f":"A17371","v":0},null,{"$f":"C17371","v":0},null,{"$f":"E17371","v":0}]
[{"$f":"A17412","v":0},null,{"$f":"C17412","v":0},null,{"$f":"E17412","v":0}]
[{"$f":"A17429","v":0},null,{"$f":"C17429","v":0},null,{"$f":"E17429","v":0}]
[]
[{"$f":"A17461","v":0},null,{"$f":"C17461","v":0},null,{"$f":"E17461","v":0}]
[{"$f":"A17478","v":0},null,{"$f":"C17478","v":0},null,{"$f":"E17478","v":0}]
[{"$f":"A17516","v":0},null,{"$f":"C17516","v":0},null,{"$f":"E17516","v":0}]
[{"$f":"A17532","v":0},null,{"$f":"C17532","v":0},null,{"$f":"E17532","v":0}]
[{"$f":"A17550","v":0},null,{"$f":"C17550","v":0},null,{"$f":"E17550","v":0}]
[{"$f":"A17562","v":0},null,{"$f":"C17562","v":0},null,{"$f":"E17562","v":0}]
[{"$f":"A17598","v":0},null,{"$f":"C17598","v":0},null,{"$f":"E17598","v":0}]
[]
[{"$f":"A17632","v":0},null,{"$f":"C17632","v":0},null,{"$f":"E17632","v":0}]
[{"$f":"A17653","v":0},null,{"$f":"C17653","v":0},null,{"$f":"E17653","v":0}]
[{"$f":"A17668","v":0},null,{"$f":"C17668","v":0},null,{"$f":"E17668","v":0}]
[{"$f":"A17698","v":0},null,{"$f":"C17698","v":0},null,{"$f":"E17698","v":0}]
[{"$f":"A17723","v":0},null,{"$f":"C17723","v":0},null,{"$f":"E17723","v":0}]
[{"$f":"A17729","v":0},null,{"$f":"C17729","v":0},null,{"$f":"E17729","v":0}]
[{"$f":"A17748","v":0},null,{"$f":"C17748","v":0},null,{"$f":"E17748","v":0}]
[{"$f":"A17789","v":0},null,{"$f":"C17789","v":0},null,{"$f":"E17789","v":0}]
[{"$f":"A17811","v":0},null,{"$f":"C17811","v":0},null,{"$f":"E17811","v":0}]
[]
[{"$f":"A17838","v":0},null,{"$f":"C17838","v":0},null,{"$f":"E17838","v":0}]
[{"$f":"A17858","v":0},null,{"$f":"C17858","v":0},null,{"$f":"E17858","v":0}]
[{"$f":"A17892","v":0},null,{"$f":"C17892","v":0},null,{"$f":"E17892","v":0}]
[{"$f":"A17916","v":0},null,{"$f":"C17916","v":0},null,{"$f":"E17916","v":0}]
[]
[]
[{"$f":"A17948","v":0},null,{"$f":"C17948","v":0},null,{"$f":"E17948","v":0}]
[{"$f":"A18001","v":0},null,{"$f":"C18001","v":0},null,{"$f":"E18001","v":0}]
[{"$f":"A18019","v":0},null,{"$f":"C18019","v":0},null,{"$f":"E18019","v":0}]
[{"$f":"A18037","v":0},null,{"$f":"C18037","v":0},null,{"$f":"E18037","v":0}]
[]
[{"$f":"A18070","v":0},null,{"$f":"C18070","v":0},null,{"$f":"E18070","v":0}]
[{"$f":"A18084","v":0},null,{"$f":"C18084","v":0},null,{"$f":"E18084","v":0}]
[{"$f":"A18084","v":0},null,{"$f":"C18084","v":0},null,{"$f":"E18084","v":0}]
[{"$f":"A18136","v":0},null,{"$f":"C18136","v":0},null,{"$f":"E18136","v":0}]
[{"$f":"A18153","v":0},null,{"$f":"C18153","v":0},null,{"$f":"E18153","v":0}]
[]
[{"$f":"A18207","v":0},null,{"$f":"C18207","v":0},null,{"$f":"E18207","v":0}]
[{"$f":"A18223","v":0},null,{"$f":"C18223","v":0},null,{"$f":"E18223","v":0}]
[{"$f":"A18235","v":0},null,{"$f":"C18235","v":0},null,{"$f":"E18235","v":0}]
[{"$f":"A18257","v":0},null,{"$f":"C18257","v":0},null,{"$f":"E18257","v":0}]
[{"$f":"A18294","v":0},null,{"$f":"C18294","v":0},null,{"$f":"E18294","v":0}]
[{"$f":"A18310","v":0},null,{"$f":"C18310","v":0},null,{"$f":"E18310","v":0}]
[{"$f":"A18326","v":0},null,{"$f":"C18326","v":0},null,{"$f":"E18326","v":0}]
[{"$f":"A18347","v":0},null,{"$f":"C18347","v":0},null,{"$f":"E18347","v":0}]
[{"$f":"A18361","v":0},null,{"$f":"C18361","v":0},null,{"$f":"E18361","v":0}]
[{"$f":"A18394","v":0},null,{"$f":"C18394","v":0},null,{"$f":"E18394","v":0}]
[{"$f":"A18417","v":0},null,{"$f":"C18417","v":0},null,{"$f":"E18417","v":0}]
[{"$f":"A18433","v":0},null,{"$f":"C18433","v":0},null,{"$f":"E18433","v":0}]
[]
[{"$f":"A18464","v":0},null,{"$f":"C18464","v":0},null,{"$f":"E18464","v":0}]
[{"$f":"A18501","v":0},null,{"$f":"C18501","v":0},null,{"$f":"E18501","v":0}]
[{"$f":"A18519","v":0},null,{"$f":"C18519","v":0},null,{"$f":"E18519","v":0}]
[{"$f":"A18529","v":0},null,{"$f":"C18529","v":0},null,{"$f":"E18529","v":0}]
[{"$f":"A18549","v":0},null,{"$f":"C18549","v":0},null,{"$f":"E18549","v":0}]
[{"$f":"A18589","v":0},null,{"$f":"C18589","v":0},null,{"$f":"E18589","v":0}]
[]
[{"$f":"A18626","v":0},null,{"$f":"C18626","v":0},null,{"$f":"E18626","v":0}]
[{"$f":"A18636","v":0},null,{"$f":"C18636","v":0},null,{"$f":"E18636","v":0}]
[{"$f":"A18654","v":0},null,{"$f":"C18654","v":0},null,{"$f":"E18654","v":0}]
[]
[]
[{"$f":"A18719","v":0},null,{"$f":"C18719","v":0},null,{"$f":"E18719","v":0}]
[{"$f":"A18739","v":0},null,{"$f":"C18739","v":0},null,{"$f":"E18739","v":0}]
[{"$f":"A18768","v":0},null,{"$f":"C18768","v":0},null,{"$f":"E18768","v":0}]
[{"$f":"A18800","v":0},null,{"$f":"C18800","v":0},null,{"$f":"E18800","v":0}]
[{"$f":"A18816","v":0},null,{"$f":"C18816","v":0},null,{"$f":"E18816","v":0}]
[]
[{"$f":"A18846","v":0},null,{"$f":"C18846","v":0},null,{"$f":"E18846","v":0}]
[{"$f":"A18884","v":0},null,{"$f":"C18884","v":0},null,{"$f":"E18884","v":0}]
[{"$f":"A18896","v":0},null,{"$f":"C18896","v":0},null,{"$f":"E18896","v":0}]
[]
[{"$f":"A18929","v":0},null,{"$f":"C18929","v":0},null,{"$f":"E18929","v":0}]
[{"$f":"A18945","v":0},null,{"$f":"C18945","v":0},null,{"$f":"E18945","v":0}]
[{"$f":"A18977","v":0},null,{"$f":"C18977","v":0},null,{"$f":"E18977","v":0}]
[{"$f":"A18977","v":0},null,{"$f":"C18977","v":0},null,{"$f":"E18977","v":0}]
[{"$f":"A19011","v":0},null,{"$f":"C19011","v":0},null,{"$f":"E19011","v":0}]
[{"$f":"A19032","v":0},null,{"$f":"C19032","v":0},null,{"$f":"E19032","v":0}]
[{"$f":"A19052","v":0},null,{"$f":"C19052","v":0},null,{"$f":"E19052","v":0}]
[{"$f":"A19086","v":0},null,{"$f":"C19086","v":0},null,{"$f":"E19086","v":0}]
[{"$f":"A19108","v":0},null,{"$f":"C19108","v":0},null,{"$f":"E19108","v":0}]
[{"$f":"A19108","v":0},null,{"$f":"C19108","v":0},null,{"$f":"E19108","v":0}]
[{"$f":"A19144","v":0},null,{"$f":"C19144","v":0},null,{"$f":"E19144","v":0}]
[{"$f":"A19161","v":0},null,{"$f":"C19161","v":0},null,{"$f":"E19161","v":0}]
[{"$f":"A19196","v":0},null,{"$f":"C19196","v":0},null,{"$f":"E19196","v":0}]
[{"$f":"A19210","v":0},null,{"$f":"C19210","v":0},null,{"$f":"E19210","v":0}]
[{"$f":"A19232","v":0},null,{"$f":"C19232","v":0},null,{"$f":"E19232","v":0}]
[{"$f":"A19247","v":0},null,{"$f":"C19247","v":0},null,{"$f":"E19247","v":0}]
[]
[]
[{"$f":"A19311","v":0},null,{"$f":"C19311","v":0},null,{"$f":"E19311","v":0}]
[{"$f":"A19311","v":0},null,{"$f":"C19311","v":0},null,{"$f":"E19311","v":0}]
[{"$f":"A19348","v":0},null,{"$f":"C19348","v":0},null,{"$f":"E19348","v":0}]
[{"$f":"A19387","v":0},null,{"$f":"C19387","v":0},null,{"$f":"E19387","v":0}]
[{"$f":"A19405","v":0},null,{"$f":"C19405","v":0},null,{"$f":"E19405","v":0}]
[]
[{"$f":"A19437","v":0},null,{"$f":"C19437","v":0},null,{"$f":"E19437","v":0}]
[{"$f":"A19454","v":0},null,{"$f":"C19454","v":0},null,{"$f":"E19454","v":0}]
[]
[{"$f":"A19510","v":0},null,{"$f":"C19510","v":0},null,{"$f":"E19510","v":0}]
[{"$f":"A19525","v":0},null,{"$f":"C19525","v":0},null,{"$f":"E19525","v":0}]
[{"$f":"A19536","v":0},null,{"$f":"C19536","v":0},null,{"$f":"E19536","v":0}]
[{"$f":"A19577","v":0},null,{"$f":"C19577","v":0},null,{"$f":"E19577","v":0}]
[]
[{"$f":"A19609","v":0},null,{"$f":"C19609","v":0},null,{"$f":"E19609","v":0}]
[{"$f":"A19630","v":0},null,{"$f":"C19630","v":0},null,{"$f":"E19630","v":0}]
[{"$f":"A19644","v":0},null,{"$f":"C19644","v":0},null,{"$f":"E19644","v":0}]
[]
[{"$f":"A19696","v":0},null,{"$f":"C19696","v":0},null,{"$f":"E19696","v":0}]
[{"$f":"A19711","v":0},null,{"$f":"C19711","v":0},null,{"$f":"E19711","v":0}]
[{"$f":"A19730","v":0},null,{"$f":"C19730","v":0},null,{"$f":"E19730","v":0}]
[]
[{"$f":"A19771","v":0},null,{"$f":"C19771","v":0},null,{"$f":"E19771","v":0}]
[{"$f":"A19771","v":0},null,{"$f":"C19771","v":0},null,{"$f":"E19771","v":0}]
[{"$f":"A19818","v":0},null,{"$f":"C19818","v":0},null,{"$f":"E19818","v":0}]
[{"$f":"A19832","v":0},null,{"$f":"C19832","v":0},null,{"$f":"E19832","v":0}]
[{"$f":"A19874","v":0},null,{"$f":"C19874","v":0},null,{"$f":"E19874","v":0}]
[{"$f":"A19893","v":0},null,{"$f":"C19893","v":0},null,{"$f":"E19893","v":0}]
[{"$f":"A19901","v":0},null,{"$f":"C19901","v":0},null,{"$f":"E19901","v":0}]
[{"$f":"A19923","v":0},null,{"$f":"C19923","v":0},null,{"$f":"E19923","v":0}]
[]
[{"$f":"A19977","v":0},null,{"$f":"C19977","v":0},null,{"$f":"E19977","v":0}]
[]
[{"$f":"A20015","v":0},null,{"$f":"C20015","v":0},null,{"$f":"E20015","v":0}]
[{"$f":"A20028","v":0},null,{"$f":"C20028","v":0},null,{"$f":"E20028","v":0}]
[{"$f":"A20043","v":0},null,{"$f":"C20043","v":0},null,{"$f":"E20043","v":0}]
[{"$f":"A20079","v":0},null,{"$f":"C20079","v":0},null,{"$f":"E20079","v":0}]
[{"$f":"A20079","v":0},null,{"$f":"C20079","v":0},null,{"$f":"E20079","v":0}]
[{"$f":"A20079","v":0},null,{"$f":"C20079","v":0},null,{"$f":"E20079","v":0}]
[{"$f":"A20079","v":0},null,{"$f":"C20079","v":0},null,{"$f":"E20079","v":0}]
[{"$f":"A20159","v":0},null,{"$f":"C20159","v":0},null,{"$f":"E20159","v":0}]
[{"$f":"A20184","v":0},null,{"$f":"C20184","v":0},null,{"$f":"E20184","v":0}]
[{"$f":"A20199","v":0},null,{"$f":"C20199","v":0},null,{"$f":"E20199","v":0}]
[]
[{"$f":"A20235","v":0},null,{"$f":"C20235","v":0},null,{"$f":"E20235","v":0}]
[]
[{"$f":"A20288","v":0},null,{"$f":"C20288","v":0},null,{"$f":"E20288","v":0}]
[{"$f":"A20301","v":0},null,{"$f":"C20301","v":0},null,{"$f":"E20301","v":0}]
[{"$f":"A20325","v":0},null,{"$f":"C20325","v":0},null,{"$f":"E20325","v":0}]
[{"$f":"A20339","v":0},null,{"$f":"C20339","v":0},null,{"$f":"E20339","v":0}]
[{"$f":"A20374","v":0},null,{"$f":"C20374","v":0},null,{"$f":"E20374","v":0}]
[]
[]
[{"$f":"A20412","v":0},null,{"$f":"C20412","v":0},null,{"$f":"E20412","v":0}]
[{"$f":"A20412","v":0},null,{"$f":"C20412","v":0},null,{"$f":"E20412","v":0}]
[{"$f":"A20478","v":0},null,{"$f":"C20478","v":0},null,{"$f":"E20478","v":0}]
[]
[{"$f":"A20513","v":0},null,{"$f":"C20513","v":0},null,{"$f":"E20513","v":0}]
[{"$f":"A20520","v":0},null,{"$f":"C20520","v":0},null,{"$f":"E20520","v":0}]
[{"$f":"A20565","v":0},null,{"$f":"C20565","v":0},null,{"$f":"E20565","v":0}]
[null,null,{"$f":"C20580","v":0}]
[null,null,{"$f":"C20596","v":0}]
[{"$f":"A20616","v":0},null,{"$f":"C20616","v":0},null,{"$f":"E20616","v":0}]
[{"$f":"A20616","v":0},null,{"$f":"C20616","v":0},null,{"$f":"E20616","v":0}]
[null,null,{"$f":"C20616","v":0}]
[]
[{"$f":"A20698","v":0},null,{"$f":"C20698","v":0},null,{"$f":"E20698","v":0}]
[{"$f":"A20722","v":0},null,{"$f":"C20722","v":0},null,{"$f":"E20722","v":0}]
[null,null,{"$f":"C20758","v":0}]
[]
[null,null,{"$f":"C20783","v":0}]
[null,null,{"$f":"C20803","v":0}]
[{"$f":"A20811","v":0},null,{"$f":"C20811","v":0},null,{"$f":"E20811","v":0}]
[{"$f":"A20846","v":0},null,{"$f":"C20846","v":0},null,{"$f":"E20846","v":0}]
[{"$f":"A20846","v":0},null,{"$f":"C20846","v":0},null,{"$f":"E20846","v":0}]
[null,null,{"$f":"C20846","v":0}]
[{"$f":"A20846","v":0},null,{"$f":"C20846","v":0},null,{"$f":"E20846","v":0}]
[{"$f":"A20846","v":0},null,{"$f":"C20846","v":0},null,{"$f":"E20846","v":0}]
[{"$f":"A20947","v":0},null,{"$f":"C20947","v":0},null,{"$f":"E20947","v":0}]
[{"$f":"A20977","v":0},null,{"$f":"C20977","v":0},null,{"$f":"E20977","v":0}]
[{"$f":"A20987","v":0},null,{"$f":"C20987","v":0},null,{"$f":"E20987","v":0}]
[{"$f":"A21009","v":0},null,{"$f":"C21009","v":0},null,{"$f":"E21009","v":0}]
[{"$f":"A21009","v":0},null,{"$f":"C21009","v":0},null,{"$f":"E21009","v":0}]
[null,null,{"$f":"C21057","v":0}]
[{"$f":"A21082","v":0},null,{"$f":"C21082","v":0},null,{"$f":"E21082","v":0}]
[]
[{"$f":"A21115","v":0},null,{"$f":"C21115","v":0},null,{"$f":"E21115","v":0}]
[null,null,{"$f":"C21154","v":0}]
[{"$f":"A21171","v":0},null,{"$f":"C21171","v":0},null,{"$f":"E21171","v":0}]
[]
[null,null,{"$f":"C21206","v":0}]
[]
[]
[{"$f":"A21277","v":0},null,{"$f":"C21277","v":0},null,{"$f":"E21277","v":0}]
[{"$f":"A21293","v":0},null,{"$f":"C21293","v":0},null,{"$f":"E21293","v":0}]
[null,null,{"$f":"C21293","v":0}]
[null,null,{"$f":"C21293","v":0}]
[null,null,{"$f":"C21360","v":0}]
[null,null,{"$f":"C21383","v":0}]
[{"$f":"A21393","v":0},null,{"$f":"C21393","v":0},null,{"$f":"E21393","v":0}]
[{"$f":"A21404","v":0},null,{"$f":"C21404","v":0},null,{"$f":"E21404","v":0}]
[{"$f":"A21424","v":0},null,{"$f":"C21424","v":0},null,{"$f":"E21424","v":0}]
[null,null,{"$f":"C21464","v":0}]
[]
[]
[]
[]
[{"$f":"A21571","v":0},null,{"$f":"C21571","v":0},null,{"$f":"E21571","v":0}]
[{"$f":"A21584","v":0},null,{"$f":"C21584","v":0},null,{"$f":"E21584","v":0}]
[{"$f":"A21598","v":0},null,{"$f":"C21598","v":0},null,{"$f":"E21598","v":0}]
[{"$f":"A21598","v":0},null,{"$f":"C21598","v":0},null,{"$f":"E21598","v":0}]
[]
[]
[{"$f":"A21686","v":0},null,{"$f":"C21686","v":0},null,{"$f":"E21686","v":0}]
[]
[null,null,{"$f":"C21744","v":0}]
[null,null,{"$f":"C21760","v":0}]
[]
[{"$f":"A21794","v":0},null,{"$f":"C21794","v":0},null,{"$f":"E21794","v":0}]
[]
[null,null,{"$f":"C21824","v":0}]
[]
[{"$f":"A21875","v":0},null,{"$f":"C21875","v":0},null,{"$f":"E21875","v":0}]
[{"$f":"A21896","v":0},null,{"$f":"C21896","v":0},null,{"$f":"E21896","v":0}]
[]
[{"$f":"A21953","v":0},null,{"$f":"C21953","v":0},null,{"$f":"E21953","v":0}]
[{"$f":"A21953","v":0},null,{"$f":"C21953","v":0},null,{"$f":"E21953","v":0}]
[{"$f":"A21973","v":0},null,{"$f":"C21973","v":0},null,{"$f":"E21973","v":0}]
[null,null,{"$f":"C22010","v":0}]
[null,null,{"$f":"C22010","v":0}]
[null,null,{"$f":"C22010","v":0}]
[null,null,{"$f":"C22010","v":0}]
[null,null,{"$f":"C22010","v":0}]
[null,null,{"$f":"C22010","v":0}]
[]
[]
[null,null,{"$f":"C22028","v":0}]
[null,null,{"$f":"C22028","v":0}]
[null,null,{"$f":"C22028","v":0}]
[null,null,{"$f":"C22028","v":0}]
[null,null,{"$f":"C22028","v":0}]
[null,null,{"$f":"C22028","v":0}]
[null,null,{"$f":"C22028","v":0}]
[null,null,{"$f":"C22028","v":0}]
[null,null,{"$f":"C22028","v":0}]
[null,null,{"$f":"C22028","v":0}]
[null,null,{"$f":"C22028","v":0}]
[null,null,{"$f":"C22028","v":0}]
[null,null,{"$f":"C22028","v":0}]
[null,null,{"$f":"C22028","v":0}]
[null,null,{"$f":"C22028","v":0}]
[null,null,{"$f":"C22028","v":0}]
[null,null,{"$f":"C22028","v":0}]
[null,null,{"$f":"C22028","v":0}]
[null,null,{"$f":"C22028","v":0}]
[null,null,{"$f":"C22028","v":0}]
[null,null,{"$f":"C22028","v":0}]
[null,null,{"$f":"C22028","v":0}]
[null,null,{"$f":"C22028","v":0}]
[null,null,{"$f":"C22028","v":0}]
[null,null,{"$f":"C22028","v":0}]
[]
[]
[{"$f":"A22055","v":0},null,{"$f":"C22055","v":0},null,{"$f":"E22055","v":0}]
[{"$f":"A22055","v":0},null,{"$f":"C22055","v":0},null,{"$f":"E22055","v":0}]
[{"$f":"A22055","v":0},null,{"$f":"C22055","v":0},null,{"$f":"E22055","v":0}]
[{"$f":"A22055","v":0},null,{"$f":"C22055","v":0},null,{"$f":"E22055","v":0}]
[{"$f":"A22055","v":0},null,{"$f":"C22055","v":0},null,{"$f":"E22055","v":0}]
[{"$f":"A22055","v":0},null,{"$f":"C22055","v":0},null,{"$f":"E22055","v":0}]
[{"$f":"A22055","v":0},null,{"$f":"C22055","v":0},null,{"$f":"E22055","v":0}]
[{"$f":"A22055","v":0},null,{"$f":"C22055","v":0},null,{"$f":"E22055","v":0}]
[{"$f":"A22055","v":0},null,{"$f":"C22055","v":0},null,{"$f":"E22055","v":0}]
[{"$f":"A22055","v":0},null,{"$f":"C22055","v":0},null,{"$f":"E22055","v":0}]
[{"$f":"A22055","v":0},null,{"$f":"C22055","v":0},null,{"$f":"E22055","v":0}]
[{"$f":"A22055","v":0},null,{"$f":"C22055","v":0},null,{"$f":"E22055","v":0}]
[{"$f":"A22055","v":0},null,{"$f":"C22055","v":0},null,{"$f":"E22055","v":0}]
[{"$f":"A22055","v":0},null,{"$f":"C22055","v":0},null,{"$f":"E22055","v":0}]
[{"$f":"A22055","v":0},null,{"$f":"C22055","v":0},null,{"$f":"E22055","v":0}]
[{"$f":"A22055","v":0},null,{"$f":"C22055","v":0},null,{"$f":"E22055","v":0}]
[{"$f":"A22055","v":0},null,{"$f":"C22055","v":0},null,{"$f":"E22055","v":0}]
[{"$f":"A22055","v":0},null,{"$f":"C22055","v":0},null,{"$f":"E22055","v":0}]
[{"$f":"A22055","v":0},null,{"$f":"C22055","v":0},null,{"$f":"E22055","v":0}]
[{"$f":"A22055","v":0},null,{"$f":"C22055","v":0},null,{"$f":"E22055","v":0}]
[{"$f":"A22055","v":0},null,{"$f":"C22055","v":0},null,{"$f":"E22055","v":0}]
[{"$f":"A22055","v":0},null,{"$f":"C22055","v":0},null,{"$f":"E22055","v":0}]
[{"$f":"A22055","v":0},null,{"$f":"C22055","v":0},null,{"$f":"E22055","v":0}]
[{"$f":"A22055","v":0},null,{"$f":"C22055","v":0},null,{"$f":"E22055","v":0}]
[{"$f":"A22055","v":0},null,{"$f":"C22055","v":0},null,{"$f":"E22055","v":0}]
[{"$f":"A22055","v":0},null,{"$f":"C22055","v":0},null,{"$f":"E22055","v":0}]
[{"$f":"A22055","v":0},null,{"$f":"C22055","v":0},null,{"$f":"E22055","v":0}]
[{"$f":"A22055","v":0},null,{"$f":"C22055","v":0},null,{"$f":"E22055","v":0}]
[{"$f":"A22055","v":0},null,{"$f":"C22055","v":0},null,{"$f":"E22055","v":0}]
[{"$f":"A22055","v":0},null,{"$f":"C22055","v":0},null,{"$f":"E22055","v":0}]
[]
[]
[null,null,{"$f":"C22087","v":0}]
[null,null,{"$f":"C22087","v":0}]
[null,null,{"$f":"C22087","v":0}]
[null,null,{"$f":"C22087","v":0}]
[null,null,{"$f":"C22087","v":0}]
[null,null,{"$f":"C22087","v":0}]
[null,null,{"$f":"C22087","v":0}]
[]
[]
[null,null,{"$f":"C22096","v":0}]
[null,null,{"$f":"C22096","v":0}]
[null,null,{"$f":"C22096","v":0}]
[null,null,{"$f":"C22096","v":0}]
[null,null,{"$f":"C22096","v":0}]
[]
[]
[null,null,{"$f":"C22103","v":0}]
[null,null,{"$f":"C22103","v":0}]
[null,null,{"$f":"C22103","v":0}]
[null,null,{"$f":"C22103","v":0}]
[null,null,{"$f":"C22103","v":0}]
[null,null,{"$f":"C22103","v":0}]
[]
[]
[null,null,{"$f":"C22111","v":0}]
[null,null,{"$f":"C22111","v":0}]
[null,null,{"$f":"C22111","v":0}]
[]
[]
[null,null,{"$f":"C22116","v":0}]
[null,null,{"$f":"C22116","v":0}]
[null,null,{"$f":"C22116","v":0}]
[null,null,{"$f":"C22116","v":0}]
[null,null,{"$f":"C22116","v":0}]
[{"$f":"A22116","v":0},null,{"$f":"C22116","v":0},null,{"$f":"E22116","v":0}]
[null,null,{"$f":"C22116","v":0}]
[{"$f":"A22116","v":0},null,{"$f":"C22116","v":0},null,{"$f":"E22116","v":0}]
[{"$f":"A22116","v":0},null,{"$f":"C22116","v":0},null,{"$f":"E22116","v":0}]
[{"$f":"A22116","v":0},null,{"$f":"C22116","v":0},null,{"$f":"E22116","v":0}]
[{"$f":"A22116","v":0},null,{"$f":"C22116","v":0},null,{"$f":"E22116","v":0}]
[{"$f":"A22116","v":0},null,{"$f":"C22116","v":0},null,{"$f":"E22116","v":0}]
[]
[]
[null,null,{"$f":"C22130","v":0}]
[{"$f":"A22130","v":0},null,{"$f":"C22130","v":0},null,{"$f":"E22130","v":0}]
[null,null,{"$f":"C22130","v":0}]
[null,null,{"$f":"C22130","v":0}]
[null,null,{"$f":"C22130","v":0}]
[{"$f":"A22130","v":0},null,{"$f":"C22130","v":0},null,{"$f":"E22130","v":0}]
[null,null,{"$f":"C22130","v":0}]
[{"$f":"A22130","v":0},null,{"$f":"C22130","v":0},null,{"$f":"E22130","v":0}]
[{"$f":"A22130","v":0},null,{"$f":"C22130","v":0},null,{"$f":"E22130","v":0}]
[]
[]
[{"$f":"A22141","v":0},null,{"$f":"C22141","v":0},null,{"$f":"E22141","v":0}]
[{"$f":"A22141","v":0},null,{"$f":"C22141","v":0},null,{"$f":"E22141","v":0}]
[{"$f":"A22141","v":0},null,{"$f":"C22141","v":0},null,{"$f":"E22141","v":0}]
[{"$f":"A22141","v":0},null,{"$f":"C22141","v":0},null,{"$f":"E22141","v":0}]
[]
[]
[null,null,{"$f":"C22147","v":0}]
[null,null,{"$f":"C22147","v":0}]
[null,null,{"$f":"C22147","v":0}]
[]
[]
[null,null,{"$f":"C22152","v":0}]
[null,null,{"$f":"C22152","v":0}]
[null,null,{"$f":"C22152","v":0}]
[null,null,{"$f":"C22152","v":0}]
[null,null,{"$f":"C22152","v":0}]
[null,null,{"$f":"C22152","v":0}]
[]
[]
[{"$f":"A22160","v":0},null,{"$f":"C22160","v":0},null,{"$f":"E22160","v":0}]
[{"$f":"A22160","v":0},null,{"$f":"C22160","v":0},null,{"$f":"E22160","v":0}]
[{"$f":"A22160","v":0},null,{"$f":"C22160","v":0},null,{"$f":"E22160","v":0}]
[{"$f":"A22160","v":0},null,{"$f":"C22160","v":0},null,{"$f":"E22160","v":0}]
[{"$f":"A22160","v":0},null,{"$f":"C22160","v":0},null,{"$f":"E22160","v":0}]
[{"$f":"A22160","v":0},null,{"$f":"C22160","v":0},null,{"$f":"E22160","v":0}]
[]
[]
[null,null,{"$f":"C22168","v":0}]
[null,null,{"$f":"C22168","v":0}]
[null,null,{"$f":"C22168","v":0}]
[null,null,{"$f":"C22168","v":0}]
[null,null,{"$f":"C22168","v":0}]
[null,null,{"$f":"C22168","v":0}]
[null,null,{"$f":"C22168","v":0}]
[null,null,{"$f":"C22168","v":0}]
[null,null,{"$f":"C22168","v":0}]
[null,null,{"$f":"C22168","v":0}]
[null,null,{"$f":"C22168","v":0}]
[null,null,{"$f":"C22168","v":0}]
[null,null,{"$f":"C22168","v":0}]
[]
[]
[null,null,{"$f":"C22183","v":0}]
[null,null,{"$f":"C22183","v":0}]
[null,null,{"$f":"C22183","v":0}]
[null,null,{"$f":"C22183","v":0}]
[]
[]
[{"$f":"A22189","v":0},null,{"$f":"C22189","v":0},null,{"$f":"E22189","v":0}]
[{"$f":"A22189","v":0},null,{"$f":"C22189","v":0},null,{"$f":"E22189","v":0}]
[{"$f":"A22189","v":0},null,{"$f":"C22189","v":0},null,{"$f":"E22189","v":0}]
[{"$f":"A22189","v":0},null,{"$f":"C22189","v":0},null,{"$f":"E22189","v":0}]
[{"$f":"A22189","v":0},null,{"$f":"C22189","v":0},null,{"$f":"E22189","v":0}]
[{"$f":"A22189","v":0},null,{"$f":"C22189","v":0},null,{"$f":"E22189","v":0}]
[]
[]
[{"$f":"A22197","v":0},null,{"$f":"C22197","v":0},null,{"$f":"E22197","v":0}]
[{"$f":"A22197","v":0},null,{"$f":"C22197","v":0},null,{"$f":"E22197","v":0}]
[{"$f":"A22197","v":0},null,{"$f":"C22197","v":0},null,{"$f":"E22197","v":0}]
[{"$f":"A22197","v":0},null,{"$f":"C22197","v":0},null,{"$f":"E22197","v":0}]
[{"$f":"A22197","v":0},null,{"$f":"C22197","v":0},null,{"$f":"E22197","v":0}]
[{"$f":"A22197","v":0},null,{"$f":"C22197","v":0},null,{"$f":"E22197","v":0}]
[]
[]
[{"$f":"A22205","v":0},null,{"$f":"C22205","v":0},null,{"$f":"E22205","v":0}]
[{"$f":"A22205","v":0},null,{"$f":"C22205","v":0},null,{"$f":"E22205","v":0}]
[{"$f":"A22205","v":0},null,{"$f":"C22205","v":0},null,{"$f":"E22205","v":0}]
[{"$f":"A22205","v":0},null,{"$f":"C22205","v":0},null,{"$f":"E22205","v":0}]
[{"$f":"A22205","v":0},null,{"$f":"C22205","v":0},null,{"$f":"E22205","v":0}]
[{"$f":"A22205","v":0},null,{"$f":"C22205","v":0},null,{"$f":"E22205","v":0}]
[{"$f":"A22205","v":0},null,{"$f":"C22205","v":0},null,{"$f":"E22205","v":0}]
[{"$f":"A22205","v":0},null,{"$f":"C22205","v":0},null,{"$f":"E22205","v":0}]
[]
[]
[{"$f":"A22215","v":0},null,{"$f":"C22215","v":0},null,{"$f":"E22215","v":0}]
[{"$f":"A22215","v":0},null,{"$f":"C22215","v":0},null,{"$f":"E22215","v":0}]
[{"$f":"A22215","v":0},null,{"$f":"C22215","v":0},null,{"$f":"E22215","v":0}]
[{"$f":"A22215","v":0},null,{"$f":"C22215","v":0},null,{"$f":"E22215","v":0}]
[{"$f":"A22215","v":0},null,{"$f":"C22215","v":0},null,{"$f":"E22215","v":0}]
[{"$f":"A22215","v":0},null,{"$f":"C22215","v":0},null,{"$f":"E22215","v":0}]
[]
[]
[{"$f":"A22223","v":0},null,{"$f":"C22223","v":0},null,{"$f":"E22223","v":0}]
[{"$f":"A22223","v":0},null,{"$f":"C22223","v":0},null,{"$f":"E22223","v":0}]
[{"$f":"A22223","v":0},null,{"$f":"C22223","v":0},null,{"$f":"E22223","v":0}]
[{"$f":"A22223","v":0},null,{"$f":"C22223","v":0},null,{"$f":"E22223","v":0}]
[{"$f":"A22223","v":0},null,{"$f":"C22223","v":0},null,{"$f":"E22223","v":0}]
[{"$f":"A22223","v":0},null,{"$f":"C22223","v":0},null,{"$f":"E22223","v":0}]
[]
[]
[{"$f":"A22231","v":0},null,{"$f":"C22231","v":0},null,{"$f":"E22231","v":0}]
[{"$f":"A22231","v":0},null,{"$f":"C22231","v":0},null,{"$f":"E22231","v":0}]
[{"$f":"A22231","v":0},null,{"$f":"C22231","v":0},null,{"$f":"E22231","v":0}]
[{"$f":"A22231","v":0},null,{"$f":"C22231","v":0},null,{"$f":"E22231","v":0}]
[{"$f":"A22231","v":0},null,{"$f":"C22231","v":0},null,{"$f":"E22231","v":0}]
[{"$f":"A22231","v":0},null,{"$f":"C22231","v":0},null,{"$f":"E22231","v":0}]
[]
[]
[{"$f":"A22239","v":0},null,{"$f":"C22239","v":0},null,{"$f":"E22239","v":0}]
[{"$f":"A22239","v":0},null,{"$f":"C22239","v":0},null,{"$f":"E22239","v":0}]
[{"$f":"A22239","v":0},null,{"$f":"C22239","v":0},null,{"$f":"E22239","v":0}]
[{"$f":"A22239","v":0},null,{"$f":"C22239","v":0},null,{"$f":"E22239","v":0}]
[{"$f":"A22239","v":0},null,{"$f":"C22239","v":0},null,{"$f":"E22239","v":0}]
[{"$f":"A22239","v":0},null,{"$f":"C22239","v":0},null,{"$f":"E22239","v":0}]
[]
[]
[{"$f":"A22247","v":0},null,{"$f":"C22247","v":0},null,{"$f":"E22247","v":0}]
[{"$f":"A22247","v":0},null,{"$f":"C22247","v":0},null,{"$f":"E22247","v":0}]
[{"$f":"A22247","v":0},null,{"$f":"C22247","v":0},null,{"$f":"E22247","v":0}]
[{"$f":"A22247","v":0},null,{"$f":"C22247","v":0},null,{"$f":"E22247","v":0}]
[{"$f":"A22247","v":0},null,{"$f":"C22247","v":0},null,{"$f":"E22247","v":0}]
[{"$f":"A22247","v":0},null,{"$f":"C22247","v":0},null,{"$f":"E22247","v":0}]
[{"$f":"A22247","v":0},null,{"$f":"C22247","v":0},null,{"$f":"E22247","v":0}]
[{"$f":"A22247","v":0},null,{"$f":"C22247","v":0},null,{"$f":"E22247","v":0}]
[{"$f":"A22247","v":0},null,{"$f":"C22247","v":0},null,{"$f":"E22247","v":0}]
[{"$f":"A22247","v":0},null,{"$f":"C22247","v":0},null,{"$f":"E22247","v":0}]
[]
[]
[{"$f":"A22259","v":0},null,{"$f":"C22259","v":0},null,{"$f":"E22259","v":0}]
[{"$f":"A22259","v":0},null,{"$f":"C22259","v":0},null,{"$f":"E22259","v":0}]
[{"$f":"A22259","v":0},null,{"$f":"C22259","v":0},null,{"$f":"E22259","v":0}]
[{"$f":"A22259","v":0},null,{"$f":"C22259","v":0},null,{"$f":"E22259","v":0}]
[{"$f":"A22259","v":0},null,{"$f":"C22259","v":0},null,{"$f":"E22259","v":0}]
[{"$f":"A22259","v":0},null,{"$f":"C22259","v":0},null,{"$f":"E22259","v":0}]
[]
[]
[null,null,{"$f":"C22267","v":0}]
[null,null,{"$f":"C22267","v":0}]
[null,null,{"$f":"C22267","v":0}]
[null,null,{"$f":"C22267","v":0}]

{"sheet":"Summary","index":2,"n_rows":37,"n_cols":31,"rows_kept":37,"cut":false,"hidden":false,"merged":[[12,20,14,30],[22,24,24,24],[22,22,24,22],[22,20,24,20],[2,20,2,22],[4,20,4,22],[2,28,2,30],[4,28,4,30],[6,20,6,30],[8,20,8,30]]}
[null,null,null,null,null,null,null,null,null,null,"",null,"BILL TO INFORMATION:",null,null,null,null,null,"",null,"ORDER INFORMATION & ADDITIONAL INFO:"]
[]
[null,null,null,null,null,null,null,null,null,null,"Organization:",null,null,null,null,null,null,null,"Sale Rep:",null,null,null,null,null,null,null,"Backorders Accepted?:"]
[]
[null,null,null,null,null,null,null,null,null,null,"Contact Name:",null,null,null,null,null,null,null,"PO Number:",null,null,null,null,null,null,null,"Processing Requested?:"]
[]
[null,null,null,null,null,null,null,null,null,null,"Address:",null,null,null,null,null,null,null,"Additional Notes:"]
[]
[null,null,null,null,null,null,null,null,null,null,"City, State, Zip:"]
[]
["",null,"Remit to: ",null,"J. Appleseed Media",null,null,null,null,null,"eMail Address:",null,null,null,null,null,null,null,"",null,"PROMOTIONS & TOTALS:",null,null,null,null,null,null,null,null,null,"*Promotions cannot be combined"]
[]
[null,null,null,null,"PO Box 3006 | Mankato, MN 56001",null,null,null,null,null,"Phone Number:",null,null,null,null,null,null,null,null,null,{"$f":"IF(HIDDEN!F11=\"Yes\",\"Your order qualifies for a promotional item!  Choose from one of the following eligible options:\",\"Add more books to qualify for a promotion!\")","v":"Add more books to qualify for a promotion!"}]
[]
[null,null,null,null,"(P) 833.776.0483 | (F) 507.388.7330"]
[]
["",null,"customerservice@jappleseedmedia.com | www.jappleseedmedia.com",null,null,null,null,null,null,null,"",null,"SHIP TO INFORMATION:",null,null,null,"Click if same as Bill To",null,null,null,{"$f":"IF(HIDDEN!F3=\"Yes\",HIDDEN!G3,\"\")","v":""}]
[]
["",null,"Visa, Mastercard, American Express, or Check accepted",null,null,null,null,null,null,null,"Organization:",null,null,null,null,null,null,null,null,null,{"$f":"IF(HIDDEN!F5=\"Yes\",HIDDEN!G5,\"\")","v":""}]
[]
[null,null,null,null,null,null,null,null,null,null,"Contact Name:",null,null,null,null,null,null,null,null,null,{"$f":"IF(HIDDEN!F7=\"Yes\",HIDDEN!G7,\"\")","v":""}]
[]
[null,null,null,null,null,null,null,null,null,null,"Address:",null,null,null,null,null,null,null,null,null,"Total           eBooks",null,"Total          Print Books",null,"Total             Bundle Sets"]
[]
[null,null,null,null,null,null,null,null,null,null,"City, State, Zip:",null,null,null,null,null,null,null,null,null,null,null,null,null,null,null,null,null,"Subtotal",null,{"$f":"U29+W29+Y29","v":0}]
[]
[null,null,null,null,null,null,null,null,null,null,"eMail Address:",null,null,null,null,null,null,null,"Qty of Books:",null,{"$f":"'Title List'!W6","v":0},null,{"$f":"'Title List'!Y6","v":0},null,null,null,null,null,"Less Promotion",null,{"$f":"U31+W31","v":0}]
[]
[null,null,null,null,null,null,null,null,null,null,"Phone Number:",null,null,null,null,null,null,null,"Subtotal:",null,{"$f":"'Title List'!W8","v":0},null,{"$f":"'Title List'!Y8","v":0},null,{"$f":"'Title List'!AA8","v":0},null,null,null,"Processing:",null,0]
[]
[null,null,null,null,null,null,null,null,null,null,null,null,null,null,null,null,null,null,"Less Promo:",null,{"$f":"'Title List'!W9","v":0},null,{"$f":"'Title List'!Y9","v":0},null,null,null,null,null,"Shipping (10%)",null,{"$f":"IF(AE25<100,AE25*10%,0)","v":0}]
[]
[null,null,null,null,null,null,null,null,null,null,null,null,null,null,null,null,null,null,null,null,null,null,null,null,null,null,null,null,"Total Order",null,{"$f":"AE25+AE27+AE31+AE29","v":0}]
[]
[null,null,null,null,null,null,null,null,null,null,null,null,null,null,null,null,null,null,null,null,null,null,null,null,null,null,null,null,null,null,"*FREE shipping on orders over $100.00"]
[]
["Multi User eBook Qty",null,"Print               Qty",null,"Bundle Qty",null,"eBook                    ISBN",null,"Print                       ISBN",null,"Title (NEW listed in Blue)",null,null,null,"Series",null,null,null,"Publisher",null,"Multi User eBook Price",null,"School / Library Print Price",null,"Bundle Price",null,"Subtotal",null,"Mark X                                    for FREE",null,"Custom Field"]

{"sheet":"HIDDEN","index":3,"n_rows":34,"n_cols":7,"rows_kept":34,"cut":false,"hidden":true,"merged":[]}
["YES/NO OPTION"]
[]
["Yes",null,null,null,"BOGO",{"$f":"IF('Title List'!AO5>=500,\"Yes\",\"No\")","v":"No"},{"$f":"IF(F3=\"Yes\",\"Eligible for Buy 2, Get 1 FREE\",\"\")","v":""}]
["No"]
[null,null,null,null,"Gift Card",{"$f":"IF('Title List'!AP10349>=1000,\"Yes\",\"No\")","v":"No"},{"$f":"IF(F5=\"Yes\",\"Eligible for Amazon Gift Card\",\"\")","v":""}]
[]
["Subjects",null,null,null,"FREE Processing",{"$f":"IF('Title List'!AE8>=500,\"Yes\",\"No\")","v":"No"},{"$f":"IF(F7=\"Yes\",\"Eligible for Free CUSTOM Processing\",\"\")","v":""}]
["Animals"]
["Arts, Crafts, & Makerspaces"]
["Biographies"]
["Business & Finance",null,null,null,null,{"$f":"IF(COUNTIF(F3:F7,\"*Yes*\"),\"Yes\",\"No\")","v":"No"}]
["Careers"]
["Cooking, Food, & Nutrition"]
["Fiction"]
["Geography"]
["Health & Fitness"]
["History"]
["Home & Garden"]
["Language Arts"]
["Legends, Myths, & Paranormal"]
["Math"]
["Media Studies"]
["Music"]
["Nature"]
["Non Fiction"]
["Political Science"]
["Religion & Spirituality"]
["Science"]
["Social & Emotion"]
["Social Studies"]
["Sports & Recreation"]
["Technology & Engineering"]
["Transportation"]
["Travel"]