{"text_format":"1","workbook":"xlsx","n_sheets":7,"sheets":["Title List","Summary","Promotions","Processing Spec Form","eBook Access Form","HIDDEN Title List","HIDDEN"],"not_rendered":{"charts":0,"images":21,"macros":1,"external_links":0,"defined_names":15,"comments":0,"pivot_tables":0},"unopened":[],"bounds":{"document_bytes":16777216,"sheet_cells":100000,"rows_first":2000,"rows_last":500,"rows_between":2000,"halvings":0,"cell_chars":16384,"cell_head_chars":4096},"cells_cut":0,"cells_raw":0,"read":"whole","date_system":"1900"}

{"sheet":"Title List","index":0,"n_rows":9936,"n_cols":52,"rows_kept":1125,"cut":true,"hidden":false,"merged":[[16,5,16,7],[16,9,16,11],[1,11,1,16],[2,11,2,16],[3,11,3,16],[4,11,4,16],[5,11,5,16],[6,11,6,16],[9,11,9,16],[10,11,10,16],[11,11,11,16],[12,11,12,16],[13,11,13,16],[14,11,14,16],[15,11,15,16]],"bounds":{"rows_first":500,"rows_last":125,"rows_between":500,"halvings":2}}
[null,null,null,null,null,null,null,null,null,null,null,"SHIP TO INFORMATION:"]
[null,null,null,null,null,null,null,null,null,"Organization:"]
[null,null,null,null,null,null,null,null,null,"Contact Name:"]
[null,null,null,null,null,null,null,null,null,"Address:"]
[null,null,null,null,null,null,null,null,null,"City, State, Zip:"]
[null,null,null,null,null,null,null,null,null,"eMail Address:"]
[null,null,null,null,null,null,null,null,null,"Phone Number:"]
[null,null,null,null,null,null,null,null,null,null,null,null,null,null,null,null,null,null,null,null,"Total HC",null,"Total EB",null,null,null,null,null,null,null,null,"Total Bundle",null,null,null,"Total"]
[null,null,null,null,null,null,null,null,null,null,null,"BILL TO INFORMATION:",null,null,null,"Check if same as Ship To",null,null,null,null,{"$f":"Y9935","v":0},null,{"$f":"Z9935","v":0},null,null,null,null,null,null,null,null,{"$f":"AA9935","v":0},null,null,null,{"$f":"AB9935","v":0}]
[null,null,null,null,null,null,null,null,null,"Organization:",null,null,null,null,null,null,null,null,null,null,{"$f":"AC9935","v":0},null,{"$f":"AD9935","v":0},null,null,null,null,null,null,null,null,{"$f":"AE9935","v":0},null,null,null,{"$f":"AE9936","v":0}]
[null,null,null,"Sales Representative:",null,null,null,null,null,"Contact Name:"]
[null,null,null,"PO Number:",null,null,null,null,null,"Address:",null,null,null,null,null,null,null,null,null,null,"Does your order qualify for a promotional item?  "]
[null,null,null,"Need by Date:",null,null,null,null,null,"City, State, Zip:",null,null,null,null,null,null,null,null,null,null,"See available promotions and eligiblity"]
[null,null,null,"Backorders Accepted:",null,null,null,null,null,"eMail Address:",null,null,null,null,null,null,null,null,null,null,"on the Promotions tab!"]
[null,null,null,null,null,null,null,null,null,"Phone Number:"]
[null,null,null,null,null,null,null,null,null,"Indiana Rep:",null,"mikewhite@booklookindiana.com"]
["New","eBook ISBN",null,"Print ISBN",null,"Title",null,null,null,"Series",null,null,null,"HC List Price","HC S/L Price","Multi User eBook Price","Bundle Price",null,"Print Qty",null,"Multi User eBook Qty",null,"Bundle Qty",null,"HIDDEN        HC Qty","HIDDEN        EB Qty","HIDDEN BUNDLE QTY            (HC + EB)","HIDDEN QTY TOTAL","HIDDEN HC TOTAL","HIDDEN EB TOTAL","HIDDEN BUNDLE TOTAL","Total",null,"Mark X for                      FREE Book",null,"Custom Field",null,"Season Released","Publishers' Catalog Page Number","Copyright Year","Publisher","Imprint","AR Level","Subject","Language","Binding","Page Count","Guided Reading Level","Lexile Level"," Reading Level (by Grade)","Dewey Number","Author"]
[]
[null,null,null,null,null,"Complete Series of 3",null,null,null,"Amicus Ink Board Books",null,null,null,{"$f":"SUM(N20)","v":0},{"$f":"SUM(O20)","v":9.99},25.7,14.99]
[null,9781681525129,null,9781681521947,null,"It's Not the Baby",null,null,null,"Amicus Ink Board Books",null,null,null,0,9.99,25.7,{"$f":"O20+5","v":14.99},null,{"$f":"S19","v":0},null,{"$f":"U19","v":0},null,{"$f":"W19","v":0},null,{"$f":"S20","v":0},{"$f":"U20","v":0},{"$f":"W20*2","v":0},{"$f":"Y20+Z20+AA20","v":0},{"$f":"S20*O20","v":0},{"$f":"U20*P20","v":0},{"$f":"W20*Q20","v":0},{"$f":"IF(AH20=FALSE,AC20+AD20+AE20,0)","v":0},null,null,null,null,null,"Fall 2017","Insert 10",2018,"Amicus","Amicus Ink","Not Quizzable","Fiction","English","Board Book",14,null,null,"4 - 8","E","J. Patrick Lewis & Leigh Lewis"]
[null,9781681525150,null,9781681524092,null,"It's Not the Puppy",null,null,null,"Amicus Ink Board Books",null,null,null,0,9.99,25.7,{"$f":"O21+5","v":14.99},null,{"$f":"S19","v":0},null,{"$f":"U19","v":0},null,{"$f":"W19","v":0},null,{"$f":"S21","v":0},{"$f":"U21","v":0},{"$f":"W21*2","v":0},{"$f":"Y21+Z21+AA21","v":0},{"$f":"S21*O21","v":0},{"$f":"U21*P21","v":0},{"$f":"W21*Q21","v":0},{"$f":"IF(AH21=FALSE,AC21+AD21+AE21,0)","v":0},null,null,null,null,null,"Spring 2019","Insert 10",2019,"Amicus","Amicus Ink","Not Quizzable","Fiction","English","Board Book",14,null,null,"4 - 8","E","J. Patrick Lewis & Leigh Lewis"]
["NEW",9781681525679,null,9781681525037,null,"Who is Making a Mess?",null,null,null,"Amicus Ink Board Books",null,null,null,0,8.99,9.99,{"$f":"O22+5","v":13.99},null,{"$f":"S19","v":0},null,{"$f":"U19","v":0},null,{"$f":"W19","v":0},null,{"$f":"S22","v":0},{"$f":"U22","v":0},{"$f":"W22*2","v":0},{"$f":"Y22+Z22+AA22","v":0},{"$f":"S22*O22","v":0},{"$f":"U22*P22","v":0},{"$f":"W22*Q22","v":0},{"$f":"IF(AH22=FALSE,AC22+AD22+AE22,0)","v":0},null,null,null,null,null,"Spring 2020","Insert 3",2020,"Amicus","Amicus Ink","Not Quizzable","Fiction","English","Board Book",20,null,null,"4 - 8","DDC [E]--dc23","Maria D’Haene"]
[]
[null,null,null,null,null,"Complete Series of 6",null,null,null,"Little Animal Friends",null,null,null,{"$f":"SUM(N25:N30)","v":0},{"$f":"SUM(O25:O30)","v":53.940000000000005},77.16,83.94]
["NEW",9781681525648,null,9781681525631,null,"Little Hippo",null,null,null,"Little Animal Friends (Board Book)",null,null,null,0,8.99,12.86,{"$f":"O25+5","v":13.99},null,{"$f":"S24","v":0},null,{"$f":"U24","v":0},null,{"$f":"W24","v":0},null,{"$f":"S25","v":0},{"$f":"U25","v":0},{"$f":"W25*2","v":0},{"$f":"Y25+Z25+AA25","v":0},{"$f":"S25*O25","v":0},{"$f":"U25*P25","v":0},{"$f":"W25*Q25","v":0},{"$f":"IF(AH25=FALSE,AC25+AD25+AE25,0)","v":0},null,null,null,null,null,"Spring 2020","Insert 4 - 5",2020,"Amicus","Amicus Ink","Not Quizzable","Animals & Nature","English","Board Book",20,null,null,"PreK - 1","DDC [E]--dc23","Julie Abery"]
["NEW",9781681525662,null,9781681525655,null,"Little Monkey",null,null,null,"Little Animal Friends (Board Book)",null,null,null,0,8.99,12.86,13.99,null,{"$f":"S24","v":0},null,{"$f":"U24","v":0},null,{"$f":"W24","v":0},null,0,0,0,0,0,0,0,0,null,null,null,null,null,"Spring 2020","Insert 4 - 5",2020,"Amicus","Amicus Ink","Not Quizzable","Animals & Nature","English","Board Book",20,null,null,"PreK - 1","DDC [E]--dc23","Julie Abery"]
["NEW",9781681525174,null,9781681524146,null,"Little Panda",null,null,null,"Little Animal Friends (Board Book)",null,null,null,0,8.99,12.86,13.99,null,{"$f":"S24","v":0},null,{"$f":"U24","v":0},null,{"$f":"W24","v":0},null,0,0,0,0,0,0,0,0,null,null,null,null,null,"Spring 2019","Insert 4 - 5",2019,"Amicus","Amicus Ink","Not Quizzable","Animals & Nature","English","Board Book",20,null,null,"PreK - 1","E","Julie Abery"]
["NEW",9781681527437,null,9781681527413,null,"Little Penguin",null,null,null,"Little Animal Friends (Board Book)",null,null,null,0,8.99,12.86,13.99,null,{"$f":"S24","v":0},null,{"$f":"U24","v":0},null,{"$f":"W24","v":0},null,0,0,0,0,0,0,0,0,null,null,null,null,null,"Spring 2021","Insert 4 - 5",2021,"Amicus","Amicus Ink",null,"Life Science","English","Board Book",20,"na",null,"PreK & Up",null,"Julie Abery"]
["NEW",9781681525167,null,9781681524139,null,"Little Tiger",null,null,null,"Little Animal Friends (Board Book)",null,null,null,0,8.99,12.86,13.99,null,{"$f":"S24","v":0},null,{"$f":"U24","v":0},null,{"$f":"W24","v":0},null,0,0,0,0,0,0,0,0,null,null,null,null,null,"Spring 2019","Insert 4 - 5",2019,"Amicus","Amicus Ink","Not Quizzable","Animals & Nature","English","Board Book",20,null,null,"PreK - 1","E","Julie Abery"]
["NEW",9781681527444,null,9781681527420,null,"Little Zebra",null,null,null,"Little Animal Friends (Board Book)",null,null,null,0,8.99,12.86,{"$f":"O30+5","v":13.99},null,{"$f":"S24","v":0},null,{"$f":"U24","v":0},null,{"$f":"W24","v":0},null,0,0,0,0,0,0,0,0,null,null,null,null,null,"Spring 2021","Insert 4 - 5",2021,"Amicus","Amicus Ink",null,"Life Science","English","Board Book",20,"na",null,"PreK & Up",null,"Julie Abery"]
[]
[null,null,null,null,null,"Complete Series of 8",null,null,null,"The Amicus Book of...",null,null,null,{"$f":"SUM(N33:N40)","v":0},72.92,0,0]
[null,"Not Available",null,9781681525693,null,"The Amicus Book of 123",null,null,null,"The Amicus Book of…(Board Book)",null,null,null,0,8.99,0,0,null,{"$f":"S32","v":0},null,null,null,null,null,{"$f":"S33","v":0},{"$f":"U33","v":0},{"$f":"W33*2","v":0},{"$f":"Y33+Z33+AA33","v":0},{"$f":"S33*O33","v":0},{"$f":"U33*P33","v":0},{"$f":"W33*Q33","v":0},{"$f":"IF(AH33=FALSE,AC33+AD33+AE33,0)","v":0},null,null,null,null,null,"Fall 2019","Insert 6 - 7",2019,"Amicus","Amicus Ink","Not Quizzable","Fiction","English","Board Book",10,null,null,"PreK - 1","513.2/11--dc23","Isobel Lundie"]
[null,"Not Available",null,9781681525686,null,"The Amicus Book of ABC",null,null,null,"The Amicus Book of…(Board Book)",null,null,null,0,8.99,0,0,null,{"$f":"S32","v":0},null,null,null,null,null,{"$f":"S34","v":0},{"$f":"U34","v":0},{"$f":"W34*2","v":0},{"$f":"Y34+Z34+AA34","v":0},{"$f":"S34*O34","v":0},{"$f":"U34*P34","v":0},{"$f":"W34*Q34","v":0},{"$f":"IF(AH34=FALSE,AC34+AD34+AE34,0)","v":0},null,null,null,null,null,"Fall 2019","Insert 6 - 7",2019,"Amicus","Amicus Ink","Not Quizzable","Fiction","English","Board Book",26,null,null,"PreK - 1","E","Isobel Lundie"]
["NEW","Not Available",null,9781681527574,null,"The Amicus Book of Animal Homes",null,null,null,"The Amicus Book of…(Board Book)",null,null,null,0,9.99,0,0,null,{"$f":"S32","v":0},null,null,null,null,null,{"$f":"S35","v":0},{"$f":"U35","v":0},{"$f":"W35*2","v":0},{"$f":"Y35+Z35+AA35","v":0},{"$f":"S35*O35","v":0},{"$f":"U35*P35","v":0},{"$f":"W35*Q35","v":0},{"$f":"IF(AH35=FALSE,AC35+AD35+AE35,0)","v":0},null,null,null,null,null,"Fall 2020","Insert 6 - 7",2020,"Amicus","Amicus Ink","Not Quizzable","Fiction","English","Board Book",10,null,null,"PreK - 1","591.56/4","Isobel Lundie"]
[null,"Not Available",null,9781681525709,null,"The Amicus Book of Animals",null,null,null,"The Amicus Book of…(Board Book)",null,null,null,0,8.99,0,0,null,{"$f":"S32","v":0},null,null,null,null,null,{"$f":"S36","v":0},{"$f":"U36","v":0},{"$f":"W36*2","v":0},{"$f":"Y36+Z36+AA36","v":0},{"$f":"S36*O36","v":0},{"$f":"U36*P36","v":0},{"$f":"W36*Q36","v":0},{"$f":"IF(AH36=FALSE,AC36+AD36+AE36,0)","v":0},null,null,null,null,null,"Spring 2020","Insert 6 - 7",2020,"Amicus","Amicus Ink","Not Quizzable","Fiction","English","Board Book",10,null,null,"PreK - 1","590--dc23","Isobel Lundie"]
["NEW","Not Available",null,9781681527604,null,"The Amicus Book of Bugs",null,null,null,"The Amicus Book of…(Board Book)",null,null,null,0,8.99,0,0,null,{"$f":"S32","v":0},null,null,null,null,null,{"$f":"S37","v":0},{"$f":"U37","v":0},{"$f":"W37*2","v":0},{"$f":"Y37+Z37+AA37","v":0},{"$f":"S37*O37","v":0},{"$f":"U37*P37","v":0},{"$f":"W37*Q37","v":0},{"$f":"IF(AH37=FALSE,AC37+AD37+AE37,0)","v":0},null,null,null,null,null,"Spring 2021","Insert 6 - 7",2021,"Amicus","Amicus Ink",null,"Earth and Space Science","English","Board Book",10,"na",null,"PreK & Up","595.7","Isobel Lundie"]
[null,"Not Available",null,9781681525716,null,"The Amicus Book of Colors",null,null,null,"The Amicus Book of…(Board Book)",null,null,null,0,8.99,0,0,null,{"$f":"S32","v":0},null,null,null,null,null,0,0,0,0,0,0,0,0,null,null,null,null,null,"Spring 2020","Insert 6 - 7",2020,"Amicus","Amicus Ink","Not Quizzable","Fiction","English","Board Book",10,null,null,"PreK - 1","535.6--dc23","Isobel Lundie"]
["NEW","Not Available",null,9781681527581,null,"The Amicus Book of Earth",null,null,null,"The Amicus Book of…(Board Book)",null,null,null,0,8.99,0,0,null,{"$f":"S32","v":0},null,null,null,null,null,0,0,0,0,0,0,0,0,null,null,null,null,null,"Fall 2020","Insert 6 - 7",2020,"Amicus","Amicus Ink","Not Quizzable","Fiction","English","Board Book",10,null,null,"PreK - 1",null,"Isobel Lundie"]
["NEW","Not Available",null,9781681527598,null,"The Amicus Book of Nature",null,null,null,"The Amicus Book of…(Board Book)",null,null,null,0,8.99,0,0,null,{"$f":"S32","v":0},null,null,null,null,null,0,0,0,0,0,0,0,0,null,null,null,null,null,"Spring 2021","Insert 6 - 7",2021,"Amicus","Amicus Ink",null,"Earth and Space Science","English","Board Book",10,"na",null,"PreK & Up","508","Isobel Lundie"]
[]
[null,null,null,null,null,"Complete Series of 13",null,null,null,"Amicus Ink",null,null,null,{"$f":"SUM(N43:N54)","v":0},{"$f":"SUM(O43:O54)","v":214.88000000000002},{"$f":"SUM(P43:P54)","v":282.69999999999993},{"$f":"SUM(Q43:Q54)","v":251.89000000000004}]
[null,9781681525204,null,9781681524986,null,"A Tiny Brown Monkey on the Big Blue Earth",null,null,null,"Amicus Ink Picture Books",null,null,null,0,17.989999999999998,25.7,{"$f":"O43+5","v":22.99},null,{"$f":"S42","v":0},null,{"$f":"U42","v":0},null,{"$f":"W42","v":0},null,{"$f":"S43","v":0},{"$f":"U43","v":0},{"$f":"W43*2","v":0},{"$f":"Y43+Z43+AA43","v":0},{"$f":"S43*O43","v":0},{"$f":"U43*P43","v":0},{"$f":"W43*Q43","v":0},{"$f":"IF(AH43=FALSE,AC43+AD43+AE43,0)","v":0},null,null,null,null,null,"Fall 2019","Insert 9",2019,"Amicus","Amicus Ink",2.8,"Fiction","English","Hardcover with Jacket",32,null,null,"PreK – 2","E","Tory Christie"]
[null,9781681525143,null,9781681524085,null,"Crane & Crane",null,null,null,"Amicus Ink Picture Books",null,null,null,0,17.989999999999998,25.7,{"$f":"O44+5","v":22.99},null,{"$f":"S42","v":0},null,{"$f":"U42","v":0},null,{"$f":"W42","v":0},null,0,0,0,0,0,0,0,0,null,null,null,null,null,"Spring 2019","Insert 9",2019,"Amicus","Amicus Ink",null,"Fiction","English","Hardcover with Jacket",32,null,null,"PreK – 2","E","Linda Joy Singleton"]
[null,"Not Available",null,9781681521930,null,"Daddy Cuddle",null,null,null,"Amicus Ink Picture Books",null,null,null,0,17.989999999999998,0,0,null,{"$f":"S42","v":0},null,{"$f":"U42","v":0},null,{"$f":"W42","v":0},null,0,0,0,0,0,0,0,0,null,null,null,null,null,"Spring 2017","Insert 9",2017,"Amicus","Amicus Ink",null,"Fiction","English","Hardcover with Jacket",32,null,null,"PreK – 2","E","Kate Mayes"]
["NEW",9781681525051,null,9781681525020,null,"Extraordinary Ordinary Ella",null,null,null,"Amicus Ink Picture Books",null,null,null,0,17.989999999999998,25.7,{"$f":"O46+5","v":22.99},null,{"$f":"S42","v":0},null,{"$f":"U42","v":0},null,{"$f":"W42","v":0},null,0,0,0,0,0,0,0,0,null,null,null,null,null,"Spring 2020","Insert 8",2020,"Amicus","Amicus Ink","Not Quizzable","Fiction","English","Hardcover with Jacket",32,null,null,"PreK – 2","DDC [E]--dc23","Amber Hendricks"]
[null,9781681525112,null,9781681522395,null,"Grow",null,null,null,"Amicus Ink Picture Books",null,null,null,0,17.989999999999998,25.7,22.99,null,{"$f":"S42","v":0},null,{"$f":"U42","v":0},null,{"$f":"W42","v":0},null,0,0,0,0,0,0,0,0,null,null,null,null,null,"Spring 2018","Insert 10",2018,"Amicus","Amicus Ink",null,"Fiction","English","Hardcover with Jacket",32,null,null,"PreK – 2","E","Cynthia Platt"]
[null,9781681525044,null,9781681525013,null,"I've Got a Tail!: Terrific Tails of the Animal World",null,null,null,"Amicus Ink Picture Books",null,null,null,0,17.989999999999998,25.7,22.99,null,{"$f":"S42","v":0},null,{"$f":"U42","v":0},null,{"$f":"W42","v":0},null,0,0,0,0,0,0,0,0,null,null,null,null,null,"Spring 2020","Insert 10",2020,"Amicus","Amicus Ink","Not Quizzable","Fiction","English","Hardcover with Jacket",32,null,null,"PreK – 2","DDC 591.47--dc23","Julie Murphy"]
[null,9781681525136,null,9781681521954,null,"I've Got Feet: Fantastical Feet of the Animal World",null,null,null,"Amicus Ink Picture Books",null,null,null,0,17.989999999999998,25.7,22.99,null,{"$f":"S42","v":0},null,{"$f":"U42","v":0},null,{"$f":"W42","v":0},null,0,0,0,0,0,0,0,0,null,null,null,null,null,"Spring 2017","Insert 10",2017,"Amicus","Amicus Ink",2.7,"Fiction","English","Hardcover with Jacket",32,null,null,"PreK – 2","591.47/9","Julie Murphy"]
[null,9781681525068,null,9781681524047,null,"I’ve Got Eyes!: Exceptional Eyes of the Animal World",null,null,null,"Amicus Ink Picture Books",null,null,null,0,17.989999999999998,25.7,22.99,null,{"$f":"S42","v":0},null,{"$f":"U42","v":0},null,{"$f":"W42","v":0},null,0,0,0,0,0,0,0,0,null,null,null,null,null,"Fall 2018","Insert 10",2018,"Amicus","Amicus Ink",null,"Fiction","English","Hardcover with Jacket",32,null,null,"PreK – 2","591.4/4","Julie Murphy"]
[null,9781681525105,null,9781681522029,null,"Just My Style",null,null,null,"Amicus Ink Picture Books",null,null,null,0,17.989999999999998,25.7,22.99,null,{"$f":"S42","v":0},null,{"$f":"U42","v":0},null,{"$f":"W42","v":0},null,0,0,0,0,0,0,0,0,null,null,null,null,null,"Spring 2018","Website",2018,"Amicus","Amicus Ink",null,"Fiction","English","Hardcover with Jacket"]
[null,9781681525198,null,9781681524153,null,"No Hugs!",null,null,null,"Amicus Ink Picture Books",null,null,null,0,16.989999999999998,25.7,21.99,null,{"$f":"S42","v":0},null,{"$f":"U42","v":0},null,{"$f":"W42","v":0},null,0,0,0,0,0,0,0,0,null,null,null,null,null,"Fall 2019","Insert 9",2019,"Amicus","Amicus Ink",null,"Fiction","English","Hardcover with Jacket",24,null,null,"PreK – 2","E","Deirdre A. Prischmann"]
[null,9781681525181,null,9781681522371,null,"The Mighty Steam Engine",null,null,null,"Amicus Ink Picture Books",null,null,null,0,17.989999999999998,25.7,22.99,null,{"$f":"S42","v":0},null,{"$f":"U42","v":0},null,{"$f":"W42","v":0},null,0,0,0,0,0,0,0,0,null,null,null,null,null,"Fall 2019","Insert 9",2019,"Amicus","Amicus Ink",4.9000000000000004,"Fiction","English","Hardcover with Jacket",32,null,null,"PreK – 2","E","Yvonne Ng"]
[null,9781681525075,null,9781681524054,null,"Twinkle, Twinkle, Little Lamb",null,null,null,"Amicus Ink Picture Books",null,null,null,0,17.989999999999998,25.7,22.99,null,{"$f":"S42","v":0},null,{"$f":"U42","v":0},null,{"$f":"W42","v":0},null,0,0,0,0,0,0,0,0,null,null,null,null,null,"Fall 2018","Insert 9",2018,"Amicus","Amicus Ink",null,"Fiction","English","Hardcover with Jacket",32,null,null,"PreK – 2","E","Bridget Heos"]
[]
[null,null,null,null,null,"Complete Series of 4",null,null,null,"Riddle Diddle Dumplings",null,null,null,{"$f":"SUM(N57:N60)","v":0},39.96,39.96,59.96]
[null,9781681525082,null,9781681524061,null,"Riddle Diddle Farm",null,null,null,"Riddle Diddle Dumplings (Board Book)",null,null,null,0,9.99,9.99,{"$f":"O57+5","v":14.99},null,{"$f":"S56","v":0},null,{"$f":"U56","v":0},null,{"$f":"W56","v":0},null,{"$f":"S57","v":0},{"$f":"U57","v":0},{"$f":"W57*2","v":0},{"$f":"Y57+Z57+AA57","v":0},{"$f":"S57*O57","v":0},{"$f":"U57*P57","v":0},{"$f":"W57*Q57","v":0},{"$f":"IF(AH57=FALSE,AC57+AD57+AE57,0)","v":0},null,null,null,null,null,"Fall 2018","Insert 11",2018,"Amicus","Amicus Ink","Not Quizzable","Animals & Nature","English","Board Book",10,null,null,"PreK - 1",636,"Diane Z. Shore and Deanna Calvert"]
[null,9781681525211,null,9781681524993,null,"Riddle Diddle Ocean",null,null,null,"Riddle Diddle Dumplings (Board Book)",null,null,null,0,9.99,9.99,{"$f":"O58+5","v":14.99},null,{"$f":"S56","v":0},null,{"$f":"U56","v":0},null,{"$f":"W56","v":0},null,{"$f":"S58","v":0},{"$f":"U58","v":0},{"$f":"W58*2","v":0},{"$f":"Y58+Z58+AA58","v":0},{"$f":"S58*O58","v":0},{"$f":"U58*P58","v":0},{"$f":"W58*Q58","v":0},{"$f":"IF(AH58=FALSE,AC58+AD58+AE58,0)","v":0},null,null,null,null,null,"Fall 2019","Insert 11",2019,"Amicus","Amicus Ink","Not Quizzable","Animals & Nature","English","Board Book",10,"na",null,"PreK - 1","591.77--dc23","Diane Z. Shore and Deanna Calvert"]
[null,9781681525228,null,9781681525006,null,"Riddle Diddle Rainforest",null,null,null,"Riddle Diddle Dumplings (Board Book)",null,null,null,0,9.99,9.99,14.99,null,{"$f":"S56","v":0},null,{"$f":"U56","v":0},null,{"$f":"W56","v":0},null,{"$f":"S59","v":0},{"$f":"U59","v":0},{"$f":"W59*2","v":0},{"$f":"Y59+Z59+AA59","v":0},{"$f":"S59*O59","v":0},{"$f":"U59*P59","v":0},{"$f":"W59*Q59","v":0},{"$f":"IF(AH59=FALSE,AC59+AD59+AE59,0)","v":0},null,null,null,null,null,"Fall 2019","Insert 11",2019,"Amicus","Amicus Ink","Not Quizzable","Animals & Nature","English","Board Book",10,"na",null,"PreK - 1","591.734--dc23","Diane Z. Shore and Deanna Calvert"]
[null,9781681525099,null,9781681524078,null,"Riddle Diddle Safari",null,null,null,"Riddle Diddle Dumplings (Board Book)",null,null,null,0,9.99,9.99,14.99,null,{"$f":"S56","v":0},null,{"$f":"U56","v":0},null,{"$f":"W56","v":0},null,{"$f":"S60","v":0},{"$f":"U60","v":0},{"$f":"W60*2","v":0},{"$f":"Y60+Z60+AA60","v":0},{"$f":"S60*O60","v":0},{"$f":"U60*P60","v":0},{"$f":"W60*Q60","v":0},{"$f":"IF(AH60=FALSE,AC60+AD60+AE60,0)","v":0},null,null,null,null,null,"Fall 2018","Insert 11",2018,"Amicus","Amicus Ink","Not Quizzable","Animals & Nature","English","Board Book",10,null,null,"PreK - 1",591.96,"Diane Z. Shore and Deanna Calvert"]
[]
[null,null,null,null,null,"Complete Series of 4",null,null,null,"First Words and Pictures",null,null,null,{"$f":"SUM(N63:N65)","v":0},{"$f":"SUM(O63:O65)","v":29.97},{"$f":"SUM(P63:P65)","v":0},{"$f":"SUM(Q63:Q65)","v":0}]
[null,"Not Available",null,9781681524108,null,"Around Town",null,null,null,"First Words and Pictures (Board Book)",null,null,null,0,9.99,0,0,null,{"$f":"S62","v":0},null,null,null,null,null,{"$f":"S63","v":0},{"$f":"U63","v":0},{"$f":"W63*2","v":0},{"$f":"Y63+Z63+AA63","v":0},{"$f":"S63*O63","v":0},{"$f":"U63*P63","v":0},{"$f":"W63*Q63","v":0},{"$f":"IF(AH63=FALSE,AC63+AD63+AE63,0)","v":0},null,null,null,null,null,"Spring 2018","Insert 11",2018,"Amicus","Amicus Ink","Not Quizzable","Fiction","English","Board Book",14,null,null,"PreK - 1",307.76,"Margot Channing"]
[null,"Not Available",null,9781681524115,null,"At Home",null,null,null,"First Words and Pictures (Board Book)",null,null,null,0,9.99,0,0,null,{"$f":"S62","v":0},null,null,null,null,null,{"$f":"S64","v":0},{"$f":"U64","v":0},{"$f":"W64*2","v":0},{"$f":"Y64+Z64+AA64","v":0},{"$f":"S64*O64","v":0},{"$f":"U64*P64","v":0},{"$f":"W64*Q64","v":0},{"$f":"IF(AH64=FALSE,AC64+AD64+AE64,0)","v":0},null,null,null,null,null,"Spring 2018","Insert 11",2018,"Amicus","Amicus Ink","Not Quizzable","Fiction","English","Board Book",14,null,null,"PreK - 1","643/.6","Margot Channing"]
[null,"Not Available",null,9781681522012,null,"On the Go",null,null,null,"First Words and Pictures (Board Book)",null,null,null,0,9.99,0,0,null,{"$f":"S62","v":0},null,null,null,null,null,{"$f":"S65","v":0},{"$f":"U65","v":0},{"$f":"W65*2","v":0},{"$f":"Y65+Z65+AA65","v":0},{"$f":"S65*O65","v":0},{"$f":"U65*P65","v":0},{"$f":"W65*Q65","v":0},{"$f":"IF(AH65=FALSE,AC65+AD65+AE65,0)","v":0},null,null,null,null,null,"Fall 2017","Insert 11",2018,"Amicus","Amicus Ink","Not Quizzable","Fiction","English","Board Book",14,null,null,"PreK - 1","629.04/6","Margot Channing"]
[]
[null,null,null,null,null,"Complete Series of 21",null,null,null,"Amicus Ink",null,null,null,{"$f":"SUM(N68:N85)","v":0},{"$f":"SUM(O68:O85)","v":143.82},{"$f":"SUM(P68:P85)","v":0},{"$f":"SUM(Q68:Q85)","v":0}]
[null,"Not Available",null,9781681521251,null,"Cows Moo",null,null,null,"Amicus Ink Board Books - Farm Animals",null,null,null,0,7.99,0,0,null,{"$f":"S67","v":0},null,null,null,null,null,{"$f":"S68","v":0},{"$f":"U68","v":0},{"$f":"W68*2","v":0},{"$f":"Y68+Z68+AA68","v":0},{"$f":"S68*O68","v":0},{"$f":"U68*P68","v":0},{"$f":"W68*Q68","v":0},{"$f":"IF(AH68=FALSE,AC68+AD68+AE68,0)","v":0},null,null,null,null,null,"Fall 2016","Insert 12",2017,"Amicus","Amicus Ink","Not Quizzable","Animals & Nature","English","Board Book",14,null,null,"PreK - 1",636.20000000000005,"Rebecca Glaser"]
[null,"Not Available",null,9781681521275,null,"Ducks Quack",null,null,null,"Amicus Ink Board Books - Farm Animals",null,null,null,0,7.99,0,0,null,{"$f":"S67","v":0},null,null,null,null,null,0,0,0,0,0,0,0,0,null,null,null,null,null,"Fall 2016","Insert 12",2017,"Amicus","Amicus Ink","Not Quizzable","Animals & Nature","English","Board Book",14,null,null,"PreK - 1","636.5/97","Rebecca Glaser"]
[null,"Not Available",null,9781681521268,null,"Horses Neigh",null,null,null,"Amicus Ink Board Books - Farm Animals",null,null,null,0,7.99,0,0,null,{"$f":"S67","v":0},null,null,null,null,null,0,0,0,0,0,0,0,0,null,null,null,null,null,"Fall 2016","Insert 12",2017,"Amicus","Amicus Ink","Not Quizzable","Animals & Nature","English","Board Book",14,null,null,"PreK - 1",636.1,"Rebecca Glaser"]
[null,"Not Available",null,9781681521992,null,"Bunnies Hop",null,null,null,"Amicus Ink Board Books - Pets",null,null,null,0,7.99,0,0,null,{"$f":"S67","v":0},null,null,null,null,null,0,0,0,0,0,0,0,0,null,null,null,null,null,"Fall 2017","Insert 12",2018,"Amicus","Amicus Ink","Not Quizzable","Fiction","English","Board Book",14,null,null,"PreK - 1",636.93200000000002,"Rebecca Glaser"]
[null,"Not Available",null,9781681521985,null,"Fish Swim",null,null,null,"Amicus Ink Board Books - Pets",null,null,null,0,7.99,0,0,null,{"$f":"S67","v":0},null,null,null,null,null,0,0,0,0,0,0,0,0,null,null,null,null,null,"Fall 2017","Insert 12",2018,"Amicus","Amicus Ink","Not Quizzable","Fiction","English","Board Book",14,null,null,"PreK - 1",639.34,"Rebecca Glaser"]
[null,"Not Available",null,9781681521978,null,"Kittens Pounce",null,null,null,"Amicus Ink Board Books - Pets",null,null,null,0,7.99,0,0,null,{"$f":"S67","v":0},null,null,null,null,null,0,0,0,0,0,0,0,0,null,null,null,null,null,"Fall 2017","Insert 12",2018,"Amicus","Amicus Ink","Not Quizzable","Fiction","English","Board Book",14,null,null,"PreK - 1","636.8/07","Rebecca Glaser"]
[null,"Not Available",null,9781681521961,null,"Puppies Chase",null,null,null,"Amicus Ink Board Books - Pets",null,null,null,0,7.99,0,0,null,{"$f":"S67","v":0},null,null,null,null,null,0,0,0,0,0,0,0,0,null,null,null,null,null,"Fall 2017","Insert 12",2018,"Amicus","Amicus Ink","Not Quizzable","Fiction","English","Board Book",14,null,null,"PreK - 1","636.7/07","Rebecca Glaser"]
[null,"Not Available",null,9781681522432,null,"Boats Float",null,null,null,"Amicus Ink Board Books - Vehicles",null,null,null,0,7.99,0,0,null,{"$f":"S67","v":0},null,null,null,null,null,0,0,0,0,0,0,0,0,null,null,null,null,null,"Spring 2018","Insert 12",2018,"Amicus","Amicus Ink","Not Quizzable","Fiction","English","Board Book",14,null,null,"PreK - 1",623.82000000000005,"Rebecca Glaser"]
[null,"Not Available",null,9781681521213,null,"Cars Zoom",null,null,null,"Amicus Ink Board Books - Vehicles",null,null,null,0,7.99,0,0,null,{"$f":"S67","v":0},null,null,null,null,null,0,0,0,0,0,0,0,0,null,null,null,null,null,"Fall 2016","Insert 12",2017,"Amicus","Amicus Ink","Not Quizzable","Fiction","English","Board Book",14,null,null,"PreK - 1",629.22199999999998,"Rebecca Glaser"]
[null,"Not Available",null,9781681522401,null,"Fire Trucks Rescue",null,null,null,"Amicus Ink Board Books - Vehicles",null,null,null,0,7.99,0,0,null,{"$f":"S67","v":0},null,null,null,null,null,0,0,0,0,0,0,0,0,null,null,null,null,null,"Spring 2018","Insert 12",2018,"Amicus","Amicus Ink","Not Quizzable","Fiction","English","Board Book",14,null,null,"PreK - 1","628.9/259","Rebecca Glaser"]
[null,"Not Available",null,9781681521220,null,"Planes Soar",null,null,null,"Amicus Ink Board Books - Vehicles",null,null,null,0,7.99,0,0,null,{"$f":"S67","v":0},null,null,null,null,null,0,0,0,0,0,0,0,0,null,null,null,null,null,"Fall 2016","Insert 12",2017,"Amicus","Amicus Ink","Not Quizzable","Fiction","English","Board Book",14,null,null,"PreK - 1","629.133/34","Rebecca Glaser"]
[null,"Not Available",null,9781681522425,null,"Trains Chug",null,null,null,"Amicus Ink Board Books - Vehicles",null,null,null,0,7.99,0,0,null,{"$f":"S67","v":0},null,null,null,null,null,0,0,0,0,0,0,0,0,null,null,null,null,null,"Spring 2018","Insert 12",2018,"Amicus","Amicus Ink","Not Quizzable","Fiction","English","Board Book",14,null,null,"PreK - 1",625.20000000000005,"Rebecca Glaser"]
[null,"Not Available",null,9781681521244,null,"Trucks Haul",null,null,null,"Amicus Ink Board Books - Vehicles",null,null,null,0,7.99,0,0,null,{"$f":"S67","v":0},null,null,null,null,null,0,0,0,0,0,0,0,0,null,null,null,null,null,"Fall 2016","Insert 12",2017,"Amicus","Amicus Ink","Not Quizzable","Fiction","English","Board Book",14,null,null,"PreK - 1",629.22400000000005,"Rebecca Glaser"]
[null,"Not Available",null,9781681520674,null,"Dolphins Play",null,null,null,"Amicus Ink Board Books - Wild Animals",null,null,null,0,7.99,0,0,null,{"$f":"S67","v":0},null,null,null,null,null,0,0,0,0,0,0,0,0,null,null,null,null,null,"Spring 2016","Insert 12",2016,"Amicus","Amicus Ink","Not Quizzable","Animals & Nature","English","Board Book",14,null,null,"PreK - 1",599.53,"Rebecca Glaser"]
[null,"Not Available",null,9781681520681,null,"Elephants Spray",null,null,null,"Amicus Ink Board Books - Wild Animals",null,null,null,0,7.99,0,0,null,{"$f":"S67","v":0},null,null,null,null,null,0,0,0,0,0,0,0,0,null,null,null,null,null,"Spring 2016","Insert 12",2016,"Amicus","Amicus Ink","Not Quizzable","Animals & Nature","English","Board Book",14,null,null,"PreK - 1",599.66999999999996,"Rebecca Glaser"]
[null,"Not Available",null,9781681520698,null,"Giraffes Stretch",null,null,null,"Amicus Ink Board Books - Wild Animals",null,null,null,0,7.99,0,0,null,{"$f":"S67","v":0},null,null,null,null,null,0,0,0,0,0,0,0,0,null,null,null,null,null,"Spring 2016","Insert 12",2016,"Amicus","Amicus Ink","Not Quizzable","Animals & Nature","English","Board Book",14,null,null,"PreK - 1",599.63800000000003,"Rebecca Glaser"]
[null,"Not Available",null,9781681520711,null,"Lions Roar",null,null,null,"Amicus Ink Board Books - Wild Animals",null,null,null,0,7.99,0,0,null,{"$f":"S67","v":0},null,null,null,null,null,0,0,0,0,0,0,0,0,null,null,null,null,null,"Spring 2016","Insert 12",2016,"Amicus","Amicus Ink","Not Quizzable","Animals & Nature","English","Board Book",14,null,null,"PreK - 1","599.75/5","Rebecca Glaser"]
[null,"Not Available",null,9781681520728,null,"Monkeys Swing",null,null,null,"Amicus Ink Board Books - Wild Animals",null,null,null,0,7.99,0,0,null,{"$f":"S67","v":0},null,null,null,null,null,0,0,0,0,0,0,0,0,null,null,null,null,null,"Spring 2016","Insert 12",2016,"Amicus","Amicus Ink","Not Quizzable","Animals & Nature","English","Board Book",14,null,null,"PreK - 1",599.79999999999995,"Rebecca Glaser"]
[]
[null,null,null,null,null,"Complete Series of 64",null,null,null,"Mancha (Spot Spanish)",null,null,null,{"$f":"SUM(N88:N151)","v":1734.3999999999983},{"$f":"SUM(O88:O151)","v":1212.8000000000013},{"$f":"SUM(P88:P151)","v":1511.9999999999989},{"$f":"SUM(Q88:Q151)","v":958.00000000000068},null,null,null,null,null,null,null,null,null,null,null,null,null,null,null,null,null,null,null,null,null,null,null,"Amicus"]
[null,9781681519081,null,9781681518824,null,"Las cebras (Zebras)",null,null,null,"Animales africanos (Spot African Animals)",null,null,null,27.1,18.95,37.799999999999997,{"$f":"O88+5","v":23.95},null,{"$f":"S87","v":0},null,{"$f":"U87","v":0},null,{"$f":"W87","v":0},null,{"$f":"S88","v":0},{"$f":"U88","v":0},{"$f":"W88*2","v":0},{"$f":"Y88+Z88+AA88","v":0},{"$f":"S88*O88","v":0},{"$f":"U88*P88","v":0},{"$f":"W88*Q88","v":0},{"$f":"IF(AH88=FALSE,AC88+AD88+AE88,0)","v":0},null,null,null,null,null,"Fall 2019","42",2020,"Amicus","Spot",0.9,"Animals & Nature","Spanish","Reinforced Library",16,null,null,"PreK - 3","599.665/7--dc23","Mary Ellen Klukow"]
[null,9781681519043,null,9781681518787,null,"Las jirafas (Giraffes)",null,null,null,"Animales africanos (Spot African Animals)",null,null,null,27.1,18.95,37.799999999999997,23.95,null,{"$f":"S87","v":0},null,{"$f":"U87","v":0},null,{"$f":"W87","v":0},null,0,0,0,0,0,0,0,0,null,null,null,null,null,"Fall 2019","42",2020,"Amicus","Spot",0.9,"Animals & Nature","Spanish","Reinforced Library",16,null,null,"PreK - 3","599.638--dc23","Mary Ellen Klukow"]
[null,9781681519029,null,9781681518763,null,"Los cocodrilos (Crocodiles)",null,null,null,"Animales africanos (Spot African Animals)",null,null,null,27.1,18.95,37.799999999999997,23.95,null,{"$f":"S87","v":0},null,{"$f":"U87","v":0},null,{"$f":"W87","v":0},null,0,0,0,0,0,0,0,0,null,null,null,null,null,"Fall 2019","42",2020,"Amicus","Spot",0.8,"Animals & Nature","Spanish","Reinforced Library",16,null,null,"PreK - 3","597.98/2--dc23","Mary Ellen Klukow"]
[null,9781681519036,null,9781681518770,null,"Los elefantes (Elephants)",null,null,null,"Animales africanos (Spot African Animals)",null,null,null,27.1,18.95,37.799999999999997,23.95,null,{"$f":"S87","v":0},null,{"$f":"U87","v":0},null,{"$f":"W87","v":0},null,0,0,0,0,0,0,0,0,null,null,null,null,null,"Fall 2019","42",2020,"Amicus","Spot",0.9,"Animals & Nature","Spanish","Reinforced Library",16,null,null,"PreK - 3","599.67--dc23","Mary Ellen Klukow"]
[null,9781681519050,null,9781681518794,null,"Los gorilas (Gorillas) ",null,null,null,"Animales africanos (Spot African Animals)",null,null,null,27.1,18.95,37.799999999999997,23.95,null,{"$f":"S87","v":0},null,{"$f":"U87","v":0},null,{"$f":"W87","v":0},null,0,0,0,0,0,0,0,0,null,null,null,null,null,"Fall 2019","42",2020,"Amicus","Spot",0.9,"Animals & Nature","Spanish","Reinforced Library",16,null,null,"PreK - 3","599.884--dc23","Mary Ellen Klukow"]
[null,9781681519012,null,9781681518756,null,"Los guepardos (Cheetahs)",null,null,null,"Animales africanos (Spot African Animals)",null,null,null,27.1,18.95,37.799999999999997,23.95,null,{"$f":"S87","v":0},null,{"$f":"U87","v":0},null,{"$f":"W87","v":0},null,0,0,0,0,0,0,0,0,null,null,null,null,null,"Fall 2019","42",2020,"Amicus","Spot",0.9,"Animals & Nature","Spanish","Reinforced Library",16,null,null,"PreK - 3","599.75/9--dc23","Mary Ellen Klukow"]
[null,9781681519067,null,9781681518800,null,"Los hipopótamos (Hippos)",null,null,null,"Animales africanos (Spot African Animals)",null,null,null,27.1,18.95,37.799999999999997,23.95,null,{"$f":"S87","v":0},null,{"$f":"U87","v":0},null,{"$f":"W87","v":0},null,0,0,0,0,0,0,0,0,null,null,null,null,null,"Fall 2019","42",2020,"Amicus","Spot",0.9,"Animals & Nature","Spanish","Reinforced Library",16,null,null,"PreK - 3","599.63/5--dc23","Mary Ellen Klukow"]
[null,9781681519074,null,9781681518817,null,"Los leones (Lions)",null,null,null,"Animales africanos (Spot African Animals)",null,null,null,27.1,18.95,37.799999999999997,23.95,null,{"$f":"S87","v":0},null,{"$f":"U87","v":0},null,{"$f":"W87","v":0},null,0,0,0,0,0,0,0,0,null,null,null,null,null,"Fall 2019","42",2020,"Amicus","Spot",0.9,"Animals & Nature","Spanish","Reinforced Library",16,null,null,"PreK - 3","599.757--dc23","Mary Ellen Klukow"]
["NEW",9781645492399,null,9781645492337,null,"Las anguilas (Eels)",null,null,null,"Animales del océano (Spot Ocean Animals)",null,null,null,27.1,18.95,37.799999999999997,23.95,null,{"$f":"S87","v":0},null,{"$f":"U87","v":0},null,{"$f":"W87","v":0},null,0,0,0,0,0,0,0,0,null,null,null,null,null,"Spring 2021","K",2021,"Amicus","Spot",null,"Life Science","Spanish","Reinforced Library",16,"C",null,"K & Up","597/.43","Mari Schuh"]
["NEW",9781645492405,null,9781645492344,null,"Las langostas (Lobsters)",null,null,null,"Animales del océano (Spot Ocean Animals)",null,null,null,27.1,18.95,37.799999999999997,23.95,null,{"$f":"S87","v":0},null,{"$f":"U87","v":0},null,{"$f":"W87","v":0},null,0,0,0,0,0,0,0,0,null,null,null,null,null,"Spring 2021","K",2021,"Amicus","Spot",null,"Life Science","Spanish","Reinforced Library",16,"C",null,"K & Up","595.3/84","Mari Schuh"]
["NEW",9781645492436,null,9781645492375,null,"Los calamares (Squids)",null,null,null,"Animales del océano (Spot Ocean Animals)",null,null,null,27.1,18.95,37.799999999999997,23.95,null,{"$f":"S87","v":0},null,{"$f":"U87","v":0},null,{"$f":"W87","v":0},null,0,0,0,0,0,0,0,0,null,null,null,null,null,"Spring 2021","K",2021,"Amicus","Spot",null,"Life Science","Spanish","Reinforced Library",16,"C",null,"K & Up","594/.58","Mari Schuh"]
["NEW",9781645492382,null,9781645492320,null,"Los corales (Corals)",null,null,null,"Animales del océano (Spot Ocean Animals)",null,null,null,27.1,18.95,37.799999999999997,23.95,null,{"$f":"S87","v":0},null,{"$f":"U87","v":0},null,{"$f":"W87","v":0},null,0,0,0,0,0,0,0,0,null,null,null,null,null,"Spring 2021","K",2021,"Amicus","Spot",null,"Life Science","Spanish","Reinforced Library",16,"C",null,"K & Up",593.6,"Mari Schuh"]
["NEW",9781645492429,null,9781645492368,null,"Los dragones de mar (Sea Dragons)",null,null,null,"Animales del océano (Spot Ocean Animals)",null,null,null,27.1,18.95,37.799999999999997,23.95,null,{"$f":"S87","v":0},null,{"$f":"U87","v":0},null,{"$f":"W87","v":0},null,0,0,0,0,0,0,0,0,null,null,null,null,null,"Spring 2021","K",2021,"Amicus","Spot",null,"Life Science","Spanish","Reinforced Library",16,"C",null,"K & Up","597/.679","Mari Schuh"]
["NEW",9781645492412,null,9781645492351,null,"Los manatíes (Manatees)",null,null,null,"Animales del océano (Spot Ocean Animals)",null,null,null,27.1,18.95,37.799999999999997,23.95,null,{"$f":"S87","v":0},null,{"$f":"U87","v":0},null,{"$f":"W87","v":0},null,0,0,0,0,0,0,0,0,null,null,null,null,null,"Spring 2021","K",2021,"Amicus","Spot",null,"Life Science","Spanish","Reinforced Library",16,"C",null,"K & Up",599.54999999999995,"Mari Schuh"]
[null,"Not Available",null,9781681512747,null,"El búho (Owls)",null,null,null,"Animales del patio (Spot Backyard Animals)",null,null,null,27.1,18.95,0,0,null,{"$f":"S87","v":0},null,null,null,null,null,{"$f":"S102","v":0},{"$f":"U102","v":0},{"$f":"W102*2","v":0},{"$f":"Y102+Z102+AA102","v":0},{"$f":"S102*O102","v":0},{"$f":"U102*P102","v":0},{"$f":"W102*Q102","v":0},{"$f":"IF(AH102=FALSE,AC102+AD102+AE102,0)","v":0},null,null,null,null,null,"Fall 2017","43",2018,"Amicus","Spot",0.6,"Animals & Nature","Spanish","Reinforced Library",16,null,null,"PreK - 3","598.9/7","Wendy Strobel Dieker"]
[null,"Not Available",null,9781681512723,null,"El geco (Geckos)",null,null,null,"Animales del patio (Spot Backyard Animals)",null,null,null,27.1,18.95,0,0,null,{"$f":"S87","v":0},null,null,null,null,null,0,0,0,0,0,0,0,0,null,null,null,null,null,"Fall 2017","43",2018,"Amicus","Spot",0.6,"Animals & Nature","Spanish","Reinforced Library",16,null,null,"PreK - 3","597.95/2","Rachel Bach"]
[null,"Not Available",null,9781681512754,null,"El mapache (Raccoons)",null,null,null,"Animales del patio (Spot Backyard Animals)",null,null,null,27.1,18.95,0,0,null,{"$f":"S87","v":0},null,null,null,null,null,0,0,0,0,0,0,0,0,null,null,null,null,null,"Fall 2017","43",2018,"Amicus","Spot",1.2,"Animals & Nature","Spanish","Reinforced Library",16,null,null,"PreK - 3","599.76/32","Marysa Storm"]
[null,"Not Available",null,9781681512709,null,"El murciélago (Bats)",null,null,null,"Animales del patio (Spot Backyard Animals)",null,null,null,27.1,18.95,0,0,null,{"$f":"S87","v":0},null,null,null,null,null,0,0,0,0,0,0,0,0,null,null,null,null,null,"Fall 2017","43",2018,"Amicus","Spot",1.5,"Animals & Nature","Spanish","Reinforced Library",16,null,null,"PreK - 3",599.4,"Wendy Strobel Dieker"]
[null,"Not Available",null,9781681512730,null,"El ratón (Mice)",null,null,null,"Animales del patio (Spot Backyard Animals)",null,null,null,27.1,18.95,0,0,null,{"$f":"S87","v":0},null,null,null,null,null,0,0,0,0,0,0,0,0,null,null,null,null,null,"Fall 2017","43",2018,"Amicus","Spot",1.1000000000000001,"Animals & Nature","Spanish","Reinforced Library",16,null,null,"PreK - 3",599.35,"Marysa Storm"]
[null,"Not Available",null,9781681512761,null,"El zorrillo (Skunks)",null,null,null,"Animales del patio (Spot Backyard Animals)",null,null,null,27.1,18.95,0,0,null,{"$f":"S87","v":0},null,null,null,null,null,0,0,0,0,0,0,0,0,null,null,null,null,null,"Fall 2017","43",2018,"Amicus","Spot",1.6,"Animals & Nature","Spanish","Reinforced Library",16,null,null,"PreK - 3","599.76/8","Wendy Strobel Dieker"]
[null,"Not Available",null,9781681512778,null,"La ardilla (Squirrels)",null,null,null,"Animales del patio (Spot Backyard Animals)",null,null,null,27.1,18.95,0,0,null,{"$f":"S87","v":0},null,null,null,null,null,0,0,0,0,0,0,0,0,null,null,null,null,null,"Fall 2017","43",2018,"Amicus","Spot",0.9,"Animals & Nature","Spanish","Reinforced Library",16,null,null,"PreK - 3",599.36,"Wendy Strobel Dieker"]
[null,"Not Available",null,9781681512716,null,"La rana (Frogs)",null,null,null,"Animales del patio (Spot Backyard Animals)",null,null,null,27.1,18.95,0,0,null,{"$f":"S87","v":0},null,null,null,null,null,0,0,0,0,0,0,0,0,null,null,null,null,null,"Fall 2017","43",2018,"Amicus","Spot",0.7,"Animals & Nature","Spanish","Reinforced Library",16,null,null,"PreK - 3","597.8/9","Marysa Storm"]
["NEW",9781645492221,null,9781645491965,null,"Las inundaciones (Floods)",null,null,null,"Clima extremo (Spot Extreme Weather)",null,null,null,27.1,18.95,37.799999999999997,23.95,null,{"$f":"S87","v":0},null,{"$f":"U87","v":0},null,{"$f":"W87","v":0},null,0,0,0,0,0,0,0,0,null,null,null,null,null,"Spring 2021","K",2021,"Amicus","Spot",null,"Science","Spanish","Reinforced Library",16,"D",null,"K & Up","551.48/9","Anastasia Suen"]
["NEW",9781645492207,null,9781645491941,null,"Las ventiscas (Blizzards)",null,null,null,"Clima extremo (Spot Extreme Weather)",null,null,null,27.1,18.95,37.799999999999997,23.95,null,{"$f":"S87","v":0},null,{"$f":"U87","v":0},null,{"$f":"W87","v":0},null,0,0,0,0,0,0,0,0,null,null,null,null,null,"Spring 2021","K",2021,"Amicus","Spot",null,"Science","Spanish","Reinforced Library",16,"D",null,"K & Up","551.55/5","Anastasia Suen"]
["NEW",9781645492238,null,9781645491972,null,"Los huracanes (Hurricanes)",null,null,null,"Clima extremo (Spot Extreme Weather)",null,null,null,27.1,18.95,37.799999999999997,23.95,null,{"$f":"S87","v":0},null,{"$f":"U87","v":0},null,{"$f":"W87","v":0},null,0,0,0,0,0,0,0,0,null,null,null,null,null,"Spring 2021","K",2021,"Amicus","Spot",null,"Science","Spanish","Reinforced Library",16,"D",null,"K & Up","551.55/2","Anastasia Suen"]
["NEW",9781645492252,null,9781645491996,null,"Los incendios forestales (Forest Fires)",null,null,null,"Clima extremo (Spot Extreme Weather)",null,null,null,27.1,18.95,37.799999999999997,23.95,null,{"$f":"S87","v":0},null,{"$f":"U87","v":0},null,{"$f":"W87","v":0},null,0,0,0,0,0,0,0,0,null,null,null,null,null,"Spring 2021","K",2021,"Amicus","Spot",null,"Science","Spanish","Reinforced Library",16,"D",null,"K & Up","634.9/618","Anastasia Suen"]
["NEW",9781645492214,null,9781645491958,null,"Los terremotos (Earthquakes)",null,null,null,"Clima extremo (Spot Extreme Weather)",null,null,null,27.1,18.95,37.799999999999997,23.95,null,{"$f":"S87","v":0},null,{"$f":"U87","v":0},null,{"$f":"W87","v":0},null,0,0,0,0,0,0,0,0,null,null,null,null,null,"Spring 2021","K",2021,"Amicus","Spot",null,"Science","Spanish","Reinforced Library",16,"D",null,"K & Up",551.22,"Anastasia Suen"]
["NEW",9781645492245,null,9781645491989,null,"Los tornados (Tornadoes)",null,null,null,"Clima extremo (Spot Extreme Weather)",null,null,null,27.1,18.95,37.799999999999997,23.95,null,{"$f":"S87","v":0},null,{"$f":"U87","v":0},null,{"$f":"W87","v":0},null,0,0,0,0,0,0,0,0,null,null,null,null,null,"Spring 2021","K",2021,"Amicus","Spot",null,"Science","Spanish","Reinforced Library",16,"D",null,"K & Up","551.55/3","Anastasia Suen"]
["NEW",9781645492191,null,9781645491934,null,"Atletismo (Track & Field)",null,null,null,"Deportes (Spot Sports)",null,null,null,27.1,18.95,37.799999999999997,23.95,null,{"$f":"S87","v":0},null,{"$f":"U87","v":0},null,{"$f":"W87","v":0},null,0,0,0,0,0,0,0,0,null,null,null,null,null,"Spring 2021","K",2021,"Amicus","Spot",null,"Sports and Recreation","Spanish","Reinforced Library",16,null,null,"K & Up","796.42","Mari Schuh"]
["NEW",9781645492122,null,9781645491866,null,"Boliche (Bowling)",null,null,null,"Deportes (Spot Sports)",null,null,null,27.1,18.95,37.799999999999997,23.95,null,{"$f":"S87","v":0},null,{"$f":"U87","v":0},null,{"$f":"W87","v":0},null,0,0,0,0,0,0,0,0,null,null,null,null,null,"Spring 2021","K",2021,"Amicus","Spot",null,"Sports and Recreation","Spanish","Reinforced Library",16,null,null,"K & Up","794.6","Mari Schuh"]
["NEW",9781645492146,null,9781645491880,null,"Esquí alpino (Downhill Skiing)",null,null,null,"Deportes (Spot Sports)",null,null,null,27.1,18.95,37.799999999999997,23.95,null,{"$f":"S87","v":0},null,{"$f":"U87","v":0},null,{"$f":"W87","v":0},null,0,0,0,0,0,0,0,0,null,null,null,null,null,"Spring 2021","K",2021,"Amicus","Spot",null,"Sports and Recreation","Spanish","Reinforced Library",16,null,null,"K & Up","796.93","Mari Schuh"]
["NEW",9781645492153,null,9781645491897,null,"Lacrosse (Lacrosse)",null,null,null,"Deportes (Spot Sports)",null,null,null,27.1,18.95,37.799999999999997,23.95,null,{"$f":"S87","v":0},null,{"$f":"U87","v":0},null,{"$f":"W87","v":0},null,0,0,0,0,0,0,0,0,null,null,null,null,null,"Spring 2021","K",2021,"Amicus","Spot",null,"Sports and Recreation","Spanish","Reinforced Library",16,null,null,"K & Up","796.36/2","Mari Schuh"]
["NEW",9781645492160,null,9781645491903,null,"Patineta (Skateboarding)",null,null,null,"Deportes (Spot Sports)",null,null,null,27.1,18.95,37.799999999999997,23.95,null,{"$f":"S87","v":0},null,{"$f":"U87","v":0},null,{"$f":"W87","v":0},null,0,0,0,0,0,0,0,0,null,null,null,null,null,"Spring 2021","K",2021,"Amicus","Spot",null,"Sports and Recreation","Spanish","Reinforced Library",16,null,null,"K & Up","796.22","Mari Schuh"]
["NEW",9781645492139,null,9781645491873,null,"Porrismo (Cheerleading)",null,null,null,"Deportes (Spot Sports)",null,null,null,27.1,18.95,37.799999999999997,23.95,null,{"$f":"S87","v":0},null,{"$f":"U87","v":0},null,{"$f":"W87","v":0},null,0,0,0,0,0,0,0,0,null,null,null,null,null,"Spring 2021","K",2021,"Amicus","Spot",null,"Sports and Recreation","Spanish","Reinforced Library",16,null,null,"K & Up","791.6/4","Mari Schuh"]
["NEW",9781645492177,null,9781645491910,null,"Sofbol (Softball)",null,null,null,"Deportes (Spot Sports)",null,null,null,27.1,18.95,37.799999999999997,23.95,null,{"$f":"S87","v":0},null,{"$f":"U87","v":0},null,{"$f":"W87","v":0},null,0,0,0,0,0,0,0,0,null,null,null,null,null,"Spring 2021","K",2021,"Amicus","Spot",null,"Sports and Recreation","Spanish","Reinforced Library",16,null,null,"K & Up","796.357/8","Mari Schuh"]
["NEW",9781645492184,null,9781645491927,null,"Tenis (Tennis)",null,null,null,"Deportes (Spot Sports)",null,null,null,27.1,18.95,37.799999999999997,23.95,null,{"$f":"S87","v":0},null,{"$f":"U87","v":0},null,{"$f":"W87","v":0},null,0,0,0,0,0,0,0,0,null,null,null,null,null,"Spring 2021","K",2021,"Amicus","Spot",null,"Sports and Recreation","Spanish","Reinforced Library",16,null,null,"K & Up","796.342","Mari Schuh"]
[null,"Not Available",null,9781681516295,null,"El invierno (Winter)",null,null,null,"Estaciones (Spot Seasons)",null,null,null,27.1,18.95,0,0,null,{"$f":"S87","v":0},null,null,null,null,null,0,0,0,0,0,0,0,0,null,null,null,null,null,"Spring 2019","43",2019,"Amicus","Spot",1.2,"Animals & Nature","Spanish","Reinforced Library",16,null,"240L","PreK - 3",508.2,"Mari Schuh"]
[null,"Not Available",null,9781681516288,null,"El otoño (Autumn)",null,null,null,"Estaciones (Spot Seasons)",null,null,null,27.1,18.95,0,0,null,{"$f":"S87","v":0},null,null,null,null,null,0,0,0,0,0,0,0,0,null,null,null,null,null,"Spring 2019","43",2019,"Amicus","Spot",1.5,"Animals & Nature","Spanish","Reinforced Library",16,null,"200L","PreK - 3",508.2,"Mari Schuh"]
[null,"Not Available",null,9781681516271,null,"El verano (Summer)",null,null,null,"Estaciones (Spot Seasons)",null,null,null,27.1,18.95,0,0,null,{"$f":"S87","v":0},null,null,null,null,null,0,0,0,0,0,0,0,0,null,null,null,null,null,"Spring 2019","43",2019,"Amicus","Spot",1.3,"Animals & Nature","Spanish","Reinforced Library",16,null,"200L","PreK - 3",508.2,"Mari Schuh"]
[null,"Not Available",null,9781681516264,null,"La primavera (Spring)",null,null,null,"Estaciones (Spot Seasons)",null,null,null,27.1,18.95,0,0,null,{"$f":"S87","v":0},null,null,null,null,null,0,0,0,0,0,0,0,0,null,null,null,null,null,"Spring 2019","43",2019,"Amicus","Spot",1.1000000000000001,"Animals & Nature","Spanish","Reinforced Library",16,null,"160L","PreK - 3",508.2,"Mari Schuh"]
["NEW",9781645492061,null,9781645491804,null,"Los gatos monteses (Wild Cats)",null,null,null,"Los gatos salvajes (Spot Wild Cats)",null,null,null,27.1,18.95,37.799999999999997,{"$f":"O128+5","v":23.95},null,{"$f":"S87","v":0},null,{"$f":"U87","v":0},null,{"$f":"W87","v":0},null,{"$f":"S128","v":0},{"$f":"U128","v":0},{"$f":"W128*2","v":0},{"$f":"Y128+Z128+AA128","v":0},{"$f":"S128*O128","v":0},{"$f":"U128*P128","v":0},{"$f":"W128*Q128","v":0},{"$f":"IF(AH128=FALSE,AC128+AD128+AE128,0)","v":0},null,null,null,null,null,"Spring 2021","K",2021,"Amicus","Spot",null,"Life Science","Spanish","Reinforced Library",16,null,null,"K & Up","599.75/36","Alissa Thielges"]
["NEW",9781645492085,null,9781645491828,null,"Los jaguares (Jaguars)",null,null,null,"Los gatos salvajes (Spot Wild Cats)",null,null,null,27.1,18.95,37.799999999999997,23.95,null,{"$f":"S87","v":0},null,{"$f":"U87","v":0},null,{"$f":"W87","v":0},null,0,0,0,0,0,0,0,0,null,null,null,null,null,"Spring 2021","K",2021,"Amicus","Spot",null,"Life Science","Spanish","Reinforced Library",16,null,null,"K & Up","599.75/5","Alissa Thielges"]
["NEW",9781645492092,null,9781645491835,null,"Los leopardos (Leopards)",null,null,null,"Los gatos salvajes (Spot Wild Cats)",null,null,null,27.1,18.95,37.799999999999997,23.95,null,{"$f":"S87","v":0},null,{"$f":"U87","v":0},null,{"$f":"W87","v":0},null,0,0,0,0,0,0,0,0,null,null,null,null,null,"Spring 2021","K",2021,"Amicus","Spot",null,"Life Science","Spanish","Reinforced Library",16,null,null,"K & Up","599.75","Alissa Thielges"]
["NEW",9781645492108,null,9781645491842,null,"Los linces (Lynx)",null,null,null,"Los gatos salvajes (Spot Wild Cats)",null,null,null,27.1,18.95,37.799999999999997,23.95,null,{"$f":"S87","v":0},null,{"$f":"U87","v":0},null,{"$f":"W87","v":0},null,0,0,0,0,0,0,0,0,null,null,null,null,null,"Spring 2021","K",2021,"Amicus","Spot",null,"Life Science","Spanish","Reinforced Library",16,null,null,"K & Up","599.75/3","Alissa Thielges"]
["NEW",9781645492078,null,9781645491811,null,"Los pumas (Pumas)",null,null,null,"Los gatos salvajes (Spot Wild Cats)",null,null,null,27.1,18.95,37.799999999999997,23.95,null,{"$f":"S87","v":0},null,{"$f":"U87","v":0},null,{"$f":"W87","v":0},null,0,0,0,0,0,0,0,0,null,null,null,null,null,"Spring 2021","K",2021,"Amicus","Spot",null,"Life Science","Spanish","Reinforced Library",16,null,null,"K & Up","599.75/24","Alissa Thielges"]
["NEW",9781645492115,null,9781645491859,null,"Los tigres (Tigers)",null,null,null,"Los gatos salvajes (Spot Wild Cats)",null,null,null,27.1,18.95,37.799999999999997,23.95,null,{"$f":"S87","v":0},null,{"$f":"U87","v":0},null,{"$f":"W87","v":0},null,0,0,0,0,0,0,0,0,null,null,null,null,null,"Spring 2021","K",2021,"Amicus","Spot",null,"Life Science","Spanish","Reinforced Library",16,null,null,"K & Up","599.756","Alissa Thielges"]
[null,"Not Available",null,9781681516073,null,"Las camionetas (Trucks)",null,null,null,"Máquinas poderosas (Spot Mighty Machines)",null,null,null,27.1,18.95,0,0,null,{"$f":"S87","v":0},null,null,null,null,null,0,0,0,0,0,0,0,0,null,null,null,null,null,"Fall 2018","42",2019,"Amicus","Spot",2,"Science & Technology","Spanish","Reinforced Library",16,null,null,"PreK - 3","629.223/2","Wendy Strobel Dieker"]
[null,"Not Available",null,9781681512693,null,"Las cargadoras (Loaders)",null,null,null,"Máquinas poderosas (Spot Mighty Machines)",null,null,null,27.1,18.95,0,0,null,{"$f":"S87","v":0},null,null,null,null,null,0,0,0,0,0,0,0,0,null,null,null,null,null,"Fall 2017","42",2018,"Amicus","Spot",1.2,"Science & Technology","Spanish","Reinforced Library",16,null,"240L","PreK - 3","621.8/6","Mari Schuh"]
[null,"Not Available",null,9781681512679,null,"Las excavadoras (Diggers)",null,null,null,"Máquinas poderosas (Spot Mighty Machines)",null,null,null,27.1,18.95,0,0,null,{"$f":"S87","v":0},null,null,null,null,null,0,0,0,0,0,0,0,0,null,null,null,null,null,"Fall 2017","42",2018,"Amicus","Spot",1.3,"Science & Technology","Spanish","Reinforced Library",16,null,"290L","PreK - 3","621.8/65","Mari Schuh"]
[null,"Not Available",null,9781681512662,null,"Las grúas (Cranes)",null,null,null,"Máquinas poderosas (Spot Mighty Machines)",null,null,null,27.1,18.95,0,0,null,{"$f":"S87","v":0},null,null,null,null,null,0,0,0,0,0,0,0,0,null,null,null,null,null,"Fall 2017","42",2018,"Amicus","Spot",0.8,"Science & Technology","Spanish","Reinforced Library",16,null,"250L","PreK - 3","621.8/73","Mari Schuh"]
[null,"Not Available",null,9781681512655,null,"Las mezcladoras de concreto (Concrete Mixers)",null,null,null,"Máquinas poderosas (Spot Mighty Machines)",null,null,null,27.1,18.95,0,0,null,{"$f":"S87","v":0},null,null,null,null,null,0,0,0,0,0,0,0,0,null,null,null,null,null,"Fall 2017","42",2018,"Amicus","Spot",1.2,"Science & Technology","Spanish","Reinforced Library",16,null,"240L","PreK - 3",629.22500000000002,"Mari Schuh"]
[null,9781681519111,null,9781681518855,null,"Las motocicletas (Motorcycles)",null,null,null,"Máquinas poderosas (Spot Mighty Machines)",null,null,null,27.1,18.95,37.799999999999997,{"$f":"O139+5","v":23.95},null,{"$f":"S87","v":0},null,{"$f":"U87","v":0},null,{"$f":"W87","v":0},null,0,0,0,0,0,0,0,0,null,null,null,null,null,"Fall 2019","42",2020,"Amicus","Spot",1.9,"Science & Technology","Spanish","Reinforced Library",16,null,null,"PreK - 3","629.227/5--dc23","Wendy Strobel Dieker"]
[null,"Not Available",null,9781681512648,null,"Las topadoras (Bulldozers)",null,null,null,"Máquinas poderosas (Spot Mighty Machines)",null,null,null,27.1,18.95,0,0,null,{"$f":"S87","v":0},null,null,null,null,null,0,0,0,0,0,0,0,0,null,null,null,null,null,"Fall 2017","42",2018,"Amicus","Spot",1.1000000000000001,"Science & Technology","Spanish","Reinforced Library",16,null,"260L","PreK - 3",629.22500000000002,"Mari Schuh"]
[null,9781681519098,null,9781681518831,null,"Los aviones (Airplanes)",null,null,null,"Máquinas poderosas (Spot Mighty Machines)",null,null,null,27.1,18.95,37.799999999999997,{"$f":"O141+5","v":23.95},null,{"$f":"S87","v":0},null,{"$f":"U87","v":0},null,{"$f":"W87","v":0},null,0,0,0,0,0,0,0,0,null,null,null,null,null,"Fall 2019","42",2020,"Amicus","Spot",1.3,"Science & Technology","Spanish","Reinforced Library",16,null,null,"PreK - 3","629.133/34--dc23","Wendy Strobel Dieker"]
[null,"Not Available",null,9781681516080,null,"Los camiones cisterna (Tanker Trucks)",null,null,null,"Máquinas poderosas (Spot Mighty Machines)",null,null,null,27.1,18.95,0,0,null,{"$f":"S87","v":0},null,null,null,null,null,0,0,0,0,0,0,0,0,null,null,null,null,null,"Fall 2018","42",2019,"Amicus","Spot",1.4,"Science & Technology","Spanish","Reinforced Library",16,null,null,"PreK - 3",629.22400000000005,"Wendy Strobel Dieker"]
[null,"Not Available",null,9781681516066,null,"Los camiones de basura (Garbage Trucks)",null,null,null,"Máquinas poderosas (Spot Mighty Machines)",null,null,null,27.1,18.95,0,0,null,{"$f":"S87","v":0},null,null,null,null,null,0,0,0,0,0,0,0,0,null,null,null,null,null,"Fall 2018","42",2019,"Amicus","Spot",0.9,"Science & Technology","Spanish","Reinforced Library",16,null,null,"PreK - 3","628.4/42","Wendy Strobel Dieker"]
[null,"Not Available",null,9781681516059,null,"Los camiones de bomberos (Fire Trucks)",null,null,null,"Máquinas poderosas (Spot Mighty Machines)",null,null,null,27.1,18.95,0,0,null,{"$f":"S87","v":0},null,null,null,null,null,0,0,0,0,0,0,0,0,null,null,null,null,null,"Fall 2018","42",2019,"Amicus","Spot",1.5,"Science & Technology","Spanish","Reinforced Library",16,null,null,"PreK - 3","628.9/259","Wendy Strobel Dieker"]
[null,"Not Available",null,9781681516097,null,"Los camiones de remolque (Tow Trucks)",null,null,null,"Máquinas poderosas (Spot Mighty Machines)",null,null,null,27.1,18.95,0,0,null,{"$f":"S87","v":0},null,null,null,null,null,0,0,0,0,0,0,0,0,null,null,null,null,null,"Fall 2018","42",2019,"Amicus","Spot",1.6,"Science & Technology","Spanish","Reinforced Library",16,null,null,"PreK - 3",629.22500000000002,"Wendy Strobel Dieker"]
[null,"Not Available",null,9781681516042,null,"Los camiones grandes (Big Rigs)",null,null,null,"Máquinas poderosas (Spot Mighty Machines)",null,null,null,27.1,18.95,0,0,null,{"$f":"S87","v":0},null,null,null,null,null,0,0,0,0,0,0,0,0,null,null,null,null,null,"Fall 2018","42",2019,"Amicus","Spot",0.9,"Science & Technology","Spanish","Reinforced Library",16,null,null,"PreK - 3",629.22400000000005,"Wendy Strobel Dieker"]
[null,"Not Available",null,9781681512686,null,"Los camiones volquetes (Dump Trucks)",null,null,null,"Máquinas poderosas (Spot Mighty Machines)",null,null,null,27.1,18.95,0,0,null,{"$f":"S87","v":0},null,null,null,null,null,0,0,0,0,0,0,0,0,null,null,null,null,null,"Fall 2019","42",2020,"Amicus","Spot",1.1000000000000001,"Science & Technology","Spanish","Reinforced Library",16,null,null,"PreK - 3","625.1--dc23","Wendy Strobel Dieker"]
[null,9781681519128,null,9781681518862,null,"Los coches de carreras (Race Cars)",null,null,null,"Máquinas poderosas (Spot Mighty Machines)",null,null,null,27.1,18.95,37.799999999999997,{"$f":"O148+5","v":23.95},null,{"$f":"S87","v":0},null,{"$f":"U87","v":0},null,{"$f":"W87","v":0},null,0,0,0,0,0,0,0,0,null,null,null,null,null,"Fall 2019","42",2020,"Amicus","Spot",1.2,"Science & Technology","Spanish","Reinforced Library",16,null,null,"PreK - 3","629.228/5--dc23","Wendy Strobel Dieker"]
[null,9781681519104,null,9781681518848,null,"Los helicópteros (Helicopters)",null,null,null,"Máquinas poderosas (Spot Mighty Machines)",null,null,null,27.1,18.95,37.799999999999997,{"$f":"O149+5","v":23.95},null,{"$f":"S87","v":0},null,{"$f":"U87","v":0},null,{"$f":"W87","v":0},null,0,0,0,0,0,0,0,0,null,null,null,null,null,"Fall 2019","42",2020,"Amicus","Spot",1.3,"Science & Technology","Spanish","Reinforced Library",16,null,null,"PreK - 3","629.133/352--dc23","Wendy Strobel Dieker"]
[null,9781681519135,null,9781681518879,null,"Los tanques (Tanks)",null,null,null,"Máquinas poderosas (Spot Mighty Machines)",null,null,null,27.1,18.95,37.799999999999997,{"$f":"O150+5","v":23.95},null,{"$f":"S87","v":0},null,{"$f":"U87","v":0},null,{"$f":"W87","v":0},null,0,0,0,0,0,0,0,0,null,null,null,null,null,"Fall 2019","42",2020,"Amicus","Spot",1.3,"Science & Technology","Spanish","Reinforced Library",16,null,null,"PreK - 3","623.74/752--dc23","Wendy Strobel Dieker"]
[null,9781681519142,null,9781681518886,null,"Los trenes (Trains)",null,null,null,"Máquinas poderosas (Spot Mighty Machines)",null,null,null,27.1,18.95,37.799999999999997,{"$f":"O151+5","v":23.95},null,{"$f":"S87","v":0},null,{"$f":"U87","v":0},null,{"$f":"W87","v":0},null,0,0,0,0,0,0,0,0,null,null,null,null,null,"Fall 2019","42",2020,"Amicus","Spot",1.1000000000000001,"Science & Technology","Spanish","Reinforced Library",16,null,null,"PreK - 3","625.1--dc23","Wendy Strobel Dieker"]
[]
[null,null,null,null,null,"Complete Series of 6",null,null,null,"Ecosystem Food Webs",null,null,null,{"$f":"SUM(N154:N159)","v":179.7},{"$f":"SUM(O154:O159)","v":125.7},{"$f":"SUM(P154:P159)","v":256.8},{"$f":"SUM(Q154:Q159)","v":155.69999999999999},null,null,null,null,null,null,null,null,null,null,null,null,null,null,null,null,null,null,null,null,null,null,null,"Amicus"]
["NEW",9781645490807,null,9781645490005,null,"A Desert Food Web",null,null,null,"Ecosystem Food Webs",null,null,null,29.95,20.95,42.8,{"$f":"O154+5","v":25.95},null,{"$f":"S153","v":0},null,{"$f":"U153","v":0},null,{"$f":"W153","v":0},null,{"$f":"S154","v":0},{"$f":"U154","v":0},{"$f":"W154*2","v":0},{"$f":"Y154+Z154+AA154","v":0},{"$f":"S154*O154","v":0},{"$f":"U154*P154","v":0},{"$f":"W154*Q154","v":0},{"$f":"IF(AH154=FALSE,AC154+AD154+AE154,0)","v":0},null,null,null,null,null,"Spring 2021","J",2021,"Amicus","Amicus Illustrated",null,"Life Science","English","Reinforced Library",24,"L","570L","Grade 2 & up",577.54097300000001,"Cari Meister"]
["NEW",9781645490814,null,9781645490012,null,"A Freshwater Food Web",null,null,null,"Ecosystem Food Webs",null,null,null,29.95,20.95,42.8,{"$f":"O155+5","v":25.95},null,{"$f":"S153","v":0},null,{"$f":"U153","v":0},null,{"$f":"W153","v":0},null,0,0,0,0,0,0,0,0,null,null,null,null,null,"Spring 2021","J",2021,"Amicus","Amicus Illustrated",null,"Life Science","English","Reinforced Library",24,"L","500L","Grade 2 & up",577.68097299999999,"Cari Meister"]
["NEW",9781645490821,null,9781645490029,null,"A Grassland Food Web",null,null,null,"Ecosystem Food Webs",null,null,null,29.95,20.95,42.8,25.95,null,{"$f":"S153","v":0},null,{"$f":"U153","v":0},null,{"$f":"W153","v":0},null,0,0,0,0,0,0,0,0,null,null,null,null,null,"Spring 2021","J",2021,"Amicus","Amicus Illustrated",null,"Life Science","English","Reinforced Library",24,"L","530L","Grade 2 & up",577.4,"Cari Meister"]
["NEW",9781645490838,null,9781645490036,null,"A Rainforest Food Web",null,null,null,"Ecosystem Food Webs",null,null,null,29.95,20.95,42.8,25.95,null,{"$f":"S153","v":0},null,{"$f":"U153","v":0},null,{"$f":"W153","v":0},null,0,0,0,0,0,0,0,0,null,null,null,null,null,"Spring 2021","J",2021,"Amicus","Amicus Illustrated",null,"Life Science","English","Reinforced Library",24,"L","530L","Grade 2 & up","577.340981/1","Cari Meister"]
["NEW",9781645490845,null,9781645490043,null,"An Arctic Food Web",null,null,null,"Ecosystem Food Webs",null,null,null,29.95,20.95,42.8,25.95,null,{"$f":"S153","v":0},null,{"$f":"U153","v":0},null,{"$f":"W153","v":0},null,0,0,0,0,0,0,0,0,null,null,null,null,null,"Spring 2021","J",2021,"Amicus","Amicus Illustrated",null,"Life Science","English","Reinforced Library",24,"L","540L","Grade 2 & up","577.5/8609113","Imogen Kingsley"]
["NEW",9781645490852,null,9781645490050,null,"An Ocean Food Web",null,null,null,"Ecosystem Food Webs",null,null,null,29.95,20.95,42.8,25.95,null,{"$f":"S153","v":0},null,{"$f":"U153","v":0},null,{"$f":"W153","v":0},null,0,0,0,0,0,0,0,0,null,null,null,null,null,"Spring 2021","J",2021,"Amicus","Amicus Illustrated",null,"Life Science","English","Reinforced Library",24,"L","510L","Grade 2 & up",577.70000000000005,"Cari Meister"]
[]
[null,null,null,null,null,"Complete Series of 16",null,null,null,"Making Good Choices",null,null,null,{"$f":"SUM(N162:N177)","v":479.19999999999987},{"$f":"SUM(O162:O177)","v":335.19999999999993},684.79999999999984,415.19999999999987,null,null,null,null,null,null,null,null,null,null,null,null,null,null,null,null,null,null,null,null,null,null,null,"Amicus"]
["NEW",9781645490708,null,9781681519852,null,"You Can Be Helpful: Step Aside or Pitch In?",null,null,null,"Making Good Choices",null,null,null,29.95,20.95,42.8,{"$f":"O162+5","v":25.95},null,{"$f":"S161","v":0},null,{"$f":"U161","v":0},null,{"$f":"W161","v":0},null,{"$f":"S162","v":0},{"$f":"U162","v":0},{"$f":"W162*2","v":0},{"$f":"Y162+Z162+AA162","v":0},{"$f":"S162*O162","v":0},{"$f":"U162*P162","v":0},{"$f":"W162*Q162","v":0},{"$f":"IF(AH162=FALSE,AC162+AD162+AE162,0)","v":0},null,null,null,null,null,"Spring 2021","H",2021,"Amicus","Amicus Illustrated",null,"Social and Emotional Health","English","Reinforced Library",24,"K","530L","Grade 2 & up","179/.9","Connie Colwell Miller"]
["NEW",9781645490715,null,9781681519869,null,"You Can Be Polite: Be Rude or Use Tact?",null,null,null,"Making Good Choices",null,null,null,29.95,20.95,42.8,25.95,null,{"$f":"S161","v":0},null,{"$f":"U161","v":0},null,{"$f":"W161","v":0},null,0,0,0,0,0,0,0,0,null,null,null,null,null,"Spring 2021","H",2021,"Amicus","Amicus Illustrated",null,"Social and Emotional Health","English","Reinforced Library",24,"K","520L","Grade 2 & up","395.1/22","Connie Colwell Miller"]
[null,9781681517704,null,9781681516882,null,"You Can Be Responsible: Do it Now or Put it Off?",null,null,null,"Making Good Choices",null,null,null,29.95,20.95,42.8,25.95,null,{"$f":"S161","v":0},null,{"$f":"U161","v":0},null,{"$f":"W161","v":0},null,0,0,0,0,0,0,0,0,null,null,null,null,null,"Fall 2019","31",2020,"Amicus","Amicus Illustrated","Not Quizzable","High Interest","English","Reinforced Library",24,"K","510L","K - 3",179.9,"Connie Colwell Miller"]
[null,9781681512570,null,9781681511672,null,"You Can Control Your Voice: Loud or Quiet?",null,null,null,"Making Good Choices",null,null,null,29.95,20.95,42.8,25.95,null,{"$f":"S161","v":0},null,{"$f":"U161","v":0},null,{"$f":"W161","v":0},null,0,0,0,0,0,0,0,0,null,null,null,null,null,"Fall 2017","31",2018,"Amicus","Amicus Illustrated","Not Quizzable","High Interest","English","Reinforced Library",24,"K","500L","K - 3","395.5/3","Connie Colwell Miller"]
[null,9781681517711,null,9781681516899,null,"You Can Encourage Others: Tease or Inspire?",null,null,null,"Making Good Choices",null,null,null,29.95,20.95,42.8,25.95,null,{"$f":"S161","v":0},null,{"$f":"U161","v":0},null,{"$f":"W161","v":0},null,0,0,0,0,0,0,0,0,null,null,null,null,null,"Fall 2019","31",2020,"Amicus","Amicus Illustrated","Not Quizzable","High Interest","English","Reinforced Library",24,"K","490L","K - 3",158.30000000000001,"Connie Colwell Miller"]
[null,9781681517728,null,9781681516905,null,"You Can Follow Rules: Cheat or Play Fair?",null,null,null,"Making Good Choices",null,null,null,29.95,20.95,42.8,25.95,null,{"$f":"S161","v":0},null,{"$f":"U161","v":0},null,{"$f":"W161","v":0},null,0,0,0,0,0,0,0,0,null,null,null,null,null,"Fall 2019","31",2020,"Amicus","Amicus Illustrated","Not Quizzable","High Interest","English","Reinforced Library",24,"K","490L","K - 3",796.01,"Connie Colwell Miller"]
[null,9781681512525,null,9781681511627,null,"You Can Handle Conflict: Hands or Words?",null,null,null,"Making Good Choices",null,null,null,29.95,20.95,42.8,25.95,null,{"$f":"S161","v":0},null,{"$f":"U161","v":0},null,{"$f":"W161","v":0},null,0,0,0,0,0,0,0,0,null,null,null,null,null,"Fall 2017","31",2018,"Amicus","Amicus Illustrated","Not Quizzable","High Interest","English","Reinforced Library",24,"K","500L","K - 3","155.4/192","Connie Colwell Miller"]
[null,9781681512563,null,9781681511665,null,"You Can Listen to Directions: Stop or Go?",null,null,null,"Making Good Choices",null,null,null,29.95,20.95,42.8,25.95,null,{"$f":"S161","v":0},null,{"$f":"U161","v":0},null,{"$f":"W161","v":0},null,0,0,0,0,0,0,0,0,null,null,null,null,null,"Fall 2017","31",2018,"Amicus","Amicus Illustrated","Not Quizzable","High Interest","English","Reinforced Library",24,"K","510L","K - 3","155.4/19","Connie Colwell Miller"]
[null,9781681517735,null,9781681516912,null,"You Can Make Changes: Ask or Ignore?",null,null,null,"Making Good Choices",null,null,null,29.95,20.95,42.8,25.95,null,{"$f":"S161","v":0},null,{"$f":"U161","v":0},null,{"$f":"W161","v":0},null,0,0,0,0,0,0,0,0,null,null,null,null,null,"Fall 2019","31",2020,"Amicus","Amicus Illustrated","Not Quizzable","High Interest","English","Reinforced Library",24,"K","590L","K - 3",320.08300000000003,"Connie Colwell Miller"]
["NEW",9781645490722,null,9781681519876,null,"You Can Persevere: Quit or Keep Going?",null,null,null,"Making Good Choices",null,null,null,29.95,20.95,42.8,25.95,null,{"$f":"S161","v":0},null,{"$f":"U161","v":0},null,{"$f":"W161","v":0},null,0,0,0,0,0,0,0,0,null,null,null,null,null,"Spring 2021","H",2021,"Amicus","Amicus Illustrated",null,"Social and Emotional Health","English","Reinforced Library",24,"K","580L","Grade 2 & up","179/.9","Connie Colwell Miller"]
[null,9781681517742,null,9781681516929,null,"You Can Respect Differences: Assume or Find Out?",null,null,null,"Making Good Choices",null,null,null,29.95,20.95,42.8,25.95,null,{"$f":"S161","v":0},null,{"$f":"U161","v":0},null,{"$f":"W161","v":0},null,0,0,0,0,0,0,0,0,null,null,null,null,null,"Fall 2019","31",2020,"Amicus","Amicus Illustrated","Not Quizzable","High Interest","English","Reinforced Library",24,"K","490L","K - 3",179.9,"Connie Colwell Miller"]
[null,9781681512556,null,9781681511658,null,"You Can Stay in Control: Wild or Calm?",null,null,null,"Making Good Choices",null,null,null,29.95,20.95,42.8,25.95,null,{"$f":"S161","v":0},null,{"$f":"U161","v":0},null,{"$f":"W161","v":0},null,0,0,0,0,0,0,0,0,null,null,null,null,null,"Fall 2017","31",2018,"Amicus","Amicus Illustrated","Not Quizzable","High Interest","English","Reinforced Library",24,"K","500L","K - 3","155.4/19","Connie Colwell Miller"]
[null,9781681517759,null,9781681516936,null,"You Can Stop Bullying: Stand By or Stand Up?",null,null,null,"Making Good Choices",null,null,null,29.95,20.95,42.8,25.95,null,{"$f":"S161","v":0},null,{"$f":"U161","v":0},null,{"$f":"W161","v":0},null,0,0,0,0,0,0,0,0,null,null,null,null,null,"Fall 2019","31",2020,"Amicus","Amicus Illustrated","Not Quizzable","High Interest","English","Reinforced Library",24,"K","510L","K - 3","302.34/3","Connie Colwell Miller"]
["NEW",9781645490739,null,9781681519883,null,"You Can Use Money Wisely: Spend or Save?",null,null,null,"Making Good Choices",null,null,null,29.95,20.95,42.8,25.95,null,{"$f":"S161","v":0},null,{"$f":"U161","v":0},null,{"$f":"W161","v":0},null,0,0,0,0,0,0,0,0,null,null,null,null,null,"Spring 2021","H",2021,"Amicus","Amicus Illustrated",null,"Social and Emotional Health","English","Reinforced Library",24,"K","520L","Grade 2 & up","332.4","Connie Colwell Miller"]
[null,9781681512549,null,9781681511641,null,"You're Angry: Throw a Fit or Talk it Out? ",null,null,null,"Making Good Choices",null,null,null,29.95,20.95,42.8,25.95,null,{"$f":"S161","v":0},null,{"$f":"U161","v":0},null,{"$f":"W161","v":0},null,0,0,0,0,0,0,0,0,null,null,null,null,null,"Fall 2017","31",2018,"Amicus","Amicus Illustrated","Not Quizzable","High Interest","English","Reinforced Library",24,"K","500L","K - 3","155.4/1247","Connie Colwell Miller"]
[null,9781681512532,null,9781681511634,null,"You're in Trouble: Fib or Truth?",null,null,null,"Making Good Choices",null,null,null,29.95,20.95,42.8,25.95,null,{"$f":"S161","v":0},null,{"$f":"U161","v":0},null,{"$f":"W161","v":0},null,0,0,0,0,0,0,0,0,null,null,null,null,null,"Fall 2017","31",2018,"Amicus","Amicus Illustrated","Not Quizzable","High Interest","English","Reinforced Library",24,"K","500L","K - 3","177/.3","Connie Colwell Miller"]
[]
[null,null,null,null,null,"Complete Series of 6",null,null,null,"Mi vida con… (My Life With…)",null,null,null,{"$f":"SUM(N180:N185)","v":179.7},{"$f":"SUM(O180:O185)","v":125.7},{"$f":"SUM(P180:P185)","v":256.8},{"$f":"SUM(Q180:Q185)","v":155.69999999999999},null,null,null,null,null,null,null,null,null,null,null,null,null,null,null,null,null,null,null,null,null,null,null,"Amicus"]
["NEW",9781645492290,null,9781645492030,null,"Mi vida con autismo (Autism)",null,null,null,"Mi vida con… (My Life With…)",null,null,null,29.95,20.95,42.8,{"$f":"O180+5","v":25.95},null,{"$f":"S179","v":0},null,{"$f":"U179","v":0},null,{"$f":"W179","v":0},null,{"$f":"S180","v":0},{"$f":"U180","v":0},{"$f":"W180*2","v":0},{"$f":"Y180+Z180+AA180","v":0},{"$f":"S180*O180","v":0},{"$f":"U180*P180","v":0},{"$f":"W180*Q180","v":0},{"$f":"IF(AH180=FALSE,AC180+AD180+AE180,0)","v":0},null,null,null,null,null,"Spring 2021","K",2021,"Amicus","Amicus Illustrated",null,"Social and Emotional Health","Spanish","Reinforced Library",24,null,null,"Grade 2 & up","618.92/85882","Mari Schuh"]
["NEW",9781645492269,null,9781645492009,null,"Mi vida con ceguera (Blindness)",null,null,null,"Mi vida con… (My Life With…)",null,null,null,29.95,20.95,42.8,25.95,null,{"$f":"S179","v":0},null,{"$f":"U179","v":0},null,{"$f":"W179","v":0},null,0,0,0,0,0,0,0,0,null,null,null,null,null,"Spring 2021","K",2021,"Amicus","Amicus Illustrated",null,"Social and Emotional Health","Spanish","Reinforced Library",24,null,null,"Grade 2 & up","362.4/1092","Mari Schuh"]
["NEW",9781645492313,null,9781645492054,null,"Mi vida con dislexia (Dyslexia)",null,null,null,"Mi vida con… (My Life With…)",null,null,null,29.95,20.95,42.8,25.95,null,{"$f":"S179","v":0},null,{"$f":"U179","v":0},null,{"$f":"W179","v":0},null,0,0,0,0,0,0,0,0,null,null,null,null,null,"Spring 2021","K",2021,"Amicus","Amicus Illustrated",null,"Social and Emotional Health","Spanish","Reinforced Library",24,null,null,"Grade 2 & up","618.92/8553","Mari Schuh"]
["NEW",9781645492306,null,9781645492047,null,"Mi vida con síndrome de Down (Down Syndrome)",null,null,null,"Mi vida con… (My Life With…)",null,null,null,29.95,20.95,42.8,25.95,null,{"$f":"S179","v":0},null,{"$f":"U179","v":0},null,{"$f":"W179","v":0},null,0,0,0,0,0,0,0,0,null,null,null,null,null,"Spring 2021","K",2021,"Amicus","Amicus Illustrated",null,"Social and Emotional Health","Spanish","Reinforced Library",24,null,null,"Grade 2 & up","616.85/88420092","Mari Schuh"]
["NEW",9781645492276,null,9781645492016,null,"Mi vida con sordera (Deafness)",null,null,null,"Mi vida con… (My Life With…)",null,null,null,29.95,20.95,42.8,25.95,null,{"$f":"S179","v":0},null,{"$f":"U179","v":0},null,{"$f":"W179","v":0},null,0,0,0,0,0,0,0,0,null,null,null,null,null,"Spring 2021","K",2021,"Amicus","Amicus Illustrated",null,"Social and Emotional Health","Spanish","Reinforced Library",24,null,null,"Grade 2 & up","362.4/2092","Mari Schuh"]
["NEW",9781645492283,null,9781645492023,null,"Mi vida con TDAH (ADHD)",null,null,null,"Mi vida con… (My Life With…)",null,null,null,29.95,20.95,42.8,25.95,null,{"$f":"S179","v":0},null,{"$f":"U179","v":0},null,{"$f":"W179","v":0},null,0,0,0,0,0,0,0,0,null,null,null,null,null,"Spring 2021","K",2021,"Amicus","Amicus Illustrated",null,"Social and Emotional Health","Spanish","Reinforced Library",24,null,null,"Grade 2 & up","618.92/8589","Mari Schuh"]
[]
[null,null,null,null,null,"Complete Series of 6",null,null,null,"My Life With . . .",null,null,null,{"$f":"SUM(N188:N193)","v":179.7},{"$f":"SUM(O188:O193)","v":125.7},{"$f":"SUM(P188:P193)","v":256.8},{"$f":"SUM(Q188:Q193)","v":155.69999999999999},null,null,null,null,null,null,null,null,null,null,null,null,null,null,null,null,null,null,null,null,null,null,null,"Amicus"]
["NEW",9781645490760,null,9781681519913,null,"My Life with ADHD",null,null,null,"My Life With . . .",null,null,null,29.95,20.95,42.8,{"$f":"O188+5","v":25.95},null,{"$f":"S187","v":0},null,{"$f":"U187","v":0},null,{"$f":"W187","v":0},null,{"$f":"S188","v":0},{"$f":"U188","v":0},{"$f":"W188*2","v":0},{"$f":"Y188+Z188+AA188","v":0},{"$f":"S188*O188","v":0},{"$f":"U188*P188","v":0},{"$f":"W188*Q188","v":0},{"$f":"IF(AH188=FALSE,AC188+AD188+AE188,0)","v":0},null,null,null,null,null,"Spring 2021","I",2021,"Amicus","Amicus Illustrated",null,"Social and Emotional Health","English","Reinforced Library",24,"K","540L","Grade 2 & up","618.92/8589","Mari Schuh"]
["NEW",9781645490777,null,9781681519920,null,"My Life with Autism",null,null,null,"My Life With . . .",null,null,null,29.95,20.95,42.8,25.95,null,{"$f":"S187","v":0},null,{"$f":"U187","v":0},null,{"$f":"W187","v":0},null,0,0,0,0,0,0,0,0,null,null,null,null,null,"Spring 2021","I",2021,"Amicus","Amicus Illustrated",null,"Social and Emotional Health","English","Reinforced Library",24,"K","510L","Grade 2 & up","618.92/85882","Mari Schuh"]
["NEW",9781645490746,null,9781681519890,null,"My Life with Blindness",null,null,null,"My Life With . . .",null,null,null,29.95,20.95,42.8,25.95,null,{"$f":"S187","v":0},null,{"$f":"U187","v":0},null,{"$f":"W187","v":0},null,0,0,0,0,0,0,0,0,null,null,null,null,null,"Spring 2021","I",2021,"Amicus","Amicus Illustrated",null,"Social and Emotional Health","English","Reinforced Library",24,"K","510L","Grade 2 & up","362.4/1092","Mari Schuh"]
["NEW",9781645490753,null,9781681519906,null,"My Life with Deafness",null,null,null,"My Life With . . .",null,null,null,29.95,20.95,42.8,25.95,null,{"$f":"S187","v":0},null,{"$f":"U187","v":0},null,{"$f":"W187","v":0},null,0,0,0,0,0,0,0,0,null,null,null,null,null,"Spring 2021","I",2021,"Amicus","Amicus Illustrated",null,"Social and Emotional Health","English","Reinforced Library",24,"K","510L","Grade 2 & up","362.4/2092","Mari Schuh"]
["NEW",9781645490784,null,9781681519937,null,"My Life with Down Syndrome",null,null,null,"My Life With . . .",null,null,null,29.95,20.95,42.8,25.95,null,{"$f":"S187","v":0},null,{"$f":"U187","v":0},null,{"$f":"W187","v":0},null,0,0,0,0,0,0,0,0,null,null,null,null,null,"Spring 2021","I",2021,"Amicus","Amicus Illustrated",null,"Social and Emotional Health","English","Reinforced Library",24,"K","520L","Grade 2 & up","616.85/88420092","Mari Schuh"]
["NEW",9781645490791,null,9781681519944,null,"My Life with Dyslexia",null,null,null,"My Life With . . .",null,null,null,29.95,20.95,42.8,25.95,null,{"$f":"S187","v":0},null,{"$f":"U187","v":0},null,{"$f":"W187","v":0},null,0,0,0,0,0,0,0,0,null,null,null,null,null,"Spring 2021","I",2021,"Amicus","Amicus Illustrated",null,"Social and Emotional Health","English","Reinforced Library",24,"K","520L","Grade 2 & up","618.92/8553","Mari Schuh"]
[]
[null,null,null,null,null,"Complete Series of 160",null,null,null,"Spot",null,null,null,{"$f":"SUM(N196:N355)","v":4335.9999999999936},{"$f":"SUM(O196:O355)","v":3031.9999999999941},6048.0000000000173,3831.9999999999891,null,null,null,null,null,null,null,null,null,null,null,null,null,null,null,null,null,null,null,null,null,null,null,"Amicus"]
[null,9781681517186,null,9781681516363,null,"Cheetahs",null,null,null,"Spot African Animals",null,null,null,27.1,18.95,37.799999999999997,{"$f":"O196+5","v":23.95},null,{"$f":"S195","v":0},null,{"$f":"U195","v":0},null,{"$f":"W195","v":0},null,{"$f":"S196","v":0},{"$f":"U196","v":0},{"$f":"W196*2","v":0},{"$f":"Y196+Z196+AA196","v":0},{"$f":"S196*O196","v":0},{"$f":"U196*P196","v":0},{"$f":"W196*Q196","v":0},{"$f":"IF(AH196=FALSE,AC196+AD196+AE196,0)","v":0},null,null,null,null,null,"Fall 2019","9",2020,"Amicus","Spot",0.9,"Animals & Nature","English","Reinforced Library",16,"C","370L","PreK - 3","599.75/9","Mary Ellen Klukow"]
[null,9781681517193,null,9781681516370,null,"Crocodiles",null,null,null,"Spot African Animals",null,null,null,27.1,18.95,37.799999999999997,23.95,null,{"$f":"S195","v":0},null,{"$f":"U195","v":0},null,{"$f":"W195","v":0},null,0,0,0,0,0,0,0,0,null,null,null,null,null,"Fall 2019","9",2020,"Amicus","Spot",0.8,"Animals & Nature","English","Reinforced Library",16,"C","300L","PreK - 3","597.98/2","Mary Ellen Klukow"]
[null,9781681517209,null,9781681516387,null,"Elephants",null,null,null,"Spot African Animals",null,null,null,27.1,18.95,37.799999999999997,23.95,null,{"$f":"S195","v":0},null,{"$f":"U195","v":0},null,{"$f":"W195","v":0},null,0,0,0,0,0,0,0,0,null,null,null,null,null,"Fall 2019","9",2020,"Amicus","Spot",0.9,"Animals & Nature","English","Reinforced Library",16,"C","330L","PreK - 3",599.66999999999996,"Mary Ellen Klukow"]
[null,9781681517216,null,9781681516394,null,"Giraffes",null,null,null,"Spot African Animals",null,null,null,27.1,18.95,37.799999999999997,23.95,null,{"$f":"S195","v":0},null,{"$f":"U195","v":0},null,{"$f":"W195","v":0},null,0,0,0,0,0,0,0,0,null,null,null,null,null,"Fall 2019","9",2020,"Amicus","Spot",0.9,"Animals & Nature","English","Reinforced Library",16,"C","320L","PreK - 3",599.63800000000003,"Mary Ellen Klukow"]
[null,9781681517223,null,9781681516400,null,"Gorillas",null,null,null,"Spot African Animals",null,null,null,27.1,18.95,37.799999999999997,23.95,null,{"$f":"S195","v":0},null,{"$f":"U195","v":0},null,{"$f":"W195","v":0},null,0,0,0,0,0,0,0,0,null,null,null,null,null,"Fall 2019","9",2020,"Amicus","Spot",0.9,"Animals & Nature","English","Reinforced Library",16,"C","340L","PreK - 3",599.88400000000001,"Mary Ellen Klukow"]
[null,9781681517230,null,9781681516417,null,"Hippos",null,null,null,"Spot African Animals",null,null,null,27.1,18.95,37.799999999999997,23.95,null,{"$f":"S195","v":0},null,{"$f":"U195","v":0},null,{"$f":"W195","v":0},null,0,0,0,0,0,0,0,0,null,null,null,null,null,"Fall 2019","9",2020,"Amicus","Spot",0.9,"Animals & Nature","English","Reinforced Library",16,"C","330L","PreK - 3","599.63/5","Mary Ellen Klukow"]
[null,9781681517247,null,9781681516424,null,"Lions",null,null,null,"Spot African Animals",null,null,null,27.1,18.95,37.799999999999997,23.95,null,{"$f":"S195","v":0},null,{"$f":"U195","v":0},null,{"$f":"W195","v":0},null,0,0,0,0,0,0,0,0,null,null,null,null,null,"Fall 2019","9",2020,"Amicus","Spot",0.9,"Animals & Nature","English","Reinforced Library",16,"C","310L","PreK - 3",599.75699999999995,"Mary Ellen Klukow"]
[null,9781681517254,null,9781681516431,null,"Zebras",null,null,null,"Spot African Animals",null,null,null,27.1,18.95,37.799999999999997,23.95,null,{"$f":"S195","v":0},null,{"$f":"U195","v":0},null,{"$f":"W195","v":0},null,0,0,0,0,0,0,0,0,null,null,null,null,null,"Fall 2019","9",2020,"Amicus","Spot",0.9,"Animals & Nature","English","Reinforced Library",16,"C","300L","PreK - 3","599.665/7","Mary Ellen Klukow"]
["NEW",9781681518350,null,9781681517957,null,"Arctic Foxes",null,null,null,"Spot Arctic Animals",null,null,null,27.1,18.95,37.799999999999997,23.95,null,{"$f":"S195","v":0},null,{"$f":"U195","v":0},null,{"$f":"W195","v":0},null,0,0,0,0,0,0,0,0,null,null,null,null,null,"Spring 2020","5",2020,"Amicus","Spot",null,"Animals & Nature","English","Reinforced Library",16,"C",null,"PreK - 3","599.776/4--dc23","Anastasia Suen"]
["NEW",9781681518367,null,9781681517964,null,"Orcas",null,null,null,"Spot Arctic Animals",null,null,null,27.1,18.95,37.799999999999997,23.95,null,{"$f":"S195","v":0},null,{"$f":"U195","v":0},null,{"$f":"W195","v":0},null,0,0,0,0,0,0,0,0,null,null,null,null,null,"Spring 2020","5",2020,"Amicus","Spot",null,"Animals & Nature","English","Reinforced Library",16,"C",null,"PreK - 3","599.53/6--dc23","Anastasia Suen"]
["NEW",9781681518374,null,9781681517971,null,"Polar Bears",null,null,null,"Spot Arctic Animals",null,null,null,27.1,18.95,37.799999999999997,23.95,null,{"$f":"S195","v":0},null,{"$f":"U195","v":0},null,{"$f":"W195","v":0},null,0,0,0,0,0,0,0,0,null,null,null,null,null,"Spring 2020","5",2020,"Amicus","Spot",null,"Animals & Nature","English","Reinforced Library",16,"C",null,"PreK - 3","599.786--dc23","Anastasia Suen"]
["NEW",9781681518381,null,9781681517988,null,"Reindeer",null,null,null,"Spot Arctic Animals",null,null,null,27.1,18.95,37.799999999999997,23.95,null,{"$f":"S195","v":0},null,{"$f":"U195","v":0},null,{"$f":"W195","v":0},null,0,0,0,0,0,0,0,0,null,null,null,null,null,"Spring 2020","5",2020,"Amicus","Spot",null,"Animals & Nature","English","Reinforced Library",16,"C",null,"PreK - 3","599.65/8--dc23","Anastasia Suen"]
["NEW",9781681518398,null,9781681517995,null,"Sea Otters",null,null,null,"Spot Arctic Animals",null,null,null,27.1,18.95,37.799999999999997,23.95,null,{"$f":"S195","v":0},null,{"$f":"U195","v":0},null,{"$f":"W195","v":0},null,0,0,0,0,0,0,0,0,null,null,null,null,null,"Spring 2020","5",2020,"Amicus","Spot",null,"Animals & Nature","English","Reinforced Library",16,"C",null,"PreK - 3","599.769/5--dc23","Anastasia Suen"]
["NEW",9781681518404,null,9781681518008,null,"Snowy Owls",null,null,null,"Spot Arctic Animals",null,null,null,27.1,18.95,37.799999999999997,23.95,null,{"$f":"S195","v":0},null,{"$f":"U195","v":0},null,{"$f":"W195","v":0},null,0,0,0,0,0,0,0,0,null,null,null,null,null,"Spring 2020","5",2020,"Amicus","Spot",null,"Animals & Nature","English","Reinforced Library",16,"C",null,"PreK - 3","598.9/7--dc23","Anastasia Suen"]
[null,9781681513270,null,9781681512877,null,"Flowers",null,null,null,"Spot Awesome Nature",null,null,null,27.1,18.95,37.799999999999997,23.95,null,{"$f":"S195","v":0},null,{"$f":"U195","v":0},null,{"$f":"W195","v":0},null,0,0,0,0,0,0,0,0,null,null,null,null,null,"Spring 2018","10",2018,"Amicus","Spot",1.1000000000000001,"Animals & Nature","English","Reinforced Library",16,"D","310L","PreK - 3",582,"K.C. Kelley"]
[null,9781681513287,null,9781681512884,null,"Oceans",null,null,null,"Spot Awesome Nature",null,null,null,27.1,18.95,37.799999999999997,23.95,null,{"$f":"S195","v":0},null,{"$f":"U195","v":0},null,{"$f":"W195","v":0},null,0,0,0,0,0,0,0,0,null,null,null,null,null,"Spring 2018","10",2018,"Amicus","Spot",1,"Animals & Nature","English","Reinforced Library",16,"D","350L","PreK - 3",551.46,"K.C. Kelley"]
[null,9781681513256,null,9781681512853,null,"Seasons",null,null,null,"Spot Awesome Nature",null,null,null,27.1,18.95,37.799999999999997,23.95,null,{"$f":"S195","v":0},null,{"$f":"U195","v":0},null,{"$f":"W195","v":0},null,0,0,0,0,0,0,0,0,null,null,null,null,null,"Spring 2018","10",2018,"Amicus","Spot",0.9,"Animals & Nature","English","Reinforced Library",16,"D","280L","PreK - 3",508.2,"K.C. Kelley"]
[null,9781681513294,null,9781681512891,null,"Space",null,null,null,"Spot Awesome Nature",null,null,null,27.1,18.95,37.799999999999997,23.95,null,{"$f":"S195","v":0},null,{"$f":"U195","v":0},null,{"$f":"W195","v":0},null,0,0,0,0,0,0,0,0,null,null,null,null,null,"Spring 2018","10",2018,"Amicus","Spot",1,"Animals & Nature","English","Reinforced Library",16,"D","340L","PreK - 3",523.1,"K.C. Kelley"]
[null,9781681513263,null,9781681512860,null,"Trees",null,null,null,"Spot Awesome Nature",null,null,null,27.1,18.95,37.799999999999997,23.95,null,{"$f":"S195","v":0},null,{"$f":"U195","v":0},null,{"$f":"W195","v":0},null,0,0,0,0,0,0,0,0,null,null,null,null,null,"Spring 2018","10",2018,"Amicus","Spot",0.9,"Animals & Nature","English","Reinforced Library",16,"D","320L","PreK - 3",582.16,"K.C. Kelley"]
[null,9781681513249,null,9781681512846,null,"Weather",null,null,null,"Spot Awesome Nature",null,null,null,27.1,18.95,37.799999999999997,23.95,null,{"$f":"S195","v":0},null,{"$f":"U195","v":0},null,{"$f":"W195","v":0},null,0,0,0,0,0,0,0,0,null,null,null,null,null,"Spring 2018","10",2018,"Amicus","Spot",1,"Animals & Nature","English","Reinforced Library",16,"D","300L","PreK - 3"," 551.6","K.C. Kelley"]
[null,9781681513300,null,9781681513164,null,"Baby Bears",null,null,null,"Spot Baby Animals",null,null,null,27.1,18.95,37.799999999999997,23.95,null,{"$f":"S195","v":0},null,{"$f":"U195","v":0},null,{"$f":"W195","v":0},null,0,0,0,0,0,0,0,0,null,null,null,null,null,"Spring 2018","9",2018,"Amicus","Spot",1.1000000000000001,"Animals & Nature","English","Reinforced Library",16,"C","270L","PreK - 3",599.78,"K.C. Kelley"]
[null,9781681513324,null,9781681513188,null,"Baby Elephants",null,null,null,"Spot Baby Animals",null,null,null,27.1,18.95,37.799999999999997,23.95,null,{"$f":"S195","v":0},null,{"$f":"U195","v":0},null,{"$f":"W195","v":0},null,0,0,0,0,0,0,0,0,null,null,null,null,null,"Spring 2018","9",2018,"Amicus","Spot",0.9,"Animals & Nature","English","Reinforced Library",16,"C","350L","PreK - 3",599.66999999999996,"K.C. Kelley"]
[null,9781681513331,null,9781681513195,null,"Baby Giraffes",null,null,null,"Spot Baby Animals",null,null,null,27.1,18.95,37.799999999999997,23.95,null,{"$f":"S195","v":0},null,{"$f":"U195","v":0},null,{"$f":"W195","v":0},null,0,0,0,0,0,0,0,0,null,null,null,null,null,"Spring 2018","9",2018,"Amicus","Spot",1,"Animals & Nature","English","Reinforced Library",16,"C","280L","PreK - 3","599.63813/92","K.C. Kelley"]
[null,9781681513362,null,9781681513225,null,"Baby Hippos",null,null,null,"Spot Baby Animals",null,null,null,27.1,18.95,37.799999999999997,23.95,null,{"$f":"S195","v":0},null,{"$f":"U195","v":0},null,{"$f":"W195","v":0},null,0,0,0,0,0,0,0,0,null,null,null,null,null,"Spring 2018","9",2018,"Amicus","Spot",1,"Animals & Nature","English","Reinforced Library",16,"C","350L","PreK - 3","599.63/5139","K.C. Kelley"]
[null,9781681513348,null,9781681513201,null,"Baby Lions",null,null,null,"Spot Baby Animals",null,null,null,27.1,18.95,37.799999999999997,23.95,null,{"$f":"S195","v":0},null,{"$f":"U195","v":0},null,{"$f":"W195","v":0},null,0,0,0,0,0,0,0,0,null,null,null,null,null,"Spring 2018","9",2018,"Amicus","Spot",1,"Animals & Nature","English","Reinforced Library",16,"C","330L","PreK - 3","599.75/51392","K.C. Kelley"]
[null,9781681513355,null,9781681513218,null,"Baby Orangutans",null,null,null,"Spot Baby Animals",null,null,null,27.1,18.95,37.799999999999997,23.95,null,{"$f":"S195","v":0},null,{"$f":"U195","v":0},null,{"$f":"W195","v":0},null,0,0,0,0,0,0,0,0,null,null,null,null,null,"Spring 2018","9",2018,"Amicus","Spot",1,"Animals & Nature","English","Reinforced Library",16,"C","340L","PreK - 3","599.88/31392","K.C. Kelley"]
[null,9781681513379,null,9781681513232,null,"Baby Tigers",null,null,null,"Spot Baby Animals",null,null,null,27.1,18.95,37.799999999999997,23.95,null,{"$f":"S195","v":0},null,{"$f":"U195","v":0},null,{"$f":"W195","v":0},null,0,0,0,0,0,0,0,0,null,null,null,null,null,"Spring 2018","9",2018,"Amicus","Spot",0.9,"Animals & Nature","English","Reinforced Library",16,"C","280L","PreK - 3","599.75613/92","K.C. Kelley"]
[null,9781681513317,null,9781681513171,null,"Baby Wolves",null,null,null,"Spot Baby Animals",null,null,null,27.1,18.95,37.799999999999997,23.95,null,{"$f":"S195","v":0},null,{"$f":"U195","v":0},null,{"$f":"W195","v":0},null,0,0,0,0,0,0,0,0,null,null,null,null,null,"Spring 2018","9",2018,"Amicus","Spot",0.9,"Animals & Nature","English","Reinforced Library",16,"C","310L","PreK - 3","599.773/139","K.C. Kelley"]
[null,9781681515663,null,9781681515281,null,"Calves",null,null,null,"Spot Baby Farm Animals",null,null,null,27.1,18.95,37.799999999999997,23.95,null,{"$f":"S195","v":0},null,{"$f":"U195","v":0},null,{"$f":"W195","v":0},null,0,0,0,0,0,0,0,0,null,null,null,null,null,"Spring 2019","9",2019,"Amicus","Spot",0.8,"Animals & Nature","English","Reinforced Library",16,"C","220L","PreK - 3",636.20000000000005,"Anastasia Suen"]
[null,9781681515670,null,9781681515298,null,"Chicks",null,null,null,"Spot Baby Farm Animals",null,null,null,27.1,18.95,37.799999999999997,23.95,null,{"$f":"S195","v":0},null,{"$f":"U195","v":0},null,{"$f":"W195","v":0},null,0,0,0,0,0,0,0,0,null,null,null,null,null,"Spring 2019","9",2019,"Amicus","Spot",0.9,"Animals & Nature","English","Reinforced Library",16,"C","230L","PreK - 3",636.5,"Anastasia Suen"]
[null,9781681515687,null,9781681515304,null,"Ducklings",null,null,null,"Spot Baby Farm Animals",null,null,null,27.1,18.95,37.799999999999997,23.95,null,{"$f":"S195","v":0},null,{"$f":"U195","v":0},null,{"$f":"W195","v":0},null,0,0,0,0,0,0,0,0,null,null,null,null,null,"Spring 2019","9",2019,"Amicus","Spot",0.9,"Animals & Nature","English","Reinforced Library",16,"C","190L","PreK - 3","636.5/97","Anastasia Suen"]
[null,9781681515694,null,9781681515311,null,"Foals",null,null,null,"Spot Baby Farm Animals",null,null,null,27.1,18.95,37.799999999999997,23.95,null,{"$f":"S195","v":0},null,{"$f":"U195","v":0},null,{"$f":"W195","v":0},null,0,0,0,0,0,0,0,0,null,null,null,null,null,"Spring 2019","9",2019,"Amicus","Spot",0.9,"Animals & Nature","English","Reinforced Library",16,"C","290L","PreK - 3",636.1,"Anastasia Suen"]
[null,9781681515700,null,9781681515328,null,"Kids",null,null,null,"Spot Baby Farm Animals",null,null,null,27.1,18.95,37.799999999999997,{"$f":"O228+5","v":23.95},null,{"$f":"S195","v":0},null,{"$f":"U195","v":0},null,{"$f":"W195","v":0},null,{"$f":"S228","v":0},{"$f":"U228","v":0},{"$f":"W228*2","v":0},{"$f":"Y228+Z228+AA228","v":0},{"$f":"S228*O228","v":0},{"$f":"U228*P228","v":0},{"$f":"W228*Q228","v":0},{"$f":"IF(AH228=FALSE,AC228+AD228+AE228,0)","v":0},null,null,null,null,null,"Spring 2019","9",2019,"Amicus","Spot",0.9,"Animals & Nature","English","Reinforced Library",16,"C","330L","PreK - 3","636.3/907","Anastasia Suen"]
[null,9781681515717,null,9781681515335,null,"Kittens",null,null,null,"Spot Baby Farm Animals",null,null,null,27.1,18.95,37.799999999999997,23.95,null,{"$f":"S195","v":0},null,{"$f":"U195","v":0},null,{"$f":"W195","v":0},null,0,0,0,0,0,0,0,0,null,null,null,null,null,"Spring 2019","9",2019,"Amicus","Spot",0.8,"Animals & Nature","English","Reinforced Library",16,"C","270L","PreK - 3","636.8/07","Anastasia Suen"]
[null,9781681515724,null,9781681515342,null,"Lambs",null,null,null,"Spot Baby Farm Animals",null,null,null,27.1,18.95,37.799999999999997,23.95,null,{"$f":"S195","v":0},null,{"$f":"U195","v":0},null,{"$f":"W195","v":0},null,0,0,0,0,0,0,0,0,null,null,null,null,null,"Spring 2019","9",2019,"Amicus","Spot",0.9,"Animals & Nature","English","Reinforced Library",16,"C","290L","PreK - 3","636.3/07","Anastasia Suen"]
[null,9781681515731,null,9781681515359,null,"Puppies",null,null,null,"Spot Baby Farm Animals",null,null,null,27.1,18.95,37.799999999999997,23.95,null,{"$f":"S195","v":0},null,{"$f":"U195","v":0},null,{"$f":"W195","v":0},null,0,0,0,0,0,0,0,0,null,null,null,null,null,"Spring 2019","9",2019,"Amicus","Spot",0.9,"Animals & Nature","English","Reinforced Library",16,"C","230L","PreK - 3","636.7/07","Anastasia Suen"]
[null,9781681511801,null,9781681510903,null,"Bats",null,null,null,"Spot Backyard Animals",null,null,null,27.1,18.95,37.799999999999997,23.95,null,{"$f":"S195","v":0},null,{"$f":"U195","v":0},null,{"$f":"W195","v":0},null,0,0,0,0,0,0,0,0,null,null,null,null,null,"Fall 2017","10",2018,"Amicus","Spot",0.8,"Animals & Nature","English","Reinforced Library",16,"C","210L","PreK - 3",599.4,"Wendy Strobel Dieker"]
[null,9781681515809,null,9781681515427,null,"Chipmunks",null,null,null,"Spot Backyard Animals",null,null,null,27.1,18.95,37.799999999999997,23.95,null,{"$f":"S195","v":0},null,{"$f":"U195","v":0},null,{"$f":"W195","v":0},null,0,0,0,0,0,0,0,0,null,null,null,null,null,"Spring 2019","10",2019,"Amicus","Spot",0.9,"Animals & Nature","English","Reinforced Library",16,"C","310L","PreK - 3","599.36/4","Mari Schuh"]
[null,9781681515823,null,9781681515441,null,"Deer",null,null,null,"Spot Backyard Animals",null,null,null,27.1,18.95,37.799999999999997,23.95,null,{"$f":"S195","v":0},null,{"$f":"U195","v":0},null,{"$f":"W195","v":0},null,0,0,0,0,0,0,0,0,null,null,null,null,null,"Spring 2019","10",2019,"Amicus","Spot",0.9,"Animals & Nature","English","Reinforced Library",16,"C","300L","PreK - 3",599.65,"Mari Schuh"]
[null,9781681511818,null,9781681510910,null,"Frogs",null,null,null,"Spot Backyard Animals",null,null,null,27.1,18.95,37.799999999999997,23.95,null,{"$f":"S195","v":0},null,{"$f":"U195","v":0},null,{"$f":"W195","v":0},null,0,0,0,0,0,0,0,0,null,null,null,null,null,"Fall 2017","10",2018,"Amicus","Spot",0.9,"Animals & Nature","English","Reinforced Library",16,"C","300L","PreK - 3","597.8/9","Marysa Storm"]
[null,9781681511825,null,9781681510927,null,"Geckos",null,null,null,"Spot Backyard Animals",null,null,null,27.1,18.95,37.799999999999997,23.95,null,{"$f":"S195","v":0},null,{"$f":"U195","v":0},null,{"$f":"W195","v":0},null,0,0,0,0,0,0,0,0,null,null,null,null,null,"Fall 2017","10",2018,"Amicus","Spot",0.9,"Animals & Nature","English","Reinforced Library",16,"C","290L","PreK - 3","597.95/2","Rachel Bach"]
[null,9781681515847,null,9781681515465,null,"Geese",null,null,null,"Spot Backyard Animals",null,null,null,27.1,18.95,37.799999999999997,23.95,null,{"$f":"S195","v":0},null,{"$f":"U195","v":0},null,{"$f":"W195","v":0},null,0,0,0,0,0,0,0,0,null,null,null,null,null,"Spring 2019","10",2019,"Amicus","Spot",0.9,"Animals & Nature","English","Reinforced Library",16,"C","300L","PreK - 3","598.4/17","Mari Schuh"]
[null,9781681515816,null,9781681515434,null,"Hawks",null,null,null,"Spot Backyard Animals",null,null,null,27.1,18.95,37.799999999999997,23.95,null,{"$f":"S195","v":0},null,{"$f":"U195","v":0},null,{"$f":"W195","v":0},null,0,0,0,0,0,0,0,0,null,null,null,null,null,"Spring 2019","10",2019,"Amicus","Spot",0.9,"Animals & Nature","English","Reinforced Library",16,"C","300L","PreK - 3","636.1/33","Mari Schuh"]
[null,9781681511832,null,9781681510934,null,"Mice",null,null,null,"Spot Backyard Animals",null,null,null,27.1,18.95,37.799999999999997,23.95,null,{"$f":"S195","v":0},null,{"$f":"U195","v":0},null,{"$f":"W195","v":0},null,0,0,0,0,0,0,0,0,null,null,null,null,null,"Fall 2017","10",2018,"Amicus","Spot",0.9,"Animals & Nature","English","Reinforced Library",16,"C","330L","PreK - 3","599.35/3","Marysa Storm"]
[null,9781681511849,null,9781681510941,null,"Owls",null,null,null,"Spot Backyard Animals",null,null,null,27.1,18.95,37.799999999999997,23.95,null,{"$f":"S195","v":0},null,{"$f":"U195","v":0},null,{"$f":"W195","v":0},null,0,0,0,0,0,0,0,0,null,null,null,null,null,"Fall 2017","10",2018,"Amicus","Spot",0.9,"Animals & Nature","English","Reinforced Library",16,"C","260L","PreK - 3","598.9/7","Wendy Strobel Dieker"]
[null,9781681515830,null,9781681515458,null,"Prairie Dogs",null,null,null,"Spot Backyard Animals",null,null,null,27.1,18.95,37.799999999999997,23.95,null,{"$f":"S195","v":0},null,{"$f":"U195","v":0},null,{"$f":"W195","v":0},null,0,0,0,0,0,0,0,0,null,null,null,null,null,"Spring 2019","10",2019,"Amicus","Spot",0.8,"Animals & Nature","English","Reinforced Library",16,"C","260L","PreK - 3","599.36/7","Mari Schuh"]
[null,9781681511856,null,9781681510958,null,"Raccoons",null,null,null,"Spot Backyard Animals",null,null,null,27.1,18.95,37.799999999999997,23.95,null,{"$f":"S195","v":0},null,{"$f":"U195","v":0},null,{"$f":"W195","v":0},null,0,0,0,0,0,0,0,0,null,null,null,null,null,"Fall 2017","10",2018,"Amicus","Spot",0.9,"Animals & Nature","English","Reinforced Library",16,"C","320L","PreK - 3","599.76/32","Marysa Storm"]
[null,9781681515854,null,9781681515472,null,"Robins",null,null,null,"Spot Backyard Animals",null,null,null,27.1,18.95,37.799999999999997,23.95,null,{"$f":"S195","v":0},null,{"$f":"U195","v":0},null,{"$f":"W195","v":0},null,0,0,0,0,0,0,0,0,null,null,null,null,null,"Spring 2019","10",2019,"Amicus","Spot",1,"Animals & Nature","English","Reinforced Library",16,"C","330L","PreK - 3","598.8/42","Mari Schuh"]
[null,9781681515861,null,9781681515489,null,"Salamanders",null,null,null,"Spot Backyard Animals",null,null,null,27.1,18.95,37.799999999999997,23.95,null,{"$f":"S195","v":0},null,{"$f":"U195","v":0},null,{"$f":"W195","v":0},null,0,0,0,0,0,0,0,0,null,null,null,null,null,"Spring 2019","10",2019,"Amicus","Spot",0.9,"Animals & Nature","English","Reinforced Library",16,"C","300L","PreK - 3","597.8/5","Mari Schuh"]
[null,9781681511863,null,9781681510965,null,"Skunks",null,null,null,"Spot Backyard Animals",null,null,null,27.1,18.95,37.799999999999997,23.95,null,{"$f":"S195","v":0},null,{"$f":"U195","v":0},null,{"$f":"W195","v":0},null,0,0,0,0,0,0,0,0,null,null,null,null,null,"Fall 2017","10",2018,"Amicus","Spot",0.9,"Animals & Nature","English","Reinforced Library",16,"C","260L","PreK - 3","599.76/8","Wendy Strobel Dieker"]
[null,9781681515878,null,9781681515496,null,"Snakes",null,null,null,"Spot Backyard Animals",null,null,null,27.1,18.95,37.799999999999997,23.95,null,{"$f":"S195","v":0},null,{"$f":"U195","v":0},null,{"$f":"W195","v":0},null,0,0,0,0,0,0,0,0,null,null,null,null,null,"Spring 2019","10",2019,"Amicus","Spot",0.9,"Animals & Nature","English","Reinforced Library",16,"C","250L","PreK - 3",597.96,"Mari Schuh"]
[null,9781681511870,null,9781681510972,null,"Squirrels",null,null,null,"Spot Backyard Animals",null,null,null,27.1,18.95,37.799999999999997,23.95,null,{"$f":"S195","v":0},null,{"$f":"U195","v":0},null,{"$f":"W195","v":0},null,0,0,0,0,0,0,0,0,null,null,null,null,null,"Fall 2017","10",2018,"Amicus","Spot",0.9,"Animals & Nature","English","Reinforced Library",16,"C","300L","PreK - 3",599.36,"Wendy Strobel Dieker"]
[null,9781681511948,null,9781681511047,null,"Ants",null,null,null,"Spot Creepy Crawlies",null,null,null,27.1,18.95,37.799999999999997,23.95,null,{"$f":"S195","v":0},null,{"$f":"U195","v":0},null,{"$f":"W195","v":0},null,0,0,0,0,0,0,0,0,null,null,null,null,null,"Fall 2017","10",2018,"Amicus","Spot",0.9,"Animals & Nature","English","Reinforced Library",16,"C","320L","PreK - 3","595.79/6","Nessa Black"]
[null,9781681511955,null,9781681511054,null,"Bees",null,null,null,"Spot Creepy Crawlies",null,null,null,27.1,18.95,37.799999999999997,23.95,null,{"$f":"S195","v":0},null,{"$f":"U195","v":0},null,{"$f":"W195","v":0},null,0,0,0,0,0,0,0,0,null,null,null,null,null,"Fall 2017","10",2018,"Amicus","Spot",0.8,"Animals & Nature","English","Reinforced Library",16,"C","270L","PreK - 3","595.79/9","Nessa Black"]
[null,9781681511962,null,9781681511061,null,"Beetles",null,null,null,"Spot Creepy Crawlies",null,null,null,27.1,18.95,37.799999999999997,23.95,null,{"$f":"S195","v":0},null,{"$f":"U195","v":0},null,{"$f":"W195","v":0},null,0,0,0,0,0,0,0,0,null,null,null,null,null,"Fall 2017","10",2018,"Amicus","Spot",0.8,"Animals & Nature","English","Reinforced Library",16,"C","260L","PreK - 3",595.76,"Nessa Black"]
[null,9781681511979,null,9781681511078,null,"Butterflies",null,null,null,"Spot Creepy Crawlies",null,null,null,27.1,18.95,37.799999999999997,23.95,null,{"$f":"S195","v":0},null,{"$f":"U195","v":0},null,{"$f":"W195","v":0},null,0,0,0,0,0,0,0,0,null,null,null,null,null,"Fall 2017","10",2018,"Amicus","Spot",1,"Animals & Nature","English","Reinforced Library",16,"C","320L","PreK - 3","595.78/9","Rachel Bach"]
[null,9781681515748,null,9781681515366,null,"Crickets",null,null,null,"Spot Creepy Crawlies",null,null,null,27.1,18.95,37.799999999999997,23.95,null,{"$f":"S195","v":0},null,{"$f":"U195","v":0},null,{"$f":"W195","v":0},null,0,0,0,0,0,0,0,0,null,null,null,null,null,"Spring 2019","10",2019,"Amicus","Spot",0.8,"Animals & Nature","English","Reinforced Library",16,"C","230L","PreK - 3",595.70000000000005,"Nessa Black"]
[null,9781681515755,null,9781681515373,null,"Dragonflies",null,null,null,"Spot Creepy Crawlies",null,null,null,27.1,18.95,37.799999999999997,23.95,null,{"$f":"S195","v":0},null,{"$f":"U195","v":0},null,{"$f":"W195","v":0},null,0,0,0,0,0,0,0,0,null,null,null,null,null,"Spring 2019","10",2019,"Amicus","Spot",0.9,"Animals & Nature","English","Reinforced Library",16,"C","270L","PreK - 3","595.7/33","Nessa Black"]
[null,9781681511986,null,9781681511085,null,"Flies",null,null,null,"Spot Creepy Crawlies",null,null,null,27.1,18.95,37.799999999999997,23.95,null,{"$f":"S195","v":0},null,{"$f":"U195","v":0},null,{"$f":"W195","v":0},null,0,0,0,0,0,0,0,0,null,null,null,null,null,"Fall 2017","10",2018,"Amicus","Spot",0.8,"Animals & Nature","English","Reinforced Library",16,"C","260L","PreK - 3",595.77,"Nessa Black"]
[null,9781681511993,null,9781681511092,null,"Ladybugs",null,null,null,"Spot Creepy Crawlies",null,null,null,27.1,18.95,37.799999999999997,23.95,null,{"$f":"S195","v":0},null,{"$f":"U195","v":0},null,{"$f":"W195","v":0},null,0,0,0,0,0,0,0,0,null,null,null,null,null,"Fall 2017","10",2018,"Amicus","Spot",0.9,"Animals & Nature","English","Reinforced Library",16,"C","290L","PreK - 3","595.76/9","Nessa Black"]
[null,9781681515762,null,9781681515380,null,"Moths",null,null,null,"Spot Creepy Crawlies",null,null,null,27.1,18.95,37.799999999999997,23.95,null,{"$f":"S195","v":0},null,{"$f":"U195","v":0},null,{"$f":"W195","v":0},null,0,0,0,0,0,0,0,0,null,null,null,null,null,"Spring 2019","10",2019,"Amicus","Spot",0.9,"Animals & Nature","English","Reinforced Library",16,"C","240L","PreK - 3",595.78,"Nessa Black"]
[null,9781681515779,null,9781681515397,null,"Scorpions",null,null,null,"Spot Creepy Crawlies",null,null,null,27.1,18.95,37.799999999999997,23.95,null,{"$f":"S195","v":0},null,{"$f":"U195","v":0},null,{"$f":"W195","v":0},null,0,0,0,0,0,0,0,0,null,null,null,null,null,"Spring 2019","10",2019,"Amicus","Spot",0.9,"Animals & Nature","English","Reinforced Library",16,"C","260L","PreK - 3","595.4/6","Nessa Black"]
[null,9781681512006,null,9781681511108,null,"Spiders",null,null,null,"Spot Creepy Crawlies",null,null,null,27.1,18.95,37.799999999999997,23.95,null,{"$f":"S195","v":0},null,{"$f":"U195","v":0},null,{"$f":"W195","v":0},null,0,0,0,0,0,0,0,0,null,null,null,null,null,"Fall 2017","10",2018,"Amicus","Spot",0.9,"Animals & Nature","English","Reinforced Library",16,"C","260L","PreK - 3","595.4/4","Nessa Black"]
[null,9781681515786,null,9781681515403,null,"Walking Sticks",null,null,null,"Spot Creepy Crawlies",null,null,null,27.1,18.95,37.799999999999997,23.95,null,{"$f":"S195","v":0},null,{"$f":"U195","v":0},null,{"$f":"W195","v":0},null,0,0,0,0,0,0,0,0,null,null,null,null,null,"Spring 2019","10",2019,"Amicus","Spot",0.7,"Animals & Nature","English","Reinforced Library",16,"C","240L","PreK - 3","595.7/29","Nessa Black"]
[null,9781681515793,null,9781681515410,null,"Wasps",null,null,null,"Spot Creepy Crawlies",null,null,null,27.1,18.95,37.799999999999997,{"$f":"O260+5","v":23.95},null,{"$f":"S195","v":0},null,{"$f":"U195","v":0},null,{"$f":"W195","v":0},null,{"$f":"S260","v":0},{"$f":"U260","v":0},{"$f":"W260*2","v":0},{"$f":"Y260+Z260+AA260","v":0},{"$f":"S260*O260","v":0},{"$f":"U260*P260","v":0},{"$f":"W260*Q260","v":0},{"$f":"IF(AH260=FALSE,AC260+AD260+AE260,0)","v":0},null,null,null,null,null,"Spring 2019","10",2019,"Amicus","Spot",0.9,"Animals & Nature","English","Reinforced Library",16,"C","270L","PreK - 3",595.79,"Nessa Black"]
[null,9781681512013,null,9781681511115,null,"Worms",null,null,null,"Spot Creepy Crawlies",null,null,null,27.1,18.95,37.799999999999997,23.95,null,{"$f":"S195","v":0},null,{"$f":"U195","v":0},null,{"$f":"W195","v":0},null,0,0,0,0,0,0,0,0,null,null,null,null,null,"Fall 2017","10",2018,"Amicus","Spot",0.8,"Animals & Nature","English","Reinforced Library",16,"C","230L","PreK - 3","592/.3","Nessa Black"]
["NEW",9781645490265,null,9781681519418,null,"Blizzards",null,null,null,"Spot Extreme Weather",null,null,null,27.1,18.95,37.799999999999997,23.95,null,{"$f":"S195","v":0},null,{"$f":"U195","v":0},null,{"$f":"W195","v":0},null,0,0,0,0,0,0,0,0,null,null,null,null,null,"Spring 2021","D",2021,"Amicus","Spot",0.9,"Science","English","Reinforced Library",16,"D",null,"K & Up","551.55/5","Anastasia Suen"]
["NEW",9781645490272,null,9781681519425,null,"Earthquakes",null,null,null,"Spot Extreme Weather",null,null,null,27.1,18.95,37.799999999999997,23.95,null,{"$f":"S195","v":0},null,{"$f":"U195","v":0},null,{"$f":"W195","v":0},null,0,0,0,0,0,0,0,0,null,null,null,null,null,"Spring 2021","D",2021,"Amicus","Spot",0.9,"Science","English","Reinforced Library",16,"D",null,"K & Up",551.22,"Anastasia Suen"]
["NEW",9781645490289,null,9781681519432,null,"Floods",null,null,null,"Spot Extreme Weather",null,null,null,27.1,18.95,37.799999999999997,23.95,null,{"$f":"S195","v":0},null,{"$f":"U195","v":0},null,{"$f":"W195","v":0},null,0,0,0,0,0,0,0,0,null,null,null,null,null,"Spring 2021","D",2021,"Amicus","Spot",0.8,"Science","English","Reinforced Library",16,"D",null,"K & Up","551.48/9","Anastasia Suen"]
["NEW",9781645490296,null,9781681519449,null,"Hurricanes",null,null,null,"Spot Extreme Weather",null,null,null,27.1,18.95,37.799999999999997,23.95,null,{"$f":"S195","v":0},null,{"$f":"U195","v":0},null,{"$f":"W195","v":0},null,0,0,0,0,0,0,0,0,null,null,null,null,null,"Spring 2021","D",2021,"Amicus","Spot",1,"Science","English","Reinforced Library",16,"D",null,"K & Up","551.55/2","Anastasia Suen"]
["NEW",9781645490302,null,9781681519456,null,"Tornadoes",null,null,null,"Spot Extreme Weather",null,null,null,27.1,18.95,37.799999999999997,23.95,null,{"$f":"S195","v":0},null,{"$f":"U195","v":0},null,{"$f":"W195","v":0},null,0,0,0,0,0,0,0,0,null,null,null,null,null,"Spring 2021","D",2021,"Amicus","Spot",0.9,"Science","English","Reinforced Library",16,"D",null,"K & Up","551.55/3","Anastasia Suen"]
["NEW",9781645490319,null,9781681519463,null,"Wildfires",null,null,null,"Spot Extreme Weather",null,null,null,27.1,18.95,37.799999999999997,23.95,null,{"$f":"S195","v":0},null,{"$f":"U195","v":0},null,{"$f":"W195","v":0},null,0,0,0,0,0,0,0,0,null,null,null,null,null,"Spring 2021","D",2021,"Amicus","Spot",0.9,"Science","English","Reinforced Library",16,"D",null,"K & Up","634.9/618","Anastasia Suen"]
["NEW",9781681518411,null,9781681518015,null,"Christmas",null,null,null,"Spot Holidays",null,null,null,27.1,18.95,37.799999999999997,23.95,null,{"$f":"S195","v":0},null,{"$f":"U195","v":0},null,{"$f":"W195","v":0},null,0,0,0,0,0,0,0,0,null,null,null,null,null,"Spring 2020","6",2020,"Amicus","Spot",1,"Social Studies","English","Reinforced Library",16,"E",null,"PreK - 3","394.2663--dc23","Mari Schuh "]
["NEW",9781681518428,null,9781681518022,null,"Diwali",null,null,null,"Spot Holidays",null,null,null,27.1,18.95,37.799999999999997,23.95,null,{"$f":"S195","v":0},null,{"$f":"U195","v":0},null,{"$f":"W195","v":0},null,0,0,0,0,0,0,0,0,null,null,null,null,null,"Spring 2020","6",2020,"Amicus","Spot",1,"Social Studies","English","Reinforced Library",16,"E",null,"PreK - 3","294.5/36--dc23","Mari Schuh "]
["NEW",9781681518435,null,9781681518039,null,"Easter",null,null,null,"Spot Holidays",null,null,null,27.1,18.95,37.799999999999997,23.95,null,{"$f":"S195","v":0},null,{"$f":"U195","v":0},null,{"$f":"W195","v":0},null,0,0,0,0,0,0,0,0,null,null,null,null,null,"Spring 2020","6",2020,"Amicus","Spot",0.9,"Social Studies","English","Reinforced Library",16,"E",null,"PreK - 3","394.2667--dc23","Mari Schuh "]
["NEW",9781681518442,null,9781681518046,null,"Hanukkah",null,null,null,"Spot Holidays",null,null,null,27.1,18.95,37.799999999999997,23.95,null,{"$f":"S195","v":0},null,{"$f":"U195","v":0},null,{"$f":"W195","v":0},null,0,0,0,0,0,0,0,0,null,null,null,null,null,"Spring 2020","6",2020,"Amicus","Spot",1,"Social Studies","English","Reinforced Library",16,"E",null,"PreK - 3","394.267--dc23","Mari Schuh "]
["NEW",9781681518459,null,9781681518053,null,"Kwanzaa",null,null,null,"Spot Holidays",null,null,null,27.1,18.95,37.799999999999997,23.95,null,{"$f":"S195","v":0},null,{"$f":"U195","v":0},null,{"$f":"W195","v":0},null,0,0,0,0,0,0,0,0,null,null,null,null,null,"Spring 2020","6",2020,"Amicus","Spot",0.9,"Social Studies","English","Reinforced Library",16,"E",null,"PreK - 3","394.2612--dc23","Mari Schuh "]
["NEW",9781681518466,null,9781681518060,null,"Ramadan",null,null,null,"Spot Holidays",null,null,null,27.1,18.95,37.799999999999997,23.95,null,{"$f":"S195","v":0},null,{"$f":"U195","v":0},null,{"$f":"W195","v":0},null,0,0,0,0,0,0,0,0,null,null,null,null,null,"Spring 2020","6",2020,"Amicus","Spot",1,"Social Studies","English","Reinforced Library",16,"E",null,"PreK - 3","297.3/62--dc23","Mari Schuh "]
[null,9781681517261,null,9781681516448,null,"Airplanes",null,null,null,"Spot Mighty Machines",null,null,null,27.1,18.95,37.799999999999997,23.95,null,{"$f":"S195","v":0},null,{"$f":"U195","v":0},null,{"$f":"W195","v":0},null,0,0,0,0,0,0,0,0,null,null,null,null,null,"Fall 2019","8",2020,"Amicus","Spot",0.9,"Science & Technology","English","Reinforced Library",16,"D","280L","PreK - 3","629.133/34","Wendy Strobel Dieker"]
[null,9781681514543,null,9781681513720,null,"Big Rigs",null,null,null,"Spot Mighty Machines",null,null,null,27.1,18.95,37.799999999999997,23.95,null,{"$f":"S195","v":0},null,{"$f":"U195","v":0},null,{"$f":"W195","v":0},null,0,0,0,0,0,0,0,0,null,null,null,null,null,"Fall 2018","8",2019,"Amicus","Spot",0.9,"Science & Technology","English","Reinforced Library",16,"D","320L","PreK - 3",629.22400000000005,"Wendy Strobel Dieker"]
[null,9781681511894,null,9781681510996,null,"Bulldozers",null,null,null,"Spot Mighty Machines",null,null,null,27.1,18.95,37.799999999999997,23.95,null,{"$f":"S195","v":0},null,{"$f":"U195","v":0},null,{"$f":"W195","v":0},null,0,0,0,0,0,0,0,0,null,null,null,null,null,"Fall 2017","8",2018,"Amicus","Spot",0.8,"Science & Technology","English","Reinforced Library",16,"D","260L","PreK - 3",629.22500000000002,"Mari Schuh"]
[null,9781681511887,null,9781681510989,null,"Concrete Mixers",null,null,null,"Spot Mighty Machines",null,null,null,27.1,18.95,37.799999999999997,23.95,null,{"$f":"S195","v":0},null,{"$f":"U195","v":0},null,{"$f":"W195","v":0},null,0,0,0,0,0,0,0,0,null,null,null,null,null,"Fall 2017","8",2018,"Amicus","Spot",0.9,"Science & Technology","English","Reinforced Library",16,"D","240L","PreK - 3",629.22500000000002,"Mari Schuh"]
[null,9781681511900,null,9781681511009,null,"Cranes",null,null,null,"Spot Mighty Machines",null,null,null,27.1,18.95,37.799999999999997,23.95,null,{"$f":"S195","v":0},null,{"$f":"U195","v":0},null,{"$f":"W195","v":0},null,0,0,0,0,0,0,0,0,null,null,null,null,null,"Fall 2017","8",2018,"Amicus","Spot",0.9,"Science & Technology","English","Reinforced Library",16,"D","250L","PreK - 3","621.8/73","Mari Schuh"]
[null,9781681511917,null,9781681511016,null,"Diggers",null,null,null,"Spot Mighty Machines",null,null,null,27.1,18.95,37.799999999999997,23.95,null,{"$f":"S195","v":0},null,{"$f":"U195","v":0},null,{"$f":"W195","v":0},null,0,0,0,0,0,0,0,0,null,null,null,null,null,"Fall 2017","8",2018,"Amicus","Spot",0.9,"Science & Technology","English","Reinforced Library",16,"D","290L","PreK - 3","621.8/65","Mari Schuh"]
[null,9781681511924,null,9781681511023,null,"Dump Trucks",null,null,null,"Spot Mighty Machines",null,null,null,27.1,18.95,37.799999999999997,23.95,null,{"$f":"S195","v":0},null,{"$f":"U195","v":0},null,{"$f":"W195","v":0},null,0,0,0,0,0,0,0,0,null,null,null,null,null,"Fall 2017","8",2018,"Amicus","Spot",0.9,"Science & Technology","English","Reinforced Library",16,"D","270L","PreK - 3",629.22400000000005,"Mari Schuh"]
[null,9781681514550,null,9781681513737,null,"Fire Trucks",null,null,null,"Spot Mighty Machines",null,null,null,27.1,18.95,37.799999999999997,23.95,null,{"$f":"S195","v":0},null,{"$f":"U195","v":0},null,{"$f":"W195","v":0},null,0,0,0,0,0,0,0,0,null,null,null,null,null,"Fall 2018","8",2019,"Amicus","Spot",0.9,"Science & Technology","English","Reinforced Library",16,"D","320L","PreK - 3","628.9/259","Wendy Strobel Dieker"]
[null,9781681514567,null,9781681513744,null,"Garbage Trucks",null,null,null,"Spot Mighty Machines",null,null,null,27.1,18.95,37.799999999999997,23.95,null,{"$f":"S195","v":0},null,{"$f":"U195","v":0},null,{"$f":"W195","v":0},null,0,0,0,0,0,0,0,0,null,null,null,null,null,"Fall 2018","8",2019,"Amicus","Spot",1,"Science & Technology","English","Reinforced Library",16,"D","260L","PreK - 3","628.4/42","Wendy Strobel Dieker"]
[null,9781681517278,null,9781681516455,null,"Helicopters",null,null,null,"Spot Mighty Machines",null,null,null,27.1,18.95,37.799999999999997,23.95,null,{"$f":"S195","v":0},null,{"$f":"U195","v":0},null,{"$f":"W195","v":0},null,0,0,0,0,0,0,0,0,null,null,null,null,null,"Fall 2019","8",2020,"Amicus","Spot",1,"Science & Technology","English","Reinforced Library",16,"D","250L","PreK - 3","629.133/352","Wendy Strobel Dieker"]
[null,9781681511931,null,9781681511030,null,"Loaders",null,null,null,"Spot Mighty Machines",null,null,null,27.1,18.95,37.799999999999997,23.95,null,{"$f":"S195","v":0},null,{"$f":"U195","v":0},null,{"$f":"W195","v":0},null,0,0,0,0,0,0,0,0,null,null,null,null,null,"Fall 2017","8",2018,"Amicus","Spot",0.9,"Science & Technology","English","Reinforced Library",16,"D","240L","PreK - 3","621.8/6","Mari Schuh"]
[null,9781681517285,null,9781681516462,null,"Motorcycles",null,null,null,"Spot Mighty Machines",null,null,null,27.1,18.95,37.799999999999997,23.95,null,{"$f":"S195","v":0},null,{"$f":"U195","v":0},null,{"$f":"W195","v":0},null,0,0,0,0,0,0,0,0,null,null,null,null,null,"Fall 2019","8",2020,"Amicus","Spot",0.9,"Science & Technology","English","Reinforced Library",16,"D","300L","PreK - 3","629.227/5","Wendy Strobel Dieker"]
[null,9781681514574,null,9781681513751,null,"Pickup Trucks",null,null,null,"Spot Mighty Machines",null,null,null,27.1,18.95,37.799999999999997,23.95,null,{"$f":"S195","v":0},null,{"$f":"U195","v":0},null,{"$f":"W195","v":0},null,0,0,0,0,0,0,0,0,null,null,null,null,null,"Fall 2018","8",2019,"Amicus","Spot",0.8,"Science & Technology","English","Reinforced Library",16,"D","260L","PreK - 3","629.223/2","Wendy Strobel Dieker"]
[null,9781681517292,null,9781681516479,null,"Race Cars",null,null,null,"Spot Mighty Machines",null,null,null,27.1,18.95,37.799999999999997,23.95,null,{"$f":"S195","v":0},null,{"$f":"U195","v":0},null,{"$f":"W195","v":0},null,0,0,0,0,0,0,0,0,null,null,null,null,null,"Fall 2019","8",2020,"Amicus","Spot",0.9,"Science & Technology","English","Reinforced Library",16,"D","390L","PreK - 3","629.228/5","Wendy Strobel Dieker"]
[null,9781681514581,null,9781681513768,null,"Tanker Trucks",null,null,null,"Spot Mighty Machines",null,null,null,27.1,18.95,37.799999999999997,23.95,null,{"$f":"S195","v":0},null,{"$f":"U195","v":0},null,{"$f":"W195","v":0},null,0,0,0,0,0,0,0,0,null,null,null,null,null,"Fall 2018","8",2019,"Amicus","Spot",0.9,"Science & Technology","English","Reinforced Library",16,"D","260L","PreK - 3",629.22400000000005,"Wendy Strobel Dieker"]
[null,9781681517308,null,9781681516486,null,"Tanks",null,null,null,"Spot Mighty Machines",null,null,null,27.1,18.95,37.799999999999997,23.95,null,{"$f":"S195","v":0},null,{"$f":"U195","v":0},null,{"$f":"W195","v":0},null,0,0,0,0,0,0,0,0,null,null,null,null,null,"Fall 2019","8",2020,"Amicus","Spot",1,"Science & Technology","English","Reinforced Library",16,"D","380L","PreK - 3","623.74/752","Wendy Strobel Dieker"]
[null,9781681514598,null,9781681513775,null,"Tow Trucks",null,null,null,"Spot Mighty Machines",null,null,null,27.1,18.95,37.799999999999997,23.95,null,{"$f":"S195","v":0},null,{"$f":"U195","v":0},null,{"$f":"W195","v":0},null,0,0,0,0,0,0,0,0,null,null,null,null,null,"Fall 2018","8",2019,"Amicus","Spot",0.8,"Science & Technology","English","Reinforced Library",16,"D","300L","PreK - 3",629.22500000000002,"Wendy Strobel Dieker"]
[null,9781681517315,null,9781681516493,null,"Trains",null,null,null,"Spot Mighty Machines",null,null,null,27.1,18.95,37.799999999999997,23.95,null,{"$f":"S195","v":0},null,{"$f":"U195","v":0},null,{"$f":"W195","v":0},null,0,0,0,0,0,0,0,0,null,null,null,null,null,"Fall 2019","8",2020,"Amicus","Spot",0.7,"Science & Technology","English","Reinforced Library",16,"D","350L","PreK - 3",625.1,"Wendy Strobel Dieker"]
[null,9781681517124,null,9781681516301,null,"Clown Fish",null,null,null,"Spot Ocean Animals",null,null,null,27.1,18.95,37.799999999999997,{"$f":"O292+5","v":23.95},null,{"$f":"S195","v":0},null,{"$f":"U195","v":0},null,{"$f":"W195","v":0},null,{"$f":"S292","v":0},{"$f":"U292","v":0},{"$f":"W292*2","v":0},{"$f":"Y292+Z292+AA292","v":0},{"$f":"S292*O292","v":0},{"$f":"U292*P292","v":0},{"$f":"W292*Q292","v":0},{"$f":"IF(AH292=FALSE,AC292+AD292+AE292,0)","v":0},null,null,null,null,null,"Fall 2019","10",2020,"Amicus","Spot",0.9,"Animals & Nature","English","Reinforced Library",16,"C","360L","PreK - 3","597/.72","Mari Schuh"]
["NEW",9781645491507,null,9781645491088,null,"Corals",null,null,null,"Spot Ocean Animals",null,null,null,27.1,18.95,37.799999999999997,23.95,null,{"$f":"S195","v":0},null,{"$f":"U195","v":0},null,{"$f":"W195","v":0},null,0,0,0,0,0,0,0,0,null,null,null,null,null,"Spring 2021","G",2021,"Amicus","Spot",null,"Life Science","English","Reinforced Library",16,"C",null,"K & Up",593.6,"Mari Schuh"]
[null,9781681514604,null,9781681513782,null,"Crabs",null,null,null,"Spot Ocean Animals",null,null,null,27.1,18.95,37.799999999999997,23.95,null,{"$f":"S195","v":0},null,{"$f":"U195","v":0},null,{"$f":"W195","v":0},null,0,0,0,0,0,0,0,0,null,null,null,null,null,"Fall 2018","10",2019,"Amicus","Spot",0.9,"Animals & Nature","English","Reinforced Library",16,"C","250L","PreK - 3","595.3/86","Mari Schuh"]
[null,9781681514611,null,9781681513799,null,"Dolphins",null,null,null,"Spot Ocean Animals",null,null,null,27.1,18.95,37.799999999999997,23.95,null,{"$f":"S195","v":0},null,{"$f":"U195","v":0},null,{"$f":"W195","v":0},null,0,0,0,0,0,0,0,0,null,null,null,null,null,"Fall 2018","10",2019,"Amicus","Spot",0.9,"Animals & Nature","English","Reinforced Library",16,"C","250L","PreK - 3",599.53,"Mari Schuh"]
["NEW",9781645491521,null,9781645491101,null,"Eels",null,null,null,"Spot Ocean Animals",null,null,null,27.1,18.95,37.799999999999997,23.95,null,{"$f":"S195","v":0},null,{"$f":"U195","v":0},null,{"$f":"W195","v":0},null,0,0,0,0,0,0,0,0,null,null,null,null,null,"Spring 2021","G",2021,"Amicus","Spot",null,"Life Science","English","Reinforced Library",16,"C",null,"K & Up","597/.43","Mari Schuh"]
[null,9781681514628,null,9781681513805,null,"Jellyfish",null,null,null,"Spot Ocean Animals",null,null,null,27.1,18.95,37.799999999999997,23.95,null,{"$f":"S195","v":0},null,{"$f":"U195","v":0},null,{"$f":"W195","v":0},null,0,0,0,0,0,0,0,0,null,null,null,null,null,"Fall 2018","10",2019,"Amicus","Spot",0.9,"Animals & Nature","English","Reinforced Library",16,"C","260L","PreK - 3","593.5/3","Mari Schuh"]
["NEW",9781645491514,null,9781645491095,null,"Lobsters",null,null,null,"Spot Ocean Animals",null,null,null,27.1,18.95,37.799999999999997,23.95,null,{"$f":"S195","v":0},null,{"$f":"U195","v":0},null,{"$f":"W195","v":0},null,0,0,0,0,0,0,0,0,null,null,null,null,null,"Spring 2021","G",2021,"Amicus","Spot",null,"Life Science","English","Reinforced Library",16,"C",null,"K & Up","595.3/84","Mari Schuh"]
["NEW",9781645491538,null,9781645491118,null,"Manatees",null,null,null,"Spot Ocean Animals",null,null,null,27.1,18.95,37.799999999999997,23.95,null,{"$f":"S195","v":0},null,{"$f":"U195","v":0},null,{"$f":"W195","v":0},null,0,0,0,0,0,0,0,0,null,null,null,null,null,"Spring 2021","G",2021,"Amicus","Spot",null,"Life Science","English","Reinforced Library",16,"C",null,"K & Up",599.54999999999995,"Mari Schuh"]
[null,9781681514635,null,9781681513812,null,"Octopuses",null,null,null,"Spot Ocean Animals",null,null,null,27.1,18.95,37.799999999999997,23.95,null,{"$f":"S195","v":0},null,{"$f":"U195","v":0},null,{"$f":"W195","v":0},null,0,0,0,0,0,0,0,0,null,null,null,null,null,"Fall 2018","10",2019,"Amicus","Spot",0.9,"Animals & Nature","English","Reinforced Library",16,"C","280L","PreK - 3","594/.56","Mari Schuh"]
["NEW",9781645491545,null,9781645491125,null,"Sea Dragons",null,null,null,"Spot Ocean Animals",null,null,null,27.1,18.95,37.799999999999997,23.95,null,{"$f":"S195","v":0},null,{"$f":"U195","v":0},null,{"$f":"W195","v":0},null,0,0,0,0,0,0,0,0,null,null,null,null,null,"Spring 2021","G",2021,"Amicus","Spot",null,"Life Science","English","Reinforced Library",16,"C",null,"K & Up",597.67899999999997,"Mari Schuh"]
[null,9781681517131,null,9781681516318,null,"Sea Horses",null,null,null,"Spot Ocean Animals",null,null,null,27.1,18.95,37.799999999999997,23.95,null,{"$f":"S195","v":0},null,{"$f":"U195","v":0},null,{"$f":"W195","v":0},null,0,0,0,0,0,0,0,0,null,null,null,null,null,"Fall 2019","10",2020,"Amicus","Spot",0.9,"Animals & Nature","English","Reinforced Library",16,"C","390L","PreK - 3","597/.6798","Mari Schuh"]
[null,9781681517148,null,9781681516325,null,"Sea Stars",null,null,null,"Spot Ocean Animals",null,null,null,27.1,18.95,37.799999999999997,23.95,null,{"$f":"S195","v":0},null,{"$f":"U195","v":0},null,{"$f":"W195","v":0},null,0,0,0,0,0,0,0,0,null,null,null,null,null,"Fall 2019","10",2020,"Amicus","Spot",0.9,"Animals & Nature","English","Reinforced Library",16,"C","270L","PreK - 3","593.9/3","Mari Schuh"]
[null,9781681514642,null,9781681513829,null,"Sea Turtles",null,null,null,"Spot Ocean Animals",null,null,null,27.1,18.95,37.799999999999997,23.95,null,{"$f":"S195","v":0},null,{"$f":"U195","v":0},null,{"$f":"W195","v":0},null,0,0,0,0,0,0,0,0,null,null,null,null,null,"Fall 2018","10",2019,"Amicus","Spot",0.9,"Animals & Nature","English","Reinforced Library",16,"C","350L","PreK - 3","597.92/8","Mari Schuh"]
[null,9781681514659,null,9781681513836,null,"Sharks",null,null,null,"Spot Ocean Animals",null,null,null,27.1,18.95,37.799999999999997,23.95,null,{"$f":"S195","v":0},null,{"$f":"U195","v":0},null,{"$f":"W195","v":0},null,0,0,0,0,0,0,0,0,null,null,null,null,null,"Fall 2018","10",2019,"Amicus","Spot",0.9,"Animals & Nature","English","Reinforced Library",16,"C","300L","PreK - 3",597.29999999999995,"Mari Schuh"]
["NEW",9781645491552,null,9781645491132,null,"Squids",null,null,null,"Spot Ocean Animals",null,null,null,27.1,18.95,37.799999999999997,23.95,null,{"$f":"S195","v":0},null,{"$f":"U195","v":0},null,{"$f":"W195","v":0},null,0,0,0,0,0,0,0,0,null,null,null,null,null,"Spring 2021","G",2021,"Amicus","Spot",null,"Life Science","English","Reinforced Library",16,"C",null,"K & Up","594/.58","Mari Schuh"]
[null,9781681517155,null,9781681516332,null,"Stingrays",null,null,null,"Spot Ocean Animals",null,null,null,27.1,18.95,37.799999999999997,23.95,null,{"$f":"S195","v":0},null,{"$f":"U195","v":0},null,{"$f":"W195","v":0},null,0,0,0,0,0,0,0,0,null,null,null,null,null,"Fall 2019","10",2020,"Amicus","Spot",0.9,"Animals & Nature","English","Reinforced Library",16,"C","340L","PreK - 3","597.3/5","Mari Schuh"]
[null,9781681517162,null,9781681516349,null,"Tang Fish",null,null,null,"Spot Ocean Animals",null,null,null,27.1,18.95,37.799999999999997,23.95,null,{"$f":"S195","v":0},null,{"$f":"U195","v":0},null,{"$f":"W195","v":0},null,0,0,0,0,0,0,0,0,null,null,null,null,null,"Fall 2019","10",2020,"Amicus","Spot",0.9,"Animals & Nature","English","Reinforced Library",16,"C","340L","PreK - 3","597/.42","Mari Schuh"]
[null,9781681517179,null,9781681516356,null,"Whales",null,null,null,"Spot Ocean Animals",null,null,null,27.1,18.95,37.799999999999997,23.95,null,{"$f":"S195","v":0},null,{"$f":"U195","v":0},null,{"$f":"W195","v":0},null,0,0,0,0,0,0,0,0,null,null,null,null,null,"Fall 2019","10",2020,"Amicus","Spot",1,"Animals & Nature","English","Reinforced Library",16,"C","380L","PreK - 3","599.5/24","Mari Schuh"]
["NEW",9781681518473,null,9781681518077,null,"Biking",null,null,null,"Spot Outdoor Fun",null,null,null,27.1,18.95,37.799999999999997,23.95,null,{"$f":"S195","v":0},null,{"$f":"U195","v":0},null,{"$f":"W195","v":0},null,0,0,0,0,0,0,0,0,null,null,null,null,null,"Spring 2020","7",2020,"Amicus","Spot",0.9,"Sports & Recreation","English","Reinforced Library",16,"D",null,"PreK - 3","796.6--dc23","Nessa Black"]
["NEW",9781681518480,null,9781681518084,null,"Camping",null,null,null,"Spot Outdoor Fun",null,null,null,27.1,18.95,37.799999999999997,23.95,null,{"$f":"S195","v":0},null,{"$f":"U195","v":0},null,{"$f":"W195","v":0},null,0,0,0,0,0,0,0,0,null,null,null,null,null,"Spring 2020","7",2020,"Amicus","Spot",0.9,"Sports & Recreation","English","Reinforced Library",16,"D",null,"PreK - 3","796.54--dc23","Nessa Black"]
["NEW",9781681518497,null,9781681518091,null,"Canoeing",null,null,null,"Spot Outdoor Fun",null,null,null,27.1,18.95,37.799999999999997,23.95,null,{"$f":"S195","v":0},null,{"$f":"U195","v":0},null,{"$f":"W195","v":0},null,0,0,0,0,0,0,0,0,null,null,null,null,null,"Spring 2020","7",2020,"Amicus","Spot",0.9,"Sports & Recreation","English","Reinforced Library",16,"D",null,"PreK - 3","797.122--dc23","Nessa Black"]
["NEW",9781681518503,null,9781681518107,null,"Fishing",null,null,null,"Spot Outdoor Fun",null,null,null,27.1,18.95,37.799999999999997,23.95,null,{"$f":"S195","v":0},null,{"$f":"U195","v":0},null,{"$f":"W195","v":0},null,0,0,0,0,0,0,0,0,null,null,null,null,null,"Spring 2020","7",2020,"Amicus","Spot",0.9,"Sports & Recreation","English","Reinforced Library",16,"D",null,"PreK - 3","639.2--dc23","Nessa Black"]
["NEW",9781681518510,null,9781681518114,null,"Gardening",null,null,null,"Spot Outdoor Fun",null,null,null,27.1,18.95,37.799999999999997,23.95,null,{"$f":"S195","v":0},null,{"$f":"U195","v":0},null,{"$f":"W195","v":0},null,0,0,0,0,0,0,0,0,null,null,null,null,null,"Spring 2020","7",2020,"Amicus","Spot",0.9,"Sports & Recreation","English","Reinforced Library",16,"D",null,"PreK - 3","635--dc23","Nessa Black"]
["NEW",9781681518527,null,9781681518121,null,"Hiking",null,null,null,"Spot Outdoor Fun",null,null,null,27.1,18.95,37.799999999999997,23.95,null,{"$f":"S195","v":0},null,{"$f":"U195","v":0},null,{"$f":"W195","v":0},null,0,0,0,0,0,0,0,0,null,null,null,null,null,"Spring 2020","7",2020,"Amicus","Spot",0.9,"Sports & Recreation","English","Reinforced Library",16,"D",null,"PreK - 3","796.51--dc23","Nessa Black"]
["NEW",9781681518534,null,9781681518138,null,"Horseback Riding",null,null,null,"Spot Outdoor Fun",null,null,null,27.1,18.95,37.799999999999997,23.95,null,{"$f":"S195","v":0},null,{"$f":"U195","v":0},null,{"$f":"W195","v":0},null,0,0,0,0,0,0,0,0,null,null,null,null,null,"Spring 2020","7",2020,"Amicus","Spot",0.8,"Sports & Recreation","English","Reinforced Library",16,"D",null,"PreK - 3","798.2--dc23","Nessa Black"]
["NEW",9781681518541,null,9781681518145,null,"Rock Climbing",null,null,null,"Spot Outdoor Fun",null,null,null,27.1,18.95,37.799999999999997,23.95,null,{"$f":"S195","v":0},null,{"$f":"U195","v":0},null,{"$f":"W195","v":0},null,0,0,0,0,0,0,0,0,null,null,null,null,null,"Spring 2020","7",2020,"Amicus","Spot",1,"Sports & Recreation","English","Reinforced Library",16,"D",null,"PreK - 3","796.522/3--dc23","Nessa Black"]
[null,9781681514468,null,9781681513645,null,"Birds",null,null,null,"Spot Pets",null,null,null,27.1,18.95,37.799999999999997,23.95,null,{"$f":"S195","v":0},null,{"$f":"U195","v":0},null,{"$f":"W195","v":0},null,0,0,0,0,0,0,0,0,null,null,null,null,null,"Fall 2018","9",2019,"Amicus","Spot",0.9,"Animals & Nature","English","Reinforced Library",16,"C","260L","PreK - 3","636.6/8","Mari Schuh"]
[null,9781681514475,null,9781681513652,null,"Cats",null,null,null,"Spot Pets",null,null,null,27.1,18.95,37.799999999999997,23.95,null,{"$f":"S195","v":0},null,{"$f":"U195","v":0},null,{"$f":"W195","v":0},null,0,0,0,0,0,0,0,0,null,null,null,null,null,"Fall 2018","9",2019,"Amicus","Spot",0.8,"Animals & Nature","English","Reinforced Library",16,"C","250L","PreK - 3",636.79999999999995,"Mari Schuh"]
[null,9781681514482,null,9781681513669,null,"Dogs",null,null,null,"Spot Pets",null,null,null,27.1,18.95,37.799999999999997,23.95,null,{"$f":"S195","v":0},null,{"$f":"U195","v":0},null,{"$f":"W195","v":0},null,0,0,0,0,0,0,0,0,null,null,null,null,null,"Fall 2018","9",2019,"Amicus","Spot",0.8,"Animals & Nature","English","Reinforced Library",16,"C","250L","PreK - 3",636.70000000000005,"Mari Schuh"]
[null,9781681514499,null,9781681513676,null,"Fish",null,null,null,"Spot Pets",null,null,null,27.1,18.95,37.799999999999997,23.95,null,{"$f":"S195","v":0},null,{"$f":"U195","v":0},null,{"$f":"W195","v":0},null,0,0,0,0,0,0,0,0,null,null,null,null,null,"Fall 2018","9",2019,"Amicus","Spot",1,"Animals & Nature","English","Reinforced Library",16,"C","310L","PreK - 3",639.34,"Mari Schuh"]
[null,9781681514505,null,9781681513683,null,"Guinea Pigs",null,null,null,"Spot Pets",null,null,null,27.1,18.95,37.799999999999997,23.95,null,{"$f":"S195","v":0},null,{"$f":"U195","v":0},null,{"$f":"W195","v":0},null,0,0,0,0,0,0,0,0,null,null,null,null,null,"Fall 2018","9",2019,"Amicus","Spot",1,"Animals & Nature","English","Reinforced Library",16,"C","310L","PreK - 3","636.935/92","Mari Schuh"]
[null,9781681514512,null,9781681513690,null,"Hamsters",null,null,null,"Spot Pets",null,null,null,27.1,18.95,37.799999999999997,23.95,null,{"$f":"S195","v":0},null,{"$f":"U195","v":0},null,{"$f":"W195","v":0},null,0,0,0,0,0,0,0,0,null,null,null,null,null,"Fall 2018","9",2019,"Amicus","Spot",0.9,"Animals & Nature","English","Reinforced Library",16,"C","330L","PreK - 3","636.935/6","Mari Schuh"]
[null,9781681514529,null,9781681513706,null,"Rabbits",null,null,null,"Spot Pets",null,null,null,27.1,18.95,37.799999999999997,{"$f":"O324+5","v":23.95},null,{"$f":"S195","v":0},null,{"$f":"U195","v":0},null,{"$f":"W195","v":0},null,{"$f":"S324","v":0},{"$f":"U324","v":0},{"$f":"W324*2","v":0},{"$f":"Y324+Z324+AA324","v":0},{"$f":"S324*O324","v":0},{"$f":"U324*P324","v":0},{"$f":"W324*Q324","v":0},{"$f":"IF(AH324=FALSE,AC324+AD324+AE324,0)","v":0},null,null,null,null,null,"Fall 2018","9",2019,"Amicus","Spot",0.8,"Animals & Nature","English","Reinforced Library",16,"C","230L","PreK - 3","636.932/2","Mari Schuh"]
[null,9781681514536,null,9781681513713,null,"Turtles",null,null,null,"Spot Pets",null,null,null,27.1,18.95,37.799999999999997,23.95,null,{"$f":"S195","v":0},null,{"$f":"U195","v":0},null,{"$f":"W195","v":0},null,0,0,0,0,0,0,0,0,null,null,null,null,null,"Fall 2018","9",2019,"Amicus","Spot",1,"Animals & Nature","English","Reinforced Library",16,"C","280L","PreK - 3","639.3/92","Mari Schuh"]
[null,9781681515908,null,9781681515526,null,"Fall ",null,null,null,"Spot Seasons",null,null,null,27.1,18.95,37.799999999999997,23.95,null,{"$f":"S195","v":0},null,{"$f":"U195","v":0},null,{"$f":"W195","v":0},null,0,0,0,0,0,0,0,0,null,null,null,null,null,"Spring 2019","10",2019,"Amicus","Spot",0.9,"Animals & Nature","English","Reinforced Library",16,"C","270L","PreK - 3",508.2,"Mari Schuh"]
[null,9781681515885,null,9781681515502,null,"Spring",null,null,null,"Spot Seasons",null,null,null,27.1,18.95,37.799999999999997,23.95,null,{"$f":"S195","v":0},null,{"$f":"U195","v":0},null,{"$f":"W195","v":0},null,0,0,0,0,0,0,0,0,null,null,null,null,null,"Spring 2019","10",2019,"Amicus","Spot",0.9,"Animals & Nature","English","Reinforced Library",16,"C","270L","PreK - 3",508.2,"Mari Schuh"]
[null,9781681515892,null,9781681515519,null,"Summer",null,null,null,"Spot Seasons",null,null,null,27.1,18.95,37.799999999999997,23.95,null,{"$f":"S195","v":0},null,{"$f":"U195","v":0},null,{"$f":"W195","v":0},null,0,0,0,0,0,0,0,0,null,null,null,null,null,"Spring 2019","10",2019,"Amicus","Spot",0.9,"Animals & Nature","English","Reinforced Library",16,"C","280L","PreK - 3",508.2,"Mari Schuh"]
[null,9781681515915,null,9781681515533,null,"Winter",null,null,null,"Spot Seasons",null,null,null,27.1,18.95,37.799999999999997,23.95,null,{"$f":"S195","v":0},null,{"$f":"U195","v":0},null,{"$f":"W195","v":0},null,0,0,0,0,0,0,0,0,null,null,null,null,null,"Spring 2019","10",2019,"Amicus","Spot",0.9,"Animals & Nature","English","Reinforced Library",16,"C","280L","PreK - 3",508.2,"Mari Schuh"]
[null,9781681511757,null,9781681510859,null,"Baseball",null,null,null,"Spot Sports",null,null,null,27.1,18.95,37.799999999999997,23.95,null,{"$f":"S195","v":0},null,{"$f":"U195","v":0},null,{"$f":"W195","v":0},null,0,0,0,0,0,0,0,0,null,null,null,null,null,"Fall 2017","8",2018,"Amicus","Spot",0.8,"Sports & Recreation","English","Reinforced Library",16,"D","280L","PreK - 3",796.35699999999997,"Mari Schuh"]
[null,9781681511740,null,9781681510842,null,"Basketball",null,null,null,"Spot Sports",null,null,null,27.1,18.95,37.799999999999997,23.95,null,{"$f":"S195","v":0},null,{"$f":"U195","v":0},null,{"$f":"W195","v":0},null,0,0,0,0,0,0,0,0,null,null,null,null,null,"Fall 2017","8",2018,"Amicus","Spot",0.9,"Sports & Recreation","English","Reinforced Library",16,"D","320L","PreK - 3",796.32299999999998,"Mari Schuh"]
["NEW",9781645490180,null,9781681519333,null,"Bowling",null,null,null,"Spot Sports",null,null,null,27.1,18.95,37.799999999999997,23.95,null,{"$f":"S195","v":0},null,{"$f":"U195","v":0},null,{"$f":"W195","v":0},null,0,0,0,0,0,0,0,0,null,null,null,null,null,"Spring 2021","E",2021,"Amicus","Spot",0.9,"Sports and Recreation","English","Reinforced Library",16,"D",null,"K & Up","794.6","Mari Schuh"]
["NEW",9781645490197,null,9781681519340,null,"Cheerleading",null,null,null,"Spot Sports",null,null,null,27.1,18.95,37.799999999999997,23.95,null,{"$f":"S195","v":0},null,{"$f":"U195","v":0},null,{"$f":"W195","v":0},null,0,0,0,0,0,0,0,0,null,null,null,null,null,"Spring 2021","E",2021,"Amicus","Spot",1,"Sports and Recreation","English","Reinforced Library",16,"D",null,"K & Up","791.6/4","Mari Schuh"]
["NEW",9781645490203,null,9781681519357,null,"Downhill Skiing",null,null,null,"Spot Sports",null,null,null,27.1,18.95,37.799999999999997,23.95,null,{"$f":"S195","v":0},null,{"$f":"U195","v":0},null,{"$f":"W195","v":0},null,0,0,0,0,0,0,0,0,null,null,null,null,null,"Spring 2021","E",2021,"Amicus","Spot",1,"Sports and Recreation","English","Reinforced Library",16,"D",null,"K & Up","796.93","Mari Schuh"]
[null,9781681517322,null,9781681516509,null,"Figure Skating",null,null,null,"Spot Sports",null,null,null,27.1,18.95,37.799999999999997,23.95,null,{"$f":"S195","v":0},null,{"$f":"U195","v":0},null,{"$f":"W195","v":0},null,0,0,0,0,0,0,0,0,null,null,null,null,null,"Fall 2019","8",2020,"Amicus","Spot",1,"Sports & Recreation","English","Reinforced Library",16,"D","350L","PreK - 3","796.91/2","Mari Schuh"]
[null,9781681511764,null,9781681510866,null,"Football",null,null,null,"Spot Sports",null,null,null,27.1,18.95,37.799999999999997,23.95,null,{"$f":"S195","v":0},null,{"$f":"U195","v":0},null,{"$f":"W195","v":0},null,0,0,0,0,0,0,0,0,null,null,null,null,null,"Fall 2017","8",2018,"Amicus","Spot",0.9,"Sports & Recreation","English","Reinforced Library",16,"D","330L","PreK - 3",796.33199999999999,"Mari Schuh"]
[null,9781681517339,null,9781681516516,null,"Golf",null,null,null,"Spot Sports",null,null,null,27.1,18.95,37.799999999999997,23.95,null,{"$f":"S195","v":0},null,{"$f":"U195","v":0},null,{"$f":"W195","v":0},null,0,0,0,0,0,0,0,0,null,null,null,null,null,"Fall 2019","8",2020,"Amicus","Spot",0.9,"Sports & Recreation","English","Reinforced Library",16,"D","330L","PreK - 3",796.35199999999998,"Mari Schuh"]
[null,9781681511771,null,9781681510873,null,"Gymnastics",null,null,null,"Spot Sports",null,null,null,27.1,18.95,37.799999999999997,23.95,null,{"$f":"S195","v":0},null,{"$f":"U195","v":0},null,{"$f":"W195","v":0},null,0,0,0,0,0,0,0,0,null,null,null,null,null,"Fall 2017","8",2018,"Amicus","Spot",0.9,"Sports & Recreation","English","Reinforced Library",16,"D","280L","PreK - 3",796.44,"Mari Schuh"]
[null,9781681511788,null,9781681510880,null,"Hockey",null,null,null,"Spot Sports",null,null,null,27.1,18.95,37.799999999999997,23.95,null,{"$f":"S195","v":0},null,{"$f":"U195","v":0},null,{"$f":"W195","v":0},null,0,0,0,0,0,0,0,0,null,null,null,null,null,"Fall 2017","8",2018,"Amicus","Spot",0.9,"Sports & Recreation","English","Reinforced Library",16,"D","280L","PreK - 3",796.96199999999999,"Mari Schuh"]
["NEW",9781645490210,null,9781681519364,null,"Lacrosse",null,null,null,"Spot Sports",null,null,null,27.1,18.95,37.799999999999997,23.95,null,{"$f":"S195","v":0},null,{"$f":"U195","v":0},null,{"$f":"W195","v":0},null,0,0,0,0,0,0,0,0,null,null,null,null,null,"Spring 2021","E",2021,"Amicus","Spot",1,"Sports and Recreation","English","Reinforced Library",16,"D",null,"K & Up","796.36/2","Mari Schuh"]
["NEW",9781645490227,null,9781681519371,null,"Skateboarding",null,null,null,"Spot Sports",null,null,null,27.1,18.95,37.799999999999997,23.95,null,{"$f":"S195","v":0},null,{"$f":"U195","v":0},null,{"$f":"W195","v":0},null,0,0,0,0,0,0,0,0,null,null,null,null,null,"Spring 2021","E",2021,"Amicus","Spot",1,"Sports and Recreation","English","Reinforced Library",16,"D",null,"K & Up","796.22","Mari Schuh"]
[null,9781681517346,null,9781681516523,null,"Snowboarding",null,null,null,"Spot Sports",null,null,null,27.1,18.95,37.799999999999997,23.95,null,{"$f":"S195","v":0},null,{"$f":"U195","v":0},null,{"$f":"W195","v":0},null,0,0,0,0,0,0,0,0,null,null,null,null,null,"Fall 2019","8",2020,"Amicus","Spot",1,"Sports & Recreation","English","Reinforced Library",16,"D","400L","PreK - 3",796.93899999999996,"Mari Schuh"]
[null,9781681511795,null,9781681510897,null,"Soccer",null,null,null,"Spot Sports",null,null,null,27.1,18.95,37.799999999999997,23.95,null,{"$f":"S195","v":0},null,{"$f":"U195","v":0},null,{"$f":"W195","v":0},null,0,0,0,0,0,0,0,0,null,null,null,null,null,"Fall 2017","8",2018,"Amicus","Spot",0.9,"Sports & Recreation","English","Reinforced Library",16,"D","320L","PreK - 3",796.33399999999995,"Mari Schuh"]
["NEW",9781645490234,null,9781681519388,null,"Softball",null,null,null,"Spot Sports",null,null,null,27.1,18.95,37.799999999999997,23.95,null,{"$f":"S195","v":0},null,{"$f":"U195","v":0},null,{"$f":"W195","v":0},null,0,0,0,0,0,0,0,0,null,null,null,null,null,"Spring 2021","E",2021,"Amicus","Spot",0.9,"Sports and Recreation","English","Reinforced Library",16,"D",null,"K & Up","796.357/8","Mari Schuh"]
[null,9781681517353,null,9781681516530,null,"Swimming",null,null,null,"Spot Sports",null,null,null,27.1,18.95,37.799999999999997,23.95,null,{"$f":"S195","v":0},null,{"$f":"U195","v":0},null,{"$f":"W195","v":0},null,0,0,0,0,0,0,0,0,null,null,null,null,null,"Fall 2019","8",2020,"Amicus","Spot",1,"Sports & Recreation","English","Reinforced Library",16,"D","290L","PreK - 3","797.2/1","Mari Schuh"]
[null,9781681517360,null,9781681516547,null,"Tae Kwon Do",null,null,null,"Spot Sports",null,null,null,27.1,18.95,37.799999999999997,23.95,null,{"$f":"S195","v":0},null,{"$f":"U195","v":0},null,{"$f":"W195","v":0},null,0,0,0,0,0,0,0,0,null,null,null,null,null,"Fall 2019","8",2020,"Amicus","Spot",0.9,"Sports & Recreation","English","Reinforced Library",16,"D","340L","PreK - 3","796.815/7","Mari Schuh"]
["NEW",9781645490241,null,9781681519395,null,"Tennis",null,null,null,"Spot Sports",null,null,null,27.1,18.95,37.799999999999997,23.95,null,{"$f":"S195","v":0},null,{"$f":"U195","v":0},null,{"$f":"W195","v":0},null,0,0,0,0,0,0,0,0,null,null,null,null,null,"Spring 2021","E",2021,"Amicus","Spot",1,"Sports and Recreation","English","Reinforced Library",16,"D",null,"K & Up","796.342","Mari Schuh"]
["NEW",9781645490258,null,9781681519401,null,"Track and Field",null,null,null,"Spot Sports",null,null,null,27.1,18.95,37.799999999999997,23.95,null,{"$f":"S195","v":0},null,{"$f":"U195","v":0},null,{"$f":"W195","v":0},null,0,0,0,0,0,0,0,0,null,null,null,null,null,"Spring 2021","E",2021,"Amicus","Spot",0.9,"Sports and Recreation","English","Reinforced Library",16,"D",null,"K & Up","796.42","Mari Schuh"]
[null,9781681517377,null,9781681516554,null,"Volleyball",null,null,null,"Spot Sports",null,null,null,27.1,18.95,37.799999999999997,23.95,null,{"$f":"S195","v":0},null,{"$f":"U195","v":0},null,{"$f":"W195","v":0},null,0,0,0,0,0,0,0,0,null,null,null,null,null,"Fall 2019","8",2020,"Amicus","Spot",0.9,"Sports & Recreation","English","Reinforced Library",16,"D","310L","PreK - 3",796.32500000000005,"Mari Schuh"]
["NEW",9781645490128,null,9781681519272,null,"Bobcats",null,null,null,"Spot Wild Cats",null,null,null,27.1,18.95,37.799999999999997,23.95,null,{"$f":"S195","v":0},null,{"$f":"U195","v":0},null,{"$f":"W195","v":0},null,0,0,0,0,0,0,0,0,null,null,null,null,null,"Spring 2021","F",2021,"Amicus","Spot",0.9,"Life Science","English","Reinforced Library",16,"C",null,"K & Up","599.75/36","Alissa Thielges"]
["NEW",9781645490135,null,9781681519289,null,"Cougars",null,null,null,"Spot Wild Cats",null,null,null,27.1,18.95,37.799999999999997,23.95,null,{"$f":"S195","v":0},null,{"$f":"U195","v":0},null,{"$f":"W195","v":0},null,0,0,0,0,0,0,0,0,null,null,null,null,null,"Spring 2021","F",2021,"Amicus","Spot",0.9,"Life Science","English","Reinforced Library",16,"C",null,"K & Up","599.75/24","Alissa Thielges"]
["NEW",9781645490142,null,9781681519296,null,"Jaguars",null,null,null,"Spot Wild Cats",null,null,null,27.1,18.95,37.799999999999997,23.95,null,{"$f":"S195","v":0},null,{"$f":"U195","v":0},null,{"$f":"W195","v":0},null,0,0,0,0,0,0,0,0,null,null,null,null,null,"Spring 2021","F",2021,"Amicus","Spot",0.9,"Life Science","English","Reinforced Library",16,"C",null,"K & Up","599.75/5","Alissa Thielges"]
["NEW",9781645490159,null,9781681519302,null,"Leopards",null,null,null,"Spot Wild Cats",null,null,null,27.1,18.95,37.799999999999997,23.95,null,{"$f":"S195","v":0},null,{"$f":"U195","v":0},null,{"$f":"W195","v":0},null,0,0,0,0,0,0,0,0,null,null,null,null,null,"Spring 2021","F",2021,"Amicus","Spot",0.9,"Life Science","English","Reinforced Library",16,"C",null,"K & Up","599.75/54","Alissa Thielges"]
["NEW",9781645490166,null,9781681519319,null,"Lynx",null,null,null,"Spot Wild Cats",null,null,null,27.1,18.95,37.799999999999997,23.95,null,{"$f":"S195","v":0},null,{"$f":"U195","v":0},null,{"$f":"W195","v":0},null,0,0,0,0,0,0,0,0,null,null,null,null,null,"Spring 2021","F",2021,"Amicus","Spot",0.8,"Life Science","English","Reinforced Library",16,"C",null,"K & Up","599.75/3","Alissa Thielges"]
["NEW",9781645490173,null,9781681519326,null,"Tigers",null,null,null,"Spot Wild Cats",null,null,null,27.1,18.95,37.799999999999997,23.95,null,{"$f":"S195","v":0},null,{"$f":"U195","v":0},null,{"$f":"W195","v":0},null,0,0,0,0,0,0,0,0,null,null,null,null,null,"Spring 2021","F",2021,"Amicus","Spot",0.9,"Life Science","English","Reinforced Library",16,"C",null,"K & Up","599.756","Alissa Thielges"]
[]
[null,null,null,null,null,"Complete Series of 6",null,null,null,"Deportes olímpicos de verano (Summer Olympic Sports)",null,null,null,{"$f":"SUM(N358:N363)","v":196.8},{"$f":"SUM(O358:O363)","v":137.69999999999999},{"$f":"SUM(P358:P363)","v":280.8},{"$f":"SUM(Q358:Q363)","v":167.7},null,null,null,null,null,null,null,null,null,null,null,null,null,null,null,null,null,null,null,null,null,null,null,"Amicus"]
["NEW",9781681519258,null,9781681518992,null,"El atletismo (Track & Field)",null,null,null,"Deportes olímpicos de verano (Summer Olympic Sports)",null,null,null,32.799999999999997,22.95,46.8,{"$f":"O358+5","v":27.95},null,{"$f":"S357","v":0},null,{"$f":"U357","v":0},null,{"$f":"W357","v":0},null,{"$f":"S358","v":0},{"$f":"U358","v":0},{"$f":"W358*2","v":0},{"$f":"Y358+Z358+AA358","v":0},{"$f":"S358*O358","v":0},{"$f":"U358*P358","v":0},{"$f":"W358*Q358","v":0},{"$f":"IF(AH358=FALSE,AC358+AD358+AE358,0)","v":0},null,null,null,null,null,"Spring 2020","41",2020,"Amicus","Amicus High Interest",3.6,"Sports & Recreation","Spanish","Reinforced Library",32,null,null,"1 - 4","796.42--dc23","M. K. Osborne"]
["NEW",9781681519210,null,9781681518954,null,"El baloncesto (Basketball)",null,null,null,"Deportes olímpicos de verano (Summer Olympic Sports)",null,null,null,32.799999999999997,22.95,46.8,27.95,null,{"$f":"S357","v":0},null,{"$f":"U357","v":0},null,{"$f":"W357","v":0},null,0,0,0,0,0,0,0,0,null,null,null,null,null,"Spring 2020","41",2020,"Amicus","Amicus High Interest",3.7,"Sports & Recreation","Spanish","Reinforced Library",32,null,null,"1 - 4","796.323--dc23","M. K. Osborne"]
["NEW",9781681519265,null,9781681519005,null,"El vóleibol (Volleyball)",null,null,null,"Deportes olímpicos de verano (Summer Olympic Sports)",null,null,null,32.799999999999997,22.95,46.8,27.95,null,{"$f":"S357","v":0},null,{"$f":"U357","v":0},null,{"$f":"W357","v":0},null,0,0,0,0,0,0,0,0,null,null,null,null,null,"Spring 2020","41",2020,"Amicus","Amicus High Interest",3.7,"Sports & Recreation","Spanish","Reinforced Library",32,null,null,"1 - 4","796.325--dc23","M. K. Osborne"]
["NEW",9781681519234,null,9781681518978,null,"La gimnasia (Gymnastics)",null,null,null,"Deportes olímpicos de verano (Summer Olympic Sports)",null,null,null,32.799999999999997,22.95,46.8,27.95,null,{"$f":"S357","v":0},null,{"$f":"U357","v":0},null,{"$f":"W357","v":0},null,0,0,0,0,0,0,0,0,null,null,null,null,null,"Spring 2020","41",2020,"Amicus","Amicus High Interest",4.0999999999999996,"Sports & Recreation","Spanish","Reinforced Library",32,null,null,"1 - 4","796.44--dc23","M. K. Osborne"]
["NEW",9781681519241,null,9781681518985,null,"La natación y los saltos ornamentales (Swimmming & Diving)",null,null,null,"Deportes olímpicos de verano (Summer Olympic Sports)",null,null,null,32.799999999999997,22.95,46.8,27.95,null,{"$f":"S357","v":0},null,{"$f":"U357","v":0},null,{"$f":"W357","v":0},null,0,0,0,0,0,0,0,0,null,null,null,null,null,"Spring 2020","41",2020,"Amicus","Amicus High Interest",3.5,"Sports & Recreation","Spanish","Reinforced Library",32,null,null,"1 - 4","797.2--dc23","M. K. Osborne"]
["NEW",9781681519227,null,9781681518961,null,"Los deportes de combate (Combat Sports)",null,null,null,"Deportes olímpicos de verano (Summer Olympic Sports)",null,null,null,32.799999999999997,22.95,46.8,27.95,null,{"$f":"S357","v":0},null,{"$f":"U357","v":0},null,{"$f":"W357","v":0},null,0,0,0,0,0,0,0,0,null,null,null,null,null,"Spring 2020","41",2020,"Amicus","Amicus High Interest",3.8,"Sports & Recreation","Spanish","Reinforced Library",32,null,null,"1 - 4","796.8--dc23","M. K. Osborne"]
[]
[null,null,null,null,null,"Complete Series of 14",null,null,null,"Favorite Cat Breeds",null,null,null,{"$f":"SUM(N366:N379)","v":419.2999999999999},{"$f":"SUM(O366:O379)","v":293.29999999999995},{"$f":"SUM(P366:P379)","v":599.19999999999993},{"$f":"SUM(Q366:Q379)","v":363.2999999999999},null,null,null,null,null,null,null,null,null,null,null,null,null,null,null,null,null,null,null,null,null,null,null,"Amicus"]
[null,9781681510002,null,9781607539667,null,"Abyssinian Cats",null,null,null,"Favorite Cat Breeds",null,null,null,29.95,20.95,42.8,{"$f":"O366+5","v":25.95},null,{"$f":"S365","v":0},null,{"$f":"U365","v":0},null,{"$f":"W365","v":0},null,{"$f":"S366","v":0},{"$f":"U366","v":0},{"$f":"W366*2","v":0},{"$f":"Y366+Z366+AA366","v":0},{"$f":"S366*O366","v":0},{"$f":"U366*P366","v":0},{"$f":"W366*Q366","v":0},{"$f":"IF(AH366=FALSE,AC366+AD366+AE366,0)","v":0},null,null,null,null,null,"Fall 2016","19",2017,"Amicus","Amicus High Interest",2,"Animals & Nature","English","Reinforced Library",24,"I","470L","1 - 4","636.8/26","Mari Schuh"]
[null,9781681510019,null,9781607539674,null,"American Shorthair Cats",null,null,null,"Favorite Cat Breeds",null,null,null,29.95,20.95,42.8,25.95,null,{"$f":"S365","v":0},null,{"$f":"U365","v":0},null,{"$f":"W365","v":0},null,0,0,0,0,0,0,0,0,null,null,null,null,null,"Fall 2016","19",2017,"Amicus","Amicus High Interest",2.1,"Animals & Nature","English","Reinforced Library",24,"I","470L","1 - 4","636.8/22","Mari Schuh"]
[null,9781681510026,null,9781607539681,null,"Birman Cats",null,null,null,"Favorite Cat Breeds",null,null,null,29.95,20.95,42.8,25.95,null,{"$f":"S365","v":0},null,{"$f":"U365","v":0},null,{"$f":"W365","v":0},null,0,0,0,0,0,0,0,0,null,null,null,null,null,"Fall 2016","19",2017,"Amicus","Amicus High Interest",2.1,"Animals & Nature","English","Reinforced Library",24,"I","390L","1 - 4","636.8/24","Mari Schuh"]
["NEW",9781681518558,null,9781681518152,null,"British Shorthair Cats",null,null,null,"Favorite Cat Breeds",null,null,null,29.95,20.95,42.8,25.95,null,{"$f":"S365","v":0},null,{"$f":"U365","v":0},null,{"$f":"W365","v":0},null,0,0,0,0,0,0,0,0,null,null,null,null,null,"Spring 2020","19",2020,"Amicus","Amicus High Interest",2.1,"Animals & Nature","English","Reinforced Library",24,"I",null,"1 - 4","636.8/22--dc23","Mary Ellen Klukow"]
["NEW",9781681518565,null,9781681518169,null,"Devon Rex Cats",null,null,null,"Favorite Cat Breeds",null,null,null,29.95,20.95,42.8,25.95,null,{"$f":"S365","v":0},null,{"$f":"U365","v":0},null,{"$f":"W365","v":0},null,0,0,0,0,0,0,0,0,null,null,null,null,null,"Spring 2020","19",2020,"Amicus","Amicus High Interest",2.1,"Animals & Nature","English","Reinforced Library",24,"I",null,"1 - 4","636.8/22--dc23","Mary Ellen Klukow"]
["NEW",9781681518572,null,9781681518176,null,"Exotic Cats",null,null,null,"Favorite Cat Breeds",null,null,null,29.95,20.95,42.8,25.95,null,{"$f":"S365","v":0},null,{"$f":"U365","v":0},null,{"$f":"W365","v":0},null,0,0,0,0,0,0,0,0,null,null,null,null,null,"Spring 2020","19",2020,"Amicus","Amicus High Interest",2.2999999999999998,"Animals & Nature","English","Reinforced Library",24,"I",null,"1 - 4","636.8/2--dc23","Mary Ellen Klukow"]
[null,9781681510033,null,9781607539698,null,"Maine Coon Cats",null,null,null,"Favorite Cat Breeds",null,null,null,29.95,20.95,42.8,25.95,null,{"$f":"S365","v":0},null,{"$f":"U365","v":0},null,{"$f":"W365","v":0},null,0,0,0,0,0,0,0,0,null,null,null,null,null,"Fall 2016","19",2017,"Amicus","Amicus High Interest",2,"Animals & Nature","English","Reinforced Library",24,"I","470L","1 - 4","636.8/3","Mari Schuh"]
["NEW",9781681518589,null,9781681518183,null,"Oriental Cats",null,null,null,"Favorite Cat Breeds",null,null,null,29.95,20.95,42.8,25.95,null,{"$f":"S365","v":0},null,{"$f":"U365","v":0},null,{"$f":"W365","v":0},null,0,0,0,0,0,0,0,0,null,null,null,null,null,"Spring 2020","19",2020,"Amicus","Amicus High Interest",2.5,"Animals & Nature","English","Reinforced Library",24,"I",null,"1 - 4","636.8--dc23","Mary Ellen Klukow"]
[null,9781681510040,null,9781607539704,null,"Persian Cats",null,null,null,"Favorite Cat Breeds",null,null,null,29.95,20.95,42.8,25.95,null,{"$f":"S365","v":0},null,{"$f":"U365","v":0},null,{"$f":"W365","v":0},null,0,0,0,0,0,0,0,0,null,null,null,null,null,"Fall 2016","19",2017,"Amicus","Amicus High Interest",2.1,"Animals & Nature","English","Reinforced Library",24,"I","500L","1 - 4","636.8/32","Mari Schuh"]
[null,9781681510057,null,9781607539711,null,"Ragdoll Cats",null,null,null,"Favorite Cat Breeds",null,null,null,29.95,20.95,42.8,25.95,null,{"$f":"S365","v":0},null,{"$f":"U365","v":0},null,{"$f":"W365","v":0},null,0,0,0,0,0,0,0,0,null,null,null,null,null,"Fall 2016","19",2017,"Amicus","Amicus High Interest",2,"Animals & Nature","English","Reinforced Library",24,"I","430L","1 - 4","636.8/3","Mari Schuh"]
["NEW",9781681518596,null,9781681518190,null,"Scottish Folds",null,null,null,"Favorite Cat Breeds",null,null,null,29.95,20.95,42.8,25.95,null,{"$f":"S365","v":0},null,{"$f":"U365","v":0},null,{"$f":"W365","v":0},null,0,0,0,0,0,0,0,0,null,null,null,null,null,"Spring 2020","19",2020,"Amicus","Amicus High Interest",2.2999999999999998,"Animals & Nature","English","Reinforced Library",24,"I",null,"1 - 4","636.8--dc23","Mary Ellen Klukow"]
[null,9781681510064,null,9781607539728,null,"Siamese Cats",null,null,null,"Favorite Cat Breeds",null,null,null,29.95,20.95,42.8,25.95,null,{"$f":"S365","v":0},null,{"$f":"U365","v":0},null,{"$f":"W365","v":0},null,0,0,0,0,0,0,0,0,null,null,null,null,null,"Fall 2016","19",2017,"Amicus","Amicus High Interest",2,"Animals & Nature","English","Reinforced Library",24,"I","480L","1 - 4","636.8/25","Mari Schuh"]
["NEW",9781681518602,null,9781681518206,null,"Siberian Cats",null,null,null,"Favorite Cat Breeds",null,null,null,29.95,20.95,42.8,25.95,null,{"$f":"S365","v":0},null,{"$f":"U365","v":0},null,{"$f":"W365","v":0},null,0,0,0,0,0,0,0,0,null,null,null,null,null,"Spring 2020","19",2020,"Amicus","Amicus High Interest",2.2999999999999998,"Animals & Nature","English","Reinforced Library",24,"I",null,"1 - 4","636.8--dc23","Mary Ellen Klukow"]
[null,9781681510071,null,9781607539735,null,"Sphynx Cats",null,null,null,"Favorite Cat Breeds",null,null,null,29.95,20.95,42.8,25.95,null,{"$f":"S365","v":0},null,{"$f":"U365","v":0},null,{"$f":"W365","v":0},null,0,0,0,0,0,0,0,0,null,null,null,null,null,"Fall 2016","19",2017,"Amicus","Amicus High Interest",2.1,"Animals & Nature","English","Reinforced Library",24,"I","410L","1 - 4",636.79999999999995,"Mari Schuh"]
[]
[null,null,null,null,null,"Complete Series of 4",null,null,null,"Paralympic Sports",null,null,null,{"$f":"SUM(N382:N385)","v":131.19999999999999},{"$f":"SUM(O382:O385)","v":91.8},{"$f":"SUM(P382:P385)","v":187.2},{"$f":"SUM(Q382:Q385)","v":111.8},null,null,null,null,null,null,null,null,null,null,null,null,null,null,null,null,null,null,null,null,null,null,null,"Amicus"]
["NEW",9781681518695,null,9781681518299,null,"Individual Sports at the Paralympics",null,null,null,"Paralympic Sports",null,null,null,32.799999999999997,22.95,46.8,{"$f":"O382+5","v":27.95},null,{"$f":"S381","v":0},null,{"$f":"U381","v":0},null,{"$f":"W381","v":0},null,{"$f":"S382","v":0},{"$f":"U382","v":0},{"$f":"W382*2","v":0},{"$f":"Y382+Z382+AA382","v":0},{"$f":"S382*O382","v":0},{"$f":"U382*P382","v":0},{"$f":"W382*Q382","v":0},{"$f":"IF(AH382=FALSE,AC382+AD382+AE382,0)","v":0},null,null,null,null,null,"Spring 2020","13",2020,"Amicus","Amicus High Interest",3.5,"Sports & Recreation","English","Reinforced Library",32,"L",null,"2 – 5","796.04/56--dc23","Matt Bowers"]
["NEW",9781681518701,null,9781681518305,null,"Team Sports at the Paralympics",null,null,null,"Paralympic Sports",null,null,null,32.799999999999997,22.95,46.8,{"$f":"O383+5","v":27.95},null,{"$f":"S381","v":0},null,{"$f":"U381","v":0},null,{"$f":"W381","v":0},null,{"$f":"S383","v":0},{"$f":"U383","v":0},{"$f":"W383*2","v":0},{"$f":"Y383+Z383+AA383","v":0},{"$f":"S383*O383","v":0},{"$f":"U383*P383","v":0},{"$f":"W383*Q383","v":0},{"$f":"IF(AH383=FALSE,AC383+AD383+AE383,0)","v":0},null,null,null,null,null,"Spring 2020","13",2020,"Amicus","Amicus High Interest",3.4,"Sports & Recreation","English","Reinforced Library",32,"L",null,"2 – 5","796.04/56--dc23","Matt Bowers"]
["NEW",9781681518688,null,9781681518282,null,"Water Sports at the Paralympics",null,null,null,"Paralympic Sports",null,null,null,32.799999999999997,22.95,46.8,{"$f":"O384+5","v":27.95},null,{"$f":"S381","v":0},null,{"$f":"U381","v":0},null,{"$f":"W381","v":0},null,{"$f":"S384","v":0},{"$f":"U384","v":0},{"$f":"W384*2","v":0},{"$f":"Y384+Z384+AA384","v":0},{"$f":"S384*O384","v":0},{"$f":"U384*P384","v":0},{"$f":"W384*Q384","v":0},{"$f":"IF(AH384=FALSE,AC384+AD384+AE384,0)","v":0},null,null,null,null,null,"Spring 2020","13",2020,"Amicus","Amicus High Interest",3.5,"Sports & Recreation","English","Reinforced Library",32,"L",null,"2 – 5","796.04/56--dc23","Matt Bowers"]
["NEW",9781681518671,null,9781681518275,null,"Wheelchair Sports at the Paralympics",null,null,null,"Paralympic Sports",null,null,null,32.799999999999997,22.95,46.8,{"$f":"O385+5","v":27.95},null,{"$f":"S381","v":0},null,{"$f":"U381","v":0},null,{"$f":"W381","v":0},null,{"$f":"S385","v":0},{"$f":"U385","v":0},{"$f":"W385*2","v":0},{"$f":"Y385+Z385+AA385","v":0},{"$f":"S385*O385","v":0},{"$f":"U385*P385","v":0},{"$f":"W385*Q385","v":0},{"$f":"IF(AH385=FALSE,AC385+AD385+AE385,0)","v":0},null,null,null,null,null,"Spring 2020","13",2020,"Amicus","Amicus High Interest",3.5,"Sports & Recreation","English","Reinforced Library",32,"L",null,"2 – 5","796.04/56--dc23","Matt Bowers"]
[]
[null,null,null,null,null,"Complete Series of 40",null,null,null,"Sequence ",null,null,null,{"$f":"SUM(N388:N427)","v":1311.9999999999991},{"$f":"SUM(O388:O427)","v":918.00000000000057},1871.9999999999989,{"$f":"SUM(Q388:Q427)","v":1118.0000000000007},null,null,null,null,null,null,null,null,null,null,null,null,null,null,null,null,null,null,null,null,null,null,null,"Amicus"]
[null,9781681515106,null,9781681514284,null,"Building a Bridge",null,null,null,"Sequence Amazing Structures",null,null,null,32.799999999999997,22.95,46.8,{"$f":"O388+5","v":27.95},null,{"$f":"S387","v":0},null,{"$f":"U387","v":0},null,{"$f":"W387","v":0},null,{"$f":"S388","v":0},{"$f":"U388","v":0},{"$f":"W388*2","v":0},{"$f":"Y388+Z388+AA388","v":0},{"$f":"S388*O388","v":0},{"$f":"U388*P388","v":0},{"$f":"W388*Q388","v":0},{"$f":"IF(AH388=FALSE,AC388+AD388+AE388,0)","v":0},null,null,null,null,null,"Fall 2018","37",2019,"Amicus","Sequence",null,"Science & Technology","English","Reinforced Library",32,"M","480L","2 – 5",624.20000000000005,"Angie Smibert"]
[null,9781681515113,null,9781681514291,null,"Building a Dam",null,null,null,"Sequence Amazing Structures",null,null,null,32.799999999999997,22.95,46.8,27.95,null,{"$f":"S387","v":0},null,{"$f":"U387","v":0},null,{"$f":"W387","v":0},null,0,0,0,0,0,0,0,0,null,null,null,null,null,"Fall 2018","37",2019,"Amicus","Sequence",null,"Science & Technology","English","Reinforced Library",32,"M","540L","2 – 5","627/.8","Angie Smibert"]
["NEW",9781681518749,null,9781681518343,null,"Building a Highway",null,null,null,"Sequence Amazing Structures",null,null,null,32.799999999999997,22.95,46.8,27.95,null,{"$f":"S387","v":0},null,{"$f":"U387","v":0},null,{"$f":"W387","v":0},null,0,0,0,0,0,0,0,0,null,null,null,null,null,"Spring 2020","37",2020,"Amicus","Sequence",null,"Science & Technology","English","Reinforced Library",32,"M",null,"2 – 5","625.7--dc23","Karen Latchana Kenney"]
[null,9781681515120,null,9781681514307,null,"Building a Roller Coaster",null,null,null,"Sequence Amazing Structures",null,null,null,32.799999999999997,22.95,46.8,27.95,null,{"$f":"S387","v":0},null,{"$f":"U387","v":0},null,{"$f":"W387","v":0},null,0,0,0,0,0,0,0,0,null,null,null,null,null,"Fall 2018","37",2019,"Amicus","Sequence",null,"Science & Technology","English","Reinforced Library",32,"M","530L","2 – 5",796.5,"Karen Latchana Kenney"]
[null,9781681515137,null,9781681514314,null,"Building a Skyscraper",null,null,null,"Sequence Amazing Structures",null,null,null,32.799999999999997,22.95,46.8,27.95,null,{"$f":"S387","v":0},null,{"$f":"U387","v":0},null,{"$f":"W387","v":0},null,0,0,0,0,0,0,0,0,null,null,null,null,null,"Fall 2018","37",2019,"Amicus","Sequence",null,"Science & Technology","English","Reinforced Library",32,"M","540L","2 – 5","690/.52","Karen Latchana Kenney"]
[null,9781681515144,null,9781681514321,null,"Building a Stadium",null,null,null,"Sequence Amazing Structures",null,null,null,32.799999999999997,22.95,46.8,27.95,null,{"$f":"S387","v":0},null,{"$f":"U387","v":0},null,{"$f":"W387","v":0},null,0,0,0,0,0,0,0,0,null,null,null,null,null,"Fall 2018","37",2019,"Amicus","Sequence",null,"Science & Technology","English","Reinforced Library",32,"M","510L","2 – 5","690/.5827","Angie Smibert"]
["NEW",9781681518725,null,9781681518329,null,"Building a Subway",null,null,null,"Sequence Amazing Structures",null,null,null,32.799999999999997,22.95,46.8,27.95,null,{"$f":"S387","v":0},null,{"$f":"U387","v":0},null,{"$f":"W387","v":0},null,0,0,0,0,0,0,0,0,null,null,null,null,null,"Spring 2020","37",2020,"Amicus","Sequence",null,"Science & Technology","English","Reinforced Library",32,"M",null,"2 – 5","625.4/2--dc23","Annie C. Holdren"]
[null,9781681515151,null,9781681514338,null,"Building a Tunnel",null,null,null,"Sequence Amazing Structures",null,null,null,32.799999999999997,22.95,46.8,27.95,null,{"$f":"S387","v":0},null,{"$f":"U387","v":0},null,{"$f":"W387","v":0},null,0,0,0,0,0,0,0,0,null,null,null,null,null,"Fall 2018","37",2019,"Amicus","Sequence",null,"Science & Technology","English","Reinforced Library",32,"M","530L","2 – 5","624.1/93","Karen Latchana Kenney"]
["NEW",9781681518718,null,9781681518312,null,"Building an Airport",null,null,null,"Sequence Amazing Structures",null,null,null,32.799999999999997,22.95,46.8,27.95,null,{"$f":"S387","v":0},null,{"$f":"U387","v":0},null,{"$f":"W387","v":0},null,0,0,0,0,0,0,0,0,null,null,null,null,null,"Spring 2020","37",2020,"Amicus","Sequence",null,"Science & Technology","English","Reinforced Library",32,"M",null,"2 – 5","690/.539--dc23","Karen Latchana Kenney"]
["NEW",9781681518732,null,9781681518336,null,"Building an Offshore Oil Rig",null,null,null,"Sequence Amazing Structures",null,null,null,32.799999999999997,22.95,46.8,27.95,null,{"$f":"S387","v":0},null,{"$f":"U387","v":0},null,{"$f":"W387","v":0},null,0,0,0,0,0,0,0,0,null,null,null,null,null,"Spring 2020","37",2020,"Amicus","Sequence",null,"Science & Technology","English","Reinforced Library",32,"M",null,"2 – 5","622/.3381--dc23","Annie C. Holdren"]
[null,9781681517544,null,9781681516721,null,"Understanding How Laws Are Made",null,null,null,"Sequence American Government",null,null,null,32.799999999999997,22.95,46.8,27.95,null,{"$f":"S387","v":0},null,{"$f":"U387","v":0},null,{"$f":"W387","v":0},null,0,0,0,0,0,0,0,0,null,null,null,null,null,"Fall 2019","38",2020,"Amicus","Sequence",3.4,"Social Studies","English","Reinforced Library",32,"M",43501,"2 – 5",328.73,"Matt Bowers "]
[null,9781681517568,null,9781681516745,null,"Understanding Presidential Elections",null,null,null,"Sequence American Government",null,null,null,32.799999999999997,22.95,46.8,27.95,null,{"$f":"S387","v":0},null,{"$f":"U387","v":0},null,{"$f":"W387","v":0},null,0,0,0,0,0,0,0,0,null,null,null,null,null,"Fall 2019","38",2020,"Amicus","Sequence",3.7,"Social Studies","English","Reinforced Library",32,"M",43501,"2 – 5",324.60973000000001,"Matt Bowers "]
[null,9781681517520,null,9781681516707,null,"Understanding the Path to Citizenship",null,null,null,"Sequence American Government",null,null,null,32.799999999999997,22.95,46.8,27.95,null,{"$f":"S387","v":0},null,{"$f":"U387","v":0},null,{"$f":"W387","v":0},null,0,0,0,0,0,0,0,0,null,null,null,null,null,"Fall 2019","38",2020,"Amicus","Sequence",3.7,"Social Studies","English","Reinforced Library",32,"M",43501,"2 – 5","323.6/20973","Kremena Spengler"]
[null,9781681517537,null,9781681516714,null,"Writing the Bill of Rights",null,null,null,"Sequence American Government",null,null,null,32.799999999999997,22.95,46.8,27.95,null,{"$f":"S387","v":0},null,{"$f":"U387","v":0},null,{"$f":"W387","v":0},null,0,0,0,0,0,0,0,0,null,null,null,null,null,"Fall 2019","38",2020,"Amicus","Sequence",4,"Social Studies","English","Reinforced Library",32,"M",43501,"2 – 5","342.7303/9","Matt Bowers "]
[null,9781681517551,null,9781681516738,null,"Writing the Declaration of Independence",null,null,null,"Sequence American Government",null,null,null,32.799999999999997,22.95,46.8,27.95,null,{"$f":"S387","v":0},null,{"$f":"U387","v":0},null,{"$f":"W387","v":0},null,0,0,0,0,0,0,0,0,null,null,null,null,null,"Fall 2019","38",2020,"Amicus","Sequence",3.8,"Social Studies","English","Reinforced Library",32,"M",43501,"2 – 5","973.3/13","Matt Bowers "]
[null,9781681517575,null,9781681516752,null,"Writing the U.S. Constitution",null,null,null,"Sequence American Government",null,null,null,32.799999999999997,22.95,46.8,27.95,null,{"$f":"S387","v":0},null,{"$f":"U387","v":0},null,{"$f":"W387","v":0},null,0,0,0,0,0,0,0,0,null,null,null,null,null,"Fall 2019","38",2020,"Amicus","Sequence",3.8,"Social Studies","English","Reinforced Library",32,"M",43501,"2 – 5","342.7302/9","Matt Bowers "]
[null,9781681517582,null,9781681516769,null,"The Life of Harriet Tubman",null,null,null,"Sequence Change Maker Biographies",null,null,null,32.799999999999997,22.95,46.8,27.95,null,{"$f":"S387","v":0},null,{"$f":"U387","v":0},null,{"$f":"W387","v":0},null,0,0,0,0,0,0,0,0,null,null,null,null,null,"Fall 2019","40",2020,"Amicus","Sequence",3.5,"Biography","English","Reinforced Library",32,"M",43501,"2 – 5","306.3/62092 [B]","Elizabeth Raum"]
[null,9781681517599,null,9781681516776,null,"The Life of Malala Yousafzai",null,null,null,"Sequence Change Maker Biographies",null,null,null,32.799999999999997,22.95,46.8,27.95,null,{"$f":"S387","v":0},null,{"$f":"U387","v":0},null,{"$f":"W387","v":0},null,0,0,0,0,0,0,0,0,null,null,null,null,null,"Fall 2019","40",2020,"Amicus","Sequence",3.5,"Biography","English","Reinforced Library",32,"M",43501,"2 – 5",371.82209549100003,"Elizabeth Raum"]
[null,9781681517605,null,9781681516783,null,"The Life of Marie Curie",null,null,null,"Sequence Change Maker Biographies",null,null,null,32.799999999999997,22.95,46.8,27.95,null,{"$f":"S387","v":0},null,{"$f":"U387","v":0},null,{"$f":"W387","v":0},null,0,0,0,0,0,0,0,0,null,null,null,null,null,"Fall 2019","40",2020,"Amicus","Sequence",3.6,"Biography","English","Reinforced Library",32,"M",43501,"2 – 5","540.92 [B]","Elizabeth Raum"]
[null,9781681517612,null,9781681516790,null,"The Life of Ruby Bridges",null,null,null,"Sequence Change Maker Biographies",null,null,null,32.799999999999997,22.95,46.8,27.95,null,{"$f":"S387","v":0},null,{"$f":"U387","v":0},null,{"$f":"W387","v":0},null,0,0,0,0,0,0,0,0,null,null,null,null,null,"Fall 2019","40",2020,"Amicus","Sequence",3.6,"Biography","English","Reinforced Library",32,"M",43501,"2 – 5","379.2/63092 [B]","Elizabeth Raum"]
[null,9781681517629,null,9781681516806,null,"The Life of Sally Ride",null,null,null,"Sequence Change Maker Biographies",null,null,null,32.799999999999997,22.95,46.8,27.95,null,{"$f":"S387","v":0},null,{"$f":"U387","v":0},null,{"$f":"W387","v":0},null,0,0,0,0,0,0,0,0,null,null,null,null,null,"Fall 2019","40",2020,"Amicus","Sequence",3.7,"Biography","English","Reinforced Library",32,"M",43501,"2 – 5","629.450092 [B]","Elizabeth Raum"]
[null,9781681517636,null,9781681516813,null,"The Life of Susan B. Anthony",null,null,null,"Sequence Change Maker Biographies",null,null,null,32.799999999999997,22.95,46.8,27.95,null,{"$f":"S387","v":0},null,{"$f":"U387","v":0},null,{"$f":"W387","v":0},null,0,0,0,0,0,0,0,0,null,null,null,null,null,"Fall 2019","40",2020,"Amicus","Sequence",3.4,"Biography","English","Reinforced Library",32,"M",43501,"2 – 5","305.4209 [B]","Elizabeth Raum"]
[null,9781681517643,null,9781681516820,null,"Automobiles from Then to Now",null,null,null,"Sequence Developments in Technology",null,null,null,32.799999999999997,22.95,46.8,27.95,null,{"$f":"S387","v":0},null,{"$f":"U387","v":0},null,{"$f":"W387","v":0},null,0,0,0,0,0,0,0,0,null,null,null,null,null,"Fall 2019","39",2020,"Amicus","Sequence",3.6,"Science & Technology","English","Reinforced Library",32,"M",43501,"2 – 5",629.22208999999998,"Rachel Grack"]
[null,9781681517650,null,9781681516837,null,"Navigation from Then to Now",null,null,null,"Sequence Developments in Technology",null,null,null,32.799999999999997,22.95,46.8,27.95,null,{"$f":"S387","v":0},null,{"$f":"U387","v":0},null,{"$f":"W387","v":0},null,0,0,0,0,0,0,0,0,null,null,null,null,null,"Fall 2019","39",2020,"Amicus","Sequence",3.7,"Science & Technology","English","Reinforced Library",32,"M",43501,"2 – 5",623.89,"Rachel Grack"]
[null,9781681517674,null,9781681516851,null,"Robots from Then to Now",null,null,null,"Sequence Developments in Technology",null,null,null,32.799999999999997,22.95,46.8,27.95,null,{"$f":"S387","v":0},null,{"$f":"U387","v":0},null,{"$f":"W387","v":0},null,0,0,0,0,0,0,0,0,null,null,null,null,null,"Fall 2019","39",2020,"Amicus","Sequence",3.7,"Science & Technology","English","Reinforced Library",32,"M",43501,"2 – 5","629.8/9209","Rachel Grack"]
[null,9781681517698,null,9781681516875,null,"Space Travel from Then to Now",null,null,null,"Sequence Developments in Technology",null,null,null,32.799999999999997,22.95,46.8,27.95,null,{"$f":"S387","v":0},null,{"$f":"U387","v":0},null,{"$f":"W387","v":0},null,0,0,0,0,0,0,0,0,null,null,null,null,null,"Fall 2019","39",2020,"Amicus","Sequence",3.8,"Science & Technology","English","Reinforced Library",32,"M",43501,"2 – 5","629.4/1","Rachel Grack"]
[null,9781681517681,null,9781681516868,null,"Toilets from Then to Now",null,null,null,"Sequence Developments in Technology",null,null,null,32.799999999999997,22.95,46.8,27.95,null,{"$f":"S387","v":0},null,{"$f":"U387","v":0},null,{"$f":"W387","v":0},null,0,0,0,0,0,0,0,0,null,null,null,null,null,"Fall 2019","39",2020,"Amicus","Sequence",3.8,"Science & Technology","English","Reinforced Library",32,"M",43501,"2 – 5","696/.182","Rachel Grack"]
[null,9781681517667,null,9781681516844,null,"Wireless Technology from Then to Now",null,null,null,"Sequence Developments in Technology",null,null,null,32.799999999999997,22.95,46.8,27.95,null,{"$f":"S387","v":0},null,{"$f":"U387","v":0},null,{"$f":"W387","v":0},null,0,0,0,0,0,0,0,0,null,null,null,null,null,"Fall 2019","39",2020,"Amicus","Sequence",4,"Science & Technology","English","Reinforced Library",32,"M",43501,"2 – 5",621.38208999999995,"Rachel Grack"]
[null,9781681515168,null,9781681514345,null,"Discovering Apatosaurus",null,null,null,"Sequence Discovering Dinosaurs",null,null,null,32.799999999999997,22.95,46.8,27.95,null,{"$f":"S387","v":0},null,{"$f":"U387","v":0},null,{"$f":"W387","v":0},null,0,0,0,0,0,0,0,0,null,null,null,null,null,"Fall 2018","40",2019,"Amicus","Amicus High Interest",3.5,"Animals & Nature","English","Reinforced Library",32,"M","510L","2 – 5","567.913/8","Kathy Frost"]
[null,9781681515175,null,9781681514352,null,"Discovering Pterosaurs",null,null,null,"Sequence Discovering Dinosaurs",null,null,null,32.799999999999997,22.95,46.8,27.95,null,{"$f":"S387","v":0},null,{"$f":"U387","v":0},null,{"$f":"W387","v":0},null,0,0,0,0,0,0,0,0,null,null,null,null,null,"Fall 2018","40",2019,"Amicus","Amicus High Interest",3.6,"Animals & Nature","English","Reinforced Library",32,"M","550L","2 – 5",567.91800000000001,"Kathy Frost"]
[null,9781681515182,null,9781681514369,null,"Discovering Stegosaurus",null,null,null,"Sequence Discovering Dinosaurs",null,null,null,32.799999999999997,22.95,46.8,27.95,null,{"$f":"S387","v":0},null,{"$f":"U387","v":0},null,{"$f":"W387","v":0},null,0,0,0,0,0,0,0,0,null,null,null,null,null,"Fall 2018","40",2019,"Amicus","Amicus High Interest",3.6,"Animals & Nature","English","Reinforced Library",32,"M","530L","2 – 5","567.915/3","Laura Hamilton Waxman"]
[null,9781681515199,null,9781681514376,null,"Discovering Triceratops",null,null,null,"Sequence Discovering Dinosaurs",null,null,null,32.799999999999997,22.95,46.8,27.95,null,{"$f":"S387","v":0},null,{"$f":"U387","v":0},null,{"$f":"W387","v":0},null,0,0,0,0,0,0,0,0,null,null,null,null,null,"Fall 2018","40",2019,"Amicus","Amicus High Interest",3.7,"Animals & Nature","English","Reinforced Library",32,"M","580L","2 – 5","567.915/8","Laura Hamilton Waxman"]
[null,9781681515205,null,9781681514383,null,"Discovering Tyrannosaurus Rex",null,null,null,"Sequence Discovering Dinosaurs",null,null,null,32.799999999999997,22.95,46.8,27.95,null,{"$f":"S387","v":0},null,{"$f":"U387","v":0},null,{"$f":"W387","v":0},null,0,0,0,0,0,0,0,0,null,null,null,null,null,"Fall 2018","40",2019,"Amicus","Amicus High Interest",3.5,"Animals & Nature","English","Reinforced Library",32,"M","520L","2 – 5","567.912/9","Laura Hamilton Waxman"]
[null,9781681515212,null,9781681514390,null,"Discovering Velociraptor",null,null,null,"Sequence Discovering Dinosaurs",null,null,null,32.799999999999997,22.95,46.8,27.95,null,{"$f":"S387","v":0},null,{"$f":"U387","v":0},null,{"$f":"W387","v":0},null,0,0,0,0,0,0,0,0,null,null,null,null,null,"Fall 2018","40",2019,"Amicus","Amicus High Interest",3.7,"Animals & Nature","English","Reinforced Library",32,"M","520L","2 – 5",567.91200000000003,"Rachel Grack"]
[null,9781681515229,null,9781681514406,null,"Making a Book",null,null,null,"Sequence Entertainment",null,null,null,32.799999999999997,22.95,46.8,27.95,null,{"$f":"S387","v":0},null,{"$f":"U387","v":0},null,{"$f":"W387","v":0},null,0,0,0,0,0,0,0,0,null,null,null,null,null,"Fall 2018","40",2019,"Amicus","Amicus High Interest",null,"Arts, Crafts, & Activities","English","Reinforced Library",32,"M","520L","2 – 5",null,"Nadia Higgins"]
[null,9781681515236,null,9781681514413,null,"Making a Movie",null,null,null,"Sequence Entertainment",null,null,null,32.799999999999997,22.95,46.8,27.95,null,{"$f":"S387","v":0},null,{"$f":"U387","v":0},null,{"$f":"W387","v":0},null,0,0,0,0,0,0,0,0,null,null,null,null,null,"Fall 2018","40",2019,"Amicus","Amicus High Interest",null,"Arts, Crafts, & Activities","English","Reinforced Library",32,"M","480L","2 – 5",777,"Nadia Higgins"]
[null,9781681515243,null,9781681514420,null,"Making a Podcast",null,null,null,"Sequence Entertainment",null,null,null,32.799999999999997,22.95,46.8,27.95,null,{"$f":"S387","v":0},null,{"$f":"U387","v":0},null,{"$f":"W387","v":0},null,0,0,0,0,0,0,0,0,null,null,null,null,null,"Fall 2018","40",2019,"Amicus","Amicus High Interest",null,"Arts, Crafts, & Activities","English","Reinforced Library",32,"M","530L","2 – 5","006.7/876","Nadia Higgins"]
[null,9781681515250,null,9781681514437,null,"Making a TV Show",null,null,null,"Sequence Entertainment",null,null,null,32.799999999999997,22.95,46.8,27.95,null,{"$f":"S387","v":0},null,{"$f":"U387","v":0},null,{"$f":"W387","v":0},null,0,0,0,0,0,0,0,0,null,null,null,null,null,"Fall 2018","40",2019,"Amicus","Amicus High Interest",null,"Arts, Crafts, & Activities","English","Reinforced Library",32,"M","480L","2 – 5","791.4502/32","Nadia Higgins"]
[null,9781681515267,null,9781681514444,null,"Making a Video Game",null,null,null,"Sequence Entertainment",null,null,null,32.799999999999997,22.95,46.8,27.95,null,{"$f":"S387","v":0},null,{"$f":"U387","v":0},null,{"$f":"W387","v":0},null,0,0,0,0,0,0,0,0,null,null,null,null,null,"Fall 2018","40",2019,"Amicus","Amicus High Interest",null,"Arts, Crafts, & Activities","English","Reinforced Library",32,"M","500L","2 – 5","794.8/1536","Nadia Higgins"]
[null,9781681515274,null,9781681514451,null,"Making an App",null,null,null,"Sequence Entertainment",null,null,null,32.799999999999997,22.95,46.8,27.95,null,{"$f":"S387","v":0},null,{"$f":"U387","v":0},null,{"$f":"W387","v":0},null,0,0,0,0,0,0,0,0,null,null,null,null,null,"Fall 2018","40",2019,"Amicus","Amicus High Interest",null,"Arts, Crafts, & Activities","English","Reinforced Library",32,"M","450L","2 – 5",5.3,"Nadia Higgins"]
[]
[null,null,null,null,null,"Complete Series of 6",null,null,null,"Summer Olympic Sports",null,null,null,{"$f":"SUM(N430:N435)","v":196.8},{"$f":"SUM(O430:O435)","v":137.69999999999999},{"$f":"SUM(P430:P435)","v":280.8},{"$f":"SUM(Q430:Q435)","v":167.7},null,null,null,null,null,null,null,null,null,null,null,null,null,null,null,null,null,null,null,null,null,null,null,"Amicus"]
["NEW",9781681518619,null,9781681518213,null,"Basketball '20",null,null,null,"Summer Olympic Sports",null,null,null,32.799999999999997,22.95,46.8,{"$f":"O430+5","v":27.95},null,{"$f":"S429","v":0},null,{"$f":"U429","v":0},null,{"$f":"W429","v":0},null,{"$f":"S430","v":0},{"$f":"U430","v":0},{"$f":"W430*2","v":0},{"$f":"Y430+Z430+AA430","v":0},{"$f":"S430*O430","v":0},{"$f":"U430*P430","v":0},{"$f":"W430*Q430","v":0},{"$f":"IF(AH430=FALSE,AC430+AD430+AE430,0)","v":0},null,null,null,null,null,"Spring 2020","15",2020,"Amicus","Amicus High Interest",3.7,"Sports & Recreation","English","Reinforced Library",32,"L",null,"2 – 5","796.323--dc23","M. K. Osborne"]
["NEW",9781681518626,null,9781681518220,null,"Combat Sports '20",null,null,null,"Summer Olympic Sports",null,null,null,32.799999999999997,22.95,46.8,27.95,null,{"$f":"S429","v":0},null,{"$f":"U429","v":0},null,{"$f":"W429","v":0},null,0,0,0,0,0,0,0,0,null,null,null,null,null,"Spring 2020","15",2020,"Amicus","Amicus High Interest",3.8,"Sports & Recreation","English","Reinforced Library",32,"L",null,"2 – 5","796.8--dc23","M. K. Osborne"]
["NEW",9781681518633,null,9781681518237,null,"Gymnastics '20",null,null,null,"Summer Olympic Sports",null,null,null,32.799999999999997,22.95,46.8,27.95,null,{"$f":"S429","v":0},null,{"$f":"U429","v":0},null,{"$f":"W429","v":0},null,0,0,0,0,0,0,0,0,null,null,null,null,null,"Spring 2020","15",2020,"Amicus","Amicus High Interest",4.0999999999999996,"Sports & Recreation","English","Reinforced Library",32,"L",null,"2 – 5","796.44--dc23","M. K. Osborne"]
["NEW",9781681518640,null,9781681518244,null,"Swimming and Diving '20",null,null,null,"Summer Olympic Sports",null,null,null,32.799999999999997,22.95,46.8,27.95,null,{"$f":"S429","v":0},null,{"$f":"U429","v":0},null,{"$f":"W429","v":0},null,0,0,0,0,0,0,0,0,null,null,null,null,null,"Spring 2020","15",2020,"Amicus","Amicus High Interest",3.5,"Sports & Recreation","English","Reinforced Library",32,"L",null,"2 – 5","797.2--dc23","M. K. Osborne"]
["NEW",9781681518657,null,9781681518251,null,"Track and Field '20",null,null,null,"Summer Olympic Sports",null,null,null,32.799999999999997,22.95,46.8,27.95,null,{"$f":"S429","v":0},null,{"$f":"U429","v":0},null,{"$f":"W429","v":0},null,0,0,0,0,0,0,0,0,null,null,null,null,null,"Spring 2020","15",2020,"Amicus","Amicus High Interest",3.6,"Sports & Recreation","English","Reinforced Library",32,"L",null,"2 – 5","796.42--dc23","M. K. Osborne"]
["NEW",9781681518664,null,9781681518268,null,"Volleyball '20",null,null,null,"Summer Olympic Sports",null,null,null,32.799999999999997,22.95,46.8,27.95,null,{"$f":"S429","v":0},null,{"$f":"U429","v":0},null,{"$f":"W429","v":0},null,0,0,0,0,0,0,0,0,null,null,null,null,null,"Spring 2020","15",2020,"Amicus","Amicus High Interest",3.7,"Sports & Recreation","English","Reinforced Library",32,"L",null,"2 – 5","796.325--dc23","M. K. Osborne"]
[]
[null,null,null,null,null,"Complete Series of 6",null,null,null,"Animal Habitats at Risk",null,null,null,{"$f":"SUM(N438:N443)","v":179.7},{"$f":"SUM(O438:O443)","v":125.7},{"$f":"SUM(P438:P443)","v":256.8},{"$f":"SUM(Q438:Q443)","v":155.69999999999999},null,null,null,null,null,null,null,null,null,null,null,null,null,null,null,null,null,null,null,null,null,null,null,"Amicus"]
[null,9781681517827,null,9781681517001,null,"A Bat Colony’s Search for a New Home",null,null,null,"Animal Habitats at Risk",null,null,null,29.95,20.95,42.8,{"$f":"O438+5","v":25.95},null,{"$f":"S437","v":0},null,{"$f":"U437","v":0},null,{"$f":"W437","v":0},null,{"$f":"S438","v":0},{"$f":"U438","v":0},{"$f":"W438*2","v":0},{"$f":"Y438+Z438+AA438","v":0},{"$f":"S438*O438","v":0},{"$f":"U438*P438","v":0},{"$f":"W438*Q438","v":0},{"$f":"IF(AH438=FALSE,AC438+AD438+AE438,0)","v":0},null,null,null,null,null,"Fall 2019","27",2020,"Amicus","Amicus Illustrated",3.1,"Animals & Nature","English","Reinforced Library",24,"J","590L","K - 3",599.4,"Mary Ellen Klukow"]
[null,9781681517834,null,9781681517018,null,"A Frog's Dangerous Home",null,null,null,"Animal Habitats at Risk",null,null,null,29.95,20.95,42.8,25.95,null,{"$f":"S437","v":0},null,{"$f":"U437","v":0},null,{"$f":"W437","v":0},null,0,0,0,0,0,0,0,0,null,null,null,null,null,"Fall 2019","27",2020,"Amicus","Amicus Illustrated",3.1,"Animals & Nature","English","Reinforced Library",24,"J","630L","K - 3","333.95/789","Mary Ellen Klukow"]
[null,9781681517841,null,9781681517025,null,"A Wild Cat's Shrinking Home",null,null,null,"Animal Habitats at Risk",null,null,null,29.95,20.95,42.8,25.95,null,{"$f":"S437","v":0},null,{"$f":"U437","v":0},null,{"$f":"W437","v":0},null,0,0,0,0,0,0,0,0,null,null,null,null,null,"Fall 2019","27",2020,"Amicus","Amicus Illustrated",3.5,"Animals & Nature","English","Reinforced Library",24,"J","680L","K - 3","599.75/3","Mary Ellen Klukow"]
[null,9781681517858,null,9781681517032,null,"A Bee's Difficult Search for Food",null,null,null,"Animal Habitats at Risk",null,null,null,29.95,20.95,42.8,25.95,null,{"$f":"S437","v":0},null,{"$f":"U437","v":0},null,{"$f":"W437","v":0},null,0,0,0,0,0,0,0,0,null,null,null,null,null,"Fall 2019","27",2020,"Amicus","Amicus Illustrated",3.3,"Animals & Nature","English","Reinforced Library",24,"J","600L","K - 3","595.79/9","Mary Ellen Klukow"]
[null,9781681517865,null,9781681517049,null,"A Sparrow's Disappearing Home",null,null,null,"Animal Habitats at Risk",null,null,null,29.95,20.95,42.8,25.95,null,{"$f":"S437","v":0},null,{"$f":"U437","v":0},null,{"$f":"W437","v":0},null,0,0,0,0,0,0,0,0,null,null,null,null,null,"Fall 2019","27",2020,"Amicus","Amicus Illustrated",3.2,"Animals & Nature","English","Reinforced Library",24,"J","590L","K - 3","333.95/887","Mary Ellen Klukow"]
[null,9781681517872,null,9781681517056,null,"A Turtle's Dangerous Journey",null,null,null,"Animal Habitats at Risk",null,null,null,29.95,20.95,42.8,25.95,null,{"$f":"S437","v":0},null,{"$f":"U437","v":0},null,{"$f":"W437","v":0},null,0,0,0,0,0,0,0,0,null,null,null,null,null,"Fall 2019","27",2020,"Amicus","Amicus Illustrated",3,"Animals & Nature","English","Reinforced Library",24,"J","570L","K - 3","333.95/792","Mary Ellen Klukow"]
[]
[null,null,null,null,null,"Complete Series of 12",null,null,null,"Do You Really Want to Meet a Dinosaur?",null,null,null,{"$f":"SUM(N446:N457)","v":359.39999999999992},{"$f":"SUM(O446:O457)","v":251.39999999999995},{"$f":"SUM(P446:P457)","v":513.6},{"$f":"SUM(Q446:Q457)","v":311.39999999999992},null,null,null,null,null,null,null,null,null,null,null,null,null,null,null,null,null,null,null,null,null,null,null,"Amicus"]
[null,9781681512037,null,9781681511139,null,"Do You Really Want to Meet a Pterosaur?",null,null,null,"Do You Really Want to Meet a Dinosaur?",null,null,null,29.95,20.95,42.8,{"$f":"O446+5","v":25.95},null,{"$f":"S445","v":0},null,{"$f":"U445","v":0},null,{"$f":"W445","v":0},null,{"$f":"S446","v":0},{"$f":"U446","v":0},{"$f":"W446*2","v":0},{"$f":"Y446+Z446+AA446","v":0},{"$f":"S446*O446","v":0},{"$f":"U446*P446","v":0},{"$f":"W446*Q446","v":0},{"$f":"IF(AH446=FALSE,AC446+AD446+AE446,0)","v":0},null,null,null,null,null,"Fall 2017","25",2018,"Amicus","Amicus Illustrated",2.5,"Animals & Nature","English","Reinforced Library",24,"J","560L","K - 3",567.91800000000001,"Annette Bay Pimentel"]
[null,9781681517902,null,9781681517087,null,"Do You Really Want to Meet Allosaurus?",null,null,null,"Do You Really Want to Meet a Dinosaur?",null,null,null,29.95,20.95,42.8,25.95,null,{"$f":"S445","v":0},null,{"$f":"U445","v":0},null,{"$f":"W445","v":0},null,0,0,0,0,0,0,0,0,null,null,null,null,null,"Fall 2019","25",2020,"Amicus","Amicus Illustrated",2.4,"Animals & Nature","English","Reinforced Library",24,"J","500L","K - 3",567.91200000000003,"Annette Bay Pimentel"]
[null,9781681517919,null,9781681517094,null,"Do You Really Want to Meet Ankylosaurus?",null,null,null,"Do You Really Want to Meet a Dinosaur?",null,null,null,29.95,20.95,42.8,25.95,null,{"$f":"S445","v":0},null,{"$f":"U445","v":0},null,{"$f":"W445","v":0},null,0,0,0,0,0,0,0,0,null,null,null,null,null,"Fall 2019","25",2020,"Amicus","Amicus Illustrated",2.2999999999999998,"Animals & Nature","English","Reinforced Library",24,"J","510L","K - 3",567.91499999999996,"Annette Bay Pimentel"]
[null,9781681512020,null,9781681511122,null,"Do You Really Want to Meet Apatosaurus?",null,null,null,"Do You Really Want to Meet a Dinosaur?",null,null,null,29.95,20.95,42.8,25.95,null,{"$f":"S445","v":0},null,{"$f":"U445","v":0},null,{"$f":"W445","v":0},null,0,0,0,0,0,0,0,0,null,null,null,null,null,"Fall 2017","25",2018,"Amicus","Amicus Illustrated",2.4,"Animals & Nature","English","Reinforced Library",24,"J","500L","K - 3","567.913/8","Annette Bay Pimentel"]
[null,9781681517889,null,9781681517063,null,"Do You Really Want to Meet Diplodocus?",null,null,null,"Do You Really Want to Meet a Dinosaur?",null,null,null,29.95,20.95,42.8,25.95,null,{"$f":"S445","v":0},null,{"$f":"U445","v":0},null,{"$f":"W445","v":0},null,0,0,0,0,0,0,0,0,null,null,null,null,null,"Fall 2019","25",2020,"Amicus","Amicus Illustrated",2.4,"Animals & Nature","English","Reinforced Library",24,"J","500L","K - 3",567.91300000000001,"Annette Bay Pimentel"]
[null,9781681517926,null,9781681517100,null,"Do You Really Want to Meet Edmontosaurus?",null,null,null,"Do You Really Want to Meet a Dinosaur?",null,null,null,29.95,20.95,42.8,25.95,null,{"$f":"S445","v":0},null,{"$f":"U445","v":0},null,{"$f":"W445","v":0},null,0,0,0,0,0,0,0,0,null,null,null,null,null,"Fall 2019","25",2020,"Amicus","Amicus Illustrated",2.5,"Animals & Nature","English","Reinforced Library",24,"J","500L","K - 3",567.91399999999999,"Annette Bay Pimentel"]
[null,9781681517933,null,9781681517117,null,"Do You Really Want to Meet Iguanodon?",null,null,null,"Do You Really Want to Meet a Dinosaur?",null,null,null,29.95,20.95,42.8,25.95,null,{"$f":"S445","v":0},null,{"$f":"U445","v":0},null,{"$f":"W445","v":0},null,0,0,0,0,0,0,0,0,null,null,null,null,null,"Fall 2019","25",2020,"Amicus","Amicus Illustrated",2.6,"Animals & Nature","English","Reinforced Library",24,"J","530L","K - 3",567.91399999999999,"Annette Bay Pimentel"]
[null,9781681517896,null,9781681517070,null,"Do You Really Want to Meet Spinosaurus?",null,null,null,"Do You Really Want to Meet a Dinosaur?",null,null,null,29.95,20.95,42.8,25.95,null,{"$f":"S445","v":0},null,{"$f":"U445","v":0},null,{"$f":"W445","v":0},null,0,0,0,0,0,0,0,0,null,null,null,null,null,"Fall 2019","25",2020,"Amicus","Amicus Illustrated",2.2999999999999998,"Animals & Nature","English","Reinforced Library",24,"J","540L","K - 3",567.91200000000003,"Annette Bay Pimentel"]
[null,9781681512044,null,9781681511146,null,"Do You Really Want to Meet Stegosaurus?",null,null,null,"Do You Really Want to Meet a Dinosaur?",null,null,null,29.95,20.95,42.8,25.95,null,{"$f":"S445","v":0},null,{"$f":"U445","v":0},null,{"$f":"W445","v":0},null,0,0,0,0,0,0,0,0,null,null,null,null,null,"Fall 2017","25",2018,"Amicus","Amicus Illustrated",2.4,"Animals & Nature","English","Reinforced Library",24,"J","560L","K - 3","567.915/3","Annette Bay Pimentel"]
[null,9781681512051,null,9781681511153,null,"Do You Really Want to Meet Triceratops?",null,null,null,"Do You Really Want to Meet a Dinosaur?",null,null,null,29.95,20.95,42.8,25.95,null,{"$f":"S445","v":0},null,{"$f":"U445","v":0},null,{"$f":"W445","v":0},null,0,0,0,0,0,0,0,0,null,null,null,null,null,"Fall 2017","25",2018,"Amicus","Amicus Illustrated",2.6,"Animals & Nature","English","Reinforced Library",24,"J","530L","K - 3","567.915/8","Annette Bay Pimentel"]
[null,9781681512068,null,9781681511160,null,"Do You Really Want to Meet Tyrannosaurus Rex?",null,null,null,"Do You Really Want to Meet a Dinosaur?",null,null,null,29.95,20.95,42.8,25.95,null,{"$f":"S445","v":0},null,{"$f":"U445","v":0},null,{"$f":"W445","v":0},null,0,0,0,0,0,0,0,0,null,null,null,null,null,"Fall 2017","25",2018,"Amicus","Amicus Illustrated",2.6,"Animals & Nature","English","Reinforced Library",24,"J","560L","K - 3","567.912/9","Annette Bay Pimentel"]
[null,9781681512075,null,9781681511177,null,"Do You Really Want to Meet Velociraptor?",null,null,null,"Do You Really Want to Meet a Dinosaur?",null,null,null,29.95,20.95,42.8,25.95,null,{"$f":"S445","v":0},null,{"$f":"U445","v":0},null,{"$f":"W445","v":0},null,0,0,0,0,0,0,0,0,null,null,null,null,null,"Fall 2017","25",2018,"Amicus","Amicus Illustrated",2.5,"Animals & Nature","English","Reinforced Library",24,"J","540L","K - 3",567.91200000000003,"Annette Bay Pimentel"]
[]
[null,null,null,null,null,"Complete Series of 14",null,null,null,"Favorite Dog Breeds",null,null,null,{"$f":"SUM(N460:N473)","v":419.2999999999999},{"$f":"SUM(O460:O473)","v":293.29999999999995},{"$f":"SUM(P460:P473)","v":599.19999999999993},{"$f":"SUM(Q460:Q473)","v":363.2999999999999},null,null,null,null,null,null,null,null,null,null,null,null,null,null,null,null,null,null,null,null,null,null,null,"Amicus"]
[null,9781681512143,null,9781681511245,null,"Beagles",null,null,null,"Favorite Dog Breeds",null,null,null,29.95,20.95,42.8,{"$f":"O460+5","v":25.95},null,{"$f":"S459","v":0},null,{"$f":"U459","v":0},null,{"$f":"W459","v":0},null,{"$f":"S460","v":0},{"$f":"U460","v":0},{"$f":"W460*2","v":0},{"$f":"Y460+Z460+AA460","v":0},{"$f":"S460*O460","v":0},{"$f":"U460*P460","v":0},{"$f":"W460*Q460","v":0},{"$f":"IF(AH460=FALSE,AC460+AD460+AE460,0)","v":0},null,null,null,null,null,"Fall 2017","20",2018,"Amicus","Amicus High Interest",2,"Animals & Nature","English","Reinforced Library",24,"I","460L","1 - 4","636.753/7","Martha E. H. Rustad"]
[null,9781681512150,null,9781681511252,null,"Boxers",null,null,null,"Favorite Dog Breeds",null,null,null,29.95,20.95,42.8,25.95,null,{"$f":"S459","v":0},null,{"$f":"U459","v":0},null,{"$f":"W459","v":0},null,0,0,0,0,0,0,0,0,null,null,null,null,null,"Fall 2017","20",2018,"Amicus","Amicus High Interest",2,"Animals & Nature","English","Reinforced Library",24,"I","430L","1 - 4",636.73,"Martha E. H. Rustad"]
[null,9781681512167,null,9781681511269,null,"Bulldogs",null,null,null,"Favorite Dog Breeds",null,null,null,29.95,20.95,42.8,25.95,null,{"$f":"S459","v":0},null,{"$f":"U459","v":0},null,{"$f":"W459","v":0},null,0,0,0,0,0,0,0,0,null,null,null,null,null,"Fall 2017","20",2018,"Amicus","Amicus High Interest",2.1,"Animals & Nature","English","Reinforced Library",24,"I","420L","1 - 4",636.72,"Martha E. H. Rustad"]
[null,9781681517384,null,9781681516561,null,"Dalmatians",null,null,null,"Favorite Dog Breeds",null,null,null,29.95,20.95,42.8,25.95,null,{"$f":"S459","v":0},null,{"$f":"U459","v":0},null,{"$f":"W459","v":0},null,0,0,0,0,0,0,0,0,null,null,null,null,null,"Fall 2019","20",2020,"Amicus","Amicus High Interest",2,"Animals & Nature","English","Reinforced Library",24,"I","450L","1 - 4",636.72,"Mary Ellen Klukow"]
[null,9781681512174,null,9781681511276,null,"German Shepherds",null,null,null,"Favorite Dog Breeds",null,null,null,29.95,20.95,42.8,25.95,null,{"$f":"S459","v":0},null,{"$f":"U459","v":0},null,{"$f":"W459","v":0},null,0,0,0,0,0,0,0,0,null,null,null,null,null,"Fall 2017","20",2018,"Amicus","Amicus High Interest",2.2999999999999998,"Animals & Nature","English","Reinforced Library",24,"I","480L","1 - 4","636.737/6","Martha E. H. Rustad"]
[null,9781681517391,null,9781681516578,null,"Golden Retrievers",null,null,null,"Favorite Dog Breeds",null,null,null,29.95,20.95,42.8,25.95,null,{"$f":"S459","v":0},null,{"$f":"U459","v":0},null,{"$f":"W459","v":0},null,0,0,0,0,0,0,0,0,null,null,null,null,null,"Fall 2019","20",2020,"Amicus","Amicus High Interest",2.2999999999999998,"Animals & Nature","English","Reinforced Library",24,"I","510L","1 - 4","636.752/7","Mary Ellen Klukow"]
[null,9781681517407,null,9781681516585,null,"Great Danes",null,null,null,"Favorite Dog Breeds",null,null,null,29.95,20.95,42.8,25.95,null,{"$f":"S459","v":0},null,{"$f":"U459","v":0},null,{"$f":"W459","v":0},null,0,0,0,0,0,0,0,0,null,null,null,null,null,"Fall 2019","20",2020,"Amicus","Amicus High Interest",2.2999999999999998,"Animals & Nature","English","Reinforced Library",24,"I","490L","1 - 4",636.73,"Mary Ellen Klukow"]
[null,9781681512181,null,9781681511283,null,"Labrador Retrievers",null,null,null,"Favorite Dog Breeds",null,null,null,29.95,20.95,42.8,25.95,null,{"$f":"S459","v":0},null,{"$f":"U459","v":0},null,{"$f":"W459","v":0},null,0,0,0,0,0,0,0,0,null,null,null,null,null,"Fall 2017","20",2018,"Amicus","Amicus High Interest",2.2999999999999998,"Animals & Nature","English","Reinforced Library",24,"I","490L","1 - 4","636.752/7","Martha E. H. Rustad"]
[null,9781681512198,null,9781681511290,null,"Poodles",null,null,null,"Favorite Dog Breeds",null,null,null,29.95,20.95,42.8,25.95,null,{"$f":"S459","v":0},null,{"$f":"U459","v":0},null,{"$f":"W459","v":0},null,0,0,0,0,0,0,0,0,null,null,null,null,null,"Fall 2017","20",2018,"Amicus","Amicus High Interest",2.1,"Animals & Nature","English","Reinforced Library",24,"I","480L","1 - 4","636.72/8","Martha E. H. Rustad"]
[null,9781681512204,null,9781681511306,null,"Saint Bernards",null,null,null,"Favorite Dog Breeds",null,null,null,29.95,20.95,42.8,25.95,null,{"$f":"S459","v":0},null,{"$f":"U459","v":0},null,{"$f":"W459","v":0},null,0,0,0,0,0,0,0,0,null,null,null,null,null,"Fall 2017","20",2018,"Amicus","Amicus High Interest",2.2999999999999998,"Animals & Nature","English","Reinforced Library",24,"I","460L","1 - 4",636.73,"Martha E. H. Rustad"]
[null,9781681512211,null,9781681511313,null,"Scottish Terriers",null,null,null,"Favorite Dog Breeds",null,null,null,29.95,20.95,42.8,25.95,null,{"$f":"S459","v":0},null,{"$f":"U459","v":0},null,{"$f":"W459","v":0},null,0,0,0,0,0,0,0,0,null,null,null,null,null,"Fall 2017","20",2018,"Amicus","Amicus High Interest",2.2999999999999998,"Animals & Nature","English","Reinforced Library",24,"I","490L","1 - 4",636.755,"Martha E. H. Rustad"]
[null,9781681517414,null,9781681516592,null,"Shih Tzus",null,null,null,"Favorite Dog Breeds",null,null,null,29.95,20.95,42.8,25.95,null,{"$f":"S459","v":0},null,{"$f":"U459","v":0},null,{"$f":"W459","v":0},null,0,0,0,0,0,0,0,0,null,null,null,null,null,"Fall 2019","20",2020,"Amicus","Amicus High Interest",2.1,"Animals & Nature","English","Reinforced Library",24,"I","460L","1 - 4",636.76,"Mary Ellen Klukow"]
[null,9781681517421,null,9781681516608,null,"Siberian Huskies",null,null,null,"Favorite Dog Breeds",null,null,null,29.95,20.95,42.8,25.95,null,{"$f":"S459","v":0},null,{"$f":"U459","v":0},null,{"$f":"W459","v":0},null,0,0,0,0,0,0,0,0,null,null,null,null,null,"Fall 2019","20",2020,"Amicus","Amicus High Interest",2.2000000000000002,"Animals & Nature","English","Reinforced Library",24,"I","480L","1 - 4",636.73,"Mary Ellen Klukow"]
[null,9781681517438,null,9781681516615,null,"Yorkshire Terriers",null,null,null,"Favorite Dog Breeds",null,null,null,29.95,20.95,42.8,25.95,null,{"$f":"S459","v":0},null,{"$f":"U459","v":0},null,{"$f":"W459","v":0},null,0,0,0,0,0,0,0,0,null,null,null,null,null,"Fall 2019","20",2020,"Amicus","Amicus High Interest",2.2000000000000002,"Animals & Nature","English","Reinforced Library",24,"I","480L","1 - 4",636.76,"Mary Ellen Klukow"]
[]
[null,null,null,null,null,"Complete Series of 16",null,null,null,"Pro Sports Biographies",null,null,null,{"$f":"SUM(N476:N491)","v":479.19999999999987},{"$f":"SUM(O476:O491)","v":335.19999999999993},{"$f":"SUM(P476:P491)","v":684.79999999999984},{"$f":"SUM(Q476:Q491)","v":415.19999999999987},null,null,null,null,null,null,null,null,null,null,null,null,null,null,null,null,null,null,null,null,null,null,null,"Amicus"]
[null,9781681517445,null,9781681516622,null,"Aaron Judge",null,null,null,"Pro Sports Biographies",null,null,null,29.95,20.95,42.8,{"$f":"O476+5","v":25.95},null,{"$f":"S475","v":0},null,{"$f":"U475","v":0},null,{"$f":"W475","v":0},null,{"$f":"S476","v":0},{"$f":"U476","v":0},{"$f":"W476*2","v":0},{"$f":"Y476+Z476+AA476","v":0},{"$f":"S476*O476","v":0},{"$f":"U476*P476","v":0},{"$f":"W476*Q476","v":0},{"$f":"IF(AH476=FALSE,AC476+AD476+AE476,0)","v":0},null,null,null,null,null,"Fall 2019","16",2020,"Amicus","Amicus High Interest",2.2999999999999998,"Sports & Recreation","English","Reinforced Library",24,"I","460L","1 - 4","796.357092 B","Allan Morey"]
[null,9781681517452,null,9781681516639,null,"Aaron Rodgers",null,null,null,"Pro Sports Biographies",null,null,null,29.95,20.95,42.8,25.95,null,{"$f":"S475","v":0},null,{"$f":"U475","v":0},null,{"$f":"W475","v":0},null,0,0,0,0,0,0,0,0,null,null,null,null,null,"Fall 2019","16",2020,"Amicus","Amicus High Interest",2.4,"Sports & Recreation","English","Reinforced Library",24,"I","470L","1 - 4","796.332092 B","Allan Morey"]
[null,9781681512259,null,9781681511351,null,"Bryce Harper",null,null,null,"Pro Sports Biographies",null,null,null,29.95,20.95,42.8,25.95,null,{"$f":"S475","v":0},null,{"$f":"U475","v":0},null,{"$f":"W475","v":0},null,0,0,0,0,0,0,0,0,null,null,null,null,null,"Fall 2017","16",2018,"Amicus","Amicus High Interest",2,"Sports & Recreation","English","Reinforced Library",24,"I","480L","1 - 4","796.357092 B","Elizabeth Raum"]
[null,9781681512273,null,9781681511375,null,"Cam Newton",null,null,null,"Pro Sports Biographies",null,null,null,29.95,20.95,42.8,25.95,null,{"$f":"S475","v":0},null,{"$f":"U475","v":0},null,{"$f":"W475","v":0},null,0,0,0,0,0,0,0,0,null,null,null,null,null,"Fall 2017","16",2018,"Amicus","Amicus High Interest",2.4,"Sports & Recreation","English","Reinforced Library",24,"I","510L","1 - 4","796.332092 B","Elizabeth Raum"]
[null,9781681512228,null,9781681511320,null,"Carli Lloyd",null,null,null,"Pro Sports Biographies",null,null,null,29.95,20.95,42.8,25.95,null,{"$f":"S475","v":0},null,{"$f":"U475","v":0},null,{"$f":"W475","v":0},null,0,0,0,0,0,0,0,0,null,null,null,null,null,"Fall 2017","16",2018,"Amicus","Amicus High Interest",2.2999999999999998,"Sports & Recreation","English","Reinforced Library",24,"I","520L","1 - 4","796.334092 B","Elizabeth Raum"]
[null,9781681512242,null,9781681511344,null,"Chloe Kim",null,null,null,"Pro Sports Biographies",null,null,null,29.95,20.95,42.8,25.95,null,{"$f":"S475","v":0},null,{"$f":"U475","v":0},null,{"$f":"W475","v":0},null,0,0,0,0,0,0,0,0,null,null,null,null,null,"Fall 2017","16",2018,"Amicus","Amicus High Interest",2.5,"Sports & Recreation","English","Reinforced Library",24,"I","490L","1 - 4","796.939092 B","Elizabeth Raum"]
[null,9781681512266,null,9781681511368,null,"J.J. Watt",null,null,null,"Pro Sports Biographies",null,null,null,29.95,20.95,42.8,25.95,null,{"$f":"S475","v":0},null,{"$f":"U475","v":0},null,{"$f":"W475","v":0},null,0,0,0,0,0,0,0,0,null,null,null,null,null,"Fall 2017","16",2018,"Amicus","Amicus High Interest",2.2999999999999998,"Sports & Recreation","English","Reinforced Library",24,"I","480L","1 - 4","796.332092 B","Elizabeth Raum"]
[null,9781681512280,null,9781681511382,null,"LeBron James",null,null,null,"Pro Sports Biographies",null,null,null,29.95,20.95,42.8,25.95,null,{"$f":"S475","v":0},null,{"$f":"U475","v":0},null,{"$f":"W475","v":0},null,0,0,0,0,0,0,0,0,null,null,null,null,null,"Fall 2017","16",2018,"Amicus","Amicus High Interest",2.2999999999999998,"Sports & Recreation","English","Reinforced Library",24,"I","500L","1 - 4","796.323092 B","Elizabeth Raum"]
[null,9781681512235,null,9781681511337,null,"Maya Moore",null,null,null,"Pro Sports Biographies",null,null,null,29.95,20.95,42.8,25.95,null,{"$f":"S475","v":0},null,{"$f":"U475","v":0},null,{"$f":"W475","v":0},null,0,0,0,0,0,0,0,0,null,null,null,null,null,"Fall 2017","16",2018,"Amicus","Amicus High Interest",2.5,"Sports & Recreation","English","Reinforced Library",24,"I","540L","1 - 4","796.323092 B","Elizabeth Raum"]
[null,9781681517469,null,9781681516646,null,"Megan Rapinoe",null,null,null,"Pro Sports Biographies",null,null,null,29.95,20.95,42.8,25.95,null,{"$f":"S475","v":0},null,{"$f":"U475","v":0},null,{"$f":"W475","v":0},null,0,0,0,0,0,0,0,0,null,null,null,null,null,"Fall 2019","16",2020,"Amicus","Amicus High Interest",2.4,"Sports & Recreation","English","Reinforced Library",24,"I","510L","1 - 4",796.33409200000006,"Jill Sherman"]
[null,9781681517476,null,9781681516653,null,"Ronda Rousey",null,null,null,"Pro Sports Biographies",null,null,null,29.95,20.95,42.8,25.95,null,{"$f":"S475","v":0},null,{"$f":"U475","v":0},null,{"$f":"W475","v":0},null,0,0,0,0,0,0,0,0,null,null,null,null,null,"Fall 2019","16",2020,"Amicus","Amicus High Interest",2.6,"Sports & Recreation","English","Reinforced Library",24,"I","520L","1 - 4","796.812092 B","Jill Sherman"]
[null,9781681512297,null,9781681511399,null,"Serena Williams",null,null,null,"Pro Sports Biographies",null,null,null,29.95,20.95,42.8,25.95,null,{"$f":"S475","v":0},null,{"$f":"U475","v":0},null,{"$f":"W475","v":0},null,0,0,0,0,0,0,0,0,null,null,null,null,null,"Fall 2017","16",2018,"Amicus","Amicus High Interest",2.6,"Sports & Recreation","English","Reinforced Library",24,"I","570L","1 - 4","796.342092 B","Elizabeth Raum"]
[null,9781681517483,null,9781681516660,null,"Simone Biles",null,null,null,"Pro Sports Biographies",null,null,null,29.95,20.95,42.8,25.95,null,{"$f":"S475","v":0},null,{"$f":"U475","v":0},null,{"$f":"W475","v":0},null,0,0,0,0,0,0,0,0,null,null,null,null,null,"Fall 2019","16",2020,"Amicus","Amicus High Interest",2.5,"Sports & Recreation","English","Reinforced Library",24,"I","500L","1 - 4","796.44092 B","Jill Sherman"]
[null,9781681517490,null,9781681516677,null,"Stephen Curry",null,null,null,"Pro Sports Biographies",null,null,null,29.95,20.95,42.8,25.95,null,{"$f":"S475","v":0},null,{"$f":"U475","v":0},null,{"$f":"W475","v":0},null,0,0,0,0,0,0,0,0,null,null,null,null,null,"Fall 2019","16",2020,"Amicus","Amicus High Interest",2.1,"Sports & Recreation","English","Reinforced Library",24,"I","470L","1 - 4","796.323092 B","Elizabeth Raum"]
[null,9781681517506,null,9781681516684,null,"Sylvia Fowles",null,null,null,"Pro Sports Biographies",null,null,null,29.95,20.95,42.8,25.95,null,{"$f":"S475","v":0},null,{"$f":"U475","v":0},null,{"$f":"W475","v":0},null,0,0,0,0,0,0,0,0,null,null,null,null,null,"Fall 2019","16",2020,"Amicus","Amicus High Interest",2.4,"Sports & Recreation","English","Reinforced Library",24,"I","510L","1 - 4","796.323092 B","Jill Sherman"]
[null,9781681517513,null,9781681516691,null,"Von Miller",null,null,null,"Pro Sports Biographies",null,null,null,29.95,20.95,42.8,25.95,null,{"$f":"S475","v":0},null,{"$f":"U475","v":0},null,{"$f":"W475","v":0},null,0,0,0,0,0,0,0,0,null,null,null,null,null,"Fall 2019","16",2020,"Amicus","Amicus High Interest",2.6,"Sports & Recreation","English","Reinforced Library",24,"I","480L","1 - 4","796.332092 B","Allan Morey"]
[]
[null,null,null,null,null,"Complete Series of 6",null,null,null,"Razas de perros favoritas (Favorite Dog Breeds)",null,null,null,{"$f":"SUM(N494:N499)","v":179.7},{"$f":"SUM(O494:O499)","v":125.7},{"$f":"SUM(P494:P499)","v":256.8},{"$f":"SUM(Q494:Q499)","v":155.69999999999999},null,null,null,null,null,null,null,null,null,null,null,null,null,null,null,null,null,null,null,null,null,null,null,"Amicus"]
[null,9781681519159,null,9781681518893,null,"Los dálmatas (Dalmations)",null,null,null,"Razas de perros favoritas (Favorite Dog Breeds)",null,null,null,29.95,20.95,42.8,{"$f":"O494+5","v":25.95},null,{"$f":"S493","v":0},null,{"$f":"U493","v":0},null,{"$f":"W493","v":0},null,{"$f":"S494","v":0},{"$f":"U494","v":0},{"$f":"W494*2","v":0},{"$f":"Y494+Z494+AA494","v":0},{"$f":"S494*O494","v":0},{"$f":"U494*P494","v":0},{"$f":"W494*Q494","v":0},{"$f":"IF(AH494=FALSE,AC494+AD494+AE494,0)","v":0},null,null,null,null,null,"Fall 2019","43",2020,"Amicus","Amicus High Interest",2.5,"Animals & Nature","Spanish","Reinforced Library",24,null,null,"1 - 4","636.72--dc23","Mary Ellen Klukow"]
[null,9781681519166,null,9781681518909,null,"Los golden retrievers (Golden Retrievers)",null,null,null,"Razas de perros favoritas (Favorite Dog Breeds)",null,null,null,29.95,20.95,42.8,25.95,null,{"$f":"S493","v":0},null,{"$f":"U493","v":0},null,{"$f":"W493","v":0},null,0,0,0,0,0,0,0,0,null,null,null,null,null,"Fall 2019","43",2020,"Amicus","Amicus High Interest",2.6,"Animals & Nature","Spanish","Reinforced Library",24,null,null,"1 - 4","636.752/7--dc23","Mary Ellen Klukow"]
[null,9781681519173,null,9781681518916,null,"Los gran daneses (Great Danes)",null,null,null,"Razas de perros favoritas (Favorite Dog Breeds)",null,null,null,29.95,20.95,42.8,25.95,null,{"$f":"S493","v":0},null,{"$f":"U493","v":0},null,{"$f":"W493","v":0},null,0,0,0,0,0,0,0,0,null,null,null,null,null,"Fall 2019","43",2020,"Amicus","Amicus High Interest",2.1,"Animals & Nature","Spanish","Reinforced Library",24,null,null,"1 - 4","636.73--dc23","Mary Ellen Klukow"]
[null,9781681519180,null,9781681518923,null,"Los Shih Tzu (Shih Tzus)",null,null,null,"Razas de perros favoritas (Favorite Dog Breeds)",null,null,null,29.95,20.95,42.8,25.95,null,{"$f":"S493","v":0},null,{"$f":"U493","v":0},null,{"$f":"W493","v":0},null,0,0,0,0,0,0,0,0,null,null,null,null,null,"Fall 2019","43",2020,"Amicus","Amicus High Interest",2.1,"Animals & Nature","Spanish","Reinforced Library",24,null,null,"1 - 4","636.76--dc23","Mary Ellen Klukow"]
[null,9781681519197,null,9781681518930,null,"Los husky siberianos (Siberian Huskies)",null,null,null,"Razas de perros favoritas (Favorite Dog Breeds)",null,null,null,29.95,20.95,42.8,25.95,null,{"$f":"S493","v":0},null,{"$f":"U493","v":0},null,{"$f":"W493","v":0},null,0,0,0,0,0,0,0,0,null,null,null,null,null,"Fall 2019","43",2020,"Amicus","Amicus High Interest",2.1,"Animals & Nature","Spanish","Reinforced Library",24,null,null,"1 - 4","636.73--dc23","Mary Ellen Klukow"]
[null,9781681519203,null,9781681518947,null,"Los Yorkshire terriers (Yorksire Terriers)",null,null,null,"Razas de perros favoritas (Favorite Dog Breeds)",null,null,null,29.95,20.95,42.8,25.95,null,{"$f":"S493","v":0},null,{"$f":"U493","v":0},null,{"$f":"W493","v":0},null,0,0,0,0,0,0,0,0,null,null,null,null,null,"Fall 2019","43",2020,"Amicus","Amicus High Interest",2.1,"Animals & Nature","Spanish","Reinforced Library",24,null,null,"1 - 4","636.76--dc23","Mary Ellen Klukow"]
[]
[]
[null,9781681516004,null,9781681515625,null,"U.S. Coast Guard",null,null,null,"Serving Our Country",null,null,null,29.95,20.95,42.8,25.95,null,{"$f":"S517","v":0},null,{"$f":"U517","v":0},null,{"$f":"W517","v":0},null,0,0,0,0,0,0,0,0,null,null,null,null,null,"Spring 2019","17",2019,"Amicus","Amicus High Interest",2.8,"Careers","English","Reinforced Library",24,"J","530L","K - 2","363.28/60973","Rachel Grack"]
[null,9781681510637,null,9781607539452,null,"Do You Really Want to Meet a Camel?",null,null,null,"Do You Really Want to Meet…?",null,null,null,29.95,20.95,42.8,25.95,null,{"$f":"S543","v":0},null,{"$f":"U543","v":0},null,{"$f":"W543","v":0},null,0,0,0,0,0,0,0,0,null,null,null,null,null,"Fall 2016","28",2017,"Amicus","Amicus Illustrated",2.6,"Animals & Nature","English","Reinforced Library",24,"J","550L","K - 3","599.63/62","Bridget Heos"]
[null,9781681514765,null,9781681513942,null,"Do You Really Want to Meet an Anteater?",null,null,null,"Do You Really Want to Meet…?",null,null,null,29.95,20.95,42.8,{"$f":"O563+5","v":25.95},null,{"$f":"S543","v":0},null,{"$f":"U543","v":0},null,{"$f":"W543","v":0},null,0,0,0,0,0,0,0,0,null,null,null,null,null,"Fall 2018","28",2019,"Amicus","Amicus Illustrated",2.4,"Animals & Nature","English","Reinforced Library",24,"J","530L","K - 3","599.3/14","Cari Meister"]
[null,9781681514963,null,9781681514147,null,"Bald Eagles",null,null,null,"North American Animals",null,null,null,29.95,20.95,42.8,25.95,null,{"$f":"S579","v":0},null,{"$f":"U579","v":0},null,{"$f":"W579","v":0},null,0,0,0,0,0,0,0,0,null,null,null,null,null,"Fall 2018","20",2019,"Amicus","Amicus High Interest",2.4,"Animals & Nature","English","Reinforced Library",24,"I","470L","K - 3","598.9/43","Rachel Grack"]
[null,9781681514901,null,9781681514086,null,"Superstars of the New England Patriots",null,null,null,"Pro Sports Superstars '18 —NFL",null,null,null,29.95,20.95,42.8,25.95,null,{"$f":"S589","v":0},null,{"$f":"U589","v":0},null,{"$f":"W589","v":0},null,0,0,0,0,0,0,0,0,null,null,null,null,null,"Fall 2018","16",2019,"Amicus","Amicus High Interest",2.5,"Sports & Recreation","English","Reinforced Library",24,"I","500L","K - 3","796.332/640974461","M. K. Osborne"]
[null,null,null,null,null,"Complete Series of 6",null,null,null,"Amazing Adventures",null,null,null,{"$f":"SUM(N626:N631)","v":162.6},{"$f":"SUM(O626:O631)","v":113.7},{"$f":"SUM(P626:P631)","v":226.8},{"$f":"SUM(Q626:Q631)","v":143.69999999999999},null,null,null,null,null,null,null,null,null,null,null,null,null,null,null,null,null,null,null,null,null,null,null,"Amicus"]
[null,null,null,null,null,"Complete Series of 12",null,null,null,"Real-life Superheroes",null,null,null,{"$f":"SUM(N644:N655)","v":325.20000000000005},{"$f":"SUM(O644:O655)","v":227.39999999999995},{"$f":"SUM(P644:P655)","v":453.60000000000008},{"$f":"SUM(Q644:Q655)","v":287.39999999999992},null,null,null,null,null,null,null,null,null,null,null,null,null,null,null,null,null,null,null,null,null,null,null,"Amicus"]
[null,9781681513577,null,9781681512952,null,"Firefighters",null,null,null,"Real-life Superheroes",null,null,null,27.1,18.95,37.799999999999997,23.95,null,{"$f":"S643","v":0},null,{"$f":"U643","v":0},null,{"$f":"W643","v":0},null,0,0,0,0,0,0,0,0,null,null,null,null,null,"Spring 2018","Website",2018,"Amicus","Amicus Readers",1,"Social Studies","English","Reinforced Library",16,"E","280L","K - 2",628.9,"Emma Less"]
[null,"Not Available",null,9781681512839,null,"Los conejos y sus madrigueras (Rabbits Dig Burrows)",null,null,null,"Animales constructores (Animal Builders)",null,null,null,29.95,20.95,0,0,null,{"$f":"S665","v":0},null,null,null,null,null,0,0,0,0,0,0,0,0,null,null,null,null,null,"Fall 2017","43",2018,"Amicus","Amicus Illustrated",2.5,"Animals & Nature","Spanish","Reinforced Library",24,null,null,"K - 3",599.32000000000005,"Elizabeth Raum"]
[null,9781681512105,null,9781681511207,null,"From Cocoa Beans to Chocolate",null,null,null,"Who Made My Lunch? ",null,null,null,29.95,20.95,42.8,{"$f":"O694+5","v":25.95},null,{"$f":"S693","v":0},null,{"$f":"U693","v":0},null,{"$f":"W693","v":0},null,{"$f":"S694","v":0},{"$f":"U694","v":0},{"$f":"W694*2","v":0},{"$f":"Y694+Z694+AA694","v":0},{"$f":"S694*O694","v":0},{"$f":"U694*P694","v":0},{"$f":"W694*Q694","v":0},{"$f":"IF(AH694=FALSE,AC694+AD694+AE694,0)","v":0},null,null,null,null,null,"Fall 2017","33",2018,"Amicus","Amicus Illustrated",2.9,"Health","English","Reinforced Library",24,null,"610L","K - 3","664/.5","Bridget Heos"]
[null,9781681510439,null,9781607539193,null,"Across the Country 18, 19, 20",null,null,null,"1,2,3... Count With Me ",null,null,null,29.95,20.95,42.8,25.95,null,{"$f":"S709","v":0},null,{"$f":"U709","v":0},null,{"$f":"W709","v":0},null,0,0,0,0,0,0,0,0,null,null,null,null,null,"Fall 2016","Website",2017,"Amicus","Amicus Readers",1.5,"Math & Finance","English","Reinforced Library",24,"G","380L","K - 3","388.3/4","Martha E. H. Rustad"]
[]
[null,9781681510217,null,9781607538011,null,"Rock Climbing",null,null,null,"Great Outdoors",null,null,null,32.799999999999997,22.95,46.8,27.95,null,{"$f":"S739","v":0},null,{"$f":"U739","v":0},null,{"$f":"W739","v":0},null,0,0,0,0,0,0,0,0,null,null,null,null,null,"Fall 2016","16",2017,"Amicus","Amicus High Interest",3.3,"Animals & Nature","English","Reinforced Library",32,"K","540L","2 – 5","796.522/3","Matt Doeden"]
[null,9781681510316,null,9781607539414,null,"Superstars of Pro Tennis",null,null,null,"Pro Sports Superstars",null,null,null,29.95,20.95,42.8,25.95,null,{"$f":"S771","v":0},null,{"$f":"U771","v":0},null,{"$f":"W771","v":0},null,0,0,0,0,0,0,0,0,null,null,null,null,null,"Fall 2016","16",2017,"Amicus","Amicus High Interest",2.2999999999999998,"Sports & Recreation","English","Reinforced Library",24,"I","480L","1 - 4","796.3420922 B","Todd Kortemeier"]
[null,9781681510590,null,9781607539353,null,"Pepperoni or Sausage?",null,null,null,"Say What?: Parts of Speech",null,null,null,27.1,18.95,37.799999999999997,23.95,null,{"$f":"S787","v":0},null,{"$f":"U787","v":0},null,{"$f":"W787","v":0},null,0,0,0,0,0,0,0,0,null,null,null,null,null,"Fall 2016","Website",2017,"Amicus","Amicus Readers","Not Quizzable","Language Arts","English","Reinforced Library",16,"G","510L","K - 3","428.2/4","Cari Meister"]
[null,9781607535454,null,9781607535140,null,"Out for Trout",null,null,null,"Word Families",null,null,null,27.1,18.95,37.799999999999997,23.95,null,{"$f":"S807","v":0},null,{"$f":"U807","v":0},null,{"$f":"W807","v":0},null,0,0,0,0,0,0,0,0,null,null,null,null,null,"Fall 2013","Website",2014,"Amicus","Amicus Readers",1.2,"Language Arts","English","Reinforced Library",16,"D","AD410L","1 - 4",428.6,"Marie Powell "]
[null,9781607538509,null,9781607537519,null,"Do You Really Want a Snake?",null,null,null,"Do You Really Want a Pet?",null,null,null,29.95,20.95,42.8,25.95,null,{"$f":"S826","v":0},null,{"$f":"U826","v":0},null,{"$f":"W826","v":0},null,0,0,0,0,0,0,0,0,null,null,null,null,null,"Fall 2015","28",2016,"Amicus","Amicus Illustrated",2.9,"Animals & Nature","English","Reinforced Library",24,"J","490L","2 – 5","639.3/96","Bridget Heos"]
[]
[null,9781607538257,null,9781607537212,null,"How Many Minutes?",null,null,null,"Measuring Time",null,null,null,27.1,18.95,37.799999999999997,23.95,null,{"$f":"S856","v":0},null,{"$f":"U856","v":0},null,{"$f":"W856","v":0},null,0,0,0,0,0,0,0,0,null,null,null,null,null,"Fall 2015","Website",2016,"Amicus","Amicus Readers",1.8,"Math & Finance","English","Reinforced Library",16,null,"500L","K - 3",529.70000000000005,"Katherine Krieg"]
[]
[null,9781607538318,null,9781607537274,null,"\"What Did He Say?\"",null,null,null,"Punctuation Station",null,null,null,27.1,18.95,37.799999999999997,{"$f":"O898+5","v":23.95},null,{"$f":"S897","v":0},null,{"$f":"U897","v":0},null,{"$f":"W897","v":0},null,{"$f":"S898","v":0},{"$f":"U898","v":0},{"$f":"W898*2","v":0},{"$f":"Y898+Z898+AA898","v":0},{"$f":"S898*O898","v":0},{"$f":"U898*P898","v":0},{"$f":"W898*Q898","v":0},{"$f":"IF(AH898=FALSE,AC898+AD898+AE898,0)","v":0},null,null,null,null,null,"Fall 2015","Website",2016,"Amicus","Amicus Readers",2,"Language Arts","English","Reinforced Library",16,null,"500L","K - 3","428.1/3","Marie Powell"]
[null,9781607538134,null,9781607537090,null,"What Good Is an E?",null,null,null,"Vowels",null,null,null,27.1,18.95,37.799999999999997,23.95,null,{"$f":"S917","v":0},null,{"$f":"U917","v":0},null,{"$f":"W917","v":0},null,0,0,0,0,0,0,0,0,null,null,null,null,null,"Fall 2015","Website",2016,"Amicus","Amicus Readers",1.6,"Language Arts","English","Reinforced Library",16,null,"370L","K - 3","428.1/3","Marie Powell"]
[null,9781607536208,null,9781607534730,null,"Fish",null,null,null,"Animal Kingdom",null,null,null,32.799999999999997,22.95,46.8,27.95,null,{"$f":"S938","v":0},null,{"$f":"U938","v":0},null,{"$f":"W938","v":0},null,0,0,0,0,0,0,0,0,null,null,null,null,null,"Fall 2014","21",2015,"Amicus","Amicus High Interest",2.8,"Animals & Nature","English","Reinforced Library",32,"L","490L","2 – 5",597,"Michelle Levine"]
[null,9781607536888,null,9781607535881,null,"My Body Needs Rest",null,null,null,"Healthy Me!",null,null,null,29.95,20.95,42.8,{"$f":"O964+5","v":25.95},null,{"$f":"S961","v":0},null,{"$f":"U961","v":0},null,{"$f":"W961","v":0},null,{"$f":"S964","v":0},{"$f":"U964","v":0},{"$f":"W964*2","v":0},{"$f":"Y964+Z964+AA964","v":0},{"$f":"S964*O964","v":0},{"$f":"U964*P964","v":0},{"$f":"W964*Q964","v":0},{"$f":"IF(AH964=FALSE,AC964+AD964+AE964,0)","v":0},null,null,null,null,null,"Fall 2014","22",2015,"Amicus","Amicus High Interest",2.4,"Health","English","Reinforced Library",24,"I","510L","1 - 4","612.8/21083","Jenna Lee Gleisner"]
[null,null,null,null,null,"Complete Series of 6",null,null,null,"Lizards",null,null,null,{"$f":"SUM(N984:N989)","v":196.8},{"$f":"SUM(O984:O989)","v":137.69999999999999},{"$f":"SUM(P984:P989)","v":280.8},{"$f":"SUM(Q984:Q989)","v":167.7},null,null,null,null,null,null,null,null,null,null,null,null,null,null,null,null,null,null,null,null,null,null,null,"Amicus"]
[null,9781607536772,null,9781607534624,null,"Counting Change",null,null,null,"Math World",null,null,null,29.95,20.95,42.8,{"$f":"O992+5","v":25.95},null,{"$f":"S991","v":0},null,{"$f":"U991","v":0},null,{"$f":"W991","v":0},null,{"$f":"S992","v":0},{"$f":"U992","v":0},{"$f":"W992*2","v":0},{"$f":"Y992+Z992+AA992","v":0},{"$f":"S992*O992","v":0},{"$f":"U992*P992","v":0},{"$f":"W992*Q992","v":0},{"$f":"IF(AH992=FALSE,AC992+AD992+AE992,0)","v":0},null,null,null,null,null,"Fall 2014","33",2015,"Amicus","Amicus Illustrated",2.2999999999999998,"Math & Finance","English","Reinforced Library",24,"I","490L","2 – 5","513.2/11","Bridget Heos"]
[null,9781607536338,null,9781607534907,null,"Army Rangers",null,null,null,"Serving in the Military",null,null,null,32.799999999999997,22.95,46.8,{"$f":"O1007+5","v":27.95},null,{"$f":"S1006","v":0},null,{"$f":"U1006","v":0},null,{"$f":"W1006","v":0},null,{"$f":"S1007","v":0},{"$f":"U1007","v":0},{"$f":"W1007*2","v":0},{"$f":"Y1007+Z1007+AA1007","v":0},{"$f":"S1007*O1007","v":0},{"$f":"U1007*P1007","v":0},{"$f":"W1007*Q1007","v":0},{"$f":"IF(AH1007=FALSE,AC1007+AD1007+AE1007,0)","v":0},null,null,null,null,null,"Fall 2014","17",2015,"Amicus","Amicus High Interest",3,"Careers","English","Reinforced Library",32,"L","500L","2 – 5","356/.1670973","Linda Bozzo"]
[]
[null,9781607534297,null,9781607533818,null,"Therapy Animals",null,null,null,"Animals with Jobs",null,null,null,32.799999999999997,22.95,46.8,27.95,null,{"$f":"S1041","v":0},null,{"$f":"U1041","v":0},null,{"$f":"W1041","v":0},null,0,0,0,0,0,0,0,0,null,null,null,null,null,"Fall 2013","22",2014,"Amicus","Amicus High Interest",3.1,"Animals & Nature","English","Reinforced Library",32,"L","560L","2 – 5","615.8/5158","Connie Colwell Miller"]
[null,9781607534044,null,9781607531975,null,"Do You Really Want to Visit The Moon?",null,null,null,"Do You Really Want to Visit...? (Planets)",null,null,null,29.95,20.95,42.8,25.95,null,{"$f":"S1063","v":0},null,{"$f":"U1063","v":0},null,{"$f":"W1063","v":0},null,0,0,0,0,0,0,0,0,null,null,null,null,null,"Fall 2013","28",2014,"Amicus","Amicus Illustrated",2.8,"Science & Technology","English","Reinforced Library",24,null,"540L","2 – 5",523.29999999999995,"Thomas Adamson"]
[null,9781607534242,null,9781607533764,null,"Rattlesnakes",null,null,null,"Snakes",null,null,null,32.799999999999997,22.95,46.8,27.95,null,{"$f":"S1084","v":0},null,{"$f":"U1084","v":0},null,{"$f":"W1084","v":0},null,0,0,0,0,0,0,0,0,null,null,null,null,null,"Fall 2013","21",2014,"Amicus","Amicus High Interest",3,"Animals & Nature","English","Reinforced Library",32,"L","510L","2 – 5","597.96/38","Elizabeth Raum"]
[null,null,null,null,null,"Complete Series of 69",null,null,null,"Creative Editions",null,null,null,{"$f":"SUM(N1113:N1181)","v":1911.4900000000007},{"$f":"SUM(O1113:O1181)","v":1338.1200000000006},{"$f":"SUM(P1113:P1181)","v":0},{"$f":"SUM(Q1113:Q1181)","v":0},null,null,null,null,null,null,null,null,null,null,null,null,null,null,null,null,null,null,null,null,null,null,null,"The Creative Company"]
[null,"Not Available",null,9781568462011,null,"House, The",null,null,null,"Creative Editions",null,null,null,28.5,19.95,0,0,null,{"$f":"S1108","v":0},null,null,null,null,null,0,0,0,0,0,0,0,0,null,null,null,null,null,"Fall 2009","16",2009,"The Creative Company","Creative Editions",null,"Fiction","English","Reinforced Library",64,null,null,"PreK – 8","811/.54","J. Patrick Lewis"]
[null,"Not Available",null,9781568462127,null,"Lineup for Yesterday",null,null,null,"Creative Editions",null,null,null,35.700000000000003,24.99,0,0,null,{"$f":"S1108","v":0},null,null,null,null,null,0,0,0,0,0,0,0,0,null,null,null,null,null,"Fall 2011","17",2011,"The Creative Company","Creative Editions",null,"Fiction","English","Reinforced Library",56,null,null,"PreK – 8","796.357092/2 E","Ogden Nash"]
["NEW","Not Available",null,9781568463278,null,"My Mastodon",null,null,null,"Creative Editions",null,null,null,28.55,19.989999999999998,0,0,null,{"$f":"S1109","v":0},null,null,null,null,null,0,0,0,0,0,0,0,0,null,null,null,null,null,"Spring 2020","18",2020,"The Creative Company","Creative Editions",null,"Fiction","English","Reinforced Library",32,null,null,"PreK – 8","E","Barbara Lowell"]
[null,"Not Available",null,9781568462929,null,"We Are Brothers",null,null,null,"Creative Editions",null,null,null,27.13,18.989999999999998,0,0,null,{"$f":"S1109","v":0},null,null,null,null,null,0,0,0,0,0,0,0,0,null,null,null,null,null,"Spring 2018","21",2018,"The Creative Company","Creative Editions",2.2999999999999998,"Fiction","English","Reinforced Library",32,null,null,"PreK – 8","E","Yves Nadon"]
[null,"Not Available",null,9781568462721,null,"On the Farm (Board Book)",null,null,null,"Creative Editions Board Books",null,null,null,11.41,7.99,0,0,null,{"$f":"S1183","v":0},null,null,null,null,null,0,0,0,0,0,0,0,0,null,null,null,null,null,"Spring 2016","11",2015,"The Creative Company","Creative Editions",null,"Fiction","English","Board Book",14,null,null,"PreK – 2",636,"Kate Riggs"]
["NEW",9781640003293,null,9781640262041,null,"Bats",null,null,null,"Amazing Animals",null,null,null,29.95,20.95,42.85,25.95,null,{"$f":"S1213","v":0},null,{"$f":"U1213","v":0},null,{"$f":"W1213","v":0},null,0,0,0,0,0,0,0,0,null,null,null,null,null,"Spring 2020","14 - 15",2020,"The Creative Company","Creative Education",3,"Animals & Nature","English","Reinforced Library",24,"J",null,"1 - 4",null,"Kate Riggs"]
["NEW",9781640005358,null,9781640263819,null,"Gorillas",null,null,null,"Amazing Animals",null,null,null,29.95,20.95,42.8,25.95,null,{"$f":"S1213","v":0},null,{"$f":"U1213","v":0},null,{"$f":"W1213","v":0},null,0,0,0,0,0,0,0,0,null,null,null,null,null,"Spring 2021","H",2021,"The Creative Company","Creative Education",3.2,"Life Science","English","Reinforced Library",24,"J",null,"Grade 1 - 2",null,"Kate Riggs"]
["NEW",9781640005396,null,9781640263857,null,"Owls",null,null,null,"Amazing Animals",null,null,null,29.95,20.95,42.8,25.95,null,{"$f":"S1213","v":0},null,{"$f":"U1213","v":0},null,{"$f":"W1213","v":0},null,0,0,0,0,0,0,0,0,null,null,null,null,null,"Spring 2021","H",2021,"The Creative Company","Creative Education",2.9,"Life Science","English","Reinforced Library",24,"J",null,"Grade 1 - 2",null,"Valerie Bodden"]
[null,9781566608008,null,9781608187584,null,"Storks",null,null,null,"Amazing Animals",null,null,null,29.95,20.95,42.85,25.95,null,{"$f":"S1213","v":0},null,{"$f":"U1213","v":0},null,{"$f":"W1213","v":0},null,0,0,0,0,0,0,0,0,null,null,null,null,null,"Spring 2017","14 - 15",2017,"The Creative Company","Creative Education",2.7,"Animals & Nature","English","Reinforced Library",24,null,"500L","1 - 4","598.3/4","Kate Riggs"]
["NEW",9781640004269,null,9781640262966,null,"Baltimore Orioles",null,null,null,"Creative Sports: Veterans (MLB)",null,null,null,32.799999999999997,22.95,46.9,27.95,null,{"$f":"S1291","v":0},null,{"$f":"U1291","v":0},null,{"$f":"W1291","v":0},null,0,0,0,0,0,0,0,0,null,null,null,null,null,"Spring 2021","K",2021,"The Creative Company","Creative Education",4.8,"Sports and Recreation","English","Reinforced Library",32,"R","780L","Grade 3 - 4",null,"Jim Whiting"]
["NEW",9781640004351,null,9781640263055,null,"Kansas City Royals",null,null,null,"Creative Sports: Veterans (MLB)",null,null,null,32.799999999999997,22.95,46.9,27.95,null,{"$f":"S1291","v":0},null,{"$f":"U1291","v":0},null,{"$f":"W1291","v":0},null,0,0,0,0,0,0,0,0,null,null,null,null,null,"Spring 2021","K",2021,"The Creative Company","Creative Education",4.8,"Sports and Recreation","English","Reinforced Library",32,"R","770L","Grade 3 - 4",null,"Jim Whiting"]
["NEW",9781640005051,null,9781640264557,null,"orangutanes bebés (Baby Orangutans)",null,null,null,"El principio de las (Starting Out)",null,null,null,27.1,18.95,36.65,23.95,null,{"$f":"S1323","v":0},null,{"$f":"U1323","v":0},null,{"$f":"W1323","v":0},null,0,0,0,0,0,0,0,0,null,null,null,null,null,"Spring 2021","D",2021,"The Creative Company","Creative Education",null,"Life Science","Spanish","Reinforced Library",16,"D",null,"Grade K & Up",null,"Kate Riggs"]
["NEW",9781640005136,null,9781640263598,null,"Area 51",null,null,null,"Odysseys in Mysteries",null,null,null,44.2,30.95,63.2,{"$f":"O1346+5","v":35.950000000000003},null,{"$f":"S1345","v":0},null,{"$f":"U1345","v":0},null,{"$f":"W1345","v":0},null,{"$f":"S1346","v":0},{"$f":"U1346","v":0},{"$f":"W1346*2","v":0},{"$f":"Y1346+Z1346+AA1346","v":0},{"$f":"S1346*O1346","v":0},{"$f":"U1346*P1346","v":0},{"$f":"W1346*Q1346","v":0},{"$f":"IF(AH1346=FALSE,AC1346+AD1346+AE1346,0)","v":0},null,null,null,null,null,"Spring 2021","M",2021,"The Creative Company","Creative Education",8.1999999999999993,"Folklore and Myth","English","Reinforced Library",80,"U",null,"Grade 5 - 7","358.4/170979314","Ken Karst"]
["NEW",9781640005426,null,9781640264632,null,"El guepardo (Cheetah)",null,null,null,"Planeta animal (Amazing Animals)",null,null,null,29.95,20.95,42.8,25.95,null,{"$f":"S1352","v":0},null,{"$f":"U1352","v":0},null,{"$f":"W1352","v":0},null,0,0,0,0,0,0,0,0,null,null,null,null,null,"Spring 2021","I",2021,"The Creative Company","Creative Education",null,"Life Science","Spanish","Reinforced Library",24,"J",null,"Grade 1 - 2",null,"Kate Riggs"]
[null,null,null,null,null,"Complete Series of 140",null,null,null,"Seedlings",null,null,null,{"$f":"SUM(N1389:N1528)","v":4192.9999999999891},{"$f":"SUM(O1389:O1528)","v":2932.9999999999955},{"$f":"SUM(P1389:P1528)","v":5999.00000000001},{"$f":"SUM(Q1389:Q1528)","v":3632.9999999999914},null,null,null,null,null,null,null,null,null,null,null,null,null,null,null,null,null,null,null,null,null,null,null,"The Creative Company"]
[null,9781566609241,null,9781608188765,null,"Veterinarians",null,null,null,"Seedlings: Community Helpers",null,null,null,29.95,20.95,42.85,25.95,null,{"$f":"S1388","v":0},null,{"$f":"U1388","v":0},null,{"$f":"W1388","v":0},null,0,0,0,0,0,0,0,0,null,null,null,null,null,"Fall 2017","6 - 9",2018,"The Creative Company","Creative Education",1.6,"Careers","English","Reinforced Library",24,null,null,"K - 3",636.08909200000005,"Quinn M. Arnold"]
[null,9781566606967,null,9781608186662,null,"Terriers",null,null,null,"Seedlings: Dog Breeds",null,null,null,29.95,20.95,42.85,25.95,null,{"$f":"S1388","v":0},null,{"$f":"U1388","v":0},null,{"$f":"W1388","v":0},null,0,0,0,0,0,0,0,0,null,null,null,null,null,"Spring 2016","6 - 9",2016,"The Creative Company","Creative Education",1.5,"Animals & Nature","English","Reinforced Library",24,null,"340L","K - 3",636.755,"Laura K. Murray"]
[null,9781566609623,null,9781608189106,null,"Plows",null,null,null,"Seedlings: Farm Machines",null,null,null,29.95,20.95,42.85,25.95,null,{"$f":"S1388","v":0},null,{"$f":"U1388","v":0},null,{"$f":"W1388","v":0},null,0,0,0,0,0,0,0,0,null,null,null,null,null,"Spring 2018","6 - 9",2018,"The Creative Company","Creative Education",1.5,"Science & Technology","English","Reinforced Library",24,null,null,"K - 3","631.5/1","Lori Dittmer"]
[null,9781566605601,null,9781608185245,null,"Stock Cars",null,null,null,"Seedlings: Fast Vehicles",null,null,null,29.95,20.95,42.85,25.95,null,{"$f":"S1388","v":0},null,{"$f":"U1388","v":0},null,{"$f":"W1388","v":0},null,0,0,0,0,0,0,0,0,null,null,null,null,null,"Spring 2015","6 - 9",2015,"The Creative Company","Creative Education",1.3,"Science & Technology","English","Reinforced Library",24,null,"340L","K - 3",629.22799999999995,"Kate Riggs"]
[null,9781566609722,null,9781608189205,null,"Venus",null,null,null,"Seedlings: Planets",null,null,null,29.95,20.95,42.85,25.95,null,{"$f":"S1388","v":0},null,{"$f":"U1388","v":0},null,{"$f":"W1388","v":0},null,0,0,0,0,0,0,0,0,null,null,null,null,null,"Spring 2018","6 - 9",2018,"The Creative Company","Creative Education",1.5,"High Interest","English","Reinforced Library",24,null,null,"K - 3",523.41999999999996,"Lori Dittmer"]
["NEW",9781640003774,null,9781640262423,null,"Passenger Trains",null,null,null,"Seedlings: Transportation",null,null,null,29.95,20.95,42.85,25.95,null,{"$f":"S1388","v":0},null,{"$f":"U1388","v":0},null,{"$f":"W1388","v":0},null,0,0,0,0,0,0,0,0,null,null,null,null,null,"Spring 2020","6 - 9",2020,"The Creative Company","Creative Education",null,"Science & Technology","English","Reinforced Library",24,"E",null,"K - 3",null,"Quinn M. Arnold"]
[null,9781566604161,null,9781608184552,null,"Koalas",null,null,null,"Seedlings: Wild Animals",null,null,null,29.95,20.95,42.85,25.95,null,{"$f":"S1388","v":0},null,{"$f":"U1388","v":0},null,{"$f":"W1388","v":0},null,0,0,0,0,0,0,0,0,null,null,null,null,null,"Fall 2014","6 - 9",2015,"The Creative Company","Creative Education",1.3,"Animals & Nature","English","Reinforced Library",24,null,"270L","K - 3",599.75699999999995,"Kate Riggs"]
[null,"Not Available",null,9781608189298,null,"Los granjeros (Farmers)",null,null,null,"Semillas del saber (Seedlings: Community Helpers)",null,null,null,29.95,20.95,0,0,null,{"$f":"S1530","v":0},null,null,null,null,null,0,0,0,0,0,0,0,0,null,null,null,null,null,"Fall 2017","46 - 47",2018,"The Creative Company","Creative Education",2.2999999999999998,"High Interest","Spanish","Reinforced Library",24,null,null,"K - 3",null,"Quinn M. Arnold"]
["NEW",9781640004757,null,9781640264472,null,"Ramadán (Ramadan)",null,null,null,"Semillas del saber (Seedlings: Holidays)",null,null,null,29.95,20.95,42.85,25.95,null,{"$f":"S1530","v":0},null,{"$f":"U1530","v":0},null,{"$f":"W1530","v":0},null,0,0,0,0,0,0,0,0,null,null,null,null,null,"Spring 2021","E",2021,"The Creative Company","Creative Education",null,"Social Studies","Spanish","Reinforced Library",24,"E",null,"Grade K - 1",null,"Lori Dittmer"]
["NEW",9781640003842,null,9781640262737,null,"Los trenes subterráneos (Subway Trains)",null,null,null,"Semillas del saber (Seedlings: Trains)",null,null,null,29.95,20.95,42.85,25.95,null,{"$f":"S1530","v":0},null,{"$f":"U1530","v":0},null,{"$f":"W1530","v":0},null,0,0,0,0,0,0,0,0,null,null,null,null,null,"Spring 2020","46 - 47",2020,"The Creative Company","Creative Education",null,"Science & Technology","Spanish","Reinforced Library",24,"E",null,"K - 3",null,"Quinn M. Arnold"]
[null,9781640001916,null,9781640260757,null,"Baby Koalas",null,null,null,"Starting Out",null,null,null,27.1,18.95,36.65,23.95,null,{"$f":"S1581","v":0},null,{"$f":"U1581","v":0},null,{"$f":"W1581","v":0},null,0,0,0,0,0,0,0,0,null,null,null,null,null,"Spring 2019","2 - 3",2019,"The Creative Company","Creative Education",1.3,"Animals & Nature","English","Reinforced Library",24,"D","350L","K - 3",null,"Kate Riggs"]
["NEW",9781640003910,null,9781640262508,null,"Baby Pandas",null,null,null,"Starting Out ",null,null,null,27.1,18.95,36.65,23.95,null,{"$f":"S1581","v":0},null,{"$f":"U1581","v":0},null,{"$f":"W1581","v":0},null,0,0,0,0,0,0,0,0,null,null,null,null,null,"Spring 2020","2 - 3",2020,"The Creative Company","Creative Education",null,"Animals & Nature","English","Reinforced Library",16,"D",null,"K - 3",null,"Kate Riggs"]
["NEW",9781640003620,null,9781640262270,null,"Seminole",null,null,null,"First Peoples",null,null,null,29.95,20.95,42.85,25.95,null,{"$f":"S1625","v":0},null,{"$f":"U1625","v":0},null,{"$f":"W1625","v":0},null,0,0,0,0,0,0,0,0,null,null,null,null,null,"Spring 2020","20",2020,"The Creative Company","Creative Education",null,"History","English","Reinforced Library",24,"L",null,"3 - 6",null,"Valerie Bodden"]
[null,9781566601566,null,9781608182145,null,"Bee",null,null,null,"Grow with Me",null,null,null,32.799999999999997,22.95,46.9,{"$f":"O1642+5","v":27.95},null,{"$f":"S1639","v":0},null,{"$f":"U1639","v":0},null,{"$f":"W1639","v":0},null,0,0,0,0,0,0,0,0,null,null,null,null,null,"Fall 2012","21",2013,"The Creative Company","Creative Education",null,"Animals & Nature","English","Reinforced Library",32,null,"630L","3 - 5",635.65200000000004,"Kate Riggs"]
[null,null,null,null,null,"Complete Series of 4",null,null,null,"Odysseys in Technology",null,null,null,{"$f":"SUM(N1662:N1665)","v":176.8},{"$f":"SUM(O1662:O1665)","v":123.8},{"$f":"SUM(P1662:P1665)","v":252.8},{"$f":"SUM(Q1662:Q1665)","v":143.80000000000001},null,null,null,null,null,null,null,null,null,null,null,null,null,null,null,null,null,null,null,null,null,null,null,"The Creative Company"]
[null,9781640002470,null,9781640261297,null,"Washington Monument",null,null,null,"Landmarks of America",null,null,null,29.95,20.95,42.85,25.95,null,{"$f":"S1682","v":0},null,{"$f":"U1682","v":0},null,{"$f":"W1682","v":0},null,0,0,0,0,0,0,0,0,null,null,null,null,null,"Fall 2019","12 - 13",2020,"The Creative Company","Creative Education",2.8,"Animals & Nature","English","Reinforced Library",24,null,null,"1 - 3",975.3,"Lori Dittmer"]
[null,9781640002593,null,9781640261419,null,"Green Bay Packers",null,null,null,"NFL Today '19",null,null,null,41.35,28.95,59.15,33.950000000000003,null,{"$f":"S1692","v":0},null,{"$f":"U1692","v":0},null,{"$f":"W1692","v":0},null,0,0,0,0,0,0,0,0,null,null,null,null,null,"Fall 2019","30 - 31",2020,"The Creative Company","Creative Education",4.8,"Sports & Recreation","English","Reinforced Library",48,null,null,"4 - 6","796.332/640977561","Jim Whiting"]
[null,9781640002784,null,9781640261600,null,"Tennessee Titans",null,null,null,"NFL Today '19",null,null,null,41.35,28.95,59.15,33.950000000000003,null,{"$f":"S1692","v":0},null,{"$f":"U1692","v":0},null,{"$f":"W1692","v":0},null,0,0,0,0,0,0,0,0,null,null,null,null,null,"Fall 2019","30 - 31",2020,"The Creative Company","Creative Education",null,"Sports & Recreation","English","Reinforced Library",48,null,null,"4 - 6","796.332/640976855","Jim Whiting"]
[null,9781640003040,null,9781640261860,null,"Tiger",null,null,null,"Spotlight on Nature",null,null,null,32.799999999999997,22.95,46.9,27.95,null,{"$f":"S1734","v":0},null,{"$f":"U1734","v":0},null,{"$f":"W1734","v":0},null,0,0,0,0,0,0,0,0,null,null,null,null,null,"Fall 2019","22 - 23",2020,"The Creative Company","Creative Education",5.6,"Animals & Nature","English","Reinforced Library",32,null,null,"4 - 6",599.75599999999997,"Melissa Gish"]
[null,9781640000896,null,9781608189885,null,"Beetles ",null,null,null,"X-Books: Insects",null,null,null,32.799999999999997,22.95,46.9,27.95,null,{"$f":"S1758","v":0},null,{"$f":"U1758","v":0},null,{"$f":"W1758","v":0},null,0,0,0,0,0,0,0,0,null,null,null,null,null,"Fall 2018","24 - 27",2019,"The Creative Company","Creative Education",null,"Animals & Nature","English","Reinforced Library",32,null,null,"3 - 6",595.76,"Ashley Gish"]
[null,9781640003170,null,9781640261990,null,"Vampires",null,null,null,"X-Books: Mythical Creatures",null,null,null,32.799999999999997,22.95,46.9,27.95,null,{"$f":"S1758","v":0},null,{"$f":"U1758","v":0},null,{"$f":"W1758","v":0},null,0,0,0,0,0,0,0,0,null,null,null,null,null,"Fall 2019","24 - 27",2020,"The Creative Company","Creative Education",null,"Legends, Myths, & Paranormal","English","Reinforced Library",32,null,null,"3 - 6",398.21,"Ashley Gish"]
[null,9781566608701,null,9781608188222,null,"Snakes",null,null,null,"X-Books: Predators",null,null,null,32.799999999999997,22.95,46.9,27.95,null,{"$f":"S1758","v":0},null,{"$f":"U1758","v":0},null,{"$f":"W1758","v":0},null,0,0,0,0,0,0,0,0,null,null,null,null,null,"Fall 2017","24 - 27",2018,"The Creative Company","Creative Education",3.8,"Animals & Nature","English","Reinforced Library",32,null,null,"3 - 5",597.96,"Melissa Gish"]
[null,9781640001732,null,9781640260573,null,"Speaking to Your Dog",null,null,null,"A Dog's Life",null,null,null,29.95,20.95,42.85,25.95,null,{"$f":"S1804","v":0},null,{"$f":"U1804","v":0},null,{"$f":"W1804","v":0},null,0,0,0,0,0,0,0,0,null,null,null,null,null,"Spring 2019","38 - 45",2019,"The Creative Company","Creative Education",null,"Animals & Nature","English","Reinforced Library",24,"O","610L","1 - 4",null,"Michael J. Rosen "]
[null,9781640002210,null,9781640261051,null,"Los helicópteros (Helicopters)",null,null,null,"Increíbles vehículos de rescate (Amazing Rescue Vehicles)",null,null,null,29.95,20.95,42.85,{"$f":"O1839+5","v":25.95},null,{"$f":"S1836","v":0},null,{"$f":"U1836","v":0},null,{"$f":"W1836","v":0},null,{"$f":"S1839","v":0},{"$f":"U1839","v":0},{"$f":"W1839*2","v":0},{"$f":"Y1839+Z1839+AA1839","v":0},{"$f":"S1839*O1839","v":0},{"$f":"U1839*P1839","v":0},{"$f":"W1839*Q1839","v":0},{"$f":"IF(AH1839=FALSE,AC1839+AD1839+AE1839,0)","v":0},null,null,null,null,null,"Spring 2019","46 - 47",2019,"The Creative Company","Creative Education",4.5,"Science & Technology","Spanish","Reinforced Library",24,"K","600L","1 - 3",null,"Lori Dittmer"]
[null,9781566606721,null,9781608186358,null,"Yosemite",null,null,null,"National Park Explorers",null,null,null,29.95,20.95,42.85,25.95,null,{"$f":"S1842","v":0},null,{"$f":"U1842","v":0},null,{"$f":"W1842","v":0},null,0,0,0,0,0,0,0,0,null,null,null,null,null,"Spring 2016","38 - 45",2016,"The Creative Company","Creative Education",2.2000000000000002,"Animals & Nature","English","Reinforced Library",24,"N","470L","1 - 3","979.4/47","Sara Gilbert"]
[null,9781640000285,null,9781608189991,null,"Spineless Sea Creatures",null,null,null,"Down in the Ocean ",null,null,null,41.35,28.95,59.15,33.950000000000003,null,{"$f":"S1866","v":0},null,{"$f":"U1866","v":0},null,{"$f":"W1866","v":0},null,0,0,0,0,0,0,0,0,null,null,null,null,null,"Fall 2018","38 - 45",2019,"The Creative Company","Creative Education",null,"High Interest","English","Reinforced Library",48,null,null,"5 - 8",592.17700000000002,"Melissa Gish"]
[null,9781640001138,null,9781583419663,null,"Bats",null,null,null,"Living Wild",null,null,null,41.35,28.95,59.15,33.950000000000003,null,{"$f":"S1885","v":0},null,{"$f":"U1885","v":0},null,{"$f":"W1885","v":0},null,0,0,0,0,0,0,0,0,null,null,null,null,null,"Fall 2010","28 - 29",2011,"The Creative Company","Creative Education",null,"Animals & Nature","English","Reinforced Library",48,null,null,"4 - 8",599.4,"Melissa Gish"]
[null,9781640000377,null,9781608189588,null,"Hyenas",null,null,null,"Living Wild",null,null,null,41.35,28.95,59.15,33.950000000000003,null,{"$f":"S1885","v":0},null,{"$f":"U1885","v":0},null,{"$f":"W1885","v":0},null,0,0,0,0,0,0,0,0,null,null,null,null,null,"Fall 2018","28 - 29",2019,"The Creative Company","Creative Education",null,"Animals & Nature","English","Reinforced Library",48,null,null,"4 - 8","599.74/3","Melissa Gish"]
[null,9781640001220,null,9781583419717,null,"Killer Whales",null,null,null,"Living Wild",null,null,null,41.35,28.95,59.15,33.950000000000003,null,{"$f":"S1885","v":0},null,{"$f":"U1885","v":0},null,{"$f":"W1885","v":0},null,0,0,0,0,0,0,0,0,null,null,null,null,null,"Fall 2010","28 - 29",2011,"The Creative Company","Creative Education",null,"Animals & Nature","English","Reinforced Library",48,null,null,"4 - 8",599.53599999999994,"Melissa Gish"]
[null,9781640000384,null,9781608189595,null,"Puffins",null,null,null,"Living Wild",null,null,null,41.35,28.95,59.15,33.950000000000003,null,{"$f":"S1885","v":0},null,{"$f":"U1885","v":0},null,{"$f":"W1885","v":0},null,0,0,0,0,0,0,0,0,null,null,null,null,null,"Fall 2018","28 - 29",2019,"The Creative Company","Creative Education",null,"Animals & Nature","English","Reinforced Library",48,null,null,"4 - 8","598.3/3","Melissa Gish"]
[null,9781566604529,null,9781608184200,null,"Wild Horses",null,null,null,"Living Wild",null,null,null,41.35,28.95,59.15,33.950000000000003,null,{"$f":"S1885","v":0},null,{"$f":"U1885","v":0},null,{"$f":"W1885","v":0},null,0,0,0,0,0,0,0,0,null,null,null,null,null,"Fall 2014","28 - 29",2015,"The Creative Company","Creative Education",7.2,"Animals & Nature","English","Reinforced Library",48,null,"1230L","4 - 8","599.665/5","Melissa Gish"]
[]
[null,9781640000643,null,9781608189632,null,"Cheyenne ",null,null,null,"Peoples of North America",null,null,null,41.35,28.95,59.15,33.950000000000003,null,{"$f":"S1997","v":0},null,{"$f":"U1997","v":0},null,{"$f":"W1997","v":0},null,0,0,0,0,0,0,0,0,null,null,null,null,null,"Fall 2018","38 - 45",2019,"The Creative Company","Creative Education",null,"Social Studies","English","Reinforced Library",48,null,null,"4 - 7","978.004/97353","Valerie Bodden"]
[null,9781566605977,null,9781608185894,null,"Manchester United",null,null,null,"Soccer Champions",null,null,null,41.35,28.95,59.15,33.950000000000003,null,{"$f":"S2011","v":0},null,{"$f":"U2011","v":0},null,{"$f":"W2011","v":0},null,0,0,0,0,0,0,0,0,null,null,null,null,null,"Fall 2015","38 - 45",2016,"The Creative Company","Creative Education",7.5,"Sports & Recreation","English","Reinforced Library",48,null,"1220L","4 - 7","796.334/640942733","Jim Whiting"]
[null,9781640000087,null,9781608189434,null,"Los géiseres (Geysers)",null,null,null,"¡Viva la Tierra! (Earth Rocks!)",null,null,null,29.95,20.95,42.85,25.95,null,{"$f":"S2036","v":0},null,{"$f":"U2036","v":0},null,{"$f":"W2036","v":0},null,0,0,0,0,0,0,0,0,null,null,null,null,null,"Spring 2018","46 - 47",2018,"The Creative Company","Creative Education",null,"Animals & Nature","Spanish","Reinforced Library",24,null,null,"1 - 3",null,"Sara Gilbert"]
[null,9781566609494,null,9781608188970,null,"Boxers",null,null,null,"Fetch!",null,null,null,29.95,20.95,42.85,{"$f":"O2062+5","v":25.95},null,{"$f":"S2060","v":0},null,{"$f":"U2060","v":0},null,{"$f":"W2060","v":0},null,0,0,0,0,0,0,0,0,null,null,null,null,null,"Spring 2018","38 - 45",2018,"The Creative Company","Creative Education",2.7,"Animals & Nature","English","Reinforced Library",24,null,null,"1 - 4",null,"Valerie Bodden"]
[null,9781566609524,null,9781608189007,null,"Pugs",null,null,null,"Fetch!",null,null,null,29.95,20.95,42.85,25.95,null,{"$f":"S2060","v":0},null,{"$f":"U2060","v":0},null,{"$f":"W2060","v":0},null,0,0,0,0,0,0,0,0,null,null,null,null,null,"Spring 2018","38 - 45",2018,"The Creative Company","Creative Education",3.1,"Animals & Nature","English","Reinforced Library",24,null,null,"1 - 4",null,"Kate Riggs"]
[null,9781566608589,null,9781608188109,null,"Tombs",null,null,null,"Creep Out ",null,null,null,29.95,20.95,42.85,25.95,null,{"$f":"S2080","v":0},null,{"$f":"U2080","v":0},null,{"$f":"W2080","v":0},null,0,0,0,0,0,0,0,0,null,null,null,null,null,"Fall 2017","38 - 45",2018,"The Creative Company","Creative Education",null,"Legends, Myths, & Paranormal","English","Reinforced Library",24,null,null,"1 - 3","133.1/22","Valerie Bodden"]
[null,9781566608831,null,9781608188352,null,"The Story of the Atlanta Hawks",null,null,null,"The NBA: A History of Hoops",null,null,null,41.35,28.95,59.15,{"$f":"O2105+5","v":33.950000000000003},null,{"$f":"S2104","v":0},null,{"$f":"U2104","v":0},null,{"$f":"W2104","v":0},null,{"$f":"S2105","v":0},{"$f":"U2105","v":0},{"$f":"W2105*2","v":0},{"$f":"Y2105+Z2105+AA2105","v":0},{"$f":"S2105*O2105","v":0},{"$f":"U2105*P2105","v":0},{"$f":"W2105*Q2105","v":0},{"$f":"IF(AH2105=FALSE,AC2105+AD2105+AE2105,0)","v":0},null,null,null,null,null,"Fall 2017","38 - 45",2018,"The Creative Company","Creative Education",null,"Sports & Recreation","English","Reinforced Library",48,null,"1220L","4 - 6","796.323'6409758231","Jim Whiting"]
[null,9781566608015,null,9781608187591,null,"Aliens",null,null,null,"Are They Real?",null,null,null,29.95,20.95,42.85,25.95,null,{"$f":"S2136","v":0},null,{"$f":"U2136","v":0},null,{"$f":"W2136","v":0},null,{"$f":"S2137","v":0},{"$f":"U2137","v":0},{"$f":"W2137*2","v":0},{"$f":"Y2137+Z2137+AA2137","v":0},{"$f":"S2137*O2137","v":0},{"$f":"U2137*P2137","v":0},{"$f":"W2137*Q2137","v":0},{"$f":"IF(AH2137=FALSE,AC2137+AD2137+AE2137,0)","v":0},null,null,null,null,null,"Spring 2017","38 - 45",2017,"The Creative Company","Creative Education",null,"Legends, Myths, & Paranormal","English","Reinforced Library",24,null,"500L","1 - 3",1.9419999999999999,"Laura K. Murray"]
[null,9781566608107,null,9781608187683,null,"Monster Birds ",null,null,null,"Ice Age Mega Beasts",null,null,null,29.95,20.95,42.85,25.95,null,{"$f":"S2144","v":0},null,{"$f":"U2144","v":0},null,{"$f":"W2144","v":0},null,0,0,0,0,0,0,0,0,null,null,null,null,null,"Spring 2017","38 - 45",2017,"The Creative Company","Creative Education",null,"Animals & Nature","English","Reinforced Library",24,null,"560L","1 - 3",598.16800000000001,"Sara Gilbert"]
[null,9781566607100,null,9781608186747,null,"State and Local Government",null,null,null,"By the People",null,null,null,41.35,28.95,59.15,33.950000000000003,null,{"$f":"S2160","v":0},null,{"$f":"U2160","v":0},null,{"$f":"W2160","v":0},null,0,0,0,0,0,0,0,0,null,null,null,null,null,"Fall 2016","38 - 45",2017,"The Creative Company","Creative Education",7.4,"Social Studies","English","Reinforced Library",48,null,"1090L","4 - 6",320.47300000000001,"Bill McAuliffe"]
[]
[null,9781566607711,null,9781608187362,null,"Quotation Marks and Apostrophes",null,null,null,"Punctuate It!",null,null,null,32.799999999999997,22.95,46.9,27.95,null,{"$f":"S2204","v":0},null,{"$f":"U2204","v":0},null,{"$f":"W2204","v":0},null,0,0,0,0,0,0,0,0,null,null,null,null,null,"Fall 2016","38 - 45",2017,"The Creative Company","Creative Education",null,"Language Arts","English","Reinforced Library",32,null,"660L","3 - 5","428.2/3","Kate Riggs"]
[null,9781566608503,null,9781608188031,null,"Manchester United",null,null,null,"Soccer Stars",null,null,null,29.95,20.95,42.85,25.95,null,{"$f":"S2212","v":0},null,{"$f":"U2212","v":0},null,{"$f":"W2212","v":0},null,0,0,0,0,0,0,0,0,null,null,null,null,null,"Fall 2016","38 - 45",2017,"The Creative Company","Creative Education",3.7,"Sports & Recreation","English","Reinforced Library",24,null,"730L","1 - 3","796.33409427/33","Jim Whiting"]
[null,"Not Available",null,9781608183319,null,"Katy Perry",null,null,null,"The Big Time",null,null,null,29.95,20.95,0,0,null,{"$f":"S2220","v":0},null,null,null,null,null,0,0,0,0,0,0,0,0,null,null,null,null,null,"Spring 2013","38 - 45",2013,"The Creative Company","Creative Education",null,"Biography","English","Reinforced Library",24,null,"670L","1 - 3",782.42164091999996,"Aaron Frisch"]
[null,9781566606943,null,9781608186280,null,"What is Realism?",null,null,null,"Art World",null,null,null,29.95,20.95,42.85,25.95,null,{"$f":"S2248","v":0},null,{"$f":"U2248","v":0},null,{"$f":"W2248","v":0},null,0,0,0,0,0,0,0,0,null,null,null,null,null,"Spring 2016","38 - 45",2016,"The Creative Company","Creative Education",2.5,"Arts, Crafts, & Activities","English","Reinforced Library",24,null,"510L","1 - 3","759.05/3","Kate Riggs"]
[null,"Not Available",null,9781608180615,null,"The Story of Apple",null,null,null,"Built for Success",null,null,null,41.35,28.95,0,0,null,{"$f":"S2284","v":0},null,null,null,null,null,0,0,0,0,0,0,0,0,null,null,null,null,null,"Fall 2011","38 - 45",2012,"The Creative Company","Creative Education",null,"Science & Technology","English","Reinforced Library",48,null,null,"4 - 6","338.7/610040973","Sara Gilbert"]
[null,"Not Available",null,9781583416075,null,"The Story of Microsoft",null,null,null,"Built for Success",null,null,null,41.35,28.95,0,0,null,{"$f":"S2284","v":0},null,null,null,null,null,0,0,0,0,0,0,0,0,null,null,null,null,null,"Fall 2008","38 - 45",2009,"The Creative Company","Creative Education",9,"Science & Technology","English","Reinforced Library",48,null,null,"4 - 6","338.7/610050973","Nell Musolf"]
[null,9781566606431,null,9781608185320,null,"Gothic Art",null,null,null,"Odysseys in Art",null,null,null,44.2,30.95,63.2,35.950000000000003,null,{"$f":"S2312","v":0},null,{"$f":"U2312","v":0},null,{"$f":"W2312","v":0},null,0,0,0,0,0,0,0,0,null,null,null,null,null,"Fall 2015","36 - 37",2016,"The Creative Company","Creative Education",10.5,"Arts, Crafts, & Activities","English","Reinforced Library",80,null,"1460L","7 - 9",709.02,"Jessica Gunderson"]
[null,9781566605830,null,9781608186051,null,"Big Bend National Park",null,null,null,"Preserving America",null,null,null,41.35,28.95,59.15,{"$f":"O2339+5","v":33.950000000000003},null,{"$f":"S2337","v":0},null,{"$f":"U2337","v":0},null,{"$f":"W2337","v":0},null,0,0,0,0,0,0,0,0,null,null,null,null,null,"Fall 2015","38 - 45",2016,"The Creative Company","Creative Education",7.8,"Animals & Nature","English","Reinforced Library",48,null,"1270L","4 - 6","976.4/932","Nate Frisch"]
[null,9781566606202,null,9781608185993,null,"Cold War Spies",null,null,null,"Wartime Spies",null,null,null,41.35,28.95,59.15,33.950000000000003,null,{"$f":"S2356","v":0},null,{"$f":"U2356","v":0},null,{"$f":"W2356","v":0},null,0,0,0,0,0,0,0,0,null,null,null,null,null,"Fall 2015","38 - 45",2016,"The Creative Company","Creative Education",8.1,"History","English","Reinforced Library",48,null,"1230L","4 - 6","327.1209/045","Michael E. Goodman"]
[null,"Not Available",null,9781608184811,null,"Comets",null,null,null,"Across the Universe",null,null,null,29.95,20.95,0,0,null,{"$f":"S2364","v":0},null,null,null,null,null,0,0,0,0,0,0,0,0,null,null,null,null,null,"Spring 2015","38 - 45",2015,"The Creative Company","Creative Education",3.4,"Science & Technology","English","Reinforced Library",24,null,"550L","1 - 3",523.6,"Kate Riggs"]
[null,"Not Available",null,9781608185085,null,"Dairy ",null,null,null,"Healthy Plates",null,null,null,29.95,20.95,0,0,null,{"$f":"S2380","v":0},null,null,null,null,null,0,0,0,0,0,0,0,0,null,null,null,null,null,"Spring 2015","38 - 45",2015,"The Creative Company","Creative Education",3.3,"Health","English","Reinforced Library",24,null,"610L","1 - 3","613.2/6","Valerie Bodden"]
[null,"Not Available",null,9781608184088,null,"Coal Power",null,null,null,"Harnessing Energy",null,null,null,41.35,28.95,0,0,null,{"$f":"S2400","v":0},null,null,null,null,null,{"$f":"S2401","v":0},{"$f":"U2401","v":0},{"$f":"W2401*2","v":0},{"$f":"Y2401+Z2401+AA2401","v":0},{"$f":"S2401*O2401","v":0},{"$f":"U2401*P2401","v":0},{"$f":"W2401*Q2401","v":0},{"$f":"IF(AH2401=FALSE,AC2401+AD2401+AE2401,0)","v":0},null,null,null,null,null,"Fall 2014","38 - 45",2015,"The Creative Company","Creative Education",null,"Science & Technology","English","Reinforced Library",48,null,"1000L","4 - 6","622/.334","Diane Bailey"]
[null,"Not Available",null,9781608183739,null,"Chicago Bears",null,null,null,"Super Bowl Champions",null,null,null,29.95,20.95,0,0,null,{"$f":"S2434","v":0},null,null,null,null,null,{"$f":"S2435","v":0},{"$f":"U2435","v":0},{"$f":"W2435*2","v":0},{"$f":"Y2435+Z2435+AA2435","v":0},{"$f":"S2435*O2435","v":0},{"$f":"U2435*P2435","v":0},{"$f":"W2435*Q2435","v":0},{"$f":"IF(AH2435=FALSE,AC2435+AD2435+AE2435,0)","v":0},null,null,null,null,null,"Spring 2014","38 - 45",2014,"The Creative Company","Creative Education",3.2,"Sports & Recreation","English","Reinforced Library",24,null,"780L","1 - 3","796.332/640977311","Aaron Frisch"]
[null,"Not Available",null,9781608183821,null,"New York Giants",null,null,null,"Super Bowl Champions",null,null,null,29.95,20.95,0,0,null,{"$f":"S2434","v":0},null,null,null,null,null,0,0,0,0,0,0,0,0,null,null,null,null,null,"Spring 2014","38 - 45",2014,"The Creative Company","Creative Education",3.8,"Sports & Recreation","English","Reinforced Library",24,null,"820L","1 - 3","796.332/64097471","Aaron Frisch"]
[null,"Not Available",null,9781608182374,null,"Adverbs",null,null,null,"Grammar Basics",null,null,null,29.95,20.95,0,0,null,{"$f":"S2462","v":0},null,null,null,null,null,{"$f":"S2464","v":0},{"$f":"U2464","v":0},{"$f":"W2464*2","v":0},{"$f":"Y2464+Z2464+AA2464","v":0},{"$f":"S2464*O2464","v":0},{"$f":"U2464*P2464","v":0},{"$f":"W2464*Q2464","v":0},{"$f":"IF(AH2464=FALSE,AC2464+AD2464+AE2464,0)","v":0},null,null,null,null,null,"Spring 2013","38 - 45",2013,"The Creative Company","Creative Education",null,"Language Arts","English","Reinforced Library",24,null,"480L","1 - 3",428.2,"Kate Riggs"]
[null,null,null,null,null,"Complete Series of 2",null,null,null,"Brushes with Greatness",null,null,null,{"$f":"SUM(N2488:N2489)","v":82.7},{"$f":"SUM(O2488:O2489)","v":57.9},{"$f":"SUM(P2488:P2489)","v":0},{"$f":"SUM(Q2488:Q2489)","v":0},null,null,null,null,null,null,null,null,null,null,null,null,null,null,null,null,null,null,null,null,null,null,null,"The Creative Company"]
[null,"Not Available",null,9781608181933,null,"Stars",null,null,null,"Mysteries of the Universe",null,null,null,41.35,28.95,0,0,null,{"$f":"S2498","v":0},null,null,null,null,null,0,0,0,0,0,0,0,0,null,null,null,null,null,"Fall 2012","38 - 45",2013,"The Creative Company","Creative Education",null,"Science & Technology","English","Reinforced Library",48,null,"1970L","4 - 6",523.79999999999995,"Jim Whiting"]
[]
[null,"Not Available",null,9781608181483,null,"Snow",null,null,null,"Our Wonderful Weather",null,null,null,29.95,20.95,0,0,null,{"$f":"S2527","v":0},null,null,null,null,null,{"$f":"S2530","v":0},{"$f":"U2530","v":0},{"$f":"W2530*2","v":0},{"$f":"Y2530+Z2530+AA2530","v":0},{"$f":"S2530*O2530","v":0},{"$f":"U2530*P2530","v":0},{"$f":"W2530*Q2530","v":0},{"$f":"IF(AH2530=FALSE,AC2530+AD2530+AE2530,0)","v":0},null,null,null,null,null,"Spring 2012","38 - 45",2012,"The Creative Company","Creative Education",3.2,"Science & Technology","English","Reinforced Library",24,null,null,"1 - 3",551.57839999999999,"Valerie Bodden"]
[null,"Not Available",null,9781608180561,null,"The Story of Seattle Mariners",null,null,null,"Baseball: The Great American Game",null,null,null,41.35,28.95,0,0,null,{"$f":"S2533","v":0},null,null,null,null,null,0,0,0,0,0,0,0,0,null,null,null,null,null,"Fall 2011","38 - 45",2012,"The Creative Company","Creative Education",null,"Sports & Recreation","English","Reinforced Library",48,null,"NC1260L","4 - 6","796.357/6409797772","Nate LeBoutillier"]
[null,null,null,null,null,"Complete Series of 3",null,null,null,"Science of the Skies",null,null,null,{"$f":"SUM(N2585:N2587)","v":124.05000000000001},{"$f":"SUM(O2585:O2587)","v":86.85},{"$f":"SUM(P2585:P2587)","v":0},{"$f":"SUM(Q2585:Q2587)","v":0},null,null,null,null,null,null,null,null,null,null,null,null,null,null,null,null,null,null,null,null,null,null,null,"The Creative Company"]
[null,"Not Available",null,9781583415467,null,"The Cold War",null,null,null,"Days of Change",null,null,null,41.35,28.95,0,0,null,{"$f":"S2589","v":0},null,null,null,null,null,0,0,0,0,0,0,0,0,null,null,null,null,null,"Fall 2007","38 - 45",2008,"The Creative Company","Creative Education",9.6999999999999993,"History","English","Reinforced Library",48,null,"NC1400L","4 - 6","909.52/5","Valerie Bodden"]
[null,"Not Available",null,9781583417881,null,"Ohio",null,null,null,"This Land Called America",null,null,null,32.799999999999997,22.95,0,0,null,{"$f":"S2600","v":0},null,null,null,null,null,0,0,0,0,0,0,0,0,null,null,null,null,null,"Fall 2009","38 - 45",2010,"The Creative Company","Creative Education",6.2,"History","English","Reinforced Library",32,null,null,"3 - 5",977.1,"Jessica Gunderson"]
[]
["NEW",9781623103484,null,9781623102548,null,"Audi R8",null,null,null,"Epic Cars",null,null,null,32.799999999999997,22.95,46.9,27.95,null,{"$f":"S2652","v":0},null,{"$f":"U2652","v":0},null,{"$f":"W2652","v":0},null,0,0,0,0,0,0,0,0,null,null,null,null,null,"Spring 2021","Insert 14",2021,"Black Rabbit Books","Bolt!",null,"Sports and Recreation","English","Reinforced Library",32,"O",null,"Grade 2 - 3","629.222/2","Megan Cooley Peterson"]
["NEW",9781680728477,null,9781680728392,null,"McLaren 720S",null,null,null,"Epic Cars",null,null,null,32.799999999999997,22.95,46.9,27.95,null,{"$f":"S2652","v":0},null,{"$f":"U2652","v":0},null,{"$f":"W2652","v":0},null,0,0,0,0,0,0,0,0,null,null,null,null,null,"Fall 2020","12",2020,"Black Rabbit Books","Bolt!",3.4,"Science & Technology","English","Reinforced Library",32,null,"600L","2-6","629.222/2","Julia Garstecki"]
["NEW",9781623104122,null,9781623103187,null,"Searching for Ghosts",null,null,null,"On the Paranormal Hunt",null,null,null,29.95,20.95,42.8,25.95,null,{"$f":"S2692","v":0},null,{"$f":"U2692","v":0},null,{"$f":"W2692","v":0},null,0,0,0,0,0,0,0,0,null,null,null,null,null,"Spring 2021","Insert 8",2021,"Black Rabbit Books","Hi Jinx",null,"Folklore and Myth","English","Reinforced Library",24,"O",null,"Grade 2 - 3",133.1,"Thomas Kingsley Troupe"]
["NEW",9781623104160,null,9781623103224,null,"Rapping Rhymes about School",null,null,null,"Rap Your World",null,null,null,29.95,20.95,42.8,25.95,null,{"$f":"S2700","v":0},null,{"$f":"U2700","v":0},null,{"$f":"W2700","v":0},null,0,0,0,0,0,0,0,0,null,null,null,null,null,"Spring 2021","Insert 3",2021,"Black Rabbit Books","Hi Jinx",null,"Poetry","English","Reinforced Library",24,"O","800L","Grade 2 - 3","811/.6","Thomas Kingsley Troupe"]
[]
["NEW",9781623104252,null,9781623103316,null,"The Imaginative Explorer's Guide to the Yard",null,null,null,"The Imaginative Explorer's Guide",null,null,null,29.95,20.95,42.8,25.95,null,{"$f":"S2734","v":0},null,{"$f":"U2734","v":0},null,{"$f":"W2734","v":0},null,0,0,0,0,0,0,0,0,null,null,null,null,null,"Spring 2021","Insert 7",2021,"Black Rabbit Books","Hi Jinx",null,"Sports and Recreation","English","Reinforced Library",24,"O","560L","Grade 2 - 3",796.08299999999997,"Eric Braun"]
["NEW",9781680727920,null,9781680727869,null,"AH-1Z Viper",null,null,null,"Air Power",null,null,null,32.799999999999997,22.95,46.9,{"$f":"O2762+5","v":27.95},null,{"$f":"S2760","v":0},null,{"$f":"U2760","v":0},null,{"$f":"W2760","v":0},null,0,0,0,0,0,0,0,0,null,null,null,null,null,"Fall 2020","16",2020,"Black Rabbit Books","Bolt!",3.3,"Science & Technology","English","Reinforced Library",32,null,"600L","2-6","623.74/63","Megan Cooley Peterson"]
["NEW",9781781215470,null,9781781214466,null,"Apes and Monkeys",null,null,null,"Animal Detectives",null,null,null,29.95,20.95,42.8,{"$f":"O2783+5","v":25.95},null,{"$f":"S2782","v":0},null,{"$f":"U2782","v":0},null,{"$f":"W2782","v":0},null,{"$f":"S2783","v":0},{"$f":"U2783","v":0},{"$f":"W2783*2","v":0},{"$f":"Y2783+Z2783+AA2783","v":0},{"$f":"S2783*O2783","v":0},{"$f":"U2783*P2783","v":0},{"$f":"W2783*Q2783","v":0},{"$f":"IF(AH2783=FALSE,AC2783+AD2783+AE2783,0)","v":0},null,null,null,null,null,"Fall 2020","Website",2020,"Black Rabbit Books","Brown Bear Books",2.8,"Animals & Nature","English","Reinforced Library",24,null,null,"2 - 4",null,"Anne O'Daly"]
["NEW","Not Available",null,9781912904402,null,"Leaves",null,null,null,"Arty Crafty",null,null,null,32.799999999999997,22.95,0,0,null,{"$f":"S2798","v":0},null,null,null,null,null,0,0,0,0,0,0,0,0,null,null,null,null,null,"Fall 2020","Website",2020,"Black Rabbit Books","Book House",null,"High Interest","English","Reinforced Library",32,null,null,"4 - 6",null,"Mark Bergin"]
[]
[]
["NEW",9781623102234,null,9781623102067,null,"Los reptiles voladores (Flying Reptiles)",null,null,null,"Dinosaurios por diseno (Dinosaurs by Design)",null,null,null,32.799999999999997,22.95,46.9,27.95,null,{"$f":"S2854","v":0},null,{"$f":"U2854","v":0},null,{"$f":"W2854","v":0},null,0,0,0,0,0,0,0,0,null,null,null,null,null,"Fall 2020","25",2020,"Black Rabbit Books","Bolt!",null,"Animals & Nature","Spanish","Reinforced Library",32,null,null,"2-6",null,"Mark Weakland"]
["NEW",9781680725186,null,9781680724028,null,"Golden Retrievers",null,null,null,"Doggie Data",null,null,null,32.799999999999997,22.95,46.9,27.95,null,{"$f":"S2862","v":0},null,{"$f":"U2862","v":0},null,{"$f":"W2862","v":0},null,0,0,0,0,0,0,0,0,null,null,null,null,null,"Fall 2020","21",2019,"Black Rabbit Books","Bolt!",3.2,"Animals & Nature","English","Reinforced Library",32,null,"550L","2-6","636.752/7","Christa C. Hogan"]
["NEW",9781680725421,null,9781680724264,null,"Army Rangers",null,null,null,"Elite Warriors",null,null,null,32.799999999999997,22.95,46.9,27.95,null,{"$f":"S2886","v":0},null,{"$f":"U2886","v":0},null,{"$f":"W2886","v":0},null,0,0,0,0,0,0,0,0,null,null,null,null,null,"Fall 2020","15",2019,"Black Rabbit Books","Bolt!",null,"Science & Technology","English","Reinforced Library",32,null,"500L","2-6","356/.1670973","Julia Garstecki"]
["NEW",9781680728552,null,9781680728491,null,"Gladiators",null,null,null,"History's Warriors",null,null,null,32.799999999999997,22.95,46.9,{"$f":"O2911+5","v":27.95},null,{"$f":"S2910","v":0},null,{"$f":"U2910","v":0},null,{"$f":"W2910","v":0},null,{"$f":"S2911","v":0},{"$f":"U2911","v":0},{"$f":"W2911*2","v":0},{"$f":"Y2911+Z2911+AA2911","v":0},{"$f":"S2911*O2911","v":0},{"$f":"U2911*P2911","v":0},{"$f":"W2911*Q2911","v":0},{"$f":"IF(AH2911=FALSE,AC2911+AD2911+AE2911,0)","v":0},null,null,null,null,null,"Fall 2020","14",2020,"Black Rabbit Books","Bolt!",3.6,"History","English","Reinforced Library",32,null,"490L","2-6",796.80936999999994,"Gail Terp"]
[]
["NEW",9781680725513,null,9781680724356,null,"Highlights of the New England Patriots",null,null,null,"Team Stats—Football Edition",null,null,null,32.799999999999997,22.95,46.9,27.95,null,{"$f":"S2947","v":0},null,{"$f":"U2947","v":0},null,{"$f":"W2947","v":0},null,0,0,0,0,0,0,0,0,null,null,null,null,null,"Fall 2020","18",2019,"Black Rabbit Books","Bolt!",3.3,"Sports & Recreation","English","Reinforced Library",32,null,"560L","2-6","796.332/640974461","Marysa Storm"]
[]
[null,9781680722574,null,9781680721935,null,"Sloths",null,null,null,"Wild Animal Kingdom",null,null,null,32.799999999999997,22.95,46.9,27.95,null,{"$f":"S2971","v":0},null,{"$f":"U2971","v":0},null,{"$f":"W2971","v":0},null,0,0,0,0,0,0,0,0,null,null,null,null,null,"Fall 2019","26",2020,"Black Rabbit Books","Bolt!",3,"Animals & Nature","English","Reinforced Library",null,"L-N","460L","2 – 5","599.3/13","Gail Terp"]
["NEW",9781623101732,null,9781623101671,null,"Underwater Robots",null,null,null,"World of Robots",null,null,null,29.95,20.95,42.8,25.95,null,{"$f":"S3003","v":0},null,{"$f":"U3003","v":0},null,{"$f":"W3003","v":0},null,0,0,0,0,0,0,0,0,null,null,null,null,null,"Fall 2020","8",2020,"Black Rabbit Books","Bolt! Jr.",1.9,"Science & Technology","English","Reinforced Library",24,null,null,"1 - 2","623.82/74","Luke Colins"]
[null,9781680729078,null,9781680729016,null,"Is It a Turtle or a Tortoise?",null,null,null,"Can You Tell the Difference?",null,null,null,29.95,20.95,42.8,25.95,null,{"$f":"S3011","v":0},null,{"$f":"U3011","v":0},null,{"$f":"W3011","v":0},null,0,0,0,0,0,0,0,0,null,null,null,null,null,"Fall 2019","38",2020,"Black Rabbit Books","Hi Jinx",3.3,"Animals & Nature","English","Reinforced Library",24,null,null,"2 - 6",597.91999999999996,"Gail Terp"]
[null,9781680720709,null,9781680720280,null,"Choppers",null,null,null,"Gearhead Garage",null,null,null,32.799999999999997,22.95,46.9,{"$f":"O3036+5","v":27.95},null,{"$f":"S3035","v":0},null,{"$f":"U3035","v":0},null,{"$f":"W3035","v":0},null,{"$f":"S3036","v":0},{"$f":"U3036","v":0},{"$f":"W3036*2","v":0},{"$f":"Y3036+Z3036+AA3036","v":0},{"$f":"S3036*O3036","v":0},{"$f":"U3036*P3036","v":0},{"$f":"W3036*Q3036","v":0},{"$f":"IF(AH3036=FALSE,AC3036+AD3036+AE3036,0)","v":0},null,null,null,null,null,"Fall 2016","33",2017,"Black Rabbit Books","Bolt!",3.2,"Science & Technology","English","Reinforced Library",32,null,"590L","2 – 5",629.22749999999996,"Peter Bodensteiner"]
[null,9781680722086,null,9781680721447,null,"Basketball Science",null,null,null,"Got Game",null,null,null,32.799999999999997,22.95,46.9,27.95,null,{"$f":"S3057","v":0},null,{"$f":"U3057","v":0},null,{"$f":"W3057","v":0},null,0,0,0,0,0,0,0,0,null,null,null,null,null,"Fall 2019","33",2020,"Black Rabbit Books","Bolt!",3.3,"Sports & Recreation","English","Reinforced Library",32,"L–N","560L","2 – 5",796.32299999999998,"Nicki Clausen Grace & Jeff Grace"]
[null,9781680729443,null,9781680729382,null,"Make Your Own Water Balloon Launcher",null,null,null,"Make Your Own Fun",null,null,null,29.95,20.95,42.8,25.95,null,{"$f":"S3073","v":0},null,{"$f":"U3073","v":0},null,{"$f":"W3073","v":0},null,0,0,0,0,0,0,0,0,null,null,null,null,null,"Fall 2019","38",2020,"Black Rabbit Books","Hi Jinx",null,"High Interest","English","Reinforced Library",24,null,null,"2 - 6",745.59199999999998,"Julia Garstecki & Stephanie Derkovitz"]
[]
[null,9781680726688,null,9781680725780,null,"Dragsters Top Fuel (Top Fuel Dragsters)",null,null,null,"Pasion por los motores (Gearhead Garage)",null,null,null,32.799999999999997,22.95,46.9,27.95,null,{"$f":"S3105","v":0},null,{"$f":"U3105","v":0},null,{"$f":"W3105","v":0},null,0,0,0,0,0,0,0,0,null,null,null,null,null,"Fall 2019","33",2018,"Black Rabbit Books","Bolt!",null,"Science & Technology","Spanish","Reinforced Library",32,null,null,"4 - 6",null,"Deanna Caswell"]
[null,null,null,null,null,"Complete Series of 12",null,null,null,"Strange . . . But True?",null,null,null,{"$f":"SUM(N3142:N3153)","v":393.60000000000008},{"$f":"SUM(O3142:O3153)","v":275.39999999999992},{"$f":"SUM(P3142:P3153)","v":562.79999999999984},{"$f":"SUM(Q3142:Q3153)","v":335.39999999999992},null,null,null,null,null,null,null,null,null,null,null,null,null,null,null,null,null,null,null,null,null,null,null,"Black Rabbit Books"]
[null,9781680726718,null,9781680725810,null,"Equipos y suministros militares (Military Gear & Supplies)",null,null,null,"Tecnologia militar (Military Technology)",null,null,null,32.799999999999997,22.95,46.9,27.95,null,{"$f":"S3155","v":0},null,{"$f":"U3155","v":0},null,{"$f":"W3155","v":0},null,0,0,0,0,0,0,0,0,null,null,null,null,null,"Fall 2019","33",2018,"Black Rabbit Books","Bolt!",null,"Science & Technology","Spanish","Reinforced Library",32,null,null,"4 - 6",null,"Julia Garstecki"]
[null,9781781214756,null,9781781214411,null,"Chimpanzees",null,null,null,"Fast Track: Animals in Danger",null,null,null,29.95,20.95,42.8,25.95,null,{"$f":"S3163","v":0},null,{"$f":"U3163","v":0},null,{"$f":"W3163","v":0},null,0,0,0,0,0,0,0,0,null,null,null,null,null,"Spring 2019","Website",2019,"Black Rabbit Books","Brown Bear Books",2.9,"Animals & Nature","English","Reinforced Library",24,null,null,"K - 3",599.88499999999999,"Nancy Dickmann"]
[]
[null,9781680726404,null,9781680726343,null,"Extreme Ghost Stories",null,null,null,"That's Just Spooky!",null,null,null,29.95,20.95,42.8,25.95,null,{"$f":"S3207","v":0},null,{"$f":"U3207","v":0},null,{"$f":"W3207","v":0},null,0,0,0,0,0,0,0,0,null,null,null,null,null,"Fall 2018","38 - 39",2019,"Black Rabbit Books","Hi Jinx",null,"Legends, Myths, & Paranormal","English","Reinforced Library",24,null,null,"2 – 5",133.1,"Thomas Kingsley Troupe"]
[null,9781680723557,null,9781680723250,null,"Build Your Own Motorcycle Bot",null,null,null,"Bot Maker",null,null,null,29.95,20.95,42.8,25.95,null,{"$f":"S3223","v":0},null,{"$f":"U3223","v":0},null,{"$f":"W3223","v":0},null,0,0,0,0,0,0,0,0,null,null,null,null,null,"Spring 2018","38 - 39",2018,"Black Rabbit Books","Hi Jinx",null,"Arts, Crafts, & Activities","English","Reinforced Library",24,"M-O","550L","2 – 5","629.8/932","Tucker Besel"]
[null,9781680723618,null,9781680723311,null,"Terribly Tricky Tongue Twisters",null,null,null,"Just for Laughs",null,null,null,29.95,20.95,42.8,25.95,null,{"$f":"S3247","v":0},null,{"$f":"U3247","v":0},null,{"$f":"W3247","v":0},null,0,0,0,0,0,0,0,0,null,null,null,null,null,"Spring 2018","38 - 39",2018,"Black Rabbit Books","Hi Jinx",null,"High Interest","English","Reinforced Library",24,null,null,"2 – 5","818/.602","Julia Garstecki"]
[null,"Not Available",null,9781911242680,null,"Princesses and Ballerinas",null,null,null,"Start with Art",null,null,null,32.799999999999997,22.95,0,0,null,{"$f":"S3255","v":0},null,null,null,null,null,0,0,0,0,0,0,0,0,null,null,null,null,null,"Spring 2018","Website",2018,"Black Rabbit Books","Book House",null,"Arts, Crafts, & Activities","English","Reinforced Library",32,null,null,"2 – 5",741.5,"Carolyn Scrace"]
[null,9781781214183,null,9781781214015,null,"Screws",null,null,null,"Fast Track: Simple Machines",null,null,null,29.95,20.95,42.8,25.95,null,{"$f":"S3285","v":0},null,{"$f":"U3285","v":0},null,{"$f":"W3285","v":0},null,0,0,0,0,0,0,0,0,null,null,null,null,null,"Spring 2018","Website",2018,"Black Rabbit Books","Brown Bear Books",null,"Science & Technology","English","Reinforced Library",24,"J-N",null,"K - 3",621.79999999999995,"Nancy Dickmann"]
[null,9781781213896,null,9781781213469,null,"Deserts",null,null,null,"Fast Track: Who Lives Here?",null,null,null,29.95,20.95,42.8,25.95,null,{"$f":"S3305","v":0},null,{"$f":"U3305","v":0},null,{"$f":"W3305","v":0},null,0,0,0,0,0,0,0,0,null,null,null,null,null,"Spring 2017","Website",2017,"Black Rabbit Books","Brown Bear Books",3.3,"Science & Technology","English","Reinforced Library",24,"N",600,"2 - 4",591.75400000000002,"Mary-Jane Wilkins"]
[null,null,null,null,null,"Complete Series of 7",null,null,null,"Graphic Prehistoric Animals",null,null,null,{"$f":"SUM(N3314:N3320)","v":229.60000000000002},{"$f":"SUM(O3314:O3320)","v":160.64999999999998},{"$f":"SUM(P3314:P3320)","v":328.29999999999995},{"$f":"SUM(Q3314:Q3320)","v":195.64999999999998},null,null,null,null,null,null,null,null,null,null,null,null,null,null,null,null,null,null,null,null,null,null,null,"Black Rabbit Books"]
[null,null,null,null,null,"Complete Series of 5",null,null,null,"Béisbol! Latino Heroes of Major League Baseball",null,null,null,{"$f":"SUM(N3339:N3343)","v":164},{"$f":"SUM(O3339:O3343)","v":114.75},{"$f":"SUM(P3339:P3343)","v":234.5},{"$f":"SUM(Q3339:Q3343)","v":139.75},null,null,null,null,null,null,null,null,null,null,null,null,null,null,null,null,null,null,null,null,null,null,null,"Black Rabbit Books"]
[null,9781680720914,null,9781680720150,null,"Kudzu",null,null,null,"Invasive Species Takeover",null,null,null,32.799999999999997,22.95,46.9,27.95,null,{"$f":"S3353","v":0},null,{"$f":"U3353","v":0},null,{"$f":"W3353","v":0},null,0,0,0,0,0,0,0,0,null,null,null,null,null,"Fall 2016","33 - 35",2017,"Black Rabbit Books","Bolt!",null,"Animals & Nature","English","Reinforced Library",32,null,"550L","2 – 5",632.5,"Scott Pearson"]
[null,9781680710076,null,9781599209524,null,"Life in Viking Times",null,null,null,"Everyday History",null,null,null,32.799999999999997,22.95,46.9,{"$f":"O3375+5","v":27.95},null,{"$f":"S3371","v":0},null,{"$f":"U3371","v":0},null,{"$f":"W3371","v":0},null,{"$f":"S3375","v":0},{"$f":"U3375","v":0},{"$f":"W3375*2","v":0},{"$f":"Y3375+Z3375+AA3375","v":0},{"$f":"S3375*O3375","v":0},{"$f":"U3375*P3375","v":0},{"$f":"W3375*Q3375","v":0},{"$f":"IF(AH3375=FALSE,AC3375+AD3375+AE3375,0)","v":0},null,null,null,null,null,"Spring 2016","Website",2016,"Black Rabbit Books","Smart Apple Media",5.7,"History","English","Reinforced Library",32,null,null,"4 - 6","948/.022","Sarah Ridley"]
[]
[null,9781625886156,null,9781625880666,null,"Ships",null,null,null,"Mechanic Mike's Machines",null,null,null,29.95,20.95,42.8,25.95,null,{"$f":"S3401","v":0},null,{"$f":"U3401","v":0},null,{"$f":"W3401","v":0},null,0,0,0,0,0,0,0,0,null,null,null,null,null,"Fall 2014","Website",2015,"Black Rabbit Books","Smart Apple Media",5.2,"Science & Technology","English","Reinforced Library",24,"O",null,"2 - 4",623.82000000000005,"David West"]
[null,null,null,null,null,"Complete Series of 3",null,null,null,"The Music Scene",null,null,null,{"$f":"SUM(N3438:N3440)","v":128.39999999999998},{"$f":"SUM(O3438:O3440)","v":89.85},{"$f":"SUM(P3438:P3440)","v":183.60000000000002},{"$f":"SUM(Q3438:Q3440)","v":104.85000000000001},null,null,null,null,null,null,null,null,null,null,null,null,null,null,null,null,null,null,null,null,null,null,null,"Black Rabbit Books"]
[null,9781781212844,null,9781781212295,null,"Causes and Outbreak",null,null,null,"World War II: The Full Story",null,null,null,42.8,29.95,61.2,34.950000000000003,null,{"$f":"S3454","v":0},null,{"$f":"U3454","v":0},null,{"$f":"W3454","v":0},null,0,0,0,0,0,0,0,0,null,null,null,null,null,"Fall 2015","Website",2016,"Black Rabbit Books","Brown Bear Books",7.7,"History","English","Reinforced Library",48,null,null,"7 - 9",940.53,"Tim Cooke"]
[]
[]
[null,9781781212059,null,9781781210871,null,"The Victorians",null,null,null,"At Home With…",null,null,null,32.799999999999997,22.95,46.9,27.95,null,{"$f":"S3502","v":0},null,{"$f":"U3502","v":0},null,{"$f":"W3502","v":0},null,0,0,0,0,0,0,0,0,null,null,null,null,null,"Spring 2014","Website",2015,"Black Rabbit Books","Brown Bear Books",5.2,"History","English","Reinforced Library",32,"T",null,"5 - 7",941.08100000000002,"Tim Cooke"]
[]
[null,"Not Available",null,9781936333318,null,"Birds",null,null,null,"FAYFT: Endangered Animals",null,null,null,44.2,30.95,0,0,null,{"$f":"S3547","v":0},null,null,null,null,null,{"$f":"S3548","v":0},{"$f":"U3548","v":0},{"$f":"W3548*2","v":0},{"$f":"Y3548+Z3548+AA3548","v":0},{"$f":"S3548*O3548","v":0},{"$f":"U3548*P3548","v":0},{"$f":"W3548*Q3548","v":0},{"$f":"IF(AH3548=FALSE,AC3548+AD3548+AE3548,0)","v":0},null,null,null,null,null,"Spring 2011","Website",2011,"Black Rabbit Books","Brown Bear Books",null,"Animals & Nature","English","Reinforced Library",64,null,null,"8 - 10",598.16800000000001,"edited by Tim Harris"]
[null,"Not Available",null,9781936333066,null,"Light and Sound",null,null,null,"FAYFT: Introducing Physics",null,null,null,44.2,30.95,0,0,null,{"$f":"S3547","v":0},null,null,null,null,null,0,0,0,0,0,0,0,0,null,null,null,null,null,"Spring 2010","Website",2010,"Black Rabbit Books","Brown Bear Books",null,"Science & Technology","English","Reinforced Library",64,null,null,"8 - 10",535,"Edited by: Graham Bateman"]
[null,"Not Available",null,9781933834801,null,"Warfare, Economy, and Technology",null,null,null,"CC: Native North Americans",null,null,null,44.2,30.95,0,0,null,{"$f":"S3574","v":0},null,null,null,null,null,0,0,0,0,0,0,0,0,null,null,null,null,null,"Spring 2009","Website",2009,"Black Rabbit Books","Brown Bear Books",null,"History","English","Reinforced Library",112,null,null,"9 - 11","970.004/97","Edited by Helen Dwyer"]
[null,9781621432395,null,9781632351463,null,"12 Children Who Changed the World",null,null,null,"Change Makers",null,null,null,32.799999999999997,22.95,46.8,27.95,null,{"$f":"S3598","v":0},null,{"$f":"U3598","v":0},null,{"$f":"W3598","v":0},null,0,0,0,0,0,0,0,0,null,null,null,null,null,"Spring 2016","13",2016,"Bookstaves","12-Story Library",4.9000000000000004,"Social Studies","English","Reinforced Library",32,"T","640L","2 – 5",920,"Kenya McCullum"]
[null,null,null,null,null,"Complete Series of 6",null,null,null,"Incredible",null,null,null,{"$f":"SUM(N3629:N3634)","v":196.8},{"$f":"SUM(O3629:O3634)","v":137.69999999999999},{"$f":"SUM(P3629:P3634)","v":280.8},{"$f":"SUM(Q3629:Q3634)","v":167.7},null,null,null,null,null,null,null,null,null,null,null,null,null,null,null,null,null,null,null,null,null,null,null,"Bookstaves"]
["NEW",9781645820253,null,9781632357397,null,"12 Suspenseful Mysteries",null,null,null,"Incredible",null,null,null,32.799999999999997,22.95,46.8,27.95,null,{"$f":"S3628","v":0},null,{"$f":"U3628","v":0},null,{"$f":"W3628","v":0},null,0,0,0,0,0,0,0,0,null,null,null,null,null,"Spring 2020","8",2020,"Bookstaves","12-Story Library",4.8,"Social Studies","English","Reinforced Library",32,"T",null,"2 – 5","001","Samantha S. Bell"]
[null,null,null,null,null,"Complete Series of 6",null,null,null,"Play Like a Pro",null,null,null,{"$f":"SUM(N3657:N3662)","v":196.8},{"$f":"SUM(O3657:O3662)","v":137.69999999999999},{"$f":"SUM(P3657:P3662)","v":280.8},{"$f":"SUM(Q3657:Q3662)","v":167.7},null,null,null,null,null,null,null,null,null,null,null,null,null,null,null,null,null,null,null,null,null,null,null,"Bookstaves"]
[null,null,null,null,null,"Complete Series of 12",null,null,null,"Women Who Changed the World",null,null,null,{"$f":"SUM(N3672:N3683)","v":393.60000000000008},{"$f":"SUM(O3672:O3683)","v":275.39999999999992},{"$f":"SUM(P3672:P3683)","v":561.6},{"$f":"SUM(Q3672:Q3683)","v":335.39999999999992},null,null,null,null,null,null,null,null,null,null,null,null,null,null,null,null,null,null,null,null,null,null,null,"Bookstaves"]
[null,null,null,null,null,"Complete Series of 8",null,null,null,"All-Time Worst Disasters",null,null,null,{"$f":"SUM(N3686:N3693)","v":262.40000000000003},{"$f":"SUM(O3686:O3693)","v":183.59999999999997},{"$f":"SUM(P3686:P3693)","v":374.40000000000003},{"$f":"SUM(Q3686:Q3693)","v":223.59999999999997},null,null,null,null,null,null,null,null,null,null,null,null,null,null,null,null,null,null,null,null,null,null,null,"Bookstaves"]
[null,9781632356673,null,9781632355508,null,"Explore Australia: 12 Key Facts",null,null,null,"Country Profiles",null,null,null,32.799999999999997,22.95,46.8,{"$f":"O3714+5","v":27.95},null,{"$f":"S3713","v":0},null,{"$f":"U3713","v":0},null,{"$f":"W3713","v":0},null,{"$f":"S3714","v":0},{"$f":"U3714","v":0},{"$f":"W3714*2","v":0},{"$f":"Y3714+Z3714+AA3714","v":0},{"$f":"S3714*O3714","v":0},{"$f":"U3714*P3714","v":0},{"$f":"W3714*Q3714","v":0},{"$f":"IF(AH3714=FALSE,AC3714+AD3714+AE3714,0)","v":0},null,null,null,null,null,"Spring 2019","23",2019,"Bookstaves","12-Story Library",null,"Social Studies","English","Reinforced Library",32,"T",null,"3 - 6",994,"Todd Kortemeier"]
[null,9781632357045,null,9781632355911,null,"Forgotten Americans Who Made History",null,null,null,"Hidden History",null,null,null,32.799999999999997,22.95,46.8,27.95,null,{"$f":"S3737","v":0},null,{"$f":"U3737","v":0},null,{"$f":"W3737","v":0},null,0,0,0,0,0,0,0,0,null,null,null,null,null,"Spring 2019","23",2019,"Bookstaves","12-Story Library",5.2,"History","English","Reinforced Library",32,"T",null,"3 - 6",null,"Tammy Gagne"]
[null,9781632356970,null,9781632355836,null,"12 Biggest Breakthroughs in Military Technology, The",null,null,null,"Technology Breakthroughs",null,null,null,32.799999999999997,22.95,46.8,27.95,null,{"$f":"S3747","v":0},null,{"$f":"U3747","v":0},null,{"$f":"W3747","v":0},null,0,0,0,0,0,0,0,0,null,null,null,null,null,"Spring 2019","17",2019,"Bookstaves","12-Story Library",null,"Science & Technology","English","Reinforced Library",32,"T",null,"3 - 6",null,"Kristen Pope"]
[null,9781621435648,null,9781632354457,null,"Working in Fashion",null,null,null,"Career Files",null,null,null,32.799999999999997,22.95,46.8,27.95,null,{"$f":"S3773","v":0},null,{"$f":"U3773","v":0},null,{"$f":"W3773","v":0},null,0,0,0,0,0,0,0,0,null,null,null,null,null,"Spring 2018","25",2018,"Bookstaves","12-Story Library",null,"Careers","English","Reinforced Library",32,"U","810L","3 - 6","746.9/2023","Mirella S. Miller"]
[null,9781621435709,null,9781632354518,null,"Working in Writing",null,null,null,"Career Files",null,null,null,32.799999999999997,22.95,46.8,27.95,null,{"$f":"S3773","v":0},null,{"$f":"U3773","v":0},null,{"$f":"W3773","v":0},null,0,0,0,0,0,0,0,0,null,null,null,null,null,"Spring 2018","25",2018,"Bookstaves","12-Story Library",null,"Careers","English","Reinforced Library",32,"U","840L","3 - 6",808.02,"Alexis Burling"]
[null,9781621435273,null,9781632354037,null,"Perspectives on Reconstruction",null,null,null,"Perspectives on US History",null,null,null,32.799999999999997,22.95,46.8,27.95,null,{"$f":"S3803","v":0},null,{"$f":"U3803","v":0},null,{"$f":"W3803","v":0},null,0,0,0,0,0,0,0,0,null,null,null,null,null,"Spring 2018","24",2018,"Bookstaves","12-Story Library",null,"History","English","Reinforced Library",32,"U","770L","3 - 6",973.8,"Tom Streissguth"]
[null,9781621435518,null,9781632354303,null,"12 Reasons to Love Soccer",null,null,null,"Sports Report",null,null,null,32.799999999999997,22.95,46.8,27.95,null,{"$f":"S3813","v":0},null,{"$f":"U3813","v":0},null,{"$f":"W3813","v":0},null,0,0,0,0,0,0,0,0,null,null,null,null,null,"Spring 2018","18",2018,"Bookstaves","12-Story Library",4.8,"Sports & Recreation","English","Reinforced Library",32,"T","740L","3 - 6",796.33399999999995,"Brian Trusdell"]
[null,9781621435396,null,9781632354174,null,"Astonishing Animals",null,null,null,"Unbelievable",null,null,null,32.799999999999997,22.95,46.8,{"$f":"O3834+5","v":27.95},null,{"$f":"S3833","v":0},null,{"$f":"U3833","v":0},null,{"$f":"W3833","v":0},null,{"$f":"S3834","v":0},{"$f":"U3834","v":0},{"$f":"W3834*2","v":0},{"$f":"Y3834+Z3834+AA3834","v":0},{"$f":"S3834*O3834","v":0},{"$f":"U3834*P3834","v":0},{"$f":"W3834*Q3834","v":0},{"$f":"IF(AH3834=FALSE,AC3834+AD3834+AE3834,0)","v":0},null,null,null,null,null,"Spring 2018","14",2018,"Bookstaves","12-Story Library",5,"Social Studies","English","Reinforced Library",32,"T","760L","3 - 6",591.5,"Kristin Marciniak"]
[]
[null,9781621435174,null,9781632353764,null,"Discovering the Origin of Human Life",null,null,null,"Science Frontiers",null,null,null,32.799999999999997,22.95,46.8,27.95,null,{"$f":"S3883","v":0},null,{"$f":"U3883","v":0},null,{"$f":"W3883","v":0},null,0,0,0,0,0,0,0,0,null,null,null,null,null,"Spring 2017","14",2017,"Bookstaves","12-Story Library",5.5,"Science & Technology","English","Reinforced Library",32,"U","740L","3 - 6",569.9,"Todd Kortemeier"]
[null,null,null,null,null,"Complete Series of 8",null,null,null,"Scary and Spooky",null,null,null,{"$f":"SUM(N3904:N3911)","v":262.40000000000003},{"$f":"SUM(O3904:O3911)","v":183.59999999999997},{"$f":"SUM(P3904:P3911)","v":374.40000000000003},{"$f":"SUM(Q3904:Q3911)","v":223.59999999999997},null,null,null,null,null,null,null,null,null,null,null,null,null,null,null,null,null,null,null,null,null,null,null,"Bookstaves"]
[null,9781621432333,null,9781632351395,null,"12 Super-Incredible Dinosaurs You Need to Know",null,null,null,"Super-Incredible Animals",null,null,null,32.799999999999997,22.95,46.8,27.95,null,{"$f":"S3919","v":0},null,{"$f":"U3919","v":0},null,{"$f":"W3919","v":0},null,0,0,0,0,0,0,0,0,null,null,null,null,null,"Spring 2016","16",2016,"Bookstaves","12-Story Library",5.6,"Animals & Nature","English","Reinforced Library",32,"T","790L","3 - 6",567.9,"Sonja Olson"]
[null,9781621430933,null,9781632350527,null,"Alabaster Ring, The",null,null,null,"Tartan House",null,null,null,28.5,19.95,40.75,{"$f":"O3930+5","v":24.95},null,{"$f":"S3929","v":0},null,{"$f":"U3929","v":0},null,{"$f":"W3929","v":0},null,{"$f":"S3930","v":0},{"$f":"U3930","v":0},{"$f":"W3930*2","v":0},{"$f":"Y3930+Z3930+AA3930","v":0},{"$f":"S3930*O3930","v":0},{"$f":"U3930*P3930","v":0},{"$f":"W3930*Q3930","v":0},{"$f":"IF(AH3930=FALSE,AC3930+AD3930+AE3930,0)","v":0},null,null,null,null,null,"Spring 2015","20",2015,"Bookstaves","12-Story Library",3.9,"Fiction","English","Reinforced Library",96,null,"HL480L","6 - 9",813,"Scott R. Welvaert"]
[null,9781621432777,null,9781632352279,null,"Decoded",null,null,null,"The Coding Club",null,null,null,27.1,18.95,37.799999999999997,{"$f":"O3954+5","v":23.95},null,{"$f":"S3953","v":0},null,{"$f":"U3953","v":0},null,{"$f":"W3953","v":0},null,{"$f":"S3954","v":0},{"$f":"U3954","v":0},{"$f":"W3954*2","v":0},{"$f":"Y3954+Z3954+AA3954","v":0},{"$f":"S3954*O3954","v":0},{"$f":"U3954*P3954","v":0},{"$f":"W3954*Q3954","v":0},{"$f":"IF(AH3954=FALSE,AC3954+AD3954+AE3954,0)","v":0},null,null,null,null,null,"Spring 2016","21",2016,"Bookstaves","12-Story Library",4.4000000000000004,"Fiction","English","Reinforced Library",80,null,"690L","3 - 6",null,"Thomas Kingsley Troupe"]
[null,9781621432708,null,9781632352187,null,"12 Reasons to Love the Washington Nationals",null,null,null,"The MLB Fan's Guide",null,null,null,32.799999999999997,22.95,46.8,27.95,null,{"$f":"S3961","v":0},null,{"$f":"U3961","v":0},null,{"$f":"W3961","v":0},null,0,0,0,0,0,0,0,0,null,null,null,null,null,"Spring 2016","19",2016,"Bookstaves","12-Story Library",4.9000000000000004,"Sports & Recreation","English","Reinforced Library",32,"T","710L","3 - 6",796.3576409753,"Bo Smolka"]
[null,9781621432500,null,9781632351586,null,"Today's NFL: 12 Reasons Fans Follow the Game",null,null,null,"The NFL at a Glance",null,null,null,32.799999999999997,22.95,46.8,{"$f":"O3983+5","v":27.95},null,{"$f":"S3975","v":0},null,{"$f":"U3975","v":0},null,{"$f":"W3975","v":0},null,{"$f":"S3983","v":0},{"$f":"U3983","v":0},{"$f":"W3983*2","v":0},{"$f":"Y3983+Z3983+AA3983","v":0},{"$f":"S3983*O3983","v":0},{"$f":"U3983*P3983","v":0},{"$f":"W3983*Q3983","v":0},{"$f":"IF(AH3983=FALSE,AC3983+AD3983+AE3983,0)","v":0},null,null,null,null,null,"Spring 2016","19",2016,"Bookstaves","12-Story Library",4.8,"Sports & Recreation","English","Reinforced Library",32,"T","750L","3 - 6",796.33199999999999,"Drew Silverman"]
[]
[null,9781621430681,null,9781632350275,null,"12 Great Moments that Changed TV History",null,null,null,"Great Moments in Media",null,null,null,32.799999999999997,22.95,46.8,{"$f":"O4035+5","v":27.95},null,{"$f":"S4031","v":0},null,{"$f":"U4031","v":0},null,{"$f":"W4031","v":0},null,{"$f":"S4035","v":0},{"$f":"U4035","v":0},{"$f":"W4035*2","v":0},{"$f":"Y4035+Z4035+AA4035","v":0},{"$f":"S4035*O4035","v":0},{"$f":"U4035*P4035","v":0},{"$f":"W4035*Q4035","v":0},{"$f":"IF(AH4035=FALSE,AC4035+AD4035+AE4035,0)","v":0},null,null,null,null,null,"Spring 2015","24",2015,"Bookstaves","12-Story Library",5.0999999999999996,"History","English","Reinforced Library",32,null,"700L","3 - 6",791.45090000000005,"Lori Fromowitz"]
[null,9781621430636,null,9781632350220,null,"Today’s 12 Hottest NFL Superstars",null,null,null,"Today's Superstars",null,null,null,32.799999999999997,22.95,46.8,27.95,null,{"$f":"S4047","v":0},null,{"$f":"U4047","v":0},null,{"$f":"W4047","v":0},null,0,0,0,0,0,0,0,0,null,null,null,null,null,"Spring 2015","26",2015,"Bookstaves","12-Story Library",5.3,"Biography","English","Reinforced Library",32,null,"780L","3 - 6","796.332092/2","Tom Robinson"]
["NEW",9781647477103,null,9781647476960,null,"Entertainment Warrior",null,null,null,"Be a Waste Warrior!",null,null,null,28.5,19.95,29.95,24.95,null,{"$f":"S4069","v":0},null,{"$f":"U4069","v":0},null,{"$f":"W4069","v":0},null,0,0,0,0,0,0,0,0,null,null,null,null,null,"Spring 2021","30",2021,"Bearport Publishing","Bearport Books",null,null,"English","Reinforced binding",32,null,980,"Grade 3 - 5","363.72'8","Martin, Claudia"]
["NEW",9781647477318,null,9781647477158,null,"America Ferrera",null,null,null,"Bearport Biographies",null,null,null,26.99,18.95,28.95,{"$f":"O4078+5","v":23.95},null,{"$f":"S4077","v":0},null,{"$f":"U4077","v":0},null,{"$f":"W4077","v":0},null,{"$f":"S4078","v":0},{"$f":"U4078","v":0},{"$f":"W4078*2","v":0},{"$f":"Y4078+Z4078+AA4078","v":0},{"$f":"S4078*O4078","v":0},{"$f":"U4078*P4078","v":0},{"$f":"W4078*Q4078","v":0},{"$f":"IF(AH4078=FALSE,AC4078+AD4078+AE4078,0)","v":0},null,null,null,null,null,"Spring 2021","43",2021,"Bearport Publishing","Bearport Books",null,null,"English","Reinforced binding",null,null,830,"Grade 2 - 5","791.4302'8092","Rose, Rachel"]
["NEW",9781647475598,null,9781647475451,null,"Planters",null,null,null,"Farmer Llama's Farm Machines",null,null,null,26.99,18.95,28.95,23.95,null,{"$f":"S4100","v":0},null,{"$f":"U4100","v":0},null,{"$f":"W4100","v":0},null,0,0,0,0,0,0,0,0,null,null,null,null,null,"Spring 2021","15",2021,"Bearport Publishing","Fusion Books",null,null,"English","Reinforced binding",24,"N",580,"Grade 1 - 3",null,"Holmes, Kirsty"]
[]
["NEW",9781647475185,null,9781647475086,null,"Stars",null,null,null,"Off to Space!",null,null,null,26.99,18.95,28.95,23.95,null,{"$f":"S4130","v":0},null,{"$f":"U4130","v":0},null,{"$f":"W4130","v":0},null,0,0,0,0,0,0,0,0,null,null,null,null,null,"Spring 2021","5",2021,"Bearport Publishing","Bearcub Books",null,null,"English","Reinforced binding",24,"I",440,"Grade K - 1",523.79999999999995,"Rose, Rachel"]
["NEW",9781642809329,null,9781642809183,null,"Veterinarians",null,null,null,"What Makes a Community? Set 1",null,null,null,26.99,18.95,28.95,23.95,null,{"$f":"S4152","v":0},null,{"$f":"U4152","v":0},null,{"$f":"W4152","v":0},null,0,0,0,0,0,0,0,0,null,null,null,null,null,"Fall 2020","7",2021,"Bearport Publishing","Bearcub Books",null,"Careers","English","Reinforced Library",24,null,null,"K - 1",null,"Antonia Roberts"]
["NEW",9781647474195,null,9781647474058,null,"Jolly Jellyfish",null,null,null,"At the Aquarium",null,null,null,26.99,18.95,28.95,23.95,null,{"$f":"S4180","v":0},null,{"$f":"U4180","v":0},null,{"$f":"W4180","v":0},null,0,0,0,0,0,0,0,0,null,null,null,null,null,"Fall 2020","20",2021,"Bearport Publishing","Fusion Books",null,"Animals & Nature","English","Reinforced Library",24,null,null,"K - 1",null,"Mignonne Gunasekara"]
["NEW",9781647471972,null,9781647471903,null,"Aliens",null,null,null,"Creepy Crafts & More",null,null,null,26.99,18.95,28.95,{"$f":"O4201+5","v":23.95},null,{"$f":"S4200","v":0},null,{"$f":"U4200","v":0},null,{"$f":"W4200","v":0},null,{"$f":"S4201","v":0},{"$f":"U4201","v":0},{"$f":"W4201*2","v":0},{"$f":"Y4201+Z4201+AA4201","v":0},{"$f":"S4201*O4201","v":0},{"$f":"U4201*P4201","v":0},{"$f":"W4201*Q4201","v":0},{"$f":"IF(AH4201=FALSE,AC4201+AD4201+AE4201,0)","v":0},null,null,null,null,null,"Fall 2020","26",2021,"Bearport Publishing","Create! Books",null,"Legends, Myths, & Paranormal","English","Reinforced Library",24,null,null,null,null,"Ruth Owen"]
[]
["NEW",9781647473563,null,9781647473464,null,"Water",null,null,null,"Fuel Up!",null,null,null,26.99,18.95,28.95,23.95,null,{"$f":"S4222","v":0},null,{"$f":"U4222","v":0},null,{"$f":"W4222","v":0},null,{"$f":"S4226","v":0},{"$f":"U4226","v":0},{"$f":"W4226*2","v":0},{"$f":"Y4226+Z4226+AA4226","v":0},{"$f":"S4226*O4226","v":0},{"$f":"U4226*P4226","v":0},{"$f":"W4226*Q4226","v":0},{"$f":"IF(AH4226=FALSE,AC4226+AD4226+AE4226,0)","v":0},null,null,null,null,null,"Fall 2020","19",2021,"Bearport Publishing","Fusion Books",null,"High Interest","English","Reinforced Library",24,"M",null,null,"612/.01522","Harriet Brundle"]
[null,9781642805697,null,9781642805154,null,"Horror in Illinois",null,null,null,"Scary States (of Mind)",null,null,null,26.99,18.95,28.95,23.95,null,{"$f":"S4246","v":0},null,{"$f":"U4246","v":0},null,{"$f":"W4246","v":0},null,0,0,0,0,0,0,0,0,null,null,null,null,null,"Fall 2019","51",2020,"Bearport Publishing","Bearcub Books",3.7,"Legends, Myths, & Paranormal","English","Reinforced Library",24,"V",670,"K - 3",133.10977299999999,"Alex Giannini"]
["NEW",9781642809510,null,9781642809374,null,"Fall Holidays",null,null,null,"Seasons of Fun: Fall",null,null,null,26.99,18.95,28.95,{"$f":"O4269+5","v":23.95},null,{"$f":"S4268","v":0},null,{"$f":"U4268","v":0},null,{"$f":"W4268","v":0},null,{"$f":"S4269","v":0},{"$f":"U4269","v":0},{"$f":"W4269*2","v":0},{"$f":"Y4269+Z4269+AA4269","v":0},{"$f":"S4269*O4269","v":0},{"$f":"U4269*P4269","v":0},{"$f":"W4269*Q4269","v":0},{"$f":"IF(AH4269=FALSE,AC4269+AD4269+AE4269,0)","v":0},null,null,null,null,null,"Fall 2020","9",2021,"Bearport Publishing","Bearcub Books",null,"Animals & Nature","English","Reinforced Library",24,null,null,"K - 1",null,"Finley Fraser"]
["NEW",9781647472108,null,9781647472030,null,"Smelly Science Experiments",null,null,null,"Sensory Science Fun!",null,null,null,26.99,18.95,28.95,23.95,null,{"$f":"S4276","v":0},null,{"$f":"U4276","v":0},null,{"$f":"W4276","v":0},null,0,0,0,0,0,0,0,0,null,null,null,null,null,"Fall 2020","27",2021,"Bearport Publishing","Create! Books",null,"Science & Technology","English","Reinforced Library",24,null,null,null,null,"Harriet McGregor"]
[null,9781684023219,null,9781684022670,null,"Ghostly Theaters",null,null,null,"Tiptoe Into Scary Places",null,null,null,26.99,18.95,28.95,23.95,null,{"$f":"S4294","v":0},null,{"$f":"U4294","v":0},null,{"$f":"W4294","v":0},null,0,0,0,0,0,0,0,0,null,null,null,null,null,"Fall 2017","52 - 53",2018,"Bearport Publishing","Bearcub Books",3.7,"Legends, Myths, & Paranormal","English","Reinforced Library",24,"R",640,"K - 3","133.1'22","Kathryn Camisa"]
[]
[null,9781684021079,null,9781684020553,null,"Brazil",null,null,null,"Countries We Come From",null,null,null,28.5,19.95,29.95,24.95,null,{"$f":"S4340","v":0},null,{"$f":"U4340","v":0},null,{"$f":"W4340","v":0},null,0,0,0,0,0,0,0,0,null,null,null,null,null,"Spring 2017","46 - 47",2017,"Bearport Publishing","Bearport Books",3.1,"Social Studies","English","Reinforced Library",32,"J",550,"K - 3",981,"Joyce Markovics"]
[null,9781627249140,null,9781627248587,null,"China",null,null,null,"Countries We Come From",null,null,null,28.5,19.95,29.95,24.95,null,{"$f":"S4340","v":0},null,{"$f":"U4340","v":0},null,{"$f":"W4340","v":0},null,0,0,0,0,0,0,0,0,null,null,null,null,null,"Fall 2015","46 - 47",2016,"Bearport Publishing","Bearport Books",3.1,"Social Studies","English","Reinforced Library",32,"J",520,"K - 3",951,"Joyce Markovics"]
[null,9781684025336,null,9781684024759,null,"Israel",null,null,null,"Countries We Come From",null,null,null,28.5,19.95,29.95,24.95,null,{"$f":"S4340","v":0},null,{"$f":"U4340","v":0},null,{"$f":"W4340","v":0},null,0,0,0,0,0,0,0,0,null,null,null,null,null,"Spring 2018","46 - 47",2018,"Bearport Publishing","Bearport Books",3.9,"Social Studies","English","Reinforced Library",32,"J",560,"K - 3",956.94,"Thomas Persano"]
[null,9781642802665,null,9781642801972,null,"Nepal",null,null,null,"Countries We Come From",null,null,null,28.5,19.95,29.95,24.95,null,{"$f":"S4340","v":0},null,{"$f":"U4340","v":0},null,{"$f":"W4340","v":0},null,0,0,0,0,0,0,0,0,null,null,null,null,null,"Spring 2019","46 - 47",2019,"Bearport Publishing","Bearport Books",2.8,"Social Studies","English","Reinforced Library",32,"J",510,"K - 3",954.96,"Chaya Glaser"]
[null,9781642806939,null,9781642806892,null,"Argentina (Argentina)",null,null,null,"Los países de donde venimos (Countries We Come From)",null,null,null,28.5,19.95,29.95,{"$f":"O4417+5","v":24.95},null,{"$f":"S4416","v":0},null,{"$f":"U4416","v":0},null,{"$f":"W4416","v":0},null,{"$f":"S4417","v":0},{"$f":"U4417","v":0},{"$f":"W4417*2","v":0},{"$f":"Y4417+Z4417+AA4417","v":0},{"$f":"S4417*O4417","v":0},{"$f":"U4417*P4417","v":0},{"$f":"W4417*Q4417","v":0},{"$f":"IF(AH4417=FALSE,AC4417+AD4417+AE4417,0)","v":0},null,null,null,null,null,"Fall 2019","60 - 62",2020,"Bearport Publishing","Bearport Books",3.4,"Social Studies","Spanish","Reinforced Library",32,null,580,"K - 3",982,"Joyce Markovics"]
[null,9781642805925,null,9781642805383,null,"Cat to Bat",null,null,null,"Read and Rhyme Level 1",null,null,null,24.21,16.95,26.95,{"$f":"O4430+5","v":21.95},null,{"$f":"S4429","v":0},null,{"$f":"U4429","v":0},null,{"$f":"W4429","v":0},null,{"$f":"S4430","v":0},{"$f":"U4430","v":0},{"$f":"W4430*2","v":0},{"$f":"Y4430+Z4430+AA4430","v":0},{"$f":"S4430*O4430","v":0},{"$f":"U4430*P4430","v":0},{"$f":"W4430*Q4430","v":0},{"$f":"IF(AH4430=FALSE,AC4430+AD4430+AE4430,0)","v":0},null,null,null,null,null,"Fall 2019","10 -  11",2020,"Bearport Publishing","Bearcub Books",null,"Language Arts","English","Reinforced Library",16,"B",0,"PreK - 1","428.6'2","Pearl Markovics"]
[null,9781642806120,null,9781642805581,null,"A Knight in a Fight",null,null,null,"Read and Rhyme Level 3",null,null,null,24.21,16.95,26.95,21.95,null,{"$f":"S4449","v":0},null,{"$f":"U4449","v":0},null,{"$f":"W4449","v":0},null,0,0,0,0,0,0,0,0,null,null,null,null,null,"Fall 2019","10 -  11",2020,"Bearport Publishing","Bearcub Books",null,"Language Arts","English","Reinforced Library",16,"E",400,"PreK - 1","428.6'2","Spencer Brinker"]
[null,9781642802887,null,9781642802191,null,"At School",null,null,null,"I Spy",null,null,null,24.21,16.95,26.95,21.95,null,{"$f":"S4477","v":0},null,{"$f":"U4477","v":0},null,{"$f":"W4477","v":0},null,0,0,0,0,0,0,0,0,null,null,null,null,null,"Spring 2019","14",2019,"Bearport Publishing","Bearcub Books",0.5,"High Interest","English","Reinforced Library",16,"C",110,"PreK - 1",371.01,"Spencer Brinker"]
[null,9781617729799,null,9781617728846,null,"Abandoned Amusement Parks",null,null,null,"Scary Places",null,null,null,28.5,19.95,29.95,24.95,null,{"$f":"S4497","v":0},null,{"$f":"U4497","v":0},null,{"$f":"W4497","v":0},null,0,0,0,0,0,0,0,0,null,null,null,null,null,"Fall 2013","54 - 55",2014,"Bearport Publishing","Bearport Books",5.9,"Legends, Myths, & Paranormal","English","Reinforced Library",32,null,950,null,"791.06'873","Dinah Williams"]
[null,9781617726460,null,9781617725685,null,"Mummy Lairs",null,null,null,"Scary Places",null,null,null,28.5,19.95,29.95,24.95,null,{"$f":"S4497","v":0},null,{"$f":"U4497","v":0},null,{"$f":"W4497","v":0},null,0,0,0,0,0,0,0,0,null,null,null,null,null,"Fall 2012","54 - 55",2013,"Bearport Publishing","Bearport Books",6.4,"Legends, Myths, & Paranormal","English","Reinforced Library",32,"N",1040,null,"393'.3","Michael Burgan"]
[null,9781627246033,null,9781627245180,null,"UFO Crash Sites",null,null,null,"Scary Places",null,null,null,28.5,19.95,29.95,24.95,null,{"$f":"S4497","v":0},null,{"$f":"U4497","v":0},null,{"$f":"W4497","v":0},null,0,0,0,0,0,0,0,0,null,null,null,null,null,"Spring 2015","54 - 55",2015,"Bearport Publishing","Bearport Books",5.9,"Legends, Myths, & Paranormal","English","Reinforced Library",32,null,960,null,1.9419999999999999,"Dinah Williams"]
[null,9781684025114,null,9781684024537,null,"J.J. Watt",null,null,null,"Amazing Americans: Football Stars",null,null,null,26.99,18.95,28.95,{"$f":"O4559+5","v":23.95},null,{"$f":"S4558","v":0},null,{"$f":"U4558","v":0},null,{"$f":"W4558","v":0},null,{"$f":"S4559","v":0},{"$f":"U4559","v":0},{"$f":"W4559*2","v":0},{"$f":"Y4559+Z4559+AA4559","v":0},{"$f":"S4559*O4559","v":0},{"$f":"U4559*P4559","v":0},{"$f":"W4559*Q4559","v":0},{"$f":"IF(AH4559=FALSE,AC4559+AD4559+AE4559,0)","v":0},null,null,null,null,null,"Spring 2018","45",2018,"Bearport Publishing","Bearcub Books",3.2,"Biography","English","Reinforced Library",24,"O",720,"PreK - 3",796.33209199999999,"Jim Gigliotti"]
[null,9781684022946,null,9781684022403,null,"Katie Ledecky",null,null,null,"Amazing Americans: Olympians",null,null,null,26.99,18.95,28.95,{"$f":"O4565+5","v":23.95},null,{"$f":"S4564","v":0},null,{"$f":"U4564","v":0},null,{"$f":"W4564","v":0},null,{"$f":"S4565","v":0},{"$f":"U4565","v":0},{"$f":"W4565*2","v":0},{"$f":"Y4565+Z4565+AA4565","v":0},{"$f":"S4565*O4565","v":0},{"$f":"U4565*P4565","v":0},{"$f":"W4565*Q4565","v":0},{"$f":"IF(AH4565=FALSE,AC4565+AD4565+AE4565,0)","v":0},null,null,null,null,null,"Fall 2017","45",2018,"Bearport Publishing","Bearcub Books",3.8,"Biography","English","Reinforced Library",24,"K",670,"PreK - 3","797.2'1092","James Buckley Jr."]
[]
[null,9781684027026,null,9781684026562,null,"Deadly Spider Bite!",null,null,null,"Envenomators",null,null,null,26.99,18.95,28.95,23.95,null,{"$f":"S4603","v":0},null,{"$f":"U4603","v":0},null,{"$f":"W4603","v":0},null,0,0,0,0,0,0,0,0,null,null,null,null,null,"Fall 2018","36",2019,"Bearport Publishing","Bearport Books",5.2,"Animals & Nature","English","Reinforced Library",24,"P",890,null,"595.4'4165","Kevin Blake"]
[null,9781684027200,null,9781684026746,null,"Orange",null,null,null,"See It Grow",null,null,null,26.99,18.95,28.95,23.95,null,{"$f":"S4619","v":0},null,{"$f":"U4619","v":0},null,{"$f":"W4619","v":0},null,0,0,0,0,0,0,0,0,null,null,null,null,null,"Fall 2018","42",2019,"Bearport Publishing","Bearport Books",2.4,"High Interest","English","Reinforced Library",24,"G",460,"K - 3","634'.31","Avery Hurt"]
[null,9781684027125,null,9781684026661,null,"Spooky New Orleans",null,null,null,"Tiptoe into Scary Cities",null,null,null,26.99,18.95,28.95,23.95,null,{"$f":"S4641","v":0},null,{"$f":"U4641","v":0},null,{"$f":"W4641","v":0},null,0,0,0,0,0,0,0,0,null,null,null,null,null,"Fall 2018","56",2019,"Bearport Publishing","Bearport Books",null,"Legends, Myths, & Paranormal","English","Reinforced Library",24,"R",580,null,"133.109763'35","Kathryn Camisa"]
[null,9781684025367,null,9781684024780,null,"Green and Spiky",null,null,null,"American Place Puzzlers",null,null,null,26.99,18.95,28.95,23.95,null,{"$f":"S4667","v":0},null,{"$f":"U4667","v":0},null,{"$f":"W4667","v":0},null,0,0,0,0,0,0,0,0,null,null,null,null,null,"Spring 2018","49",2018,"Bearport Publishing","Bearport Books",1.2,"High Interest","English","Reinforced Library",24,"E",400,"PreK - 3","974.7'1","Joyce Markovics"]
[null,null,null,null,null,"Complete Series of 8",null,null,null,"American Places: From Vision to Reality",null,null,null,{"$f":"SUM(N4678:N4685)","v":228},{"$f":"SUM(O4678:O4685)","v":159.6},{"$f":"SUM(P4678:P4685)","v":239.59999999999997},{"$f":"SUM(Q4678:Q4685)","v":199.59999999999997},null,null,null,null,null,null,null,null,null,null,null,null,null,null,null,null,null,null,null,null,null,null,null,"Bearport Publishing"]
[null,9781684025213,null,9781684024636,null,"Coconut Crab",null,null,null,"Even Weirder and Cuter",null,null,null,26.99,18.95,28.95,23.95,null,{"$f":"S4705","v":0},null,{"$f":"U4705","v":0},null,{"$f":"W4705","v":0},null,0,0,0,0,0,0,0,0,null,null,null,null,null,"Spring 2018","39",2018,"Bearport Publishing","Bearport Books",2.8,"Animals & Nature","English","Reinforced Library",24,"J",490,"PreK - 3","595.3'8","Alex Giannini"]
[null,9781684025190,null,9781684024612,null,"Velvet Ant",null,null,null,"Even Weirder and Cuter",null,null,null,26.99,18.95,28.95,23.95,null,{"$f":"S4705","v":0},null,{"$f":"U4705","v":0},null,{"$f":"W4705","v":0},null,0,0,0,0,0,0,0,0,null,null,null,null,null,"Spring 2018","39",2018,"Bearport Publishing","Bearport Books",2.8,"Animals & Nature","English","Reinforced Library",24,"J",580,"PreK - 3",595.798,"Anastasiya Vasilyeva"]
[]
[]
[null,null,null,null,null,"Complete Series of 8",null,null,null,"Double Dog Combos",null,null,null,{"$f":"SUM(N4776:N4783)","v":456},{"$f":"SUM(O4776:O4783)","v":319.2},{"$f":"SUM(P4776:P4783)","v":239.59999999999997},{"$f":"SUM(Q4776:Q4783)","v":359.19999999999993},null,null,null,null,null,null,null,null,null,null,null,null,null,null,null,null,null,null,null,null,null,null,null,"Bearport Publishing"]
[null,9781684020713,null,9781627248709,null,"Sherlock",null,null,null,"Hound Town Chronicles",null,null,null,28.5,19.95,29.95,24.95,null,{"$f":"S4793","v":0},null,{"$f":"U4793","v":0},null,{"$f":"W4793","v":0},null,0,0,0,0,0,0,0,0,null,null,null,null,null,"Spring 2017","58",2017,"Bearport Publishing","Bearport Books",3.7,"Fiction","English","Reinforced Library",32,"P",680,null,"FIC","Meish Goldish"]
[null,9781943553631,null,9781943553297,null,"Harry S. Truman",null,null,null,"A First Look at America’s Presidents",null,null,null,26.99,18.95,28.95,23.95,null,{"$f":"S4811","v":0},null,{"$f":"U4811","v":0},null,{"$f":"W4811","v":0},null,0,0,0,0,0,0,0,0,null,null,null,null,null,"Spring 2016","Website",2016,"Bearport Publishing","Bearport Books",3.7,"Social Studies","English","Reinforced Library",24,"N",610,"K - 3",973.918092,"Kevin Blake"]
[null,9781627246422,null,9781627245579,null,"Theodore Roosevelt",null,null,null,"A First Look at America’s Presidents",null,null,null,26.99,18.95,28.95,23.95,null,{"$f":"S4811","v":0},null,{"$f":"U4811","v":0},null,{"$f":"W4811","v":0},null,0,0,0,0,0,0,0,0,null,null,null,null,null,"Spring 2015","Website",2015,"Bearport Publishing","Bearport Books",3.8,"Social Studies","English","Reinforced Library",24,"N",620,"K - 3","973.91'1092","Josh Gregory"]
[null,9781944997069,null,9781944102340,null,"Nightmare in the Hidden Morgue",null,null,null,"Cold Whispers II",null,null,null,28.5,19.95,29.95,24.95,null,{"$f":"S4844","v":0},null,{"$f":"U4844","v":0},null,{"$f":"W4844","v":0},null,0,0,0,0,0,0,0,0,null,null,null,null,null,"Fall 2016","59",2017,"Bearport Publishing","Bearport Books",4.5,"Legends, Myths, & Paranormal","English","Reinforced Library",32,"Q",700,null,"FIC","Dee Phillips"]
[]
[null,9781597168205,null,9781597167369,null,"Eli Manning and the New York Giants",null,null,null,"Super Bowl Superstars",null,null,null,26.99,18.95,28.95,23.95,null,{"$f":"S4872","v":0},null,{"$f":"U4872","v":0},null,{"$f":"W4872","v":0},null,0,0,0,0,0,0,0,0,null,null,null,null,null,"Fall 2008","Website",2009,"Bearport Publishing","Bearport Books",4.2,"Sports & Recreation","English","Reinforced Library",24,"N",740,null,796.33209199999999,"Michael Sandler"]
[null,9781944998127,null,9781944998035,null,"The Deadly Secret of Room 113/Haunted Hotels Combo",null,null,null,"Twice the Scare II Combos!",null,null,null,57,39.9,29.95,44.9,null,{"$f":"S4899","v":0},null,{"$f":"U4899","v":0},null,{"$f":"W4899","v":0},null,0,0,0,0,0,0,0,0,null,null,null,null,null,"Fall 2016","Website",2017,"Bearport Publishing","Bearport Books",null,"Legends, Myths, & Paranormal","English","Reinforced Library"]
[null,9781627246019,null,9781627245166,null,"Brave Hearts",null,null,null,"Dog Heroes",null,null,null,28.5,19.95,29.95,24.95,null,{"$f":"S4919","v":0},null,{"$f":"U4919","v":0},null,{"$f":"W4919","v":0},null,0,0,0,0,0,0,0,0,null,null,null,null,null,"Spring 2015","Website",2015,"Bearport Publishing","Bearport Books",5.2,"Animals & Nature","English","Reinforced Library",32,"O",940,"2 - 7","636.7088'7","Meish Goldish"]
[null,"Not Available",null,9781597160162,null,"Service Dogs",null,null,null,"Dog Heroes",null,null,null,28.5,19.95,0,0,null,{"$f":"S4919","v":0},null,null,null,null,null,0,0,0,0,0,0,0,0,null,null,null,null,null,"Spring 2005","Website",2005,"Bearport Publishing","Bearport Books",3.9,"Animals & Nature","English","Reinforced Library",32,"M",580,"2 - 7","362.4'0483","Linda Tagliaferro"]
[null,9781936088607,null,9781936087594,null,"Adrian Peterson",null,null,null,"Football Heroes Making a Difference",null,null,null,26.99,18.95,28.95,{"$f":"O4966+5","v":23.95},null,{"$f":"S4965","v":0},null,{"$f":"U4965","v":0},null,{"$f":"W4965","v":0},null,{"$f":"S4966","v":0},{"$f":"U4966","v":0},{"$f":"W4966*2","v":0},{"$f":"Y4966+Z4966+AA4966","v":0},{"$f":"S4966*O4966","v":0},{"$f":"U4966*P4966","v":0},{"$f":"W4966*Q4966","v":0},{"$f":"IF(AH4966=FALSE,AC4966+AD4966+AE4966,0)","v":0},null,null,null,null,null,"Spring 2010","Website",2010,"Bearport Publishing","Bearport Books",5,"Sports & Recreation","English","Reinforced Library",24,"N",960,null,796.33209199999999,"Michael Sandler"]
[null,9781936088614,null,9781936087587,null,"Larry Fitzgerald",null,null,null,"Football Heroes Making a Difference",null,null,null,26.99,18.95,28.95,23.95,null,{"$f":"S4965","v":0},null,{"$f":"U4965","v":0},null,{"$f":"W4965","v":0},null,0,0,0,0,0,0,0,0,null,null,null,null,null,"Spring 2010","Website",2010,"Bearport Publishing","Bearport Books",4.7,"Sports & Recreation","English","Reinforced Library",24,"N",870,null,796.33091999999999,"Michael Sandler"]
[null,9781617727658,null,9781617727160,null,"Drew Brees",null,null,null,"Football Stars Up Close",null,null,null,26.99,18.95,28.95,23.95,null,{"$f":"S4985","v":0},null,{"$f":"U4985","v":0},null,{"$f":"W4985","v":0},null,0,0,0,0,0,0,0,0,null,null,null,null,null,"Spring 2013","Website",2013,"Bearport Publishing","Bearport Books",5,"Sports & Recreation","English","Reinforced Library",24,"N",910,"K - 5",796.33209199999999,"Kathy Allen"]
[null,9781627243681,null,9781627243124,null,"Magnets",null,null,null,"FUN-damental Experiments",null,null,null,26.99,18.95,28.95,23.95,null,{"$f":"S5002","v":0},null,{"$f":"U5002","v":0},null,{"$f":"W5002","v":0},null,0,0,0,0,0,0,0,0,null,null,null,null,null,"Fall 2014","Website",2015,"Bearport Publishing","Bearport Books",null,"Science & Technology","English","Reinforced Library",24,"M",590,"PreK - 3",538,"Ellen Lawrence"]
[null,9781627249072,null,9781627248471,null,"Angora Rabbit",null,null,null,"Weird But Cute",null,null,null,26.99,18.95,28.95,{"$f":"O5026+5","v":23.95},null,{"$f":"S5025","v":0},null,{"$f":"U5025","v":0},null,{"$f":"W5025","v":0},null,{"$f":"S5026","v":0},{"$f":"U5026","v":0},{"$f":"W5026*2","v":0},{"$f":"Y5026+Z5026+AA5026","v":0},{"$f":"S5026*O5026","v":0},{"$f":"U5026*P5026","v":0},{"$f":"W5026*Q5026","v":0},{"$f":"IF(AH5026=FALSE,AC5026+AD5026+AE5026,0)","v":0},null,null,null,null,null,"Spring 2016","39",2016,"Bearport Publishing","Bearport Books",2.2000000000000002,"Animals & Nature","English","Reinforced Library",24,"I",510,"K - 3","636.932'2","Joyce Markovics"]
[null,9781617726279,null,9781617725883,null,"Prickly Plants",null,null,null,"Plant-ology",null,null,null,26.99,18.95,28.95,23.95,null,{"$f":"S5042","v":0},null,{"$f":"U5042","v":0},null,{"$f":"W5042","v":0},null,0,0,0,0,0,0,0,0,null,null,null,null,null,"Fall 2012","Website",2013,"Bearport Publishing","Bearport Books",4.2,"Animals & Nature","English","Reinforced Library",24,"K",600,"K - 3","581.4'7","Ellen Lawrence"]
[null,null,null,null,null,"Complete Series of 8",null,null,null,"Twice the Scare Combos!",null,null,null,{"$f":"SUM(N5072:N5079)","v":456},{"$f":"SUM(O5072:O5079)","v":319.2},{"$f":"SUM(P5072:P5079)","v":239.59999999999997},{"$f":"SUM(Q5072:Q5079)","v":359.19999999999993},null,null,null,null,null,null,null,null,null,null,null,null,null,null,null,null,null,null,null,null,null,null,null,"Bearport Publishing"]
[]
[]
[null,9781627246798,null,9781627245975,null,"El Sol (The Sun)",null,null,null,"Fuera de este mundo (Out Of This World)",null,null,null,26.99,18.95,28.95,{"$f":"O5124+5","v":23.95},null,{"$f":"S5123","v":0},null,{"$f":"U5123","v":0},null,{"$f":"W5123","v":0},null,{"$f":"S5124","v":0},{"$f":"U5124","v":0},{"$f":"W5124*2","v":0},{"$f":"Y5124+Z5124+AA5124","v":0},{"$f":"S5124*O5124","v":0},{"$f":"U5124*P5124","v":0},{"$f":"W5124*Q5124","v":0},{"$f":"IF(AH5124=FALSE,AC5124+AD5124+AE5124,0)","v":0},null,null,null,null,null,"Spring 2015","60 - 62",2015,"Bearport Publishing","Bearport Books",1.4,"Science & Technology","Spanish","Reinforced Library",24,null,560,"K - 3",523.70000000000005,"Chaya Glaser"]
[null,9781627246484,null,9781627245630,null,"Earth",null,null,null,"Out of this World",null,null,null,26.99,18.95,28.95,{"$f":"O5138+5","v":23.95},null,{"$f":"S5137","v":0},null,{"$f":"U5137","v":0},null,{"$f":"W5137","v":0},null,{"$f":"S5138","v":0},{"$f":"U5138","v":0},{"$f":"W5138*2","v":0},{"$f":"Y5138+Z5138+AA5138","v":0},{"$f":"S5138*O5138","v":0},{"$f":"U5138*P5138","v":0},{"$f":"W5138*Q5138","v":0},{"$f":"IF(AH5138=FALSE,AC5138+AD5138+AE5138,0)","v":0},null,null,null,null,null,"Spring 2015","Website",2015,"Bearport Publishing","Bearport Books",2,"Science & Technology","English","Reinforced Library",24,"L",530,"K - 3",525,"Joyce Markovics"]
[null,9781627246668,null,9781627245845,null,"Mi piel tiene bultos y es babosa (My Skin Is Bumpy and Slimy)",null,null,null,"Pistas de animales (Zoo Clues)",null,null,null,26.99,18.95,28.95,23.95,null,{"$f":"S5151","v":0},null,{"$f":"U5151","v":0},null,{"$f":"W5151","v":0},null,0,0,0,0,0,0,0,0,null,null,null,null,null,"Spring 2015","60 - 62",2015,"Bearport Publishing","Bearport Books",0.8,"Animals & Nature","Spanish","Reinforced Library",24,null,360,"PreK - 3","597.8'5","Jessica Rudolph"]
[null,9781627244763,null,9781627244619,null,"Las ranas de la madera (Wood Frogs)",null,null,null,"¿A dónde van en invierno? (In Winter, Where Do They Go?)",null,null,null,26.99,18.95,28.95,23.95,null,{"$f":"S5171","v":0},null,{"$f":"U5171","v":0},null,{"$f":"W5171","v":0},null,0,0,0,0,0,0,0,0,null,null,null,null,null,"Fall 2014","60 - 62",2015,"Bearport Publishing","Bearport Books",null,"Animals & Nature","Spanish","Reinforced Library",24,"I",510,"PreK - 3","597.8'9","Joyce Markovics"]
[null,9781627244824,null,9781627244671,null,"Los colores de las celebraciones (Holiday Colors)",null,null,null,"Los colores cuentan una historia (Colors Tell a Story)",null,null,null,26.99,18.95,28.95,23.95,null,{"$f":"S5196","v":0},null,{"$f":"U5196","v":0},null,{"$f":"W5196","v":0},null,0,0,0,0,0,0,0,0,null,null,null,null,null,"Fall 2014","60 - 62",2015,"Bearport Publishing","Bearport Books",null,"High Interest","Spanish","Reinforced Library",24,"I",500,"PreK - 3",535.6,"J. Clark Sawyer"]
[]
[null,9781627241434,null,9781627240918,null,"Wombat's Burrow",null,null,null,"The Hole Truth: Animal Life Underground",null,null,null,26.99,18.95,28.95,23.95,null,{"$f":"S5231","v":0},null,{"$f":"U5231","v":0},null,{"$f":"W5231","v":0},null,0,0,0,0,0,0,0,0,null,null,null,null,null,"Spring 2014","Website",2014,"Bearport Publishing","Bearport Books",3.9,"Animals & Nature","English","Reinforced Library",24,"L",560,"K - 3","599.2'4","Dee Phillips"]
[null,9781627241700,null,9781627241182,null,"Guide Dogs",null,null,null,"Bow Wow! Dog Helpers",null,null,null,26.99,18.95,28.95,{"$f":"O5262+5","v":23.95},null,{"$f":"S5261","v":0},null,{"$f":"U5261","v":0},null,{"$f":"W5261","v":0},null,{"$f":"S5262","v":0},{"$f":"U5262","v":0},{"$f":"W5262*2","v":0},{"$f":"Y5262+Z5262+AA5262","v":0},{"$f":"S5262*O5262","v":0},{"$f":"U5262*P5262","v":0},{"$f":"W5262*Q5262","v":0},{"$f":"IF(AH5262=FALSE,AC5262+AD5262+AE5262,0)","v":0},null,null,null,null,null,"Spring 2014","Website",2014,"Bearport Publishing","Bearport Books",2.2999999999999998,"Animals & Nature","English","Reinforced Library",24,"H",500,"PreK - 3","362.4'183","Jessica Rudolph"]
[null,9781627241502,null,9781627240987,null,"Marine Firefighters",null,null,null,"Fire Fight! The Bravest",null,null,null,28.5,19.95,29.95,{"$f":"O5273+5","v":24.95},null,{"$f":"S5269","v":0},null,{"$f":"U5269","v":0},null,{"$f":"W5269","v":0},null,{"$f":"S5273","v":0},{"$f":"U5273","v":0},{"$f":"W5273*2","v":0},{"$f":"Y5273+Z5273+AA5273","v":0},{"$f":"S5273*O5273","v":0},{"$f":"U5273*P5273","v":0},{"$f":"W5273*Q5273","v":0},{"$f":"IF(AH5273=FALSE,AC5273+AD5273+AE5273,0)","v":0},null,null,null,null,null,"Spring 2014","Website",2014,"Bearport Publishing","Bearport Books",5.5,"High Interest","English","Reinforced Library",32,"O",970,null,"623.88'8","Meish Goldish"]
[null,9781627241816,null,9781627241298,null,"Flood",null,null,null,"It's a Disaster!",null,null,null,26.99,18.95,28.95,23.95,null,{"$f":"S5283","v":0},null,{"$f":"U5283","v":0},null,{"$f":"W5283","v":0},null,0,0,0,0,0,0,0,0,null,null,null,null,null,"Spring 2014","Website",2014,"Bearport Publishing","Bearport Books",null,"Animals & Nature","English","Reinforced Library",24,"I",590,"K - 3","551.48'9","Dr. M. Jean Greenlaw"]
[null,9781617729485,null,9781617729058,null,"Inside the Bees' Hive",null,null,null,"Snug as a Bug: Where Bugs Live",null,null,null,26.99,18.95,28.95,23.95,null,{"$f":"S5303","v":0},null,{"$f":"U5303","v":0},null,{"$f":"W5303","v":0},null,0,0,0,0,0,0,0,0,null,null,null,null,null,"Fall 2013","Website",2014,"Bearport Publishing","Bearport Books",3.6,"Animals & Nature","English","Reinforced Library",24,"L",620,"K - 3","595.79'9","Karen Ang"]
[]
[null,9781617729744,null,9781617729317,null,"Gray Foxes",null,null,null,"Wild Canine Pups",null,null,null,25.65,17.95,27.95,22.95,null,{"$f":"S5343","v":0},null,{"$f":"U5343","v":0},null,{"$f":"W5343","v":0},null,0,0,0,0,0,0,0,0,null,null,null,null,null,"Fall 2013","Website",2014,"Bearport Publishing","Bearport Books",2.8,"Animals & Nature","English","Reinforced Library",24,"J",550,"K - 3",599.77499999999998,"Jane P. Gardner"]
[null,9781617728051,null,9781617727566,null,"Three-Toed Sloths",null,null,null,"Jungle Babies of the Amazon Rain Forest",null,null,null,25.65,17.95,27.95,22.95,null,{"$f":"S5363","v":0},null,{"$f":"U5363","v":0},null,{"$f":"W5363","v":0},null,0,0,0,0,0,0,0,0,null,null,null,null,null,"Spring 2013","Website",2013,"Bearport Publishing","Bearport Books",3.1,"Animals & Nature","English","Reinforced Library",24,"K",560,"K - 3","599.3'13","Rachel Lynette"]
[null,9781617727931,null,9781617727443,null,"Spring Spreads to \"Nutty\" Breads",null,null,null,"Yummy Tummy Recipes: Seasons",null,null,null,26.99,18.95,28.95,23.95,null,{"$f":"S5389","v":0},null,{"$f":"U5389","v":0},null,{"$f":"W5389","v":0},null,{"$f":"S5391","v":0},{"$f":"U5391","v":0},{"$f":"W5391*2","v":0},{"$f":"Y5391+Z5391+AA5391","v":0},{"$f":"S5391*O5391","v":0},{"$f":"U5391*P5391","v":0},{"$f":"W5391*Q5391","v":0},{"$f":"IF(AH5391=FALSE,AC5391+AD5391+AE5391,0)","v":0},null,null,null,null,null,"Spring 2013","Website",2013,"Bearport Publishing","Bearport Books",null,"High Interest","English","Reinforced Library",24,"P",920,null,"641.5'64","Marilyn LaPenta"]
[null,9781617726361,null,9781617726057,null,"Seal Pups",null,null,null,"Water Babies",null,null,null,25.65,17.95,27.95,22.95,null,{"$f":"S5403","v":0},null,{"$f":"U5403","v":0},null,{"$f":"W5403","v":0},null,0,0,0,0,0,0,0,0,null,null,null,null,null,"Fall 2012","Website",2013,"Bearport Publishing","Bearport Books",3.1,"Animals & Nature","English","Reinforced Library",24,"I",570,"K - 3",599.79138999999998,"Ruth Owen"]
[null,9781617724961,null,9781617724534,null,"Horses, Donkeys, and Mules in the Marines",null,null,null,"America's Animal Soldiers",null,null,null,26.99,18.95,28.95,23.95,null,{"$f":"S5420","v":0},null,{"$f":"U5420","v":0},null,{"$f":"W5420","v":0},null,{"$f":"S5422","v":0},{"$f":"U5422","v":0},{"$f":"W5422*2","v":0},{"$f":"Y5422+Z5422+AA5422","v":0},{"$f":"S5422*O5422","v":0},{"$f":"U5422*P5422","v":0},{"$f":"W5422*Q5422","v":0},{"$f":"IF(AH5422=FALSE,AC5422+AD5422+AE5422,0)","v":0},null,null,null,null,null,"Spring 2012","Website",2012,"Bearport Publishing","Bearport Books",5.7,"Animals & Nature","English","Reinforced Library",24,"N",920,null,"359.9'6","Meish Goldish"]
[null,9781617723162,null,9781617722769,null,"Howler Monkey",null,null,null,"Animal Loudmouths",null,null,null,26.99,18.95,28.95,23.95,null,{"$f":"S5450","v":0},null,{"$f":"U5450","v":0},null,{"$f":"W5450","v":0},null,0,0,0,0,0,0,0,0,null,null,null,null,null,"Fall 2011","Website",2012,"Bearport Publishing","Bearport Books",4.4000000000000004,"Animals & Nature","English","Reinforced Library",24,"L",650,null,"599.8'55","Natalie Lunis"]
[null,null,null,null,null,"Complete Series of 4",null,null,null,"Yummy Tummy Recipes",null,null,null,{"$f":"SUM(N5473:N5476)","v":107.96},{"$f":"SUM(O5473:O5476)","v":75.8},{"$f":"SUM(P5473:P5476)","v":115.8},{"$f":"SUM(Q5473:Q5476)","v":95.8},null,null,null,null,null,null,null,null,null,null,null,null,null,null,null,null,null,null,null,null,null,null,null,"Bearport Publishing"]
[null,9781617723452,null,9781617723070,null,"Artful Snacks",null,null,null,"Yummy Tummy Recipes",null,null,null,26.99,18.95,28.95,{"$f":"O5473+5","v":23.95},null,{"$f":"S5472","v":0},null,{"$f":"U5472","v":0},null,{"$f":"W5472","v":0},null,{"$f":"S5473","v":0},{"$f":"U5473","v":0},{"$f":"W5473*2","v":0},{"$f":"Y5473+Z5473+AA5473","v":0},{"$f":"S5473*O5473","v":0},{"$f":"U5473*P5473","v":0},{"$f":"W5473*Q5473","v":0},{"$f":"IF(AH5473=FALSE,AC5473+AD5473+AE5473,0)","v":0},null,null,null,null,null,"Fall 2011","Website",2012,"Bearport Publishing","Bearport Books",null,"High Interest","English","Reinforced Library",24,"P",880,null,"641.5'3","Marilyn LaPenta"]
[null,9781617721830,null,9781617721373,null,"Electrifying Eco-Race Cars",null,null,null,"Fast Rides",null,null,null,26.99,18.95,28.95,23.95,null,{"$f":"S5494","v":0},null,{"$f":"U5494","v":0},null,{"$f":"W5494","v":0},null,{"$f":"S5496","v":0},{"$f":"U5496","v":0},{"$f":"W5496*2","v":0},{"$f":"Y5496+Z5496+AA5496","v":0},{"$f":"S5496*O5496","v":0},{"$f":"U5496*P5496","v":0},{"$f":"W5496*Q5496","v":0},{"$f":"IF(AH5496=FALSE,AC5496+AD5496+AE5496,0)","v":0},null,null,null,null,null,"Spring 2011","Website",2011,"Bearport Publishing","Bearport Books",5.9,"Science & Technology","English","Reinforced Library",24,"N",1000,null,629.22799999999995,"Michael Sandler"]
[null,9781936088867,null,9781936088133,null,"Marine Corps",null,null,null,"Becoming a Soldier",null,null,null,26.99,18.95,28.95,23.95,null,{"$f":"S5516","v":0},null,{"$f":"U5516","v":0},null,{"$f":"W5516","v":0},null,{"$f":"S5520","v":0},{"$f":"U5520","v":0},{"$f":"W5520*2","v":0},{"$f":"Y5520+Z5520+AA5520","v":0},{"$f":"S5520*O5520","v":0},{"$f":"U5520*P5520","v":0},{"$f":"W5520*Q5520","v":0},{"$f":"IF(AH5520=FALSE,AC5520+AD5520+AE5520,0)","v":0},null,null,null,null,null,"Fall 2010","Website",2011,"Bearport Publishing","Bearport Books",6.3,"High Interest","English","Reinforced Library",24,"N",1010,null,"359.9'6540973","Meish Goldish"]
[null,9781936088744,null,9781936087969,null,"Dracula’s Dark World",null,null,null,"HorrorScapes",null,null,null,28.5,19.95,29.95,{"$f":"O5539+5","v":24.95},null,{"$f":"S5538","v":0},null,{"$f":"U5538","v":0},null,{"$f":"W5538","v":0},null,{"$f":"S5539","v":0},{"$f":"U5539","v":0},{"$f":"W5539*2","v":0},{"$f":"Y5539+Z5539+AA5539","v":0},{"$f":"S5539*O5539","v":0},{"$f":"U5539*P5539","v":0},{"$f":"W5539*Q5539","v":0},{"$f":"IF(AH5539=FALSE,AC5539+AD5539+AE5539,0)","v":0},null,null,null,null,null,"Fall 2010","Website",2011,"Bearport Publishing","Bearport Books",5.0999999999999996,"Legends, Myths, & Paranormal","English","Reinforced Library",32,null,810,null,"949.8'2014092","Michael Burgan"]
[null,9781936088928,null,9781936088065,null,"Tuberculosis",null,null,null,"Nightmare Plagues",null,null,null,28.5,19.95,29.95,24.95,null,{"$f":"S5553","v":0},null,{"$f":"U5553","v":0},null,{"$f":"W5553","v":0},null,0,0,0,0,0,0,0,0,null,null,null,null,null,"Fall 2010","Website",2011,"Bearport Publishing","Bearport Books",6.3,"High Interest","English","Reinforced Library",32,"Q",940,null,"616.9'95","Miriam Aronin"]
[null,9781936088461,null,9781936087440,null,"Green Tree Frogs",null,null,null,"Disappearing Acts",null,null,null,26.99,18.95,28.95,23.95,null,{"$f":"S5569","v":0},null,{"$f":"U5569","v":0},null,{"$f":"W5569","v":0},null,0,0,0,0,0,0,0,0,null,null,null,null,null,"Spring 2010","Website",2010,"Bearport Publishing","Bearport Books",4.2,"Animals & Nature","English","Reinforced Library",24,"I",600,null,"597.87'82","Natalie Lunis"]
[null,9781597169905,null,9781597169462,null,"Portuguese Man-of-War",null,null,null,"Afraid of the Water",null,null,null,26.99,18.95,28.95,23.95,null,{"$f":"S5597","v":0},null,{"$f":"U5597","v":0},null,{"$f":"W5597","v":0},null,0,0,0,0,0,0,0,0,null,null,null,null,null,"Fall 2009","Website",2010,"Bearport Publishing","Bearport Books",4.8,"Animals & Nature","English","Reinforced Library",24,"O",880,null,"593.5'5","Natalie Lunis"]
[null,9781597169820,null,9781597168717,null,"The Bat’s Cave",null,null,null,"Spectacular Animal Towns",null,null,null,28.5,19.95,29.95,24.95,null,{"$f":"S5618","v":0},null,{"$f":"U5618","v":0},null,{"$f":"W5618","v":0},null,0,0,0,0,0,0,0,0,null,null,null,null,null,"Fall 2009","Website",2010,"Bearport Publishing","Bearport Books",5.0999999999999996,"Animals & Nature","English","Reinforced Library",32,"N",970,null,599.4,"Joyce Markovics"]
[null,null,null,null,null,"Complete Series of 4",null,null,null,"World's Biggest",null,null,null,{"$f":"SUM(N5627:N5630)","v":107.96},{"$f":"SUM(O5627:O5630)","v":75.8},{"$f":"SUM(P5627:P5630)","v":115.8},{"$f":"SUM(Q5627:Q5630)","v":95.8},null,null,null,null,null,null,null,null,null,null,null,null,null,null,null,null,null,null,null,null,null,null,null,"Bearport Publishing"]
[null,9781597165945,null,9781597165068,null,"Black-footed Ferrets",null,null,null,"America's Animal Comebacks",null,null,null,28.5,19.95,29.95,24.95,null,{"$f":"S5640","v":0},null,{"$f":"U5640","v":0},null,{"$f":"W5640","v":0},null,0,0,0,0,0,0,0,0,null,null,null,null,null,"Fall 2007","Website",2008,"Bearport Publishing","Bearport Books",4.9000000000000004,"Animals & Nature","English","Reinforced Library",32,null,780,null,"599.76'629","Miriam Aronin"]
[null,9781597169257,null,9781597167659,null,"Diamondback Rattlers",null,null,null,"Fangs",null,null,null,26.99,18.95,28.95,23.95,null,{"$f":"S5665","v":0},null,{"$f":"U5665","v":0},null,{"$f":"W5665","v":0},null,0,0,0,0,0,0,0,0,null,null,null,null,null,"Spring 2009","Website",2009,"Bearport Publishing","Bearport Books",5.0999999999999996,"Animals & Nature","English","Reinforced Library",24,"O",780,null,"597.96'38","Nancy White"]
[null,9781597167918,null,9781597167031,null,"Crafty Garden Spiders",null,null,null,"No Backbone! The World of Invertebrates",null,null,null,26.99,18.95,28.95,23.95,null,{"$f":"S5683","v":0},null,{"$f":"U5683","v":0},null,{"$f":"W5683","v":0},null,0,0,0,0,0,0,0,0,null,null,null,null,null,"Fall 2008","Website",2009,"Bearport Publishing","Bearport Books",4.5,"Animals & Nature","English","Reinforced Library",24,"K",890,"K - 3","595.4'4","Nancy White"]
[null,9781597167949,null,9781597167062,null,"Spooky Wolf Spiders",null,null,null,"No Backbone! The World of Invertebrates",null,null,null,26.99,18.95,28.95,23.95,null,{"$f":"S5683","v":0},null,{"$f":"U5683","v":0},null,{"$f":"W5683","v":0},null,0,0,0,0,0,0,0,0,null,null,null,null,null,"Fall 2008","Website",2009,"Bearport Publishing","Bearport Books",4.2,"Animals & Nature","English","Reinforced Library",24,"K",810,"K - 3","595.4'4","Meish Goldish"]
[]
[null,9781597166966,null,9781597166409,null,"Troy Glaus and the Anaheim Angels",null,null,null,"World Series Superstars",null,null,null,26.99,18.95,28.95,23.95,null,{"$f":"S5741","v":0},null,{"$f":"U5741","v":0},null,{"$f":"W5741","v":0},null,0,0,0,0,0,0,0,0,null,null,null,null,null,"Spring 2008","Website",2008,"Bearport Publishing","Bearport Books",3.8,"Sports & Recreation","English","Reinforced Library",24,"M",600,"K - 5",796.35709199999997,"Michael Sandler"]
[null,9781597164160,null,9781597162500,null,"Octopuses",null,null,null,"Smart Animals",null,null,null,28.5,19.95,29.95,24.95,null,{"$f":"S5761","v":0},null,{"$f":"U5761","v":0},null,{"$f":"W5761","v":0},null,0,0,0,0,0,0,0,0,null,null,null,null,null,"Fall 2006","Website",2007,"Bearport Publishing","Bearport Books",4.5999999999999996,"Animals & Nature","English","Reinforced Library",32,"M",830,"2 - 7","594'.56","Michele Spirn"]
[]
[null,9781597164733,null,9781597163859,null,"Blue Whale",null,null,null,"SuperSized!",null,null,null,26.99,18.95,28.95,23.95,null,{"$f":"S5790","v":0},null,{"$f":"U5790","v":0},null,{"$f":"W5790","v":0},null,0,0,0,0,0,0,0,0,null,null,null,null,null,"Spring 2007","Website",2007,"Bearport Publishing","Bearport Books",3.6,"Animals & Nature","English","Reinforced Library",24,"I",790,"K - 3","599.5'248","Molly Smith"]
[null,null,null,null,null,"Complete Series of 6",null,null,null,"Defining Moments: Overcoming Challenges",null,null,null,{"$f":"SUM(N5819:N5824)","v":171},{"$f":"SUM(O5819:O5824)","v":119.7},{"$f":"SUM(P5819:P5824)","v":179.7},{"$f":"SUM(Q5819:Q5824)","v":149.69999999999999},null,null,null,null,null,null,null,null,null,null,null,null,null,null,null,null,null,null,null,null,null,null,null,"Bearport Publishing"]
[null,"Not Available",null,9781597161671,null,"Cycling",null,null,null,"Upsets & Comebacks",null,null,null,28.5,19.95,0,0,null,{"$f":"S5832","v":0},null,null,null,null,null,0,0,0,0,0,0,0,0,null,null,null,null,null,"Spring 2006","Website",2006,"Bearport Publishing","Bearport Books",4.0999999999999996,"Sports & Recreation","English","Reinforced Library",32,null,null,"2 - 7","796.6'2092","Michael Sandler"]
[]
["NEW",9781645277200,null,9781645277194,null,"Cougars",null,null,null,"Big Cats",null,null,null,25.65,17.95,26.25,{"$f":"O5873+5","v":22.95},null,{"$f":"S5871","v":0},null,{"$f":"U5871","v":0},null,{"$f":"W5871","v":0},null,0,0,0,0,0,0,0,0,null,null,null,null,null,"Spring 2021","15",2021,"Jump!, Inc.","Bullfrog Books",1,"Animals & Nature","English","Library",24,null,null,"K–3",599.75,"Marie Brandle"]
[null,null,null,null,null,"Complete Series of 8",null,null,null,"Animales de la granja (Farm Animals)",null,null,null,{"$f":"SUM(N5898:N5905)","v":205.20000000000002},{"$f":"SUM(O5898:O5905)","v":143.6},{"$f":"SUM(P5898:P5905)","v":210},{"$f":"SUM(Q5898:Q5905)","v":183.59999999999997},null,null,null,null,null,null,null,null,null,null,null,null,null,null,null,null,null,null,null,null,null,null,null,"Jump!, Inc."]
[]
["NEW",9781645277828,null,9781645277804,null,"Refrigerators",null,null,null,"How Does It Work?",null,null,null,26.99,18.95,26.25,23.95,null,{"$f":"S5917","v":0},null,{"$f":"U5917","v":0},null,{"$f":"W5917","v":0},null,0,0,0,0,0,0,0,0,null,null,null,null,null,"Spring 2021","43",2021,"Jump!, Inc.","Pogo Books",2.9,"Science & Technology","English","Library",24,"L",null,"2–5",621.5,"Nikole Brooks Bethea"]
["NEW",9781645278511,null,9781645278498,null,"Watching the Sky in Nature",null,null,null,"Nature Heals",null,null,null,26.99,18.95,26.25,23.95,null,{"$f":"S5932","v":0},null,{"$f":"U5932","v":0},null,{"$f":"W5932","v":0},null,0,0,0,0,0,0,0,0,null,null,null,null,null,"Spring 2021","54",2021,"Jump!, Inc.","Blue Owl Books",2.9,"Animals & Nature","English","Library",24,"H",null,"2–5",155.4,"Abby Colich"]
["NEW",9781645272045,null,9781645272021,null,"Don't Give Up",null,null,null,"The Sky's the Limit",null,null,null,26.99,18.95,26.25,23.95,null,{"$f":"S5964","v":0},null,{"$f":"U5964","v":0},null,{"$f":"W5964","v":0},null,0,0,0,0,0,0,0,0,null,null,null,null,null,"Spring 2020","53",2020,"Jump!, Inc.","Blue Owl Books",null,"Social Studies","English","Reinforced Library",24,"H",null,"2 – 5",null,"Susanne M. Bushman"]
[]
[null,9781641286435,null,9781641286411,null,"Greece",null,null,null,"All Around the World",null,null,null,26.99,18.95,26.25,23.95,null,{"$f":"S5984","v":0},null,{"$f":"U5984","v":0},null,{"$f":"W5984","v":0},null,0,0,0,0,0,0,0,0,null,null,null,null,null,"Fall 2019","34 - 35",2020,"Jump!, Inc.","Pogo Books",2.9,"Social Studies","English","Reinforced Library",24,"J",null,"2 – 5",949.5,"Kristine Spanier"]
[null,9781624969249,null,9781624969225,null,"Russia",null,null,null,"All Around the World",null,null,null,26.99,18.95,26.25,23.95,null,{"$f":"S5984","v":0},null,{"$f":"U5984","v":0},null,{"$f":"W5984","v":0},null,0,0,0,0,0,0,0,0,null,null,null,null,null,"Fall 2018","34 - 35",2019,"Jump!, Inc.","Pogo Books",2.9,"Social Studies","English","Reinforced Library",24,"J","530L","2 – 5",947,"Jessica Dean"]
["NEW",9781645274674,null,9781645274650,null,"Dentist's Office",null,null,null,"Around Town",null,null,null,24.21,16.95,22.5,21.95,null,{"$f":"S6042","v":0},null,{"$f":"U6042","v":0},null,{"$f":"W6042","v":0},null,0,0,0,0,0,0,0,0,null,null,null,null,null,"Fall 2020","7",2021,"Jump!, Inc.","Tadpole Books",null,"Social Studies","English","Reinforced Library",16,"D",null,"PreK - 1",617.6,"Zimmerman, Adeline J."]
["NEW",9781645274568,null,9781645274551,null,"Siamese",null,null,null,"Cat Club",null,null,null,25.65,17.95,26.25,22.95,null,{"$f":"S6058","v":0},null,{"$f":"U6058","v":0},null,{"$f":"W6058","v":0},null,0,0,0,0,0,0,0,0,null,null,null,null,null,"Fall 2020","16",2021,"Jump!, Inc.","Bullfrog Books",null,"Animals & Nature","English","Reinforced Library",24,"F",null,"K - 3",636.79999999999995,"Woodson, Cameron L."]
["NEW",9781645276692,null,9781645276678,null,"Celebrando todas las apariencias (Celebrating All Appearances)",null,null,null,"Celebrando nuestras comunidades (Celebrating Our Communities)",null,null,null,26.99,18.95,26.25,{"$f":"O6069+5","v":23.95},null,{"$f":"S6068","v":0},null,{"$f":"U6068","v":0},null,{"$f":"W6068","v":0},null,{"$f":"S6069","v":0},{"$f":"U6069","v":0},{"$f":"W6069*2","v":0},{"$f":"Y6069+Z6069+AA6069","v":0},{"$f":"S6069*O6069","v":0},{"$f":"U6069*P6069","v":0},{"$f":"W6069*Q6069","v":0},{"$f":"IF(AH6069=FALSE,AC6069+AD6069+AE6069,0)","v":0},null,null,null,null,null,"Fall 2020","63",2021,"Jump!, Inc.","Blue Owl Books",null,"Social Studies","Spanish","Reinforced Library",24,"H",null,"2 – 5",null,"Colich, Abby"]
["NEW",9781645276159,null,9781645276135,null,"Del jardín al pepinillo (From Garden to Pickle)",null,null,null,"De dónde viene? (Where Does It Come From?)",null,null,null,25.65,17.95,26.25,22.95,null,{"$f":"S6084","v":0},null,{"$f":"U6084","v":0},null,{"$f":"W6084","v":0},null,0,0,0,0,0,0,0,0,null,null,null,null,null,"Fall 2020","61 - 62",2021,"Jump!, Inc.","Bullfrog Books",null,"High Interest","Spanish","Reinforced Library",24,"F",null,"K - 3",null,"Nelson, Penelope S."]
[]
["NEW",9781645276609,null,9781645276586,null,"Los lémures cachorros (Lemur Pups)",null,null,null,"Los bebés de la selva (Rain Forest Babies)",null,null,null,24.21,16.95,22.5,21.95,null,{"$f":"S6125","v":0},null,{"$f":"U6125","v":0},null,{"$f":"W6125","v":0},null,0,0,0,0,0,0,0,0,null,null,null,null,null,"Fall 2020","59 - 60",2021,"Jump!, Inc.","Tadpole Books",null,"Animals & Nature","Spanish","Reinforced Library",16,null,null,"PreK - 1",null,"Nilsen, Genevieve"]
["NEW",9781645275978,null,9781645275954,null,"¿Qué pasa con el agua? (Where Does Water Go?)",null,null,null,"Qué pasa con eso? (Where Does It Go?)",null,null,null,25.65,17.95,26.25,{"$f":"O6150+5","v":22.95},null,{"$f":"S6149","v":0},null,{"$f":"U6149","v":0},null,{"$f":"W6149","v":0},null,{"$f":"S6150","v":0},{"$f":"U6150","v":0},{"$f":"W6150*2","v":0},{"$f":"Y6150+Z6150+AA6150","v":0},{"$f":"S6150*O6150","v":0},{"$f":"U6150*P6150","v":0},{"$f":"W6150*Q6150","v":0},{"$f":"IF(AH6150=FALSE,AC6150+AD6150+AE6150,0)","v":0},null,null,null,null,null,"Fall 2020","61 - 62",2021,"Jump!, Inc.","Bullfrog Books",null,"High Interest","Spanish","Reinforced Library",24,"G",null,"K - 3",null,"Sterling, Charlie W."]
["NEW",9781645275916,null,9781645275893,null,"Sea Slugs",null,null,null,"Science Behind the Colors",null,null,null,26.99,18.95,26.25,23.95,null,{"$f":"S6165","v":0},null,{"$f":"U6165","v":0},null,{"$f":"W6165","v":0},null,0,0,0,0,0,0,0,0,null,null,null,null,null,"Fall 2020","44",2021,"Jump!, Inc.","Pogo Books",null,"Animals & Nature","English","Reinforced Library",24,"J",null,"2 – 5",594,"Klepeis, Alicia Z."]
["NEW",9781645274421,null,9781645274407,null,"September 11th Attacks",null,null,null,"Turning Points in U.S. History",null,null,null,26.99,18.95,26.25,23.95,null,{"$f":"S6185","v":0},null,{"$f":"U6185","v":0},null,{"$f":"W6185","v":0},null,0,0,0,0,0,0,0,0,null,null,null,null,null,"Fall 2020","36",2021,"Jump!, Inc.","Pogo Books",null,"History","English","Reinforced Library",24,"K",null,"2 – 5",null,"Forest, Christopher"]
["NEW",9781645275497,null,9781645275473,null,"Where Does Garbage Go?",null,null,null,"Where Does It Go?",null,null,null,25.65,17.95,26.25,{"$f":"O6214+5","v":22.95},null,{"$f":"S6213","v":0},null,{"$f":"U6213","v":0},null,{"$f":"W6213","v":0},null,{"$f":"S6214","v":0},{"$f":"U6214","v":0},{"$f":"W6214*2","v":0},{"$f":"Y6214+Z6214+AA6214","v":0},{"$f":"S6214*O6214","v":0},{"$f":"U6214*P6214","v":0},{"$f":"W6214*Q6214","v":0},{"$f":"IF(AH6214=FALSE,AC6214+AD6214+AE6214,0)","v":0},null,null,null,null,null,"Fall 2020","17",2021,"Jump!, Inc.","Bullfrog Books",null,"High Interest","English","Reinforced Library",24,"G",null,"K - 3",628.4,"Sterling, Charlie W."]
["NEW",9781645275589,null,9781645275565,null,"Where Does Water Go?",null,null,null,"Where Does It Go?",null,null,null,25.65,17.95,26.25,22.95,null,{"$f":"S6213","v":0},null,{"$f":"U6213","v":0},null,{"$f":"W6213","v":0},null,{"$f":"S6217","v":0},{"$f":"U6217","v":0},{"$f":"W6217*2","v":0},{"$f":"Y6217+Z6217+AA6217","v":0},{"$f":"S6217*O6217","v":0},{"$f":"U6217*P6217","v":0},{"$f":"W6217*Q6217","v":0},{"$f":"IF(AH6217=FALSE,AC6217+AD6217+AE6217,0)","v":0},null,null,null,null,null,"Fall 2020","17",2021,"Jump!, Inc.","Bullfrog Books",null,"High Interest","English","Reinforced Library",24,"G",null,"K - 3",null,"Sterling, Charlie W."]
["NEW",9781645272601,null,9781645272588,null,"Las ardillas (Squirrels)",null,null,null,"Animales en tu jardín (Backyard Animals)",null,null,null,24.21,16.95,22.5,{"$f":"O6236+5","v":21.95},null,{"$f":"S6235","v":0},null,{"$f":"U6235","v":0},null,{"$f":"W6235","v":0},null,{"$f":"S6236","v":0},{"$f":"U6236","v":0},{"$f":"W6236*2","v":0},{"$f":"Y6236+Z6236+AA6236","v":0},{"$f":"S6236*O6236","v":0},{"$f":"U6236*P6236","v":0},{"$f":"W6236*Q6236","v":0},{"$f":"IF(AH6236=FALSE,AC6236+AD6236+AE6236,0)","v":0},null,null,null,null,null,"Spring 2020","59 - 60",2020,"Jump!, Inc.","Tadpole Books",null,"Animals & Nature","Spanish","Reinforced Library",16,null,null,"PreK - 1",null,"Genevieve Nilsen"]
["NEW",9781641288583,null,9781641288576,null,"Wolf Packs",null,null,null,"Better Together: Animal Groups",null,null,null,26.99,18.95,26.25,23.95,null,{"$f":"S6261","v":0},null,{"$f":"U6261","v":0},null,{"$f":"W6261","v":0},null,0,0,0,0,0,0,0,0,null,null,null,null,null,"Spring 2020","45",2020,"Jump!, Inc.","Pogo Books",2.5,"Animals & Nature","English","Reinforced Library",24,"I",null,"2 – 5",599.77,"Karen Latchana Kenney"]
["NEW",9781645273066,null,9781645273059,null,"My First Look at German",null,null,null,"First Look at Languages",null,null,null,25.65,17.95,26.25,22.95,null,{"$f":"S6277","v":0},null,{"$f":"U6277","v":0},null,{"$f":"W6277","v":0},null,{"$f":"S6279","v":0},{"$f":"U6279","v":0},{"$f":"W6279*2","v":0},{"$f":"Y6279+Z6279+AA6279","v":0},{"$f":"S6279*O6279","v":0},{"$f":"U6279*P6279","v":0},{"$f":"W6279*Q6279","v":0},{"$f":"IF(AH6279=FALSE,AC6279+AD6279+AE6279,0)","v":0},null,null,null,null,null,"Spring 2020","19",2020,"Jump!, Inc.","Bullfrog Books",null,"Social Studies","English","Reinforced Library",24,"E",null,"K - 3",null,"Jenna Lee Gleisner"]
[null,null,null,null,null,"Complete Series of 5",null,null,null,"Todos a bordo (All Aboard)",null,null,null,{"$f":"SUM(N6299:N6303)","v":128.25},{"$f":"SUM(O6299:O6303)","v":89.75},{"$f":"SUM(P6299:P6303)","v":131.25},{"$f":"SUM(Q6299:Q6303)","v":114.75},null,null,null,null,null,null,null,null,null,null,null,null,null,null,null,null,null,null,null,null,null,null,null,"Jump!, Inc."]
[null,null,null,null,null,"Complete Series of 6",null,null,null,"All Kinds of Friends",null,null,null,{"$f":"SUM(N6321:N6326)","v":153.9},{"$f":"SUM(O6321:O6326)","v":107.7},{"$f":"SUM(P6321:P6326)","v":157.5},{"$f":"SUM(Q6321:Q6326)","v":137.69999999999999},null,null,null,null,null,null,null,null,null,null,null,null,null,null,null,null,null,null,null,null,null,null,null,"Jump!, Inc."]
[null,9781641287975,null,9781641287951,null,"I See Caterpillars",null,null,null,"Backyard Bugs",null,null,null,24.21,16.95,22.5,21.95,null,{"$f":"S6336","v":0},null,{"$f":"U6336","v":0},null,{"$f":"W6336","v":0},null,0,0,0,0,0,0,0,0,null,null,null,null,null,"Fall 2019","11",2020,"Jump!, Inc.","Tadpole Books",null,"Animals & Nature","English","Reinforced Library",16,"C",null,"PreK - 1",595.78129999999999,"Genevieve Nilsen"]
[]
[null,9781624961625,null,9781620310946,null,"Nurses",null,null,null,"Community Helpers",null,null,null,25.65,17.95,26.25,22.95,null,{"$f":"S6364","v":0},null,{"$f":"U6364","v":0},null,{"$f":"W6364","v":0},null,0,0,0,0,0,0,0,0,null,null,null,null,null,"Fall 2014","28 - 29",2015,"Jump!, Inc.","Bullfrog Books",0.9,"Careers","English","Reinforced Library",24,"E","240L","K - 2",610.73,"Cari Meister"]
[null,9781624966491,null,9781620319833,null,"Ser agradecido (Being Grateful)",null,null,null,"Construyendo el carácter (Building Character)",null,null,null,25.65,17.95,26.25,22.95,null,{"$f":"S6396","v":0},null,{"$f":"U6396","v":0},null,{"$f":"W6396","v":0},null,0,0,0,0,0,0,0,0,null,null,null,null,null,"Fall 2018","61 - 62",2018,"Jump!, Inc.","Bullfrog Books",1.8,"High Interest","Spanish","Reinforced Library",24,"F","180L","K - 3",null,"Rebecca Pettiford"]
[null,9781641288729,null,9781641288712,null,"Palace of Versailles",null,null,null,"Cool Castles and Palaces",null,null,null,26.99,18.95,26.25,23.95,null,{"$f":"S6411","v":0},null,{"$f":"U6411","v":0},null,{"$f":"W6411","v":0},null,0,0,0,0,0,0,0,0,null,null,null,null,null,"Fall 2019","37",2020,"Jump!, Inc.","Pogo Books",2.9,"Social Studies","English","Reinforced Library",24,"K",null,"2 – 5",944,"Clara Bennington"]
[null,9781645270560,null,9781645270546,null,"Morado (Purple)",null,null,null,"Diversión con colores (Fun with Colors)",null,null,null,24.21,16.95,22.5,21.95,null,{"$f":"S6421","v":0},null,{"$f":"U6421","v":0},null,{"$f":"W6421","v":0},null,0,0,0,0,0,0,0,0,null,null,null,null,null,"Fall 2019","59 - 60",2020,"Jump!, Inc.","Tadpole Books",null,"High Interest","Spanish","Reinforced Library",16,null,null,"PreK - 1",535.6,"Anna C. Peterson"]
[null,9781641285261,null,9781641285254,null,"Veo abejas (I See Bees)",null,null,null,"Insectos en tu jardín (Backyard Bugs)",null,null,null,24.21,16.95,22.5,{"$f":"O6446+5","v":21.95},null,{"$f":"S6445","v":0},null,{"$f":"U6445","v":0},null,{"$f":"W6445","v":0},null,{"$f":"S6446","v":0},{"$f":"U6446","v":0},{"$f":"W6446*2","v":0},{"$f":"Y6446+Z6446+AA6446","v":0},{"$f":"S6446*O6446","v":0},{"$f":"U6446*P6446","v":0},{"$f":"W6446*Q6446","v":0},{"$f":"IF(AH6446=FALSE,AC6446+AD6446+AE6446,0)","v":0},null,null,null,null,null,"Spring 2019","59 - 60",2019,"Jump!, Inc.","Tadpole Books",null,"Animals & Nature","Spanish","Reinforced Library",16,null,null,"PreK - 1",595.79190000000006,"Genevieve Nilsen"]
[null,9781641289863,null,9781641289856,null,"Las crías de los pingüinos (Penguin Chicks)",null,null,null,"Los bebés polares (Polar Babies) ",null,null,null,24.21,16.95,22.5,21.95,null,{"$f":"S6466","v":0},null,{"$f":"U6466","v":0},null,{"$f":"W6466","v":0},null,0,0,0,0,0,0,0,0,null,null,null,null,null,"Fall 2019","59 - 60",2020,"Jump!, Inc.","Tadpole Books",null,"Animals & Nature","Spanish","Reinforced Library",16,"C",null,"PreK - 1",598.47130000000004,"Genevieve Nilsen"]
[null,9781624967559,null,9781624967542,null,"Coyotes",null,null,null,"My First Animal Library",null,null,null,25.65,17.95,26.25,22.95,null,{"$f":"S6474","v":0},null,{"$f":"U6474","v":0},null,{"$f":"W6474","v":0},null,0,0,0,0,0,0,0,0,null,null,null,null,null,"Fall 2018","26 - 27",2019,"Jump!, Inc.","Bullfrog Books",1,"Animals & Nature","English","Reinforced Library",24,"E",null,"K - 3",599.77,"Cari Meister"]
[null,9781624963506,null,9781620312902,null,"Porcupines",null,null,null,"My First Animal Library",null,null,null,25.65,17.95,26.25,22.95,null,{"$f":"S6474","v":0},null,{"$f":"U6474","v":0},null,{"$f":"W6474","v":0},null,0,0,0,0,0,0,0,0,null,null,null,null,null,"Spring 2016","26 - 27",2016,"Jump!, Inc.","Bullfrog Books",1,"Animals & Nature","English","Reinforced Library",24,"E",null,"K - 3","599.35/97","Mari Schuh"]
[null,9781641287616,null,9781641287593,null,"Snowy Owlets",null,null,null,"Polar Babies",null,null,null,24.21,16.95,22.5,21.95,null,{"$f":"S6526","v":0},null,{"$f":"U6526","v":0},null,{"$f":"W6526","v":0},null,0,0,0,0,0,0,0,0,null,null,null,null,null,"Fall 2019","10",2020,"Jump!, Inc.","Tadpole Books",null,"Animals & Nature","English","Reinforced Library",16,"C",null,"PreK - 1",598.9,"Genevieve Nilsen"]
[null,9781641289627,null,9781641289610,null,"Great White Shark",null,null,null,"Shark Bites",null,null,null,25.65,17.95,26.25,22.95,null,{"$f":"S6548","v":0},null,{"$f":"U6548","v":0},null,{"$f":"W6548","v":0},null,0,0,0,0,0,0,0,0,null,null,null,null,null,"Fall 2019","20",2020,"Jump!, Inc.","Bullfrog Books",1,"Animals & Nature","English","Reinforced Library",24,"F",null,"K - 3",597.29999999999995,"Jenna Lee Gleisner"]
[null,9781641289214,null,9781641289009,null,"The Indian-American Journey",null,null,null,"The American Journey",null,null,null,26.99,18.95,26.25,{"$f":"O6567+5","v":23.95},null,{"$f":"S6566","v":0},null,{"$f":"U6566","v":0},null,{"$f":"W6566","v":0},null,{"$f":"S6567","v":0},{"$f":"U6567","v":0},{"$f":"W6567*2","v":0},{"$f":"Y6567+Z6567+AA6567","v":0},{"$f":"S6567*O6567","v":0},{"$f":"U6567*P6567","v":0},{"$f":"W6567*Q6567","v":0},{"$f":"IF(AH6567=FALSE,AC6567+AD6567+AE6567,0)","v":0},null,null,null,null,null,"Fall 2019","39",2020,"Jump!, Inc.","Pogo Books",2.9,"History","English","Reinforced Library",24,"M",null,"2 – 5",305.89,"Emma Carlson Berne"]
[null,9781645270119,null,9781645270096,null,"Mis amigos tienen autismo (My Friend Has Autism)",null,null,null,"Todo tipo de amigos (All Kinds of Friends)",null,null,null,25.65,17.95,26.25,22.95,null,{"$f":"S6572","v":0},null,{"$f":"U6572","v":0},null,{"$f":"W6572","v":0},null,0,0,0,0,0,0,0,0,null,null,null,null,null,"Fall 2019","61 - 62",2020,"Jump!, Inc.","Bullfrog Books",1.7,"High Interest","Spanish","Reinforced Library",24,"F",null,"K - 3",616.85,"Kaitlyn Duling"]
[null,9781641285483,null,9781641285476,null,"Los cachorros del tigre (Tiger Cubs)",null,null,null,"Animales bebés de los safaris (Safari Babies)",null,null,null,24.21,16.95,22.5,21.95,null,{"$f":"S6588","v":0},null,{"$f":"U6588","v":0},null,{"$f":"W6588","v":0},null,0,0,0,0,0,0,0,0,null,null,null,null,null,"Spring 2019","59 - 60",2019,"Jump!, Inc.","Tadpole Books",null,"Animals & Nature","Spanish","Reinforced Library",16,null,null,"PreK - 1","599.75613/92","Genevieve Nilsen"]
[]
[null,9781641284554,null,9781641284530,null,"Let's Recycle!",null,null,null,"Kids Living Green",null,null,null,25.65,17.95,26.25,22.95,null,{"$f":"S6635","v":0},null,{"$f":"U6635","v":0},null,{"$f":"W6635","v":0},null,{"$f":"S6637","v":0},{"$f":"U6637","v":0},{"$f":"W6637*2","v":0},{"$f":"Y6637+Z6637+AA6637","v":0},{"$f":"S6637*O6637","v":0},{"$f":"U6637*P6637","v":0},{"$f":"W6637*Q6637","v":0},{"$f":"IF(AH6637=FALSE,AC6637+AD6637+AE6637,0)","v":0},null,null,null,null,null,"Spring 2019","25",2019,"Jump!, Inc.","Bullfrog Books",1,"Social Studies","English","Reinforced Library",24,"F",null,"K - 3","363.72/82","Jenna Lee Gleisner"]
[null,9781641285209,null,9781641285193,null,"Mira cómo crece una piña (Watch a Pineapple Grow)",null,null,null,"Míralos crecer (Watch It Grow)",null,null,null,25.65,17.95,26.25,22.95,null,{"$f":"S6641","v":0},null,{"$f":"U6641","v":0},null,{"$f":"W6641","v":0},null,0,0,0,0,0,0,0,0,null,null,null,null,null,"Spring 2019","61 - 62",2019,"Jump!, Inc.","Bullfrog Books",1.2,"Animals & Nature","Spanish","Reinforced Library",16,null,null,"K - 3","633.5/76","Kirsten Chang"]
[null,9781641284738,null,9781641284714,null,"Cooking Then and Now",null,null,null,"Then and Now",null,null,null,26.99,18.95,26.25,23.95,null,{"$f":"S6677","v":0},null,{"$f":"U6677","v":0},null,{"$f":"W6677","v":0},null,0,0,0,0,0,0,0,0,null,null,null,null,null,"Spring 2019","38",2019,"Jump!, Inc.","Pogo Books",2.4,"Social Studies","English","Reinforced Library",24,"K","500L","2 – 5",641.30089999999996,"Nadia Higgins"]
[null,9781624967955,null,9781624967948,null,"Tarantulas",null,null,null,"An Eye on Spiders",null,null,null,25.65,17.95,26.25,22.95,null,{"$f":"S6695","v":0},null,{"$f":"U6695","v":0},null,{"$f":"W6695","v":0},null,0,0,0,0,0,0,0,0,null,null,null,null,null,"Fall 2018","25",2019,"Jump!, Inc.","Bullfrog Books",1,"Animals & Nature","English","Reinforced Library",24,"E",null,"K - 3",595.4,"Kristine Spanier"]
[]
[null,9781624964718,null,9781620315088,null,"Día de Martin Luther King, Jr. (Martin Luther King, Jr. Day)",null,null,null,"Fiestas (Holidays)",null,null,null,25.65,17.95,26.25,22.95,null,{"$f":"S6717","v":0},null,{"$f":"U6717","v":0},null,{"$f":"W6717","v":0},null,0,0,0,0,0,0,0,0,null,null,null,null,null,"Fall 2016","61 - 62",2017,"Jump!, Inc.","Bullfrog Books",1.2,"Social Studies","Spanish","Reinforced Library",24,"F",null,"PreK – 2",394.26100000000002,"R.J. Bailey"]
[null,9781624969782,null,9781624969768,null,"Squirrel Kits",null,null,null,"Forest Babies",null,null,null,24.21,16.95,22.5,21.95,null,{"$f":"S6733","v":0},null,{"$f":"U6733","v":0},null,{"$f":"W6733","v":0},null,0,0,0,0,0,0,0,0,null,null,null,null,null,"Fall 2018","13",2019,"Jump!, Inc.","Tadpole Books",null,"Animals & Nature","English","Reinforced Library",16,"C",null,"PreK - 1","599.3613/92","Genevieve Nilsen"]
[null," 9781641280815",null,9781641280808,null,"Ventoso (Windy)",null,null,null,"Informe del tiempo (Weather Report)",null,null,null,24.21,16.95,22.5,21.95,null,{"$f":"S6762","v":0},null,{"$f":"U6762","v":0},null,{"$f":"W6762","v":0},null,{"$f":"S6766","v":0},{"$f":"U6766","v":0},{"$f":"W6766*2","v":0},{"$f":"Y6766+Z6766+AA6766","v":0},{"$f":"S6766*O6766","v":0},{"$f":"U6766*P6766","v":0},{"$f":"W6766*Q6766","v":0},{"$f":"IF(AH6766=FALSE,AC6766+AD6766+AE6766,0)","v":0},null,null,null,null,null,"Fall 2018","59 - 60",2019,"Jump!, Inc.","Tadpole Books",null,"Science & Technology","Spanish","Reinforced Library",16,null,null,"PreK - 1","551.5/18","Tessa Kenan"]
[null,9781641280839,null,9781641280822,null,"Las ardillas bebés (Squirrel Kits)",null,null,null,"Los bebés del bosque (Forest Babies)",null,null,null,24.21,16.95,22.5,{"$f":"O6785+5","v":21.95},null,{"$f":"S6784","v":0},null,{"$f":"U6784","v":0},null,{"$f":"W6784","v":0},null,{"$f":"S6785","v":0},{"$f":"U6785","v":0},{"$f":"W6785*2","v":0},{"$f":"Y6785+Z6785+AA6785","v":0},{"$f":"S6785*O6785","v":0},{"$f":"U6785*P6785","v":0},{"$f":"W6785*Q6785","v":0},{"$f":"IF(AH6785=FALSE,AC6785+AD6785+AE6785,0)","v":0},null,null,null,null,null,"Fall 2018","59 - 60",2019,"Jump!, Inc.","Tadpole Books",null,"Animals & Nature","Spanish","Reinforced Library",16,null,null,"PreK - 1",599.36,"Genevieve Nilsen"]
[null,9781624968532,null,9781624968518,null,"Levers",null,null,null,"Machines in Motion",null,null,null,25.65,17.95,26.25,22.95,null,{"$f":"S6794","v":0},null,{"$f":"U6794","v":0},null,{"$f":"W6794","v":0},null,0,0,0,0,0,0,0,0,null,null,null,null,null,"Fall 2018","24",2019,"Jump!, Inc.","Bullfrog Books",1,"Science & Technology","English","Reinforced Library",24,"F",null,"K - 3",621.79999999999995,"Erika S. Manley"]
[null,9781624968884,null,9781624968860,null,"Pollinating Plants",null,null,null,"Plant Power",null,null,null,26.99,18.95,26.25,23.95,null,{"$f":"S6823","v":0},null,{"$f":"U6823","v":0},null,{"$f":"W6823","v":0},null,0,0,0,0,0,0,0,0,null,null,null,null,null,"Fall 2018","48",2019,"Jump!, Inc.","Pogo Books",2.9,"Animals & Nature","English","Reinforced Library",24,"J","500L","2 – 5","571.8/642","Karen Latchana Kenney"]
[null,null,null,null,null,"Complete Series of 8",null,null,null,"¡Vamos! (Let's Go!)",null,null,null,{"$f":"SUM(N6848:N6855)","v":193.68000000000004},{"$f":"SUM(O6848:O6855)","v":135.6},{"$f":"SUM(P6848:P6855)","v":180},{"$f":"SUM(Q6848:Q6855)","v":175.59999999999997},null,null,null,null,null,null,null,null,null,null,null,null,null,null,null,null,null,null,null,null,null,null,null,"Jump!, Inc."]
[null,9781624966569,null,9781620318607,null,"Colonial Williamsburg",null,null,null,"Hello, America!",null,null,null,25.65,17.95,26.25,22.95,null,{"$f":"S6863","v":0},null,{"$f":"U6863","v":0},null,{"$f":"W6863","v":0},null,0,0,0,0,0,0,0,0,null,null,null,null,null,"Spring 2018","Website",2018,"Jump!, Inc.","Bullfrog Books",1,"Social Studies","English","Reinforced Library",24,"E","290L","K - 3",975.5,"Kaitlyn Duling"]
[null,9781624966606,null,9781620318683,null,"Lincoln Memorial",null,null,null,"Hello, America!",null,null,null,25.65,17.95,26.25,22.95,null,{"$f":"S6863","v":0},null,{"$f":"U6863","v":0},null,{"$f":"W6863","v":0},null,0,0,0,0,0,0,0,0,null,null,null,null,null,"Spring 2018","Website",2018,"Jump!, Inc.","Bullfrog Books",1,"Social Studies","English","Reinforced Library",24,"E","40L","K - 3",975.3,"Kaitlyn Duling"]
[null,9781624966675,null,9781620318362,null,"Presidents' Day",null,null,null,"Holidays",null,null,null,25.65,17.95,26.25,22.95,null,{"$f":"S6879","v":0},null,{"$f":"U6879","v":0},null,{"$f":"W6879","v":0},null,0,0,0,0,0,0,0,0,null,null,null,null,null,"Spring 2018","31",2018,"Jump!, Inc.","Bullfrog Books",1,"Social Studies","English","Reinforced Library",24,"F","360L","K - 3",394.26100000000002,"Erika S. Manley"]
[null,9781624964091,null,9781620313626,null,"Softball",null,null,null,"I Love Sports",null,null,null,25.65,17.95,26.25,22.95,null,{"$f":"S6900","v":0},null,{"$f":"U6900","v":0},null,{"$f":"W6900","v":0},null,0,0,0,0,0,0,0,0,null,null,null,null,null,"Fall 2016","Website",2017,"Jump!, Inc.","Bullfrog Books",0.8,"Sports & Recreation","English","Reinforced Library",24,"F",null,"K - 3","796.357/8","Cari Meister"]
[null,9781624966767,null,9781620318966,null,"Using Money",null,null,null,"Money Smarts",null,null,null,25.65,17.95,26.25,22.95,null,{"$f":"S6929","v":0},null,{"$f":"U6929","v":0},null,{"$f":"W6929","v":0},null,{"$f":"S6933","v":0},{"$f":"U6933","v":0},{"$f":"W6933*2","v":0},{"$f":"Y6933+Z6933+AA6933","v":0},{"$f":"S6933*O6933","v":0},{"$f":"U6933*P6933","v":0},{"$f":"W6933*Q6933","v":0},{"$f":"IF(AH6933=FALSE,AC6933+AD6933+AE6933,0)","v":0},null,null,null,null,null,"Spring 2018","Website",2018,"Jump!, Inc.","Bullfrog Books",1,"Math & Finance","English","Reinforced Library",24,"E","320L","K - 3",339.4,"Nadia Higgins"]
[null,9781624967221,null,9781620319475,null,"I See Flowers",null,null,null,"Outdoor Explorer",null,null,null,24.21,16.95,22.5,21.95,null,{"$f":"S6943","v":0},null,{"$f":"U6943","v":0},null,{"$f":"W6943","v":0},null,0,0,0,0,0,0,0,0,null,null,null,null,null,"Spring 2018","Website",2018,"Jump!, Inc.","Tadpole Books",null,"Animals & Nature","English","Reinforced Library",16,"B","90L","PreK - 1",582.13,"Tim Mayerling"]
[null,9781624965692,null,9781620316924,null,"Beavers",null,null,null,"Animal Architects",null,null,null,26.99,18.95,26.25,23.95,null,{"$f":"S6974","v":0},null,{"$f":"U6974","v":0},null,{"$f":"W6974","v":0},null,0,0,0,0,0,0,0,0,null,null,null,null,null,"Fall 2017","51",2018,"Jump!, Inc.","Pogo Books",2.8,"Animals & Nature","English","Reinforced Library",24,"J","470L","2 - 4",599.37156000000004,"Karen Latchana Kenney"]
[null,9781624965487,null,9781620316719,null,"Different Interests",null,null,null,"Celebrating Differences",null,null,null,25.65,17.95,26.25,22.95,null,{"$f":"S6990","v":0},null,{"$f":"U6990","v":0},null,{"$f":"W6990","v":0},null,{"$f":"S6995","v":0},{"$f":"U6995","v":0},{"$f":"W6995*2","v":0},{"$f":"Y6995+Z6995+AA6995","v":0},{"$f":"S6995*O6995","v":0},{"$f":"U6995*P6995","v":0},{"$f":"W6995*Q6995","v":0},{"$f":"IF(AH6995=FALSE,AC6995+AD6995+AE6995,0)","v":0},null,null,null,null,null,"Fall 2017","18",2018,"Jump!, Inc.","Bullfrog Books",0.8,"Social Studies","English","Reinforced Library",24,"E",null,"K - 2","790.1/3","Rebecca Pettiford"]
[null,9781624966286,null,9781620318065,null,"Selvas (Rain Forests)",null,null,null,"Ecosistemas (Ecosystems)",null,null,null,25.65,17.95,26.25,22.95,null,{"$f":"S7007","v":0},null,{"$f":"U7007","v":0},null,{"$f":"W7007","v":0},null,0,0,0,0,0,0,0,0,null,null,null,null,null,"Fall 2017","Website",2018,"Jump!, Inc.","Bullfrog Books",1.4,"Animals & Nature","Spanish","Reinforced Library",24,null,null,"K - 3",577.34,"Nadia Higgins"]
[null,9781624965548,null,9781620316771,null,"Deserts",null,null,null,"Ecosystems",null,null,null,25.65,17.95,26.25,22.95,null,{"$f":"S7017","v":0},null,{"$f":"U7017","v":0},null,{"$f":"W7017","v":0},null,0,0,0,0,0,0,0,0,null,null,null,null,null,"Fall 2017","Website",2018,"Jump!, Inc.","Bullfrog Books",1,"Animals & Nature","English","Reinforced Library",24,"E",null,"K - 2",577.54,"Tim Mayerling"]
[null,9781624966309,null,9781620318089,null,"Anacondas (Anacondas)",null,null,null,"Mundo de reptiles (Reptile World)",null,null,null,25.65,17.95,26.25,{"$f":"O7043+5","v":22.95},null,{"$f":"S7042","v":0},null,{"$f":"U7042","v":0},null,{"$f":"W7042","v":0},null,{"$f":"S7043","v":0},{"$f":"U7043","v":0},{"$f":"W7043*2","v":0},{"$f":"Y7043+Z7043+AA7043","v":0},{"$f":"S7043*O7043","v":0},{"$f":"U7043*P7043","v":0},{"$f":"W7043*Q7043","v":0},{"$f":"IF(AH7043=FALSE,AC7043+AD7043+AE7043,0)","v":0},null,null,null,null,null,"Fall 2017","Website",2018,"Jump!, Inc.","Bullfrog Books",1.1000000000000001,"Animals & Nature","Spanish","Reinforced Library",24,null,null,"K - 3","597.96/7","Imogen Kingsley"]
[]
[null,9781624962868,null,9781620311998,null,"Snapping Turtles",null,null,null,"Reptile World",null,null,null,25.65,17.95,26.25,22.95,null,{"$f":"S7063","v":0},null,{"$f":"U7063","v":0},null,{"$f":"W7063","v":0},null,0,0,0,0,0,0,0,0,null,null,null,null,null,"Fall 2015","Website",2016,"Jump!, Inc.","Bullfrog Books",0.9,"Animals & Nature","English","Reinforced Library",24,"E",null,"K - 2","597.92/2","Cari Meister"]
[null,9781624966071,null,9781620317600,null,"Who Helps Animals?",null,null,null,"Who Helps?",null,null,null,24.21,16.95,22.5,{"$f":"O7094+5","v":21.95},null,{"$f":"S7093","v":0},null,{"$f":"U7093","v":0},null,{"$f":"W7093","v":0},null,{"$f":"S7094","v":0},{"$f":"U7094","v":0},{"$f":"W7094*2","v":0},{"$f":"Y7094+Z7094+AA7094","v":0},{"$f":"S7094*O7094","v":0},{"$f":"U7094*P7094","v":0},{"$f":"W7094*Q7094","v":0},{"$f":"IF(AH7094=FALSE,AC7094+AD7094+AE7094,0)","v":0},null,null,null,null,null,"Fall 2017","Website",2018,"Jump!, Inc.","Tadpole Books",null,"Careers","English","Reinforced Library",16,"B",null,"PreK – 2",636.08900000000006,"Erica Donner"]
[null,9781624964848,null,9781620315415,null,"Reptiles",null,null,null,"Animal Classification",null,null,null,25.65,17.95,26.25,22.95,null,{"$f":"S7118","v":0},null,{"$f":"U7118","v":0},null,{"$f":"W7118","v":0},null,0,0,0,0,0,0,0,0,null,null,null,null,null,"Spring 2017","Website",2017,"Jump!, Inc.","Bullfrog Books",1,"Animals & Nature","English","Reinforced Library",24,"F",null,"PreK – 2",597.9,"Erica Donner"]
[null,9781624964466,null,9781620313992,null,"Ice Storms",null,null,null,"Disaster Zone",null,null,null,26.99,18.95,26.25,23.95,null,{"$f":"S7134","v":0},null,{"$f":"U7134","v":0},null,{"$f":"W7134","v":0},null,0,0,0,0,0,0,0,0,null,null,null,null,null,"Fall 2016","Website",2017,"Jump!, Inc.","Pogo Books",2.9,"Animals & Nature","English","Reinforced Library",24,"J","580L","2 - 4","551.55/6","Vanessa Black"]
[null,9781624964947,null,9781620315460,null,"Protein Foods",null,null,null,"Healthy Living",null,null,null,25.65,17.95,26.25,22.95,null,{"$f":"S7158","v":0},null,{"$f":"U7158","v":0},null,{"$f":"W7158","v":0},null,0,0,0,0,0,0,0,0,null,null,null,null,null,"Spring 2017","Website",2017,"Jump!, Inc.","Bullfrog Books","Not Quizable","Health","English","Reinforced Library",24,"F",null,"K - 2","641.3/06","Vanessa Black"]
[null,null,null,null,null,"Complete Series of 6",null,null,null,"How Is It Made?",null,null,null,{"$f":"SUM(N7168:N7173)","v":161.94},{"$f":"SUM(O7168:O7173)","v":113.7},{"$f":"SUM(P7168:P7173)","v":157.5},{"$f":"SUM(Q7168:Q7173)","v":143.69999999999999},null,null,null,null,null,null,null,null,null,null,null,null,null,null,null,null,null,null,null,null,null,null,null,"Jump!, Inc."]
[null,null,null,null,null,"Complete Series of 7",null,null,null,"Vida sana (Healthy Living)",null,null,null,{"$f":"SUM(N7193:N7199)","v":179.55},{"$f":"SUM(O7193:O7199)","v":125.65},{"$f":"SUM(P7193:P7199)","v":183.75},{"$f":"SUM(Q7193:Q7199)","v":160.64999999999998},null,null,null,null,null,null,null,null,null,null,null,null,null,null,null,null,null,null,null,null,null,null,null,"Jump!, Inc."]
[null,9781624963551,null,9781620313039,null,"Prairie Food Chains",null,null,null,"Who Eats What?",null,null,null,26.99,18.95,26.25,23.95,null,{"$f":"S7201","v":0},null,{"$f":"U7201","v":0},null,{"$f":"W7201","v":0},null,0,0,0,0,0,0,0,0,null,null,null,null,null,"Spring 2016","Website",2016,"Jump!, Inc.","Pogo Books",2.9,"Animals & Nature","English","Reinforced Library",24,"J","530L","2 - 4","577.4/4","Rebecca Pettiford"]
[]
[null,9781624961724,null,9781620311042,null,"Police Cars",null,null,null,"Machines at Work",null,null,null,25.65,17.95,26.25,22.95,null,{"$f":"S7230","v":0},null,{"$f":"U7230","v":0},null,{"$f":"W7230","v":0},null,0,0,0,0,0,0,0,0,null,null,null,null,null,"Fall 2014","Website",2015,"Jump!, Inc.","Bullfrog Books",0.9,"Science & Technology","English","Reinforced Library",24,"F","300L","K - 2","363.2/32","Allan Morey"]
[]
[null,9781624964428,null,9781620313954,null,"Plants in Winter",null,null,null,"What Happens in Winter?",null,null,null,25.65,17.95,26.25,22.95,null,{"$f":"S7294","v":0},null,{"$f":"U7294","v":0},null,{"$f":"W7294","v":0},null,{"$f":"S7297","v":0},{"$f":"U7297","v":0},{"$f":"W7297*2","v":0},{"$f":"Y7297+Z7297+AA7297","v":0},{"$f":"S7297*O7297","v":0},{"$f":"U7297*P7297","v":0},{"$f":"W7297*Q7297","v":0},{"$f":"IF(AH7297=FALSE,AC7297+AD7297+AE7297,0)","v":0},null,null,null,null,null,"Fall 2016","Website",2017,"Jump!, Inc.","Bullfrog Books",0.9,"Animals & Nature","English","Reinforced Library",24,"D",null,"K - 2","581.4/3","Jenny Fretland VanVoorst"]
[null,9781624963773,null,9781620313114,null,"Prickly Animals",null,null,null,"Back Off! Animal Defenses",null,null,null,26.99,18.95,26.25,23.95,null,{"$f":"S7308","v":0},null,{"$f":"U7308","v":0},null,{"$f":"W7308","v":0},null,0,0,0,0,0,0,0,0,null,null,null,null,null,"Spring 2016","Website",2016,"Jump!, Inc.","Pogo Books",2.7,"Animals & Nature","English","Reinforced Library",24,"J","510L","2 - 4",591.47,"Nadia Higgins"]
[null,null,null,null,null,"Complete Series of 8",null,null,null,"First Field Trips",null,null,null,{"$f":"SUM(N7335:N7342)","v":205.20000000000002},{"$f":"SUM(O7335:O7342)","v":143.6},{"$f":"SUM(P7335:P7342)","v":210},{"$f":"SUM(Q7335:Q7342)","v":183.59999999999997},null,null,null,null,null,null,null,null,null,null,null,null,null,null,null,null,null,null,null,null,null,null,null,"Jump!, Inc."]
[null,9781624963643,null,9781620312988,null,"Theater",null,null,null,"First Field Trips",null,null,null,25.65,17.95,26.25,22.95,null,{"$f":"S7334","v":0},null,{"$f":"U7334","v":0},null,{"$f":"W7334","v":0},null,0,0,0,0,0,0,0,0,null,null,null,null,null,"Spring 2016","Website",2016,"Jump!, Inc.","Bullfrog Books",1,"Social Studies","English","Reinforced Library",24,"F",null,"K - 2",792,"Cari Meister"]
[null,9781624962974,null,9781620312100,null,"Skyscrapers",null,null,null,"Amazing Structures",null,null,null,26.99,18.95,26.25,23.95,null,{"$f":"S7354","v":0},null,{"$f":"U7354","v":0},null,{"$f":"W7354","v":0},null,0,0,0,0,0,0,0,0,null,null,null,null,null,"Fall 2015","Website",2016,"Jump!, Inc.","Pogo Books",2.9,"Science & Technology","English","Reinforced Library",24,"K","490L","2 - 4","720/.483","Rebecca Pettiford"]
[null,9781624960093,null,9781620310106,null,"Octopuses",null,null,null,"Life Under the Sea",null,null,null,25.65,17.95,26.25,22.95,null,{"$f":"S7368","v":0},null,{"$f":"U7368","v":0},null,{"$f":"W7368","v":0},null,0,0,0,0,0,0,0,0,null,null,null,null,null,"Fall 2012","Website",2013,"Jump!, Inc.","Bullfrog Books",0.9,"Animals & Nature","English","Reinforced Library",24,"E","320L","K - 2","594/.56","Cari Meister"]
[]
[null,null,null,null,null,"Complete Series of 5",null,null,null,"What Happens in Spring?",null,null,null,{"$f":"SUM(N7421:N7425)","v":128.25},{"$f":"SUM(O7421:O7425)","v":89.75},{"$f":"SUM(P7421:P7425)","v":131.25},{"$f":"SUM(Q7421:Q7425)","v":114.75},null,null,null,null,null,null,null,null,null,null,null,null,null,null,null,null,null,null,null,null,null,null,null,"Jump!, Inc."]
[null,9781624961533,null,9781620310854,null,"Mosquitoes",null,null,null,"Insect World",null,null,null,25.65,17.95,26.25,22.95,null,{"$f":"S7434","v":0},null,{"$f":"U7434","v":0},null,{"$f":"W7434","v":0},null,0,0,0,0,0,0,0,0,null,null,null,null,null,"Fall 2014","Website",2015,"Jump!, Inc.","Bullfrog Books",0.9,"Animals & Nature","English","Reinforced Library",24,"E","260L","K - 2","595.77/2","Mari Schuh"]
[null,9781624960000,null,9781620310007,null,"Chickens",null,null,null,"Animals on the Farm",null,null,null,25.65,17.95,26.25,{"$f":"O7461+5","v":22.95},null,{"$f":"S7460","v":0},null,{"$f":"U7460","v":0},null,{"$f":"W7460","v":0},null,{"$f":"S7461","v":0},{"$f":"U7461","v":0},{"$f":"W7461*2","v":0},{"$f":"Y7461+Z7461+AA7461","v":0},{"$f":"S7461*O7461","v":0},{"$f":"U7461*P7461","v":0},{"$f":"W7461*Q7461","v":0},{"$f":"IF(AH7461=FALSE,AC7461+AD7461+AE7461,0)","v":0},null,null,null,null,null,"Spring 2013","Website",2013,"Jump!, Inc.","Bullfrog Books",1,"Animals & Nature","English","Reinforced Library",24,"D","400L","PreK – 2",636.5,"Cari Meister"]
[null,9781624960369,null,9781620310403,null,"Blue in Nature",null,null,null,"Colors in Nature",null,null,null,25.65,17.95,26.25,{"$f":"O7482+5","v":22.95},null,{"$f":"S7481","v":0},null,{"$f":"U7481","v":0},null,{"$f":"W7481","v":0},null,{"$f":"S7482","v":0},{"$f":"U7482","v":0},{"$f":"W7482*2","v":0},{"$f":"Y7482+Z7482+AA7482","v":0},{"$f":"S7482*O7482","v":0},{"$f":"U7482*P7482","v":0},{"$f":"W7482*Q7482","v":0},{"$f":"IF(AH7482=FALSE,AC7482+AD7482+AE7482,0)","v":0},null,null,null,null,null,"Fall 2012","Website",2013,"Jump!, Inc.","Bullfrog Books",0.8,"Animals & Nature","English","Reinforced Library",24,"F","340L","K - 2",535.6,"Heather Adamson"]
[null,9781624960741,null,9781620310564,null,"Animals in Fall",null,null,null,"What Happens in Fall?",null,null,null,25.65,17.95,26.25,{"$f":"O7490+5","v":22.95},null,{"$f":"S7489","v":0},null,{"$f":"U7489","v":0},null,{"$f":"W7489","v":0},null,{"$f":"S7490","v":0},{"$f":"U7490","v":0},{"$f":"W7490*2","v":0},{"$f":"Y7490+Z7490+AA7490","v":0},{"$f":"S7490*O7490","v":0},{"$f":"U7490*P7490","v":0},{"$f":"W7490*Q7490","v":0},{"$f":"IF(AH7490=FALSE,AC7490+AD7490+AE7490,0)","v":0},null,null,null,null,null,"Fall 2012","Website",2013,"Jump!, Inc.","Bullfrog Books",0.9,"Animals & Nature","English","Reinforced Library",24,"D","340L","K - 2",591.5,"Mari Schuh"]
[]
["NEW",9781645192978,null,9781645192299,null,"The Story of the Green Bay Packers",null,null,null,"NFL Team Stories",null,null,null,26.95,19.95,37.950000000000003,24.95,null,{"$f":"S7519","v":0},null,{"$f":"U7519","v":0},null,{"$f":"W7519","v":0},null,0,0,0,0,0,0,0,0,null,null,null,null,null,"Fall 2020","8",2021,"Kaleidoscope","Bigfoot Books",null,"Sports & Recreation","English","Reinforced Library",32,null,null,"Grade 3",796.33199999999999,"Craig Ellenport"]
["NEW",9781645193074,null,9781645192398,null,"The Story of the New Orleans Saints",null,null,null,"NFL Team Stories",null,null,null,26.95,19.95,37.950000000000003,24.95,null,{"$f":"S7519","v":0},null,{"$f":"U7519","v":0},null,{"$f":"W7519","v":0},null,0,0,0,0,0,0,0,0,null,null,null,null,null,"Fall 2020","8",2021,"Kaleidoscope","Bigfoot Books",null,"Sports & Recreation","English","Reinforced Library",32,null,null,"Grade 3",796.33199999999999,"Jim Whiting"]
["NEW",9781645193289,null,9781645192602,null,"Chevrolet Corvette C8",null,null,null,"Ultimate Supercars",null,null,null,26.95,19.95,37.950000000000003,24.95,null,{"$f":"S7563","v":0},null,{"$f":"U7563","v":0},null,{"$f":"W7563","v":0},null,0,0,0,0,0,0,0,0,null,null,null,null,null,"Fall 2020","10 - 11",2021,"Kaleidoscope","Bigfoot Books",null,"Science & Technology","English","Reinforced Library",32,null,null,"Grade 3",629.22799999999995,"John Perritano"]
["NEW",9781645194491,null,9781645194378,null,"Bulldogs",null,null,null,"My Favorite Dog",null,null,null,26.95,19.95,37.950000000000003,24.95,null,{"$f":"S7585","v":0},null,{"$f":"U7585","v":0},null,{"$f":"W7585","v":0},null,0,0,0,0,0,0,0,0,null,null,null,null,null,"Fall 2020","4",2021,"Kaleidoscope","Bigfoot Books",null,"Animals & Nature","English","Reinforced Library",32,null,null,"Grade 3",636.71,"K.C. Kelley"]
[null,9781645191957,null,9781645190967,null,"Husqvarna Dirt Bikes",null,null,null,"Dirt Bike Crazy",null,null,null,26.95,19.95,37.950000000000003,24.95,null,{"$f":"S7609","v":0},null,{"$f":"U7609","v":0},null,{"$f":"W7609","v":0},null,0,0,0,0,0,0,0,0,null,null,null,null,null,"Fall 2019","14",2020,"Kaleidoscope","Bigfoot Books",null,"Science & Technology","English","Reinforced Library",32,null,null,"3 - 6",null,"R. L. Van"]
[null,9781645191858,null,9781645190844,null,"Steelers vs. Ravens",null,null,null,"NFL Rivalries",null,null,null,26.95,19.95,37.950000000000003,24.95,null,{"$f":"S7624","v":0},null,{"$f":"U7624","v":0},null,{"$f":"W7624","v":0},null,0,0,0,0,0,0,0,0,null,null,null,null,null,"Fall 2019","21",2020,"Kaleidoscope","All-Star Sports",null,"Sports & Recreation","English","Reinforced Library",32,null,null,"3 - 6",null,"Karen Price"]
[null,null,null,null,null,"Complete Series of 12",null,null,null,"Our Favorite Brands",null,null,null,{"$f":"SUM(N7640:N7651)","v":323.39999999999992},{"$f":"SUM(O7640:O7651)","v":239.39999999999995},{"$f":"SUM(P7640:P7651)","v":455.39999999999992},{"$f":"SUM(Q7640:Q7651)","v":299.39999999999992},null,null,null,null,null,null,null,null,null,null,null,null,null,null,null,null,null,null,null,null,null,null,null,"Kaleidoscope"]
[null,9781645191346,null,9781645190349,null,"Aaron Judge",null,null,null,"Sports Superstars",null,null,null,26.95,19.95,37.950000000000003,{"$f":"O7654+5","v":24.95},null,{"$f":"S7653","v":0},null,{"$f":"U7653","v":0},null,{"$f":"W7653","v":0},null,{"$f":"S7654","v":0},{"$f":"U7654","v":0},{"$f":"W7654*2","v":0},{"$f":"Y7654+Z7654+AA7654","v":0},{"$f":"S7654*O7654","v":0},{"$f":"U7654*P7654","v":0},{"$f":"W7654*Q7654","v":0},{"$f":"IF(AH7654=FALSE,AC7654+AD7654+AE7654,0)","v":0},null,null,null,null,null,"Fall 2019","20",2020,"Kaleidoscope","All-Star Sports",3.6,"Sports & Recreation","English","Reinforced Library",32,null,null,"3 - 6",null,"Anthony K. Hewson"]
[null,9781645191575,null,9781645190561,null,"Indy Cars",null,null,null,"Start Your Engines!",null,null,null,26.95,19.95,37.950000000000003,24.95,null,{"$f":"S7673","v":0},null,{"$f":"U7673","v":0},null,{"$f":"W7673","v":0},null,0,0,0,0,0,0,0,0,null,null,null,null,null,"Fall 2019","15",2020,"Kaleidoscope","Bigfoot Books",3.4,"Science & Technology","English","Reinforced Library",32,null,null,"3 - 6",null,"Alyssa Krekelberg"]
[null,9781645191025,null,9781645190028,null,"Elephants",null,null,null,"Wild About Animals",null,null,null,26.95,19.95,37.950000000000003,24.95,null,{"$f":"S7687","v":0},null,{"$f":"U7687","v":0},null,{"$f":"W7687","v":0},null,0,0,0,0,0,0,0,0,null,null,null,null,null,"Fall 2019","13",2020,"Kaleidoscope","Bigfoot Books",3.3,"Animals & Nature","English","Reinforced Library",32,null,null,"3 - 6",null,"Emma Huddleston"]
[]
["NEW",9781678200435,null,9781678200428,null,"COVID-19 and Other Pandemics: A Comparison ",null,null,null,"Single Titles",null,null,null,41.27,30.95,41.95,35.950000000000003,null,{"$f":"S7731","v":0},null,{"$f":"U7731","v":0},null,{"$f":"W7731","v":0},null,0,0,0,0,0,0,0,0,null,null,null,null,null,"Spring 2021",null,2021,"Reference Point Press","Reference Point Press",null,"Current Issues","English","Reinforced Library",80,null,"1000-1400","6-12","614.5/92414","Don Nardo"]
[null,9781682825426,null,9781682825419,null,"Teen Guide to Student Activism",null,null,null,"Single Titles",null,null,null,41.27,30.95,41.95,35.950000000000003,null,{"$f":"S7731","v":0},null,{"$f":"U7731","v":0},null,{"$f":"W7731","v":0},null,0,0,0,0,0,0,0,0,null,null,null,null,null,"Spring 2019",null,2019,"Reference Point Press","Reference Point Press",null,"Social Studies","English","Reinforced Library",80,null,null,"6 - 12",null,"Stuart A. Kallen"]
["NEW",9781678200671,null,9781678200664,null,"The Rise of the Black Lives Matter Movement",null,null,null,"Understanding the Black Lives Matter Movement",null,null,null,41.27,30.95,41.95,35.950000000000003,null,{"$f":"S7773","v":0},null,{"$f":"U7773","v":0},null,{"$f":"W7773","v":0},null,0,0,0,0,0,0,0,0,null,null,null,null,null,"Spring 2021",null,2021,"Reference Point Press","BrightPoint Press",null,"Current Issues","English","Reinforced Library",80,null,"415-800","3-4","323.1196/073","Samantha S. Bell"]
["NEW",9781682828687,null,9781682828670,null,"Cutting Edge Careers in Engineering",null,null,null,"Cutting Edge STEM Careers",null,null,null,41.27,30.95,41.95,{"$f":"O7788+5","v":35.950000000000003},null,{"$f":"S7787","v":0},null,{"$f":"U7787","v":0},null,{"$f":"W7787","v":0},null,{"$f":"S7788","v":0},{"$f":"U7788","v":0},{"$f":"W7788*2","v":0},{"$f":"Y7788+Z7788+AA7788","v":0},{"$f":"S7788*O7788","v":0},{"$f":"U7788*P7788","v":0},{"$f":"W7788*Q7788","v":0},{"$f":"IF(AH7788=FALSE,AC7788+AD7788+AE7788,0)","v":0},null,null,null,null,null,"Fall 2020",null,2020,"Reference Point Press","Reference Point Press",null,"Careers","English","Reinforced Library",80,null,"1000-1400","6 - 12"," 620.0023","Carla Mooney"]
["NEW",9781682828601,null,9781682828595,null,"What Is the Impact of Climate Change?",null,null,null,"Environmental Impact",null,null,null,41.27,30.95,41.95,{"$f":"O7802+5","v":35.950000000000003},null,{"$f":"S7801","v":0},null,{"$f":"U7801","v":0},null,{"$f":"W7801","v":0},null,{"$f":"S7802","v":0},{"$f":"U7802","v":0},{"$f":"W7802*2","v":0},{"$f":"Y7802+Z7802+AA7802","v":0},{"$f":"S7802*O7802","v":0},{"$f":"U7802*P7802","v":0},{"$f":"W7802*Q7802","v":0},{"$f":"IF(AH7802=FALSE,AC7802+AD7802+AE7802,0)","v":0},null,null,null,null,null,"Fall 2020",null,2020,"Reference Point Press","Reference Point Press",null,"Social Studies","English","Reinforced Library",80,null,"1000-1400","6 - 12","363.738/74","Craig E. Blohm"]
["NEW",9781682829202,null,9781682829196,null,"Violence Against the LGBTQ Community",null,null,null,"LGBTQ Issues ",null,null,null,41.27,30.95,41.95,35.950000000000003,null,{"$f":"S7823","v":0},null,{"$f":"U7823","v":0},null,{"$f":"W7823","v":0},null,{"$f":"S7827","v":0},{"$f":"U7827","v":0},{"$f":"W7827*2","v":0},{"$f":"Y7827+Z7827+AA7827","v":0},{"$f":"S7827*O7827","v":0},{"$f":"U7827*P7827","v":0},{"$f":"W7827*Q7827","v":0},{"$f":"IF(AH7827=FALSE,AC7827+AD7827+AE7827,0)","v":0},null,null,null,null,null,"Fall 2020",null,2020,"Reference Point Press","Reference Point Press",null,"Social Studies","English","Reinforced Library",80,null,"1000-1400","6 - 12",null,"Hal Marcovitz"]
["NEW",9781682829844,null,9781682829837,null,"Understanding Anxiety",null,null,null,"Mental Health Guides",null,null,null,41.27,30.95,41.95,35.950000000000003,null,{"$f":"S7837","v":0},null,{"$f":"U7837","v":0},null,{"$f":"W7837","v":0},null,{"$f":"S7839","v":0},{"$f":"U7839","v":0},{"$f":"W7839*2","v":0},{"$f":"Y7839+Z7839+AA7839","v":0},{"$f":"S7839*O7839","v":0},{"$f":"U7839*P7839","v":0},{"$f":"W7839*Q7839","v":0},{"$f":"IF(AH7839=FALSE,AC7839+AD7839+AE7839,0)","v":0},null,null,null,null,null,"Fall 2020",null,2020,"Reference Point Press","BrightPoint Press",null,"Health","English","Reinforced Library",80,null,"415-760","6 - 12","152.4/6","Celina McManus"]
[null,null,null,null,null,"Complete Series of 4",null,null,null,"Smartphones and Society",null,null,null,{"$f":"SUM(N7865:N7868)","v":165.08},{"$f":"SUM(O7865:O7868)","v":123.8},{"$f":"SUM(P7865:P7868)","v":167.8},{"$f":"SUM(Q7865:Q7868)","v":143.80000000000001},null,null,null,null,null,null,null,null,null,null,null,null,null,null,null,null,null,null,null,null,null,null,null,"Reference Point Press"]
["NEW",9781682828526,null,9781682828519,null,"Social Media Addiction",null,null,null,"The Risks of Social Media",null,null,null,41.27,30.95,41.95,{"$f":"O7886+5","v":35.950000000000003},null,{"$f":"S7885","v":0},null,{"$f":"U7885","v":0},null,{"$f":"W7885","v":0},null,{"$f":"S7886","v":0},{"$f":"U7886","v":0},{"$f":"W7886*2","v":0},{"$f":"Y7886+Z7886+AA7886","v":0},{"$f":"S7886*O7886","v":0},{"$f":"U7886*P7886","v":0},{"$f":"W7886*Q7886","v":0},{"$f":"IF(AH7886=FALSE,AC7886+AD7886+AE7886,0)","v":0},null,null,null,null,null,"Fall 2020",null,2020,"Reference Point Press","Reference Point Press",null,"Social Studies","English","Reinforced Library",64,null,"1000-1400","6 - 12","616.85/84","Bradley Steffens"]
["NEW",9781682828304,null,9781682828298,null,"Delivery Drones",null,null,null,"World of Drones",null,null,null,41.27,30.95,41.95,{"$f":"O7907+5","v":35.950000000000003},null,{"$f":"S7906","v":0},null,{"$f":"U7906","v":0},null,{"$f":"W7906","v":0},null,{"$f":"S7907","v":0},{"$f":"U7907","v":0},{"$f":"W7907*2","v":0},{"$f":"Y7907+Z7907+AA7907","v":0},{"$f":"S7907*O7907","v":0},{"$f":"U7907*P7907","v":0},{"$f":"W7907*Q7907","v":0},{"$f":"IF(AH7907=FALSE,AC7907+AD7907+AE7907,0)","v":0},null,null,null,null,null,"Fall 2020",null,2020,"Reference Point Press","Reference Point Press",null,"Science & Technology","English","Reinforced Library",64,null,"1000-1400","6 - 12","387.7/44","Joe Ferry"]
[null,null,null,null,null,"Complete Series of 6",null,null,null,"Dealing with Mental Disorders",null,null,null,{"$f":"SUM(N7914:N7919)","v":247.62000000000003},{"$f":"SUM(O7914:O7919)","v":185.7},{"$f":"SUM(P7914:P7919)","v":251.7},{"$f":"SUM(Q7914:Q7919)","v":215.7},null,null,null,null,null,null,null,null,null,null,null,null,null,null,null,null,null,null,null,null,null,null,null,"Reference Point Press"]
["NEW",9781682828045,null,9781682828038,null,"Credit Cards and Loans",null,null,null,"Money Basics",null,null,null,41.27,30.95,41.95,{"$f":"O7937+5","v":35.950000000000003},null,{"$f":"S7936","v":0},null,{"$f":"U7936","v":0},null,{"$f":"W7936","v":0},null,{"$f":"S7937","v":0},{"$f":"U7937","v":0},{"$f":"W7937*2","v":0},{"$f":"Y7937+Z7937+AA7937","v":0},{"$f":"S7937*O7937","v":0},{"$f":"U7937*P7937","v":0},{"$f":"W7937*Q7937","v":0},{"$f":"IF(AH7937=FALSE,AC7937+AD7937+AE7937,0)","v":0},null,null,null,null,null,"Spring 2020",null,2020,"Reference Point Press","BrightPoint Press",null,"Finance","English","Reinforced Library",80,"3-4",null,"6 - 12",null,"Tammy Gagne"]
[null,null,null,null,null,"Complete Series of 6",null,null,null,"Art Scene",null,null,null,{"$f":"SUM(N7951:N7956)","v":247.62000000000003},{"$f":"SUM(O7951:O7956)","v":185.7},{"$f":"SUM(P7951:P7956)","v":251.7},{"$f":"SUM(Q7951:Q7956)","v":215.7},null,null,null,null,null,null,null,null,null,null,null,null,null,null,null,null,null,null,null,null,null,null,null,"Reference Point Press"]
[null,9781682826782,null,9781682826775,null,"Careers in the Culinary Arts",null,null,null,"Careers for Creative People",null,null,null,41.27,30.95,41.95,35.950000000000003,null,{"$f":"S7973","v":0},null,{"$f":"U7973","v":0},null,{"$f":"W7973","v":0},null,{"$f":"S7975","v":0},{"$f":"U7975","v":0},{"$f":"W7975*2","v":0},{"$f":"Y7975+Z7975+AA7975","v":0},{"$f":"S7975*O7975","v":0},{"$f":"U7975*P7975","v":0},{"$f":"W7975*Q7975","v":0},{"$f":"IF(AH7975=FALSE,AC7975+AD7975+AE7975,0)","v":0},null,null,null,null,null,"Fall 2019",null,2020,"Reference Point Press","Reference Point Press",null,"Careers","English","Reinforced Library",80,null,"1000-1400","6 - 12","642/.4023","Peggy J. Parks"]
[null,9781682827062,null,9781682827055,null,"E-Cigarettes and Their Dangers",null,null,null,"Drugs and Their Dangers",null,null,null,41.27,30.95,41.95,{"$f":"O7988+5","v":35.950000000000003},null,{"$f":"S7987","v":0},null,{"$f":"U7987","v":0},null,{"$f":"W7987","v":0},null,{"$f":"S7988","v":0},{"$f":"U7988","v":0},{"$f":"W7988*2","v":0},{"$f":"Y7988+Z7988+AA7988","v":0},{"$f":"S7988*O7988","v":0},{"$f":"U7988*P7988","v":0},{"$f":"W7988*Q7988","v":0},{"$f":"IF(AH7988=FALSE,AC7988+AD7988+AE7988,0)","v":0},null,null,null,null,null,"Fall 2019",null,2020,"Reference Point Press","Reference Point Press",null,"Health","English","Reinforced Library",80,null,null,"6 - 12"]
[null,9781682826287,null,9781682826270,null,"Villains of Greek Mythology",null,null,null,"Exploring Greek Mythology",null,null,null,41.27,30.95,41.95,35.950000000000003,null,{"$f":"S8007","v":0},null,{"$f":"U8007","v":0},null,{"$f":"W8007","v":0},null,{"$f":"S8012","v":0},{"$f":"U8012","v":0},{"$f":"W8012*2","v":0},{"$f":"Y8012+Z8012+AA8012","v":0},{"$f":"S8012*O8012","v":0},{"$f":"U8012*P8012","v":0},{"$f":"W8012*Q8012","v":0},{"$f":"IF(AH8012=FALSE,AC8012+AD8012+AE8012,0)","v":0},null,null,null,null,null,"Fall 2019",null,2020,"Reference Point Press","Reference Point Press",null,"Legends, Myths, & Paranormal","English","Reinforced Library",80,null,"1000-1400","6 - 12",398.20938000000001,"Don Nardo"]
[null,9781682826386,null,9781682826379,null,"Country Music",null,null,null,"Music Scene",null,null,null,41.27,30.95,41.95,{"$f":"O8035+5","v":35.950000000000003},null,{"$f":"S8034","v":0},null,{"$f":"U8034","v":0},null,{"$f":"W8034","v":0},null,{"$f":"S8035","v":0},{"$f":"U8035","v":0},{"$f":"W8035*2","v":0},{"$f":"Y8035+Z8035+AA8035","v":0},{"$f":"S8035*O8035","v":0},{"$f":"U8035*P8035","v":0},{"$f":"W8035*Q8035","v":0},{"$f":"IF(AH8035=FALSE,AC8035+AD8035+AE8035,0)","v":0},null,null,null,null,null,"Fall 2019",null,2020,"Reference Point Press","Reference Point Press",null,"High Interest","English","Reinforced Library",80,null,"1000-1400","6 - 12",781.64200000000005,"Stuart A. Kallen"]
[null,null,null,null,null,"Complete Series of 6",null,null,null,"The Science and Technology of Sports",null,null,null,{"$f":"SUM(N8056:N8061)","v":247.62000000000003},{"$f":"SUM(O8056:O8061)","v":185.7},{"$f":"SUM(P8056:P8061)","v":251.7},{"$f":"SUM(Q8056:Q8061)","v":215.7},null,null,null,null,null,null,null,null,null,null,null,null,null,null,null,null,null,null,null,null,null,null,null,"Reference Point Press"]
[null,9781682826584,null,9781682826577,null,"The Science and Technology of Track & Field",null,null,null,"The Science and Technology of Sports",null,null,null,41.27,30.95,41.95,35.950000000000003,null,{"$f":"S8055","v":0},null,{"$f":"U8055","v":0},null,{"$f":"W8055","v":0},null,0,0,0,0,0,0,0,0,null,null,null,null,null,"Fall 2019",null,2020,"Reference Point Press","Reference Point Press",null,"Science & Technology","English","Reinforced Library",80,null,"1000-1400","6 - 12","612/.044","Don Nardo"]
[null,9781682822685,null,9781682822678,null,"Obesity",null,null,null,"Thinking Critically",null,null,null,41.27,30.95,41.95,35.950000000000003,null,{"$f":"S8063","v":0},null,{"$f":"U8063","v":0},null,{"$f":"W8063","v":0},null,0,0,0,0,0,0,0,0,null,null,null,null,null,"Fall 2017",null,2018,"Reference Point Press","Reference Point Press",null,"Social Studies","English","Reinforced Library",80,null,null,"5 - 12","362.1963/98","Andrea Nakaya"]
[]
[]
[null,9781682823644,null,9781682823637,null,"Single-Parent Families",null,null,null,"Changing Families ",null,null,null,41.27,30.95,41.95,35.950000000000003,null,{"$f":"S8132","v":0},null,{"$f":"U8132","v":0},null,{"$f":"W8132","v":0},null,{"$f":"S8137","v":0},{"$f":"U8137","v":0},{"$f":"W8137*2","v":0},{"$f":"Y8137+Z8137+AA8137","v":0},{"$f":"S8137*O8137","v":0},{"$f":"U8137*P8137","v":0},{"$f":"W8137*Q8137","v":0},{"$f":"IF(AH8137=FALSE,AC8137+AD8137+AE8137,0)","v":0},null,null,null,null,null,"Fall 2018",null,2019,"Reference Point Press","Reference Point Press",null,"Culture & Religion","English","Reinforced Library",64,null,null,"5 - 12","306.85/6","Barbara Sheen"]
[null,9781682823989,null,9781682823972,null,"Kids and Cancer",null,null,null,"Diseases and Disorders of Youth ",null,null,null,41.27,30.95,41.95,35.950000000000003,null,{"$f":"S8156","v":0},null,{"$f":"U8156","v":0},null,{"$f":"W8156","v":0},null,0,0,0,0,0,0,0,0,null,null,null,null,null,"Fall 2018",null,2019,"Reference Point Press","Reference Point Press",null,"Health","English","Reinforced Library",80,null,null,"5 - 12","616.99/400835","Toney Allman"]
[null,9781682824306,null,9781682824290,null,"Cybersecurity Careers",null,null,null,"STEM Careers ",null,null,null,41.27,30.95,41.95,35.950000000000003,null,{"$f":"S8182","v":0},null,{"$f":"U8182","v":0},null,{"$f":"W8182","v":0},null,{"$f":"S8184","v":0},{"$f":"U8184","v":0},{"$f":"W8184*2","v":0},{"$f":"Y8184+Z8184+AA8184","v":0},{"$f":"S8184*O8184","v":0},{"$f":"U8184*P8184","v":0},{"$f":"W8184*Q8184","v":0},{"$f":"IF(AH8184=FALSE,AC8184+AD8184+AE8184,0)","v":0},null,null,null,null,null,"Fall 2018",null,2019,"Reference Point Press","Reference Point Press",null,"Careers","English","Reinforced Library",80,null,null,"5 - 12",5.8022999999999998,"Kathryn Hulick"]
[null,9781682825143,null,9781682825136,null,"Teens and STDs",null,null,null,"Teen Health and Safety",null,null,null,41.27,30.95,41.95,35.950000000000003,null,{"$f":"S8197","v":0},null,{"$f":"U8197","v":0},null,{"$f":"W8197","v":0},null,0,0,0,0,0,0,0,0,null,null,null,null,null,"Fall 2018",null,2019,"Reference Point Press","Reference Point Press",null,"Health","English","Reinforced Library",80,null,null,"5 - 12","614.5/470835","Ashley Strehle Hartman"]
[null,9781682821930,null,9781682821923,null,"Careers in Business Administration",null,null,null,"Exploring Careers",null,null,null,41.27,30.95,41.95,35.950000000000003,null,{"$f":"S8225","v":0},null,{"$f":"U8225","v":0},null,{"$f":"W8225","v":0},null,0,0,0,0,0,0,0,0,null,null,null,null,null,"Fall 2017",null,2018,"Reference Point Press","Reference Point Press",null,"Careers","English","Reinforced Library",80,null,null,"5 - 12",658.00229999999999,"Carla Mooney"]
[null,9781601528117,null,9781601528100,null,"Careers in Finance",null,null,null,"Exploring Careers",null,null,null,41.27,30.95,41.95,35.950000000000003,null,{"$f":"S8225","v":0},null,{"$f":"U8225","v":0},null,{"$f":"W8225","v":0},null,0,0,0,0,0,0,0,0,null,null,null,null,null,"Fall 2015",null,2016,"Reference Point Press","Reference Point Press",null,"Careers","English","Reinforced Library",80,null,null,"5 - 12",332.02300000000002,"Joanne Mattern"]
[null,9781682823309,null,9781682823293,null,"Robotics and Medicine",null,null,null,"Next-Generation Medical Technology",null,null,null,41.27,30.95,41.95,35.950000000000003,null,{"$f":"S8261","v":0},null,{"$f":"U8261","v":0},null,{"$f":"W8261","v":0},null,{"$f":"S8265","v":0},{"$f":"U8265","v":0},{"$f":"W8265*2","v":0},{"$f":"Y8265+Z8265+AA8265","v":0},{"$f":"S8265*O8265","v":0},{"$f":"U8265*P8265","v":0},{"$f":"W8265*Q8265","v":0},{"$f":"IF(AH8265=FALSE,AC8265+AD8265+AE8265,0)","v":0},null,null,null,null,null,"Spring 2018",null,2018,"Reference Point Press","Reference Point Press",null,"Science & Technology","English","Reinforced Library",80,null,null,"5 - 12",610.28499999999997,"Kathryn Hulick"]
[null,null,null,null,null,"Complete Series of 7",null,null,null,"Understanding Psychology ",null,null,null,{"$f":"SUM(N8283:N8289)","v":288.89000000000004},{"$f":"SUM(O8283:O8289)","v":216.64999999999998},{"$f":"SUM(P8283:P8289)","v":293.64999999999998},{"$f":"SUM(Q8283:Q8289)","v":251.64999999999998},null,null,null,null,null,null,null,null,null,null,null,null,null,null,null,null,null,null,null,null,null,null,null,"Reference Point Press"]
[null,9781682822845,null,9781682822838,null,"Understanding Violent Behavior",null,null,null,"Understanding Psychology ",null,null,null,41.27,30.95,41.95,35.950000000000003,null,{"$f":"S8282","v":0},null,{"$f":"U8282","v":0},null,{"$f":"W8282","v":0},null,0,0,0,0,0,0,0,0,null,null,null,null,null,"Fall 2017",null,2018,"Reference Point Press","Reference Point Press",null,"Social Studies","English","Reinforced Library",80,null,null,"5 - 12","155.2/32","Christine Wilcox"]
[null,9781682821473,null,9781682821466,null,"Cause & Effect: The Ancient Aztecs",null,null,null,"Cause & Effect: Ancient Civilizations",null,null,null,41.27,30.95,41.95,35.950000000000003,null,{"$f":"S8307","v":0},null,{"$f":"U8307","v":0},null,{"$f":"W8307","v":0},null,0,0,0,0,0,0,0,0,null,null,null,null,null,"Fall 2017",null,2018,"Reference Point Press","Reference Point Press",null,"History","English","Reinforced Library",80,null,null,"5 - 12",972,"Don Nardo"]
[null,9781682821916,null,9781682821909,null,"Virtual Reality Developer",null,null,null,"Cutting Edge Careers ",null,null,null,41.27,30.95,41.95,35.950000000000003,null,{"$f":"S8326","v":0},null,{"$f":"U8326","v":0},null,{"$f":"W8326","v":0},null,0,0,0,0,0,0,0,0,null,null,null,null,null,"Fall 2017",null,2018,"Reference Point Press","Reference Point Press",null,"Careers","English","Reinforced Library",64,null,null,"5 - 12",6.8022999999999998,"Kathryn Hulick "]
[null,null,null,null,null,"Complete Series of 5",null,null,null,"High-Tech Careers ",null,null,null,{"$f":"SUM(N8352:N8356)","v":206.35000000000002},{"$f":"SUM(O8352:O8356)","v":154.75},{"$f":"SUM(P8352:P8356)","v":209.75},{"$f":"SUM(Q8352:Q8356)","v":179.75},null,null,null,null,null,null,null,null,null,null,null,null,null,null,null,null,null,null,null,null,null,null,null,"Reference Point Press"]
[]
[]
[null,9781601529794,null,9781601529787,null,"Homeless Youth",null,null,null,"Forgotten Youth",null,null,null,41.27,30.95,41.95,35.950000000000003,null,{"$f":"S8410","v":0},null,{"$f":"U8410","v":0},null,{"$f":"W8410","v":0},null,{"$f":"S8413","v":0},{"$f":"U8413","v":0},{"$f":"W8413*2","v":0},{"$f":"Y8413+Z8413+AA8413","v":0},{"$f":"S8413*O8413","v":0},{"$f":"U8413*P8413","v":0},{"$f":"W8413*Q8413","v":0},{"$f":"IF(AH8413=FALSE,AC8413+AD8413+AE8413,0)","v":0},null,null,null,null,null,"Fall 2016",null,2017,"Reference Point Press","Reference Point Press",null,"Social Studies","English","Reinforced Library",80,null,null,"5 - 12","362.7/756920973","Cherese Cartlidge"]
[null,9781601529718,null,9781601529701,null,"Monsters in Greek Mythology",null,null,null,"Library of Greek Mythology ",null,null,null,41.27,30.95,41.95,35.950000000000003,null,{"$f":"S8428","v":0},null,{"$f":"U8428","v":0},null,{"$f":"W8428","v":0},null,{"$f":"S8431","v":0},{"$f":"U8431","v":0},{"$f":"W8431*2","v":0},{"$f":"Y8431+Z8431+AA8431","v":0},{"$f":"S8431*O8431","v":0},{"$f":"U8431*P8431","v":0},{"$f":"W8431*Q8431","v":0},{"$f":"IF(AH8431=FALSE,AC8431+AD8431+AE8431,0)","v":0},null,null,null,null,null,"Fall 2016",null,2017,"Reference Point Press","Reference Point Press",null,"Legends, Myths, & Paranormal","English","Reinforced Library",80,null,null,"5 - 12","298.20938/01","Don Nardo"]
[null,9781682820858,null,9781682820841,null,"Teen Guide to Paying for College",null,null,null,"Teen Guide to Finances",null,null,null,41.27,30.95,41.95,35.950000000000003,null,{"$f":"S8434","v":0},null,{"$f":"U8434","v":0},null,{"$f":"W8434","v":0},null,{"$f":"S8437","v":0},{"$f":"U8437","v":0},{"$f":"W8437*2","v":0},{"$f":"Y8437+Z8437+AA8437","v":0},{"$f":"S8437*O8437","v":0},{"$f":"U8437*P8437","v":0},{"$f":"W8437*Q8437","v":0},{"$f":"IF(AH8437=FALSE,AC8437+AD8437+AE8437,0)","v":0},null,null,null,null,null,"Fall 2016",null,2017,"Reference Point Press","Reference Point Press",null,"High Interest","English","Reinforced Library",64,null,null,"5 - 12","378.3/8","Carla Mooney"]
[null,9781601529350,null,9781601529343,null,"Careers in the US Army",null,null,null,"Military Careers",null,null,null,41.27,30.95,41.95,35.950000000000003,null,{"$f":"S8460","v":0},null,{"$f":"U8460","v":0},null,{"$f":"W8460","v":0},null,0,0,0,0,0,0,0,0,null,null,null,null,null,"Spring 2016",null,2016,"Reference Point Press","Reference Point Press",null,"Careers","English","Reinforced Library",80,null,null,"5 - 12","355.0023/73","Michael Uschan"]
[null,null,null,null,null,"Complete Series of 4",null,null,null,"Contemporary Cartoon Creators",null,null,null,{"$f":"SUM(N8483:N8486)","v":165.08},{"$f":"SUM(O8483:O8486)","v":123.8},{"$f":"SUM(P8483:P8486)","v":167.8},{"$f":"SUM(Q8483:Q8486)","v":143.80000000000001},null,null,null,null,null,null,null,null,null,null,null,null,null,null,null,null,null,null,null,null,null,null,null,"Reference Point Press"]
[null,9781601521972,null,9781601521132,null,"Can Renewable Energy Replace Fossil Fuels?",null,null,null,"In Controversy",null,null,null,41.27,30.95,41.95,35.950000000000003,null,{"$f":"S8496","v":0},null,{"$f":"U8496","v":0},null,{"$f":"W8496","v":0},null,0,0,0,0,0,0,0,0,null,null,null,null,null,"Fall 2010",null,2011,"Reference Point Press","Reference Point Press",null,"Social Studies","English","Reinforced Library",96,null,null,"5 - 12","333.79/4","Hal Marcovitz"]
[null,9781601527554,null,9781601527547,null,"Is Enough Being Done to Protect Athletes from Concussions?",null,null,null,"In Controversy",null,null,null,41.27,30.95,41.95,35.950000000000003,null,{"$f":"S8496","v":0},null,{"$f":"U8496","v":0},null,{"$f":"W8496","v":0},null,0,0,0,0,0,0,0,0,null,null,null,null,null,"Spring 2015",null,2015,"Reference Point Press","Reference Point Press",null,"Social Studies","English","Reinforced Library",96,null,null,"5 - 12","617.1/027","Christine Wilcox"]
[null,9781601521996,null,9781601521279,null,"Is the World Prepared for a Deadly Influenza Pandemic?",null,null,null,"In Controversy",null,null,null,41.27,30.95,41.95,35.950000000000003,null,{"$f":"S8496","v":0},null,{"$f":"U8496","v":0},null,{"$f":"W8496","v":0},null,0,0,0,0,0,0,0,0,null,null,null,null,null,"Fall 2009",null,2010,"Reference Point Press","Reference Point Press",null,"Social Studies","English","Reinforced Library",96,null,null,"5 - 12","614.5/18","Scott Barbour"]
[null,9781601529015,null,9781601529008,null,"How the Internet Is Changing Society",null,null,null,"Science, Technology, and Society",null,null,null,41.27,30.95,41.95,35.950000000000003,null,{"$f":"S8543","v":0},null,{"$f":"U8543","v":0},null,{"$f":"W8543","v":0},null,{"$f":"S8548","v":0},{"$f":"U8548","v":0},{"$f":"W8548*2","v":0},{"$f":"Y8548+Z8548+AA8548","v":0},{"$f":"S8548*O8548","v":0},{"$f":"U8548*P8548","v":0},{"$f":"W8548*Q8548","v":0},{"$f":"IF(AH8548=FALSE,AC8548+AD8548+AE8548,0)","v":0},null,null,null,null,null,"Fall 2015",null,2016,"Reference Point Press","Reference Point Press",null,"Science & Technology","English","Reinforced Library",80,null,null,"5 - 12","302.23/1","Carla Mooney"]
[null,9781601529299,null,9781601529282,null,"What Is Self-Injury Disorder?",null,null,null,"Understanding Mental Disorders",null,null,null,41.27,30.95,41.95,35.950000000000003,null,{"$f":"S8574","v":0},null,{"$f":"U8574","v":0},null,{"$f":"W8574","v":0},null,0,0,0,0,0,0,0,0,null,null,null,null,null,"Fall 2015",null,2016,"Reference Point Press","Reference Point Press",null,"Health","English","Reinforced Library",80,null,null,"5 - 12","616.85/8200835","Janice Yuwiler"]
[null,9781601528452,null,9781601528445,null,"Holocaust Rescue and Liberation",null,null,null,"Understanding the Holocaust",null,null,null,41.27,30.95,41.95,35.950000000000003,null,{"$f":"S8582","v":0},null,{"$f":"U8582","v":0},null,{"$f":"W8582","v":0},null,0,0,0,0,0,0,0,0,null,null,null,null,null,"Fall 2015",null,2016,"Reference Point Press","Reference Point Press",null,"History","English","Reinforced Library",80,null,null,"5 - 12","940.53/1835","Craig E. Blohm"]
[null,9781601526410,null,9781601526403,null,"Bipolar Disorder",null,null,null,"Compact Research: Diseases and Disorders",null,null,null,41.27,30.95,41.95,35.950000000000003,null,{"$f":"S8602","v":0},null,{"$f":"U8602","v":0},null,{"$f":"W8602","v":0},null,0,0,0,0,0,0,0,0,null,null,null,null,null,"Spring 2015",null,2015,"Reference Point Press","Reference Point Press",null,"Health","English","Reinforced Library",96,null,null,"5 - 12","616.89/5","Peggy J. Parks"]
[null,9781601523143,null,9781601520432,null,"Meningitis",null,null,null,"Compact Research: Diseases and Disorders",null,null,null,41.27,30.95,41.95,35.950000000000003,null,{"$f":"S8602","v":0},null,{"$f":"U8602","v":0},null,{"$f":"W8602","v":0},null,0,0,0,0,0,0,0,0,null,null,null,null,null,"Spring 2009",null,2009,"Reference Point Press","Reference Point Press",null,"Health","English","Reinforced Library",112,null,null,"5 - 12","616.8/2","Hal Marcovitz"]
[null,9781601523761,null,9781601521651,null,"Teenage Drug Abuse",null,null,null,"Compact Research: Teenage Problems",null,null,null,41.27,30.95,41.95,35.950000000000003,null,{"$f":"S8643","v":0},null,{"$f":"U8643","v":0},null,{"$f":"W8643","v":0},null,0,0,0,0,0,0,0,0,null,null,null,null,null,"Fall 2011",null,2012,"Reference Point Press","Reference Point Press",null,"Health","English","Reinforced Library",96,null,null,"5 - 12","618.92/86","Leanne Currie-McGhee"]
[null,9781601528056,null,9781601528049,null,"Life in Ancient Greece",null,null,null,"Living History",null,null,null,41.27,30.95,41.95,35.950000000000003,null,{"$f":"S8665","v":0},null,{"$f":"U8665","v":0},null,{"$f":"W8665","v":0},null,0,0,0,0,0,0,0,0,null,null,null,null,null,"Spring 2015",null,2015,"Reference Point Press","Reference Point Press",null,"History","English","Reinforced Library",96,null,null,"5 - 12",938,"Hal Marcovitz"]
[null,9781601527295,null,9781601527288,null,"Online Privacy and Hacking",null,null,null,"Privacy in the Online World",null,null,null,41.27,30.95,41.95,35.950000000000003,null,{"$f":"S8679","v":0},null,{"$f":"U8679","v":0},null,{"$f":"W8679","v":0},null,{"$f":"S8682","v":0},{"$f":"U8682","v":0},{"$f":"W8682*2","v":0},{"$f":"Y8682+Z8682+AA8682","v":0},{"$f":"S8682*O8682","v":0},{"$f":"U8682*P8682","v":0},{"$f":"W8682*Q8682","v":0},{"$f":"IF(AH8682=FALSE,AC8682+AD8682+AE8682,0)","v":0},null,null,null,null,null,"Spring 2015",null,2015,"Reference Point Press","Reference Point Press",null,"Social Studies","English","Reinforced Library",80,null,null,"5 - 12",302.3,"John Allen"]
[null,9781601526571,null,9781601526564,null,"Medieval Medicine and Disease",null,null,null,"The Library of Medieval Times",null,null,null,41.27,30.95,41.95,35.950000000000003,null,{"$f":"S8693","v":0},null,{"$f":"U8693","v":0},null,{"$f":"W8693","v":0},null,{"$f":"S8696","v":0},{"$f":"U8696","v":0},{"$f":"W8696*2","v":0},{"$f":"Y8696+Z8696+AA8696","v":0},{"$f":"S8696*O8696","v":0},{"$f":"U8696*P8696","v":0},{"$f":"W8696*Q8696","v":0},{"$f":"IF(AH8696=FALSE,AC8696+AD8696+AE8696,0)","v":0},null,null,null,null,null,"Spring 2015",null,2015,"Reference Point Press","Reference Point Press",null,"History","English","Reinforced Library",80,null,null,"5 - 12","610.9409/02","Toney Allman"]
[null,9781601526038,null,9781601526021,null,"Victorian England",null,null,null,"Understanding World History",null,null,null,41.27,30.95,41.95,35.950000000000003,null,{"$f":"S8712","v":0},null,{"$f":"U8712","v":0},null,{"$f":"W8712","v":0},null,0,0,0,0,0,0,0,0,null,null,null,null,null,"Fall 2013",null,2014,"Reference Point Press","Reference Point Press",null,"History","English","Reinforced Library",96,null,null,"5 - 12","942.081","Gail Stewart"]
[null,9781601527493,null,9781601527486,null,"How Do Video Games Affect Society?",null,null,null,"Video Games and Society",null,null,null,41.27,30.95,41.95,{"$f":"O8733+5","v":35.950000000000003},null,{"$f":"S8732","v":0},null,{"$f":"U8732","v":0},null,{"$f":"W8732","v":0},null,{"$f":"S8733","v":0},{"$f":"U8733","v":0},{"$f":"W8733*2","v":0},{"$f":"Y8733+Z8733+AA8733","v":0},{"$f":"S8733*O8733","v":0},{"$f":"U8733*P8733","v":0},{"$f":"W8733*Q8733","v":0},{"$f":"IF(AH8733=FALSE,AC8733+AD8733+AE8733,0)","v":0},null,null,null,null,null,"Spring 2015",null,2015,"Reference Point Press","Reference Point Press",null,"Social Studies","English","Reinforced Library",80,null,null,"5 - 12",null,"Patricia D. Netzley"]
[null,9781601525253,null,9781601525246,null,"Cultural Milestones of the 2000s",null,null,null,"The Decade of the 2000s",null,null,null,41.27,30.95,41.95,35.950000000000003,null,{"$f":"S8756","v":0},null,{"$f":"U8756","v":0},null,{"$f":"W8756","v":0},null,{"$f":"S8758","v":0},{"$f":"U8758","v":0},{"$f":"W8758*2","v":0},{"$f":"Y8758+Z8758+AA8758","v":0},{"$f":"S8758*O8758","v":0},{"$f":"U8758*P8758","v":0},{"$f":"W8758*Q8758","v":0},{"$f":"IF(AH8758=FALSE,AC8758+AD8758+AE8758,0)","v":0},null,null,null,null,null,"Fall 2013",null,2014,"Reference Point Press","Reference Point Press",null,"History","English","Reinforced Library",96,null,null,"5 - 12",973.93,"Craig E. Blohm"]
[]
[null,9781601523594,null,9781601521484,null,"Dragons",null,null,null,"Monsters and Mythical Creatures",null,null,null,41.27,30.95,41.95,35.950000000000003,null,{"$f":"S8791","v":0},null,{"$f":"U8791","v":0},null,{"$f":"W8791","v":0},null,0,0,0,0,0,0,0,0,null,null,null,null,null,"Fall 2010",null,2011,"Reference Point Press","Reference Point Press",null,"Legends, Myths, & Paranormal","English","Reinforced Library",80,null,null,"5 - 12","398.24/54","Carla Mooney"]
[null,9781601524249,null,9781601521033,null,"Crop Circles",null,null,null,"The Mysterious & Unknown",null,null,null,41.27,30.95,41.95,35.950000000000003,null,{"$f":"S8817","v":0},null,{"$f":"U8817","v":0},null,{"$f":"W8817","v":0},null,0,0,0,0,0,0,0,0,null,null,null,null,null,"Fall 2008",null,2009,"Reference Point Press","Reference Point Press",null,"Legends, Myths, & Paranormal","English","Reinforced Library",104,null,null,"5 - 12",1.94,"Stuart A. Kallen"]
[null,9781601523891,null,9781601520289,null,"Unicorns",null,null,null,"The Mysterious & Unknown",null,null,null,41.27,30.95,41.95,35.950000000000003,null,{"$f":"S8817","v":0},null,{"$f":"U8817","v":0},null,{"$f":"W8817","v":0},null,0,0,0,0,0,0,0,0,null,null,null,null,null,"Fall 2007",null,2008,"Reference Point Press","Reference Point Press",null,"Legends, Myths, & Paranormal","English","Reinforced Library",104,null,null,"5 - 12","398.24/54","William Dudley"]
[null,9781601523037,null,9781601520197,null,"Global Warming and Climate Change",null,null,null,"Compact Research: Energy and the Environment",null,null,null,41.27,30.95,41.95,35.950000000000003,null,{"$f":"S8836","v":0},null,{"$f":"U8836","v":0},null,{"$f":"W8836","v":0},null,0,0,0,0,0,0,0,0,null,null,null,null,null,"Fall 2007",null,2008,"Reference Point Press","Reference Point Press",null,"Social Studies","English","Reinforced Library",96,null,null,"5 - 12","363.738/74","Emma Carlson Berne"]
[null,9781601523433,null,9781601520630,null,"Gay Rights",null,null,null,"Compact Research: Current Issues",null,null,null,41.27,30.95,41.95,35.950000000000003,null,{"$f":"S8862","v":0},null,{"$f":"U8862","v":0},null,{"$f":"W8862","v":0},null,0,0,0,0,0,0,0,0,null,null,null,null,null,"Spring 2009",null,2009,"Reference Point Press","Reference Point Press",null,"Social Studies","English","Reinforced Library",104,null,null,"5 - 12","323.3/2940973","Peggy J. Parks"]
[null,9781601522955,null,9781601520104,null,"Gun Control",null,null,null,"Compact Research: Current Issues",null,null,null,41.27,30.95,41.95,35.950000000000003,null,{"$f":"S8862","v":0},null,{"$f":"U8862","v":0},null,{"$f":"W8862","v":0},null,0,0,0,0,0,0,0,0,null,null,null,null,null,"Fall 2006",null,2007,"Reference Point Press","Reference Point Press",null,"Social Studies","English","Reinforced Library",96,null,null,"5 - 12",363.33097299999997,"George Milite"]
[null,9781601522078,null,9781601521330,null,"Encounters with Vampires",null,null,null,"The Vampire Library",null,null,null,41.27,30.95,41.95,{"$f":"O8906+5","v":35.950000000000003},null,{"$f":"S8905","v":0},null,{"$f":"U8905","v":0},null,{"$f":"W8905","v":0},null,{"$f":"S8906","v":0},{"$f":"U8906","v":0},{"$f":"W8906*2","v":0},{"$f":"Y8906+Z8906+AA8906","v":0},{"$f":"S8906*O8906","v":0},{"$f":"U8906*P8906","v":0},{"$f":"W8906*Q8906","v":0},{"$f":"IF(AH8906=FALSE,AC8906+AD8906+AE8906,0)","v":0},null,null,null,null,null,"Fall 2010",null,2011,"Reference Point Press","Reference Point Press",null,"Legends, Myths, & Paranormal","English","Reinforced Library",80,null,null,"5 - 12","398/.45","David Robson"]
[null,"Not Available",null,9780606148993,null,"Hop On Pop",null,null,null,"Dr. Seuss Picture Books",null,null,null,29.95,20.95,0,0,null,{"$f":"S8919","v":0},null,null,null,null,null,0,0,0,0,0,0,0,0,null,null,null,null,null,"Fall 2015",null,1991,"Turtleback Books","Turtleback Books",1.5,"Fiction","English","Hardcover",72,"J","BR","PreK – 2","FIC","Dr. Seuss"]
[null,"Not Available",null,9780808524267,null,"The Cat In The Hat Comes Back!",null,null,null,"Dr. Seuss Picture Books",null,null,null,29.95,20.95,0,0,null,{"$f":"S8919","v":0},null,null,null,null,null,0,0,0,0,0,0,0,0,null,null,null,null,null,"Fall 2015",null,1958,"Turtleback Books","Turtleback Books",2.1,"Fiction","English","Hardcover",61,"J","320L","PreK – 2","FIC","Dr. Seuss"]
[null,"Not Available",null,9780606323932,null,"Detective Chase McCain: Save That Cargo!",null,null,null,"LEGO City 8X8",null,null,null,21.35,14.95,0,0,null,{"$f":"S8963","v":0},null,null,null,null,null,0,0,0,0,0,0,0,0,null,null,null,null,null,"Fall 2019",null,2013,"Turtleback Books","Turtleback Books",2.7,"Fiction","English","Hardcover",24,null,560,"PreK – 2","E","Trey King"]
[null,"Not Available",null,9780606321129,null,"Revenge Of The Sith",null,null,null,"LEGO Star Wars DK Reader",null,null,null,21.35,14.95,0,0,null,{"$f":"S8977","v":0},null,null,null,null,null,0,0,0,0,0,0,0,0,null,null,null,null,null,"Fall 2019",null,2013,"Turtleback Books","Turtleback Books",5.4,"Fiction","English","Hardcover",48,null,"NC900","PreK – 2","E","DK, Eds."]
[null,"Not Available",null,9780613284875,null,"Five Little Monkeys With Nothing To Do",null,null,null,"A Five Little Monkeys Story",null,null,null,25.65,17.95,0,0,null,{"$f":"S8987","v":0},null,null,null,null,null,0,0,0,0,0,0,0,0,null,null,null,null,null,"Fall 2019",null,2000,"Turtleback Books","Turtleback Books",2.1,"Fiction","English","Hardcover",40,null,400,"PreK – 2","E","Eileen Christelow"]
[null,"Not Available",null,9780606396240,null,"Pete The Cat And The Treasure Map",null,null,null,"Pete the Cat",null,null,null,22.8,15.95,0,0,null,{"$f":"S9020","v":0},null,null,null,null,null,0,0,0,0,0,0,0,0,null,null,null,null,null,"Spring 2017",null,2017,"Turtleback Books","Turtleback Books",2.7,"Fiction","English","Hardcover",24,null,null,"PreK – 2","FIC","James Dean"]
[null,"Not Available",null,9780606386807,null,"Pete the Cat's World Tour",null,null,null,"Pete the Cat",null,null,null,22.8,15.95,0,0,null,{"$f":"S9020","v":0},null,null,null,null,null,0,0,0,0,0,0,0,0,null,null,null,null,null,"Fall 2019",null,null,"Turtleback Books","Turtleback Books",2.6,"Fiction","English","Hardcover",24,null,null,"PreK – 3","E","James Dean"]
[null,"Not Available",null,9780606415071,null,"Peppa Gives Thanks",null,null,null,"Peppa Pig 8X8",null,null,null,22.8,15.95,0,0,null,{"$f":"S9049","v":0},null,null,null,null,null,0,0,0,0,0,0,0,0,null,null,null,null,null,"Fall 2019",null,null,"Turtleback Books","Turtleback Books",2.2000000000000002,"Fiction","English","Hardcover",24,null,"AD470","PreK – 3","E","Meredith Rusu"]
[null,"Not Available",null,9780606398237,null,"Curious George Goes To A Bookstore",null,null,null,"Curious George",null,null,null,21.35,14.95,0,0,null,{"$f":"S9069","v":0},null,null,null,null,null,0,0,0,0,0,0,0,0,null,null,null,null,null,"Spring 2017",null,2014,"Turtleback Books","Turtleback Books",null,"Fiction","English","Hardcover",24,null,null,"PreK – 2","FIC","Margret and H.A. Rey"]
[null,"Not Available",null,9780606232203,null,"Fly Guy Vs. The Flyswatter!",null,null,null,"Fly Guy",null,null,null,25.65,17.95,0,0,null,{"$f":"S9093","v":0},null,null,null,null,null,0,0,0,0,0,0,0,0,null,null,null,null,null,"Spring 2016",null,2011,"Turtleback Books","Turtleback Books",2.1,"Fiction","English","Hardcover",32,null,"420L","K – 2","FIC","Tedd Arnold"]
[null,"Not Available",null,9780738383330,null,"Shoo, Fly Guy!",null,null,null,"Fly Guy",null,null,null,25.65,17.95,0,0,null,{"$f":"S9093","v":0},null,null,null,null,null,0,0,0,0,0,0,0,0,null,null,null,null,null,"Spring 2016",null,2006,"Turtleback Books","Turtleback Books",1.7,"Fiction","English","Hardcover",32,"I","410L","K – 2","FIC","Tedd Arnold"]
[null,"Not Available",null,9780606381963,null,"Pinkalicious And The Little Butterfly",null,null,null,"Pinkalicious",null,null,null,21.35,14.95,0,0,null,{"$f":"S9128","v":0},null,null,null,null,null,0,0,0,0,0,0,0,0,null,null,null,null,null,"Spring 2018",null,2016,"Turtleback Books","Turtleback Books",3.2,"Fiction","English","Hardcover",24,null,null,"PreK – 2","FIC","Victoria Kann"]
[null,"Not Available",null,9781417668694,null,"Teach Us, Amelia Bedelia",null,null,null,"Amelia Bedelia -- I Can Read!",null,null,null,21.35,14.95,0,0,null,{"$f":"S9145","v":0},null,null,null,null,null,0,0,0,0,0,0,0,0,null,null,null,null,null,"Fall 2016",null,2004,"Turtleback Books","Turtleback Books",1.9,"Fiction","English","Hardcover",64,"L",null,"PreK – 2","FIC","Peggy Parish"]
[null,"Not Available",null,9780606270359,null,"Captain Awesome And The Ultimate Spelling Bee",null,null,null,"Captain Awesome",null,null,null,24.25,16.95,0,0,null,{"$f":"S9169","v":0},null,null,null,null,null,0,0,0,0,0,0,0,0,null,null,null,null,null,"Fall 2019",null,2013,"Turtleback Books","Turtleback Books",3.9,"Fiction","English","Hardcover",128,null,620,"K – 3","E","Stan Kirby"]
[]
[null,"Not Available",null,9780606149280,null,"Princess In Disguise",null,null,null,"Mercy Watson",null,null,null,22.8,15.95,0,0,null,{"$f":"S9197","v":0},null,null,null,null,null,0,0,0,0,0,0,0,0,null,null,null,null,null,"Spring 2018",null,2007,"Turtleback Books","Turtleback Books",2.7,"Fiction","English","Hardcover",80,null,null,"K – 3","FIC","Kate DiCamillo"]
[null,"Not Available",null,9780606364812,null,"Splat The Cat And The Hotshot",null,null,null,"Splat the Cat: I Can Read",null,null,null,21.35,14.95,0,0,null,{"$f":"S9221","v":0},null,null,null,null,null,0,0,0,0,0,0,0,0,null,null,null,null,null,"Spring 2016",null,2015,"Turtleback Books","Turtleback Books",2.2999999999999998,"Fiction","English","Hardcover",32,null,"380L","PreK – 2","FIC","Rob Scotton"]
[null,"Not Available",null,9780606400039,null,"Splat The Cat For President",null,null,null,"Splat the Cat",null,null,null,21.35,14.95,0,0,null,{"$f":"S9240","v":0},null,null,null,null,null,0,0,0,0,0,0,0,0,null,null,null,null,null,"Fall 2017",null,2016,"Turtleback Books","Turtleback Books",2.6,"Fiction","English","Hardcover",24,null,"AD530L","PreK – 2","FIC","Rob Scotton"]
[null,"Not Available",null,9780606360302,null,"There Was An Old Lady Who Swallowed A Fly!",null,null,null,"There Was An Old Lady...",null,null,null,25.65,17.95,0,0,null,{"$f":"S9250","v":0},null,null,null,null,null,0,0,0,0,0,0,0,0,null,null,null,null,null,"Spring 2017",null,2014,"Turtleback Books","Turtleback Books",2.1,"Fiction","English","Hardcover",32,null,"AD390L","PreK – 2","FIC","Lucille Colandro"]
[null,"Not Available",null,9780606360524,null,"The Locker Ate Lucy!",null,null,null,"Eerie Elementary",null,null,null,21.35,14.95,0,0,null,{"$f":"S9275","v":0},null,null,null,null,null,0,0,0,0,0,0,0,0,null,null,null,null,null,"Spring 2018",null,2014,"Turtleback Books","Turtleback Books",3.3,"Fiction","English","Hardcover",96,null,null,"1 – 4","FIC","Jack Chabert"]
[null,"Not Available",null,9780606269742,null,"The Space Between",null,null,null,"Never Girls",null,null,null,24.25,16.95,0,0,null,{"$f":"S9296","v":0},null,null,null,null,null,0,0,0,0,0,0,0,0,null,null,null,null,null,"Fall 2017",null,2013,"Turtleback Books","Turtleback Books",3.9,"Fiction","English","Hardcover",128,"N","620L","1 - 3","FIC","Kiki Thorpe"]
[null,"Not Available",null,9780606397148,null,"Sneeze Of The Octo-Schnozz",null,null,null,"Notebook Of Doom",null,null,null,21.35,14.95,0,0,null,{"$f":"S9312","v":0},null,null,null,null,null,0,0,0,0,0,0,0,0,null,null,null,null,null,"Fall 2017",null,2017,"Turtleback Books","Turtleback Books",3.6,"Fiction","English","Hardcover",96,null,"490L","1 - 3","FIC","Troy Cummings"]
[null,"Not Available",null,9780613776585,null,"Millicent And The Wind",null,null,null,"Robert Munsch Classics",null,null,null,24.25,16.95,0,0,null,{"$f":"S9328","v":0},null,null,null,null,null,{"$f":"S9331","v":0},{"$f":"U9331","v":0},{"$f":"W9331*2","v":0},{"$f":"Y9331+Z9331+AA9331","v":0},{"$f":"S9331*O9331","v":0},{"$f":"U9331*P9331","v":0},{"$f":"W9331*Q9331","v":0},{"$f":"IF(AH9331=FALSE,AC9331+AD9331+AE9331,0)","v":0},null,null,null,null,null,"Spring 2017",null,1984,"Turtleback Books","Turtleback Books",3.3,"Fiction","English","Hardcover",26,"K","AD670L","PreK – 2","FIC","Robert Munsch"]
[null,"Not Available",null,9780881032796,null,"Ramona The Pest",null,null,null,"Ramona Quimby",null,null,null,24.25,16.95,0,0,null,{"$f":"S9343","v":0},null,null,null,null,null,0,0,0,0,0,0,0,0,null,null,null,null,null,"Fall 2019",null,2013,"Turtleback Books","Turtleback Books",5.0999999999999996,"Fiction","English","Hardcover",240,null,850,"2 – 5","FIC","Beverly Cleary"]
[null,"Not Available",null,9780606365048,null,"Big Nate Strikes Again",null,null,null,"Big Nate",null,null,null,27.1,18.95,0,0,null,{"$f":"S9367","v":0},null,null,null,null,null,0,0,0,0,0,0,0,0,null,null,null,null,null,"Spring 2016",null,2015,"Turtleback Books","Turtleback Books",3.3,"Fiction","English","Hardcover",224,null,"430L","3 - 5","FIC","Lincoln Pierce"]
[null,null,null,null,null,"Complete Series of 13",null,null,null,"Diary Of A Wimpy Kid",null,null,null,{"$f":"SUM(N9394:N9406)","v":500.5},{"$f":"SUM(O9394:O9406)","v":350.34999999999991},{"$f":"SUM(P9394:P9406)","v":0},{"$f":"SUM(Q9394:Q9406)","v":0},null,null,null,null,null,null,null,null,null,null,null,null,null,null,null,null,null,null,null,null,null,null,null,"Turtleback Books"]
[null,"Not Available",null,9780606265140,null,"The Third Wheel",null,null,null,"Diary Of A Wimpy Kid",null,null,null,38.5,26.95,0,0,null,{"$f":"S9393","v":0},null,null,null,null,null,0,0,0,0,0,0,0,0,null,null,null,null,null,"Spring 2016",null,2012,"Turtleback Books","Turtleback Books",5.6,"Fiction","English","Hardcover",224,null,"1060L","3 - 5","FIC","Jeff Kinney"]
[]
[null,"Not Available",null,9781417764570,null,"Miss Holly Is Too Jolly!",null,null,null,"My Weird School",null,null,null,22.8,15.95,0,0,null,{"$f":"S9446","v":0},null,null,null,null,null,0,0,0,0,0,0,0,0,null,null,null,null,null,"Fall 2016",null,2006,"Turtleback Books","Turtleback Books",4,"Fiction","English","Hardcover",96,null,"670L","2 - 4","FIC","Dan Gutman"]
[null,"Not Available",null,9781417700882,null,"Mrs. Roopy Is Loopy!",null,null,null,"My Weird School",null,null,null,22.8,15.95,0,0,null,{"$f":"S9446","v":0},null,null,null,null,null,0,0,0,0,0,0,0,0,null,null,null,null,null,"Fall 2016",null,2004,"Turtleback Books","Turtleback Books",3.9,"Fiction","English","Hardcover",86,null,"680L","2 - 4","FIC","Dan Gutman"]
[null,"Not Available",null,9781417700899,null,"Ms. Hannah Is Bananas!",null,null,null,"My Weird School",null,null,null,22.8,15.95,0,0,null,{"$f":"S9446","v":0},null,null,null,null,null,0,0,0,0,0,0,0,0,null,null,null,null,null,"Fall 2016",null,2005,"Turtleback Books","Turtleback Books",3.6,"Fiction","English","Hardcover",84,null,"590L","2 - 4","FIC","Dan Gutman"]
[null,"Not Available",null,9780606002424,null,"Be Careful What You Wish For",null,null,null,"Goosebumps",null,null,null,24.25,16.95,0,0,null,{"$f":"S9494","v":0},null,null,null,null,null,0,0,0,0,0,0,0,0,null,null,null,null,null,"Fall 2019",null,null,"Turtleback Books","Turtleback Books",3.7,"Fiction","English","Hardcover",144,null,570,"3 - 6","FIC","R. L. Stine"]
[]
[null,"Not Available",null,9780606353977,null,"I Survived The Nazi Invasion, 1944",null,null,null,"I Survived ...",null,null,null,21.35,14.95,0,0,null,{"$f":"S9526","v":0},null,null,null,null,null,0,0,0,0,0,0,0,0,null,null,null,null,null,"Spring 2018",null,2014,"Turtleback Books","Turtleback Books",5.0999999999999996,"Fiction","English","Hardcover",112,null,null,"2 – 5","FIC","Lauren Tarshis"]
[null,"Not Available",null,9780606375528,null,"Who Is Derek Jeter?",null,null,null,"Who Was…? / Who Is…?",null,null,null,22.8,15.95,0,0,null,{"$f":"S9546","v":0},null,null,null,null,null,0,0,0,0,0,0,0,0,null,null,null,null,null,"Fall 2017",null,2015,"Turtleback Books","Turtleback Books",4.5,"Biographies","English","Hardcover",112,null,640,"3 - 7","796.357092 B","Gail Herman"]
[null,"Not Available",null,"9780606361767",null,"Who Was Alfred Hitchcock?",null,null,null,"Who Was…? / Who Is…?",null,null,null,22.8,15.95,0,0,null,{"$f":"S9546","v":0},null,null,null,null,null,0,0,0,0,0,0,0,0,null,null,null,null,null,"Fall 2018",null,2014,"Turtleback Books","Turtleback Books",5.9,"Biographies","English","Hardcover",112,"R",920,"3 - 7",null,"Pamela Pollack & Meg Belviso"]
[null,"Not Available",null,9780606316842,null,"Who Was Christopher Columbus?",null,null,null,"Who Was…? / Who Is…?",null,null,null,22.8,15.95,0,0,null,{"$f":"S9546","v":0},null,null,null,null,null,0,0,0,0,0,0,0,0,null,null,null,null,null,"Fall 2017",null,2013,"Turtleback Books","Turtleback Books",4.2,"Biographies","English","Hardcover",112,"Q",640,"3 - 7","970.01/5092 B","Bonnie Bader"]
[null,"Not Available",null,9780606361781,null,"Who Was Genghis Khan?",null,null,null,"Who Was…? / Who Is…?",null,null,null,22.8,15.95,0,0,null,{"$f":"S9546","v":0},null,null,null,null,null,0,0,0,0,0,0,0,0,null,null,null,null,null,"Fall 2017",null,2015,"Turtleback Books","Turtleback Books",5.7,"Biographies","English","Hardcover",112,"S",800,"3 - 7","950.21092 B","Nico Medina"]
[null,"Not Available",null,9780613453318,null,"Who Was Harry Houdini?",null,null,null,"Who Was…? / Who Is…?",null,null,null,22.8,15.95,0,0,null,{"$f":"S9546","v":0},null,null,null,null,null,0,0,0,0,0,0,0,0,null,null,null,null,null,"Fall 2017",null,2002,"Turtleback Books","Turtleback Books",5.8,"Biographies","English","Hardcover",112,"R",780,"3 - 7","793.8/092 B","Tui Sutherland"]
[null,"Not Available",null,"9781417772322",null,"Who Was King Tut?",null,null,null,"Who Was…? / Who Is…?",null,null,null,22.8,15.95,0,0,null,{"$f":"S9546","v":0},null,null,null,null,null,0,0,0,0,0,0,0,0,null,null,null,null,null,"Fall 2018",null,2006,"Turtleback Books","Turtleback Books",4.9000000000000004,"Biographies","English","Hardcover",112,"S",690,"3 - 7",null,"Roberta Edwards"]
[null,"Not Available",null,9780606353533,null,"Who Was Queen Elizabeth?",null,null,null,"Who Was…? / Who Is…?",null,null,null,22.8,15.95,0,0,null,{"$f":"S9546","v":0},null,null,null,null,null,0,0,0,0,0,0,0,0,null,null,null,null,null,"Fall 2017",null,2008,"Turtleback Books","Turtleback Books",5.3,"Biographies","English","Hardcover",112,"O",750,"3 - 7","942.05/5092 B","June Eding"]
[null,"Not Available",null,9780606367493,null,"Who Was Steve Irwin?",null,null,null,"Who Was…? / Who Is…?",null,null,null,22.8,15.95,0,0,null,{"$f":"S9546","v":0},null,null,null,null,null,0,0,0,0,0,0,0,0,null,null,null,null,null,"Fall 2017",null,2015,"Turtleback Books","Turtleback Books",4.5,"Biographies","English","Hardcover",112,null,630,"3 - 7","597.9092 B","Dina Anastasio"]
[null,"Not Available",null,"9780606393201",null,"Who Were The Three Stooges?",null,null,null,"Who Was…? / Who Is…?",null,null,null,22.8,15.95,0,0,null,{"$f":"S9546","v":0},null,null,null,null,null,0,0,0,0,0,0,0,0,null,null,null,null,null,"Fall 2018",null,2016,"Turtleback Books","Turtleback Books",5.5,"Biographies","English","Hardcover",112,null,850,"3 - 7",null,"Pamela Pollack & Meg Belviso"]
[null,"Not Available",null,9780606414555,null,"Tales From A Not-So-Happy Birthday",null,null,null,"Dork Diaries",null,null,null,37.1,25.95,0,0,null,{"$f":"S9724","v":0},null,null,null,null,null,0,0,0,0,0,0,0,0,null,null,null,null,null,"Fall 2019",null,null,"Turtleback Books","Turtleback Books",4.5999999999999996,"Fiction","English","Hardcover",304,null,null,"4 - 7","FIC","Rachel Renee Russell"]
[null,"Not Available",null,9780606027519,null,"The Reptile Room",null,null,null,"A Series Of Unfortunate Events",null,null,null,24.25,16.95,0,0,null,{"$f":"S9750","v":0},null,null,null,null,null,{"$f":"S9751","v":0},{"$f":"U9751","v":0},{"$f":"W9751*2","v":0},{"$f":"Y9751+Z9751+AA9751","v":0},{"$f":"S9751*O9751","v":0},{"$f":"U9751*P9751","v":0},{"$f":"W9751*Q9751","v":0},{"$f":"IF(AH9751=FALSE,AC9751+AD9751+AE9751,0)","v":0},null,null,null,null,null,"Fall 2019",null,1999,"Turtleback Books","Turtleback Books",6.3,"Fiction","English","Hardcover",192,null,1040,"4 - 7","FIC","Lemony Snicket"]
[null,"Not Available",null,9780606396851,null,"The Fairy-Tale Detectives",null,null,null,"The Sisters Grimm",null,null,null,27.1,18.95,0,0,null,{"$f":"S9766","v":0},null,null,null,null,null,0,0,0,0,0,0,0,0,null,null,null,null,null,"Spring 2018",null,2007,"Turtleback Books","Turtleback Books",5.2,"Fiction","English","Hardcover",288,null,null,"4 - 7","FIC","Michael Buckley"]
[null,"Not Available",null,9780606396868,null,"The Unusual Suspects",null,null,null,"The Sisters Grimm",null,null,null,27.1,18.95,0,0,null,{"$f":"S9766","v":0},null,null,null,null,null,0,0,0,0,0,0,0,0,null,null,null,null,null,"Spring 2018",null,2005,"Turtleback Books","Turtleback Books",5.4,"Fiction","English","Hardcover",288,null,null,"4 - 7","FIC","Michael Buckley"]
[null,"Not Available",null,9781690304807,null,"The Mark Of Athena",null,null,null,"The Heroes Of Olympus",null,null,null,29.95,20.95,0,0,null,{"$f":"S9790","v":0},null,null,null,null,null,{"$f":"S9794","v":0},{"$f":"U9794","v":0},{"$f":"W9794*2","v":0},{"$f":"Y9794+Z9794+AA9794","v":0},{"$f":"S9794*O9794","v":0},{"$f":"U9794*P9794","v":0},{"$f":"W9794*Q9794","v":0},{"$f":"IF(AH9794=FALSE,AC9794+AD9794+AE9794,0)","v":0},null,null,null,null,null,"Spring 2018",null,2012,"Turtleback Books","Turtleback Books",4.8,"Fiction","English","Hardcover",624,null,null,"5 - 8","FIC","Rick Riordan"]
[null,"Not Available",null,9780606324366,null,"March: Book One",null,null,null,"March",null,null,null,38.5,26.95,0,0,null,{"$f":"S9811","v":0},null,null,null,null,null,{"$f":"S9812","v":0},{"$f":"U9812","v":0},{"$f":"W9812*2","v":0},{"$f":"Y9812+Z9812+AA9812","v":0},{"$f":"S9812*O9812","v":0},{"$f":"U9812*P9812","v":0},{"$f":"W9812*Q9812","v":0},{"$f":"IF(AH9812=FALSE,AC9812+AD9812+AE9812,0)","v":0},null,null,null,null,null,"Fall 2018",null,2013,"Turtleback Books","Turtleback Books",4.5999999999999996,"Fiction","English","Hardcover",128,null,"GN760","7 - 12",null,"Lewis, John and Andrew Aydin"]
[null,"Not Available",null,9780606386050,null,"March: Book Three",null,null,null,"March",null,null,null,47.07,32.950000000000003,0,0,null,{"$f":"S9811","v":0},null,null,null,null,null,{"$f":"S9813","v":0},{"$f":"U9813","v":0},{"$f":"W9813*2","v":0},{"$f":"Y9813+Z9813+AA9813","v":0},{"$f":"S9813*O9813","v":0},{"$f":"U9813*P9813","v":0},{"$f":"W9813*Q9813","v":0},{"$f":"IF(AH9813=FALSE,AC9813+AD9813+AE9813,0)","v":0},null,null,null,null,null,"Fall 2018",null,2016,"Turtleback Books","Turtleback Books",5.9,"Fiction","English","Hardcover",256,null,null,"7 - 12",null,"Lewis, John and Andrew Aydin"]
[null,"Not Available",null,9780606365475,null,"March: Book Two",null,null,null,"March",null,null,null,47.07,32.950000000000003,0,0,null,{"$f":"S9811","v":0},null,null,null,null,null,{"$f":"S9814","v":0},{"$f":"U9814","v":0},{"$f":"W9814*2","v":0},{"$f":"Y9814+Z9814+AA9814","v":0},{"$f":"S9814*O9814","v":0},{"$f":"U9814*P9814","v":0},{"$f":"W9814*Q9814","v":0},{"$f":"IF(AH9814=FALSE,AC9814+AD9814+AE9814,0)","v":0},null,null,null,null,null,"Fall 2018",null,2015,"Turtleback Books","Turtleback Books",5.5,"Fiction","English","Hardcover",192,null,"GN850","7 - 12",null,"Lewis, John and Andrew Aydin"]
[]
[null,null,null,null,null,"Complete Series of 4",null,null,null,"Lord Of The Rings",null,null,null,{"$f":"SUM(N9817:N9820)","v":114},{"$f":"SUM(O9817:O9820)","v":79.8},{"$f":"SUM(P9817:P9820)","v":0},{"$f":"SUM(Q9817:Q9820)","v":0},null,null,null,null,null,null,null,null,null,null,null,null,null,null,null,null,null,null,null,null,null,null,null,"Turtleback Books"]
[null,"Not Available",null,9780808520764,null,"The Fellowship Of The Ring",null,null,null,"Lord Of The Rings",null,null,null,28.5,19.95,0,0,null,{"$f":"S9816","v":0},null,null,null,null,null,{"$f":"S9817","v":0},{"$f":"U9817","v":0},{"$f":"W9817*2","v":0},{"$f":"Y9817+Z9817+AA9817","v":0},{"$f":"S9817*O9817","v":0},{"$f":"U9817*P9817","v":0},{"$f":"W9817*Q9817","v":0},{"$f":"IF(AH9817=FALSE,AC9817+AD9817+AE9817,0)","v":0},null,null,null,null,null,"Fall 2019",null,1988,"Turtleback Books","Turtleback Books",6.1,"Fiction","English","Hardcover",480,null,860,"8 - 12","823/.912","J. R. R. Tolkien"]
[null,"Not Available",null,9780808520801,null,"The Hobbit",null,null,null,"Lord Of The Rings",null,null,null,28.5,19.95,0,0,null,{"$f":"S9816","v":0},null,null,null,null,null,{"$f":"S9818","v":0},{"$f":"U9818","v":0},{"$f":"W9818*2","v":0},{"$f":"Y9818+Z9818+AA9818","v":0},{"$f":"S9818*O9818","v":0},{"$f":"U9818*P9818","v":0},{"$f":"W9818*Q9818","v":0},{"$f":"IF(AH9818=FALSE,AC9818+AD9818+AE9818,0)","v":0},null,null,null,null,null,"Fall 2019",null,null,"Turtleback Books","Turtleback Books",6.6,"Fiction","English","Hardcover",320,null,1000,"8 - 12","823/.912","J. R. R. Tolkien"]
[null,"Not Available",null,9780808520856,null,"The Return Of The King",null,null,null,"Lord Of The Rings",null,null,null,28.5,19.95,0,0,null,{"$f":"S9816","v":0},null,null,null,null,null,{"$f":"S9819","v":0},{"$f":"U9819","v":0},{"$f":"W9819*2","v":0},{"$f":"Y9819+Z9819+AA9819","v":0},{"$f":"S9819*O9819","v":0},{"$f":"U9819*P9819","v":0},{"$f":"W9819*Q9819","v":0},{"$f":"IF(AH9819=FALSE,AC9819+AD9819+AE9819,0)","v":0},null,null,null,null,null,"Fall 2019",null,null,"Turtleback Books","Turtleback Books",6.2,"Fiction","English","Hardcover",512,null,920,"8 - 12","823/.912","J. R. R. Tolkien"]
[null,"Not Available",null,9780808520900,null,"The Two Towers",null,null,null,"Lord Of The Rings",null,null,null,28.5,19.95,0,0,null,{"$f":"S9816","v":0},null,null,null,null,null,{"$f":"S9820","v":0},{"$f":"U9820","v":0},{"$f":"W9820*2","v":0},{"$f":"Y9820+Z9820+AA9820","v":0},{"$f":"S9820*O9820","v":0},{"$f":"U9820*P9820","v":0},{"$f":"W9820*Q9820","v":0},{"$f":"IF(AH9820=FALSE,AC9820+AD9820+AE9820,0)","v":0},null,null,null,null,null,"Fall 2019",null,null,"Turtleback Books","Turtleback Books",6.3,"Fiction","English","Hardcover",416,null,810,"8 - 12","823/.912","J. R. R. Tolkien"]
[]
[null,null,null,null,null,"Complete Series of 76",null,null,null,"Classics & Best Sellers",null,null,null,{"$f":"SUM(N9823:N9898)","v":2068.4499999999989},{"$f":"SUM(O9823:O9898)","v":1447.2000000000019},{"$f":"SUM(P9823:P9898)","v":0},{"$f":"SUM(Q9823:Q9898)","v":0},null,null,null,null,null,null,null,null,null,null,null,null,null,null,null,null,null,null,null,null,null,null,null,"Turtleback Books"]
[null,"Not Available",null,9780613016889,null,"A Hat For Minerva Louise",null,null,null,"Classics & Best Sellers",null,null,null,24.25,16.95,0,0,null,{"$f":"S9822","v":0},null,null,null,null,null,{"$f":"S9823","v":0},{"$f":"U9823","v":0},{"$f":"W9823*2","v":0},{"$f":"Y9823+Z9823+AA9823","v":0},{"$f":"S9823*O9823","v":0},{"$f":"U9823*P9823","v":0},{"$f":"W9823*Q9823","v":0},{"$f":"IF(AH9823=FALSE,AC9823+AD9823+AE9823,0)","v":0},null,null,null,null,null,"Fall 2015",null,1997,"Turtleback Books","Turtleback Books",1,"Fiction","English","Hardcover",32,"G",60,"PreK – 2","FIC","Janet Morgan Stoeke"]
[null,"Not Available",null,9780808524069,null,"Alexander And The Terrible, Horrible, No Good, Very Bad Day",null,null,null,"Classics & Best Sellers",null,null,null,28.5,19.95,0,0,null,{"$f":"S9822","v":0},null,null,null,null,null,0,0,0,0,0,0,0,0,null,null,null,null,null,"Fall 2015",null,1972,"Turtleback Books","Turtleback Books",3.7,"Fiction","English","Hardcover",32,"M",970,"PreK – 2","FIC","Judith Viorst"]
[null,"Not Available",null,9780613044912,null,"Animalia",null,null,null,"Classics & Best Sellers",null,null,null,28.5,19.95,0,0,null,{"$f":"S9822","v":0},null,null,null,null,null,0,0,0,0,0,0,0,0,null,null,null,null,null,"Fall 2015",null,1996,"Turtleback Books","Turtleback Books",null,"Fiction","English","Hardcover",32,null,null,"PreK – 2","FIC","Graeme Base"]
[null,"Not Available",null,9780808529866,null,"Anno's Journey",null,null,null,"Classics & Best Sellers",null,null,null,28.5,19.95,0,0,null,{"$f":"S9822","v":0},null,null,null,null,null,0,0,0,0,0,0,0,0,null,null,null,null,null,"Fall 2015",null,1978,"Turtleback Books","Turtleback Books",null,"Fiction","English","Hardcover",48,null,null,"PreK – 2","FIC","Mitsumasa Anno"]
[null,"Not Available",null,9780785751038,null,"Are You My Mother?",null,null,null,"Classics & Best Sellers",null,null,null,29.95,20.95,0,0,null,{"$f":"S9822","v":0},null,null,null,null,null,0,0,0,0,0,0,0,0,null,null,null,null,null,"Fall 2015",null,1960,"Turtleback Books","Turtleback Books",1.6,"Fiction","English","Hardcover",72,"I",80,"PreK – 2","FIC","Philip D. Eastman"]
[null,"Not Available",null,9780833586117,null,"Baby Beluga",null,null,null,"Classics & Best Sellers",null,null,null,24.25,16.95,0,0,null,{"$f":"S9822","v":0},null,null,null,null,null,0,0,0,0,0,0,0,0,null,null,null,null,null,"Fall 2015",null,1992,"Turtleback Books","Turtleback Books",null,"Fiction","English","Hardcover",32,"K","NP","PreK – 2","FIC","Ashley Wolff"]
[null,"Not Available",null,9780808524229,null,"Blueberries For Sal",null,null,null,"Classics & Best Sellers",null,null,null,28.5,19.95,0,0,null,{"$f":"S9822","v":0},null,null,null,null,null,0,0,0,0,0,0,0,0,null,null,null,null,null,"Fall 2015",null,1948,"Turtleback Books","Turtleback Books",4.0999999999999996,"Fiction","English","Hardcover",64,"M","AD890L","PreK – 2","FIC","Robert McCloskey"]
[null,"Not Available",null,9780808568537,null,"Bread And Jam For Frances",null,null,null,"Classics & Best Sellers",null,null,null,27.1,18.95,0,0,null,{"$f":"S9822","v":0},null,null,null,null,null,0,0,0,0,0,0,0,0,null,null,null,null,null,"Fall 2015",null,1964,"Turtleback Books","Turtleback Books",3.4,"Fiction","English","Hardcover",32,"K","AD490L","PreK – 2","FIC","Russell Hoban"]
[null,"Not Available",null,9780808537724,null,"Charlotte's Web",null,null,null,"Classics & Best Sellers",null,null,null,28.5,19.95,0,0,null,{"$f":"S9822","v":0},null,null,null,null,null,0,0,0,0,0,0,0,0,null,null,null,null,null,"Fall 2015",null,1985,"Turtleback Books","Turtleback Books",4.4000000000000004,"Fiction","English","Hardcover",192,"R","680L","PreK – 2","FIC","E.B. White"]
[null,"Not Available",null,9780613284431,null,"Chicka Chicka Boom Boom",null,null,null,"Classics & Best Sellers",null,null,null,28.5,19.95,0,0,null,{"$f":"S9822","v":0},null,null,null,null,null,0,0,0,0,0,0,0,0,null,null,null,null,null,"Fall 2015",null,1989,"Turtleback Books","Turtleback Books",null,"Fiction","English","Hardcover",40,null,"AD530L","PreK – 2","FIC","Bill Martin"]
[null,"Not Available",null,9780613020107,null,"Clifford's Spring Clean Up",null,null,null,"Classics & Best Sellers",null,null,null,21.35,14.95,0,0,null,{"$f":"S9822","v":0},null,null,null,null,null,0,0,0,0,0,0,0,0,null,null,null,null,null,"Fall 2015",null,1997,"Turtleback Books","Turtleback Books",2.2999999999999998,"Fiction","English","Hardcover",32,"K","500L","PreK – 2","FIC","Norman Bridwell"]
[null,"Not Available",null,9780881035476,null,"Corduroy",null,null,null,"Classics & Best Sellers",null,null,null,27.1,18.95,0,0,null,{"$f":"S9822","v":0},null,null,null,null,null,0,0,0,0,0,0,0,0,null,null,null,null,null,"Fall 2015",null,1968,"Turtleback Books","Turtleback Books",3.5,"Fiction","English","Hardcover",28,"K","600L","PreK – 2","FIC","Don Freeman"]
[null,"Not Available",null,9780613443869,null,"Dear Juno",null,null,null,"Classics & Best Sellers",null,null,null,24.25,16.95,0,0,null,{"$f":"S9822","v":0},null,null,null,null,null,0,0,0,0,0,0,0,0,null,null,null,null,null,"Fall 2015",null,2001,"Turtleback Books","Turtleback Books",3.4,"Fiction","English","Hardcover",32,"M","AD390L","PreK – 2","FIC","Soyung Pak"]
[null,"Not Available",null,9780606144704,null,"Diary Of A Wombat",null,null,null,"Classics & Best Sellers",null,null,null,27.1,18.95,0,0,null,{"$f":"S9822","v":0},null,null,null,null,null,0,0,0,0,0,0,0,0,null,null,null,null,null,"Fall 2015",null,2009,"Turtleback Books","Turtleback Books",2.5,"Fiction","English","Hardcover",32,"M","170L","PreK – 2","FIC","Jackie French"]
[null,"Not Available",null,9780613577205,null,"Dog's Colorful Day",null,null,null,"Classics & Best Sellers",null,null,null,24.25,16.95,0,0,null,{"$f":"S9822","v":0},null,null,null,null,null,0,0,0,0,0,0,0,0,null,null,null,null,null,"Fall 2015",null,2003,"Turtleback Books","Turtleback Books",1.9,"Fiction","English","Hardcover",32,null,null,"PreK – 2","FIC","Emma Dodd"]
[null,"Not Available",null,9781417734023,null,"Ed Emberley's Drawing Book Of Animals",null,null,null,"Classics & Best Sellers",null,null,null,27.1,18.95,0,0,null,{"$f":"S9822","v":0},null,null,null,null,null,0,0,0,0,0,0,0,0,null,null,null,null,null,"Fall 2015",null,2006,"Turtleback Books","Turtleback Books",null,"Fiction","English","Hardcover",32,null,null,"PreK – 2","FIC","Ed Emberley"]
[null,"Not Available",null,9780613076814,null,"Edward The Emu",null,null,null,"Classics & Best Sellers",null,null,null,27.1,18.95,0,0,null,{"$f":"S9822","v":0},null,null,null,null,null,0,0,0,0,0,0,0,0,null,null,null,null,null,"Fall 2015",null,1998,"Turtleback Books","Turtleback Books",3.6,"Fiction","English","Hardcover",32,null,"NP","PreK – 2","FIC","Sheena Knowles"]
[null,"Not Available",null,9780613685726,null,"Everyone Poops",null,null,null,"Classics & Best Sellers",null,null,null,28.5,19.95,0,0,null,{"$f":"S9822","v":0},null,null,null,null,null,0,0,0,0,0,0,0,0,null,null,null,null,null,"Fall 2015",null,1993,"Turtleback Books","Turtleback Books",null,"Fiction","English","Hardcover",27,null,null,"PreK – 2","FIC","Taro Gomi"]
[null,"Not Available",null,9780606391009,null,"Flora and Ulysses: The Illuminated Adventures",null,null,null,"Classics & Best Sellers",null,null,null,25.65,17.95,0,0,null,{"$f":"S9822","v":0},null,null,null,null,null,0,0,0,0,0,0,0,0,null,null,null,null,null,"Fall 2015",null,2013,"Turtleback Books","Turtleback Books",4.3,"Fiction","English","Hardcover","d","U",520,"PreK – 2","FIC","Kate DiCamillo"]
[null,"Not Available",null,9780808535812,null,"Freight Train",null,null,null,"Classics & Best Sellers",null,null,null,27.1,18.95,0,0,null,{"$f":"S9822","v":0},null,null,null,null,null,0,0,0,0,0,0,0,0,null,null,null,null,null,"Fall 2015",null,1978,"Turtleback Books","Turtleback Books",null,"Fiction","English","Hardcover",24,"G","NP","PreK – 2","FIC","Donald Crews"]
[null,"Not Available",null,9780606150040,null,"Go, Dog. Go!",null,null,null,"Classics & Best Sellers",null,null,null,29.95,20.95,0,0,null,{"$f":"S9822","v":0},null,null,null,null,null,0,0,0,0,0,0,0,0,null,null,null,null,null,"Fall 2015",null,1961,"Turtleback Books","Turtleback Books",1.2,"Fiction","English","Hardcover",72,"E","BR","PreK – 2","FIC","Philip D. Eastman"]
[null,"Not Available",null,9780613050715,null,"Good Dog, Carl",null,null,null,"Classics & Best Sellers",null,null,null,28.5,19.95,0,0,null,{"$f":"S9822","v":0},null,null,null,null,null,0,0,0,0,0,0,0,0,null,null,null,null,null,"Fall 2015",null,1983,"Turtleback Books","Turtleback Books",null,"Fiction","English","Hardcover",32,null,null,"PreK – 2","FIC","Alexandra Day"]
[null,"Not Available",null,9780613285001,null,"Good Night, Gorilla",null,null,null,"Classics & Best Sellers",null,null,null,24.25,16.95,0,0,null,{"$f":"S9822","v":0},null,null,null,null,null,0,0,0,0,0,0,0,0,null,null,null,null,null,"Fall 2015",null,1994,"Turtleback Books","Turtleback Books",null,"Fiction","English","Hardcover",40,null,null,"PreK – 2","FIC","Peggy Rathmann"]
[null,"Not Available",null,9780808593867,null,"Goodnight Moon",null,null,null,"Classics & Best Sellers",null,null,null,27.1,18.95,0,0,null,{"$f":"S9822","v":0},null,null,null,null,null,0,0,0,0,0,0,0,0,null,null,null,null,null,"Fall 2015",null,1947,"Turtleback Books","Turtleback Books",1.8,"Fiction","English","Hardcover",32,"H","AD360L","PreK – 2","FIC","Margaret Wise Brown"]
[null,"Not Available",null,9780606106955,null,"Grandfather's Journey",null,null,null,"Classics & Best Sellers",null,null,null,28.5,19.95,0,0,null,{"$f":"S9822","v":0},null,null,null,null,null,0,0,0,0,0,0,0,0,null,null,null,null,null,"Fall 2015",null,1993,"Turtleback Books","Turtleback Books",3.6,"Fiction","English","Hardcover",32,"P","AD650L","PreK – 2","FIC","Allen Say"]
[null,"Not Available",null,9780881036954,null,"Harold And The Purple Crayon",null,null,null,"Classics & Best Sellers",null,null,null,27.1,18.95,0,0,null,{"$f":"S9822","v":0},null,null,null,null,null,0,0,0,0,0,0,0,0,null,null,null,null,null,"Fall 2015",null,1955,"Turtleback Books","Turtleback Books",3,"Fiction","English","Hardcover",64,"K","490L","PreK – 2","FIC","Crockett Johnson"]
[null,"Not Available",null,9780808524564,null,"Harry The Dirty Dog",null,null,null,"Classics & Best Sellers",null,null,null,27.1,18.95,0,0,null,{"$f":"S9822","v":0},null,null,null,null,null,0,0,0,0,0,0,0,0,null,null,null,null,null,"Fall 2015",null,2006,"Turtleback Books","Turtleback Books",3.1,"Fiction","English","Hardcover",32,"J","AD700L","PreK – 2","FIC","Gene Zion"]
[null,"Not Available",null,9780613606820,null,"Hooway For Wodney Wat",null,null,null,"Classics & Best Sellers",null,null,null,27.1,18.95,0,0,null,{"$f":"S9822","v":0},null,null,null,null,null,0,0,0,0,0,0,0,0,null,null,null,null,null,"Fall 2015",null,2002,"Turtleback Books","Turtleback Books",3.1,"Fiction","English","Hardcover",32,"M","AD360L","PreK – 2","FIC","Helen Lester"]
[null,"Not Available",null,9781417643189,null,"How Are You Peeling? Foods With Moods",null,null,null,"Classics & Best Sellers",null,null,null,27.1,18.95,0,0,null,{"$f":"S9822","v":0},null,null,null,null,null,0,0,0,0,0,0,0,0,null,null,null,null,null,"Fall 2015",null,2004,"Turtleback Books","Turtleback Books",null,"Fiction","English","Hardcover",48,"K","BR","PreK – 2","FIC","Saxton Freymann"]
[null,"Not Available",null,9780606334860,null,"I Took The Moon For A Walk",null,null,null,"Classics & Best Sellers",null,null,null,28.5,19.95,0,0,null,{"$f":"S9822","v":0},null,null,null,null,null,0,0,0,0,0,0,0,0,null,null,null,null,null,"Fall 2015",null,2004,"Turtleback Books","Turtleback Books",2.1,"Fiction","English","Hardcover",32,null,"AD640L","PreK – 2","FIC","Carolyn Curtis"]
[null,"Not Available",null,9780785746522,null,"Just Going To The Dentist",null,null,null,"Classics & Best Sellers",null,null,null,21.35,14.95,0,0,null,{"$f":"S9822","v":0},null,null,null,null,null,0,0,0,0,0,0,0,0,null,null,null,null,null,"Fall 2015",null,1990,"Turtleback Books","Turtleback Books",2.4,"Fiction","English","Hardcover",24,"I","AD380L","PreK – 2","FIC","Mercer Mayer"]
[null,"Not Available",null,9780606066662,null,"Library Lion",null,null,null,"Classics & Best Sellers",null,null,null,27.1,18.95,0,0,null,{"$f":"S9822","v":0},null,null,null,null,null,0,0,0,0,0,0,0,0,null,null,null,null,null,"Fall 2015",null,2009,"Turtleback Books","Turtleback Books",2.8,"Fiction","English","Hardcover",48,"M","470L","PreK – 2","FIC","Michelle Knudsen"]
[null,"Not Available",null,9780613003957,null,"Lon Po Po: A Red Riding Hood Story From China",null,null,null,"Classics & Best Sellers",null,null,null,28.5,19.95,0,0,null,{"$f":"S9822","v":0},null,null,null,null,null,0,0,0,0,0,0,0,0,null,null,null,null,null,"Fall 2015",null,1996,"Turtleback Books","Turtleback Books",3.5,"Fiction","English","Hardcover",32,"S","670L","PreK – 2","FIC","Ed Young"]
[null,"Not Available",null,9780881038170,null,"Make Way For Ducklings",null,null,null,"Classics & Best Sellers",null,null,null,28.5,19.95,0,0,null,{"$f":"S9822","v":0},null,null,null,null,null,0,0,0,0,0,0,0,0,null,null,null,null,null,"Fall 2015",null,1941,"Turtleback Books","Turtleback Books",4.0999999999999996,"Fiction","English","Hardcover",72,"L","AD630L","PreK – 2","FIC","Robert McCloskey"]
[null,"Not Available",null,9780808536987,null,"Mama Don't Allow",null,null,null,"Classics & Best Sellers",null,null,null,27.1,18.95,0,0,null,{"$f":"S9822","v":0},null,null,null,null,null,0,0,0,0,0,0,0,0,null,null,null,null,null,"Fall 2015",null,2008,"Turtleback Books","Turtleback Books",2.2000000000000002,"Fiction","English","Hardcover",40,"I","480L","PreK – 2","FIC","Thacher Hurd"]
[null,"Not Available",null,9781417753062,null,"Matilda",null,null,null,"Classics & Best Sellers",null,null,null,28.5,19.95,0,0,null,{"$f":"S9822","v":0},null,null,null,null,null,0,0,0,0,0,0,0,0,null,null,null,null,null,"Fall 2015",null,2004,"Turtleback Books","Turtleback Books",5,"Fiction","English","Hardcover",232,"S","840L","PreK – 2","FIC","Roald Dahl"]
[null,"Not Available",null,9780606366977,null,"Merriam-Webster's Dictionary and Thesaurus",null,null,null,"Classics & Best Sellers",null,null,null,28.5,19.95,0,0,null,{"$f":"S9822","v":0},null,null,null,null,null,0,0,0,0,0,0,0,0,null,null,null,null,null,"Fall 2018",null,2014,"Turtleback Books","Turtleback Books",null,"Fiction","English","Hardcover",1259,null,null,"PreK – 2",null,"Merriam-Webseter, Eds"]
[null,"Not Available",null,9780606385022,null,"The Merriam-Webster Dictionary",null,null,null,"Classics & Best Sellers",null,null,null,25.65,17.95,0,0,null,{"$f":"S9822","v":0},null,null,null,null,null,0,0,0,0,0,0,0,0,null,null,null,null,null,"Fall 2018",null,2016,"Turtleback Books","Turtleback Books",null,"Fiction","English","Hardcover",960,null,null,"PreK – 2",null,"Merriam-Webseter, Eds"]
[null,"Not Available",null,9780613099585,null,"Me On The Map",null,null,null,"Classics & Best Sellers",null,null,null,27.1,18.95,0,0,null,{"$f":"S9822","v":0},null,null,null,null,null,0,0,0,0,0,0,0,0,null,null,null,null,null,"Fall 2015",null,1999,"Turtleback Books","Turtleback Books",1.8,"Fiction","English","Hardcover",32,"I","280L","PreK – 2","FIC","Joan Sweeney"]
[null,"Not Available",null,9780881032314,null,"Mike Mulligan And His Steam Shovel",null,null,null,"Classics & Best Sellers",null,null,null,28.5,19.95,0,0,null,{"$f":"S9822","v":0},null,null,null,null,null,0,0,0,0,0,0,0,0,null,null,null,null,null,"Fall 2015",null,1977,"Turtleback Books","Turtleback Books",4.4000000000000004,"Fiction","English","Hardcover",48,"M","820L","PreK – 2","FIC","Virginia L. Burton"]
[null,"Not Available",null,9781417792696,null,"Millions Of Cats",null,null,null,"Classics & Best Sellers",null,null,null,28.5,19.95,0,0,null,{"$f":"S9822","v":0},null,null,null,null,null,0,0,0,0,0,0,0,0,null,null,null,null,null,"Fall 2015",null,2006,"Turtleback Books","Turtleback Books",3.5,"Fiction","English","Hardcover",32,"K","730L","PreK – 2","FIC","Wanda Gag"]
[null,"Not Available",null,9780808563754,null,"Miss Nelson Is Missing!",null,null,null,"Classics & Best Sellers",null,null,null,27.1,18.95,0,0,null,{"$f":"S9822","v":0},null,null,null,null,null,0,0,0,0,0,0,0,0,null,null,null,null,null,"Fall 2015",null,1985,"Turtleback Books","Turtleback Books",2.7,"Fiction","English","Hardcover",32,"L","340L","PreK – 2","FIC","Harry Allard"]
[null,"Not Available",null,9780808566557,null,"Miss Rumphius",null,null,null,"Classics & Best Sellers",null,null,null,28.5,19.95,0,0,null,{"$f":"S9822","v":0},null,null,null,null,null,0,0,0,0,0,0,0,0,null,null,null,null,null,"Fall 2015",null,1982,"Turtleback Books","Turtleback Books",3.8,"Fiction","English","Hardcover",32,"M","680L","PreK – 2","FIC","Barbara Cooney"]
[null,"Not Available",null,9780833508911,null,"My Father's Dragon",null,null,null,"Classics & Best Sellers",null,null,null,28.5,19.95,0,0,null,{"$f":"S9822","v":0},null,null,null,null,null,0,0,0,0,0,0,0,0,null,null,null,null,null,"Fall 2015",null,1948,"Turtleback Books","Turtleback Books",5.6,"Fiction","English","Hardcover",96,"N","1040L","PreK – 2","FIC","Ruth Stiles Gannett"]
[null,"Not Available",null,9780606362221,null,"Owl Moon",null,null,null,"Classics & Best Sellers",null,null,null,28.5,19.95,0,0,null,{"$f":"S9822","v":0},null,null,null,null,null,0,0,0,0,0,0,0,0,null,null,null,null,null,"Fall 2015",null,1987,"Turtleback Books","Turtleback Books",3.2,"Fiction","English","Hardcover",30,"O","630L","PreK – 2","FIC","Jane Yolen"]
[null,"Not Available",null,9780808551515,null,"Paddle-To-The-Sea",null,null,null,"Classics & Best Sellers",null,null,null,35.65,24.95,0,0,null,{"$f":"S9822","v":0},null,null,null,null,null,0,0,0,0,0,0,0,0,null,null,null,null,null,"Fall 2015",null,1980,"Turtleback Books","Turtleback Books",5.4,"Fiction","English","Hardcover",64,"O","840L","PreK – 2","FIC","Holling Clancy"]
[null,"Not Available",null,9780881033991,null,"Please And Thank You Book",null,null,null,"Classics & Best Sellers",null,null,null,21.35,14.95,0,0,null,{"$f":"S9822","v":0},null,null,null,null,null,0,0,0,0,0,0,0,0,null,null,null,null,null,"Fall 2015",null,1973,"Turtleback Books","Turtleback Books",null,"Fiction","English","Hardcover",32,null,null,"PreK – 2","FIC","Richard Scarry"]
[null,"Not Available",null,9780606398466,null,"Poe: Stories and Poems: A Graphic Novel Adaptation",null,null,null,"Classics & Best Sellers",null,null,null,35.65,24.95,0,0,null,{"$f":"S9822","v":0},null,null,null,null,null,0,0,0,0,0,0,0,0,null,null,null,null,null,"Fall 2018",null,2017,"Turtleback Books","Turtleback Books",6.1,"Fiction","English","Hardcover",120,null,null,"PreK – 2","FIC","Edgar Allan Poe and Gareth Hinds "]
[null,"Not Available",null,9780808563891,null,"Puss In Boots",null,null,null,"Classics & Best Sellers",null,null,null,28.5,19.95,0,0,null,{"$f":"S9822","v":0},null,null,null,null,null,0,0,0,0,0,0,0,0,null,null,null,null,null,"Fall 2015",null,1983,"Turtleback Books","Turtleback Books",null,"Fiction","English","Hardcover",32,null,"AD730L","PreK – 2","FIC","Paul Galdone"]
[null,"Not Available",null,9781417829569,null,"Rules",null,null,null,"Classics & Best Sellers",null,null,null,27.1,18.95,0,0,null,{"$f":"S9822","v":0},null,null,null,null,null,0,0,0,0,0,0,0,0,null,null,null,null,null,"Fall 2015",null,2009,"Turtleback Books","Turtleback Books",3.9,"Fiction","English","Hardcover",224,"R","780L","PreK – 2","FIC","Cynthia Lord"]
[null,"Not Available",null,9780808523826,null,"Sylvester And The Magic Pebble",null,null,null,"Classics & Best Sellers",null,null,null,28.5,19.95,0,0,null,{"$f":"S9822","v":0},null,null,null,null,null,0,0,0,0,0,0,0,0,null,null,null,null,null,"Fall 2015",null,1969,"Turtleback Books","Turtleback Books",4,"Fiction","English","Hardcover",32,"N","AD700L","PreK – 2","FIC","William Steig"]
[null,"Not Available",null,9780606106948,null,"Tea With Milk",null,null,null,"Classics & Best Sellers",null,null,null,28.5,19.95,0,0,null,{"$f":"S9822","v":0},null,null,null,null,null,0,0,0,0,0,0,0,0,null,null,null,null,null,"Fall 2015",null,2009,"Turtleback Books","Turtleback Books",3.7,"Fiction","English","Hardcover",32,"S","AD450L","PreK – 2","FIC","Allen Say"]
[null,"Not Available",null,9780833530608,null,"The Doorbell Rang",null,null,null,"Classics & Best Sellers",null,null,null,27.1,18.95,0,0,null,{"$f":"S9822","v":0},null,null,null,null,null,0,0,0,0,0,0,0,0,null,null,null,null,null,"Fall 2015",null,1989,"Turtleback Books","Turtleback Books",1.9,"Fiction","English","Hardcover",24,"J","340L","PreK – 2","FIC","Pat Hutchins"]
[null,"Not Available",null,9780808590736,null,"The Giant Jam Sandwich",null,null,null,"Classics & Best Sellers",null,null,null,27.1,18.95,0,0,null,{"$f":"S9822","v":0},null,null,null,null,null,0,0,0,0,0,0,0,0,null,null,null,null,null,"Fall 2015",null,1972,"Turtleback Books","Turtleback Books",3.8,"Fiction","English","Hardcover",32,"K","NP","PreK – 2","FIC","John Vernon Lord"]
[null,"Not Available",null,9780606231411,null,"The Gruffalo",null,null,null,"Classics & Best Sellers",null,null,null,27.1,18.95,0,0,null,{"$f":"S9822","v":0},null,null,null,null,null,0,0,0,0,0,0,0,0,null,null,null,null,null,"Fall 2015",null,1999,"Turtleback Books","Turtleback Books",2.2999999999999998,"Fiction","English","Hardcover",32,"I","AD200L","PreK – 2","FIC"," Julia Donaldson"]
[null,"Not Available",null,9780833549945,null,"The Important Book",null,null,null,"Classics & Best Sellers",null,null,null,27.1,18.95,0,0,null,{"$f":"S9822","v":0},null,null,null,null,null,0,0,0,0,0,0,0,0,null,null,null,null,null,"Fall 2015",null,1999,"Turtleback Books","Turtleback Books",2.9,"Fiction","English","Hardcover",24,"K","AD580L","PreK – 2","FIC","Margaret Wise Brown"]
[null,"Not Available",null,9780833598813,null,"The Little Mouse, The Red Ripe Strawberry, And The Big Hungry Bear",null,null,null,"Classics & Best Sellers",null,null,null,28.5,19.95,0,0,null,{"$f":"S9822","v":0},null,null,null,null,null,0,0,0,0,0,0,0,0,null,null,null,null,null,"Fall 2015",null,1990,"Turtleback Books","Turtleback Books",1.5,"Fiction","English","Hardcover",32,"I","510L","PreK – 2","FIC","Audrey Wood"]
[null,"Not Available",null,9780833517449,null,"The Magic School Bus At The Waterworks",null,null,null,"Classics & Best Sellers",null,null,null,27.1,18.95,0,0,null,{"$f":"S9822","v":0},null,null,null,null,null,0,0,0,0,0,0,0,0,null,null,null,null,null,"Fall 2015",null,2004,"Turtleback Books","Turtleback Books",3.7,"Fiction","English","Hardcover",40,"P","AD660L","PreK – 2","FIC","Joanna Cole"]
[null,"Not Available",null,9780808537007,null,"The Mitten",null,null,null,"Classics & Best Sellers",null,null,null,27.1,18.95,0,0,null,{"$f":"S9822","v":0},null,null,null,null,null,0,0,0,0,0,0,0,0,null,null,null,null,null,"Fall 2015",null,1989,"Turtleback Books","Turtleback Books",null,"Fiction","English","Hardcover",40,"M","AD840L","PreK – 2","FIC","Alvin Tresselt"]
[null,"Not Available",null,9780606354813,null,"The One And Only Ivan",null,null,null,"Classics & Best Sellers",null,null,null,28.5,19.95,0,0,null,{"$f":"S9822","v":0},null,null,null,null,null,0,0,0,0,0,0,0,0,null,null,null,null,null,"Fall 2015",null,2011,"Turtleback Books","Turtleback Books",3.6,"Fiction","English","Hardcover",320,"T","570L","PreK – 2","FIC","Katherine Applegate"]
[null,"Not Available",null,9780833579102,null,"The Paper Bag Princess",null,null,null,"Classics & Best Sellers",null,null,null,27.1,18.95,0,0,null,{"$f":"S9822","v":0},null,null,null,null,null,0,0,0,0,0,0,0,0,null,null,null,null,null,"Fall 2015",null,1980,"Turtleback Books","Turtleback Books",3.8,"Fiction","English","Hardcover",23,"K","AD740L","PreK – 2","FIC","Robert Munsch"]
[null,"Not Available",null,9780881032154,null,"The Runaway Bunny",null,null,null,"Classics & Best Sellers",null,null,null,27.1,18.95,0,0,null,{"$f":"S9822","v":0},null,null,null,null,null,0,0,0,0,0,0,0,0,null,null,null,null,null,"Fall 2015",null,1972,"Turtleback Books","Turtleback Books",2.7,"Fiction","English","Hardcover",48,"I","AD600L","PreK – 2","FIC","Margaret Wise Brown"]
[null,"Not Available",null,9780613925013,null,"The Snowy Day",null,null,null,"Classics & Best Sellers",null,null,null,28.5,19.95,0,0,null,{"$f":"S9822","v":0},null,null,null,null,null,0,0,0,0,0,0,0,0,null,null,null,null,null,"Fall 2015",null,1962,"Turtleback Books","Turtleback Books",2.5,"Fiction","English","Hardcover",32,"J","AD500L","PreK – 2","FIC","Ezra Jack Keats"]
[null,"Not Available",null,9780613301442,null,"The Story Of Ferdinand",null,null,null,"Classics & Best Sellers",null,null,null,21.35,14.95,0,0,null,{"$f":"S9822","v":0},null,null,null,null,null,0,0,0,0,0,0,0,0,null,null,null,null,null,"Fall 2015",null,1936,"Turtleback Books","Turtleback Books",3.7,"Fiction","English","Hardcover",32,"K","AD830L","PreK – 2","FIC","Munro Leaf"]
[null,"Not Available",null,9780785778424,null,"The True Story Of The 3 Little Pigs",null,null,null,"Classics & Best Sellers",null,null,null,28.5,19.95,0,0,null,{"$f":"S9822","v":0},null,null,null,null,null,{"$f":"S9887","v":0},{"$f":"U9887","v":0},{"$f":"W9887*2","v":0},{"$f":"Y9887+Z9887+AA9887","v":0},{"$f":"S9887*O9887","v":0},{"$f":"U9887*P9887","v":0},{"$f":"W9887*Q9887","v":0},{"$f":"IF(AH9887=FALSE,AC9887+AD9887+AE9887,0)","v":0},null,null,null,null,null,"Fall 2015",null,1996,"Turtleback Books","Turtleback Books",3,"Fiction","English","Hardcover",32,"Q","AD570L","PreK – 2","FIC","Jon Scieszka"]
[null,"Not Available",null,9780613121873,null,"Thomas's ABC Book",null,null,null,"Classics & Best Sellers",null,null,null,21.35,14.95,0,0,null,{"$f":"S9822","v":0},null,null,null,null,null,0,0,0,0,0,0,0,0,null,null,null,null,null,"Fall 2015",null,2010,"Turtleback Books","Turtleback Books",null,"Fiction","English","Hardcover",24,null,"AD200L","PreK – 2","FIC","W. Awdry"]
[null,"Not Available",null,9780606085472,null,"Those Shoes",null,null,null,"Classics & Best Sellers",null,null,null,27.1,18.95,0,0,null,{"$f":"S9822","v":0},null,null,null,null,null,0,0,0,0,0,0,0,0,null,null,null,null,null,"Fall 2015",null,2007,"Turtleback Books","Turtleback Books",3.1,"Fiction","English","Hardcover",40,"L","AD680L","PreK – 2","FIC","Maribeth Boelts"]
[null,"Not Available",null,9781417784172,null,"Tikki Tikki Tembo",null,null,null,"Classics & Best Sellers",null,null,null,27.1,18.95,0,0,null,{"$f":"S9822","v":0},null,null,null,null,null,0,0,0,0,0,0,0,0,null,null,null,null,null,"Fall 2015",null,1968,"Turtleback Books","Turtleback Books",4.2,"Fiction","English","Hardcover",32,"N","AD1090L","PreK – 2","FIC","Arlene Mosel"]
[null,"Not Available",null,9780613272810,null,"Tomie dePaola's Mother Goose Favorites",null,null,null,"Classics & Best Sellers",null,null,null,21.35,14.95,0,0,null,{"$f":"S9822","v":0},null,null,null,null,null,0,0,0,0,0,0,0,0,null,null,null,null,null,"Fall 2015",null,2000,"Turtleback Books","Turtleback Books",null,"Fiction","English","Hardcover",32,null,null,"PreK – 2","FIC","Tomie dePaola"]
[null,"Not Available",null,9780613036146,null,"Tuesday",null,null,null,"Classics & Best Sellers",null,null,null,28.5,19.95,0,0,null,{"$f":"S9822","v":0},null,null,null,null,null,0,0,0,0,0,0,0,0,null,null,null,null,null,"Fall 2015",null,1997,"Turtleback Books","Turtleback Books",null,"Fiction","English","Hardcover",32,null,"NP","PreK – 2","FIC","David Wiesner"]
[null,"Not Available",null,9780613616652,null,"We're Going On A Bear Hunt",null,null,null,"Classics & Best Sellers",null,null,null,28.5,19.95,0,0,null,{"$f":"S9822","v":0},null,null,null,null,null,0,0,0,0,0,0,0,0,null,null,null,null,null,"Fall 2015",null,2003,"Turtleback Books","Turtleback Books",1.3,"Fiction","English","Hardcover",36,"I","BR","PreK – 2","FIC","Michael J. Rosen "]
[null,"Not Available",null,9780606239950,null,"What Do You Do With A Tail Like This?",null,null,null,"Classics & Best Sellers",null,null,null,28.5,19.95,0,0,null,{"$f":"S9822","v":0},null,null,null,null,null,0,0,0,0,0,0,0,0,null,null,null,null,null,"Fall 2015",null,2003,"Turtleback Books","Turtleback Books",3,"Fiction","English","Hardcover",32,"L","620L","PreK – 2","FIC","Steve Jenkins"]
[null,"Not Available",null,9780606315043,null,"What If You Had Animal Teeth?",null,null,null,"Classics & Best Sellers",null,null,null,21.35,14.95,0,0,null,{"$f":"S9822","v":0},null,null,null,null,null,0,0,0,0,0,0,0,0,null,null,null,null,null,"Fall 2015",null,2013,"Turtleback Books","Turtleback Books",4.9000000000000004,"Fiction","English","Hardcover",32,"D","AD930L","PreK – 2","FIC","Sandra Markle"]
[null,"Not Available",null,9780881034059,null,"Where The Wild Things Are",null,null,null,"Classics & Best Sellers",null,null,null,29.95,20.95,0,0,null,{"$f":"S9822","v":0},null,null,null,null,null,0,0,0,0,0,0,0,0,null,null,null,null,null,"Fall 2015",null,1991,"Turtleback Books","Turtleback Books",3.4,"Fiction","English","Hardcover",48,"J","AD740L","PreK – 2","FIC","Maurice Sendak"]
[null,"Not Available",null,9780808525554,null,"Whistle For Willie",null,null,null,"Classics & Best Sellers",null,null,null,27.1,18.95,0,0,null,{"$f":"S9822","v":0},null,null,null,null,null,0,0,0,0,0,0,0,0,null,null,null,null,null,"Fall 2015",null,1977,"Turtleback Books","Turtleback Books",2.5,"Fiction","English","Hardcover",32,"L","AD410L","PreK – 2","FIC","Ezra Jack Keats"]
[null,"Not Available",null,9780881038385,null,"Winnie The Pooh",null,null,null,"Classics & Best Sellers",null,null,null,27.1,18.95,0,0,null,{"$f":"S9822","v":0},null,null,null,null,null,0,0,0,0,0,0,0,0,null,null,null,null,null,"Fall 2015",null,1992,"Turtleback Books","Turtleback Books",4.5999999999999996,"Fiction","English","Hardcover",159,null,"790L","PreK – 2","FIC","A. A. Milne"]
[]
[null,null,null,null,null,"Complete Series of 5",null,null,null,"Big Nate (Spanish)",null,null,null,{"$f":"SUM(N9901:N9905)","v":214},{"$f":"SUM(O9901:O9905)","v":149.75},{"$f":"SUM(P9901:P9905)","v":0},{"$f":"SUM(Q9901:Q9905)","v":0},null,null,null,null,null,null,null,null,null,null,null,null,null,null,null,null,null,null,null,null,null,null,null,"Turtleback Books"]
[null,"Not Available",null,9780606392006,null,"Nate El Grande Al Reves (Big Nate Flips Out)",null,null,null,"Big Nate (Spanish)",null,null,null,42.8,29.95,0,0,null,{"$f":"S9900","v":0},null,null,null,null,null,{"$f":"S9901","v":0},{"$f":"U9901","v":0},{"$f":"W9901*2","v":0},{"$f":"Y9901+Z9901+AA9901","v":0},{"$f":"S9901*O9901","v":0},{"$f":"U9901*P9901","v":0},{"$f":"W9901*Q9901","v":0},{"$f":"IF(AH9901=FALSE,AC9901+AD9901+AE9901,0)","v":0},null,null,null,null,null,"Fall 2018",null,2015,"Turtleback Books","Turtleback Books",2.8,"Fiction","Spanish","Hardcover",216,"",null,"3 - 7",null,"Lincoln Pierce"]
[null,"Not Available",null,9780606356510,null,"Nate El Grande Ataca De Nuevo (Big Nate Strikes Again)",null,null,null,"Big Nate (Spanish)",null,null,null,42.8,29.95,0,0,null,{"$f":"S9900","v":0},null,null,null,null,null,{"$f":"S9902","v":0},{"$f":"U9902","v":0},{"$f":"W9902*2","v":0},{"$f":"Y9902+Z9902+AA9902","v":0},{"$f":"S9902*O9902","v":0},{"$f":"U9902*P9902","v":0},{"$f":"W9902*Q9902","v":0},{"$f":"IF(AH9902=FALSE,AC9902+AD9902+AE9902,0)","v":0},null,null,null,null,null,"Fall 2018",null,2011,"Turtleback Books","Turtleback Books",3,"Fiction","Spanish","Hardcover",217,"",540,"3 - 7",null,"Lincoln Pierce"]
[null,"Not Available",null,9780606356534,null,"Nate El Grande Invencible (Big Nate Goes For Broke)",null,null,null,"Big Nate (Spanish)",null,null,null,42.8,29.95,0,0,null,{"$f":"S9900","v":0},null,null,null,null,null,{"$f":"S9903","v":0},{"$f":"U9903","v":0},{"$f":"W9903*2","v":0},{"$f":"Y9903+Z9903+AA9903","v":0},{"$f":"S9903*O9903","v":0},{"$f":"U9903*P9903","v":0},{"$f":"W9903*Q9903","v":0},{"$f":"IF(AH9903=FALSE,AC9903+AD9903+AE9903,0)","v":0},null,null,null,null,null,"Fall 2018",null,2013,"Turtleback Books","Turtleback Books",2.8,"Fiction","Spanish","Hardcover",219,"",490,"3 - 7",null,"Lincoln Pierce"]
[null,"Not Available",null,9780606356527,null,"Nate El Grande Sobre Ruedas (Big Nate On A Roll)",null,null,null,"Big Nate (Spanish)",null,null,null,42.8,29.95,0,0,null,{"$f":"S9900","v":0},null,null,null,null,null,{"$f":"S9904","v":0},{"$f":"U9904","v":0},{"$f":"W9904*2","v":0},{"$f":"Y9904+Z9904+AA9904","v":0},{"$f":"S9904*O9904","v":0},{"$f":"U9904*P9904","v":0},{"$f":"W9904*Q9904","v":0},{"$f":"IF(AH9904=FALSE,AC9904+AD9904+AE9904,0)","v":0},null,null,null,null,null,"Fall 2018",null,2012,"Turtleback Books","Turtleback Books",2.9,"Fiction","Spanish","Hardcover",216,"",510,"3 - 7",null,"Lincoln Pierce"]
[null,"Not Available",null,9780606356503,null,"Nate El Grande: Unico En Su Clase (Big Nate: In A Class By Himself)",null,null,null,"Big Nate (Spanish)",null,null,null,42.8,29.95,0,0,null,{"$f":"S9900","v":0},null,null,null,null,null,{"$f":"S9905","v":0},{"$f":"U9905","v":0},{"$f":"W9905*2","v":0},{"$f":"Y9905+Z9905+AA9905","v":0},{"$f":"S9905*O9905","v":0},{"$f":"U9905*P9905","v":0},{"$f":"W9905*Q9905","v":0},{"$f":"IF(AH9905=FALSE,AC9905+AD9905+AE9905,0)","v":0},null,null,null,null,null,"Fall 2018",null,2011,"Turtleback Books","Turtleback Books",2.9,"Fiction","Spanish","Hardcover",214,"",530,"3 - 7",null,"Lincoln Pierce"]
[]
[null,null,null,null,null,"Complete Series of 7",null,null,null,"Captain Underpants Spanish",null,null,null,{"$f":"SUM(N9908:N9914)","v":159.60000000000002},{"$f":"SUM(O9908:O9914)","v":111.65},{"$f":"SUM(P9908:P9914)","v":0},{"$f":"SUM(Q9908:Q9914)","v":0},null,null,null,null,null,null,null,null,null,null,null,null,null,null,null,null,null,null,null,null,null,null,null,"Turtleback Books"]
[null,"Not Available",null,9780606390309,null,"El Capitan Calzoncillos Y El Diabolico Desquite Del Inodoro-Turbotron 2000 (Captain Underpants And The Tyrannical Retaliation Of The Turbo Toilet 2000)",null,null,null,"Captain Underpants Spanish",null,null,null,22.8,15.95,0,0,null,{"$f":"S9907","v":0},null,null,null,null,null,{"$f":"S9908","v":0},{"$f":"U9908","v":0},{"$f":"W9908*2","v":0},{"$f":"Y9908+Z9908+AA9908","v":0},{"$f":"S9908*O9908","v":0},{"$f":"U9908*P9908","v":0},{"$f":"W9908*Q9908","v":0},{"$f":"IF(AH9908=FALSE,AC9908+AD9908+AE9908,0)","v":0},null,null,null,null,null,"Fall 2018",null,2014,"Turtleback Books","Turtleback Books",4.5999999999999996,"Fiction","Spanish","Hardcover",224,"",720,"2 – 5",null,"Dav Pilkey"]
[null,"Not Available",null,9780606390385,null,"El Capitan Calzoncillos Y La Asquerosa Venganza De Los Robocalzones Radioactivos (Captain Underpants And The Revolting Revenge Of The Radioactive Robo-Boxers)",null,null,null,"Captain Underpants Spanish",null,null,null,22.8,15.95,0,0,null,{"$f":"S9907","v":0},null,null,null,null,null,0,0,0,0,0,0,0,0,null,null,null,null,null,"Fall 2018",null,2013,"Turtleback Books","Turtleback Books",5.5,"Fiction","Spanish","Hardcover",224,"",800,"2 – 5",null,"Dav Pilkey"]
[null,"Not Available",null,9781417699896,null,"El Capitan Calzoncillos Y La Furia De La Supermuher Macroelastica (Captain Underpants And The Wrath Of The Wicked Wedgie Woman)",null,null,null,"Captain Underpants Spanish",null,null,null,22.8,15.95,0,0,null,{"$f":"S9907","v":0},null,null,null,null,null,0,0,0,0,0,0,0,0,null,null,null,null,null,"Fall 2018",null,2003,"Turtleback Books","Turtleback Books",4.4000000000000004,"Fiction","Spanish","Hardcover",176,"",690,"2 – 5",null,"Dav Pilkey"]
[null,"Not Available",null,9780613504157,null,"El Capitan Calzoncillos Y La Invasion De Las Horribles Camareras (Captain Underpants And The Invasion Of The Incredibly Naughty Cafeteria Ladies)",null,null,null,"Captain Underpants Spanish",null,null,null,22.8,15.95,0,0,null,{"$f":"S9907","v":0},null,null,null,null,null,0,0,0,0,0,0,0,0,null,null,null,null,null,"Fall 2018",null,2002,"Turtleback Books","Turtleback Books",4.4000000000000004,"Fiction","Spanish","Hardcover",144,"",740,"2 – 5",null,"Dav Pilkey"]
[null,"Not Available",null,9781417747276,null,"El Capitan Calzoncillos Y La Ridicula Historia De Los Inodoros Morados Vivientes (Captain Underpants And The Preposterous Plight Of The Purple Potty People)",null,null,null,"Captain Underpants Spanish",null,null,null,22.8,15.95,0,0,null,{"$f":"S9907","v":0},null,null,null,null,null,0,0,0,0,0,0,0,0,null,null,null,null,null,"Fall 2018",null,2008,"Turtleback Books","Turtleback Books",4.5999999999999996,"Fiction","Spanish","Hardcover",176,"",760,"2 – 5",null,"Dav Pilkey"]
[null,"Not Available",null,9780606388245,null,"El Capitan Calzoncillos Y La Sensacional Saga Del Senor Sohediondo (Captain Underpants And The Sensational Saga Of Sir Stinks-A-Lot)",null,null,null,"Captain Underpants Spanish",null,null,null,22.8,15.95,0,0,null,{"$f":"S9907","v":0},null,null,null,null,null,0,0,0,0,0,0,0,0,null,null,null,null,null,"Fall 2018",null,2016,"Turtleback Books","Turtleback Books",4.4000000000000004,"Fiction","Spanish","Hardcover",208,"",750,"2 – 5",null,"Dav Pilkey"]
[null,"Not Available",null,9780613544085,null,"Las Aventuras Del Capitan Calzoncillos (The Adventures Of Captain Underpants)",null,null,null,"Captain Underpants Spanish",null,null,null,22.8,15.95,0,0,null,{"$f":"S9907","v":0},null,null,null,null,null,0,0,0,0,0,0,0,0,null,null,null,null,null,"Fall 2018",null,2002,"Turtleback Books","Turtleback Books",4.3,"Fiction","Spanish","Hardcover",128,"",730,"2 – 5",null,"Dav Pilkey"]
[]
[null,null,null,null,null,"Complete Series of 11",null,null,null,"Diary Of A Wimpy Kid (Spanish)",null,null,null,{"$f":"SUM(N9917:N9927)","v":423.5},{"$f":"SUM(O9917:O9927)","v":296.44999999999993},{"$f":"SUM(P9917:P9927)","v":0},{"$f":"SUM(Q9917:Q9927)","v":0},null,null,null,null,null,null,null,null,null,null,null,null,null,null,null,null,null,null,null,null,null,null,null,"Turtleback Books"]
[null,"Not Available",null,9780606400053,null,"A Toda Marcha! (Double Down)",null,null,null,"Diary of a Wimpy Kids (Spanish)",null,null,null,38.5,26.95,0,0,null,{"$f":"S9916","v":0},null,null,null,null,null,{"$f":"S9917","v":0},{"$f":"U9917","v":0},{"$f":"W9917*2","v":0},{"$f":"Y9917+Z9917+AA9917","v":0},{"$f":"S9917*O9917","v":0},{"$f":"U9917*P9917","v":0},{"$f":"W9917*Q9917","v":0},{"$f":"IF(AH9917=FALSE,AC9917+AD9917+AE9917,0)","v":0},null,null,null,null,null,"Fall 2018",null,2016,"Turtleback Books","Turtleback Books",6,"Fiction","Spanish","Hardcover",218,"",null,"3 - 7",null,"Jeff Kinney"]
[null,"Not Available",null,9780606356435,null,"Diaro De Greg, Un Renacuajo (Diary Of A Wimpy Kid)",null,null,null,"Diary of a Wimpy Kids (Spanish)",null,null,null,38.5,26.95,0,0,null,{"$f":"S9916","v":0},null,null,null,null,null,0,0,0,0,0,0,0,0,null,null,null,null,null,"Fall 2018",null,2008,"Turtleback Books","Turtleback Books",5.3,"Fiction","Spanish","Hardcover",217,"",880,"3 - 7",null,"Jeff Kinney"]
[null,"Not Available",null,9780606356466,null,"Dias De Perros (Dog Days)",null,null,null,"Diary of a Wimpy Kids (Spanish)",null,null,null,38.5,26.95,0,0,null,{"$f":"S9916","v":0},null,null,null,null,null,0,0,0,0,0,0,0,0,null,null,null,null,null,"Fall 2018",null,2010,"Turtleback Books","Turtleback Books",6.1,"Fiction","Spanish","Hardcover",214,"",970,"3 - 7",null,"Jeff Kinney"]
[null,"Not Available",null,9780606379021,null,"El Arduo Viaje (The Long Haul)",null,null,null,"Diary of a Wimpy Kids (Spanish)",null,null,null,38.5,26.95,0,0,null,{"$f":"S9916","v":0},null,null,null,null,null,0,0,0,0,0,0,0,0,null,null,null,null,null,"Fall 2018",null,2015,"Turtleback Books","Turtleback Books",6.3,"Fiction","Spanish","Hardcover",217,"",null,"3 - 7",null,"Jeff Kinney"]
[null,"Not Available",null,9780606356459,null,"Esto Es El Colmo (The Last Straw)",null,null,null,"Diary of a Wimpy Kids (Spanish)",null,null,null,38.5,26.95,0,0,null,{"$f":"S9916","v":0},null,null,null,null,null,0,0,0,0,0,0,0,0,null,null,null,null,null,"Fall 2018",null,2010,"Turtleback Books","Turtleback Books",6,"Fiction","Spanish","Hardcover",217,"",930,"3 - 7",null,"Jeff Kinney"]
[null,"Not Available",null,9780606356473,null,"La Horrible Realidad (The Ugly Truth)",null,null,null,"Diary of a Wimpy Kids (Spanish)",null,null,null,38.5,26.95,0,0,null,{"$f":"S9916","v":0},null,null,null,null,null,0,0,0,0,0,0,0,0,null,null,null,null,null,"Fall 2018",null,2010,"Turtleback Books","Turtleback Books",5.4,"Fiction","Spanish","Hardcover",217,"",940,"3 - 7",null,"Jeff Kinney"]
[null,"Not Available",null,9780606356442,null,"La Ley De Rodrick (Rodrick Rules)",null,null,null,"Diary of a Wimpy Kids (Spanish)",null,null,null,38.5,26.95,0,0,null,{"$f":"S9916","v":0},null,null,null,null,null,0,0,0,0,0,0,0,0,null,null,null,null,null,"Fall 2018",null,2009,"Turtleback Books","Turtleback Books",5,"Fiction","Spanish","Hardcover",217,"",900,"3 - 7",null,"Jeff Kinney"]
[null,"Not Available",null,9780606369152,null,"Mala Suerte (Hard Luck)",null,null,null,"Diary of a Wimpy Kids (Spanish)",null,null,null,38.5,26.95,0,0,null,{"$f":"S9916","v":0},null,null,null,null,null,0,0,0,0,0,0,0,0,null,null,null,null,null,"Fall 2018",null,2014,"Turtleback Books","Turtleback Books",6.5,"Fiction","Spanish","Hardcover",218,"",null,"3 - 7",null,"Jeff Kinney"]
[null,"Not Available",null,9780606356480,null,"Sin Salida! (Cabin Fever)",null,null,null,"Diary of a Wimpy Kids (Spanish)",null,null,null,38.5,26.95,0,0,null,{"$f":"S9916","v":0},null,null,null,null,null,0,0,0,0,0,0,0,0,null,null,null,null,null,"Fall 2018",null,2013,"Turtleback Books","Turtleback Books",6.8,"Fiction","Spanish","Hardcover",217,"",1000,"3 - 7",null,"Jeff Kinney"]
[null,"Not Available",null,9780606356497,null,"Tres No Es Compania (The Third Wheel)",null,null,null,"Diary of a Wimpy Kids (Spanish)",null,null,null,38.5,26.95,0,0,null,{"$f":"S9916","v":0},null,null,null,null,null,0,0,0,0,0,0,0,0,null,null,null,null,null,"Fall 2018",null,2013,"Turtleback Books","Turtleback Books",7,"Fiction","Spanish","Hardcover",217,"",null,"3 - 7",null,"Jeff Kinney"]
[null,"Not Available",null,9780606379076,null,"Vieja Escuela (Old School)",null,null,null,"Diary of a Wimpy Kids (Spanish)",null,null,null,38.5,26.95,0,0,null,{"$f":"S9916","v":0},null,null,null,null,null,0,0,0,0,0,0,0,0,null,null,null,null,null,"Fall 2018",null,2015,"Turtleback Books","Turtleback Books",6.3,"Fiction","Spanish","Hardcover",217,"",null,"3 - 7",null,"Jeff Kinney"]
[]
[null,null,null,null,null,"Complete Series of 4",null,null,null,"Peppa Pig 8X8 (Spanish)",null,null,null,{"$f":"SUM(N9930:N9933)","v":85.4},{"$f":"SUM(O9930:O9933)","v":59.8},{"$f":"SUM(P9930:P9933)","v":0},{"$f":"SUM(Q9930:Q9933)","v":0},null,null,null,null,null,null,null,null,null,null,null,null,null,null,null,null,null,null,null,null,null,null,null,"Turtleback Books"]
[null,"Not Available",null,9780606411806,null,"George Se Resfria (George Gets A Cold)",null,null,null,"Peppa Pig 8X8 (Spanish)",null,null,null,21.35,14.95,0,0,null,{"$f":"S9929","v":0},null,null,null,null,null,{"$f":"S9930","v":0},{"$f":"U9930","v":0},{"$f":"W9930*2","v":0},{"$f":"Y9930+Z9930+AA9930","v":0},{"$f":"S9930*O9930","v":0},{"$f":"U9930*P9930","v":0},{"$f":"W9930*Q9930","v":0},{"$f":"IF(AH9930=FALSE,AC9930+AD9930+AE9930,0)","v":0},null,null,null,null,null,"Fall 2018",null,2018,"Turtleback Books","Turtleback Books",null,"Fiction","Spanish","Hardcover",24,"AD",470,"PreK - 1",null,"Eone"]
[null,"Not Available",null,9780606396981,null,"Peppa Juega Futbol (Peppa Plays Soccer)",null,null,null,"Peppa Pig 8X8 (Spanish)",null,null,null,21.35,14.95,0,0,null,{"$f":"S9929","v":0},null,null,null,null,null,{"$f":"S9931","v":0},{"$f":"U9931","v":0},{"$f":"W9931*2","v":0},{"$f":"Y9931+Z9931+AA9931","v":0},{"$f":"S9931*O9931","v":0},{"$f":"U9931*P9931","v":0},{"$f":"W9931*Q9931","v":0},{"$f":"IF(AH9931=FALSE,AC9931+AD9931+AE9931,0)","v":0},null,null,null,null,null,"Fall 2018",null,2016,"Turtleback Books","Turtleback Books",null,"Fiction","Spanish","Hardcover",24,"AD",510,"PreK - 1",null,"Scholastic Editors"]
[null,"Not Available",null,9780606381031,null,"Peppa Se Va A Dormir (Bedtime For Peppa)",null,null,null,"Peppa Pig 8X8 (Spanish)",null,null,null,21.35,14.95,0,0,null,{"$f":"S9929","v":0},null,null,null,null,null,{"$f":"S9932","v":0},{"$f":"U9932","v":0},{"$f":"W9932*2","v":0},{"$f":"Y9932+Z9932+AA9932","v":0},{"$f":"S9932*O9932","v":0},{"$f":"U9932*P9932","v":0},{"$f":"W9932*Q9932","v":0},{"$f":"IF(AH9932=FALSE,AC9932+AD9932+AE9932,0)","v":0},null,null,null,null,null,"Fall 2016",null,2003,"Turtleback Books","Turtleback Books",1.8,"Fiction","Spanish","Hardcover",24,"AD",430,"PreK - 1",null,"Barbara Winthrop"]
[null,"Not Available",null,9780606401722,null,"Peppa Va A Nadar (Peppa Goes Swimming)",null,null,null,"Peppa Pig 8X8 (Spanish)",null,null,null,21.35,14.95,0,0,null,{"$f":"S9929","v":0},null,null,null,null,null,{"$f":"S9933","v":0},{"$f":"U9933","v":0},{"$f":"W9933*2","v":0},{"$f":"Y9933+Z9933+AA9933","v":0},{"$f":"S9933*O9933","v":0},{"$f":"U9933*P9933","v":0},{"$f":"W9933*Q9933","v":0},{"$f":"IF(AH9933=FALSE,AC9933+AD9933+AE9933,0)","v":0},null,null,null,null,null,"Fall 2018",null,2017,"Turtleback Books","Turtleback Books",1.7,"Fiction","Spanish","Hardcover",24,"",null,"PreK - 1",null,"Scholastic Inc."]
[]
[null,null,null,null,null,null,null,null,null,null,null,null,null,null,null,null,null,null,null,null,null,null,null,null,{"$f":"SUM(Y21:Y9933)+AA9936","v":0},{"$f":"SUM(Z21:Z9933)+AA9936","v":0},{"$f":"SUM(AA21:AA9933)","v":0},{"$f":"SUM(AB21:AB9933)","v":0},{"$f":"SUM(AC21:AC9933)","v":0},{"$f":"SUM(AD21:AD9933)","v":0},{"$f":"SUM(AE21:AE9933)","v":0}]
[null,null,null,null,null,null,null,null,null,null,null,null,null,null,null,null,null,null,null,null,null,null,null,null,null,null,{"$f":"AA9935/2","v":0},null,null,null,{"$f":"SUM(AF21:AF9933)","v":0}]

{"sheet":"Summary","index":1,"n_rows":17,"n_cols":36,"rows_kept":17,"cut":false,"hidden":false,"merged":[[3,18,3,22],[1,9,1,14],[2,9,2,14],[3,9,3,14],[4,9,4,14],[6,18,6,22],[5,9,5,14],[16,5,16,7],[16,9,16,11],[6,9,6,14],[9,9,9,14],[10,9,10,14],[11,9,11,14],[12,9,12,14],[13,9,13,14],[14,9,14,14]]}
[null,null,null,null,null,null,null,null,null,"SHIP TO INFORMATION:",null,null,null,null,null,null,null,null,"PAYMENT OPTIONS:"]
[null,null,null,null,null,null,null,"Organization:",null,null,null,null,null,null,null,null,null,null,"We accept: Visa, Mastercard, American Express or Check"]
[null,null,null,null,null,null,null,"Contact Name:",null,null,null,null,null,null,null,null,null,null,"Credit cards will have a 3% service fee applied"]
[null,null,null,null,null,null,null,"Address:",null,null,null,null,null,null,null,null,"Card Type:"]
[null,null,null,null,null,null,null,"City, State, Zip:",null,null,null,null,null,null,null,null,"Card Number:"]
[null,null,null,null,null,null,null,"eMail Address:",null,null,null,null,null,null,null,null,"Expiration Date:",null,null,null,null,null,"Billing Zip Code:"]
[null,null,null,null,null,null,null,"Phone Number:"]
[]
[null,null,null,null,null,null,null,null,null,"BILL TO INFORMATION:",null,null,null,null,null,null,null,null,"SUMMARY:"]
[null,null,null,"Sales Representative:",null,null,null,"Organization:",null,null,null,null,null,null,null,null,null,null,"HC",null,"EB",null,"Bundles",null,null,null,null,null,null,null,null,"Total"]
[null,null,null,"PO Number:",null,null,null,"Contact Name:",null,null,null,null,null,null,null,null,"# of Books:",null,{"$f":"'Title List'!U9","v":0},null,{"$f":"'Title List'!W9","v":0},null,{"$f":"'Title List'!AF9","v":0},null,null,null,null,null,null,null,null,{"$f":"'Title List'!AJ9","v":0}]
[null,null,null,"Need by Date:",null,null,null,"Address:",null,null,null,null,null,null,null,null,"Subtotals:",null,{"$f":"'Title List'!U10","v":0},null,{"$f":"'Title List'!W10","v":0},null,{"$f":"'Title List'!AF10","v":0},null,null,null,null,null,null,null,null,{"$f":"'Title List'!AJ10","v":0}]
[null,null,null,"Backorders Accepted:",null,null,null,"City, State, Zip:",null,null,null,null,null,null,null,null,"Processing:",null,null,null,null,null,null,null,null,null,null,null,null,null,null,{"$f":"'Processing Spec Form'!EB25","v":0}]
[null,null,null,null,null,null,null,"eMail Address:",null,null,null,null,null,null,null,null,"Shipping:",null,null,null,null,null,null,null,null,null,null,null,null,null,null,"FREE"]
[null,null,null,"Promotional Item Chosen:",null,null,null,"Phone Number:",null,null,null,null,null,null,null,null,"Total:",null,null,null,null,null,null,null,null,null,null,null,null,null,null,{"$f":"AF12+AF13","v":0}]
[]
["New","eBook ISBN",null,"Print ISBN",null,"Title",null,null,null,"Series",null,null,null,"HC List Price","HC S/L Price","Multi User eBook Price","Bundle Price",null,"Print Qty",null,"Multi User eBook Qty",null,"Bundle Qty",null,"HIDDEN        HC Qty","HIDDEN        EB Qty","HIDDEN BUNDLE QTY            (HC + EB)","HIDDEN QTY TOTAL","HIDDEN HC TOTAL","HIDDEN EB TOTAL","HIDDEN BUNDLE TOTAL","Total",null,"Mark X for                      FREE Book",null,"Custom Field"]

{"sheet":"Promotions","index":2,"n_rows":52,"n_cols":9,"rows_kept":52,"cut":false,"hidden":false,"merged":[[13,0,13,1],[21,0,21,1],[27,0,27,1],[42,0,42,1],[14,0,14,1],[32,0,32,1],[34,0,34,1],[39,0,39,1],[41,0,41,1],[28,0,28,1],[35,0,35,1],[25,0,25,1],[20,0,20,1]]}
[]
[]
[]
[]
[]
[null,null,null,null,"Promotions available with J. Appleseed!"]
[null,null,null,null,"Promotions cannot be combined with any other offer"]
[]
[]
[]
[]
[null,null,"","Buy 1 Hardcover Book and get 1 Hardcover FREE!",null,"Purchased Qty:",{"$f":"'Title List'!U9","v":0}]
[null,null,null,"Can mix and match between publishers to meet minimum, ",null,"Purchased Amount:",{"$f":"'Title List'!U10","v":0},null,{"$f":"IF(G13>=300,\"Eligible for FREE HC Books!\",\"Not yet, add more hardcovers!\")","v":"Not yet, add more hardcovers!"}]
["Package 1:",null,null,"However, Free hardcover book MUST be from the same Publisher"]
["BOGO (HC)",null,null,"$300 minimum order required",null,"Eligible for",{"$f":"IF(G13>=300,G12/2,0)","v":0},null,"FREE Hardcover Books"]
[]
[]
[]
[null,null,"","Buy 1 eBook and get 1 eBook FREE!",null,"Purchased Qty:",{"$f":"'Title List'!W9","v":0}]
[null,null,null,"Can mix and match between publishers to meet minimum, ",null,"Purchased Amount:",{"$f":"'Title List'!W10","v":0},null,{"$f":"IF(G20>=300,\"Eligible for FREE eBOOKS!\",\"Not yet, add more eBooks!\")","v":"Not yet, add more eBooks!"}]
["Package 2:",null,null,"However, Free eBook MUST be from the same Publisher"]
["BOGO (EB)",null,null,"$300 minimum order required",null,"Eligible for",{"$f":"IF(G20>=300,G19/2,0)","v":0},null,"FREE eBooks"]
[]
[]
[]
["Package 3:",null,"","$50 Amazon Gift Card"]
[null,null,null,"Can mix and match between publishers to meet minimum,",null,"Eligibility Qty:",{"$f":"'Title List'!AF9","v":0}]
["Bundle Gift Card",null,null,"However, only bundles are eligible",null,"Eligibility Amount:",{"$f":"'Title List'!AF10","v":0},null,{"$f":"IF(G28>=1000,\"Eligible for $50 Gift Card!\",\"Not yet, add more bundles!\")","v":"Not yet, add more bundles!"}]
[1000,null,null,"$1,000 minimum order required"]
[]
[]
[]
["Package 4:",null,"","$75 Amazon Gift Card"]
[null,null,null,"Can mix and match between publishers to meet minimum,",null,"Eligibility Qty:",{"$f":"'Title List'!AF9","v":0}]
["Bundle",null,null,"However, only bundles are eligible",null,"Eligibility Amount:",{"$f":"'Title List'!AF10","v":0},null,{"$f":"IF(G35>=1500,\"Eligible for $75 Gift Card!\",\"Not yet, add more bundles!\")","v":"Not yet, add more bundles!"}]
[1500,null,null,"$1,500 minimum order required"]
[]
[]
[]
["Package 5:",null,"","$100 Amazon Gift Card"]
[null,null,null,"Can mix and match between publishers to meet minimum,",null,"Eligibility Qty:",{"$f":"'Title List'!AF9","v":0}]
["Bundle",null,null,"However, only bundles are eligible",null,"Eligibility Amount:",{"$f":"'Title List'!AF10","v":0},null,{"$f":"IF(G42>=2000,\"Eligible for $100 Gift Card!\",\"Not yet, add more bundles!\")","v":"Not yet, add more bundles!"}]
[2000,null,null,"$2,000 minimum order required"]
[]
[]
[]
[]
[null,null,null,null,null,null,null,null,{"$f":"I13","v":"Not yet, add more hardcovers!"}]
[null,null,null,null,null,null,null,null,{"$f":"I20","v":"Not yet, add more eBooks!"}]
[null,null,null,null,null,null,null,null,{"$f":"I28","v":"Not yet, add more bundles!"}]
[null,null,null,null,null,null,null,null,{"$f":"I35","v":"Not yet, add more bundles!"}]
[null,null,null,null,null,null,null,null,{"$f":"I42","v":"Not yet, add more bundles!"}]

{"sheet":"Processing Spec Form","index":3,"n_rows":229,"n_cols":132,"rows_kept":229,"cut":false,"hidden":false,"merged":[[82,54,82,64],[1,0,1,70],[4,22,4,64],[5,22,5,64],[6,22,6,64],[7,22,7,64],[20,30,20,38],[32,28,32,42],[40,30,40,44],[42,10,42,24],[60,34,60,44],[82,34,82,44],[90,14,90,24],[90,34,90,44],[90,54,90,64],[98,14,98,24],[98,34,98,44],[98,54,98,64],[106,14,106,24],[106,34,106,44],[106,54,106,64],[114,14,114,24],[114,34,114,44],[114,54,114,64],[122,14,122,24],[122,34,122,44],[122,54,122,64],[130,14,130,24],[130,34,130,44],[130,54,130,64],[138,14,138,24],[138,34,138,44],[138,54,138,64],[146,14,146,24],[146,34,146,44],[146,54,146,64],[192,20,192,22],[152,14,152,24],[154,34,154,44],[154,54,154,64],[160,14,160,24],[162,14,162,24],[162,54,162,64],[164,34,164,44],[172,14,172,24],[172,54,172,64],[183,14,183,24],[183,54,183,64],[232,8,232,66],[194,16,194,28],[197,20,197,22],[199,16,199,28],[204,16,204,28],[209,16,209,28],[212,16,212,28],[218,16,218,28],[221,16,221,28],[223,16,223,28],[225,16,225,28],[230,8,230,66],[246,8,246,66],[248,8,248,66],[250,8,250,66],[252,8,252,66],[234,8,234,66],[236,8,236,66],[238,8,238,66],[240,8,240,66],[242,8,242,66],[244,8,244,66]]}
[]
["Please mark an X next to any/all options you wish to order",null,null,null,null,null,null,null,null,null,null,null,null,null,null,null,null,null,null,null,null,null,null,null,null,null,null,null,null,null,null,null,null,null,null,null,null,null,null,null,null,null,null,null,null,null,null,null,null,null,null,null,null,null,null,null,null,null,null,null,null,null,null,null,null,null,null,null,null,null,null,null,null,null,null,null,null,null,null,null,null,null,null,null,null,null,null,null,null,null,null,null,null,null,null,null,null,null,null,null,null,null,null,null,null,null,null,null,null,null,null,null,null,null,null,null,null,null,null,null,null,null,null,null,null,null,null,null,null,"Number of Books",null,{"$f":"'Title List'!U9","v":0}]
[]
[null,null,null,null,null,null,null,null,null,null,null,null,null,null,null,null,null,null,null,null,null,null,null,null,null,null,null,null,null,null,null,null,null,null,null,null,null,null,null,null,null,null,null,null,null,null,null,null,null,null,null,null,null,null,null,null,null,null,null,null,null,null,null,null,null,null,null,null,null,null,null,null,null,null,null,null,null,null,null,null,null,null,null,null,null,null,null,null,null,null,null,null,null,null,null,null,null,null,null,null,null,null,null,null,null,null,null,null,null,null,null,null,null,null,null,null,null,null,null,null,null,null,null,null,null,null,null,null,null,"MARC Records Only",null,{"$f":"IF(I13=\"x\",0,0)","v":0}]
[null,null,null,null,null,null,null,null,null,null,null,null,null,null,null,null,null,null,null,null,"School or Library Name:",null,null,null,null,null,null,null,null,null,null,null,null,null,null,null,null,null,null,null,null,null,null,null,null,null,null,null,null,null,null,null,null,null,null,null,null,null,null,null,null,null,null,null,null,null,null,null,null,null,null,null,null,null,null,null,null,null,null,null,null,null,null,null,null,null,null,null,null,null,null,null,null,null,null,null,null,null,null,null,null,null,null,null,null,null,null,null,null,null,null,null,null,null,null,null,null,null,null,null,null,null,null,null,null,null,null,null,null,"Shelf Ready",null,{"$f":"IF(I17=\"x\",EB2*0,0)","v":0}]
[null,null,null,null,null,null,null,null,null,null,null,null,null,null,null,null,null,null,null,null,"Contact Name:",null,null,null,null,null,null,null,null,null,null,null,null,null,null,null,null,null,null,null,null,null,null,null,null,null,null,null,null,null,null,null,null,null,null,null,null,null,null,null,null,null,null,null,null,null,null,null,null,null,null,null,null,null,null,null,null,null,null,null,null,null,null,null,null,null,null,null,null,null,null,null,null,null,null,null,null,null,null,null,null,null,null,null,null,null,null,null,null,null,null,null,null,null,null,null,null,null,null,null,null,null,null,null,null,null,null,null,null,"Bar Codes",null,{"$f":"IF(I19=\"x\",EB2*0.75,0)","v":0}]
[null,null,null,null,null,null,null,null,null,null,null,null,null,null,null,null,null,null,null,null,"Phone Number:",null,null,null,null,null,null,null,null,null,null,null,null,null,null,null,null,null,null,null,null,null,null,null,null,null,null,null,null,null,null,null,null,null,null,null,null,null,null,null,null,null,null,null,null,null,null,null,null,null,null,null,null,null,null,null,null,null,null,null,null,null,null,null,null,null,null,null,null,null,null,null,null,null,null,null,null,null,null,null,null,null,null,null,null,null,null,null,null,null,null,null,null,null,null,null,null,null,null,null,null,null,null,null,null,null,null,null,null,"Additional Bar Codes",null,{"$f":"IF(I21=\"x\",EB2*0.75,0)","v":0}]
[null,null,null,null,null,null,null,null,null,null,null,null,null,null,null,null,null,null,null,null,"E-Mail Address:",null,null,null,null,null,null,null,null,null,null,null,null,null,null,null,null,null,null,null,null,null,null,null,null,null,null,null,null,null,null,null,null,null,null,null,null,null,null,null,null,null,null,null,null,null,null,null,null,null,null,null,null,null,null,null,null,null,null,null,null,null,null,null,null,null,null,null,null,null,null,null,null,null,null,null,null,null,null,null,null,null,null,null,null,null,null,null,null,null,null,null,null,null,null,null,null,null,null,null,null,null,null,null,null,null,null,null,null,"Spine Labels",null,{"$f":"IF(I23=\"x\",EB2*0.5,0)","v":0}]
[null,null,null,null,null,null,null,null,null,null,null,null,null,null,null,null,null,null,null,null,null,null,null,null,null,null,null,null,null,null,null,null,null,null,null,null,null,null,null,null,null,null,null,null,null,null,null,null,null,null,null,null,null,null,null,null,null,null,null,null,null,null,null,null,null,null,null,null,null,null,null,null,null,null,null,null,null,null,null,null,null,null,null,null,null,null,null,null,null,null,null,null,null,null,null,null,null,null,null,null,null,null,null,null,null,null,null,null,null,null,null,null,null,null,null,null,null,null,null,null,null,null,null,null,null,null,null,null,null,"Book Pockets",null,{"$f":"IF(AC21=\"x\",EB2*0.5,0)","v":0}]
[null,null,null,null,null,null,null,null,null,null,null,null,null,null,null,null,null,null,null,null,null,null,null,null,null,null,null,null,null,null,null,null,null,null,null,null,null,null,null,null,null,null,null,null,null,null,null,null,null,null,null,null,null,null,null,null,null,null,null,null,null,null,null,null,null,null,null,null,null,null,null,null,null,null,null,null,null,null,null,null,null,null,null,null,null,null,null,null,null,null,null,null,null,null,null,null,null,null,null,null,null,null,null,null,null,null,null,null,null,null,null,null,null,null,null,null,null,null,null,null,null,null,null,null,null,null,null,null,null,"Date Due Cards",null,{"$f":"IF(AC23=\"x\",EB2*0.1,0)","v":0}]
[null,null,null,null,null,null,null,null,null,null,null,null,null,null,null,null,null,null,null,null,null,null,null,null,null,null,null,null,null,null,null,null,null,null,null,null,null,null,null,null,null,null,null,null,null,null,null,null,null,null,null,null,null,null,null,null,null,null,null,null,null,null,null,null,null,null,null,null,null,null,null,null,null,null,null,null,null,null,null,null,null,null,null,null,null,null,null,null,null,null,null,null,null,null,null,null,null,null,null,null,null,null,null,null,null,null,null,null,null,null,null,null,null,null,null,null,null,null,null,null,null,null,null,null,null,null,null,null,null,"Date Due Slip",null,{"$f":"IF(AC25=\"x\",EB2*0.1,0)","v":0}]
[null,null,null,null,null,null,null,null,"Processing Package:",null,null,null,null,null,null,null,null,null,null,null,null,null,null,null,null,null,null,null,null,null,null,null,null,null,null,null,null,null,null,null,null,null,null,null,null,null,null,null,null,null,null,null,null,null,null,null,null,null,null,null,null,null,null,null,null,null,null,null,null,null,null,null,null,null,null,null,null,null,null,null,null,null,null,null,null,null,null,null,null,null,null,null,null,null,null,null,null,null,null,null,null,null,null,null,null,null,null,null,null,null,null,null,null,null,null,null,null,null,null,null,null,null,null,null,null,null,null,null,null,"Property Label",null,{"$f":"IF(AC27=\"x\",EB2*0.5,0)","v":0}]
[null,null,null,null,null,null,null,null,null,null,"MARC Records Only (FREE)",null,null,null,null,null,null,null,null,null,null,null,null,null,null,null,null,null,null,null,"Attached  (FREE)",null,null,null,null,null,null,null,null,null,null,null,null,null,null,null,null,null,null,null,"Unattached  (FREE)",null,null,null,null,null,null,null,null,null,null,null,null,null,null,null,null,null,null,null,null,null,null,null,null,null,null,null,null,null,null,null,null,null,null,null,null,null,null,null,null,null,null,null,null,null,null,null,null,null,null,null,null,null,null,null,null,null,null,null,null,null,null,null,null,null,null,null,null,null,null,null,null,null,null,null,null,null,null,"AR Spine Label",null,{"$f":"IF(I25=\"x\",EB2*0.25,0)","v":0}]
[null,null,null,null,null,null,null,null,null,null,null,null,null,null,null,null,null,null,null,null,null,null,null,null,null,null,null,null,null,null,null,null,null,null,null,null,null,null,null,null,null,null,null,null,null,null,null,null,null,null,null,null,null,null,null,null,null,null,null,null,null,null,null,null,null,null,null,null,null,null,null,null,null,null,null,null,null,null,null,null,null,null,null,null,null,null,null,null,null,null,null,null,null,null,null,null,null,null,null,null,null,null,null,null,null,null,null,null,null,null,null,null,null,null,null,null,null,null,null,null,null,null,null,null,null,null,null,null,null,"AR Info Label",null,{"$f":"IF(I27=\"x\",EB2*0.25,0)","v":0}]
[null,null,null,null,null,null,null,null,"Processing Options:",null,null,null,null,null,null,null,null,null,null,null,null,null,null,null,null,null,null,null,null,null,null,null,null,null,null,null,null,null,null,null,null,null,null,null,null,null,null,null,null,null,null,null,null,null,null,null,null,null,null,null,null,null,null,null,null,null,null,null,null,null,null,null,null,null,null,null,null,null,null,null,null,null,null,null,null,null,null,null,null,null,null,null,null,null,null,null,null,null,null,null,null,null,null,null,null,null,null,null,null,null,null,null,null,null,null,null,null,null,null,null,null,null,null,null,null,null,null,null,null,"Lexile Label",null,{"$f":"IF(AC19=\"x\",EB2*0.2,0)","v":0}]
[]
[null,null,null,null,null,null,null,null,null,null,"Shelf Ready Processing (Includes MARC Records, 1 Barcode, 1 Spine label, 1 AR label of your choice - FREE)",null,null,null,null,null,null,null,null,null,null,null,null,null,null,null,null,null,null,null,null,null,null,null,null,null,null,null,null,null,null,null,null,null,null,null,null,null,null,null,null,null,null,null,null,null,null,null,null,null,null,null,null,null,null,null,null,null,null,null,null,null,null,null,null,null,null,null,null,null,null,null,null,null,null,null,null,null,null,null,null,null,null,null,null,null,null,null,null,null,null,null,null,null,null,null,null,null,null,null,null,null,null,null,null,null,null,null,null,null,null,null,null,null,null,null,null,null,null,"Theft 3M Tattle Tape",null,{"$f":"IF(AW19=\"x\",EB2*1,0)","v":0}]
[]
[null,null,null,null,null,null,null,null,null,null,"Barcode ($.75)",null,null,null,null,null,null,null,null,null,null,null,null,null,null,null,null,null,null,null,"Lexile Label ($.20)",null,null,null,null,null,null,null,null,null,null,null,null,null,null,null,null,null,null,null,"3M Tattle Tape ($1.00)",null,null,null,null,null,null,null,null,null,null,null,null,null,null,null,null,null,null,null,null,null,null,null,null,null,null,null,null,null,null,null,null,null,null,null,null,null,null,null,null,null,null,null,null,null,null,null,null,null,null,null,null,null,null,null,null,null,null,null,null,null,null,null,null,null,null,null,null,null,null,null,null,null,null,null,null,null,null,"Theft Checkpoint 8.2",null,{"$f":"IF(AW21=\"x\",EB2*1,0)","v":0}]
[]
[null,null,null,null,null,null,null,null,null,null,"Additional Barcode ($.75)",null,null,null,null,null,null,null,null,null,null,null,null,null,null,null,null,null,null,null,"Book Pocket ($.50)",null,null,null,null,null,null,null,null,null,null,null,null,null,null,null,null,null,null,null,"Checkpoint 8.2 (Plain or Date Due) ($1.00)",null,null,null,null,null,null,null,null,null,null,null,null,null,null,null,null,null,null,null,null,null,null,null,null,null,null,null,null,null,null,null,null,null,null,null,null,null,null,null,null,null,null,null,null,null,null,null,null,null,null,null,null,null,null,null,null,null,null,null,null,null,null,null,null,null,null,null,null,null,null,null,null,null,null,null,null,null,null,"Theft Checkpoint 9.5",null,{"$f":"IF(AW23=\"x\",EB2*1,0)","v":0}]
[null,null,null,null,null,null,null,null,null,null,"(additonal fees will apply)"]
[null,null,null,null,null,null,null,null,null,null,"Spine Label ($.50)",null,null,null,null,null,null,null,null,null,null,null,null,null,null,null,null,null,null,null,"Date Due Card ($.10)",null,null,null,null,null,null,null,null,null,null,null,null,null,null,null,null,null,null,null,"Checkpoint 9.5 (Plain or Date Due) ($1.00)",null,null,null,null,null,null,null,null,null,null,null,null,null,null,null,null,null,null,null,null,null,null,null,null,null,null,null,null,null,null,null,null,null,null,null,null,null,null,null,null,null,null,null,null,null,null,null,null,null,null,null,null,null,null,null,null,null,null,null,null,null,null,null,null,null,null,null,null,null,null,null,null,null,null,null,null,null,null,"Theft RFID",null,{"$f":"IF(AW25=\"x\",EB2*1,0)","v":0}]
[]
[null,null,null,null,null,null,null,null,null,null,"AR Spine Label ($.25)",null,null,null,null,null,null,null,null,null,null,null,null,null,null,null,null,null,null,null,"Date Due Slip ($.10)",null,null,null,null,null,null,null,null,null,null,null,null,null,null,null,null,null,null,null,"Checkpoint RFID ($1.00)",null,null,null,null,null,null,null,null,null,null,null,null,null,null,null,null,null,null,null,null,null,null,null,null,null,null,null,null,null,null,null,null,null,null,null,null,null,null,null,null,null,null,null,null,null,null,null,null,null,null,null,null,null,null,null,null,null,null,null,null,null,null,null,null,null,null,null,null,null,null,null,null,null,null,null,null,null,null,"Total Processing:",null,{"$f":"EB4+EB5+EB6+EB7+EB8+EB9+EB10+EB11+EB12+EB13+EB14+EB15+EB17+EB19+EB21+EB23","v":0}]
[null,null,null,null,null,null,null,null,null,null,null,null,null,null,null,null,null,null,null,null,null,null,null,null,null,null,null,null,null,null,null,null,null,null,null,null,null,null,null,null,null,null,null,null,null,null,null,null,null,null,"(additonal fees will apply)"]
[null,null,null,null,null,null,null,null,null,null,"AR Information Label ($.25)",null,null,null,null,null,null,null,null,null,null,null,null,null,null,null,null,null,null,null,"Property Label ($.50)"]
[]
[]
[]
[null,null,null,null,null,null,null,null,"Electronic Data Specifications:"]
[null,null,null,null,null,null,null,null,"Software Type:",null,null,null,null,null,null,null,null,null,null,null,null,null,null,null,null,null,null,null,"Software Version:",null,null,null,null,null,null,null,null,null,null,null,null,null,null,null,null,null,null,null,"Software Format: "]
[null,null,null,null,null,null,null,null,null,null,"Destiny",null,null,null,null,null,null,null,null,null,null,null,null,null,null,null,null,null,null,null,null,null,null,null,null,null,null,null,null,null,null,null,null,null,null,null,null,null,null,null,"USMARC 852 Holdings"]
[]
[null,null,null,null,null,null,null,null,null,null,"Circulation Plus",null,null,null,null,null,null,null,null,null,null,null,null,null,null,null,null,null,"Delivery Type:",null,null,null,null,null,null,null,null,null,null,null,null,null,null,null,null,null,null,null,null,null,"US MARC 949 Holdings"]
[]
[null,null,null,null,null,null,null,null,null,null,"Spectrum",null,null,null,null,null,null,null,null,null,null,null,null,null,null,null,null,null,null,null,"CD Rom",null,null,null,null,null,null,null,null,null,null,null,null,null,null,null,null,null,null,null,"(Requires Custom Holdings to be provided)"]
[]
[null,null,null,null,null,null,null,null,null,null,"Follett",null,null,null,null,null,null,null,null,null,null,null,null,null,null,null,null,null,null,null,"Web Download (provide email address)",null,null,null,null,null,null,null,null,null,null,null,null,null,null,null,null,null,"Computer Type:"]
[]
[null,null,null,null,null,null,null,null,null,null,"Other: ",null,null,null,null,null,null,null,null,null,null,null,null,null,null,null,null,null,null,null,null,null,null,null,null,null,null,null,null,null,null,null,null,null,null,null,null,null,null,null,"Windows / PC"]
[]
[null,null,null,null,null,null,null,null,null,null,null,null,null,null,null,null,null,null,null,null,null,null,null,null,null,null,null,null,null,null,null,null,null,null,null,null,null,null,null,null,null,null,null,null,null,null,null,null,null,null,"Macintosh"]
[]
[]
[]
[null,null,null,null,null,null,null,null,"Barcode Specifications:"]
[null,null,null,null,null,null,null,null,"Name to appear on Barcode: (max 30 characters)"]
[]
[]
[null,null,null,null,null,null,null,null,"Barcode Range:"]
[null,null,null,null,null,null,null,null,null,null,null,null,null,null,null,null,null,null,null,null,null,null,null,null,null,null,null,null,null,null,null,null,null,null,null,null,"-"]
[]
[null,null,null,null,null,null,null,null,"Symbology:"]
[null,null,null,null,null,null,null,null,null,null,"Code 3 of 9 / No Check ",null,null,null,null,null,null,null,null,null,null,null,null,null,null,null,null,null,null,null,"Codabar / Mod 10 check digit"]
[]
[null,null,null,null,null,null,null,null,null,null,"Code 3 of 9 / Mod 10 check digit",null,null,null,null,null,null,null,null,null,null,null,null,null,null,null,null,null,null,null,"Interleaved 2 of 5 / Follett Classic"]
[]
[null,null,null,null,null,null,null,null,null,null,"Code 3 of 9 / Mod 43 check digit ",null,null,null,null,null,null,null,null,null,null,null,null,null,null,null,null,null,null,null,"Interleaved 2 of 5 / no check digit"]
[]
[null,null,null,null,null,null,null,null,null,null,"Codabar / no check digit ",null,null,null,null,null,null,null,null,null,null,null,null,null,null,null,null,null,null,null,"Other:"]
[]
[]
[]
[null,null,null,null,null,null,null,null,null,null,null,null,"* = Standard (Check if standard options are wanted.  If no options checked, the standard options will be applied)"]
[]
[null,null,null,null,null,null,null,null,"Cataloging Profile Specifications:"]
[null,null,null,null,null,null,null,null,"Subject Headings:"]
[null,null,null,null,null,null,null,null,null,null,"Sears*",null,null,null,null,null,null,null,null,null,null,null,null,null,null,null,null,null,null,null,"Library of Congress",null,null,null,null,null,null,null,null,null,null,null,null,null,null,null,null,null,null,null,"Library of Congress - Children's"]
[]
[null,null,null,null,null,null,null,null,"Dewey Number:"]
[null,null,null,null,null,null,null,null,null,null,"Do no truncate the abridged dewey*",null,null,null,null,null,null,null,null,null,null,null,null,null,null,null,null,null,null,null,"Truncate abridged dewey number by ",null,null,null,null,null,null,null,null,null,null,null,null,null,null,null,null,null,null,null,"digits"]
[]
[null,null,null,null,null,null,null,null,"Workmark:"]
[null,null,null,null,null,null,null,null,null,null,"Initial letter capitalized*",null,null,null,null,null,null,null,null,null,null,null,null,null,null,null,null,null,null,null,"All uppercase letters"]
[]
[null,null,null,null,null,null,null,null,"Individual Biography Call Number:"]
[null,null,null,null,null,null,null,null,"Prefix:",null,null,null,null,null,null,null,null,null,null,null,null,null,null,null,null,null,null,null,"Classification:",null,null,null,null,null,null,null,null,null,null,null,null,null,null,null,null,null,null,null,"Workmark:"]
[null,null,null,null,null,null,null,null,null,null,"Follow non-fiction prefixes specified* ",null,null,null,null,null,null,null,null,null,null,null,null,null,null,null,null,null,null,null,"B *",null,null,null,null,null,null,null,null,null,null,null,null,null,null,null,null,null,null,null,"3 biographee letters* "]
[]
[null,null,null,null,null,null,null,null,null,null,"None ",null,null,null,null,null,null,null,null,null,null,null,null,null,null,null,null,null,null,null,92,null,null,null,null,null,null,null,null,null,null,null,null,null,null,null,null,null,null,null,"Biographee's last name"]
[]
[null,null,null,null,null,null,null,null,null,null,null,null,null,null,null,null,null,null,null,null,null,null,null,null,null,null,null,null,null,null,"Other:",null,null,null,null,null,null,null,null,null,null,null,null,null,null,null,null,null,null,null,"Other:"]
[]
[null,null,null,null,null,null,null,null,"Easy Fiction (K-3) Call Number:"]
[null,null,null,null,null,null,null,null,"Prefix:",null,null,null,null,null,null,null,null,null,null,null,null,null,null,null,null,null,null,null,"Classification:",null,null,null,null,null,null,null,null,null,null,null,null,null,null,null,null,null,null,null,"Workmark:"]
[null,null,null,null,null,null,null,null,null,null,"None *",null,null,null,null,null,null,null,null,null,null,null,null,null,null,null,null,null,null,null,"E *",null,null,null,null,null,null,null,null,null,null,null,null,null,null,null,null,null,null,null,"3 biographee letters* "]
[]
[null,null,null,null,null,null,null,null,null,null,"J above class",null,null,null,null,null,null,null,null,null,null,null,null,null,null,null,null,null,null,null,"F ",null,null,null,null,null,null,null,null,null,null,null,null,null,null,null,null,null,null,null,"Biographee's last name"]
[]
[null,null,null,null,null,null,null,null,null,null,"Other:",null,null,null,null,null,null,null,null,null,null,null,null,null,null,null,null,null,null,null,"Other:",null,null,null,null,null,null,null,null,null,null,null,null,null,null,null,null,null,null,null,"Other:"]
[]
[null,null,null,null,null,null,null,null,"Fiction (grades 4-8) Call Number:"]
[null,null,null,null,null,null,null,null,"Prefix:",null,null,null,null,null,null,null,null,null,null,null,null,null,null,null,null,null,null,null,"Classification:",null,null,null,null,null,null,null,null,null,null,null,null,null,null,null,null,null,null,null,"Workmark:"]
[null,null,null,null,null,null,null,null,null,null,"None *",null,null,null,null,null,null,null,null,null,null,null,null,null,null,null,null,null,null,null,"F *",null,null,null,null,null,null,null,null,null,null,null,null,null,null,null,null,null,null,null,"3 biographee letters* "]
[]
[null,null,null,null,null,null,null,null,null,null,"J above class",null,null,null,null,null,null,null,null,null,null,null,null,null,null,null,null,null,null,null,"Fic",null,null,null,null,null,null,null,null,null,null,null,null,null,null,null,null,null,null,null,"Biographee's last name"]
[]
[null,null,null,null,null,null,null,null,null,null,"Other:",null,null,null,null,null,null,null,null,null,null,null,null,null,null,null,null,null,null,null,"Other:",null,null,null,null,null,null,null,null,null,null,null,null,null,null,null,null,null,null,null,"Other:"]
[]
[null,null,null,null,null,null,null,null,"Fiction (grades 9-12) Call Number:"]
[null,null,null,null,null,null,null,null,"Prefix:",null,null,null,null,null,null,null,null,null,null,null,null,null,null,null,null,null,null,null,"Classification:",null,null,null,null,null,null,null,null,null,null,null,null,null,null,null,null,null,null,null,"Workmark:"]
[null,null,null,null,null,null,null,null,null,null,"None *",null,null,null,null,null,null,null,null,null,null,null,null,null,null,null,null,null,null,null,"F *",null,null,null,null,null,null,null,null,null,null,null,null,null,null,null,null,null,null,null,"3 biographee letters* "]
[]
[null,null,null,null,null,null,null,null,null,null,"J above class",null,null,null,null,null,null,null,null,null,null,null,null,null,null,null,null,null,null,null,"Fic",null,null,null,null,null,null,null,null,null,null,null,null,null,null,null,null,null,null,null,"Biographee's last name"]
[]
[null,null,null,null,null,null,null,null,null,null,"Other:",null,null,null,null,null,null,null,null,null,null,null,null,null,null,null,null,null,null,null,"Other:",null,null,null,null,null,null,null,null,null,null,null,null,null,null,null,null,null,null,null,"Other:"]
[]
[null,null,null,null,null,null,null,null,"Easy Non-Fiction (K-3) Call Number:"]
[null,null,null,null,null,null,null,null,"Prefix:",null,null,null,null,null,null,null,null,null,null,null,null,null,null,null,null,null,null,null,"Classification:",null,null,null,null,null,null,null,null,null,null,null,null,null,null,null,null,null,null,null,"Workmark:"]
[null,null,null,null,null,null,null,null,null,null,"None *",null,null,null,null,null,null,null,null,null,null,null,null,null,null,null,null,null,null,null,"Dewey Number *",null,null,null,null,null,null,null,null,null,null,null,null,null,null,null,null,null,null,null,"3 biographee letters* "]
[]
[null,null,null,null,null,null,null,null,null,null,"J above class",null,null,null,null,null,null,null,null,null,null,null,null,null,null,null,null,null,null,null,"E",null,null,null,null,null,null,null,null,null,null,null,null,null,null,null,null,null,null,null,"Biographee's last name"]
[]
[null,null,null,null,null,null,null,null,null,null,"Other:",null,null,null,null,null,null,null,null,null,null,null,null,null,null,null,null,null,null,null,"Other:",null,null,null,null,null,null,null,null,null,null,null,null,null,null,null,null,null,null,null,"Other:"]
[]
[null,null,null,null,null,null,null,null,"Non-Fiction (4-8) Call Number:"]
[null,null,null,null,null,null,null,null,"Prefix:",null,null,null,null,null,null,null,null,null,null,null,null,null,null,null,null,null,null,null,"Classification:",null,null,null,null,null,null,null,null,null,null,null,null,null,null,null,null,null,null,null,"Workmark:"]
[null,null,null,null,null,null,null,null,null,null,"None *",null,null,null,null,null,null,null,null,null,null,null,null,null,null,null,null,null,null,null,"Dewey Number *",null,null,null,null,null,null,null,null,null,null,null,null,null,null,null,null,null,null,null,"3 biographee letters* "]
[]
[null,null,null,null,null,null,null,null,null,null,"J above class",null,null,null,null,null,null,null,null,null,null,null,null,null,null,null,null,null,null,null,"E",null,null,null,null,null,null,null,null,null,null,null,null,null,null,null,null,null,null,null,"Biographee's last name"]
[]
[null,null,null,null,null,null,null,null,null,null,"Other:",null,null,null,null,null,null,null,null,null,null,null,null,null,null,null,null,null,null,null,"Other:",null,null,null,null,null,null,null,null,null,null,null,null,null,null,null,null,null,null,null,"Other:"]
[]
[null,null,null,null,null,null,null,null,"Non-Fiction (9-12) Call Number:"]
[null,null,null,null,null,null,null,null,"Prefix:",null,null,null,null,null,null,null,null,null,null,null,null,null,null,null,null,null,null,null,"Classification:",null,null,null,null,null,null,null,null,null,null,null,null,null,null,null,null,null,null,null,"Workmark:"]
[null,null,null,null,null,null,null,null,null,null,"None *",null,null,null,null,null,null,null,null,null,null,null,null,null,null,null,null,null,null,null,"Dewey Number *",null,null,null,null,null,null,null,null,null,null,null,null,null,null,null,null,null,null,null,"3 biographee letters* "]
[]
[null,null,null,null,null,null,null,null,null,null,"J above class",null,null,null,null,null,null,null,null,null,null,null,null,null,null,null,null,null,null,null,"E",null,null,null,null,null,null,null,null,null,null,null,null,null,null,null,null,null,null,null,"Biographee's last name"]
[]
[null,null,null,null,null,null,null,null,null,null,"Other:",null,null,null,null,null,null,null,null,null,null,null,null,null,null,null,null,null,null,null,"Other:",null,null,null,null,null,null,null,null,null,null,null,null,null,null,null,null,null,null,null,"Other:"]
[]
[null,null,null,null,null,null,null,null,"Graphic Fiction Call Number:"]
[null,null,null,null,null,null,null,null,"Prefix:",null,null,null,null,null,null,null,null,null,null,null,null,null,null,null,null,null,null,null,"Classification:",null,null,null,null,null,null,null,null,null,null,null,null,null,null,null,null,null,null,null,"Workmark:"]
[null,null,null,null,null,null,null,null,null,null,"None *",null,null,null,null,null,null,null,null,null,null,null,null,null,null,null,null,null,null,null,"741.5 *",null,null,null,null,null,null,null,null,null,null,null,null,null,null,null,null,null,null,null,"3 biographee letters* "]
[]
[null,null,null,null,null,null,null,null,null,null,"Graphic",null,null,null,null,null,null,null,null,null,null,null,null,null,null,null,null,null,null,null,"Use fiction classification",null,null,null,null,null,null,null,null,null,null,null,null,null,null,null,null,null,null,null,"Biographee's last name"]
[]
[null,null,null,null,null,null,null,null,null,null,"Other:",null,null,null,null,null,null,null,null,null,null,null,null,null,null,null,null,null,null,null,"Other:",null,null,null,null,null,null,null,null,null,null,null,null,null,null,null,null,null,null,null,"Other:"]
[]
[null,null,null,null,null,null,null,null,"Graphic Non-Fiction Call Number:"]
[null,null,null,null,null,null,null,null,"Prefix:",null,null,null,null,null,null,null,null,null,null,null,null,null,null,null,null,null,null,null,"Classification:",null,null,null,null,null,null,null,null,null,null,null,null,null,null,null,null,null,null,null,"Workmark:"]
[null,null,null,null,null,null,null,null,null,null,"None *",null,null,null,null,null,null,null,null,null,null,null,null,null,null,null,null,null,null,null,"Dewey Number *",null,null,null,null,null,null,null,null,null,null,null,null,null,null,null,null,null,null,null,"3 biographee letters* "]
[]
[null,null,null,null,null,null,null,null,null,null,"J above class",null,null,null,null,null,null,null,null,null,null,null,null,null,null,null,null,null,null,null,"E",null,null,null,null,null,null,null,null,null,null,null,null,null,null,null,null,null,null,null,"Biographee's last name"]
[]
[null,null,null,null,null,null,null,null,null,null,"Other:",null,null,null,null,null,null,null,null,null,null,null,null,null,null,null,null,null,null,null,"Other:",null,null,null,null,null,null,null,null,null,null,null,null,null,null,null,null,null,null,null,"Other:"]
[]
[null,null,null,null,null,null,null,null,"Collective Biography Call Number:"]
[null,null,null,null,null,null,null,null,"Prefix:",null,null,null,null,null,null,null,null,null,null,null,null,null,null,null,null,null,null,null,"Classification:",null,null,null,null,null,null,null,null,null,null,null,null,null,null,null,null,null,null,null,"Workmark:"]
[null,null,null,null,null,null,null,null,null,null,"Follow nonfiction prefixes *",null,null,null,null,null,null,null,null,null,null,null,null,null,null,null,null,null,null,null,"920 *",null,null,null,null,null,null,null,null,null,null,null,null,null,null,null,null,null,null,null,"3 biographee letters* "]
[]
[null,null,null,null,null,null,null,null,null,null,"Other:",null,null,null,null,null,null,null,null,null,null,null,null,null,null,null,null,null,null,null,"BC",null,null,null,null,null,null,null,null,null,null,null,null,null,null,null,null,null,null,null,"Biographee's last name"]
[]
[null,null,null,null,null,null,null,null,null,null,null,null,null,null,null,null,null,null,null,null,null,null,null,null,null,null,null,null,null,null,"Other:",null,null,null,null,null,null,null,null,null,null,null,null,null,null,null,null,null,null,null,"Other:"]
[]
[null,null,null,null,null,null,null,null,"Story Collection Books Call Number:"]
[null,null,null,null,null,null,null,null,"Prefix:",null,null,null,null,null,null,null,null,null,null,null,null,null,null,null,null,null,null,null,"Classification:",null,null,null,null,null,null,null,null,null,null,null,null,null,null,null,null,null,null,null,"Workmark:"]
[null,null,null,null,null,null,null,null,null,null,"Follow fiction prefixes *",null,null,null,null,null,null,null,null,null,null,null,null,null,null,null,null,null,null,null,"F *",null,null,null,null,null,null,null,null,null,null,null,null,null,null,null,null,null,null,null,"3 biographee letters* "]
[]
[null,null,null,null,null,null,null,null,null,null,"Other:",null,null,null,null,null,null,null,null,null,null,null,null,null,null,null,null,null,null,null,"Fic",null,null,null,null,null,null,null,null,null,null,null,null,null,null,null,null,null,null,null,"Biographee's last name"]
[]
[null,null,null,null,null,null,null,null,null,null,null,null,null,null,null,null,null,null,null,null,null,null,null,null,null,null,null,null,null,null,"SC",null,null,null,null,null,null,null,null,null,null,null,null,null,null,null,null,null,null,null,"Other:"]
[]
[null,null,null,null,null,null,null,null,null,null,null,null,null,null,null,null,null,null,null,null,null,null,null,null,null,null,null,null,null,null,"Other:"]
[]
[null,null,null,null,null,null,null,null,"Foreign Language Call Number:"]
[null,null,null,null,null,null,null,null,"Prefix:",null,null,null,null,null,null,null,null,null,null,null,null,null,null,null,null,null,null,null,"Classification:",null,null,null,null,null,null,null,null,null,null,null,null,null,null,null,null,null,null,null,"Workmark:"]
[null,null,null,null,null,null,null,null,null,null,"None *",null,null,null,null,null,null,null,null,null,null,null,null,null,null,null,null,null,null,null,"Dewey by Lang *",null,null,null,null,null,null,null,null,null,null,null,null,null,null,null,null,null,null,null,"3 biographee letters* "]
[]
[null,null,null,null,null,null,null,null,null,null,"Sp",null,null,null,null,null,null,null,null,null,null,null,null,null,null,null,null,null,null,null,"Dewey by Subject",null,null,null,null,null,null,null,null,null,null,null,null,null,null,null,null,null,null,null,"Biographee's last name"]
[]
[null,null,null,null,null,null,null,null,null,null,"Other:",null,null,null,null,null,null,null,null,null,null,null,null,null,null,null,null,null,null,null,null,null,null,null,null,null,null,null,null,null,null,null,null,null,null,null,null,null,null,null,"Other:"]
[]
[null,null,null,null,null,null,null,null,"Billingual:"]
[null,null,null,null,null,null,null,null,null,null,"Use English call number options *",null,null,null,null,null,null,null,null,null,null,null,null,null,null,null,null,null,null,null,"Use foreign language call number options"]
[]
[null,null,null,null,null,null,null,null,"Reference Call Number:"]
[null,null,null,null,null,null,null,null,"Prefix:",null,null,null,null,null,null,null,null,null,null,null,null,null,null,null,null,null,null,null,"Classification:",null,null,null,null,null,null,null,null,null,null,null,null,null,null,null,null,null,null,null,"Workmark:"]
[null,null,null,null,null,null,null,null,null,null,"None",null,null,null,null,null,null,null,null,null,null,null,null,null,null,null,null,null,null,null,"Dewey *",null,null,null,null,null,null,null,null,null,null,null,null,null,null,null,null,null,null,null,"3 biographee letters* "]
[]
[null,null,null,null,null,null,null,null,null,null,"R above dewey number *",null,null,null,null,null,null,null,null,null,null,null,null,null,null,null,null,null,null,null,null,null,null,null,null,null,null,null,null,null,null,null,null,null,null,null,null,null,null,null,"Biographee's last name"]
[]
[null,null,null,null,null,null,null,null,null,null,"Other:",null,null,null,null,null,null,null,null,null,null,null,null,null,null,null,null,null,null,null,null,null,null,null,null,null,null,null,null,null,null,null,null,null,null,null,null,null,null,null,"Other:"]
[]
[]
[]
[null,null,null,null,null,null,null,null,"Attaching Instructions:"]
[null,null,null,null,null,null,null,null,null,null,"*Mylar Jackets are attached to all books with dust jackets (Standard)"]
[]
[null,null,null,null,null,null,null,null,"Barcode Label(s):"]
[null,null,null,null,null,null,null,null,null,null,"Barcode 1:"]
[null,null,null,null,null,null,null,null,null,null,null,null,"Position 1 - 24: "]
[]
[null,null,null,null,null,null,null,null,null,null,null,null,"Other:"]
[]
[null,null,null,null,null,null,null,null,null,null,"Barcode 2:"]
[null,null,null,null,null,null,null,null,null,null,null,null,"Position 1 - 24: "]
[]
[null,null,null,null,null,null,null,null,null,null,null,null,"Other:"]
[]
[null,null,null,null,null,null,null,null,"Spine Label: "]
[null,null,null,null,null,null,null,null,null,null,null,null,"1.5\" from bottom of spine*"]
[]
[null,null,null,null,null,null,null,null,null,null,null,null,"Other:"]
[]
[null,null,null,null,null,null,null,null,"AR Spine Label:",null,null,null,null,null,null,null,null,null,null,null,null,null,null,null,null,null,null,null,null,null,null,null,null,null,null,null,"Vertical",null,null,null,null,null,null,null,null,null,"Vertical",null,null,null,null,null,null,null,null,null,"Horizontal"]
[null,null,null,null,null,null,null,null,null,null,null,null,"Above Spine Label*",null,null,null,null,null,null,null,null,null,null,null,null,null,null,null,null,null,null,null,null,null,null,null,"(Reading Up)",null,null,null,null,null,null,null,null,null,"(Reading Down)"]
[]
[null,null,null,null,null,null,null,null,null,null,null,null,"Other:"]
[]
[null,null,null,null,null,null,null,null,"AR Information Label:"]
[null,null,null,null,null,null,null,null,null,null,null,null,"Other:"]
[]
[]
[null,null,null,null,null,null,null,null,"Book Pocket:"]
[null,null,null,null,null,null,null,null,null,null,null,null,"Inside front cover centered *"]
[]
[null,null,null,null,null,null,null,null,null,null,null,null,"Other:"]
[]
[null,null,null,null,null,null,null,null,"Other Option(s):"]
[null,null,null,null,null,null,null,null,null,null,null,null,"Other:"]
[]
[null,null,null,null,null,null,null,null,null,null,null,null,"Other:"]
[]
[null,null,null,null,null,null,null,null,null,null,null,null,"Other:"]
[]
[]
[null,null,null,null,null,null,null,null,"Additional / Special Instructions:"]

{"sheet":"eBook Access Form","index":4,"n_rows":65,"n_cols":35,"rows_kept":65,"cut":false,"hidden":false,"merged":[[6,20,6,42],[0,0,0,46],[1,0,1,46],[2,0,2,46],[4,20,4,42],[5,20,5,42],[47,8,48,16],[48,18,48,42],[7,20,7,42],[8,20,8,42],[15,18,15,42],[16,18,16,42],[18,18,18,42],[23,18,24,42],[25,18,25,42],[26,18,26,42],[28,18,28,42],[43,10,45,42],[46,10,46,42],[50,8,51,16],[57,10,59,42],[60,8,61,16],[61,18,61,42],[63,8,64,16]]}
["eBOOK ACCESS INFORMATION:"]
["* = REQUIRED FIELDS"]
["If no information is provided, J. Appleseed will create a Username / Password for you."]
[]
[null,null,null,null,null,null,null,null,"School or Library Name:"]
[null,null,null,null,null,null,null,null,"School District:"]
[null,null,null,null,null,null,null,null,"Contact Name:"]
[null,null,null,null,null,null,null,null,"Phone Number:"]
[null,null,null,null,null,null,null,null,"E-Mail Address:"]
[]
[]
[]
[]
[null,null,null,null,null,null,null,null,null,null,null,null,null,null,null,null,"*Administrative Access:",null,"(Administrative access provides valuable usage statistics and resources)"]
[]
[null,null,null,null,null,null,null,null,null,null,null,null,null,null,null,null,"Username (1st choice):"]
[null,null,null,null,null,null,null,null,null,null,null,null,null,null,null,null,"Username (2nd choice):"]
[]
[null,null,null,null,null,null,null,null,null,null,null,null,null,null,null,null,"Password:"]
[]
[]
[]
[]
[null,null,null,null,null,null,null,null,null,null,null,null,null,null,null,null,"* General Access:",null,"(This allows general reader access to your eBooks.  General access credentials must be different from Administrative Access)"]
[]
[null,null,null,null,null,null,null,null,null,null,null,null,null,null,null,null,"Username (1st choice):"]
[null,null,null,null,null,null,null,null,null,null,null,null,null,null,null,null,"Username (2nd choice):"]
[]
[null,null,null,null,null,null,null,null,null,null,null,null,null,null,null,null,"Password:"]
[]
[]
[]
[]
[null,null,null,null,null,null,null,null,"* MARC Records Access Requirements:"]
[]
[null,null,null,null,null,null,null,null,null,null,null,null,null,null,"Instant Access:",null,null,null,null,null,null,null,"(No username / password required to access)"]
[]
[null,null,null,null,null,null,null,null,null,null,null,null,null,null,null,null,"Yes",null,null,null,null,null,null,null,null,null,null,null,"No"]
[]
[]
[]
[]
[null,null,null,null,null,null,null,null,"IP Address Authentication (optional):"]
[null,null,null,null,null,null,null,null,null,null,"If we add your IP address information to your account, users who access your library onsite from the building will automatically be logged in.  PLEASE NOTE: IP authentication is not an access option for organizations who use a private IP address or use a shared public IP address.  Please consult with your network administrator if you are unsure."]
[]
[]
[null,null,null,null,null,null,null,null,null,null,"IP authentication does not work remotely (e.g. from home)"]
[null,null,null,null,null,null,null,null,"Provide the IP addressor range of network:"]
[]
[]
[null,null,null,null,null,null,null,null,"Does this IP address or range service multiple buildings or sites?"]
[null,null,null,null,null,null,null,null,null,null,null,null,null,null,null,null,null,null,null,null,null,null,"Yes",null,null,null,null,null,null,null,null,null,null,null,"No"]
[]
[]
[]
[]
[null,null,null,null,null,null,null,null,"Referring URL Address (optional):"]
[null,null,null,null,null,null,null,null,null,null,"If your organization has a secure password protected site, we can put the URL of your site on our list of approved URLs, and anytime a user clicks on your library link from your site  regardless of whether they are at school or at home  they will be automatically logged in.  Referring URLs must be unique to your institution, not shared by a district."]
[]
[]
[null,null,null,null,null,null,null,null,"Provide the URL of the web page where the access link(s) will be posted:"]
[]
[]
[null,null,null,null,null,null,null,null,"Does this IP address or range service multiple buildings or sites?"]
[null,null,null,null,null,null,null,null,null,null,null,null,null,null,null,null,null,null,null,null,null,null,"Yes",null,null,null,null,null,null,null,null,null,null,null,"No"]

{"sheet":"HIDDEN Title List","index":5,"n_rows":9935,"n_cols":36,"rows_kept":2250,"cut":true,"hidden":true,"merged":[[6,11,6,16],[1,11,1,16],[2,11,2,16],[3,11,3,16],[4,11,4,16],[5,11,5,16],[16,5,16,7],[16,9,16,11],[15,11,15,16],[9,11,9,16],[10,11,10,16],[11,11,11,16],[12,11,12,16],[13,11,13,16],[14,11,14,16]],"bounds":{"rows_first":1000,"rows_last":250,"rows_between":1000,"halvings":1}}
[null,null,null,null,null,null,null,null,null,null,null,"SHIP TO INFORMATION:"]
[null,null,null,null,null,null,null,null,null,"Organization:"]
[null,null,null,null,null,null,null,null,null,"Contact Name:"]
[null,null,null,null,null,null,null,null,null,"Address:"]
[null,null,null,null,null,null,null,null,null,"City, State, Zip:"]
[null,null,null,null,null,null,null,null,null,"eMail Address:"]
[null,null,null,null,null,null,null,null,null,"Phone Number:"]
[null,null,null,null,null,null,null,null,null,null,null,null,null,null,null,null,null,null,null,null,"HC",null,"EB",null,null,null,null,null,null,null,null,"Bundles",null,null,null,"Total Qty"]
[null,null,null,null,null,null,null,null,null,null,null,"BILL TO INFORMATION:",null,null,null,"Check if same as Ship To",null,null,null,null,{"$f":"#REF!","v":{"$error":"#REF!"}},null,{"$f":"#REF!","v":{"$error":"#REF!"}},null,null,null,null,null,null,null,null,{"$f":"#REF!","v":{"$error":"#REF!"}},null,null,null,{"$f":"#REF!","v":{"$error":"#REF!"}}]
[null,null,null,null,null,null,null,null,null,"Organization:",null,null,null,null,null,null,null,null,null,null,{"$f":"#REF!","v":{"$error":"#REF!"}},null,{"$f":"#REF!","v":{"$error":"#REF!"}},null,null,null,null,null,null,null,null,{"$f":"#REF!","v":{"$error":"#REF!"}},null,null,null,{"$f":"#REF!","v":{"$error":"#REF!"}}]
[null,null,null,"Sales Representative:",null,null,null,null,null,"Contact Name:"]
[null,null,null,"PO Number:",null,null,null,null,null,"Address:"]
[null,null,null,"Need by Date:",null,null,null,null,null,"City, State, Zip:",null,null,null,null,null,null,null,null,null,null,"Does your order qualify for a promotional item?  "]
[null,null,null,"Backorders Accepted:",null,null,null,null,null,"eMail Address:",null,null,null,null,null,null,null,null,null,null,"See available promotions and eligiblity"]
[null,null,null,null,null,null,null,null,null,"Phone Number:",null,null,null,null,null,null,null,null,null,null,"on the Promotions tab!"]
[]
["New","eBook ISBN",null,"Print ISBN",null,"Title",null,null,null,"Series",null,null,null,"HC List Price","HC S/L Price","Multi User eBook Price","Bundle Price",null,"Print Qty",null,"Multi User eBook Qty",null,"Bundle Qty",null,"HIDDEN        HC Qty","HIDDEN        EB Qty","HIDDEN BUNDLE QTY            (HC + EB)","HIDDEN QTY TOTAL","HIDDEN HC TOTAL","HIDDEN EB TOTAL","HIDDEN BUNDLE TOTAL","Total",null,"Mark X for                      FREE Book",null,"Custom Field"]
[]
[null,null,null,null,null,"Complete Series of 3",null,null,null,"Amicus Ink Board Books",null,null,null,{"$f":"SUM(N20)","v":0},{"$f":"SUM(O20)","v":9.99},25.7,14.99]
[null,9781681525129,null,9781681521947,null,"It's Not the Baby",null,null,null,"Amicus Ink Board Books",null,null,null,0,9.99,25.7,{"$f":"O20+5","v":14.99},null,{"$f":"S19","v":0},null,{"$f":"U19","v":0},null,{"$f":"W19","v":0},null,{"$f":"S20","v":0},{"$f":"U20","v":0},{"$f":"W20*2","v":0},{"$f":"Y20+Z20+AA20","v":0},{"$f":"S20*O20","v":0},{"$f":"U20*P20","v":0},{"$f":"W20*Q20","v":0},{"$f":"IF(AH20=FALSE,AC20+AD20+AE20,0)","v":0}]
[null,9781681525150,null,9781681524092,null,"It's Not the Puppy",null,null,null,"Amicus Ink Board Books",null,null,null,0,9.99,25.7,{"$f":"O21+5","v":14.99},null,{"$f":"S19","v":0},null,{"$f":"U19","v":0},null,{"$f":"W19","v":0},null,{"$f":"S21","v":0},{"$f":"U21","v":0},{"$f":"W21*2","v":0},{"$f":"Y21+Z21+AA21","v":0},{"$f":"S21*O21","v":0},{"$f":"U21*P21","v":0},{"$f":"W21*Q21","v":0},{"$f":"IF(AH21=FALSE,AC21+AD21+AE21,0)","v":0}]
["NEW",9781681525679,null,9781681525037,null,"Who is Making a Mess?",null,null,null,"Amicus Ink Board Books",null,null,null,0,8.99,9.99,{"$f":"O22+5","v":13.99},null,{"$f":"S19","v":0},null,{"$f":"U19","v":0},null,{"$f":"W19","v":0},null,{"$f":"S22","v":0},{"$f":"U22","v":0},{"$f":"W22*2","v":0},{"$f":"Y22+Z22+AA22","v":0},{"$f":"S22*O22","v":0},{"$f":"U22*P22","v":0},{"$f":"W22*Q22","v":0},{"$f":"IF(AH22=FALSE,AC22+AD22+AE22,0)","v":0}]
[]
[null,null,null,null,null,"Complete Series of 6",null,null,null,"Little Animal Friends",null,null,null,{"$f":"SUM(N25:N30)","v":0},53.940000000000005,77.16,83.94]
["NEW",9781681525648,null,9781681525631,null,"Little Hippo",null,null,null,"Little Animal Friends (Board Book)",null,null,null,0,8.99,12.86,{"$f":"O25+5","v":13.99},null,{"$f":"S24","v":0},null,{"$f":"U24","v":0},null,{"$f":"W24","v":0},null,{"$f":"S25","v":0},{"$f":"U25","v":0},{"$f":"W25*2","v":0},{"$f":"Y25+Z25+AA25","v":0},{"$f":"S25*O25","v":0},{"$f":"U25*P25","v":0},{"$f":"W25*Q25","v":0},{"$f":"IF(AH25=FALSE,AC25+AD25+AE25,0)","v":0}]
["NEW",9781681525662,null,9781681525655,null,"Little Monkey",null,null,null,"Little Animal Friends (Board Book)",null,null,null,0,8.99,12.86,13.99,null,{"$f":"S24","v":0},null,{"$f":"U24","v":0},null,{"$f":"W24","v":0},null,0,0,0,0,0,0,0,0]
["NEW",9781681525174,null,9781681524146,null,"Little Panda",null,null,null,"Little Animal Friends (Board Book)",null,null,null,0,8.99,12.86,13.99,null,{"$f":"S24","v":0},null,{"$f":"U24","v":0},null,{"$f":"W24","v":0},null,0,0,0,0,0,0,0,0]
["NEW",9781681527437,null,9781681527413,null,"Little Penguin",null,null,null,"Little Animal Friends (Board Book)",null,null,null,0,8.99,12.86,13.99,null,{"$f":"S24","v":0},null,{"$f":"U24","v":0},null,{"$f":"W24","v":0},null,0,0,0,0,0,0,0,0]
["NEW",9781681525167,null,9781681524139,null,"Little Tiger",null,null,null,"Little Animal Friends (Board Book)",null,null,null,0,8.99,12.86,13.99,null,{"$f":"S24","v":0},null,{"$f":"U24","v":0},null,{"$f":"W24","v":0},null,0,0,0,0,0,0,0,0]
["NEW",9781681527444,null,9781681527420,null,"Little Zebra",null,null,null,"Little Animal Friends (Board Book)",null,null,null,0,8.99,12.86,13.99,null,{"$f":"S24","v":0},null,{"$f":"U24","v":0},null,{"$f":"W24","v":0},null,0,0,0,0,0,0,0,0]
[]
[null,null,null,null,null,"Complete Series of 8",null,null,null,"The Amicus Book of...",null,null,null,{"$f":"SUM(N33:N40)","v":0},72.92,0,0]
[null,"Not Available",null,9781681525693,null,"The Amicus Book of 123",null,null,null,"The Amicus Book of…(Board Book)",null,null,null,0,8.99,0,0,null,{"$f":"S32","v":0},null,null,null,null,null,{"$f":"S33","v":0},{"$f":"U33","v":0},{"$f":"W33*2","v":0},{"$f":"Y33+Z33+AA33","v":0},{"$f":"S33*O33","v":0},{"$f":"U33*P33","v":0},{"$f":"W33*Q33","v":0},{"$f":"IF(AH33=FALSE,AC33+AD33+AE33,0)","v":0}]
[null,"Not Available",null,9781681525686,null,"The Amicus Book of ABC",null,null,null,"The Amicus Book of…(Board Book)",null,null,null,0,8.99,0,0,null,{"$f":"S32","v":0},null,null,null,null,null,{"$f":"S34","v":0},{"$f":"U34","v":0},{"$f":"W34*2","v":0},{"$f":"Y34+Z34+AA34","v":0},{"$f":"S34*O34","v":0},{"$f":"U34*P34","v":0},{"$f":"W34*Q34","v":0},{"$f":"IF(AH34=FALSE,AC34+AD34+AE34,0)","v":0}]
["NEW","Not Available",null,9781681527574,null,"The Amicus Book of Animal Homes",null,null,null,"The Amicus Book of…(Board Book)",null,null,null,0,9.99,0,0,null,{"$f":"S32","v":0},null,null,null,null,null,{"$f":"S35","v":0},{"$f":"U35","v":0},{"$f":"W35*2","v":0},{"$f":"Y35+Z35+AA35","v":0},{"$f":"S35*O35","v":0},{"$f":"U35*P35","v":0},{"$f":"W35*Q35","v":0},{"$f":"IF(AH35=FALSE,AC35+AD35+AE35,0)","v":0}]
[null,"Not Available",null,9781681525709,null,"The Amicus Book of Animals",null,null,null,"The Amicus Book of…(Board Book)",null,null,null,0,8.99,0,0,null,{"$f":"S32","v":0},null,null,null,null,null,{"$f":"S36","v":0},{"$f":"U36","v":0},{"$f":"W36*2","v":0},{"$f":"Y36+Z36+AA36","v":0},{"$f":"S36*O36","v":0},{"$f":"U36*P36","v":0},{"$f":"W36*Q36","v":0},{"$f":"IF(AH36=FALSE,AC36+AD36+AE36,0)","v":0}]
["NEW","Not Available",null,9781681527604,null,"The Amicus Book of Bugs",null,null,null,"The Amicus Book of…(Board Book)",null,null,null,0,8.99,0,0,null,{"$f":"S32","v":0},null,null,null,null,null,{"$f":"S37","v":0},{"$f":"U37","v":0},{"$f":"W37*2","v":0},{"$f":"Y37+Z37+AA37","v":0},{"$f":"S37*O37","v":0},{"$f":"U37*P37","v":0},{"$f":"W37*Q37","v":0},{"$f":"IF(AH37=FALSE,AC37+AD37+AE37,0)","v":0}]
[null,"Not Available",null,9781681525716,null,"The Amicus Book of Colors",null,null,null,"The Amicus Book of…(Board Book)",null,null,null,0,8.99,0,0,null,{"$f":"S32","v":0},null,null,null,null,null,0,0,0,0,0,0,0,0]
["NEW","Not Available",null,9781681527581,null,"The Amicus Book of Earth",null,null,null,"The Amicus Book of…(Board Book)",null,null,null,0,8.99,0,0,null,{"$f":"S32","v":0},null,null,null,null,null,0,0,0,0,0,0,0,0]
["NEW","Not Available",null,9781681527598,null,"The Amicus Book of Nature",null,null,null,"The Amicus Book of…(Board Book)",null,null,null,0,8.99,0,0,null,{"$f":"S32","v":0},null,null,null,null,null,0,0,0,0,0,0,0,0]
[]
[null,null,null,null,null,"Complete Series of 13",null,null,null,"Amicus Ink",null,null,null,{"$f":"SUM(N43:N54)","v":0},{"$f":"SUM(O43:O54)","v":214.88000000000002},{"$f":"SUM(P43:P54)","v":282.69999999999993},{"$f":"SUM(Q43:Q54)","v":251.89000000000004}]
[null,9781681525204,null,9781681524986,null,"A Tiny Brown Monkey on the Big Blue Earth",null,null,null,"Amicus Ink Picture Books",null,null,null,0,17.989999999999998,25.7,{"$f":"O43+5","v":22.99},null,{"$f":"S42","v":0},null,{"$f":"U42","v":0},null,{"$f":"W42","v":0},null,{"$f":"S43","v":0},{"$f":"U43","v":0},{"$f":"W43*2","v":0},{"$f":"Y43+Z43+AA43","v":0},{"$f":"S43*O43","v":0},{"$f":"U43*P43","v":0},{"$f":"W43*Q43","v":0},{"$f":"IF(AH43=FALSE,AC43+AD43+AE43,0)","v":0}]
[null,9781681525143,null,9781681524085,null,"Crane & Crane",null,null,null,"Amicus Ink Picture Books",null,null,null,0,17.989999999999998,25.7,{"$f":"O44+5","v":22.99},null,{"$f":"S42","v":0},null,{"$f":"U42","v":0},null,{"$f":"W42","v":0},null,0,0,0,0,0,0,0,0]
[null,"Not Available",null,9781681521930,null,"Daddy Cuddle",null,null,null,"Amicus Ink Picture Books",null,null,null,0,17.989999999999998,0,0,null,{"$f":"S42","v":0},null,{"$f":"U42","v":0},null,{"$f":"W42","v":0},null,0,0,0,0,0,0,0,0]
["NEW",9781681525051,null,9781681525020,null,"Extraordinary Ordinary Ella",null,null,null,"Amicus Ink Picture Books",null,null,null,0,17.989999999999998,25.7,{"$f":"O46+5","v":22.99},null,{"$f":"S42","v":0},null,{"$f":"U42","v":0},null,{"$f":"W42","v":0},null,0,0,0,0,0,0,0,0]
[null,9781681525112,null,9781681522395,null,"Grow",null,null,null,"Amicus Ink Picture Books",null,null,null,0,17.989999999999998,25.7,22.99,null,{"$f":"S42","v":0},null,{"$f":"U42","v":0},null,{"$f":"W42","v":0},null,0,0,0,0,0,0,0,0]
[null,9781681525044,null,9781681525013,null,"I've Got a Tail!: Terrific Tails of the Animal World",null,null,null,"Amicus Ink Picture Books",null,null,null,0,17.989999999999998,25.7,22.99,null,{"$f":"S42","v":0},null,{"$f":"U42","v":0},null,{"$f":"W42","v":0},null,0,0,0,0,0,0,0,0]
[null,9781681525136,null,9781681521954,null,"I've Got Feet: Fantastical Feet of the Animal World",null,null,null,"Amicus Ink Picture Books",null,null,null,0,17.989999999999998,25.7,22.99,null,{"$f":"S42","v":0},null,{"$f":"U42","v":0},null,{"$f":"W42","v":0},null,0,0,0,0,0,0,0,0]
[null,9781681525068,null,9781681524047,null,"I’ve Got Eyes!: Exceptional Eyes of the Animal World",null,null,null,"Amicus Ink Picture Books",null,null,null,0,17.989999999999998,25.7,22.99,null,{"$f":"S42","v":0},null,{"$f":"U42","v":0},null,{"$f":"W42","v":0},null,0,0,0,0,0,0,0,0]
[null,9781681525105,null,9781681522029,null,"Just My Style",null,null,null,"Amicus Ink Picture Books",null,null,null,0,17.989999999999998,25.7,22.99,null,{"$f":"S42","v":0},null,{"$f":"U42","v":0},null,{"$f":"W42","v":0},null,0,0,0,0,0,0,0,0]
[null,9781681525198,null,9781681524153,null,"No Hugs!",null,null,null,"Amicus Ink Picture Books",null,null,null,0,16.989999999999998,25.7,21.99,null,{"$f":"S42","v":0},null,{"$f":"U42","v":0},null,{"$f":"W42","v":0},null,0,0,0,0,0,0,0,0]
[null,9781681525181,null,9781681522371,null,"The Mighty Steam Engine",null,null,null,"Amicus Ink Picture Books",null,null,null,0,17.989999999999998,25.7,22.99,null,{"$f":"S42","v":0},null,{"$f":"U42","v":0},null,{"$f":"W42","v":0},null,0,0,0,0,0,0,0,0]
[null,9781681525075,null,9781681524054,null,"Twinkle, Twinkle, Little Lamb",null,null,null,"Amicus Ink Picture Books",null,null,null,0,17.989999999999998,25.7,22.99,null,{"$f":"S42","v":0},null,{"$f":"U42","v":0},null,{"$f":"W42","v":0},null,0,0,0,0,0,0,0,0]
[]
[null,null,null,null,null,"Complete Series of 4",null,null,null,"Riddle Diddle Dumplings",null,null,null,{"$f":"SUM(N57:N60)","v":0},39.96,39.96,59.96]
[null,9781681525082,null,9781681524061,null,"Riddle Diddle Farm",null,null,null,"Riddle Diddle Dumplings (Board Book)",null,null,null,0,9.99,9.99,{"$f":"O57+5","v":14.99},null,{"$f":"S56","v":0},null,{"$f":"U56","v":0},null,{"$f":"W56","v":0},null,{"$f":"S57","v":0},{"$f":"U57","v":0},{"$f":"W57*2","v":0},{"$f":"Y57+Z57+AA57","v":0},{"$f":"S57*O57","v":0},{"$f":"U57*P57","v":0},{"$f":"W57*Q57","v":0},{"$f":"IF(AH57=FALSE,AC57+AD57+AE57,0)","v":0}]
[null,9781681525211,null,9781681524993,null,"Riddle Diddle Ocean",null,null,null,"Riddle Diddle Dumplings (Board Book)",null,null,null,0,9.99,9.99,{"$f":"O58+5","v":14.99},null,{"$f":"S56","v":0},null,{"$f":"U56","v":0},null,{"$f":"W56","v":0},null,{"$f":"S58","v":0},{"$f":"U58","v":0},{"$f":"W58*2","v":0},{"$f":"Y58+Z58+AA58","v":0},{"$f":"S58*O58","v":0},{"$f":"U58*P58","v":0},{"$f":"W58*Q58","v":0},{"$f":"IF(AH58=FALSE,AC58+AD58+AE58,0)","v":0}]
[null,9781681525228,null,9781681525006,null,"Riddle Diddle Rainforest",null,null,null,"Riddle Diddle Dumplings (Board Book)",null,null,null,0,9.99,9.99,14.99,null,{"$f":"S56","v":0},null,{"$f":"U56","v":0},null,{"$f":"W56","v":0},null,{"$f":"S59","v":0},{"$f":"U59","v":0},{"$f":"W59*2","v":0},{"$f":"Y59+Z59+AA59","v":0},{"$f":"S59*O59","v":0},{"$f":"U59*P59","v":0},{"$f":"W59*Q59","v":0},{"$f":"IF(AH59=FALSE,AC59+AD59+AE59,0)","v":0}]
[null,9781681525099,null,9781681524078,null,"Riddle Diddle Safari",null,null,null,"Riddle Diddle Dumplings (Board Book)",null,null,null,0,9.99,9.99,14.99,null,{"$f":"S56","v":0},null,{"$f":"U56","v":0},null,{"$f":"W56","v":0},null,{"$f":"S60","v":0},{"$f":"U60","v":0},{"$f":"W60*2","v":0},{"$f":"Y60+Z60+AA60","v":0},{"$f":"S60*O60","v":0},{"$f":"U60*P60","v":0},{"$f":"W60*Q60","v":0},{"$f":"IF(AH60=FALSE,AC60+AD60+AE60,0)","v":0}]
[]
[null,null,null,null,null,"Complete Series of 4",null,null,null,"First Words and Pictures",null,null,null,{"$f":"SUM(N63:N65)","v":0},{"$f":"SUM(O63:O65)","v":29.97},{"$f":"SUM(P63:P65)","v":0},{"$f":"SUM(Q63:Q65)","v":0}]
[null,"Not Available",null,9781681524108,null,"Around Town",null,null,null,"First Words and Pictures (Board Book)",null,null,null,0,9.99,0,0,null,{"$f":"S62","v":0},null,null,null,null,null,{"$f":"S63","v":0},{"$f":"U63","v":0},{"$f":"W63*2","v":0},{"$f":"Y63+Z63+AA63","v":0},{"$f":"S63*O63","v":0},{"$f":"U63*P63","v":0},{"$f":"W63*Q63","v":0},{"$f":"IF(AH63=FALSE,AC63+AD63+AE63,0)","v":0}]
[null,"Not Available",null,9781681524115,null,"At Home",null,null,null,"First Words and Pictures (Board Book)",null,null,null,0,9.99,0,0,null,{"$f":"S62","v":0},null,null,null,null,null,{"$f":"S64","v":0},{"$f":"U64","v":0},{"$f":"W64*2","v":0},{"$f":"Y64+Z64+AA64","v":0},{"$f":"S64*O64","v":0},{"$f":"U64*P64","v":0},{"$f":"W64*Q64","v":0},{"$f":"IF(AH64=FALSE,AC64+AD64+AE64,0)","v":0}]
[null,"Not Available",null,9781681522012,null,"On the Go",null,null,null,"First Words and Pictures (Board Book)",null,null,null,0,9.99,0,0,null,{"$f":"S62","v":0},null,null,null,null,null,{"$f":"S65","v":0},{"$f":"U65","v":0},{"$f":"W65*2","v":0},{"$f":"Y65+Z65+AA65","v":0},{"$f":"S65*O65","v":0},{"$f":"U65*P65","v":0},{"$f":"W65*Q65","v":0},{"$f":"IF(AH65=FALSE,AC65+AD65+AE65,0)","v":0}]
[]
[null,null,null,null,null,"Complete Series of 21",null,null,null,"Amicus Ink",null,null,null,{"$f":"SUM(N68:N85)","v":0},{"$f":"SUM(O68:O85)","v":143.82},{"$f":"SUM(P68:P85)","v":0},{"$f":"SUM(Q68:Q85)","v":0}]
[null,"Not Available",null,9781681521251,null,"Cows Moo",null,null,null,"Amicus Ink Board Books - Farm Animals",null,null,null,0,7.99,0,0,null,{"$f":"S67","v":0},null,null,null,null,null,{"$f":"S68","v":0},{"$f":"U68","v":0},{"$f":"W68*2","v":0},{"$f":"Y68+Z68+AA68","v":0},{"$f":"S68*O68","v":0},{"$f":"U68*P68","v":0},{"$f":"W68*Q68","v":0},{"$f":"IF(AH68=FALSE,AC68+AD68+AE68,0)","v":0}]
[null,"Not Available",null,9781681521275,null,"Ducks Quack",null,null,null,"Amicus Ink Board Books - Farm Animals",null,null,null,0,7.99,0,0,null,{"$f":"S67","v":0},null,null,null,null,null,0,0,0,0,0,0,0,0]
[null,"Not Available",null,9781681521268,null,"Horses Neigh",null,null,null,"Amicus Ink Board Books - Farm Animals",null,null,null,0,7.99,0,0,null,{"$f":"S67","v":0},null,null,null,null,null,0,0,0,0,0,0,0,0]
[null,"Not Available",null,9781681521992,null,"Bunnies Hop",null,null,null,"Amicus Ink Board Books - Pets",null,null,null,0,7.99,0,0,null,{"$f":"S67","v":0},null,null,null,null,null,0,0,0,0,0,0,0,0]
[null,"Not Available",null,9781681521985,null,"Fish Swim",null,null,null,"Amicus Ink Board Books - Pets",null,null,null,0,7.99,0,0,null,{"$f":"S67","v":0},null,null,null,null,null,0,0,0,0,0,0,0,0]
[null,"Not Available",null,9781681521978,null,"Kittens Pounce",null,null,null,"Amicus Ink Board Books - Pets",null,null,null,0,7.99,0,0,null,{"$f":"S67","v":0},null,null,null,null,null,0,0,0,0,0,0,0,0]
[null,"Not Available",null,9781681521961,null,"Puppies Chase",null,null,null,"Amicus Ink Board Books - Pets",null,null,null,0,7.99,0,0,null,{"$f":"S67","v":0},null,null,null,null,null,0,0,0,0,0,0,0,0]
[null,"Not Available",null,9781681522432,null,"Boats Float",null,null,null,"Amicus Ink Board Books - Vehicles",null,null,null,0,7.99,0,0,null,{"$f":"S67","v":0},null,null,null,null,null,0,0,0,0,0,0,0,0]
[null,"Not Available",null,9781681521213,null,"Cars Zoom",null,null,null,"Amicus Ink Board Books - Vehicles",null,null,null,0,7.99,0,0,null,{"$f":"S67","v":0},null,null,null,null,null,0,0,0,0,0,0,0,0]
[null,"Not Available",null,9781681522401,null,"Fire Trucks Rescue",null,null,null,"Amicus Ink Board Books - Vehicles",null,null,null,0,7.99,0,0,null,{"$f":"S67","v":0},null,null,null,null,null,0,0,0,0,0,0,0,0]
[null,"Not Available",null,9781681521220,null,"Planes Soar",null,null,null,"Amicus Ink Board Books - Vehicles",null,null,null,0,7.99,0,0,null,{"$f":"S67","v":0},null,null,null,null,null,0,0,0,0,0,0,0,0]
[null,"Not Available",null,9781681522425,null,"Trains Chug",null,null,null,"Amicus Ink Board Books - Vehicles",null,null,null,0,7.99,0,0,null,{"$f":"S67","v":0},null,null,null,null,null,0,0,0,0,0,0,0,0]
[null,"Not Available",null,9781681521244,null,"Trucks Haul",null,null,null,"Amicus Ink Board Books - Vehicles",null,null,null,0,7.99,0,0,null,{"$f":"S67","v":0},null,null,null,null,null,0,0,0,0,0,0,0,0]
[null,"Not Available",null,9781681520674,null,"Dolphins Play",null,null,null,"Amicus Ink Board Books - Wild Animals",null,null,null,0,7.99,0,0,null,{"$f":"S67","v":0},null,null,null,null,null,0,0,0,0,0,0,0,0]
[null,"Not Available",null,9781681520681,null,"Elephants Spray",null,null,null,"Amicus Ink Board Books - Wild Animals",null,null,null,0,7.99,0,0,null,{"$f":"S67","v":0},null,null,null,null,null,0,0,0,0,0,0,0,0]
[null,"Not Available",null,9781681520698,null,"Giraffes Stretch",null,null,null,"Amicus Ink Board Books - Wild Animals",null,null,null,0,7.99,0,0,null,{"$f":"S67","v":0},null,null,null,null,null,0,0,0,0,0,0,0,0]
[null,"Not Available",null,9781681520711,null,"Lions Roar",null,null,null,"Amicus Ink Board Books - Wild Animals",null,null,null,0,7.99,0,0,null,{"$f":"S67","v":0},null,null,null,null,null,0,0,0,0,0,0,0,0]
[null,"Not Available",null,9781681520728,null,"Monkeys Swing",null,null,null,"Amicus Ink Board Books - Wild Animals",null,null,null,0,7.99,0,0,null,{"$f":"S67","v":0},null,null,null,null,null,0,0,0,0,0,0,0,0]
[]
[null,null,null,null,null,"Complete Series of 64",null,null,null,"Mancha (Spot Spanish)",null,null,null,{"$f":"SUM(N88:N151)","v":1734.3999999999983},{"$f":"SUM(O88:O151)","v":1212.8000000000013},{"$f":"SUM(P88:P151)","v":1511.9999999999989},{"$f":"SUM(Q88:Q151)","v":958.00000000000068}]
[null,9781681519081,null,9781681518824,null,"Las cebras (Zebras)",null,null,null,"Animales africanos (Spot African Animals)",null,null,null,27.1,18.95,37.799999999999997,{"$f":"O88+5","v":23.95},null,{"$f":"S87","v":0},null,{"$f":"U87","v":0},null,{"$f":"W87","v":0},null,{"$f":"S88","v":0},{"$f":"U88","v":0},{"$f":"W88*2","v":0},{"$f":"Y88+Z88+AA88","v":0},{"$f":"S88*O88","v":0},{"$f":"U88*P88","v":0},{"$f":"W88*Q88","v":0},{"$f":"IF(AH88=FALSE,AC88+AD88+AE88,0)","v":0}]
[null,9781681519043,null,9781681518787,null,"Las jirafas (Giraffes)",null,null,null,"Animales africanos (Spot African Animals)",null,null,null,27.1,18.95,37.799999999999997,23.95,null,{"$f":"S87","v":0},null,{"$f":"U87","v":0},null,{"$f":"W87","v":0},null,0,0,0,0,0,0,0,0]
[null,9781681519029,null,9781681518763,null,"Los cocodrilos (Crocodiles)",null,null,null,"Animales africanos (Spot African Animals)",null,null,null,27.1,18.95,37.799999999999997,23.95,null,{"$f":"S87","v":0},null,{"$f":"U87","v":0},null,{"$f":"W87","v":0},null,0,0,0,0,0,0,0,0]
[null,9781681519036,null,9781681518770,null,"Los elefantes (Elephants)",null,null,null,"Animales africanos (Spot African Animals)",null,null,null,27.1,18.95,37.799999999999997,23.95,null,{"$f":"S87","v":0},null,{"$f":"U87","v":0},null,{"$f":"W87","v":0},null,0,0,0,0,0,0,0,0]
[null,9781681519050,null,9781681518794,null,"Los gorilas (Gorillas) ",null,null,null,"Animales africanos (Spot African Animals)",null,null,null,27.1,18.95,37.799999999999997,23.95,null,{"$f":"S87","v":0},null,{"$f":"U87","v":0},null,{"$f":"W87","v":0},null,0,0,0,0,0,0,0,0]
[null,9781681519012,null,9781681518756,null,"Los guepardos (Cheetahs)",null,null,null,"Animales africanos (Spot African Animals)",null,null,null,27.1,18.95,37.799999999999997,23.95,null,{"$f":"S87","v":0},null,{"$f":"U87","v":0},null,{"$f":"W87","v":0},null,0,0,0,0,0,0,0,0]
[null,9781681519067,null,9781681518800,null,"Los hipopótamos (Hippos)",null,null,null,"Animales africanos (Spot African Animals)",null,null,null,27.1,18.95,37.799999999999997,23.95,null,{"$f":"S87","v":0},null,{"$f":"U87","v":0},null,{"$f":"W87","v":0},null,0,0,0,0,0,0,0,0]
[null,9781681519074,null,9781681518817,null,"Los leones (Lions)",null,null,null,"Animales africanos (Spot African Animals)",null,null,null,27.1,18.95,37.799999999999997,23.95,null,{"$f":"S87","v":0},null,{"$f":"U87","v":0},null,{"$f":"W87","v":0},null,0,0,0,0,0,0,0,0]
["NEW",9781645492399,null,9781645492337,null,"Las anguilas (Eels)",null,null,null,"Animales del océano (Spot Ocean Animals)",null,null,null,27.1,18.95,37.799999999999997,23.95,null,{"$f":"S87","v":0},null,{"$f":"U87","v":0},null,{"$f":"W87","v":0},null,0,0,0,0,0,0,0,0]
["NEW",9781645492405,null,9781645492344,null,"Las langostas (Lobsters)",null,null,null,"Animales del océano (Spot Ocean Animals)",null,null,null,27.1,18.95,37.799999999999997,23.95,null,{"$f":"S87","v":0},null,{"$f":"U87","v":0},null,{"$f":"W87","v":0},null,0,0,0,0,0,0,0,0]
["NEW",9781645492436,null,9781645492375,null,"Los calamares (Squids)",null,null,null,"Animales del océano (Spot Ocean Animals)",null,null,null,27.1,18.95,37.799999999999997,23.95,null,{"$f":"S87","v":0},null,{"$f":"U87","v":0},null,{"$f":"W87","v":0},null,0,0,0,0,0,0,0,0]
["NEW",9781645492382,null,9781645492320,null,"Los corales (Corals)",null,null,null,"Animales del océano (Spot Ocean Animals)",null,null,null,27.1,18.95,37.799999999999997,23.95,null,{"$f":"S87","v":0},null,{"$f":"U87","v":0},null,{"$f":"W87","v":0},null,0,0,0,0,0,0,0,0]
["NEW",9781645492429,null,9781645492368,null,"Los dragones de mar (Sea Dragons)",null,null,null,"Animales del océano (Spot Ocean Animals)",null,null,null,27.1,18.95,37.799999999999997,23.95,null,{"$f":"S87","v":0},null,{"$f":"U87","v":0},null,{"$f":"W87","v":0},null,0,0,0,0,0,0,0,0]
["NEW",9781645492412,null,9781645492351,null,"Los manatíes (Manatees)",null,null,null,"Animales del océano (Spot Ocean Animals)",null,null,null,27.1,18.95,37.799999999999997,23.95,null,{"$f":"S87","v":0},null,{"$f":"U87","v":0},null,{"$f":"W87","v":0},null,0,0,0,0,0,0,0,0]
[null,"Not Available",null,9781681512747,null,"El búho (Owls)",null,null,null,"Animales del patio (Spot Backyard Animals)",null,null,null,27.1,18.95,0,0,null,{"$f":"S87","v":0},null,null,null,null,null,0,0,0,0,0,0,0,0]
[null,"Not Available",null,9781681512723,null,"El geco (Geckos)",null,null,null,"Animales del patio (Spot Backyard Animals)",null,null,null,27.1,18.95,0,0,null,{"$f":"S87","v":0},null,null,null,null,null,0,0,0,0,0,0,0,0]
[null,"Not Available",null,9781681512754,null,"El mapache (Raccoons)",null,null,null,"Animales del patio (Spot Backyard Animals)",null,null,null,27.1,18.95,0,0,null,{"$f":"S87","v":0},null,null,null,null,null,0,0,0,0,0,0,0,0]
[null,"Not Available",null,9781681512709,null,"El murciélago (Bats)",null,null,null,"Animales del patio (Spot Backyard Animals)",null,null,null,27.1,18.95,0,0,null,{"$f":"S87","v":0},null,null,null,null,null,0,0,0,0,0,0,0,0]
[null,"Not Available",null,9781681512730,null,"El ratón (Mice)",null,null,null,"Animales del patio (Spot Backyard Animals)",null,null,null,27.1,18.95,0,0,null,{"$f":"S87","v":0},null,null,null,null,null,0,0,0,0,0,0,0,0]
[null,"Not Available",null,9781681512761,null,"El zorrillo (Skunks)",null,null,null,"Animales del patio (Spot Backyard Animals)",null,null,null,27.1,18.95,0,0,null,{"$f":"S87","v":0},null,null,null,null,null,0,0,0,0,0,0,0,0]
[null,"Not Available",null,9781681512778,null,"La ardilla (Squirrels)",null,null,null,"Animales del patio (Spot Backyard Animals)",null,null,null,27.1,18.95,0,0,null,{"$f":"S87","v":0},null,null,null,null,null,0,0,0,0,0,0,0,0]
[null,"Not Available",null,9781681512716,null,"La rana (Frogs)",null,null,null,"Animales del patio (Spot Backyard Animals)",null,null,null,27.1,18.95,0,0,null,{"$f":"S87","v":0},null,null,null,null,null,0,0,0,0,0,0,0,0]
["NEW",9781645492221,null,9781645491965,null,"Las inundaciones (Floods)",null,null,null,"Clima extremo (Spot Extreme Weather)",null,null,null,27.1,18.95,37.799999999999997,23.95,null,{"$f":"S87","v":0},null,{"$f":"U87","v":0},null,{"$f":"W87","v":0},null,0,0,0,0,0,0,0,0]
["NEW",9781645492207,null,9781645491941,null,"Las ventiscas (Blizzards)",null,null,null,"Clima extremo (Spot Extreme Weather)",null,null,null,27.1,18.95,37.799999999999997,23.95,null,{"$f":"S87","v":0},null,{"$f":"U87","v":0},null,{"$f":"W87","v":0},null,0,0,0,0,0,0,0,0]
["NEW",9781645492238,null,9781645491972,null,"Los huracanes (Hurricanes)",null,null,null,"Clima extremo (Spot Extreme Weather)",null,null,null,27.1,18.95,37.799999999999997,23.95,null,{"$f":"S87","v":0},null,{"$f":"U87","v":0},null,{"$f":"W87","v":0},null,0,0,0,0,0,0,0,0]
["NEW",9781645492252,null,9781645491996,null,"Los incendios forestales (Forest Fires)",null,null,null,"Clima extremo (Spot Extreme Weather)",null,null,null,27.1,18.95,37.799999999999997,23.95,null,{"$f":"S87","v":0},null,{"$f":"U87","v":0},null,{"$f":"W87","v":0},null,0,0,0,0,0,0,0,0]
["NEW",9781645492214,null,9781645491958,null,"Los terremotos (Earthquakes)",null,null,null,"Clima extremo (Spot Extreme Weather)",null,null,null,27.1,18.95,37.799999999999997,23.95,null,{"$f":"S87","v":0},null,{"$f":"U87","v":0},null,{"$f":"W87","v":0},null,0,0,0,0,0,0,0,0]
["NEW",9781645492245,null,9781645491989,null,"Los tornados (Tornadoes)",null,null,null,"Clima extremo (Spot Extreme Weather)",null,null,null,27.1,18.95,37.799999999999997,23.95,null,{"$f":"S87","v":0},null,{"$f":"U87","v":0},null,{"$f":"W87","v":0},null,0,0,0,0,0,0,0,0]
["NEW",9781645492191,null,9781645491934,null,"Atletismo (Track & Field)",null,null,null,"Deportes (Spot Sports)",null,null,null,27.1,18.95,37.799999999999997,23.95,null,{"$f":"S87","v":0},null,{"$f":"U87","v":0},null,{"$f":"W87","v":0},null,0,0,0,0,0,0,0,0]
["NEW",9781645492122,null,9781645491866,null,"Boliche (Bowling)",null,null,null,"Deportes (Spot Sports)",null,null,null,27.1,18.95,37.799999999999997,23.95,null,{"$f":"S87","v":0},null,{"$f":"U87","v":0},null,{"$f":"W87","v":0},null,0,0,0,0,0,0,0,0]
["NEW",9781645492146,null,9781645491880,null,"Esquí alpino (Downhill Skiing)",null,null,null,"Deportes (Spot Sports)",null,null,null,27.1,18.95,37.799999999999997,23.95,null,{"$f":"S87","v":0},null,{"$f":"U87","v":0},null,{"$f":"W87","v":0},null,0,0,0,0,0,0,0,0]
["NEW",9781645492153,null,9781645491897,null,"Lacrosse (Lacrosse)",null,null,null,"Deportes (Spot Sports)",null,null,null,27.1,18.95,37.799999999999997,23.95,null,{"$f":"S87","v":0},null,{"$f":"U87","v":0},null,{"$f":"W87","v":0},null,0,0,0,0,0,0,0,0]
["NEW",9781645492160,null,9781645491903,null,"Patineta (Skateboarding)",null,null,null,"Deportes (Spot Sports)",null,null,null,27.1,18.95,37.799999999999997,23.95,null,{"$f":"S87","v":0},null,{"$f":"U87","v":0},null,{"$f":"W87","v":0},null,0,0,0,0,0,0,0,0]
["NEW",9781645492139,null,9781645491873,null,"Porrismo (Cheerleading)",null,null,null,"Deportes (Spot Sports)",null,null,null,27.1,18.95,37.799999999999997,23.95,null,{"$f":"S87","v":0},null,{"$f":"U87","v":0},null,{"$f":"W87","v":0},null,0,0,0,0,0,0,0,0]
["NEW",9781645492177,null,9781645491910,null,"Sofbol (Softball)",null,null,null,"Deportes (Spot Sports)",null,null,null,27.1,18.95,37.799999999999997,23.95,null,{"$f":"S87","v":0},null,{"$f":"U87","v":0},null,{"$f":"W87","v":0},null,0,0,0,0,0,0,0,0]
["NEW",9781645492184,null,9781645491927,null,"Tenis (Tennis)",null,null,null,"Deportes (Spot Sports)",null,null,null,27.1,18.95,37.799999999999997,23.95,null,{"$f":"S87","v":0},null,{"$f":"U87","v":0},null,{"$f":"W87","v":0},null,0,0,0,0,0,0,0,0]
[null,"Not Available",null,9781681516295,null,"El invierno (Winter)",null,null,null,"Estaciones (Spot Seasons)",null,null,null,27.1,18.95,0,0,null,{"$f":"S87","v":0},null,null,null,null,null,0,0,0,0,0,0,0,0]
[null,"Not Available",null,9781681516288,null,"El otoño (Autumn)",null,null,null,"Estaciones (Spot Seasons)",null,null,null,27.1,18.95,0,0,null,{"$f":"S87","v":0},null,null,null,null,null,0,0,0,0,0,0,0,0]
[null,"Not Available",null,9781681516271,null,"El verano (Summer)",null,null,null,"Estaciones (Spot Seasons)",null,null,null,27.1,18.95,0,0,null,{"$f":"S87","v":0},null,null,null,null,null,0,0,0,0,0,0,0,0]
[null,"Not Available",null,9781681516264,null,"La primavera (Spring)",null,null,null,"Estaciones (Spot Seasons)",null,null,null,27.1,18.95,0,0,null,{"$f":"S87","v":0},null,null,null,null,null,0,0,0,0,0,0,0,0]
["NEW",9781645492061,null,9781645491804,null,"Los gatos monteses (Wild Cats)",null,null,null,"Los gatos salvajes (Spot Wild Cats)",null,null,null,27.1,18.95,37.799999999999997,{"$f":"O128+5","v":23.95},null,{"$f":"S87","v":0},null,{"$f":"U87","v":0},null,{"$f":"W87","v":0},null,0,0,0,0,0,0,0,0]
["NEW",9781645492085,null,9781645491828,null,"Los jaguares (Jaguars)",null,null,null,"Los gatos salvajes (Spot Wild Cats)",null,null,null,27.1,18.95,37.799999999999997,23.95,null,{"$f":"S87","v":0},null,{"$f":"U87","v":0},null,{"$f":"W87","v":0},null,0,0,0,0,0,0,0,0]
["NEW",9781645492092,null,9781645491835,null,"Los leopardos (Leopards)",null,null,null,"Los gatos salvajes (Spot Wild Cats)",null,null,null,27.1,18.95,37.799999999999997,23.95,null,{"$f":"S87","v":0},null,{"$f":"U87","v":0},null,{"$f":"W87","v":0},null,0,0,0,0,0,0,0,0]
["NEW",9781645492108,null,9781645491842,null,"Los linces (Lynx)",null,null,null,"Los gatos salvajes (Spot Wild Cats)",null,null,null,27.1,18.95,37.799999999999997,23.95,null,{"$f":"S87","v":0},null,{"$f":"U87","v":0},null,{"$f":"W87","v":0},null,0,0,0,0,0,0,0,0]
["NEW",9781645492078,null,9781645491811,null,"Los pumas (Pumas)",null,null,null,"Los gatos salvajes (Spot Wild Cats)",null,null,null,27.1,18.95,37.799999999999997,23.95,null,{"$f":"S87","v":0},null,{"$f":"U87","v":0},null,{"$f":"W87","v":0},null,0,0,0,0,0,0,0,0]
["NEW",9781645492115,null,9781645491859,null,"Los tigres (Tigers)",null,null,null,"Los gatos salvajes (Spot Wild Cats)",null,null,null,27.1,18.95,37.799999999999997,23.95,null,{"$f":"S87","v":0},null,{"$f":"U87","v":0},null,{"$f":"W87","v":0},null,0,0,0,0,0,0,0,0]
[null,"Not Available",null,9781681516073,null,"Las camionetas (Trucks)",null,null,null,"Máquinas poderosas (Spot Mighty Machines)",null,null,null,27.1,18.95,0,0,null,{"$f":"S87","v":0},null,null,null,null,null,0,0,0,0,0,0,0,0]
[null,"Not Available",null,9781681512693,null,"Las cargadoras (Loaders)",null,null,null,"Máquinas poderosas (Spot Mighty Machines)",null,null,null,27.1,18.95,0,0,null,{"$f":"S87","v":0},null,null,null,null,null,0,0,0,0,0,0,0,0]
[null,"Not Available",null,9781681512679,null,"Las excavadoras (Diggers)",null,null,null,"Máquinas poderosas (Spot Mighty Machines)",null,null,null,27.1,18.95,0,0,null,{"$f":"S87","v":0},null,null,null,null,null,0,0,0,0,0,0,0,0]
[null,"Not Available",null,9781681512662,null,"Las grúas (Cranes)",null,null,null,"Máquinas poderosas (Spot Mighty Machines)",null,null,null,27.1,18.95,0,0,null,{"$f":"S87","v":0},null,null,null,null,null,0,0,0,0,0,0,0,0]
[null,"Not Available",null,9781681512655,null,"Las mezcladoras de concreto (Concrete Mixers)",null,null,null,"Máquinas poderosas (Spot Mighty Machines)",null,null,null,27.1,18.95,0,0,null,{"$f":"S87","v":0},null,null,null,null,null,0,0,0,0,0,0,0,0]
[null,9781681519111,null,9781681518855,null,"Las motocicletas (Motorcycles)",null,null,null,"Máquinas poderosas (Spot Mighty Machines)",null,null,null,27.1,18.95,37.799999999999997,{"$f":"O139+5","v":23.95},null,{"$f":"S87","v":0},null,{"$f":"U87","v":0},null,{"$f":"W87","v":0},null,0,0,0,0,0,0,0,0]
[null,"Not Available",null,9781681512648,null,"Las topadoras (Bulldozers)",null,null,null,"Máquinas poderosas (Spot Mighty Machines)",null,null,null,27.1,18.95,0,0,null,{"$f":"S87","v":0},null,null,null,null,null,0,0,0,0,0,0,0,0]
[null,9781681519098,null,9781681518831,null,"Los aviones (Airplanes)",null,null,null,"Máquinas poderosas (Spot Mighty Machines)",null,null,null,27.1,18.95,37.799999999999997,{"$f":"O141+5","v":23.95},null,{"$f":"S87","v":0},null,{"$f":"U87","v":0},null,{"$f":"W87","v":0},null,0,0,0,0,0,0,0,0]
[null,"Not Available",null,9781681516080,null,"Los camiones cisterna (Tanker Trucks)",null,null,null,"Máquinas poderosas (Spot Mighty Machines)",null,null,null,27.1,18.95,0,0,null,{"$f":"S87","v":0},null,null,null,null,null,0,0,0,0,0,0,0,0]
[null,"Not Available",null,9781681516066,null,"Los camiones de basura (Garbage Trucks)",null,null,null,"Máquinas poderosas (Spot Mighty Machines)",null,null,null,27.1,18.95,0,0,null,{"$f":"S87","v":0},null,null,null,null,null,0,0,0,0,0,0,0,0]
[null,"Not Available",null,9781681516059,null,"Los camiones de bomberos (Fire Trucks)",null,null,null,"Máquinas poderosas (Spot Mighty Machines)",null,null,null,27.1,18.95,0,0,null,{"$f":"S87","v":0},null,null,null,null,null,0,0,0,0,0,0,0,0]
[null,"Not Available",null,9781681516097,null,"Los camiones de remolque (Tow Trucks)",null,null,null,"Máquinas poderosas (Spot Mighty Machines)",null,null,null,27.1,18.95,0,0,null,{"$f":"S87","v":0},null,null,null,null,null,0,0,0,0,0,0,0,0]
[null,"Not Available",null,9781681516042,null,"Los camiones grandes (Big Rigs)",null,null,null,"Máquinas poderosas (Spot Mighty Machines)",null,null,null,27.1,18.95,0,0,null,{"$f":"S87","v":0},null,null,null,null,null,0,0,0,0,0,0,0,0]
[null,"Not Available",null,9781681512686,null,"Los camiones volquetes (Dump Trucks)",null,null,null,"Máquinas poderosas (Spot Mighty Machines)",null,null,null,27.1,18.95,0,0,null,{"$f":"S87","v":0},null,null,null,null,null,0,0,0,0,0,0,0,0]
[null,9781681519128,null,9781681518862,null,"Los coches de carreras (Race Cars)",null,null,null,"Máquinas poderosas (Spot Mighty Machines)",null,null,null,27.1,18.95,37.799999999999997,{"$f":"O148+5","v":23.95},null,{"$f":"S87","v":0},null,{"$f":"U87","v":0},null,{"$f":"W87","v":0},null,0,0,0,0,0,0,0,0]
[null,9781681519104,null,9781681518848,null,"Los helicópteros (Helicopters)",null,null,null,"Máquinas poderosas (Spot Mighty Machines)",null,null,null,27.1,18.95,37.799999999999997,{"$f":"O149+5","v":23.95},null,{"$f":"S87","v":0},null,{"$f":"U87","v":0},null,{"$f":"W87","v":0},null,0,0,0,0,0,0,0,0]
[null,9781681519135,null,9781681518879,null,"Los tanques (Tanks)",null,null,null,"Máquinas poderosas (Spot Mighty Machines)",null,null,null,27.1,18.95,37.799999999999997,{"$f":"O150+5","v":23.95},null,{"$f":"S87","v":0},null,{"$f":"U87","v":0},null,{"$f":"W87","v":0},null,0,0,0,0,0,0,0,0]
[null,9781681519142,null,9781681518886,null,"Los trenes (Trains)",null,null,null,"Máquinas poderosas (Spot Mighty Machines)",null,null,null,27.1,18.95,37.799999999999997,{"$f":"O151+5","v":23.95},null,{"$f":"S87","v":0},null,{"$f":"U87","v":0},null,{"$f":"W87","v":0},null,0,0,0,0,0,0,0,0]
[]
[null,null,null,null,null,"Complete Series of 6",null,null,null,"Ecosystem Food Webs",null,null,null,{"$f":"SUM(N154:N159)","v":179.7},{"$f":"SUM(O154:O159)","v":125.7},{"$f":"SUM(P154:P159)","v":256.8},{"$f":"SUM(Q154:Q159)","v":155.69999999999999}]
["NEW",9781645490807,null,9781645490005,null,"A Desert Food Web",null,null,null,"Ecosystem Food Webs",null,null,null,29.95,20.95,42.8,{"$f":"O154+5","v":25.95},null,{"$f":"S153","v":0},null,{"$f":"U153","v":0},null,{"$f":"W153","v":0},null,{"$f":"S154","v":0},{"$f":"U154","v":0},{"$f":"W154*2","v":0},{"$f":"Y154+Z154+AA154","v":0},{"$f":"S154*O154","v":0},{"$f":"U154*P154","v":0},{"$f":"W154*Q154","v":0},{"$f":"IF(AH154=FALSE,AC154+AD154+AE154,0)","v":0}]
["NEW",9781645490814,null,9781645490012,null,"A Freshwater Food Web",null,null,null,"Ecosystem Food Webs",null,null,null,29.95,20.95,42.8,{"$f":"O155+5","v":25.95},null,{"$f":"S153","v":0},null,{"$f":"U153","v":0},null,{"$f":"W153","v":0},null,0,0,0,0,0,0,0,0]
["NEW",9781645490821,null,9781645490029,null,"A Grassland Food Web",null,null,null,"Ecosystem Food Webs",null,null,null,29.95,20.95,42.8,25.95,null,{"$f":"S153","v":0},null,{"$f":"U153","v":0},null,{"$f":"W153","v":0},null,0,0,0,0,0,0,0,0]
["NEW",9781645490838,null,9781645490036,null,"A Rainforest Food Web",null,null,null,"Ecosystem Food Webs",null,null,null,29.95,20.95,42.8,25.95,null,{"$f":"S153","v":0},null,{"$f":"U153","v":0},null,{"$f":"W153","v":0},null,0,0,0,0,0,0,0,0]
["NEW",9781645490845,null,9781645490043,null,"An Arctic Food Web",null,null,null,"Ecosystem Food Webs",null,null,null,29.95,20.95,42.8,25.95,null,{"$f":"S153","v":0},null,{"$f":"U153","v":0},null,{"$f":"W153","v":0},null,0,0,0,0,0,0,0,0]
["NEW",9781645490852,null,9781645490050,null,"An Ocean Food Web",null,null,null,"Ecosystem Food Webs",null,null,null,29.95,20.95,42.8,25.95,null,{"$f":"S153","v":0},null,{"$f":"U153","v":0},null,{"$f":"W153","v":0},null,0,0,0,0,0,0,0,0]
[]
[null,null,null,null,null,"Complete Series of 16",null,null,null,"Making Good Choices",null,null,null,{"$f":"SUM(N162:N177)","v":479.19999999999987},{"$f":"SUM(O162:O177)","v":335.19999999999993},684.79999999999984,415.19999999999987]
["NEW",9781645490708,null,9781681519852,null,"You Can Be Helpful: Step Aside or Pitch In?",null,null,null,"Making Good Choices",null,null,null,29.95,20.95,42.8,{"$f":"O162+5","v":25.95},null,{"$f":"S161","v":0},null,{"$f":"U161","v":0},null,{"$f":"W161","v":0},null,{"$f":"S162","v":0},{"$f":"U162","v":0},{"$f":"W162*2","v":0},{"$f":"Y162+Z162+AA162","v":0},{"$f":"S162*O162","v":0},{"$f":"U162*P162","v":0},{"$f":"W162*Q162","v":0},{"$f":"IF(AH162=FALSE,AC162+AD162+AE162,0)","v":0}]
["NEW",9781645490715,null,9781681519869,null,"You Can Be Polite: Be Rude or Use Tact?",null,null,null,"Making Good Choices",null,null,null,29.95,20.95,42.8,25.95,null,{"$f":"S161","v":0},null,{"$f":"U161","v":0},null,{"$f":"W161","v":0},null,0,0,0,0,0,0,0,0]
[null,9781681517704,null,9781681516882,null,"You Can Be Responsible: Do it Now or Put it Off?",null,null,null,"Making Good Choices",null,null,null,29.95,20.95,42.8,25.95,null,{"$f":"S161","v":0},null,{"$f":"U161","v":0},null,{"$f":"W161","v":0},null,0,0,0,0,0,0,0,0]
[null,9781681512570,null,9781681511672,null,"You Can Control Your Voice: Loud or Quiet?",null,null,null,"Making Good Choices",null,null,null,29.95,20.95,42.8,25.95,null,{"$f":"S161","v":0},null,{"$f":"U161","v":0},null,{"$f":"W161","v":0},null,0,0,0,0,0,0,0,0]
[null,9781681517711,null,9781681516899,null,"You Can Encourage Others: Tease or Inspire?",null,null,null,"Making Good Choices",null,null,null,29.95,20.95,42.8,25.95,null,{"$f":"S161","v":0},null,{"$f":"U161","v":0},null,{"$f":"W161","v":0},null,0,0,0,0,0,0,0,0]
[null,9781681517728,null,9781681516905,null,"You Can Follow Rules: Cheat or Play Fair?",null,null,null,"Making Good Choices",null,null,null,29.95,20.95,42.8,25.95,null,{"$f":"S161","v":0},null,{"$f":"U161","v":0},null,{"$f":"W161","v":0},null,0,0,0,0,0,0,0,0]
[null,9781681512525,null,9781681511627,null,"You Can Handle Conflict: Hands or Words?",null,null,null,"Making Good Choices",null,null,null,29.95,20.95,42.8,25.95,null,{"$f":"S161","v":0},null,{"$f":"U161","v":0},null,{"$f":"W161","v":0},null,0,0,0,0,0,0,0,0]
[null,9781681512563,null,9781681511665,null,"You Can Listen to Directions: Stop or Go?",null,null,null,"Making Good Choices",null,null,null,29.95,20.95,42.8,25.95,null,{"$f":"S161","v":0},null,{"$f":"U161","v":0},null,{"$f":"W161","v":0},null,0,0,0,0,0,0,0,0]
[null,9781681517735,null,9781681516912,null,"You Can Make Changes: Ask or Ignore?",null,null,null,"Making Good Choices",null,null,null,29.95,20.95,42.8,25.95,null,{"$f":"S161","v":0},null,{"$f":"U161","v":0},null,{"$f":"W161","v":0},null,0,0,0,0,0,0,0,0]
["NEW",9781645490722,null,9781681519876,null,"You Can Persevere: Quit or Keep Going?",null,null,null,"Making Good Choices",null,null,null,29.95,20.95,42.8,25.95,null,{"$f":"S161","v":0},null,{"$f":"U161","v":0},null,{"$f":"W161","v":0},null,0,0,0,0,0,0,0,0]
[null,9781681517742,null,9781681516929,null,"You Can Respect Differences: Assume or Find Out?",null,null,null,"Making Good Choices",null,null,null,29.95,20.95,42.8,25.95,null,{"$f":"S161","v":0},null,{"$f":"U161","v":0},null,{"$f":"W161","v":0},null,0,0,0,0,0,0,0,0]
[null,9781681512556,null,9781681511658,null,"You Can Stay in Control: Wild or Calm?",null,null,null,"Making Good Choices",null,null,null,29.95,20.95,42.8,25.95,null,{"$f":"S161","v":0},null,{"$f":"U161","v":0},null,{"$f":"W161","v":0},null,0,0,0,0,0,0,0,0]
[null,9781681517759,null,9781681516936,null,"You Can Stop Bullying: Stand By or Stand Up?",null,null,null,"Making Good Choices",null,null,null,29.95,20.95,42.8,25.95,null,{"$f":"S161","v":0},null,{"$f":"U161","v":0},null,{"$f":"W161","v":0},null,0,0,0,0,0,0,0,0]
["NEW",9781645490739,null,9781681519883,null,"You Can Use Money Wisely: Spend or Save?",null,null,null,"Making Good Choices",null,null,null,29.95,20.95,42.8,25.95,null,{"$f":"S161","v":0},null,{"$f":"U161","v":0},null,{"$f":"W161","v":0},null,0,0,0,0,0,0,0,0]
[null,9781681512549,null,9781681511641,null,"You're Angry: Throw a Fit or Talk it Out? ",null,null,null,"Making Good Choices",null,null,null,29.95,20.95,42.8,25.95,null,{"$f":"S161","v":0},null,{"$f":"U161","v":0},null,{"$f":"W161","v":0},null,0,0,0,0,0,0,0,0]
[null,9781681512532,null,9781681511634,null,"You're in Trouble: Fib or Truth?",null,null,null,"Making Good Choices",null,null,null,29.95,20.95,42.8,25.95,null,{"$f":"S161","v":0},null,{"$f":"U161","v":0},null,{"$f":"W161","v":0},null,0,0,0,0,0,0,0,0]
[]
[null,null,null,null,null,"Complete Series of 6",null,null,null,"Mi vida con… (My Life With…)",null,null,null,{"$f":"SUM(N180:N185)","v":179.7},{"$f":"SUM(O180:O185)","v":125.7},256.8,155.69999999999999]
["NEW",9781645492290,null,9781645492030,null,"Mi vida con autismo (Autism)",null,null,null,"Mi vida con… (My Life With…)",null,null,null,29.95,20.95,42.8,{"$f":"O180+5","v":25.95},null,{"$f":"S179","v":0},null,{"$f":"U179","v":0},null,{"$f":"W179","v":0},null,{"$f":"S180","v":0},{"$f":"U180","v":0},{"$f":"W180*2","v":0},{"$f":"Y180+Z180+AA180","v":0},{"$f":"S180*O180","v":0},{"$f":"U180*P180","v":0},{"$f":"W180*Q180","v":0},{"$f":"IF(AH180=FALSE,AC180+AD180+AE180,0)","v":0}]
["NEW",9781645492269,null,9781645492009,null,"Mi vida con ceguera (Blindness)",null,null,null,"Mi vida con… (My Life With…)",null,null,null,29.95,20.95,42.8,25.95,null,{"$f":"S179","v":0},null,{"$f":"U179","v":0},null,{"$f":"W179","v":0},null,0,0,0,0,0,0,0,0]
["NEW",9781645492313,null,9781645492054,null,"Mi vida con dislexia (Dyslexia)",null,null,null,"Mi vida con… (My Life With…)",null,null,null,29.95,20.95,42.8,25.95,null,{"$f":"S179","v":0},null,{"$f":"U179","v":0},null,{"$f":"W179","v":0},null,0,0,0,0,0,0,0,0]
["NEW",9781645492306,null,9781645492047,null,"Mi vida con síndrome de Down (Down Syndrome)",null,null,null,"Mi vida con… (My Life With…)",null,null,null,29.95,20.95,42.8,25.95,null,{"$f":"S179","v":0},null,{"$f":"U179","v":0},null,{"$f":"W179","v":0},null,0,0,0,0,0,0,0,0]
["NEW",9781645492276,null,9781645492016,null,"Mi vida con sordera (Deafness)",null,null,null,"Mi vida con… (My Life With…)",null,null,null,29.95,20.95,42.8,25.95,null,{"$f":"S179","v":0},null,{"$f":"U179","v":0},null,{"$f":"W179","v":0},null,0,0,0,0,0,0,0,0]
["NEW",9781645492283,null,9781645492023,null,"Mi vida con TDAH (ADHD)",null,null,null,"Mi vida con… (My Life With…)",null,null,null,29.95,20.95,42.8,25.95,null,{"$f":"S179","v":0},null,{"$f":"U179","v":0},null,{"$f":"W179","v":0},null,0,0,0,0,0,0,0,0]
[]
[null,null,null,null,null,"Complete Series of 6",null,null,null,"My Life With . . .",null,null,null,{"$f":"SUM(N188:N193)","v":179.7},{"$f":"SUM(O188:O193)","v":125.7},256.8,155.69999999999999]
["NEW",9781645490760,null,9781681519913,null,"My Life with ADHD",null,null,null,"My Life With . . .",null,null,null,29.95,20.95,42.8,{"$f":"O188+5","v":25.95},null,{"$f":"S187","v":0},null,{"$f":"U187","v":0},null,{"$f":"W187","v":0},null,{"$f":"S188","v":0},{"$f":"U188","v":0},{"$f":"W188*2","v":0},{"$f":"Y188+Z188+AA188","v":0},{"$f":"S188*O188","v":0},{"$f":"U188*P188","v":0},{"$f":"W188*Q188","v":0},{"$f":"IF(AH188=FALSE,AC188+AD188+AE188,0)","v":0}]
["NEW",9781645490777,null,9781681519920,null,"My Life with Autism",null,null,null,"My Life With . . .",null,null,null,29.95,20.95,42.8,25.95,null,{"$f":"S187","v":0},null,{"$f":"U187","v":0},null,{"$f":"W187","v":0},null,0,0,0,0,0,0,0,0]
["NEW",9781645490746,null,9781681519890,null,"My Life with Blindness",null,null,null,"My Life With . . .",null,null,null,29.95,20.95,42.8,25.95,null,{"$f":"S187","v":0},null,{"$f":"U187","v":0},null,{"$f":"W187","v":0},null,0,0,0,0,0,0,0,0]
["NEW",9781645490753,null,9781681519906,null,"My Life with Deafness",null,null,null,"My Life With . . .",null,null,null,29.95,20.95,42.8,25.95,null,{"$f":"S187","v":0},null,{"$f":"U187","v":0},null,{"$f":"W187","v":0},null,0,0,0,0,0,0,0,0]
["NEW",9781645490784,null,9781681519937,null,"My Life with Down Syndrome",null,null,null,"My Life With . . .",null,null,null,29.95,20.95,42.8,25.95,null,{"$f":"S187","v":0},null,{"$f":"U187","v":0},null,{"$f":"W187","v":0},null,0,0,0,0,0,0,0,0]
["NEW",9781645490791,null,9781681519944,null,"My Life with Dyslexia",null,null,null,"My Life With . . .",null,null,null,29.95,20.95,42.8,25.95,null,{"$f":"S187","v":0},null,{"$f":"U187","v":0},null,{"$f":"W187","v":0},null,0,0,0,0,0,0,0,0]
[]
[null,null,null,null,null,"Complete Series of 160",null,null,null,"Spot",null,null,null,{"$f":"SUM(N196:N355)","v":4335.9999999999936},{"$f":"SUM(O196:O355)","v":3031.9999999999941},6048.0000000000173,3831.9999999999891]
[null,9781681517186,null,9781681516363,null,"Cheetahs",null,null,null,"Spot African Animals",null,null,null,27.1,18.95,37.799999999999997,{"$f":"O196+5","v":23.95},null,{"$f":"S195","v":0},null,{"$f":"U195","v":0},null,{"$f":"W195","v":0},null,{"$f":"S196","v":0},{"$f":"U196","v":0},{"$f":"W196*2","v":0},{"$f":"Y196+Z196+AA196","v":0},{"$f":"S196*O196","v":0},{"$f":"U196*P196","v":0},{"$f":"W196*Q196","v":0},{"$f":"IF(AH196=FALSE,AC196+AD196+AE196,0)","v":0}]
[null,9781681517193,null,9781681516370,null,"Crocodiles",null,null,null,"Spot African Animals",null,null,null,27.1,18.95,37.799999999999997,23.95,null,{"$f":"S195","v":0},null,{"$f":"U195","v":0},null,{"$f":"W195","v":0},null,0,0,0,0,0,0,0,0]
[null,9781681517209,null,9781681516387,null,"Elephants",null,null,null,"Spot African Animals",null,null,null,27.1,18.95,37.799999999999997,23.95,null,{"$f":"S195","v":0},null,{"$f":"U195","v":0},null,{"$f":"W195","v":0},null,0,0,0,0,0,0,0,0]
[null,9781681517216,null,9781681516394,null,"Giraffes",null,null,null,"Spot African Animals",null,null,null,27.1,18.95,37.799999999999997,23.95,null,{"$f":"S195","v":0},null,{"$f":"U195","v":0},null,{"$f":"W195","v":0},null,0,0,0,0,0,0,0,0]
[null,9781681517223,null,9781681516400,null,"Gorillas",null,null,null,"Spot African Animals",null,null,null,27.1,18.95,37.799999999999997,23.95,null,{"$f":"S195","v":0},null,{"$f":"U195","v":0},null,{"$f":"W195","v":0},null,0,0,0,0,0,0,0,0]
[null,9781681517230,null,9781681516417,null,"Hippos",null,null,null,"Spot African Animals",null,null,null,27.1,18.95,37.799999999999997,23.95,null,{"$f":"S195","v":0},null,{"$f":"U195","v":0},null,{"$f":"W195","v":0},null,0,0,0,0,0,0,0,0]
[null,9781681517247,null,9781681516424,null,"Lions",null,null,null,"Spot African Animals",null,null,null,27.1,18.95,37.799999999999997,23.95,null,{"$f":"S195","v":0},null,{"$f":"U195","v":0},null,{"$f":"W195","v":0},null,0,0,0,0,0,0,0,0]
[null,9781681517254,null,9781681516431,null,"Zebras",null,null,null,"Spot African Animals",null,null,null,27.1,18.95,37.799999999999997,23.95,null,{"$f":"S195","v":0},null,{"$f":"U195","v":0},null,{"$f":"W195","v":0},null,0,0,0,0,0,0,0,0]
["NEW",9781681518350,null,9781681517957,null,"Arctic Foxes",null,null,null,"Spot Arctic Animals",null,null,null,27.1,18.95,37.799999999999997,23.95,null,{"$f":"S195","v":0},null,{"$f":"U195","v":0},null,{"$f":"W195","v":0},null,0,0,0,0,0,0,0,0]
["NEW",9781681518367,null,9781681517964,null,"Orcas",null,null,null,"Spot Arctic Animals",null,null,null,27.1,18.95,37.799999999999997,23.95,null,{"$f":"S195","v":0},null,{"$f":"U195","v":0},null,{"$f":"W195","v":0},null,0,0,0,0,0,0,0,0]
["NEW",9781681518374,null,9781681517971,null,"Polar Bears",null,null,null,"Spot Arctic Animals",null,null,null,27.1,18.95,37.799999999999997,23.95,null,{"$f":"S195","v":0},null,{"$f":"U195","v":0},null,{"$f":"W195","v":0},null,0,0,0,0,0,0,0,0]
["NEW",9781681518381,null,9781681517988,null,"Reindeer",null,null,null,"Spot Arctic Animals",null,null,null,27.1,18.95,37.799999999999997,23.95,null,{"$f":"S195","v":0},null,{"$f":"U195","v":0},null,{"$f":"W195","v":0},null,0,0,0,0,0,0,0,0]
["NEW",9781681518398,null,9781681517995,null,"Sea Otters",null,null,null,"Spot Arctic Animals",null,null,null,27.1,18.95,37.799999999999997,23.95,null,{"$f":"S195","v":0},null,{"$f":"U195","v":0},null,{"$f":"W195","v":0},null,0,0,0,0,0,0,0,0]
["NEW",9781681518404,null,9781681518008,null,"Snowy Owls",null,null,null,"Spot Arctic Animals",null,null,null,27.1,18.95,37.799999999999997,23.95,null,{"$f":"S195","v":0},null,{"$f":"U195","v":0},null,{"$f":"W195","v":0},null,0,0,0,0,0,0,0,0]
[null,9781681513270,null,9781681512877,null,"Flowers",null,null,null,"Spot Awesome Nature",null,null,null,27.1,18.95,37.799999999999997,23.95,null,{"$f":"S195","v":0},null,{"$f":"U195","v":0},null,{"$f":"W195","v":0},null,0,0,0,0,0,0,0,0]
[null,9781681513287,null,9781681512884,null,"Oceans",null,null,null,"Spot Awesome Nature",null,null,null,27.1,18.95,37.799999999999997,23.95,null,{"$f":"S195","v":0},null,{"$f":"U195","v":0},null,{"$f":"W195","v":0},null,0,0,0,0,0,0,0,0]
[null,9781681513256,null,9781681512853,null,"Seasons",null,null,null,"Spot Awesome Nature",null,null,null,27.1,18.95,37.799999999999997,23.95,null,{"$f":"S195","v":0},null,{"$f":"U195","v":0},null,{"$f":"W195","v":0},null,0,0,0,0,0,0,0,0]
[null,9781681513294,null,9781681512891,null,"Space",null,null,null,"Spot Awesome Nature",null,null,null,27.1,18.95,37.799999999999997,23.95,null,{"$f":"S195","v":0},null,{"$f":"U195","v":0},null,{"$f":"W195","v":0},null,0,0,0,0,0,0,0,0]
[null,9781681513263,null,9781681512860,null,"Trees",null,null,null,"Spot Awesome Nature",null,null,null,27.1,18.95,37.799999999999997,23.95,null,{"$f":"S195","v":0},null,{"$f":"U195","v":0},null,{"$f":"W195","v":0},null,0,0,0,0,0,0,0,0]
[null,9781681513249,null,9781681512846,null,"Weather",null,null,null,"Spot Awesome Nature",null,null,null,27.1,18.95,37.799999999999997,23.95,null,{"$f":"S195","v":0},null,{"$f":"U195","v":0},null,{"$f":"W195","v":0},null,0,0,0,0,0,0,0,0]
[null,9781681513300,null,9781681513164,null,"Baby Bears",null,null,null,"Spot Baby Animals",null,null,null,27.1,18.95,37.799999999999997,23.95,null,{"$f":"S195","v":0},null,{"$f":"U195","v":0},null,{"$f":"W195","v":0},null,0,0,0,0,0,0,0,0]
[null,9781681513324,null,9781681513188,null,"Baby Elephants",null,null,null,"Spot Baby Animals",null,null,null,27.1,18.95,37.799999999999997,23.95,null,{"$f":"S195","v":0},null,{"$f":"U195","v":0},null,{"$f":"W195","v":0},null,0,0,0,0,0,0,0,0]
[null,9781681513331,null,9781681513195,null,"Baby Giraffes",null,null,null,"Spot Baby Animals",null,null,null,27.1,18.95,37.799999999999997,23.95,null,{"$f":"S195","v":0},null,{"$f":"U195","v":0},null,{"$f":"W195","v":0},null,0,0,0,0,0,0,0,0]
[null,9781681513362,null,9781681513225,null,"Baby Hippos",null,null,null,"Spot Baby Animals",null,null,null,27.1,18.95,37.799999999999997,23.95,null,{"$f":"S195","v":0},null,{"$f":"U195","v":0},null,{"$f":"W195","v":0},null,0,0,0,0,0,0,0,0]
[null,9781681513348,null,9781681513201,null,"Baby Lions",null,null,null,"Spot Baby Animals",null,null,null,27.1,18.95,37.799999999999997,23.95,null,{"$f":"S195","v":0},null,{"$f":"U195","v":0},null,{"$f":"W195","v":0},null,0,0,0,0,0,0,0,0]
[null,9781681513355,null,9781681513218,null,"Baby Orangutans",null,null,null,"Spot Baby Animals",null,null,null,27.1,18.95,37.799999999999997,23.95,null,{"$f":"S195","v":0},null,{"$f":"U195","v":0},null,{"$f":"W195","v":0},null,0,0,0,0,0,0,0,0]
[null,9781681513379,null,9781681513232,null,"Baby Tigers",null,null,null,"Spot Baby Animals",null,null,null,27.1,18.95,37.799999999999997,23.95,null,{"$f":"S195","v":0},null,{"$f":"U195","v":0},null,{"$f":"W195","v":0},null,0,0,0,0,0,0,0,0]
[null,9781681513317,null,9781681513171,null,"Baby Wolves",null,null,null,"Spot Baby Animals",null,null,null,27.1,18.95,37.799999999999997,23.95,null,{"$f":"S195","v":0},null,{"$f":"U195","v":0},null,{"$f":"W195","v":0},null,0,0,0,0,0,0,0,0]
[null,9781681515663,null,9781681515281,null,"Calves",null,null,null,"Spot Baby Farm Animals",null,null,null,27.1,18.95,37.799999999999997,23.95,null,{"$f":"S195","v":0},null,{"$f":"U195","v":0},null,{"$f":"W195","v":0},null,0,0,0,0,0,0,0,0]
[null,9781681515670,null,9781681515298,null,"Chicks",null,null,null,"Spot Baby Farm Animals",null,null,null,27.1,18.95,37.799999999999997,23.95,null,{"$f":"S195","v":0},null,{"$f":"U195","v":0},null,{"$f":"W195","v":0},null,0,0,0,0,0,0,0,0]
[null,9781681515687,null,9781681515304,null,"Ducklings",null,null,null,"Spot Baby Farm Animals",null,null,null,27.1,18.95,37.799999999999997,23.95,null,{"$f":"S195","v":0},null,{"$f":"U195","v":0},null,{"$f":"W195","v":0},null,0,0,0,0,0,0,0,0]
[null,9781681515694,null,9781681515311,null,"Foals",null,null,null,"Spot Baby Farm Animals",null,null,null,27.1,18.95,37.799999999999997,23.95,null,{"$f":"S195","v":0},null,{"$f":"U195","v":0},null,{"$f":"W195","v":0},null,0,0,0,0,0,0,0,0]
[null,9781681515700,null,9781681515328,null,"Kids",null,null,null,"Spot Baby Farm Animals",null,null,null,27.1,18.95,37.799999999999997,23.95,null,{"$f":"S195","v":0},null,{"$f":"U195","v":0},null,{"$f":"W195","v":0},null,0,0,0,0,0,0,0,0]
[null,9781681515717,null,9781681515335,null,"Kittens",null,null,null,"Spot Baby Farm Animals",null,null,null,27.1,18.95,37.799999999999997,23.95,null,{"$f":"S195","v":0},null,{"$f":"U195","v":0},null,{"$f":"W195","v":0},null,0,0,0,0,0,0,0,0]
[null,9781681515724,null,9781681515342,null,"Lambs",null,null,null,"Spot Baby Farm Animals",null,null,null,27.1,18.95,37.799999999999997,23.95,null,{"$f":"S195","v":0},null,{"$f":"U195","v":0},null,{"$f":"W195","v":0},null,0,0,0,0,0,0,0,0]
[null,9781681515731,null,9781681515359,null,"Puppies",null,null,null,"Spot Baby Farm Animals",null,null,null,27.1,18.95,37.799999999999997,23.95,null,{"$f":"S195","v":0},null,{"$f":"U195","v":0},null,{"$f":"W195","v":0},null,0,0,0,0,0,0,0,0]
[null,9781681511801,null,9781681510903,null,"Bats",null,null,null,"Spot Backyard Animals",null,null,null,27.1,18.95,37.799999999999997,23.95,null,{"$f":"S195","v":0},null,{"$f":"U195","v":0},null,{"$f":"W195","v":0},null,0,0,0,0,0,0,0,0]
[null,9781681515809,null,9781681515427,null,"Chipmunks",null,null,null,"Spot Backyard Animals",null,null,null,27.1,18.95,37.799999999999997,23.95,null,{"$f":"S195","v":0},null,{"$f":"U195","v":0},null,{"$f":"W195","v":0},null,0,0,0,0,0,0,0,0]
[null,9781681515823,null,9781681515441,null,"Deer",null,null,null,"Spot Backyard Animals",null,null,null,27.1,18.95,37.799999999999997,23.95,null,{"$f":"S195","v":0},null,{"$f":"U195","v":0},null,{"$f":"W195","v":0},null,0,0,0,0,0,0,0,0]
[null,9781681511818,null,9781681510910,null,"Frogs",null,null,null,"Spot Backyard Animals",null,null,null,27.1,18.95,37.799999999999997,23.95,null,{"$f":"S195","v":0},null,{"$f":"U195","v":0},null,{"$f":"W195","v":0},null,0,0,0,0,0,0,0,0]
[null,9781681511825,null,9781681510927,null,"Geckos",null,null,null,"Spot Backyard Animals",null,null,null,27.1,18.95,37.799999999999997,23.95,null,{"$f":"S195","v":0},null,{"$f":"U195","v":0},null,{"$f":"W195","v":0},null,0,0,0,0,0,0,0,0]
[null,9781681515847,null,9781681515465,null,"Geese",null,null,null,"Spot Backyard Animals",null,null,null,27.1,18.95,37.799999999999997,23.95,null,{"$f":"S195","v":0},null,{"$f":"U195","v":0},null,{"$f":"W195","v":0},null,0,0,0,0,0,0,0,0]
[null,9781681515816,null,9781681515434,null,"Hawks",null,null,null,"Spot Backyard Animals",null,null,null,27.1,18.95,37.799999999999997,23.95,null,{"$f":"S195","v":0},null,{"$f":"U195","v":0},null,{"$f":"W195","v":0},null,0,0,0,0,0,0,0,0]
[null,9781681511832,null,9781681510934,null,"Mice",null,null,null,"Spot Backyard Animals",null,null,null,27.1,18.95,37.799999999999997,23.95,null,{"$f":"S195","v":0},null,{"$f":"U195","v":0},null,{"$f":"W195","v":0},null,0,0,0,0,0,0,0,0]
[null,9781681511849,null,9781681510941,null,"Owls",null,null,null,"Spot Backyard Animals",null,null,null,27.1,18.95,37.799999999999997,23.95,null,{"$f":"S195","v":0},null,{"$f":"U195","v":0},null,{"$f":"W195","v":0},null,0,0,0,0,0,0,0,0]
[null,9781681515830,null,9781681515458,null,"Prairie Dogs",null,null,null,"Spot Backyard Animals",null,null,null,27.1,18.95,37.799999999999997,23.95,null,{"$f":"S195","v":0},null,{"$f":"U195","v":0},null,{"$f":"W195","v":0},null,0,0,0,0,0,0,0,0]
[null,9781681511856,null,9781681510958,null,"Raccoons",null,null,null,"Spot Backyard Animals",null,null,null,27.1,18.95,37.799999999999997,23.95,null,{"$f":"S195","v":0},null,{"$f":"U195","v":0},null,{"$f":"W195","v":0},null,0,0,0,0,0,0,0,0]
[null,9781681515854,null,9781681515472,null,"Robins",null,null,null,"Spot Backyard Animals",null,null,null,27.1,18.95,37.799999999999997,23.95,null,{"$f":"S195","v":0},null,{"$f":"U195","v":0},null,{"$f":"W195","v":0},null,0,0,0,0,0,0,0,0]
[null,9781681515861,null,9781681515489,null,"Salamanders",null,null,null,"Spot Backyard Animals",null,null,null,27.1,18.95,37.799999999999997,23.95,null,{"$f":"S195","v":0},null,{"$f":"U195","v":0},null,{"$f":"W195","v":0},null,0,0,0,0,0,0,0,0]
[null,9781681511863,null,9781681510965,null,"Skunks",null,null,null,"Spot Backyard Animals",null,null,null,27.1,18.95,37.799999999999997,23.95,null,{"$f":"S195","v":0},null,{"$f":"U195","v":0},null,{"$f":"W195","v":0},null,0,0,0,0,0,0,0,0]
[null,9781681515878,null,9781681515496,null,"Snakes",null,null,null,"Spot Backyard Animals",null,null,null,27.1,18.95,37.799999999999997,23.95,null,{"$f":"S195","v":0},null,{"$f":"U195","v":0},null,{"$f":"W195","v":0},null,0,0,0,0,0,0,0,0]
[null,9781681511870,null,9781681510972,null,"Squirrels",null,null,null,"Spot Backyard Animals",null,null,null,27.1,18.95,37.799999999999997,23.95,null,{"$f":"S195","v":0},null,{"$f":"U195","v":0},null,{"$f":"W195","v":0},null,0,0,0,0,0,0,0,0]
[null,9781681511948,null,9781681511047,null,"Ants",null,null,null,"Spot Creepy Crawlies",null,null,null,27.1,18.95,37.799999999999997,23.95,null,{"$f":"S195","v":0},null,{"$f":"U195","v":0},null,{"$f":"W195","v":0},null,0,0,0,0,0,0,0,0]
[null,9781681511955,null,9781681511054,null,"Bees",null,null,null,"Spot Creepy Crawlies",null,null,null,27.1,18.95,37.799999999999997,23.95,null,{"$f":"S195","v":0},null,{"$f":"U195","v":0},null,{"$f":"W195","v":0},null,0,0,0,0,0,0,0,0]
[null,9781681511962,null,9781681511061,null,"Beetles",null,null,null,"Spot Creepy Crawlies",null,null,null,27.1,18.95,37.799999999999997,23.95,null,{"$f":"S195","v":0},null,{"$f":"U195","v":0},null,{"$f":"W195","v":0},null,0,0,0,0,0,0,0,0]
[null,9781681511979,null,9781681511078,null,"Butterflies",null,null,null,"Spot Creepy Crawlies",null,null,null,27.1,18.95,37.799999999999997,23.95,null,{"$f":"S195","v":0},null,{"$f":"U195","v":0},null,{"$f":"W195","v":0},null,0,0,0,0,0,0,0,0]
[null,9781681515748,null,9781681515366,null,"Crickets",null,null,null,"Spot Creepy Crawlies",null,null,null,27.1,18.95,37.799999999999997,23.95,null,{"$f":"S195","v":0},null,{"$f":"U195","v":0},null,{"$f":"W195","v":0},null,0,0,0,0,0,0,0,0]
[null,9781681515755,null,9781681515373,null,"Dragonflies",null,null,null,"Spot Creepy Crawlies",null,null,null,27.1,18.95,37.799999999999997,23.95,null,{"$f":"S195","v":0},null,{"$f":"U195","v":0},null,{"$f":"W195","v":0},null,0,0,0,0,0,0,0,0]
[null,9781681511986,null,9781681511085,null,"Flies",null,null,null,"Spot Creepy Crawlies",null,null,null,27.1,18.95,37.799999999999997,23.95,null,{"$f":"S195","v":0},null,{"$f":"U195","v":0},null,{"$f":"W195","v":0},null,0,0,0,0,0,0,0,0]
[null,9781681511993,null,9781681511092,null,"Ladybugs",null,null,null,"Spot Creepy Crawlies",null,null,null,27.1,18.95,37.799999999999997,23.95,null,{"$f":"S195","v":0},null,{"$f":"U195","v":0},null,{"$f":"W195","v":0},null,0,0,0,0,0,0,0,0]
[null,9781681515762,null,9781681515380,null,"Moths",null,null,null,"Spot Creepy Crawlies",null,null,null,27.1,18.95,37.799999999999997,23.95,null,{"$f":"S195","v":0},null,{"$f":"U195","v":0},null,{"$f":"W195","v":0},null,0,0,0,0,0,0,0,0]
[null,9781681515779,null,9781681515397,null,"Scorpions",null,null,null,"Spot Creepy Crawlies",null,null,null,27.1,18.95,37.799999999999997,23.95,null,{"$f":"S195","v":0},null,{"$f":"U195","v":0},null,{"$f":"W195","v":0},null,0,0,0,0,0,0,0,0]
[null,9781681512006,null,9781681511108,null,"Spiders",null,null,null,"Spot Creepy Crawlies",null,null,null,27.1,18.95,37.799999999999997,23.95,null,{"$f":"S195","v":0},null,{"$f":"U195","v":0},null,{"$f":"W195","v":0},null,0,0,0,0,0,0,0,0]
[null,9781681515786,null,9781681515403,null,"Walking Sticks",null,null,null,"Spot Creepy Crawlies",null,null,null,27.1,18.95,37.799999999999997,23.95,null,{"$f":"S195","v":0},null,{"$f":"U195","v":0},null,{"$f":"W195","v":0},null,0,0,0,0,0,0,0,0]
[null,9781681515793,null,9781681515410,null,"Wasps",null,null,null,"Spot Creepy Crawlies",null,null,null,27.1,18.95,37.799999999999997,{"$f":"O260+5","v":23.95},null,{"$f":"S195","v":0},null,{"$f":"U195","v":0},null,{"$f":"W195","v":0},null,{"$f":"S260","v":0},{"$f":"U260","v":0},{"$f":"W260*2","v":0},{"$f":"Y260+Z260+AA260","v":0},{"$f":"S260*O260","v":0},{"$f":"U260*P260","v":0},{"$f":"W260*Q260","v":0},{"$f":"IF(AH260=FALSE,AC260+AD260+AE260,0)","v":0}]
[null,9781681512013,null,9781681511115,null,"Worms",null,null,null,"Spot Creepy Crawlies",null,null,null,27.1,18.95,37.799999999999997,23.95,null,{"$f":"S195","v":0},null,{"$f":"U195","v":0},null,{"$f":"W195","v":0},null,0,0,0,0,0,0,0,0]
["NEW",9781645490265,null,9781681519418,null,"Blizzards",null,null,null,"Spot Extreme Weather",null,null,null,27.1,18.95,37.799999999999997,23.95,null,{"$f":"S195","v":0},null,{"$f":"U195","v":0},null,{"$f":"W195","v":0},null,0,0,0,0,0,0,0,0]
["NEW",9781645490272,null,9781681519425,null,"Earthquakes",null,null,null,"Spot Extreme Weather",null,null,null,27.1,18.95,37.799999999999997,23.95,null,{"$f":"S195","v":0},null,{"$f":"U195","v":0},null,{"$f":"W195","v":0},null,0,0,0,0,0,0,0,0]
["NEW",9781645490289,null,9781681519432,null,"Floods",null,null,null,"Spot Extreme Weather",null,null,null,27.1,18.95,37.799999999999997,23.95,null,{"$f":"S195","v":0},null,{"$f":"U195","v":0},null,{"$f":"W195","v":0},null,0,0,0,0,0,0,0,0]
["NEW",9781645490296,null,9781681519449,null,"Hurricanes",null,null,null,"Spot Extreme Weather",null,null,null,27.1,18.95,37.799999999999997,23.95,null,{"$f":"S195","v":0},null,{"$f":"U195","v":0},null,{"$f":"W195","v":0},null,0,0,0,0,0,0,0,0]
["NEW",9781645490302,null,9781681519456,null,"Tornadoes",null,null,null,"Spot Extreme Weather",null,null,null,27.1,18.95,37.799999999999997,23.95,null,{"$f":"S195","v":0},null,{"$f":"U195","v":0},null,{"$f":"W195","v":0},null,0,0,0,0,0,0,0,0]
["NEW",9781645490319,null,9781681519463,null,"Wildfires",null,null,null,"Spot Extreme Weather",null,null,null,27.1,18.95,37.799999999999997,23.95,null,{"$f":"S195","v":0},null,{"$f":"U195","v":0},null,{"$f":"W195","v":0},null,0,0,0,0,0,0,0,0]
["NEW",9781681518411,null,9781681518015,null,"Christmas",null,null,null,"Spot Holidays",null,null,null,27.1,18.95,37.799999999999997,23.95,null,{"$f":"S195","v":0},null,{"$f":"U195","v":0},null,{"$f":"W195","v":0},null,0,0,0,0,0,0,0,0]
["NEW",9781681518428,null,9781681518022,null,"Diwali",null,null,null,"Spot Holidays",null,null,null,27.1,18.95,37.799999999999997,23.95,null,{"$f":"S195","v":0},null,{"$f":"U195","v":0},null,{"$f":"W195","v":0},null,0,0,0,0,0,0,0,0]
["NEW",9781681518435,null,9781681518039,null,"Easter",null,null,null,"Spot Holidays",null,null,null,27.1,18.95,37.799999999999997,23.95,null,{"$f":"S195","v":0},null,{"$f":"U195","v":0},null,{"$f":"W195","v":0},null,0,0,0,0,0,0,0,0]
["NEW",9781681518442,null,9781681518046,null,"Hanukkah",null,null,null,"Spot Holidays",null,null,null,27.1,18.95,37.799999999999997,23.95,null,{"$f":"S195","v":0},null,{"$f":"U195","v":0},null,{"$f":"W195","v":0},null,0,0,0,0,0,0,0,0]
["NEW",9781681518459,null,9781681518053,null,"Kwanzaa",null,null,null,"Spot Holidays",null,null,null,27.1,18.95,37.799999999999997,23.95,null,{"$f":"S195","v":0},null,{"$f":"U195","v":0},null,{"$f":"W195","v":0},null,0,0,0,0,0,0,0,0]
["NEW",9781681518466,null,9781681518060,null,"Ramadan",null,null,null,"Spot Holidays",null,null,null,27.1,18.95,37.799999999999997,23.95,null,{"$f":"S195","v":0},null,{"$f":"U195","v":0},null,{"$f":"W195","v":0},null,0,0,0,0,0,0,0,0]
[null,9781681517261,null,9781681516448,null,"Airplanes",null,null,null,"Spot Mighty Machines",null,null,null,27.1,18.95,37.799999999999997,23.95,null,{"$f":"S195","v":0},null,{"$f":"U195","v":0},null,{"$f":"W195","v":0},null,0,0,0,0,0,0,0,0]
[null,9781681514543,null,9781681513720,null,"Big Rigs",null,null,null,"Spot Mighty Machines",null,null,null,27.1,18.95,37.799999999999997,23.95,null,{"$f":"S195","v":0},null,{"$f":"U195","v":0},null,{"$f":"W195","v":0},null,0,0,0,0,0,0,0,0]
[null,9781681511894,null,9781681510996,null,"Bulldozers",null,null,null,"Spot Mighty Machines",null,null,null,27.1,18.95,37.799999999999997,23.95,null,{"$f":"S195","v":0},null,{"$f":"U195","v":0},null,{"$f":"W195","v":0},null,0,0,0,0,0,0,0,0]
[null,9781681511887,null,9781681510989,null,"Concrete Mixers",null,null,null,"Spot Mighty Machines",null,null,null,27.1,18.95,37.799999999999997,23.95,null,{"$f":"S195","v":0},null,{"$f":"U195","v":0},null,{"$f":"W195","v":0},null,0,0,0,0,0,0,0,0]
[null,9781681511900,null,9781681511009,null,"Cranes",null,null,null,"Spot Mighty Machines",null,null,null,27.1,18.95,37.799999999999997,23.95,null,{"$f":"S195","v":0},null,{"$f":"U195","v":0},null,{"$f":"W195","v":0},null,0,0,0,0,0,0,0,0]
[null,9781681511917,null,9781681511016,null,"Diggers",null,null,null,"Spot Mighty Machines",null,null,null,27.1,18.95,37.799999999999997,23.95,null,{"$f":"S195","v":0},null,{"$f":"U195","v":0},null,{"$f":"W195","v":0},null,0,0,0,0,0,0,0,0]
[null,9781681511924,null,9781681511023,null,"Dump Trucks",null,null,null,"Spot Mighty Machines",null,null,null,27.1,18.95,37.799999999999997,23.95,null,{"$f":"S195","v":0},null,{"$f":"U195","v":0},null,{"$f":"W195","v":0},null,0,0,0,0,0,0,0,0]
[null,9781681514550,null,9781681513737,null,"Fire Trucks",null,null,null,"Spot Mighty Machines",null,null,null,27.1,18.95,37.799999999999997,23.95,null,{"$f":"S195","v":0},null,{"$f":"U195","v":0},null,{"$f":"W195","v":0},null,0,0,0,0,0,0,0,0]
[null,9781681514567,null,9781681513744,null,"Garbage Trucks",null,null,null,"Spot Mighty Machines",null,null,null,27.1,18.95,37.799999999999997,23.95,null,{"$f":"S195","v":0},null,{"$f":"U195","v":0},null,{"$f":"W195","v":0},null,0,0,0,0,0,0,0,0]
[null,9781681517278,null,9781681516455,null,"Helicopters",null,null,null,"Spot Mighty Machines",null,null,null,27.1,18.95,37.799999999999997,23.95,null,{"$f":"S195","v":0},null,{"$f":"U195","v":0},null,{"$f":"W195","v":0},null,0,0,0,0,0,0,0,0]
[null,9781681511931,null,9781681511030,null,"Loaders",null,null,null,"Spot Mighty Machines",null,null,null,27.1,18.95,37.799999999999997,23.95,null,{"$f":"S195","v":0},null,{"$f":"U195","v":0},null,{"$f":"W195","v":0},null,0,0,0,0,0,0,0,0]
[null,9781681517285,null,9781681516462,null,"Motorcycles",null,null,null,"Spot Mighty Machines",null,null,null,27.1,18.95,37.799999999999997,23.95,null,{"$f":"S195","v":0},null,{"$f":"U195","v":0},null,{"$f":"W195","v":0},null,0,0,0,0,0,0,0,0]
[null,9781681514574,null,9781681513751,null,"Pickup Trucks",null,null,null,"Spot Mighty Machines",null,null,null,27.1,18.95,37.799999999999997,23.95,null,{"$f":"S195","v":0},null,{"$f":"U195","v":0},null,{"$f":"W195","v":0},null,0,0,0,0,0,0,0,0]
[null,9781681517292,null,9781681516479,null,"Race Cars",null,null,null,"Spot Mighty Machines",null,null,null,27.1,18.95,37.799999999999997,23.95,null,{"$f":"S195","v":0},null,{"$f":"U195","v":0},null,{"$f":"W195","v":0},null,0,0,0,0,0,0,0,0]
[null,9781681514581,null,9781681513768,null,"Tanker Trucks",null,null,null,"Spot Mighty Machines",null,null,null,27.1,18.95,37.799999999999997,23.95,null,{"$f":"S195","v":0},null,{"$f":"U195","v":0},null,{"$f":"W195","v":0},null,0,0,0,0,0,0,0,0]
[null,9781681517308,null,9781681516486,null,"Tanks",null,null,null,"Spot Mighty Machines",null,null,null,27.1,18.95,37.799999999999997,23.95,null,{"$f":"S195","v":0},null,{"$f":"U195","v":0},null,{"$f":"W195","v":0},null,0,0,0,0,0,0,0,0]
[null,9781681514598,null,9781681513775,null,"Tow Trucks",null,null,null,"Spot Mighty Machines",null,null,null,27.1,18.95,37.799999999999997,23.95,null,{"$f":"S195","v":0},null,{"$f":"U195","v":0},null,{"$f":"W195","v":0},null,0,0,0,0,0,0,0,0]
[null,9781681517315,null,9781681516493,null,"Trains",null,null,null,"Spot Mighty Machines",null,null,null,27.1,18.95,37.799999999999997,23.95,null,{"$f":"S195","v":0},null,{"$f":"U195","v":0},null,{"$f":"W195","v":0},null,0,0,0,0,0,0,0,0]
[null,9781681517124,null,9781681516301,null,"Clown Fish",null,null,null,"Spot Ocean Animals",null,null,null,27.1,18.95,37.799999999999997,23.95,null,{"$f":"S195","v":0},null,{"$f":"U195","v":0},null,{"$f":"W195","v":0},null,0,0,0,0,0,0,0,0]
["NEW",9781645491507,null,9781645491088,null,"Corals",null,null,null,"Spot Ocean Animals",null,null,null,27.1,18.95,37.799999999999997,23.95,null,{"$f":"S195","v":0},null,{"$f":"U195","v":0},null,{"$f":"W195","v":0},null,0,0,0,0,0,0,0,0]
[null,9781681514604,null,9781681513782,null,"Crabs",null,null,null,"Spot Ocean Animals",null,null,null,27.1,18.95,37.799999999999997,23.95,null,{"$f":"S195","v":0},null,{"$f":"U195","v":0},null,{"$f":"W195","v":0},null,0,0,0,0,0,0,0,0]
[null,9781681514611,null,9781681513799,null,"Dolphins",null,null,null,"Spot Ocean Animals",null,null,null,27.1,18.95,37.799999999999997,23.95,null,{"$f":"S195","v":0},null,{"$f":"U195","v":0},null,{"$f":"W195","v":0},null,0,0,0,0,0,0,0,0]
["NEW",9781645491521,null,9781645491101,null,"Eels",null,null,null,"Spot Ocean Animals",null,null,null,27.1,18.95,37.799999999999997,23.95,null,{"$f":"S195","v":0},null,{"$f":"U195","v":0},null,{"$f":"W195","v":0},null,0,0,0,0,0,0,0,0]
[null,9781681514628,null,9781681513805,null,"Jellyfish",null,null,null,"Spot Ocean Animals",null,null,null,27.1,18.95,37.799999999999997,23.95,null,{"$f":"S195","v":0},null,{"$f":"U195","v":0},null,{"$f":"W195","v":0},null,0,0,0,0,0,0,0,0]
["NEW",9781645491514,null,9781645491095,null,"Lobsters",null,null,null,"Spot Ocean Animals",null,null,null,27.1,18.95,37.799999999999997,23.95,null,{"$f":"S195","v":0},null,{"$f":"U195","v":0},null,{"$f":"W195","v":0},null,0,0,0,0,0,0,0,0]
["NEW",9781645491538,null,9781645491118,null,"Manatees",null,null,null,"Spot Ocean Animals",null,null,null,27.1,18.95,37.799999999999997,23.95,null,{"$f":"S195","v":0},null,{"$f":"U195","v":0},null,{"$f":"W195","v":0},null,0,0,0,0,0,0,0,0]
[null,9781681514635,null,9781681513812,null,"Octopuses",null,null,null,"Spot Ocean Animals",null,null,null,27.1,18.95,37.799999999999997,23.95,null,{"$f":"S195","v":0},null,{"$f":"U195","v":0},null,{"$f":"W195","v":0},null,0,0,0,0,0,0,0,0]
["NEW",9781645491545,null,9781645491125,null,"Sea Dragons",null,null,null,"Spot Ocean Animals",null,null,null,27.1,18.95,37.799999999999997,23.95,null,{"$f":"S195","v":0},null,{"$f":"U195","v":0},null,{"$f":"W195","v":0},null,0,0,0,0,0,0,0,0]
[null,9781681517131,null,9781681516318,null,"Sea Horses",null,null,null,"Spot Ocean Animals",null,null,null,27.1,18.95,37.799999999999997,23.95,null,{"$f":"S195","v":0},null,{"$f":"U195","v":0},null,{"$f":"W195","v":0},null,0,0,0,0,0,0,0,0]
[null,9781681517148,null,9781681516325,null,"Sea Stars",null,null,null,"Spot Ocean Animals",null,null,null,27.1,18.95,37.799999999999997,23.95,null,{"$f":"S195","v":0},null,{"$f":"U195","v":0},null,{"$f":"W195","v":0},null,0,0,0,0,0,0,0,0]
[null,9781681514642,null,9781681513829,null,"Sea Turtles",null,null,null,"Spot Ocean Animals",null,null,null,27.1,18.95,37.799999999999997,23.95,null,{"$f":"S195","v":0},null,{"$f":"U195","v":0},null,{"$f":"W195","v":0},null,0,0,0,0,0,0,0,0]
[null,9781681514659,null,9781681513836,null,"Sharks",null,null,null,"Spot Ocean Animals",null,null,null,27.1,18.95,37.799999999999997,23.95,null,{"$f":"S195","v":0},null,{"$f":"U195","v":0},null,{"$f":"W195","v":0},null,0,0,0,0,0,0,0,0]
["NEW",9781645491552,null,9781645491132,null,"Squids",null,null,null,"Spot Ocean Animals",null,null,null,27.1,18.95,37.799999999999997,23.95,null,{"$f":"S195","v":0},null,{"$f":"U195","v":0},null,{"$f":"W195","v":0},null,0,0,0,0,0,0,0,0]
[null,9781681517155,null,9781681516332,null,"Stingrays",null,null,null,"Spot Ocean Animals",null,null,null,27.1,18.95,37.799999999999997,23.95,null,{"$f":"S195","v":0},null,{"$f":"U195","v":0},null,{"$f":"W195","v":0},null,0,0,0,0,0,0,0,0]
[null,9781681517162,null,9781681516349,null,"Tang Fish",null,null,null,"Spot Ocean Animals",null,null,null,27.1,18.95,37.799999999999997,23.95,null,{"$f":"S195","v":0},null,{"$f":"U195","v":0},null,{"$f":"W195","v":0},null,0,0,0,0,0,0,0,0]
[null,9781681517179,null,9781681516356,null,"Whales",null,null,null,"Spot Ocean Animals",null,null,null,27.1,18.95,37.799999999999997,23.95,null,{"$f":"S195","v":0},null,{"$f":"U195","v":0},null,{"$f":"W195","v":0},null,0,0,0,0,0,0,0,0]
["NEW",9781681518473,null,9781681518077,null,"Biking",null,null,null,"Spot Outdoor Fun",null,null,null,27.1,18.95,37.799999999999997,23.95,null,{"$f":"S195","v":0},null,{"$f":"U195","v":0},null,{"$f":"W195","v":0},null,0,0,0,0,0,0,0,0]
["NEW",9781681518480,null,9781681518084,null,"Camping",null,null,null,"Spot Outdoor Fun",null,null,null,27.1,18.95,37.799999999999997,23.95,null,{"$f":"S195","v":0},null,{"$f":"U195","v":0},null,{"$f":"W195","v":0},null,0,0,0,0,0,0,0,0]
["NEW",9781681518497,null,9781681518091,null,"Canoeing",null,null,null,"Spot Outdoor Fun",null,null,null,27.1,18.95,37.799999999999997,23.95,null,{"$f":"S195","v":0},null,{"$f":"U195","v":0},null,{"$f":"W195","v":0},null,0,0,0,0,0,0,0,0]
["NEW",9781681518503,null,9781681518107,null,"Fishing",null,null,null,"Spot Outdoor Fun",null,null,null,27.1,18.95,37.799999999999997,23.95,null,{"$f":"S195","v":0},null,{"$f":"U195","v":0},null,{"$f":"W195","v":0},null,0,0,0,0,0,0,0,0]
["NEW",9781681518510,null,9781681518114,null,"Gardening",null,null,null,"Spot Outdoor Fun",null,null,null,27.1,18.95,37.799999999999997,23.95,null,{"$f":"S195","v":0},null,{"$f":"U195","v":0},null,{"$f":"W195","v":0},null,0,0,0,0,0,0,0,0]
["NEW",9781681518527,null,9781681518121,null,"Hiking",null,null,null,"Spot Outdoor Fun",null,null,null,27.1,18.95,37.799999999999997,23.95,null,{"$f":"S195","v":0},null,{"$f":"U195","v":0},null,{"$f":"W195","v":0},null,0,0,0,0,0,0,0,0]
["NEW",9781681518534,null,9781681518138,null,"Horseback Riding",null,null,null,"Spot Outdoor Fun",null,null,null,27.1,18.95,37.799999999999997,23.95,null,{"$f":"S195","v":0},null,{"$f":"U195","v":0},null,{"$f":"W195","v":0},null,0,0,0,0,0,0,0,0]
["NEW",9781681518541,null,9781681518145,null,"Rock Climbing",null,null,null,"Spot Outdoor Fun",null,null,null,27.1,18.95,37.799999999999997,23.95,null,{"$f":"S195","v":0},null,{"$f":"U195","v":0},null,{"$f":"W195","v":0},null,0,0,0,0,0,0,0,0]
[null,9781681514468,null,9781681513645,null,"Birds",null,null,null,"Spot Pets",null,null,null,27.1,18.95,37.799999999999997,23.95,null,{"$f":"S195","v":0},null,{"$f":"U195","v":0},null,{"$f":"W195","v":0},null,0,0,0,0,0,0,0,0]
[null,9781681514475,null,9781681513652,null,"Cats",null,null,null,"Spot Pets",null,null,null,27.1,18.95,37.799999999999997,23.95,null,{"$f":"S195","v":0},null,{"$f":"U195","v":0},null,{"$f":"W195","v":0},null,0,0,0,0,0,0,0,0]
[null,9781681514482,null,9781681513669,null,"Dogs",null,null,null,"Spot Pets",null,null,null,27.1,18.95,37.799999999999997,23.95,null,{"$f":"S195","v":0},null,{"$f":"U195","v":0},null,{"$f":"W195","v":0},null,0,0,0,0,0,0,0,0]
[null,9781681514499,null,9781681513676,null,"Fish",null,null,null,"Spot Pets",null,null,null,27.1,18.95,37.799999999999997,23.95,null,{"$f":"S195","v":0},null,{"$f":"U195","v":0},null,{"$f":"W195","v":0},null,0,0,0,0,0,0,0,0]
[null,9781681514505,null,9781681513683,null,"Guinea Pigs",null,null,null,"Spot Pets",null,null,null,27.1,18.95,37.799999999999997,23.95,null,{"$f":"S195","v":0},null,{"$f":"U195","v":0},null,{"$f":"W195","v":0},null,0,0,0,0,0,0,0,0]
[null,9781681514512,null,9781681513690,null,"Hamsters",null,null,null,"Spot Pets",null,null,null,27.1,18.95,37.799999999999997,23.95,null,{"$f":"S195","v":0},null,{"$f":"U195","v":0},null,{"$f":"W195","v":0},null,0,0,0,0,0,0,0,0]
[null,9781681514529,null,9781681513706,null,"Rabbits",null,null,null,"Spot Pets",null,null,null,27.1,18.95,37.799999999999997,{"$f":"O324+5","v":23.95},null,{"$f":"S195","v":0},null,{"$f":"U195","v":0},null,{"$f":"W195","v":0},null,{"$f":"S324","v":0},{"$f":"U324","v":0},{"$f":"W324*2","v":0},{"$f":"Y324+Z324+AA324","v":0},{"$f":"S324*O324","v":0},{"$f":"U324*P324","v":0},{"$f":"W324*Q324","v":0},{"$f":"IF(AH324=FALSE,AC324+AD324+AE324,0)","v":0}]
[null,9781681514536,null,9781681513713,null,"Turtles",null,null,null,"Spot Pets",null,null,null,27.1,18.95,37.799999999999997,23.95,null,{"$f":"S195","v":0},null,{"$f":"U195","v":0},null,{"$f":"W195","v":0},null,0,0,0,0,0,0,0,0]
[null,9781681515908,null,9781681515526,null,"Fall ",null,null,null,"Spot Seasons",null,null,null,27.1,18.95,37.799999999999997,23.95,null,{"$f":"S195","v":0},null,{"$f":"U195","v":0},null,{"$f":"W195","v":0},null,0,0,0,0,0,0,0,0]
[null,9781681515885,null,9781681515502,null,"Spring",null,null,null,"Spot Seasons",null,null,null,27.1,18.95,37.799999999999997,23.95,null,{"$f":"S195","v":0},null,{"$f":"U195","v":0},null,{"$f":"W195","v":0},null,0,0,0,0,0,0,0,0]
[null,9781681515892,null,9781681515519,null,"Summer",null,null,null,"Spot Seasons",null,null,null,27.1,18.95,37.799999999999997,23.95,null,{"$f":"S195","v":0},null,{"$f":"U195","v":0},null,{"$f":"W195","v":0},null,0,0,0,0,0,0,0,0]
[null,9781681515915,null,9781681515533,null,"Winter",null,null,null,"Spot Seasons",null,null,null,27.1,18.95,37.799999999999997,23.95,null,{"$f":"S195","v":0},null,{"$f":"U195","v":0},null,{"$f":"W195","v":0},null,0,0,0,0,0,0,0,0]
[null,9781681511757,null,9781681510859,null,"Baseball",null,null,null,"Spot Sports",null,null,null,27.1,18.95,37.799999999999997,23.95,null,{"$f":"S195","v":0},null,{"$f":"U195","v":0},null,{"$f":"W195","v":0},null,0,0,0,0,0,0,0,0]
[null,9781681511740,null,9781681510842,null,"Basketball",null,null,null,"Spot Sports",null,null,null,27.1,18.95,37.799999999999997,23.95,null,{"$f":"S195","v":0},null,{"$f":"U195","v":0},null,{"$f":"W195","v":0},null,0,0,0,0,0,0,0,0]
["NEW",9781645490180,null,9781681519333,null,"Bowling",null,null,null,"Spot Sports",null,null,null,27.1,18.95,37.799999999999997,23.95,null,{"$f":"S195","v":0},null,{"$f":"U195","v":0},null,{"$f":"W195","v":0},null,0,0,0,0,0,0,0,0]
["NEW",9781645490197,null,9781681519340,null,"Cheerleading",null,null,null,"Spot Sports",null,null,null,27.1,18.95,37.799999999999997,23.95,null,{"$f":"S195","v":0},null,{"$f":"U195","v":0},null,{"$f":"W195","v":0},null,0,0,0,0,0,0,0,0]
["NEW",9781645490203,null,9781681519357,null,"Downhill Skiing",null,null,null,"Spot Sports",null,null,null,27.1,18.95,37.799999999999997,23.95,null,{"$f":"S195","v":0},null,{"$f":"U195","v":0},null,{"$f":"W195","v":0},null,0,0,0,0,0,0,0,0]
[null,9781681517322,null,9781681516509,null,"Figure Skating",null,null,null,"Spot Sports",null,null,null,27.1,18.95,37.799999999999997,23.95,null,{"$f":"S195","v":0},null,{"$f":"U195","v":0},null,{"$f":"W195","v":0},null,0,0,0,0,0,0,0,0]
[null,9781681511764,null,9781681510866,null,"Football",null,null,null,"Spot Sports",null,null,null,27.1,18.95,37.799999999999997,23.95,null,{"$f":"S195","v":0},null,{"$f":"U195","v":0},null,{"$f":"W195","v":0},null,0,0,0,0,0,0,0,0]
[null,9781681517339,null,9781681516516,null,"Golf",null,null,null,"Spot Sports",null,null,null,27.1,18.95,37.799999999999997,23.95,null,{"$f":"S195","v":0},null,{"$f":"U195","v":0},null,{"$f":"W195","v":0},null,0,0,0,0,0,0,0,0]
[null,9781681511771,null,9781681510873,null,"Gymnastics",null,null,null,"Spot Sports",null,null,null,27.1,18.95,37.799999999999997,23.95,null,{"$f":"S195","v":0},null,{"$f":"U195","v":0},null,{"$f":"W195","v":0},null,0,0,0,0,0,0,0,0]
[null,9781681511788,null,9781681510880,null,"Hockey",null,null,null,"Spot Sports",null,null,null,27.1,18.95,37.799999999999997,23.95,null,{"$f":"S195","v":0},null,{"$f":"U195","v":0},null,{"$f":"W195","v":0},null,0,0,0,0,0,0,0,0]
["NEW",9781645490210,null,9781681519364,null,"Lacrosse",null,null,null,"Spot Sports",null,null,null,27.1,18.95,37.799999999999997,23.95,null,{"$f":"S195","v":0},null,{"$f":"U195","v":0},null,{"$f":"W195","v":0},null,0,0,0,0,0,0,0,0]
["NEW",9781645490227,null,9781681519371,null,"Skateboarding",null,null,null,"Spot Sports",null,null,null,27.1,18.95,37.799999999999997,23.95,null,{"$f":"S195","v":0},null,{"$f":"U195","v":0},null,{"$f":"W195","v":0},null,0,0,0,0,0,0,0,0]
[null,9781681517346,null,9781681516523,null,"Snowboarding",null,null,null,"Spot Sports",null,null,null,27.1,18.95,37.799999999999997,23.95,null,{"$f":"S195","v":0},null,{"$f":"U195","v":0},null,{"$f":"W195","v":0},null,0,0,0,0,0,0,0,0]
[null,9781681511795,null,9781681510897,null,"Soccer",null,null,null,"Spot Sports",null,null,null,27.1,18.95,37.799999999999997,23.95,null,{"$f":"S195","v":0},null,{"$f":"U195","v":0},null,{"$f":"W195","v":0},null,0,0,0,0,0,0,0,0]
["NEW",9781645490234,null,9781681519388,null,"Softball",null,null,null,"Spot Sports",null,null,null,27.1,18.95,37.799999999999997,23.95,null,{"$f":"S195","v":0},null,{"$f":"U195","v":0},null,{"$f":"W195","v":0},null,0,0,0,0,0,0,0,0]
[null,9781681517353,null,9781681516530,null,"Swimming",null,null,null,"Spot Sports",null,null,null,27.1,18.95,37.799999999999997,23.95,null,{"$f":"S195","v":0},null,{"$f":"U195","v":0},null,{"$f":"W195","v":0},null,0,0,0,0,0,0,0,0]
[null,9781681517360,null,9781681516547,null,"Tae Kwon Do",null,null,null,"Spot Sports",null,null,null,27.1,18.95,37.799999999999997,23.95,null,{"$f":"S195","v":0},null,{"$f":"U195","v":0},null,{"$f":"W195","v":0},null,0,0,0,0,0,0,0,0]
["NEW",9781645490241,null,9781681519395,null,"Tennis",null,null,null,"Spot Sports",null,null,null,27.1,18.95,37.799999999999997,23.95,null,{"$f":"S195","v":0},null,{"$f":"U195","v":0},null,{"$f":"W195","v":0},null,0,0,0,0,0,0,0,0]
["NEW",9781645490258,null,9781681519401,null,"Track and Field",null,null,null,"Spot Sports",null,null,null,27.1,18.95,37.799999999999997,23.95,null,{"$f":"S195","v":0},null,{"$f":"U195","v":0},null,{"$f":"W195","v":0},null,0,0,0,0,0,0,0,0]
[null,9781681517377,null,9781681516554,null,"Volleyball",null,null,null,"Spot Sports",null,null,null,27.1,18.95,37.799999999999997,23.95,null,{"$f":"S195","v":0},null,{"$f":"U195","v":0},null,{"$f":"W195","v":0},null,0,0,0,0,0,0,0,0]
["NEW",9781645490128,null,9781681519272,null,"Bobcats",null,null,null,"Spot Wild Cats",null,null,null,27.1,18.95,37.799999999999997,23.95,null,{"$f":"S195","v":0},null,{"$f":"U195","v":0},null,{"$f":"W195","v":0},null,0,0,0,0,0,0,0,0]
["NEW",9781645490135,null,9781681519289,null,"Cougars",null,null,null,"Spot Wild Cats",null,null,null,27.1,18.95,37.799999999999997,23.95,null,{"$f":"S195","v":0},null,{"$f":"U195","v":0},null,{"$f":"W195","v":0},null,0,0,0,0,0,0,0,0]
["NEW",9781645490142,null,9781681519296,null,"Jaguars",null,null,null,"Spot Wild Cats",null,null,null,27.1,18.95,37.799999999999997,23.95,null,{"$f":"S195","v":0},null,{"$f":"U195","v":0},null,{"$f":"W195","v":0},null,0,0,0,0,0,0,0,0]
["NEW",9781645490159,null,9781681519302,null,"Leopards",null,null,null,"Spot Wild Cats",null,null,null,27.1,18.95,37.799999999999997,23.95,null,{"$f":"S195","v":0},null,{"$f":"U195","v":0},null,{"$f":"W195","v":0},null,0,0,0,0,0,0,0,0]
["NEW",9781645490166,null,9781681519319,null,"Lynx",null,null,null,"Spot Wild Cats",null,null,null,27.1,18.95,37.799999999999997,23.95,null,{"$f":"S195","v":0},null,{"$f":"U195","v":0},null,{"$f":"W195","v":0},null,0,0,0,0,0,0,0,0]
["NEW",9781645490173,null,9781681519326,null,"Tigers",null,null,null,"Spot Wild Cats",null,null,null,27.1,18.95,37.799999999999997,23.95,null,{"$f":"S195","v":0},null,{"$f":"U195","v":0},null,{"$f":"W195","v":0},null,0,0,0,0,0,0,0,0]
[]
[null,null,null,null,null,"Complete Series of 6",null,null,null,"Deportes olímpicos de verano (Summer Olympic Sports)",null,null,null,{"$f":"SUM(N358:N363)","v":196.8},{"$f":"SUM(O358:O363)","v":137.69999999999999},{"$f":"SUM(P358:P363)","v":280.8},{"$f":"SUM(Q358:Q363)","v":167.7}]
["NEW",9781681519258,null,9781681518992,null,"El atletismo (Track & Field)",null,null,null,"Deportes olímpicos de verano (Summer Olympic Sports)",null,null,null,32.799999999999997,22.95,46.8,{"$f":"O358+5","v":27.95},null,{"$f":"S357","v":0},null,{"$f":"U357","v":0},null,{"$f":"W357","v":0},null,{"$f":"S358","v":0},{"$f":"U358","v":0},{"$f":"W358*2","v":0},{"$f":"Y358+Z358+AA358","v":0},{"$f":"S358*O358","v":0},{"$f":"U358*P358","v":0},{"$f":"W358*Q358","v":0},{"$f":"IF(AH358=FALSE,AC358+AD358+AE358,0)","v":0}]
["NEW",9781681519210,null,9781681518954,null,"El baloncesto (Basketball)",null,null,null,"Deportes olímpicos de verano (Summer Olympic Sports)",null,null,null,32.799999999999997,22.95,46.8,27.95,null,{"$f":"S357","v":0},null,{"$f":"U357","v":0},null,{"$f":"W357","v":0},null,0,0,0,0,0,0,0,0]
["NEW",9781681519265,null,9781681519005,null,"El vóleibol (Volleyball)",null,null,null,"Deportes olímpicos de verano (Summer Olympic Sports)",null,null,null,32.799999999999997,22.95,46.8,27.95,null,{"$f":"S357","v":0},null,{"$f":"U357","v":0},null,{"$f":"W357","v":0},null,0,0,0,0,0,0,0,0]
["NEW",9781681519234,null,9781681518978,null,"La gimnasia (Gymnastics)",null,null,null,"Deportes olímpicos de verano (Summer Olympic Sports)",null,null,null,32.799999999999997,22.95,46.8,27.95,null,{"$f":"S357","v":0},null,{"$f":"U357","v":0},null,{"$f":"W357","v":0},null,0,0,0,0,0,0,0,0]
["NEW",9781681519241,null,9781681518985,null,"La natación y los saltos ornamentales (Swimmming & Diving)",null,null,null,"Deportes olímpicos de verano (Summer Olympic Sports)",null,null,null,32.799999999999997,22.95,46.8,27.95,null,{"$f":"S357","v":0},null,{"$f":"U357","v":0},null,{"$f":"W357","v":0},null,0,0,0,0,0,0,0,0]
["NEW",9781681519227,null,9781681518961,null,"Los deportes de combate (Combat Sports)",null,null,null,"Deportes olímpicos de verano (Summer Olympic Sports)",null,null,null,32.799999999999997,22.95,46.8,27.95,null,{"$f":"S357","v":0},null,{"$f":"U357","v":0},null,{"$f":"W357","v":0},null,0,0,0,0,0,0,0,0]
[]
[null,null,null,null,null,"Complete Series of 14",null,null,null,"Favorite Cat Breeds",null,null,null,{"$f":"SUM(N366:N379)","v":419.2999999999999},{"$f":"SUM(O366:O379)","v":293.29999999999995},{"$f":"SUM(P366:P379)","v":599.19999999999993},{"$f":"SUM(Q366:Q379)","v":363.2999999999999}]
[null,9781681510002,null,9781607539667,null,"Abyssinian Cats",null,null,null,"Favorite Cat Breeds",null,null,null,29.95,20.95,42.8,{"$f":"O366+5","v":25.95},null,{"$f":"S365","v":0},null,{"$f":"U365","v":0},null,{"$f":"W365","v":0},null,{"$f":"S366","v":0},{"$f":"U366","v":0},{"$f":"W366*2","v":0},{"$f":"Y366+Z366+AA366","v":0},{"$f":"S366*O366","v":0},{"$f":"U366*P366","v":0},{"$f":"W366*Q366","v":0},{"$f":"IF(AH366=FALSE,AC366+AD366+AE366,0)","v":0}]
[null,9781681510019,null,9781607539674,null,"American Shorthair Cats",null,null,null,"Favorite Cat Breeds",null,null,null,29.95,20.95,42.8,25.95,null,{"$f":"S365","v":0},null,{"$f":"U365","v":0},null,{"$f":"W365","v":0},null,0,0,0,0,0,0,0,0]
[null,9781681510026,null,9781607539681,null,"Birman Cats",null,null,null,"Favorite Cat Breeds",null,null,null,29.95,20.95,42.8,25.95,null,{"$f":"S365","v":0},null,{"$f":"U365","v":0},null,{"$f":"W365","v":0},null,0,0,0,0,0,0,0,0]
["NEW",9781681518558,null,9781681518152,null,"British Shorthair Cats",null,null,null,"Favorite Cat Breeds",null,null,null,29.95,20.95,42.8,25.95,null,{"$f":"S365","v":0},null,{"$f":"U365","v":0},null,{"$f":"W365","v":0},null,0,0,0,0,0,0,0,0]
["NEW",9781681518565,null,9781681518169,null,"Devon Rex Cats",null,null,null,"Favorite Cat Breeds",null,null,null,29.95,20.95,42.8,25.95,null,{"$f":"S365","v":0},null,{"$f":"U365","v":0},null,{"$f":"W365","v":0},null,0,0,0,0,0,0,0,0]
["NEW",9781681518572,null,9781681518176,null,"Exotic Cats",null,null,null,"Favorite Cat Breeds",null,null,null,29.95,20.95,42.8,25.95,null,{"$f":"S365","v":0},null,{"$f":"U365","v":0},null,{"$f":"W365","v":0},null,0,0,0,0,0,0,0,0]
[null,9781681510033,null,9781607539698,null,"Maine Coon Cats",null,null,null,"Favorite Cat Breeds",null,null,null,29.95,20.95,42.8,25.95,null,{"$f":"S365","v":0},null,{"$f":"U365","v":0},null,{"$f":"W365","v":0},null,0,0,0,0,0,0,0,0]
["NEW",9781681518589,null,9781681518183,null,"Oriental Cats",null,null,null,"Favorite Cat Breeds",null,null,null,29.95,20.95,42.8,25.95,null,{"$f":"S365","v":0},null,{"$f":"U365","v":0},null,{"$f":"W365","v":0},null,0,0,0,0,0,0,0,0]
[null,9781681510040,null,9781607539704,null,"Persian Cats",null,null,null,"Favorite Cat Breeds",null,null,null,29.95,20.95,42.8,25.95,null,{"$f":"S365","v":0},null,{"$f":"U365","v":0},null,{"$f":"W365","v":0},null,0,0,0,0,0,0,0,0]
[null,9781681510057,null,9781607539711,null,"Ragdoll Cats",null,null,null,"Favorite Cat Breeds",null,null,null,29.95,20.95,42.8,25.95,null,{"$f":"S365","v":0},null,{"$f":"U365","v":0},null,{"$f":"W365","v":0},null,0,0,0,0,0,0,0,0]
["NEW",9781681518596,null,9781681518190,null,"Scottish Folds",null,null,null,"Favorite Cat Breeds",null,null,null,29.95,20.95,42.8,25.95,null,{"$f":"S365","v":0},null,{"$f":"U365","v":0},null,{"$f":"W365","v":0},null,0,0,0,0,0,0,0,0]
[null,9781681510064,null,9781607539728,null,"Siamese Cats",null,null,null,"Favorite Cat Breeds",null,null,null,29.95,20.95,42.8,25.95,null,{"$f":"S365","v":0},null,{"$f":"U365","v":0},null,{"$f":"W365","v":0},null,0,0,0,0,0,0,0,0]
["NEW",9781681518602,null,9781681518206,null,"Siberian Cats",null,null,null,"Favorite Cat Breeds",null,null,null,29.95,20.95,42.8,25.95,null,{"$f":"S365","v":0},null,{"$f":"U365","v":0},null,{"$f":"W365","v":0},null,0,0,0,0,0,0,0,0]
[null,9781681510071,null,9781607539735,null,"Sphynx Cats",null,null,null,"Favorite Cat Breeds",null,null,null,29.95,20.95,42.8,25.95,null,{"$f":"S365","v":0},null,{"$f":"U365","v":0},null,{"$f":"W365","v":0},null,0,0,0,0,0,0,0,0]
[]
[null,null,null,null,null,"Complete Series of 4",null,null,null,"Paralympic Sports",null,null,null,{"$f":"SUM(N382:N385)","v":131.19999999999999},{"$f":"SUM(O382:O385)","v":91.8},{"$f":"SUM(P382:P385)","v":187.2},{"$f":"SUM(Q382:Q385)","v":111.8}]
["NEW",9781681518695,null,9781681518299,null,"Individual Sports at the Paralympics",null,null,null,"Paralympic Sports",null,null,null,32.799999999999997,22.95,46.8,{"$f":"O382+5","v":27.95},null,{"$f":"S381","v":0},null,{"$f":"U381","v":0},null,{"$f":"W381","v":0},null,{"$f":"S382","v":0},{"$f":"U382","v":0},{"$f":"W382*2","v":0},{"$f":"Y382+Z382+AA382","v":0},{"$f":"S382*O382","v":0},{"$f":"U382*P382","v":0},{"$f":"W382*Q382","v":0},{"$f":"IF(AH382=FALSE,AC382+AD382+AE382,0)","v":0}]
["NEW",9781681518701,null,9781681518305,null,"Team Sports at the Paralympics",null,null,null,"Paralympic Sports",null,null,null,32.799999999999997,22.95,46.8,{"$f":"O383+5","v":27.95},null,{"$f":"S381","v":0},null,{"$f":"U381","v":0},null,{"$f":"W381","v":0},null,{"$f":"S383","v":0},{"$f":"U383","v":0},{"$f":"W383*2","v":0},{"$f":"Y383+Z383+AA383","v":0},{"$f":"S383*O383","v":0},{"$f":"U383*P383","v":0},{"$f":"W383*Q383","v":0},{"$f":"IF(AH383=FALSE,AC383+AD383+AE383,0)","v":0}]
["NEW",9781681518688,null,9781681518282,null,"Water Sports at the Paralympics",null,null,null,"Paralympic Sports",null,null,null,32.799999999999997,22.95,46.8,{"$f":"O384+5","v":27.95},null,{"$f":"S381","v":0},null,{"$f":"U381","v":0},null,{"$f":"W381","v":0},null,{"$f":"S384","v":0},{"$f":"U384","v":0},{"$f":"W384*2","v":0},{"$f":"Y384+Z384+AA384","v":0},{"$f":"S384*O384","v":0},{"$f":"U384*P384","v":0},{"$f":"W384*Q384","v":0},{"$f":"IF(AH384=FALSE,AC384+AD384+AE384,0)","v":0}]
["NEW",9781681518671,null,9781681518275,null,"Wheelchair Sports at the Paralympics",null,null,null,"Paralympic Sports",null,null,null,32.799999999999997,22.95,46.8,{"$f":"O385+5","v":27.95},null,{"$f":"S381","v":0},null,{"$f":"U381","v":0},null,{"$f":"W381","v":0},null,{"$f":"S385","v":0},{"$f":"U385","v":0},{"$f":"W385*2","v":0},{"$f":"Y385+Z385+AA385","v":0},{"$f":"S385*O385","v":0},{"$f":"U385*P385","v":0},{"$f":"W385*Q385","v":0},{"$f":"IF(AH385=FALSE,AC385+AD385+AE385,0)","v":0}]
[]
[null,null,null,null,null,"Complete Series of 40",null,null,null,"Sequence ",null,null,null,{"$f":"SUM(N388:N427)","v":1311.9999999999991},{"$f":"SUM(O388:O427)","v":918.00000000000057},1871.9999999999989,{"$f":"SUM(Q388:Q427)","v":1118.0000000000007}]
[null,9781681515106,null,9781681514284,null,"Building a Bridge",null,null,null,"Sequence Amazing Structures",null,null,null,32.799999999999997,22.95,46.8,{"$f":"O388+5","v":27.95},null,{"$f":"S387","v":0},null,{"$f":"U387","v":0},null,{"$f":"W387","v":0},null,{"$f":"S388","v":0},{"$f":"U388","v":0},{"$f":"W388*2","v":0},{"$f":"Y388+Z388+AA388","v":0},{"$f":"S388*O388","v":0},{"$f":"U388*P388","v":0},{"$f":"W388*Q388","v":0},{"$f":"IF(AH388=FALSE,AC388+AD388+AE388,0)","v":0}]
[null,9781681515113,null,9781681514291,null,"Building a Dam",null,null,null,"Sequence Amazing Structures",null,null,null,32.799999999999997,22.95,46.8,27.95,null,{"$f":"S387","v":0},null,{"$f":"U387","v":0},null,{"$f":"W387","v":0},null,0,0,0,0,0,0,0,0]
["NEW",9781681518749,null,9781681518343,null,"Building a Highway",null,null,null,"Sequence Amazing Structures",null,null,null,32.799999999999997,22.95,46.8,27.95,null,{"$f":"S387","v":0},null,{"$f":"U387","v":0},null,{"$f":"W387","v":0},null,0,0,0,0,0,0,0,0]
[null,9781681515120,null,9781681514307,null,"Building a Roller Coaster",null,null,null,"Sequence Amazing Structures",null,null,null,32.799999999999997,22.95,46.8,27.95,null,{"$f":"S387","v":0},null,{"$f":"U387","v":0},null,{"$f":"W387","v":0},null,0,0,0,0,0,0,0,0]
[null,9781681515137,null,9781681514314,null,"Building a Skyscraper",null,null,null,"Sequence Amazing Structures",null,null,null,32.799999999999997,22.95,46.8,27.95,null,{"$f":"S387","v":0},null,{"$f":"U387","v":0},null,{"$f":"W387","v":0},null,0,0,0,0,0,0,0,0]
[null,9781681515144,null,9781681514321,null,"Building a Stadium",null,null,null,"Sequence Amazing Structures",null,null,null,32.799999999999997,22.95,46.8,27.95,null,{"$f":"S387","v":0},null,{"$f":"U387","v":0},null,{"$f":"W387","v":0},null,0,0,0,0,0,0,0,0]
["NEW",9781681518725,null,9781681518329,null,"Building a Subway",null,null,null,"Sequence Amazing Structures",null,null,null,32.799999999999997,22.95,46.8,27.95,null,{"$f":"S387","v":0},null,{"$f":"U387","v":0},null,{"$f":"W387","v":0},null,0,0,0,0,0,0,0,0]
[null,9781681515151,null,9781681514338,null,"Building a Tunnel",null,null,null,"Sequence Amazing Structures",null,null,null,32.799999999999997,22.95,46.8,27.95,null,{"$f":"S387","v":0},null,{"$f":"U387","v":0},null,{"$f":"W387","v":0},null,0,0,0,0,0,0,0,0]
["NEW",9781681518718,null,9781681518312,null,"Building an Airport",null,null,null,"Sequence Amazing Structures",null,null,null,32.799999999999997,22.95,46.8,27.95,null,{"$f":"S387","v":0},null,{"$f":"U387","v":0},null,{"$f":"W387","v":0},null,0,0,0,0,0,0,0,0]
["NEW",9781681518732,null,9781681518336,null,"Building an Offshore Oil Rig",null,null,null,"Sequence Amazing Structures",null,null,null,32.799999999999997,22.95,46.8,27.95,null,{"$f":"S387","v":0},null,{"$f":"U387","v":0},null,{"$f":"W387","v":0},null,0,0,0,0,0,0,0,0]
[null,9781681517544,null,9781681516721,null,"Understanding How Laws Are Made",null,null,null,"Sequence American Government",null,null,null,32.799999999999997,22.95,46.8,27.95,null,{"$f":"S387","v":0},null,{"$f":"U387","v":0},null,{"$f":"W387","v":0},null,0,0,0,0,0,0,0,0]
[null,9781681517568,null,9781681516745,null,"Understanding Presidential Elections",null,null,null,"Sequence American Government",null,null,null,32.799999999999997,22.95,46.8,27.95,null,{"$f":"S387","v":0},null,{"$f":"U387","v":0},null,{"$f":"W387","v":0},null,0,0,0,0,0,0,0,0]
[null,9781681517520,null,9781681516707,null,"Understanding the Path to Citizenship",null,null,null,"Sequence American Government",null,null,null,32.799999999999997,22.95,46.8,27.95,null,{"$f":"S387","v":0},null,{"$f":"U387","v":0},null,{"$f":"W387","v":0},null,0,0,0,0,0,0,0,0]
[null,9781681517537,null,9781681516714,null,"Writing the Bill of Rights",null,null,null,"Sequence American Government",null,null,null,32.799999999999997,22.95,46.8,27.95,null,{"$f":"S387","v":0},null,{"$f":"U387","v":0},null,{"$f":"W387","v":0},null,0,0,0,0,0,0,0,0]
[null,9781681517551,null,9781681516738,null,"Writing the Declaration of Independence",null,null,null,"Sequence American Government",null,null,null,32.799999999999997,22.95,46.8,27.95,null,{"$f":"S387","v":0},null,{"$f":"U387","v":0},null,{"$f":"W387","v":0},null,0,0,0,0,0,0,0,0]
[null,9781681517575,null,9781681516752,null,"Writing the U.S. Constitution",null,null,null,"Sequence American Government",null,null,null,32.799999999999997,22.95,46.8,27.95,null,{"$f":"S387","v":0},null,{"$f":"U387","v":0},null,{"$f":"W387","v":0},null,0,0,0,0,0,0,0,0]
[null,9781681517582,null,9781681516769,null,"The Life of Harriet Tubman",null,null,null,"Sequence Change Maker Biographies",null,null,null,32.799999999999997,22.95,46.8,27.95,null,{"$f":"S387","v":0},null,{"$f":"U387","v":0},null,{"$f":"W387","v":0},null,0,0,0,0,0,0,0,0]
[null,9781681517599,null,9781681516776,null,"The Life of Malala Yousafzai",null,null,null,"Sequence Change Maker Biographies",null,null,null,32.799999999999997,22.95,46.8,27.95,null,{"$f":"S387","v":0},null,{"$f":"U387","v":0},null,{"$f":"W387","v":0},null,0,0,0,0,0,0,0,0]
[null,9781681517605,null,9781681516783,null,"The Life of Marie Curie",null,null,null,"Sequence Change Maker Biographies",null,null,null,32.799999999999997,22.95,46.8,27.95,null,{"$f":"S387","v":0},null,{"$f":"U387","v":0},null,{"$f":"W387","v":0},null,0,0,0,0,0,0,0,0]
[null,9781681517612,null,9781681516790,null,"The Life of Ruby Bridges",null,null,null,"Sequence Change Maker Biographies",null,null,null,32.799999999999997,22.95,46.8,27.95,null,{"$f":"S387","v":0},null,{"$f":"U387","v":0},null,{"$f":"W387","v":0},null,0,0,0,0,0,0,0,0]
[null,9781681517629,null,9781681516806,null,"The Life of Sally Ride",null,null,null,"Sequence Change Maker Biographies",null,null,null,32.799999999999997,22.95,46.8,27.95,null,{"$f":"S387","v":0},null,{"$f":"U387","v":0},null,{"$f":"W387","v":0},null,0,0,0,0,0,0,0,0]
[null,9781681517636,null,9781681516813,null,"The Life of Susan B. Anthony",null,null,null,"Sequence Change Maker Biographies",null,null,null,32.799999999999997,22.95,46.8,27.95,null,{"$f":"S387","v":0},null,{"$f":"U387","v":0},null,{"$f":"W387","v":0},null,0,0,0,0,0,0,0,0]
[null,9781681517643,null,9781681516820,null,"Automobiles from Then to Now",null,null,null,"Sequence Developments in Technology",null,null,null,32.799999999999997,22.95,46.8,27.95,null,{"$f":"S387","v":0},null,{"$f":"U387","v":0},null,{"$f":"W387","v":0},null,0,0,0,0,0,0,0,0]
[null,9781681517650,null,9781681516837,null,"Navigation from Then to Now",null,null,null,"Sequence Developments in Technology",null,null,null,32.799999999999997,22.95,46.8,27.95,null,{"$f":"S387","v":0},null,{"$f":"U387","v":0},null,{"$f":"W387","v":0},null,0,0,0,0,0,0,0,0]
[null,9781681517674,null,9781681516851,null,"Robots from Then to Now",null,null,null,"Sequence Developments in Technology",null,null,null,32.799999999999997,22.95,46.8,27.95,null,{"$f":"S387","v":0},null,{"$f":"U387","v":0},null,{"$f":"W387","v":0},null,0,0,0,0,0,0,0,0]
[null,9781681517698,null,9781681516875,null,"Space Travel from Then to Now",null,null,null,"Sequence Developments in Technology",null,null,null,32.799999999999997,22.95,46.8,27.95,null,{"$f":"S387","v":0},null,{"$f":"U387","v":0},null,{"$f":"W387","v":0},null,0,0,0,0,0,0,0,0]
[null,9781681517681,null,9781681516868,null,"Toilets from Then to Now",null,null,null,"Sequence Developments in Technology",null,null,null,32.799999999999997,22.95,46.8,27.95,null,{"$f":"S387","v":0},null,{"$f":"U387","v":0},null,{"$f":"W387","v":0},null,0,0,0,0,0,0,0,0]
[null,9781681517667,null,9781681516844,null,"Wireless Technology from Then to Now",null,null,null,"Sequence Developments in Technology",null,null,null,32.799999999999997,22.95,46.8,27.95,null,{"$f":"S387","v":0},null,{"$f":"U387","v":0},null,{"$f":"W387","v":0},null,0,0,0,0,0,0,0,0]
[null,9781681515168,null,9781681514345,null,"Discovering Apatosaurus",null,null,null,"Sequence Discovering Dinosaurs",null,null,null,32.799999999999997,22.95,46.8,27.95,null,{"$f":"S387","v":0},null,{"$f":"U387","v":0},null,{"$f":"W387","v":0},null,0,0,0,0,0,0,0,0]
[null,9781681515175,null,9781681514352,null,"Discovering Pterosaurs",null,null,null,"Sequence Discovering Dinosaurs",null,null,null,32.799999999999997,22.95,46.8,27.95,null,{"$f":"S387","v":0},null,{"$f":"U387","v":0},null,{"$f":"W387","v":0},null,0,0,0,0,0,0,0,0]
[null,9781681515182,null,9781681514369,null,"Discovering Stegosaurus",null,null,null,"Sequence Discovering Dinosaurs",null,null,null,32.799999999999997,22.95,46.8,27.95,null,{"$f":"S387","v":0},null,{"$f":"U387","v":0},null,{"$f":"W387","v":0},null,0,0,0,0,0,0,0,0]
[null,9781681515199,null,9781681514376,null,"Discovering Triceratops",null,null,null,"Sequence Discovering Dinosaurs",null,null,null,32.799999999999997,22.95,46.8,27.95,null,{"$f":"S387","v":0},null,{"$f":"U387","v":0},null,{"$f":"W387","v":0},null,0,0,0,0,0,0,0,0]
[null,9781681515205,null,9781681514383,null,"Discovering Tyrannosaurus Rex",null,null,null,"Sequence Discovering Dinosaurs",null,null,null,32.799999999999997,22.95,46.8,27.95,null,{"$f":"S387","v":0},null,{"$f":"U387","v":0},null,{"$f":"W387","v":0},null,0,0,0,0,0,0,0,0]
[null,9781681515212,null,9781681514390,null,"Discovering Velociraptor",null,null,null,"Sequence Discovering Dinosaurs",null,null,null,32.799999999999997,22.95,46.8,27.95,null,{"$f":"S387","v":0},null,{"$f":"U387","v":0},null,{"$f":"W387","v":0},null,0,0,0,0,0,0,0,0]
[null,9781681515229,null,9781681514406,null,"Making a Book",null,null,null,"Sequence Entertainment",null,null,null,32.799999999999997,22.95,46.8,27.95,null,{"$f":"S387","v":0},null,{"$f":"U387","v":0},null,{"$f":"W387","v":0},null,0,0,0,0,0,0,0,0]
[null,9781681515236,null,9781681514413,null,"Making a Movie",null,null,null,"Sequence Entertainment",null,null,null,32.799999999999997,22.95,46.8,27.95,null,{"$f":"S387","v":0},null,{"$f":"U387","v":0},null,{"$f":"W387","v":0},null,0,0,0,0,0,0,0,0]
[null,9781681515243,null,9781681514420,null,"Making a Podcast",null,null,null,"Sequence Entertainment",null,null,null,32.799999999999997,22.95,46.8,27.95,null,{"$f":"S387","v":0},null,{"$f":"U387","v":0},null,{"$f":"W387","v":0},null,0,0,0,0,0,0,0,0]
[null,9781681515250,null,9781681514437,null,"Making a TV Show",null,null,null,"Sequence Entertainment",null,null,null,32.799999999999997,22.95,46.8,27.95,null,{"$f":"S387","v":0},null,{"$f":"U387","v":0},null,{"$f":"W387","v":0},null,0,0,0,0,0,0,0,0]
[null,9781681515267,null,9781681514444,null,"Making a Video Game",null,null,null,"Sequence Entertainment",null,null,null,32.799999999999997,22.95,46.8,27.95,null,{"$f":"S387","v":0},null,{"$f":"U387","v":0},null,{"$f":"W387","v":0},null,0,0,0,0,0,0,0,0]
[null,9781681515274,null,9781681514451,null,"Making an App",null,null,null,"Sequence Entertainment",null,null,null,32.799999999999997,22.95,46.8,27.95,null,{"$f":"S387","v":0},null,{"$f":"U387","v":0},null,{"$f":"W387","v":0},null,0,0,0,0,0,0,0,0]
[]
[null,null,null,null,null,"Complete Series of 6",null,null,null,"Summer Olympic Sports",null,null,null,{"$f":"SUM(N430:N435)","v":196.8},{"$f":"SUM(O430:O435)","v":137.69999999999999},{"$f":"SUM(P430:P435)","v":280.8},{"$f":"SUM(Q430:Q435)","v":167.7}]
["NEW",9781681518619,null,9781681518213,null,"Basketball '20",null,null,null,"Summer Olympic Sports",null,null,null,32.799999999999997,22.95,46.8,{"$f":"O430+5","v":27.95},null,{"$f":"S429","v":0},null,{"$f":"U429","v":0},null,{"$f":"W429","v":0},null,{"$f":"S430","v":0},{"$f":"U430","v":0},{"$f":"W430*2","v":0},{"$f":"Y430+Z430+AA430","v":0},{"$f":"S430*O430","v":0},{"$f":"U430*P430","v":0},{"$f":"W430*Q430","v":0},{"$f":"IF(AH430=FALSE,AC430+AD430+AE430,0)","v":0}]
["NEW",9781681518626,null,9781681518220,null,"Combat Sports '20",null,null,null,"Summer Olympic Sports",null,null,null,32.799999999999997,22.95,46.8,27.95,null,{"$f":"S429","v":0},null,{"$f":"U429","v":0},null,{"$f":"W429","v":0},null,0,0,0,0,0,0,0,0]
["NEW",9781681518633,null,9781681518237,null,"Gymnastics '20",null,null,null,"Summer Olympic Sports",null,null,null,32.799999999999997,22.95,46.8,27.95,null,{"$f":"S429","v":0},null,{"$f":"U429","v":0},null,{"$f":"W429","v":0},null,0,0,0,0,0,0,0,0]
["NEW",9781681518640,null,9781681518244,null,"Swimming and Diving '20",null,null,null,"Summer Olympic Sports",null,null,null,32.799999999999997,22.95,46.8,27.95,null,{"$f":"S429","v":0},null,{"$f":"U429","v":0},null,{"$f":"W429","v":0},null,0,0,0,0,0,0,0,0]
["NEW",9781681518657,null,9781681518251,null,"Track and Field '20",null,null,null,"Summer Olympic Sports",null,null,null,32.799999999999997,22.95,46.8,27.95,null,{"$f":"S429","v":0},null,{"$f":"U429","v":0},null,{"$f":"W429","v":0},null,0,0,0,0,0,0,0,0]
["NEW",9781681518664,null,9781681518268,null,"Volleyball '20",null,null,null,"Summer Olympic Sports",null,null,null,32.799999999999997,22.95,46.8,27.95,null,{"$f":"S429","v":0},null,{"$f":"U429","v":0},null,{"$f":"W429","v":0},null,0,0,0,0,0,0,0,0]
[]
[null,null,null,null,null,"Complete Series of 6",null,null,null,"Animal Habitats at Risk",null,null,null,{"$f":"SUM(N438:N443)","v":179.7},{"$f":"SUM(O438:O443)","v":125.7},{"$f":"SUM(P438:P443)","v":256.8},{"$f":"SUM(Q438:Q443)","v":155.69999999999999}]
[null,9781681517827,null,9781681517001,null,"A Bat Colony’s Search for a New Home",null,null,null,"Animal Habitats at Risk",null,null,null,29.95,20.95,42.8,{"$f":"O438+5","v":25.95},null,{"$f":"S437","v":0},null,{"$f":"U437","v":0},null,{"$f":"W437","v":0},null,{"$f":"S438","v":0},{"$f":"U438","v":0},{"$f":"W438*2","v":0},{"$f":"Y438+Z438+AA438","v":0},{"$f":"S438*O438","v":0},{"$f":"U438*P438","v":0},{"$f":"W438*Q438","v":0},{"$f":"IF(AH438=FALSE,AC438+AD438+AE438,0)","v":0}]
[null,9781681517834,null,9781681517018,null,"A Frog's Dangerous Home",null,null,null,"Animal Habitats at Risk",null,null,null,29.95,20.95,42.8,25.95,null,{"$f":"S437","v":0},null,{"$f":"U437","v":0},null,{"$f":"W437","v":0},null,0,0,0,0,0,0,0,0]
[null,9781681517841,null,9781681517025,null,"A Wild Cat's Shrinking Home",null,null,null,"Animal Habitats at Risk",null,null,null,29.95,20.95,42.8,25.95,null,{"$f":"S437","v":0},null,{"$f":"U437","v":0},null,{"$f":"W437","v":0},null,0,0,0,0,0,0,0,0]
[null,9781681517858,null,9781681517032,null,"A Bee's Difficult Search for Food",null,null,null,"Animal Habitats at Risk",null,null,null,29.95,20.95,42.8,25.95,null,{"$f":"S437","v":0},null,{"$f":"U437","v":0},null,{"$f":"W437","v":0},null,0,0,0,0,0,0,0,0]
[null,9781681517865,null,9781681517049,null,"A Sparrow's Disappearing Home",null,null,null,"Animal Habitats at Risk",null,null,null,29.95,20.95,42.8,25.95,null,{"$f":"S437","v":0},null,{"$f":"U437","v":0},null,{"$f":"W437","v":0},null,0,0,0,0,0,0,0,0]
[null,9781681517872,null,9781681517056,null,"A Turtle's Dangerous Journey",null,null,null,"Animal Habitats at Risk",null,null,null,29.95,20.95,42.8,25.95,null,{"$f":"S437","v":0},null,{"$f":"U437","v":0},null,{"$f":"W437","v":0},null,0,0,0,0,0,0,0,0]
[]
[null,null,null,null,null,"Complete Series of 12",null,null,null,"Do You Really Want to Meet a Dinosaur?",null,null,null,{"$f":"SUM(N446:N457)","v":359.39999999999992},{"$f":"SUM(O446:O457)","v":251.39999999999995},{"$f":"SUM(P446:P457)","v":513.6},{"$f":"SUM(Q446:Q457)","v":311.39999999999992}]
[null,9781681512037,null,9781681511139,null,"Do You Really Want to Meet a Pterosaur?",null,null,null,"Do You Really Want to Meet a Dinosaur?",null,null,null,29.95,20.95,42.8,{"$f":"O446+5","v":25.95},null,{"$f":"S445","v":0},null,{"$f":"U445","v":0},null,{"$f":"W445","v":0},null,{"$f":"S446","v":0},{"$f":"U446","v":0},{"$f":"W446*2","v":0},{"$f":"Y446+Z446+AA446","v":0},{"$f":"S446*O446","v":0},{"$f":"U446*P446","v":0},{"$f":"W446*Q446","v":0},{"$f":"IF(AH446=FALSE,AC446+AD446+AE446,0)","v":0}]
[null,9781681517902,null,9781681517087,null,"Do You Really Want to Meet Allosaurus?",null,null,null,"Do You Really Want to Meet a Dinosaur?",null,null,null,29.95,20.95,42.8,25.95,null,{"$f":"S445","v":0},null,{"$f":"U445","v":0},null,{"$f":"W445","v":0},null,0,0,0,0,0,0,0,0]
[null,9781681517919,null,9781681517094,null,"Do You Really Want to Meet Ankylosaurus?",null,null,null,"Do You Really Want to Meet a Dinosaur?",null,null,null,29.95,20.95,42.8,25.95,null,{"$f":"S445","v":0},null,{"$f":"U445","v":0},null,{"$f":"W445","v":0},null,0,0,0,0,0,0,0,0]
[null,9781681512020,null,9781681511122,null,"Do You Really Want to Meet Apatosaurus?",null,null,null,"Do You Really Want to Meet a Dinosaur?",null,null,null,29.95,20.95,42.8,25.95,null,{"$f":"S445","v":0},null,{"$f":"U445","v":0},null,{"$f":"W445","v":0},null,0,0,0,0,0,0,0,0]
[null,9781681517889,null,9781681517063,null,"Do You Really Want to Meet Diplodocus?",null,null,null,"Do You Really Want to Meet a Dinosaur?",null,null,null,29.95,20.95,42.8,25.95,null,{"$f":"S445","v":0},null,{"$f":"U445","v":0},null,{"$f":"W445","v":0},null,0,0,0,0,0,0,0,0]
[null,9781681517926,null,9781681517100,null,"Do You Really Want to Meet Edmontosaurus?",null,null,null,"Do You Really Want to Meet a Dinosaur?",null,null,null,29.95,20.95,42.8,25.95,null,{"$f":"S445","v":0},null,{"$f":"U445","v":0},null,{"$f":"W445","v":0},null,0,0,0,0,0,0,0,0]
[null,9781681517933,null,9781681517117,null,"Do You Really Want to Meet Iguanodon?",null,null,null,"Do You Really Want to Meet a Dinosaur?",null,null,null,29.95,20.95,42.8,25.95,null,{"$f":"S445","v":0},null,{"$f":"U445","v":0},null,{"$f":"W445","v":0},null,0,0,0,0,0,0,0,0]
[null,9781681517896,null,9781681517070,null,"Do You Really Want to Meet Spinosaurus?",null,null,null,"Do You Really Want to Meet a Dinosaur?",null,null,null,29.95,20.95,42.8,25.95,null,{"$f":"S445","v":0},null,{"$f":"U445","v":0},null,{"$f":"W445","v":0},null,0,0,0,0,0,0,0,0]
[null,9781681512044,null,9781681511146,null,"Do You Really Want to Meet Stegosaurus?",null,null,null,"Do You Really Want to Meet a Dinosaur?",null,null,null,29.95,20.95,42.8,25.95,null,{"$f":"S445","v":0},null,{"$f":"U445","v":0},null,{"$f":"W445","v":0},null,0,0,0,0,0,0,0,0]
[null,9781681512051,null,9781681511153,null,"Do You Really Want to Meet Triceratops?",null,null,null,"Do You Really Want to Meet a Dinosaur?",null,null,null,29.95,20.95,42.8,25.95,null,{"$f":"S445","v":0},null,{"$f":"U445","v":0},null,{"$f":"W445","v":0},null,0,0,0,0,0,0,0,0]
[null,9781681512068,null,9781681511160,null,"Do You Really Want to Meet Tyrannosaurus Rex?",null,null,null,"Do You Really Want to Meet a Dinosaur?",null,null,null,29.95,20.95,42.8,25.95,null,{"$f":"S445","v":0},null,{"$f":"U445","v":0},null,{"$f":"W445","v":0},null,0,0,0,0,0,0,0,0]
[null,9781681512075,null,9781681511177,null,"Do You Really Want to Meet Velociraptor?",null,null,null,"Do You Really Want to Meet a Dinosaur?",null,null,null,29.95,20.95,42.8,25.95,null,{"$f":"S445","v":0},null,{"$f":"U445","v":0},null,{"$f":"W445","v":0},null,0,0,0,0,0,0,0,0]
[]
[null,null,null,null,null,"Complete Series of 14",null,null,null,"Favorite Dog Breeds",null,null,null,{"$f":"SUM(N460:N473)","v":419.2999999999999},{"$f":"SUM(O460:O473)","v":293.29999999999995},{"$f":"SUM(P460:P473)","v":599.19999999999993},{"$f":"SUM(Q460:Q473)","v":363.2999999999999}]
[null,9781681512143,null,9781681511245,null,"Beagles",null,null,null,"Favorite Dog Breeds",null,null,null,29.95,20.95,42.8,{"$f":"O460+5","v":25.95},null,{"$f":"S459","v":0},null,{"$f":"U459","v":0},null,{"$f":"W459","v":0},null,{"$f":"S460","v":0},{"$f":"U460","v":0},{"$f":"W460*2","v":0},{"$f":"Y460+Z460+AA460","v":0},{"$f":"S460*O460","v":0},{"$f":"U460*P460","v":0},{"$f":"W460*Q460","v":0},{"$f":"IF(AH460=FALSE,AC460+AD460+AE460,0)","v":0}]
[null,9781681512150,null,9781681511252,null,"Boxers",null,null,null,"Favorite Dog Breeds",null,null,null,29.95,20.95,42.8,25.95,null,{"$f":"S459","v":0},null,{"$f":"U459","v":0},null,{"$f":"W459","v":0},null,0,0,0,0,0,0,0,0]
[null,9781681512167,null,9781681511269,null,"Bulldogs",null,null,null,"Favorite Dog Breeds",null,null,null,29.95,20.95,42.8,25.95,null,{"$f":"S459","v":0},null,{"$f":"U459","v":0},null,{"$f":"W459","v":0},null,0,0,0,0,0,0,0,0]
[null,9781681517384,null,9781681516561,null,"Dalmatians",null,null,null,"Favorite Dog Breeds",null,null,null,29.95,20.95,42.8,25.95,null,{"$f":"S459","v":0},null,{"$f":"U459","v":0},null,{"$f":"W459","v":0},null,0,0,0,0,0,0,0,0]
[null,9781681512174,null,9781681511276,null,"German Shepherds",null,null,null,"Favorite Dog Breeds",null,null,null,29.95,20.95,42.8,25.95,null,{"$f":"S459","v":0},null,{"$f":"U459","v":0},null,{"$f":"W459","v":0},null,0,0,0,0,0,0,0,0]
[null,9781681517391,null,9781681516578,null,"Golden Retrievers",null,null,null,"Favorite Dog Breeds",null,null,null,29.95,20.95,42.8,25.95,null,{"$f":"S459","v":0},null,{"$f":"U459","v":0},null,{"$f":"W459","v":0},null,0,0,0,0,0,0,0,0]
[null,9781681517407,null,9781681516585,null,"Great Danes",null,null,null,"Favorite Dog Breeds",null,null,null,29.95,20.95,42.8,25.95,null,{"$f":"S459","v":0},null,{"$f":"U459","v":0},null,{"$f":"W459","v":0},null,0,0,0,0,0,0,0,0]
[null,9781681512181,null,9781681511283,null,"Labrador Retrievers",null,null,null,"Favorite Dog Breeds",null,null,null,29.95,20.95,42.8,25.95,null,{"$f":"S459","v":0},null,{"$f":"U459","v":0},null,{"$f":"W459","v":0},null,0,0,0,0,0,0,0,0]
[null,9781681512198,null,9781681511290,null,"Poodles",null,null,null,"Favorite Dog Breeds",null,null,null,29.95,20.95,42.8,25.95,null,{"$f":"S459","v":0},null,{"$f":"U459","v":0},null,{"$f":"W459","v":0},null,0,0,0,0,0,0,0,0]
[null,9781681512204,null,9781681511306,null,"Saint Bernards",null,null,null,"Favorite Dog Breeds",null,null,null,29.95,20.95,42.8,25.95,null,{"$f":"S459","v":0},null,{"$f":"U459","v":0},null,{"$f":"W459","v":0},null,0,0,0,0,0,0,0,0]
[null,9781681512211,null,9781681511313,null,"Scottish Terriers",null,null,null,"Favorite Dog Breeds",null,null,null,29.95,20.95,42.8,25.95,null,{"$f":"S459","v":0},null,{"$f":"U459","v":0},null,{"$f":"W459","v":0},null,0,0,0,0,0,0,0,0]
[null,9781681517414,null,9781681516592,null,"Shih Tzus",null,null,null,"Favorite Dog Breeds",null,null,null,29.95,20.95,42.8,25.95,null,{"$f":"S459","v":0},null,{"$f":"U459","v":0},null,{"$f":"W459","v":0},null,0,0,0,0,0,0,0,0]
[null,9781681517421,null,9781681516608,null,"Siberian Huskies",null,null,null,"Favorite Dog Breeds",null,null,null,29.95,20.95,42.8,25.95,null,{"$f":"S459","v":0},null,{"$f":"U459","v":0},null,{"$f":"W459","v":0},null,0,0,0,0,0,0,0,0]
[null,9781681517438,null,9781681516615,null,"Yorkshire Terriers",null,null,null,"Favorite Dog Breeds",null,null,null,29.95,20.95,42.8,25.95,null,{"$f":"S459","v":0},null,{"$f":"U459","v":0},null,{"$f":"W459","v":0},null,0,0,0,0,0,0,0,0]
[]
[null,null,null,null,null,"Complete Series of 16",null,null,null,"Pro Sports Biographies",null,null,null,{"$f":"SUM(N476:N491)","v":479.19999999999987},{"$f":"SUM(O476:O491)","v":335.19999999999993},{"$f":"SUM(P476:P491)","v":684.79999999999984},{"$f":"SUM(Q476:Q491)","v":415.19999999999987}]
[null,9781681517445,null,9781681516622,null,"Aaron Judge",null,null,null,"Pro Sports Biographies",null,null,null,29.95,20.95,42.8,{"$f":"O476+5","v":25.95},null,{"$f":"S475","v":0},null,{"$f":"U475","v":0},null,{"$f":"W475","v":0},null,{"$f":"S476","v":0},{"$f":"U476","v":0},{"$f":"W476*2","v":0},{"$f":"Y476+Z476+AA476","v":0},{"$f":"S476*O476","v":0},{"$f":"U476*P476","v":0},{"$f":"W476*Q476","v":0},{"$f":"IF(AH476=FALSE,AC476+AD476+AE476,0)","v":0}]
[null,9781681517452,null,9781681516639,null,"Aaron Rodgers",null,null,null,"Pro Sports Biographies",null,null,null,29.95,20.95,42.8,25.95,null,{"$f":"S475","v":0},null,{"$f":"U475","v":0},null,{"$f":"W475","v":0},null,0,0,0,0,0,0,0,0]
[null,9781681512259,null,9781681511351,null,"Bryce Harper",null,null,null,"Pro Sports Biographies",null,null,null,29.95,20.95,42.8,25.95,null,{"$f":"S475","v":0},null,{"$f":"U475","v":0},null,{"$f":"W475","v":0},null,0,0,0,0,0,0,0,0]
[null,9781681512273,null,9781681511375,null,"Cam Newton",null,null,null,"Pro Sports Biographies",null,null,null,29.95,20.95,42.8,25.95,null,{"$f":"S475","v":0},null,{"$f":"U475","v":0},null,{"$f":"W475","v":0},null,0,0,0,0,0,0,0,0]
[null,9781681512228,null,9781681511320,null,"Carli Lloyd",null,null,null,"Pro Sports Biographies",null,null,null,29.95,20.95,42.8,25.95,null,{"$f":"S475","v":0},null,{"$f":"U475","v":0},null,{"$f":"W475","v":0},null,0,0,0,0,0,0,0,0]
[null,9781681512242,null,9781681511344,null,"Chloe Kim",null,null,null,"Pro Sports Biographies",null,null,null,29.95,20.95,42.8,25.95,null,{"$f":"S475","v":0},null,{"$f":"U475","v":0},null,{"$f":"W475","v":0},null,0,0,0,0,0,0,0,0]
[null,9781681512266,null,9781681511368,null,"J.J. Watt",null,null,null,"Pro Sports Biographies",null,null,null,29.95,20.95,42.8,25.95,null,{"$f":"S475","v":0},null,{"$f":"U475","v":0},null,{"$f":"W475","v":0},null,0,0,0,0,0,0,0,0]
[null,9781681512280,null,9781681511382,null,"LeBron James",null,null,null,"Pro Sports Biographies",null,null,null,29.95,20.95,42.8,25.95,null,{"$f":"S475","v":0},null,{"$f":"U475","v":0},null,{"$f":"W475","v":0},null,0,0,0,0,0,0,0,0]
[null,9781681512235,null,9781681511337,null,"Maya Moore",null,null,null,"Pro Sports Biographies",null,null,null,29.95,20.95,42.8,25.95,null,{"$f":"S475","v":0},null,{"$f":"U475","v":0},null,{"$f":"W475","v":0},null,0,0,0,0,0,0,0,0]
[null,9781681517469,null,9781681516646,null,"Megan Rapinoe",null,null,null,"Pro Sports Biographies",null,null,null,29.95,20.95,42.8,25.95,null,{"$f":"S475","v":0},null,{"$f":"U475","v":0},null,{"$f":"W475","v":0},null,0,0,0,0,0,0,0,0]
[null,9781681517476,null,9781681516653,null,"Ronda Rousey",null,null,null,"Pro Sports Biographies",null,null,null,29.95,20.95,42.8,25.95,null,{"$f":"S475","v":0},null,{"$f":"U475","v":0},null,{"$f":"W475","v":0},null,0,0,0,0,0,0,0,0]
[null,9781681512297,null,9781681511399,null,"Serena Williams",null,null,null,"Pro Sports Biographies",null,null,null,29.95,20.95,42.8,25.95,null,{"$f":"S475","v":0},null,{"$f":"U475","v":0},null,{"$f":"W475","v":0},null,0,0,0,0,0,0,0,0]
[null,9781681517483,null,9781681516660,null,"Simone Biles",null,null,null,"Pro Sports Biographies",null,null,null,29.95,20.95,42.8,25.95,null,{"$f":"S475","v":0},null,{"$f":"U475","v":0},null,{"$f":"W475","v":0},null,0,0,0,0,0,0,0,0]
[null,9781681517490,null,9781681516677,null,"Stephen Curry",null,null,null,"Pro Sports Biographies",null,null,null,29.95,20.95,42.8,25.95,null,{"$f":"S475","v":0},null,{"$f":"U475","v":0},null,{"$f":"W475","v":0},null,0,0,0,0,0,0,0,0]
[null,9781681517506,null,9781681516684,null,"Sylvia Fowles",null,null,null,"Pro Sports Biographies",null,null,null,29.95,20.95,42.8,25.95,null,{"$f":"S475","v":0},null,{"$f":"U475","v":0},null,{"$f":"W475","v":0},null,0,0,0,0,0,0,0,0]
[null,9781681517513,null,9781681516691,null,"Von Miller",null,null,null,"Pro Sports Biographies",null,null,null,29.95,20.95,42.8,25.95,null,{"$f":"S475","v":0},null,{"$f":"U475","v":0},null,{"$f":"W475","v":0},null,0,0,0,0,0,0,0,0]
[]
[null,null,null,null,null,"Complete Series of 6",null,null,null,"Razas de perros favoritas (Favorite Dog Breeds)",null,null,null,{"$f":"SUM(N494:N499)","v":179.7},{"$f":"SUM(O494:O499)","v":125.7},{"$f":"SUM(P494:P499)","v":256.8},{"$f":"SUM(Q494:Q499)","v":155.69999999999999}]
[null,9781681519159,null,9781681518893,null,"Los dálmatas (Dalmations)",null,null,null,"Razas de perros favoritas (Favorite Dog Breeds)",null,null,null,29.95,20.95,42.8,{"$f":"O494+5","v":25.95},null,{"$f":"S493","v":0},null,{"$f":"U493","v":0},null,{"$f":"W493","v":0},null,{"$f":"S494","v":0},{"$f":"U494","v":0},{"$f":"W494*2","v":0},{"$f":"Y494+Z494+AA494","v":0},{"$f":"S494*O494","v":0},{"$f":"U494*P494","v":0},{"$f":"W494*Q494","v":0},{"$f":"IF(AH494=FALSE,AC494+AD494+AE494,0)","v":0}]
[null,9781681519166,null,9781681518909,null,"Los golden retrievers (Golden Retrievers)",null,null,null,"Razas de perros favoritas (Favorite Dog Breeds)",null,null,null,29.95,20.95,42.8,25.95,null,{"$f":"S493","v":0},null,{"$f":"U493","v":0},null,{"$f":"W493","v":0},null,0,0,0,0,0,0,0,0]
[null,9781681519173,null,9781681518916,null,"Los gran daneses (Great Danes)",null,null,null,"Razas de perros favoritas (Favorite Dog Breeds)",null,null,null,29.95,20.95,42.8,25.95,null,{"$f":"S493","v":0},null,{"$f":"U493","v":0},null,{"$f":"W493","v":0},null,0,0,0,0,0,0,0,0]
[null,9781681519180,null,9781681518923,null,"Los Shih Tzu (Shih Tzus)",null,null,null,"Razas de perros favoritas (Favorite Dog Breeds)",null,null,null,29.95,20.95,42.8,25.95,null,{"$f":"S493","v":0},null,{"$f":"U493","v":0},null,{"$f":"W493","v":0},null,0,0,0,0,0,0,0,0]
[null,9781681519197,null,9781681518930,null,"Los husky siberianos (Siberian Huskies)",null,null,null,"Razas de perros favoritas (Favorite Dog Breeds)",null,null,null,29.95,20.95,42.8,25.95,null,{"$f":"S493","v":0},null,{"$f":"U493","v":0},null,{"$f":"W493","v":0},null,0,0,0,0,0,0,0,0]
[null,9781681519203,null,9781681518947,null,"Los Yorkshire terriers (Yorksire Terriers)",null,null,null,"Razas de perros favoritas (Favorite Dog Breeds)",null,null,null,29.95,20.95,42.8,25.95,null,{"$f":"S493","v":0},null,{"$f":"U493","v":0},null,{"$f":"W493","v":0},null,0,0,0,0,0,0,0,0]
[]
[null,null,null,null,null,"Complete Series of 6",null,null,null,"Who Made My Stuff?",null,null,null,{"$f":"SUM(N502:N507)","v":179.7},{"$f":"SUM(O502:O507)","v":125.7},{"$f":"SUM(P502:P507)","v":256.8},{"$f":"SUM(Q502:Q507)","v":155.69999999999999}]
[null,9781681517766,null,9781681516943,null,"From Cotton to T-Shirts",null,null,null,"Who Made My Stuff?",null,null,null,29.95,20.95,42.8,{"$f":"O502+5","v":25.95},null,{"$f":"S501","v":0},null,{"$f":"U501","v":0},null,{"$f":"W501","v":0},null,{"$f":"S502","v":0},{"$f":"U502","v":0},{"$f":"W502*2","v":0},{"$f":"Y502+Z502+AA502","v":0},{"$f":"S502*O502","v":0},{"$f":"U502*P502","v":0},{"$f":"W502*Q502","v":0},{"$f":"IF(AH502=FALSE,AC502+AD502+AE502,0)","v":0}]
[null,9781681517773,null,9781681516950,null,"From Metal to Bicycles",null,null,null,"Who Made My Stuff?",null,null,null,29.95,20.95,42.8,25.95,null,{"$f":"S501","v":0},null,{"$f":"U501","v":0},null,{"$f":"W501","v":0},null,0,0,0,0,0,0,0,0]
[null,9781681517780,null,9781681516967,null,"From Nylon to Backpacks",null,null,null,"Who Made My Stuff?",null,null,null,29.95,20.95,42.8,25.95,null,{"$f":"S501","v":0},null,{"$f":"U501","v":0},null,{"$f":"W501","v":0},null,0,0,0,0,0,0,0,0]
[null,9781681517797,null,9781681516974,null,"From Trees to Paper",null,null,null,"Who Made My Stuff?",null,null,null,29.95,20.95,42.8,25.95,null,{"$f":"S501","v":0},null,{"$f":"U501","v":0},null,{"$f":"W501","v":0},null,0,0,0,0,0,0,0,0]
[null,9781681517803,null,9781681516981,null,"From Wax to Crayons",null,null,null,"Who Made My Stuff?",null,null,null,29.95,20.95,42.8,25.95,null,{"$f":"S501","v":0},null,{"$f":"U501","v":0},null,{"$f":"W501","v":0},null,0,0,0,0,0,0,0,0]
[null,9781681517810,null,9781681516998,null,"From Wood to Pencils",null,null,null,"Who Made My Stuff?",null,null,null,29.95,20.95,42.8,25.95,null,{"$f":"S501","v":0},null,{"$f":"U501","v":0},null,{"$f":"W501","v":0},null,0,0,0,0,0,0,0,0]
[]
[null,null,null,null,null,"Complete Series of 6",null,null,null,"Lizards in the Wild",null,null,null,{"$f":"SUM(N510:N515)","v":179.7},{"$f":"SUM(O510:O515)","v":125.7},{"$f":"SUM(P510:P515)","v":256.8},{"$f":"SUM(Q510:Q515)","v":155.69999999999999}]
[null,9781681515922,null,9781681515540,null,"Bearded Dragons",null,null,null,"Lizards in the Wild",null,null,null,29.95,20.95,42.8,{"$f":"O510+5","v":25.95},null,{"$f":"S509","v":0},null,{"$f":"U509","v":0},null,{"$f":"W509","v":0},null,{"$f":"S510","v":0},{"$f":"U510","v":0},{"$f":"W510*2","v":0},{"$f":"Y510+Z510+AA510","v":0},{"$f":"S510*O510","v":0},{"$f":"U510*P510","v":0},{"$f":"W510*Q510","v":0},{"$f":"IF(AH510=FALSE,AC510+AD510+AE510,0)","v":0}]
[null,9781681515939,null,9781681515557,null,"Chameleons",null,null,null,"Lizards in the Wild",null,null,null,29.95,20.95,42.8,25.95,null,{"$f":"S509","v":0},null,{"$f":"U509","v":0},null,{"$f":"W509","v":0},null,0,0,0,0,0,0,0,0]
[null,9781681515946,null,9781681515564,null,"Geckos",null,null,null,"Lizards in the Wild",null,null,null,29.95,20.95,42.8,25.95,null,{"$f":"S509","v":0},null,{"$f":"U509","v":0},null,{"$f":"W509","v":0},null,0,0,0,0,0,0,0,0]
[null,9781681515953,null,9781681515571,null,"Gila Monsters",null,null,null,"Lizards in the Wild",null,null,null,29.95,20.95,42.8,25.95,null,{"$f":"S509","v":0},null,{"$f":"U509","v":0},null,{"$f":"W509","v":0},null,0,0,0,0,0,0,0,0]
[null,9781681515960,null,9781681515588,null,"Green Iguanas",null,null,null,"Lizards in the Wild",null,null,null,29.95,20.95,42.8,25.95,null,{"$f":"S509","v":0},null,{"$f":"U509","v":0},null,{"$f":"W509","v":0},null,0,0,0,0,0,0,0,0]
[null,9781681515977,null,9781681515595,null,"Komodo Dragons",null,null,null,"Lizards in the Wild",null,null,null,29.95,20.95,42.8,25.95,null,{"$f":"S509","v":0},null,{"$f":"U509","v":0},null,{"$f":"W509","v":0},null,0,0,0,0,0,0,0,0]
[]
[null,null,null,null,null,"Complete Series of 6",null,null,null,"Serving Our Country",null,null,null,{"$f":"SUM(N518:N523)","v":179.7},{"$f":"SUM(O518:O523)","v":125.7},{"$f":"SUM(P518:P523)","v":256.8},{"$f":"SUM(Q518:Q523)","v":155.69999999999999}]
[null,9781681515984,null,9781681515601,null,"U.S. Air Force",null,null,null,"Serving Our Country",null,null,null,29.95,20.95,42.8,{"$f":"O518+5","v":25.95},null,{"$f":"S517","v":0},null,{"$f":"U517","v":0},null,{"$f":"W517","v":0},null,{"$f":"S518","v":0},{"$f":"U518","v":0},{"$f":"W518*2","v":0},{"$f":"Y518+Z518+AA518","v":0},{"$f":"S518*O518","v":0},{"$f":"U518*P518","v":0},{"$f":"W518*Q518","v":0},{"$f":"IF(AH518=FALSE,AC518+AD518+AE518,0)","v":0}]
[null,9781681515991,null,9781681515618,null,"U.S. Army",null,null,null,"Serving Our Country",null,null,null,29.95,20.95,42.8,25.95,null,{"$f":"S517","v":0},null,{"$f":"U517","v":0},null,{"$f":"W517","v":0},null,0,0,0,0,0,0,0,0]
[null,9781681516004,null,9781681515625,null,"U.S. Coast Guard",null,null,null,"Serving Our Country",null,null,null,29.95,20.95,42.8,25.95,null,{"$f":"S517","v":0},null,{"$f":"U517","v":0},null,{"$f":"W517","v":0},null,0,0,0,0,0,0,0,0]
[null,9781681516011,null,9781681515632,null,"U.S. Marines",null,null,null,"Serving Our Country",null,null,null,29.95,20.95,42.8,25.95,null,{"$f":"S517","v":0},null,{"$f":"U517","v":0},null,{"$f":"W517","v":0},null,0,0,0,0,0,0,0,0]
[null,9781681516028,null,9781681515649,null,"U.S. Navy",null,null,null,"Serving Our Country",null,null,null,29.95,20.95,42.8,25.95,null,{"$f":"S517","v":0},null,{"$f":"U517","v":0},null,{"$f":"W517","v":0},null,0,0,0,0,0,0,0,0]
[null,9781681516035,null,9781681515656,null,"U.S. Special Forces",null,null,null,"Serving Our Country",null,null,null,29.95,20.95,42.8,25.95,null,{"$f":"S517","v":0},null,{"$f":"U517","v":0},null,{"$f":"W517","v":0},null,0,0,0,0,0,0,0,0]
[]
[null,null,null,null,null,"Complete Series of 6",null,null,null,"Animals Measure Up",null,null,null,{"$f":"SUM(N526:N531)","v":179.7},{"$f":"SUM(O526:O531)","v":125.7},{"$f":"SUM(P526:P531)","v":256.8},{"$f":"SUM(Q526:Q531)","v":155.69999999999999}]
[null,9781681514666,null,9781681513843,null,"How Deep in the Ocean?: Ocean Animal Habitats",null,null,null,"Animals Measure Up",null,null,null,29.95,20.95,42.8,{"$f":"O526+5","v":25.95},null,{"$f":"S525","v":0},null,{"$f":"U525","v":0},null,{"$f":"W525","v":0},null,{"$f":"S526","v":0},{"$f":"U526","v":0},{"$f":"W526*2","v":0},{"$f":"Y526+Z526+AA526","v":0},{"$f":"S526*O526","v":0},{"$f":"U526*P526","v":0},{"$f":"W526*Q526","v":0},{"$f":"IF(AH526=FALSE,AC526+AD526+AE526,0)","v":0}]
[null,9781681514673,null,9781681513850,null,"How Far Home?: Animal Migrations",null,null,null,"Animals Measure Up",null,null,null,29.95,20.95,42.8,25.95,null,{"$f":"S525","v":0},null,{"$f":"U525","v":0},null,{"$f":"W525","v":0},null,0,0,0,0,0,0,0,0]
[null,9781681514680,null,9781681513867,null,"How Far Underground?: Burrowing Animals",null,null,null,"Animals Measure Up",null,null,null,29.95,20.95,42.8,25.95,null,{"$f":"S525","v":0},null,{"$f":"U525","v":0},null,{"$f":"W525","v":0},null,0,0,0,0,0,0,0,0]
[null,9781681514697,null,9781681513874,null,"How High in the Rainforest?: Rainforest Animal Habitats",null,null,null,"Animals Measure Up",null,null,null,29.95,20.95,42.8,25.95,null,{"$f":"S525","v":0},null,{"$f":"U525","v":0},null,{"$f":"W525","v":0},null,0,0,0,0,0,0,0,0]
[null,9781681514703,null,9781681513881,null,"How High in the Sky?:  Flying Animals",null,null,null,"Animals Measure Up",null,null,null,29.95,20.95,42.8,25.95,null,{"$f":"S525","v":0},null,{"$f":"U525","v":0},null,{"$f":"W525","v":0},null,0,0,0,0,0,0,0,0]
[null,9781681514710,null,9781681513898,null,"How High up the Mountain?: Mountain Animal Habitats",null,null,null,"Animals Measure Up",null,null,null,29.95,20.95,42.8,25.95,null,{"$f":"S525","v":0},null,{"$f":"U525","v":0},null,{"$f":"W525","v":0},null,0,0,0,0,0,0,0,0]
[]
[null,null,null,null,null,"Complete Series of 8",null,null,null,"Animales norteamericanos (North American Animals)",null,null,null,{"$f":"SUM(N534:N541)","v":239.59999999999997},{"$f":"SUM(O534:O541)","v":167.6},{"$f":"SUM(P534:P541)","v":0},{"$f":"SUM(Q534:Q541)","v":0}]
[null,"Not Available",null,9781681516189,null,"El bisonte americano ( American Bison)",null,null,null,"Animales norteamericanos (North American Animals)",null,null,null,29.95,20.95,0,0,null,{"$f":"S533","v":0},null,null,null,null,null,{"$f":"S534","v":0},{"$f":"U534","v":0},{"$f":"W534*2","v":0},{"$f":"Y534+Z534+AA534","v":0},{"$f":"S534*O534","v":0},{"$f":"U534*P534","v":0},{"$f":"W534*Q534","v":0},{"$f":"IF(AH534=FALSE,AC534+AD534+AE534,0)","v":0}]
[null,"Not Available",null,9781681516219,null,"El borrego cimarrón (Bighorn Sheep)",null,null,null,"Animales norteamericanos (North American Animals)",null,null,null,29.95,20.95,0,0,null,{"$f":"S533","v":0},null,null,null,null,null,0,0,0,0,0,0,0,0]
[null,"Not Available",null,9781681516226,null,"El caribú (Caribou)",null,null,null,"Animales norteamericanos (North American Animals)",null,null,null,29.95,20.95,0,0,null,{"$f":"S533","v":0},null,null,null,null,null,0,0,0,0,0,0,0,0]
[null,"Not Available",null,9781681516202,null,"Las águilas calvas (Bald Eagles)",null,null,null,"Animales norteamericanos (North American Animals)",null,null,null,29.95,20.95,0,0,null,{"$f":"S533","v":0},null,null,null,null,null,0,0,0,0,0,0,0,0]
[null,"Not Available",null,9781681516196,null,"Los armadillos (Armadillos)",null,null,null,"Animales norteamericanos (North American Animals)",null,null,null,29.95,20.95,0,0,null,{"$f":"S533","v":0},null,null,null,null,null,0,0,0,0,0,0,0,0]
[null,"Not Available",null,9781681516257,null,"Los lobos (Wolves)",null,null,null,"Animales norteamericanos (North American Animals)",null,null,null,29.95,20.95,0,0,null,{"$f":"S533","v":0},null,null,null,null,null,0,0,0,0,0,0,0,0]
[null,"Not Available",null,9781681516240,null,"Los puercoespines (Porcupines)",null,null,null,"Animales norteamericanos (North American Animals)",null,null,null,29.95,20.95,0,0,null,{"$f":"S533","v":0},null,null,null,null,null,0,0,0,0,0,0,0,0]
[null,"Not Available",null,9781681516233,null,"Los pumas (Mountain Lions)",null,null,null,"Animales norteamericanos (North American Animals)",null,null,null,29.95,20.95,0,0,null,{"$f":"S533","v":0},null,null,null,null,null,0,0,0,0,0,0,0,0]
[]
[null,null,null,null,null,"Complete Series of 24",null,null,null,"Do You Really Want to Meet…?",null,null,null,{"$f":"SUM(N544:N567)","v":718.80000000000018},{"$f":"SUM(O544:O567)","v":502.79999999999984},{"$f":"SUM(P544:P567)","v":1027.1999999999996},{"$f":"SUM(Q544:Q567)","v":622.80000000000007}]
[null,9781681510620,null,9781607539445,null,"Do You Really Want to Meet a Badger?",null,null,null,"Do You Really Want to Meet…?",null,null,null,29.95,20.95,42.8,25.95,null,{"$f":"S543","v":0},null,{"$f":"U543","v":0},null,{"$f":"W543","v":0},null,{"$f":"S544","v":0},{"$f":"U544","v":0},{"$f":"W544*2","v":0},{"$f":"Y544+Z544+AA544","v":0},{"$f":"S544*O544","v":0},{"$f":"U544*P544","v":0},{"$f":"W544*Q544","v":0},{"$f":"IF(AH544=FALSE,AC544+AD544+AE544,0)","v":0}]
[null,9781681510637,null,9781607539452,null,"Do You Really Want to Meet a Camel?",null,null,null,"Do You Really Want to Meet…?",null,null,null,29.95,20.95,42.8,25.95,null,{"$f":"S543","v":0},null,{"$f":"U543","v":0},null,{"$f":"W543","v":0},null,0,0,0,0,0,0,0,0]
[null,9781607538424,null,9781607537380,null,"Do You Really Want to Meet a Cape Buffalo?",null,null,null,"Do You Really Want to Meet…?",null,null,null,29.95,20.95,42.8,25.95,null,{"$f":"S543","v":0},null,{"$f":"U543","v":0},null,{"$f":"W543","v":0},null,0,0,0,0,0,0,0,0]
[null,9781681514727,null,9781681513904,null,"Do You Really Want to Meet a Cheetah?",null,null,null,"Do You Really Want to Meet…?",null,null,null,29.95,20.95,42.8,{"$f":"O547+5","v":25.95},null,{"$f":"S543","v":0},null,{"$f":"U543","v":0},null,{"$f":"W543","v":0},null,0,0,0,0,0,0,0,0]
[null,9781681514734,null,9781681513911,null,"Do You Really Want to Meet a Chimpanzee?",null,null,null,"Do You Really Want to Meet…?",null,null,null,29.95,20.95,42.8,{"$f":"O548+5","v":25.95},null,{"$f":"S543","v":0},null,{"$f":"U543","v":0},null,{"$f":"W543","v":0},null,0,0,0,0,0,0,0,0]
[null,9781607536727,null,9781607534570,null,"Do You Really Want to Meet a Crocodile?",null,null,null,"Do You Really Want to Meet…?",null,null,null,29.95,20.95,42.8,25.95,null,{"$f":"S543","v":0},null,{"$f":"U543","v":0},null,{"$f":"W543","v":0},null,0,0,0,0,0,0,0,0]
[null,9781681514741,null,9781681513928,null,"Do You Really Want to Meet a Fox?",null,null,null,"Do You Really Want to Meet…?",null,null,null,29.95,20.95,42.8,{"$f":"O550+5","v":25.95},null,{"$f":"S543","v":0},null,{"$f":"U543","v":0},null,{"$f":"W543","v":0},null,0,0,0,0,0,0,0,0]
[null,9781681510644,null,9781607539469,null,"Do You Really Want to Meet a Hippopotamus?",null,null,null,"Do You Really Want to Meet…?",null,null,null,29.95,20.95,42.8,25.95,null,{"$f":"S543","v":0},null,{"$f":"U543","v":0},null,{"$f":"W543","v":0},null,0,0,0,0,0,0,0,0]
[null,9781607538387,null,9781607537342,null,"Do You Really Want to Meet a Kangaroo?",null,null,null,"Do You Really Want to Meet…?",null,null,null,29.95,20.95,42.8,25.95,null,{"$f":"S543","v":0},null,{"$f":"U543","v":0},null,{"$f":"W543","v":0},null,0,0,0,0,0,0,0,0]
[null,9781607538394,null,9781607537359,null,"Do You Really Want to Meet a Lion?",null,null,null,"Do You Really Want to Meet…?",null,null,null,29.95,20.95,42.8,25.95,null,{"$f":"S543","v":0},null,{"$f":"U543","v":0},null,{"$f":"W543","v":0},null,0,0,0,0,0,0,0,0]
[null,9781607536710,null,9781607534563,null,"Do You Really Want to Meet a Monkey?",null,null,null,"Do You Really Want to Meet…?",null,null,null,29.95,20.95,42.8,25.95,null,{"$f":"S543","v":0},null,{"$f":"U543","v":0},null,{"$f":"W543","v":0},null,0,0,0,0,0,0,0,0]
[null,9781607538400,null,9781607537366,null,"Do You Really Want to Meet a Moose?",null,null,null,"Do You Really Want to Meet…?",null,null,null,29.95,20.95,42.8,25.95,null,{"$f":"S543","v":0},null,{"$f":"U543","v":0},null,{"$f":"W543","v":0},null,0,0,0,0,0,0,0,0]
[null,9781607536758,null,9781607534600,null,"Do You Really Want to Meet a Platypus?",null,null,null,"Do You Really Want to Meet…?",null,null,null,29.95,20.95,42.8,25.95,null,{"$f":"S543","v":0},null,{"$f":"U543","v":0},null,{"$f":"W543","v":0},null,0,0,0,0,0,0,0,0]
[null,9781607536703,null,9781607534556,null,"Do You Really Want to Meet a Polar Bear?",null,null,null,"Do You Really Want to Meet…?",null,null,null,29.95,20.95,42.8,25.95,null,{"$f":"S543","v":0},null,{"$f":"U543","v":0},null,{"$f":"W543","v":0},null,0,0,0,0,0,0,0,0]
[null,9781607538417,null,9781607537373,null,"Do You Really Want to Meet a Shark?",null,null,null,"Do You Really Want to Meet…?",null,null,null,29.95,20.95,42.8,25.95,null,{"$f":"S543","v":0},null,{"$f":"U543","v":0},null,{"$f":"W543","v":0},null,0,0,0,0,0,0,0,0]
[null,9781607536734,null,9781607534587,null,"Do You Really Want to Meet a Swan?",null,null,null,"Do You Really Want to Meet…?",null,null,null,29.95,20.95,42.8,25.95,null,{"$f":"S543","v":0},null,{"$f":"U543","v":0},null,{"$f":"W543","v":0},null,0,0,0,0,0,0,0,0]
[null,9781607536741,null,9781607534594,null,"Do You Really Want to Meet a Tiger?",null,null,null,"Do You Really Want to Meet…?",null,null,null,29.95,20.95,42.8,25.95,null,{"$f":"S543","v":0},null,{"$f":"U543","v":0},null,{"$f":"W543","v":0},null,0,0,0,0,0,0,0,0]
[null,9781681514758,null,9781681513935,null,"Do You Really Want to Meet a Weasel?",null,null,null,"Do You Really Want to Meet…?",null,null,null,29.95,20.95,42.8,{"$f":"O561+5","v":25.95},null,{"$f":"S543","v":0},null,{"$f":"U543","v":0},null,{"$f":"W543","v":0},null,0,0,0,0,0,0,0,0]
[null,9781681510675,null,9781607539490,null,"Do You Really Want to Meet a Wolf?",null,null,null,"Do You Really Want to Meet…?",null,null,null,29.95,20.95,42.8,25.95,null,{"$f":"S543","v":0},null,{"$f":"U543","v":0},null,{"$f":"W543","v":0},null,0,0,0,0,0,0,0,0]
[null,9781681514765,null,9781681513942,null,"Do You Really Want to Meet an Anteater?",null,null,null,"Do You Really Want to Meet…?",null,null,null,29.95,20.95,42.8,{"$f":"O563+5","v":25.95},null,{"$f":"S543","v":0},null,{"$f":"U543","v":0},null,{"$f":"W543","v":0},null,0,0,0,0,0,0,0,0]
[null,9781607538370,null,9781607537335,null,"Do You Really Want to Meet an Elephant?",null,null,null,"Do You Really Want to Meet…?",null,null,null,29.95,20.95,42.8,25.95,null,{"$f":"S543","v":0},null,{"$f":"U543","v":0},null,{"$f":"W543","v":0},null,0,0,0,0,0,0,0,0]
[null,9781681514772,null,9781681513959,null,"Do You Really Want to Meet an Octopus?",null,null,null,"Do You Really Want to Meet…?",null,null,null,29.95,20.95,42.8,{"$f":"O565+5","v":25.95},null,{"$f":"S543","v":0},null,{"$f":"U543","v":0},null,{"$f":"W543","v":0},null,0,0,0,0,0,0,0,0]
[null,9781681510651,null,9781607539476,null,"Do You Really Want to Meet an Orca?",null,null,null,"Do You Really Want to Meet…?",null,null,null,29.95,20.95,42.8,25.95,null,{"$f":"S543","v":0},null,{"$f":"U543","v":0},null,{"$f":"W543","v":0},null,0,0,0,0,0,0,0,0]
[null,9781681510668,null,9781607539483,null,"Do You Really Want to Meet an Owl?",null,null,null,"Do You Really Want to Meet…?",null,null,null,29.95,20.95,42.8,25.95,null,{"$f":"S543","v":0},null,{"$f":"U543","v":0},null,{"$f":"W543","v":0},null,0,0,0,0,0,0,0,0]
[]
[null,null,null,null,null,"Complete Series of 8",null,null,null,"Favorite Horse Breeds",null,null,null,{"$f":"SUM(N570:N577)","v":239.59999999999997},{"$f":"SUM(O570:O577)","v":167.6},{"$f":"SUM(P570:P577)","v":342.40000000000003},{"$f":"SUM(Q570:Q577)","v":207.59999999999997}]
[null,9781681515021,null,9781681514208,null,"American Paint Horses",null,null,null,"Favorite Horse Breeds",null,null,null,29.95,20.95,42.8,{"$f":"O570+5","v":25.95},null,{"$f":"S569","v":0},null,{"$f":"U569","v":0},null,{"$f":"W569","v":0},null,{"$f":"S570","v":0},{"$f":"U570","v":0},{"$f":"W570*2","v":0},{"$f":"Y570+Z570+AA570","v":0},{"$f":"S570*O570","v":0},{"$f":"U570*P570","v":0},{"$f":"W570*Q570","v":0},{"$f":"IF(AH570=FALSE,AC570+AD570+AE570,0)","v":0}]
[null,9781681515038,null,9781681514215,null,"American Quarter Horses",null,null,null,"Favorite Horse Breeds",null,null,null,29.95,20.95,42.8,25.95,null,{"$f":"S569","v":0},null,{"$f":"U569","v":0},null,{"$f":"W569","v":0},null,0,0,0,0,0,0,0,0]
[null,9781681515045,null,9781681514222,null,"American Saddlebred Horses",null,null,null,"Favorite Horse Breeds",null,null,null,29.95,20.95,42.8,25.95,null,{"$f":"S569","v":0},null,{"$f":"U569","v":0},null,{"$f":"W569","v":0},null,0,0,0,0,0,0,0,0]
[null,9781681515052,null,9781681514239,null,"Appaloosa Horses",null,null,null,"Favorite Horse Breeds",null,null,null,29.95,20.95,42.8,25.95,null,{"$f":"S569","v":0},null,{"$f":"U569","v":0},null,{"$f":"W569","v":0},null,0,0,0,0,0,0,0,0]
[null,9781681515069,null,9781681514246,null,"Arabian Horses",null,null,null,"Favorite Horse Breeds",null,null,null,29.95,20.95,42.8,25.95,null,{"$f":"S569","v":0},null,{"$f":"U569","v":0},null,{"$f":"W569","v":0},null,0,0,0,0,0,0,0,0]
[null,9781681515076,null,9781681514253,null,"Clydesdale Horses",null,null,null,"Favorite Horse Breeds",null,null,null,29.95,20.95,42.8,25.95,null,{"$f":"S569","v":0},null,{"$f":"U569","v":0},null,{"$f":"W569","v":0},null,0,0,0,0,0,0,0,0]
[null,9781681515083,null,9781681514260,null,"Morgan Horses",null,null,null,"Favorite Horse Breeds",null,null,null,29.95,20.95,42.8,25.95,null,{"$f":"S569","v":0},null,{"$f":"U569","v":0},null,{"$f":"W569","v":0},null,0,0,0,0,0,0,0,0]
[null,9781681515090,null,9781681514277,null,"Thoroughbred Horses",null,null,null,"Favorite Horse Breeds",null,null,null,29.95,20.95,42.8,25.95,null,{"$f":"S569","v":0},null,{"$f":"U569","v":0},null,{"$f":"W569","v":0},null,0,0,0,0,0,0,0,0]
[]
[null,null,null,null,null,"Complete Series of 8",null,null,null,"North American Animals",null,null,null,{"$f":"SUM(N580:N587)","v":239.59999999999997},{"$f":"SUM(O580:O587)","v":167.6},{"$f":"SUM(P580:P587)","v":342.40000000000003},{"$f":"SUM(Q580:Q587)","v":207.59999999999997}]
[null,9781681514949,null,9781681514123,null,"American Bison",null,null,null,"North American Animals",null,null,null,29.95,20.95,42.8,{"$f":"O580+5","v":25.95},null,{"$f":"S579","v":0},null,{"$f":"U579","v":0},null,{"$f":"W579","v":0},null,{"$f":"S580","v":0},{"$f":"U580","v":0},{"$f":"W580*2","v":0},{"$f":"Y580+Z580+AA580","v":0},{"$f":"S580*O580","v":0},{"$f":"U580*P580","v":0},{"$f":"W580*Q580","v":0},{"$f":"IF(AH580=FALSE,AC580+AD580+AE580,0)","v":0}]
[null,9781681514956,null,9781681514130,null,"Armadillos",null,null,null,"North American Animals",null,null,null,29.95,20.95,42.8,25.95,null,{"$f":"S579","v":0},null,{"$f":"U579","v":0},null,{"$f":"W579","v":0},null,0,0,0,0,0,0,0,0]
[null,9781681514963,null,9781681514147,null,"Bald Eagles",null,null,null,"North American Animals",null,null,null,29.95,20.95,42.8,25.95,null,{"$f":"S579","v":0},null,{"$f":"U579","v":0},null,{"$f":"W579","v":0},null,0,0,0,0,0,0,0,0]
[null,9781681514970,null,9781681514154,null,"Bighorn Sheep",null,null,null,"North American Animals",null,null,null,29.95,20.95,42.8,25.95,null,{"$f":"S579","v":0},null,{"$f":"U579","v":0},null,{"$f":"W579","v":0},null,0,0,0,0,0,0,0,0]
[null,9781681514987,null,9781681514161,null,"Caribou",null,null,null,"North American Animals",null,null,null,29.95,20.95,42.8,25.95,null,{"$f":"S579","v":0},null,{"$f":"U579","v":0},null,{"$f":"W579","v":0},null,0,0,0,0,0,0,0,0]
[null,9781681514994,null,9781681514178,null,"Mountain Lions",null,null,null,"North American Animals",null,null,null,29.95,20.95,42.8,25.95,null,{"$f":"S579","v":0},null,{"$f":"U579","v":0},null,{"$f":"W579","v":0},null,0,0,0,0,0,0,0,0]
[null,9781681515007,null,9781681514185,null,"Porcupines",null,null,null,"North American Animals",null,null,null,29.95,20.95,42.8,25.95,null,{"$f":"S579","v":0},null,{"$f":"U579","v":0},null,{"$f":"W579","v":0},null,0,0,0,0,0,0,0,0]
[null,9781681515014,null,9781681514192,null,"Wolves",null,null,null,"North American Animals",null,null,null,29.95,20.95,42.8,25.95,null,{"$f":"S579","v":0},null,{"$f":"U579","v":0},null,{"$f":"W579","v":0},null,0,0,0,0,0,0,0,0]
[]
[null,null,null,null,null,"Complete Series of 10",null,null,null,"Pro Sports Superstars '18 —NFL",null,null,null,{"$f":"SUM(N590:N599)","v":299.49999999999994},{"$f":"SUM(O590:O599)","v":209.49999999999997},{"$f":"SUM(P590:P599)","v":428.00000000000006},{"$f":"SUM(Q590:Q599)","v":259.49999999999994}]
[null,9781681514840,null,9781681514024,null,"Superstars of the Chicago Bears",null,null,null,"Pro Sports Superstars '18 —NFL",null,null,null,29.95,20.95,42.8,{"$f":"O590+5","v":25.95},null,{"$f":"S589","v":0},null,{"$f":"U589","v":0},null,{"$f":"W589","v":0},null,{"$f":"S590","v":0},{"$f":"U590","v":0},{"$f":"W590*2","v":0},{"$f":"Y590+Z590+AA590","v":0},{"$f":"S590*O590","v":0},{"$f":"U590*P590","v":0},{"$f":"W590*Q590","v":0},{"$f":"IF(AH590=FALSE,AC590+AD590+AE590,0)","v":0}]
[null,9781681514857,null,9781681514031,null,"Superstars of the Dallas Cowboys",null,null,null,"Pro Sports Superstars '18 —NFL",null,null,null,29.95,20.95,42.8,25.95,null,{"$f":"S589","v":0},null,{"$f":"U589","v":0},null,{"$f":"W589","v":0},null,0,0,0,0,0,0,0,0]
[null,9781681514864,null,9781681514048,null,"Superstars of the Denver Broncos",null,null,null,"Pro Sports Superstars '18 —NFL",null,null,null,29.95,20.95,42.8,25.95,null,{"$f":"S589","v":0},null,{"$f":"U589","v":0},null,{"$f":"W589","v":0},null,0,0,0,0,0,0,0,0]
[null,9781681514871,null,9781681514055,null,"Superstars of the Green Bay Packers",null,null,null,"Pro Sports Superstars '18 —NFL",null,null,null,29.95,20.95,42.8,25.95,null,{"$f":"S589","v":0},null,{"$f":"U589","v":0},null,{"$f":"W589","v":0},null,0,0,0,0,0,0,0,0]
[null,9781681514888,null,9781681514062,null,"Superstars of the Houston Texans",null,null,null,"Pro Sports Superstars '18 —NFL",null,null,null,29.95,20.95,42.8,25.95,null,{"$f":"S589","v":0},null,{"$f":"U589","v":0},null,{"$f":"W589","v":0},null,0,0,0,0,0,0,0,0]
[null,9781681514895,null,9781681514079,null,"Superstars of the Indianapolis Colts",null,null,null,"Pro Sports Superstars '18 —NFL",null,null,null,29.95,20.95,42.8,25.95,null,{"$f":"S589","v":0},null,{"$f":"U589","v":0},null,{"$f":"W589","v":0},null,0,0,0,0,0,0,0,0]
[null,9781681514901,null,9781681514086,null,"Superstars of the New England Patriots",null,null,null,"Pro Sports Superstars '18 —NFL",null,null,null,29.95,20.95,42.8,25.95,null,{"$f":"S589","v":0},null,{"$f":"U589","v":0},null,{"$f":"W589","v":0},null,0,0,0,0,0,0,0,0]
[null,9781681514918,null,9781681514093,null,"Superstars of the New York Giants",null,null,null,"Pro Sports Superstars '18 —NFL",null,null,null,29.95,20.95,42.8,25.95,null,{"$f":"S589","v":0},null,{"$f":"U589","v":0},null,{"$f":"W589","v":0},null,0,0,0,0,0,0,0,0]
[null,9781681514925,null,9781681514109,null,"Superstars of the Pittsburgh Steelers",null,null,null,"Pro Sports Superstars '18 —NFL",null,null,null,29.95,20.95,42.8,25.95,null,{"$f":"S589","v":0},null,{"$f":"U589","v":0},null,{"$f":"W589","v":0},null,0,0,0,0,0,0,0,0]
[null,9781681514932,null,9781681514116,null,"Superstars of the Seattle Seahawks",null,null,null,"Pro Sports Superstars '18 —NFL",null,null,null,29.95,20.95,42.8,25.95,null,{"$f":"S589","v":0},null,{"$f":"U589","v":0},null,{"$f":"W589","v":0},null,0,0,0,0,0,0,0,0]
[]
[null,null,null,null,null,"Complete Series of 8",null,null,null,"Razas de caballos favoritos (Favorite Horse Breeds)",null,null,null,{"$f":"SUM(N602:N609)","v":239.59999999999997},{"$f":"SUM(O602:O609)","v":167.6},{"$f":"SUM(P602:P609)","v":0},{"$f":"SUM(Q602:Q609)","v":0}]
[null,"Not Available",null,9781681516134,null,"Caballos appaloosa (Appaloosa Horses)",null,null,null,"Razas de caballos favoritos (Favorite Horse Breeds)",null,null,null,29.95,20.95,0,0,null,{"$f":"S601","v":0},null,null,null,null,null,{"$f":"S602","v":0},{"$f":"U602","v":0},{"$f":"W602*2","v":0},{"$f":"Y602+Z602+AA602","v":0},{"$f":"S602*O602","v":0},{"$f":"U602*P602","v":0},{"$f":"W602*Q602","v":0},{"$f":"IF(AH602=FALSE,AC602+AD602+AE602,0)","v":0}]
[null,"Not Available",null,9781681516141,null,"Caballos árabes (Arabian Horses)",null,null,null,"Razas de caballos favoritos (Favorite Horse Breeds)",null,null,null,29.95,20.95,0,0,null,{"$f":"S601","v":0},null,null,null,null,null,0,0,0,0,0,0,0,0]
[null,"Not Available",null,9781681516158,null,"Caballos Clydesdale (Clydesdale Horses)",null,null,null,"Razas de caballos favoritos (Favorite Horse Breeds)",null,null,null,29.95,20.95,0,0,null,{"$f":"S601","v":0},null,null,null,null,null,0,0,0,0,0,0,0,0]
[null,"Not Available",null,9781681516110,null,"Caballos cuarto de milla americanos (American Quarter Horse)",null,null,null,"Razas de caballos favoritos (Favorite Horse Breeds)",null,null,null,29.95,20.95,0,0,null,{"$f":"S601","v":0},null,null,null,null,null,0,0,0,0,0,0,0,0]
[null,"Not Available",null,9781681516165,null,"Caballos Morgan (Morgan Horses)",null,null,null,"Razas de caballos favoritos (Favorite Horse Breeds)",null,null,null,29.95,20.95,0,0,null,{"$f":"S601","v":0},null,null,null,null,null,0,0,0,0,0,0,0,0]
[null,"Not Available",null,9781681516103,null,"Caballos paint americanos (American Paint Horse)",null,null,null,"Razas de caballos favoritos (Favorite Horse Breeds)",null,null,null,29.95,20.95,0,0,null,{"$f":"S601","v":0},null,null,null,null,null,0,0,0,0,0,0,0,0]
[null,"Not Available",null,9781681516172,null,"Caballos pura sangre (Thoroughbred Horses)",null,null,null,"Razas de caballos favoritos (Favorite Horse Breeds)",null,null,null,29.95,20.95,0,0,null,{"$f":"S601","v":0},null,null,null,null,null,0,0,0,0,0,0,0,0]
[null,"Not Available",null,9781681516127,null,"Caballos silla americanos (American Saddlebred Horse)",null,null,null,"Razas de caballos favoritos (Favorite Horse Breeds)",null,null,null,29.95,20.95,0,0,null,{"$f":"S601","v":0},null,null,null,null,null,0,0,0,0,0,0,0,0]
[]
[null,null,null,null,null,"Complete Series of 12",null,null,null,"When I Grow Up",null,null,null,{"$f":"SUM(N612:N623)","v":359.39999999999992},{"$f":"SUM(O612:O623)","v":251.39999999999995},{"$f":"SUM(P612:P623)","v":513.6},{"$f":"SUM(Q612:Q623)","v":311.39999999999992}]
[null,9781681514789,null,9781681513966,null,"I'll Be a Carpenter",null,null,null,"When I Grow Up",null,null,null,29.95,20.95,42.8,{"$f":"O612+5","v":25.95},null,{"$f":"S611","v":0},null,{"$f":"U611","v":0},null,{"$f":"W611","v":0},null,{"$f":"S612","v":0},{"$f":"U612","v":0},{"$f":"W612*2","v":0},{"$f":"Y612+Z612+AA612","v":0},{"$f":"S612*O612","v":0},{"$f":"U612*P612","v":0},{"$f":"W612*Q612","v":0},{"$f":"IF(AH612=FALSE,AC612+AD612+AE612,0)","v":0}]
[null,9781607538585,null,9781607537595,null,"I'll Be a Chef",null,null,null,"When I Grow Up",null,null,null,29.95,20.95,42.8,25.95,null,{"$f":"S611","v":0},null,{"$f":"U611","v":0},null,{"$f":"W611","v":0},null,0,0,0,0,0,0,0,0]
[null,9781607538592,null,9781607537601,null,"I'll Be a Doctor",null,null,null,"When I Grow Up",null,null,null,29.95,20.95,42.8,25.95,null,{"$f":"S611","v":0},null,{"$f":"U611","v":0},null,{"$f":"W611","v":0},null,0,0,0,0,0,0,0,0]
[null,9781607538608,null,9781607537618,null,"I'll Be a Firefighter",null,null,null,"When I Grow Up",null,null,null,29.95,20.95,42.8,25.95,null,{"$f":"S611","v":0},null,{"$f":"U611","v":0},null,{"$f":"W611","v":0},null,0,0,0,0,0,0,0,0]
[null,9781681514796,null,9781681513973,null,"I'll Be a Librarian",null,null,null,"When I Grow Up",null,null,null,29.95,20.95,42.8,25.95,null,{"$f":"S611","v":0},null,{"$f":"U611","v":0},null,{"$f":"W611","v":0},null,0,0,0,0,0,0,0,0]
[null,9781607538615,null,9781607537625,null,"I'll Be a Musician",null,null,null,"When I Grow Up",null,null,null,29.95,20.95,42.8,25.95,null,{"$f":"S611","v":0},null,{"$f":"U611","v":0},null,{"$f":"W611","v":0},null,0,0,0,0,0,0,0,0]
[null,9781607538622,null,9781607537632,null,"I'll Be a Paleontologist",null,null,null,"When I Grow Up",null,null,null,29.95,20.95,42.8,25.95,null,{"$f":"S611","v":0},null,{"$f":"U611","v":0},null,{"$f":"W611","v":0},null,0,0,0,0,0,0,0,0]
[null,9781681514802,null,9781681513980,null,"I'll Be a Police Officer",null,null,null,"When I Grow Up",null,null,null,29.95,20.95,42.8,25.95,null,{"$f":"S611","v":0},null,{"$f":"U611","v":0},null,{"$f":"W611","v":0},null,0,0,0,0,0,0,0,0]
[null,9781681514819,null,9781681513997,null,"I'll Be a Teacher",null,null,null,"When I Grow Up",null,null,null,29.95,20.95,42.8,25.95,null,{"$f":"S611","v":0},null,{"$f":"U611","v":0},null,{"$f":"W611","v":0},null,0,0,0,0,0,0,0,0]
[null,9781681514826,null,9781681514000,null,"I'll Be a Truck Driver",null,null,null,"When I Grow Up",null,null,null,29.95,20.95,42.8,25.95,null,{"$f":"S611","v":0},null,{"$f":"U611","v":0},null,{"$f":"W611","v":0},null,0,0,0,0,0,0,0,0]
[null,9781607538639,null,9781607537649,null,"I'll Be a Veterinarian",null,null,null,"When I Grow Up",null,null,null,29.95,20.95,42.8,25.95,null,{"$f":"S611","v":0},null,{"$f":"U611","v":0},null,{"$f":"W611","v":0},null,0,0,0,0,0,0,0,0]
[null,9781681514833,null,9781681514017,null,"I'll Be an Engineer",null,null,null,"When I Grow Up",null,null,null,29.95,20.95,42.8,25.95,null,{"$f":"S611","v":0},null,{"$f":"U611","v":0},null,{"$f":"W611","v":0},null,0,0,0,0,0,0,0,0]
[]
[null,null,null,null,null,"Complete Series of 6",null,null,null,"Amazing Adventures",null,null,null,{"$f":"SUM(N626:N631)","v":162.6},{"$f":"SUM(O626:O631)","v":113.7},{"$f":"SUM(P626:P631)","v":226.8},{"$f":"SUM(Q626:Q631)","v":143.69999999999999}]
[null,9781681513515,null,9781681513157,null,"Blast off to Space",null,null,null,"Amazing Adventures",null,null,null,27.1,18.95,37.799999999999997,{"$f":"O626+5","v":23.95},null,{"$f":"S625","v":0},null,{"$f":"U625","v":0},null,{"$f":"W625","v":0},null,{"$f":"S626","v":0},{"$f":"U626","v":0},{"$f":"W626*2","v":0},{"$f":"Y626+Z626+AA626","v":0},{"$f":"S626*O626","v":0},{"$f":"U626*P626","v":0},{"$f":"W626*Q626","v":0},{"$f":"IF(AH626=FALSE,AC626+AD626+AE626,0)","v":0}]
[null,9781681513508,null,9781681513140,null,"Explore a Cave",null,null,null,"Amazing Adventures",null,null,null,27.1,18.95,37.799999999999997,23.95,null,{"$f":"S625","v":0},null,{"$f":"U625","v":0},null,{"$f":"W625","v":0},null,0,0,0,0,0,0,0,0]
[null,9781681513478,null,9781681513119,null,"Hike a Mountain",null,null,null,"Amazing Adventures",null,null,null,27.1,18.95,37.799999999999997,23.95,null,{"$f":"S625","v":0},null,{"$f":"U625","v":0},null,{"$f":"W625","v":0},null,0,0,0,0,0,0,0,0]
[null,9781681513492,null,9781681513133,null,"Journey through a Desert",null,null,null,"Amazing Adventures",null,null,null,27.1,18.95,37.799999999999997,23.95,null,{"$f":"S625","v":0},null,{"$f":"U625","v":0},null,{"$f":"W625","v":0},null,0,0,0,0,0,0,0,0]
[null,9781681513461,null,9781681513102,null,"Snorkel Coral Reefs",null,null,null,"Amazing Adventures",null,null,null,27.1,18.95,37.799999999999997,23.95,null,{"$f":"S625","v":0},null,{"$f":"U625","v":0},null,{"$f":"W625","v":0},null,0,0,0,0,0,0,0,0]
[null,9781681513485,null,9781681513126,null,"Trek the Rain Forest",null,null,null,"Amazing Adventures",null,null,null,27.1,18.95,37.799999999999997,23.95,null,{"$f":"S625","v":0},null,{"$f":"U625","v":0},null,{"$f":"W625","v":0},null,0,0,0,0,0,0,0,0]
[]
[null,null,null,null,null,"Complete Series of 8",null,null,null,"Field Trips, Let's Go!",null,null,null,{"$f":"SUM(N634:N641)","v":216.79999999999998},{"$f":"SUM(O634:O641)","v":151.6},{"$f":"SUM(P634:P641)","v":302.40000000000003},{"$f":"SUM(Q634:Q641)","v":191.59999999999997}]
[null,9781681513386,null,9781681513027,null,"Aquarium",null,null,null,"Field Trips, Let's Go!",null,null,null,27.1,18.95,37.799999999999997,{"$f":"O634+5","v":23.95},null,{"$f":"S633","v":0},null,{"$f":"U633","v":0},null,{"$f":"W633","v":0},null,{"$f":"S634","v":0},{"$f":"U634","v":0},{"$f":"W634*2","v":0},{"$f":"Y634+Z634+AA634","v":0},{"$f":"S634*O634","v":0},{"$f":"U634*P634","v":0},{"$f":"W634*Q634","v":0},{"$f":"IF(AH634=FALSE,AC634+AD634+AE634,0)","v":0}]
[null,9781681513416,null,9781681513058,null,"Farm",null,null,null,"Field Trips, Let's Go!",null,null,null,27.1,18.95,37.799999999999997,23.95,null,{"$f":"S633","v":0},null,{"$f":"U633","v":0},null,{"$f":"W633","v":0},null,0,0,0,0,0,0,0,0]
[null,9781681513409,null,9781681513041,null,"Fire Station",null,null,null,"Field Trips, Let's Go!",null,null,null,27.1,18.95,37.799999999999997,23.95,null,{"$f":"S633","v":0},null,{"$f":"U633","v":0},null,{"$f":"W633","v":0},null,0,0,0,0,0,0,0,0]
[null,9781681513423,null,9781681513065,null,"Library",null,null,null,"Field Trips, Let's Go!",null,null,null,27.1,18.95,37.799999999999997,23.95,null,{"$f":"S633","v":0},null,{"$f":"U633","v":0},null,{"$f":"W633","v":0},null,0,0,0,0,0,0,0,0]
[null,9781681513393,null,9781681513034,null,"Museum",null,null,null,"Field Trips, Let's Go!",null,null,null,27.1,18.95,37.799999999999997,23.95,null,{"$f":"S633","v":0},null,{"$f":"U633","v":0},null,{"$f":"W633","v":0},null,0,0,0,0,0,0,0,0]
[null,9781681513454,null,9781681513096,null,"Stadium",null,null,null,"Field Trips, Let's Go!",null,null,null,27.1,18.95,37.799999999999997,23.95,null,{"$f":"S633","v":0},null,{"$f":"U633","v":0},null,{"$f":"W633","v":0},null,0,0,0,0,0,0,0,0]
[null,9781681513430,null,9781681513072,null,"Theater",null,null,null,"Field Trips, Let's Go!",null,null,null,27.1,18.95,37.799999999999997,23.95,null,{"$f":"S633","v":0},null,{"$f":"U633","v":0},null,{"$f":"W633","v":0},null,0,0,0,0,0,0,0,0]
[null,9781681513447,null,9781681513089,null,"Zoo",null,null,null,"Field Trips, Let's Go!",null,null,null,27.1,18.95,37.799999999999997,23.95,null,{"$f":"S633","v":0},null,{"$f":"U633","v":0},null,{"$f":"W633","v":0},null,0,0,0,0,0,0,0,0]
[]
[null,null,null,null,null,"Complete Series of 12",null,null,null,"Real-life Superheroes",null,null,null,{"$f":"SUM(N644:N655)","v":325.20000000000005},{"$f":"SUM(O644:O655)","v":227.39999999999995},{"$f":"SUM(P644:P655)","v":453.60000000000008},{"$f":"SUM(Q644:Q655)","v":287.39999999999992}]
[null,9781681513522,null,9781681512907,null,"Chefs",null,null,null,"Real-life Superheroes",null,null,null,27.1,18.95,37.799999999999997,{"$f":"O644+5","v":23.95},null,{"$f":"S643","v":0},null,{"$f":"U643","v":0},null,{"$f":"W643","v":0},null,{"$f":"S644","v":0},{"$f":"U644","v":0},{"$f":"W644*2","v":0},{"$f":"Y644+Z644+AA644","v":0},{"$f":"S644*O644","v":0},{"$f":"U644*P644","v":0},{"$f":"W644*Q644","v":0},{"$f":"IF(AH644=FALSE,AC644+AD644+AE644,0)","v":0}]
[null,9781681513539,null,9781681512914,null,"Construction Workers",null,null,null,"Real-life Superheroes",null,null,null,27.1,18.95,37.799999999999997,23.95,null,{"$f":"S643","v":0},null,{"$f":"U643","v":0},null,{"$f":"W643","v":0},null,0,0,0,0,0,0,0,0]
[null,9781681513546,null,9781681512921,null,"Dentists",null,null,null,"Real-life Superheroes",null,null,null,27.1,18.95,37.799999999999997,23.95,null,{"$f":"S643","v":0},null,{"$f":"U643","v":0},null,{"$f":"W643","v":0},null,0,0,0,0,0,0,0,0]
[null,9781681513553,null,9781681512938,null,"Doctors",null,null,null,"Real-life Superheroes",null,null,null,27.1,18.95,37.799999999999997,23.95,null,{"$f":"S643","v":0},null,{"$f":"U643","v":0},null,{"$f":"W643","v":0},null,0,0,0,0,0,0,0,0]
[null,9781681513560,null,9781681512945,null,"Farmers",null,null,null,"Real-life Superheroes",null,null,null,27.1,18.95,37.799999999999997,23.95,null,{"$f":"S643","v":0},null,{"$f":"U643","v":0},null,{"$f":"W643","v":0},null,0,0,0,0,0,0,0,0]
[null,9781681513577,null,9781681512952,null,"Firefighters",null,null,null,"Real-life Superheroes",null,null,null,27.1,18.95,37.799999999999997,23.95,null,{"$f":"S643","v":0},null,{"$f":"U643","v":0},null,{"$f":"W643","v":0},null,0,0,0,0,0,0,0,0]
[null,9781681513584,null,9781681512969,null,"Librarians",null,null,null,"Real-life Superheroes",null,null,null,27.1,18.95,37.799999999999997,23.95,null,{"$f":"S643","v":0},null,{"$f":"U643","v":0},null,{"$f":"W643","v":0},null,0,0,0,0,0,0,0,0]
[null,9781681513621,null,9781681513003,null,"Mechanics",null,null,null,"Real-life Superheroes",null,null,null,27.1,18.95,37.799999999999997,23.95,null,{"$f":"S643","v":0},null,{"$f":"U643","v":0},null,{"$f":"W643","v":0},null,0,0,0,0,0,0,0,0]
[null,9781681513591,null,9781681512976,null,"Nurses",null,null,null,"Real-life Superheroes",null,null,null,27.1,18.95,37.799999999999997,23.95,null,{"$f":"S643","v":0},null,{"$f":"U643","v":0},null,{"$f":"W643","v":0},null,0,0,0,0,0,0,0,0]
[null,9781681513607,null,9781681512983,null,"Police Officers",null,null,null,"Real-life Superheroes",null,null,null,27.1,18.95,37.799999999999997,23.95,null,{"$f":"S643","v":0},null,{"$f":"U643","v":0},null,{"$f":"W643","v":0},null,0,0,0,0,0,0,0,0]
[null,9781681513614,null,9781681512990,null,"Teachers",null,null,null,"Real-life Superheroes",null,null,null,27.1,18.95,37.799999999999997,23.95,null,{"$f":"S643","v":0},null,{"$f":"U643","v":0},null,{"$f":"W643","v":0},null,0,0,0,0,0,0,0,0]
[null,9781681513638,null,9781681513010,null,"Veterinarians",null,null,null,"Real-life Superheroes",null,null,null,27.1,18.95,37.799999999999997,23.95,null,{"$f":"S643","v":0},null,{"$f":"U643","v":0},null,{"$f":"W643","v":0},null,0,0,0,0,0,0,0,0]
[]
[null,null,null,null,null,"Complete Series of 6",null,null,null,"Animal Builders",null,null,null,{"$f":"SUM(N658:N663)","v":179.7},{"$f":"SUM(O658:O663)","v":125.7},{"$f":"SUM(P658:P663)","v":256.8},{"$f":"SUM(Q658:Q663)","v":155.69999999999999}]
[null,9781681512617,null,9781681511719,null,"Bears Make Dens",null,null,null,"Animal Builders",null,null,null,29.95,20.95,42.8,{"$f":"O658+5","v":25.95},null,{"$f":"S657","v":0},null,{"$f":"U657","v":0},null,{"$f":"W657","v":0},null,{"$f":"S658","v":0},{"$f":"U658","v":0},{"$f":"W658*2","v":0},{"$f":"Y658+Z658+AA658","v":0},{"$f":"S658*O658","v":0},{"$f":"U658*P658","v":0},{"$f":"W658*Q658","v":0},{"$f":"IF(AH658=FALSE,AC658+AD658+AE658,0)","v":0}]
[null,9781681512587,null,9781681511689,null,"Beavers Build Lodges",null,null,null,"Animal Builders",null,null,null,29.95,20.95,42.8,25.95,null,{"$f":"S657","v":0},null,{"$f":"U657","v":0},null,{"$f":"W657","v":0},null,0,0,0,0,0,0,0,0]
[null,9781681512594,null,9781681511696,null,"Bees Build Beehives",null,null,null,"Animal Builders",null,null,null,29.95,20.95,42.8,25.95,null,{"$f":"S657","v":0},null,{"$f":"U657","v":0},null,{"$f":"W657","v":0},null,0,0,0,0,0,0,0,0]
[null,9781681512600,null,9781681511702,null,"Birds Build Nests",null,null,null,"Animal Builders",null,null,null,29.95,20.95,42.8,25.95,null,{"$f":"S657","v":0},null,{"$f":"U657","v":0},null,{"$f":"W657","v":0},null,0,0,0,0,0,0,0,0]
[null,9781681512624,null,9781681511726,null,"Orangutans Build Tree Nests",null,null,null,"Animal Builders",null,null,null,29.95,20.95,42.8,25.95,null,{"$f":"S657","v":0},null,{"$f":"U657","v":0},null,{"$f":"W657","v":0},null,0,0,0,0,0,0,0,0]
[null,9781681512631,null,9781681511733,null,"Rabbits Dig Burrows",null,null,null,"Animal Builders",null,null,null,29.95,20.95,42.8,25.95,null,{"$f":"S657","v":0},null,{"$f":"U657","v":0},null,{"$f":"W657","v":0},null,0,0,0,0,0,0,0,0]
[]
[null,null,null,null,null,"Complete Series of 6",null,null,null,"Animales constructores (Animal Builders)",null,null,null,{"$f":"SUM(N666:N671)","v":179.7},{"$f":"SUM(O666:O671)","v":125.7},{"$f":"SUM(P666:P671)","v":0},{"$f":"SUM(Q666:Q671)","v":0}]
[null,"Not Available",null,9781681512792,null,"Las abejas y sus colmenas (Bees Build Beehives)",null,null,null,"Animales constructores (Animal Builders)",null,null,null,29.95,20.95,0,0,null,{"$f":"S665","v":0},null,null,null,null,null,{"$f":"S666","v":0},{"$f":"U666","v":0},{"$f":"W666*2","v":0},{"$f":"Y666+Z666+AA666","v":0},{"$f":"S666*O666","v":0},{"$f":"U666*P666","v":0},{"$f":"W666*Q666","v":0},{"$f":"IF(AH666=FALSE,AC666+AD666+AE666,0)","v":0}]
[null,"Not Available",null,9781681512785,null,"Los castores y sus madrigueras (Beavers Build Lodges)",null,null,null,"Animales constructores (Animal Builders)",null,null,null,29.95,20.95,0,0,null,{"$f":"S665","v":0},null,null,null,null,null,0,0,0,0,0,0,0,0]
[null,"Not Available",null,9781681512839,null,"Los conejos y sus madrigueras (Rabbits Dig Burrows)",null,null,null,"Animales constructores (Animal Builders)",null,null,null,29.95,20.95,0,0,null,{"$f":"S665","v":0},null,null,null,null,null,0,0,0,0,0,0,0,0]
[null,"Not Available",null,9781681512822,null,"Los orangutanes y sus nidos (Orangutans Build Tree Nests)",null,null,null,"Animales constructores (Animal Builders)",null,null,null,29.95,20.95,0,0,null,{"$f":"S665","v":0},null,null,null,null,null,0,0,0,0,0,0,0,0]
[null,"Not Available",null,9781681512815,null,"Los osos y sus guaridas (Bears Make Dens)",null,null,null,"Animales constructores (Animal Builders)",null,null,null,29.95,20.95,0,0,null,{"$f":"S665","v":0},null,null,null,null,null,0,0,0,0,0,0,0,0]
[null,"Not Available",null,9781681512808,null,"Los pájaros y sus nidos (Birds Build Nests)",null,null,null,"Animales constructores (Animal Builders)",null,null,null,29.95,20.95,0,0,null,{"$f":"S665","v":0},null,null,null,null,null,0,0,0,0,0,0,0,0]
[]
[null,null,null,null,null,"Complete Series of 8",null,null,null,"Robotics in Our World",null,null,null,{"$f":"SUM(N674:N681)","v":262.40000000000003},{"$f":"SUM(O674:O681)","v":183.59999999999997},{"$f":"SUM(P674:P681)","v":374.40000000000003},{"$f":"SUM(Q674:Q681)","v":223.59999999999997}]
[null,9781681512303,null,9781681511405,null,"Drones",null,null,null,"Robotics in Our World",null,null,null,32.799999999999997,22.95,46.8,{"$f":"O674+5","v":27.95},null,{"$f":"S673","v":0},null,{"$f":"U673","v":0},null,{"$f":"W673","v":0},null,{"$f":"S674","v":0},{"$f":"U674","v":0},{"$f":"W674*2","v":0},{"$f":"Y674+Z674+AA674","v":0},{"$f":"S674*O674","v":0},{"$f":"U674*P674","v":0},{"$f":"W674*Q674","v":0},{"$f":"IF(AH674=FALSE,AC674+AD674+AE674,0)","v":0}]
[null,9781681512310,null,9781681511412,null,"Factory Robots",null,null,null,"Robotics in Our World",null,null,null,32.799999999999997,22.95,46.8,27.95,null,{"$f":"S673","v":0},null,{"$f":"U673","v":0},null,{"$f":"W673","v":0},null,0,0,0,0,0,0,0,0]
[null,9781681512327,null,9781681511429,null,"Hobby Robots",null,null,null,"Robotics in Our World",null,null,null,32.799999999999997,22.95,46.8,27.95,null,{"$f":"S673","v":0},null,{"$f":"U673","v":0},null,{"$f":"W673","v":0},null,0,0,0,0,0,0,0,0]
[null,9781681512334,null,9781681511436,null,"Medical Robots",null,null,null,"Robotics in Our World",null,null,null,32.799999999999997,22.95,46.8,27.95,null,{"$f":"S673","v":0},null,{"$f":"U673","v":0},null,{"$f":"W673","v":0},null,0,0,0,0,0,0,0,0]
[null,9781681512341,null,9781681511443,null,"Military Robots",null,null,null,"Robotics in Our World",null,null,null,32.799999999999997,22.95,46.8,27.95,null,{"$f":"S673","v":0},null,{"$f":"U673","v":0},null,{"$f":"W673","v":0},null,0,0,0,0,0,0,0,0]
[null,9781681512358,null,9781681511450,null,"Robots at Home",null,null,null,"Robotics in Our World",null,null,null,32.799999999999997,22.95,46.8,27.95,null,{"$f":"S673","v":0},null,{"$f":"U673","v":0},null,{"$f":"W673","v":0},null,0,0,0,0,0,0,0,0]
[null,9781681512365,null,9781681511467,null,"Robots in Fiction",null,null,null,"Robotics in Our World",null,null,null,32.799999999999997,22.95,46.8,27.95,null,{"$f":"S673","v":0},null,{"$f":"U673","v":0},null,{"$f":"W673","v":0},null,0,0,0,0,0,0,0,0]
[null,9781681512372,null,9781681511474,null,"Space Robots",null,null,null,"Robotics in Our World",null,null,null,32.799999999999997,22.95,46.8,27.95,null,{"$f":"S673","v":0},null,{"$f":"U673","v":0},null,{"$f":"W673","v":0},null,0,0,0,0,0,0,0,0]
[]
[null,null,null,null,null,"Complete Series of 8",null,null,null,"Weird and Unusual Animals",null,null,null,{"$f":"SUM(N684:N691)","v":239.59999999999997},{"$f":"SUM(O684:O691)","v":167.6},{"$f":"SUM(P684:P691)","v":342.40000000000003},{"$f":"SUM(Q684:Q691)","v":207.59999999999997}]
[null,9781681512440,null,9781681511542,null,"Axolotls",null,null,null,"Weird and Unusual Animals",null,null,null,29.95,20.95,42.8,{"$f":"O684+5","v":25.95},null,{"$f":"S683","v":0},null,{"$f":"U683","v":0},null,{"$f":"W683","v":0},null,{"$f":"S684","v":0},{"$f":"U684","v":0},{"$f":"W684*2","v":0},{"$f":"Y684+Z684+AA684","v":0},{"$f":"S684*O684","v":0},{"$f":"U684*P684","v":0},{"$f":"W684*Q684","v":0},{"$f":"IF(AH684=FALSE,AC684+AD684+AE684,0)","v":0}]
[null,9781681512457,null,9781681511559,null,"Capybaras",null,null,null,"Weird and Unusual Animals",null,null,null,29.95,20.95,42.8,25.95,null,{"$f":"S683","v":0},null,{"$f":"U683","v":0},null,{"$f":"W683","v":0},null,0,0,0,0,0,0,0,0]
[null,9781681512464,null,9781681511566,null,"Flying Dragons",null,null,null,"Weird and Unusual Animals",null,null,null,29.95,20.95,42.8,25.95,null,{"$f":"S683","v":0},null,{"$f":"U683","v":0},null,{"$f":"W683","v":0},null,0,0,0,0,0,0,0,0]
[null,9781681512471,null,9781681511573,null,"Frilled Lizards",null,null,null,"Weird and Unusual Animals",null,null,null,29.95,20.95,42.8,25.95,null,{"$f":"S683","v":0},null,{"$f":"U683","v":0},null,{"$f":"W683","v":0},null,0,0,0,0,0,0,0,0]
[null,9781681512488,null,9781681511580,null,"Japanese Spider Crabs",null,null,null,"Weird and Unusual Animals",null,null,null,29.95,20.95,42.8,25.95,null,{"$f":"S683","v":0},null,{"$f":"U683","v":0},null,{"$f":"W683","v":0},null,0,0,0,0,0,0,0,0]
[null,9781681512501,null,9781681511603,null,"Sea Cucumbers",null,null,null,"Weird and Unusual Animals",null,null,null,29.95,20.95,42.8,25.95,null,{"$f":"S683","v":0},null,{"$f":"U683","v":0},null,{"$f":"W683","v":0},null,0,0,0,0,0,0,0,0]
[null,9781681512495,null,9781681511597,null,"Sea Dragons",null,null,null,"Weird and Unusual Animals",null,null,null,29.95,20.95,42.8,25.95,null,{"$f":"S683","v":0},null,{"$f":"U683","v":0},null,{"$f":"W683","v":0},null,0,0,0,0,0,0,0,0]
[null,9781681512518,null,9781681511610,null,"Star-nosed Moles",null,null,null,"Weird and Unusual Animals",null,null,null,29.95,20.95,42.8,25.95,null,{"$f":"S683","v":0},null,{"$f":"U683","v":0},null,{"$f":"W683","v":0},null,0,0,0,0,0,0,0,0]
[]
[null,null,null,null,null,"Complete Series of 6",null,null,null,"Who Made My Lunch? ",null,null,null,{"$f":"SUM(N694:N699)","v":179.7},{"$f":"SUM(O694:O699)","v":125.7},{"$f":"SUM(P694:P699)","v":256.8},{"$f":"SUM(Q694:Q699)","v":155.69999999999999}]
[null,9781681512105,null,9781681511207,null,"From Cocoa Beans to Chocolate",null,null,null,"Who Made My Lunch? ",null,null,null,29.95,20.95,42.8,{"$f":"O694+5","v":25.95},null,{"$f":"S693","v":0},null,{"$f":"U693","v":0},null,{"$f":"W693","v":0},null,{"$f":"S694","v":0},{"$f":"U694","v":0},{"$f":"W694*2","v":0},{"$f":"Y694+Z694+AA694","v":0},{"$f":"S694*O694","v":0},{"$f":"U694*P694","v":0},{"$f":"W694*Q694","v":0},{"$f":"IF(AH694=FALSE,AC694+AD694+AE694,0)","v":0}]
[null,9781681512129,null,9781681511221,null,"From Grapes to Jelly ",null,null,null,"Who Made My Lunch? ",null,null,null,29.95,20.95,42.8,25.95,null,{"$f":"S693","v":0},null,{"$f":"U693","v":0},null,{"$f":"W693","v":0},null,0,0,0,0,0,0,0,0]
[null,9781681512099,null,9781681511191,null,"From Milk to Cheese",null,null,null,"Who Made My Lunch? ",null,null,null,29.95,20.95,42.8,25.95,null,{"$f":"S693","v":0},null,{"$f":"U693","v":0},null,{"$f":"W693","v":0},null,0,0,0,0,0,0,0,0]
[null,9781681512112,null,9781681511214,null,"From Milk to Ice Cream",null,null,null,"Who Made My Lunch? ",null,null,null,29.95,20.95,42.8,25.95,null,{"$f":"S693","v":0},null,{"$f":"U693","v":0},null,{"$f":"W693","v":0},null,0,0,0,0,0,0,0,0]
[null,9781681512136,null,9781681511238,null,"From Peanuts to Peanut Butter",null,null,null,"Who Made My Lunch? ",null,null,null,29.95,20.95,42.8,25.95,null,{"$f":"S693","v":0},null,{"$f":"U693","v":0},null,{"$f":"W693","v":0},null,0,0,0,0,0,0,0,0]
[null,9781681512082,null,9781681511184,null,"From Wheat to Bread",null,null,null,"Who Made My Lunch? ",null,null,null,29.95,20.95,42.8,25.95,null,{"$f":"S693","v":0},null,{"$f":"U693","v":0},null,{"$f":"W693","v":0},null,0,0,0,0,0,0,0,0]
[]
[null,null,null,null,null,"Complete Series of 6",null,null,null,"Winter Olympic Sports",null,null,null,{"$f":"SUM(N702:N707)","v":196.8},{"$f":"SUM(O702:O707)","v":137.69999999999999},{"$f":"SUM(P702:P707)","v":280.8},{"$f":"SUM(Q702:Q707)","v":167.7}]
[null,9781681512402,null,9781681511504,null,"Bobsled and Luge",null,null,null,"Winter Olympic Sports",null,null,null,32.799999999999997,22.95,46.8,{"$f":"O702+5","v":27.95},null,{"$f":"S701","v":0},null,{"$f":"U701","v":0},null,{"$f":"W701","v":0},null,{"$f":"S702","v":0},{"$f":"U702","v":0},{"$f":"W702*2","v":0},{"$f":"Y702+Z702+AA702","v":0},{"$f":"S702*O702","v":0},{"$f":"U702*P702","v":0},{"$f":"W702*Q702","v":0},{"$f":"IF(AH702=FALSE,AC702+AD702+AE702,0)","v":0}]
[null,9781681512389,null,9781681511481,null,"Figure Skating",null,null,null,"Winter Olympic Sports",null,null,null,32.799999999999997,22.95,46.8,27.95,null,{"$f":"S701","v":0},null,{"$f":"U701","v":0},null,{"$f":"W701","v":0},null,0,0,0,0,0,0,0,0]
[null,9781681512396,null,9781681511498,null,"Ice Hockey and Curling",null,null,null,"Winter Olympic Sports",null,null,null,32.799999999999997,22.95,46.8,27.95,null,{"$f":"S701","v":0},null,{"$f":"U701","v":0},null,{"$f":"W701","v":0},null,0,0,0,0,0,0,0,0]
[null,9781681512419,null,9781681511511,null,"Skiing",null,null,null,"Winter Olympic Sports",null,null,null,32.799999999999997,22.95,46.8,27.95,null,{"$f":"S701","v":0},null,{"$f":"U701","v":0},null,{"$f":"W701","v":0},null,0,0,0,0,0,0,0,0]
[null,9781681512426,null,9781681511528,null,"Snowboarding",null,null,null,"Winter Olympic Sports",null,null,null,32.799999999999997,22.95,46.8,27.95,null,{"$f":"S701","v":0},null,{"$f":"U701","v":0},null,{"$f":"W701","v":0},null,0,0,0,0,0,0,0,0]
[null,9781681512433,null,9781681511535,null,"Speed Skating",null,null,null,"Winter Olympic Sports",null,null,null,32.799999999999997,22.95,46.8,27.95,null,{"$f":"S701","v":0},null,{"$f":"U701","v":0},null,{"$f":"W701","v":0},null,0,0,0,0,0,0,0,0]
[]
[null,null,null,null,null,"Complete Series of 12",null,null,null,"1,2,3... Count With Me ",null,null,null,{"$f":"SUM(N710:N721)","v":359.39999999999992},{"$f":"SUM(O710:O721)","v":251.39999999999995},{"$f":"SUM(P710:P721)","v":513.6},{"$f":"SUM(Q710:Q721)","v":311.39999999999992}]
[null,9781681510422,null,9781607539186,null,"100 Snowflakes",null,null,null,"1,2,3... Count With Me ",null,null,null,29.95,20.95,42.8,{"$f":"O710+5","v":25.95},null,{"$f":"S709","v":0},null,{"$f":"U709","v":0},null,{"$f":"W709","v":0},null,{"$f":"S710","v":0},{"$f":"U710","v":0},{"$f":"W710*2","v":0},{"$f":"Y710+Z710+AA710","v":0},{"$f":"S710*O710","v":0},{"$f":"U710*P710","v":0},{"$f":"W710*Q710","v":0},{"$f":"IF(AH710=FALSE,AC710+AD710+AE710,0)","v":0}]
[null,9781681510439,null,9781607539193,null,"Across the Country 18, 19, 20",null,null,null,"1,2,3... Count With Me ",null,null,null,29.95,20.95,42.8,25.95,null,{"$f":"S709","v":0},null,{"$f":"U709","v":0},null,{"$f":"W709","v":0},null,0,0,0,0,0,0,0,0]
[null,9781607538189,null,9781607537144,null,"Around the Moon 1,2,3",null,null,null,"1,2,3... Count With Me ",null,null,null,29.95,20.95,42.8,25.95,null,{"$f":"S709","v":0},null,{"$f":"U709","v":0},null,{"$f":"W709","v":0},null,0,0,0,0,0,0,0,0]
[null,9781681510446,null,9781607539209,null,"Chicks 2, 4, 6",null,null,null,"1,2,3... Count With Me ",null,null,null,29.95,20.95,42.8,25.95,null,{"$f":"S709","v":0},null,{"$f":"U709","v":0},null,{"$f":"W709","v":0},null,0,0,0,0,0,0,0,0]
[null,9781607538196,null,9781607537151,null,"Down in the Jungle 1,2,3",null,null,null,"1,2,3... Count With Me ",null,null,null,29.95,20.95,42.8,25.95,null,{"$f":"S709","v":0},null,{"$f":"U709","v":0},null,{"$f":"W709","v":0},null,0,0,0,0,0,0,0,0]
[null,9781607538226,null,9781607537182,null,"Down on the Farm 1,2,3",null,null,null,"1,2,3... Count With Me ",null,null,null,29.95,20.95,42.8,25.95,null,{"$f":"S709","v":0},null,{"$f":"U709","v":0},null,{"$f":"W709","v":0},null,0,0,0,0,0,0,0,0]
[null,9781681510453,null,9781607539216,null,"Down the Field 10, 20, 30",null,null,null,"1,2,3... Count With Me ",null,null,null,29.95,20.95,42.8,25.95,null,{"$f":"S709","v":0},null,{"$f":"U709","v":0},null,{"$f":"W709","v":0},null,0,0,0,0,0,0,0,0]
[null,9781607538233,null,9781607537199,null,"Falling Leaves 1,2,3",null,null,null,"1,2,3... Count With Me ",null,null,null,29.95,20.95,42.8,25.95,null,{"$f":"S709","v":0},null,{"$f":"U709","v":0},null,{"$f":"W709","v":0},null,0,0,0,0,0,0,0,0]
[null,9781607538202,null,9781607537168,null,"My Pets and Me 1,2,3",null,null,null,"1,2,3... Count With Me ",null,null,null,29.95,20.95,42.8,25.95,null,{"$f":"S709","v":0},null,{"$f":"U709","v":0},null,{"$f":"W709","v":0},null,0,0,0,0,0,0,0,0]
[null,9781681510460,null,9781607539223,null,"On a Safari 5, 10, 15",null,null,null,"1,2,3... Count With Me ",null,null,null,29.95,20.95,42.8,25.95,null,{"$f":"S709","v":0},null,{"$f":"U709","v":0},null,{"$f":"W709","v":0},null,0,0,0,0,0,0,0,0]
[null,9781681510477,null,9781607539230,null,"One More Bug",null,null,null,"1,2,3... Count With Me ",null,null,null,29.95,20.95,42.8,25.95,null,{"$f":"S709","v":0},null,{"$f":"U709","v":0},null,{"$f":"W709","v":0},null,0,0,0,0,0,0,0,0]
[null,9781607538219,null,9781607537175,null,"Under the Sea 1,2,3",null,null,null,"1,2,3... Count With Me ",null,null,null,29.95,20.95,42.8,25.95,null,{"$f":"S709","v":0},null,{"$f":"U709","v":0},null,{"$f":"W709","v":0},null,0,0,0,0,0,0,0,0]
[]
[null,null,null,null,null,"Complete Series of 6",null,null,null,"Adventures in Science",null,null,null,{"$f":"SUM(N724:N729)","v":179.7},{"$f":"SUM(O724:O729)","v":125.7},{"$f":"SUM(P724:P729)","v":256.8},{"$f":"SUM(Q724:Q729)","v":155.69999999999999}]
[null,9781681510736,null,9781607539612,null,"Do You Really Want to Burn Your Toast?",null,null,null,"Adventures in Science",null,null,null,29.95,20.95,42.8,{"$f":"O724+5","v":25.95},null,{"$f":"S723","v":0},null,{"$f":"U723","v":0},null,{"$f":"W723","v":0},null,{"$f":"S724","v":0},{"$f":"U724","v":0},{"$f":"W724*2","v":0},{"$f":"Y724+Z724+AA724","v":0},{"$f":"S724*O724","v":0},{"$f":"U724*P724","v":0},{"$f":"W724*Q724","v":0},{"$f":"IF(AH724=FALSE,AC724+AD724+AE724,0)","v":0}]
[null,9781681510699,null,9781607539575,null,"Do You Really Want to Create a Mudslide?",null,null,null,"Adventures in Science",null,null,null,29.95,20.95,42.8,25.95,null,{"$f":"S723","v":0},null,{"$f":"U723","v":0},null,{"$f":"W723","v":0},null,0,0,0,0,0,0,0,0]
[null,9781681510712,null,9781607539599,null,"Do You Really Want to Drive in a Blizzard?",null,null,null,"Adventures in Science",null,null,null,29.95,20.95,42.8,25.95,null,{"$f":"S723","v":0},null,{"$f":"U723","v":0},null,{"$f":"W723","v":0},null,0,0,0,0,0,0,0,0]
[null,9781681510705,null,9781607539582,null,"Do You Really Want to Skate on Thin Ice?",null,null,null,"Adventures in Science",null,null,null,29.95,20.95,42.8,25.95,null,{"$f":"S723","v":0},null,{"$f":"U723","v":0},null,{"$f":"W723","v":0},null,0,0,0,0,0,0,0,0]
[null,9781681510729,null,9781607539605,null,"Do You Really Want to Walk in the Dark?",null,null,null,"Adventures in Science",null,null,null,29.95,20.95,42.8,25.95,null,{"$f":"S723","v":0},null,{"$f":"U723","v":0},null,{"$f":"W723","v":0},null,0,0,0,0,0,0,0,0]
[null,9781681510682,null,9781607539568,null,"Do You Really Want to Yell in a Cave?",null,null,null,"Adventures in Science",null,null,null,29.95,20.95,42.8,25.95,null,{"$f":"S723","v":0},null,{"$f":"U723","v":0},null,{"$f":"W723","v":0},null,0,0,0,0,0,0,0,0]
[]
[null,null,null,null,null,"Complete Series of 6",null,null,null,"Aesop's Fables Remixed",null,null,null,{"$f":"SUM(N732:N737)","v":179.7},{"$f":"SUM(O732:O737)","v":125.7},{"$f":"SUM(P732:P737)","v":256.8},{"$f":"SUM(Q732:Q737)","v":155.69999999999999}]
[null,9781681510767,null,9781607539520,null,"Abby Visits the Big City",null,null,null,"Aesop's Fables Remixed",null,null,null,29.95,20.95,42.8,{"$f":"O732+5","v":25.95},null,{"$f":"S731","v":0},null,{"$f":"U731","v":0},null,{"$f":"W731","v":0},null,{"$f":"S732","v":0},{"$f":"U732","v":0},{"$f":"W732*2","v":0},{"$f":"Y732+Z732+AA732","v":0},{"$f":"S732*O732","v":0},{"$f":"U732*P732","v":0},{"$f":"W732*Q732","v":0},{"$f":"IF(AH732=FALSE,AC732+AD732+AE732,0)","v":0}]
[null,9781681510750,null,9781607539513,null,"Andrew and the Birthday Surprise",null,null,null,"Aesop's Fables Remixed",null,null,null,29.95,20.95,42.8,25.95,null,{"$f":"S731","v":0},null,{"$f":"U731","v":0},null,{"$f":"W731","v":0},null,0,0,0,0,0,0,0,0]
[null,9781681510743,null,9781607539506,null,"Henry’s Track and Field Day",null,null,null,"Aesop's Fables Remixed",null,null,null,29.95,20.95,42.8,25.95,null,{"$f":"S731","v":0},null,{"$f":"U731","v":0},null,{"$f":"W731","v":0},null,0,0,0,0,0,0,0,0]
[null,9781681510781,null,9781607539544,null,"James and the Kindergartener",null,null,null,"Aesop's Fables Remixed",null,null,null,29.95,20.95,42.8,25.95,null,{"$f":"S731","v":0},null,{"$f":"U731","v":0},null,{"$f":"W731","v":0},null,0,0,0,0,0,0,0,0]
[null,9781681510798,null,9781607539551,null,"Mary, Anna, and the Little Brother",null,null,null,"Aesop's Fables Remixed",null,null,null,29.95,20.95,42.8,25.95,null,{"$f":"S731","v":0},null,{"$f":"U731","v":0},null,{"$f":"W731","v":0},null,0,0,0,0,0,0,0,0]
[null,9781681510774,null,9781607539537,null,"Rosie’s Special Gift",null,null,null,"Aesop's Fables Remixed",null,null,null,29.95,20.95,42.8,25.95,null,{"$f":"S731","v":0},null,{"$f":"U731","v":0},null,{"$f":"W731","v":0},null,0,0,0,0,0,0,0,0]
[]
[null,null,null,null,null,"Complete Series of 6",null,null,null,"Great Outdoors",null,null,null,{"$f":"SUM(N740:N745)","v":196.8},{"$f":"SUM(O740:O745)","v":137.69999999999999},{"$f":"SUM(P740:P745)","v":280.8},{"$f":"SUM(Q740:Q745)","v":167.7}]
[null,9781681510163,null,9781607537960,null,"Camping",null,null,null,"Great Outdoors",null,null,null,32.799999999999997,22.95,46.8,{"$f":"O740+5","v":27.95},null,{"$f":"S739","v":0},null,{"$f":"U739","v":0},null,{"$f":"W739","v":0},null,{"$f":"S740","v":0},{"$f":"U740","v":0},{"$f":"W740*2","v":0},{"$f":"Y740+Z740+AA740","v":0},{"$f":"S740*O740","v":0},{"$f":"U740*P740","v":0},{"$f":"W740*Q740","v":0},{"$f":"IF(AH740=FALSE,AC740+AD740+AE740,0)","v":0}]
[null,9781681510170,null,9781607537977,null,"Canoeing",null,null,null,"Great Outdoors",null,null,null,32.799999999999997,22.95,46.8,27.95,null,{"$f":"S739","v":0},null,{"$f":"U739","v":0},null,{"$f":"W739","v":0},null,0,0,0,0,0,0,0,0]
[null,9781681510187,null,9781607537984,null,"Duck Hunting",null,null,null,"Great Outdoors",null,null,null,32.799999999999997,22.95,46.8,27.95,null,{"$f":"S739","v":0},null,{"$f":"U739","v":0},null,{"$f":"W739","v":0},null,0,0,0,0,0,0,0,0]
[null,9781681510194,null,9781607537991,null,"Freshwater Fishing",null,null,null,"Great Outdoors",null,null,null,32.799999999999997,22.95,46.8,27.95,null,{"$f":"S739","v":0},null,{"$f":"U739","v":0},null,{"$f":"W739","v":0},null,0,0,0,0,0,0,0,0]
[null,9781681510200,null,9781607538004,null,"Hiking",null,null,null,"Great Outdoors",null,null,null,32.799999999999997,22.95,46.8,27.95,null,{"$f":"S739","v":0},null,{"$f":"U739","v":0},null,{"$f":"W739","v":0},null,0,0,0,0,0,0,0,0]
[null,9781681510217,null,9781607538011,null,"Rock Climbing",null,null,null,"Great Outdoors",null,null,null,32.799999999999997,22.95,46.8,27.95,null,{"$f":"S739","v":0},null,{"$f":"U739","v":0},null,{"$f":"W739","v":0},null,0,0,0,0,0,0,0,0]
[]
[null,null,null,null,null,"Complete Series of 4",null,null,null,"Keeping Cities Clean",null,null,null,{"$f":"SUM(N748:N751)","v":119.8},{"$f":"SUM(O748:O751)","v":83.8},{"$f":"SUM(P748:P751)","v":171.2},{"$f":"SUM(Q748:Q751)","v":103.8}]
[null,9781681510828,null,9781607539643,null,"Follow that Bottle!",null,null,null,"Keeping Cities Clean",null,null,null,29.95,20.95,42.8,{"$f":"O748+5","v":25.95},null,{"$f":"S747","v":0},null,{"$f":"U747","v":0},null,{"$f":"W747","v":0},null,{"$f":"S748","v":0},{"$f":"U748","v":0},{"$f":"W748*2","v":0},{"$f":"Y748+Z748+AA748","v":0},{"$f":"S748*O748","v":0},{"$f":"U748*P748","v":0},{"$f":"W748*Q748","v":0},{"$f":"IF(AH748=FALSE,AC748+AD748+AE748,0)","v":0}]
[null,9781681510811,null,9781607539636,null,"Follow that Garbage!",null,null,null,"Keeping Cities Clean",null,null,null,29.95,20.95,42.8,{"$f":"O749+5","v":25.95},null,{"$f":"S747","v":0},null,{"$f":"U747","v":0},null,{"$f":"W747","v":0},null,{"$f":"S749","v":0},{"$f":"U749","v":0},{"$f":"W749*2","v":0},{"$f":"Y749+Z749+AA749","v":0},{"$f":"S749*O749","v":0},{"$f":"U749*P749","v":0},{"$f":"W749*Q749","v":0},{"$f":"IF(AH749=FALSE,AC749+AD749+AE749,0)","v":0}]
[null,9781681510835,null,9781607539650,null,"Follow that Paper!",null,null,null,"Keeping Cities Clean",null,null,null,29.95,20.95,42.8,{"$f":"O750+5","v":25.95},null,{"$f":"S747","v":0},null,{"$f":"U747","v":0},null,{"$f":"W747","v":0},null,{"$f":"S750","v":0},{"$f":"U750","v":0},{"$f":"W750*2","v":0},{"$f":"Y750+Z750+AA750","v":0},{"$f":"S750*O750","v":0},{"$f":"U750*P750","v":0},{"$f":"W750*Q750","v":0},{"$f":"IF(AH750=FALSE,AC750+AD750+AE750,0)","v":0}]
[null,9781681510804,null,9781607539629,null,"Follow that Tap Water!",null,null,null,"Keeping Cities Clean",null,null,null,29.95,20.95,42.8,{"$f":"O751+5","v":25.95},null,{"$f":"S747","v":0},null,{"$f":"U747","v":0},null,{"$f":"W747","v":0},null,{"$f":"S751","v":0},{"$f":"U751","v":0},{"$f":"W751*2","v":0},{"$f":"Y751+Z751+AA751","v":0},{"$f":"S751*O751","v":0},{"$f":"U751*P751","v":0},{"$f":"W751*Q751","v":0},{"$f":"IF(AH751=FALSE,AC751+AD751+AE751,0)","v":0}]
[]
[null,null,null,null,null,"Complete Series of 8",null,null,null,"Let's Race",null,null,null,{"$f":"SUM(N754:N761)","v":216.79999999999998},{"$f":"SUM(O754:O761)","v":151.6},{"$f":"SUM(P754:P761)","v":302.40000000000003},{"$f":"SUM(Q754:Q761)","v":191.59999999999997}]
[null,9781681510347,null,9781607539100,null,"Bike Race, The",null,null,null,"Let's Race",null,null,null,27.1,18.95,37.799999999999997,{"$f":"O754+5","v":23.95},null,{"$f":"S753","v":0},null,{"$f":"U753","v":0},null,{"$f":"W753","v":0},null,{"$f":"S754","v":0},{"$f":"U754","v":0},{"$f":"W754*2","v":0},{"$f":"Y754+Z754+AA754","v":0},{"$f":"S754*O754","v":0},{"$f":"U754*P754","v":0},{"$f":"W754*Q754","v":0},{"$f":"IF(AH754=FALSE,AC754+AD754+AE754,0)","v":0}]
[null,9781681510354,null,9781607539117,null,"Boat Race, The",null,null,null,"Let's Race",null,null,null,27.1,18.95,37.799999999999997,23.95,null,{"$f":"S753","v":0},null,{"$f":"U753","v":0},null,{"$f":"W753","v":0},null,0,0,0,0,0,0,0,0]
[null,9781681510361,null,9781607539124,null,"Car Race, The",null,null,null,"Let's Race",null,null,null,27.1,18.95,37.799999999999997,23.95,null,{"$f":"S753","v":0},null,{"$f":"U753","v":0},null,{"$f":"W753","v":0},null,0,0,0,0,0,0,0,0]
[null,9781681510378,null,9781607539131,null,"Go-Kart Race, The",null,null,null,"Let's Race",null,null,null,27.1,18.95,37.799999999999997,23.95,null,{"$f":"S753","v":0},null,{"$f":"U753","v":0},null,{"$f":"W753","v":0},null,0,0,0,0,0,0,0,0]
[null,9781681510385,null,9781607539148,null,"Hot Air Balloon Race, The",null,null,null,"Let's Race",null,null,null,27.1,18.95,37.799999999999997,23.95,null,{"$f":"S753","v":0},null,{"$f":"U753","v":0},null,{"$f":"W753","v":0},null,0,0,0,0,0,0,0,0]
[null,9781681510415,null,9781607539179,null,"Monster Truck Race, The",null,null,null,"Let's Race",null,null,null,27.1,18.95,37.799999999999997,23.95,null,{"$f":"S753","v":0},null,{"$f":"U753","v":0},null,{"$f":"W753","v":0},null,0,0,0,0,0,0,0,0]
[null,9781681510392,null,9781607539155,null,"Motorcycle Race, The",null,null,null,"Let's Race",null,null,null,27.1,18.95,37.799999999999997,23.95,null,{"$f":"S753","v":0},null,{"$f":"U753","v":0},null,{"$f":"W753","v":0},null,0,0,0,0,0,0,0,0]
[null,9781681510408,null,9781607539162,null,"Tractor Race, The",null,null,null,"Let's Race",null,null,null,27.1,18.95,37.799999999999997,23.95,null,{"$f":"S753","v":0},null,{"$f":"U753","v":0},null,{"$f":"W753","v":0},null,0,0,0,0,0,0,0,0]
[]
[null,null,null,null,null,"Complete Series of 6",null,null,null,"Natural Disasters",null,null,null,{"$f":"SUM(N764:N769)","v":196.8},{"$f":"SUM(O764:O769)","v":137.69999999999999},{"$f":"SUM(P764:P769)","v":280.8},{"$f":"SUM(Q764:Q769)","v":167.7}]
[null,9781607539940,null,9781607539889,null,"Blizzard!",null,null,null,"Natural Disasters",null,null,null,32.799999999999997,22.95,46.8,{"$f":"O764+5","v":27.95},null,{"$f":"S763","v":0},null,{"$f":"U763","v":0},null,{"$f":"W763","v":0},null,{"$f":"S764","v":0},{"$f":"U764","v":0},{"$f":"W764*2","v":0},{"$f":"Y764+Z764+AA764","v":0},{"$f":"S764*O764","v":0},{"$f":"U764*P764","v":0},{"$f":"W764*Q764","v":0},{"$f":"IF(AH764=FALSE,AC764+AD764+AE764,0)","v":0}]
[null,9781607539957,null,9781607539896,null,"Earthquake!",null,null,null,"Natural Disasters",null,null,null,32.799999999999997,22.95,46.8,27.95,null,{"$f":"S763","v":0},null,{"$f":"U763","v":0},null,{"$f":"W763","v":0},null,0,0,0,0,0,0,0,0]
[null,9781607539964,null,9781607539902,null,"Flood!",null,null,null,"Natural Disasters",null,null,null,32.799999999999997,22.95,46.8,27.95,null,{"$f":"S763","v":0},null,{"$f":"U763","v":0},null,{"$f":"W763","v":0},null,0,0,0,0,0,0,0,0]
[null,9781607539971,null,9781607539919,null,"Hurricane!",null,null,null,"Natural Disasters",null,null,null,32.799999999999997,22.95,46.8,27.95,null,{"$f":"S763","v":0},null,{"$f":"U763","v":0},null,{"$f":"W763","v":0},null,0,0,0,0,0,0,0,0]
[null,9781607539988,null,9781607539926,null,"Tornado!",null,null,null,"Natural Disasters",null,null,null,32.799999999999997,22.95,46.8,27.95,null,{"$f":"S763","v":0},null,{"$f":"U763","v":0},null,{"$f":"W763","v":0},null,0,0,0,0,0,0,0,0]
[null,9781607539995,null,9781607539933,null,"Wildfire!",null,null,null,"Natural Disasters",null,null,null,32.799999999999997,22.95,46.8,27.95,null,{"$f":"S763","v":0},null,{"$f":"U763","v":0},null,{"$f":"W763","v":0},null,0,0,0,0,0,0,0,0]
[]
[null,null,null,null,null,"Complete Series of 6",null,null,null,"Pro Sports Superstars",null,null,null,{"$f":"SUM(N772:N777)","v":179.7},{"$f":"SUM(O772:O777)","v":125.7},{"$f":"SUM(P772:P777)","v":256.8},{"$f":"SUM(Q772:Q777)","v":155.69999999999999}]
[null,9781681510309,null,9781607539407,null,"Superstars of NASCAR",null,null,null,"Pro Sports Superstars",null,null,null,29.95,20.95,42.8,{"$f":"O772+5","v":25.95},null,{"$f":"S771","v":0},null,{"$f":"U771","v":0},null,{"$f":"W771","v":0},null,{"$f":"S772","v":0},{"$f":"U772","v":0},{"$f":"W772*2","v":0},{"$f":"Y772+Z772+AA772","v":0},{"$f":"S772*O772","v":0},{"$f":"U772*P772","v":0},{"$f":"W772*Q772","v":0},{"$f":"IF(AH772=FALSE,AC772+AD772+AE772,0)","v":0}]
[null,9781681510316,null,9781607539414,null,"Superstars of Pro Tennis",null,null,null,"Pro Sports Superstars",null,null,null,29.95,20.95,42.8,25.95,null,{"$f":"S771","v":0},null,{"$f":"U771","v":0},null,{"$f":"W771","v":0},null,0,0,0,0,0,0,0,0]
[null,9781681510286,null,9781607539384,null,"Superstars of the NHL",null,null,null,"Pro Sports Superstars",null,null,null,29.95,20.95,42.8,25.95,null,{"$f":"S771","v":0},null,{"$f":"U771","v":0},null,{"$f":"W771","v":0},null,0,0,0,0,0,0,0,0]
[null,9781681510293,null,9781607539391,null,"Superstars of the UFC",null,null,null,"Pro Sports Superstars",null,null,null,29.95,20.95,42.8,25.95,null,{"$f":"S771","v":0},null,{"$f":"U771","v":0},null,{"$f":"W771","v":0},null,0,0,0,0,0,0,0,0]
[null,9781681510323,null,9781607539421,null,"Superstars of World Soccer",null,null,null,"Pro Sports Superstars",null,null,null,29.95,20.95,42.8,25.95,null,{"$f":"S771","v":0},null,{"$f":"U771","v":0},null,{"$f":"W771","v":0},null,0,0,0,0,0,0,0,0]
[null,9781681510330,null,9781607539438,null,"Superstars of WWE",null,null,null,"Pro Sports Superstars",null,null,null,29.95,20.95,42.8,25.95,null,{"$f":"S771","v":0},null,{"$f":"U771","v":0},null,{"$f":"W771","v":0},null,0,0,0,0,0,0,0,0]
[]
[null,null,null,null,null,"Complete Series of 6",null,null,null,"Protecting Our People",null,null,null,{"$f":"SUM(N780:N785)","v":196.8},{"$f":"SUM(O780:O785)","v":137.69999999999999},{"$f":"SUM(P780:P785)","v":280.8},{"$f":"SUM(Q780:Q785)","v":167.7}]
[null,9781681510224,null,9781607539827,null,"CIA, The",null,null,null,"Protecting Our People",null,null,null,32.799999999999997,22.95,46.8,{"$f":"O780+5","v":27.95},null,{"$f":"S779","v":0},null,{"$f":"U779","v":0},null,{"$f":"W779","v":0},null,{"$f":"S780","v":0},{"$f":"U780","v":0},{"$f":"W780*2","v":0},{"$f":"Y780+Z780+AA780","v":0},{"$f":"S780*O780","v":0},{"$f":"U780*P780","v":0},{"$f":"W780*Q780","v":0},{"$f":"IF(AH780=FALSE,AC780+AD780+AE780,0)","v":0}]
[null,9781681510231,null,9781607539834,null,"FBI, The",null,null,null,"Protecting Our People",null,null,null,32.799999999999997,22.95,46.8,27.95,null,{"$f":"S779","v":0},null,{"$f":"U779","v":0},null,{"$f":"W779","v":0},null,0,0,0,0,0,0,0,0]
[null,9781681510248,null,9781607539841,null,"Federal Air Marshals",null,null,null,"Protecting Our People",null,null,null,32.799999999999997,22.95,46.8,27.95,null,{"$f":"S779","v":0},null,{"$f":"U779","v":0},null,{"$f":"W779","v":0},null,0,0,0,0,0,0,0,0]
[null,9781681510255,null,9781607539858,null,"SWAT Teams",null,null,null,"Protecting Our People",null,null,null,32.799999999999997,22.95,46.8,27.95,null,{"$f":"S779","v":0},null,{"$f":"U779","v":0},null,{"$f":"W779","v":0},null,0,0,0,0,0,0,0,0]
[null,9781681510262,null,9781607539865,null,"U.S. Border Patrol",null,null,null,"Protecting Our People",null,null,null,32.799999999999997,22.95,46.8,27.95,null,{"$f":"S779","v":0},null,{"$f":"U779","v":0},null,{"$f":"W779","v":0},null,0,0,0,0,0,0,0,0]
[null,9781681510279,null,9781607539872,null,"U.S. Secret Service",null,null,null,"Protecting Our People",null,null,null,32.799999999999997,22.95,46.8,27.95,null,{"$f":"S779","v":0},null,{"$f":"U779","v":0},null,{"$f":"W779","v":0},null,0,0,0,0,0,0,0,0]
[]
[null,null,null,null,null,"Complete Series of 8",null,null,null,"Say What?: Parts of Speech",null,null,null,{"$f":"SUM(N788:N795)","v":216.79999999999998},{"$f":"SUM(O788:O795)","v":151.6},{"$f":"SUM(P788:P795)","v":302.40000000000003},{"$f":"SUM(Q788:Q795)","v":191.59999999999997}]
[null,9781681510545,null,9781607539308,null,"How Big Is It?",null,null,null,"Say What?: Parts of Speech",null,null,null,27.1,18.95,37.799999999999997,{"$f":"O788+5","v":23.95},null,{"$f":"S787","v":0},null,{"$f":"U787","v":0},null,{"$f":"W787","v":0},null,{"$f":"S788","v":0},{"$f":"U788","v":0},{"$f":"W788*2","v":0},{"$f":"Y788+Z788+AA788","v":0},{"$f":"S788*O788","v":0},{"$f":"U788*P788","v":0},{"$f":"W788*Q788","v":0},{"$f":"IF(AH788=FALSE,AC788+AD788+AE788,0)","v":0}]
[null,9781681510552,null,9781607539315,null,"How Fast Is It?",null,null,null,"Say What?: Parts of Speech",null,null,null,27.1,18.95,37.799999999999997,23.95,null,{"$f":"S787","v":0},null,{"$f":"U787","v":0},null,{"$f":"W787","v":0},null,0,0,0,0,0,0,0,0]
[null,9781681510583,null,9781607539346,null,"No School Today",null,null,null,"Say What?: Parts of Speech",null,null,null,27.1,18.95,37.799999999999997,23.95,null,{"$f":"S787","v":0},null,{"$f":"U787","v":0},null,{"$f":"W787","v":0},null,0,0,0,0,0,0,0,0]
[null,9781681510569,null,9781607539322,null,"Ouch! It Bit Me!",null,null,null,"Say What?: Parts of Speech",null,null,null,27.1,18.95,37.799999999999997,23.95,null,{"$f":"S787","v":0},null,{"$f":"U787","v":0},null,{"$f":"W787","v":0},null,0,0,0,0,0,0,0,0]
[null,9781681510590,null,9781607539353,null,"Pepperoni or Sausage?",null,null,null,"Say What?: Parts of Speech",null,null,null,27.1,18.95,37.799999999999997,23.95,null,{"$f":"S787","v":0},null,{"$f":"U787","v":0},null,{"$f":"W787","v":0},null,0,0,0,0,0,0,0,0]
[null,9781681510576,null,9781607539339,null,"What Is It Doing?",null,null,null,"Say What?: Parts of Speech",null,null,null,27.1,18.95,37.799999999999997,23.95,null,{"$f":"S787","v":0},null,{"$f":"U787","v":0},null,{"$f":"W787","v":0},null,0,0,0,0,0,0,0,0]
[null,9781681510613,null,9781607539377,null,"Who Ate It?",null,null,null,"Say What?: Parts of Speech",null,null,null,27.1,18.95,37.799999999999997,23.95,null,{"$f":"S787","v":0},null,{"$f":"U787","v":0},null,{"$f":"W787","v":0},null,0,0,0,0,0,0,0,0]
[null,9781681510606,null,9781607539360,null,"Who Is Up There?",null,null,null,"Say What?: Parts of Speech",null,null,null,27.1,18.95,37.799999999999997,23.95,null,{"$f":"S787","v":0},null,{"$f":"U787","v":0},null,{"$f":"W787","v":0},null,0,0,0,0,0,0,0,0]
[]
[null,null,null,null,null,"Complete Series of 8",null,null,null,"Sharks",null,null,null,{"$f":"SUM(N798:N805)","v":262.40000000000003},{"$f":"SUM(O798:O805)","v":183.59999999999997},{"$f":"SUM(P798:P805)","v":374.40000000000003},{"$f":"SUM(Q798:Q805)","v":223.59999999999997}]
[null,9781681510088,null,9781607539742,null,"Basking Sharks",null,null,null,"Sharks",null,null,null,32.799999999999997,22.95,46.8,{"$f":"O798+5","v":27.95},null,{"$f":"S797","v":0},null,{"$f":"U797","v":0},null,{"$f":"W797","v":0},null,{"$f":"S798","v":0},{"$f":"U798","v":0},{"$f":"W798*2","v":0},{"$f":"Y798+Z798+AA798","v":0},{"$f":"S798*O798","v":0},{"$f":"U798*P798","v":0},{"$f":"W798*Q798","v":0},{"$f":"IF(AH798=FALSE,AC798+AD798+AE798,0)","v":0}]
[null,9781681510095,null,9781607539759,null,"Blacktip Reef Sharks",null,null,null,"Sharks",null,null,null,32.799999999999997,22.95,46.8,27.95,null,{"$f":"S797","v":0},null,{"$f":"U797","v":0},null,{"$f":"W797","v":0},null,0,0,0,0,0,0,0,0]
[null,9781681510101,null,9781607539766,null,"Bull Sharks",null,null,null,"Sharks",null,null,null,32.799999999999997,22.95,46.8,27.95,null,{"$f":"S797","v":0},null,{"$f":"U797","v":0},null,{"$f":"W797","v":0},null,0,0,0,0,0,0,0,0]
[null,9781681510118,null,9781607539773,null,"Great White Sharks",null,null,null,"Sharks",null,null,null,32.799999999999997,22.95,46.8,27.95,null,{"$f":"S797","v":0},null,{"$f":"U797","v":0},null,{"$f":"W797","v":0},null,0,0,0,0,0,0,0,0]
[null,9781681510125,null,9781607539780,null,"Hammerhead Sharks",null,null,null,"Sharks",null,null,null,32.799999999999997,22.95,46.8,27.95,null,{"$f":"S797","v":0},null,{"$f":"U797","v":0},null,{"$f":"W797","v":0},null,0,0,0,0,0,0,0,0]
[null,9781681510132,null,9781607539797,null,"Mako Sharks",null,null,null,"Sharks",null,null,null,32.799999999999997,22.95,46.8,27.95,null,{"$f":"S797","v":0},null,{"$f":"U797","v":0},null,{"$f":"W797","v":0},null,0,0,0,0,0,0,0,0]
[null,9781681510149,null,9781607539803,null,"Tiger Sharks",null,null,null,"Sharks",null,null,null,32.799999999999997,22.95,46.8,27.95,null,{"$f":"S797","v":0},null,{"$f":"U797","v":0},null,{"$f":"W797","v":0},null,0,0,0,0,0,0,0,0]
[null,9781681510156,null,9781607539810,null,"Whale Sharks",null,null,null,"Sharks",null,null,null,32.799999999999997,22.95,46.8,27.95,null,{"$f":"S797","v":0},null,{"$f":"U797","v":0},null,{"$f":"W797","v":0},null,0,0,0,0,0,0,0,0]
[]
[null,null,null,null,null,"Complete Series of 17",null,null,null,"Word Families",null,null,null,{"$f":"SUM(N808:N824)","v":460.70000000000016},{"$f":"SUM(O808:O824)","v":322.14999999999992},{"$f":"SUM(P808:P824)","v":642.59999999999991},{"$f":"SUM(Q808:Q824)","v":407.14999999999986}]
[null,9781681510484,null,9781607539247,null,"Dan Can!",null,null,null,"Word Families",null,null,null,27.1,18.95,37.799999999999997,{"$f":"O808+5","v":23.95},null,{"$f":"S807","v":0},null,{"$f":"U807","v":0},null,{"$f":"W807","v":0},null,{"$f":"S808","v":0},{"$f":"U808","v":0},{"$f":"W808*2","v":0},{"$f":"Y808+Z808+AA808","v":0},{"$f":"S808*O808","v":0},{"$f":"U808*P808","v":0},{"$f":"W808*Q808","v":0},{"$f":"IF(AH808=FALSE,AC808+AD808+AE808,0)","v":0}]
[null,9781607535423,null,9781607535164,null,"Dig, Pig!",null,null,null,"Word Families",null,null,null,27.1,18.95,37.799999999999997,23.95,null,{"$f":"S807","v":0},null,{"$f":"U807","v":0},null,{"$f":"W807","v":0},null,0,0,0,0,0,0,0,0]
[null,9781607536468,null,9781607535805,null,"Don't Trip, Pip!",null,null,null,"Word Families",null,null,null,27.1,18.95,37.799999999999997,23.95,null,{"$f":"S807","v":0},null,{"$f":"U807","v":0},null,{"$f":"W807","v":0},null,0,0,0,0,0,0,0,0]
[null,9781607536475,null,9781607535812,null,"Get Wet!",null,null,null,"Word Families",null,null,null,27.1,18.95,37.799999999999997,23.95,null,{"$f":"S807","v":0},null,{"$f":"U807","v":0},null,{"$f":"W807","v":0},null,0,0,0,0,0,0,0,0]
[null,9781681510514,null,9781607539278,null,"Go to Bed, Ted!",null,null,null,"Word Families",null,null,null,27.1,18.95,37.799999999999997,23.95,null,{"$f":"S807","v":0},null,{"$f":"U807","v":0},null,{"$f":"W807","v":0},null,0,0,0,0,0,0,0,0]
[null,9781681510521,null,9781607539285,null,"Map Trap, The",null,null,null,"Word Families",null,null,null,27.1,18.95,37.799999999999997,23.95,null,{"$f":"S807","v":0},null,{"$f":"U807","v":0},null,{"$f":"W807","v":0},null,0,0,0,0,0,0,0,0]
[null,9781607535447,null,9781607535133,null,"Nab the Crab",null,null,null,"Word Families",null,null,null,27.1,18.95,37.799999999999997,23.95,null,{"$f":"S807","v":0},null,{"$f":"U807","v":0},null,{"$f":"W807","v":0},null,0,0,0,0,0,0,0,0]
[null,9781607536482,null,9781607535829,null,"Not a Lot, Robot!",null,null,null,"Word Families",null,null,null,27.1,18.95,37.799999999999997,23.95,null,{"$f":"S807","v":0},null,{"$f":"U807","v":0},null,{"$f":"W807","v":0},null,0,0,0,0,0,0,0,0]
[null,9781607535454,null,9781607535140,null,"Out for Trout",null,null,null,"Word Families",null,null,null,27.1,18.95,37.799999999999997,23.95,null,{"$f":"S807","v":0},null,{"$f":"U807","v":0},null,{"$f":"W807","v":0},null,0,0,0,0,0,0,0,0]
[null,9781607536499,null,9781607535836,null,"Please Take Jake!",null,null,null,"Word Families",null,null,null,27.1,18.95,37.799999999999997,23.95,null,{"$f":"S807","v":0},null,{"$f":"U807","v":0},null,{"$f":"W807","v":0},null,0,0,0,0,0,0,0,0]
[null,9781607536505,null,9781607535843,null,"Quit It!",null,null,null,"Word Families",null,null,null,27.1,18.95,37.799999999999997,23.95,null,{"$f":"S807","v":0},null,{"$f":"U807","v":0},null,{"$f":"W807","v":0},null,0,0,0,0,0,0,0,0]
[null,9781607535461,null,9781607535171,null,"Sleep, Sheep!",null,null,null,"Word Families",null,null,null,27.1,18.95,37.799999999999997,23.95,null,{"$f":"S807","v":0},null,{"$f":"U807","v":0},null,{"$f":"W807","v":0},null,0,0,0,0,0,0,0,0]
[null,9781607536512,null,9781607535850,null,"Stay, Kay!",null,null,null,"Word Families",null,null,null,27.1,18.95,37.799999999999997,23.95,null,{"$f":"S807","v":0},null,{"$f":"U807","v":0},null,{"$f":"W807","v":0},null,0,0,0,0,0,0,0,0]
[null,9781681510491,null,9781607539254,null,"Stop, Pop!",null,null,null,"Word Families",null,null,null,27.1,18.95,37.799999999999997,23.95,null,{"$f":"S807","v":0},null,{"$f":"U807","v":0},null,{"$f":"W807","v":0},null,0,0,0,0,0,0,0,0]
[null,9781607535478,null,9781607535126,null,"That Cat!",null,null,null,"Word Families",null,null,null,27.1,18.95,37.799999999999997,23.95,null,{"$f":"S807","v":0},null,{"$f":"U807","v":0},null,{"$f":"W807","v":0},null,0,0,0,0,0,0,0,0]
[null,9781681510507,null,9781607539261,null,"When, Jen?",null,null,null,"Word Families",null,null,null,27.1,18.95,37.799999999999997,23.95,null,{"$f":"S807","v":0},null,{"$f":"U807","v":0},null,{"$f":"W807","v":0},null,0,0,0,0,0,0,0,0]
[null,9781681510538,null,9781607539292,null,"Win, Min!",null,null,null,"Word Families",null,null,null,27.1,18.95,37.799999999999997,23.95,null,{"$f":"S807","v":0},null,{"$f":"U807","v":0},null,{"$f":"W807","v":0},null,0,0,0,0,0,0,0,0]
[]
[null,null,null,null,null,"Complete Series of 10",null,null,null,"Do You Really Want a Pet?",null,null,null,{"$f":"SUM(N827:N836)","v":299.49999999999994},{"$f":"SUM(O827:O836)","v":209.49999999999997},{"$f":"SUM(P827:P836)","v":428.00000000000006},{"$f":"SUM(Q827:Q836)","v":259.49999999999994}]
[null,9781607533979,null,9781607532057,null,"Do You Really Want a Bird?",null,null,null,"Do You Really Want a Pet?",null,null,null,29.95,20.95,42.8,{"$f":"O827+5","v":25.95},null,{"$f":"S826","v":0},null,{"$f":"U826","v":0},null,{"$f":"W826","v":0},null,{"$f":"S827","v":0},{"$f":"U827","v":0},{"$f":"W827*2","v":0},{"$f":"Y827+Z827+AA827","v":0},{"$f":"S827*O827","v":0},{"$f":"U827*P827","v":0},{"$f":"W827*Q827","v":0},{"$f":"IF(AH827=FALSE,AC827+AD827+AE827,0)","v":0}]
[null,9781607533962,null,9781607532033,null,"Do You Really Want a Cat?",null,null,null,"Do You Really Want a Pet?",null,null,null,29.95,20.95,42.8,25.95,null,{"$f":"S826","v":0},null,{"$f":"U826","v":0},null,{"$f":"W826","v":0},null,0,0,0,0,0,0,0,0]
[null,9781607533955,null,9781607532040,null,"Do You Really Want a Dog?",null,null,null,"Do You Really Want a Pet?",null,null,null,29.95,20.95,42.8,25.95,null,{"$f":"S826","v":0},null,{"$f":"U826","v":0},null,{"$f":"W826","v":0},null,0,0,0,0,0,0,0,0]
[null,9781607538486,null,9781607537496,null,"Do You Really Want a Guinea Pig?",null,null,null,"Do You Really Want a Pet?",null,null,null,29.95,20.95,42.8,25.95,null,{"$f":"S826","v":0},null,{"$f":"U826","v":0},null,{"$f":"W826","v":0},null,0,0,0,0,0,0,0,0]
[null,9781607533986,null,9781607532064,null,"Do You Really Want a Hamster?",null,null,null,"Do You Really Want a Pet?",null,null,null,29.95,20.95,42.8,25.95,null,{"$f":"S826","v":0},null,{"$f":"U826","v":0},null,{"$f":"W826","v":0},null,0,0,0,0,0,0,0,0]
[null,9781607533993,null,9781607532071,null,"Do You Really Want a Horse?",null,null,null,"Do You Really Want a Pet?",null,null,null,29.95,20.95,42.8,25.95,null,{"$f":"S826","v":0},null,{"$f":"U826","v":0},null,{"$f":"W826","v":0},null,0,0,0,0,0,0,0,0]
[null,9781607538493,null,9781607537502,null,"Do You Really Want a Lizard?",null,null,null,"Do You Really Want a Pet?",null,null,null,29.95,20.95,42.8,25.95,null,{"$f":"S826","v":0},null,{"$f":"U826","v":0},null,{"$f":"W826","v":0},null,0,0,0,0,0,0,0,0]
[null,9781607534006,null,9781607532088,null,"Do You Really Want a Rabbit?",null,null,null,"Do You Really Want a Pet?",null,null,null,29.95,20.95,42.8,25.95,null,{"$f":"S826","v":0},null,{"$f":"U826","v":0},null,{"$f":"W826","v":0},null,0,0,0,0,0,0,0,0]
[null,9781607538509,null,9781607537519,null,"Do You Really Want a Snake?",null,null,null,"Do You Really Want a Pet?",null,null,null,29.95,20.95,42.8,25.95,null,{"$f":"S826","v":0},null,{"$f":"U826","v":0},null,{"$f":"W826","v":0},null,0,0,0,0,0,0,0,0]
[null,9781607538516,null,9781607537526,null,"Do You Really Want a Turtle?",null,null,null,"Do You Really Want a Pet?",null,null,null,29.95,20.95,42.8,25.95,null,{"$f":"S826","v":0},null,{"$f":"U826","v":0},null,{"$f":"W826","v":0},null,0,0,0,0,0,0,0,0]
[]
[null,null,null,null,null,"Complete Series of 4",null,null,null,"Freaky Nature",null,null,null,{"$f":"SUM(N839:N842)","v":131.19999999999999},{"$f":"SUM(O839:O842)","v":91.8},{"$f":"SUM(P839:P842)","v":187.2},{"$f":"SUM(Q839:Q842)","v":111.8}]
[null,9781607538790,null,9781607537809,null,"Mutants in Nature",null,null,null,"Freaky Nature",null,null,null,32.799999999999997,22.95,46.8,{"$f":"O839+5","v":27.95},null,{"$f":"S838","v":0},null,{"$f":"U838","v":0},null,{"$f":"W838","v":0},null,{"$f":"S839","v":0},{"$f":"U839","v":0},{"$f":"W839*2","v":0},{"$f":"Y839+Z839+AA839","v":0},{"$f":"S839*O839","v":0},{"$f":"U839*P839","v":0},{"$f":"W839*Q839","v":0},{"$f":"IF(AH839=FALSE,AC839+AD839+AE839,0)","v":0}]
[null,9781607538806,null,9781607537816,null,"Super Powers in Nature",null,null,null,"Freaky Nature",null,null,null,32.799999999999997,22.95,46.8,{"$f":"O840+5","v":27.95},null,{"$f":"S838","v":0},null,{"$f":"U838","v":0},null,{"$f":"W838","v":0},null,{"$f":"S840","v":0},{"$f":"U840","v":0},{"$f":"W840*2","v":0},{"$f":"Y840+Z840+AA840","v":0},{"$f":"S840*O840","v":0},{"$f":"U840*P840","v":0},{"$f":"W840*Q840","v":0},{"$f":"IF(AH840=FALSE,AC840+AD840+AE840,0)","v":0}]
[null,9781607538813,null,9781607537823,null,"Vampires in Nature",null,null,null,"Freaky Nature",null,null,null,32.799999999999997,22.95,46.8,{"$f":"O841+5","v":27.95},null,{"$f":"S838","v":0},null,{"$f":"U838","v":0},null,{"$f":"W838","v":0},null,{"$f":"S841","v":0},{"$f":"U841","v":0},{"$f":"W841*2","v":0},{"$f":"Y841+Z841+AA841","v":0},{"$f":"S841*O841","v":0},{"$f":"U841*P841","v":0},{"$f":"W841*Q841","v":0},{"$f":"IF(AH841=FALSE,AC841+AD841+AE841,0)","v":0}]
[null,9781607538820,null,9781607537830,null,"Zombies in Nature",null,null,null,"Freaky Nature",null,null,null,32.799999999999997,22.95,46.8,{"$f":"O842+5","v":27.95},null,{"$f":"S838","v":0},null,{"$f":"U838","v":0},null,{"$f":"W838","v":0},null,{"$f":"S842","v":0},{"$f":"U842","v":0},{"$f":"W842*2","v":0},{"$f":"Y842+Z842+AA842","v":0},{"$f":"S842*O842","v":0},{"$f":"U842*P842","v":0},{"$f":"W842*Q842","v":0},{"$f":"IF(AH842=FALSE,AC842+AD842+AE842,0)","v":0}]
[]
[null,null,null,null,null,"Complete Series of 3",null,null,null,"Grow Your Food",null,null,null,{"$f":"SUM(N845:N847)","v":89.85},{"$f":"SUM(O845:O847)","v":62.849999999999994},{"$f":"SUM(P845:P847)","v":128.39999999999998},{"$f":"SUM(Q845:Q847)","v":77.849999999999994}]
[null,9781607539063,null,9781607537397,null,"So You Want to Grow a Pie?",null,null,null,"Grow Your Food",null,null,null,29.95,20.95,42.8,{"$f":"O845+5","v":25.95},null,{"$f":"S844","v":0},null,{"$f":"U844","v":0},null,{"$f":"W844","v":0},null,{"$f":"S845","v":0},{"$f":"U845","v":0},{"$f":"W845*2","v":0},{"$f":"Y845+Z845+AA845","v":0},{"$f":"S845*O845","v":0},{"$f":"U845*P845","v":0},{"$f":"W845*Q845","v":0},{"$f":"IF(AH845=FALSE,AC845+AD845+AE845,0)","v":0}]
[null,9781607539087,null,9781607537410,null,"So You Want to Grow a Salad?",null,null,null,"Grow Your Food",null,null,null,29.95,20.95,42.8,{"$f":"O846+5","v":25.95},null,{"$f":"S844","v":0},null,{"$f":"U844","v":0},null,{"$f":"W844","v":0},null,{"$f":"S846","v":0},{"$f":"U846","v":0},{"$f":"W846*2","v":0},{"$f":"Y846+Z846+AA846","v":0},{"$f":"S846*O846","v":0},{"$f":"U846*P846","v":0},{"$f":"W846*Q846","v":0},{"$f":"IF(AH846=FALSE,AC846+AD846+AE846,0)","v":0}]
[null,9781607539094,null,9781607537427,null,"So You Want to Grow a Taco?",null,null,null,"Grow Your Food",null,null,null,29.95,20.95,42.8,{"$f":"O847+5","v":25.95},null,{"$f":"S844","v":0},null,{"$f":"U844","v":0},null,{"$f":"W844","v":0},null,{"$f":"S847","v":0},{"$f":"U847","v":0},{"$f":"W847*2","v":0},{"$f":"Y847+Z847+AA847","v":0},{"$f":"S847*O847","v":0},{"$f":"U847*P847","v":0},{"$f":"W847*Q847","v":0},{"$f":"IF(AH847=FALSE,AC847+AD847+AE847,0)","v":0}]
[]
[null,null,null,null,null,"Complete Series of 5",null,null,null,"Inside My Body",null,null,null,{"$f":"SUM(N850:N854)","v":149.75},{"$f":"SUM(O850:O854)","v":104.75},{"$f":"SUM(P850:P854)","v":214},{"$f":"SUM(Q850:Q854)","v":129.75}]
[null,9781607538523,null,9781607537533,null,"My Bones",null,null,null,"Inside My Body",null,null,null,29.95,20.95,42.8,{"$f":"O850+5","v":25.95},null,{"$f":"S849","v":0},null,{"$f":"U849","v":0},null,{"$f":"W849","v":0},null,{"$f":"S850","v":0},{"$f":"U850","v":0},{"$f":"W850*2","v":0},{"$f":"Y850+Z850+AA850","v":0},{"$f":"S850*O850","v":0},{"$f":"U850*P850","v":0},{"$f":"W850*Q850","v":0},{"$f":"IF(AH850=FALSE,AC850+AD850+AE850,0)","v":0}]
[null,9781607538530,null,9781607537540,null,"My Brain",null,null,null,"Inside My Body",null,null,null,29.95,20.95,42.8,{"$f":"O851+5","v":25.95},null,{"$f":"S849","v":0},null,{"$f":"U849","v":0},null,{"$f":"W849","v":0},null,{"$f":"S851","v":0},{"$f":"U851","v":0},{"$f":"W851*2","v":0},{"$f":"Y851+Z851+AA851","v":0},{"$f":"S851*O851","v":0},{"$f":"U851*P851","v":0},{"$f":"W851*Q851","v":0},{"$f":"IF(AH851=FALSE,AC851+AD851+AE851,0)","v":0}]
[null,9781607538547,null,9781607537557,null,"My Heart",null,null,null,"Inside My Body",null,null,null,29.95,20.95,42.8,{"$f":"O852+5","v":25.95},null,{"$f":"S849","v":0},null,{"$f":"U849","v":0},null,{"$f":"W849","v":0},null,{"$f":"S852","v":0},{"$f":"U852","v":0},{"$f":"W852*2","v":0},{"$f":"Y852+Z852+AA852","v":0},{"$f":"S852*O852","v":0},{"$f":"U852*P852","v":0},{"$f":"W852*Q852","v":0},{"$f":"IF(AH852=FALSE,AC852+AD852+AE852,0)","v":0}]
[null,9781607538561,null,9781607537571,null,"My Muscles",null,null,null,"Inside My Body",null,null,null,29.95,20.95,42.8,{"$f":"O853+5","v":25.95},null,{"$f":"S849","v":0},null,{"$f":"U849","v":0},null,{"$f":"W849","v":0},null,{"$f":"S853","v":0},{"$f":"U853","v":0},{"$f":"W853*2","v":0},{"$f":"Y853+Z853+AA853","v":0},{"$f":"S853*O853","v":0},{"$f":"U853*P853","v":0},{"$f":"W853*Q853","v":0},{"$f":"IF(AH853=FALSE,AC853+AD853+AE853,0)","v":0}]
[null,9781607538578,null,9781607537588,null,"My Stomach",null,null,null,"Inside My Body",null,null,null,29.95,20.95,42.8,{"$f":"O854+5","v":25.95},null,{"$f":"S849","v":0},null,{"$f":"U849","v":0},null,{"$f":"W849","v":0},null,{"$f":"S854","v":0},{"$f":"U854","v":0},{"$f":"W854*2","v":0},{"$f":"Y854+Z854+AA854","v":0},{"$f":"S854*O854","v":0},{"$f":"U854*P854","v":0},{"$f":"W854*Q854","v":0},{"$f":"IF(AH854=FALSE,AC854+AD854+AE854,0)","v":0}]
[]
[null,null,null,null,null,"Complete Series of 7",null,null,null,"Measuring Time",null,null,null,{"$f":"SUM(N857:N863)","v":189.7},{"$f":"SUM(O857:O863)","v":132.65},{"$f":"SUM(P857:P863)","v":264.60000000000002},{"$f":"SUM(Q857:Q863)","v":167.64999999999998}]
[null,9781607538271,null,9781607537236,null,"How Many Days?",null,null,null,"Measuring Time",null,null,null,27.1,18.95,37.799999999999997,{"$f":"O857+5","v":23.95},null,{"$f":"S856","v":0},null,{"$f":"U856","v":0},null,{"$f":"W856","v":0},null,{"$f":"S857","v":0},{"$f":"U857","v":0},{"$f":"W857*2","v":0},{"$f":"Y857+Z857+AA857","v":0},{"$f":"S857*O857","v":0},{"$f":"U857*P857","v":0},{"$f":"W857*Q857","v":0},{"$f":"IF(AH857=FALSE,AC857+AD857+AE857,0)","v":0}]
[null,9781607538264,null,9781607537229,null,"How Many Hours?",null,null,null,"Measuring Time",null,null,null,27.1,18.95,37.799999999999997,23.95,null,{"$f":"S856","v":0},null,{"$f":"U856","v":0},null,{"$f":"W856","v":0},null,0,0,0,0,0,0,0,0]
[null,9781607538257,null,9781607537212,null,"How Many Minutes?",null,null,null,"Measuring Time",null,null,null,27.1,18.95,37.799999999999997,23.95,null,{"$f":"S856","v":0},null,{"$f":"U856","v":0},null,{"$f":"W856","v":0},null,0,0,0,0,0,0,0,0]
[null,9781607538295,null,9781607537250,null,"How Many Months?",null,null,null,"Measuring Time",null,null,null,27.1,18.95,37.799999999999997,23.95,null,{"$f":"S856","v":0},null,{"$f":"U856","v":0},null,{"$f":"W856","v":0},null,0,0,0,0,0,0,0,0]
[null,9781607538240,null,9781607537205,null,"How Many Seconds?",null,null,null,"Measuring Time",null,null,null,27.1,18.95,37.799999999999997,23.95,null,{"$f":"S856","v":0},null,{"$f":"U856","v":0},null,{"$f":"W856","v":0},null,0,0,0,0,0,0,0,0]
[null,9781607538288,null,9781607537243,null,"How Many Weeks?",null,null,null,"Measuring Time",null,null,null,27.1,18.95,37.799999999999997,23.95,null,{"$f":"S856","v":0},null,{"$f":"U856","v":0},null,{"$f":"W856","v":0},null,0,0,0,0,0,0,0,0]
[null,9781607538301,null,9781607537267,null,"How Many Years?",null,null,null,"Measuring Time",null,null,null,27.1,18.95,37.799999999999997,23.95,null,{"$f":"S856","v":0},null,{"$f":"U856","v":0},null,{"$f":"W856","v":0},null,0,0,0,0,0,0,0,0]
[]
[null,null,null,null,null,"Complete Series of 4",null,null,null,"Money Smarts",null,null,null,{"$f":"SUM(N866:N869)","v":131.19999999999999},{"$f":"SUM(O866:O869)","v":91.8},{"$f":"SUM(P866:P869)","v":187.2},{"$f":"SUM(Q866:Q869)","v":111.8}]
[null,9781607539056,null,9781607537922,null,"Bank Wisely",null,null,null,"Money Smarts",null,null,null,32.799999999999997,22.95,46.8,{"$f":"O866+5","v":27.95},null,{"$f":"S865","v":0},null,{"$f":"U865","v":0},null,{"$f":"W865","v":0},null,{"$f":"S866","v":0},{"$f":"U866","v":0},{"$f":"W866*2","v":0},{"$f":"Y866+Z866+AA866","v":0},{"$f":"S866*O866","v":0},{"$f":"U866*P866","v":0},{"$f":"W866*Q866","v":0},{"$f":"IF(AH866=FALSE,AC866+AD866+AE866,0)","v":0}]
[null,9781607539025,null,9781607537939,null,"Earn Wisely",null,null,null,"Money Smarts",null,null,null,32.799999999999997,22.95,46.8,{"$f":"O867+5","v":27.95},null,{"$f":"S865","v":0},null,{"$f":"U865","v":0},null,{"$f":"W865","v":0},null,{"$f":"S867","v":0},{"$f":"U867","v":0},{"$f":"W867*2","v":0},{"$f":"Y867+Z867+AA867","v":0},{"$f":"S867*O867","v":0},{"$f":"U867*P867","v":0},{"$f":"W867*Q867","v":0},{"$f":"IF(AH867=FALSE,AC867+AD867+AE867,0)","v":0}]
[null,9781607539032,null,9781607537946,null,"Save Wisely",null,null,null,"Money Smarts",null,null,null,32.799999999999997,22.95,46.8,{"$f":"O868+5","v":27.95},null,{"$f":"S865","v":0},null,{"$f":"U865","v":0},null,{"$f":"W865","v":0},null,{"$f":"S868","v":0},{"$f":"U868","v":0},{"$f":"W868*2","v":0},{"$f":"Y868+Z868+AA868","v":0},{"$f":"S868*O868","v":0},{"$f":"U868*P868","v":0},{"$f":"W868*Q868","v":0},{"$f":"IF(AH868=FALSE,AC868+AD868+AE868,0)","v":0}]
[null,9781607539049,null,9781607537953,null,"Spend Wisely",null,null,null,"Money Smarts",null,null,null,32.799999999999997,22.95,46.8,{"$f":"O869+5","v":27.95},null,{"$f":"S865","v":0},null,{"$f":"U865","v":0},null,{"$f":"W865","v":0},null,{"$f":"S869","v":0},{"$f":"U869","v":0},{"$f":"W869*2","v":0},{"$f":"Y869+Z869+AA869","v":0},{"$f":"S869*O869","v":0},{"$f":"U869*P869","v":0},{"$f":"W869*Q869","v":0},{"$f":"IF(AH869=FALSE,AC869+AD869+AE869,0)","v":0}]
[]
[null,null,null,null,null,"Complete Series of 6",null,null,null,"Monstrous Manners",null,null,null,{"$f":"SUM(N872:N877)","v":179.7},{"$f":"SUM(O872:O877)","v":125.7},{"$f":"SUM(P872:P877)","v":256.8},{"$f":"SUM(Q872:Q877)","v":155.69999999999999}]
[null,9781607538431,null,9781607537434,null,"Manners at a Friend's House",null,null,null,"Monstrous Manners",null,null,null,29.95,20.95,42.8,{"$f":"O872+5","v":25.95},null,{"$f":"S871","v":0},null,{"$f":"U871","v":0},null,{"$f":"W871","v":0},null,{"$f":"S872","v":0},{"$f":"U872","v":0},{"$f":"W872*2","v":0},{"$f":"Y872+Z872+AA872","v":0},{"$f":"S872*O872","v":0},{"$f":"U872*P872","v":0},{"$f":"W872*Q872","v":0},{"$f":"IF(AH872=FALSE,AC872+AD872+AE872,0)","v":0}]
[null,9781607538448,null,9781607537441,null,"Manners at a Restaurant",null,null,null,"Monstrous Manners",null,null,null,29.95,20.95,42.8,25.95,null,{"$f":"S871","v":0},null,{"$f":"U871","v":0},null,{"$f":"W871","v":0},null,0,0,0,0,0,0,0,0]
[null,9781607538455,null,9781607537458,null,"Manners at School",null,null,null,"Monstrous Manners",null,null,null,29.95,20.95,42.8,25.95,null,{"$f":"S871","v":0},null,{"$f":"U871","v":0},null,{"$f":"W871","v":0},null,0,0,0,0,0,0,0,0]
[null,9781607539018,null,9781607537465,null,"Manners at the Store",null,null,null,"Monstrous Manners",null,null,null,29.95,20.95,42.8,25.95,null,{"$f":"S871","v":0},null,{"$f":"U871","v":0},null,{"$f":"W871","v":0},null,0,0,0,0,0,0,0,0]
[null,9781607538462,null,9781607537472,null,"Manners on Vacation",null,null,null,"Monstrous Manners",null,null,null,29.95,20.95,42.8,25.95,null,{"$f":"S871","v":0},null,{"$f":"U871","v":0},null,{"$f":"W871","v":0},null,0,0,0,0,0,0,0,0]
[null,9781607538479,null,9781607537489,null,"Manners with Technology",null,null,null,"Monstrous Manners",null,null,null,29.95,20.95,42.8,25.95,null,{"$f":"S871","v":0},null,{"$f":"U871","v":0},null,{"$f":"W871","v":0},null,0,0,0,0,0,0,0,0]
[]
[null,null,null,null,null,"Complete Series of 8",null,null,null,"Poisonous Animals",null,null,null,{"$f":"SUM(N880:N887)","v":262.40000000000003},{"$f":"SUM(O880:O887)","v":183.59999999999997},{"$f":"SUM(P880:P887)","v":374.40000000000003},{"$f":"SUM(Q880:Q887)","v":223.59999999999997}]
[null,9781607538837,null,9781607537847,null,"Black Widow Spiders",null,null,null,"Poisonous Animals",null,null,null,32.799999999999997,22.95,46.8,{"$f":"O880+5","v":27.95},null,{"$f":"S879","v":0},null,{"$f":"U879","v":0},null,{"$f":"W879","v":0},null,{"$f":"S880","v":0},{"$f":"U880","v":0},{"$f":"W880*2","v":0},{"$f":"Y880+Z880+AA880","v":0},{"$f":"S880*O880","v":0},{"$f":"U880*P880","v":0},{"$f":"W880*Q880","v":0},{"$f":"IF(AH880=FALSE,AC880+AD880+AE880,0)","v":0}]
[null,9781607538844,null,9781607537854,null,"Blue Ringed Octopuses",null,null,null,"Poisonous Animals",null,null,null,32.799999999999997,22.95,46.8,27.95,null,{"$f":"S879","v":0},null,{"$f":"U879","v":0},null,{"$f":"W879","v":0},null,0,0,0,0,0,0,0,0]
[null,9781607538851,null,9781607537861,null,"Box Jellyfish",null,null,null,"Poisonous Animals",null,null,null,32.799999999999997,22.95,46.8,27.95,null,{"$f":"S879","v":0},null,{"$f":"U879","v":0},null,{"$f":"W879","v":0},null,0,0,0,0,0,0,0,0]
[null,9781607538868,null,9781607537878,null,"Poison Dart Frogs",null,null,null,"Poisonous Animals",null,null,null,32.799999999999997,22.95,46.8,27.95,null,{"$f":"S879","v":0},null,{"$f":"U879","v":0},null,{"$f":"W879","v":0},null,0,0,0,0,0,0,0,0]
[null,9781607538875,null,9781607537885,null,"Scorpions",null,null,null,"Poisonous Animals",null,null,null,32.799999999999997,22.95,46.8,27.95,null,{"$f":"S879","v":0},null,{"$f":"U879","v":0},null,{"$f":"W879","v":0},null,0,0,0,0,0,0,0,0]
[null,9781607538882,null,9781607537892,null,"Stingrays",null,null,null,"Poisonous Animals",null,null,null,32.799999999999997,22.95,46.8,27.95,null,{"$f":"S879","v":0},null,{"$f":"U879","v":0},null,{"$f":"W879","v":0},null,0,0,0,0,0,0,0,0]
[null,9781607538899,null,9781607537908,null,"Stonefish",null,null,null,"Poisonous Animals",null,null,null,32.799999999999997,22.95,46.8,27.95,null,{"$f":"S879","v":0},null,{"$f":"U879","v":0},null,{"$f":"W879","v":0},null,0,0,0,0,0,0,0,0]
[null,9781607538905,null,9781607537915,null,"Taipans",null,null,null,"Poisonous Animals",null,null,null,32.799999999999997,22.95,46.8,27.95,null,{"$f":"S879","v":0},null,{"$f":"U879","v":0},null,{"$f":"W879","v":0},null,0,0,0,0,0,0,0,0]
[]
[null,null,null,null,null,"Complete Series of 6",null,null,null,"Pro Sports Superstars (NBA)",null,null,null,{"$f":"SUM(N890:N895)","v":179.7},{"$f":"SUM(O890:O895)","v":125.7},{"$f":"SUM(P890:P895)","v":256.8},{"$f":"SUM(Q890:Q895)","v":155.69999999999999}]
[null,9781607538646,null,9781607537656,null,"Superstars of the Boston Celtics",null,null,null,"Pro Sports Superstars (NBA)",null,null,null,29.95,20.95,42.8,{"$f":"O890+5","v":25.95},null,{"$f":"S889","v":0},null,{"$f":"U889","v":0},null,{"$f":"W889","v":0},null,{"$f":"S890","v":0},{"$f":"U890","v":0},{"$f":"W890*2","v":0},{"$f":"Y890+Z890+AA890","v":0},{"$f":"S890*O890","v":0},{"$f":"U890*P890","v":0},{"$f":"W890*Q890","v":0},{"$f":"IF(AH890=FALSE,AC890+AD890+AE890,0)","v":0}]
[null,9781607538653,null,9781607537663,null,"Superstars of the Chicago Bulls",null,null,null,"Pro Sports Superstars (NBA)",null,null,null,29.95,20.95,42.8,25.95,null,{"$f":"S889","v":0},null,{"$f":"U889","v":0},null,{"$f":"W889","v":0},null,0,0,0,0,0,0,0,0]
[null,9781607538660,null,9781607537670,null,"Superstars of the Cleveland Cavaliers",null,null,null,"Pro Sports Superstars (NBA)",null,null,null,29.95,20.95,42.8,25.95,null,{"$f":"S889","v":0},null,{"$f":"U889","v":0},null,{"$f":"W889","v":0},null,0,0,0,0,0,0,0,0]
[null,9781607538684,null,9781607537694,null,"Superstars of the Los Angeles Lakers",null,null,null,"Pro Sports Superstars (NBA)",null,null,null,29.95,20.95,42.8,25.95,null,{"$f":"S889","v":0},null,{"$f":"U889","v":0},null,{"$f":"W889","v":0},null,0,0,0,0,0,0,0,0]
[null,9781607538707,null,9781607537717,null,"Superstars of the New York Knicks",null,null,null,"Pro Sports Superstars (NBA)",null,null,null,29.95,20.95,42.8,25.95,null,{"$f":"S889","v":0},null,{"$f":"U889","v":0},null,{"$f":"W889","v":0},null,0,0,0,0,0,0,0,0]
[null,9781607538677,null,9781607537687,null,"Superstars of the Oklahoma City Thunder",null,null,null,"Pro Sports Superstars (NBA)",null,null,null,29.95,20.95,42.8,25.95,null,{"$f":"S889","v":0},null,{"$f":"U889","v":0},null,{"$f":"W889","v":0},null,0,0,0,0,0,0,0,0]
[]
[null,null,null,null,null,"Complete Series of 6",null,null,null,"Punctuation Station",null,null,null,{"$f":"SUM(N898:N903)","v":162.6},{"$f":"SUM(O898:O903)","v":113.7},{"$f":"SUM(P898:P903)","v":226.8},{"$f":"SUM(Q898:Q903)","v":143.69999999999999}]
[null,9781607538318,null,9781607537274,null,"\"What Did He Say?\"",null,null,null,"Punctuation Station",null,null,null,27.1,18.95,37.799999999999997,{"$f":"O898+5","v":23.95},null,{"$f":"S897","v":0},null,{"$f":"U897","v":0},null,{"$f":"W897","v":0},null,{"$f":"S898","v":0},{"$f":"U898","v":0},{"$f":"W898*2","v":0},{"$f":"Y898+Z898+AA898","v":0},{"$f":"S898*O898","v":0},{"$f":"U898*P898","v":0},{"$f":"W898*Q898","v":0},{"$f":"IF(AH898=FALSE,AC898+AD898+AE898,0)","v":0}]
[null,9781607538349,null,9781607537304,null,"Stop Right There.",null,null,null,"Punctuation Station",null,null,null,27.1,18.95,37.799999999999997,23.95,null,{"$f":"S897","v":0},null,{"$f":"U897","v":0},null,{"$f":"W897","v":0},null,0,0,0,0,0,0,0,0]
[null,9781607538356,null,9781607537311,null,"Take a Pause, Paul",null,null,null,"Punctuation Station",null,null,null,27.1,18.95,37.799999999999997,23.95,null,{"$f":"S897","v":0},null,{"$f":"U897","v":0},null,{"$f":"W897","v":0},null,0,0,0,0,0,0,0,0]
[null,9781607538325,null,9781607537281,null,"This is Exciting!",null,null,null,"Punctuation Station",null,null,null,27.1,18.95,37.799999999999997,23.95,null,{"$f":"S897","v":0},null,{"$f":"U897","v":0},null,{"$f":"W897","v":0},null,0,0,0,0,0,0,0,0]
[null,9781607538332,null,9781607537298,null,"We're Going to the Smiths' House",null,null,null,"Punctuation Station",null,null,null,27.1,18.95,37.799999999999997,23.95,null,{"$f":"S897","v":0},null,{"$f":"U897","v":0},null,{"$f":"W897","v":0},null,0,0,0,0,0,0,0,0]
[null,9781607538363,null,9781607537328,null,"What Is That?",null,null,null,"Punctuation Station",null,null,null,27.1,18.95,37.799999999999997,23.95,null,{"$f":"S897","v":0},null,{"$f":"U897","v":0},null,{"$f":"W897","v":0},null,0,0,0,0,0,0,0,0]
[]
[null,null,null,null,null,"Complete Series of 10",null,null,null,"Unexplained: What's the Evidence?",null,null,null,{"$f":"SUM(N906:N915)","v":328.00000000000006},{"$f":"SUM(O906:O915)","v":229.49999999999994},{"$f":"SUM(P906:P915)","v":468.00000000000006},{"$f":"SUM(Q906:Q915)","v":279.49999999999994}]
[null,9781607534310,null,9781607533832,null,"Are Aliens Real?",null,null,null,"Unexplained: What's the Evidence?",null,null,null,32.799999999999997,22.95,46.8,{"$f":"O906+5","v":27.95},null,{"$f":"S905","v":0},null,{"$f":"U905","v":0},null,{"$f":"W905","v":0},null,{"$f":"S906","v":0},{"$f":"U906","v":0},{"$f":"W906*2","v":0},{"$f":"Y906+Z906+AA906","v":0},{"$f":"S906*O906","v":0},{"$f":"U906*P906","v":0},{"$f":"W906*Q906","v":0},{"$f":"IF(AH906=FALSE,AC906+AD906+AE906,0)","v":0}]
[null,9781607538936,null,9781607538042,null,"Are Crop Circles Real?",null,null,null,"Unexplained: What's the Evidence?",null,null,null,32.799999999999997,22.95,46.8,{"$f":"O907+5","v":27.95},null,{"$f":"S905","v":0},null,{"$f":"U905","v":0},null,{"$f":"W905","v":0},null,0,0,0,0,0,0,0,0]
[null,9781607534327,null,9781607533849,null,"Are Ghosts Real?",null,null,null,"Unexplained: What's the Evidence?",null,null,null,32.799999999999997,22.95,46.8,27.95,null,{"$f":"S905","v":0},null,{"$f":"U905","v":0},null,{"$f":"W905","v":0},null,0,0,0,0,0,0,0,0]
[null,9781607534334,null,9781607533856,null,"Are Haunted Houses Real?",null,null,null,"Unexplained: What's the Evidence?",null,null,null,32.799999999999997,22.95,46.8,27.95,null,{"$f":"S905","v":0},null,{"$f":"U905","v":0},null,{"$f":"W905","v":0},null,0,0,0,0,0,0,0,0]
[null,9781607534341,null,9781607533863,null,"Are UFOs Real?",null,null,null,"Unexplained: What's the Evidence?",null,null,null,32.799999999999997,22.95,46.8,27.95,null,{"$f":"S905","v":0},null,{"$f":"U905","v":0},null,{"$f":"W905","v":0},null,0,0,0,0,0,0,0,0]
[null,9781607538912,null,9781607538028,null,"Is Atlantis Real?",null,null,null,"Unexplained: What's the Evidence?",null,null,null,32.799999999999997,22.95,46.8,27.95,null,{"$f":"S905","v":0},null,{"$f":"U905","v":0},null,{"$f":"W905","v":0},null,0,0,0,0,0,0,0,0]
[null,9781607534358,null,9781607533870,null,"Is Bigfoot Real?",null,null,null,"Unexplained: What's the Evidence?",null,null,null,32.799999999999997,22.95,46.8,27.95,null,{"$f":"S905","v":0},null,{"$f":"U905","v":0},null,{"$f":"W905","v":0},null,0,0,0,0,0,0,0,0]
[null,9781607534365,null,9781607533887,null,"Is ESP Real?",null,null,null,"Unexplained: What's the Evidence?",null,null,null,32.799999999999997,22.95,46.8,27.95,null,{"$f":"S905","v":0},null,{"$f":"U905","v":0},null,{"$f":"W905","v":0},null,0,0,0,0,0,0,0,0]
[null,9781607538929,null,9781607538035,null,"Is the Bermuda Triangle Real?",null,null,null,"Unexplained: What's the Evidence?",null,null,null,32.799999999999997,22.95,46.8,27.95,null,{"$f":"S905","v":0},null,{"$f":"U905","v":0},null,{"$f":"W905","v":0},null,0,0,0,0,0,0,0,0]
[null,9781607538943,null,9781607538059,null,"Is the Loch Ness Monster Real?",null,null,null,"Unexplained: What's the Evidence?",null,null,null,32.799999999999997,22.95,46.8,27.95,null,{"$f":"S905","v":0},null,{"$f":"U905","v":0},null,{"$f":"W905","v":0},null,0,0,0,0,0,0,0,0]
[]
[null,null,null,null,null,"Complete Series of 6",null,null,null,"Vowels",null,null,null,{"$f":"SUM(N918:N923)","v":162.6},{"$f":"SUM(O918:O923)","v":113.7},{"$f":"SUM(P918:P923)","v":226.8},{"$f":"SUM(Q918:Q923)","v":143.69999999999999}]
[null,9781607538165,null,9781607537120,null,"What Good Is a U?",null,null,null,"Vowels",null,null,null,27.1,18.95,37.799999999999997,{"$f":"O918+5","v":23.95},null,{"$f":"S917","v":0},null,{"$f":"U917","v":0},null,{"$f":"W917","v":0},null,{"$f":"S918","v":0},{"$f":"U918","v":0},{"$f":"W918*2","v":0},{"$f":"Y918+Z918+AA918","v":0},{"$f":"S918*O918","v":0},{"$f":"U918*P918","v":0},{"$f":"W918*Q918","v":0},{"$f":"IF(AH918=FALSE,AC918+AD918+AE918,0)","v":0}]
[null,9781607538172,null,9781607537137,null,"What Good Is a Y?",null,null,null,"Vowels",null,null,null,27.1,18.95,37.799999999999997,23.95,null,{"$f":"S917","v":0},null,{"$f":"U917","v":0},null,{"$f":"W917","v":0},null,0,0,0,0,0,0,0,0]
[null,9781607538127,null,9781607537083,null,"What Good Is an A?",null,null,null,"Vowels",null,null,null,27.1,18.95,37.799999999999997,23.95,null,{"$f":"S917","v":0},null,{"$f":"U917","v":0},null,{"$f":"W917","v":0},null,0,0,0,0,0,0,0,0]
[null,9781607538134,null,9781607537090,null,"What Good Is an E?",null,null,null,"Vowels",null,null,null,27.1,18.95,37.799999999999997,23.95,null,{"$f":"S917","v":0},null,{"$f":"U917","v":0},null,{"$f":"W917","v":0},null,0,0,0,0,0,0,0,0]
[null,9781607538141,null,9781607537106,null,"What Good Is an I?",null,null,null,"Vowels",null,null,null,27.1,18.95,37.799999999999997,23.95,null,{"$f":"S917","v":0},null,{"$f":"U917","v":0},null,{"$f":"W917","v":0},null,0,0,0,0,0,0,0,0]
[null,9781607538158,null,9781607537113,null,"What Good Is an O?",null,null,null,"Vowels",null,null,null,27.1,18.95,37.799999999999997,23.95,null,{"$f":"S917","v":0},null,{"$f":"U917","v":0},null,{"$f":"W917","v":0},null,0,0,0,0,0,0,0,0]
[]
[null,null,null,null,null,"Complete Series of 6",null,null,null,"Wild Bears",null,null,null,{"$f":"SUM(N926:N931)","v":179.7},{"$f":"SUM(O926:O931)","v":125.7},{"$f":"SUM(P926:P931)","v":256.8},{"$f":"SUM(Q926:Q931)","v":155.69999999999999}]
[null,9781607538721,null,9781607537731,null,"Black Bears",null,null,null,"Wild Bears",null,null,null,29.95,20.95,42.8,{"$f":"O926+5","v":25.95},null,{"$f":"S925","v":0},null,{"$f":"U925","v":0},null,{"$f":"W925","v":0},null,{"$f":"S926","v":0},{"$f":"U926","v":0},{"$f":"W926*2","v":0},{"$f":"Y926+Z926+AA926","v":0},{"$f":"S926*O926","v":0},{"$f":"U926*P926","v":0},{"$f":"W926*Q926","v":0},{"$f":"IF(AH926=FALSE,AC926+AD926+AE926,0)","v":0}]
[null,9781607538738,null,9781607537748,null,"Giant Pandas",null,null,null,"Wild Bears",null,null,null,29.95,20.95,42.8,25.95,null,{"$f":"S925","v":0},null,{"$f":"U925","v":0},null,{"$f":"W925","v":0},null,0,0,0,0,0,0,0,0]
[null,9781607538745,null,9781607537755,null,"Grizzly Bears",null,null,null,"Wild Bears",null,null,null,29.95,20.95,42.8,25.95,null,{"$f":"S925","v":0},null,{"$f":"U925","v":0},null,{"$f":"W925","v":0},null,0,0,0,0,0,0,0,0]
[null,9781607538769,null,9781607537779,null,"Sloth Bears",null,null,null,"Wild Bears",null,null,null,29.95,20.95,42.8,25.95,null,{"$f":"S925","v":0},null,{"$f":"U925","v":0},null,{"$f":"W925","v":0},null,0,0,0,0,0,0,0,0]
[null,9781607538776,null,9781607537786,null,"Spectacled Bears",null,null,null,"Wild Bears",null,null,null,29.95,20.95,42.8,25.95,null,{"$f":"S925","v":0},null,{"$f":"U925","v":0},null,{"$f":"W925","v":0},null,0,0,0,0,0,0,0,0]
[null,9781607538783,null,9781607537793,null,"Sun Bears ",null,null,null,"Wild Bears",null,null,null,29.95,20.95,42.8,25.95,null,{"$f":"S925","v":0},null,{"$f":"U925","v":0},null,{"$f":"W925","v":0},null,0,0,0,0,0,0,0,0]
[]
[null,null,null,null,null,"Complete Series of 3",null,null,null,"Ancient Wonders",null,null,null,{"$f":"SUM(N934:N936)","v":98.399999999999991},{"$f":"SUM(O934:O936)","v":68.849999999999994},{"$f":"SUM(P934:P936)","v":140.39999999999998},{"$f":"SUM(Q934:Q936)","v":83.85}]
[null,9781607536819,null,9781607534662,null,"Egyptian Pyramids",null,null,null,"Ancient Wonders",null,null,null,32.799999999999997,22.95,46.8,{"$f":"O934+5","v":27.95},null,{"$f":"S933","v":0},null,{"$f":"U933","v":0},null,{"$f":"W933","v":0},null,{"$f":"S934","v":0},{"$f":"U934","v":0},{"$f":"W934*2","v":0},{"$f":"Y934+Z934+AA934","v":0},{"$f":"S934*O934","v":0},{"$f":"U934*P934","v":0},{"$f":"W934*Q934","v":0},{"$f":"IF(AH934=FALSE,AC934+AD934+AE934,0)","v":0}]
[null,9781607536826,null,9781607534679,null,"Great Wall of China",null,null,null,"Ancient Wonders",null,null,null,32.799999999999997,22.95,46.8,27.95,null,{"$f":"S933","v":0},null,{"$f":"U933","v":0},null,{"$f":"W933","v":0},null,0,0,0,0,0,0,0,0]
[null,9781607536857,null,9781607534709,null,"Taj Mahal",null,null,null,"Ancient Wonders",null,null,null,32.799999999999997,22.95,46.8,27.95,null,{"$f":"S933","v":0},null,{"$f":"U933","v":0},null,{"$f":"W933","v":0},null,0,0,0,0,0,0,0,0]
[]
[null,null,null,null,null,"Complete Series of 6",null,null,null,"Animal Kingdom",null,null,null,{"$f":"SUM(N939:N944)","v":196.8},{"$f":"SUM(O939:O944)","v":137.69999999999999},{"$f":"SUM(P939:P944)","v":280.8},{"$f":"SUM(Q939:Q944)","v":167.7}]
[null,9781607536185,null,9781607534716,null,"Amphibians",null,null,null,"Animal Kingdom",null,null,null,32.799999999999997,22.95,46.8,{"$f":"O939+5","v":27.95},null,{"$f":"S938","v":0},null,{"$f":"U938","v":0},null,{"$f":"W938","v":0},null,{"$f":"S939","v":0},{"$f":"U939","v":0},{"$f":"W939*2","v":0},{"$f":"Y939+Z939+AA939","v":0},{"$f":"S939*O939","v":0},{"$f":"U939*P939","v":0},{"$f":"W939*Q939","v":0},{"$f":"IF(AH939=FALSE,AC939+AD939+AE939,0)","v":0}]
[null,9781607536192,null,9781607534723,null,"Birds",null,null,null,"Animal Kingdom",null,null,null,32.799999999999997,22.95,46.8,27.95,null,{"$f":"S938","v":0},null,{"$f":"U938","v":0},null,{"$f":"W938","v":0},null,0,0,0,0,0,0,0,0]
[null,9781607536208,null,9781607534730,null,"Fish",null,null,null,"Animal Kingdom",null,null,null,32.799999999999997,22.95,46.8,27.95,null,{"$f":"S938","v":0},null,{"$f":"U938","v":0},null,{"$f":"W938","v":0},null,0,0,0,0,0,0,0,0]
[null,9781607536215,null,9781607534747,null,"Insects",null,null,null,"Animal Kingdom",null,null,null,32.799999999999997,22.95,46.8,27.95,null,{"$f":"S938","v":0},null,{"$f":"U938","v":0},null,{"$f":"W938","v":0},null,0,0,0,0,0,0,0,0]
[null,9781607536222,null,9781607534754,null,"Mammals",null,null,null,"Animal Kingdom",null,null,null,32.799999999999997,22.95,46.8,27.95,null,{"$f":"S938","v":0},null,{"$f":"U938","v":0},null,{"$f":"W938","v":0},null,0,0,0,0,0,0,0,0]
[null,9781607536239,null,9781607534761,null,"Reptiles",null,null,null,"Animal Kingdom",null,null,null,32.799999999999997,22.95,46.8,27.95,null,{"$f":"S938","v":0},null,{"$f":"U938","v":0},null,{"$f":"W938","v":0},null,0,0,0,0,0,0,0,0]
[]
[null,null,null,null,null,"Complete Series of 5",null,null,null,"Be Safe!",null,null,null,{"$f":"SUM(N947:N951)","v":149.75},{"$f":"SUM(O947:O951)","v":104.75},{"$f":"SUM(P947:P951)","v":214},{"$f":"SUM(Q947:Q951)","v":129.75}]
[null,9781607536598,null,9781607534440,null,"Be Safe around Fire",null,null,null,"Be Safe!",null,null,null,29.95,20.95,42.8,{"$f":"O947+5","v":25.95},null,{"$f":"S946","v":0},null,{"$f":"U946","v":0},null,{"$f":"W946","v":0},null,{"$f":"S947","v":0},{"$f":"U947","v":0},{"$f":"W947*2","v":0},{"$f":"Y947+Z947+AA947","v":0},{"$f":"S947*O947","v":0},{"$f":"U947*P947","v":0},{"$f":"W947*Q947","v":0},{"$f":"IF(AH947=FALSE,AC947+AD947+AE947,0)","v":0}]
[null,9781607536628,null,9781607534471,null,"Be Safe around Strangers",null,null,null,"Be Safe!",null,null,null,29.95,20.95,42.8,{"$f":"O948+5","v":25.95},null,{"$f":"S946","v":0},null,{"$f":"U946","v":0},null,{"$f":"W946","v":0},null,{"$f":"S948","v":0},{"$f":"U948","v":0},{"$f":"W948*2","v":0},{"$f":"Y948+Z948+AA948","v":0},{"$f":"S948*O948","v":0},{"$f":"U948*P948","v":0},{"$f":"W948*Q948","v":0},{"$f":"IF(AH948=FALSE,AC948+AD948+AE948,0)","v":0}]
[null,9781607536635,null,9781607534488,null,"Be Safe around Water",null,null,null,"Be Safe!",null,null,null,29.95,20.95,42.8,{"$f":"O949+5","v":25.95},null,{"$f":"S946","v":0},null,{"$f":"U946","v":0},null,{"$f":"W946","v":0},null,{"$f":"S949","v":0},{"$f":"U949","v":0},{"$f":"W949*2","v":0},{"$f":"Y949+Z949+AA949","v":0},{"$f":"S949*O949","v":0},{"$f":"U949*P949","v":0},{"$f":"W949*Q949","v":0},{"$f":"IF(AH949=FALSE,AC949+AD949+AE949,0)","v":0}]
[null,9781607536604,null,9781607534457,null,"Be Safe on the Internet",null,null,null,"Be Safe!",null,null,null,29.95,20.95,42.8,{"$f":"O950+5","v":25.95},null,{"$f":"S946","v":0},null,{"$f":"U946","v":0},null,{"$f":"W946","v":0},null,{"$f":"S950","v":0},{"$f":"U950","v":0},{"$f":"W950*2","v":0},{"$f":"Y950+Z950+AA950","v":0},{"$f":"S950*O950","v":0},{"$f":"U950*P950","v":0},{"$f":"W950*Q950","v":0},{"$f":"IF(AH950=FALSE,AC950+AD950+AE950,0)","v":0}]
[null,9781607536581,null,9781607534433,null,"Be Safe on Your Bike",null,null,null,"Be Safe!",null,null,null,29.95,20.95,42.8,{"$f":"O951+5","v":25.95},null,{"$f":"S946","v":0},null,{"$f":"U946","v":0},null,{"$f":"W946","v":0},null,{"$f":"S951","v":0},{"$f":"U951","v":0},{"$f":"W951*2","v":0},{"$f":"Y951+Z951+AA951","v":0},{"$f":"S951*O951","v":0},{"$f":"U951*P951","v":0},{"$f":"W951*Q951","v":0},{"$f":"IF(AH951=FALSE,AC951+AD951+AE951,0)","v":0}]
[]
[null,null,null,null,null,"Complete Series of 6",null,null,null,"Do You Really Want to Visit...? (Biomes)",null,null,null,{"$f":"SUM(N954:N959)","v":179.7},{"$f":"SUM(O954:O959)","v":125.7},{"$f":"SUM(P954:P959)","v":256.8},{"$f":"SUM(Q954:Q959)","v":155.69999999999999}]
[null,9781607536642,null,9781607534495,null,"Do You Really Want to Visit a Coral Reef?",null,null,null,"Do You Really Want to Visit...? (Biomes)",null,null,null,29.95,20.95,42.8,{"$f":"O954+5","v":25.95},null,{"$f":"S953","v":0},null,{"$f":"U953","v":0},null,{"$f":"W953","v":0},null,{"$f":"S954","v":0},{"$f":"U954","v":0},{"$f":"W954*2","v":0},{"$f":"Y954+Z954+AA954","v":0},{"$f":"S954*O954","v":0},{"$f":"U954*P954","v":0},{"$f":"W954*Q954","v":0},{"$f":"IF(AH954=FALSE,AC954+AD954+AE954,0)","v":0}]
[null,9781607536659,null,9781607534501,null,"Do You Really Want to Visit a Desert?",null,null,null,"Do You Really Want to Visit...? (Biomes)",null,null,null,29.95,20.95,42.8,25.95,null,{"$f":"S953","v":0},null,{"$f":"U953","v":0},null,{"$f":"W953","v":0},null,0,0,0,0,0,0,0,0]
[null,9781607536673,null,9781607534525,null,"Do You Really Want to Visit a Prairie?",null,null,null,"Do You Really Want to Visit...? (Biomes)",null,null,null,29.95,20.95,42.8,25.95,null,{"$f":"S953","v":0},null,{"$f":"U953","v":0},null,{"$f":"W953","v":0},null,0,0,0,0,0,0,0,0]
[null,9781607536680,null,9781607534532,null,"Do You Really Want to Visit a Rainforest?",null,null,null,"Do You Really Want to Visit...? (Biomes)",null,null,null,29.95,20.95,42.8,25.95,null,{"$f":"S953","v":0},null,{"$f":"U953","v":0},null,{"$f":"W953","v":0},null,0,0,0,0,0,0,0,0]
[null,9781607536666,null,9781607534518,null,"Do You Really Want to Visit a Temperate Forest?",null,null,null,"Do You Really Want to Visit...? (Biomes)",null,null,null,29.95,20.95,42.8,25.95,null,{"$f":"S953","v":0},null,{"$f":"U953","v":0},null,{"$f":"W953","v":0},null,0,0,0,0,0,0,0,0]
[null,9781607536697,null,9781607534549,null,"Do You Really Want to Visit a Wetland?",null,null,null,"Do You Really Want to Visit...? (Biomes)",null,null,null,29.95,20.95,42.8,25.95,null,{"$f":"S953","v":0},null,{"$f":"U953","v":0},null,{"$f":"W953","v":0},null,0,0,0,0,0,0,0,0]
[]
[null,null,null,null,null,"Complete Series of 4",null,null,null,"Healthy Me!",null,null,null,{"$f":"SUM(N962:N965)","v":119.8},{"$f":"SUM(O962:O965)","v":83.8},{"$f":"SUM(P962:P965)","v":171.2},{"$f":"SUM(Q962:Q965)","v":103.8}]
[null,9781607536864,null,9781607535867,null,"My Body Needs Exercise",null,null,null,"Healthy Me!",null,null,null,29.95,20.95,42.8,{"$f":"O962+5","v":25.95},null,{"$f":"S961","v":0},null,{"$f":"U961","v":0},null,{"$f":"W961","v":0},null,{"$f":"S962","v":0},{"$f":"U962","v":0},{"$f":"W962*2","v":0},{"$f":"Y962+Z962+AA962","v":0},{"$f":"S962*O962","v":0},{"$f":"U962*P962","v":0},{"$f":"W962*Q962","v":0},{"$f":"IF(AH962=FALSE,AC962+AD962+AE962,0)","v":0}]
[null,9781607536871,null,9781607535874,null,"My Body Needs Food",null,null,null,"Healthy Me!",null,null,null,29.95,20.95,42.8,{"$f":"O963+5","v":25.95},null,{"$f":"S961","v":0},null,{"$f":"U961","v":0},null,{"$f":"W961","v":0},null,{"$f":"S963","v":0},{"$f":"U963","v":0},{"$f":"W963*2","v":0},{"$f":"Y963+Z963+AA963","v":0},{"$f":"S963*O963","v":0},{"$f":"U963*P963","v":0},{"$f":"W963*Q963","v":0},{"$f":"IF(AH963=FALSE,AC963+AD963+AE963,0)","v":0}]
[null,9781607536888,null,9781607535881,null,"My Body Needs Rest",null,null,null,"Healthy Me!",null,null,null,29.95,20.95,42.8,{"$f":"O964+5","v":25.95},null,{"$f":"S961","v":0},null,{"$f":"U961","v":0},null,{"$f":"W961","v":0},null,{"$f":"S964","v":0},{"$f":"U964","v":0},{"$f":"W964*2","v":0},{"$f":"Y964+Z964+AA964","v":0},{"$f":"S964*O964","v":0},{"$f":"U964*P964","v":0},{"$f":"W964*Q964","v":0},{"$f":"IF(AH964=FALSE,AC964+AD964+AE964,0)","v":0}]
[null,9781607536895,null,9781607535898,null,"My Body Needs to Be Clean",null,null,null,"Healthy Me!",null,null,null,29.95,20.95,42.8,{"$f":"O965+5","v":25.95},null,{"$f":"S961","v":0},null,{"$f":"U961","v":0},null,{"$f":"W961","v":0},null,{"$f":"S965","v":0},{"$f":"U965","v":0},{"$f":"W965*2","v":0},{"$f":"Y965+Z965+AA965","v":0},{"$f":"S965*O965","v":0},{"$f":"U965*P965","v":0},{"$f":"W965*Q965","v":0},{"$f":"IF(AH965=FALSE,AC965+AD965+AE965,0)","v":0}]
[]
[null,null,null,null,null,"Complete Series of 6",null,null,null,"Hear Homophones Here",null,null,null,{"$f":"SUM(N968:N973)","v":162.6},{"$f":"SUM(O968:O973)","v":113.7},{"$f":"SUM(P968:P973)","v":226.8},{"$f":"SUM(Q968:Q973)","v":143.69999999999999}]
[null,9781607536550,null,9781607535713,null,"A Pair of Pears",null,null,null,"Hear Homophones Here",null,null,null,27.1,18.95,37.799999999999997,{"$f":"O968+5","v":23.95},null,{"$f":"S967","v":0},null,{"$f":"U967","v":0},null,{"$f":"W967","v":0},null,{"$f":"S968","v":0},{"$f":"U968","v":0},{"$f":"W968*2","v":0},{"$f":"Y968+Z968+AA968","v":0},{"$f":"S968*O968","v":0},{"$f":"U968*P968","v":0},{"$f":"W968*Q968","v":0},{"$f":"IF(AH968=FALSE,AC968+AD968+AE968,0)","v":0}]
[null,9781607536529,null,9781607535683,null,"Are You a Ewe?",null,null,null,"Hear Homophones Here",null,null,null,27.1,18.95,37.799999999999997,23.95,null,{"$f":"S967","v":0},null,{"$f":"U967","v":0},null,{"$f":"W967","v":0},null,0,0,0,0,0,0,0,0]
[null,9781607536536,null,9781607535690,null,"Can You Be a Bee?",null,null,null,"Hear Homophones Here",null,null,null,27.1,18.95,37.799999999999997,23.95,null,{"$f":"S967","v":0},null,{"$f":"U967","v":0},null,{"$f":"W967","v":0},null,0,0,0,0,0,0,0,0]
[null,9781607536543,null,9781607535706,null,"New Gnu Knew, The",null,null,null,"Hear Homophones Here",null,null,null,27.1,18.95,37.799999999999997,23.95,null,{"$f":"S967","v":0},null,{"$f":"U967","v":0},null,{"$f":"W967","v":0},null,0,0,0,0,0,0,0,0]
[null,9781607536567,null,9781607535720,null,"Rows of Roses",null,null,null,"Hear Homophones Here",null,null,null,27.1,18.95,37.799999999999997,23.95,null,{"$f":"S967","v":0},null,{"$f":"U967","v":0},null,{"$f":"W967","v":0},null,0,0,0,0,0,0,0,0]
[null,9781607536574,null,9781607535737,null,"They Won One!",null,null,null,"Hear Homophones Here",null,null,null,27.1,18.95,37.799999999999997,23.95,null,{"$f":"S967","v":0},null,{"$f":"U967","v":0},null,{"$f":"W967","v":0},null,0,0,0,0,0,0,0,0]
[]
[null,null,null,null,null,"Complete Series of 6",null,null,null,"Living With…",null,null,null,{"$f":"SUM(N976:N981)","v":196.8},{"$f":"SUM(O976:O981)","v":137.69999999999999},{"$f":"SUM(P976:P981)","v":280.8},{"$f":"SUM(Q976:Q981)","v":167.7}]
[null,9781607536901,null,9781607534778,null,"Allergies",null,null,null,"Living With…",null,null,null,32.799999999999997,22.95,46.8,{"$f":"O976+5","v":27.95},null,{"$f":"S975","v":0},null,{"$f":"U975","v":0},null,{"$f":"W975","v":0},null,{"$f":"S976","v":0},{"$f":"U976","v":0},{"$f":"W976*2","v":0},{"$f":"Y976+Z976+AA976","v":0},{"$f":"S976*O976","v":0},{"$f":"U976*P976","v":0},{"$f":"W976*Q976","v":0},{"$f":"IF(AH976=FALSE,AC976+AD976+AE976,0)","v":0}]
[null,9781607536918,null,9781607534785,null,"Asthma",null,null,null,"Living With…",null,null,null,32.799999999999997,22.95,46.8,27.95,null,{"$f":"S975","v":0},null,{"$f":"U975","v":0},null,{"$f":"W975","v":0},null,0,0,0,0,0,0,0,0]
[null,null,null,9781607534792,null,"Autism",null,null,null,"Living With…",null,null,null,32.799999999999997,22.95,46.8,27.95,null,{"$f":"S975","v":0},null,{"$f":"U975","v":0},null,{"$f":"W975","v":0},null,0,0,0,0,0,0,0,0]
[null,9781607536956,null,9781607534822,null,"Cerebral Palsy",null,null,null,"Living With…",null,null,null,32.799999999999997,22.95,46.8,27.95,null,{"$f":"S975","v":0},null,{"$f":"U975","v":0},null,{"$f":"W975","v":0},null,0,0,0,0,0,0,0,0]
[null,9781607536932,null,9781607534808,null,"Diabetes",null,null,null,"Living With…",null,null,null,32.799999999999997,22.95,46.8,27.95,null,{"$f":"S975","v":0},null,{"$f":"U975","v":0},null,{"$f":"W975","v":0},null,0,0,0,0,0,0,0,0]
[null,9781607536949,null,9781607534815,null,"Down Syndrome",null,null,null,"Living With…",null,null,null,32.799999999999997,22.95,46.8,27.95,null,{"$f":"S975","v":0},null,{"$f":"U975","v":0},null,{"$f":"W975","v":0},null,0,0,0,0,0,0,0,0]
[]
[null,null,null,null,null,"Complete Series of 6",null,null,null,"Lizards",null,null,null,{"$f":"SUM(N984:N989)","v":196.8},{"$f":"SUM(O984:O989)","v":137.69999999999999},{"$f":"SUM(P984:P989)","v":280.8},{"$f":"SUM(Q984:Q989)","v":167.7}]
[null,9781607536963,null,9781607534839,null,"Bearded Dragons",null,null,null,"Lizards",null,null,null,32.799999999999997,22.95,46.8,{"$f":"O984+5","v":27.95},null,{"$f":"S983","v":0},null,{"$f":"U983","v":0},null,{"$f":"W983","v":0},null,{"$f":"S984","v":0},{"$f":"U984","v":0},{"$f":"W984*2","v":0},{"$f":"Y984+Z984+AA984","v":0},{"$f":"S984*O984","v":0},{"$f":"U984*P984","v":0},{"$f":"W984*Q984","v":0},{"$f":"IF(AH984=FALSE,AC984+AD984+AE984,0)","v":0}]
[null,9781607536970,null,9781607534846,null,"Chameleons",null,null,null,"Lizards",null,null,null,32.799999999999997,22.95,46.8,27.95,null,{"$f":"S983","v":0},null,{"$f":"U983","v":0},null,{"$f":"W983","v":0},null,0,0,0,0,0,0,0,0]
[null,9781607536987,null,9781607534853,null,"Geckos",null,null,null,"Lizards",null,null,null,32.799999999999997,22.95,46.8,27.95,null,{"$f":"S983","v":0},null,{"$f":"U983","v":0},null,{"$f":"W983","v":0},null,0,0,0,0,0,0,0,0]
[null,9781607536994,null,9781607534860,null,"Gila Monsters",null,null,null,"Lizards",null,null,null,32.799999999999997,22.95,46.8,27.95,null,{"$f":"S983","v":0},null,{"$f":"U983","v":0},null,{"$f":"W983","v":0},null,0,0,0,0,0,0,0,0]
[null,9781607537007,null,9781607534877,null,"Green Iguanas",null,null,null,"Lizards",null,null,null,32.799999999999997,22.95,46.8,27.95,null,{"$f":"S983","v":0},null,{"$f":"U983","v":0},null,{"$f":"W983","v":0},null,0,0,0,0,0,0,0,0]
[null,9781607537014,null,9781607534884,null,"Komodo Dragons",null,null,null,"Lizards",null,null,null,32.799999999999997,22.95,46.8,27.95,null,{"$f":"S983","v":0},null,{"$f":"U983","v":0},null,{"$f":"W983","v":0},null,0,0,0,0,0,0,0,0]
[]
[null,null,null,null,null,"Complete Series of 4",null,null,null,"Math World",null,null,null,{"$f":"SUM(N992:N995)","v":119.8},{"$f":"SUM(O992:O995)","v":83.8},{"$f":"SUM(P992:P995)","v":171.2},{"$f":"SUM(Q992:Q995)","v":103.8}]
[null,9781607536772,null,9781607534624,null,"Counting Change",null,null,null,"Math World",null,null,null,29.95,20.95,42.8,{"$f":"O992+5","v":25.95},null,{"$f":"S991","v":0},null,{"$f":"U991","v":0},null,{"$f":"W991","v":0},null,{"$f":"S992","v":0},{"$f":"U992","v":0},{"$f":"W992*2","v":0},{"$f":"Y992+Z992+AA992","v":0},{"$f":"S992*O992","v":0},{"$f":"U992*P992","v":0},{"$f":"W992*Q992","v":0},{"$f":"IF(AH992=FALSE,AC992+AD992+AE992,0)","v":0}]
[null,9781607536789,null,9781607534631,null,"Making Graphs",null,null,null,"Math World",null,null,null,29.95,20.95,42.8,{"$f":"O993+5","v":25.95},null,{"$f":"S991","v":0},null,{"$f":"U991","v":0},null,{"$f":"W991","v":0},null,{"$f":"S993","v":0},{"$f":"U993","v":0},{"$f":"W993*2","v":0},{"$f":"Y993+Z993+AA993","v":0},{"$f":"S993*O993","v":0},{"$f":"U993*P993","v":0},{"$f":"W993*Q993","v":0},{"$f":"IF(AH993=FALSE,AC993+AD993+AE993,0)","v":0}]
[null,9781607536796,null,9781607534648,null,"Measure It",null,null,null,"Math World",null,null,null,29.95,20.95,42.8,{"$f":"O994+5","v":25.95},null,{"$f":"S991","v":0},null,{"$f":"U991","v":0},null,{"$f":"W991","v":0},null,{"$f":"S994","v":0},{"$f":"U994","v":0},{"$f":"W994*2","v":0},{"$f":"Y994+Z994+AA994","v":0},{"$f":"S994*O994","v":0},{"$f":"U994*P994","v":0},{"$f":"W994*Q994","v":0},{"$f":"IF(AH994=FALSE,AC994+AD994+AE994,0)","v":0}]
[null,9781607536765,null,9781607534617,null,"Telling Time",null,null,null,"Math World",null,null,null,29.95,20.95,42.8,{"$f":"O995+5","v":25.95},null,{"$f":"S991","v":0},null,{"$f":"U991","v":0},null,{"$f":"W991","v":0},null,{"$f":"S995","v":0},{"$f":"U995","v":0},{"$f":"W995*2","v":0},{"$f":"Y995+Z995+AA995","v":0},{"$f":"S995*O995","v":0},{"$f":"U995*P995","v":0},{"$f":"W995*Q995","v":0},{"$f":"IF(AH995=FALSE,AC995+AD995+AE995,0)","v":0}]
[]
[null,null,null,null,null,"Complete Series of 7",null,null,null,"Pro Sports Superstars (MLB)",null,null,null,{"$f":"SUM(N998:N1004)","v":209.64999999999998},{"$f":"SUM(O998:O1004)","v":146.65},{"$f":"SUM(P998:P1004)","v":299.60000000000002},{"$f":"SUM(Q998:Q1004)","v":181.64999999999998}]
[null,9781607536246,null,9781607535904,null,"Superstars of the Atlanta Braves",null,null,null,"Pro Sports Superstars (MLB)",null,null,null,29.95,20.95,42.8,{"$f":"O998+5","v":25.95},null,{"$f":"S997","v":0},null,{"$f":"U997","v":0},null,{"$f":"W997","v":0},null,{"$f":"S998","v":0},{"$f":"U998","v":0},{"$f":"W998*2","v":0},{"$f":"Y998+Z998+AA998","v":0},{"$f":"S998*O998","v":0},{"$f":"U998*P998","v":0},{"$f":"W998*Q998","v":0},{"$f":"IF(AH998=FALSE,AC998+AD998+AE998,0)","v":0}]
[null,9781607536253,null,9781607535911,null,"Superstars of the Boston Red Sox",null,null,null,"Pro Sports Superstars (MLB)",null,null,null,29.95,20.95,42.8,25.95,null,{"$f":"S997","v":0},null,{"$f":"U997","v":0},null,{"$f":"W997","v":0},null,0,0,0,0,0,0,0,0]
[null,9781607536277,null,9781607535935,null,"Superstars of the Los Angeles Dodgers",null,null,null,"Pro Sports Superstars (MLB)",null,null,null,29.95,20.95,42.8,25.95,null,{"$f":"S997","v":0},null,{"$f":"U997","v":0},null,{"$f":"W997","v":0},null,0,0,0,0,0,0,0,0]
[null,9781607536291,null,9781607535959,null,"Superstars of the Philadelphia Phillies",null,null,null,"Pro Sports Superstars (MLB)",null,null,null,29.95,20.95,42.8,25.95,null,{"$f":"S997","v":0},null,{"$f":"U997","v":0},null,{"$f":"W997","v":0},null,0,0,0,0,0,0,0,0]
[null,9781607536123,null,9781607535744,null,"Big, Bigger, Biggest",null,null,null,"Size It Up",null,null,null,27.1,18.95,37.799999999999997,{"$f":"O1013+5","v":23.95},null,{"$f":"S1012","v":0},null,{"$f":"U1012","v":0},null,{"$f":"W1012","v":0},null,{"$f":"S1013","v":0},{"$f":"U1013","v":0},{"$f":"W1013*2","v":0},{"$f":"Y1013+Z1013+AA1013","v":0},{"$f":"S1013*O1013","v":0},{"$f":"U1013*P1013","v":0},{"$f":"W1013*Q1013","v":0},{"$f":"IF(AH1013=FALSE,AC1013+AD1013+AE1013,0)","v":0}]
[null,9781607537038,null,9781607534969,null,"Vegetables",null,null,null,"Where Does Our Food Come From?",null,null,null,32.799999999999997,22.95,46.8,{"$f":"O1025+5","v":27.95},null,{"$f":"S1020","v":0},null,{"$f":"U1020","v":0},null,{"$f":"W1020","v":0},null,{"$f":"S1025","v":0},{"$f":"U1025","v":0},{"$f":"W1025*2","v":0},{"$f":"Y1025+Z1025+AA1025","v":0},{"$f":"S1025*O1025","v":0},{"$f":"U1025*P1025","v":0},{"$f":"W1025*Q1025","v":0},{"$f":"IF(AH1025=FALSE,AC1025+AD1025+AE1025,0)","v":0}]
[null,9781607536420,null,9781607536024,null,"Leopards",null,null,null,"Wild Cats",null,null,null,29.95,20.95,42.8,25.95,null,{"$f":"S1027","v":0},null,{"$f":"U1027","v":0},null,{"$f":"W1027","v":0},null,0,0,0,0,0,0,0,0]
[null,9781607534303,null,9781607533825,null,"Guide Dogs",null,null,null,"Animals with Jobs",null,null,null,32.799999999999997,22.95,46.8,27.95,null,{"$f":"S1041","v":0},null,{"$f":"U1041","v":0},null,{"$f":"W1041","v":0},null,0,0,0,0,0,0,0,0]
[null,9781607534280,null,9781607533801,null,"Search and Rescue Dogs",null,null,null,"Animals with Jobs",null,null,null,32.799999999999997,22.95,46.8,27.95,null,{"$f":"S1041","v":0},null,{"$f":"U1041","v":0},null,{"$f":"W1041","v":0},null,0,0,0,0,0,0,0,0]
[null,9781607534174,null,9781607533696,null,"Tyrannosaurus Rex",null,null,null,"Digging for Dinosaurs",null,null,null,32.799999999999997,22.95,46.8,27.95,null,{"$f":"S1055","v":0},null,{"$f":"U1055","v":0},null,{"$f":"W1055","v":0},null,0,0,0,0,0,0,0,0]
[null,9781607534051,null,9781607531999,null,"Do You Really Want to Visit Jupiter?",null,null,null,"Do You Really Want to Visit...? (Planets)",null,null,null,29.95,20.95,42.8,{"$f":"O1064+5","v":25.95},null,{"$f":"S1063","v":0},null,{"$f":"U1063","v":0},null,{"$f":"W1063","v":0},null,{"$f":"S1064","v":0},{"$f":"U1064","v":0},{"$f":"W1064*2","v":0},{"$f":"Y1064+Z1064+AA1064","v":0},{"$f":"S1064*O1064","v":0},{"$f":"U1064*P1064","v":0},{"$f":"W1064*Q1064","v":0},{"$f":"IF(AH1064=FALSE,AC1064+AD1064+AE1064,0)","v":0}]
[null,9781607534020,null,9781607531968,null,"Do You Really Want to Visit Venus?",null,null,null,"Do You Really Want to Visit...? (Planets)",null,null,null,29.95,20.95,42.8,25.95,null,{"$f":"S1063","v":0},null,{"$f":"U1063","v":0},null,{"$f":"W1063","v":0},null,0,0,0,0,0,0,0,0]
[null,9781607534099,null,9781607533610,null,"Have a Lemonade Stand",null,null,null,"Make Money!",null,null,null,29.95,20.95,42.8,{"$f":"O1081+5","v":25.95},null,{"$f":"S1078","v":0},null,{"$f":"U1078","v":0},null,{"$f":"W1078","v":0},null,{"$f":"S1081","v":0},{"$f":"U1081","v":0},{"$f":"W1081*2","v":0},{"$f":"Y1081+Z1081+AA1081","v":0},{"$f":"S1081*O1081","v":0},{"$f":"U1081*P1081","v":0},{"$f":"W1081*Q1081","v":0},{"$f":"IF(AH1081=FALSE,AC1081+AD1081+AE1081,0)","v":0}]
[null,9781607535386,null,9781607535119,null,"Many Kinds of Cold, The",null,null,null,"So Many Synonyms",null,null,null,27.1,18.95,37.799999999999997,23.95,null,{"$f":"S1092","v":0},null,{"$f":"U1092","v":0},null,{"$f":"W1092","v":0},null,0,0,0,0,0,0,0,0]
[null,9781607532675,null,9781607531593,null,"Sea Turtle",null,null,null,"Animal Life Cycles",null,null,null,29.95,20.95,42.8,{"$f":"O1101+5","v":25.95},null,{"$f":"S1098","v":0},null,{"$f":"U1098","v":0},null,{"$f":"W1098","v":0},null,{"$f":"S1101","v":0},{"$f":"U1101","v":0},{"$f":"W1101*2","v":0},{"$f":"Y1101+Z1101+AA1101","v":0},{"$f":"S1101*O1101","v":0},{"$f":"U1101*P1101","v":0},{"$f":"W1101*Q1101","v":0},{"$f":"IF(AH1101=FALSE,AC1101+AD1101+AE1101,0)","v":0}]
[null,"Not Available",null,9781607531838,null,"An Ant?",null,null,null,"What's It Like to Be…?",null,null,null,29.95,20.95,42.8,25.95,null,{"$f":"S1104","v":0},null,{"$f":"U1104","v":0},null,{"$f":"W1104","v":0},null,0,0,0,0,0,0,0,0]
[null,"Not Available",null,9781568463346,null,"Afternoon on a Hill ",null,null,null,"Creative Editions",null,null,null,21.41,14.99,0,0,null,{"$f":"S1107","v":0},null,null,null,null,null,0,0,0,0,0,0,0,0]
[null,"Not Available",null,9781568461762,null,"Erika's Story",null,null,null,"Creative Editions",null,null,null,28.55,19.989999999999998,0,0,null,{"$f":"S1107","v":0},null,null,null,null,null,0,0,0,0,0,0,0,0]
[null,"Not Available",null,9781568462011,null,"House, The",null,null,null,"Creative Editions",null,null,null,28.5,19.95,0,0,null,{"$f":"S1108","v":0},null,null,null,null,null,0,0,0,0,0,0,0,0]
["NEW","Not Available",null,9781568463407,null,"Lights Out",null,null,null,"Creative Editions",null,null,null,27.13,18.989999999999998,0,0,null,{"$f":"S1108","v":0},null,null,null,null,null,0,0,0,0,0,0,0,0]
[null,"Not Available",null,9781568462516,null,"Mouse Books: The Opposites",null,null,null,"Creative Editions",null,null,null,18.55,12.99,0,0,null,{"$f":"S1109","v":0},null,null,null,null,null,0,0,0,0,0,0,0,0]
[null,"Not Available",null,9781568462165,null,"Sailing the Unknown: Around the World with Captain Cook",null,null,null,"Creative Editions",null,null,null,28.55,19.989999999999998,0,0,null,{"$f":"S1109","v":0},null,null,null,null,null,0,0,0,0,0,0,0,0]
[null,"Not Available",null,9781568462097,null,"Tuba Lessons",null,null,null,"Creative Editions",null,null,null,25.65,17.95,0,0,null,{"$f":"S1107","v":0},null,null,null,null,null,0,0,0,0,0,0,0,0]
[]
[null,"Not Available",null,9781568462370,null,"Dig It! (Board Book)",null,null,null,"Creative Editions Board Books",null,null,null,11.41,7.99,0,0,null,{"$f":"S1183","v":0},null,null,null,null,null,0,0,0,0,0,0,0,0]
[null,"Not Available",null,9781568463308,null,"Simon Says Open the Book (Board Book)",null,null,null,"Creative Editions Board Books",null,null,null,12.84,8.99,0,0,null,{"$f":"S1183","v":0},null,null,null,null,null,0,0,0,0,0,0,0,0]
[null,"Not Available",null,9781568462363,null,"That's Creepy! (Board Book)",null,null,null,"Creative Editions Board Books",null,null,null,11.41,7.99,0,0,null,{"$f":"S1183","v":0},null,null,null,null,null,0,0,0,0,0,0,0,0]
[null,"Not Available",null,9781568462875,null,"Wild Backyard (Board Book)",null,null,null,"Creative Editions Board Books",null,null,null,11.41,7.99,0,0,null,{"$f":"S1183","v":0},null,null,null,null,null,0,0,0,0,0,0,0,0]
[null,9781566601740,null,9781608180851,null,"Bison",null,null,null,"Amazing Animals",null,null,null,29.95,20.95,42.85,25.95,null,{"$f":"S1213","v":0},null,{"$f":"U1213","v":0},null,{"$f":"W1213","v":0},null,0,0,0,0,0,0,0,0]
[null,9781566607957,null,9781608187539,null,"Falcons",null,null,null,"Amazing Animals",null,null,null,29.95,20.95,42.85,25.95,null,{"$f":"S1213","v":0},null,{"$f":"U1213","v":0},null,{"$f":"W1213","v":0},null,0,0,0,0,0,0,0,0]
[null,9781566605281,null,9781608184903,null,"Hawks",null,null,null,"Amazing Animals",null,null,null,29.95,20.95,42.85,25.95,null,{"$f":"S1213","v":0},null,{"$f":"U1213","v":0},null,{"$f":"W1213","v":0},null,0,0,0,0,0,0,0,0]
[null,9781566601764,null,9781608180875,null,"Komodo Dragons",null,null,null,"Amazing Animals",null,null,null,29.95,20.95,42.85,25.95,null,{"$f":"S1213","v":0},null,{"$f":"U1213","v":0},null,{"$f":"W1213","v":0},null,0,0,0,0,0,0,0,0]
[null,9781566606608,null,9781608186136,null,"Octopuses",null,null,null,"Amazing Animals",null,null,null,29.95,20.95,42.85,25.95,null,{"$f":"S1213","v":0},null,{"$f":"U1213","v":0},null,{"$f":"W1213","v":0},null,0,0,0,0,0,0,0,0]
["NEW",9781640005402,null,9781640263864,null,"Pandas",null,null,null,"Amazing Animals",null,null,null,29.95,20.95,42.8,25.95,null,{"$f":"S1213","v":0},null,{"$f":"U1213","v":0},null,{"$f":"W1213","v":0},null,0,0,0,0,0,0,0,0]
[null,9781566601795,null,9781608180905,null,"Rhinoceroses",null,null,null,"Amazing Animals",null,null,null,29.95,20.95,42.85,25.95,null,{"$f":"S1213","v":0},null,{"$f":"U1213","v":0},null,{"$f":"W1213","v":0},null,0,0,0,0,0,0,0,0]
[null,9781566608008,null,9781608187584,null,"Storks",null,null,null,"Amazing Animals",null,null,null,29.95,20.95,42.85,25.95,null,{"$f":"S1213","v":0},null,{"$f":"U1213","v":0},null,{"$f":"W1213","v":0},null,0,0,0,0,0,0,0,0]
[null,null,null,null,null,"Complete Series of 30",null,null,null,"Creative Sports: Veterans (MLB)",null,null,null,{"$f":"SUM(N1292:N1321)","v":983.99999999999943},{"$f":"SUM(O1292:O1321)","v":688.50000000000011},1407.0000000000005,838.50000000000034]
["NEW",9781640004313,null,9781640263017,null,"Cleveland Indians",null,null,null,"Creative Sports: Veterans (MLB)",null,null,null,32.799999999999997,22.95,46.9,27.95,null,{"$f":"S1291","v":0},null,{"$f":"U1291","v":0},null,{"$f":"W1291","v":0},null,0,0,0,0,0,0,0,0]
["NEW",9781640004412,null,9781640263116,null,"New York Mets",null,null,null,"Creative Sports: Veterans (MLB)",null,null,null,32.799999999999997,22.95,46.9,27.95,null,{"$f":"S1291","v":0},null,{"$f":"U1291","v":0},null,{"$f":"W1291","v":0},null,0,0,0,0,0,0,0,0]
["NEW",9781640004535,null,9781640263239,null,"Washington Nationals",null,null,null,"Creative Sports: Veterans (MLB)",null,null,null,32.799999999999997,22.95,46.9,27.95,null,{"$f":"S1291","v":0},null,{"$f":"U1291","v":0},null,{"$f":"W1291","v":0},null,0,0,0,0,0,0,0,0]
["NEW",9781640005013,null,9781640264519,null,"flamencos bebés (Baby Flamingos)",null,null,null,"El principio de las (Starting Out)",null,null,null,27.1,18.95,36.65,23.95,null,{"$f":"S1323","v":0},null,{"$f":"U1323","v":0},null,{"$f":"W1323","v":0},null,0,0,0,0,0,0,0,0]
["NEW",9781640005075,null,9781640264571,null,"osos polares bebés (Baby Polar Bears)",null,null,null,"El principio de las (Starting Out)",null,null,null,27.1,18.95,36.65,23.95,null,{"$f":"S1323","v":0},null,{"$f":"U1323","v":0},null,{"$f":"W1323","v":0},null,0,0,0,0,0,0,0,0]
["NEW",9781640004016,null,9781640262829,null,"Tigres bebés (Baby Tigers)",null,null,null,"El principio de los (Starting Out)",null,null,null,27.1,18.95,36.65,23.95,null,{"$f":"S1323","v":0},null,{"$f":"U1323","v":0},null,{"$f":"W1323","v":0},null,0,0,0,0,0,0,0,0]
["NEW",9781640005174,null,9781640263635,null,"Great Sphinx",null,null,null,"Odysseys in Mysteries",null,null,null,44.2,30.95,63.2,35.950000000000003,null,{"$f":"S1345","v":0},null,{"$f":"U1345","v":0},null,{"$f":"W1345","v":0},null,0,0,0,0,0,0,0,0]
["NEW",9781640005419,null,9781640264625,null,"El caimán (Alligator)",null,null,null,"Planeta animal (Amazing Animals)",null,null,null,29.95,20.95,42.8,25.95,null,{"$f":"S1352","v":0},null,{"$f":"U1352","v":0},null,{"$f":"W1352","v":0},null,0,0,0,0,0,0,0,0]
["NEW",9781640003415,null,9781640262645,null,"El león (Lions)",null,null,null,"Planeta animal (Amazing Animals)",null,null,null,29.95,20.95,42.85,25.95,null,{"$f":"S1352","v":0},null,{"$f":"U1352","v":0},null,{"$f":"W1352","v":0},null,0,0,0,0,0,0,0,0]
["NEW",9781640003439,null,9781640262669,null,"El tiburón (Sharks)",null,null,null,"Planeta animal (Amazing Animals)",null,null,null,29.95,20.95,42.85,25.95,null,{"$f":"S1352","v":0},null,{"$f":"U1352","v":0},null,{"$f":"W1352","v":0},null,0,0,0,0,0,0,0,0]
[null,null,null,null,null,"Complete Series of 140",null,null,null,"Seedlings",null,null,null,{"$f":"SUM(N1389:N1528)","v":4192.9999999999891},{"$f":"SUM(O1389:O1528)","v":2932.9999999999955},{"$f":"SUM(P1389:P1528)","v":5999.00000000001},{"$f":"SUM(Q1389:Q1528)","v":3632.9999999999914}]
[null,9781566608190,null,9781608187898,null,"Big Rigs",null,null,null,"Seedlings: Big Trucks",null,null,null,29.95,20.95,42.85,25.95,null,{"$f":"S1388","v":0},null,{"$f":"U1388","v":0},null,{"$f":"W1388","v":0},null,0,0,0,0,0,0,0,0]
[null,9781566608220,null,9781608187928,null,"Pickup Trucks",null,null,null,"Seedlings: Big Trucks",null,null,null,29.95,20.95,42.85,25.95,null,{"$f":"S1388","v":0},null,{"$f":"U1388","v":0},null,{"$f":"W1388","v":0},null,0,0,0,0,0,0,0,0]
[null,9781640001855,null,9781640260696,null,"Police Cars",null,null,null,"Seedlings: Community Vehicles",null,null,null,29.95,20.95,42.85,{"$f":"O1409+5","v":25.95},null,{"$f":"S1388","v":0},null,{"$f":"U1388","v":0},null,{"$f":"W1388","v":0},null,0,0,0,0,0,0,0,0]
[null,9781566604116,null,9781608184576,null,"Butterflies",null,null,null,"Seedlings: Creepy Crawlies",null,null,null,29.95,20.95,42.85,25.95,null,{"$f":"S1388","v":0},null,{"$f":"U1388","v":0},null,{"$f":"W1388","v":0},null,0,0,0,0,0,0,0,0]
[null,9781566607773,null,9781608187423,null,"Mountains",null,null,null,"Seedlings: Ecosystems",null,null,null,29.95,20.95,42.85,25.95,null,{"$f":"S1388","v":0},null,{"$f":"U1388","v":0},null,{"$f":"W1388","v":0},null,0,0,0,0,0,0,0,0]
[null,9781566608299,null,9781608187874,null,"Pigs",null,null,null,"Seedlings: Farm Animals",null,null,null,29.95,20.95,42.85,25.95,null,{"$f":"S1388","v":0},null,{"$f":"U1388","v":0},null,{"$f":"W1388","v":0},null,0,0,0,0,0,0,0,0]
[null,9781566605540,null,9781608185214,null,"Jets",null,null,null,"Seedlings: Fast Vehicles",null,null,null,29.95,20.95,42.85,25.95,null,{"$f":"S1388","v":0},null,{"$f":"U1388","v":0},null,{"$f":"W1388","v":0},null,0,0,0,0,0,0,0,0]
["NEW",9781640004627,null,9781640263321,null,"Kwanzaa",null,null,null,"Seedlings: Holidays",null,null,null,29.95,20.95,42.85,25.95,null,{"$f":"S1388","v":0},null,{"$f":"U1388","v":0},null,{"$f":"W1388","v":0},null,0,0,0,0,0,0,0,0]
[null,9781566606790,null,9781608186655,null,"Tanks",null,null,null,"Seedlings: Military Vehicles",null,null,null,29.95,20.95,42.85,25.95,null,{"$f":"S1388","v":0},null,{"$f":"U1388","v":0},null,{"$f":"W1388","v":0},null,0,0,0,0,0,0,0,0]
[null,9781566608329,null,9781608187782,null,"Coral Reefs",null,null,null,"Seedlings: Ocean Life",null,null,null,29.95,20.95,42.85,25.95,null,{"$f":"S1388","v":0},null,{"$f":"U1388","v":0},null,{"$f":"W1388","v":0},null,0,0,0,0,0,0,0,0]
[null,9781566609715,null,9781608189199,null,"Uranus",null,null,null,"Seedlings: Planets",null,null,null,29.95,20.95,42.85,25.95,null,{"$f":"S1388","v":0},null,{"$f":"U1388","v":0},null,{"$f":"W1388","v":0},null,0,0,0,0,0,0,0,0]
[null,9781566606080,null,9781608185818,null,"Fire Trucks",null,null,null,"Seedlings: Rescue Vehicles",null,null,null,29.95,20.95,42.85,25.95,null,{"$f":"S1388","v":0},null,{"$f":"U1388","v":0},null,{"$f":"W1388","v":0},null,0,0,0,0,0,0,0,0]
[null,9781566608428,null,9781608187959,null,"Bison",null,null,null,"Seedlings: Wild Animals",null,null,null,29.95,20.95,42.85,25.95,null,{"$f":"S1388","v":0},null,{"$f":"U1388","v":0},null,{"$f":"W1388","v":0},null,0,0,0,0,0,0,0,0]
[null,9781566609166,null,9781608188680,null,"Geckos",null,null,null,"Seedlings: Wild Animals",null,null,null,29.95,20.95,42.85,25.95,null,{"$f":"S1388","v":0},null,{"$f":"U1388","v":0},null,{"$f":"W1388","v":0},null,0,0,0,0,0,0,0,0]
[null,9781566605571,null,9781608185153,null,"Polar Bears",null,null,null,"Seedlings: Wild Animals",null,null,null,29.95,20.95,42.85,25.95,null,{"$f":"S1388","v":0},null,{"$f":"U1388","v":0},null,{"$f":"W1388","v":0},null,0,0,0,0,0,0,0,0]
[null,9781566603782,null,9781608183456,null,"Wolves",null,null,null,"Seedlings: Wild Animals",null,null,null,29.95,20.95,42.85,25.95,null,{"$f":"S1388","v":0},null,{"$f":"U1388","v":0},null,{"$f":"W1388","v":0},null,0,0,0,0,0,0,0,0]
[null,9781640002074,null,9781640260917,null,"Los ratones (Mice)",null,null,null,"Semillas del saber (Seedlings: Backyard Animals)",null,null,null,29.95,20.95,42.85,25.95,null,{"$f":"S1530","v":0},null,{"$f":"U1530","v":0},null,{"$f":"W1530","v":0},null,0,0,0,0,0,0,0,0]
[null,"Not Available",null,9781608189281,null,"Los dentistas (Dentists)",null,null,null,"Semillas del saber (Seedlings: Community Helpers)",null,null,null,29.95,20.95,0,0,null,{"$f":"S1530","v":0},null,null,null,null,null,0,0,0,0,0,0,0,0]
["NEW",9781640004689,null,9781640264403,null,"Día de los Muertos (Day of the Dead)",null,null,null,"Semillas del saber (Seedlings: Holidays)",null,null,null,29.95,20.95,42.85,25.95,null,{"$f":"S1530","v":0},null,{"$f":"U1530","v":0},null,{"$f":"W1530","v":0},null,0,0,0,0,0,0,0,0]
[null,9781640004023,null,9781640262539,null,"Las bicicletas (Bicycles)",null,null,null,"Semillas del saber (Seedlings: On the Go)",null,null,null,29.95,20.95,42.85,25.95,null,{"$f":"S1530","v":0},null,{"$f":"U1530","v":0},null,{"$f":"W1530","v":0},null,0,0,0,0,0,0,0,0]
[null,9781640000193,null,9781608189540,null,"Venus (Venus)",null,null,null,"Semillas del saber (Seedlings: Planets)",null,null,null,29.95,20.95,42.85,25.95,null,{"$f":"S1530","v":0},null,{"$f":"U1530","v":0},null,{"$f":"W1530","v":0},null,0,0,0,0,0,0,0,0]
[null,9781640002234,null,9781640261075,null,"Los patrulleros (Police Cars)",null,null,null,"Semillas del saber (Seedlings: Vehicles)",null,null,null,29.95,20.95,42.85,25.95,null,{"$f":"S1530","v":0},null,{"$f":"U1530","v":0},null,{"$f":"W1530","v":0},null,0,0,0,0,0,0,0,0]
["NEW",9781640003873,null,9781640262461,null,"Baby Foxes",null,null,null,"Starting Out ",null,null,null,27.1,18.95,36.65,23.95,null,{"$f":"S1581","v":0},null,{"$f":"U1581","v":0},null,{"$f":"W1581","v":0},null,0,0,0,0,0,0,0,0]
["NEW",9781640003910,null,9781640262508,null,"Baby Pandas",null,null,null,"Starting Out ",null,null,null,27.1,18.95,36.65,23.95,null,{"$f":"S1581","v":0},null,{"$f":"U1581","v":0},null,{"$f":"W1581","v":0},null,0,0,0,0,0,0,0,0]
["NEW",9781640004986,null,9781640263567,null,"Baby Whales",null,null,null,"Starting Out",null,null,null,27.1,18.95,36.65,23.95,null,{"$f":"S1581","v":0},null,{"$f":"U1581","v":0},null,{"$f":"W1581","v":0},null,0,0,0,0,0,0,0,0]
[]
[]
[null,9781566609548,null,9781608189021,null,"Cherokee",null,null,null,"First Peoples",null,null,null,29.95,20.95,42.85,25.95,null,{"$f":"S1625","v":0},null,{"$f":"U1625","v":0},null,{"$f":"W1625","v":0},null,0,0,0,0,0,0,0,0]
[null,9781566609586,null,9781608189069,null,"Sioux",null,null,null,"First Peoples",null,null,null,29.95,20.95,42.85,25.95,null,{"$f":"S1625","v":0},null,{"$f":"U1625","v":0},null,{"$f":"W1625","v":0},null,0,0,0,0,0,0,0,0]
[null,9781566605717,null,9781608185610,null,"Corn",null,null,null,"Grow with Me",null,null,null,32.799999999999997,22.95,46.9,27.95,null,{"$f":"S1639","v":0},null,{"$f":"U1639","v":0},null,{"$f":"W1639","v":0},null,0,0,0,0,0,0,0,0]
[null,9781566604390,null,9781608184071,null,"Spider",null,null,null,"Grow with Me",null,null,null,32.799999999999997,22.95,46.9,27.95,null,{"$f":"S1639","v":0},null,{"$f":"U1639","v":0},null,{"$f":"W1639","v":0},null,0,0,0,0,0,0,0,0]
[]
[null,9781640002340,null,9781640261167,null,"Aye-ayes",null,null,null,"Creatures of the Night",null,null,null,29.95,20.95,42.85,{"$f":"O1675+5","v":25.95},null,{"$f":"S1674","v":0},null,{"$f":"U1674","v":0},null,{"$f":"W1674","v":0},null,{"$f":"S1675","v":0},{"$f":"U1675","v":0},{"$f":"W1675*2","v":0},{"$f":"Y1675+Z1675+AA1675","v":0},{"$f":"S1675*O1675","v":0},{"$f":"U1675*P1675","v":0},{"$f":"W1675*Q1675","v":0},{"$f":"IF(AH1675=FALSE,AC1675+AD1675+AE1675,0)","v":0}]
[null,9781640002371,null,9781640261198,null,"Luna Moths",null,null,null,"Creatures of the Night",null,null,null,29.95,20.95,42.85,25.95,null,{"$f":"S1674","v":0},null,{"$f":"U1674","v":0},null,{"$f":"W1674","v":0},null,0,0,0,0,0,0,0,0]
[null,9781640002449,null,9781640261266,null,"Hoover Dam",null,null,null,"Landmarks of America",null,null,null,29.95,20.95,42.85,25.95,null,{"$f":"S1682","v":0},null,{"$f":"U1682","v":0},null,{"$f":"W1682","v":0},null,0,0,0,0,0,0,0,0]
[null,9781640002517,null,9781640261334,null,"Buffalo Bills",null,null,null,"NFL Today '19",null,null,null,41.35,28.95,59.15,33.950000000000003,null,{"$f":"S1692","v":0},null,{"$f":"U1692","v":0},null,{"$f":"W1692","v":0},null,0,0,0,0,0,0,0,0]
[null,9781640002630,null,9781640261457,null,"Kansas City Chiefs",null,null,null,"NFL Today '19",null,null,null,41.35,28.95,59.15,33.950000000000003,null,{"$f":"S1692","v":0},null,{"$f":"U1692","v":0},null,{"$f":"W1692","v":0},null,0,0,0,0,0,0,0,0]
[null,9781640002715,null,9781640261532,null,"New York Jets       ",null,null,null,"NFL Today '19",null,null,null,41.35,28.95,59.15,33.950000000000003,null,{"$f":"S1692","v":0},null,{"$f":"U1692","v":0},null,{"$f":"W1692","v":0},null,0,0,0,0,0,0,0,0]
[null,null,null,null,null,"Complete Series of 6",null,null,null,"Odysseys in Peace",null,null,null,{"$f":"SUM(N1727:N1732)","v":265.2},{"$f":"SUM(O1727:O1732)","v":185.7},{"$f":"SUM(P1727:P1732)","v":379.2},{"$f":"SUM(Q1727:Q1732)","v":215.7}]
[]
[null,9781566607858,null,9781608187508,null,"The 9/11 Attacks ",null,null,null,"Turning Points",null,null,null,41.35,28.95,59.15,{"$f":"O1745+5","v":33.950000000000003},null,{"$f":"S1744","v":0},null,{"$f":"U1744","v":0},null,{"$f":"W1744","v":0},null,{"$f":"S1745","v":0},{"$f":"U1745","v":0},{"$f":"W1745*2","v":0},{"$f":"Y1745+Z1745+AA1745","v":0},{"$f":"S1745*O1745","v":0},{"$f":"U1745*P1745","v":0},{"$f":"W1745*Q1745","v":0},{"$f":"IF(AH1745=FALSE,AC1745+AD1745+AE1745,0)","v":0}]
[null,9781566607810,null,9781608187461,null,"The Assassination of John F. Kennedy",null,null,null,"Turning Points",null,null,null,41.35,28.95,59.15,33.950000000000003,null,{"$f":"S1744","v":0},null,{"$f":"U1744","v":0},null,{"$f":"W1744","v":0},null,0,0,0,0,0,0,0,0]
[null,9781566608633,null,9781608188154,null,"Samurai",null,null,null,"X-Books: Fighters",null,null,null,32.799999999999997,22.95,46.9,27.95,null,{"$f":"S1758","v":0},null,{"$f":"U1758","v":0},null,{"$f":"W1758","v":0},null,0,0,0,0,0,0,0,0]
[null,9781640000896,null,9781608189885,null,"Beetles ",null,null,null,"X-Books: Insects",null,null,null,32.799999999999997,22.95,46.9,27.95,null,{"$f":"S1758","v":0},null,{"$f":"U1758","v":0},null,{"$f":"W1758","v":0},null,0,0,0,0,0,0,0,0]
[null,9781640003101,null,9781640261921,null,"Sea Otters",null,null,null,"X-Books: Marine Mammals",null,null,null,32.799999999999997,22.95,46.9,27.95,null,{"$f":"S1758","v":0},null,{"$f":"U1758","v":0},null,{"$f":"W1758","v":0},null,0,0,0,0,0,0,0,0]
[null,9781640003170,null,9781640261990,null,"Vampires",null,null,null,"X-Books: Mythical Creatures",null,null,null,32.799999999999997,22.95,46.9,27.95,null,{"$f":"S1758","v":0},null,{"$f":"U1758","v":0},null,{"$f":"W1758","v":0},null,0,0,0,0,0,0,0,0]
[null,9781640002005,null,9781640260849,null,"Sea Turtles",null,null,null,"X-Books: Reptiles",null,null,null,32.799999999999997,22.95,46.9,27.95,null,{"$f":"S1758","v":0},null,{"$f":"U1758","v":0},null,{"$f":"W1758","v":0},null,0,0,0,0,0,0,0,0]
[null,9781640001695,null,9781640260535,null,"Bonding with Your Dog",null,null,null,"A Dog's Life",null,null,null,29.95,20.95,42.85,{"$f":"O1805+5","v":25.95},null,{"$f":"S1804","v":0},null,{"$f":"U1804","v":0},null,{"$f":"W1804","v":0},null,{"$f":"S1805","v":0},{"$f":"U1805","v":0},{"$f":"W1805*2","v":0},{"$f":"Y1805+Z1805+AA1805","v":0},{"$f":"S1805*O1805","v":0},{"$f":"U1805*P1805","v":0},{"$f":"W1805*Q1805","v":0},{"$f":"IF(AH1805=FALSE,AC1805+AD1805+AE1805,0)","v":0}]
[null,9781640001589,null,9781640260429,null,"Fire Trucks",null,null,null,"Amazing Rescue Vehicles",null,null,null,29.95,20.95,42.85,{"$f":"O1814+5","v":25.95},null,{"$f":"S1812","v":0},null,{"$f":"U1812","v":0},null,{"$f":"W1812","v":0},null,{"$f":"S1814","v":0},{"$f":"U1814","v":0},{"$f":"W1814*2","v":0},{"$f":"Y1814+Z1814+AA1814","v":0},{"$f":"S1814*O1814","v":0},{"$f":"U1814*P1814","v":0},{"$f":"W1814*Q1814","v":0},{"$f":"IF(AH1814=FALSE,AC1814+AD1814+AE1814,0)","v":0}]
[]
[null,9781640001688,null,9781640260528,null,"Velociraptor",null,null,null,"Dinosaur Days",null,null,null,29.95,20.95,42.85,25.95,null,{"$f":"S1818","v":0},null,{"$f":"U1818","v":0},null,{"$f":"W1818","v":0},null,0,0,0,0,0,0,0,0]
[]
[null,9781566606714,null,9781608186341,null,"Yellowstone",null,null,null,"National Park Explorers",null,null,null,29.95,20.95,42.85,25.95,null,{"$f":"S1842","v":0},null,{"$f":"U1842","v":0},null,{"$f":"W1842","v":0},null,0,0,0,0,0,0,0,0]
[null,9781640002012,null,9781640260856,null,"FV101 Scorpion (FV101 Scorpion)",null,null,null,"¡Ahora es rápido! (Now That's Fast!)",null,null,null,29.95,20.95,42.85,{"$f":"O1855+5","v":25.95},null,{"$f":"S1854","v":0},null,{"$f":"U1854","v":0},null,{"$f":"W1854","v":0},null,{"$f":"S1855","v":0},{"$f":"U1855","v":0},{"$f":"W1855*2","v":0},{"$f":"Y1855+Z1855+AA1855","v":0},{"$f":"S1855*O1855","v":0},{"$f":"U1855*P1855","v":0},{"$f":"W1855*Q1855","v":0},{"$f":"IF(AH1855=FALSE,AC1855+AD1855+AE1855,0)","v":0}]
[]
[null,9781640000292,null,9781640260009,null,"Tide Pool Treasures",null,null,null,"Down in the Ocean ",null,null,null,41.35,28.95,59.15,33.950000000000003,null,{"$f":"S1866","v":0},null,{"$f":"U1866","v":0},null,{"$f":"W1866","v":0},null,0,0,0,0,0,0,0,0]
[]
[null,9781640001121,null,9781583419670,null,"Alligators",null,null,null,"Living Wild",null,null,null,41.35,28.95,59.15,{"$f":"O1886+5","v":33.950000000000003},null,{"$f":"S1885","v":0},null,{"$f":"U1885","v":0},null,{"$f":"W1885","v":0},null,{"$f":"S1886","v":0},{"$f":"U1886","v":0},{"$f":"W1886*2","v":0},{"$f":"Y1886+Z1886+AA1886","v":0},{"$f":"S1886*O1886","v":0},{"$f":"U1886*P1886","v":0},{"$f":"W1886*Q1886","v":0},{"$f":"IF(AH1886=FALSE,AC1886+AD1886+AE1886,0)","v":0}]
[null,9781640001169,null,9781583416532,null,"Dolphins",null,null,null,"Living Wild",null,null,null,41.35,28.95,59.15,33.950000000000003,null,{"$f":"S1885","v":0},null,{"$f":"U1885","v":0},null,{"$f":"W1885","v":0},null,0,0,0,0,0,0,0,0]
[null,9781566605762,null,9781608185665,null,"Falcons",null,null,null,"Living Wild",null,null,null,41.35,28.95,59.15,33.950000000000003,null,{"$f":"S1885","v":0},null,{"$f":"U1885","v":0},null,{"$f":"W1885","v":0},null,0,0,0,0,0,0,0,0]
[null,9781640001237,null,9781583416556,null,"Koalas",null,null,null,"Living Wild",null,null,null,41.35,28.95,59.15,33.950000000000003,null,{"$f":"S1885","v":0},null,{"$f":"U1885","v":0},null,{"$f":"W1885","v":0},null,0,0,0,0,0,0,0,0]
[null,9781640001251,null,9781583416563,null,"Lions",null,null,null,"Living Wild",null,null,null,41.35,28.95,59.15,33.950000000000003,null,{"$f":"S1885","v":0},null,{"$f":"U1885","v":0},null,{"$f":"W1885","v":0},null,0,0,0,0,0,0,0,0]
[null,9781566608800,null,9781608188321,null,"Pelicans",null,null,null,"Living Wild",null,null,null,41.35,28.95,59.15,33.950000000000003,null,{"$f":"S1885","v":0},null,{"$f":"U1885","v":0},null,{"$f":"W1885","v":0},null,0,0,0,0,0,0,0,0]
[null,9781640000391,null,9781608189601,null,"Red Pandas",null,null,null,"Living Wild",null,null,null,41.35,28.95,59.15,33.950000000000003,null,{"$f":"S1885","v":0},null,{"$f":"U1885","v":0},null,{"$f":"W1885","v":0},null,0,0,0,0,0,0,0,0]
[null,9781640000414,null,9781608189625,null,"Tapirs",null,null,null,"Living Wild",null,null,null,41.35,28.95,59.15,33.950000000000003,null,{"$f":"S1885","v":0},null,{"$f":"U1885","v":0},null,{"$f":"W1885","v":0},null,0,0,0,0,0,0,0,0]
[null,9781566601344,null,9781608181728,null,"Woodpeckers",null,null,null,"Living Wild",null,null,null,41.35,28.95,59.15,33.950000000000003,null,{"$f":"S1885","v":0},null,{"$f":"U1885","v":0},null,{"$f":"W1885","v":0},null,0,0,0,0,0,0,0,0]
[null,9781640000438,null,9781640260146,null,"Boston Celtics",null,null,null,"NBA Champions",null,null,null,29.95,20.95,42.85,25.95,null,{"$f":"S1963","v":0},null,{"$f":"U1963","v":0},null,{"$f":"W1963","v":0},null,0,0,0,0,0,0,0,0]
[null,9781640000520,null,9781640260238,null,"Milwaukee Bucks",null,null,null,"NBA Champions",null,null,null,29.95,20.95,42.85,25.95,null,{"$f":"S1963","v":0},null,{"$f":"U1963","v":0},null,{"$f":"W1963","v":0},null,0,0,0,0,0,0,0,0]
[null,9781566607278,null,9781608186914,null,"BMX",null,null,null,"Odysseys in Extreme Sports ",null,null,null,44.2,30.95,63.2,{"$f":"O1990+5","v":35.950000000000003},null,{"$f":"S1989","v":0},null,{"$f":"U1989","v":0},null,{"$f":"W1989","v":0},null,{"$f":"S1990","v":0},{"$f":"U1990","v":0},{"$f":"W1990*2","v":0},{"$f":"Y1990+Z1990+AA1990","v":0},{"$f":"S1990*O1990","v":0},{"$f":"U1990*P1990","v":0},{"$f":"W1990*Q1990","v":0},{"$f":"IF(AH1990=FALSE,AC1990+AD1990+AE1990,0)","v":0}]
[null,9781566607315,null,9781608186952,null,"Skydiving",null,null,null,"Odysseys in Extreme Sports ",null,null,null,44.2,30.95,63.2,35.950000000000003,null,{"$f":"S1989","v":0},null,{"$f":"U1989","v":0},null,{"$f":"W1989","v":0},null,0,0,0,0,0,0,0,0]
[null,9781566606516,null,9781608185528,null,"Iroquois",null,null,null,"Peoples of North America",null,null,null,41.35,28.95,59.15,33.950000000000003,null,{"$f":"S1997","v":0},null,{"$f":"U1997","v":0},null,{"$f":"W1997","v":0},null,0,0,0,0,0,0,0,0]
[null,null,null,null,null,"Complete Series of 12",null,null,null,"Soccer Champions",null,null,null,{"$f":"SUM(N2012:N2023)","v":496.2000000000001},{"$f":"SUM(O2012:O2023)","v":347.39999999999992},{"$f":"SUM(P2012:P2023)","v":709.79999999999984},{"$f":"SUM(Q2012:Q2023)","v":407.39999999999992}]
[null,9781640000834,null,9781608189823,null,"Seattle Sounders FC",null,null,null,"Soccer Champions",null,null,null,41.35,28.95,59.15,33.950000000000003,null,{"$f":"S2011","v":0},null,{"$f":"U2011","v":0},null,{"$f":"W2011","v":0},null,0,0,0,0,0,0,0,0]
[null,9781566604871,null,9781608184637,null,"Green Berets",null,null,null,"U.S. Special Forces",null,null,null,41.35,28.95,59.15,33.950000000000003,null,{"$f":"S2025","v":0},null,{"$f":"U2025","v":0},null,{"$f":"W2025","v":0},null,0,0,0,0,0,0,0,0]
[null,9781640000070,null,9781608189427,null,"Los terremotos (Earthquakes)",null,null,null,"¡Viva la Tierra! (Earth Rocks!)",null,null,null,29.95,20.95,42.85,25.95,null,{"$f":"S2036","v":0},null,{"$f":"U2036","v":0},null,{"$f":"W2036","v":0},null,0,0,0,0,0,0,0,0]
[null,null,null,null,null,"Complete Series of 6",null,null,null,"Amazing Machines",null,null,null,{"$f":"SUM(N2045:N2050)","v":179.7},{"$f":"SUM(O2045:O2050)","v":125.7},{"$f":"SUM(P2045:P2050)","v":257.10000000000002},{"$f":"SUM(Q2045:Q2050)","v":155.69999999999999}]
[]
[null,9781566609494,null,9781608188970,null,"Boxers",null,null,null,"Fetch!",null,null,null,29.95,20.95,42.85,{"$f":"O2062+5","v":25.95},null,{"$f":"S2060","v":0},null,{"$f":"U2060","v":0},null,{"$f":"W2060","v":0},null,0,0,0,0,0,0,0,0]
[null,9781566609739,null,9781608189212,null,"Animal Wrangler ",null,null,null,"Wild Jobs",null,null,null,29.95,20.95,42.85,{"$f":"O2073+5","v":25.95},null,{"$f":"S2072","v":0},null,{"$f":"U2072","v":0},null,{"$f":"W2072","v":0},null,{"$f":"S2073","v":0},{"$f":"U2073","v":0},{"$f":"W2073*2","v":0},{"$f":"Y2073+Z2073+AA2073","v":0},{"$f":"S2073*O2073","v":0},{"$f":"U2073*P2073","v":0},{"$f":"W2073*Q2073","v":0},{"$f":"IF(AH2073=FALSE,AC2073+AD2073+AE2073,0)","v":0}]
[null,null,null,null,null,"Complete Series of 6",null,null,null,"Creep Out ",null,null,null,{"$f":"SUM(N2081:N2086)","v":179.7},{"$f":"SUM(O2081:O2086)","v":125.7},{"$f":"SUM(P2081:P2086)","v":257.10000000000002},{"$f":"SUM(Q2081:Q2086)","v":155.69999999999999}]
[null,9781566607186,null,9781608186822,null,"Lab Analysis ",null,null,null,"Odysseys in Crime Scene Science ",null,null,null,44.2,30.95,63.2,35.950000000000003,null,{"$f":"S2088","v":0},null,{"$f":"U2088","v":0},null,{"$f":"W2088","v":0},null,0,0,0,0,0,0,0,0]
[null,9781566607254,null,9781608186891,null,"Rock Climbing",null,null,null,"Odysseys in Outdoor Adventures  ",null,null,null,44.2,30.95,63.2,35.950000000000003,null,{"$f":"S2096","v":0},null,{"$f":"U2096","v":0},null,{"$f":"W2096","v":0},null,0,0,0,0,0,0,0,0]
[null,9781566608886,null,9781608188406,null,"The Story of the Cleveland Cavaliers",null,null,null,"The NBA: A History of Hoops",null,null,null,41.35,28.95,59.15,33.950000000000003,null,{"$f":"S2104","v":0},null,{"$f":"U2104","v":0},null,{"$f":"W2104","v":0},null,0,0,0,0,0,0,0,0]
[null,9781566608916,null,9781608188437,null,"The Story of the Detroit Pistons",null,null,null,"The NBA: A History of Hoops",null,null,null,41.35,28.95,59.15,33.950000000000003,null,{"$f":"S2104","v":0},null,{"$f":"U2104","v":0},null,{"$f":"W2104","v":0},null,0,0,0,0,0,0,0,0]
[null,9781566609074,null,9781608188598,null,"The Story of the Portland Trail Blazers",null,null,null,"The NBA: A History of Hoops",null,null,null,41.35,28.95,59.15,33.950000000000003,null,{"$f":"S2104","v":0},null,{"$f":"U2104","v":0},null,{"$f":"W2104","v":0},null,0,0,0,0,0,0,0,0]
[null,9781566609111,null,9781608188635,null,"The Story of the Utah Jazz",null,null,null,"The NBA: A History of Hoops",null,null,null,41.35,28.95,59.15,33.950000000000003,null,{"$f":"S2104","v":0},null,{"$f":"U2104","v":0},null,{"$f":"W2104","v":0},null,0,0,0,0,0,0,0,0]
[null,9781566608022,null,9781608187607,null,"Angels",null,null,null,"Are They Real?",null,null,null,29.95,20.95,42.85,25.95,null,{"$f":"S2136","v":0},null,{"$f":"U2136","v":0},null,{"$f":"W2136","v":0},null,0,0,0,0,0,0,0,0]
[null,9781566608121,null,9781608187706,null,"Stag-moose",null,null,null,"Ice Age Mega Beasts",null,null,null,29.95,20.95,42.85,25.95,null,{"$f":"S2144","v":0},null,{"$f":"U2144","v":0},null,{"$f":"W2144","v":0},null,0,0,0,0,0,0,0,0]
[null,9781566607100,null,9781608186747,null,"State and Local Government",null,null,null,"By the People",null,null,null,41.35,28.95,59.15,33.950000000000003,null,{"$f":"S2160","v":0},null,{"$f":"U2160","v":0},null,{"$f":"W2160","v":0},null,0,0,0,0,0,0,0,0]
[null,null,null,null,null,"Complete Series of 6",null,null,null,"In My Backyard",null,null,null,{"$f":"SUM(N2169:N2174)","v":179.7},{"$f":"SUM(O2169:O2174)","v":125.7},{"$f":"SUM(P2169:P2174)","v":257.10000000000002},{"$f":"SUM(Q2169:Q2174)","v":155.69999999999999}]
[null,9781566607483,null,9781608187126,null,"Nimitz Aircraft Carrier",null,null,null,"Now That's Big",null,null,null,29.95,20.95,42.85,25.95,null,{"$f":"S2176","v":0},null,{"$f":"U2176","v":0},null,{"$f":"W2176","v":0},null,0,0,0,0,0,0,0,0]
[]
[null,null,null,null,null,"Complete Series of 4",null,null,null,"Odysseys in Prose",null,null,null,{"$f":"SUM(N2199:N2202)","v":176.8},{"$f":"SUM(O2199:O2202)","v":123.8},{"$f":"SUM(P2199:P2202)","v":252.8},{"$f":"SUM(Q2199:Q2202)","v":143.80000000000001}]
[null,9781566607643,null,9781608187294,null,"Narration and Point of View",null,null,null,"Odysseys in Prose",null,null,null,44.2,30.95,63.2,{"$f":"O2201+5","v":35.950000000000003},null,{"$f":"S2198","v":0},null,{"$f":"U2198","v":0},null,{"$f":"W2198","v":0},null,{"$f":"S2201","v":0},{"$f":"U2201","v":0},{"$f":"W2201*2","v":0},{"$f":"Y2201+Z2201+AA2201","v":0},{"$f":"S2201*O2201","v":0},{"$f":"U2201*P2201","v":0},{"$f":"W2201*Q2201","v":0},{"$f":"IF(AH2201=FALSE,AC2201+AD2201+AE2201,0)","v":0}]
[null,null,null,null,null,"Complete Series of 6",null,null,null,"Soccer Stars",null,null,null,{"$f":"SUM(N2213:N2218)","v":179.7},{"$f":"SUM(O2213:O2218)","v":125.7},{"$f":"SUM(P2213:P2218)","v":257.10000000000002},{"$f":"SUM(Q2213:Q2218)","v":155.69999999999999}]
[]
[null,9781566607070,null,9781608186716,null,"Iggy Azalea",null,null,null,"The Big Time",null,null,null,29.95,20.95,42.85,{"$f":"O2231+5","v":25.95},null,{"$f":"S2220","v":0},null,{"$f":"U2220","v":0},null,{"$f":"W2220","v":0},null,0,0,0,0,0,0,0,0]
[null,"Not Available",null,9781608184750,null,"Robert Griffin III",null,null,null,"The Big Time",null,null,null,29.95,20.95,0,0,null,{"$f":"S2220","v":0},null,null,null,null,null,0,0,0,0,0,0,0,0]
[null,9781566606905,null,9781608186242,null,"What is Cubism?",null,null,null,"Art World",null,null,null,29.95,20.95,42.85,{"$f":"O2249+5","v":25.95},null,{"$f":"S2248","v":0},null,{"$f":"U2248","v":0},null,{"$f":"W2248","v":0},null,{"$f":"S2249","v":0},{"$f":"U2249","v":0},{"$f":"W2249*2","v":0},{"$f":"Y2249+Z2249+AA2249","v":0},{"$f":"S2249*O2249","v":0},{"$f":"U2249*P2249","v":0},{"$f":"W2249*Q2249","v":0},{"$f":"IF(AH2249=FALSE,AC2249+AD2249+AE2249,0)","v":0}]
[null,null,null,null,null,"Complete Series of 4",null,null,null,"I Spy",null,null,null,{"$f":"SUM(N2257:N2260)","v":119.8},{"$f":"SUM(O2257:O2260)","v":83.8},{"$f":"SUM(P2257:P2260)","v":171.4},{"$f":"SUM(Q2257:Q2260)","v":103.8}]
[null,9781566606899,null,9781608186587,null,"Volleyball",null,null,null,"Making the Play",null,null,null,29.95,20.95,42.85,25.95,null,{"$f":"S2262","v":0},null,{"$f":"U2262","v":0},null,{"$f":"W2262","v":0},null,0,0,0,0,0,0,0,0]
[null,9781566606813,null,9781608186211,null,"Picturing Words in a Poem",null,null,null,"Write Me a Poem",null,null,null,29.95,20.95,42.85,{"$f":"O2272+5","v":25.95},null,{"$f":"S2270","v":0},null,{"$f":"U2270","v":0},null,{"$f":"W2270","v":0},null,{"$f":"S2272","v":0},{"$f":"U2272","v":0},{"$f":"W2272*2","v":0},{"$f":"Y2272+Z2272+AA2272","v":0},{"$f":"S2272*O2272","v":0},{"$f":"U2272*P2272","v":0},{"$f":"W2272*Q2272","v":0},{"$f":"IF(AH2272=FALSE,AC2272+AD2272+AE2272,0)","v":0}]
[null,9781566605878,null,9781608185443,null,"Environmental Protection Agency ",null,null,null,"Agents of Government",null,null,null,41.35,28.95,59.15,{"$f":"O2277+5","v":33.950000000000003},null,{"$f":"S2276","v":0},null,{"$f":"U2276","v":0},null,{"$f":"W2276","v":0},null,{"$f":"S2277","v":0},{"$f":"U2277","v":0},{"$f":"W2277*2","v":0},{"$f":"Y2277+Z2277+AA2277","v":0},{"$f":"S2277*O2277","v":0},{"$f":"U2277*P2277","v":0},{"$f":"W2277*Q2277","v":0},{"$f":"IF(AH2277=FALSE,AC2277+AD2277+AE2277,0)","v":0}]
[null,"Not Available",null,9781608181759,null,"The Story of CNN",null,null,null,"Built for Success",null,null,null,41.35,28.95,0,0,null,{"$f":"S2284","v":0},null,null,null,null,null,0,0,0,0,0,0,0,0]
[null,"Not Available",null,9781608180639,null,"The Story of the NFL",null,null,null,"Built for Success",null,null,null,41.35,28.95,0,0,null,{"$f":"S2284","v":0},null,null,null,null,null,0,0,0,0,0,0,0,0]
[null,9781566606158,null,9781608185740,null,"When Does a Line Become a Shape? ",null,null,null,"Making Math Work",null,null,null,41.35,28.95,59.15,33.950000000000003,null,{"$f":"S2304","v":0},null,{"$f":"U2304","v":0},null,{"$f":"W2304","v":0},null,0,0,0,0,0,0,0,0]
[null,9781566606479,null,9781608185368,null,"Renaissance, The",null,null,null,"Odysseys in Art",null,null,null,44.2,30.95,63.2,35.950000000000003,null,{"$f":"S2312","v":0},null,{"$f":"U2312","v":0},null,{"$f":"W2312","v":0},null,0,0,0,0,0,0,0,0]
[null,null,null,null,null,"Complete Series of 5",null,null,null,"Odysseys in History",null,null,null,{"$f":"SUM(N2323:N2327)","v":221},{"$f":"SUM(O2323:O2327)","v":154.75},{"$f":"SUM(P2323:P2327)","v":316},{"$f":"SUM(Q2323:Q2327)","v":179.75}]
[null,null,null,null,null,"Complete Series of 9",null,null,null,"Preserving America",null,null,null,{"$f":"SUM(N2338:N2346)","v":372.15000000000003},{"$f":"SUM(O2338:O2346)","v":260.54999999999995},{"$f":"SUM(P2338:P2346)","v":236.6},{"$f":"SUM(Q2338:Q2346)","v":135.80000000000001}]
[null,"Not Available",null,9781608181940,null,"Death Valley National Park",null,null,null,"Preserving America",null,null,null,41.35,28.95,0,0,null,{"$f":"S2337","v":0},null,null,null,null,null,0,0,0,0,0,0,0,0]
[null,9781566606011,null,9781608185948,null,"What Is Out There? ",null,null,null,"Think Like a Scientist",null,null,null,41.35,28.95,59.15,33.950000000000003,null,{"$f":"S2348","v":0},null,{"$f":"U2348","v":0},null,{"$f":"W2348","v":0},null,0,0,0,0,0,0,0,0]
[null,9781566606202,null,9781608185993,null,"Cold War Spies",null,null,null,"Wartime Spies",null,null,null,41.35,28.95,59.15,33.950000000000003,null,{"$f":"S2356","v":0},null,{"$f":"U2356","v":0},null,{"$f":"W2356","v":0},null,0,0,0,0,0,0,0,0]
[null,"Not Available",null,9781608184859,null,"The Sun",null,null,null,"Across the Universe",null,null,null,29.95,20.95,0,0,null,{"$f":"S2364","v":0},null,null,null,null,null,0,0,0,0,0,0,0,0]
[null,null,null,null,null,"Complete Series of 7",null,null,null,"Healthy Plates",null,null,null,{"$f":"SUM(N2381:N2387)","v":209.64999999999998},{"$f":"SUM(O2381:O2387)","v":146.65},{"$f":"SUM(P2381:P2387)","v":0},{"$f":"SUM(Q2381:Q2387)","v":0}]
[]
[null,"Not Available",null,9781608182800,null,"Giving a Presentation",null,null,null,"Classroom How-to",null,null,null,41.35,28.95,0,0,null,{"$f":"S2394","v":0},null,null,null,null,null,{"$f":"S2395","v":0},{"$f":"U2395","v":0},{"$f":"W2395*2","v":0},{"$f":"Y2395+Z2395+AA2395","v":0},{"$f":"S2395*O2395","v":0},{"$f":"U2395*P2395","v":0},{"$f":"W2395*Q2395","v":0},{"$f":"IF(AH2395=FALSE,AC2395+AD2395+AE2395,0)","v":0}]
[null,"Not Available",null,9781608184088,null,"Coal Power",null,null,null,"Harnessing Energy",null,null,null,41.35,28.95,0,0,null,{"$f":"S2400","v":0},null,null,null,null,null,{"$f":"S2401","v":0},{"$f":"U2401","v":0},{"$f":"W2401*2","v":0},{"$f":"Y2401+Z2401+AA2401","v":0},{"$f":"S2401*O2401","v":0},{"$f":"U2401*P2401","v":0},{"$f":"W2401*Q2401","v":0},{"$f":"IF(AH2401=FALSE,AC2401+AD2401+AE2401,0)","v":0}]
[null,"Not Available",null,9781608183258,null,"E.E. Cummings",null,null,null,"Voices in Poetry",null,null,null,41.35,28.95,0,0,null,{"$f":"S2408","v":0},null,null,null,null,null,{"$f":"S2409","v":0},{"$f":"U2409","v":0},{"$f":"W2409*2","v":0},{"$f":"Y2409+Z2409+AA2409","v":0},{"$f":"S2409*O2409","v":0},{"$f":"U2409*P2409","v":0},{"$f":"W2409*Q2409","v":0},{"$f":"IF(AH2409=FALSE,AC2409+AD2409+AE2409,0)","v":0}]
[null,null,null,null,null,"Complete Series of 16",null,null,null,"Creepy Creatures",null,null,null,{"$f":"SUM(N2417:N2432)","v":479.19999999999987},{"$f":"SUM(O2417:O2432)","v":335.19999999999993},{"$f":"SUM(P2417:P2432)","v":0},{"$f":"SUM(Q2417:Q2432)","v":0}]
[null,"Not Available",null,9781608182336,null,"Slugs",null,null,null,"Creepy Creatures",null,null,null,29.95,20.95,0,0,null,{"$f":"S2416","v":0},null,null,null,null,null,0,0,0,0,0,0,0,0]
[null,"Not Available",null,9781608183784,null,"Kansas City Chiefs",null,null,null,"Super Bowl Champions",null,null,null,29.95,20.95,0,0,null,{"$f":"S2434","v":0},null,null,null,null,null,0,0,0,0,0,0,0,0]
[null,"Not Available",null,9781608183845,null,"Oakland Raiders",null,null,null,"Super Bowl Champions",null,null,null,29.95,20.95,0,0,null,{"$f":"S2434","v":0},null,null,null,null,null,0,0,0,0,0,0,0,0]
[null,"Not Available",null,9781608181803,null,"Horror",null,null,null,"Stories Well Told",null,null,null,41.35,28.95,0,0,null,{"$f":"S2457","v":0},null,null,null,null,null,{"$f":"S2458","v":0},{"$f":"U2458","v":0},{"$f":"W2458*2","v":0},{"$f":"Y2458+Z2458+AA2458","v":0},{"$f":"S2458*O2458","v":0},{"$f":"U2458*P2458","v":0},{"$f":"W2458*Q2458","v":0},{"$f":"IF(AH2458=FALSE,AC2458+AD2458+AE2458,0)","v":0}]
[]
[null,"Not Available",null,9781608182633,null,"Cincinnati Reds",null,null,null,"World Series Champions '13",null,null,null,29.95,20.95,0,0,null,{"$f":"S2472","v":0},null,null,null,null,null,0,0,0,0,0,0,0,0]
[null,"Not Available",null,9781608182640,null,"Miami Marlins",null,null,null,"World Series Champions '13",null,null,null,29.95,20.95,0,0,null,{"$f":"S2472","v":0},null,null,null,null,null,0,0,0,0,0,0,0,0]
[]
[]
[null,"Not Available",null,9781608181919,null,"Mass & Matter",null,null,null,"Mysteries of the Universe",null,null,null,41.35,28.95,0,0,null,{"$f":"S2498","v":0},null,null,null,null,null,0,0,0,0,0,0,0,0]
[]
[null,null,null,null,null,"Complete Series of 4",null,null,null,"Our Wonderful Weather",null,null,null,{"$f":"SUM(N2528:N2531)","v":119.8},{"$f":"SUM(O2528:O2531)","v":83.8},{"$f":"SUM(P2528:P2531)","v":0},{"$f":"SUM(Q2528:Q2531)","v":0},null,null,null,null,null,null,null,{"$f":"S2527","v":0},{"$f":"U2527","v":0},{"$f":"W2527*2","v":0},{"$f":"Y2527+Z2527+AA2527","v":0},{"$f":"S2527*O2527","v":0},{"$f":"U2527*P2527","v":0},{"$f":"W2527*Q2527","v":0},{"$f":"IF(AH2527=FALSE,AC2527+AD2527+AE2527,0)","v":0}]
[null,"Not Available",null,9781608180318,null,"The Story of Arizona Diamondbacks",null,null,null,"Baseball: The Great American Game",null,null,null,41.35,28.95,0,0,null,{"$f":"S2533","v":0},null,null,null,null,null,{"$f":"S2534","v":0},{"$f":"U2534","v":0},{"$f":"W2534*2","v":0},{"$f":"Y2534+Z2534+AA2534","v":0},{"$f":"S2534*O2534","v":0},{"$f":"U2534*P2534","v":0},{"$f":"W2534*Q2534","v":0},{"$f":"IF(AH2534=FALSE,AC2534+AD2534+AE2534,0)","v":0}]
[null,"Not Available",null,9781608180394,null,"The Story of Colorado Rockies",null,null,null,"Baseball: The Great American Game",null,null,null,41.35,28.95,0,0,null,{"$f":"S2533","v":0},null,null,null,null,null,0,0,0,0,0,0,0,0]
[null,"Not Available",null,9781608180479,null,"The Story of Minnesota Twins",null,null,null,"Baseball: The Great American Game",null,null,null,41.35,28.95,0,0,null,{"$f":"S2533","v":0},null,null,null,null,null,0,0,0,0,0,0,0,0]
[null,"Not Available",null,9781608180561,null,"The Story of Seattle Mariners",null,null,null,"Baseball: The Great American Game",null,null,null,41.35,28.95,0,0,null,{"$f":"S2533","v":0},null,null,null,null,null,0,0,0,0,0,0,0,0]
[null,"Not Available",null,9781608180981,null,"Controversies",null,null,null,"The War on Terror",null,null,null,41.35,28.95,0,0,null,{"$f":"S2567","v":0},null,null,null,null,null,{"$f":"S2569","v":0},{"$f":"U2569","v":0},{"$f":"W2569*2","v":0},{"$f":"Y2569+Z2569+AA2569","v":0},{"$f":"S2569*O2569","v":0},{"$f":"U2569*P2569","v":0},{"$f":"W2569*Q2569","v":0},{"$f":"IF(AH2569=FALSE,AC2569+AD2569+AE2569,0)","v":0}]
[]
[null,"Not Available",null,9781583419274,null,"Forecasting",null,null,null,"Science of the Skies",null,null,null,41.35,28.95,0,0,null,{"$f":"S2584","v":0},null,null,null,null,null,{"$f":"S2585","v":0},{"$f":"U2585","v":0},{"$f":"W2585*2","v":0},{"$f":"Y2585+Z2585+AA2585","v":0},{"$f":"S2585*O2585","v":0},{"$f":"U2585*P2585","v":0},{"$f":"W2585*Q2585","v":0},{"$f":"IF(AH2585=FALSE,AC2585+AD2585+AE2585,0)","v":0}]
[null,"Not Available",null,9781583417768,null,"Haiku",null,null,null,"Poetry Basics",null,null,null,32.799999999999997,22.95,0,0,null,{"$f":"S2596","v":0},null,null,null,null,null,{"$f":"S2597","v":0},{"$f":"U2597","v":0},{"$f":"W2597*2","v":0},{"$f":"Y2597+Z2597+AA2597","v":0},{"$f":"S2597*O2597","v":0},{"$f":"U2597*P2597","v":0},{"$f":"W2597*Q2597","v":0},{"$f":"IF(AH2597=FALSE,AC2597+AD2597+AE2597,0)","v":0}]
[null,null,null,null,null,"Complete Series of 18",null,null,null,"This Land Called America",null,null,null,{"$f":"SUM(N2601:N2618)","v":590.4},{"$f":"SUM(O2601:O2618)","v":413.09999999999985},{"$f":"SUM(P2601:P2618)","v":0},{"$f":"SUM(Q2601:Q2618)","v":0}]
[null,"Not Available",null,9781583417935,null,"South Carolina",null,null,null,"This Land Called America",null,null,null,32.799999999999997,22.95,0,0,null,{"$f":"S2600","v":0},null,null,null,null,null,0,0,0,0,0,0,0,0]
["NEW",9781623103972,null,9781623103033,null,"The Boy Who Cried Wolf Retold",null,null,null,"Aesop's Funny Fables",null,null,null,29.95,20.95,42.8,{"$f":"O2622+5","v":25.95},null,{"$f":"S2620","v":0},null,{"$f":"U2620","v":0},null,{"$f":"W2620","v":0},null,0,0,0,0,0,0,0,0]
["NEW",9781623103323,null,9781623102388,null,"Baseball Records",null,null,null,"All-Time Sports Records",null,null,null,32.799999999999997,22.95,46.9,{"$f":"O2629+5","v":27.95},null,{"$f":"S2628","v":0},null,{"$f":"U2628","v":0},null,{"$f":"W2628","v":0},null,{"$f":"S2629","v":0},{"$f":"U2629","v":0},{"$f":"W2629*2","v":0},{"$f":"Y2629+Z2629+AA2629","v":0},{"$f":"S2629*O2629","v":0},{"$f":"U2629*P2629","v":0},{"$f":"W2629*Q2629","v":0},{"$f":"IF(AH2629=FALSE,AC2629+AD2629+AE2629,0)","v":0}]
[null,null,null,null,null,"Complete Series of 6",null,null,null,"Coches épicos (Epic Cars)",null,null,null,{"$f":"SUM(N2637:N2642)","v":196.8},{"$f":"SUM(O2637:O2642)","v":137.69999999999999},281.39999999999998,167.7]
[]
["NEW",9781680728422,null,9781680728347,null,"Corvette Z06",null,null,null,"Epic Cars",null,null,null,32.799999999999997,22.95,46.9,27.95,null,{"$f":"S2652","v":0},null,{"$f":"U2652","v":0},null,{"$f":"W2652","v":0},null,0,0,0,0,0,0,0,0]
["NEW",9781680728484,null,9781680728408,null,"Porsche 911 GT3",null,null,null,"Epic Cars",null,null,null,32.799999999999997,22.95,46.9,27.95,null,{"$f":"S2652","v":0},null,{"$f":"U2652","v":0},null,{"$f":"W2652","v":0},null,0,0,0,0,0,0,0,0]
["NEW",9781781216262,null,9781781216200,null,"Super Senses",null,null,null,"Fast Track Amazing Animal Adaptations",null,null,null,29.95,20.95,42.8,25.95,null,{"$f":"S2668","v":0},null,{"$f":"U2668","v":0},null,{"$f":"W2668","v":0},null,0,0,0,0,0,0,0,0]
["NEW",9781623104047,null,9781623103101,null,"The Halloween Cookbook",null,null,null,"Holiday Recipe Box",null,null,null,29.95,20.95,42.8,25.95,null,{"$f":"S2676","v":0},null,{"$f":"U2676","v":0},null,{"$f":"W2676","v":0},null,0,0,0,0,0,0,0,0]
[]
["NEW",9781623104092,null,9781623103156,null,"Searching for Bermuda Triangle Answers",null,null,null,"On the Paranormal Hunt",null,null,null,29.95,20.95,42.8,25.95,null,{"$f":"S2692","v":0},null,{"$f":"U2692","v":0},null,{"$f":"W2692","v":0},null,0,0,0,0,0,0,0,0]
[null,null,null,null,null,"Complete Series of 6",null,null,null,"Science Starters",null,null,null,{"$f":"SUM(N2709:N2714)","v":179.7},{"$f":"SUM(O2709:O2714)","v":125.7},256.8,155.69999999999999]
["NEW",9781781216361,null,9781781216309,null,"Light",null,null,null,"Science Starters",null,null,null,29.95,20.95,42.8,25.95,null,{"$f":"S2708","v":0},null,{"$f":"U2708","v":0},null,{"$f":"W2708","v":0},null,0,0,0,0,0,0,0,0]
[null,null,null,null,null,"Complete Series of 6",null,null,null,"Team Stats—Basketball Edition",null,null,null,{"$f":"SUM(N2725:N2732)","v":262.40000000000003},{"$f":"SUM(O2725:O2732)","v":183.59999999999997},375.19999999999993,223.59999999999997]
["NEW",9781623103880,null,9781623102944,null,"New York Knicks",null,null,null,"Team Stats—Basketball Edition",null,null,null,32.799999999999997,22.95,46.9,27.95,null,{"$f":"S2724","v":0},null,{"$f":"U2724","v":0},null,{"$f":"W2724","v":0},null,0,0,0,0,0,0,0,0]
["NEW",9781623104245,null,9781623103309,null,"The Imaginative Explorer's Guide to the Park",null,null,null,"The Imaginative Explorer's Guide",null,null,null,29.95,20.95,42.8,25.95,null,{"$f":"S2734","v":0},null,{"$f":"U2734","v":0},null,{"$f":"W2734","v":0},null,0,0,0,0,0,0,0,0]
["NEW",9781680727814,null,9781680727739,null,"Baby Polar Bears",null,null,null,"Adorable Animals",null,null,null,32.799999999999997,22.95,46.9,27.95,null,{"$f":"S2742","v":0},null,{"$f":"U2742","v":0},null,{"$f":"W2742","v":0},null,0,0,0,0,0,0,0,0]
["NEW",9781680727913,null,9781680727852,null,"AC-130J Ghostrider",null,null,null,"Air Power",null,null,null,32.799999999999997,22.95,46.9,{"$f":"O2761+5","v":27.95},null,{"$f":"S2760","v":0},null,{"$f":"U2760","v":0},null,{"$f":"W2760","v":0},null,{"$f":"S2761","v":0},{"$f":"U2761","v":0},{"$f":"W2761*2","v":0},{"$f":"Y2761+Z2761+AA2761","v":0},{"$f":"S2761*O2761","v":0},{"$f":"U2761*P2761","v":0},{"$f":"W2761*Q2761","v":0},{"$f":"IF(AH2761=FALSE,AC2761+AD2761+AE2761,0)","v":0}]
["NEW",9781680725001,null,9781680727883,null,"F/A-18 Super Hornet",null,null,null,"Air Power",null,null,null,32.799999999999997,22.95,46.9,27.95,null,{"$f":"S2760","v":0},null,{"$f":"U2760","v":0},null,{"$f":"W2760","v":0},null,0,0,0,0,0,0,0,0]
["NEW",9781623101800,null,9781623101749,null,"Aliens",null,null,null,"A Little Bit Spooky",null,null,null,29.95,20.95,42.8,{"$f":"O2775+5","v":25.95},null,{"$f":"S2774","v":0},null,{"$f":"U2774","v":0},null,{"$f":"W2774","v":0},null,{"$f":"S2775","v":0},{"$f":"U2775","v":0},{"$f":"W2775*2","v":0},{"$f":"Y2775+Z2775+AA2775","v":0},{"$f":"S2775*O2775","v":0},{"$f":"U2775*P2775","v":0},{"$f":"W2775*Q2775","v":0},{"$f":"IF(AH2775=FALSE,AC2775+AD2775+AE2775,0)","v":0}]
[null,null,null,null,null,"Complete Series of 6",null,null,null,"Animal Detectives",null,null,null,{"$f":"SUM(N2783:N2788)","v":179.7},{"$f":"SUM(O2783:O2788)","v":125.7},{"$f":"SUM(P2783:P2788)","v":256.8},{"$f":"SUM(Q2783:Q2788)","v":155.69999999999999}]
[]
["NEW","Not Available",null,9781912904396,null,"Collage",null,null,null,"Arty Crafty",null,null,null,32.799999999999997,22.95,0,0,null,{"$f":"S2798","v":0},null,null,null,null,null,0,0,0,0,0,0,0,0]
["NEW",9781623101497,null,9781623101435,null,"Tiger Cubs",null,null,null,"Baby Animals",null,null,null,29.95,20.95,42.8,25.95,null,{"$f":"S2806","v":0},null,{"$f":"U2806","v":0},null,{"$f":"W2806","v":0},null,0,0,0,0,0,0,0,0]
["NEW",9781680728064,null,9781680728002,null,"Ragdolls",null,null,null,"Cat Stats",null,null,null,32.799999999999997,22.95,46.9,27.95,null,{"$f":"S2814","v":0},null,{"$f":"U2814","v":0},null,{"$f":"W2814","v":0},null,0,0,0,0,0,0,0,0]
[null,null,null,null,null,"Complete Series of 6",null,null,null,"Criaturas rasteras",null,null,null,{"$f":"SUM(N2831:N2836)","v":196.8},{"$f":"SUM(O2831:O2836)","v":137.69999999999999},{"$f":"SUM(P2831:P2836)","v":281.39999999999998},{"$f":"SUM(Q2831:Q2836)","v":167.7}]
["NEW",9781623102265,null,9781623102005,null,"Los milpies (Millipedes)",null,null,null,"Criaturas rasteras",null,null,null,32.799999999999997,22.95,46.9,27.95,null,{"$f":"S2830","v":0},null,{"$f":"U2830","v":0},null,{"$f":"W2830","v":0},null,0,0,0,0,0,0,0,0]
["NEW",9781680728279,null,9781680728217,null,"Armored Dinosaurs",null,null,null,"Dinosaurs by Design",null,null,null,32.799999999999997,22.95,46.9,{"$f":"O2847+5","v":27.95},null,{"$f":"S2846","v":0},null,{"$f":"U2846","v":0},null,{"$f":"W2846","v":0},null,{"$f":"S2847","v":0},{"$f":"U2847","v":0},{"$f":"W2847*2","v":0},{"$f":"Y2847+Z2847+AA2847","v":0},{"$f":"S2847*O2847","v":0},{"$f":"U2847*P2847","v":0},{"$f":"W2847*Q2847","v":0},{"$f":"IF(AH2847=FALSE,AC2847+AD2847+AE2847,0)","v":0}]
["NEW",9781680728316,null,9781680728255,null,"Long-Necked Dinosaurs",null,null,null,"Dinosaurs by Design",null,null,null,32.799999999999997,22.95,46.9,27.95,null,{"$f":"S2846","v":0},null,{"$f":"U2846","v":0},null,{"$f":"W2846","v":0},null,0,0,0,0,0,0,0,0]
[null,9781680722123,null,9781680721485,null,"Beagles",null,null,null,"Doggie Data",null,null,null,32.799999999999997,22.95,46.9,{"$f":"O2863+5","v":27.95},null,{"$f":"S2862","v":0},null,{"$f":"U2862","v":0},null,{"$f":"W2862","v":0},null,{"$f":"S2863","v":0},{"$f":"U2863","v":0},{"$f":"W2863*2","v":0},{"$f":"Y2863+Z2863+AA2863","v":0},{"$f":"S2863*O2863","v":0},{"$f":"U2863*P2863","v":0},{"$f":"W2863*Q2863","v":0},{"$f":"IF(AH2863=FALSE,AC2863+AD2863+AE2863,0)","v":0}]
[null,9781680722161,null,9781680721522,null,"German Shepherds",null,null,null,"Doggie Data",null,null,null,32.799999999999997,22.95,46.9,27.95,null,{"$f":"S2862","v":0},null,{"$f":"U2862","v":0},null,{"$f":"W2862","v":0},null,0,0,0,0,0,0,0,0]
["NEW","Not Available",null,9781912904341,null,"Planes",null,null,null,"Easy to Draw",null,null,null,32.799999999999997,22.95,0,0,null,{"$f":"S2878","v":0},null,null,null,null,null,0,0,0,0,0,0,0,0]
[]
["NEW","Not Available",null,9781781215401,null,"Sunflower",null,null,null,"Fast Track: Life Cycles",null,null,null,29.95,20.95,0,0,null,{"$f":"S2894","v":0},null,null,null,null,null,0,0,0,0,0,0,0,0]
["NEW",9781680725247,null,9781680724080,null,"The Dinosaur Extinction",null,null,null,"History's Mysteries",null,null,null,32.799999999999997,22.95,46.9,27.95,null,{"$f":"S2902","v":0},null,{"$f":"U2902","v":0},null,{"$f":"W2902","v":0},null,0,0,0,0,0,0,0,0]
[null,null,null,null,null,"Complete Series of 6",null,null,null,"Horse Crazy",null,null,null,{"$f":"SUM(N2919:N2924)","v":196.8},{"$f":"SUM(O2919:O2924)","v":137.69999999999999},{"$f":"SUM(P2919:P2924)","v":281.39999999999998},{"$f":"SUM(Q2919:Q2924)","v":167.7}]
["NEW",9781680725315,null,9781680724158,null,"Miniature Horses",null,null,null,"Horse Crazy",null,null,null,32.799999999999997,22.95,46.9,27.95,null,{"$f":"S2918","v":0},null,{"$f":"U2918","v":0},null,{"$f":"W2918","v":0},null,0,0,0,0,0,0,0,0]
["NEW",9781680728828,null,9781680728767,null,"Maya Moore",null,null,null,"Player Profiles",null,null,null,32.799999999999997,22.95,46.9,{"$f":"O2936+5","v":27.95},null,{"$f":"S2932","v":0},null,{"$f":"U2932","v":0},null,{"$f":"W2932","v":0},null,{"$f":"S2936","v":0},{"$f":"U2936","v":0},{"$f":"W2936*2","v":0},{"$f":"Y2936+Z2936+AA2936","v":0},{"$f":"S2936*O2936","v":0},{"$f":"U2936*P2936","v":0},{"$f":"W2936*Q2936","v":0},{"$f":"IF(AH2936=FALSE,AC2936+AD2936+AE2936,0)","v":0}]
[null,null,null,null,null,"Complete Series of 6",null,null,null,"Swimming with Sharks",null,null,null,{"$f":"SUM(N2940:N2945)","v":196.8},{"$f":"SUM(O2940:O2945)","v":137.69999999999999},{"$f":"SUM(P2940:P2945)","v":281.39999999999998},{"$f":"SUM(Q2940:Q2945)","v":167.7}]
["NEW",9781680725490,null,9781680724332,null,"Highlights of the Green Bay Packers",null,null,null,"Team Stats—Football Edition",null,null,null,32.799999999999997,22.95,46.9,27.95,null,{"$f":"S2947","v":0},null,{"$f":"U2947","v":0},null,{"$f":"W2947","v":0},null,0,0,0,0,0,0,0,0]
["NEW",9781680725520,null,9781680724363,null,"Highlights of the New York Giants",null,null,null,"Team Stats—Football Edition",null,null,null,32.799999999999997,22.95,46.9,27.95,null,{"$f":"S2947","v":0},null,{"$f":"U2947","v":0},null,{"$f":"W2947","v":0},null,0,0,0,0,0,0,0,0]
["NEW",9781680725087,null,9781680723922,null,"The Skeletal System",null,null,null,"The Amazing Human Body",null,null,null,32.799999999999997,22.95,46.9,27.95,null,{"$f":"S2963","v":0},null,{"$f":"U2963","v":0},null,{"$f":"W2963","v":0},null,0,0,0,0,0,0,0,0]
[null,9781680722505,null,9781680721867,null,"African Elephants",null,null,null,"Wild Animal Kingdom",null,null,null,32.799999999999997,22.95,46.9,{"$f":"O2972+5","v":27.95},null,{"$f":"S2971","v":0},null,{"$f":"U2971","v":0},null,{"$f":"W2971","v":0},null,{"$f":"S2972","v":0},{"$f":"U2972","v":0},{"$f":"W2972*2","v":0},{"$f":"Y2972+Z2972+AA2972","v":0},{"$f":"S2972*O2972","v":0},{"$f":"U2972*P2972","v":0},{"$f":"W2972*Q2972","v":0},{"$f":"IF(AH2972=FALSE,AC2972+AD2972+AE2972,0)","v":0}]
[null,9781680721249,null,9781680720549,null,"Penguins",null,null,null,"Wild Animal Kingdom",null,null,null,32.799999999999997,22.95,46.9,27.95,null,{"$f":"S2971","v":0},null,{"$f":"U2971","v":0},null,{"$f":"W2971","v":0},null,0,0,0,0,0,0,0,0]
["NEW",9781680725605,null,9781680724448,null,"Red-Eyed Tree Frogs",null,null,null,"Wild Animal Kingdom",null,null,null,32.799999999999997,22.95,46.9,27.95,null,{"$f":"S2971","v":0},null,{"$f":"U2971","v":0},null,{"$f":"W2971","v":0},null,0,0,0,0,0,0,0,0]
[]
["NEW",9781623101718,null,9781623101657,null,"Military Robots",null,null,null,"World of Robots",null,null,null,29.95,20.95,42.8,25.95,null,{"$f":"S3003","v":0},null,{"$f":"U3003","v":0},null,{"$f":"W3003","v":0},null,0,0,0,0,0,0,0,0]
[null,9781680729153,null,9781680729092,null,"Taking Care of Your Centaur",null,null,null,"Caring for Your Magical Pets",null,null,null,29.95,20.95,42.8,{"$f":"O3020+5","v":25.95},null,{"$f":"S3019","v":0},null,{"$f":"U3019","v":0},null,{"$f":"W3019","v":0},null,{"$f":"S3020","v":0},{"$f":"U3020","v":0},{"$f":"W3020*2","v":0},{"$f":"Y3020+Z3020+AA3020","v":0},{"$f":"S3020*O3020","v":0},{"$f":"U3020*P3020","v":0},{"$f":"W3020*Q3020","v":0},{"$f":"IF(AH3020=FALSE,AC3020+AD3020+AE3020,0)","v":0}]
[null,9781680726626,null,9781680725728,null,"Récords mundiales de fútbol",null,null,null,"En la cancha (On the Pitch)",null,null,null,32.799999999999997,22.95,46.9,27.95,null,{"$f":"S3027","v":0},null,{"$f":"U3027","v":0},null,{"$f":"W3027","v":0},null,0,0,0,0,0,0,0,0]
[null,9781680720709,null,9781680720280,null,"Choppers",null,null,null,"Gearhead Garage",null,null,null,32.799999999999997,22.95,46.9,{"$f":"O3036+5","v":27.95},null,{"$f":"S3035","v":0},null,{"$f":"U3035","v":0},null,{"$f":"W3035","v":0},null,{"$f":"S3036","v":0},{"$f":"U3036","v":0},{"$f":"W3036*2","v":0},{"$f":"Y3036+Z3036+AA3036","v":0},{"$f":"S3036*O3036","v":0},{"$f":"U3036*P3036","v":0},{"$f":"W3036*Q3036","v":0},{"$f":"IF(AH3036=FALSE,AC3036+AD3036+AE3036,0)","v":0}]
[null,9781680720723,null,9781680720310,null,"Indy Cars",null,null,null,"Gearhead Garage",null,null,null,32.799999999999997,22.95,46.9,27.95,null,{"$f":"S3035","v":0},null,{"$f":"U3035","v":0},null,{"$f":"W3035","v":0},null,0,0,0,0,0,0,0,0]
[null,null,null,null,null,"Complete Series of 6",null,null,null,"Got Game",null,null,null,{"$f":"SUM(N3058:N3063)","v":196.8},{"$f":"SUM(O3058:O3063)","v":137.69999999999999},{"$f":"SUM(P3058:P3063)","v":281.39999999999998},{"$f":"SUM(Q3058:Q3063)","v":167.7}]
[null,9781680722086,null,9781680721447,null,"Basketball Science",null,null,null,"Got Game",null,null,null,32.799999999999997,22.95,46.9,27.95,null,{"$f":"S3057","v":0},null,{"$f":"U3057","v":0},null,{"$f":"W3057","v":0},null,0,0,0,0,0,0,0,0]
[null,9781680729405,null,9781680729344,null,"Make Your Own LED Flashlight",null,null,null,"Make Your Own Fun",null,null,null,29.95,20.95,42.8,25.95,null,{"$f":"S3073","v":0},null,{"$f":"U3073","v":0},null,{"$f":"W3073","v":0},null,0,0,0,0,0,0,0,0]
[null,9781680729436,null,9781680729375,null,"Make Your Own Stomp Rocket",null,null,null,"Make Your Own Fun",null,null,null,29.95,20.95,42.8,25.95,null,{"$f":"S3073","v":0},null,{"$f":"U3073","v":0},null,{"$f":"W3073","v":0},null,0,0,0,0,0,0,0,0]
[null,9781680722260,null,9781680721621,null,"Military Aircraft",null,null,null,"Military Tech",null,null,null,32.799999999999997,22.95,46.9,{"$f":"O3090+5","v":27.95},null,{"$f":"S3089","v":0},null,{"$f":"U3089","v":0},null,{"$f":"W3089","v":0},null,{"$f":"S3090","v":0},{"$f":"U3090","v":0},{"$f":"W3090*2","v":0},{"$f":"Y3090+Z3090+AA3090","v":0},{"$f":"S3090*O3090","v":0},{"$f":"U3090*P3090","v":0},{"$f":"W3090*Q3090","v":0},{"$f":"IF(AH3090=FALSE,AC3090+AD3090+AE3090,0)","v":0}]
[]
[null,9781680726657,null,9781680725759,null,"Hidroplanos (Hydroplanes)",null,null,null,"Pasion por los motores (Gearhead Garage)",null,null,null,32.799999999999997,22.95,46.9,27.95,null,{"$f":"S3105","v":0},null,{"$f":"U3105","v":0},null,{"$f":"W3105","v":0},null,0,0,0,0,0,0,0,0]
[null,9781680726688,null,9781680725780,null,"Dragsters Top Fuel (Top Fuel Dragsters)",null,null,null,"Pasion por los motores (Gearhead Garage)",null,null,null,32.799999999999997,22.95,46.9,27.95,null,{"$f":"S3105","v":0},null,{"$f":"U3105","v":0},null,{"$f":"W3105","v":0},null,0,0,0,0,0,0,0,0]
[null,9781680720808,null,9781680720624,null,"Stock Car Drivers",null,null,null,"Rank It!",null,null,null,32.799999999999997,22.95,46.9,27.95,null,{"$f":"S3113","v":0},null,{"$f":"U3113","v":0},null,{"$f":"W3113","v":0},null,0,0,0,0,0,0,0,0]
[null,9781680729528,null,9781680729467,null,"Draw Animals Dressed Like People!",null,null,null,"Silly Sketcher",null,null,null,29.95,20.95,42.8,25.95,null,{"$f":"S3127","v":0},null,{"$f":"U3127","v":0},null,{"$f":"W3127","v":0},null,0,0,0,0,0,0,0,0]
[null,null,null,null,null,"Complete Series of 12",null,null,null,"Strange . . . But True?",null,null,null,{"$f":"SUM(N3142:N3153)","v":393.60000000000008},{"$f":"SUM(O3142:O3153)","v":275.39999999999992},{"$f":"SUM(P3142:P3153)","v":562.79999999999984},{"$f":"SUM(Q3142:Q3153)","v":335.39999999999992}]
[null,9781680721041,null,9781680720228,null,"ESP",null,null,null,"Strange . . . But True?",null,null,null,32.799999999999997,22.95,46.9,27.95,null,{"$f":"S3141","v":0},null,{"$f":"U3141","v":0},null,{"$f":"W3141","v":0},null,0,0,0,0,0,0,0,0]
[null,9781680726725,null,9781680725827,null,"Vehículos militares terrestres (Military Ground Vehicles)",null,null,null,"Tecnologia militar (Military Technology)",null,null,null,32.799999999999997,22.95,46.9,27.95,null,{"$f":"S3155","v":0},null,{"$f":"U3155","v":0},null,{"$f":"W3155","v":0},null,0,0,0,0,0,0,0,0]
[null,9781781214763,null,9781781214428,null,"Green Sea Turtles",null,null,null,"Fast Track: Animals in Danger",null,null,null,29.95,20.95,42.8,25.95,null,{"$f":"S3163","v":0},null,{"$f":"U3163","v":0},null,{"$f":"W3163","v":0},null,0,0,0,0,0,0,0,0]
[null,9781781214824,null,9781781214541,null,"Music Technology",null,null,null,"History of Inventions",null,null,null,29.95,20.95,42.8,25.95,null,{"$f":"S3171","v":0},null,{"$f":"U3171","v":0},null,{"$f":"W3171","v":0},null,0,0,0,0,0,0,0,0]
[null,"Not Available",null,9781911242819,null,"Ancient Egypt",null,null,null,"Worldwise History",null,null,null,29.95,20.95,0,0,null,{"$f":"S3179","v":0},null,null,null,null,null,{"$f":"S3180","v":0},{"$f":"U3180","v":0},{"$f":"W3180*2","v":0},{"$f":"Y3180+Z3180+AA3180","v":0},{"$f":"S3180*O3180","v":0},{"$f":"U3180*P3180","v":0},{"$f":"W3180*Q3180","v":0},{"$f":"IF(AH3180=FALSE,AC3180+AD3180+AE3180,0)","v":0}]
[null,9781680726206,null,9781680726145,null,"Awesome, Disgusting, Unusual Facts about Sports\n",null,null,null,"Our Gross, Awesome World",null,null,null,29.95,20.95,42.8,25.95,null,{"$f":"S3191","v":0},null,{"$f":"U3191","v":0},null,{"$f":"W3191","v":0},null,0,0,0,0,0,0,0,0]
[null,9781680725957,null,9781680725896,null,"Mastering Spy Techniques",null,null,null,"Spy Kid",null,null,null,29.95,20.95,42.8,25.95,null,{"$f":"S3199","v":0},null,{"$f":"U3199","v":0},null,{"$f":"W3199","v":0},null,0,0,0,0,0,0,0,0]
[]
[null,9781680726312,null,9781680726251,null,"Make Your Own Fake Poo",null,null,null,"The Disgusting Crafter",null,null,null,29.95,20.95,42.8,25.95,null,{"$f":"S3215","v":0},null,{"$f":"U3215","v":0},null,{"$f":"W3215","v":0},null,0,0,0,0,0,0,0,0]
[null,9781680723540,null,9781680723243,null,"Build Your Own Scribble Bot",null,null,null,"Bot Maker",null,null,null,29.95,20.95,42.8,25.95,null,{"$f":"S3223","v":0},null,{"$f":"U3223","v":0},null,{"$f":"W3223","v":0},null,0,0,0,0,0,0,0,0]
[null,9781781214268,null,9781781214091,null,"Placodus and Other Swimming Reptiles",null,null,null,"Dinosaur Detectives",null,null,null,29.95,20.95,42.8,25.95,null,{"$f":"S3231","v":0},null,{"$f":"U3231","v":0},null,{"$f":"W3231","v":0},null,0,0,0,0,0,0,0,0]
[null,null,null,null,null,"Complete Series of 6",null,null,null,"Just for Laughs",null,null,null,{"$f":"SUM(N3248:N3253)","v":179.7},{"$f":"SUM(O3248:O3253)","v":125.7},{"$f":"SUM(P3248:P3253)","v":256.8},{"$f":"SUM(Q3248:Q3253)","v":155.69999999999999}]
[null,9781680723595,null,9781680723298,null,"Scary, Spooky Jokes about Monsters",null,null,null,"Just for Laughs",null,null,null,29.95,20.95,42.8,25.95,null,{"$f":"S3247","v":0},null,{"$f":"U3247","v":0},null,{"$f":"W3247","v":0},null,0,0,0,0,0,0,0,0]
[null,9781680723717,null,9781680723410,null,"Surviving a Bigfoot Attack",null,null,null,"Survival Guides You Didn't Know You Needed",null,null,null,29.95,20.95,42.8,{"$f":"O3264+5","v":25.95},null,{"$f":"S3263","v":0},null,{"$f":"U3263","v":0},null,{"$f":"W3263","v":0},null,{"$f":"S3264","v":0},{"$f":"U3264","v":0},{"$f":"W3264*2","v":0},{"$f":"Y3264+Z3264+AA3264","v":0},{"$f":"S3264*O3264","v":0},{"$f":"U3264*P3264","v":0},{"$f":"W3264*Q3264","v":0},{"$f":"IF(AH3264=FALSE,AC3264+AD3264+AE3264,0)","v":0}]
[null,9781680723700,null,9781680723403,null,"Surviving in the Jungle",null,null,null,"Survival Guides You Didn't Know You Needed",null,null,null,29.95,20.95,42.8,25.95,null,{"$f":"S3263","v":0},null,{"$f":"U3263","v":0},null,{"$f":"W3263","v":0},null,0,0,0,0,0,0,0,0]
[]
[null,null,null,null,null,"Complete Series of 6",null,null,null,"Fast Track: Simple Machines",null,null,null,{"$f":"SUM(N3286:N3291)","v":179.7},{"$f":"SUM(O3286:O3291)","v":125.7},{"$f":"SUM(P3286:P3291)","v":256.8},{"$f":"SUM(Q3286:Q3291)","v":155.69999999999999}]
[null,9781781213865,null,9781781213681,null,"Asteroids, Comets, and Meteors",null,null,null,"Fast Track: Our Solar System",null,null,null,29.95,20.95,42.8,{"$f":"O3298+5","v":25.95},null,{"$f":"S3297","v":0},null,{"$f":"U3297","v":0},null,{"$f":"W3297","v":0},null,{"$f":"S3298","v":0},{"$f":"U3298","v":0},{"$f":"W3298*2","v":0},{"$f":"Y3298+Z3298+AA3298","v":0},{"$f":"S3298*O3298","v":0},{"$f":"U3298*P3298","v":0},{"$f":"W3298*Q3298","v":0},{"$f":"IF(AH3298=FALSE,AC3298+AD3298+AE3298,0)","v":0}]
[null,null,null,null,null,"Complete Series of 6",null,null,null,"Fast Track: Who Lives Here?",null,null,null,{"$f":"SUM(N3306:N3311)","v":179.7},{"$f":"SUM(O3306:O3311)","v":125.7},{"$f":"SUM(P3306:P3311)","v":256.8},{"$f":"SUM(Q3306:Q3311)","v":155.69999999999999}]
[null,9781625884237,null,9781625884077,null,"Dawn Horse",null,null,null,"Graphic Prehistoric Animals",null,null,null,32.799999999999997,22.95,46.9,{"$f":"O3314+5","v":27.95},null,{"$f":"S3313","v":0},null,{"$f":"U3313","v":0},null,{"$f":"W3313","v":0},null,{"$f":"S3314","v":0},{"$f":"U3314","v":0},{"$f":"W3314*2","v":0},{"$f":"Y3314+Z3314+AA3314","v":0},{"$f":"S3314*O3314","v":0},{"$f":"U3314*P3314","v":0},{"$f":"W3314*Q3314","v":0},{"$f":"IF(AH3314=FALSE,AC3314+AD3314+AE3314,0)","v":0}]
[null,9781625884299,null,9781625884138,null,"Terror Bird",null,null,null,"Graphic Prehistoric Animals",null,null,null,32.799999999999997,22.95,46.9,27.95,null,{"$f":"S3313","v":0},null,{"$f":"U3313","v":0},null,{"$f":"W3313","v":0},null,0,0,0,0,0,0,0,0]
[null,9781680720860,null,9781680720105,null,"Tapeworms",null,null,null,"Awful, Disgusting Parasites",null,null,null,32.799999999999997,22.95,46.9,27.95,null,{"$f":"S3330","v":0},null,{"$f":"U3330","v":0},null,{"$f":"W3330","v":0},null,0,0,0,0,0,0,0,0]
[null,9781680721164,null,9781680720464,null,"Nelson Cruz",null,null,null,"Béisbol! Latino Heroes of Major League Baseball",null,null,null,32.799999999999997,22.95,46.9,{"$f":"O3343+5","v":27.95},null,{"$f":"S3338","v":0},null,{"$f":"U3338","v":0},null,{"$f":"W3338","v":0},null,{"$f":"S3343","v":0},{"$f":"U3343","v":0},{"$f":"W3343*2","v":0},{"$f":"Y3343+Z3343+AA3343","v":0},{"$f":"S3343*O3343","v":0},{"$f":"U3343*P3343","v":0},{"$f":"W3343*Q3343","v":0},{"$f":"IF(AH3343=FALSE,AC3343+AD3343+AE3343,0)","v":0}]
[null,null,null,null,null,"Complete Series of 8",null,null,null,"Invasive Species Takeover",null,null,null,{"$f":"SUM(N3354:N3361)","v":262.40000000000003},{"$f":"SUM(O3354:O3361)","v":183.59999999999997},{"$f":"SUM(P3354:P3361)","v":375.19999999999993},{"$f":"SUM(Q3354:Q3361)","v":223.59999999999997}]
[null,9781680720938,null,9781680720174,null,"Burmese Pythons",null,null,null,"Invasive Species Takeover",null,null,null,32.799999999999997,22.95,46.9,27.95,null,{"$f":"S3353","v":0},null,{"$f":"U3353","v":0},null,{"$f":"W3353","v":0},null,0,0,0,0,0,0,0,0]
[null,9781680721287,null,9781680720655,null,"Misty Copeland",null,null,null,"Women Who Rock",null,null,null,32.799999999999997,22.95,46.9,27.95,null,{"$f":"S3363","v":0},null,{"$f":"U3363","v":0},null,{"$f":"W3363","v":0},null,0,0,0,0,0,0,0,0]
[null,9781680710069,null,9781599209517,null,"Life in Roman Times",null,null,null,"Everyday History",null,null,null,32.799999999999997,22.95,46.9,{"$f":"O3374+5","v":27.95},null,{"$f":"S3371","v":0},null,{"$f":"U3371","v":0},null,{"$f":"W3371","v":0},null,{"$f":"S3374","v":0},{"$f":"U3374","v":0},{"$f":"W3374*2","v":0},{"$f":"Y3374+Z3374+AA3374","v":0},{"$f":"S3374*O3374","v":0},{"$f":"U3374*P3374","v":0},{"$f":"W3374*Q3374","v":0},{"$f":"IF(AH3374=FALSE,AC3374+AD3374+AE3374,0)","v":0}]
[null,9781625885524,null,9781625880703,null,"Desert Animals",null,null,null,"Safari Sam's Wild Animals",null,null,null,29.95,20.95,42.8,{"$f":"O3386+5","v":25.95},null,{"$f":"S3385","v":0},null,{"$f":"U3385","v":0},null,{"$f":"W3385","v":0},null,{"$f":"S3386","v":0},{"$f":"U3386","v":0},{"$f":"W3386*2","v":0},{"$f":"Y3386+Z3386+AA3386","v":0},{"$f":"S3386*O3386","v":0},{"$f":"U3386*P3386","v":0},{"$f":"W3386*Q3386","v":0},{"$f":"IF(AH3386=FALSE,AC3386+AD3386+AE3386,0)","v":0}]
[null,null,null,null,null,"Complete Series of 6",null,null,null,"Amazing Biomes",null,null,null,{"$f":"SUM(N3394:N3399)","v":196.8},{"$f":"SUM(O3394:O3399)","v":137.69999999999999},{"$f":"SUM(P3394:P3399)","v":281.39999999999998},{"$f":"SUM(Q3394:Q3399)","v":167.7}]
[null,9781625887092,null,9781625880628,null,"Diggers",null,null,null,"Mechanic Mike's Machines",null,null,null,29.95,20.95,42.8,25.95,null,{"$f":"S3401","v":0},null,{"$f":"U3401","v":0},null,{"$f":"W3401","v":0},null,0,0,0,0,0,0,0,0]
[null,9781625887115,null,9781625880574,null,"Planes",null,null,null,"Mechanic Mike's Machines",null,null,null,29.95,20.95,42.8,25.95,null,{"$f":"S3401","v":0},null,{"$f":"U3401","v":0},null,{"$f":"W3401","v":0},null,0,0,0,0,0,0,0,0]
[null,9781625885852,null,9781599209159,null,"Ganges River",null,null,null,"River Adventures",null,null,null,32.799999999999997,22.95,46.9,27.95,null,{"$f":"S3421","v":0},null,{"$f":"U3421","v":0},null,{"$f":"W3421","v":0},null,0,0,0,0,0,0,0,0]
[null,9781625885869,null,9781599209166,null,"Mississippi River",null,null,null,"River Adventures",null,null,null,32.799999999999997,22.95,46.9,27.95,null,{"$f":"S3421","v":0},null,{"$f":"U3421","v":0},null,{"$f":"W3421","v":0},null,0,0,0,0,0,0,0,0]
[null,null,null,null,null,"Complete Series of 3",null,null,null,"The Music Scene",null,null,null,{"$f":"SUM(N3438:N3440)","v":128.39999999999998},{"$f":"SUM(O3438:O3440)","v":89.85},{"$f":"SUM(P3438:P3440)","v":183.60000000000002},{"$f":"SUM(Q3438:Q3440)","v":104.85000000000001}]
[null,"Not Available",null,9781599209814,null,"Deadly Seas: You Decide How to Survive!",null,null,null,"The Worst-Case Scenario Ultimate Adventure",null,null,null,48.5,33.950000000000003,0,0,null,{"$f":"S3442","v":0},null,null,null,null,null,{"$f":"S3444","v":0},{"$f":"U3444","v":0},{"$f":"W3444*2","v":0},{"$f":"Y3444+Z3444+AA3444","v":0},{"$f":"S3444*O3444","v":0},{"$f":"U3444*P3444","v":0},{"$f":"W3444*Q3444","v":0},{"$f":"IF(AH3444=FALSE,AC3444+AD3444+AE3444,0)","v":0}]
[]
[null,null,null,null,null,"Complete Series of 13",null,null,null,"Big Beasts",null,null,null,{"$f":"SUM(N3463:N3475)","v":389.34999999999991},{"$f":"SUM(O3463:O3475)","v":272.34999999999997},{"$f":"SUM(P3463:P3475)","v":0},{"$f":"SUM(Q3463:Q3475)","v":0}]
[null,"Not Available",null,9781625881717,null,"Snake",null,null,null,"Big Beasts",null,null,null,29.95,20.95,0,0,null,{"$f":"S3462","v":0},null,null,null,null,null,0,0,0,0,0,0,0,0]
[null,"Not Available",null,9781625881991,null,"Ocean Animals Around the World",null,null,null,"Animals Around the World",null,null,null,32.799999999999997,22.95,0,0,null,{"$f":"S3477","v":0},null,null,null,null,null,0,0,0,0,0,0,0,0]
[null,9781781212752,null,9781781212370,null,"Spacecraft",null,null,null,"Technology Timelines",null,null,null,32.799999999999997,22.95,46.9,27.95,null,{"$f":"S3487","v":0},null,{"$f":"U3487","v":0},null,{"$f":"W3487","v":0},null,0,0,0,0,0,0,0,0]
[null,null,null,null,null,"Complete Series of 5",null,null,null,"Worst-Case Scenario Survival Handbook",null,null,null,{"$f":"SUM(N3496:N3500)","v":221},{"$f":"SUM(O3496:O3500)","v":154.75},{"$f":"SUM(P3496:P3500)","v":0},{"$f":"SUM(Q3496:Q3500)","v":0}]
[null,9781781212028,null,9781781210833,null,"The Ancient Egyptians",null,null,null,"At Home With…",null,null,null,32.799999999999997,22.95,46.9,{"$f":"O3503+5","v":27.95},null,{"$f":"S3502","v":0},null,{"$f":"U3502","v":0},null,{"$f":"W3502","v":0},null,{"$f":"S3503","v":0},{"$f":"U3503","v":0},{"$f":"W3503*2","v":0},{"$f":"Y3503+Z3503+AA3503","v":0},{"$f":"S3503*O3503","v":0},{"$f":"U3503*P3503","v":0},{"$f":"W3503*Q3503","v":0},{"$f":"IF(AH3503=FALSE,AC3503+AD3503+AE3503,0)","v":0}]
[null,9781625884909,null,9781625880383,null,"Gray Wolf",null,null,null,"North American Mammals",null,null,null,29.95,20.95,42.8,25.95,null,{"$f":"S3510","v":0},null,{"$f":"U3510","v":0},null,{"$f":"W3510","v":0},null,0,0,0,0,0,0,0,0]
[null,"Not Available",null,9781781210420,null,"Causes and Outbreak",null,null,null,"NAM: The Vietnam War",null,null,null,42.8,29.95,0,0,null,{"$f":"S3524","v":0},null,null,null,null,null,{"$f":"S3525","v":0},{"$f":"U3525","v":0},{"$f":"W3525*2","v":0},{"$f":"Y3525+Z3525+AA3525","v":0},{"$f":"S3525*O3525","v":0},{"$f":"U3525*P3525","v":0},{"$f":"W3525*Q3525","v":0},{"$f":"IF(AH3525=FALSE,AC3525+AD3525+AE3525,0)","v":0}]
[null,null,null,null,null,"Complete Series of 6",null,null,null,"The Young Entrepreneurs' Club",null,null,null,{"$f":"SUM(N3533:N3538)","v":256.8},{"$f":"SUM(O3533:O3538)","v":179.7},{"$f":"SUM(P3533:P3538)","v":0},{"$f":"SUM(Q3533:Q3538)","v":0}]
[null,"Not Available",null,9781936333264,null,"Life Under Occupation",null,null,null,"World War II Sourcebook",null,null,null,42.8,29.95,0,0,null,{"$f":"S3540","v":0},null,null,null,null,null,{"$f":"S3542","v":0},{"$f":"U3542","v":0},{"$f":"W3542*2","v":0},{"$f":"Y3542+Z3542+AA3542","v":0},{"$f":"S3542*O3542","v":0},{"$f":"U3542*P3542","v":0},{"$f":"W3542*Q3542","v":0},{"$f":"IF(AH3542=FALSE,AC3542+AD3542+AE3542,0)","v":0}]
[]
[]
[null,null,null,null,null,"Complete Series of 4",null,null,null,"Mission Impossible",null,null,null,{"$f":"SUM(N3564:N3567)","v":131.19999999999999},{"$f":"SUM(O3564:O3567)","v":91.8},{"$f":"SUM(P3564:P3567)","v":0},{"$f":"SUM(Q3564:Q3567)","v":0}]
[null,"Not Available",null,9781599206776,null,"Planes",null,null,null,"My Favorite Machines",null,null,null,29.95,20.95,0,0,null,{"$f":"S3569","v":0},null,null,null,null,null,{"$f":"S3571","v":0},{"$f":"U3571","v":0},{"$f":"W3571*2","v":0},{"$f":"Y3571+Z3571+AA3571","v":0},{"$f":"S3571*O3571","v":0},{"$f":"U3571*P3571","v":0},{"$f":"W3571*Q3571","v":0},{"$f":"IF(AH3571=FALSE,AC3571+AD3571+AE3571,0)","v":0}]
[null,"Not Available",null,9781936333479,null,"People",null,null,null,"CC: Civil War",null,null,null,44.2,30.95,0,0,null,{"$f":"S3574","v":0},null,null,null,null,null,0,0,0,0,0,0,0,0]
[null,"Not Available",null,9781936333172,null,"Cognitive Development",null,null,null,"CC: Psychology",null,null,null,44.2,30.95,0,0,null,{"$f":"S3574","v":0},null,null,null,null,null,0,0,0,0,0,0,0,0]
["NEW",9781645820024,null,9781632357144,null,"12 Athletes Who Changed the World",null,null,null,"Change Makers",null,null,null,32.799999999999997,22.95,46.8,27.95,null,{"$f":"S3598","v":0},null,{"$f":"U3598","v":0},null,{"$f":"W3598","v":0},null,0,0,0,0,0,0,0,0]
[]
["NEW",9781645820147,null,9781632357274,null,"Explore Moscow",null,null,null,"Great Cities of the World",null,null,null,32.799999999999997,22.95,46.8,27.95,null,{"$f":"S3614","v":0},null,{"$f":"U3614","v":0},null,{"$f":"W3614","v":0},null,0,0,0,0,0,0,0,0]
["NEW",9781645820222,null,9781632357366,null,"12 Epic Rescues",null,null,null,"Incredible",null,null,null,32.799999999999997,22.95,46.8,27.95,null,{"$f":"S3628","v":0},null,{"$f":"U3628","v":0},null,{"$f":"W3628","v":0},null,0,0,0,0,0,0,0,0]
["NEW",9781645820253,null,9781632357397,null,"12 Suspenseful Mysteries",null,null,null,"Incredible",null,null,null,32.799999999999997,22.95,46.8,27.95,null,{"$f":"S3628","v":0},null,{"$f":"U3628","v":0},null,{"$f":"W3628","v":0},null,0,0,0,0,0,0,0,0]
["NEW",9781645820338,null,9781632357489,null,"12 Stories about Helping Seniors",null,null,null,"Making a Difference",null,null,null,32.799999999999997,22.95,46.8,27.95,null,{"$f":"S3636","v":0},null,{"$f":"U3636","v":0},null,{"$f":"W3636","v":0},null,0,0,0,0,0,0,0,0]
["NEW",9781645820390,null,9781632357557,null,"12 Journalists and Media Personalities with Disabilities",null,null,null,"No Barriers",null,null,null,32.799999999999997,22.95,46.8,27.95,null,{"$f":"S3646","v":0},null,{"$f":"U3646","v":0},null,{"$f":"W3646","v":0},null,0,0,0,0,0,0,0,0]
[null,null,null,null,null,"Complete Series of 5",null,null,null,"Prehistoric",null,null,null,{"$f":"SUM(N3665:N3669)","v":164},{"$f":"SUM(O3665:O3669)","v":114.75},{"$f":"SUM(P3665:P3669)","v":234},{"$f":"SUM(Q3665:Q3669)","v":139.75}]
[null,null,null,null,null,"Complete Series of 12",null,null,null,"Women Who Changed the World",null,null,null,{"$f":"SUM(N3672:N3683)","v":393.60000000000008},{"$f":"SUM(O3672:O3683)","v":275.39999999999992},{"$f":"SUM(P3672:P3683)","v":561.6},{"$f":"SUM(Q3672:Q3683)","v":335.39999999999992}]
["NEW",9781645820635,null,9781632357830,null,"12 Women in the Space Industry",null,null,null,"Women Who Changed the World",null,null,null,32.799999999999997,22.95,46.8,27.95,null,{"$f":"S3671","v":0},null,{"$f":"U3671","v":0},null,{"$f":"W3671","v":0},null,0,0,0,0,0,0,0,0]
[null,9781632356567,null,9781632355379,null,"The 12 Worst Health Disasters of All Time",null,null,null,"All-Time Worst Disasters",null,null,null,32.799999999999997,22.95,46.8,27.95,null,{"$f":"S3685","v":0},null,{"$f":"U3685","v":0},null,{"$f":"W3685","v":0},null,0,0,0,0,0,0,0,0]
[null,9781632356925,null,9781632355775,null,"12 Immigrants Who Made American Sports Great",null,null,null,"A Nation of Immigrants",null,null,null,32.799999999999997,22.95,46.8,27.95,null,{"$f":"S3695","v":0},null,{"$f":"U3695","v":0},null,{"$f":"W3695","v":0},null,0,0,0,0,0,0,0,0]
[null,9781632356932,null,9781632355782,null,"12 Immigrants Who Made American Technology Great",null,null,null,"A Nation of Immigrants",null,null,null,32.799999999999997,22.95,46.8,27.95,null,{"$f":"S3695","v":0},null,{"$f":"U3695","v":0},null,{"$f":"W3695","v":0},null,0,0,0,0,0,0,0,0]
[null,9781632356659,null,9781632355478,null,"Biggest Super Bowl Upsets",null,null,null,"Best of the Super Bowl",null,null,null,32.799999999999997,22.95,46.8,27.95,null,{"$f":"S3705","v":0},null,{"$f":"U3705","v":0},null,{"$f":"W3705","v":0},null,0,0,0,0,0,0,0,0]
[null,9781632356758,null,9781632355584,null,"Explore Nigeria: 12 Key Facts",null,null,null,"Country Profiles",null,null,null,32.799999999999997,22.95,46.8,27.95,null,{"$f":"S3713","v":0},null,{"$f":"U3713","v":0},null,{"$f":"W3713","v":0},null,0,0,0,0,0,0,0,0]
[null,9781632356826,null,9781632355669,null,"12 Epic Ocean Adventures",null,null,null,"Epic Adventures",null,null,null,32.799999999999997,22.95,46.8,27.95,null,{"$f":"S3727","v":0},null,{"$f":"U3727","v":0},null,{"$f":"W3727","v":0},null,0,0,0,0,0,0,0,0]
[null,9781632357052,null,9781632355928,null,"Forgotten History of Everyday Inventions",null,null,null,"Hidden History",null,null,null,32.799999999999997,22.95,46.8,27.95,null,{"$f":"S3737","v":0},null,{"$f":"U3737","v":0},null,{"$f":"W3737","v":0},null,0,0,0,0,0,0,0,0]
[null,9781632356963,null,9781632355829,null,"12 Biggest Breakthroughs in Gaming Technology, The",null,null,null,"Technology Breakthroughs",null,null,null,32.799999999999997,22.95,46.8,27.95,null,{"$f":"S3747","v":0},null,{"$f":"U3747","v":0},null,{"$f":"W3747","v":0},null,0,0,0,0,0,0,0,0]
[null,9781621430582,null,9781632350176,null,"12 Biggest Breakthroughs in Transportation Technology, The",null,null,null,"Technology Breakthroughs",null,null,null,32.799999999999997,22.95,46.8,27.95,null,{"$f":"S3747","v":0},null,{"$f":"U3747","v":0},null,{"$f":"W3747","v":0},null,0,0,0,0,0,0,0,0]
[null,9781621435600,null,9781632354402,null,"Snakes Are Awesome",null,null,null,"Animals Are Awesome",null,null,null,32.799999999999997,22.95,46.8,27.95,null,{"$f":"S3763","v":0},null,{"$f":"U3763","v":0},null,{"$f":"W3763","v":0},null,0,0,0,0,0,0,0,0]
[null,null,null,null,null,"Complete Series of 10",null,null,null,"Career Files",null,null,null,{"$f":"SUM(N3774:N3783)","v":328.00000000000006},{"$f":"SUM(O3774:O3783)","v":229.49999999999994},{"$f":"SUM(P3774:P3783)","v":468.00000000000006},{"$f":"SUM(Q3774:Q3783)","v":279.49999999999994}]
[null,9781621435693,null,9781632354501,null,"Working in Technology",null,null,null,"Career Files",null,null,null,32.799999999999997,22.95,46.8,27.95,null,{"$f":"S3773","v":0},null,{"$f":"U3773","v":0},null,{"$f":"W3773","v":0},null,0,0,0,0,0,0,0,0]
[null,9781621435778,null,9781632354594,null,"Tundra Ecosystems",null,null,null,"Earth's Ecosystems",null,null,null,32.799999999999997,22.95,46.8,27.95,null,{"$f":"S3785","v":0},null,{"$f":"U3785","v":0},null,{"$f":"W3785","v":0},null,0,0,0,0,0,0,0,0]
[null,null,null,null,null,"Complete Series of 8",null,null,null,"Perspectives on US History",null,null,null,{"$f":"SUM(N3804:N3811)","v":262.40000000000003},{"$f":"SUM(O3804:O3811)","v":183.59999999999997},{"$f":"SUM(P3804:P3811)","v":374.40000000000003},{"$f":"SUM(Q3804:Q3811)","v":223.59999999999997}]
[null,9781621435297,null,9781632354051,null,"Perspectives on the Women’s Rights Movement",null,null,null,"Perspectives on US History",null,null,null,32.799999999999997,22.95,46.8,27.95,null,{"$f":"S3803","v":0},null,{"$f":"U3803","v":0},null,{"$f":"W3803","v":0},null,0,0,0,0,0,0,0,0]
[null,9781621435532,null,9781632354327,null,"12 Reasons to Love Volleyball",null,null,null,"Sports Report",null,null,null,32.799999999999997,22.95,46.8,27.95,null,{"$f":"S3813","v":0},null,{"$f":"U3813","v":0},null,{"$f":"W3813","v":0},null,0,0,0,0,0,0,0,0]
[null,9781621435341,null,9781632354112,null,"The 12 Most Influential Musicians of All Time",null,null,null,"The Most Influential",null,null,null,32.799999999999997,22.95,46.8,27.95,null,{"$f":"S3823","v":0},null,{"$f":"U3823","v":0},null,{"$f":"W3823","v":0},null,0,0,0,0,0,0,0,0]
[null,9781621435440,null,9781632354228,null,"Incredible Technology",null,null,null,"Unbelievable",null,null,null,32.799999999999997,22.95,46.8,27.95,null,{"$f":"S3833","v":0},null,{"$f":"U3833","v":0},null,{"$f":"W3833","v":0},null,0,0,0,0,0,0,0,0]
[]
[null,9781621434382,null,9781632352699,null,"The War of 1812: 12 Things to Know",null,null,null,"America at War",null,null,null,32.799999999999997,22.95,46.8,27.95,null,{"$f":"S3843","v":0},null,{"$f":"U3843","v":0},null,{"$f":"W3843","v":0},null,0,0,0,0,0,0,0,0]
[null,9781621434566,null,9781632352897,null,"12 Questions about the US Constitution ",null,null,null,"Examining Primary Sources",null,null,null,32.799999999999997,22.95,46.8,27.95,null,{"$f":"S3853","v":0},null,{"$f":"U3853","v":0},null,{"$f":"W3853","v":0},null,0,0,0,0,0,0,0,0]
[null,9781621434474,null,9781632352798,null,"12 Great Tips on Writing to Persuade",null,null,null,"Great Tips on Writing",null,null,null,32.799999999999997,22.95,46.8,27.95,null,{"$f":"S3863","v":0},null,{"$f":"U3863","v":0},null,{"$f":"W3863","v":0},null,0,0,0,0,0,0,0,0]
[null,9781621435112,null,9781632353696,null,"12 Ways to Improve Athletic Performance",null,null,null,"Healthy Living",null,null,null,32.799999999999997,22.95,46.8,27.95,null,{"$f":"S3873","v":0},null,{"$f":"U3873","v":0},null,{"$f":"W3873","v":0},null,0,0,0,0,0,0,0,0]
[null,9781621435211,null,9781632353801,null,"Searching for Alien Life",null,null,null,"Science Frontiers",null,null,null,32.799999999999997,22.95,46.8,27.95,null,{"$f":"S3883","v":0},null,{"$f":"U3883","v":0},null,{"$f":"W3883","v":0},null,0,0,0,0,0,0,0,0]
[null,9781621434702,null,9781632353054,null,"Space Myths, Busted!",null,null,null,"Science Myths, Busted!",null,null,null,32.799999999999997,22.95,46.8,27.95,null,{"$f":"S3893","v":0},null,{"$f":"U3893","v":0},null,{"$f":"W3893","v":0},null,0,0,0,0,0,0,0,0]
[null,9781621434627,null,9781632352965,null,"12 Spooky Haunted Places",null,null,null,"Scary and Spooky",null,null,null,32.799999999999997,22.95,46.8,27.95,null,{"$f":"S3903","v":0},null,{"$f":"U3903","v":0},null,{"$f":"W3903","v":0},null,0,0,0,0,0,0,0,0]
[]
[null,9781621432296,null,9781632351357,null,"12 Super-Camouflaged Animals You Need to Know",null,null,null,"Super-Incredible Animals",null,null,null,32.799999999999997,22.95,46.8,{"$f":"O3920+5","v":27.95},null,{"$f":"S3919","v":0},null,{"$f":"U3919","v":0},null,{"$f":"W3919","v":0},null,{"$f":"S3920","v":0},{"$f":"U3920","v":0},{"$f":"W3920*2","v":0},{"$f":"Y3920+Z3920+AA3920","v":0},{"$f":"S3920*O3920","v":0},{"$f":"U3920*P3920","v":0},{"$f":"W3920*Q3920","v":0},{"$f":"IF(AH3920=FALSE,AC3920+AD3920+AE3920,0)","v":0}]
[null,9781621430933,null,9781632350527,null,"Alabaster Ring, The",null,null,null,"Tartan House",null,null,null,28.5,19.95,40.75,{"$f":"O3930+5","v":24.95},null,{"$f":"S3929","v":0},null,{"$f":"U3929","v":0},null,{"$f":"W3929","v":0},null,{"$f":"S3930","v":0},{"$f":"U3930","v":0},{"$f":"W3930*2","v":0},{"$f":"Y3930+Z3930+AA3930","v":0},{"$f":"S3930*O3930","v":0},{"$f":"U3930*P3930","v":0},{"$f":"W3930*Q3930","v":0},{"$f":"IF(AH3930=FALSE,AC3930+AD3930+AE3930,0)","v":0}]
[null,9781621432555,null,9781632351647,null,"Limbo's Diner",null,null,null,"Tartan House",null,null,null,28.5,19.95,40.75,24.95,null,{"$f":"S3929","v":0},null,{"$f":"U3929","v":0},null,{"$f":"W3929","v":0},null,0,0,0,0,0,0,0,0]
[null,9781621432746,null,9781632352231,null,"Social Media: 12 Things You Need to Know",null,null,null,"Tech Smarts",null,null,null,32.799999999999997,22.95,46.8,27.95,null,{"$f":"S3945","v":0},null,{"$f":"U3945","v":0},null,{"$f":"W3945","v":0},null,0,0,0,0,0,0,0,0]
[]
[null,9781621432647,null,9781632352125,null,"12 Reasons to Love the Los Angeles Angels",null,null,null,"The MLB Fan's Guide",null,null,null,32.799999999999997,22.95,46.8,27.95,null,{"$f":"S3961","v":0},null,{"$f":"U3961","v":0},null,{"$f":"W3961","v":0},null,0,0,0,0,0,0,0,0]
[null,9781621432463,null,9781632351548,null,"Classic NFL Games: 12 Thrillers from NFL History",null,null,null,"The NFL at a Glance",null,null,null,32.799999999999997,22.95,46.8,27.95,null,{"$f":"S3975","v":0},null,{"$f":"U3975","v":0},null,{"$f":"W3975","v":0},null,0,0,0,0,0,0,0,0]
[null,null,null,null,null,"Complete Series of 8",null,null,null,"Turning Points in US History",null,null,null,{"$f":"SUM(N3986:N3993)","v":262.40000000000003},{"$f":"SUM(O3986:O3993)","v":183.59999999999997},{"$f":"SUM(P3986:P3993)","v":374.40000000000003},{"$f":"SUM(Q3986:Q3993)","v":223.59999999999997}]
[null,9781621432234,null,9781632351289,null,"12 Incredible Facts about the D-Day Invasion",null,null,null,"Turning Points in US History",null,null,null,32.799999999999997,22.95,46.8,27.95,null,{"$f":"S3985","v":0},null,{"$f":"U3985","v":0},null,{"$f":"W3985","v":0},null,0,0,0,0,0,0,0,0]
[null,9781621430513,null,9781632350107,null,"12 Most Amazing American Myths and Legends, The",null,null,null,"Amazing America",null,null,null,32.799999999999997,22.95,46.8,27.95,null,{"$f":"S3995","v":0},null,{"$f":"U3995","v":0},null,{"$f":"W3995","v":0},null,0,0,0,0,0,0,0,0]
[null,9781621430469,null,9781632350053,null,"12 Reptiles Back from the Brink",null,null,null,"Back from the Brink",null,null,null,32.799999999999997,22.95,46.8,27.95,null,{"$f":"S4003","v":0},null,{"$f":"U4003","v":0},null,{"$f":"W4003","v":0},null,0,0,0,0,0,0,0,0]
[null,9781621430797,null,9781632350381,null,"Techie Cheater",null,null,null,"Bridget Gadget",null,null,null,25.65,17.95,36.700000000000003,22.95,null,{"$f":"S4011","v":0},null,{"$f":"U4011","v":0},null,{"$f":"W4011","v":0},null,0,0,0,0,0,0,0,0]
[]
[null,9781621430698,null,9781632350282,null,"12 Things to Know about Climate Change",null,null,null,"Today's News",null,null,null,32.799999999999997,22.95,46.8,{"$f":"O4038+5","v":27.95},null,{"$f":"S4037","v":0},null,{"$f":"U4037","v":0},null,{"$f":"W4037","v":0},null,{"$f":"S4038","v":0},{"$f":"U4038","v":0},{"$f":"W4038*2","v":0},{"$f":"Y4038+Z4038+AA4038","v":0},{"$f":"S4038*O4038","v":0},{"$f":"U4038*P4038","v":0},{"$f":"W4038*Q4038","v":0},{"$f":"IF(AH4038=FALSE,AC4038+AD4038+AE4038,0)","v":0}]
[null,9781621430599,null,9781632350183,null,"Today’s 12 Hottest MLB Superstars",null,null,null,"Today's Superstars",null,null,null,32.799999999999997,22.95,46.8,{"$f":"O4048+5","v":27.95},null,{"$f":"S4047","v":0},null,{"$f":"U4047","v":0},null,{"$f":"W4047","v":0},null,{"$f":"S4048","v":0},{"$f":"U4048","v":0},{"$f":"W4048*2","v":0},{"$f":"Y4048+Z4048+AA4048","v":0},{"$f":"S4048*O4048","v":0},{"$f":"U4048*P4048","v":0},{"$f":"W4048*Q4048","v":0},{"$f":"IF(AH4048=FALSE,AC4048+AD4048+AE4048,0)","v":0}]
[null,null,null,null,null,"Complete Series of 12",null,null,null,"Animal Babies",null,null,null,{"$f":"SUM(N4056:N4067)","v":323.88000000000005},{"$f":"SUM(O4056:O4067)","v":227.39999999999995},347.39999999999992,287.39999999999992]
["NEW",9781642809725,null,9781642809589,null,"Baby Horses",null,null,null,"Animal Babies Set 1",null,null,null,26.99,18.95,28.95,23.95,null,{"$f":"S4055","v":0},null,{"$f":"U4055","v":0},null,{"$f":"W4055","v":0},null,0,0,0,0,0,0,0,0]
[null,null,null,null,null,"Complete Series of 6",null,null,null,"Be a Waste Warrior!",null,null,null,{"$f":"SUM(N4070:N4075)","v":171},{"$f":"SUM(O4070:O4075)","v":119.7},179.7,149.69999999999999]
[]
["NEW",9781647475741,null,9781647475642,null,"Mindfulness",null,null,null,"Calm Kids",null,null,null,26.99,18.95,28.95,23.95,null,{"$f":"S4086","v":0},null,{"$f":"U4086","v":0},null,{"$f":"W4086","v":0},null,0,0,0,0,0,0,0,0]
[]
["NEW",9781647475611,null,9781647475475,null,"Tractors",null,null,null,"Farmer Llama's Farm Machines",null,null,null,26.99,18.95,28.95,23.95,null,{"$f":"S4100","v":0},null,{"$f":"U4100","v":0},null,{"$f":"W4100","v":0},null,0,0,0,0,0,0,0,0]
["NEW",9781647476120,null,9781647475963,null,"Lincoln's Ghost",null,null,null,"Haunted History Set 2",null,null,null,28.5,19.95,29.95,24.95,null,{"$f":"S4108","v":0},null,{"$f":"U4108","v":0},null,{"$f":"W4108","v":0},null,0,0,0,0,0,0,0,0]
["NEW",9781647476533,null,9781647476397,null,"Army Rangers",null,null,null,"Mission: Special Ops",null,null,null,28.5,19.95,29.95,24.95,null,{"$f":"S4122","v":0},null,{"$f":"U4122","v":0},null,{"$f":"W4122","v":0},null,0,0,0,0,0,0,0,0]
["NEW",9781647476564,null,9781647476427,null,"Navy SEALs",null,null,null,"Mission: Special Ops",null,null,null,28.5,19.95,29.95,24.95,null,{"$f":"S4122","v":0},null,{"$f":"U4122","v":0},null,{"$f":"W4122","v":0},null,0,0,0,0,0,0,0,0]
["NEW",9781647476670,null,9781647476601,null,"Get Crafting for Your Cool Cat",null,null,null,"Playful Pet Projects",null,null,null,26.99,18.95,28.95,23.95,null,{"$f":"S4136","v":0},null,{"$f":"U4136","v":0},null,{"$f":"W4136","v":0},null,0,0,0,0,0,0,0,0]
["NEW",9781647476311,null,9781647476175,null,"Deepwater Disaster",null,null,null,"Rescued! Animal Escapes",null,null,null,28.5,19.95,29.95,{"$f":"O4145+5","v":24.95},null,{"$f":"S4144","v":0},null,{"$f":"U4144","v":0},null,{"$f":"W4144","v":0},null,{"$f":"S4145","v":0},{"$f":"U4145","v":0},{"$f":"W4145*2","v":0},{"$f":"Y4145+Z4145+AA4145","v":0},{"$f":"S4145*O4145","v":0},{"$f":"U4145*P4145","v":0},{"$f":"W4145*Q4145","v":0},{"$f":"IF(AH4145=FALSE,AC4145+AD4145+AE4145,0)","v":0}]
["NEW",9781642809312,null,9781642809176,null,"Police Officers",null,null,null,"What Makes a Community? Set 1",null,null,null,26.99,18.95,28.95,23.95,null,{"$f":"S4152","v":0},null,{"$f":"U4152","v":0},null,{"$f":"W4152","v":0},null,0,0,0,0,0,0,0,0]
["NEW",9781647474652,null,9781647474492,null,"Schools",null,null,null,"What Makes a Community? Set 2",null,null,null,26.99,18.95,28.95,23.95,null,{"$f":"S4152","v":0},null,{"$f":"U4152","v":0},null,{"$f":"W4152","v":0},null,0,0,0,0,0,0,0,0]
["NEW",9781647476892,null,9781647476755,null,"The Oceans",null,null,null,"X-treme Facts: Science",null,null,null,28.5,19.95,29.95,24.95,null,{"$f":"S4172","v":0},null,{"$f":"U4172","v":0},null,{"$f":"W4172","v":0},null,0,0,0,0,0,0,0,0]
[]
["NEW",9781647470012,null,9781642809794,null,"Meghan Markle",null,null,null,"Bearcub Bios",null,null,null,26.99,18.95,28.95,23.95,null,{"$f":"S4188","v":0},null,{"$f":"U4188","v":0},null,{"$f":"W4188","v":0},null,0,0,0,0,0,0,0,0]
["NEW",9781647470074,null,9781642809855,null,"Zendaya",null,null,null,"Bearcub Bios",null,null,null,26.99,18.95,28.95,23.95,null,{"$f":"S4188","v":0},null,{"$f":"U4188","v":0},null,{"$f":"W4188","v":0},null,0,0,0,0,0,0,0,0]
[null,null,null,null,null,"Complete Series of 6",null,null,null,"Danger Below!",null,null,null,{"$f":"SUM(N4209:N4214)","v":171},{"$f":"SUM(O4209:O4214)","v":119.7},{"$f":"SUM(P4209:P4214)","v":179.7},{"$f":"SUM(Q4209:Q4214)","v":149.69999999999999}]
[]
[]
["NEW",9781647471651,null,9781647471439,null,"Japanese Spider Crab",null,null,null,"Library of Awesome Animals",null,null,null,26.99,18.95,28.95,23.95,null,{"$f":"S4228","v":0},null,{"$f":"U4228","v":0},null,{"$f":"W4228","v":0},null,0,0,0,0,0,0,0,0]
[]
[null,9781642805741,null,9781642805208,null,"Horror in Michigan",null,null,null,"Scary States (of Mind)",null,null,null,26.99,18.95,28.95,23.95,null,{"$f":"S4246","v":0},null,{"$f":"U4246","v":0},null,{"$f":"W4246","v":0},null,0,0,0,0,0,0,0,0]
[null,9781642805673,null,9781642805130,null,"Horror in Texas",null,null,null,"Scary States (of Mind)",null,null,null,26.99,18.95,28.95,23.95,null,{"$f":"S4246","v":0},null,{"$f":"U4246","v":0},null,{"$f":"W4246","v":0},null,0,0,0,0,0,0,0,0]
[null,9781642805703,null,9781642805161,null,"Horror in Wisconsin",null,null,null,"Scary States (of Mind)",null,null,null,26.99,18.95,28.95,23.95,null,{"$f":"S4246","v":0},null,{"$f":"U4246","v":0},null,{"$f":"W4246","v":0},null,0,0,0,0,0,0,0,0]
["NEW",9781647472061,null,9781647471996,null,"Gooey Science Experiments",null,null,null,"Sensory Science Fun!",null,null,null,26.99,18.95,28.95,{"$f":"O4277+5","v":23.95},null,{"$f":"S4276","v":0},null,{"$f":"U4276","v":0},null,{"$f":"W4276","v":0},null,{"$f":"S4277","v":0},{"$f":"U4277","v":0},{"$f":"W4277*2","v":0},{"$f":"Y4277+Z4277+AA4277","v":0},{"$f":"S4277*O4277","v":0},{"$f":"U4277*P4277","v":0},{"$f":"W4277*Q4277","v":0},{"$f":"IF(AH4277=FALSE,AC4277+AD4277+AE4277,0)","v":0}]
[null,null,null,null,null,"Complete Series of 8",null,null,null,"Slither!",null,null,null,{"$f":"SUM(N4285:N4292)","v":215.92000000000002},{"$f":"SUM(O4285:O4292)","v":151.6},{"$f":"SUM(P4285:P4292)","v":231.59999999999997},{"$f":"SUM(Q4285:Q4292)","v":191.59999999999997}]
[null,9781684021000,null,9781684020485,null,"Chilling Cemeteries",null,null,null,"Tiptoe Into Scary Places",null,null,null,26.99,18.95,28.95,23.95,null,{"$f":"S4294","v":0},null,{"$f":"U4294","v":0},null,{"$f":"W4294","v":0},null,0,0,0,0,0,0,0,0]
[null,9781684023219,null,9781684022670,null,"Ghostly Theaters",null,null,null,"Tiptoe Into Scary Places",null,null,null,26.99,18.95,28.95,23.95,null,{"$f":"S4294","v":0},null,{"$f":"U4294","v":0},null,{"$f":"W4294","v":0},null,0,0,0,0,0,0,0,0]
[null,9781684021017,null,9781684020492,null,"Spooky Libraries",null,null,null,"Tiptoe Into Scary Places",null,null,null,26.99,18.95,28.95,23.95,null,{"$f":"S4294","v":0},null,{"$f":"U4294","v":0},null,{"$f":"W4294","v":0},null,0,0,0,0,0,0,0,0]
[null,null,null,null,null,"Complete Series of 4",null,null,null,"Whose Poo?",null,null,null,{"$f":"SUM(N4327:N4330)","v":107.96},{"$f":"SUM(O4327:O4330)","v":75.8},{"$f":"SUM(P4327:P4330)","v":115.8},{"$f":"SUM(Q4327:Q4330)","v":95.8}]
["NEW",9781647471330,null,9781647471194,null,"Monuments and Memorials",null,null,null,"X-treme Facts: U.S. History",null,null,null,28.5,19.95,29.95,{"$f":"O4333+5","v":24.95},null,{"$f":"S4332","v":0},null,{"$f":"U4332","v":0},null,{"$f":"W4332","v":0},null,{"$f":"S4333","v":0},{"$f":"U4333","v":0},{"$f":"W4333*2","v":0},{"$f":"Y4333+Z4333+AA4333","v":0},{"$f":"S4333*O4333","v":0},{"$f":"U4333*P4333","v":0},{"$f":"W4333*Q4333","v":0},{"$f":"IF(AH4333=FALSE,AC4333+AD4333+AE4333,0)","v":0}]
["NEW",9781647471354,null,9781647471217,null,"The Presidents",null,null,null,"X-treme Facts: U.S. History",null,null,null,28.5,19.95,29.95,24.95,null,{"$f":"S4332","v":0},null,{"$f":"U4332","v":0},null,{"$f":"W4332","v":0},null,0,0,0,0,0,0,0,0]
[null,9781642805901,null,9781642805369,null,"Bulgaria",null,null,null,"Countries We Come From",null,null,null,28.5,19.95,29.95,24.95,null,{"$f":"S4340","v":0},null,{"$f":"U4340","v":0},null,{"$f":"W4340","v":0},null,0,0,0,0,0,0,0,0]
[null,9781642805802,null,9781642805260,null,"Chile",null,null,null,"Countries We Come From",null,null,null,28.5,19.95,29.95,24.95,null,{"$f":"S4340","v":0},null,{"$f":"U4340","v":0},null,{"$f":"W4340","v":0},null,0,0,0,0,0,0,0,0]
[null,9781684023110,null,9781684022571,null,"France",null,null,null,"Countries We Come From",null,null,null,28.5,19.95,29.95,24.95,null,{"$f":"S4340","v":0},null,{"$f":"U4340","v":0},null,{"$f":"W4340","v":0},null,0,0,0,0,0,0,0,0]
[null,9781943553709,null,9781943553365,null,"Haiti",null,null,null,"Countries We Come From",null,null,null,28.5,19.95,29.95,24.95,null,{"$f":"S4340","v":0},null,{"$f":"U4340","v":0},null,{"$f":"W4340","v":0},null,0,0,0,0,0,0,0,0]
[null,9781642802658,null,9781642801965,null,"Kenya",null,null,null,"Countries We Come From",null,null,null,28.5,19.95,29.95,24.95,null,{"$f":"S4340","v":0},null,{"$f":"U4340","v":0},null,{"$f":"W4340","v":0},null,0,0,0,0,0,0,0,0]
[null,9781684025275,null,9781684024698,null,"Nigeria",null,null,null,"Countries We Come From",null,null,null,28.5,19.95,29.95,24.95,null,{"$f":"S4340","v":0},null,{"$f":"U4340","v":0},null,{"$f":"W4340","v":0},null,0,0,0,0,0,0,0,0]
[null,9781684021086,null,9781684020560,null,"Russia",null,null,null,"Countries We Come From",null,null,null,28.5,19.95,29.95,24.95,null,{"$f":"S4340","v":0},null,{"$f":"U4340","v":0},null,{"$f":"W4340","v":0},null,0,0,0,0,0,0,0,0]
[null,9781684025282,null,9781684024704,null,"Somalia",null,null,null,"Countries We Come From",null,null,null,28.5,19.95,29.95,{"$f":"O4405+5","v":24.95},null,{"$f":"S4340","v":0},null,{"$f":"U4340","v":0},null,{"$f":"W4340","v":0},null,{"$f":"S4405","v":0},{"$f":"U4405","v":0},{"$f":"W4405*2","v":0},{"$f":"Y4405+Z4405+AA4405","v":0},{"$f":"S4405*O4405","v":0},{"$f":"U4405*P4405","v":0},{"$f":"W4405*Q4405","v":0},{"$f":"IF(AH4405=FALSE,AC4405+AD4405+AE4405,0)","v":0}]
[null,null,null,null,null,"Complete Series of 11",null,null,null,"Los países de donde venimos (Countries We Come From)",null,null,null,{"$f":"SUM(N4417:N4427)","v":313.5},{"$f":"SUM(O4417:O4427)","v":219.44999999999996},{"$f":"SUM(P4417:P4427)","v":329.44999999999993},{"$f":"SUM(Q4417:Q4427)","v":274.44999999999993}]
[null,9781642802993,null,9781642802306,null,"El Salvador (El Salvador)",null,null,null,"Los países de donde venimos (Countries We Come From)",null,null,null,28.5,19.95,29.95,24.95,null,{"$f":"S4416","v":0},null,{"$f":"U4416","v":0},null,{"$f":"W4416","v":0},null,0,0,0,0,0,0,0,0]
[null,9781642805963,null,9781642805420,null,"Mice to Slice",null,null,null,"Read and Rhyme Level 1",null,null,null,24.21,16.95,26.95,21.95,null,{"$f":"S4429","v":0},null,{"$f":"U4429","v":0},null,{"$f":"W4429","v":0},null,0,0,0,0,0,0,0,0]
[null,9781642806038,null,9781642805499,null,"Ship Trip",null,null,null,"Read and Rhyme Level 2",null,null,null,24.21,16.95,26.95,21.95,null,{"$f":"S4439","v":0},null,{"$f":"U4439","v":0},null,{"$f":"W4439","v":0},null,0,0,0,0,0,0,0,0]
[null,9781642806175,null,9781642805635,null,"A Goat on a Boat",null,null,null,"Read and Rhyme Level 3",null,null,null,24.21,16.95,26.95,21.95,null,{"$f":"S4449","v":0},null,{"$f":"U4449","v":0},null,{"$f":"W4449","v":0},null,0,0,0,0,0,0,0,0]
[null,9781642802368,null,9781642801675,null,"Filthy Flies",null,null,null,"Bugged Out! The World’s Most Dangerous Bugs",null,null,null,26.99,18.95,28.95,{"$f":"O4460+5","v":23.95},null,{"$f":"S4459","v":0},null,{"$f":"U4459","v":0},null,{"$f":"W4459","v":0},null,{"$f":"S4460","v":0},{"$f":"U4460","v":0},{"$f":"W4460*2","v":0},{"$f":"Y4460+Z4460+AA4460","v":0},{"$f":"S4460*O4460","v":0},{"$f":"U4460*P4460","v":0},{"$f":"W4460*Q4460","v":0},{"$f":"IF(AH4460=FALSE,AC4460+AD4460+AE4460,0)","v":0}]
[null,9781642802726,null,9781642802030,null,"In the Henhouse",null,null,null,"Farm Charm",null,null,null,24.21,16.95,26.95,21.95,null,{"$f":"S4467","v":0},null,{"$f":"U4467","v":0},null,{"$f":"W4467","v":0},null,0,0,0,0,0,0,0,0]
[]
[null,9781642802849,null,9781642802153,null,"My Favorite Colors",null,null,null,"My Favorite Things",null,null,null,24.21,16.95,26.95,21.95,null,{"$f":"S4487","v":0},null,{"$f":"U4487","v":0},null,{"$f":"W4487","v":0},null,0,0,0,0,0,0,0,0]
[null,9781642802856,null,9781642802160,null,"My Favorite Pets",null,null,null,"My Favorite Things",null,null,null,24.21,16.95,26.95,21.95,null,{"$f":"S4487","v":0},null,{"$f":"U4487","v":0},null,{"$f":"W4487","v":0},null,0,0,0,0,0,0,0,0]
[null,9781617722028,null,9781617721472,null,"Cursed Grounds",null,null,null,"Scary Places",null,null,null,28.5,19.95,29.95,24.95,null,{"$f":"S4497","v":0},null,{"$f":"U4497","v":0},null,{"$f":"W4497","v":0},null,0,0,0,0,0,0,0,0]
[null,9781684023271,null,9781684022731,null,"Ghastly Ghothic Mansions",null,null,null,"Scary Places",null,null,null,28.5,19.95,29.95,24.95,null,{"$f":"S4497","v":0},null,{"$f":"U4497","v":0},null,{"$f":"W4497","v":0},null,0,0,0,0,0,0,0,0]
[null,9781617722035,null,9781617721489,null,"Shuttered Horror Hospitals",null,null,null,"Scary Places",null,null,null,28.5,19.95,29.95,24.95,null,{"$f":"S4497","v":0},null,{"$f":"U4497","v":0},null,{"$f":"W4497","v":0},null,0,0,0,0,0,0,0,0]
[null,9781642802474,null,9781642801781,null,"Investigating Asteroids",null,null,null,"Space-ology",null,null,null,26.99,18.95,28.95,23.95,null,{"$f":"S4532","v":0},null,{"$f":"U4532","v":0},null,{"$f":"W4532","v":0},null,0,0,0,0,0,0,0,0]
[null,9781642802566,null,9781642801873,null,"Dinosaur Warriors",null,null,null,"The Dino-sphere",null,null,null,26.99,18.95,28.95,{"$f":"O4541+5","v":23.95},null,{"$f":"S4540","v":0},null,{"$f":"U4540","v":0},null,{"$f":"W4540","v":0},null,{"$f":"S4541","v":0},{"$f":"U4541","v":0},{"$f":"W4541*2","v":0},{"$f":"Y4541+Z4541+AA4541","v":0},{"$f":"S4541*O4541","v":0},{"$f":"U4541*P4541","v":0},{"$f":"W4541*Q4541","v":0},{"$f":"IF(AH4541=FALSE,AC4541+AD4541+AE4541,0)","v":0}]
[null,9781642802528,null,9781642801835,null,"Flying Lizards Big as Planes",null,null,null,"The Dino-sphere",null,null,null,26.99,18.95,28.95,23.95,null,{"$f":"S4540","v":0},null,{"$f":"U4540","v":0},null,{"$f":"W4540","v":0},null,0,0,0,0,0,0,0,0]
[null,9781684027279,null,9781684026814,null,"Luke Bryan",null,null,null,"Amazing Americans: Country Music Stars",null,null,null,26.99,18.95,28.95,23.95,null,{"$f":"S4552","v":0},null,{"$f":"U4552","v":0},null,{"$f":"W4552","v":0},null,{"$f":"S4555","v":0},{"$f":"U4555","v":0},{"$f":"W4555*2","v":0},{"$f":"Y4555+Z4555+AA4555","v":0},{"$f":"S4555*O4555","v":0},{"$f":"U4555*P4555","v":0},{"$f":"W4555*Q4555","v":0},{"$f":"IF(AH4555=FALSE,AC4555+AD4555+AE4555,0)","v":0}]
[null,9781684025107,null,9781684024520,null,"Tom Brady",null,null,null,"Amazing Americans: Football Stars",null,null,null,26.99,18.95,28.95,23.95,null,{"$f":"S4558","v":0},null,{"$f":"U4558","v":0},null,{"$f":"W4558","v":0},null,{"$f":"S4562","v":0},{"$f":"U4562","v":0},{"$f":"W4562*2","v":0},{"$f":"Y4562+Z4562+AA4562","v":0},{"$f":"S4562*O4562","v":0},{"$f":"U4562*P4562","v":0},{"$f":"W4562*Q4562","v":0},{"$f":"IF(AH4562=FALSE,AC4562+AD4562+AE4562,0)","v":0}]
[null,9781684025176,null,9781684024599,null,"Bruno Mars",null,null,null,"Amazing Americans: Pop Music Stars",null,null,null,26.99,18.95,28.95,23.95,null,{"$f":"S4570","v":0},null,{"$f":"U4570","v":0},null,{"$f":"W4570","v":0},null,0,0,0,0,0,0,0,0]
[null,9781642800272,null,9781642800050,null,"Animals That Jump",null,null,null,"Animals on the Move!",null,null,null,24.21,16.95,26.95,21.95,null,{"$f":"S4580","v":0},null,{"$f":"U4580","v":0},null,{"$f":"W4580","v":0},null,0,0,0,0,0,0,0,0]
[null,9781597164962,null,9781597163620,null,"Nightmare on the Titanic",null,null,null,"Code Red",null,null,null,28.5,19.95,29.95,24.95,null,{"$f":"S4588","v":0},null,{"$f":"U4588","v":0},null,{"$f":"W4588","v":0},null,0,0,0,0,0,0,0,0]
[null,9781597164955,null,9781597163613,null,"The Hindenburg Disaster",null,null,null,"Code Red",null,null,null,28.5,19.95,29.95,24.95,null,{"$f":"S4588","v":0},null,{"$f":"U4588","v":0},null,{"$f":"W4588","v":0},null,0,0,0,0,0,0,0,0]
[null,9781684027033,null,9781684026579,null,"Deadly Lizard Bite!",null,null,null,"Envenomators",null,null,null,26.99,18.95,28.95,23.95,null,{"$f":"S4603","v":0},null,{"$f":"U4603","v":0},null,{"$f":"W4603","v":0},null,0,0,0,0,0,0,0,0]
[null,9781642801248,null,9781642801170,null,"Fourth of July",null,null,null,"Happy Holidays!",null,null,null,24.21,16.95,26.95,21.95,null,{"$f":"S4611","v":0},null,{"$f":"U4611","v":0},null,{"$f":"W4611","v":0},null,0,0,0,0,0,0,0,0]
[null,9781627249041,null,9781627248402,null,"Pumpkin",null,null,null,"See It Grow",null,null,null,26.99,18.95,28.95,23.95,null,{"$f":"S4619","v":0},null,{"$f":"U4619","v":0},null,{"$f":"W4619","v":0},null,0,0,0,0,0,0,0,0]
[]
[null,9781684027163,null,9781684026708,null,"Lurid London",null,null,null,"Tiptoe into Scary Cities",null,null,null,26.99,18.95,28.95,23.95,null,{"$f":"S4641","v":0},null,{"$f":"U4641","v":0},null,{"$f":"W4641","v":0},null,0,0,0,0,0,0,0,0]
[]
[null,9781684025060,null,9781684024483,null,"Harbor Seals",null,null,null,"A Day at the Beach: Animal Life on the Shore",null,null,null,26.99,18.95,28.95,23.95,null,{"$f":"S4659","v":0},null,{"$f":"U4659","v":0},null,{"$f":"W4659","v":0},null,0,0,0,0,0,0,0,0]
[null,9781684025411,null,9781684024834,null,"Shiny and Soaring",null,null,null,"American Place Puzzlers",null,null,null,26.99,18.95,28.95,23.95,null,{"$f":"S4667","v":0},null,{"$f":"U4667","v":0},null,{"$f":"W4667","v":0},null,0,0,0,0,0,0,0,0]
[null,9781684024933,null,9781684024353,null,"One World Trade Center",null,null,null,"American Places: From Vision to Reality",null,null,null,28.5,19.95,29.95,24.95,null,{"$f":"S4677","v":0},null,{"$f":"U4677","v":0},null,{"$f":"W4677","v":0},null,0,0,0,0,0,0,0,0]
[null,9781944997137,null,9781944102456,null,"The Hoover Dam",null,null,null,"American Places: From Vision to Reality",null,null,null,28.5,19.95,29.95,24.95,null,{"$f":"S4677","v":0},null,{"$f":"U4677","v":0},null,{"$f":"W4677","v":0},null,0,0,0,0,0,0,0,0]
[null,9781684026197,null,9781684026111,null,"Escuelas escalofriantes (Creepy Schools)",null,null,null,"De puntillas en lugares escalofriantes (Tiptoe Into Scary Places)",null,null,null,26.99,18.95,28.95,23.95,null,{"$f":"S4687","v":0},null,{"$f":"U4687","v":0},null,{"$f":"W4687","v":0},null,0,0,0,0,0,0,0,0]
[null,9781684026241,null,9781684026166,null,"Subterráneos oscuros (The Dark Underground)",null,null,null,"De puntillas en lugares escalofriantes (Tiptoe Into Scary Places)",null,null,null,26.99,18.95,28.95,23.95,null,{"$f":"S4687","v":0},null,{"$f":"U4687","v":0},null,{"$f":"W4687","v":0},null,0,0,0,0,0,0,0,0]
[null,9781684024889,null,9781684024308,null,"Creating Titanic",null,null,null,"Titanica",null,null,null,28.5,19.95,29.95,24.95,null,{"$f":"S4715","v":0},null,{"$f":"U4715","v":0},null,{"$f":"W4715","v":0},null,0,0,0,0,0,0,0,0]
[null,null,null,null,null,"Complete Series of 4",null,null,null,"Zombie Zone",null,null,null,{"$f":"SUM(N4724:N4727)","v":107.96},{"$f":"SUM(O4724:O4727)","v":75.8},{"$f":"SUM(P4724:P4727)","v":115.8},{"$f":"SUM(Q4724:Q4727)","v":95.8}]
[null,9781684022915,null,9781684022373,null,"Delhi",null,null,null,"Citified!",null,null,null,26.99,18.95,28.95,23.95,null,{"$f":"S4729","v":0},null,{"$f":"U4729","v":0},null,{"$f":"W4729","v":0},null,0,0,0,0,0,0,0,0]
[]
[null,9781684022755,null,9781684022212,null,"Poisoned Air",null,null,null,"Eco-Disasters",null,null,null,28.5,19.95,29.95,24.95,null,{"$f":"S4739","v":0},null,{"$f":"U4739","v":0},null,{"$f":"W4739","v":0},null,0,0,0,0,0,0,0,0]
[]
[null,9781684020874,null,9781684020355,null,"Bull Shark",null,null,null,"Apex Predators of the Amazon Rain Forest",null,null,null,26.99,18.95,28.95,23.95,null,{"$f":"S4765","v":0},null,{"$f":"U4765","v":0},null,{"$f":"W4765","v":0},null,0,0,0,0,0,0,0,0]
[null,9781684020829,null,9781684020300,null,"Jaguar",null,null,null,"Apex Predators of the Amazon Rain Forest",null,null,null,26.99,18.95,28.95,23.95,null,{"$f":"S4765","v":0},null,{"$f":"U4765","v":0},null,{"$f":"W4765","v":0},null,0,0,0,0,0,0,0,0]
[null,9781684020799,null,9781684020270,null,"Ghost Ship",null,null,null,"Egypt’s Ancient Secrets",null,null,null,28.5,19.95,29.95,{"$f":"O4786+5","v":24.95},null,{"$f":"S4785","v":0},null,{"$f":"U4785","v":0},null,{"$f":"W4785","v":0},null,{"$f":"S4786","v":0},{"$f":"U4786","v":0},{"$f":"W4786*2","v":0},{"$f":"Y4786+Z4786+AA4786","v":0},{"$f":"S4786*O4786","v":0},{"$f":"U4786*P4786","v":0},{"$f":"W4786*Q4786","v":0},{"$f":"IF(AH4786=FALSE,AC4786+AD4786+AE4786,0)","v":0}]
[null,9781684020775,null,9781684020256,null,"The Sphinx",null,null,null,"Egypt’s Ancient Secrets",null,null,null,28.5,19.95,29.95,24.95,null,{"$f":"S4785","v":0},null,{"$f":"U4785","v":0},null,{"$f":"W4785","v":0},null,0,0,0,0,0,0,0,0]
[null,9781684020690,null,9781684020188,null,"Trapped!",null,null,null,"Hound Town Chronicles",null,null,null,28.5,19.95,29.95,24.95,null,{"$f":"S4793","v":0},null,{"$f":"U4793","v":0},null,{"$f":"W4793","v":0},null,0,0,0,0,0,0,0,0]
[null,9781627246392,null,9781627245548,null,"Abraham Lincoln",null,null,null,"A First Look at America’s Presidents",null,null,null,26.99,18.95,28.95,{"$f":"O4812+5","v":23.95},null,{"$f":"S4811","v":0},null,{"$f":"U4811","v":0},null,{"$f":"W4811","v":0},null,{"$f":"S4812","v":0},{"$f":"U4812","v":0},{"$f":"W4812*2","v":0},{"$f":"Y4812+Z4812+AA4812","v":0},{"$f":"S4812*O4812","v":0},{"$f":"U4812*P4812","v":0},{"$f":"W4812*Q4812","v":0},{"$f":"IF(AH4812=FALSE,AC4812+AD4812+AE4812,0)","v":0}]
[null,9781944997335,null,9781944102661,null,"James K. Polk",null,null,null,"A First Look at America’s Presidents",null,null,null,26.99,18.95,28.95,23.95,null,{"$f":"S4811","v":0},null,{"$f":"U4811","v":0},null,{"$f":"W4811","v":0},null,0,0,0,0,0,0,0,0]
[null,9781627246422,null,9781627245579,null,"Theodore Roosevelt",null,null,null,"A First Look at America’s Presidents",null,null,null,26.99,18.95,28.95,23.95,null,{"$f":"S4811","v":0},null,{"$f":"U4811","v":0},null,{"$f":"W4811","v":0},null,0,0,0,0,0,0,0,0]
[null,9781617724770,null,9781617724138,null,"A Butterfly's Life",null,null,null,"Animal Diaries: Life Cycles",null,null,null,26.99,18.95,28.95,23.95,null,{"$f":"S4831","v":0},null,{"$f":"U4831","v":0},null,{"$f":"W4831","v":0},null,0,0,0,0,0,0,0,0]
[null,9781617724794,null,9781617724169,null,"A Snake's Life",null,null,null,"Animal Diaries: Life Cycles",null,null,null,26.99,18.95,28.95,23.95,null,{"$f":"S4831","v":0},null,{"$f":"U4831","v":0},null,{"$f":"W4831","v":0},null,0,0,0,0,0,0,0,0]
[null,9781944997045,null,9781944102371,null,"Terror in the Underground Tunnel",null,null,null,"Cold Whispers II",null,null,null,28.5,19.95,29.95,24.95,null,{"$f":"S4844","v":0},null,{"$f":"U4844","v":0},null,{"$f":"W4844","v":0},null,0,0,0,0,0,0,0,0]
[null,null,null,null,null,"Complete Series of 8",null,null,null,"Pistas de animales 2 (Zoo Clues 2)",null,null,null,{"$f":"SUM(N4863:N4870)","v":215.92000000000002},{"$f":"SUM(O4863:O4870)","v":151.6},{"$f":"SUM(P4863:P4870)","v":231.59999999999997},{"$f":"SUM(Q4863:Q4870)","v":191.59999999999997}]
[null,9781944997250,null,9781944102784,null,"Mis pinzas son negras y enormes (My Claws Are Huge and Black)",null,null,null,"Pistas de animales 2 (Zoo Clues 2)",null,null,null,26.99,18.95,28.95,23.95,null,{"$f":"S4862","v":0},null,{"$f":"U4862","v":0},null,{"$f":"W4862","v":0},null,0,0,0,0,0,0,0,0]
[null,9781597168205,null,9781597167369,null,"Eli Manning and the New York Giants",null,null,null,"Super Bowl Superstars",null,null,null,26.99,18.95,28.95,23.95,null,{"$f":"S4872","v":0},null,{"$f":"U4872","v":0},null,{"$f":"W4872","v":0},null,0,0,0,0,0,0,0,0]
[null,9781627243513,null,9781627242950,null,"Malcolm Smith and the Seattle Seahawks",null,null,null,"Super Bowl Superstars",null,null,null,26.99,18.95,28.95,23.95,null,{"$f":"S4872","v":0},null,{"$f":"U4872","v":0},null,{"$f":"W4872","v":0},null,0,0,0,0,0,0,0,0]
[null,9781944997205,null,9781944102548,null,"North American River Otter",null,null,null,"Swamp Things: Animal Life in a Wetland",null,null,null,26.99,18.95,28.95,23.95,null,{"$f":"S4891","v":0},null,{"$f":"U4891","v":0},null,{"$f":"W4891","v":0},null,0,0,0,0,0,0,0,0]
[null,9781944998110,null,9781944998028,null,"Trapped in the Abandoned Hospital/Shuttered Horror Hospitals Combo",null,null,null,"Twice the Scare II Combos!",null,null,null,57,39.9,29.95,44.9,null,{"$f":"S4899","v":0},null,{"$f":"U4899","v":0},null,{"$f":"W4899","v":0},null,0,0,0,0,0,0,0,0]
[null,9781944102920,null,9781944102579,null,"My Ears Are Huge and Fuzzy (Fennec Fox)",null,null,null,"Zoo Clues 2",null,null,null,26.99,18.95,28.95,23.95,null,{"$f":"S4909","v":0},null,{"$f":"U4909","v":0},null,{"$f":"W4909","v":0},null,0,0,0,0,0,0,0,0]
[null,9781597169752,null,9781597168649,null,"Combat-Wounded Dogs",null,null,null,"Dog Heroes",null,null,null,28.5,19.95,29.95,24.95,null,{"$f":"S4919","v":0},null,{"$f":"U4919","v":0},null,{"$f":"W4919","v":0},null,0,0,0,0,0,0,0,0]
[null,"Not Available",null,9781597160124,null,"Disaster Search Dogs",null,null,null,"Dog Heroes",null,null,null,28.5,19.95,0,0,null,{"$f":"S4919","v":0},null,null,null,null,null,0,0,0,0,0,0,0,0]
[null,9781627246026,null,9781627245173,null,"R.E.A.D. Dogs",null,null,null,"Dog Heroes",null,null,null,28.5,19.95,29.95,24.95,null,{"$f":"S4919","v":0},null,{"$f":"U4919","v":0},null,{"$f":"W4919","v":0},null,0,0,0,0,0,0,0,0]
[null,"Not Available",null,9781597160162,null,"Service Dogs",null,null,null,"Dog Heroes",null,null,null,28.5,19.95,0,0,null,{"$f":"S4919","v":0},null,null,null,null,null,0,0,0,0,0,0,0,0]
[null,9781943553600,null,9781943553266,null,"Covered in Water",null,null,null,"Drip, Drip, Drop: Earth’s Water",null,null,null,26.99,18.95,28.95,{"$f":"O4958+5","v":23.95},null,{"$f":"S4957","v":0},null,{"$f":"U4957","v":0},null,{"$f":"W4957","v":0},null,{"$f":"S4958","v":0},{"$f":"U4958","v":0},{"$f":"W4958*2","v":0},{"$f":"Y4958+Z4958+AA4958","v":0},{"$f":"S4958*O4958","v":0},{"$f":"U4958*P4958","v":0},{"$f":"W4958*Q4958","v":0},{"$f":"IF(AH4958=FALSE,AC4958+AD4958+AE4958,0)","v":0}]
[null,null,null,null,null,"Complete Series of 18",null,null,null,"Football Heroes Making a Difference",null,null,null,{"$f":"SUM(N4966:N4983)","v":485.82000000000011},{"$f":"SUM(O4966:O4983)","v":341.09999999999991},{"$f":"SUM(P4966:P4983)","v":521.09999999999991},{"$f":"SUM(Q4966:Q4983)","v":431.09999999999985}]
[null,9781943553747,null,9781943553402,null,"Eli Manning",null,null,null,"Football Heroes Making a Difference",null,null,null,26.99,18.95,28.95,23.95,null,{"$f":"S4965","v":0},null,{"$f":"U4965","v":0},null,{"$f":"W4965","v":0},null,0,0,0,0,0,0,0,0]
[null,9781943553754,null,9781943553419,null,"Philip Rivers",null,null,null,"Football Heroes Making a Difference",null,null,null,26.99,18.95,28.95,23.95,null,{"$f":"S4965","v":0},null,{"$f":"U4965","v":0},null,{"$f":"W4965","v":0},null,0,0,0,0,0,0,0,0]
[null,9781943553730,null,9781943553396,null,"Rob Gronkowski",null,null,null,"Football Stars Up Close",null,null,null,26.99,18.95,28.95,23.95,null,{"$f":"S4985","v":0},null,{"$f":"U4985","v":0},null,{"$f":"W4985","v":0},null,0,0,0,0,0,0,0,0]
[]
[null,9781617727863,null,9781617727382,null,"Color",null,null,null,"FUN-damental Experiments",null,null,null,26.99,18.95,28.95,23.95,null,{"$f":"S5002","v":0},null,{"$f":"U5002","v":0},null,{"$f":"W5002","v":0},null,0,0,0,0,0,0,0,0]
[]
[null,9781943553501,null,9781943553167,null,"Sheriffs and Deputies",null,null,null,"Police: Search & Rescue!",null,null,null,28.5,19.95,29.95,24.95,null,{"$f":"S5017","v":0},null,{"$f":"U5017","v":0},null,{"$f":"W5017","v":0},null,0,0,0,0,0,0,0,0]
[]
[null,9781617726231,null,9781617725913,null,"Freaky Plant Facts",null,null,null,"Plant-ology",null,null,null,26.99,18.95,28.95,23.95,null,{"$f":"S5042","v":0},null,{"$f":"U5042","v":0},null,{"$f":"W5042","v":0},null,0,0,0,0,0,0,0,0]
[null,9781617726262,null,9781617725906,null,"Poison Petals",null,null,null,"Plant-ology",null,null,null,26.99,18.95,28.95,23.95,null,{"$f":"S5042","v":0},null,{"$f":"U5042","v":0},null,{"$f":"W5042","v":0},null,0,0,0,0,0,0,0,0]
[null,null,null,null,null,"Complete Series of 5",null,null,null,"They Don’t Belong: Tracking Invasive Species",null,null,null,{"$f":"SUM(N5065:N5069)","v":142.5},{"$f":"SUM(O5065:O5069)","v":99.75},{"$f":"SUM(P5065:P5069)","v":149.75},{"$f":"SUM(Q5065:Q5069)","v":124.75}]
[null,9781627248907,null,9781627248273,null,"Florida’s Burmese Pythons",null,null,null,"They Don’t Belong: Tracking Invasive Species",null,null,null,28.5,19.95,29.95,{"$f":"O5067+5","v":24.95},null,{"$f":"S5064","v":0},null,{"$f":"U5064","v":0},null,{"$f":"W5064","v":0},null,{"$f":"S5067","v":0},{"$f":"U5067","v":0},{"$f":"W5067*2","v":0},{"$f":"Y5067+Z5067+AA5067","v":0},{"$f":"S5067*O5067","v":0},{"$f":"U5067*P5067","v":0},{"$f":"W5067*Q5067","v":0},{"$f":"IF(AH5067=FALSE,AC5067+AD5067+AE5067,0)","v":0}]
[]
[null,9781617724688,null,9781617724015,null,"What Is Climate?",null,null,null,"Weather Wise",null,null,null,26.99,18.95,28.95,23.95,null,{"$f":"S5081","v":0},null,{"$f":"U5081","v":0},null,{"$f":"W5081","v":0},null,0,0,0,0,0,0,0,0]
[null,9781627246156,null,9781627245302,null,"Arctic Fox",null,null,null,"Arctic Animals: Life Outside the Igloo",null,null,null,26.99,18.95,28.95,{"$f":"O5097+5","v":23.95},null,{"$f":"S5096","v":0},null,{"$f":"U5096","v":0},null,{"$f":"W5096","v":0},null,{"$f":"S5097","v":0},{"$f":"U5097","v":0},{"$f":"W5097*2","v":0},{"$f":"Y5097+Z5097+AA5097","v":0},{"$f":"S5097*O5097","v":0},{"$f":"U5097*P5097","v":0},{"$f":"W5097*Q5097","v":0},{"$f":"IF(AH5097=FALSE,AC5097+AD5097+AE5097,0)","v":0}]
[null,null,null,null,null,"Complete Series of 9",null,null,null,"Basketball Heroes Making a Difference",null,null,null,{"$f":"SUM(N5105:N5113)","v":242.91000000000003},{"$f":"SUM(O5105:O5113)","v":170.54999999999998},{"$f":"SUM(P5105:P5113)","v":260.54999999999995},{"$f":"SUM(Q5105:Q5113)","v":215.54999999999995}]
[null,9781617724862,null,9781617724404,null,"Kevin Durant",null,null,null,"Basketball Heroes Making a Difference",null,null,null,26.99,18.95,28.95,23.95,null,{"$f":"S5104","v":0},null,{"$f":"U5104","v":0},null,{"$f":"W5104","v":0},null,0,0,0,0,0,0,0,0]
[]
[null,9781627246804,null,9781627245982,null,"Urano (Uranus)",null,null,null,"Fuera de este mundo (Out Of This World)",null,null,null,26.99,18.95,28.95,23.95,null,{"$f":"S5123","v":0},null,{"$f":"U5123","v":0},null,{"$f":"W5123","v":0},null,0,0,0,0,0,0,0,0]
[null,9781627246507,null,9781627245654,null,"Jupiter",null,null,null,"Out of this World",null,null,null,26.99,18.95,28.95,23.95,null,{"$f":"S5137","v":0},null,{"$f":"U5137","v":0},null,{"$f":"W5137","v":0},null,0,0,0,0,0,0,0,0]
[null,9781627246538,null,9781627245685,null,"Neptune",null,null,null,"Out of this World",null,null,null,26.99,18.95,28.95,23.95,null,{"$f":"S5137","v":0},null,{"$f":"U5137","v":0},null,{"$f":"W5137","v":0},null,0,0,0,0,0,0,0,0]
[null,9781627246637,null,9781627245814,null,"Mi pelaje es grueso y moteado (My Fur Is Thick and Spotted)",null,null,null,"Pistas de animales (Zoo Clues)",null,null,null,26.99,18.95,28.95,23.95,null,{"$f":"S5151","v":0},null,{"$f":"U5151","v":0},null,{"$f":"W5151","v":0},null,0,0,0,0,0,0,0,0]
[null,9781627246644,null,9781627245821,null,"Mis patas son largas y fuertes (My Legs Are Long and Strong)",null,null,null,"Pistas de animales (Zoo Clues)",null,null,null,26.99,18.95,28.95,23.95,null,{"$f":"S5151","v":0},null,{"$f":"U5151","v":0},null,{"$f":"W5151","v":0},null,0,0,0,0,0,0,0,0]
[null,9781627244718,null,9781627244565,null,"Las golondrinas comunes (Barn Swallows)",null,null,null,"¿A dónde van en invierno? (In Winter, Where Do They Go?)",null,null,null,26.99,18.95,28.95,23.95,null,{"$f":"S5171","v":0},null,{"$f":"U5171","v":0},null,{"$f":"W5171","v":0},null,0,0,0,0,0,0,0,0]
[null,9781627243827,null,9781627243261,null,"Rain Forest Colors",null,null,null,"Colors Tell a Story",null,null,null,26.99,18.95,28.95,23.95,null,{"$f":"S5179","v":0},null,{"$f":"U5179","v":0},null,{"$f":"W5179","v":0},null,0,0,0,0,0,0,0,0]
[null,9781627243711,null,9781627243155,null,"Little Brown Bats",null,null,null,"In Winter, Where Do They Go?",null,null,null,26.99,18.95,28.95,23.95,null,{"$f":"S5188","v":0},null,{"$f":"U5188","v":0},null,{"$f":"W5188","v":0},null,0,0,0,0,0,0,0,0]
[null,9781627244787,null,9781627244633,null,"Los colores de los animales (Animal Colors)",null,null,null,"Los colores cuentan una historia (Colors Tell a Story)",null,null,null,26.99,18.95,28.95,23.95,null,{"$f":"S5196","v":0},null,{"$f":"U5196","v":0},null,{"$f":"W5196","v":0},null,0,0,0,0,0,0,0,0]
[null,9781627243568,null,9781627243001,null,"Baking and Crushing",null,null,null,"Rock-ology: The Hard Facts About Rocks",null,null,null,26.99,18.95,28.95,{"$f":"O5206+5","v":23.95},null,{"$f":"S5205","v":0},null,{"$f":"U5205","v":0},null,{"$f":"W5205","v":0},null,{"$f":"S5206","v":0},{"$f":"U5206","v":0},{"$f":"W5206*2","v":0},{"$f":"Y5206+Z5206+AA5206","v":0},{"$f":"S5206*O5206","v":0},{"$f":"U5206*P5206","v":0},{"$f":"W5206*Q5206","v":0},{"$f":"IF(AH5206=FALSE,AC5206+AD5206+AE5206,0)","v":0}]
[null,9781627243940,null,9781627243384,null,"Patterns in the Jungle",null,null,null,"Seeing Patterns All Around",null,null,null,28.5,19.95,29.95,24.95,null,{"$f":"S5215","v":0},null,{"$f":"U5215","v":0},null,{"$f":"W5215","v":0},null,0,0,0,0,0,0,0,0]
[null,9781627243452,null,9781627242905,null,"Lost at Sea",null,null,null,"Stranded!",null,null,null,28.5,19.95,29.95,{"$f":"O5224+5","v":24.95},null,{"$f":"S5223","v":0},null,{"$f":"U5223","v":0},null,{"$f":"W5223","v":0},null,{"$f":"S5224","v":0},{"$f":"U5224","v":0},{"$f":"W5224*2","v":0},{"$f":"Y5224+Z5224+AA5224","v":0},{"$f":"S5224*O5224","v":0},{"$f":"U5224*P5224","v":0},{"$f":"W5224*Q5224","v":0},{"$f":"IF(AH5224=FALSE,AC5224+AD5224+AE5224,0)","v":0}]
[null,null,null,null,null,"Complete Series of 12",null,null,null,"The Hole Truth: Animal Life Underground",null,null,null,{"$f":"SUM(N5232:N5243)","v":323.88000000000005},{"$f":"SUM(O5232:O5243)","v":227.39999999999995},347.39999999999992,287.39999999999992]
[null,9781627243667,null,9781627243100,null,"Kangaroo Rat's Burrow",null,null,null,"The Hole Truth: Animal Life Underground",null,null,null,26.99,18.95,28.95,23.95,null,{"$f":"S5231","v":0},null,{"$f":"U5231","v":0},null,{"$f":"W5231","v":0},null,0,0,0,0,0,0,0,0]
[null,9781617721656,null,9781617721229,null,"Color-Changing Animals",null,null,null,"Animals with Super Powers",null,null,null,26.99,18.95,28.95,{"$f":"O5254+5","v":23.95},null,{"$f":"S5253","v":0},null,{"$f":"U5253","v":0},null,{"$f":"W5253","v":0},null,{"$f":"S5254","v":0},{"$f":"U5254","v":0},{"$f":"W5254*2","v":0},{"$f":"Y5254+Z5254+AA5254","v":0},{"$f":"S5254*O5254","v":0},{"$f":"U5254*P5254","v":0},{"$f":"W5254*Q5254","v":0},{"$f":"IF(AH5254=FALSE,AC5254+AD5254+AE5254,0)","v":0}]
[null,null,null,null,null,"Complete Series of 6",null,null,null,"Bow Wow! Dog Helpers",null,null,null,{"$f":"SUM(N5262:N5267)","v":161.94},{"$f":"SUM(O5262:O5267)","v":113.7},{"$f":"SUM(P5262:P5267)","v":173.7},{"$f":"SUM(Q5262:Q5267)","v":143.69999999999999}]
[null,9781627241502,null,9781627240987,null,"Marine Firefighters",null,null,null,"Fire Fight! The Bravest",null,null,null,28.5,19.95,29.95,{"$f":"O5273+5","v":24.95},null,{"$f":"S5269","v":0},null,{"$f":"U5269","v":0},null,{"$f":"W5269","v":0},null,{"$f":"S5273","v":0},{"$f":"U5273","v":0},{"$f":"W5273*2","v":0},{"$f":"Y5273+Z5273+AA5273","v":0},{"$f":"S5273*O5273","v":0},{"$f":"U5273*P5273","v":0},{"$f":"W5273*Q5273","v":0},{"$f":"IF(AH5273=FALSE,AC5273+AD5273+AE5273,0)","v":0}]
[null,9781627241564,null,9781627241045,null,"Global Warming",null,null,null,"Green World, Clean World",null,null,null,26.99,18.95,28.95,23.95,null,{"$f":"S5276","v":0},null,{"$f":"U5276","v":0},null,{"$f":"W5276","v":0},null,{"$f":"S5279","v":0},{"$f":"U5279","v":0},{"$f":"W5279*2","v":0},{"$f":"Y5279+Z5279+AA5279","v":0},{"$f":"S5279*O5279","v":0},{"$f":"U5279*P5279","v":0},{"$f":"W5279*Q5279","v":0},{"$f":"IF(AH5279=FALSE,AC5279+AD5279+AE5279,0)","v":0}]
[]
[null,9781627241625,null,9781627241106,null,"My Eyes Are Big and Red (Tree Frog)",null,null,null,"Zoo Clues",null,null,null,26.99,18.95,28.95,23.95,null,{"$f":"S5291","v":0},null,{"$f":"U5291","v":0},null,{"$f":"W5291","v":0},null,0,0,0,0,0,0,0,0]
[null,9781627241618,null,9781627241090,null,"My Skin Is Gray and Wrinkly (Walrus)",null,null,null,"Zoo Clues",null,null,null,26.99,18.95,28.95,23.95,null,{"$f":"S5291","v":0},null,{"$f":"U5291","v":0},null,{"$f":"W5291","v":0},null,0,0,0,0,0,0,0,0]
[null,9781617729355,null,9781617728891,null,"Army Night Stalkers in Action",null,null,null,"Special Ops II",null,null,null,28.5,19.95,29.95,{"$f":"O5312+5","v":24.95},null,{"$f":"S5311","v":0},null,{"$f":"U5311","v":0},null,{"$f":"W5311","v":0},null,{"$f":"S5312","v":0},{"$f":"U5312","v":0},{"$f":"W5312*2","v":0},{"$f":"Y5312+Z5312+AA5312","v":0},{"$f":"S5312*O5312","v":0},{"$f":"U5312*P5312","v":0},{"$f":"W5312*Q5312","v":0},{"$f":"IF(AH5312=FALSE,AC5312+AD5312+AE5312,0)","v":0}]
[]
[null,9781617729577,null,9781617729126,null,"Spider Monkey",null,null,null,"Treed: Animal Life in the Trees",null,null,null,26.99,18.95,28.95,23.95,null,{"$f":"S5325","v":0},null,{"$f":"U5325","v":0},null,{"$f":"W5325","v":0},null,0,0,0,0,0,0,0,0]
[]
[null,9781617729713,null,9781617729287,null,"Coyotes",null,null,null,"Wild Canine Pups",null,null,null,25.65,17.95,27.95,22.95,null,{"$f":"S5343","v":0},null,{"$f":"U5343","v":0},null,{"$f":"W5343","v":0},null,0,0,0,0,0,0,0,0]
[null,9781617727818,null,9781617727313,null,"Giant Weta",null,null,null,"Even More SuperSized!",null,null,null,26.99,18.95,28.95,23.95,null,{"$f":"S5353","v":0},null,{"$f":"U5353","v":0},null,{"$f":"W5353","v":0},null,0,0,0,0,0,0,0,0]
[null,null,null,null,null,"Complete Series of 8",null,null,null,"Jungle Babies of the Amazon Rain Forest",null,null,null,{"$f":"SUM(N5364:N5371)","v":205.20000000000002},{"$f":"SUM(O5364:O5371)","v":143.6},{"$f":"SUM(P5364:P5371)","v":223.59999999999997},{"$f":"SUM(Q5364:Q5371)","v":183.59999999999997}]
[null,9781617728068,null,9781617727573,null,"Squirrel Monkeys",null,null,null,"Jungle Babies of the Amazon Rain Forest",null,null,null,25.65,17.95,27.95,22.95,null,{"$f":"S5363","v":0},null,{"$f":"U5363","v":0},null,{"$f":"W5363","v":0},null,0,0,0,0,0,0,0,0]
[null,9781617727757,null,9781617727214,null,"Zombies and Other Walking Dead",null,null,null,"Not Near Normal: The Paranormal",null,null,null,28.5,19.95,29.95,24.95,null,{"$f":"S5373","v":0},null,{"$f":"U5373","v":0},null,{"$f":"W5373","v":0},null,0,0,0,0,0,0,0,0]
[null,9781617727924,null,9781617727436,null,"Winter Punches to Nut Crunches",null,null,null,"Yummy Tummy Recipes: Seasons",null,null,null,26.99,18.95,28.95,23.95,null,{"$f":"S5389","v":0},null,{"$f":"U5389","v":0},null,{"$f":"W5389","v":0},null,{"$f":"S5393","v":0},{"$f":"U5393","v":0},{"$f":"W5393*2","v":0},{"$f":"Y5393+Z5393+AA5393","v":0},{"$f":"S5393*O5393","v":0},{"$f":"U5393*P5393","v":0},{"$f":"W5393*Q5393","v":0},{"$f":"IF(AH5393=FALSE,AC5393+AD5393+AE5393,0)","v":0}]
[null,9781617726132,null,9781617725708,null,"Roseate Spoonbill",null,null,null,"America's Hidden Animal Treasures",null,null,null,28.5,19.95,29.95,24.95,null,{"$f":"S5395","v":0},null,{"$f":"U5395","v":0},null,{"$f":"W5395","v":0},null,0,0,0,0,0,0,0,0]
[null,9781617726347,null,9781617726033,null,"Sea Turtle Hatchlings",null,null,null,"Water Babies",null,null,null,25.65,17.95,27.95,22.95,null,{"$f":"S5403","v":0},null,{"$f":"U5403","v":0},null,{"$f":"W5403","v":0},null,0,0,0,0,0,0,0,0]
[null,9781617724923,null,9781617724466,null,"Today's Navy Heroes",null,null,null,"Acts of Courage: Inside America's Military",null,null,null,28.5,19.95,29.95,{"$f":"O5418+5","v":24.95},null,{"$f":"S5413","v":0},null,{"$f":"U5413","v":0},null,{"$f":"W5413","v":0},null,{"$f":"S5418","v":0},{"$f":"U5418","v":0},{"$f":"W5418*2","v":0},{"$f":"Y5418+Z5418+AA5418","v":0},{"$f":"S5418*O5418","v":0},{"$f":"U5418*P5418","v":0},{"$f":"W5418*Q5418","v":0},{"$f":"IF(AH5418=FALSE,AC5418+AD5418+AE5418,0)","v":0}]
[null,9781617724947,null,9781617724510,null,"Dolphins in the Navy",null,null,null,"America's Animal Soldiers",null,null,null,26.99,18.95,28.95,{"$f":"O5421+5","v":23.95},null,{"$f":"S5420","v":0},null,{"$f":"U5420","v":0},null,{"$f":"W5420","v":0},null,{"$f":"S5421","v":0},{"$f":"U5421","v":0},{"$f":"W5421*2","v":0},{"$f":"Y5421+Z5421+AA5421","v":0},{"$f":"S5421*O5421","v":0},{"$f":"U5421*P5421","v":0},{"$f":"W5421*Q5421","v":0},{"$f":"IF(AH5421=FALSE,AC5421+AD5421+AE5421,0)","v":0}]
[null,9781617723285,null,9781617722912,null,"Saving Animals from Volcanoes",null,null,null,"Rescuing Animals from Disasters",null,null,null,28.5,19.95,29.95,24.95,null,{"$f":"S5426","v":0},null,{"$f":"U5426","v":0},null,{"$f":"W5426","v":0},null,0,0,0,0,0,0,0,0]
[null,9781617724640,null,9781617723971,null,"How Do You Know It’s Winter?",null,null,null,"Signs of the Seasons",null,null,null,26.99,18.95,28.95,23.95,null,{"$f":"S5435","v":0},null,{"$f":"U5435","v":0},null,{"$f":"W5435","v":0},null,{"$f":"S5439","v":0},{"$f":"U5439","v":0},{"$f":"W5439*2","v":0},{"$f":"Y5439+Z5439+AA5439","v":0},{"$f":"S5439*O5439","v":0},{"$f":"U5439*P5439","v":0},{"$f":"W5439*Q5439","v":0},{"$f":"IF(AH5439=FALSE,AC5439+AD5439+AE5439,0)","v":0}]
[null,9781617723148,null,9781617722790,null,"Coyote",null,null,null,"Animal Loudmouths",null,null,null,26.99,18.95,28.95,{"$f":"O5451+5","v":23.95},null,{"$f":"S5450","v":0},null,{"$f":"U5450","v":0},null,{"$f":"W5450","v":0},null,{"$f":"S5451","v":0},{"$f":"U5451","v":0},{"$f":"W5451*2","v":0},{"$f":"Y5451+Z5451+AA5451","v":0},{"$f":"S5451*O5451","v":0},{"$f":"U5451*P5451","v":0},{"$f":"W5451*Q5451","v":0},{"$f":"IF(AH5451=FALSE,AC5451+AD5451+AE5451,0)","v":0}]
[null,9781617723377,null,9781617722981,null,"Rottweiler",null,null,null,"Big Dogs Rule",null,null,null,28.5,19.95,29.95,24.95,null,{"$f":"S5458","v":0},null,{"$f":"U5458","v":0},null,{"$f":"W5458","v":0},null,0,0,0,0,0,0,0,0]
[null,9781617723414,null,9781617723056,null,"Freaky-Strange Buildings",null,null,null,"So Big Compared to What?",null,null,null,26.99,18.95,28.95,23.95,null,{"$f":"S5466","v":0},null,{"$f":"U5466","v":0},null,{"$f":"W5466","v":0},null,{"$f":"S5468","v":0},{"$f":"U5468","v":0},{"$f":"W5468*2","v":0},{"$f":"Y5468+Z5468+AA5468","v":0},{"$f":"S5468*O5468","v":0},{"$f":"U5468*P5468","v":0},{"$f":"W5468*Q5468","v":0},{"$f":"IF(AH5468=FALSE,AC5468+AD5468+AE5468,0)","v":0}]
[null,9781617721779,null,9781617721298,null,"Polar Bear",null,null,null,"Built for Cold: Arctic Animals",null,null,null,28.5,19.95,29.95,24.95,null,{"$f":"S5478","v":0},null,{"$f":"U5478","v":0},null,{"$f":"W5478","v":0},null,0,0,0,0,0,0,0,0]
[null,9781617721885,null,9781617721434,null,"American Shorthairs",null,null,null,"Cat-ographies",null,null,null,26.99,18.95,28.95,23.95,null,{"$f":"S5486","v":0},null,{"$f":"U5486","v":0},null,{"$f":"W5486","v":0},null,0,0,0,0,0,0,0,0]
[null,9781617721847,null,9781617721397,null,"Hot Hot Rods",null,null,null,"Fast Rides",null,null,null,26.99,18.95,28.95,23.95,null,{"$f":"S5494","v":0},null,{"$f":"U5494","v":0},null,{"$f":"W5494","v":0},null,{"$f":"S5497","v":0},{"$f":"U5497","v":0},{"$f":"W5497*2","v":0},{"$f":"Y5497+Z5497+AA5497","v":0},{"$f":"S5497*O5497","v":0},{"$f":"U5497*P5497","v":0},{"$f":"W5497*Q5497","v":0},{"$f":"IF(AH5497=FALSE,AC5497+AD5497+AE5497,0)","v":0}]
[null,9781617721717,null,9781617721267,null,"Disgusting Food Invaders",null,null,null,"Up Close and Gross: Microscopic Creatures",null,null,null,26.99,18.95,28.95,23.95,null,{"$f":"S5500","v":0},null,{"$f":"U5500","v":0},null,{"$f":"W5500","v":0},null,{"$f":"S5502","v":0},{"$f":"U5502","v":0},{"$f":"W5502*2","v":0},{"$f":"Y5502+Z5502+AA5502","v":0},{"$f":"S5502*O5502","v":0},{"$f":"U5502*P5502","v":0},{"$f":"W5502*Q5502","v":0},{"$f":"IF(AH5502=FALSE,AC5502+AD5502+AE5502,0)","v":0}]
[null,9781617721960,null,9781617721595,null,"Lion Cubs",null,null,null,"Wild Baby Animals",null,null,null,25.65,17.95,27.95,22.95,null,{"$f":"S5506","v":0},null,{"$f":"U5506","v":0},null,{"$f":"W5506","v":0},null,0,0,0,0,0,0,0,0]
[null,9781936088843,null,9781936088119,null,"Army",null,null,null,"Becoming a Soldier",null,null,null,26.99,18.95,28.95,23.95,null,{"$f":"S5516","v":0},null,{"$f":"U5516","v":0},null,{"$f":"W5516","v":0},null,{"$f":"S5518","v":0},{"$f":"U5518","v":0},{"$f":"W5518*2","v":0},{"$f":"Y5518+Z5518+AA5518","v":0},{"$f":"S5518*O5518","v":0},{"$f":"U5518*P5518","v":0},{"$f":"W5518*Q5518","v":0},{"$f":"IF(AH5518=FALSE,AC5518+AD5518+AE5518,0)","v":0}]
[null,9781936088690,null,9781936087907,null,"Greyhound",null,null,null,"Blink of an Eye: Superfast Animals",null,null,null,26.99,18.95,28.95,23.95,null,{"$f":"S5523","v":0},null,{"$f":"U5523","v":0},null,{"$f":"W5523","v":0},null,0,0,0,0,0,0,0,0]
[null,9781936088744,null,9781936087969,null,"Dracula’s Dark World",null,null,null,"HorrorScapes",null,null,null,28.5,19.95,29.95,{"$f":"O5539+5","v":24.95},null,{"$f":"S5538","v":0},null,{"$f":"U5538","v":0},null,{"$f":"W5538","v":0},null,{"$f":"S5539","v":0},{"$f":"U5539","v":0},{"$f":"W5539*2","v":0},{"$f":"Y5539+Z5539+AA5539","v":0},{"$f":"S5539*O5539","v":0},{"$f":"U5539*P5539","v":0},{"$f":"W5539*Q5539","v":0},{"$f":"IF(AH5539=FALSE,AC5539+AD5539+AE5539,0)","v":0}]
[null,9781936088959,null,9781936088218,null,"French Bulldog",null,null,null,"Little Dogs Rock! II",null,null,null,28.5,19.95,29.95,24.95,null,{"$f":"S5545","v":0},null,{"$f":"U5545","v":0},null,{"$f":"W5545","v":0},null,0,0,0,0,0,0,0,0]
[null,9781936088911,null,9781936088058,null,"The Flu of 1918",null,null,null,"Nightmare Plagues",null,null,null,28.5,19.95,29.95,24.95,null,{"$f":"S5553","v":0},null,{"$f":"U5553","v":0},null,{"$f":"W5553","v":0},null,0,0,0,0,0,0,0,0]
[]
[]
[null,9781936088522,null,9781936087549,null,"Blitzed by a Blizzard!",null,null,null,"Disaster Survivors",null,null,null,28.5,19.95,29.95,{"$f":"O5578+5","v":24.95},null,{"$f":"S5577","v":0},null,{"$f":"U5577","v":0},null,{"$f":"W5577","v":0},null,{"$f":"S5578","v":0},{"$f":"U5578","v":0},{"$f":"W5578*2","v":0},{"$f":"Y5578+Z5578+AA5578","v":0},{"$f":"S5578*O5578","v":0},{"$f":"U5578*P5578","v":0},{"$f":"W5578*Q5578","v":0},{"$f":"IF(AH5578=FALSE,AC5578+AD5578+AE5578,0)","v":0}]
[null,9781936088317,null,9781936087297,null,"Emperor Penguin",null,null,null,"More SuperSized!",null,null,null,26.99,18.95,28.95,23.95,null,{"$f":"S5587","v":0},null,{"$f":"U5587","v":0},null,{"$f":"W5587","v":0},null,0,0,0,0,0,0,0,0]
[null,null,null,null,null,"Complete Series of 6",null,null,null,"Afraid of the Water",null,null,null,{"$f":"SUM(N5598:N5603)","v":161.94},{"$f":"SUM(O5598:O5603)","v":113.7},{"$f":"SUM(P5598:P5603)","v":173.7},{"$f":"SUM(Q5598:Q5603)","v":143.69999999999999}]
[null,9781597163552,null,9781597169653,null,"Eating Green",null,null,null,"Going Green",null,null,null,28.5,19.95,29.95,{"$f":"O5607+5","v":24.95},null,{"$f":"S5605","v":0},null,{"$f":"U5605","v":0},null,{"$f":"W5605","v":0},null,{"$f":"S5607","v":0},{"$f":"U5607","v":0},{"$f":"W5607*2","v":0},{"$f":"Y5607+Z5607+AA5607","v":0},{"$f":"S5607*O5607","v":0},{"$f":"U5607*P5607","v":0},{"$f":"W5607*Q5607","v":0},{"$f":"IF(AH5607=FALSE,AC5607+AD5607+AE5607,0)","v":0}]
[null,9781597169820,null,9781597168717,null,"The Bat’s Cave",null,null,null,"Spectacular Animal Towns",null,null,null,28.5,19.95,29.95,24.95,null,{"$f":"S5618","v":0},null,{"$f":"U5618","v":0},null,{"$f":"W5618","v":0},null,0,0,0,0,0,0,0,0]
[null,9781597163491,null,9781597169592,null,"Freaky-big Airplanes",null,null,null,"World's Biggest",null,null,null,26.99,18.95,28.95,{"$f":"O5627+5","v":23.95},null,{"$f":"S5626","v":0},null,{"$f":"U5626","v":0},null,{"$f":"W5626","v":0},null,{"$f":"S5627","v":0},{"$f":"U5627","v":0},{"$f":"W5627*2","v":0},{"$f":"Y5627+Z5627+AA5627","v":0},{"$f":"S5627*O5627","v":0},{"$f":"U5627*P5627","v":0},{"$f":"W5627*Q5627","v":0},{"$f":"IF(AH5627=FALSE,AC5627+AD5627+AE5627,0)","v":0}]
[null,9781597169950,null,9781597169516,null,"Mighty MotoXers",null,null,null,"X-Moves",null,null,null,26.99,18.95,28.95,23.95,null,{"$f":"S5632","v":0},null,{"$f":"U5632","v":0},null,{"$f":"W5632","v":0},null,0,0,0,0,0,0,0,0]
[null,9781597165914,null,9781597165037,null,"American Alligators",null,null,null,"America's Animal Comebacks",null,null,null,28.5,19.95,29.95,{"$f":"O5641+5","v":24.95},null,{"$f":"S5640","v":0},null,{"$f":"U5640","v":0},null,{"$f":"W5640","v":0},null,{"$f":"S5641","v":0},{"$f":"U5641","v":0},{"$f":"W5641*2","v":0},{"$f":"Y5641+Z5641+AA5641","v":0},{"$f":"S5641*O5641","v":0},{"$f":"U5641*P5641","v":0},{"$f":"W5641*Q5641","v":0},{"$f":"IF(AH5641=FALSE,AC5641+AD5641+AE5641,0)","v":0}]
[null,9781597165907,null,9781597165020,null,"Gray Wolves",null,null,null,"America's Animal Comebacks",null,null,null,28.5,19.95,29.95,24.95,null,{"$f":"S5640","v":0},null,{"$f":"U5640","v":0},null,{"$f":"W5640","v":0},null,0,0,0,0,0,0,0,0]
[null,null,null,null,null,"Complete Series of 6",null,null,null,"Extreme Cuisine",null,null,null,{"$f":"SUM(N5658:N5663)","v":161.94},{"$f":"SUM(O5658:O5663)","v":113.7},{"$f":"SUM(P5658:P5663)","v":173.7},{"$f":"SUM(Q5658:Q5663)","v":143.69999999999999}]
[null,9781597169226,null,9781597167666,null,"Black Mambas",null,null,null,"Fangs",null,null,null,26.99,18.95,28.95,{"$f":"O5666+5","v":23.95},null,{"$f":"S5665","v":0},null,{"$f":"U5665","v":0},null,{"$f":"W5665","v":0},null,{"$f":"S5666","v":0},{"$f":"U5666","v":0},{"$f":"W5666*2","v":0},{"$f":"Y5666+Z5666+AA5666","v":0},{"$f":"S5666*O5666","v":0},{"$f":"U5666*P5666","v":0},{"$f":"W5666*Q5666","v":0},{"$f":"IF(AH5666=FALSE,AC5666+AD5666+AE5666,0)","v":0}]
[null,9781597169035,null,9781597167451,null,"Pomeranian",null,null,null,"Little Dogs Rock!",null,null,null,28.5,19.95,29.95,24.95,null,{"$f":"S5673","v":0},null,{"$f":"U5673","v":0},null,{"$f":"W5673","v":0},null,0,0,0,0,0,0,0,0]
[null,9781597166751,null,9781597165853,null,"Bloodthirsty Mosquitoes",null,null,null,"No Backbone! The World of Invertebrates",null,null,null,26.99,18.95,28.95,23.95,null,{"$f":"S5683","v":0},null,{"$f":"U5683","v":0},null,{"$f":"W5683","v":0},null,0,0,0,0,0,0,0,0]
[null,9781597166799,null,9781597165884,null,"Hungry Cockroaches",null,null,null,"No Backbone! The World of Invertebrates",null,null,null,26.99,18.95,28.95,23.95,null,{"$f":"S5683","v":0},null,{"$f":"U5683","v":0},null,{"$f":"W5683","v":0},null,0,0,0,0,0,0,0,0]
[null,9781597166812,null,9781597165860,null,"Leaping Grasshoppers",null,null,null,"No Backbone! The World of Invertebrates",null,null,null,26.99,18.95,28.95,23.95,null,{"$f":"S5683","v":0},null,{"$f":"U5683","v":0},null,{"$f":"W5683","v":0},null,0,0,0,0,0,0,0,0]
[null,9781597167987,null,9781597167116,null,"Giant-o-saurs",null,null,null,"Dino Times Trivia",null,null,null,26.99,18.95,28.95,23.95,null,{"$f":"S5713","v":0},null,{"$f":"U5713","v":0},null,{"$f":"W5713","v":0},null,0,0,0,0,0,0,0,0]
[null,9781597167970,null,9781597167109,null,"Pet-sized Dinos",null,null,null,"Dino Times Trivia",null,null,null,26.99,18.95,28.95,23.95,null,{"$f":"S5713","v":0},null,{"$f":"U5713","v":0},null,{"$f":"W5713","v":0},null,0,0,0,0,0,0,0,0]
[null,9781597168076,null,9781597167215,null,"Prickly Porcupines",null,null,null,"Gross-out Defenses",null,null,null,26.99,18.95,28.95,23.95,null,{"$f":"S5725","v":0},null,{"$f":"U5725","v":0},null,{"$f":"W5725","v":0},null,0,0,0,0,0,0,0,0]
[null,9781597168168,null,9781597167321,null,"Fossa",null,null,null,"Uncommon Animals",null,null,null,28.5,19.95,29.95,24.95,null,{"$f":"S5733","v":0},null,{"$f":"U5733","v":0},null,{"$f":"W5733","v":0},null,0,0,0,0,0,0,0,0]
[null,9781597166942,null,9781597166287,null,"Manny Ramirez and the Boston Red Sox",null,null,null,"World Series Superstars",null,null,null,26.99,18.95,28.95,23.95,null,{"$f":"S5741","v":0},null,{"$f":"U5741","v":0},null,{"$f":"W5741","v":0},null,0,0,0,0,0,0,0,0]
[null,9781597164917,null,9781597164030,null,"Working Horses",null,null,null,"Horse Power",null,null,null,28.5,19.95,29.95,24.95,null,{"$f":"S5751","v":0},null,{"$f":"U5751","v":0},null,{"$f":"W5751","v":0},null,0,0,0,0,0,0,0,0]
[null,"Not Available",null,9781597161626,null,"Elephants",null,null,null,"Smart Animals",null,null,null,28.5,19.95,0,0,null,{"$f":"S5761","v":0},null,null,null,null,null,0,0,0,0,0,0,0,0]
[]
[null,9781597164214,null,9781597162555,null,"SuperCroc",null,null,null,"Fossil Hunters",null,null,null,28.5,19.95,29.95,24.95,null,{"$f":"S5781","v":0},null,{"$f":"U5781","v":0},null,{"$f":"W5781","v":0},null,0,0,0,0,0,0,0,0]
[null,9781597164238,null,9781597162579,null,"The MaiasauraNests",null,null,null,"Fossil Hunters",null,null,null,28.5,19.95,29.95,24.95,null,{"$f":"S5781","v":0},null,{"$f":"U5781","v":0},null,{"$f":"W5781","v":0},null,0,0,0,0,0,0,0,0]
[null,9781597164771,null,9781597163897,null,"Goliath Bird-Eating Tarantula",null,null,null,"SuperSized!",null,null,null,26.99,18.95,28.95,23.95,null,{"$f":"S5790","v":0},null,{"$f":"U5790","v":0},null,{"$f":"W5790","v":0},null,0,0,0,0,0,0,0,0]
[]
[]
[]
[null,"Not Available",null,9781597161671,null,"Cycling",null,null,null,"Upsets & Comebacks",null,null,null,28.5,19.95,0,0,null,{"$f":"S5832","v":0},null,null,null,null,null,0,0,0,0,0,0,0,0]
[null,"Not Available",null,9781597161701,null,"Tennis",null,null,null,"Upsets & Comebacks",null,null,null,28.5,19.95,0,0,null,{"$f":"S5832","v":0},null,null,null,null,null,0,0,0,0,0,0,0,0]
[]
[null,"Not Available",null,9781597160797,null,"Superfast Boats",null,null,null,"Ultimate Speed",null,null,null,28.5,19.95,0,0,null,{"$f":"S5855","v":0},null,null,null,null,null,{"$f":"S5856","v":0},{"$f":"U5856","v":0},{"$f":"W5856*2","v":0},{"$f":"Y5856+Z5856+AA5856","v":0},{"$f":"S5856*O5856","v":0},{"$f":"U5856*P5856","v":0},{"$f":"W5856*Q5856","v":0},{"$f":"IF(AH5856=FALSE,AC5856+AD5856+AE5856,0)","v":0}]
[null,"Not Available",null,9781597160100,null,"Tsunami!",null,null,null,"X-treme Disasters That Changed America",null,null,null,28.5,19.95,0,0,null,{"$f":"S5862","v":0},null,null,null,null,null,0,0,0,0,0,0,0,0]
["NEW",9781645277248,null,9781645277231,null,"Leopards",null,null,null,"Big Cats",null,null,null,25.65,17.95,26.25,22.95,null,{"$f":"S5871","v":0},null,{"$f":"U5871","v":0},null,{"$f":"W5871","v":0},null,0,0,0,0,0,0,0,0]
[]
["NEW",9781645277125,null,9781645277118,null,"Pigs on the Farm",null,null,null,"Farm Animals",null,null,null,25.65,17.95,26.25,22.95,null,{"$f":"S5887","v":0},null,{"$f":"U5887","v":0},null,{"$f":"W5887","v":0},null,0,0,0,0,0,0,0,0]
["NEW",9781645278917,null,9781645278900,null,"Vacas en la granja (Cows on the Farm)",null,null,null,"Animales de la granja (Farm Animals)",null,null,null,25.65,17.95,26.25,22.95,null,{"$f":"S5897","v":0},null,{"$f":"U5897","v":0},null,{"$f":"W5897","v":0},null,0,0,0,0,0,0,0,0]
["NEW",9781645273226,null,9781645273202,null,"Let's Learn Shapes",null,null,null,"Fun First Concepts",null,null,null,24.21,16.95,22.5,21.95,null,{"$f":"S5907","v":0},null,{"$f":"U5907","v":0},null,{"$f":"W5907","v":0},null,0,0,0,0,0,0,0,0]
[null,9781624966989,null,9781620319086,null,"Motorcycles",null,null,null,"How Does It Work?",null,null,null,26.99,18.95,26.25,23.95,null,{"$f":"S5917","v":0},null,{"$f":"U5917","v":0},null,{"$f":"W5917","v":0},null,0,0,0,0,0,0,0,0]
["NEW",9781645277880,null,9781645277866,null,"Solar Panels",null,null,null,"How Does It Work?",null,null,null,26.99,18.95,26.25,23.95,null,{"$f":"S5917","v":0},null,{"$f":"U5917","v":0},null,{"$f":"W5917","v":0},null,0,0,0,0,0,0,0,0]
["NEW",9781645278368,null,9781645278344,null,"Creating Art in Nature",null,null,null,"Nature Heals",null,null,null,26.99,18.95,26.25,23.95,null,{"$f":"S5932","v":0},null,{"$f":"U5932","v":0},null,{"$f":"W5932","v":0},null,0,0,0,0,0,0,0,0]
["NEW",9781645277583,null,9781645277569,null,"Patterns in the Desert ",null,null,null,"Patterns in Nature",null,null,null,24.21,16.95,22.5,21.95,null,{"$f":"S5942","v":0},null,{"$f":"U5942","v":0},null,{"$f":"W5942","v":0},null,0,0,0,0,0,0,0,0]
[null,9781624968693,null,9781624968686,null,"The First Flight",null,null,null,"Super Science Feats",null,null,null,26.99,18.95,26.25,23.95,null,{"$f":"S5954","v":0},null,{"$f":"U5954","v":0},null,{"$f":"W5954","v":0},null,0,0,0,0,0,0,0,0]
[null,null,null,null,null,"Complete Series of 8",null,null,null,"The Sky's the Limit",null,null,null,{"$f":"SUM(N5965:N5972)","v":215.92000000000002},{"$f":"SUM(O5965:O5972)","v":151.6},210,191.59999999999997]
[null,null,null,null,null,"Complete Series of 8",null,null,null,"Whole Wide World",null,null,null,{"$f":"SUM(N5975:N5982)","v":215.92000000000002},{"$f":"SUM(O5975:O5982)","v":151.6},210,191.59999999999997]
["NEW",9781645277378,null,9781645277354,null,"Eiffel Tower",null,null,null,"Whole Wide World",null,null,null,26.99,18.95,26.25,23.95,null,{"$f":"S5974","v":0},null,{"$f":"U5974","v":0},null,{"$f":"W5974","v":0},null,0,0,0,0,0,0,0,0]
[null,9781624969034,null,9781624969010,null,"Cuba",null,null,null,"All Around the World",null,null,null,26.99,18.95,26.25,23.95,null,{"$f":"S5984","v":0},null,{"$f":"U5984","v":0},null,{"$f":"W5984","v":0},null,0,0,0,0,0,0,0,0]
[null,9781641281454,null,9781641281430,null,"Dominican Republic",null,null,null,"All Around the World",null,null,null,26.99,18.95,26.25,23.95,null,{"$f":"S5984","v":0},null,{"$f":"U5984","v":0},null,{"$f":"W5984","v":0},null,0,0,0,0,0,0,0,0]
[null,9781641286497,null,9781641286473,null,"Israel",null,null,null,"All Around the World",null,null,null,26.99,18.95,26.25,23.95,null,{"$f":"S5984","v":0},null,{"$f":"U5984","v":0},null,{"$f":"W5984","v":0},null,0,0,0,0,0,0,0,0]
[null,9781641281690,null,9781641281676,null,"Kenya",null,null,null,"All Around the World",null,null,null,26.99,18.95,26.25,23.95,null,{"$f":"S5984","v":0},null,{"$f":"U5984","v":0},null,{"$f":"W5984","v":0},null,0,0,0,0,0,0,0,0]
["NEW",9781645273585,null,9781645273561,null,"Somalia",null,null,null,"All Around the World",null,null,null,26.99,18.95,26.25,23.95,null,{"$f":"S5984","v":0},null,{"$f":"U5984","v":0},null,{"$f":"W5984","v":0},null,0,0,0,0,0,0,0,0]
[null,9781641286701,null,9781641286688,null,"Vietnam",null,null,null,"All Around the World",null,null,null,26.99,18.95,26.25,23.95,null,{"$f":"S5984","v":0},null,{"$f":"U5984","v":0},null,{"$f":"W5984","v":0},null,0,0,0,0,0,0,0,0]
["NEW",9781645274612,null,9781645274599,null,"Airport",null,null,null,"Around Town",null,null,null,24.21,16.95,22.5,{"$f":"O6043+5","v":21.95},null,{"$f":"S6042","v":0},null,{"$f":"U6042","v":0},null,{"$f":"W6042","v":0},null,{"$f":"S6043","v":0},{"$f":"U6043","v":0},{"$f":"W6043*2","v":0},{"$f":"Y6043+Z6043+AA6043","v":0},{"$f":"S6043*O6043","v":0},{"$f":"U6043*P6043","v":0},{"$f":"W6043*Q6043","v":0},{"$f":"IF(AH6043=FALSE,AC6043+AD6043+AE6043,0)","v":0}]
["NEW",9781645274704,null,9781645274681,null,"Doctor's Office",null,null,null,"Around Town",null,null,null,24.21,16.95,22.5,21.95,null,{"$f":"S6042","v":0},null,{"$f":"U6042","v":0},null,{"$f":"W6042","v":0},null,0,0,0,0,0,0,0,0]
["NEW",9781645274506,null,9781645274490,null,"Maine Coons",null,null,null,"Cat Club",null,null,null,25.65,17.95,26.25,22.95,null,{"$f":"S6058","v":0},null,{"$f":"U6058","v":0},null,{"$f":"W6058","v":0},null,0,0,0,0,0,0,0,0]
["NEW",9781645274568,null,9781645274551,null,"Siamese",null,null,null,"Cat Club",null,null,null,25.65,17.95,26.25,22.95,null,{"$f":"S6058","v":0},null,{"$f":"U6058","v":0},null,{"$f":"W6058","v":0},null,0,0,0,0,0,0,0,0]
["NEW",9781645276845,null,9781645276821,null,"Celebrando todas las religiones (Celebrating All Religions)",null,null,null,"Celebrando nuestras comunidades (Celebrating Our Communities)",null,null,null,26.99,18.95,26.25,23.95,null,{"$f":"S6068","v":0},null,{"$f":"U6068","v":0},null,{"$f":"W6068","v":0},null,0,0,0,0,0,0,0,0]
[]
["NEW",9781645271253,null,9781645271239,null,"How Supervolcanoes Shaped Earth",null,null,null,"Earth Shapers",null,null,null,26.99,18.95,26.25,23.95,null,{"$f":"S6092","v":0},null,{"$f":"U6092","v":0},null,{"$f":"W6092","v":0},null,{"$f":"S6095","v":0},{"$f":"U6095","v":0},{"$f":"W6095*2","v":0},{"$f":"Y6095+Z6095+AA6095","v":0},{"$f":"S6095*O6095","v":0},{"$f":"U6095*P6095","v":0},{"$f":"W6095*Q6095","v":0},{"$f":"IF(AH6095=FALSE,AC6095+AD6095+AE6095,0)","v":0}]
[]
["NEW",9781645276364,null,9781645276340,null,"Lo que veo en el otoño (What I See in Fall)",null,null,null,"Las estaciones (Seasons)",null,null,null,24.21,16.95,22.5,21.95,null,{"$f":"S6111","v":0},null,{"$f":"U6111","v":0},null,{"$f":"W6111","v":0},null,{"$f":"S6113","v":0},{"$f":"U6113","v":0},{"$f":"W6113*2","v":0},{"$f":"Y6113+Z6113+AA6113","v":0},{"$f":"S6113*O6113","v":0},{"$f":"U6113*P6113","v":0},{"$f":"W6113*Q6113","v":0},{"$f":"IF(AH6113=FALSE,AC6113+AD6113+AE6113,0)","v":0}]
[]
["NEW",9781645276630,null,9781645276616,null,"Los orangutanes infantes (Orangutan Infants)",null,null,null,"Los bebés de la selva (Rain Forest Babies)",null,null,null,24.21,16.95,22.5,21.95,null,{"$f":"S6125","v":0},null,{"$f":"U6125","v":0},null,{"$f":"W6125","v":0},null,0,0,0,0,0,0,0,0]
[]
["NEW",9781645275978,null,9781645275954,null,"¿Qué pasa con el agua? (Where Does Water Go?)",null,null,null,"Qué pasa con eso? (Where Does It Go?)",null,null,null,25.65,17.95,26.25,{"$f":"O6150+5","v":22.95},null,{"$f":"S6149","v":0},null,{"$f":"U6149","v":0},null,{"$f":"W6149","v":0},null,{"$f":"S6150","v":0},{"$f":"U6150","v":0},{"$f":"W6150*2","v":0},{"$f":"Y6150+Z6150+AA6150","v":0},{"$f":"S6150*O6150","v":0},{"$f":"U6150*P6150","v":0},{"$f":"W6150*Q6150","v":0},{"$f":"IF(AH6150=FALSE,AC6150+AD6150+AE6150,0)","v":0}]
["NEW",9781645275947,null,9781645275923,null,"¿Qué pasa con la basura? (Where Does Garbage Go?)",null,null,null,"Qué pasa con eso? (Where Does It Go?)",null,null,null,25.65,17.95,26.25,22.95,null,{"$f":"S6149","v":0},null,{"$f":"U6149","v":0},null,{"$f":"W6149","v":0},null,{"$f":"S6153","v":0},{"$f":"U6153","v":0},{"$f":"W6153*2","v":0},{"$f":"Y6153+Z6153+AA6153","v":0},{"$f":"S6153*O6153","v":0},{"$f":"U6153*P6153","v":0},{"$f":"W6153*Q6153","v":0},{"$f":"IF(AH6153=FALSE,AC6153+AD6153+AE6153,0)","v":0}]
[]
["NEW",9781645275916,null,9781645275893,null,"Sea Slugs",null,null,null,"Science Behind the Colors",null,null,null,26.99,18.95,26.25,23.95,null,{"$f":"S6165","v":0},null,{"$f":"U6165","v":0},null,{"$f":"W6165","v":0},null,0,0,0,0,0,0,0,0]
["NEW",9781645274032,null,9781645274018,null,"I Feel Confident",null,null,null,"States of Mind",null,null,null,26.99,18.95,26.25,23.95,null,{"$f":"S6179","v":0},null,{"$f":"U6179","v":0},null,{"$f":"W6179","v":0},null,{"$f":"S6182","v":0},{"$f":"U6182","v":0},{"$f":"W6182*2","v":0},{"$f":"Y6182+Z6182+AA6182","v":0},{"$f":"S6182*O6182","v":0},{"$f":"U6182*P6182","v":0},{"$f":"W6182*Q6182","v":0},{"$f":"IF(AH6182=FALSE,AC6182+AD6182+AE6182,0)","v":0}]
["NEW",9781645271406,null,9781645271383,null,"Great Depression",null,null,null,"Turning Points in U.S. History",null,null,null,26.99,18.95,26.25,23.95,null,{"$f":"S6185","v":0},null,{"$f":"U6185","v":0},null,{"$f":"W6185","v":0},null,0,0,0,0,0,0,0,0]
["NEW",9781645274261,null,9781645274254,null,"U.S. Marine Corps",null,null,null,"U.S. Armed Forces",null,null,null,26.99,18.95,26.25,23.95,null,{"$f":"S6197","v":0},null,{"$f":"U6197","v":0},null,{"$f":"W6197","v":0},null,0,0,0,0,0,0,0,0]
[]
[null,null,null,null,null,"Complete Series of 4",null,null,null,"Where Does It Go?",null,null,null,{"$f":"SUM(N6214:N6217)","v":102.6},{"$f":"SUM(O6214:O6217)","v":71.8},{"$f":"SUM(P6214:P6217)","v":105},{"$f":"SUM(Q6214:Q6217)","v":91.8}]
["NEW",9781645272908,null,9781645272885,null,"Explore Asia",null,null,null,"A Look at Continents",null,null,null,26.99,18.95,26.25,23.95,null,{"$f":"S6219","v":0},null,{"$f":"U6219","v":0},null,{"$f":"W6219","v":0},null,0,0,0,0,0,0,0,0]
[]
["NEW",9781645272786,null,9781645272762,null,"Los petirrojos (Robins)",null,null,null,"Animales en tu jardín (Backyard Animals)",null,null,null,24.21,16.95,22.5,21.95,null,{"$f":"S6235","v":0},null,{"$f":"U6235","v":0},null,{"$f":"W6235","v":0},null,0,0,0,0,0,0,0,0]
["NEW",9781645271130,null,9781645271116,null,"Snakes",null,null,null,"Backyard Animals",null,null,null,24.21,16.95,22.5,21.95,null,{"$f":"S6245","v":0},null,{"$f":"U6245","v":0},null,{"$f":"W6245","v":0},null,0,0,0,0,0,0,0,0]
["NEW",9781645272373,null,9781645272359,null,"Leadership on the Playground",null,null,null,"Be a Leader",null,null,null,26.99,18.95,26.25,23.95,null,{"$f":"S6255","v":0},null,{"$f":"U6255","v":0},null,{"$f":"W6255","v":0},null,{"$f":"S6259","v":0},{"$f":"U6259","v":0},{"$f":"W6259*2","v":0},{"$f":"Y6259+Z6259+AA6259","v":0},{"$f":"S6259*O6259","v":0},{"$f":"U6259*P6259","v":0},{"$f":"W6259*Q6259","v":0},{"$f":"IF(AH6259=FALSE,AC6259+AD6259+AE6259,0)","v":0}]
[null,null,null,null,null,"Complete Series of 4",null,null,null,"Digital Planet",null,null,null,{"$f":"SUM(N6272:N6275)","v":107.96},{"$f":"SUM(O6272:O6275)","v":75.8},{"$f":"SUM(P6272:P6275)","v":105},{"$f":"SUM(Q6272:Q6275)","v":95.8}]
["NEW",9781641288897,null,9781641288873,null,"How Does the Internet Work?",null,null,null,"Digital Planet",null,null,null,26.99,18.95,26.25,23.95,null,{"$f":"S6271","v":0},null,{"$f":"U6271","v":0},null,{"$f":"W6271","v":0},null,{"$f":"S6273","v":0},{"$f":"U6273","v":0},{"$f":"W6273*2","v":0},{"$f":"Y6273+Z6273+AA6273","v":0},{"$f":"S6273*O6273","v":0},{"$f":"U6273*P6273","v":0},{"$f":"W6273*Q6273","v":0},{"$f":"IF(AH6273=FALSE,AC6273+AD6273+AE6273,0)","v":0}]
["NEW",9781645271802,null,9781645271789,null,"Mindfulness in Sports",null,null,null,"Mindful Me",null,null,null,26.99,18.95,26.25,23.95,null,{"$f":"S6283","v":0},null,{"$f":"U6283","v":0},null,{"$f":"W6283","v":0},null,0,0,0,0,0,0,0,0]
["NEW",9781645271505,null,9781645271482,null,"Feeling Afraid",null,null,null,"Minding Emotions",null,null,null,26.99,18.95,26.25,{"$f":"O6292+5","v":23.95},null,{"$f":"S6291","v":0},null,{"$f":"U6291","v":0},null,{"$f":"W6291","v":0},null,{"$f":"S6292","v":0},{"$f":"U6292","v":0},{"$f":"W6292*2","v":0},{"$f":"Y6292+Z6292+AA6292","v":0},{"$f":"S6292*O6292","v":0},{"$f":"U6292*P6292","v":0},{"$f":"W6292*Q6292","v":0},{"$f":"IF(AH6292=FALSE,AC6292+AD6292+AE6292,0)","v":0}]
["NEW",9781645272571,null,9781645272564,null,"Los trenes monorrieles (Monorail Trains)",null,null,null,"Todos a bordo (All Aboard)",null,null,null,25.65,17.95,26.25,{"$f":"O6303+5","v":22.95},null,{"$f":"S6298","v":0},null,{"$f":"U6298","v":0},null,{"$f":"W6298","v":0},null,{"$f":"S6303","v":0},{"$f":"U6303","v":0},{"$f":"W6303*2","v":0},{"$f":"Y6303+Z6303+AA6303","v":0},{"$f":"S6303*O6303","v":0},{"$f":"U6303*P6303","v":0},{"$f":"W6303*Q6303","v":0},{"$f":"IF(AH6303=FALSE,AC6303+AD6303+AE6303,0)","v":0}]
["NEW",9781645271925,null,9781645271901,null,"Standing Yoga",null,null,null,"Yoga for Everyone",null,null,null,26.99,18.95,26.25,23.95,null,{"$f":"S6305","v":0},null,{"$f":"U6305","v":0},null,{"$f":"W6305","v":0},null,0,0,0,0,0,0,0,0]
[null,9781641287319,null,9781641287296,null,"My Friend Has Autism",null,null,null,"All Kinds of Friends",null,null,null,25.65,17.95,26.25,{"$f":"O6321+5","v":22.95},null,{"$f":"S6320","v":0},null,{"$f":"U6320","v":0},null,{"$f":"W6320","v":0},null,{"$f":"S6321","v":0},{"$f":"U6321","v":0},{"$f":"W6321*2","v":0},{"$f":"Y6321+Z6321+AA6321","v":0},{"$f":"S6321*O6321","v":0},{"$f":"U6321*P6321","v":0},{"$f":"W6321*Q6321","v":0},{"$f":"IF(AH6321=FALSE,AC6321+AD6321+AE6321,0)","v":0}]
[null,null,null,null,null,"Complete Series of 6",null,null,null,"Animal Part Smarts",null,null,null,{"$f":"SUM(N6329:N6334)","v":145.26000000000002},{"$f":"SUM(O6329:O6334)","v":101.7},{"$f":"SUM(P6329:P6334)","v":135},{"$f":"SUM(Q6329:Q6334)","v":131.69999999999999}]
[null,9781641282246,null,9781641282222,null,"I See Butterflies",null,null,null,"Backyard Bugs",null,null,null,24.21,16.95,22.5,21.95,null,{"$f":"S6336","v":0},null,{"$f":"U6336","v":0},null,{"$f":"W6336","v":0},null,0,0,0,0,0,0,0,0]
[null,9781641282277,null,9781641282253,null,"I See Dragonflies",null,null,null,"Backyard Bugs",null,null,null,24.21,16.95,22.5,21.95,null,{"$f":"S6336","v":0},null,{"$f":"U6336","v":0},null,{"$f":"W6336","v":0},null,0,0,0,0,0,0,0,0]
[null,9781641287227,null,9781641287203,null,"Resolving Conflict",null,null,null,"Building Character",null,null,null,25.65,17.95,26.25,22.95,null,{"$f":"S6349","v":0},null,{"$f":"U6349","v":0},null,{"$f":"W6349","v":0},null,0,0,0,0,0,0,0,0]
[null,9781624966484,null,9781620318881,null,"Showing Perseverance",null,null,null,"Building Character",null,null,null,25.65,17.95,26.25,22.95,null,{"$f":"S6349","v":0},null,{"$f":"U6349","v":0},null,{"$f":"W6349","v":0},null,0,0,0,0,0,0,0,0]
[null,9781624965494,null,9781620316726,null,"Child Care Providers",null,null,null,"Community Helpers",null,null,null,25.65,17.95,26.25,22.95,null,{"$f":"S6364","v":0},null,{"$f":"U6364","v":0},null,{"$f":"W6364","v":0},null,0,0,0,0,0,0,0,0]
[null,9781624960338,null,9781620310779,null,"Mail Carriers",null,null,null,"Community Helpers",null,null,null,25.65,17.95,26.25,22.95,null,{"$f":"S6364","v":0},null,{"$f":"U6364","v":0},null,{"$f":"W6364","v":0},null,0,0,0,0,0,0,0,0]
[null,9781624960352,null,9781620310793,null,"Teachers",null,null,null,"Community Helpers",null,null,null,25.65,17.95,26.25,22.95,null,{"$f":"S6364","v":0},null,{"$f":"U6364","v":0},null,{"$f":"W6364","v":0},null,0,0,0,0,0,0,0,0]
[null,9781624966552,null,9781620319796,null,"Actos de perseverancia (Showing Perseverance)",null,null,null,"Construyendo el carácter (Building Character)",null,null,null,25.65,17.95,26.25,22.95,null,{"$f":"S6396","v":0},null,{"$f":"U6396","v":0},null,{"$f":"W6396","v":0},null,0,0,0,0,0,0,0,0]
[]
[null,9781641288606,null,9781641288590,null,"Buckingham Palace",null,null,null,"Cool Castles and Palaces",null,null,null,26.99,18.95,26.25,{"$f":"O6412+5","v":23.95},null,{"$f":"S6411","v":0},null,{"$f":"U6411","v":0},null,{"$f":"W6411","v":0},null,{"$f":"S6412","v":0},{"$f":"U6412","v":0},{"$f":"W6412*2","v":0},{"$f":"Y6412+Z6412+AA6412","v":0},{"$f":"S6412*O6412","v":0},{"$f":"U6412*P6412","v":0},{"$f":"W6412*Q6412","v":0},{"$f":"IF(AH6412=FALSE,AC6412+AD6412+AE6412,0)","v":0}]
[null,9781645270591,null,9781645270577,null,"Negro (Black)",null,null,null,"Diversión con colores (Fun with Colors)",null,null,null,24.21,16.95,22.5,21.95,null,{"$f":"S6421","v":0},null,{"$f":"U6421","v":0},null,{"$f":"W6421","v":0},null,0,0,0,0,0,0,0,0]
[null,9781645270683,null,9781645270669,null,"Verde (Green)",null,null,null,"Diversión con colores (Fun with Colors)",null,null,null,24.21,16.95,22.5,21.95,null,{"$f":"S6421","v":0},null,{"$f":"U6421","v":0},null,{"$f":"W6421","v":0},null,0,0,0,0,0,0,0,0]
[null,9781641289368,null,9781641289344,null,"Gray",null,null,null,"Fun with Colors",null,null,null,24.21,16.95,22.5,21.95,null,{"$f":"S6433","v":0},null,{"$f":"U6433","v":0},null,{"$f":"W6433","v":0},null,0,0,0,0,0,0,0,0]
[null,9781641285285,null,9781641285278,null,"Veo hormigas (I See Ants)",null,null,null,"Insectos en tu jardín (Backyard Bugs)",null,null,null,24.21,16.95,22.5,21.95,null,{"$f":"S6445","v":0},null,{"$f":"U6445","v":0},null,{"$f":"W6445","v":0},null,0,0,0,0,0,0,0,0]
[null,9781641289726,null,9781641289719,null,"Las narices (Noses)",null,null,null,"Las partes de los animales (Animal Part Smarts) ",null,null,null,24.21,16.95,22.5,21.95,null,{"$f":"S6458","v":0},null,{"$f":"U6458","v":0},null,{"$f":"W6458","v":0},null,0,0,0,0,0,0,0,0]
[null,9781641289825,null,9781641289818,null,"Las crías de las focas arpa (Harp Seal Pups)",null,null,null,"Los bebés polares (Polar Babies) ",null,null,null,24.21,16.95,22.5,{"$f":"O6467+5","v":21.95},null,{"$f":"S6466","v":0},null,{"$f":"U6466","v":0},null,{"$f":"W6466","v":0},null,{"$f":"S6467","v":0},{"$f":"U6467","v":0},{"$f":"W6467*2","v":0},{"$f":"Y6467+Z6467+AA6467","v":0},{"$f":"S6467*O6467","v":0},{"$f":"U6467*P6467","v":0},{"$f":"W6467*Q6467","v":0},{"$f":"IF(AH6467=FALSE,AC6467+AD6467+AE6467,0)","v":0}]
[null,9781624963476,null,9781620312872,null,"Bald Eagles",null,null,null,"My First Animal Library",null,null,null,25.65,17.95,26.25,22.95,null,{"$f":"S6474","v":0},null,{"$f":"U6474","v":0},null,{"$f":"W6474","v":0},null,0,0,0,0,0,0,0,0]
[null,9781624962608,null,9781620311738,null,"Beavers",null,null,null,"My First Animal Library",null,null,null,25.65,17.95,26.25,22.95,null,{"$f":"S6474","v":0},null,{"$f":"U6474","v":0},null,{"$f":"W6474","v":0},null,0,0,0,0,0,0,0,0]
[null,9781641285575,null,9781641285568,null,"Hyenas",null,null,null,"My First Animal Library",null,null,null,25.65,17.95,26.25,22.95,null,{"$f":"S6474","v":0},null,{"$f":"U6474","v":0},null,{"$f":"W6474","v":0},null,0,0,0,0,0,0,0,0]
[null,9781624962622,null,9781620311752,null,"Kangaroos",null,null,null,"My First Animal Library",null,null,null,25.65,17.95,26.25,22.95,null,{"$f":"S6474","v":0},null,{"$f":"U6474","v":0},null,{"$f":"W6474","v":0},null,0,0,0,0,0,0,0,0]
[null,9781624960666,null,9781620310663,null,"Penguins",null,null,null,"My First Animal Library",null,null,null,25.65,17.95,26.25,22.95,null,{"$f":"S6474","v":0},null,{"$f":"U6474","v":0},null,{"$f":"W6474","v":0},null,0,0,0,0,0,0,0,0]
[null,9781624961793,null,9781620311127,null,"Sloths",null,null,null,"My First Animal Library",null,null,null,25.65,17.95,26.25,22.95,null,{"$f":"S6474","v":0},null,{"$f":"U6474","v":0},null,{"$f":"W6474","v":0},null,0,0,0,0,0,0,0,0]
[null,9781641287555,null,9781641287531,null,"Penguin Chicks",null,null,null,"Polar Babies",null,null,null,24.21,16.95,22.5,21.95,null,{"$f":"S6526","v":0},null,{"$f":"U6526","v":0},null,{"$f":"W6526","v":0},null,0,0,0,0,0,0,0,0]
[null,9781641286299,null,9781641286282,null,"Falcons",null,null,null,"Raptor World",null,null,null,25.65,17.95,26.25,22.95,null,{"$f":"S6534","v":0},null,{"$f":"U6534","v":0},null,{"$f":"W6534","v":0},null,0,0,0,0,0,0,0,0]
[null,9781641289566,null,9781641289559,null,"Angel Shark",null,null,null,"Shark Bites",null,null,null,25.65,17.95,26.25,{"$f":"O6549+5","v":22.95},null,{"$f":"S6548","v":0},null,{"$f":"U6548","v":0},null,{"$f":"W6548","v":0},null,{"$f":"S6549","v":0},{"$f":"U6549","v":0},{"$f":"W6549*2","v":0},{"$f":"Y6549+Z6549+AA6549","v":0},{"$f":"S6549*O6549","v":0},{"$f":"U6549*P6549","v":0},{"$f":"W6549*Q6549","v":0},{"$f":"IF(AH6549=FALSE,AC6549+AD6549+AE6549,0)","v":0}]
[null,9781641289702,null,9781641289696,null,"Whale Shark",null,null,null,"Shark Bites",null,null,null,25.65,17.95,26.25,22.95,null,{"$f":"S6548","v":0},null,{"$f":"U6548","v":0},null,{"$f":"W6548","v":0},null,0,0,0,0,0,0,0,0]
[null,9781641289214,null,9781641289009,null,"The Indian-American Journey",null,null,null,"The American Journey",null,null,null,26.99,18.95,26.25,{"$f":"O6567+5","v":23.95},null,{"$f":"S6566","v":0},null,{"$f":"U6566","v":0},null,{"$f":"W6566","v":0},null,{"$f":"S6567","v":0},{"$f":"U6567","v":0},{"$f":"W6567*2","v":0},{"$f":"Y6567+Z6567+AA6567","v":0},{"$f":"S6567*O6567","v":0},{"$f":"U6567*P6567","v":0},{"$f":"W6567*Q6567","v":0},{"$f":"IF(AH6567=FALSE,AC6567+AD6567+AE6567,0)","v":0}]
[null,9781641289245,null,9781641289184,null,"The Syrian-American Journey",null,null,null,"The American Journey",null,null,null,26.99,18.95,26.25,23.95,null,{"$f":"S6566","v":0},null,{"$f":"U6566","v":0},null,{"$f":"W6566","v":0},null,{"$f":"S6570","v":0},{"$f":"U6570","v":0},{"$f":"W6570*2","v":0},{"$f":"Y6570+Z6570+AA6570","v":0},{"$f":"S6570*O6570","v":0},{"$f":"U6570*P6570","v":0},{"$f":"W6570*Q6570","v":0},{"$f":"IF(AH6570=FALSE,AC6570+AD6570+AE6570,0)","v":0}]
[null,9781645270140,null,9781645270126,null,"Mis amigos tienen síndrome de Down (My Friend Has Down Syndrom",null,null,null,"Todo tipo de amigos (All Kinds of Friends)",null,null,null,25.65,17.95,26.25,22.95,null,{"$f":"S6572","v":0},null,{"$f":"U6572","v":0},null,{"$f":"W6572","v":0},null,0,0,0,0,0,0,0,0]
[null,null,null,null,null,"Complete Series of 6",null,null,null,"Animales bebés de los safaris (Safari Babies)",null,null,null,{"$f":"SUM(N6589:N6594)","v":145.26000000000002},{"$f":"SUM(O6589:O6594)","v":101.7},{"$f":"SUM(P6589:P6594)","v":135},{"$f":"SUM(Q6589:Q6594)","v":131.69999999999999}]
[null,9781641284318,null,9781641284295,null,"Near and Far",null,null,null,"Comparing Directions",null,null,null,24.21,16.95,22.5,21.95,null,{"$f":"S6596","v":0},null,{"$f":"U6596","v":0},null,{"$f":"W6596","v":0},null,{"$f":"S6599","v":0},{"$f":"U6599","v":0},{"$f":"W6599*2","v":0},{"$f":"Y6599+Z6599+AA6599","v":0},{"$f":"S6599*O6599","v":0},{"$f":"U6599*P6599","v":0},{"$f":"W6599*Q6599","v":0},{"$f":"IF(AH6599=FALSE,AC6599+AD6599+AE6599,0)","v":0}]
[null,9781641284462,null,9781641284448,null,"Staying Safe Online",null,null,null,"Digital Citizenship",null,null,null,26.99,18.95,26.25,23.95,null,{"$f":"S6603","v":0},null,{"$f":"U6603","v":0},null,{"$f":"W6603","v":0},null,{"$f":"S6606","v":0},{"$f":"U6606","v":0},{"$f":"W6606*2","v":0},{"$f":"Y6606+Z6606+AA6606","v":0},{"$f":"S6606*O6606","v":0},{"$f":"U6606*P6606","v":0},{"$f":"W6606*Q6606","v":0},{"$f":"IF(AH6606=FALSE,AC6606+AD6606+AE6606,0)","v":0}]
[]
[null,9781641282062,null,9781641282048,null,"Anthony Rizzo",null,null,null,"In the Spotlight",null,null,null,25.65,17.95,26.25,{"$f":"O6620+5","v":22.95},null,{"$f":"S6619","v":0},null,{"$f":"U6619","v":0},null,{"$f":"W6619","v":0},null,{"$f":"S6620","v":0},{"$f":"U6620","v":0},{"$f":"W6620*2","v":0},{"$f":"Y6620+Z6620+AA6620","v":0},{"$f":"S6620*O6620","v":0},{"$f":"U6620*P6620","v":0},{"$f":"W6620*Q6620","v":0},{"$f":"IF(AH6620=FALSE,AC6620+AD6620+AE6620,0)","v":0}]
[null,9781641284523,null,9781641284509,null,"Let's Eat Green!",null,null,null,"Kids Living Green",null,null,null,25.65,17.95,26.25,{"$f":"O6636+5","v":22.95},null,{"$f":"S6635","v":0},null,{"$f":"U6635","v":0},null,{"$f":"W6635","v":0},null,{"$f":"S6636","v":0},{"$f":"U6636","v":0},{"$f":"W6636*2","v":0},{"$f":"Y6636+Z6636+AA6636","v":0},{"$f":"S6636*O6636","v":0},{"$f":"U6636*P6636","v":0},{"$f":"W6636*Q6636","v":0},{"$f":"IF(AH6636=FALSE,AC6636+AD6636+AE6636,0)","v":0}]
[null,9781641284615,null,9781641284592,null,"Let's Save Water!",null,null,null,"Kids Living Green",null,null,null,25.65,17.95,26.25,22.95,null,{"$f":"S6635","v":0},null,{"$f":"U6635","v":0},null,{"$f":"W6635","v":0},null,{"$f":"S6639","v":0},{"$f":"U6639","v":0},{"$f":"W6639*2","v":0},{"$f":"Y6639+Z6639+AA6639","v":0},{"$f":"S6639*O6639","v":0},{"$f":"U6639*P6639","v":0},{"$f":"W6639*Q6639","v":0},{"$f":"IF(AH6639=FALSE,AC6639+AD6639+AE6639,0)","v":0}]
[null,9781641285247,null,9781641285230,null,"Mira cómo crece un roble (Watch an Oak Tree Grow)",null,null,null,"Míralos crecer (Watch It Grow)",null,null,null,25.65,17.95,26.25,22.95,null,{"$f":"S6641","v":0},null,{"$f":"U6641","v":0},null,{"$f":"W6641","v":0},null,0,0,0,0,0,0,0,0]
[null,9781641282512,null,9781641282499,null,"Zebra Foals",null,null,null,"Safari Babies",null,null,null,24.21,16.95,22.5,21.95,null,{"$f":"S6651","v":0},null,{"$f":"U6651","v":0},null,{"$f":"W6651","v":0},null,0,0,0,0,0,0,0,0]
[null,9781624965920,null,9781620317150,null,"Civil Engineer",null,null,null,"STEM Careers",null,null,null,26.99,18.95,26.25,23.95,null,{"$f":"S6659","v":0},null,{"$f":"U6659","v":0},null,{"$f":"W6659","v":0},null,0,0,0,0,0,0,0,0]
[null,9781641284677,null,9781641284653,null,"Clothing Then and Now",null,null,null,"Then and Now",null,null,null,26.99,18.95,26.25,{"$f":"O6678+5","v":23.95},null,{"$f":"S6677","v":0},null,{"$f":"U6677","v":0},null,{"$f":"W6677","v":0},null,{"$f":"S6678","v":0},{"$f":"U6678","v":0},{"$f":"W6678*2","v":0},{"$f":"Y6678+Z6678+AA6678","v":0},{"$f":"S6678*O6678","v":0},{"$f":"U6678*P6678","v":0},{"$f":"W6678*Q6678","v":0},{"$f":"IF(AH6678=FALSE,AC6678+AD6678+AE6678,0)","v":0}]
[null,9781641282574,null,9781641282550,null,"Watch a Bean Grow",null,null,null,"Watch It Grow",null,null,null,25.65,17.95,26.25,22.95,null,{"$f":"S6685","v":0},null,{"$f":"U6685","v":0},null,{"$f":"W6685","v":0},null,0,0,0,0,0,0,0,0]
[]
[null,9781641280273,null,9781641280259,null,"Serving in the Military",null,null,null,"Being an Active Citizen",null,null,null,26.99,18.95,26.25,{"$f":"O6706+5","v":23.95},null,{"$f":"S6704","v":0},null,{"$f":"U6704","v":0},null,{"$f":"W6704","v":0},null,{"$f":"S6706","v":0},{"$f":"U6706","v":0},{"$f":"W6706*2","v":0},{"$f":"Y6706+Z6706+AA6706","v":0},{"$f":"S6706*O6706","v":0},{"$f":"U6706*P6706","v":0},{"$f":"W6706*Q6706","v":0},{"$f":"IF(AH6706=FALSE,AC6706+AD6706+AE6706,0)","v":0}]
[null,9781641280334,null," 9781641280310",null,"Voting",null,null,null,"Being an Active Citizen",null,null,null,26.99,18.95,26.25,{"$f":"O6709+5","v":23.95},null,{"$f":"S6704","v":0},null,{"$f":"U6704","v":0},null,{"$f":"W6704","v":0},null,{"$f":"S6709","v":0},{"$f":"U6709","v":0},{"$f":"W6709*2","v":0},{"$f":"Y6709+Z6709+AA6709","v":0},{"$f":"S6709*O6709","v":0},{"$f":"U6709*P6709","v":0},{"$f":"W6709*Q6709","v":0},{"$f":"IF(AH6709=FALSE,AC6709+AD6709+AE6709,0)","v":0}]
[null,9781624969546,null,9781624969522,null,"Sad",null,null,null,"Emotions",null,null,null,24.21,16.95,22.5,21.95,null,{"$f":"S6711","v":0},null,{"$f":"U6711","v":0},null,{"$f":"W6711","v":0},null,{"$f":"S6715","v":0},{"$f":"U6715","v":0},{"$f":"W6715*2","v":0},{"$f":"Y6715+Z6715+AA6715","v":0},{"$f":"S6715*O6715","v":0},{"$f":"U6715*P6715","v":0},{"$f":"W6715*Q6715","v":0},{"$f":"IF(AH6715=FALSE,AC6715+AD6715+AE6715,0)","v":0}]
[null,9781624963261,null,9781620312391,null,"El Año Nuevo Chino (Chinese New Year)",null,null,null,"Fiestas (Holidays)",null,null,null,25.65,17.95,26.25,22.95,null,{"$f":"S6717","v":0},null,{"$f":"U6717","v":0},null,{"$f":"W6717","v":0},null,0,0,0,0,0,0,0,0]
[null,9781624969690,null,9781624969676,null,"Rabbit Kits",null,null,null,"Forest Babies",null,null,null,24.21,16.95,22.5,21.95,null,{"$f":"S6733","v":0},null,{"$f":"U6733","v":0},null,{"$f":"W6733","v":0},null,0,0,0,0,0,0,0,0]
[null,9781624968297,null,9781624968273,null,"Fossils",null,null,null,"Geology Genius",null,null,null,26.99,18.95,26.25,23.95,null,{"$f":"S6743","v":0},null,{"$f":"U6743","v":0},null,{"$f":"W6743","v":0},null,0,0,0,0,0,0,0,0]
[null,9781624968143,null,9781624968129,null,"Life Cycle of a Jellyfish",null,null,null,"Incredible Animal Life Cycles",null,null,null,26.99,18.95,26.25,23.95,null,{"$f":"S6753","v":0},null,{"$f":"U6753","v":0},null,{"$f":"W6753","v":0},null,0,0,0,0,0,0,0,0]
[null,9781624968204,null,9781624968181,null,"Life Cycle of a Ladybug",null,null,null,"Incredible Animal Life Cycles",null,null,null,26.99,18.95,26.25,23.95,null,{"$f":"S6753","v":0},null,{"$f":"U6753","v":0},null,{"$f":"W6753","v":0},null,0,0,0,0,0,0,0,0]
[null,9781624969812,null,9781624969799,null,"Bikes",null,null,null,"Let's Go!",null,null,null,24.21,16.95,22.5,{"$f":"O6775+5","v":21.95},null,{"$f":"S6774","v":0},null,{"$f":"U6774","v":0},null,{"$f":"W6774","v":0},null,{"$f":"S6775","v":0},{"$f":"U6775","v":0},{"$f":"W6775*2","v":0},{"$f":"Y6775+Z6775+AA6775","v":0},{"$f":"S6775*O6775","v":0},{"$f":"U6775*P6775","v":0},{"$f":"W6775*Q6775","v":0},{"$f":"IF(AH6775=FALSE,AC6775+AD6775+AE6775,0)","v":0}]
[null,9781641280020,null,9781641280006,null,"Trucks",null,null,null,"Let's Go!",null,null,null,24.21,16.95,22.5,21.95,null,{"$f":"S6774","v":0},null,{"$f":"U6774","v":0},null,{"$f":"W6774","v":0},null,0,0,0,0,0,0,0,0]
[null,9781641280891,null,9781641280884,null,"Los gazapos (Rabbit Kits)",null,null,null,"Los bebés del bosque (Forest Babies)",null,null,null,24.21,16.95,22.5,21.95,null,{"$f":"S6784","v":0},null,{"$f":"U6784","v":0},null,{"$f":"W6784","v":0},null,0,0,0,0,0,0,0,0]
[null,9781624968532,null,9781624968518,null,"Levers",null,null,null,"Machines in Motion",null,null,null,25.65,17.95,26.25,22.95,null,{"$f":"S6794","v":0},null,{"$f":"U6794","v":0},null,{"$f":"W6794","v":0},null,0,0,0,0,0,0,0,0]
[null,9781624969300,null,9781624969287,null,"Executive Branch",null,null,null,"My Government",null,null,null,26.99,18.95,26.25,{"$f":"O6803+5","v":23.95},null,{"$f":"S6802","v":0},null,{"$f":"U6802","v":0},null,{"$f":"W6802","v":0},null,{"$f":"S6803","v":0},{"$f":"U6803","v":0},{"$f":"W6803*2","v":0},{"$f":"Y6803+Z6803+AA6803","v":0},{"$f":"S6803*O6803","v":0},{"$f":"U6803*P6803","v":0},{"$f":"W6803*Q6803","v":0},{"$f":"IF(AH6803=FALSE,AC6803+AD6803+AE6803,0)","v":0}]
[null,9781624967795,null,9781624967788,null,"Labrador Retrievers",null,null,null,"Paw Prints",null,null,null,25.65,17.95,26.25,22.95,null,{"$f":"S6809","v":0},null,{"$f":"U6809","v":0},null,{"$f":"W6809","v":0},null,0,0,0,0,0,0,0,0]
[null,9781624968822,null,9781624968808,null,"Photosynthesis",null,null,null,"Plant Power",null,null,null,26.99,18.95,26.25,23.95,null,{"$f":"S6823","v":0},null,{"$f":"U6823","v":0},null,{"$f":"W6823","v":0},null,0,0,0,0,0,0,0,0]
[null,9781624966804,null,9781620319970,null,"Ahorrar dinero (Saving Money)",null,null,null,"Se inteligente con tu dinero (Money Smarts)",null,null,null,25.65,17.95,26.25,22.95,null,{"$f":"S6831","v":0},null,{"$f":"U6831","v":0},null,{"$f":"W6831","v":0},null,{"$f":"S6833","v":0},{"$f":"U6833","v":0},{"$f":"W6833*2","v":0},{"$f":"Y6833+Z6833+AA6833","v":0},{"$f":"S6833*O6833","v":0},{"$f":"U6833*P6833","v":0},{"$f":"W6833*Q6833","v":0},{"$f":"IF(AH6833=FALSE,AC6833+AD6833+AE6833,0)","v":0}]
[null,9781641280532,null,9781641280525,null,"Las viudas negras (Black Widows)",null,null,null,"Un vistazo a las arañas (An Eye on Spiders)",null,null,null,25.65,17.95,26.25,22.95,null,{"$f":"S6838","v":0},null,{"$f":"U6838","v":0},null,{"$f":"W6838","v":0},null,0,0,0,0,0,0,0,0]
[null,9781641280990,null,9781641280983,null,"Las bicicletas (Bikes)",null,null,null,"¡Vamos! (Let's Go!)",null,null,null,24.21,16.95,22.5,{"$f":"O6848+5","v":21.95},null,{"$f":"S6847","v":0},null,{"$f":"U6847","v":0},null,{"$f":"W6847","v":0},null,{"$f":"S6848","v":0},{"$f":"U6848","v":0},{"$f":"W6848*2","v":0},{"$f":"Y6848+Z6848+AA6848","v":0},{"$f":"S6848*O6848","v":0},{"$f":"U6848*P6848","v":0},{"$f":"W6848*Q6848","v":0},{"$f":"IF(AH6848=FALSE,AC6848+AD6848+AE6848,0)","v":0}]
[null,9781641281119,null,9781641281102,null,"Los carros (Cars)",null,null,null,"¡Vamos! (Let's Go!)",null,null,null,24.21,16.95,22.5,21.95,null,{"$f":"S6847","v":0},null,{"$f":"U6847","v":0},null,{"$f":"W6847","v":0},null,0,0,0,0,0,0,0,0]
[null,9781624963957,null,9781620313480,null,"Ellis Island",null,null,null,"Hello, America!",null,null,null,25.65,17.95,26.25,22.95,null,{"$f":"S6863","v":0},null,{"$f":"U6863","v":0},null,{"$f":"W6863","v":0},null,0,0,0,0,0,0,0,0]
[null,9781624963995,null,9781620313527,null,"White House",null,null,null,"Hello, America!",null,null,null,25.65,17.95,26.25,22.95,null,{"$f":"S6863","v":0},null,{"$f":"U6863","v":0},null,{"$f":"W6863","v":0},null,0,0,0,0,0,0,0,0]
[null,9781624961960,null,9781620311295,null,"Easter",null,null,null,"Holidays",null,null,null,25.65,17.95,26.25,22.95,null,{"$f":"S6879","v":0},null,{"$f":"U6879","v":0},null,{"$f":"W6879","v":0},null,0,0,0,0,0,0,0,0]
[null,9781624962738,null,9781620311868,null,"Thanksgiving",null,null,null,"Holidays",null,null,null,25.65,17.95,26.25,22.95,null,{"$f":"S6879","v":0},null,{"$f":"U6879","v":0},null,{"$f":"W6879","v":0},null,0,0,0,0,0,0,0,0]
[null,9781624962752,null,9781620311882,null,"Veterans Day",null,null,null,"Holidays",null,null,null,25.65,17.95,26.25,22.95,null,{"$f":"S6879","v":0},null,{"$f":"U6879","v":0},null,{"$f":"W6879","v":0},null,0,0,0,0,0,0,0,0]
[null,9781624964091,null,9781620313626,null,"Softball",null,null,null,"I Love Sports",null,null,null,25.65,17.95,26.25,22.95,null,{"$f":"S6900","v":0},null,{"$f":"U6900","v":0},null,{"$f":"W6900","v":0},null,0,0,0,0,0,0,0,0]
[]
[null,9781624967054,null,9781620319222,null,"Titanic",null,null,null,"Man-Made Disasters",null,null,null,26.99,18.95,26.25,23.95,null,{"$f":"S6922","v":0},null,{"$f":"U6922","v":0},null,{"$f":"W6922","v":0},null,{"$f":"S6927","v":0},{"$f":"U6927","v":0},{"$f":"W6927*2","v":0},{"$f":"Y6927+Z6927+AA6927","v":0},{"$f":"S6927*O6927","v":0},{"$f":"U6927*P6927","v":0},{"$f":"W6927*Q6927","v":0},{"$f":"IF(AH6927=FALSE,AC6927+AD6927+AE6927,0)","v":0}]
[]
[]
[null,9781624966859,null,9781620318423,null,"Mars",null,null,null,"Space Voyager",null,null,null,25.65,17.95,26.25,22.95,null,{"$f":"S6953","v":0},null,{"$f":"U6953","v":0},null,{"$f":"W6953","v":0},null,0,0,0,0,0,0,0,0]
[null,9781624966897,null,9781620318508,null,"Pluto and the Dwarf Planets",null,null,null,"Space Voyager",null,null,null,25.65,17.95,26.25,22.95,null,{"$f":"S6953","v":0},null,{"$f":"U6953","v":0},null,{"$f":"W6953","v":0},null,0,0,0,0,0,0,0,0]
[null,9781624967290,null,9781620319611,null,"Who Lives on the Prairie?",null,null,null,"Who Lives Here?",null,null,null,24.21,16.95,22.5,21.95,null,{"$f":"S6966","v":0},null,{"$f":"U6966","v":0},null,{"$f":"W6966","v":0},null,0,0,0,0,0,0,0,0]
[null,9781624965708,null,9781620316931,null,"Bees",null,null,null,"Animal Architects",null,null,null,26.99,18.95,26.25,23.95,null,{"$f":"S6974","v":0},null,{"$f":"U6974","v":0},null,{"$f":"W6974","v":0},null,0,0,0,0,0,0,0,0]
[null,null,null,null,null,"Complete Series of 5",null,null,null,"Celebrating Differences",null,null,null,{"$f":"SUM(N6991:N6995)","v":128.25},{"$f":"SUM(O6991:O6995)","v":89.75},{"$f":"SUM(P6991:P6995)","v":131.25},{"$f":"SUM(Q6991:Q6995)","v":114.75}]
[null,9781624965463,null,9781620316696,null,"Different Cultures",null,null,null,"Celebrating Differences",null,null,null,25.65,17.95,26.25,22.95,null,{"$f":"S6990","v":0},null,{"$f":"U6990","v":0},null,{"$f":"W6990","v":0},null,{"$f":"S6993","v":0},{"$f":"U6993","v":0},{"$f":"W6993*2","v":0},{"$f":"Y6993+Z6993+AA6993","v":0},{"$f":"S6993*O6993","v":0},{"$f":"U6993*P6993","v":0},{"$f":"W6993*Q6993","v":0},{"$f":"IF(AH6993=FALSE,AC6993+AD6993+AE6993,0)","v":0}]
[null,9781624965821,null,9781620317051,null,"Pyramids of Egypt",null,null,null,"Engineering Marvels",null,null,null,26.99,18.95,26.25,23.95,null,{"$f":"S6997","v":0},null,{"$f":"U6997","v":0},null,{"$f":"W6997","v":0},null,0,0,0,0,0,0,0,0]
[]
[null,9781624965586,null,9781620316818,null,"Rain Forests",null,null,null,"Ecosystems",null,null,null,25.65,17.95,26.25,22.95,null,{"$f":"S7017","v":0},null,{"$f":"U7017","v":0},null,{"$f":"W7017","v":0},null,0,0,0,0,0,0,0,0]
[null,9781624966149,null,9781620317679,null,"Foals",null,null,null,"Farm Babies",null,null,null,24.21,16.95,22.5,21.95,null,{"$f":"S7027","v":0},null,{"$f":"U7027","v":0},null,{"$f":"W7027","v":0},null,{"$f":"S7030","v":0},{"$f":"U7030","v":0},{"$f":"W7030*2","v":0},{"$f":"Y7030+Z7030+AA7030","v":0},{"$f":"S7030*O7030","v":0},{"$f":"U7030*P7030","v":0},{"$f":"W7030*Q7030","v":0},{"$f":"IF(AH7030=FALSE,AC7030+AD7030+AE7030,0)","v":0}]
[null,9781624965852,null,9781620317082,null,"Mountains",null,null,null,"Legendary Landforms",null,null,null,26.99,18.95,26.25,23.95,null,{"$f":"S7034","v":0},null,{"$f":"U7034","v":0},null,{"$f":"W7034","v":0},null,0,0,0,0,0,0,0,0]
[null,9781624966002,null,9781620317532,null,"Light and Dark",null,null,null,"Opposites",null,null,null,24.21,16.95,22.5,21.95,null,{"$f":"S7049","v":0},null,{"$f":"U7049","v":0},null,{"$f":"W7049","v":0},null,0,0,0,0,0,0,0,0]
[null,9781624966057,null,9781620317587,null,"Patterns in Summer",null,null,null,"Patterns in the Seasons",null,null,null,24.21,16.95,22.5,21.95,null,{"$f":"S7057","v":0},null,{"$f":"U7057","v":0},null,{"$f":"W7057","v":0},null,{"$f":"S7060","v":0},{"$f":"U7060","v":0},{"$f":"W7060*2","v":0},{"$f":"Y7060+Z7060+AA7060","v":0},{"$f":"S7060*O7060","v":0},{"$f":"U7060*P7060","v":0},{"$f":"W7060*Q7060","v":0},{"$f":"IF(AH7060=FALSE,AC7060+AD7060+AE7060,0)","v":0}]
[null,9781624965401,null,9781620316634,null,"Black Mambas",null,null,null,"Reptile World",null,null,null,25.65,17.95,26.25,22.95,null,{"$f":"S7063","v":0},null,{"$f":"U7063","v":0},null,{"$f":"W7063","v":0},null,0,0,0,0,0,0,0,0]
[null,9781624964299,null,9781620313824,null,"Gila Monsters",null,null,null,"Reptile World",null,null,null,25.65,17.95,26.25,22.95,null,{"$f":"S7063","v":0},null,{"$f":"U7063","v":0},null,{"$f":"W7063","v":0},null,0,0,0,0,0,0,0,0]
[null,9781624962868,null,9781620311998,null,"Snapping Turtles",null,null,null,"Reptile World",null,null,null,25.65,17.95,26.25,22.95,null,{"$f":"S7063","v":0},null,{"$f":"U7063","v":0},null,{"$f":"W7063","v":0},null,0,0,0,0,0,0,0,0]
[null,9781624966088,null,9781620317617,null,"Who Helps Keep Us Healthy?",null,null,null,"Who Helps?",null,null,null,24.21,16.95,22.5,21.95,null,{"$f":"S7093","v":0},null,{"$f":"U7093","v":0},null,{"$f":"W7093","v":0},null,{"$f":"S7095","v":0},{"$f":"U7095","v":0},{"$f":"W7095*2","v":0},{"$f":"Y7095+Z7095+AA7095","v":0},{"$f":"S7095*O7095","v":0},{"$f":"U7095*P7095","v":0},{"$f":"W7095*Q7095","v":0},{"$f":"IF(AH7095=FALSE,AC7095+AD7095+AE7095,0)","v":0}]
[]
[null,9781624965067,null,9781620315583,null,"Digestive System",null,null,null,"Amazing Body Systems",null,null,null,26.99,18.95,26.25,23.95,null,{"$f":"S7109","v":0},null,{"$f":"U7109","v":0},null,{"$f":"W7109","v":0},null,0,0,0,0,0,0,0,0]
[null,9781624965104,null,9781620315620,null,"Skeletal System",null,null,null,"Amazing Body Systems",null,null,null,26.99,18.95,26.25,23.95,null,{"$f":"S7109","v":0},null,{"$f":"U7109","v":0},null,{"$f":"W7109","v":0},null,0,0,0,0,0,0,0,0]
[null,9781624965289,null,9781620316382,null,"Insectos (Insects)",null,null,null,"Clasificacion animal (Animal Classification)",null,null,null,25.65,17.95,26.25,22.95,null,{"$f":"S7126","v":0},null,{"$f":"U7126","v":0},null,{"$f":"W7126","v":0},null,0,0,0,0,0,0,0,0]
[null,9781624965319,null,9781620316412,null,"Reptiles (Reptiles)",null,null,null,"Clasificacion animal (Animal Classification)",null,null,null,25.65,17.95,26.25,22.95,null,{"$f":"S7126","v":0},null,{"$f":"U7126","v":0},null,{"$f":"W7126","v":0},null,0,0,0,0,0,0,0,0]
[null,9781624965135,null,9781620315651,null,"Sinkholes",null,null,null,"Disaster Zone",null,null,null,26.99,18.95,26.25,23.95,null,{"$f":"S7134","v":0},null,{"$f":"U7134","v":0},null,{"$f":"W7134","v":0},null,0,0,0,0,0,0,0,0]
[]
[null,9781624964930,null,9781620315453,null,"Grains",null,null,null,"Healthy Living",null,null,null,25.65,17.95,26.25,22.95,null,{"$f":"S7158","v":0},null,{"$f":"U7158","v":0},null,{"$f":"W7158","v":0},null,0,0,0,0,0,0,0,0]
[null,9781624965159,null,9781620315675,null,"Crayons",null,null,null,"How Is It Made?",null,null,null,26.99,18.95,26.25,23.95,null,{"$f":"S7167","v":0},null,{"$f":"U7167","v":0},null,{"$f":"W7167","v":0},null,0,0,0,0,0,0,0,0]
[null,9781624961878,null,9781620311202,null,"Birds",null,null,null,"My First Pet",null,null,null,25.65,17.95,26.25,{"$f":"O7176+5","v":22.95},null,{"$f":"S7175","v":0},null,{"$f":"U7175","v":0},null,{"$f":"W7175","v":0},null,{"$f":"S7176","v":0},{"$f":"U7176","v":0},{"$f":"W7176*2","v":0},{"$f":"Y7176+Z7176+AA7176","v":0},{"$f":"S7176*O7176","v":0},{"$f":"U7176*P7176","v":0},{"$f":"W7176*Q7176","v":0},{"$f":"IF(AH7176=FALSE,AC7176+AD7176+AE7176,0)","v":0}]
[null,null,null,null,null,"Complete Series of 7",null,null,null,"Vida sana (Healthy Living)",null,null,null,{"$f":"SUM(N7193:N7199)","v":179.55},{"$f":"SUM(O7193:O7199)","v":125.65},{"$f":"SUM(P7193:P7199)","v":183.75},{"$f":"SUM(Q7193:Q7199)","v":160.64999999999998}]
[null,9781624965364,null,9781620316528,null,"Verduras (Vegetables)",null,null,null,"Vida sana (Healthy Living)",null,null,null,25.65,17.95,26.25,22.95,null,{"$f":"S7192","v":0},null,{"$f":"U7192","v":0},null,{"$f":"W7192","v":0},null,0,0,0,0,0,0,0,0]
[null,9781624965227,null,9781620315743,null,"Forest Food Chains",null,null,null,"Who Eats What?",null,null,null,26.99,18.95,26.25,23.95,null,{"$f":"S7201","v":0},null,{"$f":"U7201","v":0},null,{"$f":"W7201","v":0},null,0,0,0,0,0,0,0,0]
[null,9781624964497,null,9781620314029,null,"Hybrid and Electric Cars",null,null,null,"Green Planet",null,null,null,26.99,18.95,26.25,23.95,null,{"$f":"S7215","v":0},null,{"$f":"U7215","v":0},null,{"$f":"W7215","v":0},null,{"$f":"S7217","v":0},{"$f":"U7217","v":0},{"$f":"W7217*2","v":0},{"$f":"Y7217+Z7217+AA7217","v":0},{"$f":"S7217*O7217","v":0},{"$f":"U7217*P7217","v":0},{"$f":"W7217*Q7217","v":0},{"$f":"IF(AH7217=FALSE,AC7217+AD7217+AE7217,0)","v":0}]
[null,9781624964527,null,9781620314050,null,"Wind Power",null,null,null,"Green Planet",null,null,null,26.99,18.95,26.25,23.95,null,{"$f":"S7215","v":0},null,{"$f":"U7215","v":0},null,{"$f":"W7215","v":0},null,{"$f":"S7220","v":0},{"$f":"U7220","v":0},{"$f":"W7220*2","v":0},{"$f":"Y7220+Z7220+AA7220","v":0},{"$f":"S7220*O7220","v":0},{"$f":"U7220*P7220","v":0},{"$f":"W7220*Q7220","v":0},{"$f":"IF(AH7220=FALSE,AC7220+AD7220+AE7220,0)","v":0}]
[null,9781624964138,null,9781620313664,null,"Concrete Mixers",null,null,null,"Machines at Work",null,null,null,25.65,17.95,26.25,22.95,null,{"$f":"S7230","v":0},null,{"$f":"U7230","v":0},null,{"$f":"W7230","v":0},null,0,0,0,0,0,0,0,0]
[null,9781624960178,null,9781620310205,null,"Fire Trucks",null,null,null,"Machines at Work",null,null,null,25.65,17.95,26.25,22.95,null,{"$f":"S7230","v":0},null,{"$f":"U7230","v":0},null,{"$f":"W7230","v":0},null,0,0,0,0,0,0,0,0]
[null,9781624960192,null,9781620310236,null,"Tractors",null,null,null,"Machines at Work",null,null,null,25.65,17.95,26.25,22.95,null,{"$f":"S7230","v":0},null,{"$f":"U7230","v":0},null,{"$f":"W7230","v":0},null,0,0,0,0,0,0,0,0]
[null,null,null,null,null,"Complete Series of 6",null,null,null,"Math It!",null,null,null,{"$f":"SUM(N7256:N7261)","v":161.94},{"$f":"SUM(O7256:O7261)","v":113.7},{"$f":"SUM(P7256:P7261)","v":157.5},{"$f":"SUM(Q7256:Q7261)","v":143.69999999999999}]
[null,9781624964220,null,9781620313756,null,"Meals in Nigeria",null,null,null,"Meals Around the World",null,null,null,25.65,17.95,26.25,22.95,null,{"$f":"S7263","v":0},null,{"$f":"U7263","v":0},null,{"$f":"W7263","v":0},null,0,0,0,0,0,0,0,0]
[null,9781624964251,null,9781620313787,null,"Meals in Vietnam",null,null,null,"Meals Around the World",null,null,null,25.65,17.95,26.25,22.95,null,{"$f":"S7263","v":0},null,{"$f":"U7263","v":0},null,{"$f":"W7263","v":0},null,0,0,0,0,0,0,0,0]
[null,9781624964633,null,9781620314166,null,"Spacecraft",null,null,null,"Space Explorers",null,null,null,26.99,18.95,26.25,23.95,null,{"$f":"S7279","v":0},null,{"$f":"U7279","v":0},null,{"$f":"W7279","v":0},null,{"$f":"S7284","v":0},{"$f":"U7284","v":0},{"$f":"W7284*2","v":0},{"$f":"Y7284+Z7284+AA7284","v":0},{"$f":"S7284*O7284","v":0},{"$f":"U7284*P7284","v":0},{"$f":"W7284*Q7284","v":0},{"$f":"IF(AH7284=FALSE,AC7284+AD7284+AE7284,0)","v":0}]
[null,9781624964367,null,9781620313893,null,"Lightning",null,null,null,"Weather Watch",null,null,null,25.65,17.95,26.25,22.95,null,{"$f":"S7286","v":0},null,{"$f":"U7286","v":0},null,{"$f":"W7286","v":0},null,0,0,0,0,0,0,0,0]
[null,9781624963407,null,9781620312803,null,"Acting",null,null,null,"Artist's Studio",null,null,null,25.65,17.95,26.25,{"$f":"O7301+5","v":22.95},null,{"$f":"S7300","v":0},null,{"$f":"U7300","v":0},null,{"$f":"W7300","v":0},null,{"$f":"S7301","v":0},{"$f":"U7301","v":0},{"$f":"W7301*2","v":0},{"$f":"Y7301+Z7301+AA7301","v":0},{"$f":"S7301*O7301","v":0},{"$f":"U7301*P7301","v":0},{"$f":"W7301*Q7301","v":0},{"$f":"IF(AH7301=FALSE,AC7301+AD7301+AE7301,0)","v":0}]
[null,9781624963728,null,9781620313060,null,"Slimy Animals",null,null,null,"Back Off! Animal Defenses",null,null,null,26.99,18.95,26.25,23.95,null,{"$f":"S7308","v":0},null,{"$f":"U7308","v":0},null,{"$f":"W7308","v":0},null,0,0,0,0,0,0,0,0]
[null,9781624963667,null,9781620313145,null,"Bicycles",null,null,null,"Early Physics Fun",null,null,null,26.99,18.95,26.25,{"$f":"O7319+5","v":23.95},null,{"$f":"S7318","v":0},null,{"$f":"U7318","v":0},null,{"$f":"W7318","v":0},null,{"$f":"S7319","v":0},{"$f":"U7319","v":0},{"$f":"W7319*2","v":0},{"$f":"Y7319+Z7319+AA7319","v":0},{"$f":"S7319*O7319","v":0},{"$f":"U7319*P7319","v":0},{"$f":"W7319*Q7319","v":0},{"$f":"IF(AH7319=FALSE,AC7319+AD7319+AE7319,0)","v":0}]
[null,null,null,null,null,"Complete Series of 6",null,null,null,"El estudio del artista (Artist's Studio)",null,null,null,{"$f":"SUM(N7327:N7332)","v":153.9},{"$f":"SUM(O7327:O7332)","v":107.7},{"$f":"SUM(P7327:P7332)","v":157.5},{"$f":"SUM(Q7327:Q7332)","v":137.69999999999999}]
[null,9781624963612,null,9781620312957,null,"Farm",null,null,null,"First Field Trips",null,null,null,25.65,17.95,26.25,22.95,null,{"$f":"S7334","v":0},null,{"$f":"U7334","v":0},null,{"$f":"W7334","v":0},null,0,0,0,0,0,0,0,0]
[null,null,null,null,null,"Complete Series of 8",null,null,null,"Los primeros viajes escolares (First Field Trips)",null,null,null,{"$f":"SUM(N7345:N7352)","v":205.20000000000002},{"$f":"SUM(O7345:O7352)","v":143.6},{"$f":"SUM(P7345:P7352)","v":210},{"$f":"SUM(Q7345:Q7352)","v":183.59999999999997}]
[null,9781624963001,null,9781620312131,null,"Dams",null,null,null,"Amazing Structures",null,null,null,26.99,18.95,26.25,23.95,null,{"$f":"S7354","v":0},null,{"$f":"U7354","v":0},null,{"$f":"W7354","v":0},null,0,0,0,0,0,0,0,0]
[null,9781624963018,null,9781620312148,null,"Stadiums",null,null,null,"Amazing Structures",null,null,null,26.99,18.95,26.25,23.95,null,{"$f":"S7354","v":0},null,{"$f":"U7354","v":0},null,{"$f":"W7354","v":0},null,0,0,0,0,0,0,0,0]
[null,9781624961649,null,9781620310977,null,"Eels",null,null,null,"Life Under the Sea",null,null,null,25.65,17.95,26.25,22.95,null,{"$f":"S7368","v":0},null,{"$f":"U7368","v":0},null,{"$f":"W7368","v":0},null,0,0,0,0,0,0,0,0]
[null,9781624960093,null,9781620310106,null,"Octopuses",null,null,null,"Life Under the Sea",null,null,null,25.65,17.95,26.25,22.95,null,{"$f":"S7368","v":0},null,{"$f":"U7368","v":0},null,{"$f":"W7368","v":0},null,0,0,0,0,0,0,0,0]
[null,9781624961694,null,9781620311028,null,"Stingrays",null,null,null,"Life Under the Sea",null,null,null,25.65,17.95,26.25,22.95,null,{"$f":"S7368","v":0},null,{"$f":"U7368","v":0},null,{"$f":"W7368","v":0},null,0,0,0,0,0,0,0,0]
[null,9781624963391,null,9781620312520,null,"El clima en la primavera / (Weather in Spring)",null,null,null,"¿Qué pasa en la primavera? / (What Happens in Spring?)",null,null,null,25.65,17.95,26.25,{"$f":"O7394+5","v":22.95},null,{"$f":"S7393","v":0},null,{"$f":"U7393","v":0},null,{"$f":"W7393","v":0},null,{"$f":"S7394","v":0},{"$f":"U7394","v":0},{"$f":"W7394*2","v":0},{"$f":"Y7394+Z7394+AA7394","v":0},{"$f":"S7394*O7394","v":0},{"$f":"U7394*P7394","v":0},{"$f":"W7394*Q7394","v":0},{"$f":"IF(AH7394=FALSE,AC7394+AD7394+AE7394,0)","v":0}]
[null,9781624962905,null,9781620312032,null,"Shapes at School",null,null,null,"Shape Hunters",null,null,null,25.65,17.95,26.25,{"$f":"O7407+5","v":22.95},null,{"$f":"S7406","v":0},null,{"$f":"U7406","v":0},null,{"$f":"W7406","v":0},null,{"$f":"S7407","v":0},{"$f":"U7407","v":0},{"$f":"W7407*2","v":0},{"$f":"Y7407+Z7407+AA7407","v":0},{"$f":"S7407*O7407","v":0},{"$f":"U7407*P7407","v":0},{"$f":"W7407*Q7407","v":0},{"$f":"IF(AH7407=FALSE,AC7407+AD7407+AE7407,0)","v":0}]
[null,9781624962882,null,9781620312018,null,"Shapes on the Farm",null,null,null,"Shape Hunters",null,null,null,25.65,17.95,26.25,22.95,null,{"$f":"S7406","v":0},null,{"$f":"U7406","v":0},null,{"$f":"W7406","v":0},null,{"$f":"S7410","v":0},{"$f":"U7410","v":0},{"$f":"W7410*2","v":0},{"$f":"Y7410+Z7410+AA7410","v":0},{"$f":"S7410*O7410","v":0},{"$f":"U7410*P7410","v":0},{"$f":"W7410*Q7410","v":0},{"$f":"IF(AH7410=FALSE,AC7410+AD7410+AE7410,0)","v":0}]
[null,9781624963230,null,9781620312360,null,"Gardens in Spring",null,null,null,"What Happens in Spring?",null,null,null,25.65,17.95,26.25,22.95,null,{"$f":"S7420","v":0},null,{"$f":"U7420","v":0},null,{"$f":"W7420","v":0},null,{"$f":"S7423","v":0},{"$f":"U7423","v":0},{"$f":"W7423*2","v":0},{"$f":"Y7423+Z7423+AA7423","v":0},{"$f":"S7423*O7423","v":0},{"$f":"U7423*P7423","v":0},{"$f":"W7423*Q7423","v":0},{"$f":"IF(AH7423=FALSE,AC7423+AD7423+AE7423,0)","v":0}]
[null,9781624963186,null,9781620312315,null,"Flowers",null,null,null,"Way to Grow! Gardening",null,null,null,26.99,18.95,26.25,{"$f":"O7428+5","v":23.95},null,{"$f":"S7427","v":0},null,{"$f":"U7427","v":0},null,{"$f":"W7427","v":0},null,{"$f":"S7428","v":0},{"$f":"U7428","v":0},{"$f":"W7428*2","v":0},{"$f":"Y7428+Z7428+AA7428","v":0},{"$f":"S7428*O7428","v":0},{"$f":"U7428*P7428","v":0},{"$f":"W7428*Q7428","v":0},{"$f":"IF(AH7428=FALSE,AC7428+AD7428+AE7428,0)","v":0}]
[null,9781624960475,null,9781620310557,null,"Ladybugs",null,null,null,"Insect World",null,null,null,25.65,17.95,26.25,22.95,null,{"$f":"S7434","v":0},null,{"$f":"U7434","v":0},null,{"$f":"W7434","v":0},null,0,0,0,0,0,0,0,0]
[]
[null,9781624961861,null,9781620311196,null,"Touching",null,null,null,"Senses in My World",null,null,null,25.65,17.95,26.25,22.95,null,{"$f":"S7453","v":0},null,{"$f":"U7453","v":0},null,{"$f":"W7453","v":0},null,{"$f":"S7458","v":0},{"$f":"U7458","v":0},{"$f":"W7458*2","v":0},{"$f":"Y7458+Z7458+AA7458","v":0},{"$f":"S7458*O7458","v":0},{"$f":"U7458*P7458","v":0},{"$f":"W7458*Q7458","v":0},{"$f":"IF(AH7458=FALSE,AC7458+AD7458+AE7458,0)","v":0}]
[null,9781624960048,null,9781620310045,null,"Horses",null,null,null,"Animals on the Farm",null,null,null,25.65,17.95,26.25,22.95,null,{"$f":"S7460","v":0},null,{"$f":"U7460","v":0},null,{"$f":"W7460","v":0},null,0,0,0,0,0,0,0,0]
[null,9781624960260,null,9781620310144,null,"Spring",null,null,null,"Watching the Seasons",null,null,null,25.65,17.95,26.25,22.95,null,{"$f":"S7475","v":0},null,{"$f":"U7475","v":0},null,{"$f":"W7475","v":0},null,{"$f":"S7477","v":0},{"$f":"U7477","v":0},{"$f":"W7477*2","v":0},{"$f":"Y7477+Z7477+AA7477","v":0},{"$f":"S7477*O7477","v":0},{"$f":"U7477*P7477","v":0},{"$f":"W7477*Q7477","v":0},{"$f":"IF(AH7477=FALSE,AC7477+AD7477+AE7477,0)","v":0}]
[null,9781624960376,null,9781620310397,null,"Green in Nature",null,null,null,"Colors in Nature",null,null,null,25.65,17.95,26.25,22.95,null,{"$f":"S7481","v":0},null,{"$f":"U7481","v":0},null,{"$f":"W7481","v":0},null,0,0,0,0,0,0,0,0]
[null,9781624960796,null,9781620310618,null,"Weather in Fall",null,null,null,"What Happens in Fall?",null,null,null,25.65,17.95,26.25,22.95,null,{"$f":"S7489","v":0},null,{"$f":"U7489","v":0},null,{"$f":"W7489","v":0},null,0,0,0,0,0,0,0,0]
["NEW",9781645192688,null,9781645192008,null,"Surviving a Blizzard",null,null,null,"Survival Stories",null,null,null,26.95,19.95,37.950000000000003,{"$f":"O7498+5","v":24.95},null,{"$f":"S7497","v":0},null,{"$f":"U7497","v":0},null,{"$f":"W7497","v":0},null,{"$f":"S7498","v":0},{"$f":"U7498","v":0},{"$f":"W7498*2","v":0},{"$f":"Y7498+Z7498+AA7498","v":0},{"$f":"S7498*O7498","v":0},{"$f":"U7498*P7498","v":0},{"$f":"W7498*Q7498","v":0},{"$f":"IF(AH7498=FALSE,AC7498+AD7498+AE7498,0)","v":0}]
["NEW",9781645192800,null,9781645192121,null,"Kellogg’s",null,null,null,"Food Brands We Love",null,null,null,26.95,19.95,37.950000000000003,24.95,null,{"$f":"S7507","v":0},null,{"$f":"U7507","v":0},null,{"$f":"W7507","v":0},null,0,0,0,0,0,0,0,0]
["NEW",9781645192848,null,9781645192169,null,"Oreo",null,null,null,"Food Brands We Love",null,null,null,26.95,19.95,37.950000000000003,24.95,null,{"$f":"S7507","v":0},null,{"$f":"U7507","v":0},null,{"$f":"W7507","v":0},null,0,0,0,0,0,0,0,0]
["NEW",9781645192947,null,9781645192268,null,"The Story of the Dallas Cowboys",null,null,null,"NFL Team Stories",null,null,null,26.95,19.95,37.950000000000003,24.95,null,{"$f":"S7519","v":0},null,{"$f":"U7519","v":0},null,{"$f":"W7519","v":0},null,0,0,0,0,0,0,0,0]
["NEW",9781645192992,null,9781645192312,null,"The Story of the Indianapolis Colts",null,null,null,"NFL Team Stories",null,null,null,26.95,19.95,37.950000000000003,24.95,null,{"$f":"S7519","v":0},null,{"$f":"U7519","v":0},null,{"$f":"W7519","v":0},null,0,0,0,0,0,0,0,0]
["NEW",9781645193128,null,9781645192442,null,"The Story of the Pittsburgh Steelers",null,null,null,"NFL Team Stories",null,null,null,26.95,19.95,37.950000000000003,24.95,null,{"$f":"S7519","v":0},null,{"$f":"U7519","v":0},null,{"$f":"W7519","v":0},null,0,0,0,0,0,0,0,0]
[null,null,null,null,null,"Complete Series of 8",null,null,null,"That’s Disgusting!",null,null,null,{"$f":"SUM(N7554:N7561)","v":215.59999999999997},{"$f":"SUM(O7554:O7561)","v":159.6},303.59999999999997,199.59999999999997]
[]
[null,9781645191254,null,9781645190257,null,"Bugatti Veyron",null,null,null,"Ultimate Supercars",null,null,null,26.95,19.95,37.950000000000003,24.95,null,{"$f":"S7563","v":0},null,{"$f":"U7563","v":0},null,{"$f":"W7563","v":0},null,0,0,0,0,0,0,0,0]
[null,9781645191339,null,9781645190332,null,"Tesla Model S",null,null,null,"Ultimate Supercars",null,null,null,26.95,19.95,37.950000000000003,24.95,null,{"$f":"S7563","v":0},null,{"$f":"U7563","v":0},null,{"$f":"W7563","v":0},null,0,0,0,0,0,0,0,0]
["NEW",9781645194521,null,9781645194408,null,"Dalmatians",null,null,null,"My Favorite Dog",null,null,null,26.95,19.95,37.950000000000003,24.95,null,{"$f":"S7585","v":0},null,{"$f":"U7585","v":0},null,{"$f":"W7585","v":0},null,0,0,0,0,0,0,0,0]
["NEW",9781645194583,null,9781645194460,null,"Saint Bernards",null,null,null,"My Favorite Dog",null,null,null,26.95,19.95,37.950000000000003,24.95,null,{"$f":"S7585","v":0},null,{"$f":"U7585","v":0},null,{"$f":"W7585","v":0},null,0,0,0,0,0,0,0,0]
[null,9781645191667,null,9781645190653,null,"Freestyle Motocross",null,null,null,"Action Sports",null,null,null,26.95,19.95,37.950000000000003,24.95,null,{"$f":"S7601","v":0},null,{"$f":"U7601","v":0},null,{"$f":"W7601","v":0},null,0,0,0,0,0,0,0,0]
[null,9781645191964,null,9781645190929,null,"Kawasaki Dirt Bikes",null,null,null,"Dirt Bike Crazy",null,null,null,26.95,19.95,37.950000000000003,24.95,null,{"$f":"S7609","v":0},null,{"$f":"U7609","v":0},null,{"$f":"W7609","v":0},null,0,0,0,0,0,0,0,0]
[null,9781645191742,null,9781645190738,null,"National Hockey League",null,null,null,"Major League Sports",null,null,null,26.95,19.95,37.950000000000003,{"$f":"O7622+5","v":24.95},null,{"$f":"S7617","v":0},null,{"$f":"U7617","v":0},null,{"$f":"W7617","v":0},null,{"$f":"S7622","v":0},{"$f":"U7622","v":0},{"$f":"W7622*2","v":0},{"$f":"Y7622+Z7622+AA7622","v":0},{"$f":"S7622*O7622","v":0},{"$f":"U7622*P7622","v":0},{"$f":"W7622*Q7622","v":0},{"$f":"IF(AH7622=FALSE,AC7622+AD7622+AE7622,0)","v":0}]
[null,9781645191773,null,9781645190769,null,"Quarterbacks",null,null,null,"NFL's Greatest Players",null,null,null,26.95,19.95,37.950000000000003,{"$f":"O7634+5","v":24.95},null,{"$f":"S7632","v":0},null,{"$f":"U7632","v":0},null,{"$f":"W7632","v":0},null,{"$f":"S7634","v":0},{"$f":"U7634","v":0},{"$f":"W7634*2","v":0},{"$f":"Y7634+Z7634+AA7634","v":0},{"$f":"S7634*O7634","v":0},{"$f":"U7634*P7634","v":0},{"$f":"W7634*Q7634","v":0},{"$f":"IF(AH7634=FALSE,AC7634+AD7634+AE7634,0)","v":0}]
[null,9781645191797,null,9781645190783,null,"Wide Receivers",null,null,null,"NFL's Greatest Players",null,null,null,26.95,19.95,37.950000000000003,{"$f":"O7637+5","v":24.95},null,{"$f":"S7632","v":0},null,{"$f":"U7632","v":0},null,{"$f":"W7632","v":0},null,{"$f":"S7637","v":0},{"$f":"U7637","v":0},{"$f":"W7637*2","v":0},{"$f":"Y7637+Z7637+AA7637","v":0},{"$f":"S7637*O7637","v":0},{"$f":"U7637*P7637","v":0},{"$f":"W7637*Q7637","v":0},{"$f":"IF(AH7637=FALSE,AC7637+AD7637+AE7637,0)","v":0}]
[null,9781645191230,null,9781645190233,null,"YouTube",null,null,null,"Our Favorite Brands",null,null,null,26.95,19.95,37.950000000000003,24.95,null,{"$f":"S7639","v":0},null,{"$f":"U7639","v":0},null,{"$f":"W7639","v":0},null,0,0,0,0,0,0,0,0]
[null,9781645191353,null,9781645190356,null,"Aaron Rodgers",null,null,null,"Sports Superstars",null,null,null,26.95,19.95,37.950000000000003,24.95,null,{"$f":"S7653","v":0},null,{"$f":"U7653","v":0},null,{"$f":"W7653","v":0},null,0,0,0,0,0,0,0,0]
[null,9781645191476,null,9781645190462,null,"Russell Westbrook",null,null,null,"Sports Superstars",null,null,null,26.95,19.95,37.950000000000003,24.95,null,{"$f":"S7653","v":0},null,{"$f":"U7653","v":0},null,{"$f":"W7653","v":0},null,0,0,0,0,0,0,0,0]
[]
[null,9781645191636,null,9781645190622,null,"Stock Cars",null,null,null,"Start Your Engines!",null,null,null,26.95,19.95,37.950000000000003,24.95,null,{"$f":"S7673","v":0},null,{"$f":"U7673","v":0},null,{"$f":"W7673","v":0},null,0,0,0,0,0,0,0,0]
[null,9781645191049,null,9781645190042,null,"Giraffes",null,null,null,"Wild About Animals",null,null,null,26.95,19.95,37.950000000000003,24.95,null,{"$f":"S7687","v":0},null,{"$f":"U7687","v":0},null,{"$f":"W7687","v":0},null,0,0,0,0,0,0,0,0]
[null,null,null,null,null,"Complete Series of 8",null,null,null,"Wrestling Superstars",null,null,null,{"$f":"SUM(N7702:N7709)","v":215.59999999999997},{"$f":"SUM(O7702:O7709)","v":159.6},{"$f":"SUM(P7702:P7709)","v":303.59999999999997},{"$f":"SUM(Q7702:Q7709)","v":199.59999999999997}]
[null,9781645191902,null,9781645190882,null,"Roman Reigns",null,null,null,"Wrestling Superstars",null,null,null,26.95,19.95,37.950000000000003,24.95,null,{"$f":"S7701","v":0},null,{"$f":"U7701","v":0},null,{"$f":"W7701","v":0},null,0,0,0,0,0,0,0,0]
["NEW",9781678200510,null,9781678200503,null,"The Value of Stocks, Bonds, and Investments",null,null,null,"Money and Finance Guide",null,null,null,41.27,30.95,41.95,35.950000000000003,null,{"$f":"S7717","v":0},null,{"$f":"U7717","v":0},null,{"$f":"W7717","v":0},null,0,0,0,0,0,0,0,0]
[]
[null,null,null,null,null,"Complete Series of 33",null,null,null,"Single Titles",null,null,null,{"$f":"SUM(N7732:N7764)","v":1361.9099999999996},{"$f":"SUM(O7732:O7764)","v":1021.3500000000006},1384.3500000000008,1186.3500000000006]
["NEW",9781682829288,null,9781682829271,null,"Future of Food: New Ideas About Eating, The",null,null,null,"Single Titles",null,null,null,41.27,30.95,41.95,35.950000000000003,null,{"$f":"S7731","v":0},null,{"$f":"U7731","v":0},null,{"$f":"W7731","v":0},null,0,0,0,0,0,0,0,0]
["NEW",9781682827581,null,9781682827574,null,"Planet Under Siege: Climate Change",null,null,null,"Single Titles",null,null,null,41.27,30.95,41.95,35.950000000000003,null,{"$f":"S7731","v":0},null,{"$f":"U7731","v":0},null,{"$f":"W7731","v":0},null,0,0,0,0,0,0,0,0]
[null,9781682827567,null,9781682827550,null,"Teens and Vaping",null,null,null,"Single Titles",null,null,null,41.27,30.95,41.95,35.950000000000003,null,{"$f":"S7731","v":0},null,{"$f":"U7731","v":0},null,{"$f":"W7731","v":0},null,0,0,0,0,0,0,0,0]
[null,null,null,null,null,"Complete Series of 5",null,null,null,"Understanding the Black Lives Matter Movement",null,null,null,{"$f":"SUM(N7774:N7778)","v":206.35000000000002},{"$f":"SUM(O7774:O7778)","v":154.75},{"$f":"SUM(P7774:P7778)","v":209.75},{"$f":"SUM(Q7774:Q7778)","v":179.75}]
[null,null,null,null,null,"Complete Series of 5",null,null,null,"Bias in America",null,null,null,{"$f":"SUM(N7781:N7785)","v":206.35000000000002},{"$f":"SUM(O7781:O7785)","v":154.75},{"$f":"SUM(P7781:P7785)","v":209.75},{"$f":"SUM(Q7781:Q7785)","v":179.75}]
["NEW",9781682828748,null,9781682828731,null,"Cutting Edge Careers in Robotics",null,null,null,"Cutting Edge STEM Careers",null,null,null,41.27,30.95,41.95,35.950000000000003,null,{"$f":"S7787","v":0},null,{"$f":"U7787","v":0},null,{"$f":"W7787","v":0},null,{"$f":"S7791","v":0},{"$f":"U7791","v":0},{"$f":"W7791*2","v":0},{"$f":"Y7791+Z7791+AA7791","v":0},{"$f":"S7791*O7791","v":0},{"$f":"U7791*P7791","v":0},{"$f":"W7791*Q7791","v":0},{"$f":"IF(AH7791=FALSE,AC7791+AD7791+AE7791,0)","v":0}]
[null,null,null,null,null,"Complete Series of 5",null,null,null,"Drug Risks",null,null,null,{"$f":"SUM(N7795:N7799)","v":206.35000000000002},{"$f":"SUM(O7795:O7799)","v":154.75},{"$f":"SUM(P7795:P7799)","v":209.75},{"$f":"SUM(Q7795:Q7799)","v":179.75}]
[null,null,null,null,null,"Complete Series of 4",null,null,null,"Environmental Impact",null,null,null,{"$f":"SUM(N7802:N7805)","v":165.08},{"$f":"SUM(O7802:O7805)","v":123.8},{"$f":"SUM(P7802:P7805)","v":167.8},{"$f":"SUM(Q7802:Q7805)","v":143.80000000000001}]
["NEW",9781682828823,null,9781682828816,null,"How Should America Deal with Undocumented Immigrants?",null,null,null,"Issues Today",null,null,null,41.27,30.95,41.95,35.950000000000003,null,{"$f":"S7807","v":0},null,{"$f":"U7807","v":0},null,{"$f":"W7807","v":0},null,0,0,0,0,0,0,0,0]
["NEW",9781682829141,null,9781682829134,null,"Being LGBTQ ",null,null,null,"LGBTQ Issues ",null,null,null,41.27,30.95,41.95,{"$f":"O7824+5","v":35.950000000000003},null,{"$f":"S7823","v":0},null,{"$f":"U7823","v":0},null,{"$f":"W7823","v":0},null,{"$f":"S7824","v":0},{"$f":"U7824","v":0},{"$f":"W7824*2","v":0},{"$f":"Y7824+Z7824+AA7824","v":0},{"$f":"S7824*O7824","v":0},{"$f":"U7824*P7824","v":0},{"$f":"W7824*Q7824","v":0},{"$f":"IF(AH7824=FALSE,AC7824+AD7824+AE7824,0)","v":0}]
["NEW",9781682829707,null,9781682829691,null,"Life in the US Air Force",null,null,null,"Life in the Military",null,null,null,41.27,30.95,41.95,35.950000000000003,null,{"$f":"S7829","v":0},null,{"$f":"U7829","v":0},null,{"$f":"W7829","v":0},null,0,0,0,0,0,0,0,0]
["NEW",9781682829868,null,9781682829851,null,"Understanding Bipolar Disorder",null,null,null,"Mental Health Guides",null,null,null,41.27,30.95,41.95,35.950000000000003,null,{"$f":"S7837","v":0},null,{"$f":"U7837","v":0},null,{"$f":"W7837","v":0},null,{"$f":"S7840","v":0},{"$f":"U7840","v":0},{"$f":"W7840*2","v":0},{"$f":"Y7840+Z7840+AA7840","v":0},{"$f":"S7840*O7840","v":0},{"$f":"U7840*P7840","v":0},{"$f":"W7840*Q7840","v":0},{"$f":"IF(AH7840=FALSE,AC7840+AD7840+AE7840,0)","v":0}]
["NEW",9781682829929,null,9781682829912,null,"The Greatest Defensive Backs of All Time",null,null,null,"NFL's Greatest",null,null,null,41.27,30.95,41.95,{"$f":"O7845+5","v":35.950000000000003},null,{"$f":"S7844","v":0},null,{"$f":"U7844","v":0},null,{"$f":"W7844","v":0},null,{"$f":"S7845","v":0},{"$f":"U7845","v":0},{"$f":"W7845*2","v":0},{"$f":"Y7845+Z7845+AA7845","v":0},{"$f":"S7845*O7845","v":0},{"$f":"U7845*P7845","v":0},{"$f":"W7845*Q7845","v":0},{"$f":"IF(AH7845=FALSE,AC7845+AD7845+AE7845,0)","v":0}]
["NEW",9781678200176,null,9781678200169,null,"Become a Radiation Therapist",null,null,null,"Skilled and Vocational Trades",null,null,null,41.27,30.95,41.95,35.950000000000003,null,{"$f":"S7857","v":0},null,{"$f":"U7857","v":0},null,{"$f":"W7857","v":0},null,{"$f":"S7861","v":0},{"$f":"U7861","v":0},{"$f":"W7861*2","v":0},{"$f":"Y7861+Z7861+AA7861","v":0},{"$f":"S7861*O7861","v":0},{"$f":"U7861*P7861","v":0},{"$f":"W7861*Q7861","v":0},{"$f":"IF(AH7861=FALSE,AC7861+AD7861+AE7861,0)","v":0}]
[]
[null,null,null,null,null,"Complete Series of 5",null,null,null,"Teen Disorders",null,null,null,{"$f":"SUM(N7871:N7875)","v":206.35000000000002},{"$f":"SUM(O7871:O7875)","v":154.75},{"$f":"SUM(P7871:P7875)","v":209.75},{"$f":"SUM(Q7871:Q7875)","v":179.75}]
["NEW",9781682829608,null,9781682829592,null,"Teens and Depression",null,null,null,"Teen Problems",null,null,null,41.27,30.95,41.95,35.950000000000003,null,{"$f":"S7877","v":0},null,{"$f":"U7877","v":0},null,{"$f":"W7877","v":0},null,0,0,0,0,0,0,0,0]
[]
["NEW",9781682828106,null,9781682828090,null,"Chinese Mythology",null,null,null,"World Mythology",null,null,null,41.27,30.95,41.95,{"$f":"O7900+5","v":35.950000000000003},null,{"$f":"S7899","v":0},null,{"$f":"U7899","v":0},null,{"$f":"W7899","v":0},null,{"$f":"S7900","v":0},{"$f":"U7900","v":0},{"$f":"W7900*2","v":0},{"$f":"Y7900+Z7900+AA7900","v":0},{"$f":"S7900*O7900","v":0},{"$f":"U7900*P7900","v":0},{"$f":"W7900*Q7900","v":0},{"$f":"IF(AH7900=FALSE,AC7900+AD7900+AE7900,0)","v":0}]
[]
["NEW",9781682827963,null,9781682827956,null,"Dealing with Self-Injury Disorder",null,null,null,"Dealing with Mental Disorders",null,null,null,41.27,30.95,41.95,35.950000000000003,null,{"$f":"S7913","v":0},null,{"$f":"U7913","v":0},null,{"$f":"W7913","v":0},null,0,0,0,0,0,0,0,0]
["NEW",9781682827642,null,9781682827635,null,"Birthright Citizenship",null,null,null,"Immigration Issues ",null,null,null,41.27,30.95,41.95,{"$f":"O7930+5","v":35.950000000000003},null,{"$f":"S7929","v":0},null,{"$f":"U7929","v":0},null,{"$f":"W7929","v":0},null,{"$f":"S7930","v":0},{"$f":"U7930","v":0},{"$f":"W7930*2","v":0},{"$f":"Y7930+Z7930+AA7930","v":0},{"$f":"S7930*O7930","v":0},{"$f":"U7930*P7930","v":0},{"$f":"W7930*Q7930","v":0},{"$f":"IF(AH7930=FALSE,AC7930+AD7930+AE7930,0)","v":0}]
["NEW",9781682827703,null,9781682827697,null,"The Dreamers and DACA",null,null,null,"Immigration Issues ",null,null,null,41.27,30.95,41.95,35.950000000000003,null,{"$f":"S7929","v":0},null,{"$f":"U7929","v":0},null,{"$f":"W7929","v":0},null,{"$f":"S7933","v":0},{"$f":"U7933","v":0},{"$f":"W7933*2","v":0},{"$f":"Y7933+Z7933+AA7933","v":0},{"$f":"S7933*O7933","v":0},{"$f":"U7933*P7933","v":0},{"$f":"W7933*Q7933","v":0},{"$f":"IF(AH7933=FALSE,AC7933+AD7933+AE7933,0)","v":0}]
["NEW",9781682828069,null,9781682828052,null,"Paying for College",null,null,null,"Money Basics",null,null,null,41.27,30.95,41.95,35.950000000000003,null,{"$f":"S7936","v":0},null,{"$f":"U7936","v":0},null,{"$f":"W7936","v":0},null,{"$f":"S7940","v":0},{"$f":"U7940","v":0},{"$f":"W7940*2","v":0},{"$f":"Y7940+Z7940+AA7940","v":0},{"$f":"S7940*O7940","v":0},{"$f":"U7940*P7940","v":0},{"$f":"W7940*Q7940","v":0},{"$f":"IF(AH7940=FALSE,AC7940+AD7940+AE7940,0)","v":0}]
[null,null,null,null,null,"Complete Series of 6",null,null,null,"Art Scene",null,null,null,{"$f":"SUM(N7951:N7956)","v":247.62000000000003},{"$f":"SUM(O7951:O7956)","v":185.7},{"$f":"SUM(P7951:P7956)","v":251.7},{"$f":"SUM(Q7951:Q7956)","v":215.7}]
[null,9781682825983,null,9781682825976,null,"Careers If You Like to Travel",null,null,null,"Career Exploration",null,null,null,41.27,30.95,41.95,35.950000000000003,null,{"$f":"S7958","v":0},null,{"$f":"U7958","v":0},null,{"$f":"W7958","v":0},null,0,0,0,0,0,0,0,0]
[null,9781682827321,null,9781682827314,null,"Work in the Music Industry",null,null,null,"Career Finder",null,null,null,41.27,30.95,41.95,35.950000000000003,null,{"$f":"S7966","v":0},null,{"$f":"U7966","v":0},null,{"$f":"W7966","v":0},null,{"$f":"S7970","v":0},{"$f":"U7970","v":0},{"$f":"W7970*2","v":0},{"$f":"Y7970+Z7970+AA7970","v":0},{"$f":"S7970*O7970","v":0},{"$f":"U7970*P7970","v":0},{"$f":"W7970*Q7970","v":0},{"$f":"IF(AH7970=FALSE,AC7970+AD7970+AE7970,0)","v":0}]
[]
[null,9781682827062,null,9781682827055,null,"E-Cigarettes and Their Dangers",null,null,null,"Drugs and Their Dangers",null,null,null,41.27,30.95,41.95,{"$f":"O7988+5","v":35.950000000000003},null,{"$f":"S7987","v":0},null,{"$f":"U7987","v":0},null,{"$f":"W7987","v":0},null,{"$f":"S7988","v":0},{"$f":"U7988","v":0},{"$f":"W7988*2","v":0},{"$f":"Y7988+Z7988+AA7988","v":0},{"$f":"S7988*O7988","v":0},{"$f":"U7988*P7988","v":0},{"$f":"W7988*Q7988","v":0},{"$f":"IF(AH7988=FALSE,AC7988+AD7988+AE7988,0)","v":0}]
[null,null,null,null,null,"Complete Series of 5",null,null,null,"Emerging Issues in Public Health",null,null,null,{"$f":"SUM(N8001:N8005)","v":206.35000000000002},{"$f":"SUM(O8001:O8005)","v":154.75},{"$f":"SUM(P8001:P8005)","v":209.75},{"$f":"SUM(Q8001:Q8005)","v":179.75}]
[null,9781682826201,null,9781682826195,null,"Classic Stories of Greek Mythology",null,null,null,"Exploring Greek Mythology",null,null,null,41.27,30.95,41.95,{"$f":"O8008+5","v":35.950000000000003},null,{"$f":"S8007","v":0},null,{"$f":"U8007","v":0},null,{"$f":"W8007","v":0},null,{"$f":"S8008","v":0},{"$f":"U8008","v":0},{"$f":"W8008*2","v":0},{"$f":"Y8008+Z8008+AA8008","v":0},{"$f":"S8008*O8008","v":0},{"$f":"U8008*P8008","v":0},{"$f":"W8008*Q8008","v":0},{"$f":"IF(AH8008=FALSE,AC8008+AD8008+AE8008,0)","v":0}]
[null,9781682826225,null,9781682826218,null,"Gods of Greek Mythology",null,null,null,"Exploring Greek Mythology",null,null,null,41.27,30.95,41.95,35.950000000000003,null,{"$f":"S8007","v":0},null,{"$f":"U8007","v":0},null,{"$f":"W8007","v":0},null,{"$f":"S8009","v":0},{"$f":"U8009","v":0},{"$f":"W8009*2","v":0},{"$f":"Y8009+Z8009+AA8009","v":0},{"$f":"S8009*O8009","v":0},{"$f":"U8009*P8009","v":0},{"$f":"W8009*Q8009","v":0},{"$f":"IF(AH8009=FALSE,AC8009+AD8009+AE8009,0)","v":0}]
[null,9781682827161,null,9781682827154,null,"Fake News",null,null,null,"In Focus",null,null,null,41.27,30.95,41.95,{"$f":"O8021+5","v":35.950000000000003},null,{"$f":"S8020","v":0},null,{"$f":"U8020","v":0},null,{"$f":"W8020","v":0},null,{"$f":"S8021","v":0},{"$f":"U8021","v":0},{"$f":"W8021*2","v":0},{"$f":"Y8021+Z8021+AA8021","v":0},{"$f":"S8021*O8021","v":0},{"$f":"U8021*P8021","v":0},{"$f":"W8021*Q8021","v":0},{"$f":"IF(AH8021=FALSE,AC8021+AD8021+AE8021,0)","v":0}]
[null,9781682826881,null,9781682826874,null,"Online Shaming and Bullying",null,null,null,"Intolerance and Violence in Society",null,null,null,41.27,30.95,41.95,35.950000000000003,null,{"$f":"S8027","v":0},null,{"$f":"U8027","v":0},null,{"$f":"W8027","v":0},null,{"$f":"S8029","v":0},{"$f":"U8029","v":0},{"$f":"W8029*2","v":0},{"$f":"Y8029+Z8029+AA8029","v":0},{"$f":"S8029*O8029","v":0},{"$f":"U8029*P8029","v":0},{"$f":"W8029*Q8029","v":0},{"$f":"IF(AH8029=FALSE,AC8029+AD8029+AE8029,0)","v":0}]
[null,9781682826461,null,9781682826454,null,"Rap and Hip-Hop",null,null,null,"Music Scene",null,null,null,41.27,30.95,41.95,35.950000000000003,null,{"$f":"S8034","v":0},null,{"$f":"U8034","v":0},null,{"$f":"W8034","v":0},null,{"$f":"S8039","v":0},{"$f":"U8039","v":0},{"$f":"W8039*2","v":0},{"$f":"Y8039+Z8039+AA8039","v":0},{"$f":"S8039*O8039","v":0},{"$f":"U8039*P8039","v":0},{"$f":"W8039*Q8039","v":0},{"$f":"IF(AH8039=FALSE,AC8039+AD8039+AE8039,0)","v":0}]
[null,9781682827482,null,9781682827475,null,"Living on Your Own",null,null,null,"Teen Life Skills",null,null,null,41.27,30.95,41.95,35.950000000000003,null,{"$f":"S8048","v":0},null,{"$f":"U8048","v":0},null,{"$f":"W8048","v":0},null,{"$f":"S8051","v":0},{"$f":"U8051","v":0},{"$f":"W8051*2","v":0},{"$f":"Y8051+Z8051+AA8051","v":0},{"$f":"S8051*O8051","v":0},{"$f":"U8051*P8051","v":0},{"$f":"W8051*Q8051","v":0},{"$f":"IF(AH8051=FALSE,AC8051+AD8051+AE8051,0)","v":0}]
[null,9781682826522,null,9781682826515,null,"The Science and Technology of Football",null,null,null,"The Science and Technology of Sports",null,null,null,41.27,30.95,41.95,35.950000000000003,null,{"$f":"S8055","v":0},null,{"$f":"U8055","v":0},null,{"$f":"W8055","v":0},null,0,0,0,0,0,0,0,0]
[null,9781601527332,null,9781601527325,null,"Climate Change",null,null,null,"Thinking Critically",null,null,null,41.27,30.95,41.95,35.950000000000003,null,{"$f":"S8063","v":0},null,{"$f":"U8063","v":0},null,{"$f":"W8063","v":0},null,0,0,0,0,0,0,0,0]
[null,9781682822661,null,9781682822654,null,"Death Penalty, The",null,null,null,"Thinking Critically",null,null,null,41.27,30.95,41.95,35.950000000000003,null,{"$f":"S8063","v":0},null,{"$f":"U8063","v":0},null,{"$f":"W8063","v":0},null,0,0,0,0,0,0,0,0]
[null,9781682823385,null,9781682823378,null,"Gun Control",null,null,null,"Thinking Critically",null,null,null,41.27,30.95,41.95,35.950000000000003,null,{"$f":"S8063","v":0},null,{"$f":"U8063","v":0},null,{"$f":"W8063","v":0},null,0,0,0,0,0,0,0,0]
[null,9781682822708,null,9781682822692,null,"Police Powers",null,null,null,"Thinking Critically",null,null,null,41.27,30.95,41.95,35.950000000000003,null,{"$f":"S8063","v":0},null,{"$f":"U8063","v":0},null,{"$f":"W8063","v":0},null,0,0,0,0,0,0,0,0]
[null,9781601525918,null,9781601525901,null,"Video Games and Violence",null,null,null,"Thinking Critically",null,null,null,41.27,30.95,41.95,35.950000000000003,null,{"$f":"S8063","v":0},null,{"$f":"U8063","v":0},null,{"$f":"W8063","v":0},null,0,0,0,0,0,0,0,0]
[null,9781682825563,null,9781682825556,null,"Gaming Technology: Blurring Real and Virtual Worlds",null,null,null,"The World of Video Games",null,null,null,41.27,30.95,41.95,{"$f":"O8109+5","v":35.950000000000003},null,{"$f":"S8108","v":0},null,{"$f":"U8108","v":0},null,{"$f":"W8108","v":0},null,{"$f":"S8109","v":0},{"$f":"U8109","v":0},{"$f":"W8109*2","v":0},{"$f":"Y8109+Z8109+AA8109","v":0},{"$f":"S8109*O8109","v":0},{"$f":"U8109*P8109","v":0},{"$f":"W8109*Q8109","v":0},{"$f":"IF(AH8109=FALSE,AC8109+AD8109+AE8109,0)","v":0}]
[null,9781682825464,null,9781682825457,null,"Violence Against Women",null,null,null,"Women and Society",null,null,null,41.27,30.95,41.95,35.950000000000003,null,{"$f":"S8116","v":0},null,{"$f":"U8116","v":0},null,{"$f":"W8116","v":0},null,0,0,0,0,0,0,0,0]
[null,9781682823484,null,9781682823477,null,"A Career in Computer Engineering",null,null,null,"Careers in Engineering ",null,null,null,41.27,30.95,41.95,35.950000000000003,null,{"$f":"S8124","v":0},null,{"$f":"U8124","v":0},null,{"$f":"W8124","v":0},null,0,0,0,0,0,0,0,0]
[null,null,null,null,null,"Complete Series of 7",null,null,null,"Debating History ",null,null,null,{"$f":"SUM(N8140:N8146)","v":288.89000000000004},{"$f":"SUM(O8140:O8146)","v":216.64999999999998},{"$f":"SUM(P8140:P8146)","v":293.64999999999998},{"$f":"SUM(Q8140:Q8146)","v":251.64999999999998}]
[]
[null,null,null,null,null,"Complete Series of 6",null,null,null,"Discrimination in Society ",null,null,null,{"$f":"SUM(N8149:N8154)","v":247.62000000000003},{"$f":"SUM(O8149:O8154)","v":185.7},{"$f":"SUM(P8149:P8154)","v":251.7},{"$f":"SUM(Q8149:Q8154)","v":215.7}]
[null,9781682823989,null,9781682823972,null,"Kids and Cancer",null,null,null,"Diseases and Disorders of Youth ",null,null,null,41.27,30.95,41.95,35.950000000000003,null,{"$f":"S8156","v":0},null,{"$f":"U8156","v":0},null,{"$f":"W8156","v":0},null,0,0,0,0,0,0,0,0]
[null,9781682824122,null,9781682824115,null,"How Genetic Research Changed the World",null,null,null,"How Science Changed the World ",null,null,null,41.27,30.95,41.95,35.950000000000003,null,{"$f":"S8165","v":0},null,{"$f":"U8165","v":0},null,{"$f":"W8165","v":0},null,0,0,0,0,0,0,0,0]
[null,9781682824863,null,9781682824856,null,"Living with Panic Disorder",null,null,null,"Living with Disorders and Disabilities ",null,null,null,41.27,30.95,41.95,35.950000000000003,null,{"$f":"S8174","v":0},null,{"$f":"U8174","v":0},null,{"$f":"W8174","v":0},null,0,0,0,0,0,0,0,0]
[null,9781682825006,null,9781682824993,null,"How 3D Printing Will Impact Society",null,null,null,"Technology's Impact",null,null,null,41.27,30.95,41.95,{"$f":"O8190+5","v":35.950000000000003},null,{"$f":"S8189","v":0},null,{"$f":"U8189","v":0},null,{"$f":"W8189","v":0},null,{"$f":"S8190","v":0},{"$f":"U8190","v":0},{"$f":"W8190*2","v":0},{"$f":"Y8190+Z8190+AA8190","v":0},{"$f":"S8190*O8190","v":0},{"$f":"U8190*P8190","v":0},{"$f":"W8190*Q8190","v":0},{"$f":"IF(AH8190=FALSE,AC8190+AD8190+AE8190,0)","v":0}]
[null,null,null,null,null,"Complete Series of 6",null,null,null,"Teen Health and Safety",null,null,null,{"$f":"SUM(N8198:N8203)","v":247.62000000000003},{"$f":"SUM(O8198:O8203)","v":185.7},{"$f":"SUM(P8198:P8203)","v":251.7},{"$f":"SUM(Q8198:Q8203)","v":215.7}]
[null,9781682824221,null,9781682824214,null,"The LGBT Rights Movement",null,null,null,"The Push for Social Change ",null,null,null,41.27,30.95,41.95,35.950000000000003,null,{"$f":"S8205","v":0},null,{"$f":"U8205","v":0},null,{"$f":"W8205","v":0},null,{"$f":"S8208","v":0},{"$f":"U8208","v":0},{"$f":"W8208*2","v":0},{"$f":"Y8208+Z8208+AA8208","v":0},{"$f":"S8208*O8208","v":0},{"$f":"U8208*P8208","v":0},{"$f":"W8208*Q8208","v":0},{"$f":"IF(AH8208=FALSE,AC8208+AD8208+AE8208,0)","v":0}]
[null,9781682824566,null,9781682824559,null,"Threats to Civil Liberties: Speech",null,null,null,"Threats to Civil Liberties",null,null,null,41.27,30.95,41.95,35.950000000000003,null,{"$f":"S8211","v":0},null,{"$f":"U8211","v":0},null,{"$f":"W8211","v":0},null,{"$f":"S8215","v":0},{"$f":"U8215","v":0},{"$f":"W8215*2","v":0},{"$f":"Y8215+Z8215+AA8215","v":0},{"$f":"S8215*O8215","v":0},{"$f":"U8215*P8215","v":0},{"$f":"W8215*Q8215","v":0},{"$f":"IF(AH8215=FALSE,AC8215+AD8215+AE8215,0)","v":0}]
[null,null,null,null,null,"Complete Series of 5",null,null,null,"Understanding World Religions",null,null,null,{"$f":"SUM(N8219:N8223)","v":206.35000000000002},{"$f":"SUM(O8219:O8223)","v":154.75},{"$f":"SUM(P8219:P8223)","v":209.75},{"$f":"SUM(Q8219:Q8223)","v":179.75}]
[null,9781682821954,null,9781682821947,null,"Careers in Computer Science",null,null,null,"Exploring Careers",null,null,null,41.27,30.95,41.95,35.950000000000003,null,{"$f":"S8225","v":0},null,{"$f":"U8225","v":0},null,{"$f":"W8225","v":0},null,0,0,0,0,0,0,0,0]
[null,9781682823125,null,9781682823118,null,"Careers in Food and Agriculture",null,null,null,"Exploring Careers",null,null,null,41.27,30.95,41.95,35.950000000000003,null,{"$f":"S8225","v":0},null,{"$f":"U8225","v":0},null,{"$f":"W8225","v":0},null,0,0,0,0,0,0,0,0]
[null,9781682823200,null,9781682823194,null,"Growing Up in Australia",null,null,null,"Growing Up Around the World",null,null,null,41.27,30.95,41.95,{"$f":"O8247+5","v":35.950000000000003},null,{"$f":"S8246","v":0},null,{"$f":"U8246","v":0},null,{"$f":"W8246","v":0},null,{"$f":"S8247","v":0},{"$f":"U8247","v":0},{"$f":"W8247*2","v":0},{"$f":"Y8247+Z8247+AA8247","v":0},{"$f":"S8247*O8247","v":0},{"$f":"U8247*P8247","v":0},{"$f":"W8247*Q8247","v":0},{"$f":"IF(AH8247=FALSE,AC8247+AD8247+AE8247,0)","v":0}]
[null,9781682823248,null,9781682823231,null,"Growing Up in Saudi Arabia",null,null,null,"Growing Up Around the World",null,null,null,41.27,30.95,41.95,35.950000000000003,null,{"$f":"S8246","v":0},null,{"$f":"U8246","v":0},null,{"$f":"W8246","v":0},null,0,0,0,0,0,0,0,0]
[null,9781682823347,null,9781682823330,null,"Virtual Reality and Medicine",null,null,null,"Next-Generation Medical Technology",null,null,null,41.27,30.95,41.95,35.950000000000003,null,{"$f":"S8261","v":0},null,{"$f":"U8261","v":0},null,{"$f":"W8261","v":0},null,{"$f":"S8266","v":0},{"$f":"U8266","v":0},{"$f":"W8266*2","v":0},{"$f":"Y8266+Z8266+AA8266","v":0},{"$f":"S8266*O8266","v":0},{"$f":"U8266*P8266","v":0},{"$f":"W8266*Q8266","v":0},{"$f":"IF(AH8266=FALSE,AC8266+AD8266+AE8266,0)","v":0}]
[null,9781682822340,null,9781682822333,null,"Human Rights in Focus: Refugees",null,null,null,"Human Rights in Focus ",null,null,null,41.27,30.95,41.95,35.950000000000003,null,{"$f":"S8275","v":0},null,{"$f":"U8275","v":0},null,{"$f":"W8275","v":0},null,{"$f":"S8278","v":0},{"$f":"U8278","v":0},{"$f":"W8278*2","v":0},{"$f":"Y8278+Z8278+AA8278","v":0},{"$f":"S8278*O8278","v":0},{"$f":"U8278*P8278","v":0},{"$f":"W8278*Q8278","v":0},{"$f":"IF(AH8278=FALSE,AC8278+AD8278+AE8278,0)","v":0}]
[null,9781682822784,null,9781682822777,null,"Understanding Personality",null,null,null,"Understanding Psychology ",null,null,null,41.27,30.95,41.95,35.950000000000003,null,{"$f":"S8282","v":0},null,{"$f":"U8282","v":0},null,{"$f":"W8282","v":0},null,0,0,0,0,0,0,0,0]
[null,9781682822807,null,9781682822791,null,"Understanding Self-Image and Confidence",null,null,null,"Understanding Psychology ",null,null,null,41.27,30.95,41.95,35.950000000000003,null,{"$f":"S8282","v":0},null,{"$f":"U8282","v":0},null,{"$f":"W8282","v":0},null,0,0,0,0,0,0,0,0]
[]
[null,null,null,null,null,"Complete Series of 8",null,null,null,"Cause & Effect: Ancient Civilizations",null,null,null,{"$f":"SUM(N8308:N8315)","v":330.16},{"$f":"SUM(O8308:O8315)","v":247.59999999999997},{"$f":"SUM(P8308:P8315)","v":335.59999999999997},{"$f":"SUM(Q8308:Q8315)","v":287.59999999999997}]
[null,null,null,null,null,"Complete Series of 7",null,null,null,"Cause & Effect: Modern Wars ",null,null,null,{"$f":"SUM(N8318:N8324)","v":288.89000000000004},{"$f":"SUM(O8318:O8324)","v":216.64999999999998},{"$f":"SUM(P8318:P8324)","v":293.64999999999998},{"$f":"SUM(Q8318:Q8324)","v":251.64999999999998}]
[null,9781682821831,null,9781682821824,null,"Cybersecurity Analyst",null,null,null,"Cutting Edge Careers ",null,null,null,41.27,30.95,41.95,35.950000000000003,null,{"$f":"S8326","v":0},null,{"$f":"U8326","v":0},null,{"$f":"W8326","v":0},null,0,0,0,0,0,0,0,0]
[null,9781682822401,null,9781682822395,null,"Develop Economical Solar Power",null,null,null,"Real-World STEM",null,null,null,41.27,30.95,41.95,{"$f":"O8336+5","v":35.950000000000003},null,{"$f":"S8335","v":0},null,{"$f":"U8335","v":0},null,{"$f":"W8335","v":0},null,{"$f":"S8336","v":0},{"$f":"U8336","v":0},{"$f":"W8336*2","v":0},{"$f":"Y8336+Z8336+AA8336","v":0},{"$f":"S8336*O8336","v":0},{"$f":"U8336*P8336","v":0},{"$f":"W8336*Q8336","v":0},{"$f":"IF(AH8336=FALSE,AC8336+AD8336+AE8336,0)","v":0}]
[null,9781682822548,null,9781682822531,null,"Science and Sustainable Energy",null,null,null,"Science and Sustainability ",null,null,null,41.27,30.95,41.95,35.950000000000003,null,{"$f":"S8344","v":0},null,{"$f":"U8344","v":0},null,{"$f":"W8344","v":0},null,{"$f":"S8347","v":0},{"$f":"U8347","v":0},{"$f":"W8347*2","v":0},{"$f":"Y8347+Z8347+AA8347","v":0},{"$f":"S8347*O8347","v":0},{"$f":"U8347*P8347","v":0},{"$f":"W8347*Q8347","v":0},{"$f":"IF(AH8347=FALSE,AC8347+AD8347+AE8347,0)","v":0}]
[null,9781682821152,null,9781682821145,null,"Careers in Internet Technology",null,null,null,"High-Tech Careers ",null,null,null,41.27,30.95,41.95,35.950000000000003,null,{"$f":"S8351","v":0},null,{"$f":"U8351","v":0},null,{"$f":"W8351","v":0},null,{"$f":"S8354","v":0},{"$f":"U8354","v":0},{"$f":"W8354*2","v":0},{"$f":"Y8354+Z8354+AA8354","v":0},{"$f":"S8354*O8354","v":0},{"$f":"U8354*P8354","v":0},{"$f":"W8354*Q8354","v":0},{"$f":"IF(AH8354=FALSE,AC8354+AD8354+AE8354,0)","v":0}]
[]
[]
[null,9781682820476,null,9781682820469,null,"Cutting Edge Transportation Technology",null,null,null,"Cutting Edge Technology ",null,null,null,41.27,30.95,41.95,35.950000000000003,null,{"$f":"S8369","v":0},null,{"$f":"U8369","v":0},null,{"$f":"W8369","v":0},null,0,0,0,0,0,0,0,0]
[null,9781601529855,null,9781601529848,null,"Online Addiction",null,null,null,"Digital Issues",null,null,null,41.27,30.95,41.95,{"$f":"O8386+5","v":35.950000000000003},null,{"$f":"S8385","v":0},null,{"$f":"U8385","v":0},null,{"$f":"W8385","v":0},null,{"$f":"S8386","v":0},{"$f":"U8386","v":0},{"$f":"W8386*2","v":0},{"$f":"Y8386+Z8386+AA8386","v":0},{"$f":"S8386*O8386","v":0},{"$f":"U8386*P8386","v":0},{"$f":"W8386*Q8386","v":0},{"$f":"IF(AH8386=FALSE,AC8386+AD8386+AE8386,0)","v":0}]
[null,null,null,null,null,"Complete Series of 7",null,null,null,"Drug Dangers",null,null,null,{"$f":"SUM(N8394:N8400)","v":288.89000000000004},{"$f":"SUM(O8394:O8400)","v":216.64999999999998},{"$f":"SUM(P8394:P8400)","v":293.64999999999998},{"$f":"SUM(Q8394:Q8400)","v":251.64999999999998}]
[null,9781682820056,null,9781682820049,null,"Careers If You Like Math",null,null,null,"Finding a Career",null,null,null,41.27,30.95,41.95,35.950000000000003,null,{"$f":"S8402","v":0},null,{"$f":"U8402","v":0},null,{"$f":"W8402","v":0},null,0,0,0,0,0,0,0,0]
[null,9781601529817,null,9781601529800,null,"Undocumented Immigrant Youth",null,null,null,"Forgotten Youth",null,null,null,41.27,30.95,41.95,35.950000000000003,null,{"$f":"S8410","v":0},null,{"$f":"U8410","v":0},null,{"$f":"W8410","v":0},null,{"$f":"S8415","v":0},{"$f":"U8415","v":0},{"$f":"W8415*2","v":0},{"$f":"Y8415+Z8415+AA8415","v":0},{"$f":"S8415*O8415","v":0},{"$f":"U8415*P8415","v":0},{"$f":"W8415*Q8415","v":0},{"$f":"IF(AH8415=FALSE,AC8415+AD8415+AE8415,0)","v":0}]
[null,9781682821008,null,9781682820971,null,"Is Marijuana Harmful?",null,null,null,"Issues in Society",null,null,null,41.27,30.95,41.95,35.950000000000003,null,{"$f":"S8417","v":0},null,{"$f":"U8417","v":0},null,{"$f":"W8417","v":0},null,0,0,0,0,0,0,0,0]
[null,9781682821022,null,9781682820995,null,"What Should Be Done About Illegal Immigration? ",null,null,null,"Issues in Society",null,null,null,41.27,30.95,41.95,35.950000000000003,null,{"$f":"S8417","v":0},null,{"$f":"U8417","v":0},null,{"$f":"W8417","v":0},null,0,0,0,0,0,0,0,0]
[null,9781682820872,null,9781682820865,null,"Teen Guide to Saving and Investing",null,null,null,"Teen Guide to Finances",null,null,null,41.27,30.95,41.95,35.950000000000003,null,{"$f":"S8434","v":0},null,{"$f":"U8434","v":0},null,{"$f":"W8434","v":0},null,{"$f":"S8438","v":0},{"$f":"U8438","v":0},{"$f":"W8438*2","v":0},{"$f":"Y8438+Z8438+AA8438","v":0},{"$f":"S8438*O8438","v":0},{"$f":"U8438*P8438","v":0},{"$f":"W8438*Q8438","v":0},{"$f":"IF(AH8438=FALSE,AC8438+AD8438+AE8438,0)","v":0}]
[null,9781682820957,null,9781682820940,null,"What Is the Future of Virtual Reality? ",null,null,null,"The Future of Technology",null,null,null,41.27,30.95,41.95,35.950000000000003,null,{"$f":"S8441","v":0},null,{"$f":"U8441","v":0},null,{"$f":"W8441","v":0},null,{"$f":"S8446","v":0},{"$f":"U8446","v":0},{"$f":"W8446*2","v":0},{"$f":"Y8446+Z8446+AA8446","v":0},{"$f":"S8446*O8446","v":0},{"$f":"U8446*P8446","v":0},{"$f":"W8446*Q8446","v":0},{"$f":"IF(AH8446=FALSE,AC8446+AD8446+AE8446,0)","v":0}]
[null,9781601529510,null,9781601529503,null,"Hillary Clinton",null,null,null,"Influential Women",null,null,null,41.27,30.95,41.95,35.950000000000003,null,{"$f":"S8453","v":0},null,{"$f":"U8453","v":0},null,{"$f":"W8453","v":0},null,{"$f":"S8456","v":0},{"$f":"U8456","v":0},{"$f":"W8456*2","v":0},{"$f":"Y8456+Z8456+AA8456","v":0},{"$f":"S8456*O8456","v":0},{"$f":"U8456*P8456","v":0},{"$f":"W8456*Q8456","v":0},{"$f":"IF(AH8456=FALSE,AC8456+AD8456+AE8456,0)","v":0}]
[null,9781601529374,null,9781601529367,null,"Careers in the US Coast Guard",null,null,null,"Military Careers",null,null,null,41.27,30.95,41.95,35.950000000000003,null,{"$f":"S8460","v":0},null,{"$f":"U8460","v":0},null,{"$f":"W8460","v":0},null,0,0,0,0,0,0,0,0]
[null,null,null,null,null,"Complete Series of 5",null,null,null,"Compact Research: Teen Well-Being",null,null,null,{"$f":"SUM(N8476:N8480)","v":206.35000000000002},{"$f":"SUM(O8476:O8480)","v":154.75},{"$f":"SUM(P8476:P8480)","v":209.75},{"$f":"SUM(Q8476:Q8480)","v":179.75}]
[null,9781601528698,null,9781601528681,null,"Trey Parker, Matt Stone, and South Park",null,null,null,"Contemporary Cartoon Creators",null,null,null,41.27,30.95,41.95,35.950000000000003,null,{"$f":"S8482","v":0},null,{"$f":"U8482","v":0},null,{"$f":"W8482","v":0},null,{"$f":"S8486","v":0},{"$f":"U8486","v":0},{"$f":"W8486*2","v":0},{"$f":"Y8486+Z8486+AA8486","v":0},{"$f":"S8486*O8486","v":0},{"$f":"U8486*P8486","v":0},{"$f":"W8486*Q8486","v":0},{"$f":"IF(AH8486=FALSE,AC8486+AD8486+AE8486,0)","v":0}]
[null,9781601528612,null,9781601528605,null,"Do Vampires Exist?",null,null,null,"Do They Exist?",null,null,null,41.27,30.95,41.95,35.950000000000003,null,{"$f":"S8488","v":0},null,{"$f":"U8488","v":0},null,{"$f":"W8488","v":0},null,0,0,0,0,0,0,0,0]
[null,null,null,null,null,"Complete Series of 45",null,null,null,"In Controversy",null,null,null,{"$f":"SUM(N8497:N8541)","v":1857.1499999999994},{"$f":"SUM(O8497:O8541)","v":1392.7500000000011},{"$f":"SUM(P8497:P8541)","v":1887.7500000000014},{"$f":"SUM(Q8497:Q8541)","v":1617.7500000000011}]
[null,9781601525512,null,9781601525505,null,"How Serious a Problem is Computer Hacking?",null,null,null,"In Controversy",null,null,null,41.27,30.95,41.95,35.950000000000003,null,{"$f":"S8496","v":0},null,{"$f":"U8496","v":0},null,{"$f":"W8496","v":0},null,0,0,0,0,0,0,0,0]
[null,9781601528858,null,9781601528841,null,"How Serious a Problem Is Synthetic Drug Use?",null,null,null,"In Controversy",null,null,null,41.27,30.95,41.95,35.950000000000003,null,{"$f":"S8496","v":0},null,{"$f":"U8496","v":0},null,{"$f":"W8496","v":0},null,0,0,0,0,0,0,0,0]
[null,9781601524577,null,9781601524560,null,"Is Human Embryo Experimentation Ethical?",null,null,null,"In Controversy",null,null,null,41.27,30.95,41.95,35.950000000000003,null,{"$f":"S8496","v":0},null,{"$f":"U8496","v":0},null,{"$f":"W8496","v":0},null,0,0,0,0,0,0,0,0]
[null,9781601527158,null,9781601527141,null,"Is the Death Penalty Just?",null,null,null,"In Controversy",null,null,null,41.27,30.95,41.95,35.950000000000003,null,{"$f":"S8496","v":0},null,{"$f":"U8496","v":0},null,{"$f":"W8496","v":0},null,0,0,0,0,0,0,0,0]
[null,9781601528995,null,9781601528988,null,"How Gene Therapy Is Changing Society ",null,null,null,"Science, Technology, and Society",null,null,null,41.27,30.95,41.95,{"$f":"O8544+5","v":35.950000000000003},null,{"$f":"S8543","v":0},null,{"$f":"U8543","v":0},null,{"$f":"W8543","v":0},null,{"$f":"S8544","v":0},{"$f":"U8544","v":0},{"$f":"W8544*2","v":0},{"$f":"Y8544+Z8544+AA8544","v":0},{"$f":"S8544*O8544","v":0},{"$f":"U8544*P8544","v":0},{"$f":"W8544*Q8544","v":0},{"$f":"IF(AH8544=FALSE,AC8544+AD8544+AE8544,0)","v":0}]
[null,9781601528773,null,9781601528766,null,"Mark Zuckerberg and Facebook",null,null,null,"Technology Titans",null,null,null,41.27,30.95,41.95,35.950000000000003,null,{"$f":"S8550","v":0},null,{"$f":"U8550","v":0},null,{"$f":"W8550","v":0},null,0,0,0,0,0,0,0,0]
[null,9781601529138,null,9781601529121,null,"Teens and Sex",null,null,null,"Teen Choices",null,null,null,41.27,30.95,41.95,35.950000000000003,null,{"$f":"S8558","v":0},null,{"$f":"U8558","v":0},null,{"$f":"W8558","v":0},null,0,0,0,0,0,0,0,0]
[]
[]
[null,9781601528452,null,9781601528445,null,"Holocaust Rescue and Liberation",null,null,null,"Understanding the Holocaust",null,null,null,41.27,30.95,41.95,35.950000000000003,null,{"$f":"S8582","v":0},null,{"$f":"U8582","v":0},null,{"$f":"W8582","v":0},null,0,0,0,0,0,0,0,0]
[null,null,null,null,null,"Complete Series of 5",null,null,null,"Compact Research: Addictions",null,null,null,{"$f":"SUM(N8596:N8600)","v":206.35000000000002},{"$f":"SUM(O8596:O8600)","v":154.75},{"$f":"SUM(P8596:P8600)","v":209.75},{"$f":"SUM(Q8596:Q8600)","v":179.75}]
[null,null,null,null,null,"Complete Series of 39",null,null,null,"Compact Research: Diseases and Disorders",null,null,null,{"$f":"SUM(N8603:N8641)","v":1609.5299999999995},{"$f":"SUM(O8603:O8641)","v":1207.0500000000009},{"$f":"SUM(P8603:P8641)","v":1636.0500000000011},{"$f":"SUM(Q8603:Q8641)","v":1402.0500000000009}]
[null,9781601522290,null,9781601522283,null,"Chronic Fatigue Syndrome",null,null,null,"Compact Research: Diseases and Disorders",null,null,null,41.27,30.95,41.95,35.950000000000003,null,{"$f":"S8602","v":0},null,{"$f":"U8602","v":0},null,{"$f":"W8602","v":0},null,0,0,0,0,0,0,0,0]
[null,9781601524294,null,9781601521170,null,"Herpes",null,null,null,"Compact Research: Diseases and Disorders",null,null,null,41.27,30.95,41.95,35.950000000000003,null,{"$f":"S8602","v":0},null,{"$f":"U8602","v":0},null,{"$f":"W8602","v":0},null,0,0,0,0,0,0,0,0]
[null,9781601524317,null,9781601521194,null,"Mood Disorders",null,null,null,"Compact Research: Diseases and Disorders",null,null,null,41.27,30.95,41.95,35.950000000000003,null,{"$f":"S8602","v":0},null,{"$f":"U8602","v":0},null,{"$f":"W8602","v":0},null,0,0,0,0,0,0,0,0]
[null,9781601523488,null,9781601521392,null,"Personality Disorders",null,null,null,"Compact Research: Diseases and Disorders",null,null,null,41.27,30.95,41.95,35.950000000000003,null,{"$f":"S8602","v":0},null,{"$f":"U8602","v":0},null,{"$f":"W8602","v":0},null,0,0,0,0,0,0,0,0]
[null,9781601527677,null,9781601527660,null,"Teens and Cheating",null,null,null,"Compact Research: Teenage Problems",null,null,null,41.27,30.95,41.95,35.950000000000003,null,{"$f":"S8643","v":0},null,{"$f":"U8643","v":0},null,{"$f":"W8643","v":0},null,0,0,0,0,0,0,0,0]
[]
[]
[null,9781601526397,null,9781601526380,null,"Life in Ancient Egypt",null,null,null,"Living History",null,null,null,41.27,30.95,41.95,35.950000000000003,null,{"$f":"S8665","v":0},null,{"$f":"U8665","v":0},null,{"$f":"W8665","v":0},null,0,0,0,0,0,0,0,0]
[null,9781601526533,null,9781601526526,null,"Online Privacy and Health Care",null,null,null,"Privacy in the Online World",null,null,null,41.27,30.95,41.95,35.950000000000003,null,{"$f":"S8679","v":0},null,{"$f":"U8679","v":0},null,{"$f":"W8679","v":0},null,{"$f":"S8683","v":0},{"$f":"U8683","v":0},{"$f":"W8683*2","v":0},{"$f":"Y8683+Z8683+AA8683","v":0},{"$f":"S8683*O8683","v":0},{"$f":"U8683*P8683","v":0},{"$f":"W8683*Q8683","v":0},{"$f":"IF(AH8683=FALSE,AC8683+AD8683+AE8683,0)","v":0}]
[null,null,null,null,null,"Complete Series of 5",null,null,null,"The Library of Medieval Times",null,null,null,{"$f":"SUM(N8694:N8698)","v":206.35000000000002},{"$f":"SUM(O8694:O8698)","v":154.75},{"$f":"SUM(P8694:P8698)","v":209.75},{"$f":"SUM(Q8694:Q8698)","v":179.75}]
[null,9781601524959,null,9781601524942,null,"1960s, The",null,null,null,"Understanding American History",null,null,null,41.27,30.95,41.95,{"$f":"O8701+5","v":35.950000000000003},null,{"$f":"S8700","v":0},null,{"$f":"U8700","v":0},null,{"$f":"W8700","v":0},null,{"$f":"S8701","v":0},{"$f":"U8701","v":0},{"$f":"W8701*2","v":0},{"$f":"Y8701+Z8701+AA8701","v":0},{"$f":"S8701*O8701","v":0},{"$f":"U8701*P8701","v":0},{"$f":"W8701*Q8701","v":0},{"$f":"IF(AH8701=FALSE,AC8701+AD8701+AE8701,0)","v":0}]
[null,9781601522474,null,9781601522467,null,"Colonial America",null,null,null,"Understanding American History",null,null,null,41.27,30.95,41.95,35.950000000000003,null,{"$f":"S8700","v":0},null,{"$f":"U8700","v":0},null,{"$f":"W8700","v":0},null,0,0,0,0,0,0,0,0]
[null,9781601522856,null,9781601522849,null,"Ancient Greece",null,null,null,"Understanding World History",null,null,null,41.27,30.95,41.95,35.950000000000003,null,{"$f":"S8712","v":0},null,{"$f":"U8712","v":0},null,{"$f":"W8712","v":0},null,0,0,0,0,0,0,0,0]
[null,9781601527431,null,9781601527424,null,"History of Slavery, The",null,null,null,"Understanding World History",null,null,null,41.27,30.95,41.95,35.950000000000003,null,{"$f":"S8712","v":0},null,{"$f":"U8712","v":0},null,{"$f":"W8712","v":0},null,0,0,0,0,0,0,0,0]
[null,9781601527479,null,9781601527462,null,"History of Video Games, The",null,null,null,"Video Games and Society",null,null,null,41.27,30.95,41.95,35.950000000000003,null,{"$f":"S8732","v":0},null,{"$f":"U8732","v":0},null,{"$f":"W8732","v":0},null,{"$f":"S8734","v":0},{"$f":"U8734","v":0},{"$f":"W8734*2","v":0},{"$f":"Y8734+Z8734+AA8734","v":0},{"$f":"S8734*O8734","v":0},{"$f":"U8734*P8734","v":0},{"$f":"W8734*Q8734","v":0},{"$f":"IF(AH8734=FALSE,AC8734+AD8734+AE8734,0)","v":0}]
[null,9781601525178,null,9781601525161,null,"Bath Salts & Other Synthietic Drugs",null,null,null,"Compact Research: Drugs",null,null,null,41.27,30.95,41.95,35.950000000000003,null,{"$f":"S8738","v":0},null,{"$f":"U8738","v":0},null,{"$f":"W8738","v":0},null,0,0,0,0,0,0,0,0]
[null,9781601523976,null,9781601520463,null,"Prescription Drugs",null,null,null,"Compact Research: Drugs",null,null,null,41.27,30.95,41.95,35.950000000000003,null,{"$f":"S8738","v":0},null,{"$f":"U8738","v":0},null,{"$f":"W8738","v":0},null,0,0,0,0,0,0,0,0]
[null,9781601525291,null,9781601525284,null,"Science and Technology of the 2000s",null,null,null,"The Decade of the 2000s",null,null,null,41.27,30.95,41.95,35.950000000000003,null,{"$f":"S8756","v":0},null,{"$f":"U8756","v":0},null,{"$f":"W8756","v":0},null,{"$f":"S8759","v":0},{"$f":"U8759","v":0},{"$f":"W8759*2","v":0},{"$f":"Y8759+Z8759+AA8759","v":0},{"$f":"S8759*O8759","v":0},{"$f":"U8759*P8759","v":0},{"$f":"W8759*Q8759","v":0},{"$f":"IF(AH8759=FALSE,AC8759+AD8759+AE8759,0)","v":0}]
[null,9781601522573,null,9781601522566,null,"Pharaohs of Egypt",null,null,null,"Ancient Egyptian Wonders",null,null,null,41.27,30.95,41.95,35.950000000000003,null,{"$f":"S8769","v":0},null,{"$f":"U8769","v":0},null,{"$f":"W8769","v":0},null,{"$f":"S8771","v":0},{"$f":"U8771","v":0},{"$f":"W8771*2","v":0},{"$f":"Y8771+Z8771+AA8771","v":0},{"$f":"S8771*O8771","v":0},{"$f":"U8771*P8771","v":0},{"$f":"W8771*Q8771","v":0},{"$f":"IF(AH8771=FALSE,AC8771+AD8771+AE8771,0)","v":0}]
[null,null,null,null,null,"Complete Series of 5",null,null,null,"Compact Research: Internet",null,null,null,{"$f":"SUM(N8775:N8779)","v":206.35000000000002},{"$f":"SUM(O8775:O8779)","v":154.75},209.75,179.75]
[null,9781601524676,null,9781601524669,null,"Weapons and Defense  Research",null,null,null,"Inside Science",null,null,null,41.27,30.95,41.95,35.950000000000003,null,{"$f":"S8781","v":0},null,{"$f":"U8781","v":0},null,{"$f":"W8781","v":0},null,0,0,0,0,0,0,0,0]
[null,9781601523563,null,9781601521453,null,"Aliens",null,null,null,"Monsters and Mythical Creatures",null,null,null,41.27,30.95,41.95,{"$f":"O8792+5","v":35.950000000000003},null,{"$f":"S8791","v":0},null,{"$f":"U8791","v":0},null,{"$f":"W8791","v":0},null,{"$f":"S8792","v":0},{"$f":"U8792","v":0},{"$f":"W8792*2","v":0},{"$f":"Y8792+Z8792+AA8792","v":0},{"$f":"S8792*O8792","v":0},{"$f":"U8792*P8792","v":0},{"$f":"W8792*Q8792","v":0},{"$f":"IF(AH8792=FALSE,AC8792+AD8792+AE8792,0)","v":0}]
[null,9781601523211,null,9781601521835,null,"Trolls",null,null,null,"Monsters and Mythical Creatures",null,null,null,41.27,30.95,41.95,35.950000000000003,null,{"$f":"S8791","v":0},null,{"$f":"U8791","v":0},null,{"$f":"W8791","v":0},null,0,0,0,0,0,0,0,0]
[null,9781601522733,null,9781601522726,null,"What Is the Future of Biofuels?",null,null,null,"The Future of Renewable Energy",null,null,null,41.27,30.95,41.95,35.950000000000003,null,{"$f":"S8808","v":0},null,{"$f":"U8808","v":0},null,{"$f":"W8808","v":0},null,0,0,0,0,0,0,0,0]
[null,9781601523853,null,9781601520265,null,"Haunted Houses",null,null,null,"The Mysterious & Unknown",null,null,null,41.27,30.95,41.95,35.950000000000003,null,{"$f":"S8817","v":0},null,{"$f":"U8817","v":0},null,{"$f":"W8817","v":0},null,0,0,0,0,0,0,0,0]
[null,9781601523907,null,9781601520296,null,"Vampires",null,null,null,"The Mysterious & Unknown",null,null,null,41.27,30.95,41.95,35.950000000000003,null,{"$f":"S8817","v":0},null,{"$f":"U8817","v":0},null,{"$f":"W8817","v":0},null,0,0,0,0,0,0,0,0]
[null,9781601523013,null,9781601520173,null,"Energy Alternatives",null,null,null,"Compact Research: Energy and the Environment",null,null,null,41.27,30.95,41.95,35.950000000000003,null,{"$f":"S8836","v":0},null,{"$f":"U8836","v":0},null,{"$f":"W8836","v":0},null,0,0,0,0,0,0,0,0]
[null,9781601523730,null,9781601521620,null,"Geothermal Power",null,null,null,"Compact Research: Energy and the Environment",null,null,null,41.27,30.95,41.95,35.950000000000003,null,{"$f":"S8836","v":0},null,{"$f":"U8836","v":0},null,{"$f":"W8836","v":0},null,0,0,0,0,0,0,0,0]
[null,9781601522962,null,9781601520111,null,"World Energy Crisis",null,null,null,"Compact Research: Energy and the Environment",null,null,null,41.27,30.95,41.95,35.950000000000003,null,{"$f":"S8836","v":0},null,{"$f":"U8836","v":0},null,{"$f":"W8836","v":0},null,0,0,0,0,0,0,0,0]
[]
[null,9781601522160,null,9781601521149,null,"Gangs",null,null,null,"Compact Research: Current Issues",null,null,null,41.27,30.95,41.95,35.950000000000003,null,{"$f":"S8862","v":0},null,{"$f":"U8862","v":0},null,{"$f":"W8862","v":0},null,0,0,0,0,0,0,0,0]
[null,9781601524416,null,9781601520685,null,"Health Care",null,null,null,"Compact Research: Current Issues",null,null,null,41.27,30.95,41.95,35.950000000000003,null,{"$f":"S8862","v":0},null,{"$f":"U8862","v":0},null,{"$f":"W8862","v":0},null,0,0,0,0,0,0,0,0]
[null,9781601522191,null,9781601521163,null,"Online Social Networking",null,null,null,"Compact Research: Current Issues",null,null,null,41.27,30.95,41.95,35.950000000000003,null,{"$f":"S8862","v":0},null,{"$f":"U8862","v":0},null,{"$f":"W8862","v":0},null,0,0,0,0,0,0,0,0]
[null,9781601523334,null,9781601520531,null,"Video Games",null,null,null,"Compact Research: Current Issues",null,null,null,41.27,30.95,41.95,35.950000000000003,null,{"$f":"S8862","v":0},null,{"$f":"U8862","v":0},null,{"$f":"W8862","v":0},null,0,0,0,0,0,0,0,0]
[null,9781601522085,null,9781601521101,null,"Vampires: Do They Exist?",null,null,null,"The Vampire Library",null,null,null,41.27,30.95,41.95,35.950000000000003,null,{"$f":"S8905","v":0},null,{"$f":"U8905","v":0},null,{"$f":"W8905","v":0},null,{"$f":"S8910","v":0},{"$f":"U8910","v":0},{"$f":"W8910*2","v":0},{"$f":"Y8910+Z8910+AA8910","v":0},{"$f":"S8910*O8910","v":0},{"$f":"U8910*P8910","v":0},{"$f":"W8910*Q8910","v":0},{"$f":"IF(AH8910=FALSE,AC8910+AD8910+AE8910,0)","v":0}]
[null,9781601524133,null,9781601520890,null,"Communication with the Dead",null,null,null,"The Library of Ghosts and Hauntings",null,null,null,41.27,30.95,41.95,{"$f":"O8913+5","v":35.950000000000003},null,{"$f":"S8912","v":0},null,{"$f":"U8912","v":0},null,{"$f":"W8912","v":0},null,{"$f":"S8913","v":0},{"$f":"U8913","v":0},{"$f":"W8913*2","v":0},{"$f":"Y8913+Z8913+AA8913","v":0},{"$f":"S8913*O8913","v":0},{"$f":"U8913*P8913","v":0},{"$f":"W8913*Q8913","v":0},{"$f":"IF(AH8913=FALSE,AC8913+AD8913+AE8913,0)","v":0}]
[null,"Not Available",null,9780785787945,null,"Happy Birthday To You!",null,null,null,"Dr. Seuss Picture Books",null,null,null,39.950000000000003,27.95,0,0,null,{"$f":"S8919","v":0},null,null,null,null,null,0,0,0,0,0,0,0,0]
[null,"Not Available",null,9780881034936,null,"Horton Hears A Who!",null,null,null,"Dr. Seuss Picture Books",null,null,null,39.950000000000003,27.95,0,0,null,{"$f":"S8919","v":0},null,null,null,null,null,0,0,0,0,0,0,0,0]
[null,"Not Available",null,9780808527466,null,"Oh Say Can You Say?",null,null,null,"Dr. Seuss Picture Books",null,null,null,29.95,20.95,0,0,null,{"$f":"S8919","v":0},null,null,null,null,null,0,0,0,0,0,0,0,0]
[null,"Not Available",null,9780808524267,null,"The Cat In The Hat Comes Back!",null,null,null,"Dr. Seuss Picture Books",null,null,null,29.95,20.95,0,0,null,{"$f":"S8919","v":0},null,null,null,null,null,0,0,0,0,0,0,0,0]
[null,"Not Available",null,9780606145411,null,"Where's Waldo? The Great Picture Hunt",null,null,null,"Where's Waldo?",null,null,null,28.5,19.95,0,0,null,{"$f":"S8958","v":0},null,null,null,null,null,{"$f":"S8961","v":0},{"$f":"U8961","v":0},{"$f":"W8961*2","v":0},{"$f":"Y8961+Z8961+AA8961","v":0},{"$f":"S8961*O8961","v":0},{"$f":"U8961*P8961","v":0},{"$f":"W8961*Q8961","v":0},{"$f":"IF(AH8961=FALSE,AC8961+AD8961+AE8961,0)","v":0}]
[null,"Not Available",null,9780606377966,null,"Wrecking Valentine's Day!",null,null,null,"LEGO City 8X8",null,null,null,21.35,14.95,0,0,null,{"$f":"S8963","v":0},null,null,null,null,null,0,0,0,0,0,0,0,0]
[null,"Not Available",null,9780606321112,null,"Attack Of The Clones",null,null,null,"LEGO Star Wars DK Reader",null,null,null,21.35,14.95,0,0,null,{"$f":"S8977","v":0},null,null,null,null,null,0,0,0,0,0,0,0,0]
[]
[null,"Not Available",null,9780613284875,null,"Five Little Monkeys With Nothing To Do",null,null,null,"A Five Little Monkeys Story",null,null,null,25.65,17.95,0,0,null,{"$f":"S8987","v":0},null,null,null,null,null,0,0,0,0,0,0,0,0]
[null,"Not Available",null,9780606153836,null,"Biscuit And The Lost Teddy Bear",null,null,null,"Biscuit: My First I Can Read!",null,null,null,21.35,14.95,0,0,null,{"$f":"S8996","v":0},null,null,null,null,null,0,0,0,0,0,0,0,0]
[null,"Not Available",null,9781417735464,null,"Biscuit And The Baby",null,null,null,"Biscuit: My First I Can Read!",null,null,null,19.93,13.95,0,0,null,{"$f":"S8996","v":0},null,null,null,null,null,0,0,0,0,0,0,0,0]
[null,"Not Available",null,9780606415019,null,"12 Groovy Days Of Christmas",null,null,null,"Pete the Cat",null,null,null,35.65,24.95,0,0,null,{"$f":"S9020","v":0},null,null,null,null,null,{"$f":"S9021","v":0},{"$f":"U9021","v":0},{"$f":"W9021*2","v":0},{"$f":"Y9021+Z9021+AA9021","v":0},{"$f":"S9021*O9021","v":0},{"$f":"U9021*P9021","v":0},{"$f":"W9021*Q9021","v":0},{"$f":"IF(AH9021=FALSE,AC9021+AD9021+AE9021,0)","v":0}]
[null,"Not Available",null,9780606376310,null,"Robo-Pete",null,null,null,"Pete the Cat",null,null,null,22.8,15.95,0,0,null,{"$f":"S9020","v":0},null,null,null,null,null,0,0,0,0,0,0,0,0]
[null,"Not Available",null,"9780606410373",null,"Pete The Cat And The Cool Caterpillar",null,null,null,"Pete the Cat: I Can Read",null,null,null,21.35,14.95,0,0,null,{"$f":"S9033","v":0},null,null,null,null,null,0,0,0,0,0,0,0,0]
[null,"Not Available",null,9781531160951,null,"Bedtime For Peppa",null,null,null,"Peppa Pig 8X8",null,null,null,21.35,14.95,0,0,null,{"$f":"S9049","v":0},null,null,null,null,null,{"$f":"S9050","v":0},{"$f":"U9050","v":0},{"$f":"W9050*2","v":0},{"$f":"Y9050+Z9050+AA9050","v":0},{"$f":"S9050*O9050","v":0},{"$f":"U9050*P9050","v":0},{"$f":"W9050*Q9050","v":0},{"$f":"IF(AH9050=FALSE,AC9050+AD9050+AE9050,0)","v":0}]
[null,"Not Available",null,9780606388252,null,"Peppa Plays Soccer",null,null,null,"Peppa Pig 8X8",null,null,null,21.35,14.95,0,0,null,{"$f":"S9049","v":0},null,null,null,null,null,0,0,0,0,0,0,0,0]
[null,"Not Available",null,9780881039931,null,"Curious George Rides A Bike",null,null,null,"Curious George Originals",null,null,null,28.5,19.95,0,0,null,{"$f":"S9060","v":0},null,null,null,null,null,0,0,0,0,0,0,0,0]
[null,"Not Available",null,9780613900508,null,"Curious George And The Birthday Surprise",null,null,null,"Curious George",null,null,null,21.35,14.95,0,0,null,{"$f":"S9069","v":0},null,null,null,null,null,{"$f":"S9070","v":0},{"$f":"U9070","v":0},{"$f":"W9070*2","v":0},{"$f":"Y9070+Z9070+AA9070","v":0},{"$f":"S9070*O9070","v":0},{"$f":"U9070*P9070","v":0},{"$f":"W9070*Q9070","v":0},{"$f":"IF(AH9070=FALSE,AC9070+AD9070+AE9070,0)","v":0}]
[null,"Not Available",null,9780606233354,null,"Curious George Goes To The Zoo",null,null,null,"Curious George",null,null,null,21.35,14.95,0,0,null,{"$f":"S9069","v":0},null,null,null,null,null,0,0,0,0,0,0,0,0]
[null,"Not Available",null,9781417699643,null,"Curious George's Dinosaur Discovery",null,null,null,"Curious George",null,null,null,21.35,14.95,0,0,null,{"$f":"S9069","v":0},null,null,null,null,null,0,0,0,0,0,0,0,0]
[null,"Not Available",null,9780606388313,null,"Fly Guy's Ninja Christmas",null,null,null,"Fly Guy",null,null,null,25.65,17.95,0,0,null,{"$f":"S9093","v":0},null,null,null,null,null,0,0,0,0,0,0,0,0]
[null,"Not Available",null,9780606265331,null,"There's A Fly Guy In My Soup",null,null,null,"Fly Guy",null,null,null,25.65,17.95,0,0,null,{"$f":"S9093","v":0},null,null,null,null,null,0,0,0,0,0,0,0,0]
[null,"Not Available",null,9780808535836,null,"Frog And Toad All Year",null,null,null,"Frog and Toad: I Can Read! Level 2",null,null,null,21.35,14.95,0,0,null,{"$f":"S9116","v":0},null,null,null,null,null,{"$f":"S9118","v":0},{"$f":"U9118","v":0},{"$f":"W9118*2","v":0},{"$f":"Y9118+Z9118+AA9118","v":0},{"$f":"S9118*O9118","v":0},{"$f":"U9118*P9118","v":0},{"$f":"W9118*Q9118","v":0},{"$f":"IF(AH9118=FALSE,AC9118+AD9118+AE9118,0)","v":0}]
[null,"Not Available",null,9780606405386,null,"Dooby Dooby Moo",null,null,null,"A Click, Clack Book: Ready-To-Read Level 2",null,null,null,21.35,14.95,0,0,null,{"$f":"S9122","v":0},null,null,null,null,null,{"$f":"S9125","v":0},{"$f":"U9125","v":0},{"$f":"W9125*2","v":0},{"$f":"Y9125+Z9125+AA9125","v":0},{"$f":"S9125*O9125","v":0},{"$f":"U9125*P9125","v":0},{"$f":"W9125*Q9125","v":0},{"$f":"IF(AH9125=FALSE,AC9125+AD9125+AE9125,0)","v":0}]
[null,"Not Available",null,"9780606271431",null,"Flower Girl",null,null,null,"Pinkalicious",null,null,null,21.35,14.95,0,0,null,{"$f":"S9128","v":0},null,null,null,null,null,0,0,0,0,0,0,0,0]
[null,"Not Available",null,9780606369657,null,"Candy Bonanza",null,null,null,"Fancy Nancy Picture Books",null,null,null,21.35,14.95,0,0,null,{"$f":"S9137","v":0},null,null,null,null,null,0,0,0,0,0,0,0,0]
[null,"Not Available",null,9780606392693,null,"Amelia Bedelia Takes The Cake",null,null,null,"Amelia Bedelia -- I Can Read!",null,null,null,21.35,14.95,0,0,null,{"$f":"S9145","v":0},null,null,null,null,null,0,0,0,0,0,0,0,0]
[null,"Not Available",null,9780881039108,null,"Thank You, Amelia Bedelia",null,null,null,"Amelia Bedelia -- I Can Read!",null,null,null,21.35,14.95,0,0,null,{"$f":"S9145","v":0},null,null,null,null,null,0,0,0,0,0,0,0,0]
[null,"Not Available",null,9780606391092,null,"The Princess In Black And The Hungry Bunny Horde",null,null,null,"The Princess In Black",null,null,null,24.25,16.95,0,0,null,{"$f":"S9162","v":0},null,null,null,null,null,{"$f":"S9164","v":0},{"$f":"U9164","v":0},{"$f":"W9164*2","v":0},{"$f":"Y9164+Z9164+AA9164","v":0},{"$f":"S9164*O9164","v":0},{"$f":"U9164*P9164","v":0},{"$f":"W9164*Q9164","v":0},{"$f":"IF(AH9164=FALSE,AC9164+AD9164+AE9164,0)","v":0}]
[null,"Not Available",null,9780606270359,null,"Captain Awesome And The Ultimate Spelling Bee",null,null,null,"Captain Awesome",null,null,null,24.25,16.95,0,0,null,{"$f":"S9169","v":0},null,null,null,null,null,0,0,0,0,0,0,0,0]
[null,"Not Available",null,9780606413589,null,"Captain Awesome For President",null,null,null,"Captain Awesome",null,null,null,24.25,16.95,0,0,null,{"$f":"S9169","v":0},null,null,null,null,null,0,0,0,0,0,0,0,0]
[null,"Not Available",null,9780606411462,null,"Super Rabbit Boy Vs. Super Rabbit Boss!",null,null,null,"Press Start!",null,null,null,21.35,14.95,0,0,null,{"$f":"S9191","v":0},null,null,null,null,null,{"$f":"S9194","v":0},{"$f":"U9194","v":0},{"$f":"W9194*2","v":0},{"$f":"Y9194+Z9194+AA9194","v":0},{"$f":"S9194*O9194","v":0},{"$f":"U9194*P9194","v":0},{"$f":"W9194*Q9194","v":0},{"$f":"IF(AH9194=FALSE,AC9194+AD9194+AE9194,0)","v":0}]
[null,"Not Available",null,9780606372749,null,"Bad Kitty Does Not Like Candy",null,null,null,"Bad Kitty Picture Books",null,null,null,21.35,14.95,0,0,null,{"$f":"S9205","v":0},null,null,null,null,null,{"$f":"S9206","v":0},{"$f":"U9206","v":0},{"$f":"W9206*2","v":0},{"$f":"Y9206+Z9206+AA9206","v":0},{"$f":"S9206*O9206","v":0},{"$f":"U9206*P9206","v":0},{"$f":"W9206*Q9206","v":0},{"$f":"IF(AH9206=FALSE,AC9206+AD9206+AE9206,0)","v":0}]
[null,"Not Available",null,9780606392976,null,"Bad Kitty Does Not Like Video Games",null,null,null,"Bad Kitty Picture Books",null,null,null,21.35,14.95,0,0,null,{"$f":"S9205","v":0},null,null,null,null,null,{"$f":"S9209","v":0},{"$f":"U9209","v":0},{"$f":"W9209*2","v":0},{"$f":"Y9209+Z9209+AA9209","v":0},{"$f":"S9209*O9209","v":0},{"$f":"U9209*P9209","v":0},{"$f":"W9209*Q9209","v":0},{"$f":"IF(AH9209=FALSE,AC9209+AD9209+AE9209,0)","v":0}]
[]
[null,"Not Available",null,9780606364812,null,"Splat The Cat And The Hotshot",null,null,null,"Splat the Cat: I Can Read",null,null,null,21.35,14.95,0,0,null,{"$f":"S9221","v":0},null,null,null,null,null,0,0,0,0,0,0,0,0]
[null,"Not Available",null,9780606230391,null,"Splat The Cat: Good Night, Sleep Tight",null,null,null,"Splat the Cat: I Can Read",null,null,null,21.35,14.95,0,0,null,{"$f":"S9221","v":0},null,null,null,null,null,0,0,0,0,0,0,0,0]
[]
[null,"Not Available",null,9780606363235,null,"There Was An Old Lady Who Swallowed A Frog!",null,null,null,"There Was An Old Lady...",null,null,null,25.65,17.95,0,0,null,{"$f":"S9250","v":0},null,null,null,null,null,0,0,0,0,0,0,0,0]
[null,null,null,null,null,"Complete Series of 9",null,null,null,"Dragon Masters",null,null,null,{"$f":"SUM(N9265:N9273)","v":205.20000000000005},{"$f":"SUM(O9265:O9273)","v":143.55000000000001},{"$f":"SUM(P9265:P9273)","v":0},{"$f":"SUM(Q9265:Q9273)","v":0}]
[null,"Not Available",null,9780606397131,null,"Search For The Lightning Dragon ",null,null,null,"Dragon Masters",null,null,null,22.8,15.95,0,0,null,{"$f":"S9264","v":0},null,null,null,null,null,0,0,0,0,0,0,0,0]
[null,"Not Available",null,9780606360524,null,"The Locker Ate Lucy!",null,null,null,"Eerie Elementary",null,null,null,21.35,14.95,0,0,null,{"$f":"S9275","v":0},null,null,null,null,null,0,0,0,0,0,0,0,0]
[null,"Not Available",null,9780606231299,null,"Madeline's Tea Party",null,null,null,"Madeline",null,null,null,21.35,14.95,0,0,null,{"$f":"S9286","v":0},null,null,null,null,null,0,0,0,0,0,0,0,0]
[null,"Not Available",null,9780606360081,null,"A Pinch Of Magic",null,null,null,"Never Girls",null,null,null,24.25,16.95,0,0,null,{"$f":"S9296","v":0},null,null,null,null,null,0,0,0,0,0,0,0,0]
[null,"Not Available",null,9780606269773,null,"In A Blink",null,null,null,"Never Girls",null,null,null,24.25,16.95,0,0,null,{"$f":"S9296","v":0},null,null,null,null,null,0,0,0,0,0,0,0,0]
[null,"Not Available",null,9780606370417,null,"Charge Of The Lightning Bugs",null,null,null,"Notebook Of Doom",null,null,null,21.35,14.95,0,0,null,{"$f":"S9312","v":0},null,null,null,null,null,0,0,0,0,0,0,0,0]
[null,null,null,null,null,"Complete Series of 5",null,null,null,"Robert Munsch Classics",null,null,null,{"$f":"SUM(N9329:N9333)","v":121.25},{"$f":"SUM(O9329:O9333)","v":84.75},{"$f":"SUM(P9329:P9333)","v":0},{"$f":"SUM(Q9329:Q9333)","v":0}]
[null,"Not Available",null,9780833545336,null,"The Boy In The Drawer",null,null,null,"Robert Munsch Classics",null,null,null,24.25,16.95,0,0,null,{"$f":"S9328","v":0},null,null,null,null,null,{"$f":"S9333","v":0},{"$f":"U9333","v":0},{"$f":"W9333*2","v":0},{"$f":"Y9333+Z9333+AA9333","v":0},{"$f":"S9333*O9333","v":0},{"$f":"U9333*P9333","v":0},{"$f":"W9333*Q9333","v":0},{"$f":"IF(AH9333=FALSE,AC9333+AD9333+AE9333,0)","v":0}]
[null,"Not Available",null,9780881032802,null,"Ramona The Brave",null,null,null,"Ramona Quimby",null,null,null,24.25,16.95,0,0,null,{"$f":"S9343","v":0},null,null,null,null,null,0,0,0,0,0,0,0,0]
[null,"Not Available",null,9780881032758,null,"Ramona Quimby, Age 8",null,null,null,"Ramona Quimby",null,null,null,24.25,16.95,0,0,null,{"$f":"S9343","v":0},null,null,null,null,null,0,0,0,0,0,0,0,0]
[null,"Not Available",null,9780606402040,null,"Into The Wild",null,null,null,"The Chicken Squad",null,null,null,25.65,17.95,0,0,null,{"$f":"S9360","v":0},null,null,null,null,null,{"$f":"S9363","v":0},{"$f":"U9363","v":0},{"$f":"W9363*2","v":0},{"$f":"Y9363+Z9363+AA9363","v":0},{"$f":"S9363*O9363","v":0},{"$f":"U9363*P9363","v":0},{"$f":"W9363*Q9363","v":0},{"$f":"IF(AH9363=FALSE,AC9363+AD9363+AE9363,0)","v":0}]
[]
[null,"Not Available",null,9780606369589,null,"Big Nate On A Roll",null,null,null,"Big Nate",null,null,null,27.1,18.95,0,0,null,{"$f":"S9367","v":0},null,null,null,null,null,0,0,0,0,0,0,0,0]
[null,"Not Available",null,9780606382342,null,"Thunka, Thunka, Thunka",null,null,null,"Big Nate",null,null,null,31.35,21.95,0,0,null,{"$f":"S9367","v":0},null,null,null,null,null,0,0,0,0,0,0,0,0]
[null,"Not Available",null,9780606236652,null,"Dog Days",null,null,null,"Diary Of A Wimpy Kid",null,null,null,38.5,26.95,0,0,null,{"$f":"S9393","v":0},null,null,null,null,null,0,0,0,0,0,0,0,0]
[null,"Not Available",null,9780606360746,null,"The Long Haul",null,null,null,"Diary Of A Wimpy Kid",null,null,null,38.5,26.95,0,0,null,{"$f":"S9393","v":0},null,null,null,null,null,0,0,0,0,0,0,0,0]
[null,"Not Available",null,9780606361446,null,"Phoebe And Her Unicorn",null,null,null,"Phoebe And Her Unicorn",null,null,null,29.95,20.95,0,0,null,{"$f":"S9408","v":0},null,null,null,null,null,{"$f":"S9409","v":0},{"$f":"U9409","v":0},{"$f":"W9409*2","v":0},{"$f":"Y9409+Z9409+AA9409","v":0},{"$f":"S9409*O9409","v":0},{"$f":"U9409*P9409","v":0},{"$f":"W9409*Q9409","v":0},{"$f":"IF(AH9409=FALSE,AC9409+AD9409+AE9409,0)","v":0}]
[null,"Not Available",null,9780613688376,null,"The Big, Bad Battle Of The Bionic Booger Boy, Part 2: The Revenge Of The Ridiculous Robo-Boogers",null,null,null,"Captain Underpants",null,null,null,24.25,16.95,0,0,null,{"$f":"S9417","v":0},null,null,null,null,null,0,0,0,0,0,0,0,0]
[null,"Not Available",null,9780606400398,null,"The Bad Guys ",null,null,null,"Bad Guys",null,null,null,22.8,15.95,0,0,null,{"$f":"S9431","v":0},null,null,null,null,null,{"$f":"S9433","v":0},{"$f":"U9433","v":0},{"$f":"W9433*2","v":0},{"$f":"Y9433+Z9433+AA9433","v":0},{"$f":"S9433*O9433","v":0},{"$f":"U9433*P9433","v":0},{"$f":"W9433*Q9433","v":0},{"$f":"IF(AH9433=FALSE,AC9433+AD9433+AE9433,0)","v":0}]
[null,null,null,null,null,"Complete Series of 6",null,null,null,"Dog Man",null,null,null,{"$f":"SUM(N9439:N9444)","v":179.7},{"$f":"SUM(O9439:O9444)","v":125.7},{"$f":"SUM(P9439:P9444)","v":0},{"$f":"SUM(Q9439:Q9444)","v":0}]
[null,"Not Available",null,"9780606411622",null,"Dog Man And Cat Kid ",null,null,null,"Dog Man",null,null,null,29.95,20.95,0,0,null,{"$f":"S9438","v":0},null,null,null,null,null,0,0,0,0,0,0,0,0]
[null,"Not Available",null,9780606387699,null,"Miss Daisy Is Still Crazy!",null,null,null,"My Weird School",null,null,null,22.8,15.95,0,0,null,{"$f":"S9446","v":0},null,null,null,null,null,0,0,0,0,0,0,0,0]
[null,"Not Available",null,9780606392723,null,"Mr. Nick Is A Lunatic!",null,null,null,"My Weird School",null,null,null,22.8,15.95,0,0,null,{"$f":"S9446","v":0},null,null,null,null,null,0,0,0,0,0,0,0,0]
[null,"Not Available",null,9780606381543,null,"Mrs. Meyer Is On Fire!",null,null,null,"My Weird School",null,null,null,22.8,15.95,0,0,null,{"$f":"S9446","v":0},null,null,null,null,null,0,0,0,0,0,0,0,0]
[null,"Not Available",null,9780606364607,null,"Oh, Valentine, We've Lost Our Minds!",null,null,null,"My Weird School",null,null,null,22.8,15.95,0,0,null,{"$f":"S9446","v":0},null,null,null,null,null,0,0,0,0,0,0,0,0]
[null,"Not Available",null,9780606392037,null,"Hits And Myths",null,null,null,"DC Super Hero Girls",null,null,null,29.95,20.95,0,0,null,{"$f":"S9486","v":0},null,null,null,null,null,0,0,0,0,0,0,0,0]
[null,"Not Available",null,9780606370653,null,"Let's Get Invisible!",null,null,null,"Goosebumps",null,null,null,25.65,17.95,0,0,null,{"$f":"S9494","v":0},null,null,null,null,null,0,0,0,0,0,0,0,0]
[null,"Not Available",null,9780606370660,null,"Night Of The Living Dummy 2",null,null,null,"Goosebumps",null,null,null,25.65,17.95,0,0,null,{"$f":"S9494","v":0},null,null,null,null,null,0,0,0,0,0,0,0,0]
[null,"Not Available",null,9780606370738,null,"The Haunted Car",null,null,null,"Goosebumps",null,null,null,25.65,17.95,0,0,null,{"$f":"S9494","v":0},null,null,null,null,null,0,0,0,0,0,0,0,0]
[null,"Not Available",null,9780606140775,null,"Welcome To Dead House",null,null,null,"Goosebumps",null,null,null,24.25,16.95,0,0,null,{"$f":"S9494","v":0},null,null,null,null,null,0,0,0,0,0,0,0,0]
[null,"Not Available",null,9780606262057,null,"I Survived The Attacks Of September 11th, 2001",null,null,null,"I Survived ...",null,null,null,21.35,14.95,0,0,null,{"$f":"S9526","v":0},null,null,null,null,null,0,0,0,0,0,0,0,0]
[null,"Not Available",null,9780606239363,null,"I Survived The San Francisco Earthquake, 1906",null,null,null,"I Survived ...",null,null,null,21.35,14.95,0,0,null,{"$f":"S9526","v":0},null,null,null,null,null,0,0,0,0,0,0,0,0]
[null,"Not Available",null,9780606401203,null,"Who Are Venus And Serena Williams?",null,null,null,"Who Was…? / Who Is…?",null,null,null,22.8,15.95,0,0,null,{"$f":"S9546","v":0},null,null,null,null,null,0,0,0,0,0,0,0,0]
[null,"Not Available",null,9780606260787,null,"Who Is J. K. Rowling?",null,null,null,"Who Was…? / Who Is…?",null,null,null,22.8,15.95,0,0,null,{"$f":"S9546","v":0},null,null,null,null,null,0,0,0,0,0,0,0,0]
[null,"Not Available",null,9780606397797,null,"Who Is Sonia Sotomayor?",null,null,null,"Who Was…? / Who Is…?",null,null,null,22.8,15.95,0,0,null,{"$f":"S9546","v":0},null,null,null,null,null,0,0,0,0,0,0,0,0]
[null,"Not Available",null,9780606365956,null,"Who Is Wayne Gretzky?",null,null,null,"Who Was…? / Who Is…?",null,null,null,22.8,15.95,0,0,null,{"$f":"S9546","v":0},null,null,null,null,null,0,0,0,0,0,0,0,0]
[null,"Not Available",null,9780606321327,null,"Who Was Alexander Graham Bell?",null,null,null,"Who Was…? / Who Is…?",null,null,null,22.8,15.95,0,0,null,{"$f":"S9546","v":0},null,null,null,null,null,0,0,0,0,0,0,0,0]
[null,"Not Available",null,9780613436540,null,"Who Was Ben Franklin?",null,null,null,"Who Was…? / Who Is…?",null,null,null,22.8,15.95,0,0,null,{"$f":"S9546","v":0},null,null,null,null,null,0,0,0,0,0,0,0,0]
[null,"Not Available",null,"9780606040280",null,"Who Was Claude Monet?",null,null,null,"Who Was…? / Who Is…?",null,null,null,22.8,15.95,0,0,null,{"$f":"S9546","v":0},null,null,null,null,null,0,0,0,0,0,0,0,0]
[null,"Not Available",null,9780606367578,null,"Who Was Edgar Allan Poe?",null,null,null,"Who Was…? / Who Is…?",null,null,null,22.8,15.95,0,0,null,{"$f":"S9546","v":0},null,null,null,null,null,{"$f":"S9611","v":0},{"$f":"U9611","v":0},{"$f":"W9611*2","v":0},{"$f":"Y9611+Z9611+AA9611","v":0},{"$f":"S9611*O9611","v":0},{"$f":"U9611*P9611","v":0},{"$f":"W9611*Q9611","v":0},{"$f":"IF(AH9611=FALSE,AC9611+AD9611+AE9611,0)","v":0}]
[null,"Not Available",null,9780606361781,null,"Who Was Genghis Khan?",null,null,null,"Who Was…? / Who Is…?",null,null,null,22.8,15.95,0,0,null,{"$f":"S9546","v":0},null,null,null,null,null,0,0,0,0,0,0,0,0]
[null,"Not Available",null,9780613453318,null,"Who Was Harry Houdini?",null,null,null,"Who Was…? / Who Is…?",null,null,null,22.8,15.95,0,0,null,{"$f":"S9546","v":0},null,null,null,null,null,0,0,0,0,0,0,0,0]
[null,"Not Available",null,9781417713967,null,"Who Was John F. Kennedy?",null,null,null,"Who Was…? / Who Is…?",null,null,null,22.8,15.95,0,0,null,{"$f":"S9546","v":0},null,null,null,null,null,0,0,0,0,0,0,0,0]
[null,"Not Available",null,"9780606413244",null,"Who Was Leif Erikson?",null,null,null,"Who Was…? / Who Is…?",null,null,null,22.8,15.95,0,0,null,{"$f":"S9546","v":0},null,null,null,null,null,0,0,0,0,0,0,0,0]
[null,"Not Available",null,9780606375542,null,"Who Was Marie Antoinette?",null,null,null,"Who Was…? / Who Is…?",null,null,null,22.8,15.95,0,0,null,{"$f":"S9546","v":0},null,null,null,null,null,0,0,0,0,0,0,0,0]
[null,"Not Available",null,"9780606388412",null,"Who Was Milton Bradley?",null,null,null,"Who Was…? / Who Is…?",null,null,null,22.8,15.95,0,0,null,{"$f":"S9546","v":0},null,null,null,null,null,0,0,0,0,0,0,0,0]
[null,"Not Available",null,9780606386388,null,"Who Was Norman Rockwell?",null,null,null,"Who Was…? / Who Is…?",null,null,null,24.25,16.95,0,0,null,{"$f":"S9546","v":0},null,null,null,null,null,0,0,0,0,0,0,0,0]
[null,"Not Available",null,9781417713813,null,"Who Was Ronald Reagan?",null,null,null,"Who Was…? / Who Is…?",null,null,null,22.8,15.95,0,0,null,{"$f":"S9546","v":0},null,null,null,null,null,0,0,0,0,0,0,0,0]
[null,"Not Available",null,9780606413251,null,"Who Was Selena?",null,null,null,"Who Was…? / Who Is…?",null,null,null,24.25,16.95,0,0,null,{"$f":"S9546","v":0},null,null,null,null,null,0,0,0,0,0,0,0,0]
[null,"Not Available",null,9780606361798,null,"Who Was Sitting Bull?",null,null,null,"Who Was…? / Who Is…?",null,null,null,22.8,15.95,0,0,null,{"$f":"S9546","v":0},null,null,null,null,null,0,0,0,0,0,0,0,0]
[null,"Not Available",null,9780606375603,null,"Who Was Sojourner Truth?",null,null,null,"Who Was…? / Who Is…?",null,null,null,22.8,15.95,0,0,null,{"$f":"S9546","v":0},null,null,null,null,null,0,0,0,0,0,0,0,0]
[null,"Not Available",null,9780606367493,null,"Who Was Steve Irwin?",null,null,null,"Who Was…? / Who Is…?",null,null,null,22.8,15.95,0,0,null,{"$f":"S9546","v":0},null,null,null,null,null,0,0,0,0,0,0,0,0]
[null,"Not Available",null,9780606266499,null,"Who Was Steve Jobs?",null,null,null,"Who Was…? / Who Is…?",null,null,null,22.8,15.95,0,0,null,{"$f":"S9546","v":0},null,null,null,null,null,0,0,0,0,0,0,0,0]
[null,"Not Available",null,9780606361729,null,"Who Was Susan B. Anthony?",null,null,null,"Who Was…? / Who Is…?",null,null,null,22.8,15.95,0,0,null,{"$f":"S9546","v":0},null,null,null,null,null,0,0,0,0,0,0,0,0]
[null,"Not Available",null,9780606356916,null,"Who Was Theodore Roosevelt?",null,null,null,"Who Was…? / Who Is…?",null,null,null,22.8,15.95,0,0,null,{"$f":"S9546","v":0},null,null,null,null,null,0,0,0,0,0,0,0,0]
[null,"Not Available",null,"9781417738779",null,"Who Was Thomas Alva Edison?",null,null,null,"Who Was…? / Who Is…?",null,null,null,22.8,15.95,0,0,null,{"$f":"S9546","v":0},null,null,null,null,null,0,0,0,0,0,0,0,0]
[null,"Not Available",null,9780613634861,null,"Who Was Thomas Jefferson?",null,null,null,"Who Was…? / Who Is…?",null,null,null,22.8,15.95,0,0,null,{"$f":"S9546","v":0},null,null,null,null,null,0,0,0,0,0,0,0,0]
[null,"Not Available",null,"9780606356947",null,"Who Was Ulysses S. Grant?",null,null,null,"Who Was…? / Who Is…?",null,null,null,22.8,15.95,0,0,null,{"$f":"S9546","v":0},null,null,null,null,null,0,0,0,0,0,0,0,0]
[null,"Not Available",null,9780606041607,null,"Who Was Walt Disney?",null,null,null,"Who Was…? / Who Is…?",null,null,null,22.8,15.95,0,0,null,{"$f":"S9546","v":0},null,null,null,null,null,0,0,0,0,0,0,0,0]
[null,"Not Available",null,"9781417768530",null,"Who Was William Shakespeare?",null,null,null,"Who Was…? / Who Is…?",null,null,null,22.8,15.95,0,0,null,{"$f":"S9546","v":0},null,null,null,null,null,0,0,0,0,0,0,0,0]
[null,"Not Available",null,9780606365970,null,"Who Was Winston Churchill?",null,null,null,"Who Was…? / Who Is…?",null,null,null,22.8,15.95,0,0,null,{"$f":"S9546","v":0},null,null,null,null,null,0,0,0,0,0,0,0,0]
[null,"Not Available",null,9780613616690,null,"Who Was Wolfgang Amadeus Mozart?",null,null,null,"Who Was…? / Who Is…?",null,null,null,22.8,15.95,0,0,null,{"$f":"S9546","v":0},null,null,null,null,null,0,0,0,0,0,0,0,0]
[null,"Not Available",null,9780606367516,null,"Who Was Woodrow Wilson?",null,null,null,"Who Was…? / Who Is…?",null,null,null,22.8,15.95,0,0,null,{"$f":"S9546","v":0},null,null,null,null,null,0,0,0,0,0,0,0,0]
[null,"Not Available",null,"9781417729319",null,"Who Were The Beatles?",null,null,null,"Who Was…? / Who Is…?",null,null,null,22.8,15.95,0,0,null,{"$f":"S9546","v":0},null,null,null,null,null,0,0,0,0,0,0,0,0]
[null,"Not Available",null,9780606367561,null,"Who Were The Brothers Grimm?",null,null,null,"Who Was…? / Who Is…?",null,null,null,22.8,15.95,0,0,null,{"$f":"S9546","v":0},null,null,null,null,null,0,0,0,0,0,0,0,0]
[null,"Not Available",null,"9780606393201",null,"Who Were The Three Stooges?",null,null,null,"Who Was…? / Who Is…?",null,null,null,22.8,15.95,0,0,null,{"$f":"S9546","v":0},null,null,null,null,null,0,0,0,0,0,0,0,0]
[null,"Not Available",null,9780606413268,null,"Who Were The Tuskegee Airmen?",null,null,null,"Who Was…? / Who Is…?",null,null,null,24.25,16.95,0,0,null,{"$f":"S9546","v":0},null,null,null,null,null,0,0,0,0,0,0,0,0]
[null,"Not Available",null,9780606356923,null,"Who Were The Wright Brothers?",null,null,null,"Who Was…? / Who Is…?",null,null,null,22.8,15.95,0,0,null,{"$f":"S9546","v":0},null,null,null,null,null,0,0,0,0,0,0,0,0]
[]
[null,null,null,null,null,"Complete Series of 8",null,null,null,"Beverly Cleary Series",null,null,null,{"$f":"SUM(N9708:N9715)","v":198.25},{"$f":"SUM(O9708:O9715)","v":138.6},{"$f":"SUM(P9708:P9715)","v":0},{"$f":"SUM(Q9708:Q9715)","v":0}]
[null,"Not Available",null,9780881032673,null,"Emily's Runaway Imagination",null,null,null,"Beverly Cleary Series",null,null,null,24.25,16.95,0,0,null,{"$f":"S9707","v":0},null,null,null,null,null,{"$f":"S9708","v":0},{"$f":"U9708","v":0},{"$f":"W9708*2","v":0},{"$f":"Y9708+Z9708+AA9708","v":0},{"$f":"S9708*O9708","v":0},{"$f":"U9708*P9708","v":0},{"$f":"W9708*Q9708","v":0},{"$f":"IF(AH9708=FALSE,AC9708+AD9708+AE9708,0)","v":0}]
[null,"Not Available",null,9780881032697,null,"Mitch And Amy",null,null,null,"Beverly Cleary Series",null,null,null,24.25,16.95,0,0,null,{"$f":"S9707","v":0},null,null,null,null,null,0,0,0,0,0,0,0,0]
[null,"Not Available",null,9780881032710,null,"Dear Mr. Henshaw",null,null,null,"Beverly Cleary Series",null,null,null,22.8,15.95,0,0,null,{"$f":"S9707","v":0},null,null,null,null,null,0,0,0,0,0,0,0,0]
[null,"Not Available",null,9780881032772,null,"Ralph S. Mouse",null,null,null,"Beverly Cleary Series",null,null,null,24.25,16.95,0,0,null,{"$f":"S9707","v":0},null,null,null,null,null,0,0,0,0,0,0,0,0]
[null,"Not Available",null,9780881032789,null,"The Mouse And The Motorcycle",null,null,null,"Beverly Cleary Series",null,null,null,24.25,16.95,0,0,null,{"$f":"S9707","v":0},null,null,null,null,null,0,0,0,0,0,0,0,0]
[null,"Not Available",null,9780881032833,null,"Fifteen",null,null,null,"Beverly Cleary Series",null,null,null,27.1,18.95,0,0,null,{"$f":"S9707","v":0},null,null,null,null,null,0,0,0,0,0,0,0,0]
[null,"Not Available",null,9780881032864,null,"Runaway Ralph",null,null,null,"Beverly Cleary Series",null,null,null,27.1,18.95,0,0,null,{"$f":"S9707","v":0},null,null,null,null,null,0,0,0,0,0,0,0,0]
[null,"Not Available",null,9780881032888,null,"Henry Huggins",null,null,null,"Beverly Cleary Series",null,null,null,24.25,16.95,0,0,null,{"$f":"S9707","v":0},null,null,null,null,null,0,0,0,0,0,0,0,0]
[]
[null,null,null,null,null,"Complete Series of 5",null,null,null,"The Baby-Sitters Club Graphix",null,null,null,{"$f":"SUM(N9718:N9722)","v":156.75},{"$f":"SUM(O9718:O9722)","v":109.75},{"$f":"SUM(P9718:P9722)","v":0},{"$f":"SUM(Q9718:Q9722)","v":0}]
[null,"Not Available",null,9780606380560,null,"Claudia And Mean Janine",null,null,null,"The Baby-Sitters Club Graphix",null,null,null,31.35,21.95,0,0,null,{"$f":"S9717","v":0},null,null,null,null,null,{"$f":"S9718","v":0},{"$f":"U9718","v":0},{"$f":"W9718*2","v":0},{"$f":"Y9718+Z9718+AA9718","v":0},{"$f":"S9718*O9718","v":0},{"$f":"U9718*P9718","v":0},{"$f":"W9718*Q9718","v":0},{"$f":"IF(AH9718=FALSE,AC9718+AD9718+AE9718,0)","v":0}]
[null,"Not Available",null,9780606406789,null,"Dawn And The Impossible Three ",null,null,null,"The Baby-Sitters Club Graphix",null,null,null,31.35,21.95,0,0,null,{"$f":"S9717","v":0},null,null,null,null,null,{"$f":"S9719","v":0},{"$f":"U9719","v":0},{"$f":"W9719*2","v":0},{"$f":"Y9719+Z9719+AA9719","v":0},{"$f":"S9719*O9719","v":0},{"$f":"U9719*P9719","v":0},{"$f":"W9719*Q9719","v":0},{"$f":"IF(AH9719=FALSE,AC9719+AD9719+AE9719,0)","v":0}]
[null,"Not Available",null,9780606370264,null,"Kristy's Great Idea",null,null,null,"The Baby-Sitters Club Graphix",null,null,null,31.35,21.95,0,0,null,{"$f":"S9717","v":0},null,null,null,null,null,{"$f":"S9720","v":0},{"$f":"U9720","v":0},{"$f":"W9720*2","v":0},{"$f":"Y9720+Z9720+AA9720","v":0},{"$f":"S9720*O9720","v":0},{"$f":"U9720*P9720","v":0},{"$f":"W9720*Q9720","v":0},{"$f":"IF(AH9720=FALSE,AC9720+AD9720+AE9720,0)","v":0}]
[null,"Not Available",null,9780606377867,null,"Mary Anne Saves The Day",null,null,null,"The Baby-Sitters Club Graphix",null,null,null,31.35,21.95,0,0,null,{"$f":"S9717","v":0},null,null,null,null,null,{"$f":"S9721","v":0},{"$f":"U9721","v":0},{"$f":"W9721*2","v":0},{"$f":"Y9721+Z9721+AA9721","v":0},{"$f":"S9721*O9721","v":0},{"$f":"U9721*P9721","v":0},{"$f":"W9721*Q9721","v":0},{"$f":"IF(AH9721=FALSE,AC9721+AD9721+AE9721,0)","v":0}]
[null,"Not Available",null,9780606147897,null,"The Truth About Stacey",null,null,null,"The Baby-Sitters Club Graphix",null,null,null,31.35,21.95,0,0,null,{"$f":"S9717","v":0},null,null,null,null,null,{"$f":"S9722","v":0},{"$f":"U9722","v":0},{"$f":"W9722*2","v":0},{"$f":"Y9722+Z9722+AA9722","v":0},{"$f":"S9722*O9722","v":0},{"$f":"U9722*P9722","v":0},{"$f":"W9722*Q9722","v":0},{"$f":"IF(AH9722=FALSE,AC9722+AD9722+AE9722,0)","v":0}]
[]
[null,null,null,null,null,"Complete Series of 14",null,null,null,"Dork Diaries",null,null,null,{"$f":"SUM(N9725:N9738)","v":519.40000000000009},{"$f":"SUM(O9725:O9738)","v":363.2999999999999},{"$f":"SUM(P9725:P9738)","v":0},{"$f":"SUM(Q9725:Q9738)","v":0}]
[null,"Not Available",null,9780606324250,null,"How To Dork Your Diary ",null,null,null,"Dork Diaries",null,null,null,37.1,25.95,0,0,null,{"$f":"S9724","v":0},null,null,null,null,null,{"$f":"S9725","v":0},{"$f":"U9725","v":0},{"$f":"W9725*2","v":0},{"$f":"Y9725+Z9725+AA9725","v":0},{"$f":"S9725*O9725","v":0},{"$f":"U9725*P9725","v":0},{"$f":"W9725*Q9725","v":0},{"$f":"IF(AH9725=FALSE,AC9725+AD9725+AE9725,0)","v":0}]
[null,"Not Available",null,9780606373166,null,"Tales From A Not-So-Dorky Drama Queen ",null,null,null,"Dork Diaries",null,null,null,37.1,25.95,0,0,null,{"$f":"S9724","v":0},null,null,null,null,null,0,0,0,0,0,0,0,0]
[null,"Not Available",null,9780606324199,null,"Tales From A Not-So-Fabulous Life",null,null,null,"Dork Diaries",null,null,null,37.1,25.95,0,0,null,{"$f":"S9724","v":0},null,null,null,null,null,0,0,0,0,0,0,0,0]
[null,"Not Available",null,9780606398879,null,"Tales From A Not-So-Friendly Frenemy",null,null,null,"Dork Diaries",null,null,null,37.1,25.95,0,0,null,{"$f":"S9724","v":0},null,null,null,null,null,0,0,0,0,0,0,0,0]
[null,"Not Available",null,9780606362405,null,"Tales From A Not-So-Glam TV Star",null,null,null,"Dork Diaries",null,null,null,37.1,25.95,0,0,null,{"$f":"S9724","v":0},null,null,null,null,null,0,0,0,0,0,0,0,0]
[null,"Not Available",null,9780606324229,null,"Tales From A Not-So-Graceful Ice Princess",null,null,null,"Dork Diaries",null,null,null,37.1,25.95,0,0,null,{"$f":"S9724","v":0},null,null,null,null,null,0,0,0,0,0,0,0,0]
[null,"Not Available",null,9780606362412,null,"Tales From A Not-So-Happily Ever After",null,null,null,"Dork Diaries",null,null,null,37.1,25.95,0,0,null,{"$f":"S9724","v":0},null,null,null,null,null,0,0,0,0,0,0,0,0]
[null,"Not Available",null,9780606414555,null,"Tales From A Not-So-Happy Birthday",null,null,null,"Dork Diaries",null,null,null,37.1,25.95,0,0,null,{"$f":"S9724","v":0},null,null,null,null,null,0,0,0,0,0,0,0,0]
[null,"Not Available",null,9780606324243,null,"Tales From A Not-So-Happy Heartbreaker",null,null,null,"Dork Diaries",null,null,null,37.1,25.95,0,0,null,{"$f":"S9724","v":0},null,null,null,null,null,0,0,0,0,0,0,0,0]
[null,"Not Available",null,9780606379236,null,"Tales From A Not-So-Perfect Pet Sitter",null,null,null,"Dork Diaries",null,null,null,37.1,25.95,0,0,null,{"$f":"S9724","v":0},null,null,null,null,null,0,0,0,0,0,0,0,0]
[null,"Not Available",null,9780606324205,null,"Tales From A Not-So-Popular Party Girl",null,null,null,"Dork Diaries",null,null,null,37.1,25.95,0,0,null,{"$f":"S9724","v":0},null,null,null,null,null,0,0,0,0,0,0,0,0]
[null,"Not Available",null,9780606405218,null,"Tales From A Not-So-Secret Crush Catastrophe ",null,null,null,"Dork Diaries",null,null,null,37.1,25.95,0,0,null,{"$f":"S9724","v":0},null,null,null,null,null,0,0,0,0,0,0,0,0]
[null,"Not Available",null,9780606324236,null,"Tales From A Not-So-Smart Miss Know-It-All",null,null,null,"Dork Diaries",null,null,null,37.1,25.95,0,0,null,{"$f":"S9724","v":0},null,null,null,null,null,0,0,0,0,0,0,0,0]
[null,"Not Available",null,9780606324212,null,"Tales From A Not-So-Talented Pop Star",null,null,null,"Dork Diaries",null,null,null,37.1,25.95,0,0,null,{"$f":"S9724","v":0},null,null,null,null,null,0,0,0,0,0,0,0,0]
[]
[null,null,null,null,null,"Complete Series of 3",null,null,null,"The Kane Chronicles",null,null,null,{"$f":"SUM(N9741:N9743)","v":89.85},{"$f":"SUM(O9741:O9743)","v":62.849999999999994},{"$f":"SUM(P9741:P9743)","v":0},{"$f":"SUM(Q9741:Q9743)","v":0}]
[null,"Not Available",null,9780606412049,null,"The Throne Of Fire",null,null,null,"The Kane Chronicles",null,null,null,29.95,20.95,0,0,null,{"$f":"S9740","v":0},null,null,null,null,null,{"$f":"S9741","v":0},{"$f":"U9741","v":0},{"$f":"W9741*2","v":0},{"$f":"Y9741+Z9741+AA9741","v":0},{"$f":"S9741*O9741","v":0},{"$f":"U9741*P9741","v":0},{"$f":"W9741*Q9741","v":0},{"$f":"IF(AH9741=FALSE,AC9741+AD9741+AE9741,0)","v":0}]
[null,"Not Available",null,9780606412056,null,"The Red Pyramid",null,null,null,"The Kane Chronicles",null,null,null,29.95,20.95,0,0,null,{"$f":"S9740","v":0},null,null,null,null,null,{"$f":"S9742","v":0},{"$f":"U9742","v":0},{"$f":"W9742*2","v":0},{"$f":"Y9742+Z9742+AA9742","v":0},{"$f":"S9742*O9742","v":0},{"$f":"U9742*P9742","v":0},{"$f":"W9742*Q9742","v":0},{"$f":"IF(AH9742=FALSE,AC9742+AD9742+AE9742,0)","v":0}]
[null,"Not Available",null,9780606412063,null,"The Serpent's Shadow",null,null,null,"The Kane Chronicles",null,null,null,29.95,20.95,0,0,null,{"$f":"S9740","v":0},null,null,null,null,null,{"$f":"S9743","v":0},{"$f":"U9743","v":0},{"$f":"W9743*2","v":0},{"$f":"Y9743+Z9743+AA9743","v":0},{"$f":"S9743*O9743","v":0},{"$f":"U9743*P9743","v":0},{"$f":"W9743*Q9743","v":0},{"$f":"IF(AH9743=FALSE,AC9743+AD9743+AE9743,0)","v":0}]
[]
[null,null,null,null,null,"Complete Series of 3",null,null,null,"The Kane Chronicles Graphic Novels",null,null,null,{"$f":"SUM(N9746:N9748)","v":106.94999999999999},{"$f":"SUM(O9746:O9748)","v":74.849999999999994},{"$f":"SUM(P9746:P9748)","v":0},{"$f":"SUM(Q9746:Q9748)","v":0}]
[null,"Not Available",null,9780606375092,null,"The Throne Of Fire",null,null,null,"The Kane Chronicles Graphic Novels",null,null,null,35.65,24.95,0,0,null,{"$f":"S9745","v":0},null,null,null,null,null,{"$f":"S9746","v":0},{"$f":"U9746","v":0},{"$f":"W9746*2","v":0},{"$f":"Y9746+Z9746+AA9746","v":0},{"$f":"S9746*O9746","v":0},{"$f":"U9746*P9746","v":0},{"$f":"W9746*Q9746","v":0},{"$f":"IF(AH9746=FALSE,AC9746+AD9746+AE9746,0)","v":0}]
[null,"Not Available",null,9780606375108,null,"The Red Pyramid",null,null,null,"The Kane Chronicles Graphic Novels",null,null,null,35.65,24.95,0,0,null,{"$f":"S9745","v":0},null,null,null,null,null,{"$f":"S9747","v":0},{"$f":"U9747","v":0},{"$f":"W9747*2","v":0},{"$f":"Y9747+Z9747+AA9747","v":0},{"$f":"S9747*O9747","v":0},{"$f":"U9747*P9747","v":0},{"$f":"W9747*Q9747","v":0},{"$f":"IF(AH9747=FALSE,AC9747+AD9747+AE9747,0)","v":0}]
[null,"Not Available",null,9780606406048,null,"Serpent's Shadow ",null,null,null,"The Kane Chronicles Graphic Novels",null,null,null,35.65,24.95,0,0,null,{"$f":"S9745","v":0},null,null,null,null,null,{"$f":"S9748","v":0},{"$f":"U9748","v":0},{"$f":"W9748*2","v":0},{"$f":"Y9748+Z9748+AA9748","v":0},{"$f":"S9748*O9748","v":0},{"$f":"U9748*P9748","v":0},{"$f":"W9748*Q9748","v":0},{"$f":"IF(AH9748=FALSE,AC9748+AD9748+AE9748,0)","v":0}]
[]
[null,null,null,null,null,"Complete Series of 4",null,null,null,"A Series Of Unfortunate Events",null,null,null,{"$f":"SUM(N9751:N9754)","v":97},{"$f":"SUM(O9751:O9754)","v":67.8},{"$f":"SUM(P9751:P9754)","v":0},{"$f":"SUM(Q9751:Q9754)","v":0}]
[null,"Not Available",null,9780606027519,null,"The Reptile Room",null,null,null,"A Series Of Unfortunate Events",null,null,null,24.25,16.95,0,0,null,{"$f":"S9750","v":0},null,null,null,null,null,{"$f":"S9751","v":0},{"$f":"U9751","v":0},{"$f":"W9751*2","v":0},{"$f":"Y9751+Z9751+AA9751","v":0},{"$f":"S9751*O9751","v":0},{"$f":"U9751*P9751","v":0},{"$f":"W9751*Q9751","v":0},{"$f":"IF(AH9751=FALSE,AC9751+AD9751+AE9751,0)","v":0}]
[null,"Not Available",null,9780613672092,null,"Lemony Snicket: The Unauthorized Autobiography",null,null,null,"A Series Of Unfortunate Events",null,null,null,24.25,16.95,0,0,null,{"$f":"S9750","v":0},null,null,null,null,null,{"$f":"S9752","v":0},{"$f":"U9752","v":0},{"$f":"W9752*2","v":0},{"$f":"Y9752+Z9752+AA9752","v":0},{"$f":"S9752*O9752","v":0},{"$f":"U9752*P9752","v":0},{"$f":"W9752*Q9752","v":0},{"$f":"IF(AH9752=FALSE,AC9752+AD9752+AE9752,0)","v":0}]
[null,"Not Available",null,9781417788408,null,"The Bad Beginning",null,null,null,"A Series Of Unfortunate Events",null,null,null,24.25,16.95,0,0,null,{"$f":"S9750","v":0},null,null,null,null,null,{"$f":"S9753","v":0},{"$f":"U9753","v":0},{"$f":"W9753*2","v":0},{"$f":"Y9753+Z9753+AA9753","v":0},{"$f":"S9753*O9753","v":0},{"$f":"U9753*P9753","v":0},{"$f":"W9753*Q9753","v":0},{"$f":"IF(AH9753=FALSE,AC9753+AD9753+AE9753,0)","v":0}]
[null,"Not Available",null,9781417819423,null,"The Wide Window",null,null,null,"A Series Of Unfortunate Events",null,null,null,24.25,16.95,0,0,null,{"$f":"S9750","v":0},null,null,null,null,null,{"$f":"S9754","v":0},{"$f":"U9754","v":0},{"$f":"W9754*2","v":0},{"$f":"Y9754+Z9754+AA9754","v":0},{"$f":"S9754*O9754","v":0},{"$f":"U9754*P9754","v":0},{"$f":"W9754*Q9754","v":0},{"$f":"IF(AH9754=FALSE,AC9754+AD9754+AE9754,0)","v":0}]
[]
[null,null,null,null,null,"Complete Series of 8",null,null,null,"Amulet",null,null,null,{"$f":"SUM(N9757:N9764)","v":285.2},{"$f":"SUM(O9757:O9764)","v":199.59999999999997},{"$f":"SUM(P9757:P9764)","v":0},{"$f":"SUM(Q9757:Q9764)","v":0}]
[null,"Not Available",null,9780606360395,null,"Escape From Lucien",null,null,null,"Amulet",null,null,null,35.65,24.95,0,0,null,{"$f":"S9756","v":0},null,null,null,null,null,{"$f":"S9757","v":0},{"$f":"U9757","v":0},{"$f":"W9757*2","v":0},{"$f":"Y9757+Z9757+AA9757","v":0},{"$f":"S9757*O9757","v":0},{"$f":"U9757*P9757","v":0},{"$f":"W9757*Q9757","v":0},{"$f":"IF(AH9757=FALSE,AC9757+AD9757+AE9757,0)","v":0}]
[null,"Not Available",null,9780606380706,null,"Firelight",null,null,null,"Amulet",null,null,null,35.65,24.95,0,0,null,{"$f":"S9756","v":0},null,null,null,null,null,0,0,0,0,0,0,0,0]
[null,"Not Available",null,9780606264990,null,"Prince Of The Elves",null,null,null,"Amulet",null,null,null,35.65,24.95,0,0,null,{"$f":"S9756","v":0},null,null,null,null,null,0,0,0,0,0,0,0,0]
[null,"Not Available",null,9780606414982,null,"Supernova",null,null,null,"Amulet",null,null,null,35.65,24.95,0,0,null,{"$f":"S9756","v":0},null,null,null,null,null,0,0,0,0,0,0,0,0]
[null,"Not Available",null,9780606150545,null,"The Cloud Searchers",null,null,null,"Amulet",null,null,null,35.65,24.95,0,0,null,{"$f":"S9756","v":0},null,null,null,null,null,0,0,0,0,0,0,0,0]
[null,"Not Available",null,9780606232098,null,"The Last Council",null,null,null,"Amulet",null,null,null,35.65,24.95,0,0,null,{"$f":"S9756","v":0},null,null,null,null,null,0,0,0,0,0,0,0,0]
[null,"Not Available",null,9781417797127,null,"The Stonekeeper",null,null,null,"Amulet",null,null,null,35.65,24.95,0,0,null,{"$f":"S9756","v":0},null,null,null,null,null,0,0,0,0,0,0,0,0]
[null,"Not Available",null,9780606106719,null,"The Stonekeeper's Curse",null,null,null,"Amulet",null,null,null,35.65,24.95,0,0,null,{"$f":"S9756","v":0},null,null,null,null,null,0,0,0,0,0,0,0,0]
[]
[null,null,null,null,null,"Complete Series of 9",null,null,null,"The Sisters Grimm",null,null,null,{"$f":"SUM(N9767:N9775)","v":243.89999999999998},{"$f":"SUM(O9767:O9775)","v":170.54999999999998},{"$f":"SUM(P9767:P9775)","v":0},{"$f":"SUM(Q9767:Q9775)","v":0}]
[null,"Not Available",null,9780606407267,null,"Magic And Other Misdemeanors",null,null,null,"The Sisters Grimm",null,null,null,27.1,18.95,0,0,null,{"$f":"S9766","v":0},null,null,null,null,null,{"$f":"S9767","v":0},{"$f":"U9767","v":0},{"$f":"W9767*2","v":0},{"$f":"Y9767+Z9767+AA9767","v":0},{"$f":"S9767*O9767","v":0},{"$f":"U9767*P9767","v":0},{"$f":"W9767*Q9767","v":0},{"$f":"IF(AH9767=FALSE,AC9767+AD9767+AE9767,0)","v":0}]
[null,"Not Available",null,9780606407250,null,"Once Upon A Crime",null,null,null,"The Sisters Grimm",null,null,null,27.1,18.95,0,0,null,{"$f":"S9766","v":0},null,null,null,null,null,0,0,0,0,0,0,0,0]
[null,"Not Available",null,9780606407274,null,"Tales From The Hood",null,null,null,"The Sisters Grimm",null,null,null,27.1,18.95,0,0,null,{"$f":"S9766","v":0},null,null,null,null,null,0,0,0,0,0,0,0,0]
[null,"Not Available",null,9780606410625,null,"The Council Of Mirrors (New Edition)",null,null,null,"The Sisters Grimm",null,null,null,27.1,18.95,0,0,null,{"$f":"S9766","v":0},null,null,null,null,null,0,0,0,0,0,0,0,0]
[null,"Not Available",null,9780606125000,null,"The Everafter War (New Edition)",null,null,null,"The Sisters Grimm",null,null,null,27.1,18.95,0,0,null,{"$f":"S9766","v":0},null,null,null,null,null,0,0,0,0,0,0,0,0]
[null,"Not Available",null,9780606396851,null,"The Fairy-Tale Detectives",null,null,null,"The Sisters Grimm",null,null,null,27.1,18.95,0,0,null,{"$f":"S9766","v":0},null,null,null,null,null,0,0,0,0,0,0,0,0]
[null,"Not Available",null,9780606410632,null,"The Inside Story (New Edition)",null,null,null,"The Sisters Grimm",null,null,null,27.1,18.95,0,0,null,{"$f":"S9766","v":0},null,null,null,null,null,0,0,0,0,0,0,0,0]
[null,"Not Available",null,9780606396875,null,"The Problem Child",null,null,null,"The Sisters Grimm",null,null,null,27.1,18.95,0,0,null,{"$f":"S9766","v":0},null,null,null,null,null,0,0,0,0,0,0,0,0]
[null,"Not Available",null,9780606396868,null,"The Unusual Suspects",null,null,null,"The Sisters Grimm",null,null,null,27.1,18.95,0,0,null,{"$f":"S9766","v":0},null,null,null,null,null,0,0,0,0,0,0,0,0]
[]
[null,null,null,null,null,"Complete Series of 7",null,null,null,"Percy Jackson & The Olympians",null,null,null,{"$f":"SUM(N9778:N9784)","v":199.55},{"$f":"SUM(O9778:O9784)","v":139.65},{"$f":"SUM(P9778:P9784)","v":0},{"$f":"SUM(Q9778:Q9784)","v":0}]
[null,"Not Available",null,9780606374002,null,"Percy Jackson's Greek Gods",null,null,null,"Percy Jackson & The Olympians",null,null,null,35.65,24.95,0,0,null,{"$f":"S9777","v":0},null,null,null,null,null,{"$f":"S9778","v":0},{"$f":"U9778","v":0},{"$f":"W9778*2","v":0},{"$f":"Y9778+Z9778+AA9778","v":0},{"$f":"S9778*O9778","v":0},{"$f":"U9778*P9778","v":0},{"$f":"W9778*Q9778","v":0},{"$f":"IF(AH9778=FALSE,AC9778+AD9778+AE9778,0)","v":0}]
[null,"Not Available",null,9780606394987,null,"Percy Jackson's Greek Heroes",null,null,null,"Percy Jackson & The Olympians",null,null,null,35.65,24.95,0,0,null,{"$f":"S9777","v":0},null,null,null,null,null,0,0,0,0,0,0,0,0]
[null,"Not Available",null,9780606021586,null,"The Battle Of The Labyrinth",null,null,null,"Percy Jackson & The Olympians",null,null,null,25.65,17.95,0,0,null,{"$f":"S9777","v":0},null,null,null,null,null,0,0,0,0,0,0,0,0]
[null,"Not Available",null,9780606105675,null,"The Last Olympian",null,null,null,"Percy Jackson & The Olympians",null,null,null,25.65,17.95,0,0,null,{"$f":"S9777","v":0},null,null,null,null,null,0,0,0,0,0,0,0,0]
[null,"Not Available",null,9781417732470,null,"The Lightning Thief",null,null,null,"Percy Jackson & The Olympians",null,null,null,25.65,17.95,0,0,null,{"$f":"S9777","v":0},null,null,null,null,null,0,0,0,0,0,0,0,0]
[null,"Not Available",null,9781417776122,null,"The Sea Of Monsters",null,null,null,"Percy Jackson & The Olympians",null,null,null,25.65,17.95,0,0,null,{"$f":"S9777","v":0},null,null,null,null,null,0,0,0,0,0,0,0,0]
[null,"Not Available",null,9780606021500,null,"The Titan's Curse",null,null,null,"Percy Jackson & The Olympians",null,null,null,25.65,17.95,0,0,null,{"$f":"S9777","v":0},null,null,null,null,null,0,0,0,0,0,0,0,0]
[]
[null,null,null,null,null,"Complete Series of 2",null,null,null,"Magnus Chase And The Gods Of Asgard",null,null,null,{"$f":"SUM(N9787:N9788)","v":59.9},{"$f":"SUM(O9787:O9788)","v":41.9},{"$f":"SUM(P9787:P9788)","v":0},{"$f":"SUM(Q9787:Q9788)","v":0}]
[null,"Not Available",null,9780606409612,null,"The Hammer Of Thor",null,null,null,"Magnus Chase And The Gods Of Asgard",null,null,null,29.95,20.95,0,0,null,{"$f":"S9786","v":0},null,null,null,null,null,{"$f":"S9787","v":0},{"$f":"U9787","v":0},{"$f":"W9787*2","v":0},{"$f":"Y9787+Z9787+AA9787","v":0},{"$f":"S9787*O9787","v":0},{"$f":"U9787*P9787","v":0},{"$f":"W9787*Q9787","v":0},{"$f":"IF(AH9787=FALSE,AC9787+AD9787+AE9787,0)","v":0}]
[null,"Not Available",null,9780606399722,null,"The Sword Of Summer",null,null,null,"Magnus Chase And The Gods Of Asgard",null,null,null,29.95,20.95,0,0,null,{"$f":"S9786","v":0},null,null,null,null,null,{"$f":"S9788","v":0},{"$f":"U9788","v":0},{"$f":"W9788*2","v":0},{"$f":"Y9788+Z9788+AA9788","v":0},{"$f":"S9788*O9788","v":0},{"$f":"U9788*P9788","v":0},{"$f":"W9788*Q9788","v":0},{"$f":"IF(AH9788=FALSE,AC9788+AD9788+AE9788,0)","v":0}]
[]
[null,null,null,null,null,"Complete Series of 5",null,null,null,"The Heroes Of Olympus",null,null,null,{"$f":"SUM(N9791:N9795)","v":149.75},{"$f":"SUM(O9791:O9795)","v":104.75},{"$f":"SUM(P9791:P9795)","v":0},{"$f":"SUM(Q9791:Q9795)","v":0}]
[null,"Not Available",null,9780606383356,null,"The Blood Of Olympus",null,null,null,"The Heroes Of Olympus",null,null,null,29.95,20.95,0,0,null,{"$f":"S9790","v":0},null,null,null,null,null,{"$f":"S9791","v":0},{"$f":"U9791","v":0},{"$f":"W9791*2","v":0},{"$f":"Y9791+Z9791+AA9791","v":0},{"$f":"S9791*O9791","v":0},{"$f":"U9791*P9791","v":0},{"$f":"W9791*Q9791","v":0},{"$f":"IF(AH9791=FALSE,AC9791+AD9791+AE9791,0)","v":0}]
[null,"Not Available",null,9780606368957,null,"The House Of Hades",null,null,null,"The Heroes Of Olympus",null,null,null,29.95,20.95,0,0,null,{"$f":"S9790","v":0},null,null,null,null,null,{"$f":"S9792","v":0},{"$f":"U9792","v":0},{"$f":"W9792*2","v":0},{"$f":"Y9792+Z9792+AA9792","v":0},{"$f":"S9792*O9792","v":0},{"$f":"U9792*P9792","v":0},{"$f":"W9792*Q9792","v":0},{"$f":"IF(AH9792=FALSE,AC9792+AD9792+AE9792,0)","v":0}]
[null,"Not Available",null,9781690304814,null,"The Lost Hero",null,null,null,"The Heroes Of Olympus",null,null,null,29.95,20.95,0,0,null,{"$f":"S9790","v":0},null,null,null,null,null,{"$f":"S9793","v":0},{"$f":"U9793","v":0},{"$f":"W9793*2","v":0},{"$f":"Y9793+Z9793+AA9793","v":0},{"$f":"S9793*O9793","v":0},{"$f":"U9793*P9793","v":0},{"$f":"W9793*Q9793","v":0},{"$f":"IF(AH9793=FALSE,AC9793+AD9793+AE9793,0)","v":0}]
[null,"Not Available",null,9781690304807,null,"The Mark Of Athena",null,null,null,"The Heroes Of Olympus",null,null,null,29.95,20.95,0,0,null,{"$f":"S9790","v":0},null,null,null,null,null,{"$f":"S9794","v":0},{"$f":"U9794","v":0},{"$f":"W9794*2","v":0},{"$f":"Y9794+Z9794+AA9794","v":0},{"$f":"S9794*O9794","v":0},{"$f":"U9794*P9794","v":0},{"$f":"W9794*Q9794","v":0},{"$f":"IF(AH9794=FALSE,AC9794+AD9794+AE9794,0)","v":0}]
[null,"Not Available",null,9781690304821,null,"The Son Of Neptune",null,null,null,"The Heroes Of Olympus",null,null,null,29.95,20.95,0,0,null,{"$f":"S9790","v":0},null,null,null,null,null,{"$f":"S9795","v":0},{"$f":"U9795","v":0},{"$f":"W9795*2","v":0},{"$f":"Y9795+Z9795+AA9795","v":0},{"$f":"S9795*O9795","v":0},{"$f":"U9795*P9795","v":0},{"$f":"W9795*Q9795","v":0},{"$f":"IF(AH9795=FALSE,AC9795+AD9795+AE9795,0)","v":0}]
[]
[null,null,null,null,null,"Complete Series of 3",null,null,null,"Fairy Tale Reform School",null,null,null,{"$f":"SUM(N9798:N9800)","v":76.949999999999989},{"$f":"SUM(O9798:O9800)","v":53.849999999999994},{"$f":"SUM(P9798:P9800)","v":0},{"$f":"SUM(Q9798:Q9800)","v":0}]
[null,"Not Available",null,9780606401708,null,"Charmed",null,null,null,"Fairy Tale Reform School",null,null,null,25.65,17.95,0,0,null,{"$f":"S9797","v":0},null,null,null,null,null,{"$f":"S9798","v":0},{"$f":"U9798","v":0},{"$f":"W9798*2","v":0},{"$f":"Y9798+Z9798+AA9798","v":0},{"$f":"S9798*O9798","v":0},{"$f":"U9798*P9798","v":0},{"$f":"W9798*Q9798","v":0},{"$f":"IF(AH9798=FALSE,AC9798+AD9798+AE9798,0)","v":0}]
[null,"Not Available",null,9780606401296,null,"Flunked",null,null,null,"Fairy Tale Reform School",null,null,null,25.65,17.95,0,0,null,{"$f":"S9797","v":0},null,null,null,null,null,{"$f":"S9799","v":0},{"$f":"U9799","v":0},{"$f":"W9799*2","v":0},{"$f":"Y9799+Z9799+AA9799","v":0},{"$f":"S9799*O9799","v":0},{"$f":"U9799*P9799","v":0},{"$f":"W9799*Q9799","v":0},{"$f":"IF(AH9799=FALSE,AC9799+AD9799+AE9799,0)","v":0}]
[null,"Not Available",null,9780606405157,null,"Tricked",null,null,null,"Fairy Tale Reform School",null,null,null,25.65,17.95,0,0,null,{"$f":"S9797","v":0},null,null,null,null,null,{"$f":"S9800","v":0},{"$f":"U9800","v":0},{"$f":"W9800*2","v":0},{"$f":"Y9800+Z9800+AA9800","v":0},{"$f":"S9800*O9800","v":0},{"$f":"U9800*P9800","v":0},{"$f":"W9800*Q9800","v":0},{"$f":"IF(AH9800=FALSE,AC9800+AD9800+AE9800,0)","v":0}]
[]
[null,null,null,null,null,"Complete Series of 7",null,null,null,"Harry Potter ",null,null,null,{"$f":"SUM(N9803:N9809)","v":263.8},{"$f":"SUM(O9803:O9809)","v":184.64999999999998},{"$f":"SUM(P9803:P9809)","v":0},{"$f":"SUM(Q9803:Q9809)","v":0}]
[null,"Not Available",null,9780606415194,null,"Harry Potter And The Chamber Of Secrets",null,null,null,"Harry Potter ",null,null,null,35.65,24.95,0,0,null,{"$f":"S9802","v":0},null,null,null,null,null,{"$f":"S9803","v":0},{"$f":"U9803","v":0},{"$f":"W9803*2","v":0},{"$f":"Y9803+Z9803+AA9803","v":0},{"$f":"S9803*O9803","v":0},{"$f":"U9803*P9803","v":0},{"$f":"W9803*Q9803","v":0},{"$f":"IF(AH9803=FALSE,AC9803+AD9803+AE9803,0)","v":0}]
[null,"Not Available",null,9780606415187,null,"Harry Potter And The Deathly Hallows",null,null,null,"Harry Potter ",null,null,null,41.35,28.95,0,0,null,{"$f":"S9802","v":0},null,null,null,null,null,0,0,0,0,0,0,0,0]
[null,"Not Available",null,9780606323482,null,"Harry Potter And The Goblet Of Fire",null,null,null,"Harry Potter ",null,null,null,38.5,26.95,0,0,null,{"$f":"S9802","v":0},null,null,null,null,null,0,0,0,0,0,0,0,0]
[null,"Not Available",null,9780606415163,null,"Harry Potter And The Half-Blood Prince",null,null,null,"Harry Potter ",null,null,null,38.5,26.95,0,0,null,{"$f":"S9802","v":0},null,null,null,null,null,0,0,0,0,0,0,0,0]
[null,"Not Available",null,9780606415156,null,"Harry Potter And The Order Of The Phoenix",null,null,null,"Harry Potter ",null,null,null,38.5,26.95,0,0,null,{"$f":"S9802","v":0},null,null,null,null,null,0,0,0,0,0,0,0,0]
[null,"Not Available",null,9780606415217,null,"Harry Potter And The Prisoner Of Azkaban",null,null,null,"Harry Potter ",null,null,null,35.65,24.95,0,0,null,{"$f":"S9802","v":0},null,null,null,null,null,0,0,0,0,0,0,0,0]
[null,"Not Available",null,9780606415200,null,"Harry Potter And The Sorcerer's Stone",null,null,null,"Harry Potter ",null,null,null,35.65,24.95,0,0,null,{"$f":"S9802","v":0},null,null,null,null,null,0,0,0,0,0,0,0,0]
[]
[null,null,null,null,null,"Complete Series of 3",null,null,null,"March",null,null,null,{"$f":"SUM(N9812:N9814)","v":132.63999999999999},{"$f":"SUM(O9812:O9814)","v":92.850000000000009},{"$f":"SUM(P9812:P9814)","v":0},{"$f":"SUM(Q9812:Q9814)","v":0}]
[null,"Not Available",null,9780606324366,null,"March: Book One",null,null,null,"March",null,null,null,38.5,26.95,0,0,null,{"$f":"S9811","v":0},null,null,null,null,null,{"$f":"S9812","v":0},{"$f":"U9812","v":0},{"$f":"W9812*2","v":0},{"$f":"Y9812+Z9812+AA9812","v":0},{"$f":"S9812*O9812","v":0},{"$f":"U9812*P9812","v":0},{"$f":"W9812*Q9812","v":0},{"$f":"IF(AH9812=FALSE,AC9812+AD9812+AE9812,0)","v":0}]
[null,"Not Available",null,9780606386050,null,"March: Book Three",null,null,null,"March",null,null,null,47.07,32.950000000000003,0,0,null,{"$f":"S9811","v":0},null,null,null,null,null,{"$f":"S9813","v":0},{"$f":"U9813","v":0},{"$f":"W9813*2","v":0},{"$f":"Y9813+Z9813+AA9813","v":0},{"$f":"S9813*O9813","v":0},{"$f":"U9813*P9813","v":0},{"$f":"W9813*Q9813","v":0},{"$f":"IF(AH9813=FALSE,AC9813+AD9813+AE9813,0)","v":0}]
[null,"Not Available",null,9780606365475,null,"March: Book Two",null,null,null,"March",null,null,null,47.07,32.950000000000003,0,0,null,{"$f":"S9811","v":0},null,null,null,null,null,{"$f":"S9814","v":0},{"$f":"U9814","v":0},{"$f":"W9814*2","v":0},{"$f":"Y9814+Z9814+AA9814","v":0},{"$f":"S9814*O9814","v":0},{"$f":"U9814*P9814","v":0},{"$f":"W9814*Q9814","v":0},{"$f":"IF(AH9814=FALSE,AC9814+AD9814+AE9814,0)","v":0}]
[]
[null,null,null,null,null,"Complete Series of 4",null,null,null,"Lord Of The Rings",null,null,null,{"$f":"SUM(N9817:N9820)","v":114},{"$f":"SUM(O9817:O9820)","v":79.8},{"$f":"SUM(P9817:P9820)","v":0},{"$f":"SUM(Q9817:Q9820)","v":0}]
[null,"Not Available",null,9780808520764,null,"The Fellowship Of The Ring",null,null,null,"Lord Of The Rings",null,null,null,28.5,19.95,0,0,null,{"$f":"S9816","v":0},null,null,null,null,null,{"$f":"S9817","v":0},{"$f":"U9817","v":0},{"$f":"W9817*2","v":0},{"$f":"Y9817+Z9817+AA9817","v":0},{"$f":"S9817*O9817","v":0},{"$f":"U9817*P9817","v":0},{"$f":"W9817*Q9817","v":0},{"$f":"IF(AH9817=FALSE,AC9817+AD9817+AE9817,0)","v":0}]
[null,"Not Available",null,9780808520801,null,"The Hobbit",null,null,null,"Lord Of The Rings",null,null,null,28.5,19.95,0,0,null,{"$f":"S9816","v":0},null,null,null,null,null,{"$f":"S9818","v":0},{"$f":"U9818","v":0},{"$f":"W9818*2","v":0},{"$f":"Y9818+Z9818+AA9818","v":0},{"$f":"S9818*O9818","v":0},{"$f":"U9818*P9818","v":0},{"$f":"W9818*Q9818","v":0},{"$f":"IF(AH9818=FALSE,AC9818+AD9818+AE9818,0)","v":0}]
[null,"Not Available",null,9780808520856,null,"The Return Of The King",null,null,null,"Lord Of The Rings",null,null,null,28.5,19.95,0,0,null,{"$f":"S9816","v":0},null,null,null,null,null,{"$f":"S9819","v":0},{"$f":"U9819","v":0},{"$f":"W9819*2","v":0},{"$f":"Y9819+Z9819+AA9819","v":0},{"$f":"S9819*O9819","v":0},{"$f":"U9819*P9819","v":0},{"$f":"W9819*Q9819","v":0},{"$f":"IF(AH9819=FALSE,AC9819+AD9819+AE9819,0)","v":0}]
[null,"Not Available",null,9780808520900,null,"The Two Towers",null,null,null,"Lord Of The Rings",null,null,null,28.5,19.95,0,0,null,{"$f":"S9816","v":0},null,null,null,null,null,{"$f":"S9820","v":0},{"$f":"U9820","v":0},{"$f":"W9820*2","v":0},{"$f":"Y9820+Z9820+AA9820","v":0},{"$f":"S9820*O9820","v":0},{"$f":"U9820*P9820","v":0},{"$f":"W9820*Q9820","v":0},{"$f":"IF(AH9820=FALSE,AC9820+AD9820+AE9820,0)","v":0}]
[]
[null,null,null,null,null,"Complete Series of 76",null,null,null,"Classics & Best Sellers",null,null,null,{"$f":"SUM(N9823:N9898)","v":2068.4499999999989},{"$f":"SUM(O9823:O9898)","v":1447.2000000000019},{"$f":"SUM(P9823:P9898)","v":0},{"$f":"SUM(Q9823:Q9898)","v":0}]
[null,"Not Available",null,9780613016889,null,"A Hat For Minerva Louise",null,null,null,"Classics & Best Sellers",null,null,null,24.25,16.95,0,0,null,{"$f":"S9822","v":0},null,null,null,null,null,{"$f":"S9823","v":0},{"$f":"U9823","v":0},{"$f":"W9823*2","v":0},{"$f":"Y9823+Z9823+AA9823","v":0},{"$f":"S9823*O9823","v":0},{"$f":"U9823*P9823","v":0},{"$f":"W9823*Q9823","v":0},{"$f":"IF(AH9823=FALSE,AC9823+AD9823+AE9823,0)","v":0}]
[null,"Not Available",null,9780808524069,null,"Alexander And The Terrible, Horrible, No Good, Very Bad Day",null,null,null,"Classics & Best Sellers",null,null,null,28.5,19.95,0,0,null,{"$f":"S9822","v":0},null,null,null,null,null,0,0,0,0,0,0,0,0]
[null,"Not Available",null,9780613044912,null,"Animalia",null,null,null,"Classics & Best Sellers",null,null,null,28.5,19.95,0,0,null,{"$f":"S9822","v":0},null,null,null,null,null,0,0,0,0,0,0,0,0]
[null,"Not Available",null,9780808529866,null,"Anno's Journey",null,null,null,"Classics & Best Sellers",null,null,null,28.5,19.95,0,0,null,{"$f":"S9822","v":0},null,null,null,null,null,0,0,0,0,0,0,0,0]
[null,"Not Available",null,9780785751038,null,"Are You My Mother?",null,null,null,"Classics & Best Sellers",null,null,null,29.95,20.95,0,0,null,{"$f":"S9822","v":0},null,null,null,null,null,0,0,0,0,0,0,0,0]
[null,"Not Available",null,9780833586117,null,"Baby Beluga",null,null,null,"Classics & Best Sellers",null,null,null,24.25,16.95,0,0,null,{"$f":"S9822","v":0},null,null,null,null,null,0,0,0,0,0,0,0,0]
[null,"Not Available",null,9780808524229,null,"Blueberries For Sal",null,null,null,"Classics & Best Sellers",null,null,null,28.5,19.95,0,0,null,{"$f":"S9822","v":0},null,null,null,null,null,0,0,0,0,0,0,0,0]
[null,"Not Available",null,9780808568537,null,"Bread And Jam For Frances",null,null,null,"Classics & Best Sellers",null,null,null,27.1,18.95,0,0,null,{"$f":"S9822","v":0},null,null,null,null,null,0,0,0,0,0,0,0,0]
[null,"Not Available",null,9780808537724,null,"Charlotte's Web",null,null,null,"Classics & Best Sellers",null,null,null,28.5,19.95,0,0,null,{"$f":"S9822","v":0},null,null,null,null,null,0,0,0,0,0,0,0,0]
[null,"Not Available",null,9780613284431,null,"Chicka Chicka Boom Boom",null,null,null,"Classics & Best Sellers",null,null,null,28.5,19.95,0,0,null,{"$f":"S9822","v":0},null,null,null,null,null,0,0,0,0,0,0,0,0]
[null,"Not Available",null,9780613020107,null,"Clifford's Spring Clean Up",null,null,null,"Classics & Best Sellers",null,null,null,21.35,14.95,0,0,null,{"$f":"S9822","v":0},null,null,null,null,null,0,0,0,0,0,0,0,0]
[null,"Not Available",null,9780881035476,null,"Corduroy",null,null,null,"Classics & Best Sellers",null,null,null,27.1,18.95,0,0,null,{"$f":"S9822","v":0},null,null,null,null,null,0,0,0,0,0,0,0,0]
[null,"Not Available",null,9780613443869,null,"Dear Juno",null,null,null,"Classics & Best Sellers",null,null,null,24.25,16.95,0,0,null,{"$f":"S9822","v":0},null,null,null,null,null,0,0,0,0,0,0,0,0]
[null,"Not Available",null,9780606144704,null,"Diary Of A Wombat",null,null,null,"Classics & Best Sellers",null,null,null,27.1,18.95,0,0,null,{"$f":"S9822","v":0},null,null,null,null,null,0,0,0,0,0,0,0,0]
[null,"Not Available",null,9780613577205,null,"Dog's Colorful Day",null,null,null,"Classics & Best Sellers",null,null,null,24.25,16.95,0,0,null,{"$f":"S9822","v":0},null,null,null,null,null,0,0,0,0,0,0,0,0]
[null,"Not Available",null,9781417734023,null,"Ed Emberley's Drawing Book Of Animals",null,null,null,"Classics & Best Sellers",null,null,null,27.1,18.95,0,0,null,{"$f":"S9822","v":0},null,null,null,null,null,0,0,0,0,0,0,0,0]
[null,"Not Available",null,9780613076814,null,"Edward The Emu",null,null,null,"Classics & Best Sellers",null,null,null,27.1,18.95,0,0,null,{"$f":"S9822","v":0},null,null,null,null,null,0,0,0,0,0,0,0,0]
[null,"Not Available",null,9780613685726,null,"Everyone Poops",null,null,null,"Classics & Best Sellers",null,null,null,28.5,19.95,0,0,null,{"$f":"S9822","v":0},null,null,null,null,null,0,0,0,0,0,0,0,0]
[null,"Not Available",null,9780606391009,null,"Flora and Ulysses: The Illuminated Adventures",null,null,null,"Classics & Best Sellers",null,null,null,25.65,17.95,0,0,null,{"$f":"S9822","v":0},null,null,null,null,null,0,0,0,0,0,0,0,0]
[null,"Not Available",null,9780808535812,null,"Freight Train",null,null,null,"Classics & Best Sellers",null,null,null,27.1,18.95,0,0,null,{"$f":"S9822","v":0},null,null,null,null,null,0,0,0,0,0,0,0,0]
[null,"Not Available",null,9780606150040,null,"Go, Dog. Go!",null,null,null,"Classics & Best Sellers",null,null,null,29.95,20.95,0,0,null,{"$f":"S9822","v":0},null,null,null,null,null,0,0,0,0,0,0,0,0]
[null,"Not Available",null,9780613050715,null,"Good Dog, Carl",null,null,null,"Classics & Best Sellers",null,null,null,28.5,19.95,0,0,null,{"$f":"S9822","v":0},null,null,null,null,null,0,0,0,0,0,0,0,0]
[null,"Not Available",null,9780613285001,null,"Good Night, Gorilla",null,null,null,"Classics & Best Sellers",null,null,null,24.25,16.95,0,0,null,{"$f":"S9822","v":0},null,null,null,null,null,0,0,0,0,0,0,0,0]
[null,"Not Available",null,9780808593867,null,"Goodnight Moon",null,null,null,"Classics & Best Sellers",null,null,null,27.1,18.95,0,0,null,{"$f":"S9822","v":0},null,null,null,null,null,0,0,0,0,0,0,0,0]
[null,"Not Available",null,9780606106955,null,"Grandfather's Journey",null,null,null,"Classics & Best Sellers",null,null,null,28.5,19.95,0,0,null,{"$f":"S9822","v":0},null,null,null,null,null,0,0,0,0,0,0,0,0]
[null,"Not Available",null,9780881036954,null,"Harold And The Purple Crayon",null,null,null,"Classics & Best Sellers",null,null,null,27.1,18.95,0,0,null,{"$f":"S9822","v":0},null,null,null,null,null,0,0,0,0,0,0,0,0]
[null,"Not Available",null,9780808524564,null,"Harry The Dirty Dog",null,null,null,"Classics & Best Sellers",null,null,null,27.1,18.95,0,0,null,{"$f":"S9822","v":0},null,null,null,null,null,0,0,0,0,0,0,0,0]
[null,"Not Available",null,9780613606820,null,"Hooway For Wodney Wat",null,null,null,"Classics & Best Sellers",null,null,null,27.1,18.95,0,0,null,{"$f":"S9822","v":0},null,null,null,null,null,0,0,0,0,0,0,0,0]
[null,"Not Available",null,9781417643189,null,"How Are You Peeling? Foods With Moods",null,null,null,"Classics & Best Sellers",null,null,null,27.1,18.95,0,0,null,{"$f":"S9822","v":0},null,null,null,null,null,0,0,0,0,0,0,0,0]
[null,"Not Available",null,9780606334860,null,"I Took The Moon For A Walk",null,null,null,"Classics & Best Sellers",null,null,null,28.5,19.95,0,0,null,{"$f":"S9822","v":0},null,null,null,null,null,0,0,0,0,0,0,0,0]
[null,"Not Available",null,9780785746522,null,"Just Going To The Dentist",null,null,null,"Classics & Best Sellers",null,null,null,21.35,14.95,0,0,null,{"$f":"S9822","v":0},null,null,null,null,null,0,0,0,0,0,0,0,0]
[null,"Not Available",null,9780606066662,null,"Library Lion",null,null,null,"Classics & Best Sellers",null,null,null,27.1,18.95,0,0,null,{"$f":"S9822","v":0},null,null,null,null,null,0,0,0,0,0,0,0,0]
[null,"Not Available",null,9780613003957,null,"Lon Po Po: A Red Riding Hood Story From China",null,null,null,"Classics & Best Sellers",null,null,null,28.5,19.95,0,0,null,{"$f":"S9822","v":0},null,null,null,null,null,0,0,0,0,0,0,0,0]
[null,"Not Available",null,9780881038170,null,"Make Way For Ducklings",null,null,null,"Classics & Best Sellers",null,null,null,28.5,19.95,0,0,null,{"$f":"S9822","v":0},null,null,null,null,null,0,0,0,0,0,0,0,0]
[null,"Not Available",null,9780808536987,null,"Mama Don't Allow",null,null,null,"Classics & Best Sellers",null,null,null,27.1,18.95,0,0,null,{"$f":"S9822","v":0},null,null,null,null,null,0,0,0,0,0,0,0,0]
[null,"Not Available",null,9781417753062,null,"Matilda",null,null,null,"Classics & Best Sellers",null,null,null,28.5,19.95,0,0,null,{"$f":"S9822","v":0},null,null,null,null,null,0,0,0,0,0,0,0,0]
[null,"Not Available",null,9780606366977,null,"Merriam-Webster's Dictionary and Thesaurus",null,null,null,"Classics & Best Sellers",null,null,null,28.5,19.95,0,0,null,{"$f":"S9822","v":0},null,null,null,null,null,0,0,0,0,0,0,0,0]
[null,"Not Available",null,9780606385022,null,"The Merriam-Webster Dictionary",null,null,null,"Classics & Best Sellers",null,null,null,25.65,17.95,0,0,null,{"$f":"S9822","v":0},null,null,null,null,null,0,0,0,0,0,0,0,0]
[null,"Not Available",null,9780613099585,null,"Me On The Map",null,null,null,"Classics & Best Sellers",null,null,null,27.1,18.95,0,0,null,{"$f":"S9822","v":0},null,null,null,null,null,0,0,0,0,0,0,0,0]
[null,"Not Available",null,9780881032314,null,"Mike Mulligan And His Steam Shovel",null,null,null,"Classics & Best Sellers",null,null,null,28.5,19.95,0,0,null,{"$f":"S9822","v":0},null,null,null,null,null,0,0,0,0,0,0,0,0]
[null,"Not Available",null,9781417792696,null,"Millions Of Cats",null,null,null,"Classics & Best Sellers",null,null,null,28.5,19.95,0,0,null,{"$f":"S9822","v":0},null,null,null,null,null,0,0,0,0,0,0,0,0]
[null,"Not Available",null,9780808563754,null,"Miss Nelson Is Missing!",null,null,null,"Classics & Best Sellers",null,null,null,27.1,18.95,0,0,null,{"$f":"S9822","v":0},null,null,null,null,null,0,0,0,0,0,0,0,0]
[null,"Not Available",null,9780808566557,null,"Miss Rumphius",null,null,null,"Classics & Best Sellers",null,null,null,28.5,19.95,0,0,null,{"$f":"S9822","v":0},null,null,null,null,null,0,0,0,0,0,0,0,0]
[null,"Not Available",null,9780833508911,null,"My Father's Dragon",null,null,null,"Classics & Best Sellers",null,null,null,28.5,19.95,0,0,null,{"$f":"S9822","v":0},null,null,null,null,null,0,0,0,0,0,0,0,0]
[null,"Not Available",null,9780606362221,null,"Owl Moon",null,null,null,"Classics & Best Sellers",null,null,null,28.5,19.95,0,0,null,{"$f":"S9822","v":0},null,null,null,null,null,0,0,0,0,0,0,0,0]
[null,"Not Available",null,9780808551515,null,"Paddle-To-The-Sea",null,null,null,"Classics & Best Sellers",null,null,null,35.65,24.95,0,0,null,{"$f":"S9822","v":0},null,null,null,null,null,0,0,0,0,0,0,0,0]
[null,"Not Available",null,9780881033991,null,"Please And Thank You Book",null,null,null,"Classics & Best Sellers",null,null,null,21.35,14.95,0,0,null,{"$f":"S9822","v":0},null,null,null,null,null,0,0,0,0,0,0,0,0]
[null,"Not Available",null,9780606398466,null,"Poe: Stories and Poems: A Graphic Novel Adaptation",null,null,null,"Classics & Best Sellers",null,null,null,35.65,24.95,0,0,null,{"$f":"S9822","v":0},null,null,null,null,null,0,0,0,0,0,0,0,0]
[null,"Not Available",null,9780808563891,null,"Puss In Boots",null,null,null,"Classics & Best Sellers",null,null,null,28.5,19.95,0,0,null,{"$f":"S9822","v":0},null,null,null,null,null,0,0,0,0,0,0,0,0]
[null,"Not Available",null,9781417829569,null,"Rules",null,null,null,"Classics & Best Sellers",null,null,null,27.1,18.95,0,0,null,{"$f":"S9822","v":0},null,null,null,null,null,0,0,0,0,0,0,0,0]
[null,"Not Available",null,9780808523826,null,"Sylvester And The Magic Pebble",null,null,null,"Classics & Best Sellers",null,null,null,28.5,19.95,0,0,null,{"$f":"S9822","v":0},null,null,null,null,null,0,0,0,0,0,0,0,0]
[null,"Not Available",null,9780606106948,null,"Tea With Milk",null,null,null,"Classics & Best Sellers",null,null,null,28.5,19.95,0,0,null,{"$f":"S9822","v":0},null,null,null,null,null,0,0,0,0,0,0,0,0]
[null,"Not Available",null,9780833530608,null,"The Doorbell Rang",null,null,null,"Classics & Best Sellers",null,null,null,27.1,18.95,0,0,null,{"$f":"S9822","v":0},null,null,null,null,null,0,0,0,0,0,0,0,0]
[null,"Not Available",null,9780808590736,null,"The Giant Jam Sandwich",null,null,null,"Classics & Best Sellers",null,null,null,27.1,18.95,0,0,null,{"$f":"S9822","v":0},null,null,null,null,null,0,0,0,0,0,0,0,0]
[null,"Not Available",null,9780606231411,null,"The Gruffalo",null,null,null,"Classics & Best Sellers",null,null,null,27.1,18.95,0,0,null,{"$f":"S9822","v":0},null,null,null,null,null,0,0,0,0,0,0,0,0]
[null,"Not Available",null,9780833549945,null,"The Important Book",null,null,null,"Classics & Best Sellers",null,null,null,27.1,18.95,0,0,null,{"$f":"S9822","v":0},null,null,null,null,null,0,0,0,0,0,0,0,0]
[null,"Not Available",null,9780833598813,null,"The Little Mouse, The Red Ripe Strawberry, And The Big Hungry Bear",null,null,null,"Classics & Best Sellers",null,null,null,28.5,19.95,0,0,null,{"$f":"S9822","v":0},null,null,null,null,null,0,0,0,0,0,0,0,0]
[null,"Not Available",null,9780833517449,null,"The Magic School Bus At The Waterworks",null,null,null,"Classics & Best Sellers",null,null,null,27.1,18.95,0,0,null,{"$f":"S9822","v":0},null,null,null,null,null,0,0,0,0,0,0,0,0]
[null,"Not Available",null,9780808537007,null,"The Mitten",null,null,null,"Classics & Best Sellers",null,null,null,27.1,18.95,0,0,null,{"$f":"S9822","v":0},null,null,null,null,null,0,0,0,0,0,0,0,0]
[null,"Not Available",null,9780606354813,null,"The One And Only Ivan",null,null,null,"Classics & Best Sellers",null,null,null,28.5,19.95,0,0,null,{"$f":"S9822","v":0},null,null,null,null,null,0,0,0,0,0,0,0,0]
[null,"Not Available",null,9780833579102,null,"The Paper Bag Princess",null,null,null,"Classics & Best Sellers",null,null,null,27.1,18.95,0,0,null,{"$f":"S9822","v":0},null,null,null,null,null,0,0,0,0,0,0,0,0]
[null,"Not Available",null,9780881032154,null,"The Runaway Bunny",null,null,null,"Classics & Best Sellers",null,null,null,27.1,18.95,0,0,null,{"$f":"S9822","v":0},null,null,null,null,null,0,0,0,0,0,0,0,0]
[null,"Not Available",null,9780613925013,null,"The Snowy Day",null,null,null,"Classics & Best Sellers",null,null,null,28.5,19.95,0,0,null,{"$f":"S9822","v":0},null,null,null,null,null,0,0,0,0,0,0,0,0]
[null,"Not Available",null,9780613301442,null,"The Story Of Ferdinand",null,null,null,"Classics & Best Sellers",null,null,null,21.35,14.95,0,0,null,{"$f":"S9822","v":0},null,null,null,null,null,0,0,0,0,0,0,0,0]
[null,"Not Available",null,9780785778424,null,"The True Story Of The 3 Little Pigs",null,null,null,"Classics & Best Sellers",null,null,null,28.5,19.95,0,0,null,{"$f":"S9822","v":0},null,null,null,null,null,{"$f":"S9887","v":0},{"$f":"U9887","v":0},{"$f":"W9887*2","v":0},{"$f":"Y9887+Z9887+AA9887","v":0},{"$f":"S9887*O9887","v":0},{"$f":"U9887*P9887","v":0},{"$f":"W9887*Q9887","v":0},{"$f":"IF(AH9887=FALSE,AC9887+AD9887+AE9887,0)","v":0}]
[null,"Not Available",null,9780613121873,null,"Thomas's ABC Book",null,null,null,"Classics & Best Sellers",null,null,null,21.35,14.95,0,0,null,{"$f":"S9822","v":0},null,null,null,null,null,0,0,0,0,0,0,0,0]
[null,"Not Available",null,9780606085472,null,"Those Shoes",null,null,null,"Classics & Best Sellers",null,null,null,27.1,18.95,0,0,null,{"$f":"S9822","v":0},null,null,null,null,null,0,0,0,0,0,0,0,0]
[null,"Not Available",null,9781417784172,null,"Tikki Tikki Tembo",null,null,null,"Classics & Best Sellers",null,null,null,27.1,18.95,0,0,null,{"$f":"S9822","v":0},null,null,null,null,null,0,0,0,0,0,0,0,0]
[null,"Not Available",null,9780613272810,null,"Tomie dePaola's Mother Goose Favorites",null,null,null,"Classics & Best Sellers",null,null,null,21.35,14.95,0,0,null,{"$f":"S9822","v":0},null,null,null,null,null,0,0,0,0,0,0,0,0]
[null,"Not Available",null,9780613036146,null,"Tuesday",null,null,null,"Classics & Best Sellers",null,null,null,28.5,19.95,0,0,null,{"$f":"S9822","v":0},null,null,null,null,null,0,0,0,0,0,0,0,0]
[null,"Not Available",null,9780613616652,null,"We're Going On A Bear Hunt",null,null,null,"Classics & Best Sellers",null,null,null,28.5,19.95,0,0,null,{"$f":"S9822","v":0},null,null,null,null,null,0,0,0,0,0,0,0,0]
[null,"Not Available",null,9780606239950,null,"What Do You Do With A Tail Like This?",null,null,null,"Classics & Best Sellers",null,null,null,28.5,19.95,0,0,null,{"$f":"S9822","v":0},null,null,null,null,null,0,0,0,0,0,0,0,0]
[null,"Not Available",null,9780606315043,null,"What If You Had Animal Teeth?",null,null,null,"Classics & Best Sellers",null,null,null,21.35,14.95,0,0,null,{"$f":"S9822","v":0},null,null,null,null,null,0,0,0,0,0,0,0,0]
[null,"Not Available",null,9780881034059,null,"Where The Wild Things Are",null,null,null,"Classics & Best Sellers",null,null,null,29.95,20.95,0,0,null,{"$f":"S9822","v":0},null,null,null,null,null,0,0,0,0,0,0,0,0]
[null,"Not Available",null,9780808525554,null,"Whistle For Willie",null,null,null,"Classics & Best Sellers",null,null,null,27.1,18.95,0,0,null,{"$f":"S9822","v":0},null,null,null,null,null,0,0,0,0,0,0,0,0]
[null,"Not Available",null,9780881038385,null,"Winnie The Pooh",null,null,null,"Classics & Best Sellers",null,null,null,27.1,18.95,0,0,null,{"$f":"S9822","v":0},null,null,null,null,null,0,0,0,0,0,0,0,0]
[]
[null,null,null,null,null,"Complete Series of 5",null,null,null,"Big Nate (Spanish)",null,null,null,{"$f":"SUM(N9901:N9905)","v":214},{"$f":"SUM(O9901:O9905)","v":149.75},{"$f":"SUM(P9901:P9905)","v":0},{"$f":"SUM(Q9901:Q9905)","v":0}]
[null,"Not Available",null,9780606392006,null,"Nate El Grande Al Reves (Big Nate Flips Out)",null,null,null,"Big Nate (Spanish)",null,null,null,42.8,29.95,0,0,null,{"$f":"S9900","v":0},null,null,null,null,null,{"$f":"S9901","v":0},{"$f":"U9901","v":0},{"$f":"W9901*2","v":0},{"$f":"Y9901+Z9901+AA9901","v":0},{"$f":"S9901*O9901","v":0},{"$f":"U9901*P9901","v":0},{"$f":"W9901*Q9901","v":0},{"$f":"IF(AH9901=FALSE,AC9901+AD9901+AE9901,0)","v":0}]
[null,"Not Available",null,9780606356510,null,"Nate El Grande Ataca De Nuevo (Big Nate Strikes Again)",null,null,null,"Big Nate (Spanish)",null,null,null,42.8,29.95,0,0,null,{"$f":"S9900","v":0},null,null,null,null,null,{"$f":"S9902","v":0},{"$f":"U9902","v":0},{"$f":"W9902*2","v":0},{"$f":"Y9902+Z9902+AA9902","v":0},{"$f":"S9902*O9902","v":0},{"$f":"U9902*P9902","v":0},{"$f":"W9902*Q9902","v":0},{"$f":"IF(AH9902=FALSE,AC9902+AD9902+AE9902,0)","v":0}]
[null,"Not Available",null,9780606356534,null,"Nate El Grande Invencible (Big Nate Goes For Broke)",null,null,null,"Big Nate (Spanish)",null,null,null,42.8,29.95,0,0,null,{"$f":"S9900","v":0},null,null,null,null,null,{"$f":"S9903","v":0},{"$f":"U9903","v":0},{"$f":"W9903*2","v":0},{"$f":"Y9903+Z9903+AA9903","v":0},{"$f":"S9903*O9903","v":0},{"$f":"U9903*P9903","v":0},{"$f":"W9903*Q9903","v":0},{"$f":"IF(AH9903=FALSE,AC9903+AD9903+AE9903,0)","v":0}]
[null,"Not Available",null,9780606356527,null,"Nate El Grande Sobre Ruedas (Big Nate On A Roll)",null,null,null,"Big Nate (Spanish)",null,null,null,42.8,29.95,0,0,null,{"$f":"S9900","v":0},null,null,null,null,null,{"$f":"S9904","v":0},{"$f":"U9904","v":0},{"$f":"W9904*2","v":0},{"$f":"Y9904+Z9904+AA9904","v":0},{"$f":"S9904*O9904","v":0},{"$f":"U9904*P9904","v":0},{"$f":"W9904*Q9904","v":0},{"$f":"IF(AH9904=FALSE,AC9904+AD9904+AE9904,0)","v":0}]
[null,"Not Available",null,9780606356503,null,"Nate El Grande: Unico En Su Clase (Big Nate: In A Class By Himself)",null,null,null,"Big Nate (Spanish)",null,null,null,42.8,29.95,0,0,null,{"$f":"S9900","v":0},null,null,null,null,null,{"$f":"S9905","v":0},{"$f":"U9905","v":0},{"$f":"W9905*2","v":0},{"$f":"Y9905+Z9905+AA9905","v":0},{"$f":"S9905*O9905","v":0},{"$f":"U9905*P9905","v":0},{"$f":"W9905*Q9905","v":0},{"$f":"IF(AH9905=FALSE,AC9905+AD9905+AE9905,0)","v":0}]
[]
[null,null,null,null,null,"Complete Series of 7",null,null,null,"Captain Underpants Spanish",null,null,null,{"$f":"SUM(N9908:N9914)","v":159.60000000000002},{"$f":"SUM(O9908:O9914)","v":111.65},{"$f":"SUM(P9908:P9914)","v":0},{"$f":"SUM(Q9908:Q9914)","v":0}]
[null,"Not Available",null,9780606390309,null,"El Capitan Calzoncillos Y El Diabolico Desquite Del Inodoro-Turbotron 2000 (Captain Underpants And The Tyrannical Retaliation Of The Turbo Toilet 2000)",null,null,null,"Captain Underpants Spanish",null,null,null,22.8,15.95,0,0,null,{"$f":"S9907","v":0},null,null,null,null,null,{"$f":"S9908","v":0},{"$f":"U9908","v":0},{"$f":"W9908*2","v":0},{"$f":"Y9908+Z9908+AA9908","v":0},{"$f":"S9908*O9908","v":0},{"$f":"U9908*P9908","v":0},{"$f":"W9908*Q9908","v":0},{"$f":"IF(AH9908=FALSE,AC9908+AD9908+AE9908,0)","v":0}]
[null,"Not Available",null,9780606390385,null,"El Capitan Calzoncillos Y La Asquerosa Venganza De Los Robocalzones Radioactivos (Captain Underpants And The Revolting Revenge Of The Radioactive Robo-Boxers)",null,null,null,"Captain Underpants Spanish",null,null,null,22.8,15.95,0,0,null,{"$f":"S9907","v":0},null,null,null,null,null,0,0,0,0,0,0,0,0]
[null,"Not Available",null,9781417699896,null,"El Capitan Calzoncillos Y La Furia De La Supermuher Macroelastica (Captain Underpants And The Wrath Of The Wicked Wedgie Woman)",null,null,null,"Captain Underpants Spanish",null,null,null,22.8,15.95,0,0,null,{"$f":"S9907","v":0},null,null,null,null,null,0,0,0,0,0,0,0,0]
[null,"Not Available",null,9780613504157,null,"El Capitan Calzoncillos Y La Invasion De Las Horribles Camareras (Captain Underpants And The Invasion Of The Incredibly Naughty Cafeteria Ladies)",null,null,null,"Captain Underpants Spanish",null,null,null,22.8,15.95,0,0,null,{"$f":"S9907","v":0},null,null,null,null,null,0,0,0,0,0,0,0,0]
[null,"Not Available",null,9781417747276,null,"El Capitan Calzoncillos Y La Ridicula Historia De Los Inodoros Morados Vivientes (Captain Underpants And The Preposterous Plight Of The Purple Potty People)",null,null,null,"Captain Underpants Spanish",null,null,null,22.8,15.95,0,0,null,{"$f":"S9907","v":0},null,null,null,null,null,0,0,0,0,0,0,0,0]
[null,"Not Available",null,9780606388245,null,"El Capitan Calzoncillos Y La Sensacional Saga Del Senor Sohediondo (Captain Underpants And The Sensational Saga Of Sir Stinks-A-Lot)",null,null,null,"Captain Underpants Spanish",null,null,null,22.8,15.95,0,0,null,{"$f":"S9907","v":0},null,null,null,null,null,0,0,0,0,0,0,0,0]
[null,"Not Available",null,9780613544085,null,"Las Aventuras Del Capitan Calzoncillos (The Adventures Of Captain Underpants)",null,null,null,"Captain Underpants Spanish",null,null,null,22.8,15.95,0,0,null,{"$f":"S9907","v":0},null,null,null,null,null,0,0,0,0,0,0,0,0]
[]
[null,null,null,null,null,"Complete Series of 11",null,null,null,"Diary Of A Wimpy Kid (Spanish)",null,null,null,{"$f":"SUM(N9917:N9927)","v":423.5},{"$f":"SUM(O9917:O9927)","v":296.44999999999993},{"$f":"SUM(P9917:P9927)","v":0},{"$f":"SUM(Q9917:Q9927)","v":0}]
[null,"Not Available",null,9780606400053,null,"A Toda Marcha! (Double Down)",null,null,null,"Diary of a Wimpy Kids (Spanish)",null,null,null,38.5,26.95,0,0,null,{"$f":"S9916","v":0},null,null,null,null,null,{"$f":"S9917","v":0},{"$f":"U9917","v":0},{"$f":"W9917*2","v":0},{"$f":"Y9917+Z9917+AA9917","v":0},{"$f":"S9917*O9917","v":0},{"$f":"U9917*P9917","v":0},{"$f":"W9917*Q9917","v":0},{"$f":"IF(AH9917=FALSE,AC9917+AD9917+AE9917,0)","v":0}]
[null,"Not Available",null,9780606356435,null,"Diaro De Greg, Un Renacuajo (Diary Of A Wimpy Kid)",null,null,null,"Diary of a Wimpy Kids (Spanish)",null,null,null,38.5,26.95,0,0,null,{"$f":"S9916","v":0},null,null,null,null,null,0,0,0,0,0,0,0,0]
[null,"Not Available",null,9780606356466,null,"Dias De Perros (Dog Days)",null,null,null,"Diary of a Wimpy Kids (Spanish)",null,null,null,38.5,26.95,0,0,null,{"$f":"S9916","v":0},null,null,null,null,null,0,0,0,0,0,0,0,0]
[null,"Not Available",null,9780606379021,null,"El Arduo Viaje (The Long Haul)",null,null,null,"Diary of a Wimpy Kids (Spanish)",null,null,null,38.5,26.95,0,0,null,{"$f":"S9916","v":0},null,null,null,null,null,0,0,0,0,0,0,0,0]
[null,"Not Available",null,9780606356459,null,"Esto Es El Colmo (The Last Straw)",null,null,null,"Diary of a Wimpy Kids (Spanish)",null,null,null,38.5,26.95,0,0,null,{"$f":"S9916","v":0},null,null,null,null,null,0,0,0,0,0,0,0,0]
[null,"Not Available",null,9780606356473,null,"La Horrible Realidad (The Ugly Truth)",null,null,null,"Diary of a Wimpy Kids (Spanish)",null,null,null,38.5,26.95,0,0,null,{"$f":"S9916","v":0},null,null,null,null,null,0,0,0,0,0,0,0,0]
[null,"Not Available",null,9780606356442,null,"La Ley De Rodrick (Rodrick Rules)",null,null,null,"Diary of a Wimpy Kids (Spanish)",null,null,null,38.5,26.95,0,0,null,{"$f":"S9916","v":0},null,null,null,null,null,0,0,0,0,0,0,0,0]
[null,"Not Available",null,9780606369152,null,"Mala Suerte (Hard Luck)",null,null,null,"Diary of a Wimpy Kids (Spanish)",null,null,null,38.5,26.95,0,0,null,{"$f":"S9916","v":0},null,null,null,null,null,0,0,0,0,0,0,0,0]
[null,"Not Available",null,9780606356480,null,"Sin Salida! (Cabin Fever)",null,null,null,"Diary of a Wimpy Kids (Spanish)",null,null,null,38.5,26.95,0,0,null,{"$f":"S9916","v":0},null,null,null,null,null,0,0,0,0,0,0,0,0]
[null,"Not Available",null,9780606356497,null,"Tres No Es Compania (The Third Wheel)",null,null,null,"Diary of a Wimpy Kids (Spanish)",null,null,null,38.5,26.95,0,0,null,{"$f":"S9916","v":0},null,null,null,null,null,0,0,0,0,0,0,0,0]
[null,"Not Available",null,9780606379076,null,"Vieja Escuela (Old School)",null,null,null,"Diary of a Wimpy Kids (Spanish)",null,null,null,38.5,26.95,0,0,null,{"$f":"S9916","v":0},null,null,null,null,null,0,0,0,0,0,0,0,0]
[]
[null,null,null,null,null,"Complete Series of 4",null,null,null,"Peppa Pig 8X8 (Spanish)",null,null,null,{"$f":"SUM(N9930:N9933)","v":85.4},{"$f":"SUM(O9930:O9933)","v":59.8},{"$f":"SUM(P9930:P9933)","v":0},{"$f":"SUM(Q9930:Q9933)","v":0}]
[null,"Not Available",null,9780606411806,null,"George Se Resfria (George Gets A Cold)",null,null,null,"Peppa Pig 8X8 (Spanish)",null,null,null,21.35,14.95,0,0,null,{"$f":"S9929","v":0},null,null,null,null,null,{"$f":"S9930","v":0},{"$f":"U9930","v":0},{"$f":"W9930*2","v":0},{"$f":"Y9930+Z9930+AA9930","v":0},{"$f":"S9930*O9930","v":0},{"$f":"U9930*P9930","v":0},{"$f":"W9930*Q9930","v":0},{"$f":"IF(AH9930=FALSE,AC9930+AD9930+AE9930,0)","v":0}]
[null,"Not Available",null,9780606396981,null,"Peppa Juega Futbol (Peppa Plays Soccer)",null,null,null,"Peppa Pig 8X8 (Spanish)",null,null,null,21.35,14.95,0,0,null,{"$f":"S9929","v":0},null,null,null,null,null,{"$f":"S9931","v":0},{"$f":"U9931","v":0},{"$f":"W9931*2","v":0},{"$f":"Y9931+Z9931+AA9931","v":0},{"$f":"S9931*O9931","v":0},{"$f":"U9931*P9931","v":0},{"$f":"W9931*Q9931","v":0},{"$f":"IF(AH9931=FALSE,AC9931+AD9931+AE9931,0)","v":0}]
[null,"Not Available",null,9780606381031,null,"Peppa Se Va A Dormir (Bedtime For Peppa)",null,null,null,"Peppa Pig 8X8 (Spanish)",null,null,null,21.35,14.95,0,0,null,{"$f":"S9929","v":0},null,null,null,null,null,{"$f":"S9932","v":0},{"$f":"U9932","v":0},{"$f":"W9932*2","v":0},{"$f":"Y9932+Z9932+AA9932","v":0},{"$f":"S9932*O9932","v":0},{"$f":"U9932*P9932","v":0},{"$f":"W9932*Q9932","v":0},{"$f":"IF(AH9932=FALSE,AC9932+AD9932+AE9932,0)","v":0}]
[null,"Not Available",null,9780606401722,null,"Peppa Va A Nadar (Peppa Goes Swimming)",null,null,null,"Peppa Pig 8X8 (Spanish)",null,null,null,21.35,14.95,0,0,null,{"$f":"S9929","v":0},null,null,null,null,null,{"$f":"S9933","v":0},{"$f":"U9933","v":0},{"$f":"W9933*2","v":0},{"$f":"Y9933+Z9933+AA9933","v":0},{"$f":"S9933*O9933","v":0},{"$f":"U9933*P9933","v":0},{"$f":"W9933*Q9933","v":0},{"$f":"IF(AH9933=FALSE,AC9933+AD9933+AE9933,0)","v":0}]
[]
[null,null,null,null,null,null,null,null,null,null,null,null,null,null,null,null,null,null,null,null,null,null,null,null,{"$f":"SUM(Y21:Y9933)+AA9936","v":0},{"$f":"SUM(Z21:Z9933)+AA9936","v":0},{"$f":"SUM(AA21:AA9933)","v":0},{"$f":"SUM(AB21:AB9933)","v":0},{"$f":"SUM(AC21:AC9933)","v":0},{"$f":"SUM(AD21:AD9933)","v":0},{"$f":"SUM(AE21:AE9933)","v":0}]

{"sheet":"HIDDEN","index":6,"n_rows":32,"n_cols":3,"rows_kept":32,"cut":false,"hidden":true,"merged":[]}
["PACKAGE 1","PROMOTIONS","PAYMENTS"]
[]
[null,null,"VISA"]
["$50 Amazon Gift Card","Buy 1 Print Book, Get 1 Print Book FREE","Mastercard"]
["$75 Amazon Gift Card","Buy 1 eBook, Get 1 eBook FREE","American Express"]
["$100 Amazon Gift Card","$50 Amazon Gift Card","Check"]
[null,"$75 Amazon Gift Card"]
[null,"$100 Amazon Gift Card"]
[]
[]
["YES/NO OPTION","SUBJECTS","PROCESSING OPTIONS"]
[]
["Yes"]
["No","Animals & Nature","MARC Records"]
[null,"Arts, Crafts, & Activities","Bar Codes"]
[null,"Biographies","Bar Codes (Additional Set)"]
[null,"Careers","Spine Labels"]
[null,"Culture & Religion","Spine Labels (Additional Set)"]
[null,"Current Issues","QR Labels (for eBooks)"]
[null,"Fiction","Book Pockets"]
[null,"Health","Shelf List Cards"]
[null,"High Interest","Date Due Cards"]
[null,"History","Date Due Slips"]
[null,"Language Arts","Property Label"]
[null,"Legends, Myths, & Paranormal","AR Spine Label"]
[null,"Math and Finance","AR Info Label"]
[null,"Science & Technology","AR Indicator Label"]
[null,"Social Studies","Lexile Label"]
[null,"Sports & Recreation","Catalog Card Kits"]
[null,null,"Theft 3M Tattle Tape"]
[null,null,"Theft Checkpoint"]
[null,null,"Theft RFID"]