{"text_format":"1","workbook":"xlsx","n_sheets":5,"sheets":["Title List","Summary","Processing Spec Form","eBook Access Form","HIDDEN"],"not_rendered":{"charts":0,"images":19,"macros":1,"external_links":0,"defined_names":13,"comments":0,"pivot_tables":0},"unopened":[],"bounds":{"document_bytes":16777216,"sheet_cells":100000,"rows_first":2000,"rows_last":500,"rows_between":2000,"halvings":0,"cell_chars":16384,"cell_head_chars":4096},"cells_cut":0,"cells_raw":0,"read":"whole","date_system":"1900"}

{"sheet":"Title List","index":0,"n_rows":19382,"n_cols":75,"rows_kept":2250,"cut":true,"hidden":false,"merged":[[7,30,7,54],[1,26,2,26],[1,22,2,22],[1,24,2,24],[1,20,2,20],[6,20,7,26]],"bounds":{"rows_first":1000,"rows_last":250,"rows_between":1000,"halvings":1}}
[]
[null,null,null,null,null,null,null,null,null,null,null,null,null,null,null,null,null,null,null,null,"Total           eBooks",null,"Total              Print Books",null,"Total Bundle Sets",null,"Grand                    Total",null,null,null,null,null,null,"Total EB Qty",{"$f":"AG9394+AI5","v":0},null,"Total EB $",{"$f":"AK9394+AL5","v":0}]
[null,null,null,null,null,null,null,null,null,null,null,null,null,null,null,null,null,null,null,null,null,null,null,null,null,null,null,null,null,null,null,null,null,"Total HC Qty",{"$f":"AH9394+AI5","v":0},null,"Total HC $",{"$f":"AL9394+AL5","v":0}]
[null,null,null,null,null,null,null,null,null,null,null,null,null,null,null,null,null,null,null,null,{"$f":"AI2","v":0},null,{"$f":"AI3","v":0},null,{"$f":"AI4","v":0},null,{"$f":"AI6","v":0},null,null,null,null,null,null,"Total Bundles Qty",{"$f":"AI9394","v":0},null,"Total Bundles $",{"$f":"AM9394","v":0}]
[null,null,null,null,null,null,null,null,null,null,null,null,null,null,null,null,null,null,null,null,{"$f":"AL2","v":0},null,{"$f":"AL3","v":0},null,{"$f":"AL4","v":0},null,{"$f":"AL8","v":0},null,null,null,null,null,null,"Half Bundles Qty",{"$f":"AI4/2","v":0},null,"Half Bundles $",{"$f":"AL4/2","v":0}]
[null,null,null,null,null,null,null,null,null,null,null,null,null,null,null,null,null,null,null,null,null,null,null,null,null,null,null,null,null,null,null,null,null,"Total Book Qty",{"$f":"AI2+AI3","v":0},null,"Subtotal",{"$f":"AN9394","v":0}]
[null,null,null,null,null,null,null,null,null,null,null,null,null,null,null,null,null,null,null,null,"Click on \"Finalize Order\" to enter ship/bill to information and any other special instructions.  Thank you!!",null,null,null,null,null,null,null,null,null,null,null,null,"Subtotal Qty w/o bundles",{"$f":"AI6-AI4","v":0},null,"Subtotal w/o bundles",{"$f":"AL6-AL4","v":0}]
[null,null,null,null,null,null,null,null,null,null,null,null,null,null,null,null,null,null,null,null,null,null,null,null,null,null,null,null,null,null,"mikewhite@booklookindiana.com"]
[]
["Multi User eBook Qty",null,"Print               Qty",null,"Bundle Qty",null,"eBook                    ISBN",null,"Print                       ISBN",null,"Title",null,null,null,"Series",null,null,null,"Publisher",null,"Multi User eBook Price",null,"School / Library Print Price",null,"Bundle Price",null,"Total",null,"Mark X                                    for FREE",null,"Custom Field",null,"HIDDEN        EB Qty","HIDDEN        HC Qty","HIDDEN Bundle Qty","HIDDEN TOTAL QTY","HIDDEN EB TOTAL","HIDDEN HC TOTAL","HIDDEN Bundle Qty","HIDDEN TOTAL","Season Released",null,"Copyright Year",null,"Dewey Number",null,"Premium ",null,"Complete Fall '21",null,"Animals",null,"STEM ",null,"Publishers' Catalog Page Number",null,"Imprint",null,"AR Level",null,"Subject",null,"Language",null,"Binding",null,"Page Count",null,"Guided Reading Level",null,"Lexile Level",null," Reading Level           (by Grade)",null,"Author"]
[]
[null,null,null,null,null,null,null,null,null,null,"Complete Series of 16",null,null,null,"Amicus Ink Picture Books",null,null,null,null,null,{"$f":"SUM(U13:U28)","v":387.59999999999997},null,{"$f":"SUM(W13:W28)","v":288.84000000000003},null,{"$f":"SUM(Y13:Y28)","v":345.85000000000008}]
[{"$f":"A12","v":0},null,{"$f":"C12","v":0},null,{"$f":"E12","v":0},null,9781681525143,null,9781681524085,null,"Crane & Crane",null,null,null,"Amicus Ink Picture Books",null,null,null,"Amicus",null,25.75,null,17.989999999999998,null,{"$f":"W13+5","v":22.99},null,{"$f":"IF(AC13=FALSE,AK13+AL13+AM13,0)","v":0},null,null,null,null,null,{"$f":"A13","v":0},{"$f":"C13","v":0},{"$f":"E13","v":0},{"$f":"SUM(AG13:AI13)","v":0},{"$f":"U13*A13","v":0},{"$f":"W13*C13","v":0},{"$f":"Y13*E13","v":0},{"$f":"SUM(AK13:AM13)","v":0},"Spring 2019",null,2019,null,"E",null,null,null,null,null,null,null,null,null,"11",null,"Amicus Ink",null,null,null,"Fiction",null,"English",null,"Hardcover with Jacket",null,32,null,null,null,null,null,"PreK – 2",null,"Linda Joy Singleton"]
[null,null,{"$f":"C12","v":0},null,null,null,"Not Available",null,9781681521930,null,"Daddy Cuddle",null,null,null,"Amicus Ink Picture Books",null,null,null,"Amicus",null,0,null,17.989999999999998,null,0,null,{"$f":"IF(AC14=FALSE,AK14+AL14+AM14,0)","v":0},null,null,null,null,null,{"$f":"A14","v":0},{"$f":"C14","v":0},{"$f":"E14","v":0},{"$f":"SUM(AG14:AI14)","v":0},{"$f":"U14*A14","v":0},{"$f":"W14*C14","v":0},{"$f":"Y14*E14","v":0},{"$f":"SUM(AK14:AM14)","v":0},"Spring 2017",null,2017,null,"E",null,null,null,null,null,null,null,null,null,"12",null,"Amicus Ink",null,null,null,"Fiction",null,"English",null,"Hardcover with Jacket",null,32,null,null,null,null,null,"PreK – 2",null,"Kate Mayes"]
[{"$f":"A12","v":0},null,{"$f":"C12","v":0},null,{"$f":"E12","v":0},null,9781681525051,null,9781681525020,null,"Extraordinary Ordinary Ella",null,null,null,"Amicus Ink Picture Books",null,null,null,"Amicus",null,25.75,null,17.989999999999998,null,{"$f":"W15+5","v":22.99},null,0,null,null,null,null,null,0,0,0,0,0,0,0,0,"Spring 2020",null,2020,null,"E",null,null,null,null,null,null,null,null,null,"11",null,"Amicus Ink",null,"Not Quizzable",null,"Fiction",null,"English",null,"Hardcover with Jacket",null,32,null,null,null,null,null,"PreK – 2",null,"Amber Hendricks"]
[{"$f":"A12","v":0},null,{"$f":"C12","v":0},null,{"$f":"E12","v":0},null,9781681525112,null,9781681522395,null,"Grow",null,null,null,"Amicus Ink Picture Books",null,null,null,"Amicus",null,25.75,null,17.989999999999998,null,22.99,null,0,null,null,null,null,null,0,0,0,0,0,0,0,0,"Spring 2018",null,2018,null,"E",null,null,null,null,null,null,null,null,null,"12",null,"Amicus Ink",null,null,null,"Fiction",null,"English",null,"Hardcover with Jacket",null,32,null,null,null,null,null,"PreK – 2",null,"Cynthia Platt"]
[{"$f":"A12","v":0},null,{"$f":"C12","v":0},null,{"$f":"E12","v":0},null,9781681525068,null,9781681524047,null,"I’ve Got Eyes!: Exceptional Eyes of the Animal World",null,null,null,"Amicus Ink Picture Books",null,null,null,"Amicus",null,25.75,null,17.989999999999998,null,22.99,null,0,null,null,null,null,null,0,0,0,0,0,0,0,0,"Fall 2018",null,2018,null,"591.4/4",null,null,null,null,null,null,null,null,null,"11",null,"Amicus Ink",null,null,null,"Fiction",null,"English",null,"Hardcover with Jacket",null,32,null,null,null,null,null,"PreK – 2",null,"Julie Murphy"]
[{"$f":"A12","v":0},null,{"$f":"C12","v":0},null,{"$f":"E12","v":0},null,9781681525044,null,9781681525013,null,"I've Got a Tail!: Terrific Tails of the Animal World",null,null,null,"Amicus Ink Picture Books",null,null,null,"Amicus",null,25.75,null,17.989999999999998,null,22.99,null,0,null,null,null,null,null,0,0,0,0,0,0,0,0,"Spring 2020",null,2020,null,591.47,null,null,null,null,null,null,null,null,null,"11",null,"Amicus Ink",null,"Not Quizzable",null,"Fiction",null,"English",null,"Hardcover with Jacket",null,32,null,null,null,null,null,"PreK – 2",null,"Julie Murphy"]
[{"$f":"A12","v":0},null,{"$f":"C12","v":0},null,{"$f":"E12","v":0},null,9781681525136,null,9781681521954,null,"I've Got Feet: Fantastical Feet of the Animal World",null,null,null,"Amicus Ink Picture Books",null,null,null,"Amicus",null,25.75,null,17.989999999999998,null,22.99,null,0,null,null,null,null,null,0,0,0,0,0,0,0,0,"Spring 2017",null,2017,null,"591.47/9",null,null,null,null,null,null,null,null,null,"11",null,"Amicus Ink",null,2.7,null,"Fiction",null,"English",null,"Hardcover with Jacket",null,32,null,null,null,null,null,"PreK – 2",null,"Julie Murphy"]
[{"$f":"A12","v":0},null,{"$f":"C12","v":0},null,{"$f":"E12","v":0},null,9781681525105,null,9781681522029,null,"Just My Style",null,null,null,"Amicus Ink Picture Books",null,null,null,"Amicus",null,25.75,null,17.989999999999998,null,22.99,null,0,null,null,null,null,null,0,0,0,0,0,0,0,0,"Spring 2018",null,2018,null,"E",null,null,null,null,null,null,null,null,null,"12",null,"Amicus Ink",null,null,null,"Fiction",null,"English",null,"Hardcover with Jacket",null,32,null,null,null,null,null,"PreK – 2",null,"Diane Z. Shore & Jessica Alexander"]
[{"$f":"A12","v":0},null,{"$f":"C12","v":0},null,{"$f":"E12","v":0},null,9781681526553,null,9781681526546,null,"Little Round Panda on the Big Blue Earth, A",null,null,null,"Amicus Ink Picture Books",null,null,null,"Amicus",null,27.2,null,18.989999999999998,null,23.99,null,0,null,null,null,null,null,0,0,0,0,0,0,0,0,"Fall 2021",null,2021,null,599.78899999999999,null,null,null,null,null,null,null,null,null,"9",null,"Amicus Ink",null,null,null,"Fiction",null,"English",null,"Hardcover with Jacket",null,32,null,null,null,null,null,"PreK – 2",null,"Tory Christie"]
[{"$f":"A12","v":0},null,{"$f":"C12","v":0},null,{"$f":"E12","v":0},null,9781681525181,null,9781681522371,null,"Mighty Steam Engine, The",null,null,null,"Amicus Ink Picture Books",null,null,null,"Amicus",null,25.75,null,17.989999999999998,null,22.99,null,0,null,null,null,null,null,0,0,0,0,0,0,0,0,"Fall 2019",null,2019,null,"E",null,null,null,null,null,null,null,null,null,"11",null,"Amicus Ink",null,4.9000000000000004,null,"Fiction",null,"English",null,"Hardcover with Jacket",null,32,null,null,null,null,null,"PreK – 2",null,"Yvonne Ng"]
[{"$f":"A12","v":0},null,{"$f":"C12","v":0},null,{"$f":"E12","v":0},null,9781681525730,null,9781681525723,null,"My Room Is a Zoo!",null,null,null,"Amicus Ink Picture Books",null,null,null,"Amicus",null,27.2,null,18.989999999999998,null,23.99,null,0,null,null,null,null,null,0,0,0,0,0,0,0,0,"Fall 2021",null,2021,null,"E",null,null,null,null,null,null,null,null,null,"6",null,"Amicus Ink",null,null,null,"Fiction",null,"English",null,"Hardcover with Jacket",null,32,null,null,null,null,null,"PreK – 2",null,"Jerry Ruff"]
[{"$f":"A12","v":0},null,{"$f":"C12","v":0},null,{"$f":"E12","v":0},null,9781681525198,null,9781681524153,null,"No Hugs!",null,null,null,"Amicus Ink Picture Books",null,null,null,"Amicus",null,24.3,null,16.989999999999998,null,21.99,null,0,null,null,null,null,null,0,0,0,0,0,0,0,0,"Fall 2019",null,2019,null,"E",null,null,null,null,null,null,null,null,null,"12",null,"Amicus Ink",null,null,null,"Fiction",null,"English",null,"Hardcover with Jacket",null,24,null,null,null,null,null,"PreK – 2",null,"Deirdre A. Prischmann"]
[{"$f":"A12","v":0},null,{"$f":"C12","v":0},null,{"$f":"E12","v":0},null,9781681526560,null,9781681522388,null,"They're Tearing Up Mulberry Street",null,null,null,"Amicus Ink Picture Books",null,null,null,"Amicus",null,25.7,null,17.989999999999998,null,22.99,null,0,null,null,null,null,null,0,0,0,0,0,0,0,0,"Fall 2021",null,2021,null,"625.8/5",null,null,null,null,null,null,null,"Q",null,"5",null,"Amicus Ink",null,null,null,"Fiction",null,"English",null,"Hardcover with Jacket",null,24,null,null,null,null,null,"PreK – 2",null,"Yvonne Ng"]
[{"$f":"A12","v":0},null,{"$f":"C12","v":0},null,{"$f":"E12","v":0},null,9781681525204,null,9781681524986,null,"Tiny Brown Monkey on the Big Blue Earth, A",null,null,null,"Amicus Ink Picture Books",null,null,null,"Amicus",null,25.75,null,17.989999999999998,null,22.99,null,0,null,null,null,null,null,0,0,0,0,0,0,0,0,"Fall 2019",null,2019,null,"E",null,null,null,null,null,null,null,null,null,"9",null,"Amicus Ink",null,2.8,null,"Fiction",null,"English",null,"Hardcover with Jacket",null,32,null,null,null,null,null,"PreK – 2",null,"Tory Christie"]
[{"$f":"A12","v":0},null,{"$f":"C12","v":0},null,{"$f":"E12","v":0},null,9781681525075,null,9781681524054,null,"Twinkle, Twinkle, Little Lamb",null,null,null,"Amicus Ink Picture Books",null,null,null,"Amicus",null,25.75,null,17.989999999999998,null,22.99,null,0,null,null,null,null,null,0,0,0,0,0,0,0,0,"Fall 2018",null,2018,null,"E",null,null,null,null,null,null,null,null,null,"12",null,"Amicus Ink",null,null,null,"Fiction",null,"English",null,"Hardcover with Jacket",null,32,null,null,null,null,null,"PreK – 2",null,"Bridget Heos"]
[{"$f":"A12","v":0},null,{"$f":"C12","v":0},null,{"$f":"E12","v":0},null,9781681526584,null,9781681526577,null,"Who Knew? Under the Apple Tree",null,null,null,"Amicus Ink Picture Books",null,null,null,"Amicus",null,25.7,null,17.989999999999998,null,22.99,null,0,null,null,null,null,null,0,0,0,0,0,0,0,0,"Fall 2021",null,2021,null,"513.2/1",null,null,null,null,null,null,null,null,null,"10",null,"Amicus Ink",null,null,null,"Fiction",null,"English",null,"Hardcover with Jacket",null,24,null,null,null,null,null,"PreK – 2",null,"Laurie Lazzaro Knowlton"]
[]
[null,null,null,null,null,null,null,null,null,null,"Complete Series of 6",null,null,null,"Animales del océano (Spot Ocean Animals)",null,null,null,null,null,{"$f":"SUM(U31:U36)","v":244.8},null,{"$f":"SUM(W31:W36)","v":119.7},null,{"$f":"SUM(Y31:Y36)","v":149.69999999999999}]
[{"$f":"A30","v":0},null,{"$f":"C30","v":0},null,{"$f":"E30","v":0},null,9781645492399,null,9781645492337,null,"Las anguilas (Eels)",null,null,null,"Animales del océano (Spot Ocean Animals)",null,null,null,"Amicus",null,40.799999999999997,null,19.95,null,{"$f":"W31+5","v":24.95},null,{"$f":"IF(AC31=FALSE,AK31+AL31+AM31,0)","v":0},null,null,null,null,null,0,0,0,0,0,0,0,0,"Spring 2021",null,2021,null,"597/.43",null,null,null,null,null,null,null,null,null,"49",null,"Spot",null,1,null,"Life Science",null,"Spanish",null,"Reinforced Library",null,16,null,"C",null,null,null,"K & Up",null,"Mari Schuh"]
[{"$f":"A30","v":0},null,{"$f":"C30","v":0},null,{"$f":"E30","v":0},null,9781645492405,null,9781645492344,null,"Las langostas (Lobsters)",null,null,null,"Animales del océano (Spot Ocean Animals)",null,null,null,"Amicus",null,40.799999999999997,null,19.95,null,24.95,null,0,null,null,null,null,null,0,0,0,0,0,0,0,0,"Spring 2021",null,2021,null,"595.3/84",null,null,null,null,null,null,null,null,null,"49",null,"Spot",null,1.4,null,"Life Science",null,"Spanish",null,"Reinforced Library",null,16,null,"C",null,null,null,"K & Up",null,"Mari Schuh"]
[{"$f":"A30","v":0},null,{"$f":"C30","v":0},null,{"$f":"E30","v":0},null,9781645492436,null,9781645492375,null,"Los calamares (Squids)",null,null,null,"Animales del océano (Spot Ocean Animals)",null,null,null,"Amicus",null,40.799999999999997,null,19.95,null,24.95,null,0,null,null,null,null,null,0,0,0,0,0,0,0,0,"Spring 2021",null,2021,null,"594/.58",null,null,null,null,null,null,null,null,null,"49",null,"Spot",null,1,null,"Life Science",null,"Spanish",null,"Reinforced Library",null,16,null,"C",null,null,null,"K & Up",null,"Mari Schuh"]
[{"$f":"A30","v":0},null,{"$f":"C30","v":0},null,{"$f":"E30","v":0},null,9781645492382,null,9781645492320,null,"Los corales (Corals)",null,null,null,"Animales del océano (Spot Ocean Animals)",null,null,null,"Amicus",null,40.799999999999997,null,19.95,null,24.95,null,0,null,null,null,null,null,0,0,0,0,0,0,0,0,"Spring 2021",null,2021,null,593.6,null,null,null,null,null,null,null,null,null,"49",null,"Spot",null,1.8,null,"Life Science",null,"Spanish",null,"Reinforced Library",null,16,null,"C",null,null,null,"K & Up",null,"Mari Schuh"]
[{"$f":"A30","v":0},null,{"$f":"C30","v":0},null,{"$f":"E30","v":0},null,9781645492429,null,9781645492368,null,"Los dragones de mar (Sea Dragons)",null,null,null,"Animales del océano (Spot Ocean Animals)",null,null,null,"Amicus",null,40.799999999999997,null,19.95,null,24.95,null,0,null,null,null,null,null,0,0,0,0,0,0,0,0,"Spring 2021",null,2021,null,"597/.679",null,null,null,null,null,null,null,null,null,"49",null,"Spot",null,1.3,null,"Life Science",null,"Spanish",null,"Reinforced Library",null,16,null,"C",null,null,null,"K & Up",null,"Mari Schuh"]
[{"$f":"A30","v":0},null,{"$f":"C30","v":0},null,{"$f":"E30","v":0},null,9781645492412,null,9781645492351,null,"Los manatíes (Manatees)",null,null,null,"Animales del océano (Spot Ocean Animals)",null,null,null,"Amicus",null,40.799999999999997,null,19.95,null,24.95,null,0,null,null,null,null,null,0,0,0,0,0,0,0,0,"Spring 2021",null,2021,null,599.54999999999995,null,null,null,null,null,null,null,null,null,"49",null,"Spot",null,0.9,null,"Life Science",null,"Spanish",null,"Reinforced Library",null,16,null,"C",null,null,null,"K & Up",null,"Mari Schuh"]
[]
[null,null,null,null,null,null,null,null,null,null,"Complete Series of 6",null,null,null,"Clima extremo (Spot Extreme Weather)",null,null,null,null,null,{"$f":"SUM(U39:U44)","v":244.8},null,{"$f":"SUM(W39:W44)","v":119.7},null,{"$f":"SUM(Y39:Y44)","v":149.69999999999999}]
[{"$f":"A38","v":0},null,{"$f":"C38","v":0},null,{"$f":"E38","v":0},null,9781645492221,null,9781645491965,null,"Las inundaciones (Floods)",null,null,null,"Clima extremo (Spot Extreme Weather)",null,null,null,"Amicus",null,40.799999999999997,null,19.95,null,{"$f":"W39+5","v":24.95},null,{"$f":"IF(AC39=FALSE,AK39+AL39+AM39,0)","v":0},null,null,null,null,null,0,0,0,0,0,0,0,0,"Spring 2021",null,2021,null,"551.48/9",null,null,null,null,null,null,null,null,null,"49",null,"Spot",null,1,null,"Science",null,"Spanish",null,"Reinforced Library",null,16,null,"D",null,null,null,"K & Up",null,"Anastasia Suen"]
[{"$f":"A38","v":0},null,{"$f":"C38","v":0},null,{"$f":"E38","v":0},null,9781645492207,null,9781645491941,null,"Las ventiscas (Blizzards)",null,null,null,"Clima extremo (Spot Extreme Weather)",null,null,null,"Amicus",null,40.799999999999997,null,19.95,null,24.95,null,0,null,null,null,null,null,0,0,0,0,0,0,0,0,"Spring 2021",null,2021,null,"551.55/5",null,null,null,null,null,null,null,null,null,"49",null,"Spot",null,1.5,null,"Science",null,"Spanish",null,"Reinforced Library",null,16,null,"D",null,null,null,"K & Up",null,"Anastasia Suen"]
[{"$f":"A38","v":0},null,{"$f":"C38","v":0},null,{"$f":"E38","v":0},null,9781645492238,null,9781645491972,null,"Los huracanes (Hurricanes)",null,null,null,"Clima extremo (Spot Extreme Weather)",null,null,null,"Amicus",null,40.799999999999997,null,19.95,null,24.95,null,0,null,null,null,null,null,0,0,0,0,0,0,0,0,"Spring 2021",null,2021,null,"551.55/2",null,null,null,null,null,null,null,null,null,"49",null,"Spot",null,0.8,null,"Science",null,"Spanish",null,"Reinforced Library",null,16,null,"D",null,null,null,"K & Up",null,"Anastasia Suen"]
[{"$f":"A38","v":0},null,{"$f":"C38","v":0},null,{"$f":"E38","v":0},null,9781645492252,null,9781645491996,null,"Los incendios forestales (Forest Fires)",null,null,null,"Clima extremo (Spot Extreme Weather)",null,null,null,"Amicus",null,40.799999999999997,null,19.95,null,24.95,null,0,null,null,null,null,null,0,0,0,0,0,0,0,0,"Spring 2021",null,2021,null,"634.9/618",null,null,null,null,null,null,null,null,null,"49",null,"Spot",null,1.7,null,"Science",null,"Spanish",null,"Reinforced Library",null,16,null,"D",null,null,null,"K & Up",null,"Anastasia Suen"]
[{"$f":"A38","v":0},null,{"$f":"C38","v":0},null,{"$f":"E38","v":0},null,9781645492214,null,9781645491958,null,"Los terremotos (Earthquakes)",null,null,null,"Clima extremo (Spot Extreme Weather)",null,null,null,"Amicus",null,40.799999999999997,null,19.95,null,24.95,null,0,null,null,null,null,null,0,0,0,0,0,0,0,0,"Spring 2021",null,2021,null,551.22,null,null,null,null,null,null,null,null,null,"49",null,"Spot",null,1.1000000000000001,null,"Science",null,"Spanish",null,"Reinforced Library",null,16,null,"D",null,null,null,"K & Up",null,"Anastasia Suen"]
[{"$f":"A38","v":0},null,{"$f":"C38","v":0},null,{"$f":"E38","v":0},null,9781645492245,null,9781645491989,null,"Los tornados (Tornadoes)",null,null,null,"Clima extremo (Spot Extreme Weather)",null,null,null,"Amicus",null,40.799999999999997,null,19.95,null,24.95,null,0,null,null,null,null,null,0,0,0,0,0,0,0,0,"Spring 2021",null,2021,null,"551.55/3",null,null,null,null,null,null,null,null,null,"49",null,"Spot",null,0.8,null,"Science",null,"Spanish",null,"Reinforced Library",null,16,null,"D",null,null,null,"K & Up",null,"Anastasia Suen"]
[]
[null,null,null,null,null,null,null,null,null,null,"Complete Series of 8",null,null,null,"Deportes (Spot Sports)",null,null,null,null,null,{"$f":"SUM(U47:U54)","v":326.40000000000003},null,{"$f":"SUM(W47:W54)","v":159.6},null,{"$f":"SUM(Y47:Y54)","v":199.59999999999997}]
[{"$f":"A46","v":0},null,{"$f":"C46","v":0},null,{"$f":"E46","v":0},null,9781645492191,null,9781645491934,null,"Atletismo (Track & Field)",null,null,null,"Deportes (Spot Sports)",null,null,null,"Amicus",null,40.799999999999997,null,19.95,null,{"$f":"W47+5","v":24.95},null,{"$f":"IF(AC47=FALSE,AK47+AL47+AM47,0)","v":0},null,null,null,null,null,0,0,0,0,0,0,0,0,"Spring 2021",null,2021,null,796.42,null,null,null,null,null,null,null,null,null,"49",null,"Spot",null,1.3,null,"Sports and Recreation",null,"Spanish",null,"Reinforced Library",null,16,null,null,null,null,null,"K & Up",null,"Mari Schuh"]
[{"$f":"A46","v":0},null,{"$f":"C46","v":0},null,{"$f":"E46","v":0},null,9781645492122,null,9781645491866,null,"Boliche (Bowling)",null,null,null,"Deportes (Spot Sports)",null,null,null,"Amicus",null,40.799999999999997,null,19.95,null,24.95,null,0,null,null,null,null,null,0,0,0,0,0,0,0,0,"Spring 2021",null,2021,null,794.6,null,null,null,null,null,null,null,null,null,"49",null,"Spot",null,0.9,null,"Sports and Recreation",null,"Spanish",null,"Reinforced Library",null,16,null,null,null,null,null,"K & Up",null,"Mari Schuh"]
[{"$f":"A46","v":0},null,{"$f":"C46","v":0},null,{"$f":"E46","v":0},null,9781645492146,null,9781645491880,null,"Esquí alpino (Downhill Skiing)",null,null,null,"Deportes (Spot Sports)",null,null,null,"Amicus",null,40.799999999999997,null,19.95,null,24.95,null,0,null,null,null,null,null,0,0,0,0,0,0,0,0,"Spring 2021",null,2021,null,796.93,null,null,null,null,null,null,null,null,null,"49",null,"Spot",null,1.1000000000000001,null,"Sports and Recreation",null,"Spanish",null,"Reinforced Library",null,16,null,null,null,null,null,"K & Up",null,"Mari Schuh"]
[{"$f":"A46","v":0},null,{"$f":"C46","v":0},null,{"$f":"E46","v":0},null,9781645492153,null,9781645491897,null,"Lacrosse (Lacrosse)",null,null,null,"Deportes (Spot Sports)",null,null,null,"Amicus",null,40.799999999999997,null,19.95,null,24.95,null,0,null,null,null,null,null,0,0,0,0,0,0,0,0,"Spring 2021",null,2021,null,"796.36/2",null,null,null,null,null,null,null,null,null,"49",null,"Spot",null,0.9,null,"Sports and Recreation",null,"Spanish",null,"Reinforced Library",null,16,null,null,null,null,null,"K & Up",null,"Mari Schuh"]
[{"$f":"A46","v":0},null,{"$f":"C46","v":0},null,{"$f":"E46","v":0},null,9781645492160,null,9781645491903,null,"Patineta (Skateboarding)",null,null,null,"Deportes (Spot Sports)",null,null,null,"Amicus",null,40.799999999999997,null,19.95,null,24.95,null,0,null,null,null,null,null,0,0,0,0,0,0,0,0,"Spring 2021",null,2021,null,796.22,null,null,null,null,null,null,null,null,null,"49",null,"Spot",null,1.2,null,"Sports and Recreation",null,"Spanish",null,"Reinforced Library",null,16,null,null,null,null,null,"K & Up",null,"Mari Schuh"]
[{"$f":"A46","v":0},null,{"$f":"C46","v":0},null,{"$f":"E46","v":0},null,9781645492139,null,9781645491873,null,"Porrismo (Cheerleading)",null,null,null,"Deportes (Spot Sports)",null,null,null,"Amicus",null,40.799999999999997,null,19.95,null,24.95,null,0,null,null,null,null,null,0,0,0,0,0,0,0,0,"Spring 2021",null,2021,null,"791.6/4",null,null,null,null,null,null,null,null,null,"49",null,"Spot",null,1.4,null,"Sports and Recreation",null,"Spanish",null,"Reinforced Library",null,16,null,null,null,null,null,"K & Up",null,"Mari Schuh"]
[{"$f":"A46","v":0},null,{"$f":"C46","v":0},null,{"$f":"E46","v":0},null,9781645492177,null,9781645491910,null,"Sofbol (Softball)",null,null,null,"Deportes (Spot Sports)",null,null,null,"Amicus",null,40.799999999999997,null,19.95,null,24.95,null,0,null,null,null,null,null,0,0,0,0,0,0,0,0,"Spring 2021",null,2021,null,"796.357/8",null,null,null,null,null,null,null,null,null,"49",null,"Spot",null,1.2,null,"Sports and Recreation",null,"Spanish",null,"Reinforced Library",null,16,null,null,null,null,null,"K & Up",null,"Mari Schuh"]
[{"$f":"A46","v":0},null,{"$f":"C46","v":0},null,{"$f":"E46","v":0},null,9781645492184,null,9781645491927,null,"Tenis (Tennis)",null,null,null,"Deportes (Spot Sports)",null,null,null,"Amicus",null,40.799999999999997,null,19.95,null,24.95,null,0,null,null,null,null,null,0,0,0,0,0,0,0,0,"Spring 2021",null,2021,null,796.34199999999998,null,null,null,null,null,null,null,null,null,"49",null,"Spot",null,0.7,null,"Sports and Recreation",null,"Spanish",null,"Reinforced Library",null,16,null,null,null,null,null,"K & Up",null,"Mari Schuh"]
[]
[null,null,null,null,null,null,null,null,null,null,"Complete Series of 6",null,null,null,"Ecosystem Food Webs",null,null,null,null,null,{"$f":"SUM(U57:U62)","v":269.10000000000002},null,{"$f":"SUM(W57:W62)","v":131.69999999999999},null,{"$f":"SUM(Y57:Y62)","v":161.69999999999999}]
[{"$f":"A56","v":0},null,{"$f":"C56","v":0},null,{"$f":"E56","v":0},null,9781645490845,null,9781645490043,null,"Arctic Food Web, An",null,null,null,"Ecosystem Food Webs",null,null,null,"Amicus",null,44.85,null,21.95,null,{"$f":"W57+5","v":26.95},null,{"$f":"IF(AC57=FALSE,AK57+AL57+AM57,0)","v":0},null,null,null,null,null,0,0,0,0,0,0,0,0,"Spring 2021",null,2021,null,"577.5/8609113",null,"Q",null,null,null,null,null,null,null,"38",null,"Amicus Illustrated",null,null,null,"Life Science",null,"English",null,"Reinforced Library",null,24,null,"L",null,"540L",null,"Grade 2 & up",null,"Imogen Kingsley"]
[{"$f":"A56","v":0},null,{"$f":"C56","v":0},null,{"$f":"E56","v":0},null,9781645490807,null,9781645490005,null,"Desert Food Web, A",null,null,null,"Ecosystem Food Webs",null,null,null,"Amicus",null,44.85,null,21.95,null,26.95,null,0,null,null,null,null,null,0,0,0,0,0,0,0,0,"Spring 2021",null,2021,null,577.54097300000001,null,"Q",null,null,null,null,null,null,null,"38",null,"Amicus Illustrated",null,null,null,"Life Science",null,"English",null,"Reinforced Library",null,24,null,"L",null,"570L",null,"Grade 2 & up",null,"Cari Meister"]
[{"$f":"A56","v":0},null,{"$f":"C56","v":0},null,{"$f":"E56","v":0},null,9781645490814,null,9781645490012,null,"Freshwater Food Web, A",null,null,null,"Ecosystem Food Webs",null,null,null,"Amicus",null,44.85,null,21.95,null,26.95,null,0,null,null,null,null,null,0,0,0,0,0,0,0,0,"Spring 2021",null,2021,null,577.68097299999999,null,"Q",null,null,null,null,null,null,null,"38",null,"Amicus Illustrated",null,null,null,"Life Science",null,"English",null,"Reinforced Library",null,24,null,"L",null,"500L",null,"Grade 2 & up",null,"Cari Meister"]
[{"$f":"A56","v":0},null,{"$f":"C56","v":0},null,{"$f":"E56","v":0},null,9781645490821,null,9781645490029,null,"Grassland Food Web, A",null,null,null,"Ecosystem Food Webs",null,null,null,"Amicus",null,44.85,null,21.95,null,26.95,null,0,null,null,null,null,null,0,0,0,0,0,0,0,0,"Spring 2021",null,2021,null,577.4,null,"Q",null,null,null,null,null,null,null,"38",null,"Amicus Illustrated",null,null,null,"Life Science",null,"English",null,"Reinforced Library",null,24,null,"L",null,"530L",null,"Grade 2 & up",null,"Cari Meister"]
[{"$f":"A56","v":0},null,{"$f":"C56","v":0},null,{"$f":"E56","v":0},null,9781645490852,null,9781645490050,null,"Ocean Food Web, An",null,null,null,"Ecosystem Food Webs",null,null,null,"Amicus",null,44.85,null,21.95,null,26.95,null,0,null,null,null,null,null,0,0,0,0,0,0,0,0,"Spring 2021",null,2021,null,577.70000000000005,null,"Q",null,null,null,null,null,null,null,"38",null,"Amicus Illustrated",null,null,null,"Life Science",null,"English",null,"Reinforced Library",null,24,null,"L",null,"510L",null,"Grade 2 & up",null,"Cari Meister"]
[{"$f":"A56","v":0},null,{"$f":"C56","v":0},null,{"$f":"E56","v":0},null,9781645490838,null,9781645490036,null,"Rainforest Food Web, A",null,null,null,"Ecosystem Food Webs",null,null,null,"Amicus",null,44.85,null,21.95,null,26.95,null,0,null,null,null,null,null,0,0,0,0,0,0,0,0,"Spring 2021",null,2021,null,"577.340981/1",null,"Q",null,null,null,null,null,null,null,"38",null,"Amicus Illustrated",null,null,null,"Life Science",null,"English",null,"Reinforced Library",null,24,null,"L",null,"530L",null,"Grade 2 & up",null,"Cari Meister"]
[]
[null,null,null,null,null,null,null,null,null,null,"Complete Series of 6",null,null,null,"Little Animal Friends (Board Book)",null,null,null,null,null,{"$f":"SUM(U65:U70)","v":77.400000000000006},null,{"$f":"SUM(W65:W70)","v":54.940000000000005},null,{"$f":"SUM(Y65:Y70)","v":84.94}]
[{"$f":"A64","v":0},null,{"$f":"C64","v":0},null,{"$f":"E64","v":0},null,9781681525648,null,9781681525631,null,"Little Hippo",null,null,null,"Little Animal Friends (Board Book)",null,null,null,"Amicus",null,12.9,null,8.99,null,{"$f":"W65+5","v":13.99},null,{"$f":"IF(AC65=FALSE,AK65+AL65+AM65,0)","v":0},null,null,null,null,null,0,0,0,0,0,0,0,0,"Spring 2020",null,2020,null,"E",null,null,null,null,null,null,null,null,null,"13",null,"Amicus Ink",null,"Not Quizzable",null,"Animals & Nature",null,"English",null,"Board Book",null,20,null,null,null,null,null,"PreK - 1",null,"Julie Abery"]
[{"$f":"A64","v":0},null,{"$f":"C64","v":0},null,{"$f":"E64","v":0},null,9781681525662,null,9781681525655,null,"Little Monkey",null,null,null,"Little Animal Friends (Board Book)",null,null,null,"Amicus",null,12.9,null,8.99,null,13.99,null,0,null,null,null,null,null,0,0,0,0,0,0,0,0,"Spring 2020",null,2020,null,"E",null,null,null,null,null,null,null,null,null,"13",null,"Amicus Ink",null,"Not Quizzable",null,"Animals & Nature",null,"English",null,"Board Book",null,20,null,null,null,null,null,"PreK - 1",null,"Julie Abery"]
[{"$f":"A64","v":0},null,{"$f":"C64","v":0},null,{"$f":"E64","v":0},null,9781681525174,null,9781681524146,null,"Little Panda",null,null,null,"Little Animal Friends (Board Book)",null,null,null,"Amicus",null,12.9,null,9.99,null,14.99,null,0,null,null,null,null,null,0,0,0,0,0,0,0,0,"Spring 2019",null,2019,null,"E",null,null,null,null,null,null,null,null,null,"13",null,"Amicus Ink",null,"Not Quizzable",null,"Animals & Nature",null,"English",null,"Board Book",null,20,null,null,null,null,null,"PreK - 1",null,"Julie Abery"]
[{"$f":"A64","v":0},null,{"$f":"C64","v":0},null,{"$f":"E64","v":0},null,9781681527437,null,9781681527413,null,"Little Penguin",null,null,null,"Little Animal Friends (Board Book)",null,null,null,"Amicus",null,12.9,null,8.99,null,13.99,null,0,null,null,null,null,null,0,0,0,0,0,0,0,0,"Spring 2021",null,2021,null,"E",null,"Q",null,null,null,null,null,null,null,"13",null,"Amicus Ink",null,null,null,"Life Science",null,"English",null,"Board Book",null,20,null,"na",null,null,null,"PreK & Up",null,"Julie Abery"]
[{"$f":"A64","v":0},null,{"$f":"C64","v":0},null,{"$f":"E64","v":0},null,9781681525167,null,9781681524139,null,"Little Tiger",null,null,null,"Little Animal Friends (Board Book)",null,null,null,"Amicus",null,12.9,null,8.99,null,13.99,null,0,null,null,null,null,null,0,0,0,0,0,0,0,0,"Spring 2019",null,2019,null,"E",null,null,null,null,null,null,null,null,null,"13",null,"Amicus Ink",null,"Not Quizzable",null,"Animals & Nature",null,"English",null,"Board Book",null,20,null,null,null,null,null,"PreK - 1",null,"Julie Abery"]
[{"$f":"A64","v":0},null,{"$f":"C64","v":0},null,{"$f":"E64","v":0},null,9781681527444,null,9781681527420,null,"Little Zebra",null,null,null,"Little Animal Friends (Board Book)",null,null,null,"Amicus",null,12.9,null,8.99,null,13.99,null,0,null,null,null,null,null,0,0,0,0,0,0,0,0,"Spring 2021",null,2021,null,"E",null,"Q",null,null,null,null,null,null,null,"13",null,"Amicus Ink",null,null,null,"Life Science",null,"English",null,"Board Book",null,20,null,"na",null,null,null,"PreK & Up",null,"Julie Abery"]
[]
[null,null,null,null,null,null,null,null,null,null,"Complete Series of 6",null,null,null,"Los gatos salvajes (Spot Wild Cats)",null,null,null,null,null,{"$f":"SUM(U73:U78)","v":244.8},null,{"$f":"SUM(W73:W78)","v":119.7},null,{"$f":"SUM(Y73:Y78)","v":149.69999999999999}]
[{"$f":"A72","v":0},null,{"$f":"C72","v":0},null,{"$f":"E72","v":0},null,9781645492061,null,9781645491804,null,"Los gatos monteses (Wild Cats)",null,null,null,"Los gatos salvajes (Spot Wild Cats)",null,null,null,"Amicus",null,40.799999999999997,null,19.95,null,{"$f":"W73+5","v":24.95},null,{"$f":"IF(AC73=FALSE,AK73+AL73+AM73,0)","v":0},null,null,null,null,null,0,0,0,0,0,0,0,0,"Spring 2021",null,2021,null,"599.75/36",null,null,null,null,null,null,null,null,null,"49",null,"Spot",null,0.8,null,"Life Science",null,"Spanish",null,"Reinforced Library",null,16,null,null,null,null,null,"K & Up",null,"Alissa Thielges"]
[{"$f":"A72","v":0},null,{"$f":"C72","v":0},null,{"$f":"E72","v":0},null,9781645492085,null,9781645491828,null,"Los jaguares (Jaguars)",null,null,null,"Los gatos salvajes (Spot Wild Cats)",null,null,null,"Amicus",null,40.799999999999997,null,19.95,null,24.95,null,0,null,null,null,null,null,0,0,0,0,0,0,0,0,"Spring 2021",null,2021,null,"599.75/5",null,null,null,null,null,null,null,null,null,"49",null,"Spot",null,0.6,null,"Life Science",null,"Spanish",null,"Reinforced Library",null,16,null,null,null,null,null,"K & Up",null,"Alissa Thielges"]
[{"$f":"A72","v":0},null,{"$f":"C72","v":0},null,{"$f":"E72","v":0},null,9781645492092,null,9781645491835,null,"Los leopardos (Leopards)",null,null,null,"Los gatos salvajes (Spot Wild Cats)",null,null,null,"Amicus",null,40.799999999999997,null,19.95,null,24.95,null,0,null,null,null,null,null,0,0,0,0,0,0,0,0,"Spring 2021",null,2021,null,599.75,null,null,null,null,null,null,null,null,null,"49",null,"Spot",null,1.3,null,"Life Science",null,"Spanish",null,"Reinforced Library",null,16,null,null,null,null,null,"K & Up",null,"Alissa Thielges"]
[{"$f":"A72","v":0},null,{"$f":"C72","v":0},null,{"$f":"E72","v":0},null,9781645492108,null,9781645491842,null,"Los linces (Lynx)",null,null,null,"Los gatos salvajes (Spot Wild Cats)",null,null,null,"Amicus",null,40.799999999999997,null,19.95,null,24.95,null,0,null,null,null,null,null,0,0,0,0,0,0,0,0,"Spring 2021",null,2021,null,"599.75/3",null,null,null,null,null,null,null,null,null,"49",null,"Spot",null,1.1000000000000001,null,"Life Science",null,"Spanish",null,"Reinforced Library",null,16,null,null,null,null,null,"K & Up",null,"Alissa Thielges"]
[{"$f":"A72","v":0},null,{"$f":"C72","v":0},null,{"$f":"E72","v":0},null,9781645492078,null,9781645491811,null,"Los pumas (Pumas)",null,null,null,"Los gatos salvajes (Spot Wild Cats)",null,null,null,"Amicus",null,40.799999999999997,null,19.95,null,24.95,null,0,null,null,null,null,null,0,0,0,0,0,0,0,0,"Spring 2021",null,2021,null,"599.75/24",null,null,null,null,null,null,null,null,null,"49",null,"Spot",null,0.9,null,"Life Science",null,"Spanish",null,"Reinforced Library",null,16,null,null,null,null,null,"K & Up",null,"Alissa Thielges"]
[{"$f":"A72","v":0},null,{"$f":"C72","v":0},null,{"$f":"E72","v":0},null,9781645492115,null,9781645491859,null,"Los tigres (Tigers)",null,null,null,"Los gatos salvajes (Spot Wild Cats)",null,null,null,"Amicus",null,40.799999999999997,null,19.95,null,24.95,null,0,null,null,null,null,null,{"$f":"A78","v":0},{"$f":"C78","v":0},{"$f":"E78","v":0},{"$f":"SUM(AG78:AI78)","v":0},{"$f":"U78*A78","v":0},{"$f":"W78*C78","v":0},{"$f":"Y78*E78","v":0},{"$f":"SUM(AK78:AM78)","v":0},"Spring 2021",null,2021,null,599.75599999999997,null,null,null,null,null,null,null,null,null,"49",null,"Spot",null,0.6,null,"Life Science",null,"Spanish",null,"Reinforced Library",null,16,null,null,null,null,null,"K & Up",null,"Alissa Thielges"]
[]
[null,null,null,null,null,null,null,null,null,null,"Complete Series of 16",null,null,null,"Making Good Choices",null,null,null,null,null,{"$f":"SUM(U81:U96)","v":717.60000000000025},null,{"$f":"SUM(W81:W96)","v":351.19999999999987},null,{"$f":"SUM(Y81:Y96)","v":431.19999999999987}]
[{"$f":"A80","v":0},null,{"$f":"C80","v":0},null,{"$f":"E80","v":0},null,9781645490708,null,9781681519852,null,"You Can Be Helpful: Step Aside or Pitch In?",null,null,null,"Making Good Choices",null,null,null,"Amicus",null,44.85,null,21.95,null,{"$f":"W81+5","v":26.95},null,{"$f":"IF(AC81=FALSE,AK81+AL81+AM81,0)","v":0},null,null,null,null,null,0,0,0,0,0,0,0,0,"Spring 2021",null,2021,null,"179/.9",null,"Q",null,null,null,null,null,null,null,"35",null,"Amicus Illustrated",null,"Not Quizzable",null,"Social and Emotional Health",null,"English",null,"Reinforced Library",null,24,null,"K",null,"530L",null,"Grade 2 & up",null,"Connie Colwell Miller"]
[{"$f":"A80","v":0},null,{"$f":"C80","v":0},null,{"$f":"E80","v":0},null,9781645490715,null,9781681519869,null,"You Can Be Polite: Be Rude or Use Tact?",null,null,null,"Making Good Choices",null,null,null,"Amicus",null,44.85,null,21.95,null,26.95,null,0,null,null,null,null,null,0,0,0,0,0,0,0,0,"Spring 2021",null,2021,null,"395.1/22",null,"Q",null,null,null,null,null,null,null,"35",null,"Amicus Illustrated",null,"Not Quizzable",null,"Social and Emotional Health",null,"English",null,"Reinforced Library",null,24,null,"K",null,"520L",null,"Grade 2 & up",null,"Connie Colwell Miller"]
[{"$f":"A80","v":0},null,{"$f":"C80","v":0},null,{"$f":"E80","v":0},null,9781681517704,null,9781681516882,null,"You Can Be Responsible: Do it Now or Put it Off?",null,null,null,"Making Good Choices",null,null,null,"Amicus",null,44.85,null,21.95,null,26.95,null,0,null,null,null,null,null,0,0,0,0,0,0,0,0,"Fall 2019",null,2020,null,179.9,null,null,null,null,null,null,null,null,null,"41",null,"Amicus Illustrated",null,"Not Quizzable",null,"High Interest",null,"English",null,"Reinforced Library",null,24,null,"K",null,"510L",null,"K - 3",null,"Connie Colwell Miller"]
[{"$f":"A80","v":0},null,{"$f":"C80","v":0},null,{"$f":"E80","v":0},null,9781681512570,null,9781681511672,null,"You Can Control Your Voice: Loud or Quiet?",null,null,null,"Making Good Choices",null,null,null,"Amicus",null,44.85,null,21.95,null,26.95,null,0,null,null,null,null,null,0,0,0,0,0,0,0,0,"Fall 2017",null,2018,null,"395.5/3",null,null,null,null,null,null,null,null,null,"41",null,"Amicus Illustrated",null,"Not Quizzable",null,"High Interest",null,"English",null,"Reinforced Library",null,24,null,"K",null,"500L",null,"K - 3",null,"Connie Colwell Miller"]
[{"$f":"A80","v":0},null,{"$f":"C80","v":0},null,{"$f":"E80","v":0},null,9781681517711,null,9781681516899,null,"You Can Encourage Others: Tease or Inspire?",null,null,null,"Making Good Choices",null,null,null,"Amicus",null,44.85,null,21.95,null,26.95,null,0,null,null,null,null,null,0,0,0,0,0,0,0,0,"Fall 2019",null,2020,null,158.30000000000001,null,null,null,null,null,null,null,null,null,"41",null,"Amicus Illustrated",null,"Not Quizzable",null,"High Interest",null,"English",null,"Reinforced Library",null,24,null,"K",null,"490L",null,"K - 3",null,"Connie Colwell Miller"]
[{"$f":"A80","v":0},null,{"$f":"C80","v":0},null,{"$f":"E80","v":0},null,9781681517728,null,9781681516905,null,"You Can Follow Rules: Cheat or Play Fair?",null,null,null,"Making Good Choices",null,null,null,"Amicus",null,44.85,null,21.95,null,26.95,null,0,null,null,null,null,null,0,0,0,0,0,0,0,0,"Fall 2019",null,2020,null,796.01,null,null,null,null,null,null,null,null,null,"41",null,"Amicus Illustrated",null,"Not Quizzable",null,"High Interest",null,"English",null,"Reinforced Library",null,24,null,"K",null,"490L",null,"K - 3",null,"Connie Colwell Miller"]
[{"$f":"A80","v":0},null,{"$f":"C80","v":0},null,{"$f":"E80","v":0},null,9781681512525,null,9781681511627,null,"You Can Handle Conflict: Hands or Words?",null,null,null,"Making Good Choices",null,null,null,"Amicus",null,44.85,null,21.95,null,26.95,null,0,null,null,null,null,null,0,0,0,0,0,0,0,0,"Fall 2017",null,2018,null,"155.4/192",null,null,null,null,null,null,null,null,null,"41",null,"Amicus Illustrated",null,"Not Quizzable",null,"High Interest",null,"English",null,"Reinforced Library",null,24,null,"K",null,"500L",null,"K - 3",null,"Connie Colwell Miller"]
[{"$f":"A80","v":0},null,{"$f":"C80","v":0},null,{"$f":"E80","v":0},null,9781681512563,null,9781681511665,null,"You Can Listen to Directions: Stop or Go?",null,null,null,"Making Good Choices",null,null,null,"Amicus",null,44.85,null,21.95,null,26.95,null,0,null,null,null,null,null,0,0,0,0,0,0,0,0,"Fall 2017",null,2018,null,"155.4/19",null,null,null,null,null,null,null,null,null,"41",null,"Amicus Illustrated",null,"Not Quizzable",null,"High Interest",null,"English",null,"Reinforced Library",null,24,null,"K",null,"510L",null,"K - 3",null,"Connie Colwell Miller"]
[{"$f":"A80","v":0},null,{"$f":"C80","v":0},null,{"$f":"E80","v":0},null,9781681517735,null,9781681516912,null,"You Can Make Changes: Ask or Ignore?",null,null,null,"Making Good Choices",null,null,null,"Amicus",null,44.85,null,21.95,null,26.95,null,0,null,null,null,null,null,0,0,0,0,0,0,0,0,"Fall 2019",null,2020,null,320.08300000000003,null,null,null,null,null,null,null,null,null,"41",null,"Amicus Illustrated",null,"Not Quizzable",null,"High Interest",null,"English",null,"Reinforced Library",null,24,null,"K",null,"590L",null,"K - 3",null,"Connie Colwell Miller"]
[{"$f":"A80","v":0},null,{"$f":"C80","v":0},null,{"$f":"E80","v":0},null,9781645490722,null,9781681519876,null,"You Can Persevere: Quit or Keep Going?",null,null,null,"Making Good Choices",null,null,null,"Amicus",null,44.85,null,21.95,null,26.95,null,0,null,null,null,null,null,0,0,0,0,0,0,0,0,"Spring 2021",null,2021,null,"179/.9",null,"Q",null,null,null,null,null,null,null,"35",null,"Amicus Illustrated",null,"Not Quizzable",null,"Social and Emotional Health",null,"English",null,"Reinforced Library",null,24,null,"K",null,"580L",null,"Grade 2 & up",null,"Connie Colwell Miller"]
[{"$f":"A80","v":0},null,{"$f":"C80","v":0},null,{"$f":"E80","v":0},null,9781681517742,null,9781681516929,null,"You Can Respect Differences: Assume or Find Out?",null,null,null,"Making Good Choices",null,null,null,"Amicus",null,44.85,null,21.95,null,26.95,null,0,null,null,null,null,null,0,0,0,0,0,0,0,0,"Fall 2019",null,2020,null,179.9,null,null,null,null,null,null,null,null,null,"41",null,"Amicus Illustrated",null,"Not Quizzable",null,"High Interest",null,"English",null,"Reinforced Library",null,24,null,"K",null,"490L",null,"K - 3",null,"Connie Colwell Miller"]
[{"$f":"A80","v":0},null,{"$f":"C80","v":0},null,{"$f":"E80","v":0},null,9781681512556,null,9781681511658,null,"You Can Stay in Control: Wild or Calm?",null,null,null,"Making Good Choices",null,null,null,"Amicus",null,44.85,null,21.95,null,26.95,null,0,null,null,null,null,null,0,0,0,0,0,0,0,0,"Fall 2017",null,2018,null,"155.4/19",null,null,null,null,null,null,null,null,null,"41",null,"Amicus Illustrated",null,"Not Quizzable",null,"High Interest",null,"English",null,"Reinforced Library",null,24,null,"K",null,"500L",null,"K - 3",null,"Connie Colwell Miller"]
[{"$f":"A80","v":0},null,{"$f":"C80","v":0},null,{"$f":"E80","v":0},null,9781681517759,null,9781681516936,null,"You Can Stop Bullying: Stand By or Stand Up?",null,null,null,"Making Good Choices",null,null,null,"Amicus",null,44.85,null,21.95,null,26.95,null,0,null,null,null,null,null,0,0,0,0,0,0,0,0,"Fall 2019",null,2020,null,"302.34/3",null,null,null,null,null,null,null,null,null,"41",null,"Amicus Illustrated",null,"Not Quizzable",null,"High Interest",null,"English",null,"Reinforced Library",null,24,null,"K",null,"510L",null,"K - 3",null,"Connie Colwell Miller"]
[{"$f":"A80","v":0},null,{"$f":"C80","v":0},null,{"$f":"E80","v":0},null,9781645490739,null,9781681519883,null,"You Can Use Money Wisely: Spend or Save?",null,null,null,"Making Good Choices",null,null,null,"Amicus",null,44.85,null,21.95,null,26.95,null,0,null,null,null,null,null,0,0,0,0,0,0,0,0,"Spring 2021",null,2021,null,332.4,null,"Q",null,null,null,null,null,null,null,"35",null,"Amicus Illustrated",null,"Not Quizzable",null,"Social and Emotional Health",null,"English",null,"Reinforced Library",null,24,null,"K",null,"520L",null,"Grade 2 & up",null,"Connie Colwell Miller"]
[{"$f":"A80","v":0},null,{"$f":"C80","v":0},null,{"$f":"E80","v":0},null,9781681512549,null,9781681511641,null,"You're Angry: Throw a Fit or Talk it Out? ",null,null,null,"Making Good Choices",null,null,null,"Amicus",null,44.85,null,21.95,null,26.95,null,0,null,null,null,null,null,0,0,0,0,0,0,0,0,"Fall 2017",null,2018,null,"155.4/1247",null,null,null,null,null,null,null,null,null,"41",null,"Amicus Illustrated",null,"Not Quizzable",null,"High Interest",null,"English",null,"Reinforced Library",null,24,null,"K",null,"500L",null,"K - 3",null,"Connie Colwell Miller"]
[{"$f":"A80","v":0},null,{"$f":"C80","v":0},null,{"$f":"E80","v":0},null,9781681512532,null,9781681511634,null,"You're in Trouble: Fib or Truth?",null,null,null,"Making Good Choices",null,null,null,"Amicus",null,44.85,null,21.95,null,26.95,null,0,null,null,null,null,null,0,0,0,0,0,0,0,0,"Fall 2017",null,2018,null,"177/.3",null,null,null,null,null,null,null,null,null,"41",null,"Amicus Illustrated",null,"Not Quizzable",null,"High Interest",null,"English",null,"Reinforced Library",null,24,null,"K",null,"500L",null,"K - 3",null,"Connie Colwell Miller"]
[]
[null,null,null,null,null,null,null,null,null,null,"Complete Series of 6",null,null,null,"Mi vida con… (My Life With…)",null,null,null,null,null,{"$f":"SUM(U99:U104)","v":269.10000000000002},null,{"$f":"SUM(W99:W104)","v":131.69999999999999},null,{"$f":"SUM(Y99:Y104)","v":161.69999999999999}]
[{"$f":"A98","v":0},null,{"$f":"C98","v":0},null,{"$f":"E98","v":0},null,9781645492290,null,9781645492030,null,"Mi vida con autismo (Autism)",null,null,null,"Mi vida con… (My Life With…)",null,null,null,"Amicus",null,44.85,null,21.95,null,{"$f":"W99+5","v":26.95},null,{"$f":"IF(AC99=FALSE,AK99+AL99+AM99,0)","v":0},null,null,null,null,null,0,0,0,0,0,0,0,0,"Spring 2021",null,2021,null,"618.92/85882",null,null,null,null,null,null,null,null,null,"48",null,"Amicus Illustrated",null,"Not Quizzable",null,"Social and Emotional Health",null,"Spanish",null,"Reinforced Library",null,24,null,null,null,null,null,"Grade 2 & up",null,"Mari Schuh"]
[{"$f":"A98","v":0},null,{"$f":"C98","v":0},null,{"$f":"E98","v":0},null,9781645492269,null,9781645492009,null,"Mi vida con ceguera (Blindness)",null,null,null,"Mi vida con… (My Life With…)",null,null,null,"Amicus",null,44.85,null,21.95,null,26.95,null,0,null,null,null,null,null,0,0,0,0,0,0,0,0,"Spring 2021",null,2021,null,"362.4/1092",null,null,null,null,null,null,null,null,null,"48",null,"Amicus Illustrated",null,"Not Quizzable",null,"Social and Emotional Health",null,"Spanish",null,"Reinforced Library",null,24,null,null,null,null,null,"Grade 2 & up",null,"Mari Schuh"]
[{"$f":"A98","v":0},null,{"$f":"C98","v":0},null,{"$f":"E98","v":0},null,9781645492313,null,9781645492054,null,"Mi vida con dislexia (Dyslexia)",null,null,null,"Mi vida con… (My Life With…)",null,null,null,"Amicus",null,44.85,null,21.95,null,26.95,null,0,null,null,null,null,null,0,0,0,0,0,0,0,0,"Spring 2021",null,2021,null,"618.92/8553",null,null,null,null,null,null,null,null,null,"48",null,"Amicus Illustrated",null,"Not Quizzable",null,"Social and Emotional Health",null,"Spanish",null,"Reinforced Library",null,24,null,null,null,null,null,"Grade 2 & up",null,"Mari Schuh"]
[{"$f":"A98","v":0},null,{"$f":"C98","v":0},null,{"$f":"E98","v":0},null,9781645492306,null,9781645492047,null,"Mi vida con síndrome de Down (Down Syndrome)",null,null,null,"Mi vida con… (My Life With…)",null,null,null,"Amicus",null,44.85,null,21.95,null,26.95,null,0,null,null,null,null,null,0,0,0,0,0,0,0,0,"Spring 2021",null,2021,null,"616.85/88420092",null,null,null,null,null,null,null,null,null,"48",null,"Amicus Illustrated",null,"Not Quizzable",null,"Social and Emotional Health",null,"Spanish",null,"Reinforced Library",null,24,null,null,null,null,null,"Grade 2 & up",null,"Mari Schuh"]
[{"$f":"A98","v":0},null,{"$f":"C98","v":0},null,{"$f":"E98","v":0},null,9781645492276,null,9781645492016,null,"Mi vida con sordera (Deafness)",null,null,null,"Mi vida con… (My Life With…)",null,null,null,"Amicus",null,44.85,null,21.95,null,26.95,null,0,null,null,null,null,null,0,0,0,0,0,0,0,0,"Spring 2021",null,2021,null,"362.4/2092",null,null,null,null,null,null,null,null,null,"48",null,"Amicus Illustrated",null,"Not Quizzable",null,"Social and Emotional Health",null,"Spanish",null,"Reinforced Library",null,24,null,null,null,null,null,"Grade 2 & up",null,"Mari Schuh"]
[{"$f":"A98","v":0},null,{"$f":"C98","v":0},null,{"$f":"E98","v":0},null,9781645492283,null,9781645492023,null,"Mi vida con TDAH (ADHD)",null,null,null,"Mi vida con… (My Life With…)",null,null,null,"Amicus",null,44.85,null,21.95,null,26.95,null,0,null,null,null,null,null,0,0,0,0,0,0,0,0,"Spring 2021",null,2021,null,"618.92/8589",null,null,null,null,null,null,null,null,null,"48",null,"Amicus Illustrated",null,"Not Quizzable",null,"Social and Emotional Health",null,"Spanish",null,"Reinforced Library",null,24,null,null,null,null,null,"Grade 2 & up",null,"Mari Schuh"]
[]
[null,null,null,null,null,null,null,null,null,null,"Complete Series of 6",null,null,null,"My Life With . . .",null,null,null,null,null,{"$f":"SUM(U107:U112)","v":269.10000000000002},null,{"$f":"SUM(W107:W112)","v":131.69999999999999},null,{"$f":"SUM(Y107:Y112)","v":161.69999999999999}]
[{"$f":"A106","v":0},null,{"$f":"C106","v":0},null,{"$f":"E106","v":0},null,9781645490760,null,9781681519913,null,"My Life with ADHD",null,null,null,"My Life With . . .",null,null,null,"Amicus",null,44.85,null,21.95,null,{"$f":"W107+5","v":26.95},null,{"$f":"IF(AC107=FALSE,AK107+AL107+AM107,0)","v":0},null,null,null,null,null,0,0,0,0,0,0,0,0,"Spring 2021",null,2021,null,"618.92/8589",null,"Q",null,null,null,null,null,null,null,"37",null,"Amicus Illustrated",null,null,null,"Social and Emotional Health",null,"English",null,"Reinforced Library",null,24,null,"K",null,"540L",null,"Grade 2 & up",null,"Mari Schuh"]
[{"$f":"A106","v":0},null,{"$f":"C106","v":0},null,{"$f":"E106","v":0},null,9781645490777,null,9781681519920,null,"My Life with Autism",null,null,null,"My Life With . . .",null,null,null,"Amicus",null,44.85,null,21.95,null,26.95,null,0,null,null,null,null,null,0,0,0,0,0,0,0,0,"Spring 2021",null,2021,null,"618.92/85882",null,"Q",null,null,null,null,null,null,null,"37",null,"Amicus Illustrated",null,null,null,"Social and Emotional Health",null,"English",null,"Reinforced Library",null,24,null,"K",null,"510L",null,"Grade 2 & up",null,"Mari Schuh"]
[{"$f":"A106","v":0},null,{"$f":"C106","v":0},null,{"$f":"E106","v":0},null,9781645490746,null,9781681519890,null,"My Life with Blindness",null,null,null,"My Life With . . .",null,null,null,"Amicus",null,44.85,null,21.95,null,26.95,null,0,null,null,null,null,null,0,0,0,0,0,0,0,0,"Spring 2021",null,2021,null,"362.4/1092",null,"Q",null,null,null,null,null,null,null,"37",null,"Amicus Illustrated",null,null,null,"Social and Emotional Health",null,"English",null,"Reinforced Library",null,24,null,"K",null,"510L",null,"Grade 2 & up",null,"Mari Schuh"]
[{"$f":"A106","v":0},null,{"$f":"C106","v":0},null,{"$f":"E106","v":0},null,9781645490753,null,9781681519906,null,"My Life with Deafness",null,null,null,"My Life With . . .",null,null,null,"Amicus",null,44.85,null,21.95,null,26.95,null,0,null,null,null,null,null,0,0,0,0,0,0,0,0,"Spring 2021",null,2021,null,"362.4/2092",null,"Q",null,null,null,null,null,null,null,"37",null,"Amicus Illustrated",null,null,null,"Social and Emotional Health",null,"English",null,"Reinforced Library",null,24,null,"K",null,"510L",null,"Grade 2 & up",null,"Mari Schuh"]
[{"$f":"A106","v":0},null,{"$f":"C106","v":0},null,{"$f":"E106","v":0},null,9781645490784,null,9781681519937,null,"My Life with Down Syndrome",null,null,null,"My Life With . . .",null,null,null,"Amicus",null,44.85,null,21.95,null,26.95,null,0,null,null,null,null,null,0,0,0,0,0,0,0,0,"Spring 2021",null,2021,null,"616.85/88420092",null,"Q",null,null,null,null,null,null,null,"37",null,"Amicus Illustrated",null,null,null,"Social and Emotional Health",null,"English",null,"Reinforced Library",null,24,null,"K",null,"520L",null,"Grade 2 & up",null,"Mari Schuh"]
[{"$f":"A106","v":0},null,{"$f":"C106","v":0},null,{"$f":"E106","v":0},null,9781645490791,null,9781681519944,null,"My Life with Dyslexia",null,null,null,"My Life With . . .",null,null,null,"Amicus",null,44.85,null,21.95,null,26.95,null,0,null,null,null,null,null,0,0,0,0,0,0,0,0,"Spring 2021",null,2021,null,"618.92/8553",null,"Q",null,null,null,null,null,null,null,"37",null,"Amicus Illustrated",null,null,null,"Social and Emotional Health",null,"English",null,"Reinforced Library",null,24,null,"K",null,"520L",null,"Grade 2 & up",null,"Mari Schuh"]
[]
[null,null,null,null,null,null,null,null,null,null,"Complete Series of 6",null,null,null,"Spot Extreme Weather",null,null,null,null,null,{"$f":"SUM(U115:U120)","v":244.8},null,{"$f":"SUM(W115:W120)","v":119.7},null,{"$f":"SUM(Y115:Y120)","v":149.69999999999999}]
[{"$f":"A114","v":0},null,{"$f":"C114","v":0},null,{"$f":"E114","v":0},null,9781645490265,null,9781681519418,null,"Blizzards",null,null,null,"Spot Extreme Weather",null,null,null,"Amicus",null,40.799999999999997,null,19.95,null,{"$f":"W115+5","v":24.95},null,{"$f":"IF(AC115=FALSE,AK115+AL115+AM115,0)","v":0},null,null,null,null,null,0,0,0,0,0,0,0,0,"Spring 2021",null,2021,null,"551.55/5",null,"Q",null,null,null,null,null,null,null,"17",null,"Spot",null,0.9,null,"Science",null,"English",null,"Reinforced Library",null,16,null,"D",null,null,null,"K & Up",null,"Anastasia Suen"]
[{"$f":"A114","v":0},null,{"$f":"C114","v":0},null,{"$f":"E114","v":0},null,9781645490272,null,9781681519425,null,"Earthquakes",null,null,null,"Spot Extreme Weather",null,null,null,"Amicus",null,40.799999999999997,null,19.95,null,24.95,null,0,null,null,null,null,null,0,0,0,0,0,0,0,0,"Spring 2021",null,2021,null,551.22,null,"Q",null,null,null,null,null,null,null,"17",null,"Spot",null,0.9,null,"Science",null,"English",null,"Reinforced Library",null,16,null,"D",null,null,null,"K & Up",null,"Anastasia Suen"]
[{"$f":"A114","v":0},null,{"$f":"C114","v":0},null,{"$f":"E114","v":0},null,9781645490289,null,9781681519432,null,"Floods",null,null,null,"Spot Extreme Weather",null,null,null,"Amicus",null,40.799999999999997,null,19.95,null,24.95,null,0,null,null,null,null,null,0,0,0,0,0,0,0,0,"Spring 2021",null,2021,null,"551.48/9",null,"Q",null,null,null,null,null,null,null,"17",null,"Spot",null,0.8,null,"Science",null,"English",null,"Reinforced Library",null,16,null,"D",null,null,null,"K & Up",null,"Anastasia Suen"]
[{"$f":"A114","v":0},null,{"$f":"C114","v":0},null,{"$f":"E114","v":0},null,9781645490296,null,9781681519449,null,"Hurricanes",null,null,null,"Spot Extreme Weather",null,null,null,"Amicus",null,40.799999999999997,null,19.95,null,24.95,null,0,null,null,null,null,null,0,0,0,0,0,0,0,0,"Spring 2021",null,2021,null,"551.55/2",null,"Q",null,null,null,null,null,null,null,"17",null,"Spot",null,1,null,"Science",null,"English",null,"Reinforced Library",null,16,null,"D",null,null,null,"K & Up",null,"Anastasia Suen"]
[{"$f":"A114","v":0},null,{"$f":"C114","v":0},null,{"$f":"E114","v":0},null,9781645490302,null,9781681519456,null,"Tornadoes",null,null,null,"Spot Extreme Weather",null,null,null,"Amicus",null,40.799999999999997,null,19.95,null,24.95,null,0,null,null,null,null,null,0,0,0,0,0,0,0,0,"Spring 2021",null,2021,null,"551.55/3",null,"Q",null,null,null,null,null,null,null,"17",null,"Spot",null,0.9,null,"Science",null,"English",null,"Reinforced Library",null,16,null,"D",null,null,null,"K & Up",null,"Anastasia Suen"]
[{"$f":"A114","v":0},null,{"$f":"C114","v":0},null,{"$f":"E114","v":0},null,9781645490319,null,9781681519463,null,"Wildfires",null,null,null,"Spot Extreme Weather",null,null,null,"Amicus",null,40.799999999999997,null,19.95,null,24.95,null,0,null,null,null,null,null,0,0,0,0,0,0,0,0,"Spring 2021",null,2021,null,"634.9/618",null,"Q",null,null,null,null,null,null,null,"17",null,"Spot",null,0.9,null,"Science",null,"English",null,"Reinforced Library",null,16,null,"D",null,null,null,"K & Up",null,"Anastasia Suen"]
[]
[null,null,null,null,null,null,null,null,null,null,"Complete Series of 18",null,null,null,"Spot Ocean Animals",null,null,null,null,null,{"$f":"SUM(U123:U140)","v":734.39999999999986},null,{"$f":"SUM(W123:W140)","v":359.09999999999991},null,{"$f":"SUM(Y123:Y140)","v":449.09999999999985}]
[{"$f":"A122","v":0},null,{"$f":"C122","v":0},null,{"$f":"E122","v":0},null,9781681517124,null,9781681516301,null,"Clown Fish",null,null,null,"Spot Ocean Animals",null,null,null,"Amicus",null,40.799999999999997,null,19.95,null,{"$f":"W123+5","v":24.95},null,{"$f":"IF(AC123=FALSE,AK123+AL123+AM123,0)","v":0},null,null,null,null,null,0,0,0,0,0,0,0,0,"Fall 2019",null,2020,null,"597/.72",null,null,null,null,null,null,null,null,null,"24",null,"Spot",null,0.9,null,"Animals & Nature",null,"English",null,"Reinforced Library",null,16,null,"C",null,"360L",null,"PreK - 3",null,"Mari Schuh"]
[{"$f":"A122","v":0},null,{"$f":"C122","v":0},null,{"$f":"E122","v":0},null,9781645491507,null,9781645491088,null,"Corals",null,null,null,"Spot Ocean Animals",null,null,null,"Amicus",null,40.799999999999997,null,19.95,null,24.95,null,0,null,null,null,null,null,0,0,0,0,0,0,0,0,"Spring 2021",null,2021,null,593.6,null,"Q",null,null,null,null,null,null,null,"19",null,"Spot",null,0.9,null,"Life Science",null,"English",null,"Reinforced Library",null,16,null,"C",null,null,null,"K & Up",null,"Mari Schuh"]
[{"$f":"A122","v":0},null,{"$f":"C122","v":0},null,{"$f":"E122","v":0},null,9781681514604,null,9781681513782,null,"Crabs",null,null,null,"Spot Ocean Animals",null,null,null,"Amicus",null,40.799999999999997,null,19.95,null,24.95,null,0,null,null,null,null,null,0,0,0,0,0,0,0,0,"Fall 2018",null,2019,null,"595.3/86",null,null,null,null,null,null,null,null,null,"24",null,"Spot",null,0.9,null,"Animals & Nature",null,"English",null,"Reinforced Library",null,16,null,"C",null,"250L",null,"PreK - 3",null,"Mari Schuh"]
[{"$f":"A122","v":0},null,{"$f":"C122","v":0},null,{"$f":"E122","v":0},null,9781681514611,null,9781681513799,null,"Dolphins",null,null,null,"Spot Ocean Animals",null,null,null,"Amicus",null,40.799999999999997,null,19.95,null,24.95,null,0,null,null,null,null,null,0,0,0,0,0,0,0,0,"Fall 2018",null,2019,null,599.53,null,null,null,null,null,null,null,null,null,"24",null,"Spot",null,0.9,null,"Animals & Nature",null,"English",null,"Reinforced Library",null,16,null,"C",null,"250L",null,"PreK - 3",null,"Mari Schuh"]
[{"$f":"A122","v":0},null,{"$f":"C122","v":0},null,{"$f":"E122","v":0},null,9781645491521,null,9781645491101,null,"Eels",null,null,null,"Spot Ocean Animals",null,null,null,"Amicus",null,40.799999999999997,null,19.95,null,24.95,null,0,null,null,null,null,null,0,0,0,0,0,0,0,0,"Spring 2021",null,2021,null,"597/.43",null,"Q",null,null,null,null,null,null,null,"19",null,"Spot",null,0.9,null,"Life Science",null,"English",null,"Reinforced Library",null,16,null,"C",null,null,null,"K & Up",null,"Mari Schuh"]
[{"$f":"A122","v":0},null,{"$f":"C122","v":0},null,{"$f":"E122","v":0},null,9781681514628,null,9781681513805,null,"Jellyfish",null,null,null,"Spot Ocean Animals",null,null,null,"Amicus",null,40.799999999999997,null,19.95,null,24.95,null,0,null,null,null,null,null,0,0,0,0,0,0,0,0,"Fall 2018",null,2019,null,"593.5/3",null,null,null,null,null,null,null,null,null,"24",null,"Spot",null,0.9,null,"Animals & Nature",null,"English",null,"Reinforced Library",null,16,null,"C",null,"260L",null,"PreK - 3",null,"Mari Schuh"]
[{"$f":"A122","v":0},null,{"$f":"C122","v":0},null,{"$f":"E122","v":0},null,9781645491514,null,9781645491095,null,"Lobsters",null,null,null,"Spot Ocean Animals",null,null,null,"Amicus",null,40.799999999999997,null,19.95,null,24.95,null,0,null,null,null,null,null,0,0,0,0,0,0,0,0,"Spring 2021",null,2021,null,"595.3/84",null,"Q",null,null,null,null,null,null,null,"19",null,"Spot",null,0.9,null,"Life Science",null,"English",null,"Reinforced Library",null,16,null,"C",null,null,null,"K & Up",null,"Mari Schuh"]
[{"$f":"A122","v":0},null,{"$f":"C122","v":0},null,{"$f":"E122","v":0},null,9781645491538,null,9781645491118,null,"Manatees",null,null,null,"Spot Ocean Animals",null,null,null,"Amicus",null,40.799999999999997,null,19.95,null,24.95,null,0,null,null,null,null,null,0,0,0,0,0,0,0,0,"Spring 2021",null,2021,null,599.54999999999995,null,"Q",null,null,null,null,null,null,null,"19",null,"Spot",null,0.9,null,"Life Science",null,"English",null,"Reinforced Library",null,16,null,"C",null,null,null,"K & Up",null,"Mari Schuh"]
[{"$f":"A122","v":0},null,{"$f":"C122","v":0},null,{"$f":"E122","v":0},null,9781681514635,null,9781681513812,null,"Octopuses",null,null,null,"Spot Ocean Animals",null,null,null,"Amicus",null,40.799999999999997,null,19.95,null,24.95,null,0,null,null,null,null,null,0,0,0,0,0,0,0,0,"Fall 2018",null,2019,null,"594/.56",null,null,null,null,null,null,null,null,null,"24",null,"Spot",null,0.9,null,"Animals & Nature",null,"English",null,"Reinforced Library",null,16,null,"C",null,"280L",null,"PreK - 3",null,"Mari Schuh"]
[{"$f":"A122","v":0},null,{"$f":"C122","v":0},null,{"$f":"E122","v":0},null,9781645491545,null,9781645491125,null,"Sea Dragons",null,null,null,"Spot Ocean Animals",null,null,null,"Amicus",null,40.799999999999997,null,19.95,null,24.95,null,0,null,null,null,null,null,0,0,0,0,0,0,0,0,"Spring 2021",null,2021,null,597.67899999999997,null,"Q",null,null,null,null,null,null,null,"19",null,"Spot",null,0.9,null,"Life Science",null,"English",null,"Reinforced Library",null,16,null,"C",null,null,null,"K & Up",null,"Mari Schuh"]
[{"$f":"A122","v":0},null,{"$f":"C122","v":0},null,{"$f":"E122","v":0},null,9781681517131,null,9781681516318,null,"Sea Horses",null,null,null,"Spot Ocean Animals",null,null,null,"Amicus",null,40.799999999999997,null,19.95,null,24.95,null,0,null,null,null,null,null,0,0,0,0,0,0,0,0,"Fall 2019",null,2020,null,"597/.6798",null,null,null,null,null,null,null,null,null,"24",null,"Spot",null,0.9,null,"Animals & Nature",null,"English",null,"Reinforced Library",null,16,null,"C",null,"390L",null,"PreK - 3",null,"Mari Schuh"]
[{"$f":"A122","v":0},null,{"$f":"C122","v":0},null,{"$f":"E122","v":0},null,9781681517148,null,9781681516325,null,"Sea Stars",null,null,null,"Spot Ocean Animals",null,null,null,"Amicus",null,40.799999999999997,null,19.95,null,24.95,null,0,null,null,null,null,null,0,0,0,0,0,0,0,0,"Fall 2019",null,2020,null,"593.9/3",null,null,null,null,null,null,null,null,null,"24",null,"Spot",null,0.9,null,"Animals & Nature",null,"English",null,"Reinforced Library",null,16,null,"C",null,"270L",null,"PreK - 3",null,"Mari Schuh"]
[{"$f":"A122","v":0},null,{"$f":"C122","v":0},null,{"$f":"E122","v":0},null,9781681514642,null,9781681513829,null,"Sea Turtles",null,null,null,"Spot Ocean Animals",null,null,null,"Amicus",null,40.799999999999997,null,19.95,null,24.95,null,0,null,null,null,null,null,0,0,0,0,0,0,0,0,"Fall 2018",null,2019,null,"597.92/8",null,null,null,null,null,null,null,null,null,"24",null,"Spot",null,0.9,null,"Animals & Nature",null,"English",null,"Reinforced Library",null,16,null,"C",null,"350L",null,"PreK - 3",null,"Mari Schuh"]
[{"$f":"A122","v":0},null,{"$f":"C122","v":0},null,{"$f":"E122","v":0},null,9781681514659,null,9781681513836,null,"Sharks",null,null,null,"Spot Ocean Animals",null,null,null,"Amicus",null,40.799999999999997,null,19.95,null,24.95,null,0,null,null,null,null,null,0,0,0,0,0,0,0,0,"Fall 2018",null,2019,null,597.29999999999995,null,null,null,null,null,null,null,null,null,"24",null,"Spot",null,0.9,null,"Animals & Nature",null,"English",null,"Reinforced Library",null,16,null,"C",null,"300L",null,"PreK - 3",null,"Mari Schuh"]
[{"$f":"A122","v":0},null,{"$f":"C122","v":0},null,{"$f":"E122","v":0},null,9781645491552,null,9781645491132,null,"Squids",null,null,null,"Spot Ocean Animals",null,null,null,"Amicus",null,40.799999999999997,null,19.95,null,24.95,null,0,null,null,null,null,null,0,0,0,0,0,0,0,0,"Spring 2021",null,2021,null,"594/.58",null,"Q",null,null,null,null,null,null,null,"19",null,"Spot",null,0.8,null,"Life Science",null,"English",null,"Reinforced Library",null,16,null,"C",null,null,null,"K & Up",null,"Mari Schuh"]
[{"$f":"A122","v":0},null,{"$f":"C122","v":0},null,{"$f":"E122","v":0},null,9781681517155,null,9781681516332,null,"Stingrays",null,null,null,"Spot Ocean Animals",null,null,null,"Amicus",null,40.799999999999997,null,19.95,null,24.95,null,0,null,null,null,null,null,0,0,0,0,0,0,0,0,"Fall 2019",null,2020,null,"597.3/5",null,null,null,null,null,null,null,null,null,"24",null,"Spot",null,0.9,null,"Animals & Nature",null,"English",null,"Reinforced Library",null,16,null,"C",null,"340L",null,"PreK - 3",null,"Mari Schuh"]
[{"$f":"A122","v":0},null,{"$f":"C122","v":0},null,{"$f":"E122","v":0},null,9781681517162,null,9781681516349,null,"Tang Fish",null,null,null,"Spot Ocean Animals",null,null,null,"Amicus",null,40.799999999999997,null,19.95,null,24.95,null,0,null,null,null,null,null,0,0,0,0,0,0,0,0,"Fall 2019",null,2020,null,"597/.42",null,null,null,null,null,null,null,null,null,"24",null,"Spot",null,0.9,null,"Animals & Nature",null,"English",null,"Reinforced Library",null,16,null,"C",null,"340L",null,"PreK - 3",null,"Mari Schuh"]
[{"$f":"A122","v":0},null,{"$f":"C122","v":0},null,{"$f":"E122","v":0},null,9781681517179,null,9781681516356,null,"Whales",null,null,null,"Spot Ocean Animals",null,null,null,"Amicus",null,40.799999999999997,null,19.95,null,24.95,null,0,null,null,null,null,null,0,0,0,0,0,0,0,0,"Fall 2019",null,2020,null,"599.5/24",null,null,null,null,null,null,null,null,null,"24",null,"Spot",null,1,null,"Animals & Nature",null,"English",null,"Reinforced Library",null,16,null,"C",null,"380L",null,"PreK - 3",null,"Mari Schuh"]
[]
[null,null,null,null,null,null,null,null,null,null,"Complete Series of 20",null,null,null,"Spot Sports",null,null,null,null,null,{"$f":"SUM(U143:U162)","v":815.99999999999977},null,{"$f":"SUM(W143:W162)","v":398.99999999999989},null,{"$f":"SUM(Y143:Y162)","v":498.99999999999983}]
[{"$f":"A142","v":0},null,{"$f":"C142","v":0},null,{"$f":"E142","v":0},null,9781681511757,null,9781681510859,null,"Baseball",null,null,null,"Spot Sports",null,null,null,"Amicus",null,40.799999999999997,null,19.95,null,{"$f":"W143+5","v":24.95},null,{"$f":"IF(AC143=FALSE,AK143+AL143+AM143,0)","v":0},null,null,null,null,null,{"$f":"A143","v":0},{"$f":"C143","v":0},{"$f":"E143","v":0},{"$f":"SUM(AG143:AI143)","v":0},{"$f":"U143*A143","v":0},{"$f":"W143*C143","v":0},{"$f":"Y143*E143","v":0},{"$f":"SUM(AK143:AM143)","v":0},"Fall 2017",null,2018,null,796.35699999999997,null,null,null,null,null,null,null,null,null,"24",null,"Spot",null,0.8,null,"Sports & Recreation",null,"English",null,"Reinforced Library",null,16,null,"D",null,"280L",null,"PreK - 3",null,"Mari Schuh"]
[{"$f":"A142","v":0},null,{"$f":"C142","v":0},null,{"$f":"E142","v":0},null,9781681511740,null,9781681510842,null,"Basketball",null,null,null,"Spot Sports",null,null,null,"Amicus",null,40.799999999999997,null,19.95,null,24.95,null,0,null,null,null,null,null,0,0,0,0,0,0,0,0,"Fall 2017",null,2018,null,796.32299999999998,null,null,null,null,null,null,null,null,null,"24",null,"Spot",null,0.9,null,"Sports & Recreation",null,"English",null,"Reinforced Library",null,16,null,"D",null,"320L",null,"PreK - 3",null,"Mari Schuh"]
[{"$f":"A142","v":0},null,{"$f":"C142","v":0},null,{"$f":"E142","v":0},null,9781645490180,null,9781681519333,null,"Bowling",null,null,null,"Spot Sports",null,null,null,"Amicus",null,40.799999999999997,null,19.95,null,24.95,null,0,null,null,null,null,null,0,0,0,0,0,0,0,0,"Spring 2021",null,2021,null,794.6,null,"Q",null,null,null,null,null,null,null,"20",null,"Spot",null,0.9,null,"Sports and Recreation",null,"English",null,"Reinforced Library",null,16,null,"D",null,null,null,"K & Up",null,"Mari Schuh"]
[{"$f":"A142","v":0},null,{"$f":"C142","v":0},null,{"$f":"E142","v":0},null,9781645490197,null,9781681519340,null,"Cheerleading",null,null,null,"Spot Sports",null,null,null,"Amicus",null,40.799999999999997,null,19.95,null,24.95,null,0,null,null,null,null,null,0,0,0,0,0,0,0,0,"Spring 2021",null,2021,null,"791.6/4",null,"Q",null,null,null,null,null,null,null,"20",null,"Spot",null,1,null,"Sports and Recreation",null,"English",null,"Reinforced Library",null,16,null,"D",null,null,null,"K & Up",null,"Mari Schuh"]
[{"$f":"A142","v":0},null,{"$f":"C142","v":0},null,{"$f":"E142","v":0},null,9781645490203,null,9781681519357,null,"Downhill Skiing",null,null,null,"Spot Sports",null,null,null,"Amicus",null,40.799999999999997,null,19.95,null,24.95,null,0,null,null,null,null,null,0,0,0,0,0,0,0,0,"Spring 2021",null,2021,null,796.93,null,"Q",null,null,null,null,null,null,null,"20",null,"Spot",null,1,null,"Sports and Recreation",null,"English",null,"Reinforced Library",null,16,null,"D",null,null,null,"K & Up",null,"Mari Schuh"]
[{"$f":"A142","v":0},null,{"$f":"C142","v":0},null,{"$f":"E142","v":0},null,9781681517322,null,9781681516509,null,"Figure Skating",null,null,null,"Spot Sports",null,null,null,"Amicus",null,40.799999999999997,null,19.95,null,24.95,null,0,null,null,null,null,null,0,0,0,0,0,0,0,0,"Fall 2019",null,2020,null,"796.91/2",null,null,null,null,null,null,null,null,null,"24",null,"Spot",null,1,null,"Sports & Recreation",null,"English",null,"Reinforced Library",null,16,null,"D",null,"350L",null,"PreK - 3",null,"Mari Schuh"]
[{"$f":"A142","v":0},null,{"$f":"C142","v":0},null,{"$f":"E142","v":0},null,9781681511764,null,9781681510866,null,"Football",null,null,null,"Spot Sports",null,null,null,"Amicus",null,40.799999999999997,null,19.95,null,24.95,null,0,null,null,null,null,null,0,0,0,0,0,0,0,0,"Fall 2017",null,2018,null,796.33199999999999,null,null,null,null,null,null,null,null,null,"24",null,"Spot",null,0.9,null,"Sports & Recreation",null,"English",null,"Reinforced Library",null,16,null,"D",null,"330L",null,"PreK - 3",null,"Mari Schuh"]
[{"$f":"A142","v":0},null,{"$f":"C142","v":0},null,{"$f":"E142","v":0},null,9781681517339,null,9781681516516,null,"Golf",null,null,null,"Spot Sports",null,null,null,"Amicus",null,40.799999999999997,null,19.95,null,24.95,null,0,null,null,null,null,null,0,0,0,0,0,0,0,0,"Fall 2019",null,2020,null,796.35199999999998,null,null,null,null,null,null,null,null,null,"24",null,"Spot",null,0.9,null,"Sports & Recreation",null,"English",null,"Reinforced Library",null,16,null,"D",null,"330L",null,"PreK - 3",null,"Mari Schuh"]
[{"$f":"A142","v":0},null,{"$f":"C142","v":0},null,{"$f":"E142","v":0},null,9781681511771,null,9781681510873,null,"Gymnastics",null,null,null,"Spot Sports",null,null,null,"Amicus",null,40.799999999999997,null,19.95,null,24.95,null,0,null,null,null,null,null,0,0,0,0,0,0,0,0,"Fall 2017",null,2018,null,796.44,null,null,null,null,null,null,null,null,null,"24",null,"Spot",null,0.9,null,"Sports & Recreation",null,"English",null,"Reinforced Library",null,16,null,"D",null,"280L",null,"PreK - 3",null,"Mari Schuh"]
[{"$f":"A142","v":0},null,{"$f":"C142","v":0},null,{"$f":"E142","v":0},null,9781681511788,null,9781681510880,null,"Hockey",null,null,null,"Spot Sports",null,null,null,"Amicus",null,40.799999999999997,null,19.95,null,24.95,null,0,null,null,null,null,null,0,0,0,0,0,0,0,0,"Fall 2017",null,2018,null,796.96199999999999,null,null,null,null,null,null,null,null,null,"24",null,"Spot",null,0.9,null,"Sports & Recreation",null,"English",null,"Reinforced Library",null,16,null,"D",null,"280L",null,"PreK - 3",null,"Mari Schuh"]
[{"$f":"A142","v":0},null,{"$f":"C142","v":0},null,{"$f":"E142","v":0},null,9781645490210,null,9781681519364,null,"Lacrosse",null,null,null,"Spot Sports",null,null,null,"Amicus",null,40.799999999999997,null,19.95,null,24.95,null,0,null,null,null,null,null,0,0,0,0,0,0,0,0,"Spring 2021",null,2021,null,"796.36/2",null,"Q",null,null,null,null,null,null,null,"20",null,"Spot",null,1,null,"Sports and Recreation",null,"English",null,"Reinforced Library",null,16,null,"D",null,null,null,"K & Up",null,"Mari Schuh"]
[{"$f":"A142","v":0},null,{"$f":"C142","v":0},null,{"$f":"E142","v":0},null,9781645490227,null,9781681519371,null,"Skateboarding",null,null,null,"Spot Sports",null,null,null,"Amicus",null,40.799999999999997,null,19.95,null,24.95,null,0,null,null,null,null,null,0,0,0,0,0,0,0,0,"Spring 2021",null,2021,null,796.22,null,"Q",null,null,null,null,null,null,null,"20",null,"Spot",null,1,null,"Sports and Recreation",null,"English",null,"Reinforced Library",null,16,null,"D",null,null,null,"K & Up",null,"Mari Schuh"]
[{"$f":"A142","v":0},null,{"$f":"C142","v":0},null,{"$f":"E142","v":0},null,9781681517346,null,9781681516523,null,"Snowboarding",null,null,null,"Spot Sports",null,null,null,"Amicus",null,40.799999999999997,null,19.95,null,24.95,null,0,null,null,null,null,null,0,0,0,0,0,0,0,0,"Fall 2019",null,2020,null,796.93899999999996,null,null,null,null,null,null,null,null,null,"24",null,"Spot",null,1,null,"Sports & Recreation",null,"English",null,"Reinforced Library",null,16,null,"D",null,"400L",null,"PreK - 3",null,"Mari Schuh"]
[{"$f":"A142","v":0},null,{"$f":"C142","v":0},null,{"$f":"E142","v":0},null,9781681511795,null,9781681510897,null,"Soccer",null,null,null,"Spot Sports",null,null,null,"Amicus",null,40.799999999999997,null,19.95,null,24.95,null,0,null,null,null,null,null,0,0,0,0,0,0,0,0,"Fall 2017",null,2018,null,796.33399999999995,null,null,null,null,null,null,null,null,null,"24",null,"Spot",null,0.9,null,"Sports & Recreation",null,"English",null,"Reinforced Library",null,16,null,"D",null,"320L",null,"PreK - 3",null,"Mari Schuh"]
[{"$f":"A142","v":0},null,{"$f":"C142","v":0},null,{"$f":"E142","v":0},null,9781645490234,null,9781681519388,null,"Softball",null,null,null,"Spot Sports",null,null,null,"Amicus",null,40.799999999999997,null,19.95,null,24.95,null,0,null,null,null,null,null,0,0,0,0,0,0,0,0,"Spring 2021",null,2021,null,"796.357/8",null,"Q",null,null,null,null,null,null,null,"20",null,"Spot",null,0.9,null,"Sports and Recreation",null,"English",null,"Reinforced Library",null,16,null,"D",null,null,null,"K & Up",null,"Mari Schuh"]
[{"$f":"A142","v":0},null,{"$f":"C142","v":0},null,{"$f":"E142","v":0},null,9781681517353,null,9781681516530,null,"Swimming",null,null,null,"Spot Sports",null,null,null,"Amicus",null,40.799999999999997,null,19.95,null,24.95,null,0,null,null,null,null,null,0,0,0,0,0,0,0,0,"Fall 2019",null,2020,null,"797.2/1",null,null,null,null,null,null,null,null,null,"24",null,"Spot",null,1,null,"Sports & Recreation",null,"English",null,"Reinforced Library",null,16,null,"D",null,"290L",null,"PreK - 3",null,"Mari Schuh"]
[{"$f":"A142","v":0},null,{"$f":"C142","v":0},null,{"$f":"E142","v":0},null,9781681517360,null,9781681516547,null,"Tae Kwon Do",null,null,null,"Spot Sports",null,null,null,"Amicus",null,40.799999999999997,null,19.95,null,24.95,null,0,null,null,null,null,null,0,0,0,0,0,0,0,0,"Fall 2019",null,2020,null,"796.815/7",null,null,null,null,null,null,null,null,null,"24",null,"Spot",null,0.9,null,"Sports & Recreation",null,"English",null,"Reinforced Library",null,16,null,"D",null,"340L",null,"PreK - 3",null,"Mari Schuh"]
[{"$f":"A142","v":0},null,{"$f":"C142","v":0},null,{"$f":"E142","v":0},null,9781645490241,null,9781681519395,null,"Tennis",null,null,null,"Spot Sports",null,null,null,"Amicus",null,40.799999999999997,null,19.95,null,24.95,null,0,null,null,null,null,null,0,0,0,0,0,0,0,0,"Spring 2021",null,2021,null,796.34199999999998,null,"Q",null,null,null,null,null,null,null,"20",null,"Spot",null,1,null,"Sports and Recreation",null,"English",null,"Reinforced Library",null,16,null,"D",null,null,null,"K & Up",null,"Mari Schuh"]
[{"$f":"A142","v":0},null,{"$f":"C142","v":0},null,{"$f":"E142","v":0},null,9781645490258,null,9781681519401,null,"Track and Field",null,null,null,"Spot Sports",null,null,null,"Amicus",null,40.799999999999997,null,19.95,null,24.95,null,0,null,null,null,null,null,0,0,0,0,0,0,0,0,"Spring 2021",null,2021,null,796.42,null,"Q",null,null,null,null,null,null,null,"20",null,"Spot",null,0.9,null,"Sports and Recreation",null,"English",null,"Reinforced Library",null,16,null,"D",null,null,null,"K & Up",null,"Mari Schuh"]
[{"$f":"A142","v":0},null,{"$f":"C142","v":0},null,{"$f":"E142","v":0},null,9781681517377,null,9781681516554,null,"Volleyball",null,null,null,"Spot Sports",null,null,null,"Amicus",null,40.799999999999997,null,19.95,null,24.95,null,0,null,null,null,null,null,0,0,0,0,0,0,0,0,"Fall 2019",null,2020,null,796.32500000000005,null,null,null,null,null,null,null,null,null,"24",null,"Spot",null,0.9,null,"Sports & Recreation",null,"English",null,"Reinforced Library",null,16,null,"D",null,"310L",null,"PreK - 3",null,"Mari Schuh"]
[]
[null,null,null,null,null,null,null,null,null,null,"Complete Series of 6",null,null,null,"Spot Wild Cats",null,null,null,null,null,{"$f":"SUM(U165:U170)","v":244.8},null,{"$f":"SUM(W165:W170)","v":119.7},null,{"$f":"SUM(Y165:Y170)","v":149.69999999999999}]
[{"$f":"A164","v":0},null,{"$f":"C164","v":0},null,{"$f":"E164","v":0},null,9781645490128,null,9781681519272,null,"Bobcats",null,null,null,"Spot Wild Cats",null,null,null,"Amicus",null,40.799999999999997,null,19.95,null,{"$f":"W165+5","v":24.95},null,{"$f":"IF(AC165=FALSE,AK165+AL165+AM165,0)","v":0},null,null,null,null,null,0,0,0,0,0,0,0,0,"Spring 2021",null,2021,null,"599.75/36",null,"Q",null,null,null,null,null,null,null,"18",null,"Spot",null,0.9,null,"Life Science",null,"English",null,"Reinforced Library",null,16,null,"C",null,null,null,"K & Up",null,"Alissa Thielges"]
[{"$f":"A164","v":0},null,{"$f":"C164","v":0},null,{"$f":"E164","v":0},null,9781645490135,null,9781681519289,null,"Cougars",null,null,null,"Spot Wild Cats",null,null,null,"Amicus",null,40.799999999999997,null,19.95,null,24.95,null,0,null,null,null,null,null,0,0,0,0,0,0,0,0,"Spring 2021",null,2021,null,"599.75/24",null,"Q",null,null,null,null,null,null,null,"18",null,"Spot",null,0.9,null,"Life Science",null,"English",null,"Reinforced Library",null,16,null,"C",null,null,null,"K & Up",null,"Alissa Thielges"]
[{"$f":"A164","v":0},null,{"$f":"C164","v":0},null,{"$f":"E164","v":0},null,9781645490142,null,9781681519296,null,"Jaguars",null,null,null,"Spot Wild Cats",null,null,null,"Amicus",null,40.799999999999997,null,19.95,null,24.95,null,0,null,null,null,null,null,0,0,0,0,0,0,0,0,"Spring 2021",null,2021,null,"599.75/5",null,"Q",null,null,null,null,null,null,null,"18",null,"Spot",null,0.9,null,"Life Science",null,"English",null,"Reinforced Library",null,16,null,"C",null,null,null,"K & Up",null,"Alissa Thielges"]
[{"$f":"A164","v":0},null,{"$f":"C164","v":0},null,{"$f":"E164","v":0},null,9781645490159,null,9781681519302,null,"Leopards",null,null,null,"Spot Wild Cats",null,null,null,"Amicus",null,40.799999999999997,null,19.95,null,24.95,null,0,null,null,null,null,null,0,0,0,0,0,0,0,0,"Spring 2021",null,2021,null,"599.75/54",null,"Q",null,null,null,null,null,null,null,"18",null,"Spot",null,0.9,null,"Life Science",null,"English",null,"Reinforced Library",null,16,null,"C",null,null,null,"K & Up",null,"Alissa Thielges"]
[{"$f":"A164","v":0},null,{"$f":"C164","v":0},null,{"$f":"E164","v":0},null,9781645490166,null,9781681519319,null,"Lynx",null,null,null,"Spot Wild Cats",null,null,null,"Amicus",null,40.799999999999997,null,19.95,null,24.95,null,0,null,null,null,null,null,0,0,0,0,0,0,0,0,"Spring 2021",null,2021,null,"599.75/3",null,"Q",null,null,null,null,null,null,null,"18",null,"Spot",null,0.8,null,"Life Science",null,"English",null,"Reinforced Library",null,16,null,"C",null,null,null,"K & Up",null,"Alissa Thielges"]
[{"$f":"A164","v":0},null,{"$f":"C164","v":0},null,{"$f":"E164","v":0},null,9781645490173,null,9781681519326,null,"Tigers",null,null,null,"Spot Wild Cats",null,null,null,"Amicus",null,40.799999999999997,null,19.95,null,24.95,null,0,null,null,null,null,null,0,0,0,0,0,0,0,0,"Spring 2021",null,2021,null,599.75599999999997,null,"Q",null,null,null,null,null,null,null,"18",null,"Spot",null,0.9,null,"Life Science",null,"English",null,"Reinforced Library",null,16,null,"C",null,null,null,"K & Up",null,"Alissa Thielges"]
[]
[null,null,null,null,null,null,null,null,null,null,"Complete Series of 8",null,null,null,"The Amicus Book of…(Board Book)",null,null,null,null,null,{"$f":"SUM(U173:U180)","v":0},null,{"$f":"SUM(W173:W180)","v":75.92},null,{"$f":"SUM(Y173:Y180)","v":0}]
[null,null,{"$f":"C172","v":0},null,null,null,"Not Available",null,9781681525693,null,"Amicus Book of 123, The",null,null,null,"The Amicus Book of…(Board Book)",null,null,null,"Amicus",null,0,null,8.99,null,0,null,{"$f":"IF(AC173=FALSE,AK173+AL173+AM173,0)","v":0},null,null,null,null,null,0,0,0,0,0,0,0,0,"Fall 2019",null,2019,null,"513.2/11",null,null,null,null,null,null,null,null,null,"14",null,"Amicus Ink",null,"Not Quizzable",null,"Fiction",null,"English",null,"Board Book",null,10,null,null,null,null,null,"PreK - 1",null,"Isobel Lundie"]
[null,null,{"$f":"C172","v":0},null,null,null,"Not Available",null,9781681525686,null,"Amicus Book of ABC, The",null,null,null,"The Amicus Book of…(Board Book)",null,null,null,"Amicus",null,0,null,8.99,null,0,null,0,null,null,null,null,null,0,0,0,0,0,0,0,0,"Fall 2019",null,2019,null,"E",null,null,null,null,null,null,null,null,null,"14",null,"Amicus Ink",null,"Not Quizzable",null,"Fiction",null,"English",null,"Board Book",null,26,null,null,null,null,null,"PreK - 1",null,"Isobel Lundie"]
[null,null,{"$f":"C172","v":0},null,null,null,"Not Available",null,9781681527574,null,"Amicus Book of Animal Homes, The",null,null,null,"The Amicus Book of…(Board Book)",null,null,null,"Amicus",null,0,null,9.99,null,0,null,0,null,null,null,null,null,0,0,0,0,0,0,0,0,"Fall 2020",null,2020,null,"591.56/4",null,null,null,null,null,null,null,null,null,"14",null,"Amicus Ink",null,"Not Quizzable",null,"Fiction",null,"English",null,"Board Book",null,10,null,null,null,null,null,"PreK - 1",null,"Isobel Lundie"]
[null,null,{"$f":"C172","v":0},null,null,null,"Not Available",null,9781681525709,null,"Amicus Book of Animals, The",null,null,null,"The Amicus Book of…(Board Book)",null,null,null,"Amicus",null,0,null,8.99,null,0,null,0,null,null,null,null,null,0,0,0,0,0,0,0,0,"Spring 2020",null,2020,null,590,null,null,null,null,null,null,null,null,null,"14",null,"Amicus Ink",null,"Not Quizzable",null,"Fiction",null,"English",null,"Board Book",null,10,null,null,null,null,null,"PreK - 1",null,"Isobel Lundie"]
[null,null,{"$f":"C172","v":0},null,null,null,"Not Available",null,9781681527604,null,"Amicus Book of Bugs, The",null,null,null,"The Amicus Book of…(Board Book)",null,null,null,"Amicus",null,0,null,9.99,null,0,null,0,null,null,null,null,null,0,0,0,0,0,0,0,0,"Spring 2021",null,2021,null,595.70000000000005,null,null,null,null,null,null,null,null,null,"14",null,"Amicus Ink",null,"Not Quizzable",null,"Earth and Space Science",null,"English",null,"Board Book",null,10,null,"na",null,null,null,"PreK & Up",null,"Isobel Lundie"]
[null,null,{"$f":"C172","v":0},null,null,null,"Not Available",null,9781681525716,null,"Amicus Book of Colors, The",null,null,null,"The Amicus Book of…(Board Book)",null,null,null,"Amicus",null,0,null,8.99,null,0,null,0,null,null,null,null,null,0,0,0,0,0,0,0,0,"Spring 2020",null,2020,null,535.6,null,null,null,null,null,null,null,null,null,"14",null,"Amicus Ink",null,"Not Quizzable",null,"Fiction",null,"English",null,"Board Book",null,10,null,null,null,null,null,"PreK - 1",null,"Isobel Lundie"]
[null,null,{"$f":"C172","v":0},null,null,null,"Not Available",null,9781681527581,null,"Amicus Book of Earth, The",null,null,null,"The Amicus Book of…(Board Book)",null,null,null,"Amicus",null,0,null,9.99,null,0,null,0,null,null,null,null,null,0,0,0,0,0,0,0,0,"Fall 2020",null,2020,null,null,null,null,null,null,null,null,null,null,null,"14",null,"Amicus Ink",null,"Not Quizzable",null,"Fiction",null,"English",null,"Board Book",null,10,null,null,null,null,null,"PreK - 1",null,"Isobel Lundie"]
[null,null,{"$f":"C172","v":0},null,null,null,"Not Available",null,9781681527598,null,"Amicus Book of Nature, The",null,null,null,"The Amicus Book of…(Board Book)",null,null,null,"Amicus",null,0,null,9.99,null,0,null,0,null,null,null,null,null,0,0,0,0,0,0,0,0,"Spring 2021",null,2021,null,508,null,null,null,null,null,null,null,null,null,"14",null,"Amicus Ink",null,"Not Quizzable",null,"Earth and Space Science",null,"English",null,"Board Book",null,10,null,"na",null,null,null,"PreK & Up",null,"Isobel Lundie"]
[]
[null,null,null,null,null,null,null,null,null,null,"Complete Series of 3",null,null,null,"Amicus Ink Board Books",null,null,null,null,null,{"$f":"SUM(U183:U185)","v":42.900000000000006},null,{"$f":"SUM(W183:W185)","v":29.97},null,{"$f":"SUM(Y183:Y185)","v":44.97}]
[{"$f":"A182","v":0},null,{"$f":"C182","v":0},null,{"$f":"E182","v":0},null,9781681525129,null,9781681521947,null,"It's Not the Baby",null,null,null,"Amicus Ink Board Books",null,null,null,"Amicus",null,14.3,null,9.99,null,{"$f":"W183+5","v":14.99},null,{"$f":"IF(AC183=FALSE,AK183+AL183+AM183,0)","v":0},null,null,null,null,null,0,0,0,0,0,0,0,0,"Fall 2017",null,2018,null,"E",null,null,null,null,null,null,null,null,null,"14",null,"Amicus Ink",null,"Not Quizzable",null,"Fiction",null,"English",null,"Board Book",null,14,null,null,null,null,null,"4 - 8",null,"J. Patrick Lewis & Leigh Lewis"]
[{"$f":"A182","v":0},null,{"$f":"C182","v":0},null,{"$f":"E182","v":0},null,9781681525150,null,9781681524092,null,"It's Not the Puppy",null,null,null,"Amicus Ink Board Books",null,null,null,"Amicus",null,14.3,null,9.99,null,{"$f":"W184+5","v":14.99},null,0,null,null,null,null,null,0,0,0,0,0,0,0,0,"Spring 2019",null,2019,null,"E",null,null,null,null,null,null,null,null,null,"14",null,"Amicus Ink",null,"Not Quizzable",null,"Fiction",null,"English",null,"Board Book",null,14,null,null,null,null,null,"4 - 8",null,"J. Patrick Lewis & Leigh Lewis"]
[{"$f":"A182","v":0},null,{"$f":"C182","v":0},null,{"$f":"E182","v":0},null,9781681525679,null,9781681525037,null,"Who is Making a Mess?",null,null,null,"Amicus Ink Board Books",null,null,null,"Amicus",null,14.3,null,9.99,null,{"$f":"W185+5","v":14.99},null,0,null,null,null,null,null,0,0,0,0,0,0,0,0,"Spring 2020",null,2020,null,"E",null,null,null,null,null,null,null,null,null,"13",null,"Amicus Ink",null,"Not Quizzable",null,"Fiction",null,"English",null,"Board Book",null,20,null,null,null,null,null,"4 - 8",null,"Maria D’Haene"]
[]
[null,null,null,null,null,null,null,null,null,null,"Complete Series of 6",null,null,null,"Deportes olímpicos de verano (Summer Olympic Sports)",null,null,null,null,null,{"$f":"SUM(U188:U193)","v":294},null,{"$f":"SUM(W188:W193)","v":143.69999999999999},null,{"$f":"SUM(Y188:Y193)","v":173.7}]
[{"$f":"A187","v":0},null,{"$f":"C187","v":0},null,{"$f":"E187","v":0},null,9781681519258,null,9781681518992,null,"El atletismo (Track & Field)",null,null,null,"Deportes olímpicos de verano (Summer Olympic Sports)",null,null,null,"Amicus",null,49,null,23.95,null,{"$f":"W188+5","v":28.95},null,{"$f":"IF(AC188=FALSE,AK188+AL188+AM188,0)","v":0},null,null,null,null,null,0,0,0,0,0,0,0,0,"Spring 2020",null,2020,null,796.42,null,null,null,null,null,null,null,null,null,"50",null,"Amicus High Interest",null,3.6,null,"Sports & Recreation",null,"Spanish",null,"Reinforced Library",null,32,null,null,null,null,null,"1 - 4",null,"M. K. Osborne"]
[{"$f":"A187","v":0},null,{"$f":"C187","v":0},null,{"$f":"E187","v":0},null,9781681519210,null,9781681518954,null,"El baloncesto (Basketball)",null,null,null,"Deportes olímpicos de verano (Summer Olympic Sports)",null,null,null,"Amicus",null,49,null,23.95,null,28.95,null,0,null,null,null,null,null,0,0,0,0,0,0,0,0,"Spring 2020",null,2020,null,796.32299999999998,null,null,null,null,null,null,null,null,null,"50",null,"Amicus High Interest",null,3.7,null,"Sports & Recreation",null,"Spanish",null,"Reinforced Library",null,32,null,null,null,null,null,"1 - 4",null,"M. K. Osborne"]
[{"$f":"A187","v":0},null,{"$f":"C187","v":0},null,{"$f":"E187","v":0},null,9781681519265,null,9781681519005,null,"El vóleibol (Volleyball)",null,null,null,"Deportes olímpicos de verano (Summer Olympic Sports)",null,null,null,"Amicus",null,49,null,23.95,null,28.95,null,0,null,null,null,null,null,0,0,0,0,0,0,0,0,"Spring 2020",null,2020,null,796.32500000000005,null,null,null,null,null,null,null,null,null,"50",null,"Amicus High Interest",null,3.7,null,"Sports & Recreation",null,"Spanish",null,"Reinforced Library",null,32,null,null,null,null,null,"1 - 4",null,"M. K. Osborne"]
[{"$f":"A187","v":0},null,{"$f":"C187","v":0},null,{"$f":"E187","v":0},null,9781681519234,null,9781681518978,null,"La gimnasia (Gymnastics)",null,null,null,"Deportes olímpicos de verano (Summer Olympic Sports)",null,null,null,"Amicus",null,49,null,23.95,null,28.95,null,0,null,null,null,null,null,0,0,0,0,0,0,0,0,"Spring 2020",null,2020,null,796.44,null,null,null,null,null,null,null,null,null,"50",null,"Amicus High Interest",null,4.0999999999999996,null,"Sports & Recreation",null,"Spanish",null,"Reinforced Library",null,32,null,null,null,null,null,"1 - 4",null,"M. K. Osborne"]
[{"$f":"A187","v":0},null,{"$f":"C187","v":0},null,{"$f":"E187","v":0},null,9781681519241,null,9781681518985,null,"La natación y los saltos ornamentales (Swimmming & Diving)",null,null,null,"Deportes olímpicos de verano (Summer Olympic Sports)",null,null,null,"Amicus",null,49,null,23.95,null,28.95,null,0,null,null,null,null,null,0,0,0,0,0,0,0,0,"Spring 2020",null,2020,null,797.2,null,null,null,null,null,null,null,null,null,"50",null,"Amicus High Interest",null,3.5,null,"Sports & Recreation",null,"Spanish",null,"Reinforced Library",null,32,null,null,null,null,null,"1 - 4",null,"M. K. Osborne"]
[{"$f":"A187","v":0},null,{"$f":"C187","v":0},null,{"$f":"E187","v":0},null,9781681519227,null,9781681518961,null,"Los deportes de combate (Combat Sports)",null,null,null,"Deportes olímpicos de verano (Summer Olympic Sports)",null,null,null,"Amicus",null,49,null,23.95,null,28.95,null,0,null,null,null,null,null,0,0,0,0,0,0,0,0,"Spring 2020",null,2020,null,796.8,null,null,null,null,null,null,null,null,null,"50",null,"Amicus High Interest",null,3.8,null,"Sports & Recreation",null,"Spanish",null,"Reinforced Library",null,32,null,null,null,null,null,"1 - 4",null,"M. K. Osborne"]
[]
[null,null,null,null,null,null,null,null,null,null,"Complete Series of 14",null,null,null,"Favorite Cat Breeds",null,null,null,null,null,{"$f":"SUM(U196:U209)","v":269.10000000000002},null,{"$f":"SUM(W196:W209)","v":307.2999999999999},null,{"$f":"SUM(Y196:Y209)","v":161.69999999999999}]
[null,null,{"$f":"C195","v":0},null,null,null,"Not Available",null,9781607539667,null,"Abyssinian Cats",null,null,null,"Favorite Cat Breeds",null,null,null,"Amicus",null,0,null,21.95,null,0,null,{"$f":"IF(AC196=FALSE,AK196+AL196+AM196,0)","v":0},null,null,null,null,null,0,0,0,0,0,0,0,0,"Fall 2016",null,2017,null,"636.8/26",null,null,null,null,null,null,null,null,null,"30",null,"Amicus High Interest",null,2,null,"Animals & Nature",null,"English",null,"Reinforced Library",null,24,null,"I",null,"470L",null,"1 - 4",null,"Mari Schuh"]
[null,null,{"$f":"C195","v":0},null,null,null,"Not Available",null,9781607539674,null,"American Shorthair Cats",null,null,null,"Favorite Cat Breeds",null,null,null,"Amicus",null,0,null,21.95,null,0,null,0,null,null,null,null,null,0,0,0,0,0,0,0,0,"Fall 2016",null,2017,null,"636.8/22",null,null,null,null,null,null,null,null,null,"30",null,"Amicus High Interest",null,2.1,null,"Animals & Nature",null,"English",null,"Reinforced Library",null,24,null,"I",null,"470L",null,"1 - 4",null,"Mari Schuh"]
[null,null,{"$f":"C195","v":0},null,null,null,"Not Available",null,9781607539681,null,"Birman Cats",null,null,null,"Favorite Cat Breeds",null,null,null,"Amicus",null,0,null,21.95,null,0,null,0,null,null,null,null,null,0,0,0,0,0,0,0,0,"Fall 2016",null,2017,null,"636.8/24",null,null,null,null,null,null,null,null,null,"30",null,"Amicus High Interest",null,2.1,null,"Animals & Nature",null,"English",null,"Reinforced Library",null,24,null,"I",null,"390L",null,"1 - 4",null,"Mari Schuh"]
[null,null,{"$f":"C195","v":0},null,null,null,9781681518558,null,9781681518152,null,"British Shorthair Cats",null,null,null,"Favorite Cat Breeds",null,null,null,"Amicus",null,44.85,null,21.95,null,{"$f":"W199+5","v":26.95},null,0,null,null,null,null,null,0,0,0,0,0,0,0,0,"Spring 2020",null,2020,null,"636.8/22",null,"Q",null,null,null,null,null,null,null,"30",null,"Amicus High Interest",null,2.1,null,"Animals & Nature",null,"English",null,"Reinforced Library",null,24,null,"I",null,null,null,"1 - 4",null,"Mary Ellen Klukow"]
[null,null,{"$f":"C195","v":0},null,null,null,9781681518565,null,9781681518169,null,"Devon Rex Cats",null,null,null,"Favorite Cat Breeds",null,null,null,"Amicus",null,44.85,null,21.95,null,{"$f":"W200+5","v":26.95},null,0,null,null,null,null,null,0,0,0,0,0,0,0,0,"Spring 2020",null,2020,null,"636.8/22",null,"Q",null,null,null,null,null,null,null,"30",null,"Amicus High Interest",null,2.1,null,"Animals & Nature",null,"English",null,"Reinforced Library",null,24,null,"I",null,null,null,"1 - 4",null,"Mary Ellen Klukow"]
[null,null,{"$f":"C195","v":0},null,null,null,9781681518572,null,9781681518176,null,"Exotic Cats",null,null,null,"Favorite Cat Breeds",null,null,null,"Amicus",null,44.85,null,21.95,null,{"$f":"W201+5","v":26.95},null,0,null,null,null,null,null,0,0,0,0,0,0,0,0,"Spring 2020",null,2020,null,"636.8/2",null,"Q",null,null,null,null,null,null,null,"30",null,"Amicus High Interest",null,2.2999999999999998,null,"Animals & Nature",null,"English",null,"Reinforced Library",null,24,null,"I",null,null,null,"1 - 4",null,"Mary Ellen Klukow"]
[null,null,{"$f":"C195","v":0},null,null,null,"Not Available",null,9781607539698,null,"Maine Coon Cats",null,null,null,"Favorite Cat Breeds",null,null,null,"Amicus",null,0,null,21.95,null,0,null,0,null,null,null,null,null,0,0,0,0,0,0,0,0,"Fall 2016",null,2017,null,"636.8/3",null,null,null,null,null,null,null,null,null,"30",null,"Amicus High Interest",null,2,null,"Animals & Nature",null,"English",null,"Reinforced Library",null,24,null,"I",null,"470L",null,"1 - 4",null,"Mari Schuh"]
[null,null,{"$f":"C195","v":0},null,null,null,9781681518589,null,9781681518183,null,"Oriental Cats",null,null,null,"Favorite Cat Breeds",null,null,null,"Amicus",null,44.85,null,21.95,null,{"$f":"W203+5","v":26.95},null,0,null,null,null,null,null,0,0,0,0,0,0,0,0,"Spring 2020",null,2020,null,636.79999999999995,null,"Q",null,null,null,null,null,null,null,"30",null,"Amicus High Interest",null,2.5,null,"Animals & Nature",null,"English",null,"Reinforced Library",null,24,null,"I",null,null,null,"1 - 4",null,"Mary Ellen Klukow"]
[null,null,{"$f":"C195","v":0},null,null,null,"Not Available",null,9781607539704,null,"Persian Cats",null,null,null,"Favorite Cat Breeds",null,null,null,"Amicus",null,0,null,21.95,null,0,null,0,null,null,null,null,null,0,0,0,0,0,0,0,0,"Fall 2016",null,2017,null,"636.8/32",null,null,null,null,null,null,null,null,null,"30",null,"Amicus High Interest",null,2.1,null,"Animals & Nature",null,"English",null,"Reinforced Library",null,24,null,"I",null,"500L",null,"1 - 4",null,"Mari Schuh"]
[null,null,{"$f":"C195","v":0},null,null,null,"Not Available",null,9781607539711,null,"Ragdoll Cats",null,null,null,"Favorite Cat Breeds",null,null,null,"Amicus",null,0,null,21.95,null,0,null,0,null,null,null,null,null,0,0,0,0,0,0,0,0,"Fall 2016",null,2017,null,"636.8/3",null,null,null,null,null,null,null,null,null,"30",null,"Amicus High Interest",null,2,null,"Animals & Nature",null,"English",null,"Reinforced Library",null,24,null,"I",null,"430L",null,"1 - 4",null,"Mari Schuh"]
[null,null,{"$f":"C195","v":0},null,null,null,9781681518596,null,9781681518190,null,"Scottish Folds",null,null,null,"Favorite Cat Breeds",null,null,null,"Amicus",null,44.85,null,21.95,null,{"$f":"W206+5","v":26.95},null,0,null,null,null,null,null,{"$f":"A206","v":0},{"$f":"C206","v":0},{"$f":"E206","v":0},{"$f":"SUM(AG206:AI206)","v":0},{"$f":"U206*A206","v":0},{"$f":"W206*C206","v":0},{"$f":"Y206*E206","v":0},{"$f":"SUM(AK206:AM206)","v":0},"Spring 2020",null,2020,null,636.79999999999995,null,"Q",null,null,null,null,null,null,null,"30",null,"Amicus High Interest",null,2.2999999999999998,null,"Animals & Nature",null,"English",null,"Reinforced Library",null,24,null,"I",null,null,null,"1 - 4",null,"Mary Ellen Klukow"]
[null,null,{"$f":"C195","v":0},null,null,null,"Not Available",null,9781607539728,null,"Siamese Cats",null,null,null,"Favorite Cat Breeds",null,null,null,"Amicus",null,0,null,21.95,null,0,null,0,null,null,null,null,null,0,0,0,0,0,0,0,0,"Fall 2016",null,2017,null,"636.8/25",null,null,null,null,null,null,null,null,null,"30",null,"Amicus High Interest",null,2,null,"Animals & Nature",null,"English",null,"Reinforced Library",null,24,null,"I",null,"480L",null,"1 - 4",null,"Mari Schuh"]
[null,null,{"$f":"C195","v":0},null,null,null,9781681518602,null,9781681518206,null,"Siberian Cats",null,null,null,"Favorite Cat Breeds",null,null,null,"Amicus",null,44.85,null,21.95,null,{"$f":"W208+5","v":26.95},null,0,null,null,null,null,null,0,0,0,0,0,0,0,0,"Spring 2020",null,2020,null,636.79999999999995,null,"Q",null,null,null,null,null,null,null,"30",null,"Amicus High Interest",null,2.2999999999999998,null,"Animals & Nature",null,"English",null,"Reinforced Library",null,24,null,"I",null,null,null,"1 - 4",null,"Mary Ellen Klukow"]
[null,null,{"$f":"C195","v":0},null,null,null,"Not Available",null,9781607539735,null,"Sphynx Cats",null,null,null,"Favorite Cat Breeds",null,null,null,"Amicus",null,0,null,21.95,null,0,null,0,null,null,null,null,null,0,0,0,0,0,0,0,0,"Fall 2016",null,2017,null,636.79999999999995,null,null,null,null,null,null,null,null,null,"30",null,"Amicus High Interest",null,2.1,null,"Animals & Nature",null,"English",null,"Reinforced Library",null,24,null,"I",null,"410L",null,"1 - 4",null,"Mari Schuh"]
[]
[null,null,null,null,null,null,null,null,null,null,"Complete Series of 4",null,null,null,"Paralympic Sports",null,null,null,null,null,{"$f":"SUM(U212:U215)","v":196},null,{"$f":"SUM(W212:W215)","v":95.8},null,{"$f":"SUM(Y212:Y215)","v":115.8}]
[{"$f":"A211","v":0},null,{"$f":"C211","v":0},null,{"$f":"E211","v":0},null,9781681518695,null,9781681518299,null,"Individual Sports at the Paralympics",null,null,null,"Paralympic Sports",null,null,null,"Amicus",null,49,null,23.95,null,{"$f":"W212+5","v":28.95},null,{"$f":"IF(AC212=FALSE,AK212+AL212+AM212,0)","v":0},null,null,null,null,null,0,0,0,0,0,0,0,0,"Spring 2020",null,2020,null,"796.04/56",null,"Q",null,null,null,null,null,null,null,"29",null,"Amicus High Interest",null,3.5,null,"Sports & Recreation",null,"English",null,"Reinforced Library",null,32,null,"L",null,null,null,"2 – 5",null,"Matt Bowers"]
[{"$f":"A211","v":0},null,{"$f":"C211","v":0},null,{"$f":"E211","v":0},null,9781681518701,null,9781681518305,null,"Team Sports at the Paralympics",null,null,null,"Paralympic Sports",null,null,null,"Amicus",null,49,null,23.95,null,{"$f":"W213+5","v":28.95},null,0,null,null,null,null,null,0,0,0,0,0,0,0,0,"Spring 2020",null,2020,null,"796.04/56",null,"Q",null,null,null,null,null,null,null,"29",null,"Amicus High Interest",null,3.4,null,"Sports & Recreation",null,"English",null,"Reinforced Library",null,32,null,"L",null,null,null,"2 – 5",null,"Matt Bowers"]
[{"$f":"A211","v":0},null,{"$f":"C211","v":0},null,{"$f":"E211","v":0},null,9781681518688,null,9781681518282,null,"Water Sports at the Paralympics",null,null,null,"Paralympic Sports",null,null,null,"Amicus",null,49,null,23.95,null,{"$f":"W214+5","v":28.95},null,0,null,null,null,null,null,0,0,0,0,0,0,0,0,"Spring 2020",null,2020,null,"796.04/56",null,"Q",null,null,null,null,null,null,null,"29",null,"Amicus High Interest",null,3.5,null,"Sports & Recreation",null,"English",null,"Reinforced Library",null,32,null,"L",null,null,null,"2 – 5",null,"Matt Bowers"]
[{"$f":"A211","v":0},null,{"$f":"C211","v":0},null,{"$f":"E211","v":0},null,9781681518671,null,9781681518275,null,"Wheelchair Sports at the Paralympics",null,null,null,"Paralympic Sports",null,null,null,"Amicus",null,49,null,23.95,null,{"$f":"W215+5","v":28.95},null,0,null,null,null,null,null,0,0,0,0,0,0,0,0,"Spring 2020",null,2020,null,"796.04/56",null,"Q",null,null,null,null,null,null,null,"29",null,"Amicus High Interest",null,3.5,null,"Sports & Recreation",null,"English",null,"Reinforced Library",null,32,null,"L",null,null,null,"2 – 5",null,"Matt Bowers"]
[]
[null,null,null,null,null,null,null,null,null,null,"Complete Series of 10",null,null,null,"Sequence Amazing Structures",null,null,null,null,null,{"$f":"SUM(U218:U227)","v":490},null,{"$f":"SUM(W218:W227)","v":239.49999999999994},null,{"$f":"SUM(Y218:Y227)","v":289.49999999999994}]
[{"$f":"A217","v":0},null,{"$f":"C217","v":0},null,{"$f":"E217","v":0},null,9781681515106,null,9781681514284,null,"Building a Bridge",null,null,null,"Sequence Amazing Structures",null,null,null,"Amicus",null,49,null,23.95,null,{"$f":"W218+5","v":28.95},null,{"$f":"IF(AC218=FALSE,AK218+AL218+AM218,0)","v":0},null,null,null,null,null,0,0,0,0,0,0,0,0,"Fall 2018",null,2019,null,624.20000000000005,null,null,null,null,null,null,null,null,null,"45",null,"Sequence",null,3.7,null,"Science & Technology",null,"English",null,"Reinforced Library",null,32,null,"M",null,"480L",null,"2 – 5",null,"Angie Smibert"]
[{"$f":"A217","v":0},null,{"$f":"C217","v":0},null,{"$f":"E217","v":0},null,9781681515113,null,9781681514291,null,"Building a Dam",null,null,null,"Sequence Amazing Structures",null,null,null,"Amicus",null,49,null,23.95,null,28.95,null,0,null,null,null,null,null,0,0,0,0,0,0,0,0,"Fall 2018",null,2019,null,"627/.8",null,null,null,null,null,null,null,null,null,"45",null,"Sequence",null,3.8,null,"Science & Technology",null,"English",null,"Reinforced Library",null,32,null,"M",null,"540L",null,"2 – 5",null,"Angie Smibert"]
[{"$f":"A217","v":0},null,{"$f":"C217","v":0},null,{"$f":"E217","v":0},null,9781681518749,null,9781681518343,null,"Building a Highway",null,null,null,"Sequence Amazing Structures",null,null,null,"Amicus",null,49,null,23.95,null,28.95,null,0,null,null,null,null,null,0,0,0,0,0,0,0,0,"Spring 2020",null,2020,null,625.70000000000005,null,"Q",null,null,null,null,null,null,null,"45",null,"Sequence",null,3.5,null,"Science & Technology",null,"English",null,"Reinforced Library",null,32,null,"M",null,null,null,"2 – 5",null,"Karen Latchana Kenney"]
[{"$f":"A217","v":0},null,{"$f":"C217","v":0},null,{"$f":"E217","v":0},null,9781681515120,null,9781681514307,null,"Building a Roller Coaster",null,null,null,"Sequence Amazing Structures",null,null,null,"Amicus",null,49,null,23.95,null,28.95,null,0,null,null,null,null,null,0,0,0,0,0,0,0,0,"Fall 2018",null,2019,null,796.5,null,null,null,null,null,null,null,null,null,"45",null,"Sequence",null,3.6,null,"Science & Technology",null,"English",null,"Reinforced Library",null,32,null,"M",null,"530L",null,"2 – 5",null,"Karen Latchana Kenney"]
[{"$f":"A217","v":0},null,{"$f":"C217","v":0},null,{"$f":"E217","v":0},null,9781681515137,null,9781681514314,null,"Building a Skyscraper",null,null,null,"Sequence Amazing Structures",null,null,null,"Amicus",null,49,null,23.95,null,28.95,null,0,null,null,null,null,null,0,0,0,0,0,0,0,0,"Fall 2018",null,2019,null,"690/.52",null,null,null,null,null,null,null,null,null,"45",null,"Sequence",null,3.6,null,"Science & Technology",null,"English",null,"Reinforced Library",null,32,null,"M",null,"540L",null,"2 – 5",null,"Karen Latchana Kenney"]
[{"$f":"A217","v":0},null,{"$f":"C217","v":0},null,{"$f":"E217","v":0},null,9781681515144,null,9781681514321,null,"Building a Stadium",null,null,null,"Sequence Amazing Structures",null,null,null,"Amicus",null,49,null,23.95,null,28.95,null,0,null,null,null,null,null,0,0,0,0,0,0,0,0,"Fall 2018",null,2019,null,"690/.5827",null,null,null,null,null,null,null,null,null,"45",null,"Sequence",null,3.9,null,"Science & Technology",null,"English",null,"Reinforced Library",null,32,null,"M",null,"510L",null,"2 – 5",null,"Angie Smibert"]
[{"$f":"A217","v":0},null,{"$f":"C217","v":0},null,{"$f":"E217","v":0},null,9781681518725,null,9781681518329,null,"Building a Subway",null,null,null,"Sequence Amazing Structures",null,null,null,"Amicus",null,49,null,23.95,null,28.95,null,0,null,null,null,null,null,0,0,0,0,0,0,0,0,"Spring 2020",null,2020,null,"625.4/2",null,"Q",null,null,null,null,null,null,null,"45",null,"Sequence",null,3.5,null,"Science & Technology",null,"English",null,"Reinforced Library",null,32,null,"M",null,null,null,"2 – 5",null,"Annie C. Holdren"]
[{"$f":"A217","v":0},null,{"$f":"C217","v":0},null,{"$f":"E217","v":0},null,9781681515151,null,9781681514338,null,"Building a Tunnel",null,null,null,"Sequence Amazing Structures",null,null,null,"Amicus",null,49,null,23.95,null,28.95,null,0,null,null,null,null,null,0,0,0,0,0,0,0,0,"Fall 2018",null,2019,null,"624.1/93",null,null,null,null,null,null,null,null,null,"45",null,"Sequence",null,3.5,null,"Science & Technology",null,"English",null,"Reinforced Library",null,32,null,"M",null,"530L",null,"2 – 5",null,"Karen Latchana Kenney"]
[{"$f":"A217","v":0},null,{"$f":"C217","v":0},null,{"$f":"E217","v":0},null,9781681518718,null,9781681518312,null,"Building an Airport",null,null,null,"Sequence Amazing Structures",null,null,null,"Amicus",null,49,null,23.95,null,28.95,null,0,null,null,null,null,null,0,0,0,0,0,0,0,0,"Spring 2020",null,2020,null,"690/.539",null,"Q",null,null,null,null,null,null,null,"45",null,"Sequence",null,3.5,null,"Science & Technology",null,"English",null,"Reinforced Library",null,32,null,"M",null,null,null,"2 – 5",null,"Karen Latchana Kenney"]
[{"$f":"A217","v":0},null,{"$f":"C217","v":0},null,{"$f":"E217","v":0},null,9781681518732,null,9781681518336,null,"Building an Offshore Oil Rig",null,null,null,"Sequence Amazing Structures",null,null,null,"Amicus",null,49,null,23.95,null,28.95,null,0,null,null,null,null,null,0,0,0,0,0,0,0,0,"Spring 2020",null,2020,null,"622/.3381",null,"Q",null,null,null,null,null,null,null,"45",null,"Sequence",null,4.2,null,"Science & Technology",null,"English",null,"Reinforced Library",null,32,null,"M",null,null,null,"2 – 5",null,"Annie C. Holdren"]
[]
[null,null,null,null,null,null,null,null,null,null,"Complete Series of 6",null,null,null,"Spot Arctic Animals",null,null,null,null,null,{"$f":"SUM(U230:U235)","v":244.8},null,{"$f":"SUM(W230:W235)","v":119.7},null,{"$f":"SUM(Y230:Y235)","v":149.69999999999999}]
[{"$f":"A229","v":0},null,{"$f":"C229","v":0},null,{"$f":"E229","v":0},null,9781681518350,null,9781681517957,null,"Arctic Foxes",null,null,null,"Spot Arctic Animals",null,null,null,"Amicus",null,40.799999999999997,null,19.95,null,{"$f":"W230+5","v":24.95},null,{"$f":"IF(AC230=FALSE,AK230+AL230+AM230,0)","v":0},null,null,null,null,null,0,0,0,0,0,0,0,0,"Spring 2020",null,2020,null,"599.776/4",null,"Q",null,null,null,null,null,null,null,"21",null,"Spot",null,0.8,null,"Animals & Nature",null,"English",null,"Reinforced Library",null,16,null,"C",null,null,null,"PreK - 3",null,"Anastasia Suen"]
[{"$f":"A229","v":0},null,{"$f":"C229","v":0},null,{"$f":"E229","v":0},null,9781681518367,null,9781681517964,null,"Orcas",null,null,null,"Spot Arctic Animals",null,null,null,"Amicus",null,40.799999999999997,null,19.95,null,24.95,null,0,null,null,null,null,null,0,0,0,0,0,0,0,0,"Spring 2020",null,2020,null,"599.53/6",null,"Q",null,null,null,null,null,null,null,"21",null,"Spot",null,1,null,"Animals & Nature",null,"English",null,"Reinforced Library",null,16,null,"C",null,null,null,"PreK - 3",null,"Anastasia Suen"]
[{"$f":"A229","v":0},null,{"$f":"C229","v":0},null,{"$f":"E229","v":0},null,9781681518374,null,9781681517971,null,"Polar Bears",null,null,null,"Spot Arctic Animals",null,null,null,"Amicus",null,40.799999999999997,null,19.95,null,24.95,null,0,null,null,null,null,null,0,0,0,0,0,0,0,0,"Spring 2020",null,2020,null,599.78599999999994,null,"Q",null,null,null,null,null,null,null,"21",null,"Spot",null,0.9,null,"Animals & Nature",null,"English",null,"Reinforced Library",null,16,null,"C",null,null,null,"PreK - 3",null,"Anastasia Suen"]
[{"$f":"A229","v":0},null,{"$f":"C229","v":0},null,{"$f":"E229","v":0},null,9781681518381,null,9781681517988,null,"Reindeer",null,null,null,"Spot Arctic Animals",null,null,null,"Amicus",null,40.799999999999997,null,19.95,null,24.95,null,0,null,null,null,null,null,0,0,0,0,0,0,0,0,"Spring 2020",null,2020,null,"599.65/8",null,"Q",null,null,null,null,null,null,null,"21",null,"Spot",null,0.9,null,"Animals & Nature",null,"English",null,"Reinforced Library",null,16,null,"C",null,null,null,"PreK - 3",null,"Anastasia Suen"]
[{"$f":"A229","v":0},null,{"$f":"C229","v":0},null,{"$f":"E229","v":0},null,9781681518398,null,9781681517995,null,"Sea Otters",null,null,null,"Spot Arctic Animals",null,null,null,"Amicus",null,40.799999999999997,null,19.95,null,24.95,null,0,null,null,null,null,null,0,0,0,0,0,0,0,0,"Spring 2020",null,2020,null,"599.769/5",null,"Q",null,null,null,null,null,null,null,"21",null,"Spot",null,0.9,null,"Animals & Nature",null,"English",null,"Reinforced Library",null,16,null,"C",null,null,null,"PreK - 3",null,"Anastasia Suen"]
[{"$f":"A229","v":0},null,{"$f":"C229","v":0},null,{"$f":"E229","v":0},null,9781681518404,null,9781681518008,null,"Snowy Owls",null,null,null,"Spot Arctic Animals",null,null,null,"Amicus",null,40.799999999999997,null,19.95,null,24.95,null,0,null,null,null,null,null,0,0,0,0,0,0,0,0,"Spring 2020",null,2020,null,"598.9/7",null,"Q",null,null,null,null,null,null,null,"21",null,"Spot",null,0.9,null,"Animals & Nature",null,"English",null,"Reinforced Library",null,16,null,"C",null,null,null,"PreK - 3",null,"Anastasia Suen"]
[]
[null,null,null,null,null,null,null,null,null,null,"Complete Series of 6",null,null,null,"Spot Holidays",null,null,null,null,null,{"$f":"SUM(U238:U243)","v":244.8},null,{"$f":"SUM(W238:W243)","v":119.7},null,{"$f":"SUM(Y238:Y243)","v":149.69999999999999}]
[{"$f":"A237","v":0},null,{"$f":"C237","v":0},null,{"$f":"E237","v":0},null,9781681518411,null,9781681518015,null,"Christmas",null,null,null,"Spot Holidays",null,null,null,"Amicus",null,40.799999999999997,null,19.95,null,{"$f":"W238+5","v":24.95},null,{"$f":"IF(AC238=FALSE,AK238+AL238+AM238,0)","v":0},null,null,null,null,null,0,0,0,0,0,0,0,0,"Spring 2020",null,2020,null,394.2663,null,"Q",null,null,null,null,null,null,null,"24",null,"Spot",null,1,null,"Social Studies",null,"English",null,"Reinforced Library",null,16,null,"E",null,null,null,"PreK - 3",null,"Mari Schuh "]
[{"$f":"A237","v":0},null,{"$f":"C237","v":0},null,{"$f":"E237","v":0},null,9781681518428,null,9781681518022,null,"Diwali",null,null,null,"Spot Holidays",null,null,null,"Amicus",null,40.799999999999997,null,19.95,null,24.95,null,0,null,null,null,null,null,0,0,0,0,0,0,0,0,"Spring 2020",null,2020,null,"294.5/36",null,"Q",null,null,null,null,null,null,null,"24",null,"Spot",null,1,null,"Social Studies",null,"English",null,"Reinforced Library",null,16,null,"E",null,null,null,"PreK - 3",null,"Mari Schuh "]
[{"$f":"A237","v":0},null,{"$f":"C237","v":0},null,{"$f":"E237","v":0},null,9781681518435,null,9781681518039,null,"Easter",null,null,null,"Spot Holidays",null,null,null,"Amicus",null,40.799999999999997,null,19.95,null,24.95,null,0,null,null,null,null,null,0,0,0,0,0,0,0,0,"Spring 2020",null,2020,null,394.26670000000001,null,"Q",null,null,null,null,null,null,null,"24",null,"Spot",null,0.9,null,"Social Studies",null,"English",null,"Reinforced Library",null,16,null,"E",null,null,null,"PreK - 3",null,"Mari Schuh "]
[{"$f":"A237","v":0},null,{"$f":"C237","v":0},null,{"$f":"E237","v":0},null,9781681518442,null,9781681518046,null,"Hanukkah",null,null,null,"Spot Holidays",null,null,null,"Amicus",null,40.799999999999997,null,19.95,null,24.95,null,0,null,null,null,null,null,0,0,0,0,0,0,0,0,"Spring 2020",null,2020,null,394.267,null,"Q",null,null,null,null,null,null,null,"24",null,"Spot",null,1,null,"Social Studies",null,"English",null,"Reinforced Library",null,16,null,"E",null,null,null,"PreK - 3",null,"Mari Schuh "]
[{"$f":"A237","v":0},null,{"$f":"C237","v":0},null,{"$f":"E237","v":0},null,9781681518459,null,9781681518053,null,"Kwanzaa",null,null,null,"Spot Holidays",null,null,null,"Amicus",null,40.799999999999997,null,19.95,null,24.95,null,0,null,null,null,null,null,0,0,0,0,0,0,0,0,"Spring 2020",null,2020,null,394.26119999999997,null,"Q",null,null,null,null,null,null,null,"24",null,"Spot",null,0.9,null,"Social Studies",null,"English",null,"Reinforced Library",null,16,null,"E",null,null,null,"PreK - 3",null,"Mari Schuh "]
[{"$f":"A237","v":0},null,{"$f":"C237","v":0},null,{"$f":"E237","v":0},null,9781681518466,null,9781681518060,null,"Ramadan",null,null,null,"Spot Holidays",null,null,null,"Amicus",null,40.799999999999997,null,19.95,null,24.95,null,0,null,null,null,null,null,0,0,0,0,0,0,0,0,"Spring 2020",null,2020,null,"297.3/62",null,"Q",null,null,null,null,null,null,null,"24",null,"Spot",null,1,null,"Social Studies",null,"English",null,"Reinforced Library",null,16,null,"E",null,null,null,"PreK - 3",null,"Mari Schuh "]
[]
[null,null,null,null,null,null,null,null,null,null,"Complete Series of 8",null,null,null,"Spot Outdoor Fun",null,null,null,null,null,{"$f":"SUM(U246:U253)","v":326.40000000000003},null,{"$f":"SUM(W246:W253)","v":159.6},null,{"$f":"SUM(Y246:Y253)","v":199.59999999999997}]
[{"$f":"A245","v":0},null,{"$f":"C245","v":0},null,{"$f":"E245","v":0},null,9781681518473,null,9781681518077,null,"Biking",null,null,null,"Spot Outdoor Fun",null,null,null,"Amicus",null,40.799999999999997,null,19.95,null,{"$f":"W246+5","v":24.95},null,{"$f":"IF(AC246=FALSE,AK246+AL246+AM246,0)","v":0},null,null,null,null,null,0,0,0,0,0,0,0,0,"Spring 2020",null,2020,null,796.6,null,"Q",null,null,null,null,null,null,null,"24",null,"Spot",null,0.9,null,"Sports & Recreation",null,"English",null,"Reinforced Library",null,16,null,"D",null,null,null,"PreK - 3",null,"Nessa Black"]
[{"$f":"A245","v":0},null,{"$f":"C245","v":0},null,{"$f":"E245","v":0},null,9781681518480,null,9781681518084,null,"Camping",null,null,null,"Spot Outdoor Fun",null,null,null,"Amicus",null,40.799999999999997,null,19.95,null,24.95,null,0,null,null,null,null,null,0,0,0,0,0,0,0,0,"Spring 2020",null,2020,null,796.54,null,"Q",null,null,null,null,null,null,null,"24",null,"Spot",null,0.9,null,"Sports & Recreation",null,"English",null,"Reinforced Library",null,16,null,"D",null,null,null,"PreK - 3",null,"Nessa Black"]
[{"$f":"A245","v":0},null,{"$f":"C245","v":0},null,{"$f":"E245","v":0},null,9781681518497,null,9781681518091,null,"Canoeing",null,null,null,"Spot Outdoor Fun",null,null,null,"Amicus",null,40.799999999999997,null,19.95,null,24.95,null,0,null,null,null,null,null,0,0,0,0,0,0,0,0,"Spring 2020",null,2020,null,797.12199999999996,null,"Q",null,null,null,null,null,null,null,"24",null,"Spot",null,0.9,null,"Sports & Recreation",null,"English",null,"Reinforced Library",null,16,null,"D",null,null,null,"PreK - 3",null,"Nessa Black"]
[{"$f":"A245","v":0},null,{"$f":"C245","v":0},null,{"$f":"E245","v":0},null,9781681518503,null,9781681518107,null,"Fishing",null,null,null,"Spot Outdoor Fun",null,null,null,"Amicus",null,40.799999999999997,null,19.95,null,24.95,null,0,null,null,null,null,null,0,0,0,0,0,0,0,0,"Spring 2020",null,2020,null,639.20000000000005,null,"Q",null,null,null,null,null,null,null,"24",null,"Spot",null,0.9,null,"Sports & Recreation",null,"English",null,"Reinforced Library",null,16,null,"D",null,null,null,"PreK - 3",null,"Nessa Black"]
[{"$f":"A245","v":0},null,{"$f":"C245","v":0},null,{"$f":"E245","v":0},null,9781681518510,null,9781681518114,null,"Gardening",null,null,null,"Spot Outdoor Fun",null,null,null,"Amicus",null,40.799999999999997,null,19.95,null,24.95,null,0,null,null,null,null,null,0,0,0,0,0,0,0,0,"Spring 2020",null,2020,null,635,null,"Q",null,null,null,null,null,null,null,"24",null,"Spot",null,0.9,null,"Sports & Recreation",null,"English",null,"Reinforced Library",null,16,null,"D",null,null,null,"PreK - 3",null,"Nessa Black"]
[{"$f":"A245","v":0},null,{"$f":"C245","v":0},null,{"$f":"E245","v":0},null,9781681518527,null,9781681518121,null,"Hiking",null,null,null,"Spot Outdoor Fun",null,null,null,"Amicus",null,40.799999999999997,null,19.95,null,24.95,null,0,null,null,null,null,null,0,0,0,0,0,0,0,0,"Spring 2020",null,2020,null,796.51,null,"Q",null,null,null,null,null,null,null,"24",null,"Spot",null,0.9,null,"Sports & Recreation",null,"English",null,"Reinforced Library",null,16,null,"D",null,null,null,"PreK - 3",null,"Nessa Black"]
[{"$f":"A245","v":0},null,{"$f":"C245","v":0},null,{"$f":"E245","v":0},null,9781681518534,null,9781681518138,null,"Horseback Riding",null,null,null,"Spot Outdoor Fun",null,null,null,"Amicus",null,40.799999999999997,null,19.95,null,24.95,null,0,null,null,null,null,null,0,0,0,0,0,0,0,0,"Spring 2020",null,2020,null,798.2,null,"Q",null,null,null,null,null,null,null,"24",null,"Spot",null,0.8,null,"Sports & Recreation",null,"English",null,"Reinforced Library",null,16,null,"D",null,null,null,"PreK - 3",null,"Nessa Black"]
[{"$f":"A245","v":0},null,{"$f":"C245","v":0},null,{"$f":"E245","v":0},null,9781681518541,null,9781681518145,null,"Rock Climbing",null,null,null,"Spot Outdoor Fun",null,null,null,"Amicus",null,40.799999999999997,null,19.95,null,24.95,null,0,null,null,null,null,null,0,0,0,0,0,0,0,0,"Spring 2020",null,2020,null,"796.522/3",null,"Q",null,null,null,null,null,null,null,"24",null,"Spot",null,1,null,"Sports & Recreation",null,"English",null,"Reinforced Library",null,16,null,"D",null,null,null,"PreK - 3",null,"Nessa Black"]
[]
[null,null,null,null,null,null,null,null,null,null,"Complete Series of 6",null,null,null,"Summer Olympic Sports",null,null,null,null,null,{"$f":"SUM(U256:U261)","v":294},null,{"$f":"SUM(W256:W261)","v":143.69999999999999},null,{"$f":"SUM(Y256:Y261)","v":173.7}]
[{"$f":"A255","v":0},null,{"$f":"C255","v":0},null,{"$f":"E255","v":0},null,9781681518619,null,9781681518213,null,"Basketball '20",null,null,null,"Summer Olympic Sports",null,null,null,"Amicus",null,49,null,23.95,null,{"$f":"W256+5","v":28.95},null,{"$f":"IF(AC256=FALSE,AK256+AL256+AM256,0)","v":0},null,null,null,null,null,0,0,0,0,0,0,0,0,"Spring 2020",null,2020,null,796.32299999999998,null,null,null,null,null,null,null,null,null,"27",null,"Amicus High Interest",null,3.7,null,"Sports & Recreation",null,"English",null,"Reinforced Library",null,32,null,"L",null,null,null,"2 – 5",null,"M. K. Osborne"]
[{"$f":"A255","v":0},null,{"$f":"C255","v":0},null,{"$f":"E255","v":0},null,9781681518626,null,9781681518220,null,"Combat Sports '20",null,null,null,"Summer Olympic Sports",null,null,null,"Amicus",null,49,null,23.95,null,28.95,null,0,null,null,null,null,null,0,0,0,0,0,0,0,0,"Spring 2020",null,2020,null,796.8,null,null,null,null,null,null,null,null,null,"27",null,"Amicus High Interest",null,3.8,null,"Sports & Recreation",null,"English",null,"Reinforced Library",null,32,null,"L",null,null,null,"2 – 5",null,"M. K. Osborne"]
[{"$f":"A255","v":0},null,{"$f":"C255","v":0},null,{"$f":"E255","v":0},null,9781681518633,null,9781681518237,null,"Gymnastics '20",null,null,null,"Summer Olympic Sports",null,null,null,"Amicus",null,49,null,23.95,null,28.95,null,0,null,null,null,null,null,0,0,0,0,0,0,0,0,"Spring 2020",null,2020,null,796.44,null,null,null,null,null,null,null,null,null,"27",null,"Amicus High Interest",null,4.0999999999999996,null,"Sports & Recreation",null,"English",null,"Reinforced Library",null,32,null,"L",null,null,null,"2 – 5",null,"M. K. Osborne"]
[{"$f":"A255","v":0},null,{"$f":"C255","v":0},null,{"$f":"E255","v":0},null,9781681518640,null,9781681518244,null,"Swimming and Diving '20",null,null,null,"Summer Olympic Sports",null,null,null,"Amicus",null,49,null,23.95,null,28.95,null,0,null,null,null,null,null,0,0,0,0,0,0,0,0,"Spring 2020",null,2020,null,797.2,null,null,null,null,null,null,null,null,null,"27",null,"Amicus High Interest",null,3.5,null,"Sports & Recreation",null,"English",null,"Reinforced Library",null,32,null,"L",null,null,null,"2 – 5",null,"M. K. Osborne"]
[{"$f":"A255","v":0},null,{"$f":"C255","v":0},null,{"$f":"E255","v":0},null,9781681518657,null,9781681518251,null,"Track and Field '20",null,null,null,"Summer Olympic Sports",null,null,null,"Amicus",null,49,null,23.95,null,28.95,null,0,null,null,null,null,null,0,0,0,0,0,0,0,0,"Spring 2020",null,2020,null,796.42,null,null,null,null,null,null,null,null,null,"27",null,"Amicus High Interest",null,3.6,null,"Sports & Recreation",null,"English",null,"Reinforced Library",null,32,null,"L",null,null,null,"2 – 5",null,"M. K. Osborne"]
[{"$f":"A255","v":0},null,{"$f":"C255","v":0},null,{"$f":"E255","v":0},null,9781681518664,null,9781681518268,null,"Volleyball '20",null,null,null,"Summer Olympic Sports",null,null,null,"Amicus",null,49,null,23.95,null,28.95,null,0,null,null,null,null,null,0,0,0,0,0,0,0,0,"Spring 2020",null,2020,null,796.32500000000005,null,null,null,null,null,null,null,null,null,"27",null,"Amicus High Interest",null,3.7,null,"Sports & Recreation",null,"English",null,"Reinforced Library",null,32,null,"L",null,null,null,"2 – 5",null,"M. K. Osborne"]
[]
[null,null,null,null,null,null,null,null,null,null,"Complete Series of 6",null,null,null,"Animal Habitats at Risk",null,null,null,null,null,{"$f":"SUM(U264:U269)","v":269.10000000000002},null,{"$f":"SUM(W264:W269)","v":131.69999999999999},null,{"$f":"SUM(Y264:Y269)","v":161.69999999999999}]
[{"$f":"A263","v":0},null,{"$f":"C263","v":0},null,{"$f":"E263","v":0},null,9781681517827,null,9781681517001,null,"Bat Colony’s Search for a New Home, A",null,null,null,"Animal Habitats at Risk",null,null,null,"Amicus",null,44.85,null,21.95,null,{"$f":"W264+5","v":26.95},null,{"$f":"IF(AC264=FALSE,AK264+AL264+AM264,0)","v":0},null,null,null,null,null,0,0,0,0,0,0,0,0,"Fall 2019",null,2020,null,599.4,null,null,null,null,null,null,null,null,null,"39",null,"Amicus Illustrated",null,3.1,null,"Animals & Nature",null,"English",null,"Reinforced Library",null,24,null,"J",null,"590L",null,"K - 3",null,"Mary Ellen Klukow"]
[{"$f":"A263","v":0},null,{"$f":"C263","v":0},null,{"$f":"E263","v":0},null,9781681517858,null,9781681517032,null,"Bee's Difficult Search for Food, A",null,null,null,"Animal Habitats at Risk",null,null,null,"Amicus",null,44.85,null,21.95,null,26.95,null,0,null,null,null,null,null,0,0,0,0,0,0,0,0,"Fall 2019",null,2020,null,"595.79/9",null,null,null,null,null,null,null,null,null,"39",null,"Amicus Illustrated",null,3.3,null,"Animals & Nature",null,"English",null,"Reinforced Library",null,24,null,"J",null,"600L",null,"K - 3",null,"Mary Ellen Klukow"]
[{"$f":"A263","v":0},null,{"$f":"C263","v":0},null,{"$f":"E263","v":0},null,9781681517834,null,9781681517018,null,"Frog's Dangerous Home, A",null,null,null,"Animal Habitats at Risk",null,null,null,"Amicus",null,44.85,null,21.95,null,26.95,null,0,null,null,null,null,null,0,0,0,0,0,0,0,0,"Fall 2019",null,2020,null,"333.95/789",null,null,null,null,null,null,null,null,null,"39",null,"Amicus Illustrated",null,3.1,null,"Animals & Nature",null,"English",null,"Reinforced Library",null,24,null,"J",null,"630L",null,"K - 3",null,"Mary Ellen Klukow"]
[{"$f":"A263","v":0},null,{"$f":"C263","v":0},null,{"$f":"E263","v":0},null,9781681517865,null,9781681517049,null,"Sparrow's Disappearing Home, A",null,null,null,"Animal Habitats at Risk",null,null,null,"Amicus",null,44.85,null,21.95,null,26.95,null,0,null,null,null,null,null,0,0,0,0,0,0,0,0,"Fall 2019",null,2020,null,"333.95/887",null,null,null,null,null,null,null,null,null,"39",null,"Amicus Illustrated",null,3.2,null,"Animals & Nature",null,"English",null,"Reinforced Library",null,24,null,"J",null,"590L",null,"K - 3",null,"Mary Ellen Klukow"]
[{"$f":"A263","v":0},null,{"$f":"C263","v":0},null,{"$f":"E263","v":0},null,9781681517872,null,9781681517056,null,"Turtle's Dangerous Journey, A",null,null,null,"Animal Habitats at Risk",null,null,null,"Amicus",null,44.85,null,21.95,null,26.95,null,0,null,null,null,null,null,0,0,0,0,0,0,0,0,"Fall 2019",null,2020,null,"333.95/792",null,null,null,null,null,null,null,null,null,"39",null,"Amicus Illustrated",null,3,null,"Animals & Nature",null,"English",null,"Reinforced Library",null,24,null,"J",null,"570L",null,"K - 3",null,"Mary Ellen Klukow"]
[{"$f":"A263","v":0},null,{"$f":"C263","v":0},null,{"$f":"E263","v":0},null,9781681517841,null,9781681517025,null,"Wild Cat's Shrinking Home, A",null,null,null,"Animal Habitats at Risk",null,null,null,"Amicus",null,44.85,null,21.95,null,26.95,null,0,null,null,null,null,null,0,0,0,0,0,0,0,0,"Fall 2019",null,2020,null,"599.75/3",null,null,null,null,null,null,null,null,null,"39",null,"Amicus Illustrated",null,3.5,null,"Animals & Nature",null,"English",null,"Reinforced Library",null,24,null,"J",null,"680L",null,"K - 3",null,"Mary Ellen Klukow"]
[]
[null,null,null,null,null,null,null,null,null,null,"Complete Series of 8",null,null,null,"Animales africanos (Spot African Animals)",null,null,null,null,null,{"$f":"SUM(U272:U279)","v":326.40000000000003},null,{"$f":"SUM(W272:W279)","v":159.6},null,{"$f":"SUM(Y272:Y279)","v":199.59999999999997}]
[{"$f":"A271","v":0},null,{"$f":"C271","v":0},null,{"$f":"E271","v":0},null,9781681519081,null,9781681518824,null,"Las cebras (Zebras)",null,null,null,"Animales africanos (Spot African Animals)",null,null,null,"Amicus",null,40.799999999999997,null,19.95,null,{"$f":"W272+5","v":24.95},null,{"$f":"IF(AC272=FALSE,AK272+AL272+AM272,0)","v":0},null,null,null,null,null,{"$f":"A272","v":0},{"$f":"C272","v":0},{"$f":"E272","v":0},{"$f":"SUM(AG272:AI272)","v":0},{"$f":"U272*A272","v":0},{"$f":"W272*C272","v":0},{"$f":"Y272*E272","v":0},{"$f":"SUM(AK272:AM272)","v":0},"Fall 2019",null,2020,null,"599.665/7",null,null,null,null,null,null,null,null,null,"51",null,"Spot",null,0.9,null,"Animals & Nature",null,"Spanish",null,"Reinforced Library",null,16,null,null,null,null,null,"PreK - 3",null,"Mary Ellen Klukow"]
[{"$f":"A271","v":0},null,{"$f":"C271","v":0},null,{"$f":"E271","v":0},null,9781681519043,null,9781681518787,null,"Las jirafas (Giraffes)",null,null,null,"Animales africanos (Spot African Animals)",null,null,null,"Amicus",null,40.799999999999997,null,19.95,null,24.95,null,0,null,null,null,null,null,0,0,0,0,0,0,0,0,"Fall 2019",null,2020,null,599.63800000000003,null,null,null,null,null,null,null,null,null,"51",null,"Spot",null,0.9,null,"Animals & Nature",null,"Spanish",null,"Reinforced Library",null,16,null,null,null,null,null,"PreK - 3",null,"Mary Ellen Klukow"]
[{"$f":"A271","v":0},null,{"$f":"C271","v":0},null,{"$f":"E271","v":0},null,9781681519029,null,9781681518763,null,"Los cocodrilos (Crocodiles)",null,null,null,"Animales africanos (Spot African Animals)",null,null,null,"Amicus",null,40.799999999999997,null,19.95,null,24.95,null,0,null,null,null,null,null,0,0,0,0,0,0,0,0,"Fall 2019",null,2020,null,"597.98/2",null,null,null,null,null,null,null,null,null,"51",null,"Spot",null,0.8,null,"Animals & Nature",null,"Spanish",null,"Reinforced Library",null,16,null,null,null,null,null,"PreK - 3",null,"Mary Ellen Klukow"]
[{"$f":"A271","v":0},null,{"$f":"C271","v":0},null,{"$f":"E271","v":0},null,9781681519036,null,9781681518770,null,"Los elefantes (Elephants)",null,null,null,"Animales africanos (Spot African Animals)",null,null,null,"Amicus",null,40.799999999999997,null,19.95,null,24.95,null,0,null,null,null,null,null,0,0,0,0,0,0,0,0,"Fall 2019",null,2020,null,599.66999999999996,null,null,null,null,null,null,null,null,null,"51",null,"Spot",null,0.9,null,"Animals & Nature",null,"Spanish",null,"Reinforced Library",null,16,null,null,null,null,null,"PreK - 3",null,"Mary Ellen Klukow"]
[{"$f":"A271","v":0},null,{"$f":"C271","v":0},null,{"$f":"E271","v":0},null,9781681519050,null,9781681518794,null,"Los gorilas (Gorillas) ",null,null,null,"Animales africanos (Spot African Animals)",null,null,null,"Amicus",null,40.799999999999997,null,19.95,null,24.95,null,0,null,null,null,null,null,0,0,0,0,0,0,0,0,"Fall 2019",null,2020,null,599.88400000000001,null,null,null,null,null,null,null,null,null,"51",null,"Spot",null,0.9,null,"Animals & Nature",null,"Spanish",null,"Reinforced Library",null,16,null,null,null,null,null,"PreK - 3",null,"Mary Ellen Klukow"]
[{"$f":"A271","v":0},null,{"$f":"C271","v":0},null,{"$f":"E271","v":0},null,9781681519012,null,9781681518756,null,"Los guepardos (Cheetahs)",null,null,null,"Animales africanos (Spot African Animals)",null,null,null,"Amicus",null,40.799999999999997,null,19.95,null,24.95,null,0,null,null,null,null,null,0,0,0,0,0,0,0,0,"Fall 2019",null,2020,null,"599.75/9",null,null,null,null,null,null,null,null,null,"51",null,"Spot",null,0.9,null,"Animals & Nature",null,"Spanish",null,"Reinforced Library",null,16,null,null,null,null,null,"PreK - 3",null,"Mary Ellen Klukow"]
[{"$f":"A271","v":0},null,{"$f":"C271","v":0},null,{"$f":"E271","v":0},null,9781681519067,null,9781681518800,null,"Los hipopótamos (Hippos)",null,null,null,"Animales africanos (Spot African Animals)",null,null,null,"Amicus",null,40.799999999999997,null,19.95,null,24.95,null,0,null,null,null,null,null,0,0,0,0,0,0,0,0,"Fall 2019",null,2020,null,"599.63/5",null,null,null,null,null,null,null,null,null,"51",null,"Spot",null,0.9,null,"Animals & Nature",null,"Spanish",null,"Reinforced Library",null,16,null,null,null,null,null,"PreK - 3",null,"Mary Ellen Klukow"]
[{"$f":"A271","v":0},null,{"$f":"C271","v":0},null,{"$f":"E271","v":0},null,9781681519074,null,9781681518817,null,"Los leones (Lions)",null,null,null,"Animales africanos (Spot African Animals)",null,null,null,"Amicus",null,40.799999999999997,null,19.95,null,24.95,null,0,null,null,null,null,null,0,0,0,0,0,0,0,0,"Fall 2019",null,2020,null,599.75699999999995,null,null,null,null,null,null,null,null,null,"51",null,"Spot",null,0.9,null,"Animals & Nature",null,"Spanish",null,"Reinforced Library",null,16,null,null,null,null,null,"PreK - 3",null,"Mary Ellen Klukow"]
[]
[null,null,null,null,null,null,null,null,null,null,"Complete Series of 12",null,null,null,"Do You Really Want to Meet a Dinosaur?",null,null,null,null,null,{"$f":"SUM(U282:U293)","v":538.20000000000016},null,{"$f":"SUM(W282:W293)","v":263.39999999999992},null,{"$f":"SUM(Y282:Y293)","v":323.39999999999992}]
[{"$f":"A281","v":0},null,{"$f":"C281","v":0},null,{"$f":"E281","v":0},null,9781681512037,null,9781681511139,null,"Do You Really Want to Meet a Pterosaur?",null,null,null,"Do You Really Want to Meet a Dinosaur?",null,null,null,"Amicus",null,44.85,null,21.95,null,{"$f":"W282+5","v":26.95},null,{"$f":"IF(AC282=FALSE,AK282+AL282+AM282,0)","v":0},null,null,null,null,null,0,0,0,0,0,0,0,0,"Fall 2017",null,2018,null,567.91800000000001,null,null,null,null,null,null,null,null,null,"40",null,"Amicus Illustrated",null,2.5,null,"Animals & Nature",null,"English",null,"Reinforced Library",null,24,null,"J",null,"560L",null,"K - 3",null,"Annette Bay Pimentel"]
[{"$f":"A281","v":0},null,{"$f":"C281","v":0},null,{"$f":"E281","v":0},null,9781681517902,null,9781681517087,null,"Do You Really Want to Meet Allosaurus?",null,null,null,"Do You Really Want to Meet a Dinosaur?",null,null,null,"Amicus",null,44.85,null,21.95,null,26.95,null,0,null,null,null,null,null,0,0,0,0,0,0,0,0,"Fall 2019",null,2020,null,567.91200000000003,null,null,null,null,null,null,null,null,null,"40",null,"Amicus Illustrated",null,2.4,null,"Animals & Nature",null,"English",null,"Reinforced Library",null,24,null,"J",null,"500L",null,"K - 3",null,"Annette Bay Pimentel"]
[{"$f":"A281","v":0},null,{"$f":"C281","v":0},null,{"$f":"E281","v":0},null,9781681517919,null,9781681517094,null,"Do You Really Want to Meet Ankylosaurus?",null,null,null,"Do You Really Want to Meet a Dinosaur?",null,null,null,"Amicus",null,44.85,null,21.95,null,26.95,null,0,null,null,null,null,null,0,0,0,0,0,0,0,0,"Fall 2019",null,2020,null,567.91499999999996,null,null,null,null,null,null,null,null,null,"40",null,"Amicus Illustrated",null,2.2999999999999998,null,"Animals & Nature",null,"English",null,"Reinforced Library",null,24,null,"J",null,"510L",null,"K - 3",null,"Annette Bay Pimentel"]
[{"$f":"A281","v":0},null,{"$f":"C281","v":0},null,{"$f":"E281","v":0},null,9781681512020,null,9781681511122,null,"Do You Really Want to Meet Apatosaurus?",null,null,null,"Do You Really Want to Meet a Dinosaur?",null,null,null,"Amicus",null,44.85,null,21.95,null,26.95,null,0,null,null,null,null,null,0,0,0,0,0,0,0,0,"Fall 2017",null,2018,null,"567.913/8",null,null,null,null,null,null,null,null,null,"40",null,"Amicus Illustrated",null,2.4,null,"Animals & Nature",null,"English",null,"Reinforced Library",null,24,null,"J",null,"500L",null,"K - 3",null,"Annette Bay Pimentel"]
[{"$f":"A281","v":0},null,{"$f":"C281","v":0},null,{"$f":"E281","v":0},null,9781681517889,null,9781681517063,null,"Do You Really Want to Meet Diplodocus?",null,null,null,"Do You Really Want to Meet a Dinosaur?",null,null,null,"Amicus",null,44.85,null,21.95,null,26.95,null,0,null,null,null,null,null,0,0,0,0,0,0,0,0,"Fall 2019",null,2020,null,567.91300000000001,null,null,null,null,null,null,null,null,null,"40",null,"Amicus Illustrated",null,2.4,null,"Animals & Nature",null,"English",null,"Reinforced Library",null,24,null,"J",null,"500L",null,"K - 3",null,"Annette Bay Pimentel"]
[{"$f":"A281","v":0},null,{"$f":"C281","v":0},null,{"$f":"E281","v":0},null,9781681517926,null,9781681517100,null,"Do You Really Want to Meet Edmontosaurus?",null,null,null,"Do You Really Want to Meet a Dinosaur?",null,null,null,"Amicus",null,44.85,null,21.95,null,26.95,null,0,null,null,null,null,null,0,0,0,0,0,0,0,0,"Fall 2019",null,2020,null,567.91399999999999,null,null,null,null,null,null,null,null,null,"40",null,"Amicus Illustrated",null,2.5,null,"Animals & Nature",null,"English",null,"Reinforced Library",null,24,null,"J",null,"500L",null,"K - 3",null,"Annette Bay Pimentel"]
[{"$f":"A281","v":0},null,{"$f":"C281","v":0},null,{"$f":"E281","v":0},null,9781681517933,null,9781681517117,null,"Do You Really Want to Meet Iguanodon?",null,null,null,"Do You Really Want to Meet a Dinosaur?",null,null,null,"Amicus",null,44.85,null,21.95,null,26.95,null,0,null,null,null,null,null,0,0,0,0,0,0,0,0,"Fall 2019",null,2020,null,567.91399999999999,null,null,null,null,null,null,null,null,null,"40",null,"Amicus Illustrated",null,2.6,null,"Animals & Nature",null,"English",null,"Reinforced Library",null,24,null,"J",null,"530L",null,"K - 3",null,"Annette Bay Pimentel"]
[{"$f":"A281","v":0},null,{"$f":"C281","v":0},null,{"$f":"E281","v":0},null,9781681517896,null,9781681517070,null,"Do You Really Want to Meet Spinosaurus?",null,null,null,"Do You Really Want to Meet a Dinosaur?",null,null,null,"Amicus",null,44.85,null,21.95,null,26.95,null,0,null,null,null,null,null,0,0,0,0,0,0,0,0,"Fall 2019",null,2020,null,567.91200000000003,null,null,null,null,null,null,null,null,null,"40",null,"Amicus Illustrated",null,2.2999999999999998,null,"Animals & Nature",null,"English",null,"Reinforced Library",null,24,null,"J",null,"540L",null,"K - 3",null,"Annette Bay Pimentel"]
[{"$f":"A281","v":0},null,{"$f":"C281","v":0},null,{"$f":"E281","v":0},null,9781681512044,null,9781681511146,null,"Do You Really Want to Meet Stegosaurus?",null,null,null,"Do You Really Want to Meet a Dinosaur?",null,null,null,"Amicus",null,44.85,null,21.95,null,26.95,null,0,null,null,null,null,null,0,0,0,0,0,0,0,0,"Fall 2017",null,2018,null,"567.915/3",null,null,null,null,null,null,null,null,null,"40",null,"Amicus Illustrated",null,2.4,null,"Animals & Nature",null,"English",null,"Reinforced Library",null,24,null,"J",null,"560L",null,"K - 3",null,"Annette Bay Pimentel"]
[{"$f":"A281","v":0},null,{"$f":"C281","v":0},null,{"$f":"E281","v":0},null,9781681512051,null,9781681511153,null,"Do You Really Want to Meet Triceratops?",null,null,null,"Do You Really Want to Meet a Dinosaur?",null,null,null,"Amicus",null,44.85,null,21.95,null,26.95,null,0,null,null,null,null,null,0,0,0,0,0,0,0,0,"Fall 2017",null,2018,null,"567.915/8",null,null,null,null,null,null,null,null,null,"40",null,"Amicus Illustrated",null,2.6,null,"Animals & Nature",null,"English",null,"Reinforced Library",null,24,null,"J",null,"530L",null,"K - 3",null,"Annette Bay Pimentel"]
[{"$f":"A281","v":0},null,{"$f":"C281","v":0},null,{"$f":"E281","v":0},null,9781681512068,null,9781681511160,null,"Do You Really Want to Meet Tyrannosaurus Rex?",null,null,null,"Do You Really Want to Meet a Dinosaur?",null,null,null,"Amicus",null,44.85,null,21.95,null,26.95,null,0,null,null,null,null,null,0,0,0,0,0,0,0,0,"Fall 2017",null,2018,null,"567.912/9",null,null,null,null,null,null,null,null,null,"40",null,"Amicus Illustrated",null,2.6,null,"Animals & Nature",null,"English",null,"Reinforced Library",null,24,null,"J",null,"560L",null,"K - 3",null,"Annette Bay Pimentel"]
[{"$f":"A281","v":0},null,{"$f":"C281","v":0},null,{"$f":"E281","v":0},null,9781681512075,null,9781681511177,null,"Do You Really Want to Meet Velociraptor?",null,null,null,"Do You Really Want to Meet a Dinosaur?",null,null,null,"Amicus",null,44.85,null,21.95,null,26.95,null,0,null,null,null,null,null,0,0,0,0,0,0,0,0,"Fall 2017",null,2018,null,567.91200000000003,null,null,null,null,null,null,null,null,null,"40",null,"Amicus Illustrated",null,2.5,null,"Animals & Nature",null,"English",null,"Reinforced Library",null,24,null,"J",null,"540L",null,"K - 3",null,"Annette Bay Pimentel"]
[]
[null,null,null,null,null,null,null,null,null,null,"Complete Series of 14",null,null,null,"Favorite Dog Breeds",null,null,null,null,null,{"$f":"SUM(U296:U309)","v":627.9000000000002},null,{"$f":"SUM(W296:W309)","v":307.2999999999999},null,{"$f":"SUM(Y296:Y309)","v":377.2999999999999}]
[{"$f":"A295","v":0},null,{"$f":"C295","v":0},null,{"$f":"E295","v":0},null,9781681512143,null,9781681511245,null,"Beagles",null,null,null,"Favorite Dog Breeds",null,null,null,"Amicus",null,44.85,null,21.95,null,{"$f":"W296+5","v":26.95},null,{"$f":"IF(AC296=FALSE,AK296+AL296+AM296,0)","v":0},null,null,null,null,null,0,0,0,0,0,0,0,0,"Fall 2017",null,2018,null,"636.753/7",null,null,null,null,null,null,null,null,null,"30",null,"Amicus High Interest",null,2,null,"Animals & Nature",null,"English",null,"Reinforced Library",null,24,null,"I",null,"460L",null,"1 - 4",null,"Martha E. H. Rustad"]
[{"$f":"A295","v":0},null,{"$f":"C295","v":0},null,{"$f":"E295","v":0},null,9781681512150,null,9781681511252,null,"Boxers",null,null,null,"Favorite Dog Breeds",null,null,null,"Amicus",null,44.85,null,21.95,null,26.95,null,0,null,null,null,null,null,0,0,0,0,0,0,0,0,"Fall 2017",null,2018,null,636.73,null,null,null,null,null,null,null,null,null,"30",null,"Amicus High Interest",null,2,null,"Animals & Nature",null,"English",null,"Reinforced Library",null,24,null,"I",null,"430L",null,"1 - 4",null,"Martha E. H. Rustad"]
[{"$f":"A295","v":0},null,{"$f":"C295","v":0},null,{"$f":"E295","v":0},null,9781681512167,null,9781681511269,null,"Bulldogs",null,null,null,"Favorite Dog Breeds",null,null,null,"Amicus",null,44.85,null,21.95,null,26.95,null,0,null,null,null,null,null,0,0,0,0,0,0,0,0,"Fall 2017",null,2018,null,636.72,null,null,null,null,null,null,null,null,null,"30",null,"Amicus High Interest",null,2.1,null,"Animals & Nature",null,"English",null,"Reinforced Library",null,24,null,"I",null,"420L",null,"1 - 4",null,"Martha E. H. Rustad"]
[{"$f":"A295","v":0},null,{"$f":"C295","v":0},null,{"$f":"E295","v":0},null,9781681517384,null,9781681516561,null,"Dalmatians",null,null,null,"Favorite Dog Breeds",null,null,null,"Amicus",null,44.85,null,21.95,null,26.95,null,0,null,null,null,null,null,0,0,0,0,0,0,0,0,"Fall 2019",null,2020,null,636.72,null,null,null,null,null,null,null,null,null,"30",null,"Amicus High Interest",null,2,null,"Animals & Nature",null,"English",null,"Reinforced Library",null,24,null,"I",null,"450L",null,"1 - 4",null,"Mary Ellen Klukow"]
[{"$f":"A295","v":0},null,{"$f":"C295","v":0},null,{"$f":"E295","v":0},null,9781681512174,null,9781681511276,null,"German Shepherds",null,null,null,"Favorite Dog Breeds",null,null,null,"Amicus",null,44.85,null,21.95,null,26.95,null,0,null,null,null,null,null,0,0,0,0,0,0,0,0,"Fall 2017",null,2018,null,"636.737/6",null,null,null,null,null,null,null,null,null,"30",null,"Amicus High Interest",null,2.2999999999999998,null,"Animals & Nature",null,"English",null,"Reinforced Library",null,24,null,"I",null,"480L",null,"1 - 4",null,"Martha E. H. Rustad"]
[{"$f":"A295","v":0},null,{"$f":"C295","v":0},null,{"$f":"E295","v":0},null,9781681517391,null,9781681516578,null,"Golden Retrievers",null,null,null,"Favorite Dog Breeds",null,null,null,"Amicus",null,44.85,null,21.95,null,26.95,null,0,null,null,null,null,null,0,0,0,0,0,0,0,0,"Fall 2019",null,2020,null,"636.752/7",null,null,null,null,null,null,null,null,null,"30",null,"Amicus High Interest",null,2.2999999999999998,null,"Animals & Nature",null,"English",null,"Reinforced Library",null,24,null,"I",null,"510L",null,"1 - 4",null,"Mary Ellen Klukow"]
[{"$f":"A295","v":0},null,{"$f":"C295","v":0},null,{"$f":"E295","v":0},null,9781681517407,null,9781681516585,null,"Great Danes",null,null,null,"Favorite Dog Breeds",null,null,null,"Amicus",null,44.85,null,21.95,null,26.95,null,0,null,null,null,null,null,0,0,0,0,0,0,0,0,"Fall 2019",null,2020,null,636.73,null,null,null,null,null,null,null,null,null,"30",null,"Amicus High Interest",null,2.2999999999999998,null,"Animals & Nature",null,"English",null,"Reinforced Library",null,24,null,"I",null,"490L",null,"1 - 4",null,"Mary Ellen Klukow"]
[{"$f":"A295","v":0},null,{"$f":"C295","v":0},null,{"$f":"E295","v":0},null,9781681512181,null,9781681511283,null,"Labrador Retrievers",null,null,null,"Favorite Dog Breeds",null,null,null,"Amicus",null,44.85,null,21.95,null,26.95,null,0,null,null,null,null,null,0,0,0,0,0,0,0,0,"Fall 2017",null,2018,null,"636.752/7",null,null,null,null,null,null,null,null,null,"30",null,"Amicus High Interest",null,2.2999999999999998,null,"Animals & Nature",null,"English",null,"Reinforced Library",null,24,null,"I",null,"490L",null,"1 - 4",null,"Martha E. H. Rustad"]
[{"$f":"A295","v":0},null,{"$f":"C295","v":0},null,{"$f":"E295","v":0},null,9781681512198,null,9781681511290,null,"Poodles",null,null,null,"Favorite Dog Breeds",null,null,null,"Amicus",null,44.85,null,21.95,null,26.95,null,0,null,null,null,null,null,0,0,0,0,0,0,0,0,"Fall 2017",null,2018,null,"636.72/8",null,null,null,null,null,null,null,null,null,"30",null,"Amicus High Interest",null,2.1,null,"Animals & Nature",null,"English",null,"Reinforced Library",null,24,null,"I",null,"480L",null,"1 - 4",null,"Martha E. H. Rustad"]
[{"$f":"A295","v":0},null,{"$f":"C295","v":0},null,{"$f":"E295","v":0},null,9781681512204,null,9781681511306,null,"Saint Bernards",null,null,null,"Favorite Dog Breeds",null,null,null,"Amicus",null,44.85,null,21.95,null,26.95,null,0,null,null,null,null,null,0,0,0,0,0,0,0,0,"Fall 2017",null,2018,null,636.73,null,null,null,null,null,null,null,null,null,"30",null,"Amicus High Interest",null,2.2999999999999998,null,"Animals & Nature",null,"English",null,"Reinforced Library",null,24,null,"I",null,"460L",null,"1 - 4",null,"Martha E. H. Rustad"]
[{"$f":"A295","v":0},null,{"$f":"C295","v":0},null,{"$f":"E295","v":0},null,9781681512211,null,9781681511313,null,"Scottish Terriers",null,null,null,"Favorite Dog Breeds",null,null,null,"Amicus",null,44.85,null,21.95,null,26.95,null,0,null,null,null,null,null,0,0,0,0,0,0,0,0,"Fall 2017",null,2018,null,636.755,null,null,null,null,null,null,null,null,null,"30",null,"Amicus High Interest",null,2.2999999999999998,null,"Animals & Nature",null,"English",null,"Reinforced Library",null,24,null,"I",null,"490L",null,"1 - 4",null,"Martha E. H. Rustad"]
[{"$f":"A295","v":0},null,{"$f":"C295","v":0},null,{"$f":"E295","v":0},null,9781681517414,null,9781681516592,null,"Shih Tzus",null,null,null,"Favorite Dog Breeds",null,null,null,"Amicus",null,44.85,null,21.95,null,26.95,null,0,null,null,null,null,null,0,0,0,0,0,0,0,0,"Fall 2019",null,2020,null,636.76,null,null,null,null,null,null,null,null,null,"30",null,"Amicus High Interest",null,2.1,null,"Animals & Nature",null,"English",null,"Reinforced Library",null,24,null,"I",null,"460L",null,"1 - 4",null,"Mary Ellen Klukow"]
[{"$f":"A295","v":0},null,{"$f":"C295","v":0},null,{"$f":"E295","v":0},null,9781681517421,null,9781681516608,null,"Siberian Huskies",null,null,null,"Favorite Dog Breeds",null,null,null,"Amicus",null,44.85,null,21.95,null,26.95,null,0,null,null,null,null,null,0,0,0,0,0,0,0,0,"Fall 2019",null,2020,null,636.73,null,null,null,null,null,null,null,null,null,"30",null,"Amicus High Interest",null,2.2000000000000002,null,"Animals & Nature",null,"English",null,"Reinforced Library",null,24,null,"I",null,"480L",null,"1 - 4",null,"Mary Ellen Klukow"]
[{"$f":"A295","v":0},null,{"$f":"C295","v":0},null,{"$f":"E295","v":0},null,9781681517438,null,9781681516615,null,"Yorkshire Terriers",null,null,null,"Favorite Dog Breeds",null,null,null,"Amicus",null,44.85,null,21.95,null,26.95,null,0,null,null,null,null,null,0,0,0,0,0,0,0,0,"Fall 2019",null,2020,null,636.76,null,null,null,null,null,null,null,null,null,"30",null,"Amicus High Interest",null,2.2000000000000002,null,"Animals & Nature",null,"English",null,"Reinforced Library",null,24,null,"I",null,"480L",null,"1 - 4",null,"Mary Ellen Klukow"]
[]
[null,null,null,null,null,null,null,null,null,null,"Complete Series of 18",null,null,null,"Máquinas poderosas (Spot Mighty Machines)",null,null,null,null,null,{"$f":"SUM(U312:U329)","v":244.8},null,{"$f":"SUM(W312:W329)","v":359.09999999999991},null,{"$f":"SUM(Y312:Y329)","v":149.69999999999999}]
[null,null,{"$f":"C311","v":0},null,null,null,"Not Available",null,9781681516073,null,"Las camionetas (Trucks)",null,null,null,"Máquinas poderosas (Spot Mighty Machines)",null,null,null,"Amicus",null,0,null,19.95,null,0,null,{"$f":"IF(AC312=FALSE,AK312+AL312+AM312,0)","v":0},null,null,null,null,null,0,0,0,0,0,0,0,0,"Fall 2018",null,2019,null,"629.223/2",null,null,null,null,null,null,null,null,null,"51",null,"Spot",null,2,null,"Science & Technology",null,"Spanish",null,"Reinforced Library",null,16,null,null,null,null,null,"PreK - 3",null,"Wendy Strobel Dieker"]
[null,null,{"$f":"C311","v":0},null,null,null,"Not Available",null,9781681512693,null,"Las cargadoras (Loaders)",null,null,null,"Máquinas poderosas (Spot Mighty Machines)",null,null,null,"Amicus",null,0,null,19.95,null,0,null,0,null,null,null,null,null,0,0,0,0,0,0,0,0,"Fall 2017",null,2018,null,"621.8/6",null,null,null,null,null,null,null,null,null,"51",null,"Spot",null,1.2,null,"Science & Technology",null,"Spanish",null,"Reinforced Library",null,16,null,null,null,"240L",null,"PreK - 3",null,"Mari Schuh"]
[null,null,{"$f":"C311","v":0},null,null,null,"Not Available",null,9781681512679,null,"Las excavadoras (Diggers)",null,null,null,"Máquinas poderosas (Spot Mighty Machines)",null,null,null,"Amicus",null,0,null,19.95,null,0,null,0,null,null,null,null,null,0,0,0,0,0,0,0,0,"Fall 2017",null,2018,null,"621.8/65",null,null,null,null,null,null,null,null,null,"51",null,"Spot",null,1.3,null,"Science & Technology",null,"Spanish",null,"Reinforced Library",null,16,null,null,null,"290L",null,"PreK - 3",null,"Mari Schuh"]
[null,null,{"$f":"C311","v":0},null,null,null,"Not Available",null,9781681512662,null,"Las grúas (Cranes)",null,null,null,"Máquinas poderosas (Spot Mighty Machines)",null,null,null,"Amicus",null,0,null,19.95,null,0,null,0,null,null,null,null,null,0,0,0,0,0,0,0,0,"Fall 2017",null,2018,null,"621.8/73",null,null,null,null,null,null,null,null,null,"51",null,"Spot",null,0.8,null,"Science & Technology",null,"Spanish",null,"Reinforced Library",null,16,null,null,null,"250L",null,"PreK - 3",null,"Mari Schuh"]
[null,null,{"$f":"C311","v":0},null,null,null,"Not Available",null,9781681512655,null,"Las mezcladoras de concreto (Concrete Mixers)",null,null,null,"Máquinas poderosas (Spot Mighty Machines)",null,null,null,"Amicus",null,0,null,19.95,null,0,null,0,null,null,null,null,null,0,0,0,0,0,0,0,0,"Fall 2017",null,2018,null,629.22500000000002,null,null,null,null,null,null,null,null,null,"51",null,"Spot",null,1.2,null,"Science & Technology",null,"Spanish",null,"Reinforced Library",null,16,null,null,null,"240L",null,"PreK - 3",null,"Mari Schuh"]
[{"$f":"A311","v":0},null,{"$f":"C311","v":0},null,{"$f":"E311","v":0},null,9781681519111,null,9781681518855,null,"Las motocicletas (Motorcycles)",null,null,null,"Máquinas poderosas (Spot Mighty Machines)",null,null,null,"Amicus",null,40.799999999999997,null,19.95,null,{"$f":"W317+5","v":24.95},null,0,null,null,null,null,null,0,0,0,0,0,0,0,0,"Fall 2019",null,2020,null,"629.227/5",null,null,null,null,null,null,null,null,null,"51",null,"Spot",null,1.9,null,"Science & Technology",null,"Spanish",null,"Reinforced Library",null,16,null,null,null,null,null,"PreK - 3",null,"Wendy Strobel Dieker"]
[null,null,{"$f":"C311","v":0},null,null,null,"Not Available",null,9781681512648,null,"Las topadoras (Bulldozers)",null,null,null,"Máquinas poderosas (Spot Mighty Machines)",null,null,null,"Amicus",null,0,null,19.95,null,0,null,0,null,null,null,null,null,0,0,0,0,0,0,0,0,"Fall 2017",null,2018,null,629.22500000000002,null,null,null,null,null,null,null,null,null,"51",null,"Spot",null,1.1000000000000001,null,"Science & Technology",null,"Spanish",null,"Reinforced Library",null,16,null,null,null,"260L",null,"PreK - 3",null,"Mari Schuh"]
[{"$f":"A311","v":0},null,{"$f":"C311","v":0},null,{"$f":"E311","v":0},null,9781681519098,null,9781681518831,null,"Los aviones (Airplanes)",null,null,null,"Máquinas poderosas (Spot Mighty Machines)",null,null,null,"Amicus",null,40.799999999999997,null,19.95,null,{"$f":"W319+5","v":24.95},null,0,null,null,null,null,null,0,0,0,0,0,0,0,0,"Fall 2019",null,2020,null,"629.133/34",null,null,null,null,null,null,null,null,null,"51",null,"Spot",null,1.3,null,"Science & Technology",null,"Spanish",null,"Reinforced Library",null,16,null,null,null,null,null,"PreK - 3",null,"Wendy Strobel Dieker"]
[null,null,{"$f":"C311","v":0},null,null,null,"Not Available",null,9781681516080,null,"Los camiones cisterna (Tanker Trucks)",null,null,null,"Máquinas poderosas (Spot Mighty Machines)",null,null,null,"Amicus",null,0,null,19.95,null,0,null,0,null,null,null,null,null,0,0,0,0,0,0,0,0,"Fall 2018",null,2019,null,629.22400000000005,null,null,null,null,null,null,null,null,null,"51",null,"Spot",null,1.4,null,"Science & Technology",null,"Spanish",null,"Reinforced Library",null,16,null,null,null,null,null,"PreK - 3",null,"Wendy Strobel Dieker"]
[null,null,{"$f":"C311","v":0},null,null,null,"Not Available",null,9781681516066,null,"Los camiones de basura (Garbage Trucks)",null,null,null,"Máquinas poderosas (Spot Mighty Machines)",null,null,null,"Amicus",null,0,null,19.95,null,0,null,0,null,null,null,null,null,0,0,0,0,0,0,0,0,"Fall 2018",null,2019,null,"628.4/42",null,null,null,null,null,null,null,null,null,"51",null,"Spot",null,0.9,null,"Science & Technology",null,"Spanish",null,"Reinforced Library",null,16,null,null,null,null,null,"PreK - 3",null,"Wendy Strobel Dieker"]
[null,null,{"$f":"C311","v":0},null,null,null,"Not Available",null,9781681516059,null,"Los camiones de bomberos (Fire Trucks)",null,null,null,"Máquinas poderosas (Spot Mighty Machines)",null,null,null,"Amicus",null,0,null,19.95,null,0,null,0,null,null,null,null,null,0,0,0,0,0,0,0,0,"Fall 2018",null,2019,null,"628.9/259",null,null,null,null,null,null,null,null,null,"51",null,"Spot",null,1.5,null,"Science & Technology",null,"Spanish",null,"Reinforced Library",null,16,null,null,null,null,null,"PreK - 3",null,"Wendy Strobel Dieker"]
[null,null,{"$f":"C311","v":0},null,null,null,"Not Available",null,9781681516097,null,"Los camiones de remolque (Tow Trucks)",null,null,null,"Máquinas poderosas (Spot Mighty Machines)",null,null,null,"Amicus",null,0,null,19.95,null,0,null,0,null,null,null,null,null,0,0,0,0,0,0,0,0,"Fall 2018",null,2019,null,629.22500000000002,null,null,null,null,null,null,null,null,null,"51",null,"Spot",null,1.6,null,"Science & Technology",null,"Spanish",null,"Reinforced Library",null,16,null,null,null,null,null,"PreK - 3",null,"Wendy Strobel Dieker"]
[null,null,{"$f":"C311","v":0},null,null,null,"Not Available",null,9781681516042,null,"Los camiones grandes (Big Rigs)",null,null,null,"Máquinas poderosas (Spot Mighty Machines)",null,null,null,"Amicus",null,0,null,19.95,null,0,null,0,null,null,null,null,null,0,0,0,0,0,0,0,0,"Fall 2018",null,2019,null,629.22400000000005,null,null,null,null,null,null,null,null,null,"51",null,"Spot",null,0.9,null,"Science & Technology",null,"Spanish",null,"Reinforced Library",null,16,null,null,null,null,null,"PreK - 3",null,"Wendy Strobel Dieker"]
[null,null,{"$f":"C311","v":0},null,null,null,"Not Available",null,9781681512686,null,"Los camiones volquetes (Dump Trucks)",null,null,null,"Máquinas poderosas (Spot Mighty Machines)",null,null,null,"Amicus",null,0,null,19.95,null,0,null,0,null,null,null,null,null,0,0,0,0,0,0,0,0,"Fall 2019",null,2020,null,625.1,null,null,null,null,null,null,null,null,null,"51",null,"Spot",null,1.1000000000000001,null,"Science & Technology",null,"Spanish",null,"Reinforced Library",null,16,null,null,null,null,null,"PreK - 3",null,"Wendy Strobel Dieker"]
[{"$f":"A311","v":0},null,{"$f":"C311","v":0},null,{"$f":"E311","v":0},null,9781681519128,null,9781681518862,null,"Los coches de carreras (Race Cars)",null,null,null,"Máquinas poderosas (Spot Mighty Machines)",null,null,null,"Amicus",null,40.799999999999997,null,19.95,null,{"$f":"W326+5","v":24.95},null,0,null,null,null,null,null,0,0,0,0,0,0,0,0,"Fall 2019",null,2020,null,"629.228/5",null,null,null,null,null,null,null,null,null,"51",null,"Spot",null,1.2,null,"Science & Technology",null,"Spanish",null,"Reinforced Library",null,16,null,null,null,null,null,"PreK - 3",null,"Wendy Strobel Dieker"]
[{"$f":"A311","v":0},null,{"$f":"C311","v":0},null,{"$f":"E311","v":0},null,9781681519104,null,9781681518848,null,"Los helicópteros (Helicopters)",null,null,null,"Máquinas poderosas (Spot Mighty Machines)",null,null,null,"Amicus",null,40.799999999999997,null,19.95,null,{"$f":"W327+5","v":24.95},null,0,null,null,null,null,null,0,0,0,0,0,0,0,0,"Fall 2019",null,2020,null,"629.133/352",null,null,null,null,null,null,null,null,null,"51",null,"Spot",null,1.3,null,"Science & Technology",null,"Spanish",null,"Reinforced Library",null,16,null,null,null,null,null,"PreK - 3",null,"Wendy Strobel Dieker"]
[{"$f":"A311","v":0},null,{"$f":"C311","v":0},null,{"$f":"E311","v":0},null,9781681519135,null,9781681518879,null,"Los tanques (Tanks)",null,null,null,"Máquinas poderosas (Spot Mighty Machines)",null,null,null,"Amicus",null,40.799999999999997,null,19.95,null,{"$f":"W328+5","v":24.95},null,0,null,null,null,null,null,0,0,0,0,0,0,0,0,"Fall 2019",null,2020,null,"623.74/752",null,null,null,null,null,null,null,null,null,"51",null,"Spot",null,1.3,null,"Science & Technology",null,"Spanish",null,"Reinforced Library",null,16,null,null,null,null,null,"PreK - 3",null,"Wendy Strobel Dieker"]
[{"$f":"A311","v":0},null,{"$f":"C311","v":0},null,{"$f":"E311","v":0},null,9781681519142,null,9781681518886,null,"Los trenes (Trains)",null,null,null,"Máquinas poderosas (Spot Mighty Machines)",null,null,null,"Amicus",null,40.799999999999997,null,19.95,null,{"$f":"W329+5","v":24.95},null,0,null,null,null,null,null,0,0,0,0,0,0,0,0,"Fall 2019",null,2020,null,625.1,null,null,null,null,null,null,null,null,null,"51",null,"Spot",null,1.1000000000000001,null,"Science & Technology",null,"Spanish",null,"Reinforced Library",null,16,null,null,null,null,null,"PreK - 3",null,"Wendy Strobel Dieker"]
[]
[null,null,null,null,null,null,null,null,null,null,"Complete Series of 16",null,null,null,"Pro Sports Biographies",null,null,null,null,null,{"$f":"SUM(U332:U347)","v":717.60000000000025},null,{"$f":"SUM(W332:W347)","v":351.19999999999987},null,{"$f":"SUM(Y332:Y347)","v":431.19999999999987}]
[{"$f":"A331","v":0},null,{"$f":"C331","v":0},null,{"$f":"E331","v":0},null,9781681517445,null,9781681516622,null,"Aaron Judge",null,null,null,"Pro Sports Biographies",null,null,null,"Amicus",null,44.85,null,21.95,null,{"$f":"W332+5","v":26.95},null,{"$f":"IF(AC332=FALSE,AK332+AL332+AM332,0)","v":0},null,null,null,null,null,0,0,0,0,0,0,0,0,"Fall 2019",null,2020,null,"796.357092 B",null,null,null,null,null,null,null,null,null,"28",null,"Amicus High Interest",null,2.2999999999999998,null,"Sports & Recreation",null,"English",null,"Reinforced Library",null,24,null,"I",null,"460L",null,"1 - 4",null,"Allan Morey"]
[{"$f":"A331","v":0},null,{"$f":"C331","v":0},null,{"$f":"E331","v":0},null,9781681517452,null,9781681516639,null,"Aaron Rodgers",null,null,null,"Pro Sports Biographies",null,null,null,"Amicus",null,44.85,null,21.95,null,26.95,null,0,null,null,null,null,null,0,0,0,0,0,0,0,0,"Fall 2019",null,2020,null,"796.332092 B",null,null,null,null,null,null,null,null,null,"28",null,"Amicus High Interest",null,2.4,null,"Sports & Recreation",null,"English",null,"Reinforced Library",null,24,null,"I",null,"470L",null,"1 - 4",null,"Allan Morey"]
[{"$f":"A331","v":0},null,{"$f":"C331","v":0},null,{"$f":"E331","v":0},null,9781681512259,null,9781681511351,null,"Bryce Harper",null,null,null,"Pro Sports Biographies",null,null,null,"Amicus",null,44.85,null,21.95,null,26.95,null,0,null,null,null,null,null,{"$f":"A334","v":0},{"$f":"C334","v":0},{"$f":"E334","v":0},{"$f":"SUM(AG334:AI334)","v":0},{"$f":"U334*A334","v":0},{"$f":"W334*C334","v":0},{"$f":"Y334*E334","v":0},{"$f":"SUM(AK334:AM334)","v":0},"Fall 2017",null,2018,null,"796.357092 B",null,null,null,null,null,null,null,null,null,"28",null,"Amicus High Interest",null,2,null,"Sports & Recreation",null,"English",null,"Reinforced Library",null,24,null,"I",null,"480L",null,"1 - 4",null,"Elizabeth Raum"]
[{"$f":"A331","v":0},null,{"$f":"C331","v":0},null,{"$f":"E331","v":0},null,9781681512273,null,9781681511375,null,"Cam Newton",null,null,null,"Pro Sports Biographies",null,null,null,"Amicus",null,44.85,null,21.95,null,26.95,null,0,null,null,null,null,null,0,0,0,0,0,0,0,0,"Fall 2017",null,2018,null,"796.332092 B",null,null,null,null,null,null,null,null,null,"28",null,"Amicus High Interest",null,2.4,null,"Sports & Recreation",null,"English",null,"Reinforced Library",null,24,null,"I",null,"510L",null,"1 - 4",null,"Elizabeth Raum"]
[{"$f":"A331","v":0},null,{"$f":"C331","v":0},null,{"$f":"E331","v":0},null,9781681512228,null,9781681511320,null,"Carli Lloyd",null,null,null,"Pro Sports Biographies",null,null,null,"Amicus",null,44.85,null,21.95,null,26.95,null,0,null,null,null,null,null,0,0,0,0,0,0,0,0,"Fall 2017",null,2018,null,"796.334092 B",null,null,null,null,null,null,null,null,null,"28",null,"Amicus High Interest",null,2.2999999999999998,null,"Sports & Recreation",null,"English",null,"Reinforced Library",null,24,null,"I",null,"520L",null,"1 - 4",null,"Elizabeth Raum"]
[{"$f":"A331","v":0},null,{"$f":"C331","v":0},null,{"$f":"E331","v":0},null,9781681512242,null,9781681511344,null,"Chloe Kim",null,null,null,"Pro Sports Biographies",null,null,null,"Amicus",null,44.85,null,21.95,null,26.95,null,0,null,null,null,null,null,0,0,0,0,0,0,0,0,"Fall 2017",null,2018,null,"796.939092 B",null,null,null,null,null,null,null,null,null,"28",null,"Amicus High Interest",null,2.5,null,"Sports & Recreation",null,"English",null,"Reinforced Library",null,24,null,"I",null,"490L",null,"1 - 4",null,"Elizabeth Raum"]
[{"$f":"A331","v":0},null,{"$f":"C331","v":0},null,{"$f":"E331","v":0},null,9781681512266,null,9781681511368,null,"J.J. Watt",null,null,null,"Pro Sports Biographies",null,null,null,"Amicus",null,44.85,null,21.95,null,26.95,null,0,null,null,null,null,null,0,0,0,0,0,0,0,0,"Fall 2017",null,2018,null,"796.332092 B",null,null,null,null,null,null,null,null,null,"28",null,"Amicus High Interest",null,2.2999999999999998,null,"Sports & Recreation",null,"English",null,"Reinforced Library",null,24,null,"I",null,"480L",null,"1 - 4",null,"Elizabeth Raum"]
[{"$f":"A331","v":0},null,{"$f":"C331","v":0},null,{"$f":"E331","v":0},null,9781681512280,null,9781681511382,null,"LeBron James",null,null,null,"Pro Sports Biographies",null,null,null,"Amicus",null,44.85,null,21.95,null,26.95,null,0,null,null,null,null,null,0,0,0,0,0,0,0,0,"Fall 2017",null,2018,null,"796.323092 B",null,null,null,null,null,null,null,null,null,"28",null,"Amicus High Interest",null,2.2999999999999998,null,"Sports & Recreation",null,"English",null,"Reinforced Library",null,24,null,"I",null,"500L",null,"1 - 4",null,"Elizabeth Raum"]
[{"$f":"A331","v":0},null,{"$f":"C331","v":0},null,{"$f":"E331","v":0},null,9781681512235,null,9781681511337,null,"Maya Moore",null,null,null,"Pro Sports Biographies",null,null,null,"Amicus",null,44.85,null,21.95,null,26.95,null,0,null,null,null,null,null,0,0,0,0,0,0,0,0,"Fall 2017",null,2018,null,"796.323092 B",null,null,null,null,null,null,null,null,null,"28",null,"Amicus High Interest",null,2.5,null,"Sports & Recreation",null,"English",null,"Reinforced Library",null,24,null,"I",null,"540L",null,"1 - 4",null,"Elizabeth Raum"]
[{"$f":"A331","v":0},null,{"$f":"C331","v":0},null,{"$f":"E331","v":0},null,9781681517469,null,9781681516646,null,"Megan Rapinoe",null,null,null,"Pro Sports Biographies",null,null,null,"Amicus",null,44.85,null,21.95,null,26.95,null,0,null,null,null,null,null,0,0,0,0,0,0,0,0,"Fall 2019",null,2020,null,796.33409200000006,null,null,null,null,null,null,null,null,null,"28",null,"Amicus High Interest",null,2.4,null,"Sports & Recreation",null,"English",null,"Reinforced Library",null,24,null,"I",null,"510L",null,"1 - 4",null,"Jill Sherman"]
[{"$f":"A331","v":0},null,{"$f":"C331","v":0},null,{"$f":"E331","v":0},null,9781681517476,null,9781681516653,null,"Ronda Rousey",null,null,null,"Pro Sports Biographies",null,null,null,"Amicus",null,44.85,null,21.95,null,26.95,null,0,null,null,null,null,null,0,0,0,0,0,0,0,0,"Fall 2019",null,2020,null,"796.812092 B",null,null,null,null,null,null,null,null,null,"28",null,"Amicus High Interest",null,2.6,null,"Sports & Recreation",null,"English",null,"Reinforced Library",null,24,null,"I",null,"520L",null,"1 - 4",null,"Jill Sherman"]
[{"$f":"A331","v":0},null,{"$f":"C331","v":0},null,{"$f":"E331","v":0},null,9781681512297,null,9781681511399,null,"Serena Williams",null,null,null,"Pro Sports Biographies",null,null,null,"Amicus",null,44.85,null,21.95,null,26.95,null,0,null,null,null,null,null,0,0,0,0,0,0,0,0,"Fall 2017",null,2018,null,"796.342092 B",null,null,null,null,null,null,null,null,null,"28",null,"Amicus High Interest",null,2.6,null,"Sports & Recreation",null,"English",null,"Reinforced Library",null,24,null,"I",null,"570L",null,"1 - 4",null,"Elizabeth Raum"]
[{"$f":"A331","v":0},null,{"$f":"C331","v":0},null,{"$f":"E331","v":0},null,9781681517483,null,9781681516660,null,"Simone Biles",null,null,null,"Pro Sports Biographies",null,null,null,"Amicus",null,44.85,null,21.95,null,26.95,null,0,null,null,null,null,null,0,0,0,0,0,0,0,0,"Fall 2019",null,2020,null,"796.44092 B",null,null,null,null,null,null,null,null,null,"28",null,"Amicus High Interest",null,2.5,null,"Sports & Recreation",null,"English",null,"Reinforced Library",null,24,null,"I",null,"500L",null,"1 - 4",null,"Jill Sherman"]
[{"$f":"A331","v":0},null,{"$f":"C331","v":0},null,{"$f":"E331","v":0},null,9781681517490,null,9781681516677,null,"Stephen Curry",null,null,null,"Pro Sports Biographies",null,null,null,"Amicus",null,44.85,null,21.95,null,26.95,null,0,null,null,null,null,null,0,0,0,0,0,0,0,0,"Fall 2019",null,2020,null,"796.323092 B",null,null,null,null,null,null,null,null,null,"28",null,"Amicus High Interest",null,2.1,null,"Sports & Recreation",null,"English",null,"Reinforced Library",null,24,null,"I",null,"470L",null,"1 - 4",null,"Elizabeth Raum"]
[{"$f":"A331","v":0},null,{"$f":"C331","v":0},null,{"$f":"E331","v":0},null,9781681517506,null,9781681516684,null,"Sylvia Fowles",null,null,null,"Pro Sports Biographies",null,null,null,"Amicus",null,44.85,null,21.95,null,26.95,null,0,null,null,null,null,null,0,0,0,0,0,0,0,0,"Fall 2019",null,2020,null,"796.323092 B",null,null,null,null,null,null,null,null,null,"28",null,"Amicus High Interest",null,2.4,null,"Sports & Recreation",null,"English",null,"Reinforced Library",null,24,null,"I",null,"510L",null,"1 - 4",null,"Jill Sherman"]
[{"$f":"A331","v":0},null,{"$f":"C331","v":0},null,{"$f":"E331","v":0},null,9781681517513,null,9781681516691,null,"Von Miller",null,null,null,"Pro Sports Biographies",null,null,null,"Amicus",null,44.85,null,21.95,null,26.95,null,0,null,null,null,null,null,0,0,0,0,0,0,0,0,"Fall 2019",null,2020,null,"796.332092 B",null,null,null,null,null,null,null,null,null,"28",null,"Amicus High Interest",null,2.6,null,"Sports & Recreation",null,"English",null,"Reinforced Library",null,24,null,"I",null,"480L",null,"1 - 4",null,"Allan Morey"]
[]
[null,null,null,null,null,null,null,null,null,null,"Complete Series of 6",null,null,null,"Razas de perros favoritas (Favorite Dog Breeds)",null,null,null,null,null,{"$f":"SUM(U350:U355)","v":269.10000000000002},null,{"$f":"SUM(W350:W355)","v":131.69999999999999},null,{"$f":"SUM(Y350:Y355)","v":161.69999999999999}]
[{"$f":"A349","v":0},null,{"$f":"C349","v":0},null,{"$f":"E349","v":0},null,9781681519159,null,9781681518893,null,"Los dálmatas (Dalmations)",null,null,null,"Razas de perros favoritas (Favorite Dog Breeds)",null,null,null,"Amicus",null,44.85,null,21.95,null,{"$f":"W350+5","v":26.95},null,{"$f":"IF(AC350=FALSE,AK350+AL350+AM350,0)","v":0},null,null,null,null,null,0,0,0,0,0,0,0,0,"Fall 2019",null,2020,null,636.72,null,null,null,null,null,null,null,null,null,"50",null,"Amicus High Interest",null,2.5,null,"Animals & Nature",null,"Spanish",null,"Reinforced Library",null,24,null,null,null,null,null,"1 - 4",null,"Mary Ellen Klukow"]
[{"$f":"A349","v":0},null,{"$f":"C349","v":0},null,{"$f":"E349","v":0},null,9781681519166,null,9781681518909,null,"Los golden retrievers (Golden Retrievers)",null,null,null,"Razas de perros favoritas (Favorite Dog Breeds)",null,null,null,"Amicus",null,44.85,null,21.95,null,26.95,null,0,null,null,null,null,null,0,0,0,0,0,0,0,0,"Fall 2019",null,2020,null,"636.752/7",null,null,null,null,null,null,null,null,null,"50",null,"Amicus High Interest",null,2.6,null,"Animals & Nature",null,"Spanish",null,"Reinforced Library",null,24,null,null,null,null,null,"1 - 4",null,"Mary Ellen Klukow"]
[{"$f":"A349","v":0},null,{"$f":"C349","v":0},null,{"$f":"E349","v":0},null,9781681519173,null,9781681518916,null,"Los gran daneses (Great Danes)",null,null,null,"Razas de perros favoritas (Favorite Dog Breeds)",null,null,null,"Amicus",null,44.85,null,21.95,null,26.95,null,0,null,null,null,null,null,0,0,0,0,0,0,0,0,"Fall 2019",null,2020,null,636.73,null,null,null,null,null,null,null,null,null,"50",null,"Amicus High Interest",null,2.1,null,"Animals & Nature",null,"Spanish",null,"Reinforced Library",null,24,null,null,null,null,null,"1 - 4",null,"Mary Ellen Klukow"]
[{"$f":"A349","v":0},null,{"$f":"C349","v":0},null,{"$f":"E349","v":0},null,9781681519197,null,9781681518930,null,"Los husky siberianos (Siberian Huskies)",null,null,null,"Razas de perros favoritas (Favorite Dog Breeds)",null,null,null,"Amicus",null,44.85,null,21.95,null,26.95,null,0,null,null,null,null,null,0,0,0,0,0,0,0,0,"Fall 2019",null,2020,null,636.73,null,null,null,null,null,null,null,null,null,"50",null,"Amicus High Interest",null,2.1,null,"Animals & Nature",null,"Spanish",null,"Reinforced Library",null,24,null,null,null,null,null,"1 - 4",null,"Mary Ellen Klukow"]
[{"$f":"A349","v":0},null,{"$f":"C349","v":0},null,{"$f":"E349","v":0},null,9781681519180,null,9781681518923,null,"Los Shih Tzu (Shih Tzus)",null,null,null,"Razas de perros favoritas (Favorite Dog Breeds)",null,null,null,"Amicus",null,44.85,null,21.95,null,26.95,null,0,null,null,null,null,null,0,0,0,0,0,0,0,0,"Fall 2019",null,2020,null,636.76,null,null,null,null,null,null,null,null,null,"50",null,"Amicus High Interest",null,2.1,null,"Animals & Nature",null,"Spanish",null,"Reinforced Library",null,24,null,null,null,null,null,"1 - 4",null,"Mary Ellen Klukow"]
[{"$f":"A349","v":0},null,{"$f":"C349","v":0},null,{"$f":"E349","v":0},null,9781681519203,null,9781681518947,null,"Los Yorkshire terriers (Yorksire Terriers)",null,null,null,"Razas de perros favoritas (Favorite Dog Breeds)",null,null,null,"Amicus",null,44.85,null,21.95,null,26.95,null,0,null,null,null,null,null,0,0,0,0,0,0,0,0,"Fall 2019",null,2020,null,636.76,null,null,null,null,null,null,null,null,null,"50",null,"Amicus High Interest",null,2.1,null,"Animals & Nature",null,"Spanish",null,"Reinforced Library",null,24,null,null,null,null,null,"1 - 4",null,"Mary Ellen Klukow"]
[]
[null,null,null,null,null,null,null,null,null,null,"Complete Series of 4",null,null,null,"Riddle Diddle Dumplings (Board Book)",null,null,null,null,null,{"$f":"SUM(U358:U361)","v":57.2},null,{"$f":"SUM(W358:W361)","v":39.96},null,{"$f":"SUM(Y358:Y361)","v":59.96}]
[{"$f":"A357","v":0},null,{"$f":"C357","v":0},null,{"$f":"E357","v":0},null,9781681525082,null,9781681524061,null,"Riddle Diddle Farm",null,null,null,"Riddle Diddle Dumplings (Board Book)",null,null,null,"Amicus",null,14.3,null,9.99,null,{"$f":"W358+5","v":14.99},null,{"$f":"IF(AC358=FALSE,AK358+AL358+AM358,0)","v":0},null,null,null,null,null,0,0,0,0,0,0,0,0,"Fall 2018",null,2018,null,636,null,null,null,null,null,null,null,null,null,"14",null,"Amicus Ink",null,"Not Quizzable",null,"Animals & Nature",null,"English",null,"Board Book",null,10,null,null,null,null,null,"PreK - 1",null,"Diane Z. Shore and Deanna Calvert"]
[{"$f":"A357","v":0},null,{"$f":"C357","v":0},null,{"$f":"E357","v":0},null,9781681525211,null,9781681524993,null,"Riddle Diddle Ocean",null,null,null,"Riddle Diddle Dumplings (Board Book)",null,null,null,"Amicus",null,14.3,null,9.99,null,{"$f":"W359+5","v":14.99},null,0,null,null,null,null,null,0,0,0,0,0,0,0,0,"Fall 2019",null,2019,null,591.77,null,null,null,null,null,null,null,null,null,"14",null,"Amicus Ink",null,"Not Quizzable",null,"Animals & Nature",null,"English",null,"Board Book",null,10,null,"na",null,null,null,"PreK - 1",null,"Diane Z. Shore and Deanna Calvert"]
[{"$f":"A357","v":0},null,{"$f":"C357","v":0},null,{"$f":"E357","v":0},null,9781681525228,null,9781681525006,null,"Riddle Diddle Rainforest",null,null,null,"Riddle Diddle Dumplings (Board Book)",null,null,null,"Amicus",null,14.3,null,9.99,null,{"$f":"W360+5","v":14.99},null,0,null,null,null,null,null,0,0,0,0,0,0,0,0,"Fall 2019",null,2019,null,591.73400000000004,null,null,null,null,null,null,null,null,null,"14",null,"Amicus Ink",null,"Not Quizzable",null,"Animals & Nature",null,"English",null,"Board Book",null,10,null,"na",null,null,null,"PreK - 1",null,"Diane Z. Shore and Deanna Calvert"]
[{"$f":"A357","v":0},null,{"$f":"C357","v":0},null,{"$f":"E357","v":0},null,9781681525099,null,9781681524078,null,"Riddle Diddle Safari",null,null,null,"Riddle Diddle Dumplings (Board Book)",null,null,null,"Amicus",null,14.3,null,9.99,null,{"$f":"W361+5","v":14.99},null,0,null,null,null,null,null,0,0,0,0,0,0,0,0,"Fall 2018",null,2018,null,591.96,null,null,null,null,null,null,null,null,null,"14",null,"Amicus Ink",null,"Not Quizzable",null,"Animals & Nature",null,"English",null,"Board Book",null,10,null,null,null,null,null,"PreK - 1",null,"Diane Z. Shore and Deanna Calvert"]
[]
[null,null,null,null,null,null,null,null,null,null,"Complete Series of 6",null,null,null,"Sequence American Government",null,null,null,null,null,{"$f":"SUM(U364:U369)","v":294},null,{"$f":"SUM(W364:W369)","v":143.69999999999999},null,{"$f":"SUM(Y364:Y369)","v":173.7}]
[{"$f":"A363","v":0},null,{"$f":"C363","v":0},null,{"$f":"E363","v":0},null,9781681517544,null,9781681516721,null,"Understanding How Laws Are Made",null,null,null,"Sequence American Government",null,null,null,"Amicus",null,49,null,23.95,null,{"$f":"W364+5","v":28.95},null,{"$f":"IF(AC364=FALSE,AK364+AL364+AM364,0)","v":0},null,null,null,null,null,0,0,0,0,0,0,0,0,"Fall 2019",null,2020,null,328.73,null,null,null,null,null,null,null,null,null,"45",null,"Sequence",null,3.4,null,"Social Studies",null,"English",null,"Reinforced Library",null,32,null,"M",null,43501,null,"2 – 5",null,"Matt Bowers "]
[{"$f":"A363","v":0},null,{"$f":"C363","v":0},null,{"$f":"E363","v":0},null,9781681517568,null,9781681516745,null,"Understanding Presidential Elections",null,null,null,"Sequence American Government",null,null,null,"Amicus",null,49,null,23.95,null,28.95,null,0,null,null,null,null,null,0,0,0,0,0,0,0,0,"Fall 2019",null,2020,null,324.60973000000001,null,null,null,null,null,null,null,null,null,"45",null,"Sequence",null,3.7,null,"Social Studies",null,"English",null,"Reinforced Library",null,32,null,"M",null,43501,null,"2 – 5",null,"Matt Bowers "]
[{"$f":"A363","v":0},null,{"$f":"C363","v":0},null,{"$f":"E363","v":0},null,9781681517520,null,9781681516707,null,"Understanding the Path to Citizenship",null,null,null,"Sequence American Government",null,null,null,"Amicus",null,49,null,23.95,null,28.95,null,0,null,null,null,null,null,0,0,0,0,0,0,0,0,"Fall 2019",null,2020,null,"323.6/20973",null,null,null,null,null,null,null,null,null,"45",null,"Sequence",null,3.7,null,"Social Studies",null,"English",null,"Reinforced Library",null,32,null,"M",null,43501,null,"2 – 5",null,"Kremena Spengler"]
[{"$f":"A363","v":0},null,{"$f":"C363","v":0},null,{"$f":"E363","v":0},null,9781681517537,null,9781681516714,null,"Writing the Bill of Rights",null,null,null,"Sequence American Government",null,null,null,"Amicus",null,49,null,23.95,null,28.95,null,0,null,null,null,null,null,0,0,0,0,0,0,0,0,"Fall 2019",null,2020,null,"342.7303/9",null,null,null,null,null,null,null,null,null,"45",null,"Sequence",null,4,null,"Social Studies",null,"English",null,"Reinforced Library",null,32,null,"M",null,43501,null,"2 – 5",null,"Matt Bowers "]
[{"$f":"A363","v":0},null,{"$f":"C363","v":0},null,{"$f":"E363","v":0},null,9781681517551,null,9781681516738,null,"Writing the Declaration of Independence",null,null,null,"Sequence American Government",null,null,null,"Amicus",null,49,null,23.95,null,28.95,null,0,null,null,null,null,null,0,0,0,0,0,0,0,0,"Fall 2019",null,2020,null,"973.3/13",null,null,null,null,null,null,null,null,null,"45",null,"Sequence",null,3.8,null,"Social Studies",null,"English",null,"Reinforced Library",null,32,null,"M",null,43501,null,"2 – 5",null,"Matt Bowers "]
[{"$f":"A363","v":0},null,{"$f":"C363","v":0},null,{"$f":"E363","v":0},null,9781681517575,null,9781681516752,null,"Writing the U.S. Constitution",null,null,null,"Sequence American Government",null,null,null,"Amicus",null,49,null,23.95,null,28.95,null,0,null,null,null,null,null,0,0,0,0,0,0,0,0,"Fall 2019",null,2020,null,"342.7302/9",null,null,null,null,null,null,null,null,null,"45",null,"Sequence",null,3.8,null,"Social Studies",null,"English",null,"Reinforced Library",null,32,null,"M",null,43501,null,"2 – 5",null,"Matt Bowers "]
[]
[null,null,null,null,null,null,null,null,null,null,"Complete Series of 6",null,null,null,"Sequence Change Maker Biographies",null,null,null,null,null,{"$f":"SUM(U372:U377)","v":294},null,{"$f":"SUM(W372:W377)","v":143.69999999999999},null,{"$f":"SUM(Y372:Y377)","v":173.7}]
[{"$f":"A371","v":0},null,{"$f":"C371","v":0},null,{"$f":"E371","v":0},null,9781681517582,null,9781681516769,null,"Life of Harriet Tubman, The",null,null,null,"Sequence Change Maker Biographies",null,null,null,"Amicus",null,49,null,23.95,null,{"$f":"W372+5","v":28.95},null,{"$f":"IF(AC372=FALSE,AK372+AL372+AM372,0)","v":0},null,null,null,null,null,0,0,0,0,0,0,0,0,"Fall 2019",null,2020,null,"306.3/62092 [B]",null,null,null,null,null,null,null,null,null,"45",null,"Sequence",null,3.5,null,"Biography",null,"English",null,"Reinforced Library",null,32,null,"M",null,43501,null,"2 – 5",null,"Elizabeth Raum"]
[{"$f":"A371","v":0},null,{"$f":"C371","v":0},null,{"$f":"E371","v":0},null,9781681517599,null,9781681516776,null,"Life of Malala Yousafzai, The",null,null,null,"Sequence Change Maker Biographies",null,null,null,"Amicus",null,49,null,23.95,null,28.95,null,0,null,null,null,null,null,0,0,0,0,0,0,0,0,"Fall 2019",null,2020,null,371.82209549100003,null,null,null,null,null,null,null,null,null,"45",null,"Sequence",null,3.5,null,"Biography",null,"English",null,"Reinforced Library",null,32,null,"M",null,43501,null,"2 – 5",null,"Elizabeth Raum"]
[{"$f":"A371","v":0},null,{"$f":"C371","v":0},null,{"$f":"E371","v":0},null,9781681517605,null,9781681516783,null,"Life of Marie Curie, The",null,null,null,"Sequence Change Maker Biographies",null,null,null,"Amicus",null,49,null,23.95,null,28.95,null,0,null,null,null,null,null,0,0,0,0,0,0,0,0,"Fall 2019",null,2020,null,"540.92 [B]",null,null,null,null,null,null,null,null,null,"45",null,"Sequence",null,3.6,null,"Biography",null,"English",null,"Reinforced Library",null,32,null,"M",null,43501,null,"2 – 5",null,"Elizabeth Raum"]
[{"$f":"A371","v":0},null,{"$f":"C371","v":0},null,{"$f":"E371","v":0},null,9781681517612,null,9781681516790,null,"Life of Ruby Bridges, The",null,null,null,"Sequence Change Maker Biographies",null,null,null,"Amicus",null,49,null,23.95,null,28.95,null,0,null,null,null,null,null,0,0,0,0,0,0,0,0,"Fall 2019",null,2020,null,"379.2/63092 [B]",null,null,null,null,null,null,null,null,null,"45",null,"Sequence",null,3.6,null,"Biography",null,"English",null,"Reinforced Library",null,32,null,"M",null,43501,null,"2 – 5",null,"Elizabeth Raum"]
[{"$f":"A371","v":0},null,{"$f":"C371","v":0},null,{"$f":"E371","v":0},null,9781681517629,null,9781681516806,null,"Life of Sally Ride, The",null,null,null,"Sequence Change Maker Biographies",null,null,null,"Amicus",null,49,null,23.95,null,28.95,null,0,null,null,null,null,null,0,0,0,0,0,0,0,0,"Fall 2019",null,2020,null,"629.450092 [B]",null,null,null,null,null,null,null,null,null,"45",null,"Sequence",null,3.7,null,"Biography",null,"English",null,"Reinforced Library",null,32,null,"M",null,43501,null,"2 – 5",null,"Elizabeth Raum"]
[{"$f":"A371","v":0},null,{"$f":"C371","v":0},null,{"$f":"E371","v":0},null,9781681517636,null,9781681516813,null,"Life of Susan B. Anthony, The",null,null,null,"Sequence Change Maker Biographies",null,null,null,"Amicus",null,49,null,23.95,null,28.95,null,0,null,null,null,null,null,0,0,0,0,0,0,0,0,"Fall 2019",null,2020,null,"305.4209 [B]",null,null,null,null,null,null,null,null,null,"45",null,"Sequence",null,3.4,null,"Biography",null,"English",null,"Reinforced Library",null,32,null,"M",null,43501,null,"2 – 5",null,"Elizabeth Raum"]
[]
[null,null,null,null,null,null,null,null,null,null,"Complete Series of 6",null,null,null,"Sequence Developments in Technology",null,null,null,null,null,{"$f":"SUM(U380:U385)","v":294},null,{"$f":"SUM(W380:W385)","v":143.69999999999999},null,{"$f":"SUM(Y380:Y385)","v":173.7}]
[{"$f":"A379","v":0},null,{"$f":"C379","v":0},null,{"$f":"E379","v":0},null,9781681517643,null,9781681516820,null,"Automobiles from Then to Now",null,null,null,"Sequence Developments in Technology",null,null,null,"Amicus",null,49,null,23.95,null,{"$f":"W380+5","v":28.95},null,{"$f":"IF(AC380=FALSE,AK380+AL380+AM380,0)","v":0},null,null,null,null,null,0,0,0,0,0,0,0,0,"Fall 2019",null,2020,null,629.22208999999998,null,null,null,null,null,null,null,null,null,"45",null,"Sequence",null,3.6,null,"Science & Technology",null,"English",null,"Reinforced Library",null,32,null,"M",null,43501,null,"2 – 5",null,"Rachel Grack"]
[{"$f":"A379","v":0},null,{"$f":"C379","v":0},null,{"$f":"E379","v":0},null,9781681517650,null,9781681516837,null,"Navigation from Then to Now",null,null,null,"Sequence Developments in Technology",null,null,null,"Amicus",null,49,null,23.95,null,28.95,null,0,null,null,null,null,null,0,0,0,0,0,0,0,0,"Fall 2019",null,2020,null,623.89,null,null,null,null,null,null,null,null,null,"45",null,"Sequence",null,3.7,null,"Science & Technology",null,"English",null,"Reinforced Library",null,32,null,"M",null,43501,null,"2 – 5",null,"Rachel Grack"]
[{"$f":"A379","v":0},null,{"$f":"C379","v":0},null,{"$f":"E379","v":0},null,9781681517674,null,9781681516851,null,"Robots from Then to Now",null,null,null,"Sequence Developments in Technology",null,null,null,"Amicus",null,49,null,23.95,null,28.95,null,0,null,null,null,null,null,0,0,0,0,0,0,0,0,"Fall 2019",null,2020,null,"629.8/9209",null,null,null,null,null,null,null,null,null,"45",null,"Sequence",null,3.7,null,"Science & Technology",null,"English",null,"Reinforced Library",null,32,null,"M",null,43501,null,"2 – 5",null,"Rachel Grack"]
[{"$f":"A379","v":0},null,{"$f":"C379","v":0},null,{"$f":"E379","v":0},null,9781681517698,null,9781681516875,null,"Space Travel from Then to Now",null,null,null,"Sequence Developments in Technology",null,null,null,"Amicus",null,49,null,23.95,null,28.95,null,0,null,null,null,null,null,0,0,0,0,0,0,0,0,"Fall 2019",null,2020,null,"629.4/1",null,null,null,null,null,null,null,null,null,"45",null,"Sequence",null,3.8,null,"Science & Technology",null,"English",null,"Reinforced Library",null,32,null,"M",null,43501,null,"2 – 5",null,"Rachel Grack"]
[{"$f":"A379","v":0},null,{"$f":"C379","v":0},null,{"$f":"E379","v":0},null,9781681517681,null,9781681516868,null,"Toilets from Then to Now",null,null,null,"Sequence Developments in Technology",null,null,null,"Amicus",null,49,null,23.95,null,28.95,null,0,null,null,null,null,null,0,0,0,0,0,0,0,0,"Fall 2019",null,2020,null,"696/.182",null,null,null,null,null,null,null,null,null,"45",null,"Sequence",null,3.8,null,"Science & Technology",null,"English",null,"Reinforced Library",null,32,null,"M",null,43501,null,"2 – 5",null,"Rachel Grack"]
[{"$f":"A379","v":0},null,{"$f":"C379","v":0},null,{"$f":"E379","v":0},null,9781681517667,null,9781681516844,null,"Wireless Technology from Then to Now",null,null,null,"Sequence Developments in Technology",null,null,null,"Amicus",null,49,null,23.95,null,28.95,null,0,null,null,null,null,null,0,0,0,0,0,0,0,0,"Fall 2019",null,2020,null,621.38208999999995,null,null,null,null,null,null,null,null,null,"45",null,"Sequence",null,4,null,"Science & Technology",null,"English",null,"Reinforced Library",null,32,null,"M",null,43501,null,"2 – 5",null,"Rachel Grack"]
[]
[null,null,null,null,null,null,null,null,null,null,"Complete Series of 8",null,null,null,"Spot African Animals",null,null,null,null,null,{"$f":"SUM(U388:U395)","v":326.40000000000003},null,{"$f":"SUM(W388:W395)","v":159.6},null,{"$f":"SUM(Y388:Y395)","v":199.59999999999997}]
[{"$f":"A387","v":0},null,{"$f":"C387","v":0},null,{"$f":"E387","v":0},null,9781681517186,null,9781681516363,null,"Cheetahs",null,null,null,"Spot African Animals",null,null,null,"Amicus",null,40.799999999999997,null,19.95,null,{"$f":"W388+5","v":24.95},null,{"$f":"IF(AC388=FALSE,AK388+AL388+AM388,0)","v":0},null,null,null,null,null,0,0,0,0,0,0,0,0,"Fall 2019",null,2020,null,"599.75/9",null,null,null,null,null,null,null,null,null,"22",null,"Spot",null,0.9,null,"Animals & Nature",null,"English",null,"Reinforced Library",null,16,null,"C",null,"370L",null,"PreK - 3",null,"Mary Ellen Klukow"]
[{"$f":"A387","v":0},null,{"$f":"C387","v":0},null,{"$f":"E387","v":0},null,9781681517193,null,9781681516370,null,"Crocodiles",null,null,null,"Spot African Animals",null,null,null,"Amicus",null,40.799999999999997,null,19.95,null,24.95,null,0,null,null,null,null,null,0,0,0,0,0,0,0,0,"Fall 2019",null,2020,null,"597.98/2",null,null,null,null,null,null,null,null,null,"22",null,"Spot",null,0.8,null,"Animals & Nature",null,"English",null,"Reinforced Library",null,16,null,"C",null,"300L",null,"PreK - 3",null,"Mary Ellen Klukow"]
[{"$f":"A387","v":0},null,{"$f":"C387","v":0},null,{"$f":"E387","v":0},null,9781681517209,null,9781681516387,null,"Elephants",null,null,null,"Spot African Animals",null,null,null,"Amicus",null,40.799999999999997,null,19.95,null,24.95,null,0,null,null,null,null,null,0,0,0,0,0,0,0,0,"Fall 2019",null,2020,null,599.66999999999996,null,null,null,null,null,null,null,null,null,"22",null,"Spot",null,0.9,null,"Animals & Nature",null,"English",null,"Reinforced Library",null,16,null,"C",null,"330L",null,"PreK - 3",null,"Mary Ellen Klukow"]
[{"$f":"A387","v":0},null,{"$f":"C387","v":0},null,{"$f":"E387","v":0},null,9781681517216,null,9781681516394,null,"Giraffes",null,null,null,"Spot African Animals",null,null,null,"Amicus",null,40.799999999999997,null,19.95,null,24.95,null,0,null,null,null,null,null,0,0,0,0,0,0,0,0,"Fall 2019",null,2020,null,599.63800000000003,null,null,null,null,null,null,null,null,null,"22",null,"Spot",null,0.9,null,"Animals & Nature",null,"English",null,"Reinforced Library",null,16,null,"C",null,"320L",null,"PreK - 3",null,"Mary Ellen Klukow"]
[{"$f":"A387","v":0},null,{"$f":"C387","v":0},null,{"$f":"E387","v":0},null,9781681517223,null,9781681516400,null,"Gorillas",null,null,null,"Spot African Animals",null,null,null,"Amicus",null,40.799999999999997,null,19.95,null,24.95,null,0,null,null,null,null,null,0,0,0,0,0,0,0,0,"Fall 2019",null,2020,null,599.88400000000001,null,null,null,null,null,null,null,null,null,"22",null,"Spot",null,0.9,null,"Animals & Nature",null,"English",null,"Reinforced Library",null,16,null,"C",null,"340L",null,"PreK - 3",null,"Mary Ellen Klukow"]
[{"$f":"A387","v":0},null,{"$f":"C387","v":0},null,{"$f":"E387","v":0},null,9781681517230,null,9781681516417,null,"Hippos",null,null,null,"Spot African Animals",null,null,null,"Amicus",null,40.799999999999997,null,19.95,null,24.95,null,0,null,null,null,null,null,0,0,0,0,0,0,0,0,"Fall 2019",null,2020,null,"599.63/5",null,null,null,null,null,null,null,null,null,"22",null,"Spot",null,0.9,null,"Animals & Nature",null,"English",null,"Reinforced Library",null,16,null,"C",null,"330L",null,"PreK - 3",null,"Mary Ellen Klukow"]
[{"$f":"A387","v":0},null,{"$f":"C387","v":0},null,{"$f":"E387","v":0},null,9781681517247,null,9781681516424,null,"Lions",null,null,null,"Spot African Animals",null,null,null,"Amicus",null,40.799999999999997,null,19.95,null,24.95,null,0,null,null,null,null,null,0,0,0,0,0,0,0,0,"Fall 2019",null,2020,null,599.75699999999995,null,null,null,null,null,null,null,null,null,"22",null,"Spot",null,0.9,null,"Animals & Nature",null,"English",null,"Reinforced Library",null,16,null,"C",null,"310L",null,"PreK - 3",null,"Mary Ellen Klukow"]
[{"$f":"A387","v":0},null,{"$f":"C387","v":0},null,{"$f":"E387","v":0},null,9781681517254,null,9781681516431,null,"Zebras",null,null,null,"Spot African Animals",null,null,null,"Amicus",null,40.799999999999997,null,19.95,null,24.95,null,0,null,null,null,null,null,0,0,0,0,0,0,0,0,"Fall 2019",null,2020,null,"599.665/7",null,null,null,null,null,null,null,null,null,"22",null,"Spot",null,0.9,null,"Animals & Nature",null,"English",null,"Reinforced Library",null,16,null,"C",null,"300L",null,"PreK - 3",null,"Mary Ellen Klukow"]
[]
[null,null,null,null,null,null,null,null,null,null,"Complete Series of 18",null,null,null,"Spot Mighty Machines",null,null,null,null,null,{"$f":"SUM(U398:U415)","v":734.39999999999986},null,{"$f":"SUM(W398:W415)","v":359.09999999999991},null,{"$f":"SUM(Y398:Y415)","v":449.09999999999985}]
[{"$f":"A397","v":0},null,{"$f":"C397","v":0},null,{"$f":"E397","v":0},null,9781681517261,null,9781681516448,null,"Airplanes",null,null,null,"Spot Mighty Machines",null,null,null,"Amicus",null,40.799999999999997,null,19.95,null,{"$f":"W398+5","v":24.95},null,{"$f":"IF(AC398=FALSE,AK398+AL398+AM398,0)","v":0},null,null,null,null,null,{"$f":"A398","v":0},{"$f":"C398","v":0},{"$f":"E398","v":0},{"$f":"SUM(AG398:AI398)","v":0},{"$f":"U398*A398","v":0},{"$f":"W398*C398","v":0},{"$f":"Y398*E398","v":0},{"$f":"SUM(AK398:AM398)","v":0},"Fall 2019",null,2020,null,"629.133/34",null,null,null,null,null,null,null,null,null,"23",null,"Spot",null,0.9,null,"Science & Technology",null,"English",null,"Reinforced Library",null,16,null,"D",null,"280L",null,"PreK - 3",null,"Wendy Strobel Dieker"]
[{"$f":"A397","v":0},null,{"$f":"C397","v":0},null,{"$f":"E397","v":0},null,9781681514543,null,9781681513720,null,"Big Rigs",null,null,null,"Spot Mighty Machines",null,null,null,"Amicus",null,40.799999999999997,null,19.95,null,24.95,null,0,null,null,null,null,null,0,0,0,0,0,0,0,0,"Fall 2018",null,2019,null,629.22400000000005,null,null,null,null,null,null,null,null,null,"23",null,"Spot",null,0.9,null,"Science & Technology",null,"English",null,"Reinforced Library",null,16,null,"D",null,"320L",null,"PreK - 3",null,"Wendy Strobel Dieker"]
[{"$f":"A397","v":0},null,{"$f":"C397","v":0},null,{"$f":"E397","v":0},null,9781681511894,null,9781681510996,null,"Bulldozers",null,null,null,"Spot Mighty Machines",null,null,null,"Amicus",null,40.799999999999997,null,19.95,null,24.95,null,0,null,null,null,null,null,0,0,0,0,0,0,0,0,"Fall 2017",null,2018,null,629.22500000000002,null,null,null,null,null,null,null,null,null,"23",null,"Spot",null,0.8,null,"Science & Technology",null,"English",null,"Reinforced Library",null,16,null,"D",null,"260L",null,"PreK - 3",null,"Mari Schuh"]
[{"$f":"A397","v":0},null,{"$f":"C397","v":0},null,{"$f":"E397","v":0},null,9781681511887,null,9781681510989,null,"Concrete Mixers",null,null,null,"Spot Mighty Machines",null,null,null,"Amicus",null,40.799999999999997,null,19.95,null,24.95,null,0,null,null,null,null,null,0,0,0,0,0,0,0,0,"Fall 2017",null,2018,null,629.22500000000002,null,null,null,null,null,null,null,null,null,"23",null,"Spot",null,0.9,null,"Science & Technology",null,"English",null,"Reinforced Library",null,16,null,"D",null,"240L",null,"PreK - 3",null,"Mari Schuh"]
[{"$f":"A397","v":0},null,{"$f":"C397","v":0},null,{"$f":"E397","v":0},null,9781681511900,null,9781681511009,null,"Cranes",null,null,null,"Spot Mighty Machines",null,null,null,"Amicus",null,40.799999999999997,null,19.95,null,24.95,null,0,null,null,null,null,null,0,0,0,0,0,0,0,0,"Fall 2017",null,2018,null,"621.8/73",null,null,null,null,null,null,null,null,null,"23",null,"Spot",null,0.9,null,"Science & Technology",null,"English",null,"Reinforced Library",null,16,null,"D",null,"250L",null,"PreK - 3",null,"Mari Schuh"]
[{"$f":"A397","v":0},null,{"$f":"C397","v":0},null,{"$f":"E397","v":0},null,9781681511917,null,9781681511016,null,"Diggers",null,null,null,"Spot Mighty Machines",null,null,null,"Amicus",null,40.799999999999997,null,19.95,null,24.95,null,0,null,null,null,null,null,0,0,0,0,0,0,0,0,"Fall 2017",null,2018,null,"621.8/65",null,null,null,null,null,null,null,null,null,"23",null,"Spot",null,0.9,null,"Science & Technology",null,"English",null,"Reinforced Library",null,16,null,"D",null,"290L",null,"PreK - 3",null,"Mari Schuh"]
[{"$f":"A397","v":0},null,{"$f":"C397","v":0},null,{"$f":"E397","v":0},null,9781681511924,null,9781681511023,null,"Dump Trucks",null,null,null,"Spot Mighty Machines",null,null,null,"Amicus",null,40.799999999999997,null,19.95,null,24.95,null,0,null,null,null,null,null,0,0,0,0,0,0,0,0,"Fall 2017",null,2018,null,629.22400000000005,null,null,null,null,null,null,null,null,null,"23",null,"Spot",null,0.9,null,"Science & Technology",null,"English",null,"Reinforced Library",null,16,null,"D",null,"270L",null,"PreK - 3",null,"Mari Schuh"]
[{"$f":"A397","v":0},null,{"$f":"C397","v":0},null,{"$f":"E397","v":0},null,9781681514550,null,9781681513737,null,"Fire Trucks",null,null,null,"Spot Mighty Machines",null,null,null,"Amicus",null,40.799999999999997,null,19.95,null,24.95,null,0,null,null,null,null,null,0,0,0,0,0,0,0,0,"Fall 2018",null,2019,null,"628.9/259",null,null,null,null,null,null,null,null,null,"23",null,"Spot",null,0.9,null,"Science & Technology",null,"English",null,"Reinforced Library",null,16,null,"D",null,"320L",null,"PreK - 3",null,"Wendy Strobel Dieker"]
[{"$f":"A397","v":0},null,{"$f":"C397","v":0},null,{"$f":"E397","v":0},null,9781681514567,null,9781681513744,null,"Garbage Trucks",null,null,null,"Spot Mighty Machines",null,null,null,"Amicus",null,40.799999999999997,null,19.95,null,24.95,null,0,null,null,null,null,null,0,0,0,0,0,0,0,0,"Fall 2018",null,2019,null,"628.4/42",null,null,null,null,null,null,null,null,null,"23",null,"Spot",null,1,null,"Science & Technology",null,"English",null,"Reinforced Library",null,16,null,"D",null,"260L",null,"PreK - 3",null,"Wendy Strobel Dieker"]
[{"$f":"A397","v":0},null,{"$f":"C397","v":0},null,{"$f":"E397","v":0},null,9781681517278,null,9781681516455,null,"Helicopters",null,null,null,"Spot Mighty Machines",null,null,null,"Amicus",null,40.799999999999997,null,19.95,null,24.95,null,0,null,null,null,null,null,0,0,0,0,0,0,0,0,"Fall 2019",null,2020,null,"629.133/352",null,null,null,null,null,null,null,null,null,"23",null,"Spot",null,1,null,"Science & Technology",null,"English",null,"Reinforced Library",null,16,null,"D",null,"250L",null,"PreK - 3",null,"Wendy Strobel Dieker"]
[{"$f":"A397","v":0},null,{"$f":"C397","v":0},null,{"$f":"E397","v":0},null,9781681511931,null,9781681511030,null,"Loaders",null,null,null,"Spot Mighty Machines",null,null,null,"Amicus",null,40.799999999999997,null,19.95,null,24.95,null,0,null,null,null,null,null,0,0,0,0,0,0,0,0,"Fall 2017",null,2018,null,"621.8/6",null,null,null,null,null,null,null,null,null,"23",null,"Spot",null,0.9,null,"Science & Technology",null,"English",null,"Reinforced Library",null,16,null,"D",null,"240L",null,"PreK - 3",null,"Mari Schuh"]
[{"$f":"A397","v":0},null,{"$f":"C397","v":0},null,{"$f":"E397","v":0},null,9781681517285,null,9781681516462,null,"Motorcycles",null,null,null,"Spot Mighty Machines",null,null,null,"Amicus",null,40.799999999999997,null,19.95,null,24.95,null,0,null,null,null,null,null,0,0,0,0,0,0,0,0,"Fall 2019",null,2020,null,"629.227/5",null,null,null,null,null,null,null,null,null,"23",null,"Spot",null,0.9,null,"Science & Technology",null,"English",null,"Reinforced Library",null,16,null,"D",null,"300L",null,"PreK - 3",null,"Wendy Strobel Dieker"]
[{"$f":"A397","v":0},null,{"$f":"C397","v":0},null,{"$f":"E397","v":0},null,9781681514574,null,9781681513751,null,"Pickup Trucks",null,null,null,"Spot Mighty Machines",null,null,null,"Amicus",null,40.799999999999997,null,19.95,null,24.95,null,0,null,null,null,null,null,0,0,0,0,0,0,0,0,"Fall 2018",null,2019,null,"629.223/2",null,null,null,null,null,null,null,null,null,"23",null,"Spot",null,0.8,null,"Science & Technology",null,"English",null,"Reinforced Library",null,16,null,"D",null,"260L",null,"PreK - 3",null,"Wendy Strobel Dieker"]
[{"$f":"A397","v":0},null,{"$f":"C397","v":0},null,{"$f":"E397","v":0},null,9781681517292,null,9781681516479,null,"Race Cars",null,null,null,"Spot Mighty Machines",null,null,null,"Amicus",null,40.799999999999997,null,19.95,null,24.95,null,0,null,null,null,null,null,0,0,0,0,0,0,0,0,"Fall 2019",null,2020,null,"629.228/5",null,null,null,null,null,null,null,null,null,"23",null,"Spot",null,0.9,null,"Science & Technology",null,"English",null,"Reinforced Library",null,16,null,"D",null,"390L",null,"PreK - 3",null,"Wendy Strobel Dieker"]
[{"$f":"A397","v":0},null,{"$f":"C397","v":0},null,{"$f":"E397","v":0},null,9781681514581,null,9781681513768,null,"Tanker Trucks",null,null,null,"Spot Mighty Machines",null,null,null,"Amicus",null,40.799999999999997,null,19.95,null,24.95,null,0,null,null,null,null,null,0,0,0,0,0,0,0,0,"Fall 2018",null,2019,null,629.22400000000005,null,null,null,null,null,null,null,null,null,"23",null,"Spot",null,0.9,null,"Science & Technology",null,"English",null,"Reinforced Library",null,16,null,"D",null,"260L",null,"PreK - 3",null,"Wendy Strobel Dieker"]
[{"$f":"A397","v":0},null,{"$f":"C397","v":0},null,{"$f":"E397","v":0},null,9781681517308,null,9781681516486,null,"Tanks",null,null,null,"Spot Mighty Machines",null,null,null,"Amicus",null,40.799999999999997,null,19.95,null,24.95,null,0,null,null,null,null,null,0,0,0,0,0,0,0,0,"Fall 2019",null,2020,null,"623.74/752",null,null,null,null,null,null,null,null,null,"23",null,"Spot",null,1,null,"Science & Technology",null,"English",null,"Reinforced Library",null,16,null,"D",null,"380L",null,"PreK - 3",null,"Wendy Strobel Dieker"]
[{"$f":"A397","v":0},null,{"$f":"C397","v":0},null,{"$f":"E397","v":0},null,9781681514598,null,9781681513775,null,"Tow Trucks",null,null,null,"Spot Mighty Machines",null,null,null,"Amicus",null,40.799999999999997,null,19.95,null,24.95,null,0,null,null,null,null,null,0,0,0,0,0,0,0,0,"Fall 2018",null,2019,null,629.22500000000002,null,null,null,null,null,null,null,null,null,"23",null,"Spot",null,0.8,null,"Science & Technology",null,"English",null,"Reinforced Library",null,16,null,"D",null,"300L",null,"PreK - 3",null,"Wendy Strobel Dieker"]
[{"$f":"A397","v":0},null,{"$f":"C397","v":0},null,{"$f":"E397","v":0},null,9781681517315,null,9781681516493,null,"Trains",null,null,null,"Spot Mighty Machines",null,null,null,"Amicus",null,40.799999999999997,null,19.95,null,24.95,null,0,null,null,null,null,null,0,0,0,0,0,0,0,0,"Fall 2019",null,2020,null,625.1,null,null,null,null,null,null,null,null,null,"23",null,"Spot",null,0.7,null,"Science & Technology",null,"English",null,"Reinforced Library",null,16,null,"D",null,"350L",null,"PreK - 3",null,"Wendy Strobel Dieker"]
[]
[null,null,null,null,null,null,null,null,null,null,"Complete Series of 6",null,null,null,"Who Made My Stuff?",null,null,null,null,null,{"$f":"SUM(U418:U423)","v":269.10000000000002},null,{"$f":"SUM(W418:W423)","v":131.69999999999999},null,{"$f":"SUM(Y418:Y423)","v":161.69999999999999}]
[{"$f":"A417","v":0},null,{"$f":"C417","v":0},null,{"$f":"E417","v":0},null,9781681517766,null,9781681516943,null,"From Cotton to T-Shirts",null,null,null,"Who Made My Stuff?",null,null,null,"Amicus",null,44.85,null,21.95,null,{"$f":"W418+5","v":26.95},null,{"$f":"IF(AC418=FALSE,AK418+AL418+AM418,0)","v":0},null,null,null,null,null,0,0,0,0,0,0,0,0,"Fall 2019",null,2020,null,"677/.0286",null,null,null,null,null,null,null,null,null,"41",null,"Amicus Illustrated",null,3.1,null,"High Interest",null,"English",null,"Reinforced Library",null,24,null,"J",null,"620L",null,"K - 3",null,"Cari Meister"]
[{"$f":"A417","v":0},null,{"$f":"C417","v":0},null,{"$f":"E417","v":0},null,9781681517773,null,9781681516950,null,"From Metal to Bicycles",null,null,null,"Who Made My Stuff?",null,null,null,"Amicus",null,44.85,null,21.95,null,26.95,null,0,null,null,null,null,null,0,0,0,0,0,0,0,0,"Fall 2019",null,2020,null,"629.2/3",null,null,null,null,null,null,null,null,null,"41",null,"Amicus Illustrated",null,3.1,null,"High Interest",null,"English",null,"Reinforced Library",null,24,null,"J",null,"590L",null,"K - 3",null,"Cari Meister"]
[{"$f":"A417","v":0},null,{"$f":"C417","v":0},null,{"$f":"E417","v":0},null,9781681517780,null,9781681516967,null,"From Nylon to Backpacks",null,null,null,"Who Made My Stuff?",null,null,null,"Amicus",null,44.85,null,21.95,null,26.95,null,0,null,null,null,null,null,0,0,0,0,0,0,0,0,"Fall 2019",null,2020,null,"646.4/7",null,null,null,null,null,null,null,null,null,"41",null,"Amicus Illustrated",null,2.9,null,"High Interest",null,"English",null,"Reinforced Library",null,24,null,"J",null,"540L",null,"K - 3",null,"Cari Meister"]
[{"$f":"A417","v":0},null,{"$f":"C417","v":0},null,{"$f":"E417","v":0},null,9781681517797,null,9781681516974,null,"From Trees to Paper",null,null,null,"Who Made My Stuff?",null,null,null,"Amicus",null,44.85,null,21.95,null,26.95,null,0,null,null,null,null,null,0,0,0,0,0,0,0,0,"Fall 2019",null,2020,null,676,null,null,null,null,null,null,null,null,null,"41",null,"Amicus Illustrated",null,2.6,null,"High Interest",null,"English",null,"Reinforced Library",null,24,null,"J",null,"530L",null,"K - 3",null,"Cari Meister"]
[{"$f":"A417","v":0},null,{"$f":"C417","v":0},null,{"$f":"E417","v":0},null,9781681517803,null,9781681516981,null,"From Wax to Crayons",null,null,null,"Who Made My Stuff?",null,null,null,"Amicus",null,44.85,null,21.95,null,26.95,null,0,null,null,null,null,null,0,0,0,0,0,0,0,0,"Fall 2019",null,2020,null,"741.2/3",null,null,null,null,null,null,null,null,null,"41",null,"Amicus Illustrated",null,3,null,"High Interest",null,"English",null,"Reinforced Library",null,24,null,"J",null,"540L",null,"K - 3",null,"Cari Meister"]
[{"$f":"A417","v":0},null,{"$f":"C417","v":0},null,{"$f":"E417","v":0},null,9781681517810,null,9781681516998,null,"From Wood to Pencils",null,null,null,"Who Made My Stuff?",null,null,null,"Amicus",null,44.85,null,21.95,null,26.95,null,0,null,null,null,null,null,0,0,0,0,0,0,0,0,"Fall 2019",null,2020,null,"674/.8",null,null,null,null,null,null,null,null,null,"41",null,"Amicus Illustrated",null,3,null,"High Interest",null,"English",null,"Reinforced Library",null,24,null,"J",null,"540L",null,"K - 3",null,"Cari Meister"]
[]
[null,null,null,null,null,null,null,null,null,null,"Complete Series of 4",null,null,null,"Estaciones (Spot Seasons)",null,null,null,null,null,{"$f":"SUM(U426:U429)","v":0},null,{"$f":"SUM(W426:W429)","v":79.8},null,{"$f":"SUM(Y426:Y429)","v":0}]
[null,null,{"$f":"C425","v":0},null,null,null,"Not Available",null,9781681516295,null,"El invierno (Winter)",null,null,null,"Estaciones (Spot Seasons)",null,null,null,"Amicus",null,0,null,19.95,null,0,null,{"$f":"IF(AC426=FALSE,AK426+AL426+AM426,0)","v":0},null,null,null,null,null,0,0,0,0,0,0,0,0,"Spring 2019",null,2019,null,508.2,null,null,null,null,null,null,null,null,null,"51",null,"Spot",null,1.2,null,"Animals & Nature",null,"Spanish",null,"Reinforced Library",null,16,null,null,null,"240L",null,"PreK - 3",null,"Mari Schuh"]
[null,null,{"$f":"C425","v":0},null,null,null,"Not Available",null,9781681516288,null,"El otoño (Autumn)",null,null,null,"Estaciones (Spot Seasons)",null,null,null,"Amicus",null,0,null,19.95,null,0,null,0,null,null,null,null,null,0,0,0,0,0,0,0,0,"Spring 2019",null,2019,null,508.2,null,null,null,null,null,null,null,null,null,"51",null,"Spot",null,1.5,null,"Animals & Nature",null,"Spanish",null,"Reinforced Library",null,16,null,null,null,"200L",null,"PreK - 3",null,"Mari Schuh"]
[null,null,{"$f":"C425","v":0},null,null,null,"Not Available",null,9781681516271,null,"El verano (Summer)",null,null,null,"Estaciones (Spot Seasons)",null,null,null,"Amicus",null,0,null,19.95,null,0,null,0,null,null,null,null,null,0,0,0,0,0,0,0,0,"Spring 2019",null,2019,null,508.2,null,null,null,null,null,null,null,null,null,"51",null,"Spot",null,1.3,null,"Animals & Nature",null,"Spanish",null,"Reinforced Library",null,16,null,null,null,"200L",null,"PreK - 3",null,"Mari Schuh"]
[null,null,{"$f":"C425","v":0},null,null,null,"Not Available",null,9781681516264,null,"La primavera (Spring)",null,null,null,"Estaciones (Spot Seasons)",null,null,null,"Amicus",null,0,null,19.95,null,0,null,0,null,null,null,null,null,0,0,0,0,0,0,0,0,"Spring 2019",null,2019,null,508.2,null,null,null,null,null,null,null,null,null,"51",null,"Spot",null,1.1000000000000001,null,"Animals & Nature",null,"Spanish",null,"Reinforced Library",null,16,null,null,null,"160L",null,"PreK - 3",null,"Mari Schuh"]
[]
[null,null,null,null,null,null,null,null,null,null,"Complete Series of 6",null,null,null,"Lizards in the Wild",null,null,null,null,null,{"$f":"SUM(U432:U437)","v":269.10000000000002},null,{"$f":"SUM(W432:W437)","v":131.69999999999999},null,{"$f":"SUM(Y432:Y437)","v":161.69999999999999}]
[{"$f":"A431","v":0},null,{"$f":"C431","v":0},null,{"$f":"E431","v":0},null,9781681515922,null,9781681515540,null,"Bearded Dragons",null,null,null,"Lizards in the Wild",null,null,null,"Amicus",null,44.85,null,21.95,null,{"$f":"W432+5","v":26.95},null,{"$f":"IF(AC432=FALSE,AK432+AL432+AM432,0)","v":0},null,null,null,null,null,0,0,0,0,0,0,0,0,"Spring 2019",null,2019,null,"597.95/5",null,null,null,null,null,null,null,null,null,"30",null,"Amicus High Interest",null,1.9,null,"Animals & Nature",null,"English",null,"Reinforced Library",null,24,null,"I",null,"410L",null,"K - 2",null,"Imogen Kingsley "]
[{"$f":"A431","v":0},null,{"$f":"C431","v":0},null,{"$f":"E431","v":0},null,9781681515939,null,9781681515557,null,"Chameleons",null,null,null,"Lizards in the Wild",null,null,null,"Amicus",null,44.85,null,21.95,null,26.95,null,0,null,null,null,null,null,0,0,0,0,0,0,0,0,"Spring 2019",null,2019,null,"597.95/6",null,null,null,null,null,null,null,null,null,"30",null,"Amicus High Interest",null,1.9,null,"Animals & Nature",null,"English",null,"Reinforced Library",null,24,null,"I",null,"430L",null,"K - 2",null,"Imogen Kingsley "]
[{"$f":"A431","v":0},null,{"$f":"C431","v":0},null,{"$f":"E431","v":0},null,9781681515946,null,9781681515564,null,"Geckos",null,null,null,"Lizards in the Wild",null,null,null,"Amicus",null,44.85,null,21.95,null,26.95,null,0,null,null,null,null,null,0,0,0,0,0,0,0,0,"Spring 2019",null,2019,null,"597.95/2",null,null,null,null,null,null,null,null,null,"30",null,"Amicus High Interest",null,1.9,null,"Animals & Nature",null,"English",null,"Reinforced Library",null,24,null,"I",null,"3810L",null,"K - 2",null,"Imogen Kingsley "]
[{"$f":"A431","v":0},null,{"$f":"C431","v":0},null,{"$f":"E431","v":0},null,9781681515953,null,9781681515571,null,"Gila Monsters",null,null,null,"Lizards in the Wild",null,null,null,"Amicus",null,44.85,null,21.95,null,26.95,null,0,null,null,null,null,null,0,0,0,0,0,0,0,0,"Spring 2019",null,2019,null,"597.95/952",null,null,null,null,null,null,null,null,null,"30",null,"Amicus High Interest",null,2.2000000000000002,null,"Animals & Nature",null,"English",null,"Reinforced Library",null,24,null,"I",null,"430L",null,"K - 2",null,"Imogen Kingsley "]
[{"$f":"A431","v":0},null,{"$f":"C431","v":0},null,{"$f":"E431","v":0},null,9781681515960,null,9781681515588,null,"Green Iguanas",null,null,null,"Lizards in the Wild",null,null,null,"Amicus",null,44.85,null,21.95,null,26.95,null,0,null,null,null,null,null,0,0,0,0,0,0,0,0,"Spring 2019",null,2019,null,"597.95/42",null,null,null,null,null,null,null,null,null,"30",null,"Amicus High Interest",null,2,null,"Animals & Nature",null,"English",null,"Reinforced Library",null,24,null,"I",null,"460L",null,"K - 2",null,"Imogen Kingsley "]
[{"$f":"A431","v":0},null,{"$f":"C431","v":0},null,{"$f":"E431","v":0},null,9781681515977,null,9781681515595,null,"Komodo Dragons",null,null,null,"Lizards in the Wild",null,null,null,"Amicus",null,44.85,null,21.95,null,26.95,null,0,null,null,null,null,null,0,0,0,0,0,0,0,0,"Spring 2019",null,2019,null,"597.95/968",null,null,null,null,null,null,null,null,null,"30",null,"Amicus High Interest",null,1.9,null,"Animals & Nature",null,"English",null,"Reinforced Library",null,24,null,"I",null,"420L",null,"K - 2",null,"Imogen Kingsley "]
[]
[null,null,null,null,null,null,null,null,null,null,"Complete Series of 6",null,null,null,"Serving Our Country",null,null,null,null,null,{"$f":"SUM(U440:U445)","v":269.10000000000002},null,{"$f":"SUM(W440:W445)","v":131.69999999999999},null,{"$f":"SUM(Y440:Y445)","v":161.69999999999999}]
[{"$f":"A439","v":0},null,{"$f":"C439","v":0},null,{"$f":"E439","v":0},null,9781681515984,null,9781681515601,null,"U.S. Air Force",null,null,null,"Serving Our Country",null,null,null,"Amicus",null,44.85,null,21.95,null,{"$f":"W440+5","v":26.95},null,{"$f":"IF(AC440=FALSE,AK440+AL440+AM440,0)","v":0},null,null,null,null,null,0,0,0,0,0,0,0,0,"Spring 2019",null,2019,null,358.40097300000002,null,null,null,null,null,null,null,null,null,"29",null,"Amicus High Interest",null,2.7,null,"Careers",null,"English",null,"Reinforced Library",null,24,null,"J",null,"490L",null,"K - 2",null,"Jill Sherman"]
[{"$f":"A439","v":0},null,{"$f":"C439","v":0},null,{"$f":"E439","v":0},null,9781681515991,null,9781681515618,null,"U.S. Army",null,null,null,"Serving Our Country",null,null,null,"Amicus",null,44.85,null,21.95,null,26.95,null,0,null,null,null,null,null,0,0,0,0,0,0,0,0,"Spring 2019",null,2019,null,355.00972999999999,null,null,null,null,null,null,null,null,null,"29",null,"Amicus High Interest",null,2.6,null,"Careers",null,"English",null,"Reinforced Library",null,24,null,"J",null,"420L",null,"K - 2",null,"Jill Sherman"]
[{"$f":"A439","v":0},null,{"$f":"C439","v":0},null,{"$f":"E439","v":0},null,9781681516004,null,9781681515625,null,"U.S. Coast Guard",null,null,null,"Serving Our Country",null,null,null,"Amicus",null,44.85,null,21.95,null,26.95,null,0,null,null,null,null,null,0,0,0,0,0,0,0,0,"Spring 2019",null,2019,null,"363.28/60973",null,null,null,null,null,null,null,null,null,"29",null,"Amicus High Interest",null,2.8,null,"Careers",null,"English",null,"Reinforced Library",null,24,null,"J",null,"530L",null,"K - 2",null,"Rachel Grack"]
[{"$f":"A439","v":0},null,{"$f":"C439","v":0},null,{"$f":"E439","v":0},null,9781681516011,null,9781681515632,null,"U.S. Marines",null,null,null,"Serving Our Country",null,null,null,"Amicus",null,44.85,null,21.95,null,26.95,null,0,null,null,null,null,null,0,0,0,0,0,0,0,0,"Spring 2019",null,2019,null,"359.9/60973",null,null,null,null,null,null,null,null,null,"29",null,"Amicus High Interest",null,2.6,null,"Careers",null,"English",null,"Reinforced Library",null,24,null,"J",null,"490L",null,"K - 2",null,"Rachel Grack"]
[{"$f":"A439","v":0},null,{"$f":"C439","v":0},null,{"$f":"E439","v":0},null,9781681516028,null,9781681515649,null,"U.S. Navy",null,null,null,"Serving Our Country",null,null,null,"Amicus",null,44.85,null,21.95,null,26.95,null,0,null,null,null,null,null,0,0,0,0,0,0,0,0,"Spring 2019",null,2019,null,359.00972999999999,null,null,null,null,null,null,null,null,null,"29",null,"Amicus High Interest",null,2.2000000000000002,null,"Careers",null,"English",null,"Reinforced Library",null,24,null,"J",null,"380L",null,"K - 2",null,"Jill Sherman"]
[{"$f":"A439","v":0},null,{"$f":"C439","v":0},null,{"$f":"E439","v":0},null,9781681516035,null,9781681515656,null,"U.S. Special Forces",null,null,null,"Serving Our Country",null,null,null,"Amicus",null,44.85,null,21.95,null,26.95,null,0,null,null,null,null,null,0,0,0,0,0,0,0,0,"Spring 2019",null,2019,null,"356/.160973",null,null,null,null,null,null,null,null,null,"29",null,"Amicus High Interest",null,2.9,null,"Careers",null,"English",null,"Reinforced Library",null,24,null,"J",null,"510L",null,"K - 2",null,"Rachel Grack"]
[]
[null,null,null,null,null,null,null,null,null,null,"Complete Series of 8",null,null,null,"Spot Baby Farm Animals",null,null,null,null,null,{"$f":"SUM(U448:U455)","v":326.40000000000003},null,{"$f":"SUM(W448:W455)","v":159.6},null,{"$f":"SUM(Y448:Y455)","v":199.59999999999997}]
[{"$f":"A447","v":0},null,{"$f":"C447","v":0},null,{"$f":"E447","v":0},null,9781681515663,null,9781681515281,null,"Calves",null,null,null,"Spot Baby Farm Animals",null,null,null,"Amicus",null,40.799999999999997,null,19.95,null,{"$f":"W448+5","v":24.95},null,{"$f":"IF(AC448=FALSE,AK448+AL448+AM448,0)","v":0},null,null,null,null,null,0,0,0,0,0,0,0,0,"Spring 2019",null,2019,null,636.20000000000005,null,null,null,null,null,null,null,null,null,"22",null,"Spot",null,0.8,null,"Animals & Nature",null,"English",null,"Reinforced Library",null,16,null,"C",null,"220L",null,"PreK - 3",null,"Anastasia Suen"]
[{"$f":"A447","v":0},null,{"$f":"C447","v":0},null,{"$f":"E447","v":0},null,9781681515670,null,9781681515298,null,"Chicks",null,null,null,"Spot Baby Farm Animals",null,null,null,"Amicus",null,40.799999999999997,null,19.95,null,24.95,null,0,null,null,null,null,null,0,0,0,0,0,0,0,0,"Spring 2019",null,2019,null,636.5,null,null,null,null,null,null,null,null,null,"22",null,"Spot",null,0.9,null,"Animals & Nature",null,"English",null,"Reinforced Library",null,16,null,"C",null,"230L",null,"PreK - 3",null,"Anastasia Suen"]
[{"$f":"A447","v":0},null,{"$f":"C447","v":0},null,{"$f":"E447","v":0},null,9781681515687,null,9781681515304,null,"Ducklings",null,null,null,"Spot Baby Farm Animals",null,null,null,"Amicus",null,40.799999999999997,null,19.95,null,24.95,null,0,null,null,null,null,null,0,0,0,0,0,0,0,0,"Spring 2019",null,2019,null,"636.5/97",null,null,null,null,null,null,null,null,null,"22",null,"Spot",null,0.9,null,"Animals & Nature",null,"English",null,"Reinforced Library",null,16,null,"C",null,"190L",null,"PreK - 3",null,"Anastasia Suen"]
[{"$f":"A447","v":0},null,{"$f":"C447","v":0},null,{"$f":"E447","v":0},null,9781681515694,null,9781681515311,null,"Foals",null,null,null,"Spot Baby Farm Animals",null,null,null,"Amicus",null,40.799999999999997,null,19.95,null,24.95,null,0,null,null,null,null,null,0,0,0,0,0,0,0,0,"Spring 2019",null,2019,null,636.1,null,null,null,null,null,null,null,null,null,"22",null,"Spot",null,0.9,null,"Animals & Nature",null,"English",null,"Reinforced Library",null,16,null,"C",null,"290L",null,"PreK - 3",null,"Anastasia Suen"]
[{"$f":"A447","v":0},null,{"$f":"C447","v":0},null,{"$f":"E447","v":0},null,9781681515700,null,9781681515328,null,"Kids",null,null,null,"Spot Baby Farm Animals",null,null,null,"Amicus",null,40.799999999999997,null,19.95,null,24.95,null,0,null,null,null,null,null,0,0,0,0,0,0,0,0,"Spring 2019",null,2019,null,"636.3/907",null,null,null,null,null,null,null,null,null,"22",null,"Spot",null,0.9,null,"Animals & Nature",null,"English",null,"Reinforced Library",null,16,null,"C",null,"330L",null,"PreK - 3",null,"Anastasia Suen"]
[{"$f":"A447","v":0},null,{"$f":"C447","v":0},null,{"$f":"E447","v":0},null,9781681515717,null,9781681515335,null,"Kittens",null,null,null,"Spot Baby Farm Animals",null,null,null,"Amicus",null,40.799999999999997,null,19.95,null,24.95,null,0,null,null,null,null,null,0,0,0,0,0,0,0,0,"Spring 2019",null,2019,null,"636.8/07",null,null,null,null,null,null,null,null,null,"22",null,"Spot",null,0.8,null,"Animals & Nature",null,"English",null,"Reinforced Library",null,16,null,"C",null,"270L",null,"PreK - 3",null,"Anastasia Suen"]
[{"$f":"A447","v":0},null,{"$f":"C447","v":0},null,{"$f":"E447","v":0},null,9781681515724,null,9781681515342,null,"Lambs",null,null,null,"Spot Baby Farm Animals",null,null,null,"Amicus",null,40.799999999999997,null,19.95,null,24.95,null,0,null,null,null,null,null,0,0,0,0,0,0,0,0,"Spring 2019",null,2019,null,"636.3/07",null,null,null,null,null,null,null,null,null,"22",null,"Spot",null,0.9,null,"Animals & Nature",null,"English",null,"Reinforced Library",null,16,null,"C",null,"290L",null,"PreK - 3",null,"Anastasia Suen"]
[{"$f":"A447","v":0},null,{"$f":"C447","v":0},null,{"$f":"E447","v":0},null,9781681515731,null,9781681515359,null,"Puppies",null,null,null,"Spot Baby Farm Animals",null,null,null,"Amicus",null,40.799999999999997,null,19.95,null,24.95,null,0,null,null,null,null,null,0,0,0,0,0,0,0,0,"Spring 2019",null,2019,null,"636.7/07",null,null,null,null,null,null,null,null,null,"22",null,"Spot",null,0.9,null,"Animals & Nature",null,"English",null,"Reinforced Library",null,16,null,"C",null,"230L",null,"PreK - 3",null,"Anastasia Suen"]
[]
[null,null,null,null,null,null,null,null,null,null,"Complete Series of 16",null,null,null,"Spot Backyard Animals",null,null,null,null,null,{"$f":"SUM(U458:U473)","v":652.79999999999995},null,{"$f":"SUM(W458:W473)","v":319.19999999999993},null,{"$f":"SUM(Y458:Y473)","v":399.19999999999987}]
[{"$f":"A457","v":0},null,{"$f":"C457","v":0},null,{"$f":"E457","v":0},null,9781681511801,null,9781681510903,null,"Bats",null,null,null,"Spot Backyard Animals",null,null,null,"Amicus",null,40.799999999999997,null,19.95,null,{"$f":"W458+5","v":24.95},null,{"$f":"IF(AC458=FALSE,AK458+AL458+AM458,0)","v":0},null,null,null,null,null,0,0,0,0,0,0,0,0,"Fall 2017",null,2018,null,599.4,null,null,null,null,null,null,null,null,null,"23",null,"Spot",null,0.8,null,"Animals & Nature",null,"English",null,"Reinforced Library",null,16,null,"C",null,"210L",null,"PreK - 3",null,"Wendy Strobel Dieker"]
[{"$f":"A457","v":0},null,{"$f":"C457","v":0},null,{"$f":"E457","v":0},null,9781681515809,null,9781681515427,null,"Chipmunks",null,null,null,"Spot Backyard Animals",null,null,null,"Amicus",null,40.799999999999997,null,19.95,null,24.95,null,0,null,null,null,null,null,0,0,0,0,0,0,0,0,"Spring 2019",null,2019,null,"599.36/4",null,null,null,null,null,null,null,null,null,"23",null,"Spot",null,0.9,null,"Animals & Nature",null,"English",null,"Reinforced Library",null,16,null,"C",null,"310L",null,"PreK - 3",null,"Mari Schuh"]
[{"$f":"A457","v":0},null,{"$f":"C457","v":0},null,{"$f":"E457","v":0},null,9781681515823,null,9781681515441,null,"Deer",null,null,null,"Spot Backyard Animals",null,null,null,"Amicus",null,40.799999999999997,null,19.95,null,24.95,null,0,null,null,null,null,null,0,0,0,0,0,0,0,0,"Spring 2019",null,2019,null,599.65,null,null,null,null,null,null,null,null,null,"23",null,"Spot",null,0.9,null,"Animals & Nature",null,"English",null,"Reinforced Library",null,16,null,"C",null,"300L",null,"PreK - 3",null,"Mari Schuh"]
[{"$f":"A457","v":0},null,{"$f":"C457","v":0},null,{"$f":"E457","v":0},null,9781681511818,null,9781681510910,null,"Frogs",null,null,null,"Spot Backyard Animals",null,null,null,"Amicus",null,40.799999999999997,null,19.95,null,24.95,null,0,null,null,null,null,null,0,0,0,0,0,0,0,0,"Fall 2017",null,2018,null,"597.8/9",null,null,null,null,null,null,null,null,null,"23",null,"Spot",null,0.9,null,"Animals & Nature",null,"English",null,"Reinforced Library",null,16,null,"C",null,"300L",null,"PreK - 3",null,"Marysa Storm"]
[{"$f":"A457","v":0},null,{"$f":"C457","v":0},null,{"$f":"E457","v":0},null,9781681511825,null,9781681510927,null,"Geckos",null,null,null,"Spot Backyard Animals",null,null,null,"Amicus",null,40.799999999999997,null,19.95,null,24.95,null,0,null,null,null,null,null,{"$f":"A462","v":0},{"$f":"C462","v":0},{"$f":"E462","v":0},{"$f":"SUM(AG462:AI462)","v":0},{"$f":"U462*A462","v":0},{"$f":"W462*C462","v":0},{"$f":"Y462*E462","v":0},{"$f":"SUM(AK462:AM462)","v":0},"Fall 2017",null,2018,null,"597.95/2",null,null,null,null,null,null,null,null,null,"23",null,"Spot",null,0.9,null,"Animals & Nature",null,"English",null,"Reinforced Library",null,16,null,"C",null,"290L",null,"PreK - 3",null,"Rachel Bach"]
[{"$f":"A457","v":0},null,{"$f":"C457","v":0},null,{"$f":"E457","v":0},null,9781681515847,null,9781681515465,null,"Geese",null,null,null,"Spot Backyard Animals",null,null,null,"Amicus",null,40.799999999999997,null,19.95,null,24.95,null,0,null,null,null,null,null,0,0,0,0,0,0,0,0,"Spring 2019",null,2019,null,"598.4/17",null,null,null,null,null,null,null,null,null,"23",null,"Spot",null,0.9,null,"Animals & Nature",null,"English",null,"Reinforced Library",null,16,null,"C",null,"300L",null,"PreK - 3",null,"Mari Schuh"]
[{"$f":"A457","v":0},null,{"$f":"C457","v":0},null,{"$f":"E457","v":0},null,9781681515816,null,9781681515434,null,"Hawks",null,null,null,"Spot Backyard Animals",null,null,null,"Amicus",null,40.799999999999997,null,19.95,null,24.95,null,0,null,null,null,null,null,0,0,0,0,0,0,0,0,"Spring 2019",null,2019,null,"636.1/33",null,null,null,null,null,null,null,null,null,"23",null,"Spot",null,0.9,null,"Animals & Nature",null,"English",null,"Reinforced Library",null,16,null,"C",null,"300L",null,"PreK - 3",null,"Mari Schuh"]
[{"$f":"A457","v":0},null,{"$f":"C457","v":0},null,{"$f":"E457","v":0},null,9781681511832,null,9781681510934,null,"Mice",null,null,null,"Spot Backyard Animals",null,null,null,"Amicus",null,40.799999999999997,null,19.95,null,24.95,null,0,null,null,null,null,null,0,0,0,0,0,0,0,0,"Fall 2017",null,2018,null,"599.35/3",null,null,null,null,null,null,null,null,null,"23",null,"Spot",null,0.9,null,"Animals & Nature",null,"English",null,"Reinforced Library",null,16,null,"C",null,"330L",null,"PreK - 3",null,"Marysa Storm"]
[{"$f":"A457","v":0},null,{"$f":"C457","v":0},null,{"$f":"E457","v":0},null,9781681511849,null,9781681510941,null,"Owls",null,null,null,"Spot Backyard Animals",null,null,null,"Amicus",null,40.799999999999997,null,19.95,null,24.95,null,0,null,null,null,null,null,0,0,0,0,0,0,0,0,"Fall 2017",null,2018,null,"598.9/7",null,null,null,null,null,null,null,null,null,"23",null,"Spot",null,0.9,null,"Animals & Nature",null,"English",null,"Reinforced Library",null,16,null,"C",null,"260L",null,"PreK - 3",null,"Wendy Strobel Dieker"]
[{"$f":"A457","v":0},null,{"$f":"C457","v":0},null,{"$f":"E457","v":0},null,9781681515830,null,9781681515458,null,"Prairie Dogs",null,null,null,"Spot Backyard Animals",null,null,null,"Amicus",null,40.799999999999997,null,19.95,null,24.95,null,0,null,null,null,null,null,0,0,0,0,0,0,0,0,"Spring 2019",null,2019,null,"599.36/7",null,null,null,null,null,null,null,null,null,"23",null,"Spot",null,0.8,null,"Animals & Nature",null,"English",null,"Reinforced Library",null,16,null,"C",null,"260L",null,"PreK - 3",null,"Mari Schuh"]
[{"$f":"A457","v":0},null,{"$f":"C457","v":0},null,{"$f":"E457","v":0},null,9781681511856,null,9781681510958,null,"Raccoons",null,null,null,"Spot Backyard Animals",null,null,null,"Amicus",null,40.799999999999997,null,19.95,null,24.95,null,0,null,null,null,null,null,0,0,0,0,0,0,0,0,"Fall 2017",null,2018,null,"599.76/32",null,null,null,null,null,null,null,null,null,"23",null,"Spot",null,0.9,null,"Animals & Nature",null,"English",null,"Reinforced Library",null,16,null,"C",null,"320L",null,"PreK - 3",null,"Marysa Storm"]
[{"$f":"A457","v":0},null,{"$f":"C457","v":0},null,{"$f":"E457","v":0},null,9781681515854,null,9781681515472,null,"Robins",null,null,null,"Spot Backyard Animals",null,null,null,"Amicus",null,40.799999999999997,null,19.95,null,24.95,null,0,null,null,null,null,null,0,0,0,0,0,0,0,0,"Spring 2019",null,2019,null,"598.8/42",null,null,null,null,null,null,null,null,null,"23",null,"Spot",null,1,null,"Animals & Nature",null,"English",null,"Reinforced Library",null,16,null,"C",null,"330L",null,"PreK - 3",null,"Mari Schuh"]
[{"$f":"A457","v":0},null,{"$f":"C457","v":0},null,{"$f":"E457","v":0},null,9781681515861,null,9781681515489,null,"Salamanders",null,null,null,"Spot Backyard Animals",null,null,null,"Amicus",null,40.799999999999997,null,19.95,null,24.95,null,0,null,null,null,null,null,0,0,0,0,0,0,0,0,"Spring 2019",null,2019,null,"597.8/5",null,null,null,null,null,null,null,null,null,"23",null,"Spot",null,0.9,null,"Animals & Nature",null,"English",null,"Reinforced Library",null,16,null,"C",null,"300L",null,"PreK - 3",null,"Mari Schuh"]
[{"$f":"A457","v":0},null,{"$f":"C457","v":0},null,{"$f":"E457","v":0},null,9781681511863,null,9781681510965,null,"Skunks",null,null,null,"Spot Backyard Animals",null,null,null,"Amicus",null,40.799999999999997,null,19.95,null,24.95,null,0,null,null,null,null,null,0,0,0,0,0,0,0,0,"Fall 2017",null,2018,null,"599.76/8",null,null,null,null,null,null,null,null,null,"23",null,"Spot",null,0.9,null,"Animals & Nature",null,"English",null,"Reinforced Library",null,16,null,"C",null,"260L",null,"PreK - 3",null,"Wendy Strobel Dieker"]
[{"$f":"A457","v":0},null,{"$f":"C457","v":0},null,{"$f":"E457","v":0},null,9781681515878,null,9781681515496,null,"Snakes",null,null,null,"Spot Backyard Animals",null,null,null,"Amicus",null,40.799999999999997,null,19.95,null,24.95,null,0,null,null,null,null,null,0,0,0,0,0,0,0,0,"Spring 2019",null,2019,null,597.96,null,null,null,null,null,null,null,null,null,"23",null,"Spot",null,0.9,null,"Animals & Nature",null,"English",null,"Reinforced Library",null,16,null,"C",null,"250L",null,"PreK - 3",null,"Mari Schuh"]
[{"$f":"A457","v":0},null,{"$f":"C457","v":0},null,{"$f":"E457","v":0},null,9781681511870,null,9781681510972,null,"Squirrels",null,null,null,"Spot Backyard Animals",null,null,null,"Amicus",null,40.799999999999997,null,19.95,null,24.95,null,0,null,null,null,null,null,0,0,0,0,0,0,0,0,"Fall 2017",null,2018,null,599.36,null,null,null,null,null,null,null,null,null,"23",null,"Spot",null,0.9,null,"Animals & Nature",null,"English",null,"Reinforced Library",null,16,null,"C",null,"300L",null,"PreK - 3",null,"Wendy Strobel Dieker"]
[]
[null,null,null,null,null,null,null,null,null,null,"Complete Series of 14",null,null,null,"Spot Creepy Crawlies",null,null,null,null,null,{"$f":"SUM(U476:U489)","v":571.20000000000005},null,{"$f":"SUM(W476:W489)","v":279.29999999999995},null,{"$f":"SUM(Y476:Y489)","v":349.2999999999999}]
[{"$f":"A475","v":0},null,{"$f":"C475","v":0},null,{"$f":"E475","v":0},null,9781681511948,null,9781681511047,null,"Ants",null,null,null,"Spot Creepy Crawlies",null,null,null,"Amicus",null,40.799999999999997,null,19.95,null,{"$f":"W476+5","v":24.95},null,{"$f":"IF(AC476=FALSE,AK476+AL476+AM476,0)","v":0},null,null,null,null,null,0,0,0,0,0,0,0,0,"Fall 2017",null,2018,null,"595.79/6",null,null,null,null,null,null,null,null,null,"23",null,"Spot",null,0.9,null,"Animals & Nature",null,"English",null,"Reinforced Library",null,16,null,"C",null,"320L",null,"PreK - 3",null,"Nessa Black"]
[{"$f":"A475","v":0},null,{"$f":"C475","v":0},null,{"$f":"E475","v":0},null,9781681511955,null,9781681511054,null,"Bees",null,null,null,"Spot Creepy Crawlies",null,null,null,"Amicus",null,40.799999999999997,null,19.95,null,24.95,null,0,null,null,null,null,null,0,0,0,0,0,0,0,0,"Fall 2017",null,2018,null,"595.79/9",null,null,null,null,null,null,null,null,null,"23",null,"Spot",null,0.8,null,"Animals & Nature",null,"English",null,"Reinforced Library",null,16,null,"C",null,"270L",null,"PreK - 3",null,"Nessa Black"]
[{"$f":"A475","v":0},null,{"$f":"C475","v":0},null,{"$f":"E475","v":0},null,9781681511962,null,9781681511061,null,"Beetles",null,null,null,"Spot Creepy Crawlies",null,null,null,"Amicus",null,40.799999999999997,null,19.95,null,24.95,null,0,null,null,null,null,null,0,0,0,0,0,0,0,0,"Fall 2017",null,2018,null,595.76,null,null,null,null,null,null,null,null,null,"23",null,"Spot",null,0.8,null,"Animals & Nature",null,"English",null,"Reinforced Library",null,16,null,"C",null,"260L",null,"PreK - 3",null,"Nessa Black"]
[{"$f":"A475","v":0},null,{"$f":"C475","v":0},null,{"$f":"E475","v":0},null,9781681511979,null,9781681511078,null,"Butterflies",null,null,null,"Spot Creepy Crawlies",null,null,null,"Amicus",null,40.799999999999997,null,19.95,null,24.95,null,0,null,null,null,null,null,0,0,0,0,0,0,0,0,"Fall 2017",null,2018,null,"595.78/9",null,null,null,null,null,null,null,null,null,"23",null,"Spot",null,1,null,"Animals & Nature",null,"English",null,"Reinforced Library",null,16,null,"C",null,"320L",null,"PreK - 3",null,"Rachel Bach"]
[{"$f":"A475","v":0},null,{"$f":"C475","v":0},null,{"$f":"E475","v":0},null,9781681515748,null,9781681515366,null,"Crickets",null,null,null,"Spot Creepy Crawlies",null,null,null,"Amicus",null,40.799999999999997,null,19.95,null,24.95,null,0,null,null,null,null,null,0,0,0,0,0,0,0,0,"Spring 2019",null,2019,null,595.70000000000005,null,null,null,null,null,null,null,null,null,"23",null,"Spot",null,0.8,null,"Animals & Nature",null,"English",null,"Reinforced Library",null,16,null,"C",null,"230L",null,"PreK - 3",null,"Nessa Black"]
[{"$f":"A475","v":0},null,{"$f":"C475","v":0},null,{"$f":"E475","v":0},null,9781681515755,null,9781681515373,null,"Dragonflies",null,null,null,"Spot Creepy Crawlies",null,null,null,"Amicus",null,40.799999999999997,null,19.95,null,24.95,null,0,null,null,null,null,null,0,0,0,0,0,0,0,0,"Spring 2019",null,2019,null,"595.7/33",null,null,null,null,null,null,null,null,null,"23",null,"Spot",null,0.9,null,"Animals & Nature",null,"English",null,"Reinforced Library",null,16,null,"C",null,"270L",null,"PreK - 3",null,"Nessa Black"]
[{"$f":"A475","v":0},null,{"$f":"C475","v":0},null,{"$f":"E475","v":0},null,9781681511986,null,9781681511085,null,"Flies",null,null,null,"Spot Creepy Crawlies",null,null,null,"Amicus",null,40.799999999999997,null,19.95,null,24.95,null,0,null,null,null,null,null,0,0,0,0,0,0,0,0,"Fall 2017",null,2018,null,595.77,null,null,null,null,null,null,null,null,null,"23",null,"Spot",null,0.8,null,"Animals & Nature",null,"English",null,"Reinforced Library",null,16,null,"C",null,"260L",null,"PreK - 3",null,"Nessa Black"]
[{"$f":"A475","v":0},null,{"$f":"C475","v":0},null,{"$f":"E475","v":0},null,9781681511993,null,9781681511092,null,"Ladybugs",null,null,null,"Spot Creepy Crawlies",null,null,null,"Amicus",null,40.799999999999997,null,19.95,null,24.95,null,0,null,null,null,null,null,0,0,0,0,0,0,0,0,"Fall 2017",null,2018,null,"595.76/9",null,null,null,null,null,null,null,null,null,"23",null,"Spot",null,0.9,null,"Animals & Nature",null,"English",null,"Reinforced Library",null,16,null,"C",null,"290L",null,"PreK - 3",null,"Nessa Black"]
[{"$f":"A475","v":0},null,{"$f":"C475","v":0},null,{"$f":"E475","v":0},null,9781681515762,null,9781681515380,null,"Moths",null,null,null,"Spot Creepy Crawlies",null,null,null,"Amicus",null,40.799999999999997,null,19.95,null,24.95,null,0,null,null,null,null,null,0,0,0,0,0,0,0,0,"Spring 2019",null,2019,null,595.78,null,null,null,null,null,null,null,null,null,"23",null,"Spot",null,0.9,null,"Animals & Nature",null,"English",null,"Reinforced Library",null,16,null,"C",null,"240L",null,"PreK - 3",null,"Nessa Black"]
[{"$f":"A475","v":0},null,{"$f":"C475","v":0},null,{"$f":"E475","v":0},null,9781681515779,null,9781681515397,null,"Scorpions",null,null,null,"Spot Creepy Crawlies",null,null,null,"Amicus",null,40.799999999999997,null,19.95,null,24.95,null,0,null,null,null,null,null,0,0,0,0,0,0,0,0,"Spring 2019",null,2019,null,"595.4/6",null,null,null,null,null,null,null,null,null,"23",null,"Spot",null,0.9,null,"Animals & Nature",null,"English",null,"Reinforced Library",null,16,null,"C",null,"260L",null,"PreK - 3",null,"Nessa Black"]
[{"$f":"A475","v":0},null,{"$f":"C475","v":0},null,{"$f":"E475","v":0},null,9781681512006,null,9781681511108,null,"Spiders",null,null,null,"Spot Creepy Crawlies",null,null,null,"Amicus",null,40.799999999999997,null,19.95,null,24.95,null,0,null,null,null,null,null,0,0,0,0,0,0,0,0,"Fall 2017",null,2018,null,"595.4/4",null,null,null,null,null,null,null,null,null,"23",null,"Spot",null,0.9,null,"Animals & Nature",null,"English",null,"Reinforced Library",null,16,null,"C",null,"260L",null,"PreK - 3",null,"Nessa Black"]
[{"$f":"A475","v":0},null,{"$f":"C475","v":0},null,{"$f":"E475","v":0},null,9781681515786,null,9781681515403,null,"Walking Sticks",null,null,null,"Spot Creepy Crawlies",null,null,null,"Amicus",null,40.799999999999997,null,19.95,null,24.95,null,0,null,null,null,null,null,0,0,0,0,0,0,0,0,"Spring 2019",null,2019,null,"595.7/29",null,null,null,null,null,null,null,null,null,"23",null,"Spot",null,0.7,null,"Animals & Nature",null,"English",null,"Reinforced Library",null,16,null,"C",null,"240L",null,"PreK - 3",null,"Nessa Black"]
[{"$f":"A475","v":0},null,{"$f":"C475","v":0},null,{"$f":"E475","v":0},null,9781681515793,null,9781681515410,null,"Wasps",null,null,null,"Spot Creepy Crawlies",null,null,null,"Amicus",null,40.799999999999997,null,19.95,null,24.95,null,0,null,null,null,null,null,0,0,0,0,0,0,0,0,"Spring 2019",null,2019,null,595.79,null,null,null,null,null,null,null,null,null,"23",null,"Spot",null,0.9,null,"Animals & Nature",null,"English",null,"Reinforced Library",null,16,null,"C",null,"270L",null,"PreK - 3",null,"Nessa Black"]
[{"$f":"A475","v":0},null,{"$f":"C475","v":0},null,{"$f":"E475","v":0},null,9781681512013,null,9781681511115,null,"Worms",null,null,null,"Spot Creepy Crawlies",null,null,null,"Amicus",null,40.799999999999997,null,19.95,null,24.95,null,0,null,null,null,null,null,0,0,0,0,0,0,0,0,"Fall 2017",null,2018,null,"592/.3",null,null,null,null,null,null,null,null,null,"23",null,"Spot",null,0.8,null,"Animals & Nature",null,"English",null,"Reinforced Library",null,16,null,"C",null,"230L",null,"PreK - 3",null,"Nessa Black"]
[]
[null,null,null,null,null,null,null,null,null,null,"Complete Series of 4",null,null,null,"Spot Seasons",null,null,null,null,null,{"$f":"SUM(U492:U495)","v":163.19999999999999},null,{"$f":"SUM(W492:W495)","v":79.8},null,{"$f":"SUM(Y492:Y495)","v":99.8}]
[{"$f":"A491","v":0},null,{"$f":"C491","v":0},null,{"$f":"E491","v":0},null,9781681515908,null,9781681515526,null,"Fall ",null,null,null,"Spot Seasons",null,null,null,"Amicus",null,40.799999999999997,null,19.95,null,{"$f":"W492+5","v":24.95},null,{"$f":"IF(AC492=FALSE,AK492+AL492+AM492,0)","v":0},null,null,null,null,null,0,0,0,0,0,0,0,0,"Spring 2019",null,2019,null,508.2,null,null,null,null,null,null,null,null,null,"23",null,"Spot",null,0.9,null,"Animals & Nature",null,"English",null,"Reinforced Library",null,16,null,"C",null,"270L",null,"PreK - 3",null,"Mari Schuh"]
[{"$f":"A491","v":0},null,{"$f":"C491","v":0},null,{"$f":"E491","v":0},null,9781681515885,null,9781681515502,null,"Spring",null,null,null,"Spot Seasons",null,null,null,"Amicus",null,40.799999999999997,null,19.95,null,{"$f":"W493+5","v":24.95},null,0,null,null,null,null,null,0,0,0,0,0,0,0,0,"Spring 2019",null,2019,null,508.2,null,null,null,null,null,null,null,null,null,"23",null,"Spot",null,0.9,null,"Animals & Nature",null,"English",null,"Reinforced Library",null,16,null,"C",null,"270L",null,"PreK - 3",null,"Mari Schuh"]
[{"$f":"A491","v":0},null,{"$f":"C491","v":0},null,{"$f":"E491","v":0},null,9781681515892,null,9781681515519,null,"Summer",null,null,null,"Spot Seasons",null,null,null,"Amicus",null,40.799999999999997,null,19.95,null,{"$f":"W494+5","v":24.95},null,0,null,null,null,null,null,0,0,0,0,0,0,0,0,"Spring 2019",null,2019,null,508.2,null,null,null,null,null,null,null,null,null,"23",null,"Spot",null,0.9,null,"Animals & Nature",null,"English",null,"Reinforced Library",null,16,null,"C",null,"280L",null,"PreK - 3",null,"Mari Schuh"]
[{"$f":"A491","v":0},null,{"$f":"C491","v":0},null,{"$f":"E491","v":0},null,9781681515915,null,9781681515533,null,"Winter",null,null,null,"Spot Seasons",null,null,null,"Amicus",null,40.799999999999997,null,19.95,null,{"$f":"W495+5","v":24.95},null,0,null,null,null,null,null,0,0,0,0,0,0,0,0,"Spring 2019",null,2019,null,508.2,null,null,null,null,null,null,null,null,null,"23",null,"Spot",null,0.9,null,"Animals & Nature",null,"English",null,"Reinforced Library",null,16,null,"C",null,"280L",null,"PreK - 3",null,"Mari Schuh"]
[]
[null,null,null,null,null,null,null,null,null,null,"Complete Series of 8",null,null,null,"Animales norteamericanos (North American Animals)",null,null,null,null,null,{"$f":"SUM(U498:U505)","v":0},null,{"$f":"SUM(W498:W505)","v":175.59999999999997},null,{"$f":"SUM(Y498:Y505)","v":0}]
[null,null,{"$f":"C497","v":0},null,null,null,"Not Available",null,9781681516189,null,"El bisonte americano ( American Bison)",null,null,null,"Animales norteamericanos (North American Animals)",null,null,null,"Amicus",null,0,null,21.95,null,0,null,{"$f":"IF(AC498=FALSE,AK498+AL498+AM498,0)","v":0},null,null,null,null,null,0,0,0,0,0,0,0,0,"Fall 2018",null,2019,null,"599.64/3",null,null,null,null,null,null,null,null,null,"50",null,"Amicus High Interest ",null,2.9,null,"Animals & Nature",null,"Spanish",null,"Reinforced Library",null,24,null,null,null,null,null,"K - 3",null,"Jill Sherman"]
[null,null,{"$f":"C497","v":0},null,null,null,"Not Available",null,9781681516219,null,"El borrego cimarrón (Bighorn Sheep)",null,null,null,"Animales norteamericanos (North American Animals)",null,null,null,"Amicus",null,0,null,21.95,null,0,null,0,null,null,null,null,null,0,0,0,0,0,0,0,0,"Fall 2018",null,2019,null,"599.649/7",null,null,null,null,null,null,null,null,null,"50",null,"Amicus High Interest ",null,2.4,null,"Animals & Nature",null,"Spanish",null,"Reinforced Library",null,24,null,null,null,null,null,"K - 3",null,"Jill Sherman"]
[null,null,{"$f":"C497","v":0},null,null,null,"Not Available",null,9781681516226,null,"El caribú (Caribou)",null,null,null,"Animales norteamericanos (North American Animals)",null,null,null,"Amicus",null,0,null,21.95,null,0,null,0,null,null,null,null,null,0,0,0,0,0,0,0,0,"Fall 2018",null,2019,null,"599.65/8",null,null,null,null,null,null,null,null,null,"50",null,"Amicus High Interest ",null,2.7,null,"Animals & Nature",null,"Spanish",null,"Reinforced Library",null,24,null,null,null,null,null,"K - 3",null,"Rachel Grack"]
[null,null,{"$f":"C497","v":0},null,null,null,"Not Available",null,9781681516202,null,"Las águilas calvas (Bald Eagles)",null,null,null,"Animales norteamericanos (North American Animals)",null,null,null,"Amicus",null,0,null,21.95,null,0,null,0,null,null,null,null,null,0,0,0,0,0,0,0,0,"Fall 2018",null,2019,null,"598.9/43",null,null,null,null,null,null,null,null,null,"50",null,"Amicus High Interest ",null,2.2000000000000002,null,"Animals & Nature",null,"Spanish",null,"Reinforced Library",null,24,null,null,null,null,null,"K - 3",null,"Rachel Grack"]
[null,null,{"$f":"C497","v":0},null,null,null,"Not Available",null,9781681516196,null,"Los armadillos (Armadillos)",null,null,null,"Animales norteamericanos (North American Animals)",null,null,null,"Amicus",null,0,null,21.95,null,0,null,0,null,null,null,null,null,0,0,0,0,0,0,0,0,"Fall 2018",null,2019,null,"599.3/12",null,null,null,null,null,null,null,null,null,"50",null,"Amicus High Interest ",null,3,null,"Animals & Nature",null,"Spanish",null,"Reinforced Library",null,24,null,null,null,null,null,"K - 3",null,"Jill Sherman"]
[null,null,{"$f":"C497","v":0},null,null,null,"Not Available",null,9781681516257,null,"Los lobos (Wolves)",null,null,null,"Animales norteamericanos (North American Animals)",null,null,null,"Amicus",null,0,null,21.95,null,0,null,0,null,null,null,null,null,0,0,0,0,0,0,0,0,"Fall 2018",null,2019,null,599.77,null,null,null,null,null,null,null,null,null,"50",null,"Amicus High Interest ",null,2.5,null,"Animals & Nature",null,"Spanish",null,"Reinforced Library",null,24,null,null,null,null,null,"K - 3",null,"Rachel Grack"]
[null,null,{"$f":"C497","v":0},null,null,null,"Not Available",null,9781681516240,null,"Los puercoespines (Porcupines)",null,null,null,"Animales norteamericanos (North American Animals)",null,null,null,"Amicus",null,0,null,21.95,null,0,null,0,null,null,null,null,null,0,0,0,0,0,0,0,0,"Fall 2018",null,2019,null,"599.35/97",null,null,null,null,null,null,null,null,null,"50",null,"Amicus High Interest ",null,3.2,null,"Animals & Nature",null,"Spanish",null,"Reinforced Library",null,24,null,null,null,null,null,"K - 3",null,"Jill Sherman"]
[null,null,{"$f":"C497","v":0},null,null,null,"Not Available",null,9781681516233,null,"Los pumas (Mountain Lions)",null,null,null,"Animales norteamericanos (North American Animals)",null,null,null,"Amicus",null,0,null,21.95,null,0,null,0,null,null,null,null,null,0,0,0,0,0,0,0,0,"Fall 2018",null,2019,null,"599.75/24",null,null,null,null,null,null,null,null,null,"50",null,"Amicus High Interest ",null,2.5,null,"Animals & Nature",null,"Spanish",null,"Reinforced Library",null,24,null,null,null,null,null,"K - 3",null,"Rachel Grack"]
[]
[null,null,null,null,null,null,null,null,null,null,"Complete Series of 6",null,null,null,"Animals Measure Up",null,null,null,null,null,{"$f":"SUM(U508:U513)","v":269.10000000000002},null,{"$f":"SUM(W508:W513)","v":131.69999999999999},null,{"$f":"SUM(Y508:Y513)","v":161.69999999999999}]
[{"$f":"A507","v":0},null,{"$f":"C507","v":0},null,{"$f":"E507","v":0},null,9781681514666,null,9781681513843,null,"How Deep in the Ocean?: Ocean Animal Habitats",null,null,null,"Animals Measure Up",null,null,null,"Amicus",null,44.85,null,21.95,null,{"$f":"W508+5","v":26.95},null,{"$f":"IF(AC508=FALSE,AK508+AL508+AM508,0)","v":0},null,null,null,null,null,0,0,0,0,0,0,0,0,"Fall 2018",null,2019,null,578.77,null,null,null,null,null,null,null,null,null,"39",null,"Amicus Illustrated",null,null,null,"Animals & Nature",null,"English",null,"Reinforced Library",null,24,null,"J",null,"520L",null,"K - 3",null,"Monika Davies"]
[{"$f":"A507","v":0},null,{"$f":"C507","v":0},null,{"$f":"E507","v":0},null,9781681514673,null,9781681513850,null,"How Far Home?: Animal Migrations",null,null,null,"Animals Measure Up",null,null,null,"Amicus",null,44.85,null,21.95,null,26.95,null,0,null,null,null,null,null,0,0,0,0,0,0,0,0,"Fall 2018",null,2019,null,"591.56/8",null,null,null,null,null,null,null,null,null,"39",null,"Amicus Illustrated",null,null,null,"Animals & Nature",null,"English",null,"Reinforced Library",null,24,null,"J",null,"530L",null,"K - 3",null,"Monika Davies"]
[{"$f":"A507","v":0},null,{"$f":"C507","v":0},null,{"$f":"E507","v":0},null,9781681514680,null,9781681513867,null,"How Far Underground?: Burrowing Animals",null,null,null,"Animals Measure Up",null,null,null,"Amicus",null,44.85,null,21.95,null,26.95,null,0,null,null,null,null,null,0,0,0,0,0,0,0,0,"Fall 2018",null,2019,null,"591.56/48",null,null,null,null,null,null,null,null,null,"39",null,"Amicus Illustrated",null,null,null,"Animals & Nature",null,"English",null,"Reinforced Library",null,24,null,"J",null,"560L",null,"K - 3",null,"Monika Davies"]
[{"$f":"A507","v":0},null,{"$f":"C507","v":0},null,{"$f":"E507","v":0},null,9781681514697,null,9781681513874,null,"How High in the Rainforest?: Rainforest Animal Habitats",null,null,null,"Animals Measure Up",null,null,null,"Amicus",null,44.85,null,21.95,null,26.95,null,0,null,null,null,null,null,0,0,0,0,0,0,0,0,"Fall 2018",null,2019,null,577.34,null,null,null,null,null,null,null,null,null,"39",null,"Amicus Illustrated",null,null,null,"Animals & Nature",null,"English",null,"Reinforced Library",null,24,null,"J",null,"520L",null,"K - 3",null,"Monika Davies"]
[{"$f":"A507","v":0},null,{"$f":"C507","v":0},null,{"$f":"E507","v":0},null,9781681514703,null,9781681513881,null,"How High in the Sky?:  Flying Animals",null,null,null,"Animals Measure Up",null,null,null,"Amicus",null,44.85,null,21.95,null,26.95,null,0,null,null,null,null,null,0,0,0,0,0,0,0,0,"Fall 2018",null,2019,null,"591.47/9",null,null,null,null,null,null,null,null,null,"39",null,"Amicus Illustrated",null,null,null,"Animals & Nature",null,"English",null,"Reinforced Library",null,24,null,"J",null,"550L",null,"K - 3",null,"Monika Davies"]
[{"$f":"A507","v":0},null,{"$f":"C507","v":0},null,{"$f":"E507","v":0},null,9781681514710,null,9781681513898,null,"How High up the Mountain?: Mountain Animal Habitats",null,null,null,"Animals Measure Up",null,null,null,"Amicus",null,44.85,null,21.95,null,26.95,null,0,null,null,null,null,null,0,0,0,0,0,0,0,0,"Fall 2018",null,2019,null,"577.5/3",null,null,null,null,null,null,null,null,null,"39",null,"Amicus Illustrated",null,null,null,"Animals & Nature",null,"English",null,"Reinforced Library",null,24,null,"J",null,"520L",null,"K - 3",null,"Monika Davies"]
[]
[null,null,null,null,null,null,null,null,null,null,"Complete Series of 24",null,null,null,"Do You Really Want to Meet…?",null,null,null,null,null,{"$f":"SUM(U516:U539)","v":269.10000000000002},null,{"$f":"SUM(W516:W539)","v":526.79999999999984},null,{"$f":"SUM(Y516:Z539)","v":161.69999999999999}]
[null,null,{"$f":"C515","v":0},null,null,null,"Not Available",null,9781607539445,null,"Do You Really Want to Meet a Badger?",null,null,null,"Do You Really Want to Meet…?",null,null,null,"Amicus",null,0,null,21.95,null,0,null,{"$f":"IF(AC516=FALSE,AK516+AL516+AM516,0)","v":0},null,null,null,null,null,0,0,0,0,0,0,0,0,"Fall 2016",null,2017,null,"599.76/7",null,null,null,null,null,null,null,null,null,"40",null,"Amicus Illustrated",null,2.4,null,"Animals & Nature",null,"English",null,"Reinforced Library",null,24,null,"J",null,"540L",null,"K - 3",null,"Bridget Heos"]
[null,null,{"$f":"C515","v":0},null,null,null,"Not Available",null,9781607539452,null,"Do You Really Want to Meet a Camel?",null,null,null,"Do You Really Want to Meet…?",null,null,null,"Amicus",null,0,null,21.95,null,0,null,0,null,null,null,null,null,0,0,0,0,0,0,0,0,"Fall 2016",null,2017,null,"599.63/62",null,null,null,null,null,null,null,null,null,"40",null,"Amicus Illustrated",null,2.6,null,"Animals & Nature",null,"English",null,"Reinforced Library",null,24,null,"J",null,"550L",null,"K - 3",null,"Bridget Heos"]
[null,null,{"$f":"C515","v":0},null,null,null,"Not Available",null,9781607537380,null,"Do You Really Want to Meet a Cape Buffalo?",null,null,null,"Do You Really Want to Meet…?",null,null,null,"Amicus",null,0,null,21.95,null,0,null,0,null,null,null,null,null,0,0,0,0,0,0,0,0,"Fall 2015",null,2016,null," 599.64/2",null,null,null,null,null,null,null,null,null,"40",null,"Amicus Illustrated",null,2.6,null,"Animals & Nature",null,"English",null,"Reinforced Library",null,24,null,"J",null,"510L",null,"K - 3",null,"Cari Meister"]
[{"$f":"A515","v":0},null,{"$f":"C515","v":0},null,{"$f":"E515","v":0},null,9781681514727,null,9781681513904,null,"Do You Really Want to Meet a Cheetah?",null,null,null,"Do You Really Want to Meet…?",null,null,null,"Amicus",null,44.85,null,21.95,null,{"$f":"W519+5","v":26.95},null,0,null,null,null,null,null,0,0,0,0,0,0,0,0,"Fall 2018",null,2019,null,"599.75/9",null,null,null,null,null,null,null,null,null,"40",null,"Amicus Illustrated",null,2.1,null,"Animals & Nature",null,"English",null,"Reinforced Library",null,24,null,"J",null,"520L",null,"K - 3",null,"Cari Meister"]
[{"$f":"A515","v":0},null,{"$f":"C515","v":0},null,{"$f":"E515","v":0},null,9781681514734,null,9781681513911,null,"Do You Really Want to Meet a Chimpanzee?",null,null,null,"Do You Really Want to Meet…?",null,null,null,"Amicus",null,44.85,null,21.95,null,{"$f":"W520+5","v":26.95},null,0,null,null,null,null,null,0,0,0,0,0,0,0,0,"Fall 2018",null,2019,null,599.88499999999999,null,null,null,null,null,null,null,null,null,"40",null,"Amicus Illustrated",null,2.2000000000000002,null,"Animals & Nature",null,"English",null,"Reinforced Library",null,24,null,"J",null,"500L",null,"K - 3",null,"Cari Meister"]
[null,null,{"$f":"C515","v":0},null,null,null,"Not Available",null,9781607534570,null,"Do You Really Want to Meet a Crocodile?",null,null,null,"Do You Really Want to Meet…?",null,null,null,"Amicus",null,0,null,21.95,null,0,null,0,null,null,null,null,null,0,0,0,0,0,0,0,0,"Fall 2014",null,2015,null,"597.98/2",null,null,null,null,null,null,null,null,null,"40",null,"Amicus Illustrated",null,2.5,null,"Animals & Nature",null,"English",null,"Reinforced Library",null,24,null,"J",null,"480L",null,"K - 3",null,"Cari Meister"]
[{"$f":"A515","v":0},null,{"$f":"C515","v":0},null,{"$f":"E515","v":0},null,9781681514741,null,9781681513928,null,"Do You Really Want to Meet a Fox?",null,null,null,"Do You Really Want to Meet…?",null,null,null,"Amicus",null,44.85,null,21.95,null,{"$f":"W522+5","v":26.95},null,0,null,null,null,null,null,0,0,0,0,0,0,0,0,"Fall 2018",null,2019,null,599.77499999999998,null,null,null,null,null,null,null,null,null,"40",null,"Amicus Illustrated",null,2.1,null,"Animals & Nature",null,"English",null,"Reinforced Library",null,24,null,"J",null,"510L",null,"K - 3",null,"Cari Meister"]
[null,null,{"$f":"C515","v":0},null,null,null,"Not Available",null,9781607539469,null,"Do You Really Want to Meet a Hippopotamus?",null,null,null,"Do You Really Want to Meet…?",null,null,null,"Amicus",null,0,null,21.95,null,0,null,0,null,null,null,null,null,0,0,0,0,0,0,0,0,"Fall 2016",null,2017,null,"599.63/5",null,null,null,null,null,null,null,null,null,"40",null,"Amicus Illustrated",null,2.6,null,"Animals & Nature",null,"English",null,"Reinforced Library",null,24,null,"J",null,"500L",null,"K - 3",null,"Bridget Heos"]
[null,null,{"$f":"C515","v":0},null,null,null,"Not Available",null,9781607537342,null,"Do You Really Want to Meet a Kangaroo?",null,null,null,"Do You Really Want to Meet…?",null,null,null,"Amicus",null,0,null,21.95,null,0,null,0,null,null,null,null,null,0,0,0,0,0,0,0,0,"Fall 2015",null,2016,null," 599.2/22",null,null,null,null,null,null,null,null,null,"40",null,"Amicus Illustrated",null,2.7,null,"Animals & Nature",null,"English",null,"Reinforced Library",null,24,null,"J",null,"540L",null,"K - 3",null,"Cari Meister"]
[null,null,{"$f":"C515","v":0},null,null,null,"Not Available",null,9781607537359,null,"Do You Really Want to Meet a Lion?",null,null,null,"Do You Really Want to Meet…?",null,null,null,"Amicus",null,0,null,21.95,null,0,null,0,null,null,null,null,null,0,0,0,0,0,0,0,0,"Fall 2015",null,2016,null,599.75699999999995,null,null,null,null,null,null,null,null,null,"40",null,"Amicus Illustrated",null,2.6,null,"Animals & Nature",null,"English",null,"Reinforced Library",null,24,null,"J",null,"530L",null,"K - 3",null,"Cari Meister"]
[null,null,{"$f":"C515","v":0},null,null,null,"Not Available",null,9781607534563,null,"Do You Really Want to Meet a Monkey?",null,null,null,"Do You Really Want to Meet…?",null,null,null,"Amicus",null,0,null,21.95,null,0,null,0,null,null,null,null,null,{"$f":"A526","v":0},{"$f":"C526","v":0},{"$f":"E526","v":0},{"$f":"SUM(AG526:AI526)","v":0},{"$f":"U526*A526","v":0},{"$f":"W526*C526","v":0},{"$f":"Y526*E526","v":0},{"$f":"SUM(AK526:AM526)","v":0},"Fall 2014",null,2015,null,599.79999999999995,null,null,null,null,null,null,null,null,null,"40",null,"Amicus Illustrated",null,2.2999999999999998,null,"Animals & Nature",null,"English",null,"Reinforced Library",null,24,null,"J",null,"530L",null,"K - 3",null,"Cari Meister"]
[null,null,{"$f":"C515","v":0},null,null,null,"Not Available",null,9781607537366,null,"Do You Really Want to Meet a Moose?",null,null,null,"Do You Really Want to Meet…?",null,null,null,"Amicus",null,0,null,21.95,null,0,null,0,null,null,null,null,null,0,0,0,0,0,0,0,0,"Fall 2015",null,2016,null," 599.65/7",null,null,null,null,null,null,null,null,null,"40",null,"Amicus Illustrated",null,2.8,null,"Animals & Nature",null,"English",null,"Reinforced Library",null,24,null,"J",null,"590L",null,"K - 3",null,"Cari Meister"]
[null,null,{"$f":"C515","v":0},null,null,null,"Not Available",null,9781607534600,null,"Do You Really Want to Meet a Platypus?",null,null,null,"Do You Really Want to Meet…?",null,null,null,"Amicus",null,0,null,21.95,null,0,null,0,null,null,null,null,null,0,0,0,0,0,0,0,0,"Fall 2014",null,2015,null,"599.2/9",null,null,null,null,null,null,null,null,null,"40",null,"Amicus Illustrated",null,2.6,null,"Animals & Nature",null,"English",null,"Reinforced Library",null,24,null,"J",null,"560L",null,"K - 3",null,"Cari Meister"]
[null,null,{"$f":"C515","v":0},null,null,null,"Not Available",null,9781607534556,null,"Do You Really Want to Meet a Polar Bear?",null,null,null,"Do You Really Want to Meet…?",null,null,null,"Amicus",null,0,null,21.95,null,0,null,0,null,null,null,null,null,0,0,0,0,0,0,0,0,"Fall 2014",null,2015,null,599.78599999999994,null,null,null,null,null,null,null,null,null,"40",null,"Amicus Illustrated",null,2.7,null,"Animals & Nature",null,"English",null,"Reinforced Library",null,24,null,"J",null,"560L",null,"K - 3",null,"Marcie Aboff"]
[null,null,{"$f":"C515","v":0},null,null,null,"Not Available",null,9781607537373,null,"Do You Really Want to Meet a Shark?",null,null,null,"Do You Really Want to Meet…?",null,null,null,"Amicus",null,0,null,21.95,null,0,null,0,null,null,null,null,null,0,0,0,0,0,0,0,0,"Fall 2015",null,2016,null," 597.3/3",null,null,null,null,null,null,null,null,null,"40",null,"Amicus Illustrated",null,2.4,null,"Animals & Nature",null,"English",null,"Reinforced Library",null,24,null,"J",null,"530L",null,"K - 3",null,"Cari Meister"]
[null,null,{"$f":"C515","v":0},null,null,null,"Not Available",null,9781607534587,null,"Do You Really Want to Meet a Swan?",null,null,null,"Do You Really Want to Meet…?",null,null,null,"Amicus",null,0,null,21.95,null,0,null,0,null,null,null,null,null,0,0,0,0,0,0,0,0,"Fall 2014",null,2015,null,"598.4/18",null,null,null,null,null,null,null,null,null,"40",null,"Amicus Illustrated",null,2.2999999999999998,null,"Animals & Nature",null,"English",null,"Reinforced Library",null,24,null,"J",null,"490L",null,"K - 3",null,"Cari Meister"]
[null,null,{"$f":"C515","v":0},null,null,null,"Not Available",null,9781607534594,null,"Do You Really Want to Meet a Tiger?",null,null,null,"Do You Really Want to Meet…?",null,null,null,"Amicus",null,0,null,21.95,null,0,null,0,null,null,null,null,null,0,0,0,0,0,0,0,0,"Fall 2014",null,2015,null,599.75599999999997,null,null,null,null,null,null,null,null,null,"40",null,"Amicus Illustrated",null,3,null,"Animals & Nature",null,"English",null,"Reinforced Library",null,24,null,"J",null,"590L",null,"K - 3",null,"Cari Meister"]
[{"$f":"A515","v":0},null,{"$f":"C515","v":0},null,{"$f":"E515","v":0},null,9781681514758,null,9781681513935,null,"Do You Really Want to Meet a Weasel?",null,null,null,"Do You Really Want to Meet…?",null,null,null,"Amicus",null,44.85,null,21.95,null,{"$f":"W533+5","v":26.95},null,0,null,null,null,null,null,0,0,0,0,0,0,0,0,"Fall 2018",null,2019,null,"599.76/62",null,null,null,null,null,null,null,null,null,"40",null,"Amicus Illustrated",null,2.6,null,"Animals & Nature",null,"English",null,"Reinforced Library",null,24,null,"J",null,"490L",null,"K - 3",null,"Cari Meister"]
[null,null,{"$f":"C515","v":0},null,null,null,"Not Available",null,9781607539490,null,"Do You Really Want to Meet a Wolf?",null,null,null,"Do You Really Want to Meet…?",null,null,null,"Amicus",null,0,null,21.95,null,0,null,0,null,null,null,null,null,0,0,0,0,0,0,0,0,"Fall 2016",null,2017,null,599.77300000000002,null,null,null,null,null,null,null,null,null,"40",null,"Amicus Illustrated",null,2.4,null,"Animals & Nature",null,"English",null,"Reinforced Library",null,24,null,"J",null,"530L",null,"K - 3",null,"Bridget Heos"]
[{"$f":"A515","v":0},null,{"$f":"C515","v":0},null,{"$f":"E515","v":0},null,9781681514765,null,9781681513942,null,"Do You Really Want to Meet an Anteater?",null,null,null,"Do You Really Want to Meet…?",null,null,null,"Amicus",null,44.85,null,21.95,null,{"$f":"W535+5","v":26.95},null,0,null,null,null,null,null,0,0,0,0,0,0,0,0,"Fall 2018",null,2019,null,"599.3/14",null,null,null,null,null,null,null,null,null,"40",null,"Amicus Illustrated",null,2.4,null,"Animals & Nature",null,"English",null,"Reinforced Library",null,24,null,"J",null,"530L",null,"K - 3",null,"Cari Meister"]
[null,null,{"$f":"C515","v":0},null,null,null,"Not Available",null,9781607537335,null,"Do You Really Want to Meet an Elephant?",null,null,null,"Do You Really Want to Meet…?",null,null,null,"Amicus",null,0,null,21.95,null,0,null,0,null,null,null,null,null,0,0,0,0,0,0,0,0,"Fall 2015",null,2016,null,599.66999999999996,null,null,null,null,null,null,null,null,null,"40",null,"Amicus Illustrated",null,2.5,null,"Animals & Nature",null,"English",null,"Reinforced Library",null,24,null,"J",null,"500L",null,"K - 3",null,"Cari Meister"]
[{"$f":"A515","v":0},null,{"$f":"C515","v":0},null,{"$f":"E515","v":0},null,9781681514772,null,9781681513959,null,"Do You Really Want to Meet an Octopus?",null,null,null,"Do You Really Want to Meet…?",null,null,null,"Amicus",null,44.85,null,21.95,null,{"$f":"W537+5","v":26.95},null,0,null,null,null,null,null,0,0,0,0,0,0,0,0,"Fall 2018",null,2019,null,"594/.56",null,null,null,null,null,null,null,null,null,"40",null,"Amicus Illustrated",null,2.5,null,"Animals & Nature",null,"English",null,"Reinforced Library",null,24,null,"J",null,"510L",null,"K - 3",null,"Cari Meister"]
[null,null,{"$f":"C515","v":0},null,null,null,"Not Available",null,9781607539476,null,"Do You Really Want to Meet an Orca?",null,null,null,"Do You Really Want to Meet…?",null,null,null,"Amicus",null,0,null,21.95,null,0,null,0,null,null,null,null,null,0,0,0,0,0,0,0,0,"Fall 2016",null,2017,null,"599.53/6",null,null,null,null,null,null,null,null,null,"40",null,"Amicus Illustrated",null,2.6,null,"Animals & Nature",null,"English",null,"Reinforced Library",null,24,null,"J",null,"550L",null,"K - 3",null,"Bridget Heos"]
[null,null,{"$f":"C515","v":0},null,null,null,"Not Available",null,9781607539483,null,"Do You Really Want to Meet an Owl?",null,null,null,"Do You Really Want to Meet…?",null,null,null,"Amicus",null,0,null,21.95,null,0,null,0,null,null,null,null,null,0,0,0,0,0,0,0,0,"Fall 2016",null,2017,null,"598.9/7",null,null,null,null,null,null,null,null,null,"40",null,"Amicus Illustrated",null,2.4,null,"Animals & Nature",null,"English",null,"Reinforced Library",null,24,null,"J",null,"500L",null,"K - 3",null,"Bridget Heos"]
[]
[null,null,null,null,null,null,null,null,null,null,"Complete Series of 8",null,null,null,"Favorite Horse Breeds",null,null,null,null,null,{"$f":"SUM(U542:U549)","v":358.80000000000007},null,{"$f":"SUM(W542:W549)","v":175.59999999999997},null,{"$f":"SUM(Y542:Y549)","v":215.59999999999997}]
[{"$f":"A541","v":0},null,{"$f":"C541","v":0},null,{"$f":"E541","v":0},null,9781681515021,null,9781681514208,null,"American Paint Horses",null,null,null,"Favorite Horse Breeds",null,null,null,"Amicus",null,44.85,null,21.95,null,{"$f":"W542+5","v":26.95},null,{"$f":"IF(AC542=FALSE,AK542+AL542+AM542,0)","v":0},null,null,null,null,null,0,0,0,0,0,0,0,0,"Fall 2018",null,2019,null,"636.1/3",null,null,null,null,null,null,null,null,null,"30",null,"Amicus High Interest",null,2.2000000000000002,null,"Animals & Nature",null,"English",null,"Reinforced Library",null,24,null,"I",null,"460L",null,"K - 3",null,"Cari Meister"]
[{"$f":"A541","v":0},null,{"$f":"C541","v":0},null,{"$f":"E541","v":0},null,9781681515038,null,9781681514215,null,"American Quarter Horses",null,null,null,"Favorite Horse Breeds",null,null,null,"Amicus",null,44.85,null,21.95,null,26.95,null,0,null,null,null,null,null,0,0,0,0,0,0,0,0,"Fall 2018",null,2019,null,"636.1/33",null,null,null,null,null,null,null,null,null,"30",null,"Amicus High Interest",null,2,null,"Animals & Nature",null,"English",null,"Reinforced Library",null,24,null,"I",null,"370L",null,"K - 3",null,"Cari Meister"]
[{"$f":"A541","v":0},null,{"$f":"C541","v":0},null,{"$f":"E541","v":0},null,9781681515045,null,9781681514222,null,"American Saddlebred Horses",null,null,null,"Favorite Horse Breeds",null,null,null,"Amicus",null,44.85,null,21.95,null,26.95,null,0,null,null,null,null,null,0,0,0,0,0,0,0,0,"Fall 2018",null,2019,null,"636.1/3",null,null,null,null,null,null,null,null,null,"30",null,"Amicus High Interest",null,2.1,null,"Animals & Nature",null,"English",null,"Reinforced Library",null,24,null,"I",null,"460L",null,"K - 3",null,"Cari Meister"]
[{"$f":"A541","v":0},null,{"$f":"C541","v":0},null,{"$f":"E541","v":0},null,9781681515052,null,9781681514239,null,"Appaloosa Horses",null,null,null,"Favorite Horse Breeds",null,null,null,"Amicus",null,44.85,null,21.95,null,26.95,null,0,null,null,null,null,null,0,0,0,0,0,0,0,0,"Fall 2018",null,2019,null,"636.1/3",null,null,null,null,null,null,null,null,null,"30",null,"Amicus High Interest",null,2.1,null,"Animals & Nature",null,"English",null,"Reinforced Library",null,24,null,"I",null,"410L",null,"K - 3",null,"Cari Meister"]
[{"$f":"A541","v":0},null,{"$f":"C541","v":0},null,{"$f":"E541","v":0},null,9781681515069,null,9781681514246,null,"Arabian Horses",null,null,null,"Favorite Horse Breeds",null,null,null,"Amicus",null,44.85,null,21.95,null,26.95,null,0,null,null,null,null,null,0,0,0,0,0,0,0,0,"Fall 2018",null,2019,null,"636.1/12",null,null,null,null,null,null,null,null,null,"30",null,"Amicus High Interest",null,2.2999999999999998,null,"Animals & Nature",null,"English",null,"Reinforced Library",null,24,null,"I",null,"440L",null,"K - 3",null,"Cari Meister"]
[{"$f":"A541","v":0},null,{"$f":"C541","v":0},null,{"$f":"E541","v":0},null,9781681515076,null,9781681514253,null,"Clydesdale Horses",null,null,null,"Favorite Horse Breeds",null,null,null,"Amicus",null,44.85,null,21.95,null,26.95,null,0,null,null,null,null,null,0,0,0,0,0,0,0,0,"Fall 2018",null,2019,null,"636.1/5",null,null,null,null,null,null,null,null,null,"30",null,"Amicus High Interest",null,2.1,null,"Animals & Nature",null,"English",null,"Reinforced Library",null,24,null,"I",null,"430L",null,"K - 3",null,"Cari Meister"]
[{"$f":"A541","v":0},null,{"$f":"C541","v":0},null,{"$f":"E541","v":0},null,9781681515083,null,9781681514260,null,"Morgan Horses",null,null,null,"Favorite Horse Breeds",null,null,null,"Amicus",null,44.85,null,21.95,null,26.95,null,0,null,null,null,null,null,0,0,0,0,0,0,0,0,"Fall 2018",null,2019,null,"636.1/77",null,null,null,null,null,null,null,null,null,"30",null,"Amicus High Interest",null,2.4,null,"Animals & Nature",null,"English",null,"Reinforced Library",null,24,null,"I",null,"490L",null,"K - 3",null,"Cari Meister"]
[{"$f":"A541","v":0},null,{"$f":"C541","v":0},null,{"$f":"E541","v":0},null,9781681515090,null,9781681514277,null,"Thoroughbred Horses",null,null,null,"Favorite Horse Breeds",null,null,null,"Amicus",null,44.85,null,21.95,null,26.95,null,0,null,null,null,null,null,0,0,0,0,0,0,0,0,"Fall 2018",null,2019,null,"636.1/32",null,null,null,null,null,null,null,null,null,"30",null,"Amicus High Interest",null,2,null,"Animals & Nature",null,"English",null,"Reinforced Library",null,24,null,"I",null,"450L",null,"K - 3",null,"Cari Meister"]
[]
[null,null,null,null,null,null,null,null,null,null,"Complete Series of 8",null,null,null,"North American Animals",null,null,null,null,null,{"$f":"SUM(U552:U559)","v":358.80000000000007},null,{"$f":"SUM(W552:W559)","v":175.59999999999997},null,{"$f":"SUM(Y552:Y559)","v":215.59999999999997}]
[{"$f":"A551","v":0},null,{"$f":"C551","v":0},null,{"$f":"E551","v":0},null,9781681514949,null,9781681514123,null,"American Bison",null,null,null,"North American Animals",null,null,null,"Amicus",null,44.85,null,21.95,null,{"$f":"W552+5","v":26.95},null,{"$f":"IF(AC552=FALSE,AK552+AL552+AM552,0)","v":0},null,null,null,null,null,0,0,0,0,0,0,0,0,"Fall 2018",null,2019,null,"599.64/3",null,null,null,null,null,null,null,null,null,"30",null,"Amicus High Interest",null,2.7,null,"Animals & Nature",null,"English",null,"Reinforced Library",null,24,null,"I",null,"510L",null,"K - 3",null,"Jill Sherman"]
[{"$f":"A551","v":0},null,{"$f":"C551","v":0},null,{"$f":"E551","v":0},null,9781681514956,null,9781681514130,null,"Armadillos",null,null,null,"North American Animals",null,null,null,"Amicus",null,44.85,null,21.95,null,26.95,null,0,null,null,null,null,null,0,0,0,0,0,0,0,0,"Fall 2018",null,2019,null,"599.3/12",null,null,null,null,null,null,null,null,null,"30",null,"Amicus High Interest",null,2.6,null,"Animals & Nature",null,"English",null,"Reinforced Library",null,24,null,"I",null,"500L",null,"K - 3",null,"Jill Sherman"]
[{"$f":"A551","v":0},null,{"$f":"C551","v":0},null,{"$f":"E551","v":0},null,9781681514963,null,9781681514147,null,"Bald Eagles",null,null,null,"North American Animals",null,null,null,"Amicus",null,44.85,null,21.95,null,26.95,null,0,null,null,null,null,null,0,0,0,0,0,0,0,0,"Fall 2018",null,2019,null,"598.9/43",null,null,null,null,null,null,null,null,null,"30",null,"Amicus High Interest",null,2.4,null,"Animals & Nature",null,"English",null,"Reinforced Library",null,24,null,"I",null,"470L",null,"K - 3",null,"Rachel Grack"]
[{"$f":"A551","v":0},null,{"$f":"C551","v":0},null,{"$f":"E551","v":0},null,9781681514970,null,9781681514154,null,"Bighorn Sheep",null,null,null,"North American Animals",null,null,null,"Amicus",null,44.85,null,21.95,null,26.95,null,0,null,null,null,null,null,0,0,0,0,0,0,0,0,"Fall 2018",null,2019,null,599.649,null,null,null,null,null,null,null,null,null,"30",null,"Amicus High Interest",null,2.5,null,"Animals & Nature",null,"English",null,"Reinforced Library",null,24,null,"I",null,"470L",null,"K - 3",null,"Jill Sherman"]
[{"$f":"A551","v":0},null,{"$f":"C551","v":0},null,{"$f":"E551","v":0},null,9781681514987,null,9781681514161,null,"Caribou",null,null,null,"North American Animals",null,null,null,"Amicus",null,44.85,null,21.95,null,26.95,null,0,null,null,null,null,null,0,0,0,0,0,0,0,0,"Fall 2018",null,2019,null,"599.65/8",null,null,null,null,null,null,null,null,null,"30",null,"Amicus High Interest",null,2.7,null,"Animals & Nature",null,"English",null,"Reinforced Library",null,24,null,"I",null,"460L",null,"K - 3",null,"Rachel Grack"]
[{"$f":"A551","v":0},null,{"$f":"C551","v":0},null,{"$f":"E551","v":0},null,9781681514994,null,9781681514178,null,"Mountain Lions",null,null,null,"North American Animals",null,null,null,"Amicus",null,44.85,null,21.95,null,26.95,null,0,null,null,null,null,null,0,0,0,0,0,0,0,0,"Fall 2018",null,2019,null,"599.75/24",null,null,null,null,null,null,null,null,null,"30",null,"Amicus High Interest",null,2.6,null,"Animals & Nature",null,"English",null,"Reinforced Library",null,24,null,"I",null,"470L",null,"K - 3",null,"Rachel Grack"]
[{"$f":"A551","v":0},null,{"$f":"C551","v":0},null,{"$f":"E551","v":0},null,9781681515007,null,9781681514185,null,"Porcupines",null,null,null,"North American Animals",null,null,null,"Amicus",null,44.85,null,21.95,null,26.95,null,0,null,null,null,null,null,0,0,0,0,0,0,0,0,"Fall 2018",null,2019,null,"599.35/974",null,null,null,null,null,null,null,null,null,"30",null,"Amicus High Interest",null,2.5,null,"Animals & Nature",null,"English",null,"Reinforced Library",null,24,null,"I",null,"490L",null,"K - 3",null,"Jill Sherman"]
[{"$f":"A551","v":0},null,{"$f":"C551","v":0},null,{"$f":"E551","v":0},null,9781681515014,null,9781681514192,null,"Wolves",null,null,null,"North American Animals",null,null,null,"Amicus",null,44.85,null,21.95,null,26.95,null,0,null,null,null,null,null,0,0,0,0,0,0,0,0,"Fall 2018",null,2019,null,599.77300000000002,null,null,null,null,null,null,null,null,null,"30",null,"Amicus High Interest",null,2.5,null,"Animals & Nature",null,"English",null,"Reinforced Library",null,24,null,"I",null,"470L",null,"K - 3",null,"Rachel Grack"]
[]
[null,null,null,null,null,null,null,null,null,null,"Complete Series of 10",null,null,null,"Pro Sports Superstars '18 —NFL",null,null,null,null,null,{"$f":"SUM(U562:U571)","v":448.50000000000011},null,{"$f":"SUM(W562:W571)","v":219.49999999999994},null,{"$f":"SUM(Y562:Y571)","v":269.49999999999994}]
[{"$f":"A561","v":0},null,{"$f":"C561","v":0},null,{"$f":"E561","v":0},null,9781681514840,null,9781681514024,null,"Superstars of the Chicago Bears",null,null,null,"Pro Sports Superstars '18 —NFL",null,null,null,"Amicus",null,44.85,null,21.95,null,{"$f":"W562+5","v":26.95},null,{"$f":"IF(AC562=FALSE,AK562+AL562+AM562,0)","v":0},null,null,null,null,null,0,0,0,0,0,0,0,0,"Fall 2018",null,2019,null,"796.332/640977311",null,null,null,null,null,null,null,null,null,"28",null,"Amicus High Interest",null,2.2999999999999998,null,"Sports & Recreation",null,"English",null,"Reinforced Library",null,24,null,"I",null,"520L",null,"K - 3",null,"M. K. Osborne"]
[{"$f":"A561","v":0},null,{"$f":"C561","v":0},null,{"$f":"E561","v":0},null,9781681514857,null,9781681514031,null,"Superstars of the Dallas Cowboys",null,null,null,"Pro Sports Superstars '18 —NFL",null,null,null,"Amicus",null,44.85,null,21.95,null,26.95,null,0,null,null,null,null,null,0,0,0,0,0,0,0,0,"Fall 2018",null,2019,null,"796.332/64097642812",null,null,null,null,null,null,null,null,null,"28",null,"Amicus High Interest",null,2.6,null,"Sports & Recreation",null,"English",null,"Reinforced Library",null,24,null,"I",null,"490L",null,"K - 3",null,"M. K. Osborne"]
[{"$f":"A561","v":0},null,{"$f":"C561","v":0},null,{"$f":"E561","v":0},null,9781681514864,null,9781681514048,null,"Superstars of the Denver Broncos",null,null,null,"Pro Sports Superstars '18 —NFL",null,null,null,"Amicus",null,44.85,null,21.95,null,26.95,null,0,null,null,null,null,null,0,0,0,0,0,0,0,0,"Fall 2018",null,2019,null,"796.332/640978883",null,null,null,null,null,null,null,null,null,"28",null,"Amicus High Interest",null,2.6,null,"Sports & Recreation",null,"English",null,"Reinforced Library",null,24,null,"I",null,"490L",null,"K - 3",null,"M. K. Osborne"]
[{"$f":"A561","v":0},null,{"$f":"C561","v":0},null,{"$f":"E561","v":0},null,9781681514871,null,9781681514055,null,"Superstars of the Green Bay Packers",null,null,null,"Pro Sports Superstars '18 —NFL",null,null,null,"Amicus",null,44.85,null,21.95,null,26.95,null,0,null,null,null,null,null,0,0,0,0,0,0,0,0,"Fall 2018",null,2019,null,"796.332/640977561",null,null,null,null,null,null,null,null,null,"28",null,"Amicus High Interest",null,2.2999999999999998,null,"Sports & Recreation",null,"English",null,"Reinforced Library",null,24,null,"I",null,"460L",null,"K - 3",null,"M. K. Osborne"]
[{"$f":"A561","v":0},null,{"$f":"C561","v":0},null,{"$f":"E561","v":0},null,9781681514888,null,9781681514062,null,"Superstars of the Houston Texans",null,null,null,"Pro Sports Superstars '18 —NFL",null,null,null,"Amicus",null,44.85,null,21.95,null,26.95,null,0,null,null,null,null,null,0,0,0,0,0,0,0,0,"Fall 2018",null,2019,null,"796.332/64097471",null,null,null,null,null,null,null,null,null,"28",null,"Amicus High Interest",null,2.5,null,"Sports & Recreation",null,"English",null,"Reinforced Library",null,24,null,"I",null,"550L",null,"K - 3",null,"Allan Morey"]
[{"$f":"A561","v":0},null,{"$f":"C561","v":0},null,{"$f":"E561","v":0},null,9781681514895,null,9781681514079,null,"Superstars of the Indianapolis Colts",null,null,null,"Pro Sports Superstars '18 —NFL",null,null,null,"Amicus",null,44.85,null,21.95,null,26.95,null,0,null,null,null,null,null,0,0,0,0,0,0,0,0,"Fall 2018",null,2019,null,"796.332/640977252",null,null,null,null,null,null,null,null,null,"28",null,"Amicus High Interest",null,2.4,null,"Sports & Recreation",null,"English",null,"Reinforced Library",null,24,null,"I",null,"490L",null,"K - 3",null,"M. K. Osborne"]
[{"$f":"A561","v":0},null,{"$f":"C561","v":0},null,{"$f":"E561","v":0},null,9781681514901,null,9781681514086,null,"Superstars of the New England Patriots",null,null,null,"Pro Sports Superstars '18 —NFL",null,null,null,"Amicus",null,44.85,null,21.95,null,26.95,null,0,null,null,null,null,null,0,0,0,0,0,0,0,0,"Fall 2018",null,2019,null,"796.332/640974461",null,null,null,null,null,null,null,null,null,"28",null,"Amicus High Interest",null,2.5,null,"Sports & Recreation",null,"English",null,"Reinforced Library",null,24,null,"I",null,"500L",null,"K - 3",null,"M. K. Osborne"]
[{"$f":"A561","v":0},null,{"$f":"C561","v":0},null,{"$f":"E561","v":0},null,9781681514918,null,9781681514093,null,"Superstars of the New York Giants",null,null,null,"Pro Sports Superstars '18 —NFL",null,null,null,"Amicus",null,44.85,null,21.95,null,26.95,null,0,null,null,null,null,null,0,0,0,0,0,0,0,0,"Fall 2018",null,2019,null,"796.332/64097471",null,null,null,null,null,null,null,null,null,"28",null,"Amicus High Interest",null,2.6,null,"Sports & Recreation",null,"English",null,"Reinforced Library",null,24,null,"I",null,"530L",null,"K - 3",null,"M. K. Osborne"]
[{"$f":"A561","v":0},null,{"$f":"C561","v":0},null,{"$f":"E561","v":0},null,9781681514925,null,9781681514109,null,"Superstars of the Pittsburgh Steelers",null,null,null,"Pro Sports Superstars '18 —NFL",null,null,null,"Amicus",null,44.85,null,21.95,null,26.95,null,0,null,null,null,null,null,0,0,0,0,0,0,0,0,"Fall 2018",null,2019,null,"796.332/640974886",null,null,null,null,null,null,null,null,null,"28",null,"Amicus High Interest",null,2.4,null,"Sports & Recreation",null,"English",null,"Reinforced Library",null,24,null,"I",null,"450L",null,"K - 3",null,"M. K. Osborne"]
[{"$f":"A561","v":0},null,{"$f":"C561","v":0},null,{"$f":"E561","v":0},null,9781681514932,null,9781681514116,null,"Superstars of the Seattle Seahawks",null,null,null,"Pro Sports Superstars '18 —NFL",null,null,null,"Amicus",null,44.85,null,21.95,null,26.95,null,0,null,null,null,null,null,0,0,0,0,0,0,0,0,"Fall 2018",null,2019,null,"796.332/6409797772",null,null,null,null,null,null,null,null,null,"28",null,"Amicus High Interest",null,2.5,null,"Sports & Recreation",null,"English",null,"Reinforced Library",null,24,null,"I",null,"570L",null,"K - 3",null,"Allan Morey"]
[]
[null,null,null,null,null,null,null,null,null,null,"Complete Series of 8",null,null,null,"Razas de caballos favoritos (Favorite Horse Breeds)",null,null,null,null,null,{"$f":"SUM(U574:U581)","v":0},null,{"$f":"SUM(W574:W581)","v":175.59999999999997},null,{"$f":"SUM(Y574:Y581)","v":0}]
[null,null,{"$f":"C573","v":0},null,null,null,"Not Available",null,9781681516134,null,"Caballos appaloosa (Appaloosa Horses)",null,null,null,"Razas de caballos favoritos (Favorite Horse Breeds)",null,null,null,"Amicus",null,0,null,21.95,null,0,null,{"$f":"IF(AC574=FALSE,AK574+AL574+AM574,0)","v":0},null,null,null,null,null,0,0,0,0,0,0,0,0,"Fall 2018",null,2019,null,"636.1/3",null,null,null,null,null,null,null,null,null,"50",null,"Amicus High Interest ",null,2.1,null,"Animals & Nature",null,"Spanish",null,"Reinforced Library",null,24,null,null,null,null,null,"K - 3",null,"Cari Meister"]
[null,null,{"$f":"C573","v":0},null,null,null,"Not Available",null,9781681516141,null,"Caballos árabes (Arabian Horses)",null,null,null,"Razas de caballos favoritos (Favorite Horse Breeds)",null,null,null,"Amicus",null,0,null,21.95,null,0,null,0,null,null,null,null,null,0,0,0,0,0,0,0,0,"Fall 2018",null,2019,null,"636.1/12",null,null,null,null,null,null,null,null,null,"50",null,"Amicus High Interest ",null,2.4,null,"Animals & Nature",null,"Spanish",null,"Reinforced Library",null,24,null,null,null,null,null,"K - 3",null,"Cari Meister"]
[null,null,{"$f":"C573","v":0},null,null,null,"Not Available",null,9781681516158,null,"Caballos Clydesdale (Clydesdale Horses)",null,null,null,"Razas de caballos favoritos (Favorite Horse Breeds)",null,null,null,"Amicus",null,0,null,21.95,null,0,null,0,null,null,null,null,null,0,0,0,0,0,0,0,0,"Fall 2018",null,2019,null,"636.1/5",null,null,null,null,null,null,null,null,null,"50",null,"Amicus High Interest ",null,2,null,"Animals & Nature",null,"Spanish",null,"Reinforced Library",null,24,null,null,null,null,null,"K - 3",null,"Cari Meister"]
[null,null,{"$f":"C573","v":0},null,null,null,"Not Available",null,9781681516110,null,"Caballos cuarto de milla americanos (American Quarter Horse)",null,null,null,"Razas de caballos favoritos (Favorite Horse Breeds)",null,null,null,"Amicus",null,0,null,21.95,null,0,null,0,null,null,null,null,null,0,0,0,0,0,0,0,0,"Fall 2018",null,2019,null,"636.1/33",null,null,null,null,null,null,null,null,null,"50",null,"Amicus High Interest ",null,2.6,null,"Animals & Nature",null,"Spanish",null,"Reinforced Library",null,24,null,null,null,null,null,"K - 3",null,"Cari Meister"]
[null,null,{"$f":"C573","v":0},null,null,null,"Not Available",null,9781681516165,null,"Caballos Morgan (Morgan Horses)",null,null,null,"Razas de caballos favoritos (Favorite Horse Breeds)",null,null,null,"Amicus",null,0,null,21.95,null,0,null,0,null,null,null,null,null,0,0,0,0,0,0,0,0,"Fall 2018",null,2019,null,"636.1/77",null,null,null,null,null,null,null,null,null,"50",null,"Amicus High Interest ",null,2.5,null,"Animals & Nature",null,"Spanish",null,"Reinforced Library",null,24,null,null,null,null,null,"K - 3",null,"Cari Meister"]
[null,null,{"$f":"C573","v":0},null,null,null,"Not Available",null,9781681516103,null,"Caballos paint americanos (American Paint Horse)",null,null,null,"Razas de caballos favoritos (Favorite Horse Breeds)",null,null,null,"Amicus",null,0,null,21.95,null,0,null,0,null,null,null,null,null,0,0,0,0,0,0,0,0,"Fall 2018",null,2019,null,"636.1/3",null,null,null,null,null,null,null,null,null,"50",null,"Amicus High Interest ",null,2.6,null,"Animals & Nature",null,"Spanish",null,"Reinforced Library",null,24,null,null,null,null,null,"K - 3",null,"Cari Meister"]
[null,null,{"$f":"C573","v":0},null,null,null,"Not Available",null,9781681516172,null,"Caballos pura sangre (Thoroughbred Horses)",null,null,null,"Razas de caballos favoritos (Favorite Horse Breeds)",null,null,null,"Amicus",null,0,null,21.95,null,0,null,0,null,null,null,null,null,0,0,0,0,0,0,0,0,"Fall 2018",null,2019,null,"636.1/32",null,null,null,null,null,null,null,null,null,"50",null,"Amicus High Interest ",null,2.2999999999999998,null,"Animals & Nature",null,"Spanish",null,"Reinforced Library",null,24,null,null,null,null,null,"K - 3",null,"Cari Meister"]
[null,null,{"$f":"C573","v":0},null,null,null,"Not Available",null,9781681516127,null,"Caballos silla americanos (American Saddlebred Horse)",null,null,null,"Razas de caballos favoritos (Favorite Horse Breeds)",null,null,null,"Amicus",null,0,null,21.95,null,0,null,0,null,null,null,null,null,0,0,0,0,0,0,0,0,"Fall 2018",null,2019,null,"636.1/3",null,null,null,null,null,null,null,null,null,"50",null,"Amicus High Interest ",null,2.5,null,"Animals & Nature",null,"Spanish",null,"Reinforced Library",null,24,null,null,null,null,null,"K - 3",null,"Cari Meister"]
[]
[null,null,null,null,null,null,null,null,null,null,"Complete Series of 6",null,null,null,"Sequence Discovering Dinosaurs",null,null,null,null,null,{"$f":"SUM(U584:U589)","v":294},null,{"$f":"SUM(W584:W589)","v":143.69999999999999},null,{"$f":"SUM(Y584:Y589)","v":173.7}]
[{"$f":"A583","v":0},null,{"$f":"C583","v":0},null,{"$f":"E583","v":0},null,9781681515168,null,9781681514345,null,"Discovering Apatosaurus",null,null,null,"Sequence Discovering Dinosaurs",null,null,null,"Amicus",null,49,null,23.95,null,{"$f":"W584+5","v":28.95},null,{"$f":"IF(AC584=FALSE,AK584+AL584+AM584,0)","v":0},null,null,null,null,null,0,0,0,0,0,0,0,0,"Fall 2018",null,2019,null,"567.913/8",null,null,null,null,null,null,null,null,null,"45",null,"Amicus High Interest",null,3.5,null,"Animals & Nature",null,"English",null,"Reinforced Library",null,32,null,"M",null,"510L",null,"2 – 5",null,"Kathy Frost"]
[{"$f":"A583","v":0},null,{"$f":"C583","v":0},null,{"$f":"E583","v":0},null,9781681515175,null,9781681514352,null,"Discovering Pterosaurs",null,null,null,"Sequence Discovering Dinosaurs",null,null,null,"Amicus",null,49,null,23.95,null,28.95,null,0,null,null,null,null,null,0,0,0,0,0,0,0,0,"Fall 2018",null,2019,null,567.91800000000001,null,null,null,null,null,null,null,null,null,"45",null,"Amicus High Interest",null,3.6,null,"Animals & Nature",null,"English",null,"Reinforced Library",null,32,null,"M",null,"550L",null,"2 – 5",null,"Kathy Frost"]
[{"$f":"A583","v":0},null,{"$f":"C583","v":0},null,{"$f":"E583","v":0},null,9781681515182,null,9781681514369,null,"Discovering Stegosaurus",null,null,null,"Sequence Discovering Dinosaurs",null,null,null,"Amicus",null,49,null,23.95,null,28.95,null,0,null,null,null,null,null,0,0,0,0,0,0,0,0,"Fall 2018",null,2019,null,"567.915/3",null,null,null,null,null,null,null,null,null,"45",null,"Amicus High Interest",null,3.6,null,"Animals & Nature",null,"English",null,"Reinforced Library",null,32,null,"M",null,"530L",null,"2 – 5",null,"Laura Hamilton Waxman"]
[{"$f":"A583","v":0},null,{"$f":"C583","v":0},null,{"$f":"E583","v":0},null,9781681515199,null,9781681514376,null,"Discovering Triceratops",null,null,null,"Sequence Discovering Dinosaurs",null,null,null,"Amicus",null,49,null,23.95,null,28.95,null,0,null,null,null,null,null,0,0,0,0,0,0,0,0,"Fall 2018",null,2019,null,"567.915/8",null,null,null,null,null,null,null,null,null,"45",null,"Amicus High Interest",null,3.7,null,"Animals & Nature",null,"English",null,"Reinforced Library",null,32,null,"M",null,"580L",null,"2 – 5",null,"Laura Hamilton Waxman"]
[{"$f":"A583","v":0},null,{"$f":"C583","v":0},null,{"$f":"E583","v":0},null,9781681515205,null,9781681514383,null,"Discovering Tyrannosaurus Rex",null,null,null,"Sequence Discovering Dinosaurs",null,null,null,"Amicus",null,49,null,23.95,null,28.95,null,0,null,null,null,null,null,0,0,0,0,0,0,0,0,"Fall 2018",null,2019,null,"567.912/9",null,null,null,null,null,null,null,null,null,"45",null,"Amicus High Interest",null,3.5,null,"Animals & Nature",null,"English",null,"Reinforced Library",null,32,null,"M",null,"520L",null,"2 – 5",null,"Laura Hamilton Waxman"]
[{"$f":"A583","v":0},null,{"$f":"C583","v":0},null,{"$f":"E583","v":0},null,9781681515212,null,9781681514390,null,"Discovering Velociraptor",null,null,null,"Sequence Discovering Dinosaurs",null,null,null,"Amicus",null,49,null,23.95,null,28.95,null,0,null,null,null,null,null,0,0,0,0,0,0,0,0,"Fall 2018",null,2019,null,567.91200000000003,null,null,null,null,null,null,null,null,null,"45",null,"Amicus High Interest",null,3.7,null,"Animals & Nature",null,"English",null,"Reinforced Library",null,32,null,"M",null,"520L",null,"2 – 5",null,"Rachel Grack"]
[]
[null,null,null,null,null,null,null,null,null,null,"Complete Series of 6",null,null,null,"Sequence Entertainment",null,null,null,null,null,{"$f":"SUM(U592:U597)","v":294},null,{"$f":"SUM(W592:W597)","v":143.69999999999999},null,{"$f":"SUM(Y592:Y597)","v":173.7}]
[{"$f":"A591","v":0},null,{"$f":"C591","v":0},null,{"$f":"E591","v":0},null,9781681515229,null,9781681514406,null,"Making a Book",null,null,null,"Sequence Entertainment",null,null,null,"Amicus",null,49,null,23.95,null,{"$f":"W592+5","v":28.95},null,{"$f":"IF(AC592=FALSE,AK592+AL592+AM592,0)","v":0},null,null,null,null,null,{"$f":"A592","v":0},{"$f":"C592","v":0},{"$f":"E592","v":0},{"$f":"SUM(AG592:AI592)","v":0},{"$f":"U592*A592","v":0},{"$f":"W592*C592","v":0},{"$f":"Y592*E592","v":0},{"$f":"SUM(AK592:AM592)","v":0},"Fall 2018",null,2019,null,null,null,null,null,null,null,null,null,null,null,"45",null,"Amicus High Interest",null,null,null,"Arts, Crafts, & Activities",null,"English",null,"Reinforced Library",null,32,null,"M",null,"520L",null,"2 – 5",null,"Nadia Higgins"]
[{"$f":"A591","v":0},null,{"$f":"C591","v":0},null,{"$f":"E591","v":0},null,9781681515236,null,9781681514413,null,"Making a Movie",null,null,null,"Sequence Entertainment",null,null,null,"Amicus",null,49,null,23.95,null,28.95,null,0,null,null,null,null,null,0,0,0,0,0,0,0,0,"Fall 2018",null,2019,null,777,null,null,null,null,null,null,null,null,null,"45",null,"Amicus High Interest",null,null,null,"Arts, Crafts, & Activities",null,"English",null,"Reinforced Library",null,32,null,"M",null,"480L",null,"2 – 5",null,"Nadia Higgins"]
[{"$f":"A591","v":0},null,{"$f":"C591","v":0},null,{"$f":"E591","v":0},null,9781681515243,null,9781681514420,null,"Making a Podcast",null,null,null,"Sequence Entertainment",null,null,null,"Amicus",null,49,null,23.95,null,28.95,null,0,null,null,null,null,null,0,0,0,0,0,0,0,0,"Fall 2018",null,2019,null,"006.7/876",null,null,null,null,null,null,null,null,null,"45",null,"Amicus High Interest",null,null,null,"Arts, Crafts, & Activities",null,"English",null,"Reinforced Library",null,32,null,"M",null,"530L",null,"2 – 5",null,"Nadia Higgins"]
[{"$f":"A591","v":0},null,{"$f":"C591","v":0},null,{"$f":"E591","v":0},null,9781681515250,null,9781681514437,null,"Making a TV Show",null,null,null,"Sequence Entertainment",null,null,null,"Amicus",null,49,null,23.95,null,28.95,null,0,null,null,null,null,null,0,0,0,0,0,0,0,0,"Fall 2018",null,2019,null,"791.4502/32",null,null,null,null,null,null,null,null,null,"45",null,"Amicus High Interest",null,null,null,"Arts, Crafts, & Activities",null,"English",null,"Reinforced Library",null,32,null,"M",null,"480L",null,"2 – 5",null,"Nadia Higgins"]
[{"$f":"A591","v":0},null,{"$f":"C591","v":0},null,{"$f":"E591","v":0},null,9781681515267,null,9781681514444,null,"Making a Video Game",null,null,null,"Sequence Entertainment",null,null,null,"Amicus",null,49,null,23.95,null,28.95,null,0,null,null,null,null,null,0,0,0,0,0,0,0,0,"Fall 2018",null,2019,null,"794.8/1536",null,null,null,null,null,null,null,null,null,"45",null,"Amicus High Interest",null,null,null,"Arts, Crafts, & Activities",null,"English",null,"Reinforced Library",null,32,null,"M",null,"500L",null,"2 – 5",null,"Nadia Higgins"]
[{"$f":"A591","v":0},null,{"$f":"C591","v":0},null,{"$f":"E591","v":0},null,9781681515274,null,9781681514451,null,"Making an App",null,null,null,"Sequence Entertainment",null,null,null,"Amicus",null,49,null,23.95,null,28.95,null,0,null,null,null,null,null,0,0,0,0,0,0,0,0,"Fall 2018",null,2019,null,5.3,null,null,null,null,null,null,null,null,null,"45",null,"Amicus High Interest",null,null,null,"Arts, Crafts, & Activities",null,"English",null,"Reinforced Library",null,32,null,"M",null,"450L",null,"2 – 5",null,"Nadia Higgins"]
[]
[null,null,null,null,null,null,null,null,null,null,"Complete Series of 8",null,null,null,"Spot Pets",null,null,null,null,null,{"$f":"SUM(U600:U607)","v":326.40000000000003},null,{"$f":"SUM(W600:W607)","v":159.6},null,{"$f":"SUM(Y600:Y607)","v":199.59999999999997}]
[{"$f":"A599","v":0},null,{"$f":"C599","v":0},null,{"$f":"E599","v":0},null,9781681514468,null,9781681513645,null,"Birds",null,null,null,"Spot Pets",null,null,null,"Amicus",null,40.799999999999997,null,19.95,null,{"$f":"W600+5","v":24.95},null,{"$f":"IF(AC600=FALSE,AK600+AL600+AM600,0)","v":0},null,null,null,null,null,0,0,0,0,0,0,0,0,"Fall 2018",null,2019,null,"636.6/8",null,null,null,null,null,null,null,null,null,"22",null,"Spot",null,0.9,null,"Animals & Nature",null,"English",null,"Reinforced Library",null,16,null,"C",null,"260L",null,"PreK - 3",null,"Mari Schuh"]
[{"$f":"A599","v":0},null,{"$f":"C599","v":0},null,{"$f":"E599","v":0},null,9781681514475,null,9781681513652,null,"Cats",null,null,null,"Spot Pets",null,null,null,"Amicus",null,40.799999999999997,null,19.95,null,24.95,null,0,null,null,null,null,null,0,0,0,0,0,0,0,0,"Fall 2018",null,2019,null,636.79999999999995,null,null,null,null,null,null,null,null,null,"22",null,"Spot",null,0.8,null,"Animals & Nature",null,"English",null,"Reinforced Library",null,16,null,"C",null,"250L",null,"PreK - 3",null,"Mari Schuh"]
[{"$f":"A599","v":0},null,{"$f":"C599","v":0},null,{"$f":"E599","v":0},null,9781681514482,null,9781681513669,null,"Dogs",null,null,null,"Spot Pets",null,null,null,"Amicus",null,40.799999999999997,null,19.95,null,24.95,null,0,null,null,null,null,null,0,0,0,0,0,0,0,0,"Fall 2018",null,2019,null,636.70000000000005,null,null,null,null,null,null,null,null,null,"22",null,"Spot",null,0.8,null,"Animals & Nature",null,"English",null,"Reinforced Library",null,16,null,"C",null,"250L",null,"PreK - 3",null,"Mari Schuh"]
[{"$f":"A599","v":0},null,{"$f":"C599","v":0},null,{"$f":"E599","v":0},null,9781681514499,null,9781681513676,null,"Fish",null,null,null,"Spot Pets",null,null,null,"Amicus",null,40.799999999999997,null,19.95,null,24.95,null,0,null,null,null,null,null,0,0,0,0,0,0,0,0,"Fall 2018",null,2019,null,639.34,null,null,null,null,null,null,null,null,null,"22",null,"Spot",null,1,null,"Animals & Nature",null,"English",null,"Reinforced Library",null,16,null,"C",null,"310L",null,"PreK - 3",null,"Mari Schuh"]
[{"$f":"A599","v":0},null,{"$f":"C599","v":0},null,{"$f":"E599","v":0},null,9781681514505,null,9781681513683,null,"Guinea Pigs",null,null,null,"Spot Pets",null,null,null,"Amicus",null,40.799999999999997,null,19.95,null,24.95,null,0,null,null,null,null,null,0,0,0,0,0,0,0,0,"Fall 2018",null,2019,null,"636.935/92",null,null,null,null,null,null,null,null,null,"22",null,"Spot",null,1,null,"Animals & Nature",null,"English",null,"Reinforced Library",null,16,null,"C",null,"310L",null,"PreK - 3",null,"Mari Schuh"]
[{"$f":"A599","v":0},null,{"$f":"C599","v":0},null,{"$f":"E599","v":0},null,9781681514512,null,9781681513690,null,"Hamsters",null,null,null,"Spot Pets",null,null,null,"Amicus",null,40.799999999999997,null,19.95,null,24.95,null,0,null,null,null,null,null,0,0,0,0,0,0,0,0,"Fall 2018",null,2019,null,"636.935/6",null,null,null,null,null,null,null,null,null,"22",null,"Spot",null,0.9,null,"Animals & Nature",null,"English",null,"Reinforced Library",null,16,null,"C",null,"330L",null,"PreK - 3",null,"Mari Schuh"]
[{"$f":"A599","v":0},null,{"$f":"C599","v":0},null,{"$f":"E599","v":0},null,9781681514529,null,9781681513706,null,"Rabbits",null,null,null,"Spot Pets",null,null,null,"Amicus",null,40.799999999999997,null,19.95,null,24.95,null,0,null,null,null,null,null,0,0,0,0,0,0,0,0,"Fall 2018",null,2019,null,"636.932/2",null,null,null,null,null,null,null,null,null,"22",null,"Spot",null,0.8,null,"Animals & Nature",null,"English",null,"Reinforced Library",null,16,null,"C",null,"230L",null,"PreK - 3",null,"Mari Schuh"]
[{"$f":"A599","v":0},null,{"$f":"C599","v":0},null,{"$f":"E599","v":0},null,9781681514536,null,9781681513713,null,"Turtles",null,null,null,"Spot Pets",null,null,null,"Amicus",null,40.799999999999997,null,19.95,null,24.95,null,0,null,null,null,null,null,0,0,0,0,0,0,0,0,"Fall 2018",null,2019,null,"639.3/92",null,null,null,null,null,null,null,null,null,"22",null,"Spot",null,1,null,"Animals & Nature",null,"English",null,"Reinforced Library",null,16,null,"C",null,"280L",null,"PreK - 3",null,"Mari Schuh"]
[]
[null,null,null,null,null,null,null,null,null,null,"Complete Series of 12",null,null,null,"When I Grow Up",null,null,null,null,null,{"$f":"SUM(U610:U621)","v":269.10000000000002},null,{"$f":"SUM(W610:W621)","v":263.39999999999992},null,{"$f":"SUM(Y610:Y621)","v":161.69999999999999}]
[{"$f":"A609","v":0},null,{"$f":"C609","v":0},null,{"$f":"E609","v":0},null,9781681514789,null,9781681513966,null,"I'll Be a Carpenter",null,null,null,"When I Grow Up",null,null,null,"Amicus",null,44.85,null,21.95,null,{"$f":"W610+5","v":26.95},null,{"$f":"IF(AC610=FALSE,AK610+AL610+AM610,0)","v":0},null,null,null,null,null,0,0,0,0,0,0,0,0,"Fall 2018",null,2019,null,694.02300000000002,null,null,null,null,null,null,null,null,null,"42",null,"Amicus Illustrated",null,2.9,null,"Careers",null,"English",null,"Reinforced Library",null,24,null,"I",null,"620L",null,"K - 3",null,"Connie Colwell Miller"]
[null,null,{"$f":"C609","v":0},null,null,null,"Not Available",null,9781607537595,null,"I'll Be a Chef",null,null,null,"When I Grow Up",null,null,null,"Amicus",null,0,null,21.95,null,0,null,0,null,null,null,null,null,0,0,0,0,0,0,0,0,"Fall 2016",null,2017,null,641.50229999999999,null,null,null,null,null,null,null,null,null,"42",null,"Amicus Illustrated",null,2.6,null,"Careers",null,"English",null,"Reinforced Library",null,24,null,"I",null,"540L",null,"K - 3",null,"Connie Colwell Miller"]
[null,null,{"$f":"C609","v":0},null,null,null,"Not Available",null,9781607537601,null,"I'll Be a Doctor",null,null,null,"When I Grow Up",null,null,null,"Amicus",null,0,null,21.95,null,0,null,0,null,null,null,null,null,0,0,0,0,0,0,0,0,"Fall 2016",null,2017,null,"610.69/5",null,null,null,null,null,null,null,null,null,"42",null,"Amicus Illustrated",null,2.8,null,"Careers",null,"English",null,"Reinforced Library",null,24,null,"I",null,"580L",null,"K - 3",null,"Connie Colwell Miller"]
[null,null,{"$f":"C609","v":0},null,null,null,"Not Available",null,9781607537618,null,"I'll Be a Firefighter",null,null,null,"When I Grow Up",null,null,null,"Amicus",null,0,null,21.95,null,0,null,0,null,null,null,null,null,0,0,0,0,0,0,0,0,"Fall 2016",null,2017,null,"628.9/25023",null,null,null,null,null,null,null,null,null,"42",null,"Amicus Illustrated",null,2.2000000000000002,null,"Careers",null,"English",null,"Reinforced Library",null,24,null,"I",null,"520L",null,"K - 3",null,"Connie Colwell Miller"]
[{"$f":"A609","v":0},null,{"$f":"C609","v":0},null,{"$f":"E609","v":0},null,9781681514796,null,9781681513973,null,"I'll Be a Librarian",null,null,null,"When I Grow Up",null,null,null,"Amicus",null,44.85,null,21.95,null,{"$f":"W614+5","v":26.95},null,0,null,null,null,null,null,0,0,0,0,0,0,0,0,"Fall 2018",null,2019,null,20.23,null,null,null,null,null,null,null,null,null,"42",null,"Amicus Illustrated",null,2.9,null,"Careers",null,"English",null,"Reinforced Library",null,24,null,"I",null,"640L",null,"K - 3",null,"Connie Colwell Miller"]
[null,null,{"$f":"C609","v":0},null,null,null,"Not Available",null,9781607537625,null,"I'll Be a Musician",null,null,null,"When I Grow Up",null,null,null,"Amicus",null,0,null,21.95,null,0,null,0,null,null,null,null,null,0,0,0,0,0,0,0,0,"Fall 2016",null,2017,null,780.23,null,null,null,null,null,null,null,null,null,"42",null,"Amicus Illustrated",null,2.8,null,"Careers",null,"English",null,"Reinforced Library",null,24,null,"I",null,"480L",null,"K - 3",null,"Connie Colwell Miller"]
[null,null,{"$f":"C609","v":0},null,null,null,"Not Available",null,9781607537632,null,"I'll Be a Paleontologist",null,null,null,"When I Grow Up",null,null,null,"Amicus",null,0,null,21.95,null,0,null,0,null,null,null,null,null,0,0,0,0,0,0,0,0,"Fall 2016",null,2017,null,560.91999999999996,null,null,null,null,null,null,null,null,null,"42",null,"Amicus Illustrated",null,3.4,null,"Careers",null,"English",null,"Reinforced Library",null,24,null,"I",null,"650L",null,"K - 3",null,"Connie Colwell Miller"]
[{"$f":"A609","v":0},null,{"$f":"C609","v":0},null,{"$f":"E609","v":0},null,9781681514802,null,9781681513980,null,"I'll Be a Police Officer",null,null,null,"When I Grow Up",null,null,null,"Amicus",null,44.85,null,21.95,null,{"$f":"W617+5","v":26.95},null,0,null,null,null,null,null,0,0,0,0,0,0,0,0,"Fall 2018",null,2019,null,363.20229999999998,null,null,null,null,null,null,null,null,null,"42",null,"Amicus Illustrated",null,2.8,null,"Careers",null,"English",null,"Reinforced Library",null,24,null,"I",null,"560L",null,"K - 3",null,"Connie Colwell Miller"]
[{"$f":"A609","v":0},null,{"$f":"C609","v":0},null,{"$f":"E609","v":0},null,9781681514819,null,9781681513997,null,"I'll Be a Teacher",null,null,null,"When I Grow Up",null,null,null,"Amicus",null,44.85,null,21.95,null,{"$f":"W618+5","v":26.95},null,0,null,null,null,null,null,0,0,0,0,0,0,0,0,"Fall 2018",null,2019,null,371.10023000000001,null,null,null,null,null,null,null,null,null,"42",null,"Amicus Illustrated",null,2.2999999999999998,null,"Careers",null,"English",null,"Reinforced Library",null,24,null,"I",null,"530L",null,"K - 3",null,"Connie Colwell Miller"]
[{"$f":"A609","v":0},null,{"$f":"C609","v":0},null,{"$f":"E609","v":0},null,9781681514826,null,9781681514000,null,"I'll Be a Truck Driver",null,null,null,"When I Grow Up",null,null,null,"Amicus",null,44.85,null,21.95,null,{"$f":"W619+5","v":26.95},null,0,null,null,null,null,null,0,0,0,0,0,0,0,0,"Fall 2018",null,2019,null,"388.3/24023",null,null,null,null,null,null,null,null,null,"42",null,"Amicus Illustrated",null,2.2999999999999998,null,"Careers",null,"English",null,"Reinforced Library",null,24,null,"I",null,"530L",null,"K - 3",null,"Connie Colwell Miller"]
[null,null,{"$f":"C609","v":0},null,null,null,"Not Available",null,9781607537649,null,"I'll Be a Veterinarian",null,null,null,"When I Grow Up",null,null,null,"Amicus",null,0,null,21.95,null,0,null,0,null,null,null,null,null,0,0,0,0,0,0,0,0,"Fall 2016",null,2017,null,636.08900000000006,null,null,null,null,null,null,null,null,null,"42",null,"Amicus Illustrated",null,2.2999999999999998,null,"Careers",null,"English",null,"Reinforced Library",null,24,null,"I",null,"520L",null,"K - 3",null,"Connie Colwell Miller"]
[{"$f":"A609","v":0},null,{"$f":"C609","v":0},null,{"$f":"E609","v":0},null,9781681514833,null,9781681514017,null,"I'll Be an Engineer",null,null,null,"When I Grow Up",null,null,null,"Amicus",null,44.85,null,21.95,null,{"$f":"W621+5","v":26.95},null,0,null,null,null,null,null,0,0,0,0,0,0,0,0,"Fall 2018",null,2019,null,"624 .023",null,null,null,null,null,null,null,null,null,"42",null,"Amicus Illustrated",null,2.9,null,"Careers",null,"English",null,"Reinforced Library",null,24,null,"I",null,"600L",null,"K - 3",null,"Connie Colwell Miller"]
[]
[null,null,null,null,null,null,null,null,null,null,"Complete Series of 6",null,null,null,"Amazing Adventures",null,null,null,null,null,{"$f":"SUM(U624:U629)","v":244.8},null,{"$f":"SUM(W624:W629)","v":119.7},null,{"$f":"SUM(Y624:Y629)","v":149.69999999999999}]
[{"$f":"A623","v":0},null,{"$f":"C623","v":0},null,{"$f":"E623","v":0},null,9781681513515,null,9781681513157,null,"Blast off to Space",null,null,null,"Amazing Adventures",null,null,null,"Amicus",null,40.799999999999997,null,19.95,null,{"$f":"W624+5","v":24.95},null,{"$f":"IF(AC624=FALSE,AK624+AL624+AM624,0)","v":0},null,null,null,null,null,0,0,0,0,0,0,0,0,"Spring 2018",null,2018,null,629.4,null,null,null,null,null,null,null,null,null,null,null,"Amicus Readers",null,1,null,"Social Studies",null,"English",null,"Reinforced Library",null,16,null,"F",null,"320L",null,"K - 2",null,"K.C. Kelley"]
[{"$f":"A623","v":0},null,{"$f":"C623","v":0},null,{"$f":"E623","v":0},null,9781681513508,null,9781681513140,null,"Explore a Cave",null,null,null,"Amazing Adventures",null,null,null,"Amicus",null,40.799999999999997,null,19.95,null,24.95,null,0,null,null,null,null,null,0,0,0,0,0,0,0,0,"Spring 2018",null,2018,null,"551.44/7",null,null,null,null,null,null,null,null,null,null,null,"Amicus Readers",null,1,null,"Social Studies",null,"English",null,"Reinforced Library",null,16,null,"F",null,"310L",null,"K - 2",null,"K.C. Kelley"]
[{"$f":"A623","v":0},null,{"$f":"C623","v":0},null,{"$f":"E623","v":0},null,9781681513478,null,9781681513119,null,"Hike a Mountain",null,null,null,"Amazing Adventures",null,null,null,"Amicus",null,40.799999999999997,null,19.95,null,24.95,null,0,null,null,null,null,null,0,0,0,0,0,0,0,0,"Spring 2018",null,2018,null,796.51,null,null,null,null,null,null,null,null,null,null,null,"Amicus Readers",null,0.8,null,"Social Studies",null,"English",null,"Reinforced Library",null,16,null,"F",null,"290L",null,"K - 2",null,"K.C. Kelley"]
[{"$f":"A623","v":0},null,{"$f":"C623","v":0},null,{"$f":"E623","v":0},null,9781681513492,null,9781681513133,null,"Journey through a Desert",null,null,null,"Amazing Adventures",null,null,null,"Amicus",null,40.799999999999997,null,19.95,null,24.95,null,0,null,null,null,null,null,0,0,0,0,0,0,0,0,"Spring 2018",null,2018,null,"551.41/5",null,null,null,null,null,null,null,null,null,null,null,"Amicus Readers",null,0.8,null,"Social Studies",null,"English",null,"Reinforced Library",null,16,null,"F",null,"240L",null,"K - 2",null,"K.C. Kelley"]
[{"$f":"A623","v":0},null,{"$f":"C623","v":0},null,{"$f":"E623","v":0},null,9781681513461,null,9781681513102,null,"Snorkel Coral Reefs",null,null,null,"Amazing Adventures",null,null,null,"Amicus",null,40.799999999999997,null,19.95,null,24.95,null,0,null,null,null,null,null,0,0,0,0,0,0,0,0,"Spring 2018",null,2018,null,"578.77/89",null,null,null,null,null,null,null,null,null,null,null,"Amicus Readers",null,0.9,null,"Social Studies",null,"English",null,"Reinforced Library",null,16,null,"F",null,"300L",null,"K - 2",null,"K.C. Kelley"]
[{"$f":"A623","v":0},null,{"$f":"C623","v":0},null,{"$f":"E623","v":0},null,9781681513485,null,9781681513126,null,"Trek the Rain Forest",null,null,null,"Amazing Adventures",null,null,null,"Amicus",null,40.799999999999997,null,19.95,null,24.95,null,0,null,null,null,null,null,0,0,0,0,0,0,0,0,"Spring 2018",null,2018,null,591.73400000000004,null,null,null,null,null,null,null,null,null,null,null,"Amicus Readers",null,1,null,"Social Studies",null,"English",null,"Reinforced Library",null,16,null,"F",null,"300L",null,"K - 2",null,"K.C. Kelley"]
[]
[null,null,null,null,null,null,null,null,null,null,"Complete Series of 6",null,null,null,"Amicus Ink Board Books - Vehicles",null,null,null,null,null,{"$f":"SUM(U632:U637)","v":0},null,{"$f":"SUM(W632:W637)","v":47.940000000000005},null,{"$f":"SUM(Y632:Y637)","v":0}]
[null,null,{"$f":"C631","v":0},null,null,null,"Not Available",null,9781681522432,null,"Boats Float",null,null,null,"Amicus Ink Board Books - Vehicles",null,null,null,"Amicus",null,0,null,7.99,null,0,null,{"$f":"IF(AC632=FALSE,AK632+AL632+AM632,0)","v":0},null,null,null,null,null,0,0,0,0,0,0,0,0,"Spring 2018",null,2018,null,623.82000000000005,null,null,null,null,null,null,null,null,null,"14",null,"Amicus Ink",null,"Not Quizzable",null,"Fiction",null,"English",null,"Board Book",null,14,null,null,null,null,null,"PreK - 1",null,"Rebecca Glaser"]
[null,null,{"$f":"C631","v":0},null,null,null,"Not Available",null,9781681521213,null,"Cars Zoom",null,null,null,"Amicus Ink Board Books - Vehicles",null,null,null,"Amicus",null,0,null,7.99,null,0,null,0,null,null,null,null,null,0,0,0,0,0,0,0,0,"Fall 2016",null,2017,null,629.22199999999998,null,null,null,null,null,null,null,null,null,"14",null,"Amicus Ink",null,"Not Quizzable",null,"Fiction",null,"English",null,"Board Book",null,14,null,null,null,null,null,"PreK - 1",null,"Rebecca Glaser"]
[null,null,{"$f":"C631","v":0},null,null,null,"Not Available",null,9781681522401,null,"Fire Trucks Rescue",null,null,null,"Amicus Ink Board Books - Vehicles",null,null,null,"Amicus",null,0,null,7.99,null,0,null,0,null,null,null,null,null,0,0,0,0,0,0,0,0,"Spring 2018",null,2018,null,"628.9/259",null,null,null,null,null,null,null,null,null,"14",null,"Amicus Ink",null,"Not Quizzable",null,"Fiction",null,"English",null,"Board Book",null,14,null,null,null,null,null,"PreK - 1",null,"Rebecca Glaser"]
[null,null,{"$f":"C631","v":0},null,null,null,"Not Available",null,9781681521220,null,"Planes Soar",null,null,null,"Amicus Ink Board Books - Vehicles",null,null,null,"Amicus",null,0,null,7.99,null,0,null,0,null,null,null,null,null,0,0,0,0,0,0,0,0,"Fall 2016",null,2017,null,"629.133/34",null,null,null,null,null,null,null,null,null,"14",null,"Amicus Ink",null,"Not Quizzable",null,"Fiction",null,"English",null,"Board Book",null,14,null,null,null,null,null,"PreK - 1",null,"Rebecca Glaser"]
[null,null,{"$f":"C631","v":0},null,null,null,"Not Available",null,9781681522425,null,"Trains Chug",null,null,null,"Amicus Ink Board Books - Vehicles",null,null,null,"Amicus",null,0,null,7.99,null,0,null,0,null,null,null,null,null,0,0,0,0,0,0,0,0,"Spring 2018",null,2018,null,625.20000000000005,null,null,null,null,null,null,null,null,null,"14",null,"Amicus Ink",null,"Not Quizzable",null,"Fiction",null,"English",null,"Board Book",null,14,null,null,null,null,null,"PreK - 1",null,"Rebecca Glaser"]
[null,null,{"$f":"C631","v":0},null,null,null,"Not Available",null,9781681521244,null,"Trucks Haul",null,null,null,"Amicus Ink Board Books - Vehicles",null,null,null,"Amicus",null,0,null,7.99,null,0,null,0,null,null,null,null,null,0,0,0,0,0,0,0,0,"Fall 2016",null,2017,null,629.22400000000005,null,null,null,null,null,null,null,null,null,"14",null,"Amicus Ink",null,"Not Quizzable",null,"Fiction",null,"English",null,"Board Book",null,14,null,null,null,null,null,"PreK - 1",null,"Rebecca Glaser"]
[]
[null,null,null,null,null,null,null,null,null,null,"Complete Series of 8",null,null,null,"Field Trips, Let's Go!",null,null,null,null,null,{"$f":"SUM(U640:U647)","v":326.40000000000003},null,{"$f":"SUM(W640:W647)","v":159.6},null,{"$f":"SUM(Y640:Y647)","v":199.59999999999997}]
[{"$f":"A639","v":0},null,{"$f":"C639","v":0},null,{"$f":"E639","v":0},null,9781681513386,null,9781681513027,null,"Aquarium",null,null,null,"Field Trips, Let's Go!",null,null,null,"Amicus",null,40.799999999999997,null,19.95,null,{"$f":"W640+5","v":24.95},null,{"$f":"IF(AC640=FALSE,AK640+AL640+AM640,0)","v":0},null,null,null,null,null,0,0,0,0,0,0,0,0,"Spring 2018",null,2018,null,639.34,null,null,null,null,null,null,null,null,null,null,null,"Amicus Readers",null,1,null,"Social Studies",null,"English",null,"Reinforced Library",null,16,null,"E",null,"290L",null,"K - 2",null,"K.C. Kelley"]
[{"$f":"A639","v":0},null,{"$f":"C639","v":0},null,{"$f":"E639","v":0},null,9781681513416,null,9781681513058,null,"Farm",null,null,null,"Field Trips, Let's Go!",null,null,null,"Amicus",null,40.799999999999997,null,19.95,null,24.95,null,0,null,null,null,null,null,0,0,0,0,0,0,0,0,"Spring 2018",null,2018,null,630,null,null,null,null,null,null,null,null,null,null,null,"Amicus Readers",null,0.9,null,"Social Studies",null,"English",null,"Reinforced Library",null,16,null,"E",null,"250L",null,"K - 2",null,"K.C. Kelley"]
[{"$f":"A639","v":0},null,{"$f":"C639","v":0},null,{"$f":"E639","v":0},null,9781681513409,null,9781681513041,null,"Fire Station",null,null,null,"Field Trips, Let's Go!",null,null,null,"Amicus",null,40.799999999999997,null,19.95,null,24.95,null,0,null,null,null,null,null,0,0,0,0,0,0,0,0,"Spring 2018",null,2018,null,363.37,null,null,null,null,null,null,null,null,null,null,null,"Amicus Readers",null,1.1000000000000001,null,"Social Studies",null,"English",null,"Reinforced Library",null,16,null,"E",null,"330L",null,"K - 2",null,"K.C. Kelley"]
[{"$f":"A639","v":0},null,{"$f":"C639","v":0},null,{"$f":"E639","v":0},null,9781681513423,null,9781681513065,null,"Library",null,null,null,"Field Trips, Let's Go!",null,null,null,"Amicus",null,40.799999999999997,null,19.95,null,24.95,null,0,null,null,null,null,null,0,0,0,0,0,0,0,0,"Spring 2018",null,2018,null,27,null,null,null,null,null,null,null,null,null,null,null,"Amicus Readers",null,1,null,"Social Studies",null,"English",null,"Reinforced Library",null,16,null,"E",null,"280L",null,"K - 2",null,"K.C. Kelley"]
[{"$f":"A639","v":0},null,{"$f":"C639","v":0},null,{"$f":"E639","v":0},null,9781681513393,null,9781681513034,null,"Museum",null,null,null,"Field Trips, Let's Go!",null,null,null,"Amicus",null,40.799999999999997,null,19.95,null,24.95,null,0,null,null,null,null,null,0,0,0,0,0,0,0,0,"Spring 2018",null,2018,null,69,null,null,null,null,null,null,null,null,null,null,null,"Amicus Readers",null,1.1000000000000001,null,"Social Studies",null,"English",null,"Reinforced Library",null,16,null,"E",null,"350L",null,"K - 2",null,"K.C. Kelley"]
[{"$f":"A639","v":0},null,{"$f":"C639","v":0},null,{"$f":"E639","v":0},null,9781681513454,null,9781681513096,null,"Stadium",null,null,null,"Field Trips, Let's Go!",null,null,null,"Amicus",null,40.799999999999997,null,19.95,null,24.95,null,0,null,null,null,null,null,0,0,0,0,0,0,0,0,"Spring 2018",null,2018,null,"725/.827",null,null,null,null,null,null,null,null,null,null,null,"Amicus Readers",null,0.9,null,"Social Studies",null,"English",null,"Reinforced Library",null,16,null,"E",null,"300L",null,"K - 2",null,"K.C. Kelley"]
[{"$f":"A639","v":0},null,{"$f":"C639","v":0},null,{"$f":"E639","v":0},null,9781681513430,null,9781681513072,null,"Theater",null,null,null,"Field Trips, Let's Go!",null,null,null,"Amicus",null,40.799999999999997,null,19.95,null,24.95,null,0,null,null,null,null,null,0,0,0,0,0,0,0,0,"Spring 2018",null,2018,null,792,null,null,null,null,null,null,null,null,null,null,null,"Amicus Readers",null,1.1000000000000001,null,"Social Studies",null,"English",null,"Reinforced Library",null,16,null,"E",null,"330L",null,"K - 2",null,"K.C. Kelley"]
[{"$f":"A639","v":0},null,{"$f":"C639","v":0},null,{"$f":"E639","v":0},null,9781681513447,null,9781681513089,null,"Zoo",null,null,null,"Field Trips, Let's Go!",null,null,null,"Amicus",null,40.799999999999997,null,19.95,null,24.95,null,0,null,null,null,null,null,0,0,0,0,0,0,0,0,"Spring 2018",null,2018,null,"590/.73",null,null,null,null,null,null,null,null,null,null,null,"Amicus Readers",null,0.9,null,"Social Studies",null,"English",null,"Reinforced Library",null,16,null,"E",null,"280L",null,"K - 2",null,"K.C. Kelley"]
[]
[null,null,null,null,null,null,null,null,null,null,"Complete Series of 3",null,null,null,"First Words and Pictures (Board Book)",null,null,null,null,null,{"$f":"SUM(U650:U652)","v":0},null,{"$f":"SUM(W650:W652)","v":29.97},null,{"$f":"SUM(Y650:Y652)","v":0}]
[null,null,{"$f":"C649","v":0},null,null,null,"Not Available",null,9781681524108,null,"Around Town",null,null,null,"First Words and Pictures (Board Book)",null,null,null,"Amicus",null,0,null,9.99,null,0,null,{"$f":"IF(AC650=FALSE,AK650+AL650+AM650,0)","v":0},null,null,null,null,null,0,0,0,0,0,0,0,0,"Spring 2018",null,2018,null,307.76,null,null,null,null,null,null,null,null,null,"14",null,"Amicus Ink",null,"Not Quizzable",null,"Fiction",null,"English",null,"Board Book",null,14,null,null,null,null,null,"PreK - 1",null,"Margot Channing"]
[null,null,{"$f":"C649","v":0},null,null,null,"Not Available",null,9781681524115,null,"At Home",null,null,null,"First Words and Pictures (Board Book)",null,null,null,"Amicus",null,0,null,9.99,null,0,null,0,null,null,null,null,null,0,0,0,0,0,0,0,0,"Spring 2018",null,2018,null,"643/.6",null,null,null,null,null,null,null,null,null,"14",null,"Amicus Ink",null,"Not Quizzable",null,"Fiction",null,"English",null,"Board Book",null,14,null,null,null,null,null,"PreK - 1",null,"Margot Channing"]
[null,null,{"$f":"C649","v":0},null,null,null,"Not Available",null,9781681522012,null,"On the Go",null,null,null,"First Words and Pictures (Board Book)",null,null,null,"Amicus",null,0,null,9.99,null,0,null,0,null,null,null,null,null,0,0,0,0,0,0,0,0,"Fall 2017",null,2018,null,"629.04/6",null,null,null,null,null,null,null,null,null,"14",null,"Amicus Ink",null,"Not Quizzable",null,"Fiction",null,"English",null,"Board Book",null,14,null,null,null,null,null,"PreK - 1",null,"Margot Channing"]
[]
[null,null,null,null,null,null,null,null,null,null,"Complete Series of 12",null,null,null,"Real-life Superheroes",null,null,null,null,null,{"$f":"SUM(U655:U666)","v":489.60000000000008},null,{"$f":"SUM(W655:W666)","v":239.39999999999995},null,{"$f":"SUM(Y655:Y666)","v":299.39999999999992}]
[{"$f":"A654","v":0},null,{"$f":"C654","v":0},null,{"$f":"E654","v":0},null,9781681513522,null,9781681512907,null,"Chefs",null,null,null,"Real-life Superheroes",null,null,null,"Amicus",null,40.799999999999997,null,19.95,null,{"$f":"W655+5","v":24.95},null,{"$f":"IF(AC655=FALSE,AK655+AL655+AM655,0)","v":0},null,null,null,null,null,{"$f":"A655","v":0},{"$f":"C655","v":0},{"$f":"E655","v":0},{"$f":"SUM(AG655:AI655)","v":0},{"$f":"U655*A655","v":0},{"$f":"W655*C655","v":0},{"$f":"Y655*E655","v":0},{"$f":"SUM(AK655:AM655)","v":0},"Spring 2018",null,2018,null,641.50919999999996,null,null,null,null,null,null,null,null,null,null,null,"Amicus Readers",null,1,null,"Social Studies",null,"English",null,"Reinforced Library",null,16,null,"E",null,"250L",null,"K - 2",null,"Emma Less"]
[{"$f":"A654","v":0},null,{"$f":"C654","v":0},null,{"$f":"E654","v":0},null,9781681513539,null,9781681512914,null,"Construction Workers",null,null,null,"Real-life Superheroes",null,null,null,"Amicus",null,40.799999999999997,null,19.95,null,24.95,null,0,null,null,null,null,null,0,0,0,0,0,0,0,0,"Spring 2018",null,2018,null,624,null,null,null,null,null,null,null,null,null,null,null,"Amicus Readers",null,1,null,"Social Studies",null,"English",null,"Reinforced Library",null,16,null,"E",null,"350L",null,"K - 2",null,"Emma Less"]
[{"$f":"A654","v":0},null,{"$f":"C654","v":0},null,{"$f":"E654","v":0},null,9781681513546,null,9781681512921,null,"Dentists",null,null,null,"Real-life Superheroes",null,null,null,"Amicus",null,40.799999999999997,null,19.95,null,24.95,null,0,null,null,null,null,null,0,0,0,0,0,0,0,0,"Spring 2018",null,2018,null,617,null,null,null,null,null,null,null,null,null,null,null,"Amicus Readers",null,1.1000000000000001,null,"Social Studies",null,"English",null,"Reinforced Library",null,16,null,"E",null,"320L",null,"K - 2",null,"Emma Less"]
[{"$f":"A654","v":0},null,{"$f":"C654","v":0},null,{"$f":"E654","v":0},null,9781681513553,null,9781681512938,null,"Doctors",null,null,null,"Real-life Superheroes",null,null,null,"Amicus",null,40.799999999999997,null,19.95,null,24.95,null,0,null,null,null,null,null,0,0,0,0,0,0,0,0,"Spring 2018",null,2018,null,610.91999999999996,null,null,null,null,null,null,null,null,null,null,null,"Amicus Readers",null,1,null,"Social Studies",null,"English",null,"Reinforced Library",null,16,null,"E",null,"260L",null,"K - 2",null,"Emma Less"]
[{"$f":"A654","v":0},null,{"$f":"C654","v":0},null,{"$f":"E654","v":0},null,9781681513560,null,9781681512945,null,"Farmers",null,null,null,"Real-life Superheroes",null,null,null,"Amicus",null,40.799999999999997,null,19.95,null,24.95,null,0,null,null,null,null,null,0,0,0,0,0,0,0,0,"Spring 2018",null,2018,null,630.91999999999996,null,null,null,null,null,null,null,null,null,null,null,"Amicus Readers",null,1,null,"Social Studies",null,"English",null,"Reinforced Library",null,16,null,"E",null,"240L",null,"K - 2",null,"Emma Less"]
[{"$f":"A654","v":0},null,{"$f":"C654","v":0},null,{"$f":"E654","v":0},null,9781681513577,null,9781681512952,null,"Firefighters",null,null,null,"Real-life Superheroes",null,null,null,"Amicus",null,40.799999999999997,null,19.95,null,24.95,null,0,null,null,null,null,null,0,0,0,0,0,0,0,0,"Spring 2018",null,2018,null,628.9,null,null,null,null,null,null,null,null,null,null,null,"Amicus Readers",null,1,null,"Social Studies",null,"English",null,"Reinforced Library",null,16,null,"E",null,"280L",null,"K - 2",null,"Emma Less"]
[{"$f":"A654","v":0},null,{"$f":"C654","v":0},null,{"$f":"E654","v":0},null,9781681513584,null,9781681512969,null,"Librarians",null,null,null,"Real-life Superheroes",null,null,null,"Amicus",null,40.799999999999997,null,19.95,null,24.95,null,0,null,null,null,null,null,0,0,0,0,0,0,0,0,"Spring 2018",null,2018,null,20.92,null,null,null,null,null,null,null,null,null,null,null,"Amicus Readers",null,1,null,"Social Studies",null,"English",null,"Reinforced Library",null,16,null,"E",null,"320L",null,"K - 2",null,"Emma Less"]
[{"$f":"A654","v":0},null,{"$f":"C654","v":0},null,{"$f":"E654","v":0},null,9781681513621,null,9781681513003,null,"Mechanics",null,null,null,"Real-life Superheroes",null,null,null,"Amicus",null,40.799999999999997,null,19.95,null,24.95,null,0,null,null,null,null,null,0,0,0,0,0,0,0,0,"Spring 2018",null,2018,null,629.04,null,null,null,null,null,null,null,null,null,null,null,"Amicus Readers",null,0.9,null,"Social Studies",null,"English",null,"Reinforced Library",null,16,null,"E",null,"360L",null,"K - 2",null,"Emma Less"]
[{"$f":"A654","v":0},null,{"$f":"C654","v":0},null,{"$f":"E654","v":0},null,9781681513591,null,9781681512976,null,"Nurses",null,null,null,"Real-life Superheroes",null,null,null,"Amicus",null,40.799999999999997,null,19.95,null,24.95,null,0,null,null,null,null,null,0,0,0,0,0,0,0,0,"Spring 2018",null,2018,null,610.73,null,null,null,null,null,null,null,null,null,null,null,"Amicus Readers",null,1,null,"Social Studies",null,"English",null,"Reinforced Library",null,16,null,"E",null,"280L",null,"K - 2",null,"Emma Less"]
[{"$f":"A654","v":0},null,{"$f":"C654","v":0},null,{"$f":"E654","v":0},null,9781681513607,null,9781681512983,null,"Police Officers",null,null,null,"Real-life Superheroes",null,null,null,"Amicus",null,40.799999999999997,null,19.95,null,24.95,null,0,null,null,null,null,null,0,0,0,0,0,0,0,0,"Spring 2018",null,2018,null,363.2,null,null,null,null,null,null,null,null,null,null,null,"Amicus Readers",null,1,null,"Social Studies",null,"English",null,"Reinforced Library",null,16,null,"E",null,"330L",null,"K - 2",null,"Emma Less"]
[{"$f":"A654","v":0},null,{"$f":"C654","v":0},null,{"$f":"E654","v":0},null,9781681513614,null,9781681512990,null,"Teachers",null,null,null,"Real-life Superheroes",null,null,null,"Amicus",null,40.799999999999997,null,19.95,null,24.95,null,0,null,null,null,null,null,0,0,0,0,0,0,0,0,"Spring 2018",null,2018,null,371.1,null,null,null,null,null,null,null,null,null,null,null,"Amicus Readers",null,1,null,"Social Studies",null,"English",null,"Reinforced Library",null,16,null,"E",null,"280L",null,"K - 2",null,"Emma Less"]
[{"$f":"A654","v":0},null,{"$f":"C654","v":0},null,{"$f":"E654","v":0},null,9781681513638,null,9781681513010,null,"Veterinarians",null,null,null,"Real-life Superheroes",null,null,null,"Amicus",null,40.799999999999997,null,19.95,null,24.95,null,0,null,null,null,null,null,0,0,0,0,0,0,0,0,"Spring 2018",null,2018,null,636.08909200000005,null,null,null,null,null,null,null,null,null,null,null,"Amicus Readers",null,1,null,"Social Studies",null,"English",null,"Reinforced Library",null,16,null,"E",null,"230L",null,"K - 2",null,"Emma Less"]
[]
[null,null,null,null,null,null,null,null,null,null,"Complete Series of 6",null,null,null,"Spot Awesome Nature",null,null,null,null,null,{"$f":"SUM(U669:U674)","v":244.8},null,{"$f":"SUM(W669:W674)","v":119.7},null,{"$f":"SUM(Y669:Y674)","v":149.69999999999999}]
[{"$f":"A668","v":0},null,{"$f":"C668","v":0},null,{"$f":"E668","v":0},null,9781681513270,null,9781681512877,null,"Flowers",null,null,null,"Spot Awesome Nature",null,null,null,"Amicus",null,40.799999999999997,null,19.95,null,{"$f":"W669+5","v":24.95},null,{"$f":"IF(AC669=FALSE,AK669+AL669+AM669,0)","v":0},null,null,null,null,null,0,0,0,0,0,0,0,0,"Spring 2018",null,2018,null,582,null,null,null,null,null,null,null,null,null,"23",null,"Spot",null,1.1000000000000001,null,"Animals & Nature",null,"English",null,"Reinforced Library",null,16,null,"D",null,"310L",null,"PreK - 3",null,"K.C. Kelley"]
[{"$f":"A668","v":0},null,{"$f":"C668","v":0},null,{"$f":"E668","v":0},null,9781681513287,null,9781681512884,null,"Oceans",null,null,null,"Spot Awesome Nature",null,null,null,"Amicus",null,40.799999999999997,null,19.95,null,24.95,null,0,null,null,null,null,null,0,0,0,0,0,0,0,0,"Spring 2018",null,2018,null,551.46,null,null,null,null,null,null,null,null,null,"23",null,"Spot",null,1,null,"Animals & Nature",null,"English",null,"Reinforced Library",null,16,null,"D",null,"350L",null,"PreK - 3",null,"K.C. Kelley"]
[{"$f":"A668","v":0},null,{"$f":"C668","v":0},null,{"$f":"E668","v":0},null,9781681513256,null,9781681512853,null,"Seasons",null,null,null,"Spot Awesome Nature",null,null,null,"Amicus",null,40.799999999999997,null,19.95,null,24.95,null,0,null,null,null,null,null,0,0,0,0,0,0,0,0,"Spring 2018",null,2018,null,508.2,null,null,null,null,null,null,null,null,null,"23",null,"Spot",null,0.9,null,"Animals & Nature",null,"English",null,"Reinforced Library",null,16,null,"D",null,"280L",null,"PreK - 3",null,"K.C. Kelley"]
[{"$f":"A668","v":0},null,{"$f":"C668","v":0},null,{"$f":"E668","v":0},null,9781681513294,null,9781681512891,null,"Space",null,null,null,"Spot Awesome Nature",null,null,null,"Amicus",null,40.799999999999997,null,19.95,null,24.95,null,0,null,null,null,null,null,0,0,0,0,0,0,0,0,"Spring 2018",null,2018,null,523.1,null,null,null,null,null,null,null,null,null,"23",null,"Spot",null,1,null,"Animals & Nature",null,"English",null,"Reinforced Library",null,16,null,"D",null,"340L",null,"PreK - 3",null,"K.C. Kelley"]
[{"$f":"A668","v":0},null,{"$f":"C668","v":0},null,{"$f":"E668","v":0},null,9781681513263,null,9781681512860,null,"Trees",null,null,null,"Spot Awesome Nature",null,null,null,"Amicus",null,40.799999999999997,null,19.95,null,24.95,null,0,null,null,null,null,null,0,0,0,0,0,0,0,0,"Spring 2018",null,2018,null,582.16,null,null,null,null,null,null,null,null,null,"23",null,"Spot",null,0.9,null,"Animals & Nature",null,"English",null,"Reinforced Library",null,16,null,"D",null,"320L",null,"PreK - 3",null,"K.C. Kelley"]
[{"$f":"A668","v":0},null,{"$f":"C668","v":0},null,{"$f":"E668","v":0},null,9781681513249,null,9781681512846,null,"Weather",null,null,null,"Spot Awesome Nature",null,null,null,"Amicus",null,40.799999999999997,null,19.95,null,24.95,null,0,null,null,null,null,null,0,0,0,0,0,0,0,0,"Spring 2018",null,2018,null," 551.6",null,null,null,null,null,null,null,null,null,"23",null,"Spot",null,1,null,"Animals & Nature",null,"English",null,"Reinforced Library",null,16,null,"D",null,"300L",null,"PreK - 3",null,"K.C. Kelley"]
[]
[null,null,null,null,null,null,null,null,null,null,"Complete Series of 8",null,null,null,"Spot Baby Animals",null,null,null,null,null,{"$f":"SUM(U677:U684)","v":326.40000000000003},null,{"$f":"SUM(W677:W684)","v":159.6},null,{"$f":"SUM(Y677:Y684)","v":199.59999999999997}]
[{"$f":"A676","v":0},null,{"$f":"C676","v":0},null,{"$f":"E676","v":0},null,9781681513300,null,9781681513164,null,"Baby Bears",null,null,null,"Spot Baby Animals",null,null,null,"Amicus",null,40.799999999999997,null,19.95,null,{"$f":"W677+5","v":24.95},null,{"$f":"IF(AC677=FALSE,AK677+AL677+AM677,0)","v":0},null,null,null,null,null,0,0,0,0,0,0,0,0,"Spring 2018",null,2018,null,599.78,null,null,null,null,null,null,null,null,null,"22",null,"Spot",null,1.1000000000000001,null,"Animals & Nature",null,"English",null,"Reinforced Library",null,16,null,"C",null,"270L",null,"PreK - 3",null,"K.C. Kelley"]
[{"$f":"A676","v":0},null,{"$f":"C676","v":0},null,{"$f":"E676","v":0},null,9781681513324,null,9781681513188,null,"Baby Elephants",null,null,null,"Spot Baby Animals",null,null,null,"Amicus",null,40.799999999999997,null,19.95,null,24.95,null,0,null,null,null,null,null,0,0,0,0,0,0,0,0,"Spring 2018",null,2018,null,599.66999999999996,null,null,null,null,null,null,null,null,null,"22",null,"Spot",null,0.9,null,"Animals & Nature",null,"English",null,"Reinforced Library",null,16,null,"C",null,"350L",null,"PreK - 3",null,"K.C. Kelley"]
[{"$f":"A676","v":0},null,{"$f":"C676","v":0},null,{"$f":"E676","v":0},null,9781681513331,null,9781681513195,null,"Baby Giraffes",null,null,null,"Spot Baby Animals",null,null,null,"Amicus",null,40.799999999999997,null,19.95,null,24.95,null,0,null,null,null,null,null,0,0,0,0,0,0,0,0,"Spring 2018",null,2018,null,"599.63813/92",null,null,null,null,null,null,null,null,null,"22",null,"Spot",null,1,null,"Animals & Nature",null,"English",null,"Reinforced Library",null,16,null,"C",null,"280L",null,"PreK - 3",null,"K.C. Kelley"]
[{"$f":"A676","v":0},null,{"$f":"C676","v":0},null,{"$f":"E676","v":0},null,9781681513362,null,9781681513225,null,"Baby Hippos",null,null,null,"Spot Baby Animals",null,null,null,"Amicus",null,40.799999999999997,null,19.95,null,24.95,null,0,null,null,null,null,null,0,0,0,0,0,0,0,0,"Spring 2018",null,2018,null,"599.63/5139",null,null,null,null,null,null,null,null,null,"22",null,"Spot",null,1,null,"Animals & Nature",null,"English",null,"Reinforced Library",null,16,null,"C",null,"350L",null,"PreK - 3",null,"K.C. Kelley"]
[{"$f":"A676","v":0},null,{"$f":"C676","v":0},null,{"$f":"E676","v":0},null,9781681513348,null,9781681513201,null,"Baby Lions",null,null,null,"Spot Baby Animals",null,null,null,"Amicus",null,40.799999999999997,null,19.95,null,24.95,null,0,null,null,null,null,null,0,0,0,0,0,0,0,0,"Spring 2018",null,2018,null,"599.75/51392",null,null,null,null,null,null,null,null,null,"22",null,"Spot",null,1,null,"Animals & Nature",null,"English",null,"Reinforced Library",null,16,null,"C",null,"330L",null,"PreK - 3",null,"K.C. Kelley"]
[{"$f":"A676","v":0},null,{"$f":"C676","v":0},null,{"$f":"E676","v":0},null,9781681513355,null,9781681513218,null,"Baby Orangutans",null,null,null,"Spot Baby Animals",null,null,null,"Amicus",null,40.799999999999997,null,19.95,null,24.95,null,0,null,null,null,null,null,0,0,0,0,0,0,0,0,"Spring 2018",null,2018,null,"599.88/31392",null,null,null,null,null,null,null,null,null,"22",null,"Spot",null,1,null,"Animals & Nature",null,"English",null,"Reinforced Library",null,16,null,"C",null,"340L",null,"PreK - 3",null,"K.C. Kelley"]
[{"$f":"A676","v":0},null,{"$f":"C676","v":0},null,{"$f":"E676","v":0},null,9781681513379,null,9781681513232,null,"Baby Tigers",null,null,null,"Spot Baby Animals",null,null,null,"Amicus",null,40.799999999999997,null,19.95,null,24.95,null,0,null,null,null,null,null,0,0,0,0,0,0,0,0,"Spring 2018",null,2018,null,"599.75613/92",null,null,null,null,null,null,null,null,null,"22",null,"Spot",null,0.9,null,"Animals & Nature",null,"English",null,"Reinforced Library",null,16,null,"C",null,"280L",null,"PreK - 3",null,"K.C. Kelley"]
[{"$f":"A676","v":0},null,{"$f":"C676","v":0},null,{"$f":"E676","v":0},null,9781681513317,null,9781681513171,null,"Baby Wolves",null,null,null,"Spot Baby Animals",null,null,null,"Amicus",null,40.799999999999997,null,19.95,null,24.95,null,0,null,null,null,null,null,0,0,0,0,0,0,0,0,"Spring 2018",null,2018,null,"599.773/139",null,null,null,null,null,null,null,null,null,"22",null,"Spot",null,0.9,null,"Animals & Nature",null,"English",null,"Reinforced Library",null,16,null,"C",null,"310L",null,"PreK - 3",null,"K.C. Kelley"]
[]
[null,null,null,null,null,null,null,null,null,null,"Complete Series of 4",null,null,null,"Amicus Ink Board Books - Pets",null,null,null,null,null,{"$f":"SUM(U687:U690)","v":0},null,{"$f":"SUM(W687:W690)","v":31.96},null,{"$f":"SUM(Y687:Y690)","v":0}]
[null,null,{"$f":"C686","v":0},null,null,null,"Not Available",null,9781681521992,null,"Bunnies Hop",null,null,null,"Amicus Ink Board Books - Pets",null,null,null,"Amicus",null,0,null,7.99,null,0,null,{"$f":"IF(AC687=FALSE,AK687+AL687+AM687,0)","v":0},null,null,null,null,null,0,0,0,0,0,0,0,0,"Fall 2017",null,2018,null,636.93200000000002,null,null,null,null,null,null,null,null,null,"14",null,"Amicus Ink",null,"Not Quizzable",null,"Fiction",null,"English",null,"Board Book",null,14,null,null,null,null,null,"PreK - 1",null,"Rebecca Glaser"]
[null,null,{"$f":"C686","v":0},null,null,null,"Not Available",null,9781681521985,null,"Fish Swim",null,null,null,"Amicus Ink Board Books - Pets",null,null,null,"Amicus",null,0,null,7.99,null,0,null,0,null,null,null,null,null,0,0,0,0,0,0,0,0,"Fall 2017",null,2018,null,639.34,null,null,null,null,null,null,null,null,null,"14",null,"Amicus Ink",null,"Not Quizzable",null,"Fiction",null,"English",null,"Board Book",null,14,null,null,null,null,null,"PreK - 1",null,"Rebecca Glaser"]
[null,null,{"$f":"C686","v":0},null,null,null,"Not Available",null,9781681521978,null,"Kittens Pounce",null,null,null,"Amicus Ink Board Books - Pets",null,null,null,"Amicus",null,0,null,7.99,null,0,null,0,null,null,null,null,null,0,0,0,0,0,0,0,0,"Fall 2017",null,2018,null,"636.8/07",null,null,null,null,null,null,null,null,null,"14",null,"Amicus Ink",null,"Not Quizzable",null,"Fiction",null,"English",null,"Board Book",null,14,null,null,null,null,null,"PreK - 1",null,"Rebecca Glaser"]
[null,null,{"$f":"C686","v":0},null,null,null,"Not Available",null,9781681521961,null,"Puppies Chase",null,null,null,"Amicus Ink Board Books - Pets",null,null,null,"Amicus",null,0,null,7.99,null,0,null,0,null,null,null,null,null,0,0,0,0,0,0,0,0,"Fall 2017",null,2018,null,"636.7/07",null,null,null,null,null,null,null,null,null,"14",null,"Amicus Ink",null,"Not Quizzable",null,"Fiction",null,"English",null,"Board Book",null,14,null,null,null,null,null,"PreK - 1",null,"Rebecca Glaser"]
[]
[null,null,null,null,null,null,null,null,null,null,"Complete Series of 6",null,null,null,"Animal Builders",null,null,null,null,null,{"$f":"SUM(U693:U698)","v":269.10000000000002},null,{"$f":"SUM(W693:W698)","v":131.69999999999999},null,{"$f":"SUM(Y693:Y698)","v":161.69999999999999}]
[{"$f":"A692","v":0},null,{"$f":"C692","v":0},null,{"$f":"E692","v":0},null,9781681512617,null,9781681511719,null,"Bears Make Dens",null,null,null,"Animal Builders",null,null,null,"Amicus",null,44.85,null,21.95,null,{"$f":"W693+5","v":26.95},null,{"$f":"IF(AC693=FALSE,AK693+AL693+AM693,0)","v":0},null,null,null,null,null,0,0,0,0,0,0,0,0,"Fall 2017",null,2018,null,"599.78/5",null,null,null,null,null,null,null,null,null,"39",null,"Amicus Illustrated",null,2.1,null,"Animals & Nature",null,"English",null,"Reinforced Library",null,24,null,"J",null,"500L",null,"K - 3",null,"Elizabeth Raum"]
[{"$f":"A692","v":0},null,{"$f":"C692","v":0},null,{"$f":"E692","v":0},null,9781681512587,null,9781681511689,null,"Beavers Build Lodges",null,null,null,"Animal Builders",null,null,null,"Amicus",null,44.85,null,21.95,null,26.95,null,0,null,null,null,null,null,0,0,0,0,0,0,0,0,"Fall 2017",null,2018,null,599.37156400000003,null,null,null,null,null,null,null,null,null,"39",null,"Amicus Illustrated",null,2.4,null,"Animals & Nature",null,"English",null,"Reinforced Library",null,24,null,"J",null,"520L",null,"K - 3",null,"Elizabeth Raum"]
[{"$f":"A692","v":0},null,{"$f":"C692","v":0},null,{"$f":"E692","v":0},null,9781681512594,null,9781681511696,null,"Bees Build Beehives",null,null,null,"Animal Builders",null,null,null,"Amicus",null,44.85,null,21.95,null,26.95,null,0,null,null,null,null,null,0,0,0,0,0,0,0,0,"Fall 2017",null,2018,null,"595.79/9",null,null,null,null,null,null,null,null,null,"39",null,"Amicus Illustrated",null,2.5,null,"Animals & Nature",null,"English",null,"Reinforced Library",null,24,null,"J",null,"550L",null,"K - 3",null,"Elizabeth Raum"]
[{"$f":"A692","v":0},null,{"$f":"C692","v":0},null,{"$f":"E692","v":0},null,9781681512600,null,9781681511702,null,"Birds Build Nests",null,null,null,"Animal Builders",null,null,null,"Amicus",null,44.85,null,21.95,null,26.95,null,0,null,null,null,null,null,0,0,0,0,0,0,0,0,"Fall 2017",null,2018,null,598,null,null,null,null,null,null,null,null,null,"39",null,"Amicus Illustrated",null,2.8,null,"Animals & Nature",null,"English",null,"Reinforced Library",null,24,null,"J",null,"590L",null,"K - 3",null,"Elizabeth Raum"]
[{"$f":"A692","v":0},null,{"$f":"C692","v":0},null,{"$f":"E692","v":0},null,9781681512624,null,9781681511726,null,"Orangutans Build Tree Nests",null,null,null,"Animal Builders",null,null,null,"Amicus",null,44.85,null,21.95,null,26.95,null,0,null,null,null,null,null,0,0,0,0,0,0,0,0,"Fall 2017",null,2018,null,"599.88/3",null,null,null,null,null,null,null,null,null,"39",null,"Amicus Illustrated",null,2.4,null,"Animals & Nature",null,"English",null,"Reinforced Library",null,24,null,"J",null,"560L",null,"K - 3",null,"Elizabeth Raum"]
[{"$f":"A692","v":0},null,{"$f":"C692","v":0},null,{"$f":"E692","v":0},null,9781681512631,null,9781681511733,null,"Rabbits Dig Burrows",null,null,null,"Animal Builders",null,null,null,"Amicus",null,44.85,null,21.95,null,26.95,null,0,null,null,null,null,null,0,0,0,0,0,0,0,0,"Fall 2017",null,2018,null,599.32000000000005,null,null,null,null,null,null,null,null,null,"39",null,"Amicus Illustrated",null,2.5,null,"Animals & Nature",null,"English",null,"Reinforced Library",null,24,null,"J",null,"520L",null,"K - 3",null,"Elizabeth Raum"]
[]
[null,null,null,null,null,null,null,null,null,null,"Complete Series of 5",null,null,null,"Animales constructores (Animal Builders)",null,null,null,null,null,{"$f":"SUM(U701:U705)","v":0},null,{"$f":"SUM(W701:W705)","v":109.75},null,{"$f":"SUM(Y701:Y705)","v":0}]
[null,null,{"$f":"C700","v":0},null,null,null,"Not Available",null,9781681512792,null,"Las abejas y sus colmenas (Bees Build Beehives)",null,null,null,"Animales constructores (Animal Builders)",null,null,null,"Amicus",null,0,null,21.95,null,0,null,{"$f":"IF(AC701=FALSE,AK701+AL701+AM701,0)","v":0},null,null,null,null,null,0,0,0,0,0,0,0,0,"Fall 2017",null,2018,null,"595.79/9",null,null,null,null,null,null,null,null,null,"50",null,"Amicus Illustrated",null,2.2999999999999998,null,"Animals & Nature",null,"Spanish",null,"Reinforced Library",null,24,null,null,null,null,null,"K - 3",null,"Elizabeth Raum"]
[null,null,{"$f":"C700","v":0},null,null,null,"Not Available",null,9781681512785,null,"Los castores y sus madrigueras (Beavers Build Lodges)",null,null,null,"Animales constructores (Animal Builders)",null,null,null,"Amicus",null,0,null,21.95,null,0,null,0,null,null,null,null,null,0,0,0,0,0,0,0,0,"Fall 2017",null,2018,null,599.37156000000004,null,null,null,null,null,null,null,null,null,"50",null,"Amicus Illustrated",null,2.4,null,"Animals & Nature",null,"Spanish",null,"Reinforced Library",null,24,null,null,null,null,null,"K - 3",null,"Elizabeth Raum"]
[null,null,{"$f":"C700","v":0},null,null,null,"Not Available",null,9781681512822,null,"Los orangutanes y sus nidos (Orangutans Build Tree Nests)",null,null,null,"Animales constructores (Animal Builders)",null,null,null,"Amicus",null,0,null,21.95,null,0,null,0,null,null,null,null,null,0,0,0,0,0,0,0,0,"Fall 2017",null,2018,null,"599.88/3",null,null,null,null,null,null,null,null,null,"50",null,"Amicus Illustrated",null,2.1,null,"Animals & Nature",null,"Spanish",null,"Reinforced Library",null,24,null,null,null,null,null,"K - 3",null,"Elizabeth Raum"]
[null,null,{"$f":"C700","v":0},null,null,null,"Not Available",null,9781681512815,null,"Los osos y sus guaridas (Bears Make Dens)",null,null,null,"Animales constructores (Animal Builders)",null,null,null,"Amicus",null,0,null,21.95,null,0,null,0,null,null,null,null,null,0,0,0,0,0,0,0,0,"Fall 2017",null,2018,null,"599.78/5",null,null,null,null,null,null,null,null,null,"50",null,"Amicus Illustrated",null,2,null,"Animals & Nature",null,"Spanish",null,"Reinforced Library",null,24,null,null,null,null,null,"K - 3",null,"Elizabeth Raum"]
[null,null,{"$f":"C700","v":0},null,null,null,"Not Available",null,9781681512808,null,"Los pájaros y sus nidos (Birds Build Nests)",null,null,null,"Animales constructores (Animal Builders)",null,null,null,"Amicus",null,0,null,21.95,null,0,null,0,null,null,null,null,null,0,0,0,0,0,0,0,0,"Fall 2017",null,2018,null,598,null,null,null,null,null,null,null,null,null,"50",null,"Amicus Illustrated",null,2.7,null,"Animals & Nature",null,"Spanish",null,"Reinforced Library",null,24,null,null,null,null,null,"K - 3",null,"Elizabeth Raum"]
[]
[null,null,null,null,null,null,null,null,null,null,"Complete Series of 4",null,null,null,"Animales del patio (Spot Backyard Animals)",null,null,null,null,null,{"$f":"SUM(U708:U711)","v":0},null,{"$f":"SUM(W708:W711)","v":79.8},null,{"$f":"SUM(Y708:Y711)","v":0}]
[null,null,{"$f":"C707","v":0},null,null,null,"Not Available",null,9781681512747,null,"El búho (Owls)",null,null,null,"Animales del patio (Spot Backyard Animals)",null,null,null,"Amicus",null,0,null,19.95,null,0,null,{"$f":"IF(AC708=FALSE,AK708+AL708+AM708,0)","v":0},null,null,null,null,null,0,0,0,0,0,0,0,0,"Fall 2017",null,2018,null,"598.9/7",null,null,null,null,null,null,null,null,null,"51",null,"Spot",null,0.6,null,"Animals & Nature",null,"Spanish",null,"Reinforced Library",null,16,null,null,null,null,null,"PreK - 3",null,"Wendy Strobel Dieker"]
[null,null,{"$f":"C707","v":0},null,null,null,"Not Available",null,9781681512754,null,"El mapache (Raccoons)",null,null,null,"Animales del patio (Spot Backyard Animals)",null,null,null,"Amicus",null,0,null,19.95,null,0,null,0,null,null,null,null,null,0,0,0,0,0,0,0,0,"Fall 2017",null,2018,null,"599.76/32",null,null,null,null,null,null,null,null,null,"51",null,"Spot",null,1.2,null,"Animals & Nature",null,"Spanish",null,"Reinforced Library",null,16,null,null,null,null,null,"PreK - 3",null,"Marysa Storm"]
[null,null,{"$f":"C707","v":0},null,null,null,"Not Available",null,9781681512730,null,"El ratón (Mice)",null,null,null,"Animales del patio (Spot Backyard Animals)",null,null,null,"Amicus",null,0,null,19.95,null,0,null,0,null,null,null,null,null,0,0,0,0,0,0,0,0,"Fall 2017",null,2018,null,599.35,null,null,null,null,null,null,null,null,null,"51",null,"Spot",null,1.1000000000000001,null,"Animals & Nature",null,"Spanish",null,"Reinforced Library",null,16,null,null,null,null,null,"PreK - 3",null,"Marysa Storm"]
[null,null,{"$f":"C707","v":0},null,null,null,"Not Available",null,9781681512761,null,"El zorrillo (Skunks)",null,null,null,"Animales del patio (Spot Backyard Animals)",null,null,null,"Amicus",null,0,null,19.95,null,0,null,0,null,null,null,null,null,0,0,0,0,0,0,0,0,"Fall 2017",null,2018,null,"599.76/8",null,null,null,null,null,null,null,null,null,"51",null,"Spot",null,1.6,null,"Animals & Nature",null,"Spanish",null,"Reinforced Library",null,16,null,null,null,null,null,"PreK - 3",null,"Wendy Strobel Dieker"]
[]
[null,null,null,null,null,null,null,null,null,null,"Complete Series of 7",null,null,null,"Robotics in Our World",null,null,null,null,null,{"$f":"SUM(U714:U720)","v":343},null,{"$f":"SUM(W714:W720)","v":167.64999999999998},null,{"$f":"SUM(Y714:Y720)","v":202.64999999999998}]
[{"$f":"A713","v":0},null,{"$f":"C713","v":0},null,{"$f":"E713","v":0},null,9781681512303,null,9781681511405,null,"Drones",null,null,null,"Robotics in Our World",null,null,null,"Amicus",null,49,null,23.95,null,{"$f":"W714+5","v":28.95},null,{"$f":"IF(AC714=FALSE,AK714+AL714+AM714,0)","v":0},null,null,null,null,null,0,0,0,0,0,0,0,0,"Fall 2017",null,2018,null,"623.74/69",null,null,null,null,null,null,null,null,null,"29",null,"Amicus High Interest",null,3.6,null,"Science & Technology",null,"English",null,"Reinforced Library",null,32,null,"L",null,"550L",null,"2 – 5",null,"Kirsten W. Larson"]
[{"$f":"A713","v":0},null,{"$f":"C713","v":0},null,{"$f":"E713","v":0},null,9781681512310,null,9781681511412,null,"Factory Robots",null,null,null,"Robotics in Our World",null,null,null,"Amicus",null,49,null,23.95,null,28.95,null,0,null,null,null,null,null,0,0,0,0,0,0,0,0,"Fall 2017",null,2018,null,"629.8/92",null,null,null,null,null,null,null,null,null,"29",null,"Amicus High Interest",null,3.4,null,"Science & Technology",null,"English",null,"Reinforced Library",null,32,null,"L",null,"550L",null,"2 – 5",null,"Nadia Higgins"]
[{"$f":"A713","v":0},null,{"$f":"C713","v":0},null,{"$f":"E713","v":0},null,9781681512327,null,9781681511429,null,"Hobby Robots",null,null,null,"Robotics in Our World",null,null,null,"Amicus",null,49,null,23.95,null,28.95,null,0,null,null,null,null,null,0,0,0,0,0,0,0,0,"Fall 2017",null,2018,null,"629.8/92",null,null,null,null,null,null,null,null,null,"29",null,"Amicus High Interest",null,3.6,null,"Science & Technology",null,"English",null,"Reinforced Library",null,32,null,"L",null,"560L",null,"2 – 5",null,"Kirsten W. Larson"]
[{"$f":"A713","v":0},null,{"$f":"C713","v":0},null,{"$f":"E713","v":0},null,9781681512341,null,9781681511443,null,"Military Robots",null,null,null,"Robotics in Our World",null,null,null,"Amicus",null,49,null,23.95,null,28.95,null,0,null,null,null,null,null,0,0,0,0,0,0,0,0,"Fall 2017",null,2018,null,623,null,null,null,null,null,null,null,null,null,"29",null,"Amicus High Interest",null,3.6,null,"Science & Technology",null,"English",null,"Reinforced Library",null,32,null,"L",null,"570L",null,"2 – 5",null,"Kirsten W. Larson"]
[{"$f":"A713","v":0},null,{"$f":"C713","v":0},null,{"$f":"E713","v":0},null,9781681512358,null,9781681511450,null,"Robots at Home",null,null,null,"Robotics in Our World",null,null,null,"Amicus",null,49,null,23.95,null,28.95,null,0,null,null,null,null,null,{"$f":"A718","v":0},{"$f":"C718","v":0},{"$f":"E718","v":0},{"$f":"SUM(AG718:AI718)","v":0},{"$f":"U718*A718","v":0},{"$f":"W718*C718","v":0},{"$f":"Y718*E718","v":0},{"$f":"SUM(AK718:AM718)","v":0},"Fall 2017",null,2018,null,"629.8/93",null,null,null,null,null,null,null,null,null,"29",null,"Amicus High Interest",null,3.3,null,"Science & Technology",null,"English",null,"Reinforced Library",null,32,null,"L",null,"580L",null,"2 – 5",null,"Nadia Higgins"]
[{"$f":"A713","v":0},null,{"$f":"C713","v":0},null,{"$f":"E713","v":0},null,9781681512365,null,9781681511467,null,"Robots in Fiction",null,null,null,"Robotics in Our World",null,null,null,"Amicus",null,49,null,23.95,null,28.95,null,0,null,null,null,null,null,0,0,0,0,0,0,0,0,"Fall 2017",null,2018,null,"809/.9336",null,null,null,null,null,null,null,null,null,"29",null,"Amicus High Interest",null,3.5,null,"Science & Technology",null,"English",null,"Reinforced Library",null,32,null,"L",null,"550L",null,"2 – 5",null,"Nadia Higgins"]
[{"$f":"A713","v":0},null,{"$f":"C713","v":0},null,{"$f":"E713","v":0},null,9781681512372,null,9781681511474,null,"Space Robots",null,null,null,"Robotics in Our World",null,null,null,"Amicus",null,49,null,23.95,null,28.95,null,0,null,null,null,null,null,0,0,0,0,0,0,0,0,"Fall 2017",null,2018,null,629.42999999999995,null,null,null,null,null,null,null,null,null,"29",null,"Amicus High Interest",null,3.6,null,"Science & Technology",null,"English",null,"Reinforced Library",null,32,null,"L",null,"550L",null,"2 – 5",null,"Kirsten W. Larson"]
[]
[null,null,null,null,null,null,null,null,null,null,"Complete Series of 8",null,null,null,"Weird and Unusual Animals",null,null,null,null,null,{"$f":"SUM(U723:U730)","v":358.80000000000007},null,{"$f":"SUM(W723:W730)","v":175.59999999999997},null,{"$f":"SUM(Y723:Y730)","v":215.59999999999997}]
[{"$f":"A722","v":0},null,{"$f":"C722","v":0},null,{"$f":"E722","v":0},null,9781681512440,null,9781681511542,null,"Axolotls",null,null,null,"Weird and Unusual Animals",null,null,null,"Amicus",null,44.85,null,21.95,null,{"$f":"W723+5","v":26.95},null,{"$f":"IF(AC723=FALSE,AK723+AL723+AM723,0)","v":0},null,null,null,null,null,0,0,0,0,0,0,0,0,"Fall 2017",null,2018,null,"597.8/5",null,null,null,null,null,null,null,null,null,"30",null,"Amicus High Interest",null,2.5,null,"Animals & Nature",null,"English",null,"Reinforced Library",null,24,null,"I",null,"450L",null,"1 - 4",null,"Karen Latchana Kenney"]
[{"$f":"A722","v":0},null,{"$f":"C722","v":0},null,{"$f":"E722","v":0},null,9781681512457,null,9781681511559,null,"Capybaras",null,null,null,"Weird and Unusual Animals",null,null,null,"Amicus",null,44.85,null,21.95,null,26.95,null,0,null,null,null,null,null,0,0,0,0,0,0,0,0,"Fall 2017",null,2018,null,"599.35/9",null,null,null,null,null,null,null,null,null,"30",null,"Amicus High Interest",null,2,null,"Animals & Nature",null,"English",null,"Reinforced Library",null,24,null,"I",null,"440L",null,"1 - 4",null,"Allan Morey"]
[{"$f":"A722","v":0},null,{"$f":"C722","v":0},null,{"$f":"E722","v":0},null,9781681512464,null,9781681511566,null,"Flying Dragons",null,null,null,"Weird and Unusual Animals",null,null,null,"Amicus",null,44.85,null,21.95,null,26.95,null,0,null,null,null,null,null,0,0,0,0,0,0,0,0,"Fall 2017",null,2018,null,"597.95/5",null,null,null,null,null,null,null,null,null,"30",null,"Amicus High Interest",null,2.2999999999999998,null,"Animals & Nature",null,"English",null,"Reinforced Library",null,24,null,"I",null,"450L",null,"1 - 4",null,"Karen Latchana Kenney"]
[{"$f":"A722","v":0},null,{"$f":"C722","v":0},null,{"$f":"E722","v":0},null,9781681512471,null,9781681511573,null,"Frilled Lizards",null,null,null,"Weird and Unusual Animals",null,null,null,"Amicus",null,44.85,null,21.95,null,26.95,null,0,null,null,null,null,null,0,0,0,0,0,0,0,0,"Fall 2017",null,2018,null,"597/.61",null,null,null,null,null,null,null,null,null,"30",null,"Amicus High Interest",null,2.4,null,"Animals & Nature",null,"English",null,"Reinforced Library",null,24,null,"I",null,"450L",null,"1 - 4",null,"Allan Morey"]
[{"$f":"A722","v":0},null,{"$f":"C722","v":0},null,{"$f":"E722","v":0},null,9781681512488,null,9781681511580,null,"Japanese Spider Crabs",null,null,null,"Weird and Unusual Animals",null,null,null,"Amicus",null,44.85,null,21.95,null,26.95,null,0,null,null,null,null,null,0,0,0,0,0,0,0,0,"Fall 2017",null,2018,null,"595.3/86",null,null,null,null,null,null,null,null,null,"30",null,"Amicus High Interest",null,2.2999999999999998,null,"Animals & Nature",null,"English",null,"Reinforced Library",null,24,null,"I",null,"470L",null,"1 - 4",null,"Wendy Perkins"]
[{"$f":"A722","v":0},null,{"$f":"C722","v":0},null,{"$f":"E722","v":0},null,9781681512501,null,9781681511603,null,"Sea Cucumbers",null,null,null,"Weird and Unusual Animals",null,null,null,"Amicus",null,44.85,null,21.95,null,26.95,null,0,null,null,null,null,null,0,0,0,0,0,0,0,0,"Fall 2017",null,2018,null,"593.9/6",null,null,null,null,null,null,null,null,null,"30",null,"Amicus High Interest",null,2.2000000000000002,null,"Animals & Nature",null,"English",null,"Reinforced Library",null,24,null,"I",null,"480L",null,"1 - 4",null,"Wendy Perkins"]
[{"$f":"A722","v":0},null,{"$f":"C722","v":0},null,{"$f":"E722","v":0},null,9781681512495,null,9781681511597,null,"Sea Dragons",null,null,null,"Weird and Unusual Animals",null,null,null,"Amicus",null,44.85,null,21.95,null,26.95,null,0,null,null,null,null,null,0,0,0,0,0,0,0,0,"Fall 2017",null,2018,null,"597/.679",null,null,null,null,null,null,null,null,null,"30",null,"Amicus High Interest",null,2.4,null,"Animals & Nature",null,"English",null,"Reinforced Library",null,24,null,"I",null,"450L",null,"1 - 4",null,"Wendy Perkins"]
[{"$f":"A722","v":0},null,{"$f":"C722","v":0},null,{"$f":"E722","v":0},null,9781681512518,null,9781681511610,null,"Star-nosed Moles",null,null,null,"Weird and Unusual Animals",null,null,null,"Amicus",null,44.85,null,21.95,null,26.95,null,0,null,null,null,null,null,0,0,0,0,0,0,0,0,"Fall 2017",null,2018,null,"599.33/5",null,null,null,null,null,null,null,null,null,"30",null,"Amicus High Interest",null,2.2999999999999998,null,"Animals & Nature",null,"English",null,"Reinforced Library",null,24,null,"I",null,"490L",null,"1 - 4",null,"Wendy Perkins"]
[]
[null,null,null,null,null,null,null,null,null,null,"Complete Series of 6",null,null,null,"Who Made My Lunch? ",null,null,null,null,null,{"$f":"SUM(U733:U738)","v":269.10000000000002},null,{"$f":"SUM(W733:W738)","v":131.69999999999999},null,{"$f":"SUM(Y733:Y738)","v":161.69999999999999}]
[{"$f":"A732","v":0},null,{"$f":"C732","v":0},null,{"$f":"E732","v":0},null,9781681512105,null,9781681511207,null,"From Cocoa Beans to Chocolate",null,null,null,"Who Made My Lunch? ",null,null,null,"Amicus",null,44.85,null,21.95,null,{"$f":"W733+5","v":26.95},null,{"$f":"IF(AC733=FALSE,AK733+AL733+AM733,0)","v":0},null,null,null,null,null,0,0,0,0,0,0,0,0,"Fall 2017",null,2018,null,"664/.5",null,null,null,null,null,null,null,null,null,"41",null,"Amicus Illustrated",null,2.9,null,"Health",null,"English",null,"Reinforced Library",null,24,null,null,null,"610L",null,"K - 3",null,"Bridget Heos"]
[{"$f":"A732","v":0},null,{"$f":"C732","v":0},null,{"$f":"E732","v":0},null,9781681512129,null,9781681511221,null,"From Grapes to Jelly ",null,null,null,"Who Made My Lunch? ",null,null,null,"Amicus",null,44.85,null,21.95,null,26.95,null,0,null,null,null,null,null,0,0,0,0,0,0,0,0,"Fall 2017",null,2018,null,"641.3/48",null,null,null,null,null,null,null,null,null,"41",null,"Amicus Illustrated",null,2.8,null,"Health",null,"English",null,"Reinforced Library",null,24,null,null,null,"580L",null,"K - 3",null,"Bridget Heos"]
[{"$f":"A732","v":0},null,{"$f":"C732","v":0},null,{"$f":"E732","v":0},null,9781681512099,null,9781681511191,null,"From Milk to Cheese",null,null,null,"Who Made My Lunch? ",null,null,null,"Amicus",null,44.85,null,21.95,null,26.95,null,0,null,null,null,null,null,0,0,0,0,0,0,0,0,"Fall 2017",null,2018,null,"637/.3",null,null,null,null,null,null,null,null,null,"41",null,"Amicus Illustrated",null,3,null,"Health",null,"English",null,"Reinforced Library",null,24,null,null,null,"590L",null,"K - 3",null,"Bridget Heos"]
[{"$f":"A732","v":0},null,{"$f":"C732","v":0},null,{"$f":"E732","v":0},null,9781681512112,null,9781681511214,null,"From Milk to Ice Cream",null,null,null,"Who Made My Lunch? ",null,null,null,"Amicus",null,44.85,null,21.95,null,26.95,null,0,null,null,null,null,null,0,0,0,0,0,0,0,0,"Fall 2017",null,2018,null,"641.86/2",null,null,null,null,null,null,null,null,null,"41",null,"Amicus Illustrated",null,2.8,null,"Health",null,"English",null,"Reinforced Library",null,24,null,null,null,"570L",null,"K - 3",null,"Bridget Heos"]
[{"$f":"A732","v":0},null,{"$f":"C732","v":0},null,{"$f":"E732","v":0},null,9781681512136,null,9781681511238,null,"From Peanuts to Peanut Butter",null,null,null,"Who Made My Lunch? ",null,null,null,"Amicus",null,44.85,null,21.95,null,26.95,null,0,null,null,null,null,null,0,0,0,0,0,0,0,0,"Fall 2017",null,2018,null,"664/.8056596",null,null,null,null,null,null,null,null,null,"41",null,"Amicus Illustrated",null,3.3,null,"Health",null,"English",null,"Reinforced Library",null,24,null,null,null,"580L",null,"K - 3",null,"Bridget Heos"]
[{"$f":"A732","v":0},null,{"$f":"C732","v":0},null,{"$f":"E732","v":0},null,9781681512082,null,9781681511184,null,"From Wheat to Bread",null,null,null,"Who Made My Lunch? ",null,null,null,"Amicus",null,44.85,null,21.95,null,26.95,null,0,null,null,null,null,null,0,0,0,0,0,0,0,0,"Fall 2017",null,2018,null,"641.81/5",null,null,null,null,null,null,null,null,null,"41",null,"Amicus Illustrated",null,2.9,null,"Health",null,"English",null,"Reinforced Library",null,24,null,null,null,"540L",null,"K - 3",null,"Bridget Heos"]
[]
[null,null,null,null,null,null,null,null,null,null,"Complete Series of 6",null,null,null,"Winter Olympic Sports",null,null,null,null,null,{"$f":"SUM(U741:U746)","v":294},null,{"$f":"SUM(W741:W746)","v":143.69999999999999},null,{"$f":"SUM(Y741:Y746)","v":173.7}]
[{"$f":"A740","v":0},null,{"$f":"C740","v":0},null,{"$f":"E740","v":0},null,9781681512402,null,9781681511504,null,"Bobsled and Luge",null,null,null,"Winter Olympic Sports",null,null,null,"Amicus",null,49,null,23.95,null,{"$f":"W741+5","v":28.95},null,{"$f":"IF(AC741=FALSE,AK741+AL741+AM741,0)","v":0},null,null,null,null,null,0,0,0,0,0,0,0,0,"Fall 2017",null,2018,null,"796.9/52",null,null,null,null,null,null,null,null,null,"28",null,"Amicus High Interest",null,3.4,null,"Sports & Recreation",null,"English",null,"Reinforced Library",null,32,null,"L",null,"570L",null,"2 – 5",null,"Laura Hamilton Waxman"]
[{"$f":"A740","v":0},null,{"$f":"C740","v":0},null,{"$f":"E740","v":0},null,9781681512389,null,9781681511481,null,"Figure Skating",null,null,null,"Winter Olympic Sports",null,null,null,"Amicus",null,49,null,23.95,null,28.95,null,0,null,null,null,null,null,0,0,0,0,0,0,0,0,"Fall 2017",null,2018,null,"796.91/2",null,null,null,null,null,null,null,null,null,"28",null,"Amicus High Interest",null,3.3,null,"Sports & Recreation",null,"English",null,"Reinforced Library",null,32,null,"L",null,"520L",null,"2 – 5",null,"Laura Hamilton Waxman"]
[{"$f":"A740","v":0},null,{"$f":"C740","v":0},null,{"$f":"E740","v":0},null,9781681512396,null,9781681511498,null,"Ice Hockey and Curling",null,null,null,"Winter Olympic Sports",null,null,null,"Amicus",null,49,null,23.95,null,28.95,null,0,null,null,null,null,null,0,0,0,0,0,0,0,0,"Fall 2017",null,2018,null,796.96199999999999,null,null,null,null,null,null,null,null,null,"28",null,"Amicus High Interest",null,3.5,null,"Sports & Recreation",null,"English",null,"Reinforced Library",null,32,null,"L",null,"540L",null,"2 – 5",null,"Laura Hamilton Waxman"]
[{"$f":"A740","v":0},null,{"$f":"C740","v":0},null,{"$f":"E740","v":0},null,9781681512419,null,9781681511511,null,"Skiing",null,null,null,"Winter Olympic Sports",null,null,null,"Amicus",null,49,null,23.95,null,28.95,null,0,null,null,null,null,null,0,0,0,0,0,0,0,0,"Fall 2017",null,2018,null,796.93,null,null,null,null,null,null,null,null,null,"28",null,"Amicus High Interest",null,3.7,null,"Sports & Recreation",null,"English",null,"Reinforced Library",null,32,null,"L",null,"630L",null,"2 – 5",null,"Laura Hamilton Waxman"]
[{"$f":"A740","v":0},null,{"$f":"C740","v":0},null,{"$f":"E740","v":0},null,9781681512426,null,9781681511528,null,"Snowboarding",null,null,null,"Winter Olympic Sports",null,null,null,"Amicus",null,49,null,23.95,null,28.95,null,0,null,null,null,null,null,0,0,0,0,0,0,0,0,"Fall 2017",null,2018,null,796.93899999999996,null,null,null,null,null,null,null,null,null,"28",null,"Amicus High Interest",null,3.3,null,"Sports & Recreation",null,"English",null,"Reinforced Library",null,32,null,"L",null,"560L",null,"2 – 5",null,"Laura Hamilton Waxman"]
[{"$f":"A740","v":0},null,{"$f":"C740","v":0},null,{"$f":"E740","v":0},null,9781681512433,null,9781681511535,null,"Speed Skating",null,null,null,"Winter Olympic Sports",null,null,null,"Amicus",null,49,null,23.95,null,28.95,null,0,null,null,null,null,null,0,0,0,0,0,0,0,0,"Fall 2017",null,2018,null,"796.91/4",null,null,null,null,null,null,null,null,null,"28",null,"Amicus High Interest",null,3.6,null,"Sports & Recreation",null,"English",null,"Reinforced Library",null,32,null,"L",null,"600L",null,"2 – 5",null,"Laura Hamilton Waxman"]
[]
[null,null,null,null,null,null,null,null,null,null,"Complete Series of 11",null,null,null,"1,2,3... Count With Me ",null,null,null,null,null,{"$f":"SUM(U749:U759)","v":0},null,{"$f":"SUM(W749:W759)","v":241.44999999999993},null,{"$f":"SUM(Y749:Y759)","v":0}]
[null,null,{"$f":"C748","v":0},null,null,null,"Not Available",null,9781607539186,null,"100 Snowflakes",null,null,null,"1,2,3... Count With Me ",null,null,null,"Amicus",null,0,null,21.95,null,0,null,{"$f":"IF(AC749=FALSE,AK749+AL749+AM749,0)","v":0},null,null,null,null,null,0,0,0,0,0,0,0,0,"Fall 2016",null,2017,null,"513.2/11",null,null,null,null,null,null,null,null,null,null,null,"Amicus Readers",null,1.6,null,"Math & Finance",null,"English",null,"Reinforced Library",null,24,null,"F",null,"420L",null,"K - 3",null,"Martha E. H. Rustad"]
[null,null,{"$f":"C748","v":0},null,null,null,"Not Available",null,9781607539193,null,"Across the Country 18, 19, 20",null,null,null,"1,2,3... Count With Me ",null,null,null,"Amicus",null,0,null,21.95,null,0,null,0,null,null,null,null,null,0,0,0,0,0,0,0,0,"Fall 2016",null,2017,null,"388.3/4",null,null,null,null,null,null,null,null,null,null,null,"Amicus Readers",null,1.5,null,"Math & Finance",null,"English",null,"Reinforced Library",null,24,null,"G",null,"380L",null,"K - 3",null,"Martha E. H. Rustad"]
[null,null,{"$f":"C748","v":0},null,null,null,"Not Available",null,9781607539209,null,"Chicks 2, 4, 6",null,null,null,"1,2,3... Count With Me ",null,null,null,"Amicus",null,0,null,21.95,null,0,null,0,null,null,null,null,null,0,0,0,0,0,0,0,0,"Fall 2016",null,2017,null,"513.2/11",null,null,null,null,null,null,null,null,null,null,null,"Amicus Readers",null,1.3,null,"Math & Finance",null,"English",null,"Reinforced Library",null,24,null,"E",null,"410L",null,"K - 3",null,"Martha E. H. Rustad"]
[null,null,{"$f":"C748","v":0},null,null,null,"Not Available",null,9781607537151,null,"Down in the Jungle 1,2,3",null,null,null,"1,2,3... Count With Me ",null,null,null,"Amicus",null,0,null,21.95,null,0,null,0,null,null,null,null,null,0,0,0,0,0,0,0,0,"Fall 2015",null,2016,null,"513.2/11",null,null,null,null,null,null,null,null,null,null,null,"Amicus Readers",null,1.5,null,"Math & Finance",null,"English",null,"Reinforced Library",null,24,null,"E",null,"380L",null,"K - 3",null,"Tracey E. Dils"]
[null,null,{"$f":"C748","v":0},null,null,null,"Not Available",null,9781607537182,null,"Down on the Farm 1,2,3",null,null,null,"1,2,3... Count With Me ",null,null,null,"Amicus",null,0,null,21.95,null,0,null,0,null,null,null,null,null,0,0,0,0,0,0,0,0,"Fall 2015",null,2016,null,"513.2/11",null,null,null,null,null,null,null,null,null,null,null,"Amicus Readers",null,1.3,null,"Math & Finance",null,"English",null,"Reinforced Library",null,24,null,"E",null,"370L",null,"K - 3",null,"Tracey E. Dils"]
[null,null,{"$f":"C748","v":0},null,null,null,"Not Available",null,9781607539216,null,"Down the Field 10, 20, 30",null,null,null,"1,2,3... Count With Me ",null,null,null,"Amicus",null,0,null,21.95,null,0,null,0,null,null,null,null,null,0,0,0,0,0,0,0,0,"Fall 2016",null,2017,null," 513.2/11",null,null,null,null,null,null,null,null,null,null,null,"Amicus Readers",null,1.5,null,"Math & Finance",null,"English",null,"Reinforced Library",null,24,null,"G",null,"380L",null,"K - 3",null,"Martha E. H. Rustad"]
[null,null,{"$f":"C748","v":0},null,null,null,"Not Available",null,9781607537199,null,"Falling Leaves 1,2,3",null,null,null,"1,2,3... Count With Me ",null,null,null,"Amicus",null,0,null,21.95,null,0,null,0,null,null,null,null,null,0,0,0,0,0,0,0,0,"Fall 2015",null,2016,null,"513.2/11",null,null,null,null,null,null,null,null,null,null,null,"Amicus Readers",null,1.4,null,"Math & Finance",null,"English",null,"Reinforced Library",null,24,null,"E",null,"360L",null,"K - 3",null,"Tracey E. Dils"]
[null,null,{"$f":"C748","v":0},null,null,null,"Not Available",null,9781607537168,null,"My Pets and Me 1,2,3",null,null,null,"1,2,3... Count With Me ",null,null,null,"Amicus",null,0,null,21.95,null,0,null,0,null,null,null,null,null,0,0,0,0,0,0,0,0,"Fall 2015",null,2016,null,"513.2/11",null,null,null,null,null,null,null,null,null,null,null,"Amicus Readers",null,1.3,null,"Math & Finance",null,"English",null,"Reinforced Library",null,24,null,"E",null,"340L",null,"K - 3",null,"Tracey E. Dils"]
[null,null,{"$f":"C748","v":0},null,null,null,"Not Available",null,9781607539223,null,"On a Safari 5, 10, 15",null,null,null,"1,2,3... Count With Me ",null,null,null,"Amicus",null,0,null,21.95,null,0,null,0,null,null,null,null,null,0,0,0,0,0,0,0,0,"Fall 2016",null,2017,null,"513.2/11",null,null,null,null,null,null,null,null,null,null,null,"Amicus Readers",null,1.4,null,"Math & Finance",null,"English",null,"Reinforced Library",null,24,null,"G",null,"280L",null,"K - 3",null,"Martha E. H. Rustad"]
[null,null,{"$f":"C748","v":0},null,null,null,"Not Available",null,9781607539230,null,"One More Bug",null,null,null,"1,2,3... Count With Me ",null,null,null,"Amicus",null,0,null,21.95,null,0,null,0,null,null,null,null,null,0,0,0,0,0,0,0,0,"Fall 2016",null,2017,null,"513.2/11",null,null,null,null,null,null,null,null,null,null,null,"Amicus Readers",null,1.6,null,"Math & Finance",null,"English",null,"Reinforced Library",null,24,null,"F",null,"390L",null,"K - 3",null,"Martha E. H. Rustad"]
[null,null,{"$f":"C748","v":0},null,null,null,"Not Available",null,9781607537175,null,"Under the Sea 1,2,3",null,null,null,"1,2,3... Count With Me ",null,null,null,"Amicus",null,0,null,21.95,null,0,null,0,null,null,null,null,null,0,0,0,0,0,0,0,0,"Fall 2015",null,2016,null,"513.2/11",null,null,null,null,null,null,null,null,null,null,null,"Amicus Readers",null,1.7,null,"Math & Finance",null,"English",null,"Reinforced Library",null,24,null,"E",null,"460L",null,"K - 3",null,"Tracey E. Dils"]
[]
[null,null,null,null,null,null,null,null,null,null,"Complete Series of 6",null,null,null,"Adventures in Science",null,null,null,null,null,{"$f":"SUM(U762:U767)","v":0},null,{"$f":"SUM(W762:W767)","v":131.69999999999999},null,{"$f":"SUM(Y762:Y767)","v":0}]
[null,null,{"$f":"C761","v":0},null,null,null,"Not Available",null,9781607539612,null,"Do You Really Want to Burn Your Toast?",null,null,null,"Adventures in Science",null,null,null,"Amicus",null,0,null,21.95,null,0,null,{"$f":"IF(AC762=FALSE,AK762+AL762+AM762,0)","v":0},null,null,null,null,null,0,0,0,0,0,0,0,0,"Fall 2016",null,2017,null,536,null,null,null,null,null,null,null,null,null,"39",null,"Amicus Illustrated",null,2.6,null,"Science & Technology",null,"English",null,"Reinforced Library",null,24,null,"J",null,"520L",null,"2 – 5",null,"Daniel D. Maurer"]
[null,null,{"$f":"C761","v":0},null,null,null,"Not Available",null,9781607539575,null,"Do You Really Want to Create a Mudslide?",null,null,null,"Adventures in Science",null,null,null,"Amicus",null,0,null,21.95,null,0,null,0,null,null,null,null,null,0,0,0,0,0,0,0,0,"Fall 2016",null,2017,null,"551.3/52",null,null,null,null,null,null,null,null,null,"39",null,"Amicus Illustrated",null,2.8,null,"Science & Technology",null,"English",null,"Reinforced Library",null,24,null,"J",null,"610L",null,"2 – 5",null,"Daniel D. Maurer"]
[null,null,{"$f":"C761","v":0},null,null,null,"Not Available",null,9781607539599,null,"Do You Really Want to Drive in a Blizzard?",null,null,null,"Adventures in Science",null,null,null,"Amicus",null,0,null,21.95,null,0,null,0,null,null,null,null,null,0,0,0,0,0,0,0,0,"Fall 2016",null,2017,null,551.63,null,null,null,null,null,null,null,null,null,"39",null,"Amicus Illustrated",null,3,null,"Science & Technology",null,"English",null,"Reinforced Library",null,24,null,"J",null,"590L",null,"2 – 5",null,"Daniel D. Maurer"]
[null,null,{"$f":"C761","v":0},null,null,null,"Not Available",null,9781607539582,null,"Do You Really Want to Skate on Thin Ice?",null,null,null,"Adventures in Science",null,null,null,"Amicus",null,0,null,21.95,null,0,null,0,null,null,null,null,null,0,0,0,0,0,0,0,0,"Fall 2016",null,2017,null,530.4,null,null,null,null,null,null,null,null,null,"39",null,"Amicus Illustrated",null,2.9,null,"Science & Technology",null,"English",null,"Reinforced Library",null,24,null,"J",null,"600L",null,"2 – 5",null,"Daniel D. Maurer"]
[null,null,{"$f":"C761","v":0},null,null,null,"Not Available",null,9781607539605,null,"Do You Really Want to Walk in the Dark?",null,null,null,"Adventures in Science",null,null,null,"Amicus",null,0,null,21.95,null,0,null,0,null,null,null,null,null,0,0,0,0,0,0,0,0,"Fall 2016",null,2017,null,535,null,null,null,null,null,null,null,null,null,"39",null,"Amicus Illustrated",null,3,null,"Science & Technology",null,"English",null,"Reinforced Library",null,24,null,"J",null,"570L",null,"2 – 5",null,"Daniel D. Maurer"]
[null,null,{"$f":"C761","v":0},null,null,null,"Not Available",null,9781607539568,null,"Do You Really Want to Yell in a Cave?",null,null,null,"Adventures in Science",null,null,null,"Amicus",null,0,null,21.95,null,0,null,0,null,null,null,null,null,0,0,0,0,0,0,0,0,"Fall 2016",null,2017,null,534,null,null,null,null,null,null,null,null,null,"39",null,"Amicus Illustrated",null,2.4,null,"Science & Technology",null,"English",null,"Reinforced Library",null,24,null,"J",null,"440L",null,"2 – 5",null,"Daniel D. Maurer"]
[]
[null,null,null,null,null,null,null,null,null,null,"Complete Series of 6",null,null,null,"Aesop's Fables Remixed",null,null,null,null,null,{"$f":"SUM(U770:U775)","v":0},null,{"$f":"SUM(W770:W775)","v":131.69999999999999},null,{"$f":"SUM(Y770:Y775)","v":0}]
[null,null,{"$f":"C769","v":0},null,null,null,"Not Available",null,9781607539520,null,"Abby Visits the Big City",null,null,null,"Aesop's Fables Remixed",null,null,null,"Amicus",null,0,null,21.95,null,0,null,{"$f":"IF(AC770=FALSE,AK770+AL770+AM770,0)","v":0},null,null,null,null,null,0,0,0,0,0,0,0,0,"Fall 2016",null,2017,null,398.2,null,null,null,null,null,null,null,null,null,"42",null,"Amicus Illustrated",null,2.7,null,"Language Arts",null,"English",null,"Reinforced Library",null,24,null,"J",null,"340L",null,"2 – 5",null,"Connie Colwell Miller"]
[null,null,{"$f":"C769","v":0},null,null,null,"Not Available",null,9781607539513,null,"Andrew and the Birthday Surprise",null,null,null,"Aesop's Fables Remixed",null,null,null,"Amicus",null,0,null,21.95,null,0,null,0,null,null,null,null,null,0,0,0,0,0,0,0,0,"Fall 2016",null,2017,null,398.2,null,null,null,null,null,null,null,null,null,"42",null,"Amicus Illustrated",null,2.2000000000000002,null,"Language Arts",null,"English",null,"Reinforced Library",null,24,null,"J",null,"350L",null,"2 – 5",null,"Connie Colwell Miller"]
[null,null,{"$f":"C769","v":0},null,null,null,"Not Available",null,9781607539506,null,"Henry’s Track and Field Day",null,null,null,"Aesop's Fables Remixed",null,null,null,"Amicus",null,0,null,21.95,null,0,null,0,null,null,null,null,null,0,0,0,0,0,0,0,0,"Fall 2016",null,2017,null,398.2,null,null,null,null,null,null,null,null,null,"42",null,"Amicus Illustrated",null,2.6,null,"Language Arts",null,"English",null,"Reinforced Library",null,24,null,"J",null,"300L",null,"2 – 5",null,"Connie Colwell Miller"]
[null,null,{"$f":"C769","v":0},null,null,null,"Not Available",null,9781607539544,null,"James and the Kindergartener",null,null,null,"Aesop's Fables Remixed",null,null,null,"Amicus",null,0,null,21.95,null,0,null,0,null,null,null,null,null,0,0,0,0,0,0,0,0,"Fall 2016",null,2017,null,398.2,null,null,null,null,null,null,null,null,null,"42",null,"Amicus Illustrated",null,2.4,null,"Language Arts",null,"English",null,"Reinforced Library",null,24,null,"J",null,"380L",null,"2 – 5",null,"Connie Colwell Miller"]
[null,null,{"$f":"C769","v":0},null,null,null,"Not Available",null,9781607539551,null,"Mary, Anna, and the Little Brother",null,null,null,"Aesop's Fables Remixed",null,null,null,"Amicus",null,0,null,21.95,null,0,null,0,null,null,null,null,null,0,0,0,0,0,0,0,0,"Fall 2016",null,2017,null,398.2,null,null,null,null,null,null,null,null,null,"42",null,"Amicus Illustrated",null,2.2999999999999998,null,"Language Arts",null,"English",null,"Reinforced Library",null,24,null,"J",null,"300L",null,"2 – 5",null,"Connie Colwell Miller"]
[null,null,{"$f":"C769","v":0},null,null,null,"Not Available",null,9781607539537,null,"Rosie’s Special Gift",null,null,null,"Aesop's Fables Remixed",null,null,null,"Amicus",null,0,null,21.95,null,0,null,0,null,null,null,null,null,0,0,0,0,0,0,0,0,"Fall 2016",null,2017,null,398.2,null,null,null,null,null,null,null,null,null,"42",null,"Amicus Illustrated",null,2.4,null,"Language Arts",null,"English",null,"Reinforced Library",null,24,null,"J",null,"360L",null,"2 – 5",null,"Connie Colwell Miller"]
[]
[null,null,null,null,null,null,null,null,null,null,"Complete Series of 3",null,null,null,"Amicus Ink Board Books - Farm Animals",null,null,null,null,null,{"$f":"SUM(U778:U780)","v":0},null,{"$f":"SUM(W778:W780)","v":23.97},null,{"$f":"SUM(Y778:Y780)","v":0}]
[null,null,{"$f":"C777","v":0},null,null,null,"Not Available",null,9781681521251,null,"Cows Moo",null,null,null,"Amicus Ink Board Books - Farm Animals",null,null,null,"Amicus",null,0,null,7.99,null,0,null,{"$f":"IF(AC778=FALSE,AK778+AL778+AM778,0)","v":0},null,null,null,null,null,0,0,0,0,0,0,0,0,"Fall 2016",null,2017,null,636.20000000000005,null,null,null,null,null,null,null,null,null,"14",null,"Amicus Ink",null,"Not Quizzable",null,"Animals & Nature",null,"English",null,"Board Book",null,14,null,null,null,null,null,"PreK - 1",null,"Rebecca Glaser"]
[null,null,{"$f":"C777","v":0},null,null,null,"Not Available",null,9781681521275,null,"Ducks Quack",null,null,null,"Amicus Ink Board Books - Farm Animals",null,null,null,"Amicus",null,0,null,7.99,null,0,null,0,null,null,null,null,null,0,0,0,0,0,0,0,0,"Fall 2016",null,2017,null,"636.5/97",null,null,null,null,null,null,null,null,null,"14",null,"Amicus Ink",null,"Not Quizzable",null,"Animals & Nature",null,"English",null,"Board Book",null,14,null,null,null,null,null,"PreK - 1",null,"Rebecca Glaser"]
[null,null,{"$f":"C777","v":0},null,null,null,"Not Available",null,9781681521268,null,"Horses Neigh",null,null,null,"Amicus Ink Board Books - Farm Animals",null,null,null,"Amicus",null,0,null,7.99,null,0,null,0,null,null,null,null,null,0,0,0,0,0,0,0,0,"Fall 2016",null,2017,null,636.1,null,null,null,null,null,null,null,null,null,"14",null,"Amicus Ink",null,"Not Quizzable",null,"Animals & Nature",null,"English",null,"Board Book",null,14,null,null,null,null,null,"PreK - 1",null,"Rebecca Glaser"]
[]
[null,null,null,null,null,null,null,null,null,null,"Complete Series of 6",null,null,null,"Great Outdoors",null,null,null,null,null,{"$f":"SUM(U783:U788)","v":0},null,{"$f":"SUM(W783:W788)","v":143.69999999999999},null,{"$f":"SUM(Y783:Y788)","v":0}]
[null,null,{"$f":"C782","v":0},null,null,null,"Not Available",null,9781607537960,null,"Camping",null,null,null,"Great Outdoors",null,null,null,"Amicus",null,0,null,23.95,null,0,null,{"$f":"IF(AC783=FALSE,AK783+AL783+AM783,0)","v":0},null,null,null,null,null,{"$f":"A783","v":0},{"$f":"C783","v":0},{"$f":"E783","v":0},{"$f":"SUM(AG783:AI783)","v":0},{"$f":"U783*A783","v":0},{"$f":"W783*C783","v":0},{"$f":"Y783*E783","v":0},{"$f":"SUM(AK783:AM783)","v":0},"Fall 2016",null,2017,null,796.54,null,null,null,null,null,null,null,null,null,"28",null,"Amicus High Interest",null,3.1,null,"Animals & Nature",null,"English",null,"Reinforced Library",null,32,null,"K",null,"550L",null,"2 – 5",null,"Allan Morey"]
[null,null,{"$f":"C782","v":0},null,null,null,"Not Available",null,9781607537977,null,"Canoeing",null,null,null,"Great Outdoors",null,null,null,"Amicus",null,0,null,23.95,null,0,null,0,null,null,null,null,null,0,0,0,0,0,0,0,0,"Fall 2016",null,2017,null,797.12199999999996,null,null,null,null,null,null,null,null,null,"28",null,"Amicus High Interest",null,3.1,null,"Animals & Nature",null,"English",null,"Reinforced Library",null,32,null,"K",null,"530L",null,"2 – 5",null,"Matt Doeden"]
[null,null,{"$f":"C782","v":0},null,null,null,"Not Available",null,9781607537984,null,"Duck Hunting",null,null,null,"Great Outdoors",null,null,null,"Amicus",null,0,null,23.95,null,0,null,0,null,null,null,null,null,0,0,0,0,0,0,0,0,"Fall 2016",null,2017,null,"799.2/44",null,null,null,null,null,null,null,null,null,"28",null,"Amicus High Interest",null,3.3,null,"Animals & Nature",null,"English",null,"Reinforced Library",null,32,null,"K",null,"600L",null,"2 – 5",null,"Matt Doeden"]
[null,null,{"$f":"C782","v":0},null,null,null,"Not Available",null,9781607537991,null,"Freshwater Fishing",null,null,null,"Great Outdoors",null,null,null,"Amicus",null,0,null,23.95,null,0,null,0,null,null,null,null,null,0,0,0,0,0,0,0,0,"Fall 2016",null,2017,null,"799.1/1",null,null,null,null,null,null,null,null,null,"28",null,"Amicus High Interest",null,3,null,"Animals & Nature",null,"English",null,"Reinforced Library",null,32,null,"K",null,"570L",null,"2 – 5",null,"Allan Morey"]
[null,null,{"$f":"C782","v":0},null,null,null,"Not Available",null,9781607538004,null,"Hiking",null,null,null,"Great Outdoors",null,null,null,"Amicus",null,0,null,23.95,null,0,null,0,null,null,null,null,null,0,0,0,0,0,0,0,0,"Fall 2016",null,2017,null,796.51,null,null,null,null,null,null,null,null,null,"28",null,"Amicus High Interest",null,3.2,null,"Animals & Nature",null,"English",null,"Reinforced Library",null,32,null,"K",null,"560L",null,"2 – 5",null,"Allan Morey"]
[null,null,{"$f":"C782","v":0},null,null,null,"Not Available",null,9781607538011,null,"Rock Climbing",null,null,null,"Great Outdoors",null,null,null,"Amicus",null,0,null,23.95,null,0,null,0,null,null,null,null,null,0,0,0,0,0,0,0,0,"Fall 2016",null,2017,null,"796.522/3",null,null,null,null,null,null,null,null,null,"28",null,"Amicus High Interest",null,3.3,null,"Animals & Nature",null,"English",null,"Reinforced Library",null,32,null,"K",null,"540L",null,"2 – 5",null,"Matt Doeden"]
[]
[null,null,null,null,null,null,null,null,null,null,"Complete Series of 4",null,null,null,"Keeping Cities Clean",null,null,null,null,null,{"$f":"SUM(U791:U794)","v":0},null,{"$f":"SUM(W791:W794)","v":87.8},null,{"$f":"SUM(Y791:Y794)","v":0}]
[null,null,{"$f":"C790","v":0},null,null,null,"Not Available",null,9781607539643,null,"Follow that Bottle!",null,null,null,"Keeping Cities Clean",null,null,null,"Amicus",null,0,null,21.95,null,0,null,{"$f":"IF(AC791=FALSE,AK791+AL791+AM791,0)","v":0},null,null,null,null,null,0,0,0,0,0,0,0,0,"Fall 2016",null,2017,null,"363.72/88",null,null,null,null,null,null,null,null,null,"42",null,"Amicus Illustrated",null,2.9,null,"Science & Technology",null,"English",null,"Reinforced Library",null,24,null,"J",null,"540L",null,"2 – 5",null,"Bridget Heos"]
[null,null,{"$f":"C790","v":0},null,null,null,"Not Available",null,9781607539636,null,"Follow that Garbage!",null,null,null,"Keeping Cities Clean",null,null,null,"Amicus",null,0,null,21.95,null,0,null,0,null,null,null,null,null,0,0,0,0,0,0,0,0,"Fall 2016",null,2017,null,"363.72/8",null,null,null,null,null,null,null,null,null,"42",null,"Amicus Illustrated",null,2.9,null,"Science & Technology",null,"English",null,"Reinforced Library",null,24,null,"J",null,"610L",null,"2 – 5",null,"Bridget Heos"]
[null,null,{"$f":"C790","v":0},null,null,null,"Not Available",null,9781607539650,null,"Follow that Paper!",null,null,null,"Keeping Cities Clean",null,null,null,"Amicus",null,0,null,21.95,null,0,null,0,null,null,null,null,null,0,0,0,0,0,0,0,0,"Fall 2016",null,2017,null,"363.72/88",null,null,null,null,null,null,null,null,null,"42",null,"Amicus Illustrated",null,2.9,null,"Science & Technology",null,"English",null,"Reinforced Library",null,24,null,"J",null,"580L",null,"2 – 5",null,"Bridget Heos"]
[null,null,{"$f":"C790","v":0},null,null,null,"Not Available",null,9781607539629,null,"Follow that Tap Water!",null,null,null,"Keeping Cities Clean",null,null,null,"Amicus",null,0,null,21.95,null,0,null,0,null,null,null,null,null,0,0,0,0,0,0,0,0,"Fall 2016",null,2017,null,"363.6/1",null,null,null,null,null,null,null,null,null,"42",null,"Amicus Illustrated",null,3,null,"Science & Technology",null,"English",null,"Reinforced Library",null,24,null,"J",null,"670L",null,"2 – 5",null,"Bridget Heos"]
[]
[null,null,null,null,null,null,null,null,null,null,"Complete Series of 7",null,null,null,"Let's Race",null,null,null,null,null,{"$f":"SUM(U797:U803)","v":0},null,{"$f":"SUM(W797:W803)","v":139.65},null,{"$f":"SUM(Y797:Y803)","v":0}]
[null,null,{"$f":"C796","v":0},null,null,null,"Not Available",null,9781607539117,null,"Boat Race, The",null,null,null,"Let's Race",null,null,null,"Amicus",null,0,null,19.95,null,0,null,{"$f":"IF(AC797=FALSE,AK797+AL797+AM797,0)","v":0},null,null,null,null,null,0,0,0,0,0,0,0,0,"Fall 2016",null,2017,null,"797.1/4",null,null,null,null,null,null,null,null,null,null,null,"Amicus Readers",null,0.6,null,"Language Arts",null,"English",null,"Reinforced Library",null,16,null,"D",null,"210L",null,"K - 3",null,"Rachel Bach"]
[null,null,{"$f":"C796","v":0},null,null,null,"Not Available",null,9781607539124,null,"Car Race, The",null,null,null,"Let's Race",null,null,null,"Amicus",null,0,null,19.95,null,0,null,0,null,null,null,null,null,0,0,0,0,0,0,0,0,"Fall 2016",null,2017,null,796.72,null,null,null,null,null,null,null,null,null,null,null,"Amicus Readers",null,0.7,null,"Language Arts",null,"English",null,"Reinforced Library",null,16,null,"D",null,"320L",null,"K - 3",null,"Rachel Bach"]
[null,null,{"$f":"C796","v":0},null,null,null,"Not Available",null,9781607539131,null,"Go-Kart Race, The",null,null,null,"Let's Race",null,null,null,"Amicus",null,0,null,19.95,null,0,null,0,null,null,null,null,null,0,0,0,0,0,0,0,0,"Fall 2016",null,2017,null,"796.7/6",null,null,null,null,null,null,null,null,null,null,null,"Amicus Readers",null,0.7,null,"Language Arts",null,"English",null,"Reinforced Library",null,16,null,"D",null,"220L",null,"K - 3",null,"Rachel Bach"]
[null,null,{"$f":"C796","v":0},null,null,null,"Not Available",null,9781607539148,null,"Hot Air Balloon Race, The",null,null,null,"Let's Race",null,null,null,"Amicus",null,0,null,19.95,null,0,null,0,null,null,null,null,null,0,0,0,0,0,0,0,0,"Fall 2016",null,2017,null,"797.5/1",null,null,null,null,null,null,null,null,null,null,null,"Amicus Readers",null,0.9,null,"Language Arts",null,"English",null,"Reinforced Library",null,16,null,"D",null,"290L",null,"K - 3",null,"Rachel Bach"]
[null,null,{"$f":"C796","v":0},null,null,null,"Not Available",null,9781607539179,null,"Monster Truck Race, The",null,null,null,"Let's Race",null,null,null,"Amicus",null,0,null,19.95,null,0,null,0,null,null,null,null,null,0,0,0,0,0,0,0,0,"Fall 2016",null,2017,null,796.7,null,null,null,null,null,null,null,null,null,null,null,"Amicus Readers",null,0.7,null,"Language Arts",null,"English",null,"Reinforced Library",null,16,null,"D",null,"170L",null,"K - 3",null,"Rachel Bach"]
[null,null,{"$f":"C796","v":0},null,null,null,"Not Available",null,9781607539155,null,"Motorcycle Race, The",null,null,null,"Let's Race",null,null,null,"Amicus",null,0,null,19.95,null,0,null,0,null,null,null,null,null,0,0,0,0,0,0,0,0,"Fall 2016",null,2017,null,"796.7/56",null,null,null,null,null,null,null,null,null,null,null,"Amicus Readers",null,0.8,null,"Language Arts",null,"English",null,"Reinforced Library",null,16,null,"D",null,"270L",null,"K - 3",null,"Mari Schuh"]
[null,null,{"$f":"C796","v":0},null,null,null,"Not Available",null,9781607539162,null,"Tractor Race, The",null,null,null,"Let's Race",null,null,null,"Amicus",null,0,null,19.95,null,0,null,0,null,null,null,null,null,0,0,0,0,0,0,0,0,"Fall 2016",null,2017,null,629.22799999999995,null,null,null,null,null,null,null,null,null,null,null,"Amicus Readers",null,0.7,null,"Language Arts",null,"English",null,"Reinforced Library",null,16,null,"D",null,"210L",null,"K - 3",null,"Mari Schuh"]
[]
[null,null,null,null,null,null,null,null,null,null,"Complete Series of 5",null,null,null,"Natural Disasters",null,null,null,null,null,{"$f":"SUM(U806:U810)","v":0},null,{"$f":"SUM(W806:W810)","v":119.75},null,{"$f":"SUM(Y806:Y810)","v":0}]
[null,null,{"$f":"C805","v":0},null,null,null,"Not Available",null,9781607539889,null,"Blizzard!",null,null,null,"Natural Disasters",null,null,null,"Amicus",null,0,null,23.95,null,0,null,{"$f":"IF(AC806=FALSE,AK806+AL806+AM806,0)","v":0},null,null,null,null,null,0,0,0,0,0,0,0,0,"Fall 2016",null,2017,null,"551.55/5",null,null,null,null,null,null,null,null,null,"32",null,"Amicus High Interest",null,3.1,null,"Science & Technology",null,"English",null,"Reinforced Library",null,32,null,"L",null,"570L",null,"2 – 5",null,"Elizabeth Raum"]
[null,null,{"$f":"C805","v":0},null,null,null,"Not Available",null,9781607539902,null,"Flood!",null,null,null,"Natural Disasters",null,null,null,"Amicus",null,0,null,23.95,null,0,null,0,null,null,null,null,null,0,0,0,0,0,0,0,0,"Fall 2016",null,2017,null," 551.48/9",null,null,null,null,null,null,null,null,null,"32",null,"Amicus High Interest",null,3.1,null,"Science & Technology",null,"English",null,"Reinforced Library",null,32,null,"L",null,"560L",null,"2 – 5",null,"Elizabeth Raum"]
[null,null,{"$f":"C805","v":0},null,null,null,"Not Available",null,9781607539919,null,"Hurricane!",null,null,null,"Natural Disasters",null,null,null,"Amicus",null,0,null,23.95,null,0,null,0,null,null,null,null,null,0,0,0,0,0,0,0,0,"Fall 2016",null,2017,null,"551.55/2",null,null,null,null,null,null,null,null,null,"32",null,"Amicus High Interest",null,3.5,null,"Science & Technology",null,"English",null,"Reinforced Library",null,32,null,"L",null,"570L",null,"2 – 5",null,"Elizabeth Raum"]
[null,null,{"$f":"C805","v":0},null,null,null,"Not Available",null,9781607539926,null,"Tornado!",null,null,null,"Natural Disasters",null,null,null,"Amicus",null,0,null,23.95,null,0,null,0,null,null,null,null,null,0,0,0,0,0,0,0,0,"Fall 2016",null,2017,null,"551.55/3",null,null,null,null,null,null,null,null,null,"32",null,"Amicus High Interest",null,3.2,null,"Science & Technology",null,"English",null,"Reinforced Library",null,32,null,"L",null,"560L",null,"2 – 5",null,"Elizabeth Raum"]
[null,null,{"$f":"C805","v":0},null,null,null,"Not Available",null,9781607539933,null,"Wildfire!",null,null,null,"Natural Disasters",null,null,null,"Amicus",null,0,null,23.95,null,0,null,0,null,null,null,null,null,0,0,0,0,0,0,0,0,"Fall 2016",null,2017,null,"363.37/9",null,null,null,null,null,null,null,null,null,"32",null,"Amicus High Interest",null,3.3,null,"Science & Technology",null,"English",null,"Reinforced Library",null,32,null,"L",null,"520L",null,"2 – 5",null,"Elizabeth Raum"]
[]
[null,null,null,null,null,null,null,null,null,null,"Complete Series of 6",null,null,null,"Pro Sports Superstars",null,null,null,null,null,{"$f":"SUM(U813:U818)","v":0},null,{"$f":"SUM(W813:W818)","v":131.69999999999999},null,{"$f":"SUM(Y813:Y818)","v":0}]
[null,null,{"$f":"C812","v":0},null,null,null,"Not Available",null,9781607539407,null,"Superstars of NASCAR",null,null,null,"Pro Sports Superstars",null,null,null,"Amicus",null,0,null,21.95,null,0,null,{"$f":"IF(AC813=FALSE,AK813+AL813+AM813,0)","v":0},null,null,null,null,null,0,0,0,0,0,0,0,0,"Fall 2016",null,2017,null,"796.720922 B",null,null,null,null,null,null,null,null,null,"28",null,"Amicus High Interest",null,2.5,null,"Sports & Recreation",null,"English",null,"Reinforced Library",null,24,null,"I",null,"510L",null,"1 - 4",null,"Todd Kortemeier"]
[null,null,{"$f":"C812","v":0},null,null,null,"Not Available",null,9781607539414,null,"Superstars of Pro Tennis",null,null,null,"Pro Sports Superstars",null,null,null,"Amicus",null,0,null,21.95,null,0,null,0,null,null,null,null,null,0,0,0,0,0,0,0,0,"Fall 2016",null,2017,null,"796.3420922 B",null,null,null,null,null,null,null,null,null,"28",null,"Amicus High Interest",null,2.2999999999999998,null,"Sports & Recreation",null,"English",null,"Reinforced Library",null,24,null,"I",null,"480L",null,"1 - 4",null,"Todd Kortemeier"]
[null,null,{"$f":"C812","v":0},null,null,null,"Not Available",null,9781607539384,null,"Superstars of the NHL",null,null,null,"Pro Sports Superstars",null,null,null,"Amicus",null,0,null,21.95,null,0,null,0,null,null,null,null,null,0,0,0,0,0,0,0,0,"Fall 2016",null,2017,null,"796.9620922 B",null,null,null,null,null,null,null,null,null,"28",null,"Amicus High Interest",null,2.5,null,"Sports & Recreation",null,"English",null,"Reinforced Library",null,24,null,"I",null,"460L",null,"1 - 4",null,"Todd Kortemeier"]
[null,null,{"$f":"C812","v":0},null,null,null,"Not Available",null,9781607539391,null,"Superstars of the UFC",null,null,null,"Pro Sports Superstars",null,null,null,"Amicus",null,0,null,21.95,null,0,null,0,null,null,null,null,null,0,0,0,0,0,0,0,0,"Fall 2016",null,2017,null,"796.80922 B",null,null,null,null,null,null,null,null,null,"28",null,"Amicus High Interest",null,2.7,null,"Sports & Recreation",null,"English",null,"Reinforced Library",null,24,null,"I",null,"470L",null,"1 - 4",null,"Todd Kortemeier"]
[null,null,{"$f":"C812","v":0},null,null,null,"Not Available",null,9781607539421,null,"Superstars of World Soccer",null,null,null,"Pro Sports Superstars",null,null,null,"Amicus",null,0,null,21.95,null,0,null,0,null,null,null,null,null,0,0,0,0,0,0,0,0,"Fall 2016",null,2017,null,"796.3340922 B",null,null,null,null,null,null,null,null,null,"28",null,"Amicus High Interest",null,2.4,null,"Sports & Recreation",null,"English",null,"Reinforced Library",null,24,null,"I",null,"480L",null,"1 - 4",null,"Todd Kortemeier"]
[null,null,{"$f":"C812","v":0},null,null,null,"Not Available",null,9781607539438,null,"Superstars of WWE",null,null,null,"Pro Sports Superstars",null,null,null,"Amicus",null,0,null,21.95,null,0,null,0,null,null,null,null,null,0,0,0,0,0,0,0,0,"Fall 2016",null,2017,null,"796.8120922 B",null,null,null,null,null,null,null,null,null,"28",null,"Amicus High Interest",null,2.5,null,"Sports & Recreation",null,"English",null,"Reinforced Library",null,24,null,"I",null,"440L",null,"1 - 4",null,"Todd Kortemeier"]
[]
[null,null,null,null,null,null,null,null,null,null,"Complete Series of 6",null,null,null,"Protecting Our People",null,null,null,null,null,{"$f":"SUM(U821:U826)","v":0},null,{"$f":"SUM(W821:W826)","v":143.69999999999999},null,{"$f":"SUM(Y821:Y826)","v":0}]
[null,null,{"$f":"C820","v":0},null,null,null,"Not Available",null,9781607539827,null,"CIA, The",null,null,null,"Protecting Our People",null,null,null,"Amicus",null,0,null,23.95,null,0,null,{"$f":"IF(AC821=FALSE,AK821+AL821+AM821,0)","v":0},null,null,null,null,null,0,0,0,0,0,0,0,0,"Fall 2016",null,2017,null,327.12729999999999,null,null,null,null,null,null,null,null,null,"29",null,"Amicus High Interest",null,3.4,null,"Careers",null,"English",null,"Reinforced Library",null,32,null,"L",null,"540L",null,"2 – 5",null,"Kirsten W. Larson"]
[null,null,{"$f":"C820","v":0},null,null,null,"Not Available",null,9781607539834,null,"FBI, The",null,null,null,"Protecting Our People",null,null,null,"Amicus",null,0,null,23.95,null,0,null,0,null,null,null,null,null,0,0,0,0,0,0,0,0,"Fall 2016",null,2017,null,363.25097299999999,null,null,null,null,null,null,null,null,null,"29",null,"Amicus High Interest",null,3.3,null,"Careers",null,"English",null,"Reinforced Library",null,32,null,"L",null,"520L",null,"2 – 5",null,"Kirsten W. Larson"]
[null,null,{"$f":"C820","v":0},null,null,null,"Not Available",null,9781607539841,null,"Federal Air Marshals",null,null,null,"Protecting Our People",null,null,null,"Amicus",null,0,null,23.95,null,0,null,0,null,null,null,null,null,0,0,0,0,0,0,0,0,"Fall 2016",null,2017,null,"363.28/76",null,null,null,null,null,null,null,null,null,"29",null,"Amicus High Interest",null,3.6,null,"Careers",null,"English",null,"Reinforced Library",null,32,null,"L",null,"560L",null,"2 – 5",null,"Kirsten W. Larson"]
[null,null,{"$f":"C820","v":0},null,null,null,"Not Available",null,9781607539858,null,"SWAT Teams",null,null,null,"Protecting Our People",null,null,null,"Amicus",null,0,null,23.95,null,0,null,0,null,null,null,null,null,0,0,0,0,0,0,0,0,"Fall 2016",null,2017,null,"363.2/3",null,null,null,null,null,null,null,null,null,"29",null,"Amicus High Interest",null,3.4,null,"Careers",null,"English",null,"Reinforced Library",null,32,null,"L",null,"560L",null,"2 – 5",null,"Kirsten W. Larson"]
[null,null,{"$f":"C820","v":0},null,null,null,"Not Available",null,9781607539865,null,"U.S. Border Patrol",null,null,null,"Protecting Our People",null,null,null,"Amicus",null,0,null,23.95,null,0,null,0,null,null,null,null,null,0,0,0,0,0,0,0,0,"Fall 2016",null,2017,null,"363.28/50973",null,null,null,null,null,null,null,null,null,"29",null,"Amicus High Interest",null,3.8,null,"Careers",null,"English",null,"Reinforced Library",null,32,null,"L",null,"530L",null,"2 – 5",null,"Kirsten W. Larson"]
[null,null,{"$f":"C820","v":0},null,null,null,"Not Available",null,9781607539872,null,"U.S. Secret Service",null,null,null,"Protecting Our People",null,null,null,"Amicus",null,0,null,23.95,null,0,null,0,null,null,null,null,null,0,0,0,0,0,0,0,0,"Fall 2016",null,2017,null,"363.28/30973",null,null,null,null,null,null,null,null,null,"29",null,"Amicus High Interest",null,3.5,null,"Careers",null,"English",null,"Reinforced Library",null,32,null,"L",null,"510L",null,"2 – 5",null,"Kirsten W. Larson"]
[]
[null,null,null,null,null,null,null,null,null,null,"Complete Series of 8",null,null,null,"Say What?: Parts of Speech",null,null,null,null,null,{"$f":"SUM(U829:U836)","v":0},null,{"$f":"SUM(W829:W836)","v":159.6},null,{"$f":"SUM(Y829:Y836)","v":0}]
[null,null,{"$f":"C828","v":0},null,null,null,"Not Available",null,9781607539308,null,"How Big Is It?",null,null,null,"Say What?: Parts of Speech",null,null,null,"Amicus",null,0,null,19.95,null,0,null,{"$f":"IF(AC829=FALSE,AK829+AL829+AM829,0)","v":0},null,null,null,null,null,0,0,0,0,0,0,0,0,"Fall 2016",null,2017,null," 428.2/4",null,null,null,null,null,null,null,null,null,null,null,"Amicus Readers",null,"Not Quizzable",null,"Language Arts",null,"English",null,"Reinforced Library",null,16,null,"G",null,"420L",null,"K - 3",null,"Cari Meister"]
[null,null,{"$f":"C828","v":0},null,null,null,"Not Available",null,9781607539315,null,"How Fast Is It?",null,null,null,"Say What?: Parts of Speech",null,null,null,"Amicus",null,0,null,19.95,null,0,null,0,null,null,null,null,null,0,0,0,0,0,0,0,0,"Fall 2016",null,2017,null,"428.2/4",null,null,null,null,null,null,null,null,null,null,null,"Amicus Readers",null,"Not Quizzable",null,"Language Arts",null,"English",null,"Reinforced Library",null,16,null,"G",null,"360L",null,"K - 3",null,"Cari Meister"]
[null,null,{"$f":"C828","v":0},null,null,null,"Not Available",null,9781607539346,null,"No School Today",null,null,null,"Say What?: Parts of Speech",null,null,null,"Amicus",null,0,null,19.95,null,0,null,0,null,null,null,null,null,0,0,0,0,0,0,0,0,"Fall 2016",null,2017,null,428.2,null,null,null,null,null,null,null,null,null,null,null,"Amicus Readers",null,"Not Quizzable",null,"Language Arts",null,"English",null,"Reinforced Library",null,16,null,"G",null,"440L",null,"K - 3",null,"Cari Meister"]
[null,null,{"$f":"C828","v":0},null,null,null,"Not Available",null,9781607539322,null,"Ouch! It Bit Me!",null,null,null,"Say What?: Parts of Speech",null,null,null,"Amicus",null,0,null,19.95,null,0,null,0,null,null,null,null,null,0,0,0,0,0,0,0,0,"Fall 2016",null,2017,null,"428.2/4",null,null,null,null,null,null,null,null,null,null,null,"Amicus Readers",null,"Not Quizzable",null,"Language Arts",null,"English",null,"Reinforced Library",null,16,null,"G",null,"330L",null,"K - 3",null,"Cari Meister"]
[null,null,{"$f":"C828","v":0},null,null,null,"Not Available",null,9781607539353,null,"Pepperoni or Sausage?",null,null,null,"Say What?: Parts of Speech",null,null,null,"Amicus",null,0,null,19.95,null,0,null,0,null,null,null,null,null,0,0,0,0,0,0,0,0,"Fall 2016",null,2017,null,"428.2/4",null,null,null,null,null,null,null,null,null,null,null,"Amicus Readers",null,"Not Quizzable",null,"Language Arts",null,"English",null,"Reinforced Library",null,16,null,"G",null,"510L",null,"K - 3",null,"Cari Meister"]
[null,null,{"$f":"C828","v":0},null,null,null,"Not Available",null,9781607539339,null,"What Is It Doing?",null,null,null,"Say What?: Parts of Speech",null,null,null,"Amicus",null,0,null,19.95,null,0,null,0,null,null,null,null,null,0,0,0,0,0,0,0,0,"Fall 2016",null,2017,null,"428.2/4",null,null,null,null,null,null,null,null,null,null,null,"Amicus Readers",null,"Not Quizzable",null,"Language Arts",null,"English",null,"Reinforced Library",null,16,null,"G",null,"470L",null,"K - 3",null,"Cari Meister"]
[null,null,{"$f":"C828","v":0},null,null,null,"Not Available",null,9781607539377,null,"Who Ate It?",null,null,null,"Say What?: Parts of Speech",null,null,null,"Amicus",null,0,null,19.95,null,0,null,0,null,null,null,null,null,0,0,0,0,0,0,0,0,"Fall 2016",null,2017,null,428.2,null,null,null,null,null,null,null,null,null,null,null,"Amicus Readers",null,"Not Quizzable",null,"Language Arts",null,"English",null,"Reinforced Library",null,16,null,"G",null,"460L",null,"K - 3",null,"Cari Meister"]
[null,null,{"$f":"C828","v":0},null,null,null,"Not Available",null,9781607539360,null,"Who Is Up There?",null,null,null,"Say What?: Parts of Speech",null,null,null,"Amicus",null,0,null,19.95,null,0,null,0,null,null,null,null,null,0,0,0,0,0,0,0,0,"Fall 2016",null,2017,null,428.2,null,null,null,null,null,null,null,null,null,null,null,"Amicus Readers",null,"Not Quizzable",null,"Language Arts",null,"English",null,"Reinforced Library",null,16,null,"G",null,"450L",null,"K - 3",null,"Cari Meister"]
[]
[null,null,null,null,null,null,null,null,null,null,"Complete Series of 8",null,null,null,"Sharks",null,null,null,null,null,{"$f":"SUM(U839:U846)","v":0},null,{"$f":"SUM(W839:W846)","v":191.59999999999997},null,{"$f":"SUM(Y839:Y846)","v":0}]
[null,null,{"$f":"C838","v":0},null,null,null,"Not Available",null,9781607539742,null,"Basking Sharks",null,null,null,"Sharks",null,null,null,"Amicus",null,0,null,23.95,null,0,null,{"$f":"IF(AC839=FALSE,AK839+AL839+AM839,0)","v":0},null,null,null,null,null,0,0,0,0,0,0,0,0,"Fall 2016",null,2017,null,597.29999999999995,null,null,null,null,null,null,null,null,null,"31",null,"Amicus High Interest",null,3.2,null,"Animals & Nature",null,"English",null,"Reinforced Library",null,32,null,"L",null,"520L",null,"2 – 5",null,"Laura Hamilton Waxman"]
[null,null,{"$f":"C838","v":0},null,null,null,"Not Available",null,9781607539759,null,"Blacktip Reef Sharks",null,null,null,"Sharks",null,null,null,"Amicus",null,0,null,23.95,null,0,null,0,null,null,null,null,null,0,0,0,0,0,0,0,0,"Fall 2016",null,2017,null,"597.3/4",null,null,null,null,null,null,null,null,null,"31",null,"Amicus High Interest",null,3.2,null,"Animals & Nature",null,"English",null,"Reinforced Library",null,32,null,"L",null,"530L",null,"2 – 5",null,"Allan Morey"]
[null,null,{"$f":"C838","v":0},null,null,null,"Not Available",null,9781607539766,null,"Bull Sharks",null,null,null,"Sharks",null,null,null,"Amicus",null,0,null,23.95,null,0,null,0,null,null,null,null,null,0,0,0,0,0,0,0,0,"Fall 2016",null,2017,null,"597.3/4",null,null,null,null,null,null,null,null,null,"31",null,"Amicus High Interest",null,3,null,"Animals & Nature",null,"English",null,"Reinforced Library",null,32,null,"L",null,"530L",null,"2 – 5",null,"Laura Hamilton Waxman"]
[null,null,{"$f":"C838","v":0},null,null,null,"Not Available",null,9781607539773,null,"Great White Sharks",null,null,null,"Sharks",null,null,null,"Amicus",null,0,null,23.95,null,0,null,0,null,null,null,null,null,0,0,0,0,0,0,0,0,"Fall 2016",null,2017,null,"597.3/3",null,null,null,null,null,null,null,null,null,"31",null,"Amicus High Interest",null,2.9,null,"Animals & Nature",null,"English",null,"Reinforced Library",null,32,null,"L",null,"500L",null,"2 – 5",null,"Laura Hamilton Waxman"]
[null,null,{"$f":"C838","v":0},null,null,null,"Not Available",null,9781607539780,null,"Hammerhead Sharks",null,null,null,"Sharks",null,null,null,"Amicus",null,0,null,23.95,null,0,null,0,null,null,null,null,null,0,0,0,0,0,0,0,0,"Fall 2016",null,2017,null,597.29999999999995,null,null,null,null,null,null,null,null,null,"31",null,"Amicus High Interest",null,3.1,null,"Animals & Nature",null,"English",null,"Reinforced Library",null,32,null,"L",null,"470L",null,"2 – 5",null,"Allan Morey"]
[null,null,{"$f":"C838","v":0},null,null,null,"Not Available",null,9781607539797,null,"Mako Sharks",null,null,null,"Sharks",null,null,null,"Amicus",null,0,null,23.95,null,0,null,0,null,null,null,null,null,0,0,0,0,0,0,0,0,"Fall 2016",null,2017,null,"597.3/3",null,null,null,null,null,null,null,null,null,"31",null,"Amicus High Interest",null,3.4,null,"Animals & Nature",null,"English",null,"Reinforced Library",null,32,null,"L",null,"510L",null,"2 – 5",null,"Allan Morey"]
[null,null,{"$f":"C838","v":0},null,null,null,"Not Available",null,9781607539803,null,"Tiger Sharks",null,null,null,"Sharks",null,null,null,"Amicus",null,0,null,23.95,null,0,null,0,null,null,null,null,null,0,0,0,0,0,0,0,0,"Fall 2016",null,2017,null,"597.3/4",null,null,null,null,null,null,null,null,null,"31",null,"Amicus High Interest",null,3.2,null,"Animals & Nature",null,"English",null,"Reinforced Library",null,32,null,"L",null,"560L",null,"2 – 5",null,"Laura Hamilton Waxman"]
[null,null,{"$f":"C838","v":0},null,null,null,"Not Available",null,9781607539810,null,"Whale Sharks",null,null,null,"Sharks",null,null,null,"Amicus",null,0,null,23.95,null,0,null,0,null,null,null,null,null,{"$f":"A846","v":0},{"$f":"C846","v":0},{"$f":"E846","v":0},{"$f":"SUM(AG846:AI846)","v":0},{"$f":"U846*A846","v":0},{"$f":"W846*C846","v":0},{"$f":"Y846*E846","v":0},{"$f":"SUM(AK846:AM846)","v":0},"Fall 2016",null,2017,null,"597.3/3",null,null,null,null,null,null,null,null,null,"31",null,"Amicus High Interest",null,3.2,null,"Animals & Nature",null,"English",null,"Reinforced Library",null,32,null,"L",null,"600L",null,"2 – 5",null,"Allan Morey"]
[]
[null,null,null,null,null,null,null,null,null,null,"Complete Series of 5",null,null,null,"Amicus Ink Board Books - Wild Animals",null,null,null,null,null,{"$f":"SUM(U849:U853)","v":0},null,{"$f":"SUM(W849:W853)","v":39.950000000000003},null,{"$f":"SUM(Y849:Y853)","v":0}]
[null,null,{"$f":"C848","v":0},null,null,null,"Not Available",null,9781681520674,null,"Dolphins Play",null,null,null,"Amicus Ink Board Books - Wild Animals",null,null,null,"Amicus",null,0,null,7.99,null,0,null,{"$f":"IF(AC849=FALSE,AK849+AL849+AM849,0)","v":0},null,null,null,null,null,0,0,0,0,0,0,0,0,"Spring 2016",null,2016,null,599.53,null,null,null,null,null,null,null,null,null,"14",null,"Amicus Ink",null,"Not Quizzable",null,"Animals & Nature",null,"English",null,"Board Book",null,14,null,null,null,null,null,"PreK - 1",null,"Rebecca Glaser"]
[null,null,{"$f":"C848","v":0},null,null,null,"Not Available",null,9781681520681,null,"Elephants Spray",null,null,null,"Amicus Ink Board Books - Wild Animals",null,null,null,"Amicus",null,0,null,7.99,null,0,null,0,null,null,null,null,null,0,0,0,0,0,0,0,0,"Spring 2016",null,2016,null,599.66999999999996,null,null,null,null,null,null,null,null,null,"14",null,"Amicus Ink",null,"Not Quizzable",null,"Animals & Nature",null,"English",null,"Board Book",null,14,null,null,null,null,null,"PreK - 1",null,"Rebecca Glaser"]
[null,null,{"$f":"C848","v":0},null,null,null,"Not Available",null,9781681520698,null,"Giraffes Stretch",null,null,null,"Amicus Ink Board Books - Wild Animals",null,null,null,"Amicus",null,0,null,7.99,null,0,null,0,null,null,null,null,null,0,0,0,0,0,0,0,0,"Spring 2016",null,2016,null,599.63800000000003,null,null,null,null,null,null,null,null,null,"14",null,"Amicus Ink",null,"Not Quizzable",null,"Animals & Nature",null,"English",null,"Board Book",null,14,null,null,null,null,null,"PreK - 1",null,"Rebecca Glaser"]
[null,null,{"$f":"C848","v":0},null,null,null,"Not Available",null,9781681520711,null,"Lions Roar",null,null,null,"Amicus Ink Board Books - Wild Animals",null,null,null,"Amicus",null,0,null,7.99,null,0,null,0,null,null,null,null,null,0,0,0,0,0,0,0,0,"Spring 2016",null,2016,null,"599.75/5",null,null,null,null,null,null,null,null,null,"14",null,"Amicus Ink",null,"Not Quizzable",null,"Animals & Nature",null,"English",null,"Board Book",null,14,null,null,null,null,null,"PreK - 1",null,"Rebecca Glaser"]
[null,null,{"$f":"C848","v":0},null,null,null,"Not Available",null,9781681520728,null,"Monkeys Swing",null,null,null,"Amicus Ink Board Books - Wild Animals",null,null,null,"Amicus",null,0,null,7.99,null,0,null,0,null,null,null,null,null,0,0,0,0,0,0,0,0,"Spring 2016",null,2016,null,599.79999999999995,null,null,null,null,null,null,null,null,null,"14",null,"Amicus Ink",null,"Not Quizzable",null,"Animals & Nature",null,"English",null,"Board Book",null,14,null,null,null,null,null,"PreK - 1",null,"Rebecca Glaser"]
[]
[null,null,null,null,null,null,null,null,null,null,"Complete Series of 9",null,null,null,"Do You Really Want a Pet?",null,null,null,null,null,{"$f":"SUM(U856:U864)","v":0},null,{"$f":"SUM(W856:W864)","v":197.54999999999995},null,{"$f":"SUM(Y856:Y864)","v":0}]
[null,null,{"$f":"C855","v":0},null,null,null,"Not Available",null,9781607532057,null,"Do You Really Want a Bird?",null,null,null,"Do You Really Want a Pet?",null,null,null,"Amicus",null,0,null,21.95,null,0,null,{"$f":"IF(AC856=FALSE,AK856+AL856+AM856,0)","v":0},null,null,null,null,null,0,0,0,0,0,0,0,0,"Fall 2013",null,2014,null,"636.6/8",null,null,null,null,null,null,null,null,null,"40",null,"Amicus Illustrated",null,2.5,null,"Animals & Nature",null,"English",null,"Reinforced Library",null,24,null,"I",null,"540L",null,"2 – 5",null,"Bridget Heos"]
[null,null,{"$f":"C855","v":0},null,null,null,"Not Available",null,9781607532033,null,"Do You Really Want a Cat?",null,null,null,"Do You Really Want a Pet?",null,null,null,"Amicus",null,0,null,21.95,null,0,null,0,null,null,null,null,null,0,0,0,0,0,0,0,0,"Fall 2013",null,2014,null,636.79999999999995,null,null,null,null,null,null,null,null,null,"40",null,"Amicus Illustrated",null,2.2000000000000002,null,"Animals & Nature",null,"English",null,"Reinforced Library",null,24,null,"I",null,"520L",null,"2 – 5",null,"Bridget Heos"]
[null,null,{"$f":"C855","v":0},null,null,null,"Not Available",null,9781607532040,null,"Do You Really Want a Dog?",null,null,null,"Do You Really Want a Pet?",null,null,null,"Amicus",null,0,null,21.95,null,0,null,0,null,null,null,null,null,0,0,0,0,0,0,0,0,"Fall 2013",null,2014,null,636.70000000000005,null,null,null,null,null,null,null,null,null,"40",null,"Amicus Illustrated",null,2.2999999999999998,null,"Animals & Nature",null,"English",null,"Reinforced Library",null,24,null,"I",null,"530L",null,"2 – 5",null,"Bridget Heos"]
[null,null,{"$f":"C855","v":0},null,null,null,"Not Available",null,9781607537496,null,"Do You Really Want a Guinea Pig?",null,null,null,"Do You Really Want a Pet?",null,null,null,"Amicus",null,0,null,21.95,null,0,null,0,null,null,null,null,null,0,0,0,0,0,0,0,0,"Fall 2015",null,2016,null,"636.935/92",null,null,null,null,null,null,null,null,null,"40",null,"Amicus Illustrated",null,2.7,null,"Animals & Nature",null,"English",null,"Reinforced Library",null,24,null,"J",null,"470L",null,"2 – 5",null,"Bridget Heos"]
[null,null,{"$f":"C855","v":0},null,null,null,"Not Available",null,9781607532064,null,"Do You Really Want a Hamster?",null,null,null,"Do You Really Want a Pet?",null,null,null,"Amicus",null,0,null,21.95,null,0,null,0,null,null,null,null,null,0,0,0,0,0,0,0,0,"Fall 2013",null,2014,null,"636.935/6",null,null,null,null,null,null,null,null,null,"40",null,"Amicus Illustrated",null,2.4,null,"Animals & Nature",null,"English",null,"Reinforced Library",null,24,null,"J",null,"530L",null,"2 – 5",null,"Bridget Heos"]
[null,null,{"$f":"C855","v":0},null,null,null,"Not Available",null,9781607532071,null,"Do You Really Want a Horse?",null,null,null,"Do You Really Want a Pet?",null,null,null,"Amicus",null,0,null,21.95,null,0,null,0,null,null,null,null,null,0,0,0,0,0,0,0,0,"Fall 2013",null,2014,null,636.1,null,null,null,null,null,null,null,null,null,"40",null,"Amicus Illustrated",null,2.4,null,"Animals & Nature",null,"English",null,"Reinforced Library",null,24,null,"J",null,"510L",null,"2 – 5",null,"Bridget Heos"]
[null,null,{"$f":"C855","v":0},null,null,null,"Not Available",null,9781607537502,null,"Do You Really Want a Lizard?",null,null,null,"Do You Really Want a Pet?",null,null,null,"Amicus",null,0,null,21.95,null,0,null,0,null,null,null,null,null,0,0,0,0,0,0,0,0,"Fall 2015",null,2016,null,"639.3/95",null,null,null,null,null,null,null,null,null,"40",null,"Amicus Illustrated",null,2.8,null,"Animals & Nature",null,"English",null,"Reinforced Library",null,24,null,"J",null,"560L",null,"2 – 5",null,"Bridget Heos"]
[null,null,{"$f":"C855","v":0},null,null,null,"Not Available",null,9781607532088,null,"Do You Really Want a Rabbit?",null,null,null,"Do You Really Want a Pet?",null,null,null,"Amicus",null,0,null,21.95,null,0,null,0,null,null,null,null,null,0,0,0,0,0,0,0,0,"Fall 2013",null,2014,null,636.93499999999995,null,null,null,null,null,null,null,null,null,"40",null,"Amicus Illustrated",null,2.5,null,"Animals & Nature",null,"English",null,"Reinforced Library",null,24,null,"J",null,"520L",null,"2 – 5",null,"Bridget Heos"]
[null,null,{"$f":"C855","v":0},null,null,null,"Not Available",null,9781607537519,null,"Do You Really Want a Snake?",null,null,null,"Do You Really Want a Pet?",null,null,null,"Amicus",null,0,null,21.95,null,0,null,0,null,null,null,null,null,0,0,0,0,0,0,0,0,"Fall 2015",null,2016,null,"639.3/96",null,null,null,null,null,null,null,null,null,"40",null,"Amicus Illustrated",null,2.9,null,"Animals & Nature",null,"English",null,"Reinforced Library",null,24,null,"J",null,"490L",null,"2 – 5",null,"Bridget Heos"]
[]
[null,null,null,null,null,null,null,null,null,null,"Complete Series of 4",null,null,null,"Freaky Nature",null,null,null,null,null,{"$f":"SUM(U867:U870)","v":0},null,{"$f":"SUM(W867:W870)","v":95.8},null,{"$f":"SUM(Y867:Y870)","v":0}]
[null,null,{"$f":"C866","v":0},null,null,null,"Not Available",null,9781607537809,null,"Mutants in Nature",null,null,null,"Freaky Nature",null,null,null,"Amicus",null,0,null,23.95,null,0,null,{"$f":"IF(AC867=FALSE,AK867+AL867+AM867,0)","v":0},null,null,null,null,null,0,0,0,0,0,0,0,0,"Fall 2015",null,2016,null," 576.5/49",null,null,null,null,null,null,null,null,null,"31",null,"Amicus High Interest",null,3.4,null,"Animals & Nature",null,"English",null,"Reinforced Library",null,32,null,"L",null,"530L",null,"2 – 5",null,"Kirsten W. Larson"]
[null,null,{"$f":"C866","v":0},null,null,null,"Not Available",null,9781607537816,null,"Super Powers in Nature",null,null,null,"Freaky Nature",null,null,null,"Amicus",null,0,null,23.95,null,0,null,0,null,null,null,null,null,0,0,0,0,0,0,0,0,"Fall 2015",null,2016,null,591.4,null,null,null,null,null,null,null,null,null,"31",null,"Amicus High Interest",null,3.2,null,"Animals & Nature",null,"English",null,"Reinforced Library",null,32,null,"L",null,"550L",null,"2 – 5",null,"Kirsten W. Larson"]
[null,null,{"$f":"C866","v":0},null,null,null,"Not Available",null,9781607537823,null,"Vampires in Nature",null,null,null,"Freaky Nature",null,null,null,"Amicus",null,0,null,23.95,null,0,null,0,null,null,null,null,null,0,0,0,0,0,0,0,0,"Fall 2015",null,2016,null,"591.5/3",null,null,null,null,null,null,null,null,null,"31",null,"Amicus High Interest",null,3.2,null,"Animals & Nature",null,"English",null,"Reinforced Library",null,32,null,"L",null,"480L",null,"2 – 5",null,"Kirsten W. Larson"]
[null,null,{"$f":"C866","v":0},null,null,null,"Not Available",null,9781607537830,null,"Zombies in Nature",null,null,null,"Freaky Nature",null,null,null,"Amicus",null,0,null,23.95,null,0,null,0,null,null,null,null,null,0,0,0,0,0,0,0,0,"Fall 2015",null,2016,null,"577.8/57",null,null,null,null,null,null,null,null,null,"31",null,"Amicus High Interest",null,3.3,null,"Animals & Nature",null,"English",null,"Reinforced Library",null,32,null,"L",null,"510L",null,"2 – 5",null,"Kirsten W. Larson"]
[]
[null,null,null,null,null,null,null,null,null,null,"Complete Series of 2",null,null,null,"Grow Your Food",null,null,null,null,null,{"$f":"SUM(U873:U874)","v":0},null,{"$f":"SUM(W873:W874)","v":43.9},null,{"$f":"SUM(Y873:Y874)","v":0}]
[null,null,{"$f":"C872","v":0},null,null,null,"Not Available",null,9781607537397,null,"So You Want to Grow a Pie?",null,null,null,"Grow Your Food",null,null,null,"Amicus",null,0,null,21.95,null,0,null,{"$f":"IF(AC873=FALSE,AK873+AL873+AM873,0)","v":0},null,null,null,null,null,0,0,0,0,0,0,0,0,"Fall 2015",null,2016,null," 634",null,null,null,null,null,null,null,null,null,"41",null,"Amicus Illustrated",null,2.6,null,"Health",null,"English",null,"Reinforced Library",null,24,null,"J",null,"520L",null,"2 – 5",null,"Bridget Heos"]
[null,null,{"$f":"C872","v":0},null,null,null,"Not Available",null,9781607537410,null,"So You Want to Grow a Salad?",null,null,null,"Grow Your Food",null,null,null,"Amicus",null,0,null,21.95,null,0,null,0,null,null,null,null,null,0,0,0,0,0,0,0,0,"Fall 2015",null,2016,null,635,null,null,null,null,null,null,null,null,null,"41",null,"Amicus Illustrated",null,2.7,null,"Health",null,"English",null,"Reinforced Library",null,24,null,"J",null,"500L",null,"2 – 5",null,"Bridget Heos"]
[]
[null,null,null,null,null,null,null,null,null,null,"Complete Series of 5",null,null,null,"Inside My Body",null,null,null,null,null,{"$f":"SUM(U877:U881)","v":0},null,{"$f":"SUM(W877:W881)","v":109.75},null,{"$f":"SUM(Y877:Y881)","v":0}]
[null,null,{"$f":"C876","v":0},null,null,null,"Not Available",null,9781607537533,null,"My Bones",null,null,null,"Inside My Body",null,null,null,"Amicus",null,0,null,21.95,null,0,null,{"$f":"IF(AC877=FALSE,AK877+AL877+AM877,0)","v":0},null,null,null,null,null,0,0,0,0,0,0,0,0,"Fall 2015",null,2016,null," 611/.71",null,null,null,null,null,null,null,null,null,"39",null,"Amicus Illustrated",null,2.1,null,"Health",null,"English",null,"Reinforced Library",null,24,null,null,null,"480L",null,"2 – 5",null,"Emily C. Dawson"]
[null,null,{"$f":"C876","v":0},null,null,null,"Not Available",null,9781607537540,null,"My Brain",null,null,null,"Inside My Body",null,null,null,"Amicus",null,0,null,21.95,null,0,null,0,null,null,null,null,null,0,0,0,0,0,0,0,0,"Fall 2015",null,2016,null,"612.8/2",null,null,null,null,null,null,null,null,null,"39",null,"Amicus Illustrated",null,2.4,null,"Health",null,"English",null,"Reinforced Library",null,24,null,null,null,"490L",null,"2 – 5",null,"Annette Bay Pimentel"]
[null,null,{"$f":"C876","v":0},null,null,null,"Not Available",null,9781607537557,null,"My Heart",null,null,null,"Inside My Body",null,null,null,"Amicus",null,0,null,21.95,null,0,null,0,null,null,null,null,null,0,0,0,0,0,0,0,0,"Fall 2015",null,2016,null,"612.1/7",null,null,null,null,null,null,null,null,null,"39",null,"Amicus Illustrated",null,2.5,null,"Health",null,"English",null,"Reinforced Library",null,24,null,null,null,"480L",null,"2 – 5",null,"Jody Jensen Shaffer"]
[null,null,{"$f":"C876","v":0},null,null,null,"Not Available",null,9781607537571,null,"My Muscles",null,null,null,"Inside My Body",null,null,null,"Amicus",null,0,null,21.95,null,0,null,0,null,null,null,null,null,0,0,0,0,0,0,0,0,"Fall 2015",null,2016,null,"612.7/4",null,null,null,null,null,null,null,null,null,"39",null,"Amicus Illustrated",null,2.5,null,"Health",null,"English",null,"Reinforced Library",null,24,null,null,null,"540L",null,"2 – 5",null,"Jody Jensen Shaffer"]
[null,null,{"$f":"C876","v":0},null,null,null,"Not Available",null,9781607537588,null,"My Stomach",null,null,null,"Inside My Body",null,null,null,"Amicus",null,0,null,21.95,null,0,null,0,null,null,null,null,null,0,0,0,0,0,0,0,0,"Fall 2015",null,2016,null," 612.3/2",null,null,null,null,null,null,null,null,null,"39",null,"Amicus Illustrated",null,2.4,null,"Health",null,"English",null,"Reinforced Library",null,24,null,null,null,"480L",null,"2 – 5",null,"Annette Bay Pimentel"]
[]
[null,null,null,null,null,null,null,null,null,null,"Complete Series of 7",null,null,null,"Measuring Time",null,null,null,null,null,{"$f":"SUM(U884:U890)","v":0},null,{"$f":"SUM(W884:W890)","v":139.65},null,{"$f":"SUM(Y884:Y890)","v":0}]
[null,null,{"$f":"C883","v":0},null,null,null,"Not Available",null,9781607537236,null,"How Many Days?",null,null,null,"Measuring Time",null,null,null,"Amicus",null,0,null,19.95,null,0,null,{"$f":"IF(AC884=FALSE,AK884+AL884+AM884,0)","v":0},null,null,null,null,null,0,0,0,0,0,0,0,0,"Fall 2015",null,2016,null,529.70000000000005,null,null,null,null,null,null,null,null,null,null,null,"Amicus Readers",null,1.7,null,"Math & Finance",null,"English",null,"Reinforced Library",null,16,null,null,null,"430L",null,"K - 3",null,"Katherine Krieg"]
[null,null,{"$f":"C883","v":0},null,null,null,"Not Available",null,9781607537229,null,"How Many Hours?",null,null,null,"Measuring Time",null,null,null,"Amicus",null,0,null,19.95,null,0,null,0,null,null,null,null,null,0,0,0,0,0,0,0,0,"Fall 2015",null,2016,null,529.70000000000005,null,null,null,null,null,null,null,null,null,null,null,"Amicus Readers",null,1.7,null,"Math & Finance",null,"English",null,"Reinforced Library",null,16,null,null,null,"370L",null,"K - 3",null,"Katherine Krieg"]
[null,null,{"$f":"C883","v":0},null,null,null,"Not Available",null,9781607537212,null,"How Many Minutes?",null,null,null,"Measuring Time",null,null,null,"Amicus",null,0,null,19.95,null,0,null,0,null,null,null,null,null,0,0,0,0,0,0,0,0,"Fall 2015",null,2016,null,529.70000000000005,null,null,null,null,null,null,null,null,null,null,null,"Amicus Readers",null,1.8,null,"Math & Finance",null,"English",null,"Reinforced Library",null,16,null,null,null,"500L",null,"K - 3",null,"Katherine Krieg"]
[null,null,{"$f":"C883","v":0},null,null,null,"Not Available",null,9781607537250,null,"How Many Months?",null,null,null,"Measuring Time",null,null,null,"Amicus",null,0,null,19.95,null,0,null,0,null,null,null,null,null,0,0,0,0,0,0,0,0,"Fall 2015",null,2016,null,529.70000000000005,null,null,null,null,null,null,null,null,null,null,null,"Amicus Readers",null,1.8,null,"Math & Finance",null,"English",null,"Reinforced Library",null,16,null,null,null,"450L",null,"K - 3",null,"Katherine Krieg"]
[null,null,{"$f":"C883","v":0},null,null,null,"Not Available",null,9781607537205,null,"How Many Seconds?",null,null,null,"Measuring Time",null,null,null,"Amicus",null,0,null,19.95,null,0,null,0,null,null,null,null,null,0,0,0,0,0,0,0,0,"Fall 2015",null,2016,null,529.70000000000005,null,null,null,null,null,null,null,null,null,null,null,"Amicus Readers",null,1.8,null,"Math & Finance",null,"English",null,"Reinforced Library",null,16,null,null,null,"370L",null,"K - 3",null,"Katherine Krieg"]
[null,null,{"$f":"C883","v":0},null,null,null,"Not Available",null,9781607537243,null,"How Many Weeks?",null,null,null,"Measuring Time",null,null,null,"Amicus",null,0,null,19.95,null,0,null,0,null,null,null,null,null,0,0,0,0,0,0,0,0,"Fall 2015",null,2016,null,529.70000000000005,null,null,null,null,null,null,null,null,null,null,null,"Amicus Readers",null,1.9,null,"Math & Finance",null,"English",null,"Reinforced Library",null,16,null,null,null,"500L",null,"K - 3",null,"Katherine Krieg"]
[null,null,{"$f":"C883","v":0},null,null,null,"Not Available",null,9781607537267,null,"How Many Years?",null,null,null,"Measuring Time",null,null,null,"Amicus",null,0,null,19.95,null,0,null,0,null,null,null,null,null,0,0,0,0,0,0,0,0,"Fall 2015",null,2016,null,529.20000000000005,null,null,null,null,null,null,null,null,null,null,null,"Amicus Readers",null,1.8,null,"Math & Finance",null,"English",null,"Reinforced Library",null,16,null,null,null,"450L",null,"K - 3",null,"Katherine Krieg"]
[]
[null,null,null,null,null,null,null,null,null,null,"Complete Series of 4",null,null,null,"Money Smarts",null,null,null,null,null,{"$f":"SUM(U893:U896)","v":0},null,{"$f":"SUM(W893:W896)","v":95.8},null,{"$f":"SUM(Y893:Y896)","v":0}]
[null,null,{"$f":"C892","v":0},null,null,null,"Not Available",null,9781607537922,null,"Bank Wisely",null,null,null,"Money Smarts",null,null,null,"Amicus",null,0,null,23.95,null,0,null,{"$f":"IF(AC893=FALSE,AK893+AL893+AM893,0)","v":0},null,null,null,null,null,0,0,0,0,0,0,0,0,"Fall 2015",null,2016,null,"332.1/7",null,null,null,null,null,null,null,null,null,"32",null,"Amicus High Interest",null,3.4,null,"Math & Finance",null,"English",null,"Reinforced Library",null,32,null,null,null,"530L",null,"2 – 5",null,"Heather E. Schwartz"]
[null,null,{"$f":"C892","v":0},null,null,null,"Not Available",null,9781607537939,null,"Earn Wisely",null,null,null,"Money Smarts",null,null,null,"Amicus",null,0,null,23.95,null,0,null,0,null,null,null,null,null,0,0,0,0,0,0,0,0,"Fall 2015",null,2016,null,650.1,null,null,null,null,null,null,null,null,null,"32",null,"Amicus High Interest",null,3.1,null,"Math & Finance",null,"English",null,"Reinforced Library",null,32,null,null,null,"520L",null,"2 – 5",null,"Heather E. Schwartz"]
[null,null,{"$f":"C892","v":0},null,null,null,"Not Available",null,9781607537946,null,"Save Wisely",null,null,null,"Money Smarts",null,null,null,"Amicus",null,0,null,23.95,null,0,null,0,null,null,null,null,null,0,0,0,0,0,0,0,0,"Fall 2015",null,2016,null,"332.1/752",null,null,null,null,null,null,null,null,null,"32",null,"Amicus High Interest",null,3,null,"Math & Finance",null,"English",null,"Reinforced Library",null,32,null,null,null,"550L",null,"2 – 5",null,"Heather E. Schwartz"]
[null,null,{"$f":"C892","v":0},null,null,null,"Not Available",null,9781607537953,null,"Spend Wisely",null,null,null,"Money Smarts",null,null,null,"Amicus",null,0,null,23.95,null,0,null,0,null,null,null,null,null,0,0,0,0,0,0,0,0,"Fall 2015",null,2016,null,640.73,null,null,null,null,null,null,null,null,null,"32",null,"Amicus High Interest",null,3.1,null,"Math & Finance",null,"English",null,"Reinforced Library",null,32,null,null,null,"550L",null,"2 – 5",null,"Heather E. Schwartz"]
[]
[null,null,null,null,null,null,null,null,null,null,"Complete Series of 6",null,null,null,"Monstrous Manners",null,null,null,null,null,{"$f":"SUM(U899:U904)","v":0},null,{"$f":"SUM(W899:W904)","v":131.69999999999999},null,{"$f":"SUM(Y899:Y904)","v":0}]
[null,null,{"$f":"C898","v":0},null,null,null,"Not Available",null,9781607537434,null,"Manners at a Friend's House",null,null,null,"Monstrous Manners",null,null,null,"Amicus",null,0,null,21.95,null,0,null,{"$f":"IF(AC899=FALSE,AK899+AL899+AM899,0)","v":0},null,null,null,null,null,0,0,0,0,0,0,0,0,"Fall 2015",null,2016,null,"395.1/22",null,null,null,null,null,null,null,null,null,"42",null,"Amicus Illustrated",null,2.2000000000000002,null,"High Interest",null,"English",null,"Reinforced Library",null,24,null,null,null,"510L",null,"2 – 5",null,"Bridget Heos"]
[null,null,{"$f":"C898","v":0},null,null,null,"Not Available",null,9781607537441,null,"Manners at a Restaurant",null,null,null,"Monstrous Manners",null,null,null,"Amicus",null,0,null,21.95,null,0,null,0,null,null,null,null,null,0,0,0,0,0,0,0,0,"Fall 2015",null,2016,null,"395.5/4",null,null,null,null,null,null,null,null,null,"42",null,"Amicus Illustrated",null,2.2000000000000002,null,"High Interest",null,"English",null,"Reinforced Library",null,24,null,null,null,"470L",null,"2 – 5",null,"Bridget Heos"]
[null,null,{"$f":"C898","v":0},null,null,null,"Not Available",null,9781607537458,null,"Manners at School",null,null,null,"Monstrous Manners",null,null,null,"Amicus",null,0,null,21.95,null,0,null,0,null,null,null,null,null,0,0,0,0,0,0,0,0,"Fall 2015",null,2016,null,395.5,null,null,null,null,null,null,null,null,null,"42",null,"Amicus Illustrated",null,2.2999999999999998,null,"High Interest",null,"English",null,"Reinforced Library",null,24,null,null,null,"490L",null,"2 – 5",null,"Bridget Heos"]
[null,null,{"$f":"C898","v":0},null,null,null,"Not Available",null,9781607537465,null,"Manners at the Store",null,null,null,"Monstrous Manners",null,null,null,"Amicus",null,0,null,21.95,null,0,null,0,null,null,null,null,null,0,0,0,0,0,0,0,0,"Fall 2015",null,2016,null,395,null,null,null,null,null,null,null,null,null,"42",null,"Amicus Illustrated",null,2.2000000000000002,null,"High Interest",null,"English",null,"Reinforced Library",null,24,null,null,null,"480L",null,"2 – 5",null,"Bridget Heos"]
[null,null,{"$f":"C898","v":0},null,null,null,"Not Available",null,9781607537472,null,"Manners on Vacation",null,null,null,"Monstrous Manners",null,null,null,"Amicus",null,0,null,21.95,null,0,null,0,null,null,null,null,null,0,0,0,0,0,0,0,0,"Fall 2015",null,2016,null,395,null,null,null,null,null,null,null,null,null,"42",null,"Amicus Illustrated",null,2.5,null,"High Interest",null,"English",null,"Reinforced Library",null,24,null,null,null,"500L",null,"2 – 5",null,"Bridget Heos"]
[null,null,{"$f":"C898","v":0},null,null,null,"Not Available",null,9781607537489,null,"Manners with Technology",null,null,null,"Monstrous Manners",null,null,null,"Amicus",null,0,null,21.95,null,0,null,0,null,null,null,null,null,0,0,0,0,0,0,0,0,"Fall 2015",null,2016,null,395.5,null,null,null,null,null,null,null,null,null,"42",null,"Amicus Illustrated",null,2.8,null,"High Interest",null,"English",null,"Reinforced Library",null,24,null,null,null,"530L",null,"2 – 5",null,"Bridget Heos"]
[]
[null,null,null,null,null,null,null,null,null,null,"Complete Series of 8",null,null,null,"Poisonous Animals",null,null,null,null,null,{"$f":"SUM(U907:U914)","v":0},null,{"$f":"SUM(W907:W914)","v":191.59999999999997},null,{"$f":"SUM(Y907:Y914)","v":0}]
[null,null,{"$f":"C906","v":0},null,null,null,"Not Available",null,9781607537847,null,"Black Widow Spiders",null,null,null,"Poisonous Animals",null,null,null,"Amicus",null,0,null,23.95,null,0,null,{"$f":"IF(AC907=FALSE,AK907+AL907+AM907,0)","v":0},null,null,null,null,null,0,0,0,0,0,0,0,0,"Fall 2015",null,2016,null,"595.4/4",null,null,null,null,null,null,null,null,null,"31",null,"Amicus High Interest",null,3,null,"Animals & Nature",null,"English",null,"Reinforced Library",null,32,null,null,null,"470L",null,"2 – 5",null,"Elizabeth Raum"]
[null,null,{"$f":"C906","v":0},null,null,null,"Not Available",null,9781607537854,null,"Blue Ringed Octopuses",null,null,null,"Poisonous Animals",null,null,null,"Amicus",null,0,null,23.95,null,0,null,0,null,null,null,null,null,0,0,0,0,0,0,0,0,"Fall 2015",null,2016,null,594.55999999999995,null,null,null,null,null,null,null,null,null,"31",null,"Amicus High Interest",null,2.8,null,"Animals & Nature",null,"English",null,"Reinforced Library",null,32,null,null,null,"440L",null,"2 – 5",null,"Elizabeth Raum"]
[null,null,{"$f":"C906","v":0},null,null,null,"Not Available",null,9781607537861,null,"Box Jellyfish",null,null,null,"Poisonous Animals",null,null,null,"Amicus",null,0,null,23.95,null,0,null,0,null,null,null,null,null,0,0,0,0,0,0,0,0,"Fall 2015",null,2016,null," 593.5/3",null,null,null,null,null,null,null,null,null,"31",null,"Amicus High Interest",null,3.1,null,"Animals & Nature",null,"English",null,"Reinforced Library",null,32,null,null,null,"500L",null,"2 – 5",null,"Elizabeth Raum"]
[null,null,{"$f":"C906","v":0},null,null,null,"Not Available",null,9781607537878,null,"Poison Dart Frogs",null,null,null,"Poisonous Animals",null,null,null,"Amicus",null,0,null,23.95,null,0,null,0,null,null,null,null,null,{"$f":"A910","v":0},{"$f":"C910","v":0},{"$f":"E910","v":0},{"$f":"SUM(AG910:AI910)","v":0},{"$f":"U910*A910","v":0},{"$f":"W910*C910","v":0},{"$f":"Y910*E910","v":0},{"$f":"SUM(AK910:AM910)","v":0},"Fall 2015",null,2016,null,"597.8/77",null,null,null,null,null,null,null,null,null,"31",null,"Amicus High Interest",null,3.1,null,"Animals & Nature",null,"English",null,"Reinforced Library",null,32,null,null,null,"530L",null,"2 – 5",null,"Elizabeth Raum"]
[null,null,{"$f":"C906","v":0},null,null,null,"Not Available",null,9781607537885,null,"Scorpions",null,null,null,"Poisonous Animals",null,null,null,"Amicus",null,0,null,23.95,null,0,null,0,null,null,null,null,null,0,0,0,0,0,0,0,0,"Fall 2015",null,2016,null,"595.4/6",null,null,null,null,null,null,null,null,null,"31",null,"Amicus High Interest",null,3.2,null,"Animals & Nature",null,"English",null,"Reinforced Library",null,32,null,null,null,"500L",null,"2 – 5",null,"Elizabeth Raum"]
[null,null,{"$f":"C906","v":0},null,null,null,"Not Available",null,9781607537892,null,"Stingrays",null,null,null,"Poisonous Animals",null,null,null,"Amicus",null,0,null,23.95,null,0,null,0,null,null,null,null,null,0,0,0,0,0,0,0,0,"Fall 2015",null,2016,null,"597.3/5",null,null,null,null,null,null,null,null,null,"31",null,"Amicus High Interest",null,3,null,"Animals & Nature",null,"English",null,"Reinforced Library",null,32,null,null,null,"430L",null,"2 – 5",null,"Elizabeth Raum"]
[null,null,{"$f":"C906","v":0},null,null,null,"Not Available",null,9781607537908,null,"Stonefish",null,null,null,"Poisonous Animals",null,null,null,"Amicus",null,0,null,23.95,null,0,null,0,null,null,null,null,null,0,0,0,0,0,0,0,0,"Fall 2015",null,2016,null," 597/.68",null,null,null,null,null,null,null,null,null,"31",null,"Amicus High Interest",null,2.9,null,"Animals & Nature",null,"English",null,"Reinforced Library",null,32,null,null,null,"500L",null,"2 – 5",null,"Elizabeth Raum"]
[null,null,{"$f":"C906","v":0},null,null,null,"Not Available",null,9781607537915,null,"Taipans",null,null,null,"Poisonous Animals",null,null,null,"Amicus",null,0,null,23.95,null,0,null,0,null,null,null,null,null,0,0,0,0,0,0,0,0,"Fall 2015",null,2016,null,"597.96/4",null,null,null,null,null,null,null,null,null,"31",null,"Amicus High Interest",null,3.1,null,"Animals & Nature",null,"English",null,"Reinforced Library",null,32,null,null,null,"480L",null,"2 – 5",null,"Elizabeth Raum"]
[]
[null,null,null,null,null,null,null,null,null,null,"Complete Series of 4",null,null,null,"Pro Sports Superstars (NBA)",null,null,null,null,null,{"$f":"SUM(U917:U920)","v":0},null,{"$f":"SUM(W917:W920)","v":87.8},null,{"$f":"SUM(Y917:Y920)","v":0}]
[null,null,{"$f":"C916","v":0},null,null,null,"Not Available",null,9781607537656,null,"Superstars of the Boston Celtics",null,null,null,"Pro Sports Superstars (NBA)",null,null,null,"Amicus",null,0,null,21.95,null,0,null,{"$f":"IF(AC917=FALSE,AK917+AL917+AM917,0)","v":0},null,null,null,null,null,0,0,0,0,0,0,0,0,"Fall 2015",null,2016,null,"796.323/640974461",null,null,null,null,null,null,null,null,null,"28",null,"Amicus High Interest",null,1.9,null,"Sports & Recreation",null,"English",null,"Reinforced Library",null,24,null,"I",null,"450L",null,"1 - 4",null,"Annabelle Martin"]
[null,null,{"$f":"C916","v":0},null,null,null,"Not Available",null,9781607537670,null,"Superstars of the Cleveland Cavaliers",null,null,null,"Pro Sports Superstars (NBA)",null,null,null,"Amicus",null,0,null,21.95,null,0,null,0,null,null,null,null,null,0,0,0,0,0,0,0,0,"Fall 2015",null,2016,null,"796.323/640977132",null,null,null,null,null,null,null,null,null,"28",null,"Amicus High Interest",null,2.1,null,"Sports & Recreation",null,"English",null,"Reinforced Library",null,24,null,"I",null,"470L",null,"1 - 4",null,"Annabelle Martin"]
[null,null,{"$f":"C916","v":0},null,null,null,"Not Available",null,9781607537694,null,"Superstars of the Los Angeles Lakers",null,null,null,"Pro Sports Superstars (NBA)",null,null,null,"Amicus",null,0,null,21.95,null,0,null,0,null,null,null,null,null,0,0,0,0,0,0,0,0,"Fall 2015",null,2016,null,"796.323/640979494",null,null,null,null,null,null,null,null,null,"28",null,"Amicus High Interest",null,2.2999999999999998,null,"Sports & Recreation",null,"English",null,"Reinforced Library",null,24,null,"I",null,"450L",null,"1 - 4",null,"Annabelle Martin"]
[null,null,{"$f":"C916","v":0},null,null,null,"Not Available",null,9781607537687,null,"Superstars of the Oklahoma City Thunder",null,null,null,"Pro Sports Superstars (NBA)",null,null,null,"Amicus",null,0,null,21.95,null,0,null,0,null,null,null,null,null,0,0,0,0,0,0,0,0,"Fall 2015",null,2016,null,"796.323/640976638",null,null,null,null,null,null,null,null,null,"28",null,"Amicus High Interest",null,2.2000000000000002,null,"Sports & Recreation",null,"English",null,"Reinforced Library",null,24,null,"I",null,"480L",null,"1 - 4",null,"Max Hammer"]
[]
[null,null,null,null,null,null,null,null,null,null,"Complete Series of 6",null,null,null,"Punctuation Station",null,null,null,null,null,{"$f":"SUM(U923:U928)","v":0},null,{"$f":"SUM(W923:W928)","v":119.7},null,{"$f":"SUM(Y923:Y928)","v":0}]
[null,null,{"$f":"C922","v":0},null,null,null,"Not Available",null,9781607537274,null,"\"What Did He Say?\"",null,null,null,"Punctuation Station",null,null,null,"Amicus",null,0,null,19.95,null,0,null,{"$f":"IF(AC923=FALSE,AK923+AL923+AM923,0)","v":0},null,null,null,null,null,0,0,0,0,0,0,0,0,"Fall 2015",null,2016,null,"428.1/3",null,null,null,null,null,null,null,null,null,null,null,"Amicus Readers",null,2,null,"Language Arts",null,"English",null,"Reinforced Library",null,16,null,null,null,"500L",null,"K - 3",null,"Marie Powell"]
[null,null,{"$f":"C922","v":0},null,null,null,"Not Available",null,9781607537304,null,"Stop Right There.",null,null,null,"Punctuation Station",null,null,null,"Amicus",null,0,null,19.95,null,0,null,0,null,null,null,null,null,0,0,0,0,0,0,0,0,"Fall 2015",null,2016,null,"428.1/3",null,null,null,null,null,null,null,null,null,null,null,"Amicus Readers",null,1.9,null,"Language Arts",null,"English",null,"Reinforced Library",null,16,null,null,null,"520L",null,"K - 3",null,"Marie Powell"]
[null,null,{"$f":"C922","v":0},null,null,null,"Not Available",null,9781607537311,null,"Take a Pause, Paul",null,null,null,"Punctuation Station",null,null,null,"Amicus",null,0,null,19.95,null,0,null,0,null,null,null,null,null,0,0,0,0,0,0,0,0,"Fall 2015",null,2016,null,"428.1/3",null,null,null,null,null,null,null,null,null,null,null,"Amicus Readers",null,2.1,null,"Language Arts",null,"English",null,"Reinforced Library",null,16,null,null,null,"500L",null,"K - 3",null,"Marie Powell"]
[null,null,{"$f":"C922","v":0},null,null,null,"Not Available",null,9781607537281,null,"This is Exciting!",null,null,null,"Punctuation Station",null,null,null,"Amicus",null,0,null,19.95,null,0,null,0,null,null,null,null,null,0,0,0,0,0,0,0,0,"Fall 2015",null,2016,null,"428.1/3",null,null,null,null,null,null,null,null,null,null,null,"Amicus Readers",null,2,null,"Language Arts",null,"English",null,"Reinforced Library",null,16,null,null,null,"470L",null,"K - 3",null,"Marie Powell"]
[null,null,{"$f":"C922","v":0},null,null,null,"Not Available",null,9781607537298,null,"We're Going to the Smiths' House",null,null,null,"Punctuation Station",null,null,null,"Amicus",null,0,null,19.95,null,0,null,0,null,null,null,null,null,0,0,0,0,0,0,0,0,"Fall 2015",null,2016,null,"428.1/3",null,null,null,null,null,null,null,null,null,null,null,"Amicus Readers",null,1.8,null,"Language Arts",null,"English",null,"Reinforced Library",null,16,null,null,null,"440L",null,"K - 3",null,"Marie Powell"]
[null,null,{"$f":"C922","v":0},null,null,null,"Not Available",null,9781607537328,null,"What Is That?",null,null,null,"Punctuation Station",null,null,null,"Amicus",null,0,null,19.95,null,0,null,0,null,null,null,null,null,0,0,0,0,0,0,0,0,"Fall 2015",null,2016,null,"421/.1",null,null,null,null,null,null,null,null,null,null,null,"Amicus Readers",null,1.6,null,"Language Arts",null,"English",null,"Reinforced Library",null,16,null,null,null,"400L",null,"K - 3",null,"Marie Powell"]
[]
[null,null,null,null,null,null,null,null,null,null,"Complete Series of 9",null,null,null,"Unexplained: What's the Evidence?",null,null,null,null,null,{"$f":"SUM(U931:U939)","v":0},null,{"$f":"SUM(W931:W939)","v":215.54999999999995},null,{"$f":"SUM(Y931:Y939)","v":0}]
[null,null,{"$f":"C930","v":0},null,null,null,"Not Available",null,9781607533832,null,"Are Aliens Real?",null,null,null,"Unexplained: What's the Evidence?",null,null,null,"Amicus",null,0,null,23.95,null,0,null,{"$f":"IF(AC931=FALSE,AK931+AL931+AM931,0)","v":0},null,null,null,null,null,0,0,0,0,0,0,0,0,"Fall 2013",null,2014,null,1.9419999999999999,null,null,null,null,null,null,null,null,null,"29",null,"Amicus High Interest",null,3.1,null,"Legends, Myths, & Paranormal",null,"English",null,"Reinforced Library",null,32,null,"L",null,"510L",null,"2 – 5",null,"Patrick Perish"]
[null,null,{"$f":"C930","v":0},null,null,null,"Not Available",null,9781607538042,null,"Are Crop Circles Real?",null,null,null,"Unexplained: What's the Evidence?",null,null,null,"Amicus",null,0,null,23.95,null,0,null,0,null,null,null,null,null,0,0,0,0,0,0,0,0,"Fall 2015",null,2016,null,1.94,null,null,null,null,null,null,null,null,null,"29",null,"Amicus High Interest",null,3.4,null,"Legends, Myths, & Paranormal",null,"English",null,"Reinforced Library",null,32,null,"L",null,"490L",null,"2 – 5",null,"Allison Lassieur"]
[null,null,{"$f":"C930","v":0},null,null,null,"Not Available",null,9781607533849,null,"Are Ghosts Real?",null,null,null,"Unexplained: What's the Evidence?",null,null,null,"Amicus",null,0,null,23.95,null,0,null,0,null,null,null,null,null,0,0,0,0,0,0,0,0,"Fall 2013",null,2014,null,133.1,null,null,null,null,null,null,null,null,null,"29",null,"Amicus High Interest",null,2.9,null,"Legends, Myths, & Paranormal",null,"English",null,"Reinforced Library",null,32,null,"L",null,"520L",null,"2 – 5",null,"Patrick Perish"]
[null,null,{"$f":"C930","v":0},null,null,null,"Not Available",null,9781607533856,null,"Are Haunted Houses Real?",null,null,null,"Unexplained: What's the Evidence?",null,null,null,"Amicus",null,0,null,23.95,null,0,null,0,null,null,null,null,null,0,0,0,0,0,0,0,0,"Fall 2013",null,2014,null,"133.1/22",null,null,null,null,null,null,null,null,null,"29",null,"Amicus High Interest",null,3.1,null,"Legends, Myths, & Paranormal",null,"English",null,"Reinforced Library",null,32,null,"L",null,"540L",null,"2 – 5",null,"Patrick Perish"]
[null,null,{"$f":"C930","v":0},null,null,null,"Not Available",null,9781607533863,null,"Are UFOs Real?",null,null,null,"Unexplained: What's the Evidence?",null,null,null,"Amicus",null,0,null,23.95,null,0,null,0,null,null,null,null,null,0,0,0,0,0,0,0,0,"Fall 2013",null,2014,null,1.9419999999999999,null,null,null,null,null,null,null,null,null,"29",null,"Amicus High Interest",null,3,null,"Legends, Myths, & Paranormal",null,"English",null,"Reinforced Library",null,32,null,"L",null,"510L",null,"2 – 5",null,"Patrick Perish"]
[null,null,{"$f":"C930","v":0},null,null,null,"Not Available",null,9781607538028,null,"Is Atlantis Real?",null,null,null,"Unexplained: What's the Evidence?",null,null,null,"Amicus",null,0,null,23.95,null,0,null,0,null,null,null,null,null,0,0,0,0,0,0,0,0,"Fall 2015",null,2016,null,"398.23/4",null,null,null,null,null,null,null,null,null,"29",null,"Amicus High Interest",null,3.3,null,"Legends, Myths, & Paranormal",null,"English",null,"Reinforced Library",null,32,null,"L",null,"540L",null,"2 – 5",null,"Allison Lassieur"]
[null,null,{"$f":"C930","v":0},null,null,null,"Not Available",null,9781607533870,null,"Is Bigfoot Real?",null,null,null,"Unexplained: What's the Evidence?",null,null,null,"Amicus",null,0,null,23.95,null,0,null,0,null,null,null,null,null,0,0,0,0,0,0,0,0,"Fall 2013",null,2014,null,1.944,null,null,null,null,null,null,null,null,null,"29",null,"Amicus High Interest",null,2.9,null,"Legends, Myths, & Paranormal",null,"English",null,"Reinforced Library",null,32,null,"L",null,"560L",null,"2 – 5",null,"Patrick Perish"]
[null,null,{"$f":"C930","v":0},null,null,null,"Not Available",null,9781607538035,null,"Is the Bermuda Triangle Real?",null,null,null,"Unexplained: What's the Evidence?",null,null,null,"Amicus",null,0,null,23.95,null,0,null,0,null,null,null,null,null,0,0,0,0,0,0,0,0,"Fall 2015",null,2016,null,1.94,null,null,null,null,null,null,null,null,null,"29",null,"Amicus High Interest",null,3.2,null,"Legends, Myths, & Paranormal",null,"English",null,"Reinforced Library",null,32,null,"L",null,"520L",null,"2 – 5",null,"Allison Lassieur"]
[null,null,{"$f":"C930","v":0},null,null,null,"Not Available",null,9781607538059,null,"Is the Loch Ness Monster Real?",null,null,null,"Unexplained: What's the Evidence?",null,null,null,"Amicus",null,0,null,23.95,null,0,null,0,null,null,null,null,null,0,0,0,0,0,0,0,0,"Fall 2015",null,2016,null,1.94,null,null,null,null,null,null,null,null,null,"29",null,"Amicus High Interest",null,3.3,null,"Legends, Myths, & Paranormal",null,"English",null,"Reinforced Library",null,32,null,"L",null,"540L",null,"2 – 5",null,"Allison Lassieur"]
[]
[null,null,null,null,null,null,null,null,null,null,"Complete Series of 6",null,null,null,"Vowels",null,null,null,null,null,{"$f":"SUM(U942:U947)","v":0},null,{"$f":"SUM(W942:W947)","v":119.7},null,{"$f":"SUM(Y942:Y947)","v":0}]
[null,null,{"$f":"C941","v":0},null,null,null,"Not Available",null,9781607537120,null,"What Good Is a U?",null,null,null,"Vowels",null,null,null,"Amicus",null,0,null,19.95,null,0,null,{"$f":"IF(AC942=FALSE,AK942+AL942+AM942,0)","v":0},null,null,null,null,null,0,0,0,0,0,0,0,0,"Fall 2015",null,2016,null,"428.1/3",null,null,null,null,null,null,null,null,null,null,null,"Amicus Readers",null,1.2,null,"Language Arts",null,"English",null,"Reinforced Library",null,16,null,null,null,"310L",null,"K - 3",null,"Marie Powell"]
[null,null,{"$f":"C941","v":0},null,null,null,"Not Available",null,9781607537137,null,"What Good Is a Y?",null,null,null,"Vowels",null,null,null,"Amicus",null,0,null,19.95,null,0,null,0,null,null,null,null,null,0,0,0,0,0,0,0,0,"Fall 2015",null,2016,null,"428.1/3",null,null,null,null,null,null,null,null,null,null,null,"Amicus Readers",null,1.5,null,"Language Arts",null,"English",null,"Reinforced Library",null,16,null,null,null,"340L",null,"K - 3",null,"Marie Powell"]
[null,null,{"$f":"C941","v":0},null,null,null,"Not Available",null,9781607537083,null,"What Good Is an A?",null,null,null,"Vowels",null,null,null,"Amicus",null,0,null,19.95,null,0,null,0,null,null,null,null,null,0,0,0,0,0,0,0,0,"Fall 2015",null,2016,null,428.1,null,null,null,null,null,null,null,null,null,null,null,"Amicus Readers",null,1.3,null,"Language Arts",null,"English",null,"Reinforced Library",null,16,null,null,null,"330L",null,"K - 3",null,"Marie Powell"]
[null,null,{"$f":"C941","v":0},null,null,null,"Not Available",null,9781607537090,null,"What Good Is an E?",null,null,null,"Vowels",null,null,null,"Amicus",null,0,null,19.95,null,0,null,0,null,null,null,null,null,0,0,0,0,0,0,0,0,"Fall 2015",null,2016,null,"428.1/3",null,null,null,null,null,null,null,null,null,null,null,"Amicus Readers",null,1.6,null,"Language Arts",null,"English",null,"Reinforced Library",null,16,null,null,null,"370L",null,"K - 3",null,"Marie Powell"]
[null,null,{"$f":"C941","v":0},null,null,null,"Not Available",null,9781607537106,null,"What Good Is an I?",null,null,null,"Vowels",null,null,null,"Amicus",null,0,null,19.95,null,0,null,0,null,null,null,null,null,0,0,0,0,0,0,0,0,"Fall 2015",null,2016,null,"428.1/3",null,null,null,null,null,null,null,null,null,null,null,"Amicus Readers",null,1.5,null,"Language Arts",null,"English",null,"Reinforced Library",null,16,null,null,null,"420L",null,"K - 3",null,"Marie Powell"]
[null,null,{"$f":"C941","v":0},null,null,null,"Not Available",null,9781607537113,null,"What Good Is an O?",null,null,null,"Vowels",null,null,null,"Amicus",null,0,null,19.95,null,0,null,0,null,null,null,null,null,0,0,0,0,0,0,0,0,"Fall 2015",null,2016,null,"428.1/3",null,null,null,null,null,null,null,null,null,null,null,"Amicus Readers",null,1.4,null,"Language Arts",null,"English",null,"Reinforced Library",null,16,null,null,null,"380L",null,"K - 3",null,"Marie Powell"]
[]
[null,null,null,null,null,null,null,null,null,null,"Complete Series of 6",null,null,null,"Wild Bears",null,null,null,null,null,{"$f":"SUM(U950:U955)","v":0},null,{"$f":"SUM(W950:W955)","v":131.69999999999999},null,{"$f":"SUM(Y950:Y955)","v":0}]
[null,null,{"$f":"C949","v":0},null,null,null,"Not Available",null,9781607537731,null,"Black Bears",null,null,null,"Wild Bears",null,null,null,"Amicus",null,0,null,21.95,null,0,null,{"$f":"IF(AC950=FALSE,AK950+AL950+AM950,0)","v":0},null,null,null,null,null,0,0,0,0,0,0,0,0,"Fall 2015",null,2016,null,"599.78/5",null,null,null,null,null,null,null,null,null,"31",null,"Amicus High Interest",null,1.7,null,"Animals & Nature",null,"English",null,"Reinforced Library",null,24,null,null,null,"440L",null,"1 - 4",null,"Tammy Gagne"]
[null,null,{"$f":"C949","v":0},null,null,null,"Not Available",null,9781607537748,null,"Giant Pandas",null,null,null,"Wild Bears",null,null,null,"Amicus",null,0,null,21.95,null,0,null,0,null,null,null,null,null,0,0,0,0,0,0,0,0,"Fall 2015",null,2016,null,599.78899999999999,null,null,null,null,null,null,null,null,null,"31",null,"Amicus High Interest",null,2.2000000000000002,null,"Animals & Nature",null,"English",null,"Reinforced Library",null,24,null,null,null,"430L",null,"1 - 4",null,"Trudi Strain Trueit"]
[null,null,{"$f":"C949","v":0},null,null,null,"Not Available",null,9781607537755,null,"Grizzly Bears",null,null,null,"Wild Bears",null,null,null,"Amicus",null,0,null,21.95,null,0,null,0,null,null,null,null,null,0,0,0,0,0,0,0,0,"Fall 2015",null,2016,null,599.78399999999999,null,null,null,null,null,null,null,null,null,"31",null,"Amicus High Interest",null,1.9,null,"Animals & Nature",null,"English",null,"Reinforced Library",null,24,null,null,null,"420L",null,"1 - 4",null,"Trudi Strain Trueit"]
[null,null,{"$f":"C949","v":0},null,null,null,"Not Available",null,9781607537779,null,"Sloth Bears",null,null,null,"Wild Bears",null,null,null,"Amicus",null,0,null,21.95,null,0,null,0,null,null,null,null,null,0,0,0,0,0,0,0,0,"Fall 2015",null,2016,null,599.78,null,null,null,null,null,null,null,null,null,"31",null,"Amicus High Interest",null,2,null,"Animals & Nature",null,"English",null,"Reinforced Library",null,24,null,null,null,"350L",null,"1 - 4",null,"Tammy Gagne"]
[null,null,{"$f":"C949","v":0},null,null,null,"Not Available",null,9781607537786,null,"Spectacled Bears",null,null,null,"Wild Bears",null,null,null,"Amicus",null,0,null,21.95,null,0,null,0,null,null,null,null,null,0,0,0,0,0,0,0,0,"Fall 2015",null,2016,null,599.78,null,null,null,null,null,null,null,null,null,"31",null,"Amicus High Interest",null,1.9,null,"Animals & Nature",null,"English",null,"Reinforced Library",null,24,null,null,null,"450L",null,"1 - 4",null,"Tammy Gagne"]
[null,null,{"$f":"C949","v":0},null,null,null,"Not Available",null,9781607537793,null,"Sun Bears ",null,null,null,"Wild Bears",null,null,null,"Amicus",null,0,null,21.95,null,0,null,0,null,null,null,null,null,0,0,0,0,0,0,0,0,"Fall 2015",null,2016,null,599.78,null,null,null,null,null,null,null,null,null,"31",null,"Amicus High Interest",null,1.7,null,"Animals & Nature",null,"English",null,"Reinforced Library",null,24,null,null,null,"430L",null,"1 - 4",null,"Tammy Gagne"]
[]
[null,null,null,null,null,null,null,null,null,null,"Complete Series of 3",null,null,null,"Ancient Wonders",null,null,null,null,null,{"$f":"SUM(U958:U960)","v":0},null,{"$f":"SUM(W958:W960)","v":71.849999999999994},null,{"$f":"SUM(Y958:Y960)","v":0}]
[null,null,{"$f":"C957","v":0},null,null,null,"Not Available",null,9781607534662,null,"Egyptian Pyramids",null,null,null,"Ancient Wonders",null,null,null,"Amicus",null,0,null,23.95,null,0,null,{"$f":"IF(AC958=FALSE,AK958+AL958+AM958,0)","v":0},null,null,null,null,null,0,0,0,0,0,0,0,0,"Fall 2014",null,2015,null,932.01,null,null,null,null,null,null,null,null,null,"32",null,"Amicus High Interest",null,3.2,null,"History",null,"English",null,"Reinforced Library",null,32,null,"L",null,"420L",null,"2 – 5",null,"Elizabeth Raum"]
[null,null,{"$f":"C957","v":0},null,null,null,"Not Available",null,9781607534679,null,"Great Wall of China",null,null,null,"Ancient Wonders",null,null,null,"Amicus",null,0,null,23.95,null,0,null,0,null,null,null,null,null,0,0,0,0,0,0,0,0,"Fall 2014",null,2015,null,951,null,null,null,null,null,null,null,null,null,"32",null,"Amicus High Interest",null,3.2,null,"History",null,"English",null,"Reinforced Library",null,32,null,"L",null,"530L",null,"2 – 5",null,"Elizabeth Raum"]
[null,null,{"$f":"C957","v":0},null,null,null,"Not Available",null,9781607534709,null,"Taj Mahal",null,null,null,"Ancient Wonders",null,null,null,"Amicus",null,0,null,23.95,null,0,null,0,null,null,null,null,null,0,0,0,0,0,0,0,0,"Fall 2014",null,2015,null,"954/.2",null,null,null,null,null,null,null,null,null,"32",null,"Amicus High Interest",null,3.6,null,"History",null,"English",null,"Reinforced Library",null,32,null,"L",null,"540L",null,"2 – 5",null,"Elizabeth Raum"]
[]
[null,null,null,null,null,null,null,null,null,null,"Complete Series of 6",null,null,null,"Animal Kingdom",null,null,null,null,null,{"$f":"SUM(U963:U968)","v":0},null,{"$f":"SUM(W963:W968)","v":143.69999999999999},null,{"$f":"SUM(Y963:Y968)","v":0}]
[null,null,{"$f":"C962","v":0},null,null,null,"Not Available",null,9781607534716,null,"Amphibians",null,null,null,"Animal Kingdom",null,null,null,"Amicus",null,0,null,23.95,null,0,null,{"$f":"IF(AC963=FALSE,AK963+AL963+AM963,0)","v":0},null,null,null,null,null,0,0,0,0,0,0,0,0,"Fall 2014",null,2015,null,597.79999999999995,null,null,null,null,null,null,null,null,null,"31",null,"Amicus High Interest",null,3.1,null,"Animals & Nature",null,"English",null,"Reinforced Library",null,32,null,"L",null,"500L",null,"2 – 5",null,"Michelle Levine"]
[null,null,{"$f":"C962","v":0},null,null,null,"Not Available",null,9781607534723,null,"Birds",null,null,null,"Animal Kingdom",null,null,null,"Amicus",null,0,null,23.95,null,0,null,0,null,null,null,null,null,0,0,0,0,0,0,0,0,"Fall 2014",null,2015,null,598,null,null,null,null,null,null,null,null,null,"31",null,"Amicus High Interest",null,3.2,null,"Animals & Nature",null,"English",null,"Reinforced Library",null,32,null,"L",null,"560L",null,"2 – 5",null,"Allan Morey"]
[null,null,{"$f":"C962","v":0},null,null,null,"Not Available",null,9781607534730,null,"Fish",null,null,null,"Animal Kingdom",null,null,null,"Amicus",null,0,null,23.95,null,0,null,0,null,null,null,null,null,0,0,0,0,0,0,0,0,"Fall 2014",null,2015,null,597,null,null,null,null,null,null,null,null,null,"31",null,"Amicus High Interest",null,2.8,null,"Animals & Nature",null,"English",null,"Reinforced Library",null,32,null,"L",null,"490L",null,"2 – 5",null,"Michelle Levine"]
[null,null,{"$f":"C962","v":0},null,null,null,"Not Available",null,9781607534747,null,"Insects",null,null,null,"Animal Kingdom",null,null,null,"Amicus",null,0,null,23.95,null,0,null,0,null,null,null,null,null,0,0,0,0,0,0,0,0,"Fall 2014",null,2015,null,595.70000000000005,null,null,null,null,null,null,null,null,null,"31",null,"Amicus High Interest",null,3.2,null,"Animals & Nature",null,"English",null,"Reinforced Library",null,32,null,"L",null,"490L",null,"2 – 5",null,"Allan Morey"]
[null,null,{"$f":"C962","v":0},null,null,null,"Not Available",null,9781607534754,null,"Mammals",null,null,null,"Animal Kingdom",null,null,null,"Amicus",null,0,null,23.95,null,0,null,0,null,null,null,null,null,0,0,0,0,0,0,0,0,"Fall 2014",null,2015,null,599,null,null,null,null,null,null,null,null,null,"31",null,"Amicus High Interest",null,2.9,null,"Animals & Nature",null,"English",null,"Reinforced Library",null,32,null,"L",null,"480L",null,"2 – 5",null,"Michelle Levine"]
[null,null,{"$f":"C962","v":0},null,null,null,"Not Available",null,9781607534761,null,"Reptiles",null,null,null,"Animal Kingdom",null,null,null,"Amicus",null,0,null,23.95,null,0,null,0,null,null,null,null,null,0,0,0,0,0,0,0,0,"Fall 2014",null,2015,null,597.9,null,null,null,null,null,null,null,null,null,"31",null,"Amicus High Interest",null,3,null,"Animals & Nature",null,"English",null,"Reinforced Library",null,32,null,"L",null,"450L",null,"2 – 5",null,"Michelle Levine"]
[]
[null,null,null,null,null,null,null,null,null,null,"Complete Series of 5",null,null,null,"Be Safe!",null,null,null,null,null,{"$f":"SUM(U971:U975)","v":0},null,{"$f":"SUM(W971:W975)","v":109.75},null,{"$f":"SUM(Y971:Y975)","v":0}]
[null,null,{"$f":"C970","v":0},null,null,null,"Not Available",null,9781607534440,null,"Be Safe around Fire",null,null,null,"Be Safe!",null,null,null,"Amicus",null,0,null,21.95,null,0,null,{"$f":"IF(AC971=FALSE,AK971+AL971+AM971,0)","v":0},null,null,null,null,null,0,0,0,0,0,0,0,0,"Fall 2014",null,2015,null,613.6,null,null,null,null,null,null,null,null,null,"42",null,"Amicus Illustrated",null,2.7,null,"Health",null,"English",null,"Reinforced Library",null,24,null,"I",null,"510L",null,"2 – 5",null,"Bridget Heos"]
[null,null,{"$f":"C970","v":0},null,null,null,"Not Available",null,9781607534471,null,"Be Safe around Strangers",null,null,null,"Be Safe!",null,null,null,"Amicus",null,0,null,21.95,null,0,null,0,null,null,null,null,null,0,0,0,0,0,0,0,0,"Fall 2014",null,2015,null," 613.60835",null,null,null,null,null,null,null,null,null,"42",null,"Amicus Illustrated",null,2.5,null,"Health",null,"English",null,"Reinforced Library",null,24,null,"I",null,"470L",null,"2 – 5",null,"Bridget Heos"]
[null,null,{"$f":"C970","v":0},null,null,null,"Not Available",null,9781607534488,null,"Be Safe around Water",null,null,null,"Be Safe!",null,null,null,"Amicus",null,0,null,21.95,null,0,null,0,null,null,null,null,null,0,0,0,0,0,0,0,0,"Fall 2014",null,2015,null,797.200289,null,null,null,null,null,null,null,null,null,"42",null,"Amicus Illustrated",null,2.4,null,"Health",null,"English",null,"Reinforced Library",null,24,null,"I",null,"480L",null,"2 – 5",null,"Bridget Heos"]
[null,null,{"$f":"C970","v":0},null,null,null,"Not Available",null,9781607534457,null,"Be Safe on the Internet",null,null,null,"Be Safe!",null,null,null,"Amicus",null,0,null,21.95,null,0,null,0,null,null,null,null,null,{"$f":"A974","v":0},{"$f":"C974","v":0},{"$f":"E974","v":0},{"$f":"SUM(AG974:AI974)","v":0},{"$f":"U974*A974","v":0},{"$f":"W974*C974","v":0},{"$f":"Y974*E974","v":0},{"$f":"SUM(AK974:AM974)","v":0},"Fall 2014",null,2015,null,"004.67/80832",null,null,null,null,null,null,null,null,null,"42",null,"Amicus Illustrated",null,2.4,null,"Health",null,"English",null,"Reinforced Library",null,24,null,"I",null,"510L",null,"2 – 5",null,"Bridget Heos"]
[null,null,{"$f":"C970","v":0},null,null,null,"Not Available",null,9781607534433,null,"Be Safe on Your Bike",null,null,null,"Be Safe!",null,null,null,"Amicus",null,0,null,21.95,null,0,null,0,null,null,null,null,null,0,0,0,0,0,0,0,0,"Fall 2014",null,2015,null,"796.6028/9",null,null,null,null,null,null,null,null,null,"42",null,"Amicus Illustrated",null,2,null,"Health",null,"English",null,"Reinforced Library",null,24,null,"I",null,"510L",null,"2 – 5",null,"Bridget Heos"]
[]
[null,null,null,null,null,null,null,null,null,null,"Complete Series of 6",null,null,null,"Do You Really Want to Visit...? (Biomes)",null,null,null,null,null,{"$f":"SUM(U978:U983)","v":0},null,{"$f":"SUM(W978:W983)","v":131.69999999999999},null,{"$f":"SUM(Y978:Y983)","v":0}]
[null,null,{"$f":"C977","v":0},null,null,null,"Not Available",null,9781607534495,null,"Do You Really Want to Visit a Coral Reef?",null,null,null,"Do You Really Want to Visit...? (Biomes)",null,null,null,"Amicus",null,0,null,21.95,null,0,null,{"$f":"IF(AC978=FALSE,AK978+AL978+AM978,0)","v":0},null,null,null,null,null,0,0,0,0,0,0,0,0,"Fall 2014",null,2015,null,"578.77/89",null,null,null,null,null,null,null,null,null,"40",null,"Amicus Illustrated",null,2.7,null,"Animals & Nature",null,"English",null,"Reinforced Library",null,24,null,"J",null,"520L",null,"2 – 5",null,"Bridget Heos"]
[null,null,{"$f":"C977","v":0},null,null,null,"Not Available",null,9781607534501,null,"Do You Really Want to Visit a Desert?",null,null,null,"Do You Really Want to Visit...? (Biomes)",null,null,null,"Amicus",null,0,null,21.95,null,0,null,0,null,null,null,null,null,0,0,0,0,0,0,0,0,"Fall 2014",null,2015,null,577.54,null,null,null,null,null,null,null,null,null,"40",null,"Amicus Illustrated",null,2.2999999999999998,null,"Animals & Nature",null,"English",null,"Reinforced Library",null,24,null,"J",null,"540L",null,"2 – 5",null,"Bridget Heos"]
[null,null,{"$f":"C977","v":0},null,null,null,"Not Available",null,9781607534525,null,"Do You Really Want to Visit a Prairie?",null,null,null,"Do You Really Want to Visit...? (Biomes)",null,null,null,"Amicus",null,0,null,21.95,null,0,null,0,null,null,null,null,null,0,0,0,0,0,0,0,0,"Fall 2014",null,2015,null,"577.4/4",null,null,null,null,null,null,null,null,null,"40",null,"Amicus Illustrated",null,2.5,null,"Animals & Nature",null,"English",null,"Reinforced Library",null,24,null,"J",null,"560L",null,"2 – 5",null,"Bridget Heos"]
[null,null,{"$f":"C977","v":0},null,null,null,"Not Available",null,9781607534532,null,"Do You Really Want to Visit a Rainforest?",null,null,null,"Do You Really Want to Visit...? (Biomes)",null,null,null,"Amicus",null,0,null,21.95,null,0,null,0,null,null,null,null,null,0,0,0,0,0,0,0,0,"Fall 2014",null,2015,null,577.34,null,null,null,null,null,null,null,null,null,"40",null,"Amicus Illustrated",null,2.6,null,"Animals & Nature",null,"English",null,"Reinforced Library",null,24,null,"J",null,"550L",null,"2 – 5",null,"Bridget Heos"]
[null,null,{"$f":"C977","v":0},null,null,null,"Not Available",null,9781607534518,null,"Do You Really Want to Visit a Temperate Forest?",null,null,null,"Do You Really Want to Visit...? (Biomes)",null,null,null,"Amicus",null,0,null,21.95,null,0,null,0,null,null,null,null,null,0,0,0,0,0,0,0,0,"Fall 2014",null,2015,null,577.29999999999995,null,null,null,null,null,null,null,null,null,"40",null,"Amicus Illustrated",null,2.6,null,"Animals & Nature",null,"English",null,"Reinforced Library",null,24,null,"J",null,"530L",null,"2 – 5",null,"Bridget Heos"]
[null,null,{"$f":"C977","v":0},null,null,null,"Not Available",null,9781607534549,null,"Do You Really Want to Visit a Wetland?",null,null,null,"Do You Really Want to Visit...? (Biomes)",null,null,null,"Amicus",null,0,null,21.95,null,0,null,0,null,null,null,null,null,0,0,0,0,0,0,0,0,"Fall 2014",null,2015,null,577.67999999999995,null,null,null,null,null,null,null,null,null,"40",null,"Amicus Illustrated",null,2.9,null,"Animals & Nature",null,"English",null,"Reinforced Library",null,24,null,"J",null,"630L",null,"2 – 5",null,"Bridget Heos"]
[]
[null,null,null,null,null,null,null,null,null,null,"Complete Series of 4",null,null,null,"Healthy Me!",null,null,null,null,null,{"$f":"SUM(U986:U989)","v":0},null,{"$f":"SUM(W986:W989)","v":87.8},null,{"$f":"SUM(Y986:Y989)","v":0}]
[null,null,{"$f":"C985","v":0},null,null,null,"Not Available",null,9781607535867,null,"My Body Needs Exercise",null,null,null,"Healthy Me!",null,null,null,"Amicus",null,0,null,21.95,null,0,null,{"$f":"IF(AC986=FALSE,AK986+AL986+AM986,0)","v":0},null,null,null,null,null,0,0,0,0,0,0,0,0,"Fall 2014",null,2015,null,613.70000000000005,null,null,null,null,null,null,null,null,null,"32",null,"Amicus High Interest",null,2.2999999999999998,null,"Health",null,"English",null,"Reinforced Library",null,24,null,"I",null,"420L",null,"1 - 4",null,"Jenna Lee Gleisner"]
[null,null,{"$f":"C985","v":0},null,null,null,"Not Available",null,9781607535874,null,"My Body Needs Food",null,null,null,"Healthy Me!",null,null,null,"Amicus",null,0,null,21.95,null,0,null,0,null,null,null,null,null,0,0,0,0,0,0,0,0,"Fall 2014",null,2015,null,613.20000000000005,null,null,null,null,null,null,null,null,null,"32",null,"Amicus High Interest",null,2.2999999999999998,null,"Health",null,"English",null,"Reinforced Library",null,24,null,"I",null,"400L",null,"1 - 4",null,"Jenna Lee Gleisner"]
[null,null,{"$f":"C985","v":0},null,null,null,"Not Available",null,9781607535881,null,"My Body Needs Rest",null,null,null,"Healthy Me!",null,null,null,"Amicus",null,0,null,21.95,null,0,null,0,null,null,null,null,null,0,0,0,0,0,0,0,0,"Fall 2014",null,2015,null,"612.8/21083",null,null,null,null,null,null,null,null,null,"32",null,"Amicus High Interest",null,2.4,null,"Health",null,"English",null,"Reinforced Library",null,24,null,"I",null,"510L",null,"1 - 4",null,"Jenna Lee Gleisner"]
[null,null,{"$f":"C985","v":0},null,null,null,"Not Available",null,9781607535898,null,"My Body Needs to Be Clean",null,null,null,"Healthy Me!",null,null,null,"Amicus",null,0,null,21.95,null,0,null,0,null,null,null,null,null,0,0,0,0,0,0,0,0,"Fall 2014",null,2015,null,613.4,null,null,null,null,null,null,null,null,null,"32",null,"Amicus High Interest",null,2.5,null,"Health",null,"English",null,"Reinforced Library",null,24,null,"I",null,"490L",null,"1 - 4",null,"Jenna Lee Gleisner"]
[]
[null,null,null,null,null,null,null,null,null,null,"Complete Series of 6",null,null,null,"Hear Homophones Here",null,null,null,null,null,{"$f":"SUM(U992:U997)","v":0},null,{"$f":"SUM(W992:W997)","v":119.7},null,{"$f":"SUM(Y992:Y997)","v":0}]
[null,null,{"$f":"C991","v":0},null,null,null,"Not Available",null,9781607535683,null,"Are You a Ewe?",null,null,null,"Hear Homophones Here",null,null,null,"Amicus",null,0,null,19.95,null,0,null,{"$f":"IF(AC992=FALSE,AK992+AL992+AM992,0)","v":0},null,null,null,null,null,0,0,0,0,0,0,0,0,"Fall 2014",null,2015,null,428.1,null,null,null,null,null,null,null,null,null,null,null,"Amicus Readers",null,1.4,null,"Language Arts",null,"English",null,"Reinforced Library",null,16,null,"E",null,"380L",null,"1 - 4",null,"Rebecca Felix"]
[null,null,{"$f":"C991","v":0},null,null,null,"Not Available",null,9781607535690,null,"Can You Be a Bee?",null,null,null,"Hear Homophones Here",null,null,null,"Amicus",null,0,null,19.95,null,0,null,0,null,null,null,null,null,0,0,0,0,0,0,0,0,"Fall 2014",null,2015,null,"428/.1",null,null,null,null,null,null,null,null,null,null,null,"Amicus Readers",null,1.7,null,"Language Arts",null,"English",null,"Reinforced Library",null,16,null,"E",null,"390L",null,"1 - 4",null,"Rebecca Felix"]
[null,null,{"$f":"C991","v":0},null,null,null,"Not Available",null,9781607535706,null,"New Gnu Knew, The",null,null,null,"Hear Homophones Here",null,null,null,"Amicus",null,0,null,19.95,null,0,null,0,null,null,null,null,null,0,0,0,0,0,0,0,0,"Fall 2014",null,2015,null,428.1,null,null,null,null,null,null,null,null,null,null,null,"Amicus Readers",null,1.8,null,"Language Arts",null,"English",null,"Reinforced Library",null,16,null,"E",null,"460L",null,"1 - 4",null,"Rebecca Felix"]
[null,null,{"$f":"C991","v":0},null,null,null,"Not Available",null,9781607535713,null,"Pair of Pears, A",null,null,null,"Hear Homophones Here",null,null,null,"Amicus",null,0,null,19.95,null,0,null,0,null,null,null,null,null,0,0,0,0,0,0,0,0,"Fall 2014",null,2015,null,"428/.1",null,null,null,null,null,null,null,null,null,null,null,"Amicus Readers",null,1.8,null,"Language Arts",null,"English",null,"Reinforced Library",null,16,null,"E",null,"400L",null,"1 - 4",null,"Rebecca Felix"]
[null,null,{"$f":"C991","v":0},null,null,null,"Not Available",null,9781607535720,null,"Rows of Roses",null,null,null,"Hear Homophones Here",null,null,null,"Amicus",null,0,null,19.95,null,0,null,0,null,null,null,null,null,0,0,0,0,0,0,0,0,"Fall 2014",null,2015,null,428.1,null,null,null,null,null,null,null,null,null,null,null,"Amicus Readers",null,1.7,null,"Language Arts",null,"English",null,"Reinforced Library",null,16,null,"E",null,"440L",null,"1 - 4",null,"Rebecca Felix"]
[null,null,{"$f":"C991","v":0},null,null,null,"Not Available",null,9781607535737,null,"They Won One!",null,null,null,"Hear Homophones Here",null,null,null,"Amicus",null,0,null,19.95,null,0,null,0,null,null,null,null,null,0,0,0,0,0,0,0,0,"Fall 2014",null,2015,null,428.1,null,null,null,null,null,null,null,null,null,null,null,"Amicus Readers",null,1.8,null,"Language Arts",null,"English",null,"Reinforced Library",null,16,null,"E",null,"380L",null,"1 - 4",null,"Rebecca Felix"]
[]
[null,null,null,null,null,null,null,null,null,null,"Complete Series of 6",null,null,null,"Living With…",null,null,null,null,null,{"$f":"SUM(U1000:U1005)","v":0},null,{"$f":"SUM(W1000:W1005)","v":143.69999999999999},null,{"$f":"SUM(Y1000:Y1005)","v":0}]
[null,null,{"$f":"C999","v":0},null,null,null,"Not Available",null,9781607534778,null,"Allergies",null,null,null,"Living With…",null,null,null,"Amicus",null,0,null,23.95,null,0,null,{"$f":"IF(AC1000=FALSE,AK1000+AL1000+AM1000,0)","v":0},null,null,null,null,null,0,0,0,0,0,0,0,0,"Fall 2014",null,2015,null,616.97,null,null,null,null,null,null,null,null,null,"32",null,"Amicus High Interest",null,3.4,null,"Health",null,"English",null,"Reinforced Library",null,32,null,"L",null,"480L",null,"2 – 5",null,"Michelle Levine"]
[null,null,{"$f":"C1015","v":0},null,null,null,"Not Available",null,9781607534624,null,"Counting Change",null,null,null,"Math World",null,null,null,"Amicus",null,0,null,21.95,null,0,null,{"$f":"IF(AC1016=FALSE,AK1016+AL1016+AM1016,0)","v":0},null,null,null,null,null,0,0,0,0,0,0,0,0,"Fall 2014",null,2015,null,"513.2/11",null,null,null,null,null,null,null,null,null,"42",null,"Amicus Illustrated",null,2.2999999999999998,null,"Math & Finance",null,"English",null,"Reinforced Library",null,24,null,"I",null,"490L",null,"2 – 5",null,"Bridget Heos"]
[null,null,{"$f":"C1021","v":0},null,null,null,"Not Available",null,9781607535911,null,"Superstars of the Boston Red Sox",null,null,null,"Pro Sports Superstars (MLB)",null,null,null,"Amicus",null,0,null,21.95,null,0,null,0,null,null,null,null,null,0,0,0,0,0,0,0,0,"Fall 2014",null,2015,null,"796.357/640974461",null,null,null,null,null,null,null,null,null,"28",null,"Amicus High Interest",null,2.6,null,"Sports & Recreation",null,"English",null,"Reinforced Library",null,24,null,"I",null,"510L",null,"1 - 4",null,"Max Hammer"]
[null,null,{"$f":"C1043","v":0},null,null,null,"Not Available",null,9781607534990,null,"Dairy",null,null,null,"Where Does Our Food Come From?",null,null,null,"Amicus",null,0,null,23.95,null,0,null,{"$f":"IF(AC1044=FALSE,AK1044+AL1044+AM1044,0)","v":0},null,null,null,null,null,0,0,0,0,0,0,0,0,"Fall 2014",null,2015,null,"636.2/142",null,null,null,null,null,null,null,null,null,"32",null,"Amicus High Interest",null,2.9,null,"Health",null,"English",null,"Reinforced Library",null,32,null,"L",null,"520L",null,"2 – 5",null,"Allison Lassieur"]
[null,null,{"$f":"C1064","v":0},null,null,null,"Not Available",null,9781607533818,null,"Therapy Animals",null,null,null,"Animals with Jobs",null,null,null,"Amicus",null,0,null,23.95,null,0,null,0,null,null,null,null,null,0,0,0,0,0,0,0,0,"Fall 2013",null,2014,null,"615.8/5158",null,null,null,null,null,null,null,null,null,"32",null,"Amicus High Interest",null,3.1,null,"Animals & Nature",null,"English",null,"Reinforced Library",null,32,null,"L",null,"560L",null,"2 – 5",null,"Connie Colwell Miller"]
[null,null,{"$f":"C1084","v":0},null,null,null,"Not Available",null,9781607531975,null,"Do You Really Want to Visit The Moon?",null,null,null,"Do You Really Want to Visit...? (Planets)",null,null,null,"Amicus",null,0,null,21.95,null,0,null,0,null,null,null,null,null,0,0,0,0,0,0,0,0,"Fall 2013",null,2014,null,523.29999999999995,null,null,null,null,null,null,null,null,null,"40",null,"Amicus Illustrated",null,2.8,null,"Science & Technology",null,"English",null,"Reinforced Library",null,24,null,null,null,"540L",null,"2 – 5",null,"Thomas K. Adamson"]
[]
[]
[{"$f":"A1139","v":0},null,{"$f":"C1139","v":0},null,{"$f":"E1139","v":0},null,"9781636910864",null,9781636910796,null,"Easy Desert Origami",null,null,null,"A World of Origami",null,null,null,"Bearport Publishing",null,41.36,null,18.95,null,{"$f":"W1140+5","v":23.95},null,{"$f":"IF(AC1140=FALSE,AK1140+AL1140+AM1140,0)","v":0},null,null,null,null,null,0,0,0,0,0,0,0,0,"Fall 2021",null,2022,null,"736'.982",null,null,null,"Q",null,null,null,null,null,"36",null,"Create! Books",null,null,null,null,null,"English",null,"Reinforced Library",null,24,null,"",null,550,null,"2 - 5",null,"Jennifer Sanderson"]
[null,null,null,null,null,null,null,null,null,null,"Complete Series of 6",null,null,null,"Bearcub Bios Set 2",null,null,null,null,null,{"$f":"SUM(U1148:U1153)","v":248.16000000000003},null,{"$f":"SUM(W1148:W1153)","v":113.7},null,{"$f":"SUM(Y1148:Y1153)","v":248.16000000000003}]
[{"$f":"A1167","v":0},null,{"$f":"C1167","v":0},null,{"$f":"E1167","v":0},null,"9781647479633",null,9781647479473,null,"Beginning of Bread, The",null,null,null,"Drive Thru Set 2",null,null,null,"Bearport Publishing",null,41.36,null,18.95,null,41.36,null,{"$f":"IF(AC1168=FALSE,AK1168+AL1168+AM1168,0)","v":0},null,null,null,null,null,{"$f":"A1168","v":0},{"$f":"C1168","v":0},{"$f":"E1168","v":0},{"$f":"SUM(AG1168:AI1168)","v":0},{"$f":"U1168*A1168","v":0},{"$f":"W1168*C1168","v":0},{"$f":"Y1168*E1168","v":0},{"$f":"SUM(AK1168:AM1168)","v":0},"Fall 2021",null,2022,null,"641.81'5",null,null,null,"Q",null,null,null,null,null,"19",null,"Fusion Books",null,null,null,null,null,"English",null,"Reinforced Library",null,24,null,"O",null,510,null,"1 - 3",null,"Harriet Brundle"]
[null,null,null,null,null,null,null,null,null,null,"Complete Series of 8",null,null,null,"Heroic Dogs",null,null,null,null,null,{"$f":"SUM(U1190:U1197)","v":330.88000000000005},null,{"$f":"SUM(W1190:W1197)","v":151.6},null,{"$f":"SUM(Y1190:Y1197)","v":330.88000000000005}]
[]
[{"$f":"A1231","v":0},null,{"$f":"C1231","v":0},null,{"$f":"E1231","v":0},null,"9781636910611",null,9781636910475,null,"Saving the Silvertip",null,null,null,"Saving Animals from the Brink",null,null,null,"Bearport Publishing",null,42.79,null,19.95,null,42.79,null,0,null,null,null,null,null,0,0,0,0,0,0,0,0,"Fall 2021",null,2022,null,"639.97'97840978752",null,null,null,"Q",null,"Q",null,null,null,"28",null,"Bear Claw Books",null,null,null,null,null,"English",null,"Reinforced Library",null,24,null,"",null,540,null,"3 - 6",null,"Tim Cooke"]
[]
[{"$f":"A1261","v":0},null,{"$f":"C1261","v":0},null,{"$f":"E1261","v":0},null,"9781647479381",null,9781647479244,null,"Mechanics",null,null,null,"What Makes a Community? Set 3",null,null,null,"Bearport Publishing",null,41.36,null,18.95,null,41.36,null,0,null,null,null,null,null,0,0,0,0,0,0,0,0,"Fall 2021",null,2022,null,"629.28'7023",null,null,null,"Q",null,null,null,null,null,"6",null,"Bearcub Books",null,null,null,null,null,"English",null,"Reinforced Library",null,24,null,"",null,430,null,"K - 1",null,"Ariel Factor Birdoff"]
[]
[]
[{"$f":"A1308","v":0},null,{"$f":"C1308","v":0},null,{"$f":"E1308","v":0},null,9781647475390,null,9781647475253,null,"Slice Up Sushi",null,null,null,"Deconstructed Diets",null,null,null,"Bearport Publishing",null,41.36,null,18.95,null,23.95,null,0,null,null,null,null,null,0,0,0,0,0,0,0,0,"Spring 2021",null,2021,null,641.82000000000005,null,"Q",null,null,null,null,null,null,null,"25",null,"Fusion Books",null,null,null,null,null,"English",null,"Reinforced Library",null,24,null,"N",null,550,null,"Grade 1 - 3",null,"Shalini Vallepur"]
[{"$f":"A1332","v":0},null,{"$f":"C1332","v":0},null,{"$f":"E1332","v":0},null,9781647476533,null,9781647476397,null,"Army Rangers",null,null,null,"Mission: Special Ops",null,null,null,"Bearport Publishing",null,42.79,null,19.95,null,24.95,null,0,null,null,null,null,null,0,0,0,0,0,0,0,0,"Spring 2021",null,2021,null,"940.54'21421",null,null,null,null,null,null,null,null,null,"33",null,"Bear Claw Books",null,null,null,null,null,"English",null,"Reinforced Library",null,null,null,null,null,610,null,"Grade 3 - 6",null,"Sarah Eason"]
[{"$f":"A1354","v":0},null,{"$f":"C1354","v":0},null,{"$f":"E1354","v":0},null,9781647476359,null,9781647476212,null,"Water Everywhere",null,null,null,"Rescued! Animal Escapes",null,null,null,"Bearport Publishing",null,42.79,null,19.95,null,24.95,null,0,null,null,null,null,null,0,0,0,0,0,0,0,0,"Spring 2021",null,2021,null,"363.34'93",null,null,null,null,null,"Q",null,null,null,"32",null,"Bear Claw Books",null,null,null,null,null,"English",null,"Reinforced Library",null,24,null,null,null,530,null,"Grade 3 - 6",null,"James Buckley Jr."]
[{"$f":"A1376","v":0},null,{"$f":"C1376","v":0},null,{"$f":"E1376","v":0},null,9781647476908,null,9781647476762,null,"Plants",null,null,null,"X-treme Facts: Science",null,null,null,"Bearport Publishing",null,42.79,null,19.95,null,24.95,null,0,null,null,null,null,null,0,0,0,0,0,0,0,0,"Spring 2021",null,2021,null,580,null,"Q",null,null,null,null,null,"Q",null,"41",null,"Bearport Books",null,null,null,null,null,"English",null,"Reinforced Library",null,32,null,null,null,660,null,"Grade 3 - 5",null,"Catherine C. Finan"]
[{"$f":"A1384","v":0},null,{"$f":"C1384","v":0},null,{"$f":"E1384","v":0},null,9781642809718,null,9781642809572,null,"Baby Goats",null,null,null,"Animal Babies Set 1",null,null,null,"Bearport Publishing",null,41.36,null,18.95,null,41.36,null,0,null,null,null,null,null,0,0,0,0,0,0,0,0,"Fall 2020",null,2021,null,null,null,"Q",null,null,null,"Q",null,null,null,"11",null,"Bearcub Books",null,1.4,null,"Animals & Nature",null,"English",null,"Reinforced Library",null,24,null,null,null,null,null,"K - 1",null,"Spencer Brinker"]
[{"$f":"A1400","v":0},null,{"$f":"C1400","v":0},null,{"$f":"E1400","v":0},null,9781647470074,null,9781642809855,null,"Zendaya",null,null,null,"Bearcub Bios Set 1",null,null,null,"Bearport Publishing",null,41.36,null,18.95,null,23.95,null,0,null,null,null,null,null,0,0,0,0,0,0,0,0,"Fall 2020",null,2021,null,"791.4502/8092",null,"Q",null,null,null,null,null,null,null,"8",null,"Bearcub Books",null,1.8,null,"Biography",null,"English",null,"Reinforced Library",null,24,null,null,null,null,null,"K - 1",null,"Rachel Rose"]
[{"$f":"A1428","v":0},null,{"$f":"C1428","v":0},null,{"$f":"E1428","v":0},null,9781647473341,null,9781647473242,null,"Search for Salt, The",null,null,null,"Drive Thru Set 1",null,null,null,"Bearport Publishing",null,41.36,null,18.95,null,{"$f":"W1430+5","v":23.95},null,0,null,null,null,null,null,0,0,0,0,0,0,0,0,"Fall 2020",null,2021,null,"664/.4",null,"Q",null,null,null,null,null,null,null,"19",null,"Fusion Books",null,null,null,"High Interest",null,"English",null,"Reinforced Library",null,24,null,"M",null,null,null,"K - 3",null,"Shalini Vallepur"]
[{"$f":"A1434","v":0},null,{"$f":"C1434","v":0},null,{"$f":"E1434","v":0},null,9781647473556,null,9781647473457,null,"Warmth",null,null,null,"Fuel Up!",null,null,null,"Bearport Publishing",null,41.36,null,18.95,null,{"$f":"W1437+5","v":23.95},null,0,null,null,null,null,null,0,0,0,0,0,0,0,0,"Fall 2020",null,2021,null,"612/.01426",null,"Q",null,null,null,null,null,null,null,"27",null,"Fusion Books",null,null,null,"High Interest",null,"English",null,"Reinforced Library",null,24,null,"M",null,null,null,null,null,"Harriet Brundle"]
[]
[{"$f":"A1465","v":0},null,{"$f":"C1465","v":0},null,{"$f":"E1465","v":0},null,9781642805734,null,9781642805192,null,"Horror in North Carolina",null,null,null,"Scary States (of Mind)",null,null,null,"Bearport Publishing",null,41.36,null,18.95,null,23.95,null,0,null,null,null,null,null,0,0,0,0,0,0,0,0,"Fall 2019",null,2020,null,133.109756,null,"Q",null,null,null,null,null,null,null,"67",null,"Bearcub Books",null,3.4,null,"Legends, Myths, & Paranormal",null,"English",null,"Reinforced Library",null,24,null,"V",null,600,null,"K - 3",null,"Simon Rose"]
[{"$f":"A1503","v":0},null,{"$f":"C1503","v":0},null,{"$f":"E1503","v":0},null,9781647471118,null,9781647470937,null,"Banded Sea Krait",null,null,null,"Slither!",null,null,null,"Bearport Publishing",null,41.36,null,18.95,null,{"$f":"W1504+5","v":23.95},null,{"$f":"IF(AC1504=FALSE,AK1504+AL1504+AM1504,0)","v":0},null,null,null,null,null,0,0,0,0,0,0,0,0,"Fall 2020",null,2021,null,null,null,"Q",null,null,null,"Q",null,null,null,"50",null,"Bearcub Books",null,null,null,"Animals & Nature",null,"English",null,"Reinforced Library",null,24,null,null,null,null,null,null,null,"Craig Boutland"]
[{"$f":"A1513","v":0},null,{"$f":"C1513","v":0},null,{"$f":"E1513","v":0},null,9781684020973,null,9781684020454,null,"Ghost Houses",null,null,null,"Tiptoe Into Scary Places",null,null,null,"Bearport Publishing",null,41.36,null,18.95,null,23.95,null,0,null,null,null,null,null,0,0,0,0,0,0,0,0,"Spring 2017",null,2017,null,"133.1'22",null,"Q",null,null,null,null,null,null,null,"68",null,"Bearcub Books",null,3.5,null,"Legends, Myths, & Paranormal",null,"English",null,"Reinforced Library",null,24,null,"R",null,630,null,"K - 3",null,"Jessica Rudolph"]
[{"$f":"A1513","v":0},null,{"$f":"C1513","v":0},null,{"$f":"E1513","v":0},null,9781684023257,null,9781684022717,null,"Mummy Tombs",null,null,null,"Tiptoe Into Scary Places",null,null,null,"Bearport Publishing",null,41.36,null,18.95,null,23.95,null,0,null,null,null,null,null,0,0,0,0,0,0,0,0,"Fall 2017",null,2018,null,"393'.3",null,"Q",null,null,null,null,null,null,null,"68",null,"Bearcub Books",null,3.9,null,"Legends, Myths, & Paranormal",null,"English",null,"Reinforced Library",null,24,null,"R",null,640,null,"K - 3",null,"E. Merwin"]
[{"$f":"A1553","v":0},null,{"$f":"C1553","v":0},null,{"$f":"E1553","v":0},null,9781647473938,null,9781647473839,null,"Poo in the Forest",null,null,null,"Whose Poo?",null,null,null,"Bearport Publishing",null,41.36,null,18.95,null,{"$f":"W1554+5","v":23.95},null,{"$f":"IF(AC1554=FALSE,AK1554+AL1554+AM1554,0)","v":0},null,null,null,null,null,0,0,0,0,0,0,0,0,"Fall 2020",null,2021,null,null,null,"Q",null,null,null,null,null,null,null,"26",null,"Fusion Books",null,null,null,"Animals & Nature",null,"English",null,"Reinforced Library",null,24,null,"N",null,null,null,null,null,"Emilie Dufresne"]
[{"$f":"A1567","v":0},null,{"$f":"C1567","v":0},null,{"$f":"E1567","v":0},null,9781642805888,null,9781642805345,null,"Bolivia",null,null,null,"Countries We Come From",null,null,null,"Bearport Publishing",null,42.79,null,19.95,null,24.95,null,0,null,null,null,null,null,0,0,0,0,0,0,0,0,"Fall 2019",null,2020,null,984,null,"Q",null,null,null,null,null,null,null,"62",null,"Bearport Books",null,3.6,null,"Social Studies",null,"English",null,"Reinforced Library",null,32,null,"N",null,560,null,"K - 3",null,"Meish Goldish"]
[{"$f":"A1567","v":0},null,{"$f":"C1567","v":0},null,{"$f":"E1567","v":0},null,9781627249140,null,9781627248587,null,"China",null,null,null,"Countries We Come From",null,null,null,"Bearport Publishing",null,42.79,null,19.95,null,24.95,null,0,null,null,null,null,null,0,0,0,0,0,0,0,0,"Fall 2015",null,2016,null,951,null,"Q",null,null,null,null,null,null,null,"62",null,"Bearport Books",null,3.1,null,"Social Studies",null,"English",null,"Reinforced Library",null,32,null,"J",null,520,null,"K - 3",null,"Joyce Markovics"]
[{"$f":"A1567","v":0},null,{"$f":"C1567","v":0},null,{"$f":"E1567","v":0},null,9781684021093,null,9781684020577,null,"Iran",null,null,null,"Countries We Come From",null,null,null,"Bearport Publishing",null,42.79,null,19.95,null,24.95,null,0,null,null,null,null,null,0,0,0,0,0,0,0,0,"Spring 2017",null,2017,null,955,null,"Q",null,null,null,null,null,null,null,"62",null,"Bearport Books",null,3.1,null,"Social Studies",null,"English",null,"Reinforced Library",null,32,null,"J",null,510,null,"K - 3",null,"Joyce Markovics"]
[{"$f":"A1567","v":0},null,{"$f":"C1567","v":0},null,{"$f":"E1567","v":0},null,9781642805772,null,9781642805239,null,"Panama",null,null,null,"Countries We Come From",null,null,null,"Bearport Publishing",null,42.79,null,19.95,null,24.95,null,0,null,null,null,null,null,0,0,0,0,0,0,0,0,"Fall 2019",null,2020,null,972.87,null,"Q",null,null,null,null,null,null,null,"62",null,"Bearport Books",null,3.6,null,"Social Studies",null,"English",null,"Reinforced Library",null,32,null,"N",null,540,null,"K - 3",null,"Meish Goldish"]
[{"$f":"A1643","v":0},null,{"$f":"C1643","v":0},null,{"$f":"E1643","v":0},null,9781642802986,null,9781642802290,null,"Ecuador (Ecuador)",null,null,null,"Los países de donde venimos (Countries We Come From)",null,null,null,"Bearport Publishing",null,42.79,null,19.95,null,24.95,null,0,null,null,null,null,null,0,0,0,0,0,0,0,0,"Spring 2019",null,2019,null,986.6,null,null,null,null,null,null,null,null,null,"76",null,"Bearport Books",null,2.7,null,"Social Studies",null,"Spanish",null,"Reinforced Library",null,32,null,"J",null,530,null,"K - 3",null,"Joyce Markovics"]
[{"$f":"A1666","v":0},null,{"$f":"C1666","v":0},null,{"$f":"E1666","v":0},null,9781642806052,null,9781642805512,null,"Ram Jam",null,null,null,"Read and Rhyme Level 2",null,null,null,"Bearport Publishing",null,26.95,null,16.95,null,21.95,null,0,null,null,null,null,null,0,0,0,0,0,0,0,0,"Fall 2019",null,2020,null,"428.6'2",null,null,null,null,null,null,null,null,null,"14",null,"Bearcub Books",null,null,null,"Language Arts",null,"English",null,"Reinforced Library",null,16,null,"C",null,190,null,"PreK - 1",null,"Pearl Markovics"]
[{"$f":"A1676","v":0},null,{"$f":"C1676","v":0},null,{"$f":"E1676","v":0},null,9781642806175,null,9781642805635,null,"Goat on a Boat, A",null,null,null,"Read and Rhyme Level 3",null,null,null,"Bearport Publishing",null,26.95,null,16.95,null,21.95,null,0,null,null,null,null,null,0,0,0,0,0,0,0,0,"Fall 2019",null,2020,null,"428.6'2",null,null,null,null,null,null,null,null,null,"14",null,"Bearcub Books",null,null,null,"Language Arts",null,"English",null,"Reinforced Library",null,16,null,"D",null,450,null,"PreK - 1",null,"Spencer Brinker"]
[{"$f":"A1692","v":0},null,{"$f":"C1692","v":0},null,{"$f":"E1692","v":0},null,9781684025152,null,9781684024575,null,"Pharrell Williams",null,null,null,"Amazing Americans: Pop Music Stars",null,null,null,"Bearport Publishing",null,41.36,null,18.95,null,41.36,null,0,null,null,null,null,null,0,0,0,0,0,0,0,0,"Spring 2018",null,2018,null,782.42164909999997,null,null,null,null,null,null,null,null,null,"60",null,"Bearcub Books",null,3.5,null,"Biography",null,"English",null,"Reinforced Library",null,24,null,"O",null,720,null,"PreK - 3",null,"K.C. Kelley"]
[{"$f":"A1718","v":0},null,{"$f":"C1718","v":0},null,{"$f":"E1718","v":0},null,9781597165013,null,9781597163675,null,"Challenger Space Shuttle Explosion, The",null,null,null,"Code Red",null,null,null,"Bearport Publishing",null,42.79,null,19.95,null,24.95,null,0,null,null,null,null,null,0,0,0,0,0,0,0,0,"Spring 2007",null,2007,null,"363.12'465",null,null,null,null,null,null,null,null,null,null,null,"Bearport Books",null,5.0999999999999996,null,"High Interest",null,"English",null,"Reinforced Library",null,32,null,"R",null,750,null,"2 - 7",null,"William Caper"]
[{"$f":"A1718","v":0},null,{"$f":"C1718","v":0},null,{"$f":"E1718","v":0},null,9781597164962,null,9781597163620,null,"Nightmare on the Titanic",null,null,null,"Code Red",null,null,null,"Bearport Publishing",null,42.79,null,19.95,null,24.95,null,0,null,null,null,null,null,0,0,0,0,0,0,0,0,"Spring 2007",null,2007,null,"910.9163'4",null,null,null,null,null,null,null,null,null,null,null,"Bearport Books",null,5,null,"High Interest",null,"English",null,"Reinforced Library",null,32,null,null,null,760,null,"2 - 7",null,"William Caper"]
[{"$f":"A1741","v":0},null,{"$f":"C1741","v":0},null,{"$f":"E1741","v":0},null,9781642802719,null,9781642802023,null,"In the Pond",null,null,null,"Farm Charm",null,null,null,"Bearport Publishing",null,26.95,null,16.95,null,21.95,null,0,null,null,null,null,null,0,0,0,0,0,0,0,0,"Spring 2019",null,2019,null,"577.63'6",null,null,null,null,null,null,null,null,null,"17",null,"Bearcub Books",null,null,null,"High Interest",null,"English",null,"Reinforced Library",null,16,null,"C",null,160,null,"PreK - 1",null,"Pearl Markovics"]
[{"$f":"A1769","v":0},null,{"$f":"C1769","v":0},null,{"$f":"E1769","v":0},null,9781642802801,null,9781642802115,null,"My Favorite Foods",null,null,null,"My Favorite Things",null,null,null,"Bearport Publishing",null,26.95,null,16.95,null,21.95,null,0,null,null,null,null,null,0,0,0,0,0,0,0,0,"Spring 2019",null,2019,null,641.29999999999995,null,null,null,null,null,null,null,null,null,"18",null,"Bearcub Books",null,1,null,"High Interest",null,"English",null,"Reinforced Library",null,16,null,"C",null,180,null,"PreK - 1",null,"Pearl Markovics"]
[{"$f":"A1779","v":0},null,{"$f":"C1779","v":0},null,{"$f":"E1779","v":0},null,9781943553426,null,9781943553082,null,"Ghostly Graveyards",null,null,null,"Scary Places",null,null,null,"Bearport Publishing",null,42.79,null,19.95,null,24.95,null,0,null,null,null,null,null,0,0,0,0,0,0,0,0,"Spring 2016",null,2016,null,"133.1'22",null,"Q",null,null,null,null,null,null,null,"70",null,"Bearport Books",null,5.9,null,"Legends, Myths, & Paranormal",null,"English",null,"Reinforced Library",null,32,null,null,null,930,null,null,null,"Judy Allen"]
[{"$f":"A1814","v":0},null,{"$f":"C1814","v":0},null,{"$f":"E1814","v":0},null,9781627249003,null,9781627248396,null,"Apple",null,null,null,"See It Grow",null,null,null,"Bearport Publishing",null,41.36,null,18.95,null,{"$f":"W1815+5","v":23.95},null,{"$f":"IF(AC1815=FALSE,AK1815+AL1815+AM1815,0)","v":0},null,null,null,null,null,0,0,0,0,0,0,0,0,"Fall 2015",null,2016,null,634.11,null,null,null,null,null,null,null,null,null,"59",null,"Bearport Books",null,2.2999999999999998,null,"High Interest",null,"English",null,"Reinforced Library",null,24,null,"G",null,510,null,"K - 3",null,"Dawn Bluemel Oldfield"]
[{"$f":"A1814","v":0},null,{"$f":"C1814","v":0},null,{"$f":"E1814","v":0},null,9781627249041,null,9781627248402,null,"Pumpkin",null,null,null,"See It Grow",null,null,null,"Bearport Publishing",null,41.36,null,18.95,null,23.95,null,0,null,null,null,null,null,0,0,0,0,0,0,0,0,"Fall 2015",null,2016,null,"635'.62",null,null,null,null,null,null,null,null,null,"59",null,"Bearport Books",null,2.2000000000000002,null,"High Interest",null,"English",null,"Reinforced Library",null,24,null,"G",null,450,null,"K - 3",null,"Jackie Lee"]
[null,null,null,null,null,null,null,null,null,null,"Complete Series of 10",null,null,null,"The Dino-sphere",null,null,null,null,null,{"$f":"SUM(U1845:U1854)","v":413.60000000000008},null,{"$f":"SUM(W1845:W1854)","v":189.49999999999997},null,{"$f":"SUM(Y1845:Y1854)","v":239.49999999999994}]
[]
[{"$f":"A1866","v":0},null,{"$f":"C1866","v":0},null,{"$f":"E1866","v":0},null,9781642800210,null,9781684029990,null,"Windy Day, A",null,null,null,"Weather Watch",null,null,null,"Bearport Publishing",null,26.95,null,16.95,null,21.95,null,0,null,null,null,null,null,0,0,0,0,0,0,0,0,"Fall 2018",null,2019,null,"551.51'8",null,null,null,null,null,null,null,null,null,"16",null,"Bearcub Books",null,null,null,"Science & Technology",null,"English",null,"Reinforced Library",null,16,null,"C",null,140,null,"PreK - 1",null,"Spencer Brinker"]
[{"$f":"A1888","v":0},null,{"$f":"C1888","v":0},null,{"$f":"E1888","v":0},null,9781684025381,null,9781684024803,null,"Long and Orange",null,null,null,"American Place Puzzlers",null,null,null,"Bearport Publishing",null,41.36,null,18.95,null,41.36,null,0,null,null,null,null,null,0,0,0,0,0,0,0,0,"Spring 2018",null,2018,null,"624.2'30979461",null,null,null,null,null,null,null,null,null,null,null,"Bearport Books",null,0.8,null,"High Interest",null,"English",null,"Reinforced Library",null,24,null,"E",null,350,null,"PreK - 3",null,"Kathryn Camisa"]
[{"$f":"A1908","v":0},null,{"$f":"C1908","v":0},null,{"$f":"E1908","v":0},null,9781684023974,null,9781684023882,null,"Parques de diversiones embrujados (Haunted Amusement Parks)",null,null,null,"De puntillas en lugares escalofriantes (Tiptoe Into Scary Places)",null,null,null,"Bearport Publishing",null,41.36,null,18.95,null,23.95,null,0,null,null,null,null,null,0,0,0,0,0,0,0,0,"Fall 2017",null,2018,null,"133.1'22",null,null,null,null,null,null,null,null,null,"77",null,"Bearport Books",null,null,null,"Legends, Myths, & Paranormal",null,"Spanish",null,"Reinforced Library",null,24,null,null,null,620,null,"K - 3",null,"Rachel Anne Cantor"]
[{"$f":"A1936","v":0},null,{"$f":"C1936","v":0},null,{"$f":"E1936","v":0},null,9781684024919,null,9781684024339,null,"Haunted Titanic, A",null,null,null,"Titanica",null,null,null,"Bearport Publishing",null,42.79,null,19.95,null,24.95,null,0,null,null,null,null,null,0,0,0,0,0,0,0,0,"Spring 2018",null,2018,null,"910.9163'4",null,null,null,null,null,null,null,null,null,"64",null,"Bearport Books",null,5.6,null,"High Interest",null,"English",null,"Reinforced Library",null,32,null,"P",null,900,null,null,null,"E. Merwin"]
[{"$f":"A1956","v":0},null,{"$f":"C1956","v":0},null,{"$f":"E1956","v":0},null,9781684022854,null,9781684022311,null,"Los Angeles",null,null,null,"Citified!",null,null,null,"Bearport Publishing",null,41.36,null,18.95,null,23.95,null,0,null,null,null,null,null,0,0,0,0,0,0,0,0,"Fall 2017",null,2018,null,"979.4'94",null,null,null,null,null,null,null,null,null,"65",null,"Bearport Books",null,2.5,null,"Social Studies",null,"English",null,"Reinforced Library",null,24,null,"J",null,510,null,"K - 3",null,"Joyce Markovics"]
[{"$f":"A1966","v":0},null,{"$f":"C1966","v":0},null,{"$f":"E1966","v":0},null,9781684022793,null,9781684022250,null,"Killer Smog",null,null,null,"Eco-Disasters",null,null,null,"Bearport Publishing",null,42.79,null,19.95,null,24.95,null,0,null,null,null,null,null,0,0,0,0,0,0,0,0,"Fall 2017",null,2018,null,"363.739'20942109045",null,null,null,null,null,null,null,null,null,"49",null,"Bearport Books",null,5.6,null,"Social Studies",null,"English",null,"Reinforced Library",null,32,null,"T",null,910,null,null,null,"Joyce Markovics"]
[{"$f":"A1984","v":0},null,{"$f":"C1984","v":0},null,{"$f":"E1984","v":0},null,9781684023165,null,9781684022625,null,"Polish Chicken",null,null,null,"Weirder and Cuter",null,null,null,"Bearport Publishing",null,41.36,null,18.95,null,23.95,null,0,null,null,null,null,null,0,0,0,0,0,0,0,0,"Fall 2017",null,2018,null,636.5,null,null,null,null,null,null,null,null,null,"56",null,"Bearport Books",null,2.6,null,"Animals & Nature",null,"English",null,"Reinforced Library",null,24,null,"J",null,540,null,"K - 3",null,"Joyce Markovics"]
[{"$f":"A2012","v":0},null,{"$f":"C2012","v":0},null,{"$f":"E2012","v":0},null,9781684020751,null,9781684020232,null,"Great Pyramid, The",null,null,null,"Egypt’s Ancient Secrets",null,null,null,"Bearport Publishing",null,42.79,null,19.95,null,24.95,null,0,null,null,null,null,null,0,0,0,0,0,0,0,0,"Spring 2017",null,2017,null,932,null,null,null,null,null,null,null,null,null,"66",null,"Bearport Books",null,5.8,null,"Legends, Myths, & Paranormal",null,"English",null,"Reinforced Library",null,32,null,null,null,890,null,null,null,"Ruth Owen"]
[{"$f":"A2012","v":0},null,{"$f":"C2012","v":0},null,{"$f":"E2012","v":0},null,9781684020782,null,9781684020263,null,"Tomb Robbers",null,null,null,"Egypt’s Ancient Secrets",null,null,null,"Bearport Publishing",null,42.79,null,19.95,null,24.95,null,0,null,null,null,null,null,0,0,0,0,0,0,0,0,"Spring 2017",null,2017,null,932,null,null,null,null,null,null,null,null,null,"66",null,"Bearport Books",null,5.7,null,"Legends, Myths, & Paranormal",null,"English",null,"Reinforced Library",null,32,null,null,null,900,null,null,null,"Ruth Owen"]
[null,null,null,null,null,null,null,null,null,null,"Complete Series of 11",null,null,null,"Animal Diaries: Life Cycles",null,null,null,null,null,{"$f":"SUM(U2039:U2049)","v":454.96000000000009},null,{"$f":"SUM(W2039:W2049)","v":208.44999999999996},null,{"$f":"SUM(Y2039:Y2049)","v":454.96000000000009}]
[{"$f":"A2051","v":0},null,{"$f":"C2051","v":0},null,{"$f":"E2051","v":0},null,9781944997359,null,9781944102654,null,"John Quincy Adams",null,null,null,"A First Look at America’s Presidents",null,null,null,"Bearport Publishing",null,41.36,null,18.95,null,41.36,null,0,null,null,null,null,null,0,0,0,0,0,0,0,0,"Fall 2016",null,2017,null,"973.5'5092",null,null,null,null,null,null,null,null,null,null,null,"Bearport Books",null,4,null,"Social Studies",null,"English",null,"Reinforced Library",null,24,null,"N",null,600,null,"K - 3",null,"Diane Bailey"]
[{"$f":"A2081","v":0},null,{"$f":"C2081","v":0},null,{"$f":"E2081","v":0},null,9781944997274,null,9781944102760,null,"Mi melena es corta e hirsuta (My Mane Is Short and Spotted)",null,null,null,"Pistas de animales 2 (Zoo Clues 2)",null,null,null,"Bearport Publishing",null,41.36,null,18.95,null,23.95,null,0,null,null,null,null,null,0,0,0,0,0,0,0,0,"Fall 2016",null,2017,null,"599.74'3",null,null,null,null,null,null,null,null,null,"77",null,"Bearport Books",null,1,null,"Animals & Nature",null,"Spanish",null,"Reinforced Library",null,24,null,null,null,100,null,"PreK - 3",null,"Jessica Rudolph"]
[{"$f":"A2081","v":0},null,{"$f":"C2081","v":0},null,{"$f":"E2081","v":0},null,9781944997298,null,9781944102807,null,"Mis patas son palmeadas y anaranjadas (My Feet Are Webbed and Orange)",null,null,null,"Pistas de animales 2 (Zoo Clues 2)",null,null,null,"Bearport Publishing",null,41.36,null,18.95,null,23.95,null,0,null,null,null,null,null,0,0,0,0,0,0,0,0,"Fall 2016",null,2017,null,"598.3'3",null,null,null,null,null,null,null,null,null,"77",null,"Bearport Books",null,1.2,null,"Animals & Nature",null,"Spanish",null,"Reinforced Library",null,24,null,null,null,240,null,"PreK - 3",null,"Joyce Markovics"]
[{"$f":"A2110","v":0},null,{"$f":"C2110","v":0},null,{"$f":"E2110","v":0},null,9781944997199,null,9781944102555,null,"Muskrat",null,null,null,"Swamp Things: Animal Life in a Wetland",null,null,null,"Bearport Publishing",null,41.36,null,18.95,null,23.95,null,0,null,null,null,null,null,0,0,0,0,0,0,0,0,"Fall 2016",null,2017,null,599.35,null,null,null,null,null,null,null,null,null,"55",null,"Bearport Books",null,4.0999999999999996,null,"Animals & Nature",null,"English",null,"Reinforced Library",null,24,null,"L",null,610,null,"K - 3",null,"Ellen Lawrence"]
[{"$f":"A2128","v":0},null,{"$f":"C2128","v":0},null,{"$f":"E2128","v":0},null,9781944102951,null,9781944102562,null,"My Teeth Are Sharp and Pointy (Sawfish)",null,null,null,"Zoo Clues 2",null,null,null,"Bearport Publishing",null,41.36,null,18.95,null,23.95,null,0,null,null,null,null,null,0,0,0,0,0,0,0,0,"Fall 2016",null,2017,null,"597.3'5",null,null,null,null,null,null,null,null,null,null,null,"Bearport Books",null,0.8,null,"Animals & Nature",null,"English",null,"Reinforced Library",null,24,null,"E",null,20,null,"PreK - 3",null,"Jessica Rudolph"]
[{"$f":"A2138","v":0},null,{"$f":"C2138","v":0},null,{"$f":"E2138","v":0},null,9781617722066,null,9781617721519,null,"Prison Puppies",null,null,null,"Dog Heroes",null,null,null,"Bearport Publishing",null,42.79,null,19.95,null,24.95,null,0,null,null,null,null,null,0,0,0,0,0,0,0,0,"Spring 2011",null,2011,null,"362.4'0483",null,null,null,null,null,null,null,null,null,null,null,"Bearport Books",null,5.6,null,"Animals & Nature",null,"English",null,"Reinforced Library",null,32,null,"O",null,1000,null,"2 - 7",null,"Meish Goldish"]
[{"$f":"A2138","v":0},null,{"$f":"C2138","v":0},null,{"$f":"E2138","v":0},null,9781617729812,null,9781617728877,null,"Science Dogs",null,null,null,"Dog Heroes",null,null,null,"Bearport Publishing",null,42.79,null,19.95,null,24.95,null,0,null,null,null,null,null,0,0,0,0,0,0,0,0,"Fall 2013",null,2014,null,"636.7'0886",null,null,null,null,null,null,null,null,null,null,null,"Bearport Books",null,5.8,null,"Animals & Nature",null,"English",null,"Reinforced Library",null,32,null,"O",null,990,null,"2 - 7",null,"Meish Goldish"]
[]
[{"$f":"A2204","v":0},null,{"$f":"C2204","v":0},null,{"$f":"E2204","v":0},null,9781627241380,null,9781627240857,null,"Colin Kaepernick",null,null,null,"Football Stars Up Close",null,null,null,"Bearport Publishing",null,41.36,null,18.95,null,23.95,null,0,null,null,null,null,null,0,0,0,0,0,0,0,0,"Spring 2014",null,2014,null,796.33209199999999,null,null,null,null,null,null,null,null,null,null,null,"Bearport Books",null,4.7,null,"Sports & Recreation",null,"English",null,"Reinforced Library",null,24,null,"N",null,920,null,"K - 5",null,"Nel Yomtov"]
[{"$f":"A2221","v":0},null,{"$f":"C2221","v":0},null,{"$f":"E2221","v":0},null,9781617727887,null,9781617727399,null,"Motion",null,null,null,"FUN-damental Experiments",null,null,null,"Bearport Publishing",null,41.36,null,18.95,null,23.95,null,0,null,null,null,null,null,0,0,0,0,0,0,0,0,"Spring 2013",null,2013,null,"531'.11",null,null,null,null,null,null,null,null,null,null,null,"Bearport Books",null,null,null,"Science & Technology",null,"English",null,"Reinforced Library",null,24,null,"P",null,540,null,"PreK - 3",null,"Ellen Lawrence"]
[{"$f":"A2244","v":0},null,{"$f":"C2244","v":0},null,{"$f":"E2244","v":0},null,9781627249119,null,9781627248488,null,"Rockhopper Penguin",null,null,null,"Weird But Cute",null,null,null,"Bearport Publishing",null,41.36,null,18.95,null,23.95,null,0,null,null,null,null,null,0,0,0,0,0,0,0,0,"Spring 2016",null,2016,null,598.47,null,null,null,null,null,null,null,null,null,"56",null,"Bearport Books",null,2.5,null,"Animals & Nature",null,"English",null,"Reinforced Library",null,24,null,"I",null,520,null,"K - 3",null,"Jessica Rudolph"]
[{"$f":"A2254","v":0},null,{"$f":"C2254","v":0},null,{"$f":"E2254","v":0},null,9781627248754,null,9781627248082,null,"Ghost at The Grand Inn, The",null,null,null,"Cold Whispers I",null,null,null,"Bearport Publishing",null,42.79,null,19.95,null,24.95,null,0,null,null,null,null,null,0,0,0,0,0,0,0,0,"Fall 2015",null,2016,null,"FIC",null,null,null,null,null,null,null,null,null,"75",null,"Bearport Books",null,4.0999999999999996,null,"Legends, Myths, & Paranormal",null,"English",null,"Reinforced Library",null,32,null,"Q",null,660,null,null,null,"Michael Teitelbaum"]
[{"$f":"A2271","v":0},null,{"$f":"C2271","v":0},null,{"$f":"E2271","v":0},null,9781617726255,null,9781617725890,null,"Meat-eating Plants",null,null,null,"Plant-ology",null,null,null,"Bearport Publishing",null,41.36,null,18.95,null,23.95,null,0,null,null,null,null,null,0,0,0,0,0,0,0,0,"Fall 2012",null,2013,null,"575.9'9",null,null,null,null,null,null,null,null,null,null,null,"Bearport Books",null,4.3,null,"Animals & Nature",null,"English",null,"Reinforced Library",null,24,null,"K",null,590,null,"K - 3",null,"Ellen Lawrence"]
[{"$f":"A2300","v":0},null,{"$f":"C2300","v":0},null,{"$f":"E2300","v":0},null,9781943074808,null,9781943074723,null,"Ghost at the Grand Inn, The / Eerie Inns",null,null,null,"Twice the Scare Combos!",null,null,null,"Bearport Publishing",null,59.9,null,39.9,null,44.9,null,0,null,null,null,null,null,0,0,0,0,0,0,0,0,"Fall 2015",null,2016,null,null,null,null,null,null,null,null,null,null,null,null,null,"Bearport Books",null,null,null,"Legends, Myths, & Paranormal",null,"English",null,"Reinforced Library"]
[{"$f":"A2300","v":0},null,{"$f":"C2300","v":0},null,{"$f":"E2300","v":0},null,9781943074747,null,9781943074662,null,"Secret of the Tragic Theater, The / Tragic Theaters",null,null,null,"Twice the Scare Combos!",null,null,null,"Bearport Publishing",null,59.9,null,39.9,null,44.9,null,0,null,null,null,null,null,0,0,0,0,0,0,0,0,"Fall 2015",null,2016,null,null,null,null,null,null,null,null,null,null,null,null,null,"Bearport Books",null,null,null,"Legends, Myths, & Paranormal",null,"English",null,"Reinforced Library"]
[{"$f":"A2325","v":0},null,{"$f":"C2325","v":0},null,{"$f":"E2325","v":0},null,9781627246163,null,9781627245319,null,"Harp Seal",null,null,null,"Arctic Animals: Life Outside the Igloo",null,null,null,"Bearport Publishing",null,41.36,null,18.95,null,41.36,null,0,null,null,null,null,null,0,0,0,0,0,0,0,0,"Spring 2015",null,2015,null,"599.79'29",null,null,null,null,null,null,null,null,null,null,null,"Bearport Books",null,3.7,null,"Animals & Nature",null,"English",null,"Reinforced Library",null,24,null,"M",null,580,null,"PreK - 3",null,"Dee Phillips"]
[{"$f":"A2352","v":0},null,{"$f":"C2352","v":0},null,{"$f":"E2352","v":0},null,9781627246798,null,9781627245975,null,"El Sol (The Sun)",null,null,null,"Fuera de este mundo (Out Of This World)",null,null,null,"Bearport Publishing",null,41.36,null,18.95,null,{"$f":"W2353+5","v":23.95},null,{"$f":"IF(AC2353=FALSE,AK2353+AL2353+AM2353,0)","v":0},null,null,null,null,null,0,0,0,0,0,0,0,0,"Spring 2015",null,2015,null,523.70000000000005,null,null,null,null,null,null,null,null,null,null,null,"Bearport Books",null,1.4,null,"Science & Technology",null,"Spanish",null,"Reinforced Library",null,24,null,null,null,560,null,"K - 3",null,"Chaya Glaser"]
[{"$f":"A2366","v":0},null,{"$f":"C2366","v":0},null,{"$f":"E2366","v":0},null,9781627246521,null,9781627245678,null,"Uranus",null,null,null,"Out of this World",null,null,null,"Bearport Publishing",null,41.36,null,18.95,null,23.95,null,0,null,null,null,null,null,0,0,0,0,0,0,0,0,"Spring 2015",null,2015,null,523.47,null,null,null,null,null,null,null,null,null,null,null,"Bearport Books",null,1.8,null,"Science & Technology",null,"English",null,"Reinforced Library",null,24,null,"L",null,510,null,"K - 3",null,"Chaya Glaser"]
[{"$f":"A2380","v":0},null,{"$f":"C2380","v":0},null,{"$f":"E2380","v":0},null,9781627246651,null,9781627245838,null,"Mi nariz es larga y peluda (My Nose is Long and Fuzzy)",null,null,null,"Pistas de animales (Zoo Clues)",null,null,null,"Bearport Publishing",null,41.36,null,18.95,null,23.95,null,0,null,null,null,null,null,{"$f":"A2382","v":0},{"$f":"C2382","v":0},{"$f":"E2382","v":0},{"$f":"SUM(AG2382:AI2382)","v":0},{"$f":"U2382*A2382","v":0},{"$f":"W2382*C2382","v":0},{"$f":"Y2382*E2382","v":0},{"$f":"SUM(AK2382:AM2382)","v":0},"Spring 2015",null,2015,null,"599.3'14",null,null,null,null,null,null,null,null,null,null,null,"Bearport Books",null,0.8,null,"Animals & Nature",null,"Spanish",null,"Reinforced Library",null,24,null,null,null,390,null,"PreK - 3",null,"Joyce Markovics"]
[{"$f":"A2400","v":0},null,{"$f":"C2400","v":0},null,{"$f":"E2400","v":0},null,9781627244732,null,9781627244589,null,"Las mariposas monarca (Monarch Butterflies)",null,null,null,"A dónde van en invierno? (In Winter, Where Do They Go?)",null,null,null,"Bearport Publishing",null,41.36,null,18.95,null,41.36,null,0,null,null,null,null,null,0,0,0,0,0,0,0,0,"Fall 2014",null,2015,null,"595.78'9",null,null,null,null,null,null,null,null,null,null,null,"Bearport Books",null,null,null,"Animals & Nature",null,"Spanish",null,"Reinforced Library",null,24,null,"I",null,510,null,"PreK - 3",null,"Joyce Markovics"]
[null,null,null,null,null,null,null,null,null,null,null,null,null,null,null,null,null,null,null,null,null,null,null,null,null,null,0]
[{"$f":"A2444","v":0},null,{"$f":"C2444","v":0},null,{"$f":"E2444","v":0},null,9781627243957,null,9781627243391,null,"Patterns in the Park",null,null,null,"Seeing Patterns All Around",null,null,null,"Bearport Publishing",null,42.79,null,19.95,null,24.95,null,0,null,null,null,null,null,0,0,0,0,0,0,0,0,"Fall 2014",null,2015,null,516.15,null,null,null,null,null,null,null,null,null,null,null,"Bearport Books",null,2,null,"High Interest",null,"English",null,"Reinforced Library",null,32,null,"K",null,420,null,"K - 3",null,"J. Clark Sawyer"]
[null,null,null,null,null,null,null,null,null,null,"Complete Series of 6",null,null,null,"Stranded!",null,null,null,null,null,{"$f":"SUM(U2453:U2458)","v":256.74},null,{"$f":"SUM(W2453:W2458)","v":119.7},null,{"$f":"SUM(Y2453:Y2458)","v":149.69999999999999}]
[]
[{"$f":"A2497","v":0},null,{"$f":"C2497","v":0},null,{"$f":"E2497","v":0},null,9781627241557,null,9781627241038,null,"Dirty Air",null,null,null,"Green World, Clean World",null,null,null,"Bearport Publishing",null,41.36,null,18.95,null,{"$f":"W2498+5","v":23.95},null,{"$f":"IF(AC2498=FALSE,AK2498+AL2498+AM2498,0)","v":0},null,null,null,null,null,0,0,0,0,0,0,0,0,"Spring 2014",null,2014,null,"363.739'2",null,null,null,null,null,null,null,null,null,null,null,"Bearport Books",null,4.3,null,"High Interest",null,"English",null,"Reinforced Library",null,24,null,"N",null,830,null,"K - 3",null,"Ellen Lawrence"]
[{"$f":"A2520","v":0},null,{"$f":"C2520","v":0},null,{"$f":"E2520","v":0},null,9781627241649,null,9781627241120,null,"My Body Is Striped and Leafy (Leafy Sea Dragon)",null,null,null,"Zoo Clues",null,null,null,"Bearport Publishing",null,41.36,null,18.95,null,{"$f":"W2521+5","v":23.95},null,{"$f":"IF(AC2521=FALSE,AK2521+AL2521+AM2521,0)","v":0},null,null,null,null,null,0,0,0,0,0,0,0,0,"Spring 2014",null,2014,null,"597'.679",null,null,null,null,null,null,null,null,null,null,null,"Bearport Books",null,0.9,null,"Animals & Nature",null,"English",null,"Reinforced Library",null,24,null,"E",null,380,null,"PreK - 3",null,"Jessica Rudolph"]
[{"$f":"A2520","v":0},null,{"$f":"C2520","v":0},null,{"$f":"E2520","v":0},null,9781627241632,null,9781627241113,null,"My Nose Is Long and Fuzzy (Anteater)",null,null,null,"Zoo Clues",null,null,null,"Bearport Publishing",null,41.36,null,18.95,null,23.95,null,0,null,null,null,null,null,0,0,0,0,0,0,0,0,"Spring 2014",null,2014,null,"599.3'14",null,null,null,null,null,null,null,null,null,null,null,"Bearport Books",null,0.9,null,"Animals & Nature",null,"English",null,"Reinforced Library",null,24,null,"E",null,340,null,"PreK - 3",null,"Joyce Markovics"]
[{"$f":"A2546","v":0},null,{"$f":"C2546","v":0},null,{"$f":"E2546","v":0},null,9781617729645,null,9781617729188,null,"Great White Shark",null,null,null,"The Deep End: Animal Life Underwater",null,null,null,"Bearport Publishing",null,41.36,null,18.95,null,23.95,null,0,null,null,null,null,null,0,0,0,0,0,0,0,0,"Fall 2013",null,2014,null,"597.3'3",null,null,null,null,null,null,null,null,null,null,null,"Bearport Books",null,4,null,"Animals & Nature",null,"English",null,"Reinforced Library",null,24,null,"L",null,610,null,null,null,"Jen Green"]
[{"$f":"A2564","v":0},null,{"$f":"C2564","v":0},null,{"$f":"E2564","v":0},null,9781617729447,null,9781617728945,null,"Seeing-Eye Dogs",null,null,null,"We Work! Animals with Jobs",null,null,null,"Bearport Publishing",null,27.95,null,17.95,null,22.95,null,0,null,null,null,null,null,0,0,0,0,0,0,0,0,"Fall 2013",null,2014,null,"362.4'183",null,null,null,null,null,null,null,null,null,null,null,"Bearport Books",null,2.9,null,"Animals & Nature",null,"English",null,"Reinforced Library",null,24,null,"J",null,580,null,"PreK - 3",null,"Jenny Fretland VanVoorst"]
[{"$f":"A2592","v":0},null,{"$f":"C2592","v":0},null,{"$f":"E2592","v":0},null,9781617728037,null,9781617727542,null,"Giant River Otters",null,null,null,"Jungle Babies of the Amazon Rain Forest",null,null,null,"Bearport Publishing",null,27.95,null,17.95,null,22.95,null,0,null,null,null,null,null,0,0,0,0,0,0,0,0,"Spring 2013",null,2013,null,"599.76'63",null,null,null,null,null,null,null,null,null,null,null,"Bearport Books",null,3.3,null,"Animals & Nature",null,"English",null,"Reinforced Library",null,24,null,"K",null,550,null,"K - 3",null,"Rachel Lynette"]
[{"$f":"A2592","v":0},null,{"$f":"C2592","v":0},null,{"$f":"E2592","v":0},null,9781617728075,null,9781617727580,null,"Pink River Dolphins",null,null,null,"Jungle Babies of the Amazon Rain Forest",null,null,null,"Bearport Publishing",null,27.95,null,17.95,null,22.95,null,0,null,null,null,null,null,0,0,0,0,0,0,0,0,"Spring 2013",null,2013,null,"599.53'809811",null,null,null,null,null,null,null,null,null,null,null,"Bearport Books",null,3.2,null,"Animals & Nature",null,"English",null,"Reinforced Library",null,24,null,"K",null,550,null,"K - 3",null,"Rachel Lynette"]
[null,null,null,null,null,null,null,null,null,null,"Complete Series of 4",null,null,null,"Yummy Tummy Recipes: Seasons",null,null,null,null,null,{"$f":"SUM(U2619:U2622)","v":165.44},null,{"$f":"SUM(W2619:W2622)","v":75.8},null,{"$f":"SUM(Y2619:Y2622)","v":95.8}]
[{"$f":"A2642","v":0},null,{"$f":"C2642","v":0},null,{"$f":"E2642","v":0},null,9781617724923,null,9781617724466,null,"Today's Navy Heroes",null,null,null,"Acts of Courage: Inside America's Military",null,null,null,"Bearport Publishing",null,42.79,null,19.95,null,{"$f":"W2647+5","v":24.95},null,0,null,null,null,null,null,0,0,0,0,0,0,0,0,"Spring 2012",null,2012,null,"956.7044'345092273",null,null,null,null,null,null,null,null,null,null,null,"Bearport Books",null,6.3,null,"High Interest",null,"English",null,"Reinforced Library",null,32,null,"O",null,930,null,null,null,"Jessica Rudolph"]
[{"$f":"A2664","v":0},null,{"$f":"C2664","v":0},null,{"$f":"E2664","v":0},null,9781617724619,null,9781617723964,null,"How Do You Know It’s Fall?",null,null,null,"Signs of the Seasons",null,null,null,"Bearport Publishing",null,41.36,null,18.95,null,{"$f":"W2665+5","v":23.95},null,{"$f":"IF(AC2665=FALSE,AK2665+AL2665+AM2665,0)","v":0},null,null,null,null,null,0,0,0,0,0,0,0,0,"Spring 2012",null,2012,null,508.2,null,null,null,null,null,null,null,null,null,null,null,"Bearport Books",null,3.7,null,"Animals & Nature",null,"English",null,"Reinforced Library",null,24,null,"L",null,570,null,"K - 3",null,"Ruth Owen"]
[{"$f":"A2670","v":0},null,{"$f":"C2670","v":0},null,{"$f":"E2670","v":0},null,9781617723155,null,9781617722752,null,"Hippo",null,null,null,"Animal Loudmouths",null,null,null,"Bearport Publishing",null,41.36,null,18.95,null,41.36,null,0,null,null,null,null,null,0,0,0,0,0,0,0,0,"Fall 2011",null,2012,null,"599.63'5",null,null,null,null,null,null,null,null,null,null,null,"Bearport Books",null,4,null,"Animals & Nature",null,"English",null,"Reinforced Library",null,24,null,"L",null,600,null,null,null,"Natalie Lunis"]
[{"$f":"A2692","v":0},null,{"$f":"C2692","v":0},null,{"$f":"E2692","v":0},null,9781617723452,null,9781617723070,null,"Artful Snacks",null,null,null,"Yummy Tummy Recipes",null,null,null,"Bearport Publishing",null,41.36,null,18.95,null,{"$f":"W2693+5","v":23.95},null,{"$f":"IF(AC2693=FALSE,AK2693+AL2693+AM2693,0)","v":0},null,null,null,null,null,0,0,0,0,0,0,0,0,"Fall 2011",null,2012,null,"641.5'3",null,null,null,null,null,null,null,null,null,null,null,"Bearport Books",null,null,null,"High Interest",null,"English",null,"Reinforced Library",null,24,null,"P",null,880,null,null,null,"Marilyn LaPenta"]
[{"$f":"A2712","v":0},null,{"$f":"C2712","v":0},null,{"$f":"E2712","v":0},null,9781617721885,null,9781617721434,null,"American Shorthairs",null,null,null,"Cat-ographies",null,null,null,"Bearport Publishing",null,41.36,null,18.95,null,23.95,null,0,null,null,null,null,null,0,0,0,0,0,0,0,0,"Spring 2011",null,2011,null,"636.8'22",null,null,null,null,null,null,null,null,null,null,null,"Bearport Books",null,4.8,null,"Animals & Nature",null,"English",null,"Reinforced Library",null,24,null,"N",null,920,null,null,null,"Jessica Rudolph"]
[{"$f":"A2736","v":0},null,{"$f":"C2736","v":0},null,{"$f":"E2736","v":0},null,9781936088850,null,9781936088126,null,"Coast Guard",null,null,null,"Becoming a Soldier",null,null,null,"Bearport Publishing",null,41.36,null,18.95,null,{"$f":"W2739+5","v":23.95},null,0,null,null,null,null,null,0,0,0,0,0,0,0,0,"Fall 2010",null,2011,null,"363.28'6",null,null,null,null,null,null,null,null,null,null,null,"Bearport Books",null,6.1,null,"High Interest",null,"English",null,"Reinforced Library",null,24,null,"N",null,1000,null,null,null,"Meish Goldish"]
[]
[{"$f":"A2765","v":0},null,{"$f":"C2765","v":0},null,{"$f":"E2765","v":0},null,9781936088959,null,9781936088218,null,"French Bulldog",null,null,null,"Little Dogs Rock! Set 2",null,null,null,"Bearport Publishing",null,42.79,null,19.95,null,24.95,null,0,null,null,null,null,null,0,0,0,0,0,0,0,0,"Fall 2010",null,2011,null,636.72,null,null,null,null,null,null,null,null,null,null,null,"Bearport Books",null,5.3,null,"Animals & Nature",null,"English",null,"Reinforced Library",null,32,null,"L",null,980,null,null,null,"Joyce Markovics"]
[{"$f":"A2789","v":0},null,{"$f":"C2789","v":0},null,{"$f":"E2789","v":0},null,9781936088461,null,9781936087440,null,"Green Tree Frogs",null,null,null,"Disappearing Acts",null,null,null,"Bearport Publishing",null,41.36,null,18.95,null,23.95,null,0,null,null,null,null,null,0,0,0,0,0,0,0,0,"Spring 2010",null,2010,null,"597.87'82",null,null,null,null,null,null,null,null,null,null,null,"Bearport Books",null,4.2,null,"Animals & Nature",null,"English",null,"Reinforced Library",null,24,null,"I",null,600,null,null,null,"Natalie Lunis"]
[{"$f":"A2807","v":0},null,{"$f":"C2807","v":0},null,{"$f":"E2807","v":0},null,9781936088317,null,9781936087297,null,"Emperor Penguin",null,null,null,"More SuperSized!",null,null,null,"Bearport Publishing",null,41.36,null,18.95,null,23.95,null,0,null,null,null,null,null,0,0,0,0,0,0,0,0,"Spring 2010",null,2010,null,598.47,null,null,null,null,null,null,null,null,null,null,null,"Bearport Books",null,4.4000000000000004,null,"Animals & Nature",null,"English",null,"Reinforced Library",null,24,null,"I",null,640,null,"K - 3",null,"Meish Goldish"]
[null,null,null,null,null,null,null,null,null,null,"Complete Series of 6",null,null,null,"Afraid of the Water",null,null,null,null,null,{"$f":"SUM(U2818:U2823)","v":248.16000000000003},null,{"$f":"SUM(W2818:W2823)","v":113.7},null,{"$f":"SUM(Y2818:Y2823)","v":248.16000000000003}]
[null,null,null,null,null,null,null,null,null,null,"Complete Series of 6",null,null,null,"Spectacular Animal Towns",null,null,null,null,null,{"$f":"SUM(U2839:U2844)","v":256.74},null,{"$f":"SUM(W2839:W2844)","v":119.7},null,{"$f":"SUM(Y2839:Y2844)","v":149.69999999999999}]
[]
[]
[{"$f":"A2885","v":0},null,{"$f":"C2885","v":0},null,{"$f":"E2885","v":0},null,9781597169233,null,9781597167635,null,"Coral Snakes",null,null,null,"Fangs",null,null,null,"Bearport Publishing",null,41.36,null,18.95,null,23.95,null,0,null,null,null,null,null,0,0,0,0,0,0,0,0,"Spring 2009",null,2009,null,"597.96'44",null,null,null,null,null,null,null,null,null,null,null,"Bearport Books",null,4.8,null,"Animals & Nature",null,"English",null,"Reinforced Library",null,24,null,"O",null,660,null,null,null,"Nancy White"]
[{"$f":"A2903","v":0},null,{"$f":"C2903","v":0},null,{"$f":"E2903","v":0},null,9781597166010,null,9781597165105,null,"Gooey Jellyfish",null,null,null,"No Backbone! The World of Invertebrates",null,null,null,"Bearport Publishing",null,41.36,null,18.95,null,23.95,null,0,null,null,null,null,null,0,0,0,0,0,0,0,0,"Fall 2007",null,2008,null,"593.5'3",null,null,null,null,null,null,null,null,null,null,null,"Bearport Books",null,3.7,null,"Animals & Nature",null,"English",null,"Reinforced Library",null,24,null,"K",null,550,null,"K - 3",null,"Natalie Lunis"]
[{"$f":"A2933","v":0},null,{"$f":"C2933","v":0},null,{"$f":"E2933","v":0},null,9781597167987,null,9781597167116,null,"Giant-o-saurs",null,null,null,"Dino Times Trivia",null,null,null,"Bearport Publishing",null,41.36,null,18.95,null,23.95,null,0,null,null,null,null,null,0,0,0,0,0,0,0,0,"Fall 2008",null,2009,null,567.9,null,null,null,null,null,null,null,null,null,null,null,"Bearport Books",null,3.6,null,"Animals & Nature",null,"English",null,"Reinforced Library",null,24,null,"L",null,720,null,"K - 3",null,"Nancy White"]
[{"$f":"A2953","v":0},null,{"$f":"C2953","v":0},null,{"$f":"E2953","v":0},null,9781597168151,null,9781597167314,null,"Aye-Aye",null,null,null,"Uncommon Animals",null,null,null,"Bearport Publishing",null,42.79,null,19.95,null,24.95,null,0,null,null,null,null,null,0,0,0,0,0,0,0,0,"Fall 2008",null,2009,null,"599.8'3",null,null,null,null,null,null,null,null,null,null,null,"Bearport Books",null,4.9000000000000004,null,"Animals & Nature",null,"English",null,"Reinforced Library",null,32,null,"N",null,830,null,null,null,"Miriam Aronin"]
[{"$f":"A2961","v":0},null,{"$f":"C2961","v":0},null,{"$f":"E2961","v":0},null,9781597166904,null,9781597166362,null,"David Eckstein and the St. Louis Cardinals",null,null,null,"World Series Superstars",null,null,null,"Bearport Publishing",null,41.36,null,18.95,null,{"$f":"W2962+5","v":23.95},null,{"$f":"IF(AC2962=FALSE,AK2962+AL2962+AM2962,0)","v":0},null,null,null,null,null,0,0,0,0,0,0,0,0,"Spring 2008",null,2008,null,796.35709199999997,null,null,null,null,null,null,null,null,null,null,null,"Bearport Books",null,3.5,null,"Sports & Recreation",null,"English",null,"Reinforced Library",null,24,null,"M",null,720,null,"K - 5",null,"Michael Sandler"]
[null,null,{"$f":"C2981","v":0},null,null,null,"Not Available",null,9781597161602,null,"Crows",null,null,null,"Smart Animals",null,null,null,"Bearport Publishing",null,0,null,19.95,null,0,null,0,null,null,null,null,null,0,0,0,0,0,0,0,0,"Spring 2006",null,2006,null,"598.8'64",null,null,null,null,null,null,null,null,null,null,null,"Bearport Books",null,4.3,null,"Animals & Nature",null,"English",null,"Reinforced Library",null,32,null,"M",null,760,null,"2 - 7",null,"Natalie Lunis"]
[{"$f":"A3005","v":0},null,{"$f":"C3005","v":0},null,{"$f":"E3005","v":0},null,9781597166126,null,9781597165426,null,"Swimming Giants",null,null,null,"I Love Reading: Dino World",null,null,null,"Bearport Publishing",null,27.95,null,17.95,null,{"$f":"W3008+5","v":22.95},null,0,null,null,null,null,null,0,0,0,0,0,0,0,0,"Fall 2007",null,2008,null,"567.9'37",null,null,null,null,null,null,null,null,null,null,null,"Bearport Books",null,2.2000000000000002,null,"Animals & Nature",null,"English",null,"Reinforced Library",null,24,null,"I",null,500,null,"PreK - 3",null,"Monica Hughes"]
[{"$f":"A3026","v":0},null,{"$f":"C3026","v":0},null,{"$f":"E3026","v":0},null,9781597164320,null,9781597162661,null,"Great Pyramid, The",null,null,null,"Castles, Palaces & Tombs",null,null,null,"Bearport Publishing",null,42.79,null,19.95,null,24.95,null,0,null,null,null,null,null,0,0,0,0,0,0,0,0,"Fall 2006",null,2007,null,932,null,null,null,null,null,null,null,null,null,null,null,"Bearport Books",null,4.7,null,"Social Studies",null,"English",null,"Reinforced Library",null,32,null,null,null,750,null,"2 - 7",null,"Jeanette Leardi"]
[null,null,{"$f":"C3026","v":0},null,null,null,"Not Available",null,9781597160025,null,"King Ludwig's Castle",null,null,null,"Castles, Palaces & Tombs",null,null,null,"Bearport Publishing",null,0,null,19.95,null,24.95,null,0,null,null,null,null,null,0,0,0,0,0,0,0,0,"Spring 2005",null,2005,null,"943'.3081'092",null,null,null,null,null,null,null,null,null,null,null,"Bearport Books",null,4.0999999999999996,null,"Social Studies",null,"English",null,"Reinforced Library",null,32,null,null,null,650,null,"2 - 7",null,"Lisa Trumbauer"]
[null,null,null,null,null,null,null,null,null,null,"Complete Series of 7",null,null,null,"X-treme Disasters That Changed America",null,null,null,null,null,{"$f":"SUM(U3062:U3068)","v":42.79},null,{"$f":"SUM(W3062:W3068)","v":139.65},null,{"$f":"SUM(Y3062:Y3068)","v":24.95}]
[null,null,{"$f":"C3078","v":0},null,null,null,"Not Available",null,9781597161282,null,"Clothing Creations",null,null,null,"Which Came First?",null,null,null,"Bearport Publishing",null,0,null,19.95,null,0,null,{"$f":"IF(AC3079=FALSE,AK3079+AL3079+AM3079,0)","v":0},null,null,null,null,null,0,0,0,0,0,0,0,0,"Spring 2006",null,2006,null,391,null,null,null,null,null,null,null,null,null,null,null,"Bearport Books",null,4.4000000000000004,null,"Science & Technology",null,"English",null,"Reinforced Library",null,32,null,null,null,780,null,"2 - 7",null,"Jacqueline A. Ball"]
[null,null,null,null,null,null,null,null,null,null,"Complete Series of 8",null,null,null,"Dinosaur Discovery",null,null,null,null,null,{"$f":"SUM(U3101:U3108)","v":392},null,{"$f":"SUM(W3101:W3108)","v":191.59999999999997},null,{"$f":"SUM(Y3101:Y3108)","v":231.59999999999997}]
[{"$f":"A3100","v":0},null,{"$f":"C3100","v":0},null,{"$f":"E3100","v":0},null,9781623103446,null,9781623102500,null,"Tyrannosaurus Rex",null,null,null,"Dinosaur Discovery",null,null,null,"Black Rabbit Books",null,49,null,23.95,null,28.95,null,0,null,null,null,null,null,0,0,0,0,0,0,0,0,"Fall 2021",null,2021,null,"567.912/9",null,"Q",null,"Q",null,"Q",null,"Q",null,"16",null,"Bolt",null,null,null,null,null,"English",null,"Reinforced Library",null,32,null,null,null,null,null,"2 - 3",null,"Gail Radley"]
[{"$f":"A3126","v":0},null,{"$f":"C3126","v":0},null,{"$f":"E3126","v":0},null,9781623103651,null,9781623102715,null,"Boa Constrictors",null,null,null,"Slithering Snakes",null,null,null,"Black Rabbit Books",null,49,null,23.95,null,28.95,null,0,null,null,null,null,null,0,0,0,0,0,0,0,0,"Fall 2021",null,2021,null,"597.96/7",null,"Q",null,"Q",null,"Q",null,null,null,"17",null,"Bolt",null,null,null,null,null,"English",null,"Reinforced Library",null,32,null,"O",null,null,null,"2 - 3",null,"Gail Terp"]
[{"$f":"A3150","v":0},null,{"$f":"C3150","v":0},null,{"$f":"E3150","v":0},null,9781623105136,null,9781623105075,null,"El BMW i8",null,null,null,"Coches épicos (Epic Cars)",null,null,null,"Black Rabbit Books",null,49,null,23.95,null,28.95,null,0,null,null,null,null,null,0,0,0,0,0,0,0,0,"Spring 2021",null,2021,null,"629.222/2",null,null,null,null,null,null,null,null,null,"24",null,"Bolt!",null,3.8,null,"Science & Technology",null,"Spanish",null,"Reinforced Library",null,32,null,null,null,null,null,"Grade 2 - 3",null,"Megan Cooley Peterson"]
[null,null,null,null,null,null,null,null,null,null,"Complete Series of 14",null,null,null,"Epic Cars",null,null,null,null,null,{"$f":"SUM(U3175:U3188)","v":686},null,{"$f":"SUM(W3175:W3188)","v":335.2999999999999},null,{"$f":"SUM(Y3175:Y3188)","v":405.2999999999999}]
[{"$f":"A3174","v":0},null,{"$f":"C3174","v":0},null,{"$f":"E3174","v":0},null,9781623103491,null,9781623102555,null,"BMW i8",null,null,null,"Epic Cars",null,null,null,"Black Rabbit Books",null,49,null,23.95,null,28.95,null,0,null,null,null,null,null,0,0,0,0,0,0,0,0,"Spring 2021",null,2021,null,"629.222/2",null,"Q",null,null,null,null,null,null,null,"21",null,"Bolt!",null,3.2,null,"Sports and Recreation",null,"English",null,"Reinforced Library",null,32,null,"O",null,null,null,"Grade 2 - 3",null,"Megan Cooley Peterson"]
[]
[{"$f":"A3222","v":0},null,{"$f":"C3222","v":0},null,{"$f":"E3222","v":0},null,9781623104153,null,9781623103217,null,"Rapping Rhymes about Friends",null,null,null,"Rap Your World",null,null,null,"Black Rabbit Books",null,44.85,null,21.95,null,26.95,null,0,null,null,null,null,null,0,0,0,0,0,0,0,0,"Spring 2021",null,2021,null,"811/.6",null,"Q",null,null,null,null,null,null,null,"34",null,"Hi Jinx",null,null,null,"Poetry",null,"English",null,"Reinforced Library",null,24,null,"O",null,"880L",null,"Grade 2 - 3",null,"Thomas Kingsley Troupe"]
[]
[{"$f":"A3246","v":0},null,{"$f":"C3246","v":0},null,{"$f":"E3246","v":0},null,9781623103873,null,9781623102937,null,"Miami Heat",null,null,null,"Team Stats—Basketball Edition",null,null,null,"Black Rabbit Books",null,49,null,23.95,null,28.95,null,0,null,null,null,null,null,0,0,0,0,0,0,0,0,"Spring 2021",null,2021,null,"796.323/6409759381",null,"Q",null,null,null,null,null,null,null,"23",null,"Bolt!",null,null,null,"Sports and Recreation",null,"English",null,"Reinforced Library",null,32,null,"O",null,null,null,"Grade 2 - 3",null,"Nicki Clausen Grace & Jeff Grace"]
[{"$f":"A3272","v":0},null,{"$f":"C3272","v":0},null,{"$f":"E3272","v":0},null,9781680727777,null,9781680727692,null,"Baby Elephants",null,null,null,"Adorable Animals",null,null,null,"Black Rabbit Books",null,49,null,23.95,null,{"$f":"W3273+5","v":28.95},null,{"$f":"IF(AC3273=FALSE,AK3273+AL3273+AM3273,0)","v":0},null,null,null,null,null,0,0,0,0,0,0,0,0,"Fall 2020",null,2020,null,"599.6713/92",null,null,null,null,null,null,null,null,null,"26",null,"Bolt!",null,3.1,null,"Animals & Nature",null,"English",null,"Reinforced Library",null,32,null,null,null,"550L",null,"2-6",null,"Justin Eric Russell"]
[{"$f":"A3290","v":0},null,{"$f":"C3290","v":0},null,{"$f":"E3290","v":0},null,9781680724998,null,9781680723847,null,"F-35 Lightning II",null,null,null,"Air Power",null,null,null,"Black Rabbit Books",null,49,null,23.95,null,28.95,null,0,null,null,null,null,null,0,0,0,0,0,0,0,0,"Fall 2020",null,2019,null,"358.4/383",null,null,null,null,null,null,null,null,null,"26",null,"Bolt!",null,3,null,"Science & Technology",null,"English",null,"Reinforced Library",null,32,null,null,null,"500L",null,"2-6",null,"Megan Cooley Peterson"]
[]
[{"$f":"A3320","v":0},null,{"$f":"C3320","v":0},null,{"$f":"E3320","v":0},null,9781623101480,null,9781623101428,null,"Puppies",null,null,null,"Baby Animals",null,null,null,"Black Rabbit Books",null,44.85,null,21.95,null,26.95,null,0,null,null,null,null,null,0,0,0,0,0,0,0,0,"Fall 2020",null,2020,null,"636.7/07",null,"Q",null,null,null,null,null,null,null,"10",null,"Bolt! Jr.",null,1.7,null,"Animals & Nature",null,"English",null,"Reinforced Library",null,24,null,null,null,null,null,"1 - 2",null,"Jen Besel"]
[{"$f":"A3344","v":0},null,{"$f":"C3344","v":0},null,{"$f":"E3344","v":0},null,9781623102241,null,9781623101985,null,"Los ciempies (Centipedes)",null,null,null,"Criaturas rasteras (Crawly Creatures)",null,null,null,"Black Rabbit Books",null,49,null,23.95,null,28.95,null,0,null,null,null,null,null,0,0,0,0,0,0,0,0,"Fall 2020",null,2020,null,null,null,null,null,null,null,null,null,null,null,"24",null,"Bolt!",null,2.9,null,"Animals & Nature",null,"Spanish",null,"Reinforced Library",null,32,null,null,null,null,null,"2-6",null,"Gail Radley"]
[{"$f":"A3368","v":0},null,{"$f":"C3368","v":0},null,{"$f":"E3368","v":0},null,9781623102180,null,9781623102043,null,"Los dinosaurios blindados (Armored Dinosaurs)",null,null,null,"Dinosaurios por diseno (Dinosaurs by Design)",null,null,null,"Black Rabbit Books",null,49,null,23.95,null,{"$f":"W3369+5","v":28.95},null,{"$f":"IF(AC3369=FALSE,AK3369+AL3369+AM3369,0)","v":0},null,null,null,null,null,0,0,0,0,0,0,0,0,"Fall 2020",null,2020,null,null,null,null,null,null,null,null,null,null,null,"24",null,"Bolt!",null,null,null,"Animals & Nature",null,"Spanish",null,"Reinforced Library",null,32,null,null,null,null,null,"2-6",null,"Mark Weakland"]
[null,null,null,null,null,null,null,null,null,null,"Complete Series of 6",null,null,null,"Dinosaurs by Design",null,null,null,null,null,{"$f":"SUM(U3377:U3382)","v":294},null,{"$f":"SUM(W3377:W3382)","v":143.69999999999999},null,{"$f":"SUM(Y3377:Y3382)","v":173.7}]
[{"$f":"A3384","v":0},null,{"$f":"C3384","v":0},null,{"$f":"E3384","v":0},null,9781680725216,null,9781680724059,null,"Siberian Huskies",null,null,null,"Doggie Data",null,null,null,"Black Rabbit Books",null,49,null,23.95,null,28.95,null,0,null,null,null,null,null,0,0,0,0,0,0,0,0,"Fall 2020",null,2019,null,636.73,null,null,null,null,null,null,null,null,null,"27",null,"Bolt!",null,3.2,null,"Animals & Nature",null,"English",null,"Reinforced Library",null,32,null,null,null,"530L",null,"2-6",null,"Christa C. Hogan"]
[null,null,{"$f":"C3416","v":0},null,null,null,"Not Available",null,9781781215364,null,"Duck",null,null,null,"Fast Track: Life Cycles",null,null,null,"Black Rabbit Books",null,0,null,21.95,null,0,null,0,null,null,null,null,null,0,0,0,0,0,0,0,0,"Fall 2020",null,2020,null,null,null,null,null,null,null,null,null,null,null,null,null,"Brown Bear Books",null,2.7,null,"Animals & Nature",null,"English",null,"Reinforced Library",null,24,null,null,null,null,null,"K - 3",null,"Nancy Dickmann"]
[{"$f":"A3440","v":0},null,{"$f":"C3440","v":0},null,{"$f":"E3440","v":0},null,9781680725315,null,9781680724158,null,"Miniature Horses",null,null,null,"Horse Crazy",null,null,null,"Black Rabbit Books",null,49,null,23.95,null,28.95,null,0,null,null,null,null,null,0,0,0,0,0,0,0,0,"Fall 2020",null,2019,null,"636.1/09",null,null,null,null,null,null,null,null,null,"29",null,"Bolt!",null,null,null,"Animals & Nature",null,"English",null,"Reinforced Library",null,32,null,null,null,"550L",null,"2-6",null,"Elizabeth Noll"]
[{"$f":"A3463","v":0},null,{"$f":"C3463","v":0},null,{"$f":"E3463","v":0},null,9781680728910,null,9781680728859,null,"Highlights of the Chicago Bears",null,null,null,"Team Stats—Football Edition",null,null,null,"Black Rabbit Books",null,49,null,23.95,null,{"$f":"W3464+5","v":28.95},null,{"$f":"IF(AC3464=FALSE,AK3464+AL3464+AM3464,0)","v":0},null,null,null,null,null,{"$f":"A3464","v":0},{"$f":"C3464","v":0},{"$f":"E3464","v":0},{"$f":"SUM(AG3464:AI3464)","v":0},{"$f":"U3464*A3464","v":0},{"$f":"W3464*C3464","v":0},{"$f":"Y3464*E3464","v":0},{"$f":"SUM(AK3464:AM3464)","v":0},"Fall 2020",null,2020,null,"796.332/640977311",null,null,null,null,null,null,null,null,null,"30",null,"Bolt!",null,3.1,null,"Sports & Recreation",null,"English",null,"Reinforced Library",null,32,null,null,null,"550L",null,"2-6",null,"Marysa Storm"]
[{"$f":"A3463","v":0},null,{"$f":"C3463","v":0},null,{"$f":"E3463","v":0},null,9781680728934,null,9781680728873,null,"Highlights of the Kansas City Chiefs",null,null,null,"Team Stats—Football Edition",null,null,null,"Black Rabbit Books",null,49,null,23.95,null,28.95,null,0,null,null,null,null,null,0,0,0,0,0,0,0,0,"Fall 2020",null,2020,null,"796.332/9409778411",null,null,null,null,null,null,null,null,null,"30",null,"Bolt!",null,3.4,null,"Sports & Recreation",null,"English",null,"Reinforced Library",null,32,null,null,null,"580L",null,"2-6",null,"Marysa Storm"]
[{"$f":"A3487","v":0},null,{"$f":"C3487","v":0},null,{"$f":"E3487","v":0},null,9781680722536,null,9781680721898,null,"Eagles",null,null,null,"Wild Animal Kingdom",null,null,null,"Black Rabbit Books",null,49,null,23.95,null,{"$f":"W3493+5","v":28.95},null,0,null,null,null,null,null,0,0,0,0,0,0,0,0,"Fall 2019",null,2020,null,"598.9/42",null,null,null,null,null,null,null,null,null,"31",null,"Bolt!",null,2.9,null,"Animals & Nature",null,"English",null,"Reinforced Library",null,null,null,"L–N",null,"530L",null,"2 – 5",null,"Gail Terp"]
[{"$f":"A3511","v":0},null,{"$f":"C3511","v":0},null,{"$f":"E3511","v":0},null,9781623101947,null,9781623101886,null,"Indy Cars",null,null,null,"Wild Rides",null,null,null,"Black Rabbit Books",null,44.85,null,21.95,null,26.95,null,0,null,null,null,null,null,0,0,0,0,0,0,0,0,"Fall 2020",null,2020,null,"629.228/5",null,"Q",null,null,null,null,null,null,null,"12",null,"Bolt! Jr.",null,1.9,null,"Science & Technology",null,"English",null,"Reinforced Library",null,24,null,null,null,null,null,"1 - 2",null,"Marysa Storm"]
[{"$f":"A3519","v":0},null,{"$f":"C3519","v":0},null,{"$f":"E3519","v":0},null,9781623101695,null,9781623101633,null,"Battling Robots",null,null,null,"World of Robots",null,null,null,"Black Rabbit Books",null,44.85,null,21.95,null,26.95,null,0,null,null,null,null,null,0,0,0,0,0,0,0,0,"Fall 2020",null,2020,null,"629.8/92",null,"Q",null,null,null,null,null,null,null,"13",null,"Bolt! Jr.",null,1.9,null,"Science & Technology",null,"English",null,"Reinforced Library",null,24,null,null,null,null,null,"1 - 2",null,"Luke Colins"]
[]
[{"$f":"A3551","v":0},null,{"$f":"C3551","v":0},null,{"$f":"E3551","v":0},null,9781680721997,null,9781680720372,null,"Top Fuel Dragsters",null,null,null,"Gearhead Garage",null,null,null,"Black Rabbit Books",null,49,null,23.95,null,{"$f":"W3563+5","v":28.95},null,0,null,null,null,null,null,0,0,0,0,0,0,0,0,"Fall 2019",null,2020,null,"629.228/5",null,null,null,null,null,null,null,null,null,"28",null,"Bolt!",null,3.4,null,"Science & Technology",null,"English",null,"Reinforced Library",null,32,null,null,null,null,null,"2 – 5",null,"Deanna Caswell"]
[]
[{"$f":"A3589","v":0},null,{"$f":"C3589","v":0},null,{"$f":"E3589","v":0},null,9781680722253,null,9781680721614,null,"Underwater Robots",null,null,null,"Mighty Bots",null,null,null,"Black Rabbit Books",null,49,null,23.95,null,28.95,null,0,null,null,null,null,null,0,0,0,0,0,0,0,0,"Fall 2019",null,2020,null,"629.8/92",null,null,null,null,null,null,null,null,null,"29",null,"Bolt!",null,3.5,null,"Science & Technology",null,"English",null,"Reinforced Library",null,32,null,"L–N",null,"580L",null,"2 – 5",null,"Thomas Kingsley Troupe"]
[{"$f":"A3613","v":0},null,{"$f":"C3613","v":0},null,{"$f":"E3613","v":0},null,9781680722352,null,9781680721713,null,"Stars of Men's Soccer",null,null,null,"On the Pitch",null,null,null,"Black Rabbit Books",null,49,null,23.95,null,28.95,null,0,null,null,null,null,null,0,0,0,0,0,0,0,0,"Fall 2019",null,2020,null,"796.334092/2 [B]",null,null,null,null,null,null,null,null,null,"29",null,"Bolt!",null,3.2,null,"Sports & Recreation",null,"English",null,"Reinforced Library",null,32,null,"L–N",null,"520L",null,"2 – 5",null,"Megan Cooley Peterson"]
[{"$f":"A3628","v":0},null,{"$f":"C3628","v":0},null,{"$f":"E3628","v":0},null,9781680722437,null,9781680721799,null,"Ships and Subs",null,null,null,"Rank It!",null,null,null,"Black Rabbit Books",null,49,null,23.95,null,{"$f":"W3638+5","v":28.95},null,0,null,null,null,null,null,0,0,0,0,0,0,0,0,"Fall 2019",null,2020,null,623.82000000000005,null,null,null,null,null,null,null,null,null,"30",null,"Bolt!",null,null,null,"High Interest",null,"English",null,"Reinforced Library",null,32,null,"L–N",null,"520L",null,"2 – 5",null,"Lyn A. Sirota"]
[null,null,{"$f":"C3656","v":0},null,null,null,"Not Available",null,9781680720211,null,"Bermuda Triangle, The",null,null,null,"Strange . . . But True?",null,null,null,"Black Rabbit Books",null,0,null,23.95,null,0,null,0,null,null,null,null,null,0,0,0,0,0,0,0,0,"Fall 2016",null,2017,null,1.94,null,null,null,null,null,null,null,null,null,"30",null,"Bolt!",null,3.2,null,"Legends, Myths, & Paranormal",null,"English",null,"Reinforced Library",null,32,null,"L–N",null,"500L",null,"2 – 5",null,"Elizabeth Noll"]
[null,null,{"$f":"C3656","v":0},null,null,null,"Not Available",null,9781680720273,null,"UFOs",null,null,null,"Strange . . . But True?",null,null,null,"Black Rabbit Books",null,0,null,23.95,null,0,null,0,null,null,null,null,null,0,0,0,0,0,0,0,0,"Fall 2016",null,2017,null,1.9419999999999999,null,null,null,null,null,null,null,null,null,"30",null,"Bolt!",null,3.2,null,"Legends, Myths, & Paranormal",null,"English",null,"Reinforced Library",null,32,null,"L–N",null,"510L",null,"2 – 5",null,"Elizabeth Noll"]
[{"$f":"A3686","v":0},null,{"$f":"C3686","v":0},null,{"$f":"E3686","v":0},null,9781781214800,null,9781781214527,null,"Air Transportation",null,null,null,"History of Inventions",null,null,null,"Black Rabbit Books",null,44.85,null,21.95,null,{"$f":"W3687+5","v":26.95},null,{"$f":"IF(AC3687=FALSE,AK3687+AL3687+AM3687,0)","v":0},null,null,null,null,null,0,0,0,0,0,0,0,0,"Spring 2019",null,2019,null,629.13,null,null,null,null,null,null,null,null,null,null,null,"Brown Bear Books",null,3.2,null,"Science & Technology",null,"English",null,"Reinforced Library",null,24,null,null,null,null,null,"1 - 3",null,"Tracey Kelly"]
[{"$f":"A3702","v":0},null,{"$f":"C3702","v":0},null,{"$f":"E3702","v":0},null,9781680725964,null,9781680725902,null,"Real Spy Gadgets",null,null,null,"Spy Kid",null,null,null,"Black Rabbit Books",null,44.85,null,21.95,null,26.95,null,0,null,null,null,null,null,0,0,0,0,0,0,0,0,"Fall 2018",null,2019,null,"327.12028/4",null,null,null,null,null,null,null,null,null,"41",null,"Hi Jinx",null,null,null,"High Interest",null,"English",null,"Reinforced Library",null,24,null,null,null,"600L",null,"2 – 5",null,"Deanna Caswell"]
[]
[{"$f":"A3734","v":0},null,{"$f":"C3734","v":0},null,{"$f":"E3734","v":0},null,9781781214237,null,9781781214060,null,"Stegosaurus and Other Jurassic Dinosaurs",null,null,null,"Dinosaur Detectives",null,null,null,"Black Rabbit Books",null,44.85,null,21.95,null,26.95,null,0,null,null,null,null,null,0,0,0,0,0,0,0,0,"Spring 2018",null,2018,null,"567.915/3",null,null,null,null,null,null,null,null,null,null,null,"Brown Bear Books",null,2.8,null,"Animals & Nature",null,"English",null,"Reinforced Library",null,24,null,"J-N",null,null,null,"2 - 4",null,"Tracey Kelly"]
[{"$f":"A3758","v":0},null,{"$f":"C3758","v":0},null,{"$f":"E3758","v":0},null,9781680723601,null,9781680723304,null,"Silly, Smelly Animal Jokes",null,null,null,"Just for Laughs",null,null,null,"Black Rabbit Books",null,44.85,null,21.95,null,26.95,null,0,null,null,null,null,null,0,0,0,0,0,0,0,0,"Spring 2018",null,2018,null,"818/.602080362",null,null,null,null,null,null,null,null,null,"40",null,"Hi Jinx",null,null,null,"High Interest",null,"English",null,"Reinforced Library",null,24,null,null,null,null,null,"2 – 5",null,"Julia Garstecki"]
[null,null,{"$f":"C3782","v":0},null,null,null,"Not Available",null,9781781213643,null,"Earth",null,null,null,"Fast Track: Our Solar System",null,null,null,"Black Rabbit Books",null,0,null,21.95,null,0,null,{"$f":"IF(AC3783=FALSE,AK3783+AL3783+AM3783,0)","v":0},null,null,null,null,null,0,0,0,0,0,0,0,0,"Spring 2017",null,2017,null,525,null,null,null,null,null,null,null,null,null,null,null,"Brown Bear Books",null,3.4,null,"Science & Technology",null,"English",null,"Reinforced Library",null,24,null,"N",null,650,null,"2 - 4",null,"Mary-Jane Wilkins"]
[null,null,{"$f":"C3797","v":0},null,null,null,"Not Available",null,9781625884145,null,"Woolly Mammoth",null,null,null,"Graphic Prehistoric Animals",null,null,null,"Black Rabbit Books",null,0,null,23.95,null,0,null,0,null,null,null,null,null,0,0,0,0,0,0,0,0,"Spring 2017",null,2017,null,569.66999999999996,null,null,null,null,null,null,null,null,null,null,null,"Smart Apple Media",null,null,null,"Animals & Nature",null,"English",null,"Reinforced Library",null,32,null,"X",null,800,null,"5 - 8",null,"Gary Jeffrey"]
[null,null,{"$f":"C3806","v":0},null,null,null,"Not Available",null,9781680720044,null,"Tuskegee Airmen",null,null,null,"All-American Fighting Forces",null,null,null,"Black Rabbit Books",null,0,null,23.95,null,0,null,0,null,null,null,null,null,0,0,0,0,0,0,0,0,"Fall 2016",null,2017,null,940.54497300000003,null,null,null,null,null,null,null,null,null,"26",null,"Bolt!",null,null,null,"Social Studies",null,"English",null,"Reinforced Library",null,32,null,null,null,"470L",null,"2 - 4",null,"Julia Garstecki"]
[null,null,{"$f":"C3829","v":0},null,null,null,"Not Available",null,9781680720402,null,"Linebackers",null,null,null,"Football's All-Time Greats",null,null,null,"Black Rabbit Books",null,0,null,23.95,null,0,null,0,null,null,null,null,null,0,0,0,0,0,0,0,0,"Fall 2016",null,2017,null,796.09,null,null,null,null,null,null,null,null,null,"28",null,"Bolt!",null,3.4,null,"Sports & Recreation",null,"English",null,"Reinforced Library",null,32,null,null,null,"480L",null,"2 – 5",null,"Josh Leventhal"]
[]
[null,null,null,null,null,null,null,null,null,null,"Complete Series of 11",null,null,null,"Mechanic Mike's Machines",null,null,null,null,null,{"$f":"SUM(U3879:U3889)","v":0},null,{"$f":"SUM(W3879:W3889)","v":241.44999999999993},null,{"$f":"SUM(Y3879:Y3889)","v":0}]
[null,null,{"$f":"C3878","v":0},null,null,null,"Not Available",null,9781625880574,null,"Planes",null,null,null,"Mechanic Mike's Machines",null,null,null,"Black Rabbit Books",null,0,null,21.95,null,0,null,0,null,null,null,null,null,0,0,0,0,0,0,0,0,"Fall 2014",null,2015,null,"629.133/34",null,null,null,null,null,null,null,null,null,null,null,"Smart Apple Media",null,4.7,null,"Science & Technology",null,"English",null,"Reinforced Library",null,24,null,"O",null,null,null,"2 - 4",null,"David West"]
[null,null,{"$f":"C3905","v":0},null,null,null,"Not Available",null,9781599209128,null,"Music, Fashion and Style",null,null,null,"The Music Scene",null,null,null,"Black Rabbit Books",null,0,null,29.95,null,0,null,0,null,null,null,null,null,0,0,0,0,0,0,0,0,"Fall 2015",null,2016,null,338.47781639999999,null,null,null,null,null,null,null,null,null,null,null,"Smart Apple Media",null,7.6,null,"Arts, Crafts, & Activities",null,"English",null,"Reinforced Library",null,48,null,null,null,null,null,"4 - 6",null,"Matt Anniss"]
[null,null,{"$f":"C3922","v":0},null,null,null,"Not Available",null,9781781212318,null,"War in the Pacific (1941-1945)",null,null,null,"World War II: The Full Story",null,null,null,"Black Rabbit Books",null,0,null,29.95,null,0,null,0,null,null,null,null,null,0,0,0,0,0,0,0,0,"Fall 2015",null,2016,null,940.53,null,null,null,null,null,null,null,null,null,null,null,"Brown Bear Books",null,7.6,null,"History",null,"English",null,"Reinforced Library",null,48,null,null,null,null,null,"7 - 9",null,"Tim Cooke"]
[null,null,{"$f":"C3945","v":0},null,null,null,"Not Available",null,9781625881953,null,"Mammals Around the World",null,null,null,"Animals Around the World",null,null,null,"Black Rabbit Books",null,0,null,23.95,null,0,null,0,null,null,null,null,null,0,0,0,0,0,0,0,0,"Fall 2014",null,2015,null,599,null,null,null,null,null,null,null,null,null,null,null,"Smart Apple Media",null,4.8,null,"Animals & Nature",null,"English",null,"Reinforced Library",null,32,null,"O",null,null,null,"3 - 5",null,"David Alderton"]
[null,null,{"$f":"C3955","v":0},null,null,null,"Not Available",null,9781781212363,null,"Aircraft",null,null,null,"Technology Timelines",null,null,null,"Black Rabbit Books",null,0,null,23.95,null,0,null,{"$f":"IF(AC3956=FALSE,AK3956+AL3956+AM3956,0)","v":0},null,null,null,null,null,0,0,0,0,0,0,0,0,"Fall 2014",null,2015,null,629.13334090000001,null,null,null,null,null,null,null,null,null,null,null,"Brown Bear Books",null,null,null,"History",null,"English",null,"Reinforced Library",null,32,null,null,null,null,null,"7 - 9",null,"Tom Jackson"]
[]
[null,null,{"$f":"C4000","v":0},null,null,null,"Not Available",null,9781599209210,null,"Entertainment",null,null,null,"The Young Entrepreneurs' Club",null,null,null,"Black Rabbit Books",null,0,null,29.95,null,0,null,0,null,null,null,null,null,0,0,0,0,0,0,0,0,"Fall 2013",null,2014,null,790.2,null,null,null,null,null,null,null,null,null,null,null,"Smart Apple Media",null,null,null,"High Interest",null,"English",null,"Reinforced Library",null,48,null,"Z",null,null,null,"6 - 8",null,"Mike Hobbs"]
[null,null,{"$f":"C4026","v":0},null,null,null,"Not Available",null,9781933834689,null,"Early Modern World 1492–1783, The",null,null,null,"CC: Atlas of World History",null,null,null,"Black Rabbit Books",null,0,null,33.950000000000003,null,0,null,0,null,null,null,null,null,0,0,0,0,0,0,0,0,"Spring 2009",null,2009,null,909.08,null,null,null,null,null,null,null,null,null,null,null,"Brown Bear Books",null,null,null,"History",null,"English",null,"Reinforced Library",null,112,null,null,null,null,null,"9 - 11",null,"Edited by: Helen Dwyer"]
[null,null,{"$f":"C4026","v":0},null,null,null,"Not Available",null,9781936333172,null,"Cognitive Development",null,null,null,"CC: Psychology",null,null,null,"Black Rabbit Books",null,0,null,33.950000000000003,null,0,null,0,null,null,null,null,null,0,0,0,0,0,0,0,0,"Spring 2011",null,2011,null,"155.4/13",null,null,null,null,null,null,null,null,null,null,null,"Brown Bear Books",null,null,null,"Science & Technology",null,"English",null,"Reinforced Library",null,112,null,null,null,null,null,"9 - 11",null,"Edited by: Helen Dwyer"]
[null,null,{"$f":"C4050","v":0},null,null,null,"Not Available",null,9781936333325,null,"Fish",null,null,null,"FAYFT: Endangered Animals",null,null,null,"Black Rabbit Books",null,0,null,31.95,null,0,null,0,null,null,null,null,null,0,0,0,0,0,0,0,0,"Spring 2011",null,2011,null,597.16800000000001,null,null,null,null,null,null,null,null,null,null,null,"Brown Bear Books",null,null,null,"Animals & Nature",null,"English",null,"Reinforced Library",null,64,null,null,null,null,null,"8 - 10",null,"edited by Tim Harris"]
[{"$f":"A4066","v":0},null,{"$f":"C4066","v":0},null,{"$f":"E4066","v":0},null,9781621435501,null,9781632354297,null,"12 Reasons to Love Lacrosse",null,null,null,"Sports Report",null,null,null,"Bookstaves",null,49,null,23.95,null,28.95,null,0,null,null,null,null,null,0,0,0,0,0,0,0,0,"Spring 2018",null,2018,null,"796.36/2",null,null,null,null,null,null,null,null,null,"18",null,"12-Story Library",null,5,null,"Sports & Recreation",null,"English",null,"Reinforced Library",null,32,null,"T",null,"740L",null,"3 - 6",null,"Todd Kortemeier"]
[{"$f":"A4084","v":0},null,{"$f":"C4084","v":0},null,{"$f":"E4084","v":0},null,9781645820055,null,9781632357175,null,"12 Military Leaders Who Changed the World",null,null,null,"Change Makers",null,null,null,"Bookstaves",null,49,null,23.95,null,{"$f":"W4094+5","v":28.95},null,0,null,null,null,null,null,0,0,0,0,0,0,0,0,"Spring 2020",null,2020,null,920,null,null,null,null,null,null,null,null,null,"13",null,"12-Story Library",null,4.8,null,"Social Studies",null,"English",null,"Reinforced Library",null,32,null,"T",null,null,null,"2 – 5",null,"Matthew McCabe"]
[{"$f":"A4099","v":0},null,{"$f":"C4099","v":0},null,{"$f":"E4099","v":0},null,9781645820093,null,9781632357229,null,"Explore Berlin",null,null,null,"Great Cities of the World",null,null,null,"Bookstaves",null,49,null,23.95,null,28.95,null,0,null,null,null,null,null,0,0,0,0,0,0,0,0,"Spring 2020",null,2020,null,943,null,null,null,null,null,null,null,null,null,"7",null,"12-Story Library",null,null,null,"Social Studies",null,"English",null,"Reinforced Library",null,32,null,"T",null,null,null,"2 – 5",null,"Patricia Hutchison"]
[{"$f":"A4121","v":0},null,{"$f":"C4121","v":0},null,{"$f":"E4121","v":0},null,9781645820291,null,9781632357441,null,"12 Stories about Helping after a Disaster",null,null,null,"Making a Difference",null,null,null,"Bookstaves",null,49,null,23.95,null,{"$f":"W4122+5","v":28.95},null,{"$f":"IF(AC4122=FALSE,AK4122+AL4122+AM4122,0)","v":0},null,null,null,null,null,0,0,0,0,0,0,0,0,"Spring 2020",null,2020,null,363,null,null,null,null,null,null,null,null,null,"9",null,"12-Story Library",null,4.9000000000000004,null,"Social Studies",null,"English",null,"Reinforced Library",null,32,null,"T",null,null,null,"2 – 5",null,"Patricia Hutchison"]
[{"$f":"A4141","v":0},null,{"$f":"C4141","v":0},null,{"$f":"E4141","v":0},null,9781645820475,null,9781632357649,null,"What It Takes to Be a Pro Soccer Player",null,null,null,"Play Like a Pro",null,null,null,"Bookstaves",null,49,null,23.95,null,28.95,null,0,null,null,null,null,null,0,0,0,0,0,0,0,0,"Spring 2020",null,2020,null,796,null,null,null,null,null,null,null,null,null,"11",null,"12-Story Library",null,null,null,"Sports & Recreation",null,"English",null,"Reinforced Library",null,32,null,"T",null,null,null,"2 – 5",null,"Kaitlyn Duling"]
[null,null,{"$f":"C4170","v":0},null,null,null,"Not Available",null,9781632355737,null,"12 Immigrants Who Made American Entertainment Great",null,null,null,"A Nation of Immigrants",null,null,null,"Bookstaves",null,0,null,22.95,null,0,null,0,null,null,null,null,null,0,0,0,0,0,0,0,0,"Spring 2019",null,2019,null,null,null,null,null,null,null,null,null,null,null,"22",null,"12-Story Library",null,4.8,null,"Social Studies",null,"English",null,"Reinforced Library",null,32,null,"T",null,null,null,"3 - 6",null,"Brandon Terrell"]
[null,null,null,null,null,null,null,null,null,null,"Complete Series of 6",null,null,null,"Best of the Super Bowl",null,null,null,null,null,{"$f":"SUM(U4191:U4196)","v":294},null,{"$f":"SUM(W4191:W4196)","v":143.69999999999999},null,{"$f":"SUM(Y4191:Y4196)","v":173.7}]
[]
[{"$f":"A4212","v":0},null,{"$f":"C4212","v":0},null,{"$f":"E4212","v":0},null,9781632356840,null,9781632355683,null,"12 Epic Races",null,null,null,"Epic Adventures",null,null,null,"Bookstaves",null,49,null,23.95,null,28.95,null,0,null,null,null,null,null,0,0,0,0,0,0,0,0,"Spring 2019",null,2019,null,796,null,null,null,null,null,null,null,null,null,"15",null,"12-Story Library",null,4.7,null,"Social Studies",null,"English",null,"Reinforced Library",null,32,null,"T",null,null,null,"3 - 6",null,"Janet Slingerland"]
[{"$f":"A4232","v":0},null,{"$f":"C4232","v":0},null,{"$f":"E4232","v":0},null,9781632356987,null,9781632355843,null,"12 Biggest Breakthroughs in Movie Technology, The",null,null,null,"Technology Breakthroughs",null,null,null,"Bookstaves",null,49,null,23.95,null,{"$f":"W4239+5","v":28.95},null,0,null,null,null,null,null,0,0,0,0,0,0,0,0,"Spring 2019",null,2019,null,777,null,null,null,null,null,null,null,null,null,"17",null,"12-Story Library",null,null,null,"Science & Technology",null,"English",null,"Reinforced Library",null,32,null,"T",null,null,null,"3 - 6",null,"Allan Morey"]
[]
[{"$f":"A4257","v":0},null,{"$f":"C4257","v":0},null,{"$f":"E4257","v":0},null,9781621435716,null,9781632354525,null,"Working with Animals",null,null,null,"Career Files",null,null,null,"Bookstaves",null,49,null,23.95,null,28.95,null,0,null,null,null,null,null,0,0,0,0,0,0,0,0,"Spring 2018",null,2018,null,636.00229999999999,null,null,null,null,null,null,null,null,null,"25",null,"12-Story Library",null,null,null,"Careers",null,"English",null,"Reinforced Library",null,32,null,"U",null,"840L",null,"3 - 6",null,"Susan M. Ewing"]
[{"$f":"A4297","v":0},null,{"$f":"C4297","v":0},null,{"$f":"E4297","v":0},null,9781621435303,null,9781632354075,null,"12 Most Influential Athletes of All Time, The",null,null,null,"The Most Influential",null,null,null,"Bookstaves",null,49,null,23.95,null,{"$f":"W4298+5","v":28.95},null,{"$f":"IF(AC4298=FALSE,AK4298+AL4298+AM4298,0)","v":0},null,null,null,null,null,{"$f":"A4298","v":0},{"$f":"C4298","v":0},{"$f":"E4298","v":0},{"$f":"SUM(AG4298:AI4298)","v":0},{"$f":"U4298*A4298","v":0},{"$f":"W4298*C4298","v":0},{"$f":"Y4298*E4298","v":0},{"$f":"SUM(AK4298:AM4298)","v":0},"Spring 2018",null,2018,null,"796.092/2",null,null,null,null,null,null,null,null,null,"22",null,"12-Story Library",null,5.3,null,"Social Studies",null,"English",null,"Reinforced Library",null,32,null,"T",null,"800L",null,"3 - 6",null,"Jeanne Marie Ford"]
[{"$f":"A4307","v":0},null,{"$f":"C4307","v":0},null,{"$f":"E4307","v":0},null,9781621435440,null,9781632354228,null,"Incredible Technology",null,null,null,"Unbelievable",null,null,null,"Bookstaves",null,49,null,23.95,null,28.95,null,0,null,null,null,null,null,0,0,0,0,0,0,0,0,"Spring 2018",null,2018,null,600,null,null,null,null,null,null,null,null,null,"14",null,"12-Story Library",null,5.5,null,"Social Studies",null,"English",null,"Reinforced Library",null,32,null,"T",null,"780L",null,"3 - 6",null,"Meg Marquardt"]
[null,null,{"$f":"C4327","v":0},null,null,null,"Not Available",null,9781632352897,null,"12 Questions about the US Constitution ",null,null,null,"Examining Primary Sources",null,null,null,"Bookstaves",null,0,null,23.95,null,0,null,0,null,null,null,null,null,0,0,0,0,0,0,0,0,"Spring 2017",null,2017,null,342.73020000000002,null,null,null,null,null,null,null,null,null,"26",null,"12-Story Library",null,6,null,"Social Studies",null,"English",null,"Reinforced Library",null,32,null,"U",null,"790L",null,"3 - 6",null,"Kate Conley"]
[null,null,{"$f":"C4337","v":0},null,null,null,"Not Available",null,9781632352750,null,"12 Great Tips on Writing Poetry",null,null,null,"Great Tips on Writing",null,null,null,"Bookstaves",null,0,null,23.95,null,0,null,0,null,null,null,null,null,0,0,0,0,0,0,0,0,"Spring 2017",null,2017,null,411,null,null,null,null,null,null,null,null,null,"20",null,"12-Story Library",null,"Not Quizable",null,"Language Arts",null,"English",null,"Reinforced Library",null,32,null,"U",null,"740L",null,"3 - 6",null,"Yvonne Pearson"]
[null,null,{"$f":"C4357","v":0},null,null,null,"Not Available",null,9781632352965,null,"12 Spooky Haunted Places",null,null,null,"Scary and Spooky",null,null,null,"Bookstaves",null,0,null,23.95,null,0,null,0,null,null,null,null,null,0,0,0,0,0,0,0,0,"Spring 2017",null,2017,null,133.10900000000001,null,null,null,null,null,null,null,null,null,"26",null,"12-Story Library",null,"Not Quizable",null,"Legends, Myths, & Paranormal",null,"English",null,"Reinforced Library",null,32,null,"T",null,"720L",null,"3 - 6",null,"Allan Morey"]
[null,null,{"$f":"C4387","v":0},null,null,null,"Not Available",null,9781632353092,null,"Unsung Heroes of Science",null,null,null,"Unsung Heroes",null,null,null,"Bookstaves",null,0,null,23.95,null,0,null,{"$f":"IF(AC4388=FALSE,AK4388+AL4388+AM4388,0)","v":0},null,null,null,null,null,0,0,0,0,0,0,0,0,"Spring 2017",null,2017,null,"509.22 B",null,null,null,null,null,null,null,null,null,"25",null,"12-Story Library",null,5.4,null,"Social Studies",null,"English",null,"Reinforced Library",null,32,null,"T",null,"700L",null,"3 - 6",null,"Todd Kortemeier"]
[null,null,{"$f":"C4387","v":0},null,null,null,"Not Available",null,9781632353122,null,"Unsung Heroes of US History",null,null,null,"Unsung Heroes",null,null,null,"Bookstaves",null,0,null,23.95,null,0,null,0,null,null,null,null,null,0,0,0,0,0,0,0,0,"Spring 2017",null,2017,null,920.07299999999998,null,null,null,null,null,null,null,null,null,"25",null,"12-Story Library",null,5.2,null,"Social Studies",null,"English",null,"Reinforced Library",null,32,null,"T",null,"660L",null,"3 - 6",null,"Todd Kortemeier"]
[null,null,{"$f":"C4402","v":0},null,null,null,"Not Available",null,9781632351661,null,"Second Chance Delivery",null,null,null,"Tartan House",null,null,null,"Bookstaves",null,0,null,19.95,null,0,null,0,null,null,null,null,null,0,0,0,0,0,0,0,0,"Spring 2016",null,2016,null,"FIC",null,null,null,null,null,null,null,null,null,"20",null,"12-Story Library",null,4.5,null,"Fiction",null,"English",null,"Reinforced Library",null,96,null,null,null,"680L",null,"6 - 9",null,"Brandon Terrell"]
[null,null,{"$f":"C4434","v":0},null,null,null,"Not Available",null,9781632352149,null,"12 Reasons to Love the New York Yankees",null,null,null,"The MLB Fan's Guide",null,null,null,"Bookstaves",null,0,null,23.95,null,0,null,0,null,null,null,null,null,0,0,0,0,0,0,0,0,"Spring 2016",null,2016,null,796.35699999999997,null,null,null,null,null,null,null,null,null,"19",null,"12-Story Library",null,5.0999999999999996,null,"Sports & Recreation",null,"English",null,"Reinforced Library",null,32,null,"T",null,"810L",null,"3 - 6",null,"Doug Williams"]
[null,null,{"$f":"C4458","v":0},null,null,null,"Not Available",null,9781632351265,null,"12 Incredible Facts about the Boston Tea Party",null,null,null,"Turning Points in US History",null,null,null,"Bookstaves",null,0,null,23.95,null,0,null,{"$f":"IF(AC4459=FALSE,AK4459+AL4459+AM4459,0)","v":0},null,null,null,null,null,0,0,0,0,0,0,0,0,"Spring 2016",null,2016,null,"973.3/115",null,null,null,null,null,null,null,null,null,"27",null,"12-Story Library",null,5.6,null,"History",null,"English",null,"Reinforced Library",null,32,null,"U",null,"800L",null,"3 - 6",null,"Kristin Marciniak"]
[null,null,{"$f":"C4474","v":0},null,null,null,"Not Available",null,9781632350053,null,"12 Reptiles Back from the Brink",null,null,null,"Back from the Brink",null,null,null,"Bookstaves",null,0,null,23.95,null,0,null,0,null,null,null,null,null,0,0,0,0,0,0,0,0,"Spring 2015",null,2015,null,597.9,null,null,null,null,null,null,null,null,null,"16",null,"12-Story Library",null,5.3,null,"Science & Technology",null,"English",null,"Reinforced Library",null,32,null,null,null,"760L",null,"3 - 6",null,"Samantha S. Bell"]
[null,null,{"$f":"C4482","v":0},null,null,null,"Not Available",null,9781632350435,null,"Pixel Perfection",null,null,null,"Bridget Gadget",null,null,null,"Bookstaves",null,0,null,17.95,null,0,null,0,null,null,null,null,null,0,0,0,0,0,0,0,0,"Spring 2015",null,2015,null,"FIC",null,null,null,null,null,null,null,null,null,"21",null,"12-Story Library",null,4.3,null,"Fiction",null,"English",null,"Reinforced Library",null,64,null,null,null,"580L",null,"3 - 6",null,"Mari Kesselring"]
[null,null,null,null,null,null,null,null,null,null,"Complete Series of 8",null,null,null,"Today's News",null,null,null,null,null,{"$f":"SUM(U4509:U4516)","v":0},null,{"$f":"SUM(W4509:W4516)","v":191.59999999999997},null,{"$f":"SUM(Y4509:Y4516)","v":0}]
[{"$f":"A4526","v":0},null,{"$f":"C4526","v":0},null,{"$f":"E4526","v":0},null,9781645273257,null,9781645273233,null,"Cambodia",null,null,null,"All Around the World",null,null,null,"Jump!, Inc.",null,26.25,null,18.95,null,23.95,null,0,null,null,null,null,null,0,0,0,0,0,0,0,0,"Fall 2020",null,2021,null,959.6,null,null,null,null,null,null,null,null,null,"44",null,"Pogo Books",null,null,null,"Social Studies",null,"English",null,"Reinforced Library",null,24,null,"J",null,null,null,"2 – 5",null,"Kristine Spanier"]
[{"$f":"A4526","v":0},null,{"$f":"C4526","v":0},null,{"$f":"E4526","v":0},null,9781624969003,null,9781624968983,null,"China",null,null,null,"All Around the World",null,null,null,"Jump!, Inc.",null,26.25,null,18.95,null,23.95,null,0,null,null,null,null,null,0,0,0,0,0,0,0,0,"Fall 2018",null,2019,null,951,null,null,null,null,null,null,null,null,null,"44",null,"Pogo Books",null,2.8,null,"Social Studies",null,"English",null,"Reinforced Library",null,24,null,"J",null,"430L",null,"2 – 5",null,"Joanne Mattern"]
[{"$f":"A4526","v":0},null,{"$f":"C4526","v":0},null,{"$f":"E4526","v":0},null,9781641281690,null,9781641281676,null,"Kenya",null,null,null,"All Around the World",null,null,null,"Jump!, Inc.",null,26.25,null,18.95,null,23.95,null,0,null,null,null,null,null,0,0,0,0,0,0,0,0,"Spring 2019",null,2019,null,967.62,null,null,null,null,null,null,null,null,null,"44",null,"Pogo Books",null,2.7,null,"Social Studies",null,"English",null,"Reinforced Library",null,24,null,"J",null,"430L",null,"2 – 5",null,"Jessica Dean"]
[{"$f":"A4526","v":0},null,{"$f":"C4526","v":0},null,{"$f":"E4526","v":0},null,9781641281751,null,9781641281737,null,"Sweden",null,null,null,"All Around the World",null,null,null,"Jump!, Inc.",null,26.25,null,18.95,null,23.95,null,0,null,null,null,null,null,0,0,0,0,0,0,0,0,"Spring 2019",null,2019,null,948.5,null,null,null,null,null,null,null,null,null,"44",null,"Pogo Books",null,2.9,null,"Social Studies",null,"English",null,"Reinforced Library",null,24,null,"J",null,"570L",null,"2 – 5",null,"Jessica Dean"]
[null,null,null,null,null,null,null,null,null,null,"Complete Series of 6",null,null,null,"Family Pets",null,null,null,null,null,{"$f":"SUM(U4605:U4610)","v":157.5},null,{"$f":"SUM(W4605:W4610)","v":113.7},null,{"$f":"SUM(Y4605:Y4610)","v":143.69999999999999}]
[]
[{"$f":"A4630","v":0},null,{"$f":"C4630","v":0},null,{"$f":"E4630","v":0},null,9781636900834,null,9781636900810,null,"Diwali",null,null,null,"Holiday Fun!",null,null,null,"Jump!, Inc.",null,22.5,null,16.95,null,21.95,null,0,null,null,null,null,null,0,0,0,0,0,0,0,0,"Fall 2021",null,2022,null,394.26499999999999,null,null,null,"Q",null,null,null,null,null,"13",null,"Tadpole Books",null,0.6,null,null,null,"English",null,"Reinforced Library",null,16,null,null,null,null,null,"PreK-1",null,"Adeline J. Zimmerman"]
[{"$f":"A4649","v":0},null,{"$f":"C4649","v":0},null,{"$f":"E4649","v":0},null,9781636902210,null,9781636902197,null,"A Day with a Mail Carrier",null,null,null,"Meet the Community Helpers!",null,null,null,"Jump!, Inc.",null,26.25,null,19.95,null,{"$f":"W4653+5","v":24.95},null,0,null,null,null,null,null,0,0,0,0,0,0,0,0,"Fall 2021",null,2022,null,null,null,null,null,"Q",null,null,null,null,null,"8",null,"Grasshopper Books",null,null,null,null,null,"English",null,"Reinforced Library",null,24,null,null,null,null,null,"1–2"]
[null,null,null,null,null,null,null,null,null,null,"Complete Series of 8",null,null,null,"States of Mind",null,null,null,null,null,{"$f":"SUM(U4679:U4686)","v":210},null,{"$f":"SUM(W4679:W4686)","v":151.6},null,{"$f":"SUM(Y4679:Y4686)","v":191.59999999999997}]
[{"$f":"A4678","v":0},null,{"$f":"C4678","v":0},null,{"$f":"E4678","v":0},null,9781645274032,null,9781645274018,null,"I Feel Confident",null,null,null,"States of Mind",null,null,null,"Jump!, Inc.",null,26.25,null,18.95,null,23.95,null,0,null,null,null,null,null,0,0,0,0,0,0,0,0,"Fall 2020",null,2021,null,155.4,null,null,null,null,null,null,null,null,null,"67",null,"Blue Owl Books",null,null,null,"Social Studies",null,"English",null,"Reinforced Library",null,24,null,"H",null,null,null,"2 – 5",null,"Stephanie Finne"]
[{"$f":"A4700","v":0},null,{"$f":"C4700","v":0},null,{"$f":"E4700","v":0},null,9781636901886,null,9781636901862,null,"Los camiones de remolque (Tow Trucks)",null,null,null,"Vehículos al rescate (Machines to the Rescue)",null,null,null,"Jump!, Inc.",null,26.25,null,17.95,null,22.95,null,0,null,null,null,null,null,0,0,0,0,0,0,0,0,"Fall 2021",null,2022,null,629.22500000000002,null,null,null,"Q",null,null,null,"Q",null,"78",null,"Bullfrog Books",null,null,null,null,null,"Spanish",null,"Reinforced Library",null,24,null,"F",null,null,null,"K–3",null,"Bizzy Harris"]
[{"$f":"A4716","v":0},null,{"$f":"C4716","v":0},null,{"$f":"E4716","v":0},null,9781645275466,null,9781645275442,null,"From Wheat to Bread",null,null,null,"Where Does It Come From?",null,null,null,"Jump!, Inc.",null,26.25,null,17.95,null,22.95,null,0,null,null,null,null,null,0,0,0,0,0,0,0,0,"Fall 2020",null,2021,null,641.80999999999995,null,"Q",null,null,null,null,null,null,null,"24",null,"Bullfrog Books",null,1,null,"High Interest",null,"English",null,"Reinforced Library",null,24,null,"F",null,null,null,"K - 3",null,"Penelope S. Nelson"]
[{"$f":"A4747","v":0},null,{"$f":"C4747","v":0},null,{"$f":"E4747","v":0},null,9781645277200,null,9781645277194,null,"Cougars",null,null,null,"Big Cats",null,null,null,"Jump!, Inc.",null,26.25,null,17.95,null,22.95,null,0,null,null,null,null,null,0,0,0,0,0,0,0,0,"Spring 2021",null,2021,null,599.75,null,null,null,null,null,"Q",null,"Q",null,"26",null,"Bullfrog Books",null,1,null,"Animals & Nature",null,"English",null,"Reinforced Library",null,24,null,null,null,null,null,"K–3",null,"Marie Brandle"]
[{"$f":"A4755","v":0},null,{"$f":"C4755","v":0},null,{"$f":"E4755","v":0},null,9781645277026,null,9781645277019,null,"Chickens on the Farm",null,null,null,"Farm Animals",null,null,null,"Jump!, Inc.",null,26.25,null,17.95,null,{"$f":"W4756+5","v":22.95},null,{"$f":"IF(AC4756=FALSE,AK4756+AL4756+AM4756,0)","v":0},null,null,null,null,null,0,0,0,0,0,0,0,0,"Spring 2021",null,2021,null,636.5,null,"Q",null,null,null,"Q",null,null,null,"26",null,"Bullfrog Books",null,0.9,null,"Animals & Nature",null,"English",null,"Reinforced Library",null,24,null,null,null,null,null,"K–3",null,"Bizzy Harris"]
[{"$f":"A4775","v":0},null,{"$f":"C4775","v":0},null,{"$f":"E4775","v":0},null,9781624966958,null,9781620319024,null,"Cars",null,null,null,"How Does It Work?",null,null,null,"Jump!, Inc.",null,26.25,null,18.95,null,23.95,null,0,null,null,null,null,null,0,0,0,0,0,0,0,0,"Spring 2018",null,2018,null,629.22199999999998,null,null,null,null,null,null,null,null,null,"56",null,"Pogo Books",null,2.6,null,"Science & Technology",null,"English",null,"Reinforced Library",null,24,null,"L",null,"540L",null,"2 – 5",null,"Joanne Mattern"]
[null,null,null,null,null,null,null,null,null,null,"Complete Series of 8",null,null,null,"Nature Heals",null,null,null,null,null,{"$f":"SUM(U4799:U4806)","v":210},null,{"$f":"SUM(W4799:W4806)","v":151.6},null,{"$f":"SUM(Y4799:Y4806)","v":191.59999999999997}]
[{"$f":"A4820","v":0},null,{"$f":"C4820","v":0},null,{"$f":"E4820","v":0},null,9781645278030,null,9781645278016,null,"Vaccines",null,null,null,"Super Science Feats: Medical Breakthroughs",null,null,null,"Jump!, Inc.",null,26.25,null,18.95,null,{"$f":"W4823+5","v":23.95},null,0,null,null,null,null,null,0,0,0,0,0,0,0,0,"Spring 2021",null,2021,null,615.29999999999995,null,null,null,null,null,null,null,"Q",null,"55",null,"Pogo Books",null,2.9,null,"Science & Technology",null,"English",null,"Reinforced Library",null,24,null,"K",null,null,null,"2–5",null,"Alicia Z. Klepeis"]
[null,null,null,null,null,null,null,null,null,null,"Complete Series of 8",null,null,null,"The Sky's the Limit",null,null,null,null,null,{"$f":"SUM(U4827:U4834)","v":210},null,{"$f":"SUM(W4827:W4834)","v":151.6},null,{"$f":"SUM(Y4827:Y4834)","v":191.59999999999997}]
[{"$f":"A4846","v":0},null,{"$f":"C4846","v":0},null,{"$f":"E4846","v":0},null,9781645275701,null,9781645275688,null,"Rainbows",null,null,null,"Amazing Sights in the Sky",null,null,null,"Jump!, Inc.",null,26.25,null,18.95,null,{"$f":"W4850+5","v":23.95},null,0,null,null,null,null,null,0,0,0,0,0,0,0,0,"Fall 2020",null,2021,null,551.55999999999995,null,null,null,null,null,null,null,"Q",null,"57",null,"Pogo Books",null,null,null,"High Interest",null,"English",null,"Reinforced Library",null,24,null,"J",null,null,null,null,null,"Jane P. Gardner"]
[{"$f":"A4869","v":0},null,{"$f":"C4869","v":0},null,{"$f":"E4869","v":0},null,9781645274506,null,9781645274490,null,"Maine Coons",null,null,null,"Cat Club",null,null,null,"Jump!, Inc.",null,26.25,null,17.95,null,22.95,null,0,null,null,null,null,null,0,0,0,0,0,0,0,0,"Fall 2020",null,2021,null,636.79999999999995,null,null,null,null,null,"Q",null,null,null,"27",null,"Bullfrog Books",null,0.9,null,"Animals & Nature",null,"English",null,"Reinforced Library",null,24,null,"F",null,null,null,"K - 3",null,"Cameron L. Woodson"]
[]
[null,null,null,null,null,null,null,null,null,null,"Complete Series of 4",null,null,null,"Facing Life's Challenges",null,null,null,null,null,{"$f":"SUM(U4902:U4905)","v":105},null,{"$f":"SUM(W4902:W4905)","v":75.8},null,{"$f":"SUM(Y4902:Y4905)","v":95.8}]
[{"$f":"A4920","v":0},null,{"$f":"C4920","v":0},null,{"$f":"E4920","v":0},null,9781645276227,null,9781645276210,null,"El Ejércitio de los Estados Unidos (U.S. Army)",null,null,null,"Las Fuerzas Armadas de los Estados Unidos (U.S. Armed Forces)",null,null,null,"Jump!, Inc.",null,26.25,null,18.95,null,23.95,null,0,null,null,null,null,null,0,0,0,0,0,0,0,0,"Fall 2020",null,2021,null,null,null,null,null,null,null,null,null,null,null,"79",null,"Pogo Books",null,3.5,null,"High Interest",null,"Spanish",null,"Reinforced Library",null,24,null,"L",null,null,null,"2 – 5",null,"Allan Morey"]
[]
[null,null,null,null,null,null,null,null,null,null,"Complete Series of 6",null,null,null,"Science Behind the Colors",null,null,null,null,null,{"$f":"SUM(U4969:U4974)","v":157.5},null,{"$f":"SUM(W4969:W4974)","v":113.7},null,{"$f":"SUM(Y4969:Y4974)","v":143.69999999999999}]
[null,null,null,null,null,null,null,null,null,null,"Complete Series of 4",null,null,null,"Seasons",null,null,null,null,null,{"$f":"SUM(U4977:U4980)","v":90},null,{"$f":"SUM(W4977:W4980)","v":67.8},null,{"$f":"SUM(Y4977:Y4980)","v":87.8}]
[{"$f":"A4994","v":0},null,{"$f":"C4994","v":0},null,{"$f":"E4994","v":0},null,9781645274247,null,9781645274230,null,"U.S. Coast Guard",null,null,null,"U.S. Armed Forces",null,null,null,"Jump!, Inc.",null,26.25,null,18.95,null,23.95,null,0,null,null,null,null,null,0,0,0,0,0,0,0,0,"Fall 2020",null,2021,null,363.28,null,null,null,null,null,null,null,null,null,"46",null,"Pogo Books",null,3.3,null,"High Interest",null,"English",null,"Reinforced Library",null,24,null,"L",null,null,null,"2 – 5",null,"Allan Morey"]
[{"$f":"A5017","v":0},null,{"$f":"C5017","v":0},null,{"$f":"E5017","v":0},null,9781645272397,null,9781645272380,null,"City Trains",null,null,null,"All Aboard",null,null,null,"Jump!, Inc.",null,26.25,null,17.95,null,{"$f":"W5018+5","v":22.95},null,{"$f":"IF(AC5018=FALSE,AK5018+AL5018+AM5018,0)","v":0},null,null,null,null,null,0,0,0,0,0,0,0,0,"Spring 2020",null,2020,null,388.4,null,"Q",null,null,null,null,null,null,null,"30",null,"Bullfrog Books",null,1,null,"Science & Technology",null,"English",null,"Reinforced Library",null,24,null,"G",null,null,null,"K - 3",null,"Jenna Lee Gleisner"]
[{"$f":"A5034","v":0},null,{"$f":"C5034","v":0},null,{"$f":"E5034","v":0},null,9781645271079,null,9781645271055,null,"Raccoons",null,null,null,"Backyard Animals",null,null,null,"Jump!, Inc.",null,22.5,null,16.95,null,21.95,null,0,null,null,null,null,null,0,0,0,0,0,0,0,0,"Spring 2020",null,2020,null,599.76,null,null,null,null,null,null,null,null,null,"19",null,"Tadpole Books",null,null,null,"Animals & Nature",null,"English",null,"Reinforced Library",null,16,null,null,null,null,null,"PreK - 1",null,"Genevieve Nilsen"]
[{"$f":"A5044","v":0},null,{"$f":"C5044","v":0},null,{"$f":"E5044","v":0},null,9781645272311,null,9781645272298,null,"Leadership at School",null,null,null,"Be a Leader",null,null,null,"Jump!, Inc.",null,26.25,null,18.95,null,{"$f":"W5046+5","v":23.95},null,0,null,null,null,null,null,0,0,0,0,0,0,0,0,"Spring 2020",null,2020,null,null,null,null,null,null,null,null,null,null,null,"72",null,"Blue Owl Books",null,3,null,"Social Studies",null,"English",null,"Reinforced Library",null,24,null,"I",null,null,null,"2 – 5",null,"James Hancock"]
[{"$f":"A5066","v":0},null,{"$f":"C5066","v":0},null,{"$f":"E5066","v":0},null,9781645273042,null,9781645273035,null,"My First Look at French",null,null,null,"First Look at Languages",null,null,null,"Jump!, Inc.",null,26.25,null,17.95,null,{"$f":"W5067+5","v":22.95},null,{"$f":"IF(AC5067=FALSE,AK5067+AL5067+AM5067,0)","v":0},null,null,null,null,null,0,0,0,0,0,0,0,0,"Spring 2020",null,2020,null,null,null,null,null,null,null,null,null,null,null,"30",null,"Bullfrog Books",null,null,null,"Social Studies",null,"English",null,"Reinforced Library",null,24,null,"E",null,null,null,"K - 3",null,"Jenna Lee Gleisner"]
[{"$f":"A5087","v":0},null,{"$f":"C5087","v":0},null,{"$f":"E5087","v":0},null,9781645272496,null,9781645272489,null,"Los trenes citadinos (City Trains)",null,null,null,"Todos a bordo (All Aboard)",null,null,null,"Jump!, Inc.",null,26.25,null,17.95,null,{"$f":"W5088+5","v":22.95},null,{"$f":"IF(AC5088=FALSE,AK5088+AL5088+AM5088,0)","v":0},null,null,null,null,null,0,0,0,0,0,0,0,0,"Spring 2020",null,2020,null,388.4,null,"Q",null,null,null,null,null,null,null,"78",null,"Bullfrog Books",null,null,null,"Science & Technology",null,"Spanish",null,"Reinforced Library",null,24,null,"G",null,null,null,"K - 3",null,"Jenna Lee Gleisner"]
[{"$f":"A5109","v":0},null,{"$f":"C5109","v":0},null,{"$f":"E5109","v":0},null,9781641287371,null,9781641287357,null,"My Friend Is Deaf",null,null,null,"All Kinds of Friends",null,null,null,"Jump!, Inc.",null,26.25,null,17.95,null,22.95,null,0,null,null,null,null,null,0,0,0,0,0,0,0,0,"Fall 2019",null,2020,null,305.89999999999998,null,"Q",null,null,null,null,null,null,null,"29",null,"Bullfrog Books",null,1,null,"High Interest",null,"English",null,"Reinforced Library",null,24,null,"F",null,null,null,"K - 3",null,"Kirsten Chang"]
[{"$f":"A5117","v":0},null,{"$f":"C5117","v":0},null,{"$f":"E5117","v":0},null,9781641286985,null,9781641286961,null,"Feet",null,null,null,"Animal Part Smarts",null,null,null,"Jump!, Inc.",null,22.5,null,16.95,null,21.95,null,0,null,null,null,null,null,0,0,0,0,0,0,0,0,"Fall 2019",null,2020,null,591.47,null,null,null,null,null,null,null,null,null,"18",null,"Tadpole Books",null,null,null,"Animals & Nature",null,"English",null,"Reinforced Library",null,16,null,"C",null,null,null,"PreK - 1",null,"Jenna Lee Gleisner"]
[{"$f":"A5138","v":0},null,{"$f":"C5138","v":0},null,{"$f":"E5138","v":0},null,9781641287135,null,9781641287111,null,"Being Optimistic",null,null,null,"Building Character",null,null,null,"Jump!, Inc.",null,26.25,null,17.95,null,22.95,null,0,null,null,null,null,null,0,0,0,0,0,0,0,0,"Fall 2019",null,2020,null,149,null,"Q",null,null,null,null,null,null,null,"32",null,"Bullfrog Books",null,1,null,"High Interest",null,"English",null,"Reinforced Library",null,24,null,"F",null,null,null,"K - 3",null,"Penelope S. Nelson"]
[{"$f":"A5153","v":0},null,{"$f":"C5153","v":0},null,{"$f":"E5153","v":0},null,9781624961595,null,9781620310915,null,"Dentists",null,null,null,"Community Helpers",null,null,null,"Jump!, Inc.",null,26.25,null,17.95,null,22.95,null,0,null,null,null,null,null,0,0,0,0,0,0,0,0,"Fall 2014",null,2015,null,"617.6/0232",null,null,null,null,null,null,null,null,null,"38 - 39",null,"Bullfrog Books",null,0.9,null,"Careers",null,"English",null,"Reinforced Library",null,24,null,"E",null,"290L",null,"K - 2",null,"Cari Meister"]
[]
[{"$f":"A5185","v":0},null,{"$f":"C5185","v":0},null,{"$f":"E5185","v":0},null,9781645270263,null,9781645270249,null,"Resolver conflictos (Resolving Conflict)",null,null,null,"Construyendo el carácter (Building Character)",null,null,null,"Jump!, Inc.",null,26.25,null,17.95,null,22.95,null,0,null,null,null,null,null,0,0,0,0,0,0,0,0,"Fall 2019",null,2020,null,158.19999999999999,null,null,null,null,null,null,null,null,null,"77",null,"Bullfrog Books",null,1.3,null,"High Interest",null,"Spanish",null,"Reinforced Library",null,24,null,"F",null,null,null,"K - 3",null,"Penelope S. Nelson"]
[{"$f":"A5210","v":0},null,{"$f":"C5210","v":0},null,{"$f":"E5210","v":0},null,9781645270447,null,9781645270423,null,"Anaranjado (Orange)",null,null,null,"Diversión con colores (Fun with Colors)",null,null,null,"Jump!, Inc.",null,22.5,null,16.95,null,21.95,null,0,null,null,null,null,null,0,0,0,0,0,0,0,0,"Fall 2019",null,2020,null,535.6,null,null,null,null,null,null,null,null,null,"75",null,"Tadpole Books",null,null,null,"High Interest",null,"Spanish",null,"Reinforced Library",null,16,null,null,null,null,null,"PreK - 1",null,"Anna C. Peterson"]
[]
[]
[]
[{"$f":"A5263","v":0},null,{"$f":"C5263","v":0},null,{"$f":"E5263","v":0},null,9781624961779,null,9781620311103,null,"Iguanas",null,null,null,"My First Animal Library",null,null,null,"Jump!, Inc.",null,26.25,null,17.95,null,22.95,null,0,null,null,null,null,null,0,0,0,0,0,0,0,0,"Fall 2014",null,2015,null,"597.95/42",null,null,null,null,null,null,null,null,null,"36 - 37",null,"Bullfrog Books",null,1,null,"Animals & Nature",null,"English",null,"Reinforced Library",null,24,null,"E",null,"270L",null,"K - 3",null,"Mari Schuh"]
[{"$f":"A5263","v":0},null,{"$f":"C5263","v":0},null,{"$f":"E5263","v":0},null,9781624962561,null,9781620311691,null,"Tigers",null,null,null,"My First Animal Library",null,null,null,"Jump!, Inc.",null,26.25,null,17.95,null,22.95,null,0,null,null,null,null,null,0,0,0,0,0,0,0,0,"Fall 2014",null,2015,null,599.75599999999997,null,null,null,null,null,null,null,null,null,"36 - 37",null,"Bullfrog Books",null,0.9,null,"Animals & Nature",null,"English",null,"Reinforced Library",null,24,null,"E",null,"310L",null,"K - 3",null,"Cari Meister"]
[{"$f":"A5323","v":0},null,{"$f":"C5323","v":0},null,{"$f":"E5323","v":0},null,9781641286350,null,9781641286343,null,"Owls",null,null,null,"Raptor World",null,null,null,"Jump!, Inc.",null,26.25,null,17.95,null,22.95,null,0,null,null,null,null,null,0,0,0,0,0,0,0,0,"Fall 2019",null,2020,null,598.9,null,null,null,null,null,null,null,null,null,"31",null,"Bullfrog Books",null,1,null,"Animals & Nature",null,"English",null,"Reinforced Library",null,24,null,"E",null,null,null,"K - 3",null,"Jenna Lee Gleisner"]
[]
[{"$f":"A5355","v":0},null,{"$f":"C5355","v":0},null,{"$f":"E5355","v":0},null,9781641289221,null,9781641289061,null,"The Mexican-American Journey",null,null,null,"The American Journey",null,null,null,"Jump!, Inc.",null,26.25,null,18.95,null,{"$f":"W5357+5","v":23.95},null,0,null,null,null,null,null,0,0,0,0,0,0,0,0,"Fall 2019",null,2020,null,973,null,null,null,null,null,null,null,null,null,"49",null,"Pogo Books",null,2.8,null,"History",null,"English",null,"Reinforced Library",null,24,null,"M",null,null,null,"2 – 5",null,"Emma Carlson Berne"]
[{"$f":"A5377","v":0},null,{"$f":"C5377","v":0},null,{"$f":"E5377","v":0},null,9781641285469,null,9781641285452,null,"Los cachorros del león (Lion Cubs)",null,null,null,"Animales bebés de los safaris (Safari Babies)",null,null,null,"Jump!, Inc.",null,22.5,null,16.95,null,21.95,null,0,null,null,null,null,null,0,0,0,0,0,0,0,0,"Spring 2019",null,2019,null,"599.75713/92",null,null,null,null,null,null,null,null,null,"75",null,"Tadpole Books",null,null,null,"Animals & Nature",null,"Spanish",null,"Reinforced Library",null,16,null,null,null,null,null,"PreK - 1",null,"Genevieve Nilsen"]
[{"$f":"A5385","v":0},null,{"$f":"C5385","v":0},null,{"$f":"E5385","v":0},null,9781641284370,null,9781641284356,null,"Up and Down",null,null,null,"Comparing Directions",null,null,null,"Jump!, Inc.",null,22.5,null,16.95,null,{"$f":"W5390+5","v":21.95},null,0,null,null,null,null,null,0,0,0,0,0,0,0,0,"Spring 2019",null,2019,null,"153.7/52",null,"Q",null,null,null,null,null,null,null,"16",null,"Tadpole Books",null,null,null,"Social Studies",null,"English",null,"Reinforced Library",null,16,null,null,null,null,null,"PreK - 1",null,"Tessa Kenan"]
[]
[{"$f":"A5430","v":0},null,{"$f":"C5430","v":0},null,{"$f":"E5430","v":0},null,9781641285247,null,9781641285230,null,"Mira cómo crece un roble (Watch an Oak Tree Grow)",null,null,null,"Míralos crecer (Watch It Grow)",null,null,null,"Jump!, Inc.",null,26.25,null,17.95,null,22.95,null,0,null,null,null,null,null,0,0,0,0,0,0,0,0,"Spring 2019",null,2019,null,"634.9/721",null,null,null,null,null,null,null,null,null,"78",null,"Bullfrog Books",null,0.9,null,"Animals & Nature",null,"Spanish",null,"Reinforced Library",null,16,null,null,null,null,null,"K - 3",null,"Kirsten Chang"]
[{"$f":"A5448","v":0},null,{"$f":"C5448","v":0},null,{"$f":"E5448","v":0},null,9781624965920,null,9781620317150,null,"Civil Engineer",null,null,null,"STEM Careers",null,null,null,"Jump!, Inc.",null,26.25,null,18.95,null,23.95,null,0,null,null,null,null,null,0,0,0,0,0,0,0,0,"Fall 2017",null,2018,null,624.02300000000002,null,"Q",null,null,null,null,null,null,null,"60",null,"Pogo Books",null,2.9,null,"Careers",null,"English",null,"Reinforced Library",null,24,null,"M",null,"430L",null,"2 - 4",null,"Nikole Brooks Bethea"]
[null,null,null,null,null,null,null,null,null,null,"Complete Series of 8",null,null,null,"Watch It Grow",null,null,null,null,null,{"$f":"SUM(U5475:U5482)","v":210},null,{"$f":"SUM(W5475:W5482)","v":143.6},null,{"$f":"SUM(Y5475:Y5482)","v":183.59999999999997}]
[{"$f":"A5474","v":0},null,{"$f":"C5474","v":0},null,{"$f":"E5474","v":0},null,9781641282727,null,9781641282703,null,"Watch an Oak Tree Grow",null,null,null,"Watch It Grow",null,null,null,"Jump!, Inc.",null,26.25,null,17.95,null,22.95,null,0,null,null,null,null,null,0,0,0,0,0,0,0,0,"Spring 2019",null,2019,null,"634.9/721",null,"Q",null,null,null,null,null,null,null,"28",null,"Bullfrog Books",null,1,null,"Social Studies",null,"English",null,"Reinforced Library",null,24,null,"F",null,null,null,"K - 3",null,"Kirsten Chang"]
[{"$f":"A5500","v":0},null,{"$f":"C5500","v":0},null,{"$f":"E5500","v":0},null,9781624969485,null,9781624969461,null,"Angry",null,null,null,"Emotions",null,null,null,"Jump!, Inc.",null,22.5,null,16.95,null,{"$f":"W5502+5","v":21.95},null,0,null,null,null,null,null,0,0,0,0,0,0,0,0,"Fall 2018",null,2019,null,"152.4/7",null,"Q",null,null,null,null,null,null,null,"22",null,"Tadpole Books",null,null,null,"High Interest",null,"English",null,"Reinforced Library",null,16,null,"D",null,null,null,"PreK - 1",null,"Genevieve Nilsen"]
[{"$f":"A5506","v":0},null,{"$f":"C5506","v":0},null,{"$f":"E5506","v":0},null,9781624963261,null,9781620312391,null,"El Año Nuevo Chino (Chinese New Year)",null,null,null,"Fiestas (Holidays)",null,null,null,"Jump!, Inc.",null,26.25,null,17.95,null,22.95,null,0,null,null,null,null,null,0,0,0,0,0,0,0,0,"Fall 2015",null,2016,null,394.26100000000002,null,null,null,null,null,null,null,null,null,"77",null,"Bullfrog Books",null,1.2,null,"Social Studies",null,"Spanish",null,"Reinforced Library",null,24,null,"F",null,null,null,"PreK – 2",null,"Rebecca Pettiford"]
[]
[{"$f":"A5550","v":0},null,{"$f":"C5550","v":0},null,{"$f":"E5550","v":0},null,9781641280778,null,9781641280761,null,"Nevado (Snowy)",null,null,null,"Informe del tiempo (Weather Report)",null,null,null,"Jump!, Inc.",null,22.5,null,16.95,null,{"$f":"W5552+5","v":21.95},null,0,null,null,null,null,null,0,0,0,0,0,0,0,0,"Fall 2018",null,2019,null,"551.57/84",null,null,null,null,null,null,null,null,null,"75",null,"Tadpole Books",null,null,null,"Science & Technology",null,"Spanish",null,"Reinforced Library",null,16,null,null,null,null,null,"PreK - 1",null,"Tessa Kenan"]
[{"$f":"A5572","v":0},null,{"$f":"C5572","v":0},null,{"$f":"E5572","v":0},null,9781641280914,null,9781641280907,null,"Los kits (Raccoon Cubs)",null,null,null,"Los bebés del bosque (Forest Babies)",null,null,null,"Jump!, Inc.",null,22.5,null,16.95,null,21.95,null,0,null,null,null,null,null,0,0,0,0,0,0,0,0,"Fall 2018",null,2019,null,"599.76/32",null,null,null,null,null,null,null,null,null,"76",null,"Tadpole Books",null,null,null,"Animals & Nature",null,"Spanish",null,"Reinforced Library",null,16,null,null,null,null,null,"PreK - 1",null,"Genevieve Nilsen"]
[{"$f":"A5597","v":0},null,{"$f":"C5597","v":0},null,{"$f":"E5597","v":0},null,9781624967658,null,9781624967641,null,"Beagles",null,null,null,"Paw Prints",null,null,null,"Jump!, Inc.",null,26.25,null,17.95,null,{"$f":"W5598+5","v":22.95},null,{"$f":"IF(AC5598=FALSE,AK5598+AL5598+AM5598,0)","v":0},null,null,null,null,null,0,0,0,0,0,0,0,0,"Fall 2018",null,2019,null,636.75300000000004,null,"Q",null,null,null,null,null,null,null,"33",null,"Bullfrog Books",null,1,null,"Animals & Nature",null,"English",null,"Reinforced Library",null,24,null,"G",null,null,null,"K - 3",null,"Kaitlyn Duling"]
[{"$f":"A5619","v":0},null,{"$f":"C5619","v":0},null,{"$f":"E5619","v":0},null,9781624966798,null,9781624967320,null,"Necesidades y deseos (Needs and Wants)",null,null,null,"Se inteligente con tu dinero (Money Smarts)",null,null,null,"Jump!, Inc.",null,26.25,null,17.95,null,{"$f":"W5623+5","v":22.95},null,0,null,null,null,null,null,0,0,0,0,0,0,0,0,"Fall 2018",null,2018,null,null,null,null,null,null,null,null,null,null,null,null,null,"Bullfrog Books",null,2.5,null,"Math & Finance",null,"Spanish",null,"Reinforced Library",null,24,null,"E",null,"240L",null,"K - 3",null,"Nadia Higgins"]
[null,null,null,null,null,null,null,null,null,null,"Complete Series of 4",null,null,null,"Super Science Feats",null,null,null,null,null,{"$f":"SUM(U5627:U5630)","v":105},null,{"$f":"SUM(W5627:W5630)","v":75.8},null,{"$f":"SUM(Y5627:Y5630)","v":95.8}]
[{"$f":"A5641","v":0},null,{"$f":"C5641","v":0},null,{"$f":"E5641","v":0},null,9781641281096,null,9781641281089,null,"Los camiones (Trucks)",null,null,null,"Vamos! (Let's Go!)",null,null,null,"Jump!, Inc.",null,22.5,null,16.95,null,21.95,null,0,null,null,null,null,null,0,0,0,0,0,0,0,0,"Fall 2018",null,2019,null,629.22400000000005,null,"Q",null,null,null,null,null,null,null,"76",null,"Tadpole Books",null,null,null,"Science & Technology",null,"Spanish",null,"Reinforced Library",null,16,null,null,null,null,null,"PreK - 1",null,"Tessa Kenan"]
[{"$f":"A5657","v":0},null,{"$f":"C5657","v":0},null,{"$f":"E5657","v":0},null,9781624963957,null,9781620313480,null,"Ellis Island",null,null,null,"Hello, America!",null,null,null,"Jump!, Inc.",null,26.25,null,17.95,null,22.95,null,0,null,null,null,null,null,0,0,0,0,0,0,0,0,"Fall 2016",null,2017,null,"304.8/73",null,null,null,null,null,null,null,null,null,null,null,"Bullfrog Books",null,1,null,"Social Studies",null,"English",null,"Reinforced Library",null,24,null,"E",null,null,null,"K - 3",null,"Rebecca Pettiford"]
[null,null,null,null,null,null,null,null,null,null,"Complete Series of 20",null,null,null,"I Love Sports",null,null,null,null,null,{"$f":"SUM(U5695:U5714)","v":525},null,{"$f":"SUM(W5695:W5714)","v":358.99999999999989},null,{"$f":"SUM(Y5695:Y5714)","v":458.99999999999983}]
[{"$f":"A5694","v":0},null,{"$f":"C5694","v":0},null,{"$f":"E5694","v":0},null,9781624964053,null,9781620313589,null,"Bowling",null,null,null,"I Love Sports",null,null,null,"Jump!, Inc.",null,26.25,null,17.95,null,22.95,null,0,null,null,null,null,null,0,0,0,0,0,0,0,0,"Fall 2016",null,2017,null,794.6,null,null,null,null,null,null,null,null,null,null,null,"Bullfrog Books",null,0.8,null,"Sports & Recreation",null,"English",null,"Reinforced Library",null,24,null,"F",null,null,null,"K - 3",null,"Cari Meister"]
[]
[{"$f":"A5737","v":0},null,{"$f":"C5737","v":0},null,{"$f":"E5737","v":0},null,9781624967214,null,9781620319451,null,"I See Rocks",null,null,null,"Outdoor Explorer",null,null,null,"Jump!, Inc.",null,22.5,null,16.95,null,21.95,null,0,null,null,null,null,null,0,0,0,0,0,0,0,0,"Spring 2018",null,2018,null,552,null,"Q",null,null,null,null,null,null,null,null,null,"Tadpole Books",null,null,null,"Animals & Nature",null,"English",null,"Reinforced Library",null,16,null,"B",null,"20L",null,"PreK - 1",null,"Tim Mayerling"]
[null,null,null,null,null,null,null,null,null,null,"Complete Series of 7",null,null,null,"Animal Architects",null,null,null,null,null,{"$f":"SUM(U5769:U5775)","v":183.75},null,{"$f":"SUM(W5769:W5775)","v":132.65},null,{"$f":"SUM(Y5769:Y5775)","v":167.64999999999998}]
[{"$f":"A5768","v":0},null,{"$f":"C5768","v":0},null,{"$f":"E5768","v":0},null,9781624965708,null,9781620316931,null,"Bees",null,null,null,"Animal Architects",null,null,null,"Jump!, Inc.",null,26.25,null,18.95,null,23.95,null,0,null,null,null,null,null,0,0,0,0,0,0,0,0,"Fall 2017",null,2018,null,"595.79/9",null,null,null,null,null,null,null,null,null,"64",null,"Pogo Books",null,2.9,null,"Animals & Nature",null,"English",null,"Reinforced Library",null,24,null,"J",null,"480L",null,"2 - 4",null,"Karen Latchana Kenney"]
[{"$f":"A5791","v":0},null,{"$f":"C5791","v":0},null,{"$f":"E5791","v":0},null,9781624966224,null,9781620318003,null,"Arrecifes de coral (Coral Reefs)",null,null,null,"Ecosistemas (Ecosystems)",null,null,null,"Jump!, Inc.",null,26.25,null,17.95,null,{"$f":"W5792+5","v":22.95},null,{"$f":"IF(AC5792=FALSE,AK5792+AL5792+AM5792,0)","v":0},null,null,null,null,null,0,0,0,0,0,0,0,0,"Fall 2017",null,2018,null,"577.7/89",null,null,null,null,null,null,null,null,null,null,null,"Bullfrog Books",null,1.3,null,"Animals & Nature",null,"Spanish",null,"Reinforced Library",null,24,null,null,null,null,null,"K - 3",null,"Nadia Higgins"]
[{"$f":"A5821","v":0},null,{"$f":"C5821","v":0},null,{"$f":"E5821","v":0},null,9781624966125,null,9781620317655,null,"Chicks",null,null,null,"Farm Babies",null,null,null,"Jump!, Inc.",null,22.5,null,16.95,null,{"$f":"W5823+5","v":21.95},null,0,null,null,null,null,null,0,0,0,0,0,0,0,0,"Fall 2017",null,2018,null,636.5,null,"Q",null,null,null,null,null,null,null,null,null,"Tadpole Books",null,0.8,null,"Animals & Nature",null,"English",null,"Reinforced Library",null,16,null,"E",null,null,null,"K - 2",null,"Tim Mayerling"]
[{"$f":"A5836","v":0},null,{"$f":"C5836","v":0},null,{"$f":"E5836","v":0},null,9781624966323,null,9781620318102,null,"Mambas negras (Black Mambas)",null,null,null,"Mundo de reptiles (Reptile World)",null,null,null,"Jump!, Inc.",null,26.25,null,17.95,null,{"$f":"W5839+5","v":22.95},null,0,null,null,null,null,null,0,0,0,0,0,0,0,0,"Fall 2017",null,2018,null,"597.96/4",null,null,null,null,null,null,null,null,null,null,null,"Bullfrog Books",null,1.1000000000000001,null,"Animals & Nature",null,"Spanish",null,"Reinforced Library",null,24,null,null,null,null,null,"K - 3",null,"Imogen Kingsley"]
[]
[{"$f":"A5857","v":0},null,{"$f":"C5857","v":0},null,{"$f":"E5857","v":0},null,9781624964282,null,9781620313817,null,"Geckos",null,null,null,"Reptile World",null,null,null,"Jump!, Inc.",null,26.25,null,17.95,null,22.95,null,0,null,null,null,null,null,0,0,0,0,0,0,0,0,"Fall 2016",null,2017,null,"597.95/2",null,null,null,null,null,null,null,null,null,null,null,"Bullfrog Books",null,0.9,null,"Animals & Nature",null,"English",null,"Reinforced Library",null,24,null,"E",null,null,null,"K - 2",null,"Vanessa Black"]
[{"$f":"A5887","v":0},null,{"$f":"C5887","v":0},null,{"$f":"E5887","v":0},null,9781624966071,null,9781620317600,null,"Who Helps Animals?",null,null,null,"Who Helps?",null,null,null,"Jump!, Inc.",null,22.5,null,16.95,null,{"$f":"W5888+5","v":21.95},null,{"$f":"IF(AC5888=FALSE,AK5888+AL5888+AM5888,0)","v":0},null,null,null,null,null,0,0,0,0,0,0,0,0,"Fall 2017",null,2018,null,636.08900000000006,null,null,null,null,null,null,null,null,null,null,null,"Tadpole Books",null,null,null,"Careers",null,"English",null,"Reinforced Library",null,16,null,"B",null,null,null,"PreK – 2",null,"Erica Donner"]
[{"$f":"A5912","v":0},null,{"$f":"C5912","v":0},null,{"$f":"E5912","v":0},null,9781624964794,null,9781620315361,null,"Amphibians",null,null,null,"Animal Classification",null,null,null,"Jump!, Inc.",null,26.25,null,17.95,null,{"$f":"W5913+5","v":22.95},null,{"$f":"IF(AC5913=FALSE,AK5913+AL5913+AM5913,0)","v":0},null,null,null,null,null,0,0,0,0,0,0,0,0,"Spring 2017",null,2017,null,597.79999999999995,null,null,null,null,null,null,null,null,null,null,null,"Bullfrog Books",null,1,null,"Animals & Nature",null,"English",null,"Reinforced Library",null,24,null,"F",null,null,null,"PreK – 2",null,"Erica Donner"]
[{"$f":"A5912","v":0},null,{"$f":"C5912","v":0},null,{"$f":"E5912","v":0},null,9781624964824,null,9781620315392,null,"Insects",null,null,null,"Animal Classification",null,null,null,"Jump!, Inc.",null,26.25,null,17.95,null,22.95,null,0,null,null,null,null,null,0,0,0,0,0,0,0,0,"Spring 2017",null,2017,null,595.70000000000005,null,null,null,null,null,null,null,null,null,null,null,"Bullfrog Books",null,1,null,"Animals & Nature",null,"English",null,"Reinforced Library",null,24,null,"F",null,null,null,"PreK – 2",null,"Erica Donner"]
[{"$f":"A5928","v":0},null,{"$f":"C5928","v":0},null,{"$f":"E5928","v":0},null,9781624964473,null,9781620314005,null,"Wildfires",null,null,null,"Disaster Zone",null,null,null,"Jump!, Inc.",null,26.25,null,18.95,null,23.95,null,0,null,null,null,null,null,0,0,0,0,0,0,0,0,"Fall 2016",null,2017,null,"363.34/9",null,null,null,null,null,null,null,null,null,null,null,"Pogo Books",null,2.9,null,"Animals & Nature",null,"English",null,"Reinforced Library",null,24,null,"J",null,"510L",null,"2 - 4",null,"Vanessa Black"]
[{"$f":"A5961","v":0},null,{"$f":"C5961","v":0},null,{"$f":"E5961","v":0},null,9781624965159,null,9781620315675,null,"Crayons",null,null,null,"How Is It Made?",null,null,null,"Jump!, Inc.",null,26.25,null,18.95,null,23.95,null,0,null,null,null,null,null,0,0,0,0,0,0,0,0,"Spring 2017",null,2017,null,"741.2/3",null,null,null,null,null,null,null,null,null,null,null,"Pogo Books",null,2.6,null,"Social Studies",null,"English",null,"Reinforced Library",null,24,null,"J",null,"560L",null,"K - 2",null,"Vanessa Black"]
[{"$f":"A5969","v":0},null,{"$f":"C5969","v":0},null,{"$f":"E5969","v":0},null,9781624961939,null,9781620311264,null,"Turtles",null,null,null,"My First Pet",null,null,null,"Jump!, Inc.",null,26.25,null,17.95,null,22.95,null,0,null,null,null,null,null,0,0,0,0,0,0,0,0,"Fall 2014",null,2015,null,"639.3/92",null,null,null,null,null,null,null,null,null,null,null,"Bullfrog Books",null,0.9,null,"Animals & Nature",null,"English",null,"Reinforced Library",null,24,null,"D",null,"290L",null,"K - 2",null,"Cari Meister"]
[{"$f":"A5986","v":0},null,{"$f":"C5986","v":0},null,{"$f":"E5986","v":0},null,9781624965340,null,9781620316504,null,"Granos (Grains)",null,null,null,"Vida sana (Healthy Living)",null,null,null,"Jump!, Inc.",null,26.25,null,17.95,null,22.95,null,0,null,null,null,null,null,0,0,0,0,0,0,0,0,"Spring 2017",null,2017,null,"641.3/31",null,null,null,null,null,null,null,null,null,null,null,"Bullfrog Books",null,"Not Quizable",null,"Health",null,"Spanish",null,"Reinforced Library",null,24,null,null,null,null,null,"K - 2",null,"Vanessa Black"]
[{"$f":"A6009","v":0},null,{"$f":"C6009","v":0},null,{"$f":"E6009","v":0},null,9781624964503,null,9781620314036,null,"Recycling",null,null,null,"Green Planet",null,null,null,"Jump!, Inc.",null,26.25,null,18.95,null,{"$f":"W6012+5","v":23.95},null,0,null,null,null,null,null,0,0,0,0,0,0,0,0,"Fall 2016",null,2017,null,"363.72/82",null,null,null,null,null,null,null,null,null,null,null,"Pogo Books",null,2.8,null,"Science & Technology",null,"English",null,"Reinforced Library",null,24,null,"K",null,"480L",null,"2 - 4",null,"Rebecca Pettiford"]
[{"$f":"A6024","v":0},null,{"$f":"C6024","v":0},null,{"$f":"E6024","v":0},null,9781624960574,null,9781620310458,null,"Garbage Trucks",null,null,null,"Machines at Work",null,null,null,"Jump!, Inc.",null,26.25,null,17.95,null,22.95,null,0,null,null,null,null,null,0,0,0,0,0,0,0,0,"Fall 2012",null,2013,null,"628.4/42",null,null,null,null,null,null,null,null,null,null,null,"Bullfrog Books",null,0.9,null,"Science & Technology",null,"English",null,"Reinforced Library",null,24,null,"F",null,"380L",null,"K - 2",null,"Cari Meister"]
[{"$f":"A6057","v":0},null,{"$f":"C6057","v":0},null,{"$f":"E6057","v":0},null,9781624964183,null,9781620313718,null,"Meals in China",null,null,null,"Meals Around the World",null,null,null,"Jump!, Inc.",null,26.25,null,17.95,null,{"$f":"W6058+5","v":22.95},null,{"$f":"IF(AC6058=FALSE,AK6058+AL6058+AM6058,0)","v":0},null,null,null,null,null,0,0,0,0,0,0,0,0,"Fall 2016",null,2017,null,"394.1/20951",null,null,null,null,null,null,null,null,null,null,null,"Bullfrog Books",null,1,null,"Social Studies",null,"English",null,"Reinforced Library",null,24,null,"F",null,null,null,"K - 2",null,"R.J. Bailey"]
[{"$f":"A6057","v":0},null,{"$f":"C6057","v":0},null,{"$f":"E6057","v":0},null,9781624964213,null,9781620313749,null,"Meals in Mexico",null,null,null,"Meals Around the World",null,null,null,"Jump!, Inc.",null,26.25,null,17.95,null,22.95,null,0,null,null,null,null,null,0,0,0,0,0,0,0,0,"Fall 2016",null,2017,null,641.59720000000004,null,null,null,null,null,null,null,null,null,null,null,"Bullfrog Books",null,0.9,null,"Social Studies",null,"English",null,"Reinforced Library",null,24,null,"F",null,null,null,"K - 2",null,"R.J. Bailey"]
[]
[{"$f":"A6102","v":0},null,{"$f":"C6102","v":0},null,{"$f":"E6102","v":0},null,9781624963780,null,9781620313121,null,"Stinky Animals",null,null,null,"Back Off! Animal Defenses",null,null,null,"Jump!, Inc.",null,26.25,null,18.95,null,23.95,null,0,null,null,null,null,null,0,0,0,0,0,0,0,0,"Spring 2016",null,2016,null,591.47,null,null,null,null,null,null,null,null,null,null,null,"Pogo Books",null,2.6,null,"Animals & Nature",null,"English",null,"Reinforced Library",null,24,null,"J",null,"500L",null,"2 - 4",null,"Nadia Higgins"]
[{"$f":"A6128","v":0},null,{"$f":"C6128","v":0},null,{"$f":"E6128","v":0},null,9781624963582,null,9781620312926,null,"Aquarium",null,null,null,"First Field Trips",null,null,null,"Jump!, Inc.",null,26.25,null,17.95,null,{"$f":"W6129+5","v":22.95},null,{"$f":"IF(AC6129=FALSE,AK6129+AL6129+AM6129,0)","v":0},null,null,null,null,null,0,0,0,0,0,0,0,0,"Spring 2016",null,2016,null,597.07299999999998,null,null,null,null,null,null,null,null,null,null,null,"Bullfrog Books",null,0.9,null,"Social Studies",null,"English",null,"Reinforced Library",null,24,null,"F",null,null,null,"K - 2",null,"Cari Meister"]
[]
[{"$f":"A6155","v":0},null,{"$f":"C6155","v":0},null,{"$f":"E6155","v":0},null,9781624963353,null,9781620312483,null,"Las formas en la escuela (Shapes at School)",null,null,null,"Cazadores de formas (Shape Hunters)",null,null,null,"Jump!, Inc.",null,26.25,null,17.95,null,{"$f":"W6157+5","v":22.95},null,0,null,null,null,null,null,0,0,0,0,0,0,0,0,"Fall 2015",null,2016,null,516.15,null,null,null,null,null,null,null,null,null,null,null,"Bullfrog Books",null,1.2,null,"Language Arts",null,"Spanish",null,"Reinforced Library",null,24,null,null,null,null,null,"PreK – 2",null,"Jenny Fretland VanVoorst"]
[{"$f":"A6161","v":0},null,{"$f":"C6161","v":0},null,{"$f":"E6161","v":0},null,9781624960529,null,9781620310342,null,"Sea Turtles",null,null,null,"Life Under the Sea",null,null,null,"Jump!, Inc.",null,26.25,null,17.95,null,22.95,null,0,null,null,null,null,null,0,0,0,0,0,0,0,0,"Fall 2012",null,2013,null,"597.92/8",null,null,null,null,null,null,null,null,null,null,null,"Bullfrog Books",null,0.9,null,"Animals & Nature",null,"English",null,"Reinforced Library",null,24,null,"E",null,"370L",null,"K - 2",null,"Cari Meister"]
[{"$f":"A6199","v":0},null,{"$f":"C6199","v":0},null,{"$f":"E6199","v":0},null,9781624962882,null,9781620312018,null,"Shapes on the Farm",null,null,null,"Shape Hunters",null,null,null,"Jump!, Inc.",null,26.25,null,17.95,null,{"$f":"W6203+5","v":22.95},null,0,null,null,null,null,null,0,0,0,0,0,0,0,0,"Fall 2015",null,2016,null,516.15,null,null,null,null,null,null,null,null,null,null,null,"Bullfrog Books",null,1,null,"Language Arts",null,"English",null,"Reinforced Library",null,24,null,"E",null,null,null,"K - 2",null,"Jenny Fretland VanVoorst"]
[null,null,null,null,null,null,null,null,null,null,"Complete Series of 5",null,null,null,"Way to Grow! Gardening",null,null,null,null,null,{"$f":"SUM(U6214:U6218)","v":131.25},null,{"$f":"SUM(W6214:W6218)","v":94.75},null,{"$f":"SUM(Y6214:Y6218)","v":119.75}]
[{"$f":"A6227","v":0},null,{"$f":"C6227","v":0},null,{"$f":"E6227","v":0},null,9781624962486,null,9781620311615,null,"Cockroaches",null,null,null,"Insect World",null,null,null,"Jump!, Inc.",null,26.25,null,17.95,null,22.95,null,0,null,null,null,null,null,0,0,0,0,0,0,0,0,"Fall 2014",null,2015,null,"595.7/28",null,null,null,null,null,null,null,null,null,null,null,"Bullfrog Books",null,0.9,null,"Animals & Nature",null,"English",null,"Reinforced Library",null,24,null,"E",null,"330L",null,"K - 2",null,"Mari Schuh"]
[null,null,null,null,null,null,null,null,null,null,"Complete Series of 7",null,null,null,"Animals on the Farm",null,null,null,null,null,{"$f":"SUM(U6254:U6260)","v":183.75},null,{"$f":"SUM(W6254:W6260)","v":125.65},null,{"$f":"SUM(Y6254:Y6260)","v":160.64999999999998}]
[null,null,null,null,null,null,null,null,null,null,"Complete Series of 6",null,null,null,"Colors in Nature",null,null,null,null,null,{"$f":"SUM(U6275:U6280)","v":157.5},null,{"$f":"SUM(W6275:W6280)","v":107.7},null,{"$f":"SUM(Y6275:Y6280)","v":137.69999999999999}]
[]
[{"$f":"A6298","v":0},null,{"$f":"C6298","v":0},null,{"$f":"E6298","v":0},null,9781645195344,null,9781645194965,null,"Amazing Animal Electricity",null,null,null,"Animal Superpowers!",null,null,null,"Kaleidoscope",null,37.950000000000003,null,19.95,null,24.95,null,0,null,null,null,null,null,0,0,0,0,0,0,0,0,"Fall 2021",null,2022,null,591.1,null,"Q",null,"Q",null,"Q",null,null,null,null,null,"Bigfoot Books",null,null,null,null,null,"English",null,"Reinforced Library",null,"32",null,"O",null,null,null,"Grades 2-5",null,"Colton Temple"]
[{"$f":"A6320","v":0},null,{"$f":"C6320","v":0},null,{"$f":"E6320","v":0},null,9781645194798,null,9781645194712,null,"Border Collies",null,null,null,"My Favorite Dog",null,null,null,"Kaleidoscope",null,37.950000000000003,null,19.95,null,24.95,null,0,null,null,null,null,null,0,0,0,0,0,0,0,0,"Fall 2021",null,2022,null,636.71,null,"Q",null,"Q",null,"Q",null,null,null,null,null,"Bigfoot Books",null,null,null,null,null,"English",null,"Reinforced Library",null,"32",null,"N",null,null,null,"Grades 2-5",null,"Renata Marie"]
[{"$f":"A6344","v":0},null,{"$f":"C6344","v":0},null,{"$f":"E6344","v":0},null,9781645195382,null,9781645195009,null,"Camels",null,null,null,"Wild About Animals",null,null,null,"Kaleidoscope",null,37.950000000000003,null,19.95,null,24.95,null,0,null,null,null,null,null,0,0,0,0,0,0,0,0,"Fall 2021",null,2022,null,591.29999999999995,null,"Q",null,"Q",null,"Q",null,null,null,null,null,"Bigfoot Books",null,null,null,null,null,"English",null,"Reinforced Library",null,"32",null,"P",null,null,null,"Grades 2-5",null,"Rhonda E. Nichols"]
[{"$f":"A6344","v":0},null,{"$f":"C6344","v":0},null,{"$f":"E6344","v":0},null,9781645191063,null,9781645190066,null,"Great White Sharks",null,null,null,"Wild About Animals",null,null,null,"Kaleidoscope",null,37.950000000000003,null,19.95,null,24.95,null,0,null,null,null,null,null,0,0,0,0,0,0,0,0,"Fall 2019",null,2020,null,null,null,null,null,null,null,null,null,null,null,null,null,"Bigfoot Books",null,3.2,null,"Animals & Nature",null,"English",null,"Reinforced Library",null,32,null,null,null,null,null,"3 - 6",null,"Martha London"]
[{"$f":"A6368","v":0},null,{"$f":"C6368","v":0},null,{"$f":"E6368","v":0},null,9781645192848,null,9781645192169,null,"Oreo",null,null,null,"Food Brands We Love",null,null,null,"Kaleidoscope",null,37.950000000000003,null,19.95,null,24.95,null,0,null,null,null,null,null,0,0,0,0,0,0,0,0,"Fall 2020",null,2021,null,338.7,null,"Q",null,null,null,null,null,null,null,null,null,"Bigfoot Books",null,3.7,null,"High Interest",null,"English",null,"Reinforced Library",null,32,null,null,null,null,null,"Grade 3",null,"Kaitlyn Duling"]
[{"$f":"A6380","v":0},null,{"$f":"C6380","v":0},null,{"$f":"E6380","v":0},null,9781645193029,null,9781645192343,null,"Story of the Los Angeles Chargers, The",null,null,null,"NFL Team Stories",null,null,null,"Kaleidoscope",null,37.950000000000003,null,19.95,null,24.95,null,0,null,null,null,null,null,0,0,0,0,0,0,0,0,"Fall 2020",null,2021,null,796.33199999999999,null,"Q",null,null,null,null,null,null,null,null,null,"Bigfoot Books",null,null,null,"Sports & Recreation",null,"English",null,"Reinforced Library",null,32,null,null,null,null,null,"Grade 3",null,"K.C. Kelley"]
[{"$f":"A6414","v":0},null,{"$f":"C6414","v":0},null,{"$f":"E6414","v":0},null,9781645192725,null,9781645192046,null,"Surviving at Sea",null,null,null,"Survival Stories",null,null,null,"Kaleidoscope",null,37.950000000000003,null,19.95,null,24.95,null,0,null,null,null,null,null,0,0,0,0,0,0,0,0,"Fall 2020",null,2021,null,613.6,null,"Q",null,null,null,null,null,null,null,null,null,"Bigfoot Books",null,null,null,"High Interest",null,"English",null,"Reinforced Library",null,32,null,null,null,null,null,"Grade 3",null,"Jennifer Mason"]
[{"$f":"A6424","v":0},null,{"$f":"C6424","v":0},null,{"$f":"E6424","v":0},null,9781645193241,null,9781645192565,null,"Disgusting Bugs",null,null,null,"That’s Disgusting!",null,null,null,"Kaleidoscope",null,37.950000000000003,null,19.95,null,24.95,null,0,null,null,null,null,null,0,0,0,0,0,0,0,0,"Fall 2020",null,2021,null,595.70000000000005,null,"Q",null,null,null,null,null,null,null,null,null,"Bigfoot Books",null,null,null,"High Interest",null,"English",null,"Reinforced Library",null,32,null,null,null,null,null,"Grade 3",null,"Joanne Mattern"]
[{"$f":"A6434","v":0},null,{"$f":"C6434","v":0},null,{"$f":"E6434","v":0},null,9781645193326,null,9781645192640,null,"Lamborghini Aventador",null,null,null,"Ultimate Supercars",null,null,null,"Kaleidoscope",null,37.950000000000003,null,19.95,null,24.95,null,0,null,null,null,null,null,0,0,0,0,0,0,0,0,"Fall 2020",null,2021,null,629.22799999999995,null,"Q",null,null,null,null,null,null,null,null,null,"Bigfoot Books",null,3.4,null,"Science & Technology",null,"English",null,"Reinforced Library",null,32,null,null,null,null,null,"Grade 3",null,"Craig Ellenport"]
[{"$f":"A6464","v":0},null,{"$f":"C6464","v":0},null,{"$f":"E6464","v":0},null,9781645191971,null,9781645190936,null,"KTM Dirt Bikes",null,null,null,"Dirt Bike Crazy",null,null,null,"Kaleidoscope",null,37.950000000000003,null,19.95,null,24.95,null,0,null,null,null,null,null,0,0,0,0,0,0,0,0,"Fall 2019",null,2020,null,null,null,null,null,null,null,null,null,null,null,null,null,"Bigfoot Books",null,null,null,"Science & Technology",null,"English",null,"Reinforced Library",null,32,null,null,null,null,null,"3 - 6",null,"R. L. Van"]
[]
[{"$f":"A6494","v":0},null,{"$f":"C6494","v":0},null,{"$f":"E6494","v":0},null,9781645191186,null,9781645190189,null,"Nintendo",null,null,null,"Our Favorite Brands",null,null,null,"Kaleidoscope",null,37.950000000000003,null,19.95,null,24.95,null,0,null,null,null,null,null,0,0,0,0,0,0,0,0,"Fall 2019",null,2020,null,null,null,null,null,null,null,null,null,null,null,null,null,"Bigfoot Books",null,3.4,null,"High Interest",null,"English",null,"Reinforced Library",null,32,null,null,null,null,null,"3 - 6",null,"Martha London"]
[{"$f":"A6508","v":0},null,{"$f":"C6508","v":0},null,{"$f":"E6508","v":0},null,9781645191476,null,9781645190462,null,"Russell Westbrook",null,null,null,"Sports Superstars",null,null,null,"Kaleidoscope",null,37.950000000000003,null,19.95,null,24.95,null,0,null,null,null,null,null,0,0,0,0,0,0,0,0,"Fall 2019",null,2020,null,null,null,null,null,null,null,null,null,null,null,null,null,"All-Star Sports",null,3.5,null,"Sports & Recreation",null,"English",null,"Reinforced Library",null,32,null,null,null,null,null,"3 - 6",null,"Kevin Frederickson"]
[{"$f":"A6542","v":0},null,{"$f":"C6542","v":0},null,{"$f":"E6542","v":0},null,9781645191865,null,9781645190851,null,"AJ Styles",null,null,null,"Wrestling Superstars",null,null,null,"Kaleidoscope",null,37.950000000000003,null,19.95,null,{"$f":"W6543+5","v":24.95},null,{"$f":"IF(AC6543=FALSE,AK6543+AL6543+AM6543,0)","v":0},null,null,null,null,null,0,0,0,0,0,0,0,0,"Fall 2019",null,2020,null,null,null,null,null,null,null,null,null,null,null,null,null,"Bigfoot Books",null,null,null,"Sports & Recreation",null,"English",null,"Reinforced Library",null,32,null,null,null,null,null,"3 - 6",null,"J. R. Kinley"]
[{"$f":"A6559","v":0},null,{"$f":"C6559","v":0},null,{"$f":"E6559","v":0},null,9781678201333,null,9781678201326,null,"Volunteering in Health Care",null,null,null,"Get Involved",null,null,null,"Reference Point Press",null,43.29,null,31.95,null,{"$f":"W6564+5","v":36.950000000000003},null,0,null,null,null,null,null,0,0,0,0,0,0,0,0,"Fall 2021",null,2022,null,null,null,null,null,null,null,null,null,null,null,"28",null,"BrightPoint Press",null,null,null,null,null,"English",null,"Reinforced Library",null,80,null,null,null,"415-800",null,"6-12",null,"Walt K. Moon"]
[{"$f":"A6566","v":0},null,{"$f":"C6566","v":0},null,{"$f":"E6566","v":0},null,9781678201050,null,9781678201043,null,"Spanish Flu Pandemic of 1918, The",null,null,null,"Historic Pandemics and Plagues",null,null,null,"Reference Point Press",null,43.29,null,31.95,null,{"$f":"W6571+5","v":36.950000000000003},null,0,null,null,null,null,null,0,0,0,0,0,0,0,0,"Fall 2021",null,2022,null,"614.5/1809041",null,null,null,null,null,null,null,null,null,"56",null,"ReferencePoint Press",null,null,null,null,null,"English",null,"Reinforced Library",null,64,null,null,null,"1000-1400",null,"6-12",null,"John Allen"]
[{"$f":"A6587","v":0},null,{"$f":"C6587","v":0},null,{"$f":"E6587","v":0},null,9781678202033,null,9781678202026,null,"Legitimate News Sources",null,null,null,"Media Literacy ",null,null,null,"Reference Point Press",null,43.29,null,31.95,null,{"$f":"W6592+5","v":36.950000000000003},null,0,null,null,null,null,null,0,0,0,0,0,0,0,0,"Fall 2021",null,2022,null,null,null,null,null,null,null,null,null,null,null,"32",null,"BrightPoint Press",null,null,null,null,null,"English",null,"Reinforced Library",null,80,null,null,null,"415-800",null,"6-12",null,"A.W. Buckey"]
[{"$f":"A6613","v":0},null,{"$f":"C6613","v":0},null,{"$f":"E6613","v":0},null,9781682827369,null,9781682827352,null,"Citizen Science: How Anyone Can Contribute to Scientific Discovery",null,null,null,"Single Titles",null,null,null,"Reference Point Press",null,43.29,null,31.95,null,36.950000000000003,null,0,null,null,null,null,null,0,0,0,0,0,0,0,0,"Fall 2019",null,2020,null,null,null,null,null,null,null,null,null,null,null,"65",null,"Reference Point Press",null,null,null,"Social Studies",null,"English",null,"Reinforced Library",null,80,null,null,null,"1000-1400",null,"6 - 12",null,"Kathryn Hulick"]
[{"$f":"A6613","v":0},null,{"$f":"C6613","v":0},null,{"$f":"E6613","v":0},null,9781678200817,null,9781678200800,null,"Extreme Weather and Climate Change: What’s the Connection?",null,null,null,"Single Titles",null,null,null,"Reference Point Press",null,43.29,null,31.95,null,36.950000000000003,null,0,null,null,null,null,null,0,0,0,0,0,0,0,0,"Fall 2021",null,2022,null,"363.34/92",null,null,null,null,null,null,null,null,null,"66",null,"ReferencePoint Press",null,null,null,null,null,"English",null,"Reinforced Library",null,64,null,null,null,"1000-1400",null,"6-12",null,"Stuart A. Kallen"]
[{"$f":"A6613","v":0},null,{"$f":"C6613","v":0},null,{"$f":"E6613","v":0},null,9781682823002,null,9781682822999,null,"Opioid Epidemic, The",null,null,null,"Single Titles",null,null,null,"Reference Point Press",null,43.29,null,31.95,null,36.950000000000003,null,0,null,null,null,null,null,0,0,0,0,0,0,0,0,"Fall 2017",null,2018,null,"362.29/3",null,null,null,null,null,null,null,null,null,"49",null,"Reference Point Press",null,null,null,"Social Studies",null,"English",null,"Reinforced Library",null,80,null,null,null,null,null,"6 - 12",null,"Hal Marcovitz"]
[null,null,null,null,null,null,null,null,null,null,"Complete Series of 5",null,null,null,"Teen Activism Library",null,null,null,null,null,{"$f":"SUM(U6668:U6672)","v":216.45},null,{"$f":"SUM(W6668:W6672)","v":159.75},null,{"$f":"SUM(Y6668:Y6672)","v":184.75}]
[{"$f":"A6687","v":0},null,{"$f":"C6687","v":0},null,{"$f":"E6687","v":0},null,9781678200497,null,9781678200480,null,"Building a Budget and Savings Plan",null,null,null,"Money and Finance Guide",null,null,null,"Reference Point Press",null,43.29,null,31.95,null,{"$f":"W6688+5","v":36.950000000000003},null,{"$f":"IF(AC6688=FALSE,AK6688+AL6688+AM6688,0)","v":0},null,null,null,null,null,0,0,0,0,0,0,0,0,"Spring 2021",null,2021,null,332.024,null,null,null,null,null,null,null,null,null,"18",null,"Reference Point Press",null,null,null,"Financial Literacy",null,"English",null,"Reinforced Library",null,80,null,null,null,"1000-1400",null,"6-12",null,"Terri Dougherty  "]
[{"$f":"A6708","v":0},null,{"$f":"C6708","v":0},null,{"$f":"E6708","v":0},null,9781678200336,null,9781678200329,null,"COVID-19 and the Challenges of the New Normal",null,null,null,"Understanding the COVID-19 Pandemic ",null,null,null,"Reference Point Press",null,43.29,null,31.95,null,{"$f":"W6709+5","v":36.950000000000003},null,{"$f":"IF(AC6709=FALSE,AK6709+AL6709+AM6709,0)","v":0},null,null,null,null,null,0,0,0,0,0,0,0,0,"Spring 2021",null,2021,null,"362.1962/414",null,null,null,null,null,null,null,null,null,"37",null,"Reference Point Press",null,null,null,"Current Issues",null,"English",null,"Reinforced Library",null,64,null,null,null,"1000-1400",null,"6-12",null,"Marcia S. Gresko"]
[{"$f":"A6715","v":0},null,{"$f":"C6715","v":0},null,{"$f":"E6715","v":0},null,9781682828922,null,9781682828915,null,"Black in America",null,null,null,"Bias in America",null,null,null,"Reference Point Press",null,43.29,null,31.95,null,{"$f":"W6716+5","v":36.950000000000003},null,{"$f":"IF(AC6716=FALSE,AK6716+AL6716+AM6716,0)","v":0},null,null,null,null,null,0,0,0,0,0,0,0,0,"Fall 2020",null,2020,null,null,null,null,null,null,null,null,null,null,null,"40",null,"Reference Point Press",null,null,null,"Social Studies",null,"English",null,"Reinforced Library",null,80,null,null,null,"1000-1400",null,"6 - 12",null,"Hal Marcovitz"]
[{"$f":"A6736","v":0},null,{"$f":"C6736","v":0},null,{"$f":"E6736","v":0},null,9781682828601,null,9781682828595,null,"What Is the Impact of Climate Change?",null,null,null,"Environmental Impact",null,null,null,"Reference Point Press",null,43.29,null,31.95,null,{"$f":"W6737+5","v":36.950000000000003},null,{"$f":"IF(AC6737=FALSE,AK6737+AL6737+AM6737,0)","v":0},null,null,null,null,null,0,0,0,0,0,0,0,0,"Fall 2020",null,2020,null,"363.738/74",null,null,null,null,null,null,null,null,null,"66",null,"Reference Point Press",null,null,null,"Social Studies",null,"English",null,"Reinforced Library",null,80,null,null,null,"1000-1400",null,"6 - 12",null,"Craig E. Blohm"]
[{"$f":"A6758","v":0},null,{"$f":"C6758","v":0},null,{"$f":"E6758","v":0},null,9781682829202,null,9781682829196,null,"Violence Against the LGBTQ Community",null,null,null,"LGBTQ Issues ",null,null,null,"Reference Point Press",null,43.29,null,31.95,null,{"$f":"W6762+5","v":36.950000000000003},null,0,null,null,null,null,null,0,0,0,0,0,0,0,0,"Fall 2020",null,2020,null,null,null,null,null,null,null,null,null,null,null,"40",null,"Reference Point Press",null,null,null,"Social Studies",null,"English",null,"Reinforced Library",null,80,null,null,null,"1000-1400",null,"6 - 12",null,"Hal Marcovitz"]
[]
[{"$f":"A6785","v":0},null,{"$f":"C6785","v":0},null,{"$f":"E6785","v":0},null,9781678200114,null,9781678200107,null,"Become a Graphic Designer",null,null,null,"Skilled and Vocational Trades",null,null,null,"Reference Point Press",null,43.29,null,31.95,null,{"$f":"W6787+5","v":36.950000000000003},null,0,null,null,null,null,null,0,0,0,0,0,0,0,0,"Fall 2020",null,2020,null,null,null,null,null,null,null,null,null,null,null,"15",null,"BrightPoint Press",null,null,null,"Careers",null,"English",null,"Reinforced Library",null,80,null,null,null,"415-760",null,"6 - 12",null,"Tammy Gagne"]
[]
[]
[{"$f":"A6849","v":0},null,{"$f":"C6849","v":0},null,{"$f":"E6849","v":0},null,9781682827826,null,9781682827819,null,"Nicki Minaj",null,null,null,"Giants of Rap and Hip-Hop",null,null,null,"Reference Point Press",null,43.29,null,31.95,null,36.950000000000003,null,0,null,null,null,null,null,0,0,0,0,0,0,0,0,"Spring 2020",null,2020,null,782.42164909200005,null,null,null,null,null,null,null,null,null,"11",null,"Reference Point Press",null,null,null,"Biography",null,"English",null,"Reinforced Library",null,64,null,"6-12",null,"1000-1400",null,"6 - 12",null,"Stuart A. Kallen"]
[{"$f":"A6857","v":0},null,{"$f":"C6857","v":0},null,{"$f":"E6857","v":0},null,9781682827703,null,9781682827697,null,"Dreamers and DACA, The",null,null,null,"Immigration Issues ",null,null,null,"Reference Point Press",null,43.29,null,31.95,null,{"$f":"W6861+5","v":36.950000000000003},null,0,null,null,null,null,null,0,0,0,0,0,0,0,0,"Spring 2020",null,2020,null," 362.7086/9120973",null,null,null,null,null,null,null,null,null,"41",null,"Reference Point Press",null,null,null,"Social Studies",null,"English",null,"Reinforced Library",null,80,null,"6-12",null,"1000-1400",null,"6 - 12",null,"Barbara Sheen"]
[{"$f":"A6878","v":0},null,{"$f":"C6878","v":0},null,{"$f":"E6878","v":0},null,9781682825846,null,9781682825839,null,"Art of Graffiti, The",null,null,null,"Art Scene",null,null,null,"Reference Point Press",null,43.29,null,31.95,null,36.950000000000003,null,0,null,null,null,null,null,0,0,0,0,0,0,0,0,"Fall 2019",null,2020,null," 751.7/3",null,null,null,null,null,null,null,null,null,"9",null,"Reference Point Press",null,null,null,"Arts, Crafts, & Activities",null,"English",null,"Reinforced Library",null,80,null,null,null,"1000-1400",null,"6 - 12",null,"Hal Marcovitz"]
[{"$f":"A6894","v":0},null,{"$f":"C6894","v":0},null,{"$f":"E6894","v":0},null,9781682827307,null,9781682827291,null,"Work in the Military",null,null,null,"Career Finder",null,null,null,"Reference Point Press",null,43.29,null,31.95,null,{"$f":"W6897+5","v":36.950000000000003},null,0,null,null,null,null,null,0,0,0,0,0,0,0,0,"Fall 2019",null,2020,null,null,null,null,null,null,null,null,null,null,null,"22",null,"Reference Point Press",null,null,null,"Careers",null,"English",null,"Reinforced Library",null,80,null,null,null,null,null,"6 - 12"]
[{"$f":"A6928","v":0},null,{"$f":"C6928","v":0},null,{"$f":"E6928","v":0},null,9781682826669,null,9781682826652,null,"Cell Phone Addiction",null,null,null,"Emerging Issues in Public Health",null,null,null,"Reference Point Press",null,43.29,null,31.95,null,{"$f":"W6929+5","v":36.950000000000003},null,{"$f":"IF(AC6929=FALSE,AK6929+AL6929+AM6929,0)","v":0},null,null,null,null,null,0,0,0,0,0,0,0,0,"Fall 2019",null,2020,null,"616.85/84",null,null,null,null,null,null,null,null,null,"51",null,"Reference Point Press",null,null,null,"Health",null,"English",null,"Reinforced Library",null,80,null,null,null,"1000-1400",null,"6 - 12",null,"Bradley Steffens"]
[{"$f":"A6928","v":0},null,{"$f":"C6928","v":0},null,{"$f":"E6928","v":0},null,9781682826720,null,9781682826713,null,"Lead Contamination",null,null,null,"Emerging Issues in Public Health",null,null,null,"Reference Point Press",null,43.29,null,31.95,null,{"$f":"W6932+5","v":36.950000000000003},null,0,null,null,null,null,null,0,0,0,0,0,0,0,0,"Fall 2019",null,2020,null,"615.9/25688",null,null,null,null,null,null,null,null,null,"51",null,"Reference Point Press",null,null,null,"Health",null,"English",null,"Reinforced Library",null,80,null,null,null,"1000-1400",null,"6 - 12",null,"Peggy J. Parks"]
[{"$f":"A6955","v":0},null,{"$f":"C6955","v":0},null,{"$f":"E6955","v":0},null,9781682826881,null,9781682826874,null,"Online Shaming and Bullying",null,null,null,"Intolerance and Violence in Society",null,null,null,"Reference Point Press",null,43.29,null,31.95,null,{"$f":"W6957+5","v":36.950000000000003},null,0,null,null,null,null,null,0,0,0,0,0,0,0,0,"Fall 2019",null,2020,null,null,null,null,null,null,null,null,null,null,null,"39",null,"Reference Point Press",null,null,null,"Social Studies",null,"English",null,"Reinforced Library",null,80,null,null,null,"1000-1400",null,"6 - 12",null,"Tammy Gagne"]
[{"$f":"A6976","v":0},null,{"$f":"C6976","v":0},null,{"$f":"E6976","v":0},null,9781682827468,null,9781682827451,null,"Living a Healthy Lifestyle",null,null,null,"Teen Life Skills",null,null,null,"Reference Point Press",null,43.29,null,31.95,null,{"$f":"W6978+5","v":36.950000000000003},null,0,null,null,null,null,null,0,0,0,0,0,0,0,0,"Fall 2019",null,2020,null,null,null,null,null,null,null,null,null,null,null,"17",null,"Reference Point Press",null,null,null,"Social Studies",null,"English",null,"Reinforced Library",null,64,null,null,null,"1000-1400",null,"6 - 12",null,"Toney Allman"]
[{"$f":"A6983","v":0},null,{"$f":"C6983","v":0},null,{"$f":"E6983","v":0},null,9781682826508,null,9781682826492,null,"Science and Technology of Basketball, The",null,null,null,"The Science and Technology of Sports",null,null,null,"Reference Point Press",null,43.29,null,31.95,null,36.950000000000003,null,0,null,null,null,null,null,0,0,0,0,0,0,0,0,"Fall 2019",null,2020,null,null,null,null,null,null,null,null,null,null,null,"69",null,"Reference Point Press",null,null,null,"Science & Technology",null,"English",null,"Reinforced Library",null,80,null,null,null,"1000-1400",null,"6 - 12",null,"Bradley Steffens"]
[{"$f":"A6991","v":0},null,{"$f":"C6991","v":0},null,{"$f":"E6991","v":0},null,9781682823385,null,9781682823378,null,"Gun Control",null,null,null,"Thinking Critically",null,null,null,"Reference Point Press",null,43.29,null,31.95,null,36.950000000000003,null,0,null,null,null,null,null,0,0,0,0,0,0,0,0,"Spring 2018",null,2018,null,363.33097299999997,null,null,null,null,null,null,null,null,null,"44",null,"Reference Point Press",null,null,null,"Social Studies",null,"English",null,"Reinforced Library",null,80,null,null,null,null,null,"5 - 12",null,"John Allen"]
[null,null,null,null,null,null,null,null,null,null,"Complete Series of 7",null,null,null,"Great Jobs",null,null,null,null,null,{"$f":"SUM(U7028:U7034)","v":303.03000000000003},null,{"$f":"SUM(W7028:W7034)","v":223.64999999999998},null,{"$f":"SUM(Y7028:Y7034)","v":258.64999999999998}]
[{"$f":"A7036","v":0},null,{"$f":"C7036","v":0},null,{"$f":"E7036","v":0},null,9781682825648,null,9781682825631,null,"Violence and Video Games",null,null,null,"The World of Video Games",null,null,null,"Reference Point Press",null,43.29,null,31.95,null,36.950000000000003,null,0,null,null,null,null,null,0,0,0,0,0,0,0,0,"Spring 2019",null,2019,null,null,null,null,null,null,null,null,null,null,null,"9",null,"Reference Point Press",null,null,null,"Science & Technology",null,"English",null,"Reinforced Library",null,80,null,null,null,null,null,"6 - 12",null,"John L. Hakala"]
[{"$f":"A7067","v":0},null,{"$f":"C7067","v":0},null,{"$f":"E7067","v":0},null,9781682823767,null,9781682823750,null,"Debates on the Soviet Union's Collapse",null,null,null,"Debating History ",null,null,null,"Reference Point Press",null,43.29,null,31.95,null,36.950000000000003,null,0,null,null,null,null,null,0,0,0,0,0,0,0,0,"Fall 2018",null,2019,null,"947.085/4",null,null,null,null,null,null,null,null,null,"59",null,"Reference Point Press",null,null,null,"History",null,"English",null,"Reinforced Library",null,80,null,null,null,null,null,"5 - 12",null,"John Allen"]
[{"$f":"A7076","v":0},null,{"$f":"C7076","v":0},null,{"$f":"E7076","v":0},null,9781682823804,null,9781682823798,null,"Age Discrimination ",null,null,null,"Discrimination in Society ",null,null,null,"Reference Point Press",null,43.29,null,31.95,null,{"$f":"W7077+5","v":36.950000000000003},null,{"$f":"IF(AC7077=FALSE,AK7077+AL7077+AM7077,0)","v":0},null,null,null,null,null,0,0,0,0,0,0,0,0,"Fall 2018",null,2019,null,"331.3/981330973",null,null,null,null,null,null,null,null,null,"39",null,"Reference Point Press",null,null,null,"Current Issues",null,"English",null,"Reinforced Library",null,80,null,null,null,null,null,"5 - 12",null,"Carla Mooney"]
[null,null,null,null,null,null,null,null,null,null,"Complete Series of 6",null,null,null,"Living with Disorders and Disabilities ",null,null,null,null,null,{"$f":"SUM(U7103:U7108)","v":259.74},null,{"$f":"SUM(W7103:W7108)","v":191.7},null,{"$f":"SUM(Y7103:Y7108)","v":221.7}]
[{"$f":"A7117","v":0},null,{"$f":"C7117","v":0},null,{"$f":"E7117","v":0},null,9781682825020,null,9781682825013,null,"How Virtual Reality Will Impact Society",null,null,null,"Technology's Impact",null,null,null,"Reference Point Press",null,43.29,null,31.95,null,36.950000000000003,null,0,null,null,null,null,null,0,0,0,0,0,0,0,0,"Fall 2018",null,2019,null,6.8,null,null,null,null,null,null,null,null,null,"69",null,"Reference Point Press",null,null,null,"Science & Technology",null,"English",null,"Reinforced Library",null,80,null,null,null,null,null,"5 - 12",null,"Cecilia Pinto McCarthy"]
[{"$f":"A7125","v":0},null,{"$f":"C7125","v":0},null,{"$f":"E7125","v":0},null,9781682825129,null,9781682825112,null,"Teens and Social Media",null,null,null,"Teen Health and Safety",null,null,null,"Reference Point Press",null,43.29,null,31.95,null,36.950000000000003,null,0,null,null,null,null,null,0,0,0,0,0,0,0,0,"Fall 2018",null,2019,null,"004.67/80835",null,null,null,null,null,null,null,null,null,"53",null,"Reference Point Press",null,null,null,"Health",null,"English",null,"Reinforced Library",null,80,null,null,null,null,null,"5 - 12",null,"Bonnie Hinman"]
[{"$f":"A7146","v":0},null,{"$f":"C7146","v":0},null,{"$f":"E7146","v":0},null,9781682824689,null,9781682824672,null,"Understanding Judaism",null,null,null,"Understanding World Religions",null,null,null,"Reference Point Press",null,43.29,null,31.95,null,{"$f":"W7151+5","v":36.950000000000003},null,0,null,null,null,null,null,0,0,0,0,0,0,0,0,"Fall 2018",null,2019,null,296,null,null,null,null,null,null,null,null,null,"57",null,"Reference Point Press",null,null,null,"Culture & Religion",null,"English",null,"Reinforced Library",null,80,null,null,null,null,null,"5 - 12",null,"Craig E. Blohm"]
[{"$f":"A7174","v":0},null,{"$f":"C7174","v":0},null,{"$f":"E7174","v":0},null,9781682822128,null,9781682822111,null,"Growing Up in Germany",null,null,null,"Growing Up Around the World",null,null,null,"Reference Point Press",null,43.29,null,31.95,null,36.950000000000003,null,0,null,null,null,null,null,0,0,0,0,0,0,0,0,"Fall 2017",null,2018,null,306.85094299999997,null,null,null,null,null,null,null,null,null,"62",null,"Reference Point Press",null,null,null,"Social Studies",null,"English",null,"Reinforced Library",null,80,null,null,null,null,null,"5 - 12",null,"Barbara Sheen"]
[{"$f":"A7196","v":0},null,{"$f":"C7196","v":0},null,{"$f":"E7196","v":0},null,9781682823040,null,9781682823033,null,"Science of Hydro and Wave Energy, The",null,null,null,"The Science of Renewable Energy ",null,null,null,"Reference Point Press",null,43.29,null,31.95,null,{"$f":"W7198+5","v":36.950000000000003},null,0,null,null,null,null,null,0,0,0,0,0,0,0,0,"Spring 2018",null,2018,null,"621.3/2134",null,null,null,null,null,null,null,null,null,"67",null,"Reference Point Press",null,null,null,"Science & Technology",null,"English",null,"Reinforced Library",null,80,null,null,null,null,null,"5 - 12",null,"James Bow"]
[]
[{"$f":"A7220","v":0},null,{"$f":"C7220","v":0},null,{"$f":"E7220","v":0},null,9781682821732,null,9781682821725,null,"Cause & Effect: World War I",null,null,null,"Cause & Effect: Modern Wars ",null,null,null,"Reference Point Press",null,43.29,null,31.95,null,36.950000000000003,null,0,null,null,null,null,null,0,0,0,0,0,0,0,0,"Fall 2017",null,2018,null,940.3,null,null,null,null,null,null,null,null,null,"61",null,"Reference Point Press",null,null,null,"History",null,"English",null,"Reinforced Library",null,80,null,null,null,null,null,"5 - 12",null,"Don Nardo"]
[{"$f":"A7245","v":0},null,{"$f":"C7245","v":0},null,{"$f":"E7245","v":0},null,9781682822463,null,9781682822456,null,"Develop Fusion Energy",null,null,null,"Real-World STEM",null,null,null,"Reference Point Press",null,43.29,null,31.95,null,36.950000000000003,null,0,null,null,null,null,null,0,0,0,0,0,0,0,0,"Fall 2017",null,2018,null,"621.48/4",null,null,null,null,null,null,null,null,null,"67",null,"Reference Point Press",null,null,null,"Science & Technology",null,"English",null,"Reinforced Library",null,80,null,null,null,null,null,"5 - 12",null,"Kathryn Hulick "]
[{"$f":"A7261","v":0},null,{"$f":"C7261","v":0},null,{"$f":"E7261","v":0},null,9781682822845,null,9781682822838,null,"Understanding Violent Behavior",null,null,null,"Understanding Psychology ",null,null,null,"Reference Point Press",null,43.29,null,31.95,null,36.950000000000003,null,0,null,null,null,null,null,0,0,0,0,0,0,0,0,"Fall 2017",null,2018,null,"155.2/32",null,null,null,null,null,null,null,null,null,"54",null,"Reference Point Press",null,null,null,"Social Studies",null,"English",null,"Reinforced Library",null,80,null,null,null,null,null,"5 - 12",null,"Christine Wilcox"]
[{"$f":"A7270","v":0},null,{"$f":"C7270","v":0},null,{"$f":"E7270","v":0},null,9781682821190,null,9781682821183,null,"Careers in Robotics",null,null,null,"High-Tech Careers ",null,null,null,"Reference Point Press",null,43.29,null,31.95,null,{"$f":"W7275+5","v":36.950000000000003},null,0,null,null,null,null,null,0,0,0,0,0,0,0,0,"Spring 2017",null,2017,null,"629.8/92023",null,null,null,null,null,null,null,null,null,"19",null,"Reference Point Press",null,null,null,"Careers",null,"English",null,"Reinforced Library",null,80,null,null,null,null,null,"5 - 12",null,"Kathryn Hulick  "]
[]
[{"$f":"A7321","v":0},null,{"$f":"C7321","v":0},null,{"$f":"E7321","v":0},null,9781682820193,null,9781682820186,null,"Dangers of Heroin, The",null,null,null,"Drug Dangers",null,null,null,"Reference Point Press",null,43.29,null,31.95,null,36.950000000000003,null,0,null,null,null,null,null,0,0,0,0,0,0,0,0,"Fall 2016",null,2017,null,"362.29/3",null,null,null,null,null,null,null,null,null,"54",null,"Reference Point Press",null,null,null,"Health",null,"English",null,"Reinforced Library",null,80,null,null,null,null,null,"5 - 12",null,"John Allen"]
[{"$f":"A7338","v":0},null,{"$f":"C7338","v":0},null,{"$f":"E7338","v":0},null,9781601529817,null,9781601529800,null,"Undocumented Immigrant Youth",null,null,null,"Forgotten Youth",null,null,null,"Reference Point Press",null,43.29,null,31.95,null,{"$f":"W7343+5","v":36.950000000000003},null,0,null,null,null,null,null,0,0,0,0,0,0,0,0,"Fall 2016",null,2017,null,"305.235086/9120973",null,null,null,null,null,null,null,null,null,"41",null,"Reference Point Press",null,null,null,"Social Studies",null,"English",null,"Reinforced Library",null,80,null,null,null,null,null,"5 - 12",null,"Stephen Currie"]
[{"$f":"A7362","v":0},null,{"$f":"C7362","v":0},null,{"$f":"E7362","v":0},null,9781682820834,null,9781682820827,null,"Teen Guide to Jobs and Taxes",null,null,null,"Teen Guide to Finances",null,null,null,"Reference Point Press",null,43.29,null,31.95,null,{"$f":"W7364+5","v":36.950000000000003},null,0,null,null,null,null,null,0,0,0,0,0,0,0,0,"Fall 2016",null,2017,null,650.14083500000004,null,null,null,null,null,null,null,null,null,"17",null,"Reference Point Press",null,null,null,"High Interest",null,"English",null,"Reinforced Library",null,64,null,null,null,null,null,"5 - 12",null,"Stephen Currie"]
[{"$f":"A7369","v":0},null,{"$f":"C7369","v":0},null,{"$f":"E7369","v":0},null,9781682820636,null,9781682820629,null,"What Is the Future of Drones?",null,null,null,"The Future of Technology",null,null,null,"Reference Point Press",null,43.29,null,31.95,null,{"$f":"W7371+5","v":36.950000000000003},null,0,null,null,null,null,null,0,0,0,0,0,0,0,0,"Fall 2016",null,2017,null,629.13300000000004,null,null,null,null,null,null,null,null,null,"71",null,"Reference Point Press",null,null,null,"Science & Technology",null,"English",null,"Reinforced Library",null,80,null,null,null,null,null,"5 - 12",null,"Stuart A. Kallen"]
[{"$f":"A7388","v":0},null,{"$f":"C7388","v":0},null,{"$f":"E7388","v":0},null,9781601529398,null,9781601529381,null,"Careers in the US Marine Corps",null,null,null,"Military Careers",null,null,null,"Reference Point Press",null,43.29,null,31.95,null,36.950000000000003,null,0,null,null,null,null,null,0,0,0,0,0,0,0,0,"Spring 2016",null,2016,null,"359.9/602473",null,null,null,null,null,null,null,null,null,"22",null,"Reference Point Press",null,null,null,"Careers",null,"English",null,"Reinforced Library",null,80,null,null,null,null,null,"5 - 12",null,"Joanne Mattern"]
[{"$f":"A7410","v":0},null,{"$f":"C7410","v":0},null,{"$f":"E7410","v":0},null,9781601528674,null,9781601528667,null,"Stephen Hillenburg and SpongeBob SquarePants",null,null,null,"Contemporary Cartoon Creators",null,null,null,"Reference Point Press",null,43.29,null,31.95,null,{"$f":"W7413+5","v":36.950000000000003},null,0,null,null,null,null,null,0,0,0,0,0,0,0,0,"Fall 2015",null,2016,null,"741.58092 B",null,null,null,null,null,null,null,null,null,"13",null,"Reference Point Press",null,null,null,"Arts, Crafts, & Activities",null,"English",null,"Reinforced Library",null,80,null,null,null,null,null,"5 - 12",null,"Carla Mooney"]
[{"$f":"A7416","v":0},null,{"$f":"C7416","v":0},null,{"$f":"E7416","v":0},null,9781601528599,null,9781601528582,null,"Do Haunted Houses Exist?",null,null,null,"Do They Exist?",null,null,null,"Reference Point Press",null,43.29,null,31.95,null,36.950000000000003,null,0,null,null,null,null,null,0,0,0,0,0,0,0,0,"Fall 2015",null,2016,null,"133.1/22",null,null,null,null,null,null,null,null,null,null,null,"Reference Point Press",null,null,null,"Legends, Myths, & Paranormal",null,"English",null,"Reinforced Library",null,80,null,null,null,null,null,"5 - 12",null,"Jenny MacKay"]
[{"$f":"A7424","v":0},null,{"$f":"C7424","v":0},null,{"$f":"E7424","v":0},null,9781601524492,null,9781601524485,null,"How Serious a Problem Is Drug Use in Sports?",null,null,null,"In Controversy",null,null,null,"Reference Point Press",null,43.29,null,31.95,null,36.950000000000003,null,0,null,null,null,null,null,0,0,0,0,0,0,0,0,"Spring 2013",null,2013,null,362.29,null,null,null,null,null,null,null,null,null,null,null,"Reference Point Press",null,null,null,"Social Studies",null,"English",null,"Reinforced Library",null,96,null,null,null,null,null,"5 - 12",null,"Hal Marcovitz"]
[{"$f":"A7424","v":0},null,{"$f":"C7424","v":0},null,{"$f":"E7424","v":0},null,9781601525017,null,9781601525000,null,"Should Vaccinations for Youth Be Mandatory?",null,null,null,"In Controversy",null,null,null,"Reference Point Press",null,43.29,null,31.95,null,36.950000000000003,null,0,null,null,null,null,null,0,0,0,0,0,0,0,0,"Spring 2013",null,2013,null,"614.4/7083",null,null,null,null,null,null,null,null,null,null,null,"Reference Point Press",null,null,null,"Social Studies",null,"English",null,"Reinforced Library",null,96,null,null,null,null,null,"5 - 12",null,"Patricia D. Netzley"]
[{"$f":"A7486","v":0},null,{"$f":"C7486","v":0},null,{"$f":"E7486","v":0},null,9781601529114,null,9781601529107,null,"Teens and Drinking",null,null,null,"Teen Choices",null,null,null,"Reference Point Press",null,43.29,null,31.95,null,36.950000000000003,null,0,null,null,null,null,null,0,0,0,0,0,0,0,0,"Fall 2015",null,2016,null,"362.2920835/0973",null,null,null,null,null,null,null,null,null,null,null,"Reference Point Press",null,null,null,"Social Studies",null,"English",null,"Reinforced Library",null,80,null,null,null,null,null,"5 - 12",null,"Gail Stewart"]
[]
[]
[{"$f":"A7530","v":0},null,{"$f":"C7530","v":0},null,{"$f":"E7530","v":0},null,9781601523389,null,9781601520586,null,"Autism",null,null,null,"Compact Research: Diseases and Disorders",null,null,null,"Reference Point Press",null,43.29,null,31.95,null,36.950000000000003,null,0,null,null,null,null,null,0,0,0,0,0,0,0,0,"Spring 2009",null,2009,null,"616.85/882",null,null,null,null,null,null,null,null,null,null,null,"Reference Point Press",null,null,null,"Health",null,"English",null,"Reinforced Library",null,104,null,null,null,null,null,"5 - 12",null,"Peggy J. Parks"]
[{"$f":"A7530","v":0},null,{"$f":"C7530","v":0},null,{"$f":"E7530","v":0},null,9781601524218,null,9781601520999,null,"Leukemia",null,null,null,"Compact Research: Diseases and Disorders",null,null,null,"Reference Point Press",null,43.29,null,31.95,null,36.950000000000003,null,0,null,null,null,null,null,0,0,0,0,0,0,0,0,"Fall 2009",null,2010,null,"616.99/419",null,null,null,null,null,null,null,null,null,null,null,"Reference Point Press",null,null,null,"Health",null,"English",null,"Reinforced Library",null,96,null,null,null,null,null,"5 - 12",null,"Peggy J. Parks"]
[{"$f":"A7530","v":0},null,{"$f":"C7530","v":0},null,{"$f":"E7530","v":0},null,9781601524232,null,9781601521019,null,"Post Traumatic Stress Disorder",null,null,null,"Compact Research: Diseases and Disorders",null,null,null,"Reference Point Press",null,43.29,null,31.95,null,36.950000000000003,null,0,null,null,null,null,null,0,0,0,0,0,0,0,0,"Fall 2009",null,2010,null,"616.85/21",null,null,null,null,null,null,null,null,null,null,null,"Reference Point Press",null,null,null,"Health",null,"English",null,"Reinforced Library",null,104,null,null,null,null,null,"5 - 12",null,"Scott Barbour"]
[{"$f":"A7593","v":0},null,{"$f":"C7593","v":0},null,{"$f":"E7593","v":0},null,9781601527219,null,9781601527202,null,"Life During the Crusades",null,null,null,"Living History",null,null,null,"Reference Point Press",null,43.29,null,31.95,null,{"$f":"W7594+5","v":36.950000000000003},null,{"$f":"IF(AC7594=FALSE,AK7594+AL7594+AM7594,0)","v":0},null,null,null,null,null,0,0,0,0,0,0,0,0,"Spring 2015",null,2015,null,909.07,null,null,null,null,null,null,null,null,null,"61",null,"Reference Point Press",null,null,null,"History",null,"English",null,"Reinforced Library",null,96,null,null,null,null,null,"5 - 12",null,"Stuart A. Kallen"]
[{"$f":"A7607","v":0},null,{"$f":"C7607","v":0},null,{"$f":"E7607","v":0},null,9781601527318,null,9781601527301,null,"Online Privacy and Social Media",null,null,null,"Privacy in the Online World",null,null,null,"Reference Point Press",null,43.29,null,31.95,null,{"$f":"W7612+5","v":36.950000000000003},null,0,null,null,null,null,null,0,0,0,0,0,0,0,0,"Spring 2015",null,2015,null,302.30284999999998,null,null,null,null,null,null,null,null,null,null,null,"Reference Point Press",null,null,null,"Social Studies",null,"English",null,"Reinforced Library",null,80,null,null,null,null,null,"5 - 12",null,"Carla Mooney"]
[{"$f":"A7628","v":0},null,{"$f":"C7628","v":0},null,{"$f":"E7628","v":0},null,9781601525956,null,9781601525949,null,"Constitution and the Founding of a New Nation, The",null,null,null,"Understanding American History",null,null,null,"Reference Point Press",null,43.29,null,31.95,null,36.950000000000003,null,0,null,null,null,null,null,0,0,0,0,0,0,0,0,"Fall 2013",null,2014,null,"342.7302/9",null,null,null,null,null,null,null,null,null,"63",null,"Reference Point Press",null,null,null,"History",null,"English",null,"Reinforced Library",null,96,null,null,null,null,null,"5 - 12",null,"Hal Marcovitz"]
[{"$f":"A7640","v":0},null,{"$f":"C7640","v":0},null,{"$f":"E7640","v":0},null,9781601524874,null,9781601524867,null,"Pearl Harbor",null,null,null,"Understanding World History",null,null,null,"Reference Point Press",null,43.29,null,31.95,null,36.950000000000003,null,0,null,null,null,null,null,0,0,0,0,0,0,0,0,"Spring 2013",null,2013,null,"940.54/26693",null,null,null,null,null,null,null,null,null,"63",null,"Reference Point Press",null,null,null,"History",null,"English",null,"Reinforced Library",null,96,null,null,null,null,null,"5 - 12",null,"Adam Woog"]
[{"$f":"A7660","v":0},null,{"$f":"C7660","v":0},null,{"$f":"E7660","v":0},null,9781601527479,null,9781601527462,null,"History of Video Games, The",null,null,null,"Video Games and Society",null,null,null,"Reference Point Press",null,43.29,null,31.95,null,{"$f":"W7661+5","v":36.950000000000003},null,{"$f":"IF(AC7661=FALSE,AK7661+AL7661+AM7661,0)","v":0},null,null,null,null,null,0,0,0,0,0,0,0,0,"Spring 2015",null,2015,null,794.8,null,null,null,null,null,null,null,null,null,null,null,"Reference Point Press",null,null,null,"Social Studies",null,"English",null,"Reinforced Library",null,80,null,null,null,null,null,"5 - 12",null,"Lydia Bjornlund"]
[{"$f":"A7666","v":0},null,{"$f":"C7666","v":0},null,{"$f":"E7666","v":0},null,9781601524409,null,9781601520678,null,"Steroids",null,null,null,"Compact Research: Drugs",null,null,null,"Reference Point Press",null,43.29,null,31.95,null,36.950000000000003,null,0,null,null,null,null,null,0,0,0,0,0,0,0,0,"Spring 2009",null,2009,null,"362.29/9",null,null,null,null,null,null,null,null,null,null,null,"Reference Point Press",null,null,null,"Health",null,"English",null,"Reinforced Library",null,96,null,null,null,null,null,"5 - 12",null,"David Robson"]
[]
[{"$f":"A7704","v":0},null,{"$f":"C7704","v":0},null,{"$f":"E7704","v":0},null,9781601524652,null,9781601524645,null,"Sports Medicine Research",null,null,null,"Inside Science",null,null,null,"Reference Point Press",null,43.29,null,31.95,null,36.950000000000003,null,0,null,null,null,null,null,0,0,0,0,0,0,0,0,"Fall 2011",null,2012,null,"617.1/027072",null,null,null,null,null,null,null,null,null,null,null,"Reference Point Press",null,null,null,"Science & Technology",null,"English",null,"Reinforced Library",null,96,null,null,null,null,null,"5 - 12",null,"Gail Stewart"]
[{"$f":"A7733","v":0},null,{"$f":"C7733","v":0},null,{"$f":"E7733","v":0},null,9781601524690,null,9781601524683,null,"Elves and Fairies",null,null,null,"Monsters and Mythical Creatures",null,null,null,"Reference Point Press",null,43.29,null,31.95,null,36.950000000000003,null,0,null,null,null,null,null,0,0,0,0,0,0,0,0,"Fall 2012",null,2013,null,398.21,null,null,null,null,null,null,null,null,null,null,null,"Reference Point Press",null,null,null,"Legends, Myths, & Paranormal",null,"English",null,"Reinforced Library",null,80,null,null,null,null,null,"5 - 12",null,"Kris Hirschmann"]
[{"$f":"A7750","v":0},null,{"$f":"C7750","v":0},null,{"$f":"E7750","v":0},null,9781601523945,null,9781601520333,null,"King Arthur",null,null,null,"The Mysterious & Unknown",null,null,null,"Reference Point Press",null,43.29,null,31.95,null,36.950000000000003,null,0,null,null,null,null,null,0,0,0,0,0,0,0,0,"Fall 2007",null,2008,null,"942.01/4",null,null,null,null,null,null,null,null,null,null,null,"Reference Point Press",null,null,null,"Legends, Myths, & Paranormal",null,"English",null,"Reinforced Library",null,104,null,null,null,null,null,"5 - 12",null,"Willam Lace"]
[{"$f":"A7774","v":0},null,{"$f":"C7774","v":0},null,{"$f":"E7774","v":0},null,9781601522696,null,9781601522689,null,"Hacking",null,null,null,"Compact Research: Internet",null,null,null,"Reference Point Press",null,43.29,null,31.95,null,{"$f":"W7778+5","v":36.950000000000003},null,0,null,null,null,null,null,0,0,0,0,0,0,0,0,"Fall 2012",null,2013,null,"364.16/8",null,null,null,null,null,null,null,null,null,null,null,"Reference Point Press",null,null,null,"Social Studies",null,"English",null,"Reinforced Library",null,96,null,null,null,null,null,"5 - 12",null,"John Covaleski"]
[{"$f":"A7790","v":0},null,{"$f":"C7790","v":0},null,{"$f":"E7790","v":0},null,9781601522122,null,9781601520814,null,"Disaster Response",null,null,null,"Compact Research: Current Issues",null,null,null,"Reference Point Press",null,43.29,null,31.95,null,36.950000000000003,null,0,null,null,null,null,null,0,0,0,0,0,0,0,0,"Fall 2009",null,2010,null,"363.34/80973",null,null,null,null,null,null,null,null,null,null,null,"Reference Point Press",null,null,null,"Social Studies",null,"English",null,"Reinforced Library",null,96,null,null,null,null,null,"5 - 12",null,"David Robson"]
[{"$f":"A7790","v":0},null,{"$f":"C7790","v":0},null,{"$f":"E7790","v":0},null,9781601523433,null,9781601520630,null,"Gay Rights",null,null,null,"Compact Research: Current Issues",null,null,null,"Reference Point Press",null,43.29,null,31.95,null,36.950000000000003,null,0,null,null,null,null,null,0,0,0,0,0,0,0,0,"Spring 2009",null,2009,null,"323.3/2940973",null,null,null,null,null,null,null,null,null,null,null,"Reference Point Press",null,null,null,"Social Studies",null,"English",null,"Reinforced Library",null,104,null,null,null,null,null,"5 - 12",null,"Peggy J. Parks"]
[]
[{"$f":"A7847","v":0},null,{"$f":"C7847","v":0},null,{"$f":"E7847","v":0},null,9781566608374,null,9781568463070,null,"Always, Jackie ",null,null,null,"Creative Editions",null,null,null,"The Creative Company",null,27.2,null,18.989999999999998,null,5,null,0,null,null,null,null,null,0,0,0,0,0,0,0,0,"Spring 2017",null,2020,null,"E",null,null,null,null,null,null,null,null,null,"55",null,"Creative Editions",null,null,null,"Fiction",null,"English",null,"Hardcover with Jacket",null,32,null,null,null,null,null,"PreK – 8",null,"J. Patrick Lewis"]
[{"$f":"A7847","v":0},null,{"$f":"C7847","v":0},null,{"$f":"E7847","v":0},null,9781566602457,null,9781568462158,null,"Emily Sonnets:Life/Emily Dickinson, The",null,null,null,"Creative Editions",null,null,null,"The Creative Company",null,28.6,null,19.989999999999998,null,{"$f":"X7864+5","v":5},null,0,null,null,null,null,null,0,0,0,0,0,0,0,0,"Fall 2012",null,2012,null,null,null,null,null,null,null,null,null,null,null,"56",null,"Creative Editions",null,null,null,"Fiction",null,"English",null,"Hardcover with Jacket",null,40,null,null,null,null,null,null,null,"Jane Yolen"]
[null,null,{"$f":"C7847","v":0},null,null,null,"Not Available",null,9781568462011,null,"House, The",null,null,null,"Creative Editions",null,null,null,"The Creative Company",null,0,null,19.95,null,0,null,0,null,null,null,null,null,0,0,0,0,0,0,0,0,"Fall 2009",null,2009,null,"811/.54",null,null,null,null,null,null,null,null,null,"58",null,"Creative Editions",null,null,null,"Fiction",null,"English",null,"Hardcover with Jacket",null,64,null,null,null,null,null,"PreK – 8",null,"J. Patrick Lewis"]
[{"$f":"A7847","v":0},null,{"$f":"C7847","v":0},null,{"$f":"E7847","v":0},null,9781566602426,null,9781568462264,null,"Mouse Books: The Alphabet",null,null,null,"Creative Editions",null,null,null,"The Creative Company",null,18.600000000000001,null,12.99,null,{"$f":"X7902+5","v":5},null,0,null,null,null,null,null,0,0,0,0,0,0,0,0,"Fall 2011",null,2012,null,"E",null,null,null,null,null,null,null,null,null,"60",null,"Creative Editions",null,null,null,"Fiction",null,"English",null,"Hardcover with Jacket",null,32,null,null,null,null,null,"PreK – 8",null,"Monique Felix"]
[{"$f":"A7847","v":0},null,{"$f":"C7847","v":0},null,{"$f":"E7847","v":0},null,9781640001435,null,9781568463285,null,"Seaside Lullaby",null,null,null,"Creative Editions",null,null,null,"The Creative Company",null,25.75,null,17.989999999999998,null,{"$f":"X7923+5","v":5},null,0,null,null,null,null,null,0,0,0,0,0,0,0,0,"Fall 2018",null,2018,null,"782.42 [E]",null,null,null,null,null,null,null,null,null,"62",null,"Creative Editions",null,null,null,"Fiction",null,"English",null,"Hardcover with Jacket",null,32,null,null,null,null,null,"PreK – 8",null,"J. Patrick Lewis and Jane Yolen"]
[]
[{"$f":"A7945","v":0},null,{"$f":"C7945","v":0},null,{"$f":"E7945","v":0},null,9781640005174,null,9781640263635,null,"Great Sphinx",null,null,null,"Odysseys in Mysteries",null,null,null,"The Creative Company",null,65.3,null,31.95,null,36.950000000000003,null,0,null,null,null,null,null,0,0,0,0,0,0,0,0,"Spring 2021",null,2021,null,"932/.2",null,"Q",null,null,null,null,null,null,null,"40",null,"Creative Education",null,6.9,null,"Folklore and Myth",null,"English",null,"Reinforced Library",null,80,null,"U",null,null,null,"Grade 5 - 7",null,"Ken Karst"]
[{"$f":"A7956","v":0},null,{"$f":"C7956","v":0},null,{"$f":"E7956","v":0},null,9781640004870,null,9781640263451,null,"Swan",null,null,null,"Spotlight on Nature",null,null,null,"The Creative Company",null,49,null,23.95,null,28.95,null,0,null,null,null,null,null,0,0,0,0,0,0,0,0,"Fall 2021",null,2021,null,null,null,"Q",null,"Q",null,"Q",null,"Q",null,"23",null,"Creative Education",null,null,null,null,null,"English",null,"Reinforced Library",null,32,null,"R",null,null,null,"2 - 3",null,"Melissa Gish"]
[null,null,{"$f":"C7984","v":0},null,null,null,"Not Available",null,9781608183470,null,"Cougars",null,null,null,"Amazing Animals",null,null,null,"The Creative Company",null,0,null,21.95,null,0,null,0,null,null,null,null,null,0,0,0,0,0,0,0,0,"Spring 2014",null,2014,null,"599.75/24",null,null,null,null,null,null,null,null,null,"18",null,"Creative Education",null,2.8,null,"Animals & Nature",null,"English",null,"Reinforced Library",null,24,null,null,null,"510L",null,"1 - 4",null,"Kate Riggs   "]
[null,null,{"$f":"C7984","v":0},null,null,null,"Not Available",null,9781608184897,null,"Geckos",null,null,null,"Amazing Animals",null,null,null,"The Creative Company",null,0,null,21.95,null,0,null,0,null,null,null,null,null,{"$f":"A8008","v":0},{"$f":"C8008","v":0},{"$f":"E8008","v":0},{"$f":"SUM(AG8008:AI8008)","v":0},{"$f":"U8008*A8008","v":0},{"$f":"W8008*C8008","v":0},{"$f":"Y8008*E8008","v":0},{"$f":"SUM(AK8008:AM8008)","v":0},"Spring 2015",null,2015,null,"597.95/2",null,null,null,null,null,null,null,null,null,"18",null,"Creative Education",null,3.2,null,"Animals & Nature",null,"English",null,"Reinforced Library",null,24,null,null,null,"550L",null,"1 - 4",null,"Kate Riggs   "]
[null,null,{"$f":"C7984","v":0},null,null,null,"Not Available",null,9781608181100,null,"Leopards",null,null,null,"Amazing Animals",null,null,null,"The Creative Company",null,0,null,21.95,null,0,null,0,null,null,null,null,null,0,0,0,0,0,0,0,0,"Spring 2012",null,2012,null,"599.75/54",null,null,null,null,null,null,null,null,null,"18",null,"Creative Education",null,2.8,null,"Animals & Nature",null,"English",null,"Reinforced Library",null,24,null,null,null,null,null,"1 - 4",null,"Kate Riggs"]
[{"$f":"A7984","v":0},null,{"$f":"C7984","v":0},null,{"$f":"E7984","v":0},null,9781566609357,null,9781608188833,null,"Sloths",null,null,null,"Amazing Animals",null,null,null,"The Creative Company",null,44.85,null,21.95,null,{"$f":"W8047+5","v":26.95},null,0,null,null,null,null,null,0,0,0,0,0,0,0,0,"Spring 2018",null,2018,null,"599.3/13",null,null,null,null,null,null,null,null,null,"18",null,"Creative Education",null,3,null,"Animals & Nature",null,"English",null,"Reinforced Library",null,24,null,null,null,null,null,"1 - 4",null,"Valerie Bodden"]
[{"$f":"A8062","v":0},null,{"$f":"C8062","v":0},null,{"$f":"E8062","v":0},null,9781566609906,null,9781568463254,null,"Dot, Stripe, Squiggle (Board Book)",null,null,null,"Creative Editions Board Books",null,null,null,"The Creative Company",null,14.3,null,9.99,null,14.99,null,0,null,null,null,null,null,0,0,0,0,0,0,0,0,"Fall 2018",null,2018,null,"E",null,null,null,null,null,null,null,null,null,"65",null,"Creative Editions",null,null,null,"Fiction",null,"English",null,"Board Book",null,28,null,null,null,null,null,"PreK - 1",null,"Sarah Tuttle"]
[{"$f":"A8062","v":0},null,{"$f":"C8062","v":0},null,{"$f":"E8062","v":0},null,9781566607001,null,9781568462875,null,"Wild Backyard (Board Book)",null,null,null,"Creative Editions Board Books",null,null,null,"The Creative Company",null,11.45,null,7.99,null,12.99,null,0,null,null,null,null,null,0,0,0,0,0,0,0,0,"Fall 2016",null,2016,null,null,null,null,null,null,null,null,null,null,null,"67",null,"Creative Editions",null,null,null,"Fiction",null,"English",null,"Board Book",null,14,null,null,null,null,null,"PreK – 2",null,"Kate Riggs"]
[{"$f":"A8092","v":0},null,{"$f":"C8092","v":0},null,{"$f":"E8092","v":0},null,9781640004276,null,9781640262973,null,"Boston Red Sox",null,null,null,"Creative Sports: Veterans (MLB)",null,null,null,"The Creative Company",null,49,null,23.95,null,28.95,null,0,null,null,null,null,null,0,0,0,0,0,0,0,0,"Spring 2021",null,2021,null,null,null,"Q",null,null,null,null,null,null,null,"35",null,"Creative Education",null,4.5999999999999996,null,"Sports and Recreation",null,"English",null,"Reinforced Library",null,32,null,"R",null,"740L",null,"Grade 3 - 4",null,"Jim Whiting"]
[{"$f":"A8092","v":0},null,{"$f":"C8092","v":0},null,{"$f":"E8092","v":0},null,9781640004498,null,9781640263192,null,"Seattle Mariners",null,null,null,"Creative Sports: Veterans (MLB)",null,null,null,"The Creative Company",null,49,null,23.95,null,28.95,null,0,null,null,null,null,null,0,0,0,0,0,0,0,0,"Spring 2021",null,2021,null,null,null,"Q",null,null,null,null,null,null,null,"35",null,"Creative Education",null,4.7,null,"Sports and Recreation",null,"English",null,"Reinforced Library",null,32,null,"R",null,"730L",null,"Grade 3 - 4",null,"Jim Whiting"]
[{"$f":"A8124","v":0},null,{"$f":"C8124","v":0},null,{"$f":"E8124","v":0},null,9781640003965,null,9781640262775,null,"Jirafas bebés (Baby Giraffes)",null,null,null,"El principio de los (Starting Out)",null,null,null,"The Creative Company",null,40.799999999999997,null,19.95,null,24.95,null,0,null,null,null,null,null,0,0,0,0,0,0,0,0,"Spring 2020",null,2020,null,null,null,null,null,null,null,null,null,null,null,"47",null,"Creative Education",null,1.4,null,"Animals & Nature",null,"Spanish",null,"Reinforced Library",null,16,null,"D",null,null,null,"K - 3",null,"Kate Riggs"]
[null,null,null,null,null,null,null,null,null,null,"Complete Series of 33",null,null,null,"Planeta animal (Amazing Animals)",null,null,null,null,null,{"$f":"SUM(U8147:U8179)","v":1480.0499999999995},null,{"$f":"SUM(W8147:W8179)","v":724.35000000000025},null,{"$f":"SUM(Y8147:Y8179)","v":889.35000000000048}]
[{"$f":"A8146","v":0},null,{"$f":"C8146","v":0},null,{"$f":"E8146","v":0},null,9781640003422,null,9781640262652,null,"El oso polar (Polar Bears)",null,null,null,"Planeta animal (Amazing Animals)",null,null,null,"The Creative Company",null,44.85,null,21.95,null,26.95,null,0,null,null,null,null,null,0,0,0,0,0,0,0,0,"Spring 2020",null,2020,null,null,null,null,null,null,null,null,null,null,null,"47",null,"Creative Education",null,2.6,null,"Animals & Nature",null,"Spanish",null,"Reinforced Library",null,24,null,"J",null,null,null,"1 - 3",null,"Valerie Bodden"]
[{"$f":"A8181","v":0},null,{"$f":"C8181","v":0},null,{"$f":"E8181","v":0},null,9781640004641,null,9781640263345,null,"Thanksgiving Day",null,null,null,"Seedlings: Holidays",null,null,null,"The Creative Company",null,44.85,null,21.95,null,26.95,null,0,null,null,null,null,null,0,0,0,0,0,0,0,0,"Spring 2021",null,2021,null,394.26490000000001,null,"Q",null,null,null,null,null,null,null,"10",null,"Creative Education",null,2,null,"Social Studies",null,"English",null,"Reinforced Library",null,24,null,"E",null,null,null,"Grade K - 1",null,"Lori Dittmer"]
[{"$f":"A8209","v":0},null,{"$f":"C8209","v":0},null,{"$f":"E8209","v":0},null,9781640001909,null,9781640260740,null,"Baby Elephants",null,null,null,"Starting Out",null,null,null,"The Creative Company",null,40.799999999999997,null,19.95,null,24.95,null,0,null,null,null,null,null,0,0,0,0,0,0,0,0,"Spring 2019",null,2019,null,null,null,null,null,null,null,null,null,null,null,"6",null,"Creative Education",null,1.3,null,"Animals & Nature",null,"English",null,"Reinforced Library",null,24,null,"D",null,"410L",null,"K - 3",null,"Kate Riggs"]
[{"$f":"A8209","v":0},null,{"$f":"C8209","v":0},null,{"$f":"E8209","v":0},null,9781640001916,null,9781640260757,null,"Baby Koalas",null,null,null,"Starting Out",null,null,null,"The Creative Company",null,40.799999999999997,null,19.95,null,24.95,null,0,null,null,null,null,null,0,0,0,0,0,0,0,0,"Spring 2019",null,2019,null,null,null,null,null,null,null,null,null,null,null,null,null,"Creative Education",null,1.3,null,"Animals & Nature",null,"English",null,"Reinforced Library",null,24,null,"D",null,"350L",null,"K - 3",null,"Kate Riggs"]
[{"$f":"A8237","v":0},null,{"$f":"C8237","v":0},null,{"$f":"E8237","v":0},null,9781640003552,null,9781640262201,null,"Unicorns",null,null,null,"Amazing Mysteries",null,null,null,"The Creative Company",null,44.85,null,21.95,null,26.95,null,0,null,null,null,null,null,0,0,0,0,0,0,0,0,"Spring 2020",null,2020,null,null,null,"Q",null,null,null,null,null,null,null,"18",null,"Creative Education",null,null,null,"Legends, Myths, & Paranormal",null,"English",null,"Reinforced Library",null,24,null,"K",null,null,null,"3 - 6",null,"Ashley Gish"]
[{"$f":"A8253","v":0},null,{"$f":"C8253","v":0},null,{"$f":"E8253","v":0},null,9781566609579,null,9781608189052,null,"Nez Perce",null,null,null,"First Peoples",null,null,null,"The Creative Company",null,44.85,null,21.95,null,26.95,null,0,null,null,null,null,null,0,0,0,0,0,0,0,0,"Spring 2018",null,2018,null,797.23400000000004,null,null,null,null,null,null,null,null,null,null,null,"Creative Education",null,3.2,null,"History",null,"English",null,"Reinforced Library",null,24,null,null,null,null,null,"1 - 4",null,"Valerie Bodden"]
[null,null,{"$f":"C8267","v":0},null,null,null,"Not Available",null,9781608185627,null,"Koala",null,null,null,"Grow with Me",null,null,null,"The Creative Company",null,0,null,23.95,null,0,null,0,null,null,null,null,null,0,0,0,0,0,0,0,0,"Fall 2015",null,2016,null,"599.2/5",null,null,null,null,null,null,null,null,null,null,null,"Creative Education",null,3.9,null,"Animals & Nature",null,"English",null,"Reinforced Library",null,32,null,null,null,"620L",null,"3 - 5",null,"Laura K. Murray"]
[{"$f":"A8287","v":0},null,{"$f":"C8287","v":0},null,{"$f":"E8287","v":0},null,9781640003736,null,9781640262386,null,"Robots",null,null,null,"Odysseys in Technology",null,null,null,"The Creative Company",null,65.3,null,31.95,null,{"$f":"W8291+5","v":36.950000000000003},null,0,null,null,null,null,null,0,0,0,0,0,0,0,0,"Spring 2020",null,2020,null,null,null,"Q",null,null,null,null,null,null,null,"43",null,"Creative Education",null,null,null,"Science & Technology",null,"English",null,"Reinforced Library",null,80,null,"U",null,null,null,"3 - 6",null,"Jim Whiting"]
[{"$f":"A8309","v":0},null,{"$f":"C8309","v":0},null,{"$f":"E8309","v":0},null,9781640002319,null,9781640261136,null,"Egypt",null,null,null,"Ancient Times",null,null,null,"The Creative Company",null,44.85,null,21.95,null,{"$f":"W8312+5","v":26.95},null,0,null,null,null,null,null,0,0,0,0,0,0,0,0,"Fall 2019",null,2020,null,932,null,null,null,null,null,null,null,null,null,null,null,"Creative Education",null,null,null,"History",null,"English",null,"Reinforced Library",null,24,null,null,null,null,null,"1 - 3",null,"Lori Dittmer"]
[{"$f":"A8334","v":0},null,{"$f":"C8334","v":0},null,{"$f":"E8334","v":0},null,9781640002500,null,9781640261327,null,"Baltimore Ravens",null,null,null,"NFL Today '19",null,null,null,"The Creative Company",null,61.2,null,29.95,null,34.950000000000003,null,0,null,null,null,null,null,0,0,0,0,0,0,0,0,"Fall 2019",null,2020,null,"796.332/64097526",null,null,null,null,null,null,null,null,null,"36",null,"Creative Education",null,null,null,"Sports & Recreation",null,"English",null,"Reinforced Library",null,48,null,null,null,null,null,"4 - 6",null,"Jim Whiting"]
[{"$f":"A8334","v":0},null,{"$f":"C8334","v":0},null,{"$f":"E8334","v":0},null,9781640002715,null,9781640261532,null,"New York Jets       ",null,null,null,"NFL Today '19",null,null,null,"The Creative Company",null,61.2,null,29.95,null,34.950000000000003,null,0,null,null,null,null,null,0,0,0,0,0,0,0,0,"Fall 2019",null,2020,null,"796.332/64097471",null,null,null,null,null,null,null,null,null,"36",null,"Creative Education",null,null,null,"Sports & Recreation",null,"English",null,"Reinforced Library",null,48,null,null,null,null,null,"4 - 6",null,"Jim Whiting"]
[{"$f":"A8334","v":0},null,{"$f":"C8334","v":0},null,{"$f":"E8334","v":0},null,9781640002722,null,9781640261549,null,"The Raiders",null,null,null,"NFL Today '19",null,null,null,"The Creative Company",null,61.2,null,29.95,null,34.950000000000003,null,0,null,null,null,null,null,0,0,0,0,0,0,0,0,"Fall 2019",null,2020,null,"796.332/09794166",null,null,null,null,null,null,null,null,null,"36",null,"Creative Education",null,null,null,"Sports & Recreation",null,"English",null,"Reinforced Library",null,48,null,null,null,null,null,"4 - 6",null,"Jim Whiting"]
[{"$f":"A8383","v":0},null,{"$f":"C8383","v":0},null,{"$f":"E8383","v":0},null,9781640004030,null,9781640262546,null,"Las motos de agua (Jet Skiis)",null,null,null,"Semillas del saber (Seedlings: On the Go)",null,null,null,"The Creative Company",null,44.85,null,21.95,null,{"$f":"W8386+5","v":26.95},null,0,null,null,null,null,null,0,0,0,0,0,0,0,0,"Fall 2019",null,2020,null,null,null,null,null,null,null,null,null,null,null,"47",null,"Creative Education",null,1.5,null,"Science & Technology",null,"Spanish",null,"Reinforced Library",null,24,null,null,null,null,null,"K - 3",null,"Quinn M. Arnold"]
[{"$f":"A8404","v":0},null,{"$f":"C8404","v":0},null,{"$f":"E8404","v":0},null,9781640003088,null,9781640261907,null,"Polar Bears",null,null,null,"X-Books: Marine Mammals",null,null,null,"The Creative Company",null,49,null,23.95,null,28.95,null,0,null,null,null,null,null,0,0,0,0,0,0,0,0,"Fall 2019",null,2020,null,599.78599999999994,null,null,null,null,null,null,null,null,null,"29",null,"Creative Education",null,null,null,"Animals & Nature",null,"English",null,"Reinforced Library",null,32,null,null,null,null,null,"3 - 6",null,"Ashley Gish"]
[{"$f":"A8420","v":0},null,{"$f":"C8420","v":0},null,{"$f":"E8420","v":0},null,9781640001589,null,9781640260429,null,"Fire Trucks",null,null,null,"Amazing Rescue Vehicles",null,null,null,"The Creative Company",null,44.85,null,21.95,null,{"$f":"W8422+5","v":26.95},null,0,null,null,null,null,null,0,0,0,0,0,0,0,0,"Spring 2019",null,2019,null,null,null,null,null,null,null,null,null,null,null,"18",null,"Creative Education",null,2.7,null,"Science & Technology",null,"English",null,"Reinforced Library",null,24,null,"K",null,"570L",null,"1 - 4",null,"Lori Dittmer"]
[null,null,null,null,null,null,null,null,null,null,"Complete Series of 6",null,null,null,"I'm the Biggest!",null,null,null,null,null,{"$f":"SUM(U8437:U8442)","v":269.10000000000002},null,{"$f":"SUM(W8437:W8442)","v":131.69999999999999},null,{"$f":"SUM(Y8437:Y8442)","v":161.69999999999999}]
[null,null,{"$f":"C8450","v":0},null,null,null,"Not Available",null,9781608186334,null,"Great Smoky Mountains",null,null,null,"National Park Explorers",null,null,null,"The Creative Company",null,0,null,21.95,null,0,null,0,null,null,null,null,null,0,0,0,0,0,0,0,0,"Spring 2016",null,2016,null,"976.8/82",null,null,null,null,null,null,null,null,null,null,null,"Creative Education",null,2.2999999999999998,null,"Animals & Nature",null,"English",null,"Reinforced Library",null,24,null,"N",null,"490L",null,"1 - 3",null,"Sara Gilbert"]
[null,null,null,null,null,null,null,null,null,null,"Complete Series of 4",null,null,null,"Ahora es rápido! (Now That's Fast!)",null,null,null,null,null,{"$f":"SUM(U8483:U8486)","v":179.4},null,{"$f":"SUM(W8483:W8486)","v":87.8},null,{"$f":"SUM(Y8483:Y8486)","v":107.8}]
[{"$f":"A8502","v":0},null,{"$f":"C8502","v":0},null,{"$f":"E8502","v":0},null,9781640000308,null,9781640260054,null,"Alien Abductions",null,null,null,"Enduring Mysteries",null,null,null,"The Creative Company",null,61.2,null,29.95,null,{"$f":"W8503+5","v":34.950000000000003},null,{"$f":"IF(AC8503=FALSE,AK8503+AL8503+AM8503,0)","v":0},null,null,null,null,null,0,0,0,0,0,0,0,0,"Fall 2018",null,2019,null,1.9419999999999999,null,null,null,null,null,null,null,null,null,null,null,"Creative Education",null,null,null,"Legends, Myths, & Paranormal",null,"English",null,"Reinforced Library",null,48,null,null,null,null,null,"5 - 8",null,"Ken Karst"]
[{"$f":"A8502","v":0},null,{"$f":"C8502","v":0},null,{"$f":"E8502","v":0},null,9781640000339,null,9781640260085,null,"Sea Monsters",null,null,null,"Enduring Mysteries",null,null,null,"The Creative Company",null,61.2,null,29.95,null,{"$f":"W8510+5","v":34.950000000000003},null,0,null,null,null,null,null,0,0,0,0,0,0,0,0,"Fall 2018",null,2019,null,1.944,null,null,null,null,null,null,null,null,null,null,null,"Creative Education",null,null,null,"Legends, Myths, & Paranormal",null,"English",null,"Reinforced Library",null,48,null,null,null,null,null,"5 - 8",null,"Ken Karst"]
[{"$f":"A8512","v":0},null,{"$f":"C8512","v":0},null,{"$f":"E8512","v":0},null,9781566608770,null,9781608188291,null,"Elk",null,null,null,"Living Wild",null,null,null,"The Creative Company",null,61.2,null,29.95,null,{"$f":"W8531+5","v":34.950000000000003},null,0,null,null,null,null,null,0,0,0,0,0,0,0,0,"Fall 2017",null,2018,null,"599.65/7",null,null,null,null,null,null,null,null,null,"31",null,"Creative Education",null,7,null,"Animals & Nature",null,"English",null,"Reinforced Library",null,48,null,null,null,null,null,"4 - 8",null,"Melissa Gish"]
[{"$f":"A8512","v":0},null,{"$f":"C8512","v":0},null,{"$f":"E8512","v":0},null,9781566608817,null,9781608188338,null,"Prairie Dogs",null,null,null,"Living Wild",null,null,null,"The Creative Company",null,61.2,null,29.95,null,{"$f":"W8561+5","v":34.950000000000003},null,0,null,null,null,null,null,0,0,0,0,0,0,0,0,"Fall 2017",null,2018,null,"599.36/7",null,null,null,null,null,null,null,null,null,"31",null,"Creative Education",null,6.7,null,"Animals & Nature",null,"English",null,"Reinforced Library",null,48,null,null,null,null,null,"4 - 8",null,"Melissa Gish"]
[null,null,{"$f":"C8512","v":0},null,null,null,"Not Available",null,9781608181711,null,"Vultures",null,null,null,"Living Wild",null,null,null,"The Creative Company",null,0,null,29.95,null,0,null,0,null,null,null,null,null,0,0,0,0,0,0,0,0,"Fall 2012",null,2013,null,"598.9/4",null,null,null,null,null,null,null,null,null,"31",null,"Creative Education",null,null,null,"Animals & Nature",null,"English",null,"Reinforced Library",null,48,null,null,null,"NC1280L",null,"4 - 8",null,"Melissa Gish"]
[null,null,{"$f":"C8512","v":0},null,null,null,"Not Available",null,9781608184217,null,"Wolverines",null,null,null,"Living Wild",null,null,null,"The Creative Company",null,0,null,29.95,null,0,null,0,null,null,null,null,null,0,0,0,0,0,0,0,0,"Fall 2014",null,2015,null,"599.76/6",null,null,null,null,null,null,null,null,null,"31",null,"Creative Education",null,7.7,null,"Animals & Nature",null,"English",null,"Reinforced Library",null,48,null,null,null,"1290L",null,"4 - 8",null,"Melissa Gish"]
[null,null,null,null,null,null,null,null,null,null,"Complete Series of 4",null,null,null,"Now That's Fast! ",null,null,null,null,null,{"$f":"SUM(U8607:U8610)","v":179.4},null,{"$f":"SUM(W8607:W8610)","v":87.8},null,{"$f":"SUM(Y8607:Y8610)","v":107.8}]
[null,null,{"$f":"C8620","v":0},null,null,null,"Not Available",null,9781608185528,null,"Iroquois",null,null,null,"Peoples of North America",null,null,null,"The Creative Company",null,0,null,29.95,null,0,null,0,null,null,null,null,null,0,0,0,0,0,0,0,0,"Fall 2015",null,2016,null,"974.7004/9755",null,null,null,null,null,null,null,null,null,null,null,"Creative Education",null,7.4,null,"Social Studies",null,"English",null,"Reinforced Library",null,48,null,null,null,"1110L",null,"4 - 7",null,"Valerie Bodden"]
[{"$f":"A8644","v":0},null,{"$f":"C8644","v":0},null,{"$f":"E8644","v":0},null,9781640002067,null,9781640260900,null,"Los patos (Ducks)",null,null,null,"Semillas del saber (Seedlings: Backyard Animals)",null,null,null,"The Creative Company",null,44.85,null,21.95,null,26.95,null,0,null,null,null,null,null,{"$f":"A8648","v":0},{"$f":"C8648","v":0},{"$f":"E8648","v":0},{"$f":"SUM(AG8648:AI8648)","v":0},{"$f":"U8648*A8648","v":0},{"$f":"W8648*C8648","v":0},{"$f":"Y8648*E8648","v":0},{"$f":"SUM(AK8648:AM8648)","v":0},"Fall 2018",null,2019,null,null,null,null,null,null,null,null,null,null,null,"47",null,"Creative Education",null,1.6,null,"Animals & Nature",null,"Spanish",null,"Reinforced Library",null,24,null,null,null,null,null,"K - 3",null,"Kate Riggs"]
[null,null,{"$f":"C8654","v":0},null,null,null,"Not Available",null,9781608185900,null,"AC Milan",null,null,null,"Soccer Champions",null,null,null,"The Creative Company",null,0,null,29.95,null,0,null,{"$f":"IF(AC8655=FALSE,AK8655+AL8655+AM8655,0)","v":0},null,null,null,null,null,0,0,0,0,0,0,0,0,"Fall 2015",null,2016,null,"796.334/640945211",null,null,null,null,null,null,null,null,null,null,null,"Creative Education",null,7.6,null,"Sports & Recreation",null,"English",null,"Reinforced Library",null,48,null,null,null,"1240L",null,"4 - 7",null,"Jim Whiting"]
[{"$f":"A8668","v":0},null,{"$f":"C8668","v":0},null,{"$f":"E8668","v":0},null,9781640000865,null,9781608189854,null,"Night Stalkers",null,null,null,"U.S. Special Forces",null,null,null,"The Creative Company",null,61.2,null,29.95,null,{"$f":"W8676+5","v":34.950000000000003},null,0,null,null,null,null,null,0,0,0,0,0,0,0,0,"Fall 2018",null,2019,null,"356/.1660973",null,null,null,null,null,null,null,null,null,null,null,"Creative Education",null,null,null,"High Interest",null,"English",null,"Reinforced Library",null,48,null,null,null,null,null,"5 - 8",null,"Jim Whiting"]
[null,null,null,null,null,null,null,null,null,null,"Complete Series of 9",null,null,null,"Fetch!",null,null,null,null,null,{"$f":"SUM(U8706:U8714)","v":179.4},null,{"$f":"SUM(W8706:W8714)","v":197.54999999999995},null,{"$f":"SUM(Y8706:Y8714)","v":107.8}]
[]
[null,null,{"$f":"C8724","v":0},null,null,null,"Not Available",null,9781608189144,null,"Jupiter",null,null,null,"Seedlings: Planets",null,null,null,"The Creative Company",null,0,null,21.95,null,0,null,0,null,null,null,null,null,0,0,0,0,0,0,0,0,"Spring 2018",null,2018,null,523.45000000000005,null,null,null,null,null,null,null,null,null,"12",null,"Creative Education",null,1.4,null,"High Interest",null,"English",null,"Reinforced Library",null,24,null,null,null,null,null,"K - 3",null,"Quinn M. Arnold"]
[]
[{"$f":"A8768","v":0},null,{"$f":"C8768","v":0},null,{"$f":"E8768","v":0},null,9781566607186,null,9781608186822,null,"Lab Analysis ",null,null,null,"Odysseys in Crime Scene Science ",null,null,null,"The Creative Company",null,65.3,null,31.95,null,36.950000000000003,null,0,null,null,null,null,null,0,0,0,0,0,0,0,0,"Fall 2017",null,2018,null,"363.25/6",null,null,null,null,null,null,null,null,null,"43",null,"Creative Education",null,null,null,"Science & Technology",null,"English",null,"Reinforced Library",null,80,null,null,null,null,null,"7 - 9",null,"Valerie Bodden"]
[{"$f":"A8792","v":0},null,{"$f":"C8792","v":0},null,{"$f":"E8792","v":0},null,9781566609135,null,9781608188659,null,"Beavers",null,null,null,"Seedlings: Wild Animals",null,null,null,"The Creative Company",null,44.85,null,21.95,null,{"$f":"W8793+5","v":26.95},null,{"$f":"IF(AC8793=FALSE,AK8793+AL8793+AM8793,0)","v":0},null,null,null,null,null,0,0,0,0,0,0,0,0,"Fall 2017",null,2018,null,599.37,null,null,null,null,null,null,null,null,null,"12",null,"Creative Education",null,1.2,null,"Animals & Nature",null,"English",null,"Reinforced Library",null,24,null,null,null,null,null,"K - 3",null,"Quinn M. Arnold"]
[null,null,{"$f":"C8792","v":0},null,null,null,"Not Available",null,9781608182756,null,"Elephants",null,null,null,"Seedlings: Wild Animals",null,null,null,"The Creative Company",null,0,null,21.95,null,0,null,0,null,null,null,null,null,0,0,0,0,0,0,0,0,"Fall 2012",null,2013,null,599.66999999999996,null,null,null,null,null,null,null,null,null,"12",null,"Creative Education",null,1.2,null,"Animals & Nature",null,"English",null,"Reinforced Library",null,24,null,null,null,"280L",null,"K - 3",null,"Kate Riggs"]
[null,null,{"$f":"C8825","v":0},null,null,null,"Not Available",null,9781608189328,null,"Los veterinarios (Veterinarians)",null,null,null,"Semillas del saber (Seedlings: Community Helpers)",null,null,null,"The Creative Company",null,0,null,21.95,null,0,null,0,null,null,null,null,null,0,0,0,0,0,0,0,0,"Fall 2017",null,2018,null,null,null,null,null,null,null,null,null,null,null,"47",null,"Creative Education",null,2.8,null,"High Interest",null,"Spanish",null,"Reinforced Library",null,24,null,null,null,null,null,"K - 3",null,"Kate Riggs"]
[{"$f":"A8833","v":0},null,{"$f":"C8833","v":0},null,{"$f":"E8833","v":0},null,9781566608961,null,9781608188482,null,"Story of the Los Angeles Lakers, The",null,null,null,"The NBA: A History of Hoops",null,null,null,"The Creative Company",null,61.2,null,29.95,null,34.950000000000003,null,0,null,null,null,null,null,0,0,0,0,0,0,0,0,"Fall 2017",null,2018,null,"796.323'640979494",null,null,null,null,null,null,null,null,null,"36",null,"Creative Education",null,4.5999999999999996,null,"Sports & Recreation",null,"English",null,"Reinforced Library",null,48,null,null,null,"1190L",null,"4 - 6",null,"Jim Whiting"]
[{"$f":"A8865","v":0},null,{"$f":"C8865","v":0},null,{"$f":"E8865","v":0},null,9781566608619,null,9781608188130,null,"Gladiators",null,null,null,"X-Books: Fighters",null,null,null,"The Creative Company",null,49,null,23.95,null,28.95,null,0,null,null,null,null,null,0,0,0,0,0,0,0,0,"Fall 2017",null,2018,null,796.8,null,null,null,null,null,null,null,null,null,"29",null,"Creative Education",null,4.5,null,"History",null,"English",null,"Reinforced Library",null,32,null,null,null,null,null,"3 - 5",null,"Valerie Bodden"]
[{"$f":"A8865","v":0},null,{"$f":"C8865","v":0},null,{"$f":"E8865","v":0},null,9781566608640,null,9781608188161,null,"Vikings",null,null,null,"X-Books: Fighters",null,null,null,"The Creative Company",null,49,null,23.95,null,28.95,null,0,null,null,null,null,null,0,0,0,0,0,0,0,0,"Fall 2017",null,2018,null,"948/.022",null,null,null,null,null,null,null,null,null,"29",null,"Creative Education",null,4,null,"History",null,"English",null,"Reinforced Library",null,32,null,null,null,null,null,"3 - 5",null,"Valerie Bodden"]
[]
[null,null,{"$f":"C8913","v":0},null,null,null,"Not Available",null,9781608187928,null,"Pickup Trucks",null,null,null,"Seedlings: Big Trucks",null,null,null,"The Creative Company",null,0,null,21.95,null,0,null,0,null,null,null,null,null,0,0,0,0,0,0,0,0,"Spring 2017",null,2017,null,"629.223/2",null,null,null,null,null,null,null,null,null,"12",null,"Creative Education",null,1.5,null,"Science & Technology",null,"English",null,"Reinforced Library",null,24,null,null,null,"330L",null,"K - 3",null,"Kate Riggs"]
[null,null,{"$f":"C8937","v":0},null,null,null,"Not Available",null,9781608186730,null,"Presidential Cabinet, The ",null,null,null,"By the People",null,null,null,"The Creative Company",null,0,null,29.95,null,0,null,{"$f":"IF(AC8938=FALSE,AK8938+AL8938+AM8938,0)","v":0},null,null,null,null,null,0,0,0,0,0,0,0,0,"Fall 2016",null,2017,null,"973.09/9",null,null,null,null,null,null,null,null,null,null,null,"Creative Education",null,7.7,null,"Social Studies",null,"English",null,"Reinforced Library",null,48,null,null,null,"1110L",null,"4 - 6",null,"Bill McAuliffe"]
[null,null,null,null,null,null,null,null,null,null,"Complete Series of 6",null,null,null,"In My Backyard",null,null,null,null,null,{"$f":"SUM(U8946:U8951)","v":0},null,{"$f":"SUM(W8946:W8951)","v":131.69999999999999},null,{"$f":"SUM(Y8946:Y8951)","v":0}]
[null,null,null,null,null,null,null,null,null,null,"Complete Series of 4",null,null,null,"Odysseys in Prose",null,null,null,null,null,{"$f":"SUM(U8976:U8979)","v":0},null,{"$f":"SUM(W8976:W8979)","v":127.8},null,{"$f":"SUM(Y8976:Y8979)","v":0}]
[null,null,{"$f":"C8989","v":0},null,null,null,"Not Available",null,9781608187423,null,"Mountains",null,null,null,"Seedlings: Ecosystems",null,null,null,"The Creative Company",null,0,null,21.95,null,0,null,0,null,null,null,null,null,0,0,0,0,0,0,0,0,"Fall 2016",null,2017,null,"551.43/2",null,null,null,null,null,null,null,null,null,"12",null,"Creative Education",null,1.3,null,"Animals & Nature",null,"English",null,"Reinforced Library",null,24,null,null,null,"410L",null,"K - 3",null,"Quinn M. Arnold"]
[null,null,{"$f":"C9005","v":0},null,null,null,"Not Available",null,9781608184941,null,"Calvin Johnson",null,null,null,"The Big Time",null,null,null,"The Creative Company",null,0,null,21.95,null,0,null,0,null,null,null,null,null,0,0,0,0,0,0,0,0,"Spring 2015",null,2015,null,796.33209199999999,null,null,null,null,null,null,null,null,null,null,null,"Creative Education",null,3.3,null,"Biography",null,"English",null,"Reinforced Library",null,24,null,null,null,"580L",null,"1 - 3",null,"Valerie Bodden "]
[null,null,{"$f":"C9005","v":0},null,null,null,"Not Available",null,9781608186716,null,"Iggy Azalea",null,null,null,"The Big Time",null,null,null,"The Creative Company",null,0,null,21.95,null,0,null,0,null,null,null,null,null,0,0,0,0,0,0,0,0,"Fall 2015",null,2017,null,782.42164909200005,null,null,null,null,null,null,null,null,null,null,null,"Creative Education",null,3,null,"Biography",null,"English",null,"Reinforced Library",null,24,null,null,null,"570L",null,"1 - 3",null,"Laura K. Murray"]
[null,null,null,null,null,null,null,null,null,null,"Complete Series of 4",null,null,null,"I Spy",null,null,null,null,null,{"$f":"SUM(U9042:U9045)","v":0},null,{"$f":"SUM(W9042:W9045)","v":87.8},null,{"$f":"SUM(Y9042:Y9045)","v":0}]
[null,null,{"$f":"C9059","v":0},null,null,null,"Not Available",null,9781608186631,null,"Fighter Jets",null,null,null,"Seedlings: Military Vehicles",null,null,null,"The Creative Company",null,0,null,21.95,null,0,null,0,null,null,null,null,null,0,0,0,0,0,0,0,0,"Spring 2016",null,2016,null,"623.74/64",null,null,null,null,null,null,null,null,null,"12",null,"Creative Education",null,1.5,null,"Science & Technology",null,"English",null,"Reinforced Library",null,24,null,null,null,"380L",null,"K - 3",null,"Laura K. Murray"]
[null,null,{"$f":"C9079","v":0},null,null,null,"Not Available",null,9781608185573,null,"Story of Berkshire Hathaway, The",null,null,null,"Built for Success",null,null,null,"The Creative Company",null,0,null,29.95,null,0,null,0,null,null,null,null,null,0,0,0,0,0,0,0,0,"Fall 2015",null,2016,null,"338.8/60973",null,null,null,null,null,null,null,null,null,null,null,"Creative Education",null,7.1,null,"Science & Technology",null,"English",null,"Reinforced Library",null,48,null,null,null,"1050L",null,"4 - 6",null,"Laura K. Murray"]
[null,null,{"$f":"C9099","v":0},null,null,null,"Not Available",null,9781608185733,null,"What Are the Chances? ",null,null,null,"Making Math Work",null,null,null,"The Creative Company",null,0,null,29.95,null,0,null,0,null,null,null,null,null,0,0,0,0,0,0,0,0,"Fall 2015",null,2016,null,519.20000000000005,null,null,null,null,null,null,null,null,null,null,null,"Creative Education",null,"Not Quizzable",null,"Math & Finance",null,"English",null,"Reinforced Library",null,48,null,null,null,"1010L",null,"4 - 6",null,"Joy Visto"]
[null,null,{"$f":"C9107","v":0},null,null,null,"Not Available",null,9781608185344,null,"Late Modernism",null,null,null,"Odysseys in Art",null,null,null,"The Creative Company",null,0,null,31.95,null,0,null,0,null,null,null,null,null,0,0,0,0,0,0,0,0,"Fall 2015",null,2016,null,"709.73/09045",null,null,null,null,null,null,null,null,null,"43",null,"Creative Education",null,9.5,null,"Arts, Crafts, & Activities",null,"English",null,"Reinforced Library",null,80,null,null,null,"1290L",null,"7 - 9",null,"Anne Fitzpatrick"]
[null,null,{"$f":"C9132","v":0},null,null,null,"Not Available",null,9781608181964,null,"Grand Canyon National Park",null,null,null,"Preserving America",null,null,null,"The Creative Company",null,0,null,29.95,null,0,null,0,null,null,null,null,null,0,0,0,0,0,0,0,0,"Fall 2013",null,2014,null,"979.1/32",null,null,null,null,null,null,null,null,null,null,null,"Creative Education",null,null,null,"Animals & Nature",null,"English",null,"Reinforced Library",null,48,null,null,null,"1340L",null,"4 - 6",null,"Nate Frisch"]
[]
[null,null,{"$f":"C9159","v":0},null,null,null,"Not Available",null,9781608185931,null,"How Does It Work?",null,null,null,"Think Like a Scientist",null,null,null,"The Creative Company",null,0,null,29.95,null,0,null,0,null,null,null,null,null,0,0,0,0,0,0,0,0,"Fall 2015",null,2016,null,500,null,null,null,null,null,null,null,null,null,null,null,"Creative Education",null,7.6,null,"Science & Technology",null,"English",null,"Reinforced Library",null,48,null,null,null,"1200L",null,"4 - 6",null,"Dru Hunter"]
[null,null,{"$f":"C9183","v":0},null,null,null,"Not Available",null,9781608185023,null,"French Food",null,null,null,"Cooking School",null,null,null,"The Creative Company",null,0,null,21.95,null,0,null,0,null,null,null,null,null,0,0,0,0,0,0,0,0,"Spring 2015",null,2015,null,641.59439999999995,null,null,null,null,null,null,null,null,null,null,null,"Creative Education",null,null,null,"Arts, Crafts, & Activities",null,"English",null,"Reinforced Library",null,24,null,null,null,"820L",null,"1 - 3",null,"Sara Gilbert"]
[]
[null,null,{"$f":"C9213","v":0},null,null,null,"Not Available",null,9781608182800,null,"Giving a Presentation",null,null,null,"Classroom How-to",null,null,null,"The Creative Company",null,0,null,29.95,null,0,null,{"$f":"IF(AC9214=FALSE,AK9214+AL9214+AM9214,0)","v":0},null,null,null,null,null,0,0,0,0,0,0,0,0,"Fall 2014",null,2015,null," 808.5/1",null,null,null,null,null,null,null,null,null,null,null,"Creative Education",null,null,null,"Language Arts",null,"English",null,"Reinforced Library",null,48,null,null,null,"1070L",null,"4 - 6",null,"Valerie Bodden "]
[null,null,{"$f":"C9235","v":0},null,null,null,"Not Available",null,9781608183586,null,"Moths",null,null,null,"Creepy Creatures",null,null,null,"The Creative Company",null,0,null,21.95,null,0,null,0,null,null,null,null,null,0,0,0,0,0,0,0,0,"Spring 2014",null,2014,null,595.78,null,null,null,null,null,null,null,null,null,null,null,"Creative Education",null,3,null,"Animals & Nature",null,"English",null,"Reinforced Library",null,24,null,null,null,"520L",null,"1 - 3",null,"Valerie Bodden"]
[null,null,{"$f":"C9253","v":0},null,null,null,"Not Available",null,9781608183760,null,"Green Bay Packers",null,null,null,"Super Bowl Champions",null,null,null,"The Creative Company",null,0,null,21.95,null,0,null,0,null,null,null,null,null,0,0,0,0,0,0,0,0,"Spring 2014",null,2014,null,"796.332/640977561",null,null,null,null,null,null,null,null,null,"36",null,"Creative Education",null,3.4,null,"Sports & Recreation",null,"English",null,"Reinforced Library",null,24,null,null,null,"720L",null,"1 - 3",null,"Aaron Frisch"]
[null,null,{"$f":"C9280","v":0},null,null,null,"Not Available",null,9781608181780,null,"Mystery",null,null,null,"Stories Well Told",null,null,null,"The Creative Company",null,0,null,29.95,null,0,null,0,null,null,null,null,null,0,0,0,0,0,0,0,0,"Fall 2013",null,2014,null,"809.3/872",null,null,null,null,null,null,null,null,null,null,null,"Creative Education",null,null,null,"Language Arts",null,"English",null,"Reinforced Library",null,48,null,null,null,"1300L",null,"4 - 6",null,"Valerie Bodden"]
[null,null,{"$f":"C9295","v":0},null,null,null,"Not Available",null,9781608182671,null,"Minnesota Twins",null,null,null,"World Series Champions '13",null,null,null,"The Creative Company",null,0,null,21.95,null,0,null,0,null,null,null,null,null,0,0,0,0,0,0,0,0,"Spring 2013",null,2013,null,"796.357/6409776579",null,null,null,null,null,null,null,null,null,"36",null,"Creative Education",null,null,null,"Sports & Recreation",null,"English",null,"Reinforced Library",null,24,null,null,null,"630L",null,"1 - 3",null,"Sara Gilbert"]
[null,null,{"$f":"C9295","v":0},null,null,null,"Not Available",null,9781608182701,null,"Philadelphia Phillies",null,null,null,"World Series Champions '13",null,null,null,"The Creative Company",null,0,null,21.95,null,0,null,0,null,null,null,null,null,0,0,0,0,0,0,0,0,"Spring 2013",null,2013,null,"796.357/640974811",null,null,null,null,null,null,null,null,null,"36",null,"Creative Education",null,null,null,"Sports & Recreation",null,"English",null,"Reinforced Library",null,24,null,null,null,"690L",null,"1 - 3",null,"Sara Gilbert"]
[null,null,null,null,null,null,null,null,null,null,"Complete Series of 2",null,null,null,"Research for Writing",null,null,null,null,null,{"$f":"SUM(U9332:U9333)","v":0},null,{"$f":"SUM(W9332:W9333)","v":59.9},null,{"$f":"SUM(Y9332:Y9333)","v":0}]
[null,null,{"$f":"C9349","v":0},null,null,null,"Not Available",null,9781608181483,null,"Snow",null,null,null,"Our Wonderful Weather",null,null,null,"The Creative Company",null,0,null,21.95,null,0,null,0,null,null,null,null,null,0,0,0,0,0,0,0,0,"Spring 2012",null,2012,null,551.57839999999999,null,null,null,null,null,null,null,null,null,null,null,"Creative Education",null,3.2,null,"Science & Technology",null,"English",null,"Reinforced Library",null,24,null,null,null,null,null,"1 - 3",null,"Valerie Bodden"]
[null,null,{"$f":"C9355","v":0},null,null,null,"Not Available",null,9781608180769,null,"Parkinson's Disease",null,null,null,"Living With Disease",null,null,null,"The Creative Company",null,0,null,29.95,null,0,null,0,null,null,null,null,null,0,0,0,0,0,0,0,0,"Fall 2011",null,2012,null,616.83299999999997,null,null,null,null,null,null,null,null,null,null,null,"Creative Education",null,null,null,"Health",null,"English",null,"Reinforced Library",null,48,null,null,null,null,null,"4 - 6",null,"Lori Dittmer"]
[]
[]
[]
[]
[]
[]
[]
[]
[]
[]
[]
[]
[]
[]
[]
[]
[]
[]
[]
[]
[]
[]
[]
[]
[]
[]
[]
[]
[]
[]
[]
[]
[]
[]
[{"$f":"A10002","v":0},null,{"$f":"C10002","v":0},null,{"$f":"E10002","v":0}]
[]
[]
[{"$f":"A10046","v":0},null,{"$f":"C10046","v":0},null,{"$f":"E10046","v":0}]
[{"$f":"A10070","v":0},null,{"$f":"C10070","v":0},null,{"$f":"E10070","v":0}]
[{"$f":"A10070","v":0},null,{"$f":"C10070","v":0},null,{"$f":"E10070","v":0}]
[{"$f":"A10104","v":0},null,{"$f":"C10104","v":0},null,{"$f":"E10104","v":0}]
[]
[{"$f":"A10132","v":0},null,{"$f":"C10132","v":0},null,{"$f":"E10132","v":0}]
[{"$f":"A10172","v":0},null,{"$f":"C10172","v":0},null,{"$f":"E10172","v":0}]
[{"$f":"A10177","v":0},null,{"$f":"C10177","v":0},null,{"$f":"E10177","v":0}]
[null,null,{"$f":"C10185","v":0}]
[]
[{"$f":"A10227","v":0},null,{"$f":"C10227","v":0},null,{"$f":"E10227","v":0}]
[{"$f":"A10245","v":0},null,{"$f":"C10245","v":0},null,{"$f":"E10245","v":0}]
[{"$f":"A10271","v":0},null,{"$f":"C10271","v":0},null,{"$f":"E10271","v":0}]
[{"$f":"A10285","v":0},null,{"$f":"C10285","v":0},null,{"$f":"E10285","v":0}]
[{"$f":"A10301","v":0},null,{"$f":"C10301","v":0},null,{"$f":"E10301","v":0}]
[{"$f":"A10321","v":0},null,{"$f":"C10321","v":0},null,{"$f":"E10321","v":0}]
[{"$f":"A10353","v":0},null,{"$f":"C10353","v":0},null,{"$f":"E10353","v":0}]
[{"$f":"A10369","v":0},null,{"$f":"C10369","v":0},null,{"$f":"E10369","v":0}]
[{"$f":"A10369","v":0},null,{"$f":"C10369","v":0},null,{"$f":"E10369","v":0}]
[{"$f":"A10387","v":0},null,{"$f":"C10387","v":0},null,{"$f":"E10387","v":0}]
[]
[{"$f":"A10437","v":0},null,{"$f":"C10437","v":0},null,{"$f":"E10437","v":0}]
[{"$f":"A10447","v":0},null,{"$f":"C10447","v":0},null,{"$f":"E10447","v":0}]
[{"$f":"A10481","v":0},null,{"$f":"C10481","v":0},null,{"$f":"E10481","v":0}]
[null,null,{"$f":"C10487","v":0}]
[null,null,{"$f":"C10505","v":0}]
[null,null,{"$f":"C10505","v":0}]
[]
[null,null,{"$f":"C10563","v":0}]
[{"$f":"A10581","v":0},null,{"$f":"C10581","v":0},null,{"$f":"E10581","v":0}]
[{"$f":"A10589","v":0},null,{"$f":"C10589","v":0},null,{"$f":"E10589","v":0}]
[null,null,{"$f":"C10621","v":0}]
[{"$f":"A10629","v":0},null,{"$f":"C10629","v":0},null,{"$f":"E10629","v":0}]
[{"$f":"A10658","v":0},null,{"$f":"C10658","v":0},null,{"$f":"E10658","v":0}]
[]
[{"$f":"A10682","v":0},null,{"$f":"C10682","v":0},null,{"$f":"E10682","v":0}]
[]
[{"$f":"A10730","v":0},null,{"$f":"C10730","v":0},null,{"$f":"E10730","v":0}]
[null,null,{"$f":"C10751","v":0}]
[null,null,{"$f":"C10759","v":0}]
[null,null,{"$f":"C10780","v":0}]
[null,null,{"$f":"C10802","v":0}]
[]
[null,null,{"$f":"C10828","v":0}]
[]
[null,null,{"$f":"C10873","v":0}]
[]
[]
[null,null,{"$f":"C10920","v":0}]
[]
[null,null,{"$f":"C10952","v":0}]
[]
[null,null,{"$f":"C10997","v":0}]
[null,null,{"$f":"C11020","v":0}]
[]
[null,null,{"$f":"C11048","v":0}]
[null,null,{"$f":"C11067","v":0}]
[null,null,{"$f":"C11095","v":0}]
[null,null,{"$f":"C11095","v":0}]
[{"$f":"A11121","v":0},null,{"$f":"C11121","v":0},null,{"$f":"E11121","v":0}]
[{"$f":"A11145","v":0},null,{"$f":"C11145","v":0},null,{"$f":"E11145","v":0}]
[{"$f":"A11157","v":0},null,{"$f":"C11157","v":0},null,{"$f":"E11157","v":0}]
[{"$f":"A11171","v":0},null,{"$f":"C11171","v":0},null,{"$f":"E11171","v":0}]
[]
[]
[]
[{"$f":"A11243","v":0},null,{"$f":"C11243","v":0},null,{"$f":"E11243","v":0}]
[{"$f":"A11267","v":0},null,{"$f":"C11267","v":0},null,{"$f":"E11267","v":0}]
[]
[{"$f":"A11298","v":0},null,{"$f":"C11298","v":0},null,{"$f":"E11298","v":0}]
[{"$f":"A11314","v":0},null,{"$f":"C11314","v":0},null,{"$f":"E11314","v":0}]
[{"$f":"A11336","v":0},null,{"$f":"C11336","v":0},null,{"$f":"E11336","v":0}]
[]
[{"$f":"A11382","v":0},null,{"$f":"C11382","v":0},null,{"$f":"E11382","v":0}]
[]
[{"$f":"A11410","v":0},null,{"$f":"C11410","v":0},null,{"$f":"E11410","v":0}]
[]
[{"$f":"A11455","v":0},null,{"$f":"C11455","v":0},null,{"$f":"E11455","v":0}]
[{"$f":"A11455","v":0},null,{"$f":"C11455","v":0},null,{"$f":"E11455","v":0}]
[{"$f":"A11485","v":0},null,{"$f":"C11485","v":0},null,{"$f":"E11485","v":0}]
[{"$f":"A11503","v":0},null,{"$f":"C11503","v":0},null,{"$f":"E11503","v":0}]
[{"$f":"A11527","v":0},null,{"$f":"C11527","v":0},null,{"$f":"E11527","v":0}]
[]
[{"$f":"A11557","v":0},null,{"$f":"C11557","v":0},null,{"$f":"E11557","v":0}]
[{"$f":"A11557","v":0},null,{"$f":"C11557","v":0},null,{"$f":"E11557","v":0}]
[{"$f":"A11557","v":0},null,{"$f":"C11557","v":0},null,{"$f":"E11557","v":0}]
[{"$f":"A11557","v":0},null,{"$f":"C11557","v":0},null,{"$f":"E11557","v":0}]
[{"$f":"A11557","v":0},null,{"$f":"C11557","v":0},null,{"$f":"E11557","v":0}]
[]
[{"$f":"A11676","v":0},null,{"$f":"C11676","v":0},null,{"$f":"E11676","v":0}]
[{"$f":"A11676","v":0},null,{"$f":"C11676","v":0},null,{"$f":"E11676","v":0}]
[]
[{"$f":"A11723","v":0},null,{"$f":"C11723","v":0},null,{"$f":"E11723","v":0}]
[{"$f":"A11749","v":0},null,{"$f":"C11749","v":0},null,{"$f":"E11749","v":0}]
[{"$f":"A11749","v":0},null,{"$f":"C11749","v":0},null,{"$f":"E11749","v":0}]
[{"$f":"A11769","v":0},null,{"$f":"C11769","v":0},null,{"$f":"E11769","v":0}]
[{"$f":"A11769","v":0},null,{"$f":"C11769","v":0},null,{"$f":"E11769","v":0}]
[{"$f":"A11818","v":0},null,{"$f":"C11818","v":0},null,{"$f":"E11818","v":0}]
[{"$f":"A11826","v":0},null,{"$f":"C11826","v":0},null,{"$f":"E11826","v":0}]
[{"$f":"A11834","v":0},null,{"$f":"C11834","v":0},null,{"$f":"E11834","v":0}]
[]
[]
[{"$f":"A11898","v":0},null,{"$f":"C11898","v":0},null,{"$f":"E11898","v":0}]
[{"$f":"A11916","v":0},null,{"$f":"C11916","v":0},null,{"$f":"E11916","v":0}]
[]
[{"$f":"A11966","v":0},null,{"$f":"C11966","v":0},null,{"$f":"E11966","v":0}]
[]
[{"$f":"A11982","v":0},null,{"$f":"C11982","v":0},null,{"$f":"E11982","v":0}]
[{"$f":"A12010","v":0},null,{"$f":"C12010","v":0},null,{"$f":"E12010","v":0}]
[{"$f":"A12041","v":0},null,{"$f":"C12041","v":0},null,{"$f":"E12041","v":0}]
[{"$f":"A12041","v":0},null,{"$f":"C12041","v":0},null,{"$f":"E12041","v":0}]
[{"$f":"A12061","v":0},null,{"$f":"C12061","v":0},null,{"$f":"E12061","v":0}]
[{"$f":"A12081","v":0},null,{"$f":"C12081","v":0},null,{"$f":"E12081","v":0}]
[{"$f":"A12108","v":0},null,{"$f":"C12108","v":0},null,{"$f":"E12108","v":0}]
[{"$f":"A12128","v":0},null,{"$f":"C12128","v":0},null,{"$f":"E12128","v":0}]
[{"$f":"A12128","v":0},null,{"$f":"C12128","v":0},null,{"$f":"E12128","v":0}]
[null,null,{"$f":"C12128","v":0}]
[{"$f":"A12174","v":0},null,{"$f":"C12174","v":0},null,{"$f":"E12174","v":0}]
[{"$f":"A12174","v":0},null,{"$f":"C12174","v":0},null,{"$f":"E12174","v":0}]
[{"$f":"A12211","v":0},null,{"$f":"C12211","v":0},null,{"$f":"E12211","v":0}]
[{"$f":"A12234","v":0},null,{"$f":"C12234","v":0},null,{"$f":"E12234","v":0}]
[{"$f":"A12254","v":0},null,{"$f":"C12254","v":0},null,{"$f":"E12254","v":0}]
[{"$f":"A12275","v":0},null,{"$f":"C12275","v":0},null,{"$f":"E12275","v":0}]
[{"$f":"A12283","v":0},null,{"$f":"C12283","v":0},null,{"$f":"E12283","v":0}]
[{"$f":"A12300","v":0},null,{"$f":"C12300","v":0},null,{"$f":"E12300","v":0}]
[{"$f":"A12323","v":0},null,{"$f":"C12323","v":0},null,{"$f":"E12323","v":0}]
[{"$f":"A12334","v":0},null,{"$f":"C12334","v":0},null,{"$f":"E12334","v":0}]
[{"$f":"A12356","v":0},null,{"$f":"C12356","v":0},null,{"$f":"E12356","v":0}]
[]
[]
[{"$f":"A12407","v":0},null,{"$f":"C12407","v":0},null,{"$f":"E12407","v":0}]
[{"$f":"A12424","v":0},null,{"$f":"C12424","v":0},null,{"$f":"E12424","v":0}]
[{"$f":"A12450","v":0},null,{"$f":"C12450","v":0},null,{"$f":"E12450","v":0}]
[{"$f":"A12472","v":0},null,{"$f":"C12472","v":0},null,{"$f":"E12472","v":0}]
[]
[{"$f":"A12502","v":0},null,{"$f":"C12502","v":0},null,{"$f":"E12502","v":0}]
[{"$f":"A12522","v":0},null,{"$f":"C12522","v":0},null,{"$f":"E12522","v":0}]
[{"$f":"A12536","v":0},null,{"$f":"C12536","v":0},null,{"$f":"E12536","v":0}]
[{"$f":"A12554","v":0},null,{"$f":"C12554","v":0},null,{"$f":"E12554","v":0}]
[{"$f":"A12572","v":0},null,{"$f":"C12572","v":0},null,{"$f":"E12572","v":0}]
[{"$f":"A12600","v":0},null,{"$f":"C12600","v":0},null,{"$f":"E12600","v":0}]
[]
[{"$f":"A12622","v":0},null,{"$f":"C12622","v":0},null,{"$f":"E12622","v":0}]
[{"$f":"A12645","v":0},null,{"$f":"C12645","v":0},null,{"$f":"E12645","v":0}]
[]
[]
[{"$f":"A12694","v":0},null,{"$f":"C12694","v":0},null,{"$f":"E12694","v":0}]
[{"$f":"A12716","v":0},null,{"$f":"C12716","v":0},null,{"$f":"E12716","v":0}]
[{"$f":"A12742","v":0},null,{"$f":"C12742","v":0},null,{"$f":"E12742","v":0}]
[{"$f":"A12763","v":0},null,{"$f":"C12763","v":0},null,{"$f":"E12763","v":0}]
[]
[{"$f":"A12787","v":0},null,{"$f":"C12787","v":0},null,{"$f":"E12787","v":0}]
[{"$f":"A12807","v":0},null,{"$f":"C12807","v":0},null,{"$f":"E12807","v":0}]
[{"$f":"A12822","v":0},null,{"$f":"C12822","v":0},null,{"$f":"E12822","v":0}]
[{"$f":"A12842","v":0},null,{"$f":"C12842","v":0},null,{"$f":"E12842","v":0}]
[]
[{"$f":"A12883","v":0},null,{"$f":"C12883","v":0},null,{"$f":"E12883","v":0}]
[{"$f":"A12893","v":0},null,{"$f":"C12893","v":0},null,{"$f":"E12893","v":0}]
[{"$f":"A12893","v":0},null,{"$f":"C12893","v":0},null,{"$f":"E12893","v":0}]
[{"$f":"A12935","v":0},null,{"$f":"C12935","v":0},null,{"$f":"E12935","v":0}]
[{"$f":"A12951","v":0},null,{"$f":"C12951","v":0},null,{"$f":"E12951","v":0}]
[{"$f":"A12961","v":0},null,{"$f":"C12961","v":0},null,{"$f":"E12961","v":0}]
[{"$f":"A12986","v":0},null,{"$f":"C12986","v":0},null,{"$f":"E12986","v":0}]
[{"$f":"A13000","v":0},null,{"$f":"C13000","v":0},null,{"$f":"E13000","v":0}]
[]
[null,null,{"$f":"C13051","v":0}]
[{"$f":"A13060","v":0},null,{"$f":"C13060","v":0},null,{"$f":"E13060","v":0}]
[null,null,{"$f":"C13075","v":0}]
[]
[{"$f":"A13108","v":0},null,{"$f":"C13108","v":0},null,{"$f":"E13108","v":0}]
[{"$f":"A13132","v":0},null,{"$f":"C13132","v":0},null,{"$f":"E13132","v":0}]
[]
[{"$f":"A13180","v":0},null,{"$f":"C13180","v":0},null,{"$f":"E13180","v":0}]
[{"$f":"A13196","v":0},null,{"$f":"C13196","v":0},null,{"$f":"E13196","v":0}]
[{"$f":"A13204","v":0},null,{"$f":"C13204","v":0},null,{"$f":"E13204","v":0}]
[{"$f":"A13220","v":0},null,{"$f":"C13220","v":0},null,{"$f":"E13220","v":0}]
[{"$f":"A13246","v":0},null,{"$f":"C13246","v":0},null,{"$f":"E13246","v":0}]
[{"$f":"A13254","v":0},null,{"$f":"C13254","v":0},null,{"$f":"E13254","v":0}]
[]
[]
[]
[{"$f":"A13342","v":0},null,{"$f":"C13342","v":0},null,{"$f":"E13342","v":0}]
[null,null,{"$f":"C13350","v":0}]
[{"$f":"A13374","v":0},null,{"$f":"C13374","v":0},null,{"$f":"E13374","v":0}]
[]
[{"$f":"A13398","v":0},null,{"$f":"C13398","v":0},null,{"$f":"E13398","v":0}]
[{"$f":"A13422","v":0},null,{"$f":"C13422","v":0},null,{"$f":"E13422","v":0}]
[{"$f":"A13445","v":0},null,{"$f":"C13445","v":0},null,{"$f":"E13445","v":0}]
[{"$f":"A13469","v":0},null,{"$f":"C13469","v":0},null,{"$f":"E13469","v":0}]
[null,null,{"$f":"C13477","v":0}]
[null,null,{"$f":"C13477","v":0}]
[{"$f":"A13517","v":0},null,{"$f":"C13517","v":0},null,{"$f":"E13517","v":0}]
[null,null,{"$f":"C13541","v":0}]
[{"$f":"A13541","v":0},null,{"$f":"C13541","v":0},null,{"$f":"E13541","v":0}]
[]
[]
[{"$f":"A13611","v":0},null,{"$f":"C13611","v":0},null,{"$f":"E13611","v":0}]
[{"$f":"A13632","v":0},null,{"$f":"C13632","v":0},null,{"$f":"E13632","v":0}]
[]
[{"$f":"A13660","v":0},null,{"$f":"C13660","v":0},null,{"$f":"E13660","v":0}]
[{"$f":"A13684","v":0},null,{"$f":"C13684","v":0},null,{"$f":"E13684","v":0}]
[{"$f":"A13692","v":0},null,{"$f":"C13692","v":0},null,{"$f":"E13692","v":0}]
[]
[]
[{"$f":"A13756","v":0},null,{"$f":"C13756","v":0},null,{"$f":"E13756","v":0}]
[]
[null,null,{"$f":"C13787","v":0}]
[]
[]
[null,null,{"$f":"C13836","v":0}]
[]
[null,null,{"$f":"C13881","v":0}]
[]
[null,null,{"$f":"C13920","v":0}]
[]
[null,null,{"$f":"C13953","v":0}]
[]
[null,null,{"$f":"C13982","v":0}]
[]
[null,null,{"$f":"C14016","v":0}]
[null,null,{"$f":"C14040","v":0}]
[{"$f":"A14056","v":0},null,{"$f":"C14056","v":0},null,{"$f":"E14056","v":0}]
[{"$f":"A14074","v":0},null,{"$f":"C14074","v":0},null,{"$f":"E14074","v":0}]
[{"$f":"A14089","v":0},null,{"$f":"C14089","v":0},null,{"$f":"E14089","v":0}]
[{"$f":"A14121","v":0},null,{"$f":"C14121","v":0},null,{"$f":"E14121","v":0}]
[{"$f":"A14121","v":0},null,{"$f":"C14121","v":0},null,{"$f":"E14121","v":0}]
[{"$f":"A14146","v":0},null,{"$f":"C14146","v":0},null,{"$f":"E14146","v":0}]
[{"$f":"A14170","v":0},null,{"$f":"C14170","v":0},null,{"$f":"E14170","v":0}]
[{"$f":"A14188","v":0},null,{"$f":"C14188","v":0},null,{"$f":"E14188","v":0}]
[{"$f":"A14202","v":0},null,{"$f":"C14202","v":0},null,{"$f":"E14202","v":0}]
[null,null,{"$f":"C14222","v":0}]
[]
[{"$f":"A14267","v":0},null,{"$f":"C14267","v":0},null,{"$f":"E14267","v":0}]
[{"$f":"A14267","v":0},null,{"$f":"C14267","v":0},null,{"$f":"E14267","v":0}]
[{"$f":"A14287","v":0},null,{"$f":"C14287","v":0},null,{"$f":"E14287","v":0}]
[null,null,{"$f":"C14317","v":0}]
[null,null,{"$f":"C14337","v":0}]
[null,null,{"$f":"C14347","v":0}]
[null,null,{"$f":"C14367","v":0}]
[]
[]
[null,null,{"$f":"C14416","v":0}]
[null,null,{"$f":"C14438","v":0}]
[null,null,{"$f":"C14456","v":0}]
[null,null,{"$f":"C14482","v":0}]
[null,null,{"$f":"C14492","v":0}]
[]
[{"$f":"A14516","v":0},null,{"$f":"C14516","v":0},null,{"$f":"E14516","v":0}]
[{"$f":"A14516","v":0},null,{"$f":"C14516","v":0},null,{"$f":"E14516","v":0}]
[{"$f":"A14516","v":0},null,{"$f":"C14516","v":0},null,{"$f":"E14516","v":0}]
[{"$f":"A14580","v":0},null,{"$f":"C14580","v":0},null,{"$f":"E14580","v":0}]
[]
[{"$f":"A14630","v":0},null,{"$f":"C14630","v":0},null,{"$f":"E14630","v":0}]
[]
[]
[{"$f":"A14678","v":0},null,{"$f":"C14678","v":0},null,{"$f":"E14678","v":0}]
[]
[{"$f":"A14706","v":0},null,{"$f":"C14706","v":0},null,{"$f":"E14706","v":0}]
[{"$f":"A14727","v":0},null,{"$f":"C14727","v":0},null,{"$f":"E14727","v":0}]
[{"$f":"A14755","v":0},null,{"$f":"C14755","v":0},null,{"$f":"E14755","v":0}]
[{"$f":"A14765","v":0},null,{"$f":"C14765","v":0},null,{"$f":"E14765","v":0}]
[{"$f":"A14780","v":0},null,{"$f":"C14780","v":0},null,{"$f":"E14780","v":0}]
[{"$f":"A14804","v":0},null,{"$f":"C14804","v":0},null,{"$f":"E14804","v":0}]
[{"$f":"A14826","v":0},null,{"$f":"C14826","v":0},null,{"$f":"E14826","v":0}]
[{"$f":"A14843","v":0},null,{"$f":"C14843","v":0},null,{"$f":"E14843","v":0}]
[{"$f":"A14843","v":0},null,{"$f":"C14843","v":0},null,{"$f":"E14843","v":0}]
[]
[{"$f":"A14897","v":0},null,{"$f":"C14897","v":0},null,{"$f":"E14897","v":0}]
[{"$f":"A14918","v":0},null,{"$f":"C14918","v":0},null,{"$f":"E14918","v":0}]
[{"$f":"A14928","v":0},null,{"$f":"C14928","v":0},null,{"$f":"E14928","v":0}]
[{"$f":"A14948","v":0},null,{"$f":"C14948","v":0},null,{"$f":"E14948","v":0}]
[{"$f":"A14972","v":0},null,{"$f":"C14972","v":0},null,{"$f":"E14972","v":0}]
[{"$f":"A14992","v":0},null,{"$f":"C14992","v":0},null,{"$f":"E14992","v":0}]
[{"$f":"A15014","v":0},null,{"$f":"C15014","v":0},null,{"$f":"E15014","v":0}]
[{"$f":"A15024","v":0},null,{"$f":"C15024","v":0},null,{"$f":"E15024","v":0}]
[{"$f":"A15040","v":0},null,{"$f":"C15040","v":0},null,{"$f":"E15040","v":0}]
[{"$f":"A15050","v":0},null,{"$f":"C15050","v":0},null,{"$f":"E15050","v":0}]
[{"$f":"A15070","v":0},null,{"$f":"C15070","v":0},null,{"$f":"E15070","v":0}]
[{"$f":"A15092","v":0},null,{"$f":"C15092","v":0},null,{"$f":"E15092","v":0}]
[{"$f":"A15115","v":0},null,{"$f":"C15115","v":0},null,{"$f":"E15115","v":0}]
[{"$f":"A15128","v":0},null,{"$f":"C15128","v":0},null,{"$f":"E15128","v":0}]
[{"$f":"A15143","v":0},null,{"$f":"C15143","v":0},null,{"$f":"E15143","v":0}]
[{"$f":"A15143","v":0},null,{"$f":"C15143","v":0},null,{"$f":"E15143","v":0}]
[{"$f":"A15190","v":0},null,{"$f":"C15190","v":0},null,{"$f":"E15190","v":0}]
[{"$f":"A15190","v":0},null,{"$f":"C15190","v":0},null,{"$f":"E15190","v":0}]
[{"$f":"A15212","v":0},null,{"$f":"C15212","v":0},null,{"$f":"E15212","v":0}]
[{"$f":"A15237","v":0},null,{"$f":"C15237","v":0},null,{"$f":"E15237","v":0}]
[{"$f":"A15253","v":0},null,{"$f":"C15253","v":0},null,{"$f":"E15253","v":0}]
[{"$f":"A15253","v":0},null,{"$f":"C15253","v":0},null,{"$f":"E15253","v":0}]
[{"$f":"A15253","v":0},null,{"$f":"C15253","v":0},null,{"$f":"E15253","v":0}]
[{"$f":"A15313","v":0},null,{"$f":"C15313","v":0},null,{"$f":"E15313","v":0}]
[]
[{"$f":"A15336","v":0},null,{"$f":"C15336","v":0},null,{"$f":"E15336","v":0}]
[{"$f":"A15359","v":0},null,{"$f":"C15359","v":0},null,{"$f":"E15359","v":0}]
[{"$f":"A15382","v":0},null,{"$f":"C15382","v":0},null,{"$f":"E15382","v":0}]
[{"$f":"A15398","v":0},null,{"$f":"C15398","v":0},null,{"$f":"E15398","v":0}]
[]
[{"$f":"A15438","v":0},null,{"$f":"C15438","v":0},null,{"$f":"E15438","v":0}]
[{"$f":"A15456","v":0},null,{"$f":"C15456","v":0},null,{"$f":"E15456","v":0}]
[{"$f":"A15474","v":0},null,{"$f":"C15474","v":0},null,{"$f":"E15474","v":0}]
[{"$f":"A15483","v":0},null,{"$f":"C15483","v":0},null,{"$f":"E15483","v":0}]
[{"$f":"A15496","v":0},null,{"$f":"C15496","v":0},null,{"$f":"E15496","v":0}]
[]
[{"$f":"A15552","v":0},null,{"$f":"C15552","v":0},null,{"$f":"E15552","v":0}]
[{"$f":"A15572","v":0},null,{"$f":"C15572","v":0},null,{"$f":"E15572","v":0}]
[{"$f":"A15580","v":0},null,{"$f":"C15580","v":0},null,{"$f":"E15580","v":0}]
[{"$f":"A15601","v":0},null,{"$f":"C15601","v":0},null,{"$f":"E15601","v":0}]
[{"$f":"A15622","v":0},null,{"$f":"C15622","v":0},null,{"$f":"E15622","v":0}]
[{"$f":"A15631","v":0},null,{"$f":"C15631","v":0},null,{"$f":"E15631","v":0}]
[{"$f":"A15647","v":0},null,{"$f":"C15647","v":0},null,{"$f":"E15647","v":0}]
[{"$f":"A15663","v":0},null,{"$f":"C15663","v":0},null,{"$f":"E15663","v":0}]
[{"$f":"A15684","v":0},null,{"$f":"C15684","v":0},null,{"$f":"E15684","v":0}]
[{"$f":"A15720","v":0},null,{"$f":"C15720","v":0},null,{"$f":"E15720","v":0}]
[{"$f":"A15727","v":0},null,{"$f":"C15727","v":0},null,{"$f":"E15727","v":0}]
[]
[{"$f":"A15767","v":0},null,{"$f":"C15767","v":0},null,{"$f":"E15767","v":0}]
[{"$f":"A15774","v":0},null,{"$f":"C15774","v":0},null,{"$f":"E15774","v":0}]
[{"$f":"A15791","v":0},null,{"$f":"C15791","v":0},null,{"$f":"E15791","v":0}]
[{"$f":"A15818","v":0},null,{"$f":"C15818","v":0},null,{"$f":"E15818","v":0}]
[{"$f":"A15841","v":0},null,{"$f":"C15841","v":0},null,{"$f":"E15841","v":0}]
[]
[{"$f":"A15868","v":0},null,{"$f":"C15868","v":0},null,{"$f":"E15868","v":0}]
[{"$f":"A15893","v":0},null,{"$f":"C15893","v":0},null,{"$f":"E15893","v":0}]
[{"$f":"A15910","v":0},null,{"$f":"C15910","v":0},null,{"$f":"E15910","v":0}]
[{"$f":"A15918","v":0},null,{"$f":"C15918","v":0},null,{"$f":"E15918","v":0}]
[{"$f":"A15942","v":0},null,{"$f":"C15942","v":0},null,{"$f":"E15942","v":0}]
[{"$f":"A15959","v":0},null,{"$f":"C15959","v":0},null,{"$f":"E15959","v":0}]
[{"$f":"A15985","v":0},null,{"$f":"C15985","v":0},null,{"$f":"E15985","v":0}]
[{"$f":"A16006","v":0},null,{"$f":"C16006","v":0},null,{"$f":"E16006","v":0}]
[{"$f":"A16014","v":0},null,{"$f":"C16014","v":0},null,{"$f":"E16014","v":0}]
[{"$f":"A16039","v":0},null,{"$f":"C16039","v":0},null,{"$f":"E16039","v":0}]
[{"$f":"A16063","v":0},null,{"$f":"C16063","v":0},null,{"$f":"E16063","v":0}]
[{"$f":"A16063","v":0},null,{"$f":"C16063","v":0},null,{"$f":"E16063","v":0}]
[{"$f":"A16084","v":0},null,{"$f":"C16084","v":0},null,{"$f":"E16084","v":0}]
[{"$f":"A16110","v":0},null,{"$f":"C16110","v":0},null,{"$f":"E16110","v":0}]
[]
[{"$f":"A16151","v":0},null,{"$f":"C16151","v":0},null,{"$f":"E16151","v":0}]
[{"$f":"A16151","v":0},null,{"$f":"C16151","v":0},null,{"$f":"E16151","v":0}]
[{"$f":"A16183","v":0},null,{"$f":"C16183","v":0},null,{"$f":"E16183","v":0}]
[]
[{"$f":"A16210","v":0},null,{"$f":"C16210","v":0},null,{"$f":"E16210","v":0}]
[{"$f":"A16217","v":0},null,{"$f":"C16217","v":0},null,{"$f":"E16217","v":0}]
[{"$f":"A16258","v":0},null,{"$f":"C16258","v":0},null,{"$f":"E16258","v":0}]
[{"$f":"A16280","v":0},null,{"$f":"C16280","v":0},null,{"$f":"E16280","v":0}]
[{"$f":"A16298","v":0},null,{"$f":"C16298","v":0},null,{"$f":"E16298","v":0}]
[]
[{"$f":"A16310","v":0},null,{"$f":"C16310","v":0},null,{"$f":"E16310","v":0}]
[{"$f":"A16334","v":0},null,{"$f":"C16334","v":0},null,{"$f":"E16334","v":0}]
[]
[{"$f":"A16370","v":0},null,{"$f":"C16370","v":0},null,{"$f":"E16370","v":0}]
[{"$f":"A16404","v":0},null,{"$f":"C16404","v":0},null,{"$f":"E16404","v":0}]
[{"$f":"A16424","v":0},null,{"$f":"C16424","v":0},null,{"$f":"E16424","v":0}]
[{"$f":"A16424","v":0},null,{"$f":"C16424","v":0},null,{"$f":"E16424","v":0}]
[]
[{"$f":"A16469","v":0},null,{"$f":"C16469","v":0},null,{"$f":"E16469","v":0}]
[{"$f":"A16498","v":0},null,{"$f":"C16498","v":0},null,{"$f":"E16498","v":0}]
[{"$f":"A16498","v":0},null,{"$f":"C16498","v":0},null,{"$f":"E16498","v":0}]
[{"$f":"A16518","v":0},null,{"$f":"C16518","v":0},null,{"$f":"E16518","v":0}]
[{"$f":"A16549","v":0},null,{"$f":"C16549","v":0},null,{"$f":"E16549","v":0}]
[{"$f":"A16570","v":0},null,{"$f":"C16570","v":0},null,{"$f":"E16570","v":0}]
[{"$f":"A16577","v":0},null,{"$f":"C16577","v":0},null,{"$f":"E16577","v":0}]
[{"$f":"A16596","v":0},null,{"$f":"C16596","v":0},null,{"$f":"E16596","v":0}]
[{"$f":"A16603","v":0},null,{"$f":"C16603","v":0},null,{"$f":"E16603","v":0}]
[{"$f":"A16603","v":0},null,{"$f":"C16603","v":0},null,{"$f":"E16603","v":0}]
[{"$f":"A16664","v":0},null,{"$f":"C16664","v":0},null,{"$f":"E16664","v":0}]
[{"$f":"A16671","v":0},null,{"$f":"C16671","v":0},null,{"$f":"E16671","v":0}]
[{"$f":"A16691","v":0},null,{"$f":"C16691","v":0},null,{"$f":"E16691","v":0}]
[{"$f":"A16712","v":0},null,{"$f":"C16712","v":0},null,{"$f":"E16712","v":0}]
[{"$f":"A16719","v":0},null,{"$f":"C16719","v":0},null,{"$f":"E16719","v":0}]
[{"$f":"A16741","v":0},null,{"$f":"C16741","v":0},null,{"$f":"E16741","v":0}]
[{"$f":"A16762","v":0},null,{"$f":"C16762","v":0},null,{"$f":"E16762","v":0}]
[{"$f":"A16788","v":0},null,{"$f":"C16788","v":0},null,{"$f":"E16788","v":0}]
[{"$f":"A16809","v":0},null,{"$f":"C16809","v":0},null,{"$f":"E16809","v":0}]
[{"$f":"A16817","v":0},null,{"$f":"C16817","v":0},null,{"$f":"E16817","v":0}]
[{"$f":"A16839","v":0},null,{"$f":"C16839","v":0},null,{"$f":"E16839","v":0}]
[]
[]
[{"$f":"A16884","v":0},null,{"$f":"C16884","v":0},null,{"$f":"E16884","v":0}]
[{"$f":"A16905","v":0},null,{"$f":"C16905","v":0},null,{"$f":"E16905","v":0}]
[{"$f":"A16932","v":0},null,{"$f":"C16932","v":0},null,{"$f":"E16932","v":0}]
[{"$f":"A16938","v":0},null,{"$f":"C16938","v":0},null,{"$f":"E16938","v":0}]
[{"$f":"A16959","v":0},null,{"$f":"C16959","v":0},null,{"$f":"E16959","v":0}]
[{"$f":"A16981","v":0},null,{"$f":"C16981","v":0},null,{"$f":"E16981","v":0}]
[{"$f":"A16981","v":0},null,{"$f":"C16981","v":0},null,{"$f":"E16981","v":0}]
[{"$f":"A16981","v":0},null,{"$f":"C16981","v":0},null,{"$f":"E16981","v":0}]
[]
[{"$f":"A17057","v":0},null,{"$f":"C17057","v":0},null,{"$f":"E17057","v":0}]
[{"$f":"A17074","v":0},null,{"$f":"C17074","v":0},null,{"$f":"E17074","v":0}]
[{"$f":"A17083","v":0},null,{"$f":"C17083","v":0},null,{"$f":"E17083","v":0}]
[{"$f":"A17107","v":0},null,{"$f":"C17107","v":0},null,{"$f":"E17107","v":0}]
[{"$f":"A17129","v":0},null,{"$f":"C17129","v":0},null,{"$f":"E17129","v":0}]
[{"$f":"A17143","v":0},null,{"$f":"C17143","v":0},null,{"$f":"E17143","v":0}]
[{"$f":"A17143","v":0},null,{"$f":"C17143","v":0},null,{"$f":"E17143","v":0}]
[]
[{"$f":"A17200","v":0},null,{"$f":"C17200","v":0},null,{"$f":"E17200","v":0}]
[{"$f":"A17219","v":0},null,{"$f":"C17219","v":0},null,{"$f":"E17219","v":0}]
[{"$f":"A17228","v":0},null,{"$f":"C17228","v":0},null,{"$f":"E17228","v":0}]
[{"$f":"A17251","v":0},null,{"$f":"C17251","v":0},null,{"$f":"E17251","v":0}]
[]
[{"$f":"A17295","v":0},null,{"$f":"C17295","v":0},null,{"$f":"E17295","v":0}]
[]
[{"$f":"A17320","v":0},null,{"$f":"C17320","v":0},null,{"$f":"E17320","v":0}]
[{"$f":"A17346","v":0},null,{"$f":"C17346","v":0},null,{"$f":"E17346","v":0}]
[]
[{"$f":"A17371","v":0},null,{"$f":"C17371","v":0},null,{"$f":"E17371","v":0}]
[]
[{"$f":"A17414","v":0},null,{"$f":"C17414","v":0},null,{"$f":"E17414","v":0}]
[{"$f":"A17414","v":0},null,{"$f":"C17414","v":0},null,{"$f":"E17414","v":0}]
[{"$f":"A17414","v":0},null,{"$f":"C17414","v":0},null,{"$f":"E17414","v":0}]
[{"$f":"A17468","v":0},null,{"$f":"C17468","v":0},null,{"$f":"E17468","v":0}]
[{"$f":"A17492","v":0},null,{"$f":"C17492","v":0},null,{"$f":"E17492","v":0}]
[{"$f":"A17513","v":0},null,{"$f":"C17513","v":0},null,{"$f":"E17513","v":0}]
[]
[{"$f":"A17520","v":0},null,{"$f":"C17520","v":0},null,{"$f":"E17520","v":0}]
[{"$f":"A17561","v":0},null,{"$f":"C17561","v":0},null,{"$f":"E17561","v":0}]
[{"$f":"A17583","v":0},null,{"$f":"C17583","v":0},null,{"$f":"E17583","v":0}]
[{"$f":"A17583","v":0},null,{"$f":"C17583","v":0},null,{"$f":"E17583","v":0}]
[{"$f":"A17611","v":0},null,{"$f":"C17611","v":0},null,{"$f":"E17611","v":0}]
[{"$f":"A17630","v":0},null,{"$f":"C17630","v":0},null,{"$f":"E17630","v":0}]
[{"$f":"A17656","v":0},null,{"$f":"C17656","v":0},null,{"$f":"E17656","v":0}]
[{"$f":"A17656","v":0},null,{"$f":"C17656","v":0},null,{"$f":"E17656","v":0}]
[{"$f":"A17687","v":0},null,{"$f":"C17687","v":0},null,{"$f":"E17687","v":0}]
[{"$f":"A17704","v":0},null,{"$f":"C17704","v":0},null,{"$f":"E17704","v":0}]
[{"$f":"A17723","v":0},null,{"$f":"C17723","v":0},null,{"$f":"E17723","v":0}]
[{"$f":"A17723","v":0},null,{"$f":"C17723","v":0},null,{"$f":"E17723","v":0}]
[]
[{"$f":"A17780","v":0},null,{"$f":"C17780","v":0},null,{"$f":"E17780","v":0}]
[{"$f":"A17780","v":0},null,{"$f":"C17780","v":0},null,{"$f":"E17780","v":0}]
[{"$f":"A17780","v":0},null,{"$f":"C17780","v":0},null,{"$f":"E17780","v":0}]
[{"$f":"A17830","v":0},null,{"$f":"C17830","v":0},null,{"$f":"E17830","v":0}]
[{"$f":"A17837","v":0},null,{"$f":"C17837","v":0},null,{"$f":"E17837","v":0}]
[{"$f":"A17837","v":0},null,{"$f":"C17837","v":0},null,{"$f":"E17837","v":0}]
[{"$f":"A17837","v":0},null,{"$f":"C17837","v":0},null,{"$f":"E17837","v":0}]
[{"$f":"A17837","v":0},null,{"$f":"C17837","v":0},null,{"$f":"E17837","v":0}]
[{"$f":"A17837","v":0},null,{"$f":"C17837","v":0},null,{"$f":"E17837","v":0}]
[{"$f":"A17946","v":0},null,{"$f":"C17946","v":0},null,{"$f":"E17946","v":0}]
[{"$f":"A17946","v":0},null,{"$f":"C17946","v":0},null,{"$f":"E17946","v":0}]
[null,null,{"$f":"C17974","v":0}]
[{"$f":"A17974","v":0},null,{"$f":"C17974","v":0},null,{"$f":"E17974","v":0}]
[{"$f":"A17974","v":0},null,{"$f":"C17974","v":0},null,{"$f":"E17974","v":0}]
[{"$f":"A17974","v":0},null,{"$f":"C17974","v":0},null,{"$f":"E17974","v":0}]
[{"$f":"A18052","v":0},null,{"$f":"C18052","v":0},null,{"$f":"E18052","v":0}]
[{"$f":"A18052","v":0},null,{"$f":"C18052","v":0},null,{"$f":"E18052","v":0}]
[{"$f":"A18082","v":0},null,{"$f":"C18082","v":0},null,{"$f":"E18082","v":0}]
[{"$f":"A18082","v":0},null,{"$f":"C18082","v":0},null,{"$f":"E18082","v":0}]
[{"$f":"A18114","v":0},null,{"$f":"C18114","v":0},null,{"$f":"E18114","v":0}]
[{"$f":"A18136","v":0},null,{"$f":"C18136","v":0},null,{"$f":"E18136","v":0}]
[{"$f":"A18136","v":0},null,{"$f":"C18136","v":0},null,{"$f":"E18136","v":0}]
[{"$f":"A18171","v":0},null,{"$f":"C18171","v":0},null,{"$f":"E18171","v":0}]
[]
[{"$f":"A18199","v":0},null,{"$f":"C18199","v":0},null,{"$f":"E18199","v":0}]
[{"$f":"A18235","v":0},null,{"$f":"C18235","v":0},null,{"$f":"E18235","v":0}]
[{"$f":"A18243","v":0},null,{"$f":"C18243","v":0},null,{"$f":"E18243","v":0}]
[null,null,{"$f":"C18257","v":0}]
[{"$f":"A18291","v":0},null,{"$f":"C18291","v":0},null,{"$f":"E18291","v":0}]
[]
[{"$f":"A18314","v":0},null,{"$f":"C18314","v":0},null,{"$f":"E18314","v":0}]
[{"$f":"A18324","v":0},null,{"$f":"C18324","v":0},null,{"$f":"E18324","v":0}]
[]
[{"$f":"A18380","v":0},null,{"$f":"C18380","v":0},null,{"$f":"E18380","v":0}]
[]
[{"$f":"A18410","v":0},null,{"$f":"C18410","v":0},null,{"$f":"E18410","v":0}]
[]
[{"$f":"A18458","v":0},null,{"$f":"C18458","v":0},null,{"$f":"E18458","v":0}]
[]
[{"$f":"A18484","v":0},null,{"$f":"C18484","v":0},null,{"$f":"E18484","v":0}]
[null,null,{"$f":"C18502","v":0}]
[null,null,{"$f":"C18502","v":0}]
[null,null,{"$f":"C18502","v":0}]
[{"$f":"A18502","v":0},null,{"$f":"C18502","v":0},null,{"$f":"E18502","v":0}]
[{"$f":"A18576","v":0},null,{"$f":"C18576","v":0},null,{"$f":"E18576","v":0}]
[{"$f":"A18602","v":0},null,{"$f":"C18602","v":0},null,{"$f":"E18602","v":0}]
[]
[]
[{"$f":"A18644","v":0},null,{"$f":"C18644","v":0},null,{"$f":"E18644","v":0}]
[null,null,{"$f":"C18658","v":0}]
[{"$f":"A18679","v":0},null,{"$f":"C18679","v":0},null,{"$f":"E18679","v":0}]
[null,null,{"$f":"C18695","v":0}]
[{"$f":"A18724","v":0},null,{"$f":"C18724","v":0},null,{"$f":"E18724","v":0}]
[{"$f":"A18750","v":0},null,{"$f":"C18750","v":0},null,{"$f":"E18750","v":0}]
[{"$f":"A18750","v":0},null,{"$f":"C18750","v":0},null,{"$f":"E18750","v":0}]
[{"$f":"A18774","v":0},null,{"$f":"C18774","v":0},null,{"$f":"E18774","v":0}]
[null,null,{"$f":"C18782","v":0}]
[null,null,{"$f":"C18782","v":0}]
[{"$f":"A18823","v":0},null,{"$f":"C18823","v":0},null,{"$f":"E18823","v":0}]
[{"$f":"A18823","v":0},null,{"$f":"C18823","v":0},null,{"$f":"E18823","v":0}]
[{"$f":"A18871","v":0},null,{"$f":"C18871","v":0},null,{"$f":"E18871","v":0}]
[null,null,{"$f":"C18895","v":0}]
[]
[null,null,{"$f":"C18919","v":0}]
[null,null,{"$f":"C18943","v":0}]
[null,null,{"$f":"C18951","v":0}]
[null,null,{"$f":"C18971","v":0}]
[]
[null,null,{"$f":"C18995","v":0}]
[null,null,{"$f":"C19037","v":0}]
[]
[]
[null,null,{"$f":"C19089","v":0}]
[]
[]
[]
[null,null,{"$f":"C19133","v":0}]
[null,null,{"$f":"C19133","v":0}]
[null,null,{"$f":"C19133","v":0}]
[null,null,{"$f":"C19133","v":0}]
[null,null,{"$f":"C19133","v":0}]
[null,null,{"$f":"C19133","v":0}]
[null,null,{"$f":"C19133","v":0}]
[null,null,{"$f":"C19133","v":0}]
[]
[]
[null,null,{"$f":"C19143","v":0}]
[null,null,{"$f":"C19143","v":0}]
[null,null,{"$f":"C19143","v":0}]
[null,null,{"$f":"C19143","v":0}]
[]
[]
[null,null,{"$f":"C19149","v":0}]
[null,null,{"$f":"C19149","v":0}]
[null,null,{"$f":"C19149","v":0}]
[null,null,{"$f":"C19149","v":0}]
[null,null,{"$f":"C19149","v":0}]
[null,null,{"$f":"C19149","v":0}]
[]
[]
[null,null,{"$f":"C19157","v":0}]
[null,null,{"$f":"C19157","v":0}]
[null,null,{"$f":"C19157","v":0}]
[null,null,{"$f":"C19157","v":0}]
[null,null,{"$f":"C19157","v":0}]
[null,null,{"$f":"C19157","v":0}]
[]
[]
[null,null,{"$f":"C19165","v":0}]
[null,null,{"$f":"C19165","v":0}]
[null,null,{"$f":"C19165","v":0}]
[null,null,{"$f":"C19165","v":0}]
[null,null,{"$f":"C19165","v":0}]
[null,null,{"$f":"C19165","v":0}]
[]
[]
[null,null,{"$f":"C19173","v":0}]
[null,null,{"$f":"C19173","v":0}]
[null,null,{"$f":"C19173","v":0}]
[null,null,{"$f":"C19173","v":0}]
[null,null,{"$f":"C19173","v":0}]
[null,null,{"$f":"C19173","v":0}]
[]
[]
[null,null,{"$f":"C19181","v":0}]
[null,null,{"$f":"C19181","v":0}]
[null,null,{"$f":"C19181","v":0}]
[null,null,{"$f":"C19181","v":0}]
[null,null,{"$f":"C19181","v":0}]
[null,null,{"$f":"C19181","v":0}]
[null,null,{"$f":"C19181","v":0}]
[]
[]
[null,null,{"$f":"C19190","v":0}]
[null,null,{"$f":"C19190","v":0}]
[null,null,{"$f":"C19190","v":0}]
[null,null,{"$f":"C19190","v":0}]
[null,null,{"$f":"C19190","v":0}]
[null,null,{"$f":"C19190","v":0}]
[]
[]
[null,null,{"$f":"C19198","v":0}]
[null,null,{"$f":"C19198","v":0}]
[null,null,{"$f":"C19198","v":0}]
[]
[]
[null,null,{"$f":"C19203","v":0}]
[null,null,{"$f":"C19203","v":0}]
[null,null,{"$f":"C19203","v":0}]
[null,null,{"$f":"C19203","v":0}]
[]
[]
[null,null,{"$f":"C19209","v":0}]
[null,null,{"$f":"C19209","v":0}]
[null,null,{"$f":"C19209","v":0}]
[null,null,{"$f":"C19209","v":0}]
[null,null,{"$f":"C19209","v":0}]
[null,null,{"$f":"C19209","v":0}]
[]
[]
[null,null,{"$f":"C19217","v":0}]
[null,null,{"$f":"C19217","v":0}]
[null,null,{"$f":"C19217","v":0}]
[null,null,{"$f":"C19217","v":0}]
[null,null,{"$f":"C19217","v":0}]
[null,null,{"$f":"C19217","v":0}]
[]
[]
[null,null,{"$f":"C19225","v":0}]
[null,null,{"$f":"C19225","v":0}]
[null,null,{"$f":"C19225","v":0}]
[null,null,{"$f":"C19225","v":0}]
[null,null,{"$f":"C19225","v":0}]
[null,null,{"$f":"C19225","v":0}]
[null,null,{"$f":"C19225","v":0}]
[null,null,{"$f":"C19225","v":0}]
[null,null,{"$f":"C19225","v":0}]
[null,null,{"$f":"C19225","v":0}]
[null,null,{"$f":"C19225","v":0}]
[null,null,{"$f":"C19225","v":0}]
[null,null,{"$f":"C19225","v":0}]
[null,null,{"$f":"C19225","v":0}]
[null,null,{"$f":"C19225","v":0}]
[null,null,{"$f":"C19225","v":0}]
[]
[]
[null,null,{"$f":"C19243","v":0}]
[null,null,{"$f":"C19243","v":0}]
[null,null,{"$f":"C19243","v":0}]
[null,null,{"$f":"C19243","v":0}]
[null,null,{"$f":"C19243","v":0}]
[null,null,{"$f":"C19243","v":0}]
[null,null,{"$f":"C19243","v":0}]
[null,null,{"$f":"C19243","v":0}]
[null,null,{"$f":"C19243","v":0}]
[null,null,{"$f":"C19243","v":0}]
[null,null,{"$f":"C19243","v":0}]
[null,null,{"$f":"C19243","v":0}]
[null,null,{"$f":"C19243","v":0}]
[null,null,{"$f":"C19243","v":0}]
[null,null,{"$f":"C19243","v":0}]
[null,null,{"$f":"C19243","v":0}]
[null,null,{"$f":"C19243","v":0}]
[]
[]
[null,null,{"$f":"C19262","v":0}]
[null,null,{"$f":"C19262","v":0}]
[]
[]
[null,null,{"$f":"C19266","v":0}]
[null,null,{"$f":"C19266","v":0}]
[]
[]
[null,null,{"$f":"C19270","v":0}]
[null,null,{"$f":"C19270","v":0}]
[null,null,{"$f":"C19270","v":0}]
[]
[]
[null,null,{"$f":"C19275","v":0}]
[null,null,{"$f":"C19275","v":0}]
[null,null,{"$f":"C19275","v":0}]
[null,null,{"$f":"C19275","v":0}]
[]
[]
[null,null,{"$f":"C19281","v":0}]
[null,null,{"$f":"C19281","v":0}]
[]
[]
[null,null,{"$f":"C19285","v":0}]
[null,null,{"$f":"C19285","v":0}]
[null,null,{"$f":"C19285","v":0}]
[null,null,{"$f":"C19285","v":0}]
[null,null,{"$f":"C19285","v":0}]
[null,null,{"$f":"C19285","v":0}]
[null,null,{"$f":"C19285","v":0}]
[null,null,{"$f":"C19285","v":0}]
[null,null,{"$f":"C19285","v":0}]
[null,null,{"$f":"C19285","v":0}]
[null,null,{"$f":"C19285","v":0}]
[null,null,{"$f":"C19285","v":0}]
[null,null,{"$f":"C19285","v":0}]
[]
[]
[null,null,{"$f":"C19300","v":0}]
[null,null,{"$f":"C19300","v":0}]
[]
[]
[null,null,{"$f":"C19304","v":0}]
[null,null,{"$f":"C19304","v":0}]
[null,null,{"$f":"C19304","v":0}]
[null,null,{"$f":"C19304","v":0}]
[null,null,{"$f":"C19304","v":0}]
[]
[]
[null,null,{"$f":"C19311","v":0}]
[null,null,{"$f":"C19311","v":0}]
[null,null,{"$f":"C19311","v":0}]
[null,null,{"$f":"C19311","v":0}]
[null,null,{"$f":"C19311","v":0}]
[null,null,{"$f":"C19311","v":0}]
[null,null,{"$f":"C19311","v":0}]
[null,null,{"$f":"C19311","v":0}]
[]
[]
[null,null,{"$f":"C19321","v":0}]
[null,null,{"$f":"C19321","v":0}]
[]
[]
[null,null,{"$f":"C19325","v":0}]
[null,null,{"$f":"C19325","v":0}]
[]
[]
[null,null,{"$f":"C19329","v":0}]
[null,null,{"$f":"C19329","v":0}]
[]
[]
[null,null,{"$f":"C19333","v":0}]
[null,null,{"$f":"C19333","v":0}]
[null,null,{"$f":"C19333","v":0}]
[null,null,{"$f":"C19333","v":0}]
[]
[]
[null,null,{"$f":"C19339","v":0}]
[null,null,{"$f":"C19339","v":0}]
[null,null,{"$f":"C19339","v":0}]
[null,null,{"$f":"C19339","v":0}]
[]
[]
[null,null,{"$f":"C19345","v":0}]
[null,null,{"$f":"C19345","v":0}]
[null,null,{"$f":"C19345","v":0}]
[null,null,{"$f":"C19345","v":0}]
[]
[]
[null,null,{"$f":"C19351","v":0}]
[null,null,{"$f":"C19351","v":0}]
[null,null,{"$f":"C19351","v":0}]
[null,null,{"$f":"C19351","v":0}]
[null,null,{"$f":"C19351","v":0}]
[]
[]
[null,null,{"$f":"C19358","v":0}]
[null,null,{"$f":"C19358","v":0}]
[]
[]
[null,null,{"$f":"C19362","v":0}]
[null,null,{"$f":"C19362","v":0}]
[null,null,{"$f":"C19362","v":0}]
[null,null,{"$f":"C19362","v":0}]
[]
[]
[null,null,{"$f":"C19368","v":0}]
[null,null,{"$f":"C19368","v":0}]
[null,null,{"$f":"C19368","v":0}]
[]
[]
[null,null,{"$f":"C19373","v":0}]
[null,null,{"$f":"C19373","v":0}]
[null,null,{"$f":"C19373","v":0}]
[null,null,{"$f":"C19373","v":0}]
[null,null,{"$f":"C19373","v":0}]
[]
[]
[null,null,{"$f":"C19380","v":0}]
[null,null,{"$f":"C19380","v":0}]

{"sheet":"Summary","index":1,"n_rows":26,"n_cols":40,"rows_kept":26,"cut":false,"hidden":false,"merged":[[18,20,19,20],[18,22,19,22],[18,24,19,24],[6,12,6,16],[9,12,9,16],[10,12,10,16],[9,20,9,30],[24,8,24,14],[14,20,14,30],[10,20,10,30],[11,20,11,30],[12,20,12,30],[13,12,13,16],[14,12,14,16],[23,8,23,14],[20,8,20,14],[21,8,21,14],[19,8,19,14],[13,20,13,30],[12,12,12,16],[11,12,11,16],[18,8,18,14],[22,8,22,14],[1,12,1,16],[2,12,2,16],[3,12,3,16],[5,28,5,30],[4,12,4,16],[5,12,5,16],[1,20,1,30],[2,20,2,30],[3,20,3,22],[5,20,5,22]]}
[null,null,null,null,null,null,null,null,null,null,null,null,"BILL TO INFORMATION:",null,null,null,null,null,null,null,"ORDER INFORMATION:"]
[null,null,null,null,null,null,null,null,null,null,"Organization:",null,null,null,null,null,null,null,"Sale Rep:"]
[null,null,null,null,null,null,null,null,null,null,"Contact Name:",null,null,null,null,null,null,null,"PO Number:"]
[null,null,null,null,null,null,null,null,null,null,"Address:",null,null,null,null,null,null,null,"Need by Date:"]
[null,null,null,null,null,null,null,null,null,null,"City, State, Zip:",null,null,null,null,null,null,null,"Backorders",null,null,null,null,null,null,null,"Processing"]
[null,null,null,null,null,null,null,null,null,null,"eMail Address:",null,null,null,null,null,null,null,"Accepted?:",null,null,null,null,null,null,null,"Ordered?:"]
[null,null,null,null,null,null,null,null,null,null,"Phone Number:"]
["",null,"Remit to: J. Appleseed Media"]
[null,null,"PO Box 3006 | Mankato, MN 56001",null,null,null,null,null,null,null,null,null,"SHIP TO INFORMATION:",null,null,null,"Click if same as Bill To",null,null,null,"ADDITIONAL INSTRUCTIONS:"]
[null,null,"(P) 833.776.0483 | (F) 507.388.7330",null,null,null,null,null,null,null,"Organization:"]
["",null,"orders@jappleseedmedia.com",null,null,null,null,null,null,null,"Contact Name:"]
["",null,"www.jappleseedmedia.com",null,null,null,null,null,null,null,"Address:"]
["",null,"Visa, Mastercard, American Express or check accepted",null,null,null,null,null,null,null,"City, State, Zip:"]
[null,null,"(3% service fee for all credit cards)",null,null,null,null,null,null,null,"eMail Address:"]
[null,null,null,null,null,null,null,null,null,null,"Phone Number:"]
[]
[]
[null,null,null,null,null,null,null,null,{"$f":"IF(HIDDEN!G19=\"Yes\",\"Your order qualifies for a promotional item!  Choose from the following eligible options:\",\"Add more books to qualify for a promotion!\")","v":"Add more books to qualify for a promotion!"}]
[null,null,null,null,null,null,null,null,{"$f":"IF(HIDDEN!G3=\"Yes\",HIDDEN!H3,\"\")","v":""},null,null,null,null,null,null,null,null,null,null,null,"Total           eBooks",null,"Total          Print Books",null,"Total             Bundle Sets",null,null,null,"Subtotal",null,{"$f":"'Title List'!AL6","v":0}]
[null,null,null,null,null,null,null,null,{"$f":"IF(HIDDEN!G5=\"Yes\",HIDDEN!H5,\"\")","v":""},null,null,null,null,null,null,null,null,null,null,null,null,null,null,null,null,null,null,null,"Processing",null,{"$f":"'Processing Spec Form'!JD46","v":0}]
[null,null,null,null,null,null,null,null,{"$f":"IF(HIDDEN!G7=\"Yes\",HIDDEN!H7,\"\")","v":""},null,null,null,null,null,null,null,null,null,null,null,{"$f":"'Title List'!U4","v":0},null,{"$f":"'Title List'!W4","v":0},null,{"$f":"'Title List'!Y4","v":0},null,null,null,"Shipping (10%)",null,{"$f":"IF(AE19>=100,0,Summary!AE19*10%)","v":0}]
[null,null,null,null,null,null,null,null,{"$f":"IF(HIDDEN!G9=\"Yes\",HIDDEN!H9,\"\")","v":""},null,null,null,null,null,null,null,null,null,null,null,{"$f":"'Title List'!U5","v":0},null,{"$f":"'Title List'!AL3","v":0},null,{"$f":"'Title List'!Y5","v":0},null,null,null,"Total Order",null,{"$f":"SUM(AE19:AE21)","v":0}]
[null,null,null,null,null,null,null,null,{"$f":"IF(HIDDEN!G11=\"Yes\",HIDDEN!H11,\"\")","v":""},null,null,null,null,null,null,null,null,null,null,null,"      *FREE shipping on order over $100.00"]
[null,null,null,null,null,null,null,null,{"$f":"IF(HIDDEN!G13=\"Yes\",HIDDEN!H13,\"\")","v":""},null,null,null,null,null,null,null,null,null,null,null,"      *Promotions cannot be combined"]
[null,null,null,null,null,null,null,null,{"$f":"IF(HIDDEN!G15=\"Yes\",HIDDEN!H15,\"\")","v":""}]
["Multi User eBook Qty",null,"Print               Qty",null,"Bundle Qty",null,"eBook                    ISBN",null,"Print                       ISBN",null,"Title",null,null,null,"Series",null,null,null,"Publisher",null,"Multi User eBook Price",null,"School / Library Print Price",null,"Bundle Price",null,"Total",null,"Mark X                                    for FREE",null,"Custom Field",null,"HIDDEN        EB Qty","HIDDEN        HC Qty","HIDDEN Bundle Qty","HIDDEN TOTAL QTY","HIDDEN EB TOTAL","HIDDEN HC TOTAL","HIDDEN Bundle Qty","HIDDEN TOTAL"]

{"sheet":"Processing Spec Form","index":2,"n_rows":232,"n_cols":264,"rows_kept":232,"cut":false,"hidden":false,"merged":[[237,4,237,62],[239,4,239,62],[241,4,241,62],[228,12,228,24],[191,2,191,64],[195,16,195,18],[197,12,197,24],[200,16,200,18],[202,12,202,24],[207,12,207,24],[212,12,212,24],[215,12,215,24],[221,12,221,24],[224,12,224,24],[226,12,226,24],[231,2,231,64],[233,4,233,62],[235,4,235,62],[190,2,190,64],[157,10,157,20],[159,30,159,40],[159,50,159,60],[165,10,165,20],[167,10,167,20],[167,50,167,60],[169,30,169,40],[177,10,177,20],[177,50,177,60],[188,10,188,20],[188,50,188,60],[143,10,143,20],[143,30,143,40],[143,50,143,60],[151,10,151,20],[151,30,151,40],[151,50,151,60],[127,10,127,20],[127,30,127,40],[127,50,127,60],[135,10,135,20],[135,30,135,40],[135,50,135,60],[111,10,111,20],[111,30,111,40],[111,50,111,60],[119,10,119,20],[119,30,119,40],[119,50,119,60],[95,10,95,20],[95,30,95,40],[95,50,95,60],[103,10,103,20],[103,30,103,40],[103,50,103,60],[51,6,51,20],[53,2,53,64],[66,30,66,40],[68,2,68,64],[87,30,87,40],[87,50,87,60],[18,2,18,64],[38,2,38,64],[41,24,41,38],[49,26,49,40],[21,26,22,42],[21,46,22,62],[26,2,26,64],[16,18,16,60],[6,0,6,66],[8,2,8,64],[10,18,10,60],[12,18,12,60],[14,18,14,60]]}
[]
[]
[]
[]
[]
[]
["**Fill out your school/library information and then choose the processing package you wish to order.**"]
[]
[null,null,"School / Library Information"]
[]
[null,null,null,null,null,null,null,null,null,null,null,null,null,null,null,null,"School or Library Name:",null,null,null,null,null,null,null,null,null,null,null,null,null,null,null,null,null,null,null,null,null,null,null,null,null,null,null,null,null,null,null,null,null,null,null,null,null,null,null,null,null,null,null,null,null,null,null,null,null,null,null,null,null,null,null,null,null,null,null,null,null,null,null,null,null,null,null,null,null,null,null,null,null,null,null,null,null,null,null,null,null,null,null,null,null,null,null,null,null,null,null,null,null,null,null,null,null,null,null,null,null,null,null,null,null,null,null,null,null,null,null,null,null,null,null,null,null,null,null,null,null,null,null,null,null,null,null,null,null,null,null,null,null,null,null,null,null,null,null,null,null,null,null,null,null,null,null,null,null,null,null,null,null,null,null,null,null,null,null,null,null,null,null,null,null,null,null,null,null,null,null,null,null,null,null,null,null,null,null,null,null,null,null,null,null,null,null,null,null,null,null,null,null,null,null,null,null,null,null,null,null,null,null,null,null,null,null,null,null,null,null,null,null,null,null,null,null,null,null,null,null,null,null,null,null,null,null,null,null,null,null,null,null,null,null,null,null,null,null,null,null,null,null,null,"MARC Records Only",null,{"$f":"IF(E21=\"x\",0,0)","v":0}]
[]
[null,null,null,null,null,null,null,null,null,null,null,null,null,null,null,null,"Contact Name:",null,null,null,null,null,null,null,null,null,null,null,null,null,null,null,null,null,null,null,null,null,null,null,null,null,null,null,null,null,null,null,null,null,null,null,null,null,null,null,null,null,null,null,null,null,null,null,null,null,null,null,null,null,null,null,null,null,null,null,null,null,null,null,null,null,null,null,null,null,null,null,null,null,null,null,null,null,null,null,null,null,null,null,null,null,null,null,null,null,null,null,null,null,null,null,null,null,null,null,null,null,null,null,null,null,null,null,null,null,null,null,null,null,null,null,null,null,null,null,null,null,null,null,null,null,null,null,null,null,null,null,null,null,null,null,null,null,null,null,null,null,null,null,null,null,null,null,null,null,null,null,null,null,null,null,null,null,null,null,null,null,null,null,null,null,null,null,null,null,null,null,null,null,null,null,null,null,null,null,null,null,null,null,null,null,null,null,null,null,null,null,null,null,null,null,null,null,null,null,null,null,null,null,null,null,null,null,null,null,null,null,null,null,null,null,null,null,null,null,null,null,null,null,null,null,null,null,null,null,null,null,null,null,null,null,null,null,null,null,null,null,null,null,null,"Shelf Ready (Attached)",null,{"$f":"IF(Y21=\"x\",'Title List'!AA4*0,0)","v":0}]
[]
[null,null,null,null,null,null,null,null,null,null,null,null,null,null,null,null,"Phone Number:",null,null,null,null,null,null,null,null,null,null,null,null,null,null,null,null,null,null,null,null,null,null,null,null,null,null,null,null,null,null,null,null,null,null,null,null,null,null,null,null,null,null,null,null,null,null,null,null,null,null,null,null,null,null,null,null,null,null,null,null,null,null,null,null,null,null,null,null,null,null,null,null,null,null,null,null,null,null,null,null,null,null,null,null,null,null,null,null,null,null,null,null,null,null,null,null,null,null,null,null,null,null,null,null,null,null,null,null,null,null,null,null,null,null,null,null,null,null,null,null,null,null,null,null,null,null,null,null,null,null,null,null,null,null,null,null,null,null,null,null,null,null,null,null,null,null,null,null,null,null,null,null,null,null,null,null,null,null,null,null,null,null,null,null,null,null,null,null,null,null,null,null,null,null,null,null,null,null,null,null,null,null,null,null,null,null,null,null,null,null,null,null,null,null,null,null,null,null,null,null,null,null,null,null,null,null,null,null,null,null,null,null,null,null,null,null,null,null,null,null,null,null,null,null,null,null,null,null,null,null,null,null,null,null,null,null,null,null,null,null,null,null,null,null,"Shelf Ready (Unattached)",null,{"$f":"IF(AS21=\"x\",'Title List'!AA6*0,0)","v":0}]
[]
[null,null,null,null,null,null,null,null,null,null,null,null,null,null,null,null,"E-Mail Address:",null,null,null,null,null,null,null,null,null,null,null,null,null,null,null,null,null,null,null,null,null,null,null,null,null,null,null,null,null,null,null,null,null,null,null,null,null,null,null,null,null,null,null,null,null,null,null,null,null,null,null,null,null,null,null,null,null,null,null,null,null,null,null,null,null,null,null,null,null,null,null,null,null,null,null,null,null,null,null,null,null,null,null,null,null,null,null,null,null,null,null,null,null,null,null,null,null,null,null,null,null,null,null,null,null,null,null,null,null,null,null,null,null,null,null,null,null,null,null,null,null,null,null,null,null,null,null,null,null,null,null,null,null,null,null,null,null,null,null,null,null,null,null,null,null,null,null,null,null,null,null,null,null,null,null,null,null,null,null,null,null,null,null,null,null,null,null,null,null,null,null,null,null,null,null,null,null,null,null,null,null,null,null,null,null,null,null,null,null,null,null,null,null,null,null,null,null,null,null,null,null,null,null,null,null,null,null,null,null,null,null,null,null,null,null,null,null,null,null,null,null,null,null,null,null,null,null,null,null,null,null,null,null,null,null,null,null,null,null,null,null,null,null,null,"Bar Codes (HC)",null,{"$f":"IF(E29=\"x\",'Title List'!W4*0.75,0)","v":0}]
[]
[null,null,"Package Options:",null,null,null,null,null,null,null,null,null,null,null,null,null,null,null,null,null,null,null,null,null,null,null,null,null,null,null,null,null,null,null,null,null,null,null,null,null,null,null,null,null,null,null,null,null,null,null,null,null,null,null,null,null,null,null,null,null,null,null,null,null,null,null,null,null,null,null,null,null,null,null,null,null,null,null,null,null,null,null,null,null,null,null,null,null,null,null,null,null,null,null,null,null,null,null,null,null,null,null,null,null,null,null,null,null,null,null,null,null,null,null,null,null,null,null,null,null,null,null,null,null,null,null,null,null,null,null,null,null,null,null,null,null,null,null,null,null,null,null,null,null,null,null,null,null,null,null,null,null,null,null,null,null,null,null,null,null,null,null,null,null,null,null,null,null,null,null,null,null,null,null,null,null,null,null,null,null,null,null,null,null,null,null,null,null,null,null,null,null,null,null,null,null,null,null,null,null,null,null,null,null,null,null,null,null,null,null,null,null,null,null,null,null,null,null,null,null,null,null,null,null,null,null,null,null,null,null,null,null,null,null,null,null,null,null,null,null,null,null,null,null,null,null,null,null,null,null,null,null,null,null,null,null,null,null,null,null,null,"Additional Bar Codes (HC)",null,{"$f":"IF(E31=\"x\",'Title List'!W4*0.75,0)","v":0}]
[]
[null,null,null,null,null,null,"MARC Records Only (FREE)",null,null,null,null,null,null,null,null,null,null,null,null,null,null,null,null,null,null,null,"Shelf Ready Processing (Attached)",null,null,null,null,null,null,null,null,null,null,null,null,null,null,null,null,null,null,null,"Shelf Ready Processing (Unattached)",null,null,null,null,null,null,null,null,null,null,null,null,null,null,null,null,null,null,null,null,null,null,null,null,null,null,null,null,null,null,null,null,null,null,null,null,null,null,null,null,null,null,null,null,null,null,null,null,null,null,null,null,null,null,null,null,null,null,null,null,null,null,null,null,null,null,null,null,null,null,null,null,null,null,null,null,null,null,null,null,null,null,null,null,null,null,null,null,null,null,null,null,null,null,null,null,null,null,null,null,null,null,null,null,null,null,null,null,null,null,null,null,null,null,null,null,null,null,null,null,null,null,null,null,null,null,null,null,null,null,null,null,null,null,null,null,null,null,null,null,null,null,null,null,null,null,null,null,null,null,null,null,null,null,null,null,null,null,null,null,null,null,null,null,null,null,null,null,null,null,null,null,null,null,null,null,null,null,null,null,null,null,null,null,null,null,null,null,null,null,null,null,null,null,null,null,null,null,null,null,null,null,null,null,null,null,null,null,null,null,null,null,null,null,"Spine Labels",null,{"$f":"IF(E33=\"x\",'Title List'!W4*0.5,0)","v":0}]
[null,null,null,null,null,null,null,null,null,null,null,null,null,null,null,null,null,null,null,null,null,null,null,null,null,null,"(MARC Records, 1 Barcode, 1 Spine label,     1 Reading label of your choice - FREE)",null,null,null,null,null,null,null,null,null,null,null,null,null,null,null,null,null,null,null,"(MARC Records, 1 Barcode, 1 Spine label,     1 Reading label of your choice - FREE)"]
[null,null,null,null,null,null,null,null,null,null,null,null,null,null,null,null,null,null,null,null,null,null,null,null,null,null,null,null,null,null,null,null,null,null,null,null,null,null,null,null,null,null,null,null,null,null,null,null,null,null,null,null,null,null,null,null,null,null,null,null,null,null,null,null,null,null,null,null,null,null,null,null,null,null,null,null,null,null,null,null,null,null,null,null,null,null,null,null,null,null,null,null,null,null,null,null,null,null,null,null,null,null,null,null,null,null,null,null,null,null,null,null,null,null,null,null,null,null,null,null,null,null,null,null,null,null,null,null,null,null,null,null,null,null,null,null,null,null,null,null,null,null,null,null,null,null,null,null,null,null,null,null,null,null,null,null,null,null,null,null,null,null,null,null,null,null,null,null,null,null,null,null,null,null,null,null,null,null,null,null,null,null,null,null,null,null,null,null,null,null,null,null,null,null,null,null,null,null,null,null,null,null,null,null,null,null,null,null,null,null,null,null,null,null,null,null,null,null,null,null,null,null,null,null,null,null,null,null,null,null,null,null,null,null,null,null,null,null,null,null,null,null,null,null,null,null,null,null,null,null,null,null,null,null,null,null,null,null,null,null,null,"Property Label",null,{"$f":"IF(E35=\"x\",'Title List'!W4*0.5,0)","v":0}]
[]
[null,null,null,null,null,null,null,null,null,null,null,null,null,null,null,null,null,null,null,null,null,null,null,null,null,null,"Barcode for Print books only",null,null,null,null,null,null,null,null,null,null,null,null,null,null,null,null,null,null,null,"Barcode for Print & eBooks",null,null,null,null,null,null,null,null,null,null,null,null,null,null,null,null,null,null,null,null,null,null,null,null,null,null,null,null,null,null,null,null,null,null,null,null,null,null,null,null,null,null,null,null,null,null,null,null,null,null,null,null,null,null,null,null,null,null,null,null,null,null,null,null,null,null,null,null,null,null,null,null,null,null,null,null,null,null,null,null,null,null,null,null,null,null,null,null,null,null,null,null,null,null,null,null,null,null,null,null,null,null,null,null,null,null,null,null,null,null,null,null,null,null,null,null,null,null,null,null,null,null,null,null,null,null,null,null,null,null,null,null,null,null,null,null,null,null,null,null,null,null,null,null,null,null,null,null,null,null,null,null,null,null,null,null,null,null,null,null,null,null,null,null,null,null,null,null,null,null,null,null,null,null,null,null,null,null,null,null,null,null,null,null,null,null,null,null,null,null,null,null,null,null,null,null,null,null,null,null,null,null,null,null,null,null,null,null,null,null,null,null,null,null,"AR Spine Label",null,{"$f":"IF(Y29=\"x\",'Title List'!W4*0.2,0)","v":0}]
[]
[null,null,"Additional Options",null,"Processing Options:",null,null,null,null,null,null,null,null,null,null,null,null,null,null,null,null,null,null,null,null,null,null,null,null,null,null,null,null,null,null,null,null,null,null,null,null,null,null,null,null,null,null,null,null,null,null,null,null,null,null,null,null,null,null,null,null,null,null,null,null,null,null,null,null,null,null,null,null,null,null,null,null,null,null,null,null,null,null,null,null,null,null,null,null,null,null,null,null,null,null,null,null,null,null,null,null,null,null,null,null,null,null,null,null,null,null,null,null,null,null,null,null,null,null,null,null,null,null,null,null,null,null,null,null,null,null,null,null,null,null,null,null,null,null,null,null,null,null,null,null,null,null,null,null,null,null,null,null,null,null,null,null,null,null,null,null,null,null,null,null,null,null,null,null,null,null,null,null,null,null,null,null,null,null,null,null,null,null,null,null,null,null,null,null,null,null,null,null,null,null,null,null,null,null,null,null,null,null,null,null,null,null,null,null,null,null,null,null,null,null,null,null,null,null,null,null,null,null,null,null,null,null,null,null,null,null,null,null,null,null,null,null,null,null,null,null,null,null,null,null,null,null,null,null,null,null,null,null,null,null,null,null,null,null,null,null,"AR  Information Label",null,{"$f":"IF(Y31=\"x\",'Title List'!W4*0.25,0)","v":0}]
[]
[null,null,null,null,null,null,"Barcode ($.75)",null,null,null,null,null,null,null,null,null,null,null,null,null,null,null,null,null,null,null,"AR Spine Label ($.25)",null,null,null,null,null,null,null,null,null,null,null,null,null,null,null,null,null,null,null,"3M Tattle Tape ($1.00)",null,null,null,null,null,null,null,null,null,null,null,null,null,null,null,null,null,null,null,null,null,null,null,null,null,null,null,null,null,null,null,null,null,null,null,null,null,null,null,null,null,null,null,null,null,null,null,null,null,null,null,null,null,null,null,null,null,null,null,null,null,null,null,null,null,null,null,null,null,null,null,null,null,null,null,null,null,null,null,null,null,null,null,null,null,null,null,null,null,null,null,null,null,null,null,null,null,null,null,null,null,null,null,null,null,null,null,null,null,null,null,null,null,null,null,null,null,null,null,null,null,null,null,null,null,null,null,null,null,null,null,null,null,null,null,null,null,null,null,null,null,null,null,null,null,null,null,null,null,null,null,null,null,null,null,null,null,null,null,null,null,null,null,null,null,null,null,null,null,null,null,null,null,null,null,null,null,null,null,null,null,null,null,null,null,null,null,null,null,null,null,null,null,null,null,null,null,null,null,null,null,null,null,null,null,null,null,null,null,null,null,null,null,null,"Lexile Label",null,{"$f":"IF(E37=\"x\",'Title List'!W4*0.2,0)","v":0}]
[]
[null,null,null,null,null,null,"Additional Barcode ($.75)",null,null,null,null,null,null,null,null,null,null,null,null,null,null,null,null,null,null,null,"AR Information Label ($.25)",null,null,null,null,null,null,null,null,null,null,null,null,null,null,null,null,null,null,null,"Checkpoint 8.2 (Plain or Date Due) ($1.00)",null,null,null,null,null,null,null,null,null,null,null,null,null,null,null,null,null,null,null,null,null,null,null,null,null,null,null,null,null,null,null,null,null,null,null,null,null,null,null,null,null,null,null,null,null,null,null,null,null,null,null,null,null,null,null,null,null,null,null,null,null,null,null,null,null,null,null,null,null,null,null,null,null,null,null,null,null,null,null,null,null,null,null,null,null,null,null,null,null,null,null,null,null,null,null,null,null,null,null,null,null,null,null,null,null,null,null,null,null,null,null,null,null,null,null,null,null,null,null,null,null,null,null,null,null,null,null,null,null,null,null,null,null,null,null,null,null,null,null,null,null,null,null,null,null,null,null,null,null,null,null,null,null,null,null,null,null,null,null,null,null,null,null,null,null,null,null,null,null,null,null,null,null,null,null,null,null,null,null,null,null,null,null,null,null,null,null,null,null,null,null,null,null,null,null,null,null,null,null,null,null,null,null,null,null,null,null,null,null,null,null,null,null,null,"Book Pocket",null,{"$f":"IF(Y33=\"x\",'Title List'!W4*0.5,0)","v":0}]
[]
[null,null,null,null,null,null,"Spine Label ($.50)",null,null,null,null,null,null,null,null,null,null,null,null,null,null,null,null,null,null,null,"Book Pocket ($.50)",null,null,null,null,null,null,null,null,null,null,null,null,null,null,null,null,null,null,null,"Checkpoint 9.5 (Plain or Date Due) ($1.00)",null,null,null,null,null,null,null,null,null,null,null,null,null,null,null,null,null,null,null,null,null,null,null,null,null,null,null,null,null,null,null,null,null,null,null,null,null,null,null,null,null,null,null,null,null,null,null,null,null,null,null,null,null,null,null,null,null,null,null,null,null,null,null,null,null,null,null,null,null,null,null,null,null,null,null,null,null,null,null,null,null,null,null,null,null,null,null,null,null,null,null,null,null,null,null,null,null,null,null,null,null,null,null,null,null,null,null,null,null,null,null,null,null,null,null,null,null,null,null,null,null,null,null,null,null,null,null,null,null,null,null,null,null,null,null,null,null,null,null,null,null,null,null,null,null,null,null,null,null,null,null,null,null,null,null,null,null,null,null,null,null,null,null,null,null,null,null,null,null,null,null,null,null,null,null,null,null,null,null,null,null,null,null,null,null,null,null,null,null,null,null,null,null,null,null,null,null,null,null,null,null,null,null,null,null,null,null,null,null,null,null,null,null,null,"Date Due Card",null,{"$f":"IF(Y35=\"x\",'Title List'!W4*0.1,0)","v":0}]
[]
[null,null,null,null,null,null,"Property Label ($.50)",null,null,null,null,null,null,null,null,null,null,null,null,null,null,null,null,null,null,null,"Date Due Card ($.10)",null,null,null,null,null,null,null,null,null,null,null,null,null,null,null,null,null,null,null,"Checkpoint RFID",null,null,null,null,null,null,null,null,null,null,null,null,null,null,null,null,null,null,null,null,null,null,null,null,null,null,null,null,null,null,null,null,null,null,null,null,null,null,null,null,null,null,null,null,null,null,null,null,null,null,null,null,null,null,null,null,null,null,null,null,null,null,null,null,null,null,null,null,null,null,null,null,null,null,null,null,null,null,null,null,null,null,null,null,null,null,null,null,null,null,null,null,null,null,null,null,null,null,null,null,null,null,null,null,null,null,null,null,null,null,null,null,null,null,null,null,null,null,null,null,null,null,null,null,null,null,null,null,null,null,null,null,null,null,null,null,null,null,null,null,null,null,null,null,null,null,null,null,null,null,null,null,null,null,null,null,null,null,null,null,null,null,null,null,null,null,null,null,null,null,null,null,null,null,null,null,null,null,null,null,null,null,null,null,null,null,null,null,null,null,null,null,null,null,null,null,null,null,null,null,null,null,null,null,null,null,null,null,null,null,null,null,null,null,"Date Due Slip",null,{"$f":"IF(Y37=\"x\",'Title List'!W4*0.1,0)","v":0}]
[]
[null,null,null,null,null,null,"Lexile Label ($.20)",null,null,null,null,null,null,null,null,null,null,null,null,null,null,null,null,null,null,null,"Date Due Slip ($.10)",null,null,null,null,null,null,null,null,null,null,null,null,null,null,null,null,null,null,null,"(Contact customer service to get a quote)",null,null,null,null,null,null,null,null,null,null,null,null,null,null,null,null,null,null,null,null,null,null,null,null,null,null,null,null,null,null,null,null,null,null,null,null,null,null,null,null,null,null,null,null,null,null,null,null,null,null,null,null,null,null,null,null,null,null,null,null,null,null,null,null,null,null,null,null,null,null,null,null,null,null,null,null,null,null,null,null,null,null,null,null,null,null,null,null,null,null,null,null,null,null,null,null,null,null,null,null,null,null,null,null,null,null,null,null,null,null,null,null,null,null,null,null,null,null,null,null,null,null,null,null,null,null,null,null,null,null,null,null,null,null,null,null,null,null,null,null,null,null,null,null,null,null,null,null,null,null,null,null,null,null,null,null,null,null,null,null,null,null,null,null,null,null,null,null,null,null,null,null,null,null,null,null,null,null,null,null,null,null,null,null,null,null,null,null,null,null,null,null,null,null,null,null,null,null,null,null,null,null,null,null,null,null,null,null,null,null,null,null,null,null,"3M Tattle Tape",null,{"$f":"IF(AS29=\"x\",'Title List'!W4*1,0)","v":0}]
[]
[null,null,"Electronic Data Specifications",null,"Processing Options:",null,null,null,null,null,null,null,null,null,null,null,null,null,null,null,null,null,null,null,null,null,null,null,null,null,null,null,null,null,null,null,null,null,null,null,null,null,null,null,null,null,null,null,null,null,null,null,null,null,null,null,null,null,null,null,null,null,null,null,null,null,null,null,null,null,null,null,null,null,null,null,null,null,null,null,null,null,null,null,null,null,null,null,null,null,null,null,null,null,null,null,null,null,null,null,null,null,null,null,null,null,null,null,null,null,null,null,null,null,null,null,null,null,null,null,null,null,null,null,null,null,null,null,null,null,null,null,null,null,null,null,null,null,null,null,null,null,null,null,null,null,null,null,null,null,null,null,null,null,null,null,null,null,null,null,null,null,null,null,null,null,null,null,null,null,null,null,null,null,null,null,null,null,null,null,null,null,null,null,null,null,null,null,null,null,null,null,null,null,null,null,null,null,null,null,null,null,null,null,null,null,null,null,null,null,null,null,null,null,null,null,null,null,null,null,null,null,null,null,null,null,null,null,null,null,null,null,null,null,null,null,null,null,null,null,null,null,null,null,null,null,null,null,null,null,null,null,null,null,null,null,null,null,null,null,null,"Theft Checkpoint 8.2",null,{"$f":"IF(AS31=\"x\",'Title List'!W4*1,0)","v":0}]
[]
[null,null,null,null,"Software Type:",null,null,null,null,null,null,null,null,null,null,null,null,null,null,null,null,null,null,null,"Software Version:",null,null,null,null,null,null,null,null,null,null,null,null,null,null,null,null,null,null,null,"Software Format: ",null,null,null,null,null,null,null,null,null,null,null,null,null,null,null,null,null,null,null,null,null,null,null,null,null,null,null,null,null,null,null,null,null,null,null,null,null,null,null,null,null,null,null,null,null,null,null,null,null,null,null,null,null,null,null,null,null,null,null,null,null,null,null,null,null,null,null,null,null,null,null,null,null,null,null,null,null,null,null,null,null,null,null,null,null,null,null,null,null,null,null,null,null,null,null,null,null,null,null,null,null,null,null,null,null,null,null,null,null,null,null,null,null,null,null,null,null,null,null,null,null,null,null,null,null,null,null,null,null,null,null,null,null,null,null,null,null,null,null,null,null,null,null,null,null,null,null,null,null,null,null,null,null,null,null,null,null,null,null,null,null,null,null,null,null,null,null,null,null,null,null,null,null,null,null,null,null,null,null,null,null,null,null,null,null,null,null,null,null,null,null,null,null,null,null,null,null,null,null,null,null,null,null,null,null,null,null,null,null,null,null,null,null,null,null,null,"Theft Checkpoint 9.5",null,{"$f":"IF(AS33=\"x\",'Title List'!W4*1,0)","v":0}]
[null,null,null,null,null,null,"Destiny",null,null,null,null,null,null,null,null,null,null,null,null,null,null,null,null,null,null,null,null,null,null,null,null,null,null,null,null,null,null,null,null,null,null,null,null,null,null,null,"USMARC 852 Holdings"]
[]
[null,null,null,null,null,null,"Circulation Plus",null,null,null,null,null,null,null,null,null,null,null,null,null,null,null,null,null,"Delivery Type:",null,null,null,null,null,null,null,null,null,null,null,null,null,null,null,null,null,null,null,null,null,"US MARC 949 Holdings",null,null,null,null,null,null,null,null,null,null,null,null,null,null,null,null,null,null,null,null,null,null,null,null,null,null,null,null,null,null,null,null,null,null,null,null,null,null,null,null,null,null,null,null,null,null,null,null,null,null,null,null,null,null,null,null,null,null,null,null,null,null,null,null,null,null,null,null,null,null,null,null,null,null,null,null,null,null,null,null,null,null,null,null,null,null,null,null,null,null,null,null,null,null,null,null,null,null,null,null,null,null,null,null,null,null,null,null,null,null,null,null,null,null,null,null,null,null,null,null,null,null,null,null,null,null,null,null,null,null,null,null,null,null,null,null,null,null,null,null,null,null,null,null,null,null,null,null,null,null,null,null,null,null,null,null,null,null,null,null,null,null,null,null,null,null,null,null,null,null,null,null,null,null,null,null,null,null,null,null,null,null,null,null,null,null,null,null,null,null,null,null,null,null,null,null,null,null,null,null,null,null,null,null,null,null,null,null,null,null,null,null,null,null,"Theft RFID",null,{"$f":"IF(AS35=\"x\",'Title List'!W4*0,0)","v":0}]
[]
[null,null,null,null,null,null,"Spectrum",null,null,null,null,null,null,null,null,null,null,null,null,null,null,null,null,null,null,null,"CD Rom",null,null,null,null,null,null,null,null,null,null,null,null,null,null,null,null,null,null,null,"(Requires Custom Holdings to be provided)",null,null,null,null,null,null,null,null,null,null,null,null,null,null,null,null,null,null,null,null,null,null,null,null,null,null,null,null,null,null,null,null,null,null,null,null,null,null,null,null,null,null,null,null,null,null,null,null,null,null,null,null,null,null,null,null,null,null,null,null,null,null,null,null,null,null,null,null,null,null,null,null,null,null,null,null,null,null,null,null,null,null,null,null,null,null,null,null,null,null,null,null,null,null,null,null,null,null,null,null,null,null,null,null,null,null,null,null,null,null,null,null,null,null,null,null,null,null,null,null,null,null,null,null,null,null,null,null,null,null,null,null,null,null,null,null,null,null,null,null,null,null,null,null,null,null,null,null,null,null,null,null,null,null,null,null,null,null,null,null,null,null,null,null,null,null,null,null,null,null,null,null,null,null,null,null,null,null,null,null,null,null,null,null,null,null,null,null,null,null,null,null,null,null,null,null,null,null,null,null,null,null,null,null,null,null,null,null,null,null,null,null,null,null,"Total Processing:",null,{"$f":"SUM(JD11:JD45)","v":0}]
[]
[null,null,null,null,null,null,"Follett",null,null,null,null,null,null,null,null,null,null,null,null,null,null,null,null,null,null,null,"Web Download (provide email address)",null,null,null,null,null,null,null,null,null,null,null,null,null,null,null,null,null,"Computer Type:"]
[]
[null,null,null,null,null,null,"Other: ",null,null,null,null,null,null,null,null,null,null,null,null,null,null,null,null,null,null,null,null,null,null,null,null,null,null,null,null,null,null,null,null,null,null,null,null,null,null,null,"Windows / PC"]
[]
[null,null,null,null,null,null,null,null,null,null,null,null,null,null,null,null,null,null,null,null,null,null,null,null,null,null,null,null,null,null,null,null,null,null,null,null,null,null,null,null,null,null,null,null,null,null,"Macintosh"]
[]
[null,null,"Barcode Specifications",null,"Processing Options:"]
[]
[null,null,null,null,"Name to appear on Barcode: (max 30 characters including spaces)"]
[]
[]
[null,null,null,null,"Barcode Range:"]
[null,null,null,null,null,null,null,null,null,null,null,null,null,null,null,null,null,null,null,null,null,null,null,null,null,null,null,null,null,null,null,null,"-"]
[]
[null,null,null,null,"Symbology:"]
[null,null,null,null,null,null,"Code 3 of 9 / No Check ",null,null,null,null,null,null,null,null,null,null,null,null,null,null,null,null,null,null,null,"Codabar / Mod 10 check digit",null,null,null,null,null,null,null,null,null,null,null,null,null,null,null,null,null,null,null,"Interleaved 2 of 5 / Follett Classic"]
[]
[null,null,null,null,null,null,"Code 3 of 9 / Mod 10 check digit",null,null,null,null,null,null,null,null,null,null,null,null,null,null,null,null,null,null,null,"Codabar / no check digit ",null,null,null,null,null,null,null,null,null,null,null,null,null,null,null,null,null,null,null,"Interleaved 2 of 5 / no check digit"]
[]
[null,null,null,null,null,null,"Code 3 of 9 / Mod 43 check digit ",null,null,null,null,null,null,null,null,null,null,null,null,null,null,null,null,null,null,null,"Other:"]
[]
[null,null,"Cataloging Profile Specifications",null,"Processing Options:"]
[]
[null,null,null,null,null,null,null,null,"* = Standard (Check if standard options are wanted.  If no options checked, the standard options will be applied)"]
[]
[null,null,null,null,"Subject Headings:"]
[null,null,null,null,null,null,"Sears*",null,null,null,null,null,null,null,null,null,null,null,null,null,null,null,null,null,null,null,"Library of Congress",null,null,null,null,null,null,null,null,null,null,null,null,null,null,null,null,null,null,null,"Library of Congress - Children's"]
[]
[null,null,null,null,"Dewey Number:"]
[null,null,null,null,null,null,"Do no truncate the abridged dewey*",null,null,null,null,null,null,null,null,null,null,null,null,null,null,null,null,null,null,null,"Truncate abridged dewey number by ",null,null,null,null,null,null,null,null,null,null,null,null,null,null,null,null,null,"digits"]
[]
[null,null,null,null,"Workmark:"]
[null,null,null,null,null,null,"Initial letter capitalized*",null,null,null,null,null,null,null,null,null,null,null,null,null,null,null,null,null,null,null,"All uppercase letters"]
[]
[null,null,null,null,"Individual Biography Call Number:"]
[null,null,null,null,"Prefix:",null,null,null,null,null,null,null,null,null,null,null,null,null,null,null,null,null,null,null,"Classification:",null,null,null,null,null,null,null,null,null,null,null,null,null,null,null,null,null,null,null,"Workmark:"]
[null,null,null,null,null,null,"Follow non-fiction prefixes specified* ",null,null,null,null,null,null,null,null,null,null,null,null,null,null,null,null,null,null,null,"B *",null,null,null,null,null,null,null,null,null,null,null,null,null,null,null,null,null,null,null,"3 biographee letters* "]
[]
[null,null,null,null,null,null,"None ",null,null,null,null,null,null,null,null,null,null,null,null,null,null,null,null,null,null,null,92,null,null,null,null,null,null,null,null,null,null,null,null,null,null,null,null,null,null,null,"Biographee's last name"]
[]
[null,null,null,null,null,null,null,null,null,null,null,null,null,null,null,null,null,null,null,null,null,null,null,null,null,null,"Other:",null,null,null,null,null,null,null,null,null,null,null,null,null,null,null,null,null,null,null,"Other:"]
[]
[null,null,null,null,"Easy Fiction (K-3) Call Number:"]
[null,null,null,null,"Prefix:",null,null,null,null,null,null,null,null,null,null,null,null,null,null,null,null,null,null,null,"Classification:",null,null,null,null,null,null,null,null,null,null,null,null,null,null,null,null,null,null,null,"Workmark:"]
[null,null,null,null,null,null,"None *",null,null,null,null,null,null,null,null,null,null,null,null,null,null,null,null,null,null,null,"E *",null,null,null,null,null,null,null,null,null,null,null,null,null,null,null,null,null,null,null,"3 biographee letters* "]
[]
[null,null,null,null,null,null,"J above class",null,null,null,null,null,null,null,null,null,null,null,null,null,null,null,null,null,null,null,"F ",null,null,null,null,null,null,null,null,null,null,null,null,null,null,null,null,null,null,null,"Biographee's last name"]
[]
[null,null,null,null,null,null,"Other:",null,null,null,null,null,null,null,null,null,null,null,null,null,null,null,null,null,null,null,"Other:",null,null,null,null,null,null,null,null,null,null,null,null,null,null,null,null,null,null,null,"Other:"]
[]
[null,null,null,null,"Fiction (grades 4-8) Call Number:"]
[null,null,null,null,"Prefix:",null,null,null,null,null,null,null,null,null,null,null,null,null,null,null,null,null,null,null,"Classification:",null,null,null,null,null,null,null,null,null,null,null,null,null,null,null,null,null,null,null,"Workmark:"]
[null,null,null,null,null,null,"None *",null,null,null,null,null,null,null,null,null,null,null,null,null,null,null,null,null,null,null,"F *",null,null,null,null,null,null,null,null,null,null,null,null,null,null,null,null,null,null,null,"3 biographee letters* "]
[]
[null,null,null,null,null,null,"J above class",null,null,null,null,null,null,null,null,null,null,null,null,null,null,null,null,null,null,null,"Fic",null,null,null,null,null,null,null,null,null,null,null,null,null,null,null,null,null,null,null,"Biographee's last name"]
[]
[null,null,null,null,null,null,"Other:",null,null,null,null,null,null,null,null,null,null,null,null,null,null,null,null,null,null,null,"Other:",null,null,null,null,null,null,null,null,null,null,null,null,null,null,null,null,null,null,null,"Other:"]
[]
[null,null,null,null,"Fiction (grades 9-12) Call Number:"]
[null,null,null,null,"Prefix:",null,null,null,null,null,null,null,null,null,null,null,null,null,null,null,null,null,null,null,"Classification:",null,null,null,null,null,null,null,null,null,null,null,null,null,null,null,null,null,null,null,"Workmark:"]
[null,null,null,null,null,null,"None *",null,null,null,null,null,null,null,null,null,null,null,null,null,null,null,null,null,null,null,"F *",null,null,null,null,null,null,null,null,null,null,null,null,null,null,null,null,null,null,null,"3 biographee letters* "]
[]
[null,null,null,null,null,null,"J above class",null,null,null,null,null,null,null,null,null,null,null,null,null,null,null,null,null,null,null,"Fic",null,null,null,null,null,null,null,null,null,null,null,null,null,null,null,null,null,null,null,"Biographee's last name"]
[]
[null,null,null,null,null,null,"Other:",null,null,null,null,null,null,null,null,null,null,null,null,null,null,null,null,null,null,null,"Other:",null,null,null,null,null,null,null,null,null,null,null,null,null,null,null,null,null,null,null,"Other:"]
[]
[null,null,null,null,"Easy Non-Fiction (K-3) Call Number:"]
[null,null,null,null,"Prefix:",null,null,null,null,null,null,null,null,null,null,null,null,null,null,null,null,null,null,null,"Classification:",null,null,null,null,null,null,null,null,null,null,null,null,null,null,null,null,null,null,null,"Workmark:"]
[null,null,null,null,null,null,"None *",null,null,null,null,null,null,null,null,null,null,null,null,null,null,null,null,null,null,null,"Dewey Number *",null,null,null,null,null,null,null,null,null,null,null,null,null,null,null,null,null,null,null,"3 biographee letters* "]
[]
[null,null,null,null,null,null,"J above class",null,null,null,null,null,null,null,null,null,null,null,null,null,null,null,null,null,null,null,"E",null,null,null,null,null,null,null,null,null,null,null,null,null,null,null,null,null,null,null,"Biographee's last name"]
[]
[null,null,null,null,null,null,"Other:",null,null,null,null,null,null,null,null,null,null,null,null,null,null,null,null,null,null,null,"Other:",null,null,null,null,null,null,null,null,null,null,null,null,null,null,null,null,null,null,null,"Other:"]
[]
[null,null,null,null,"Non-Fiction (4-8) Call Number:"]
[null,null,null,null,"Prefix:",null,null,null,null,null,null,null,null,null,null,null,null,null,null,null,null,null,null,null,"Classification:",null,null,null,null,null,null,null,null,null,null,null,null,null,null,null,null,null,null,null,"Workmark:"]
[null,null,null,null,null,null,"None *",null,null,null,null,null,null,null,null,null,null,null,null,null,null,null,null,null,null,null,"Dewey Number *",null,null,null,null,null,null,null,null,null,null,null,null,null,null,null,null,null,null,null,"3 biographee letters* "]
[]
[null,null,null,null,null,null,"J above class",null,null,null,null,null,null,null,null,null,null,null,null,null,null,null,null,null,null,null,"E",null,null,null,null,null,null,null,null,null,null,null,null,null,null,null,null,null,null,null,"Biographee's last name"]
[]
[null,null,null,null,null,null,"Other:",null,null,null,null,null,null,null,null,null,null,null,null,null,null,null,null,null,null,null,"Other:",null,null,null,null,null,null,null,null,null,null,null,null,null,null,null,null,null,null,null,"Other:"]
[]
[null,null,null,null,"Non-Fiction (9-12) Call Number:"]
[null,null,null,null,"Prefix:",null,null,null,null,null,null,null,null,null,null,null,null,null,null,null,null,null,null,null,"Classification:",null,null,null,null,null,null,null,null,null,null,null,null,null,null,null,null,null,null,null,"Workmark:"]
[null,null,null,null,null,null,"None *",null,null,null,null,null,null,null,null,null,null,null,null,null,null,null,null,null,null,null,"Dewey Number *",null,null,null,null,null,null,null,null,null,null,null,null,null,null,null,null,null,null,null,"3 biographee letters* "]
[]
[null,null,null,null,null,null,"J above class",null,null,null,null,null,null,null,null,null,null,null,null,null,null,null,null,null,null,null,"E",null,null,null,null,null,null,null,null,null,null,null,null,null,null,null,null,null,null,null,"Biographee's last name"]
[]
[null,null,null,null,null,null,"Other:",null,null,null,null,null,null,null,null,null,null,null,null,null,null,null,null,null,null,null,"Other:",null,null,null,null,null,null,null,null,null,null,null,null,null,null,null,null,null,null,null,"Other:"]
[]
[null,null,null,null,"Graphic Fiction Call Number:"]
[null,null,null,null,"Prefix:",null,null,null,null,null,null,null,null,null,null,null,null,null,null,null,null,null,null,null,"Classification:",null,null,null,null,null,null,null,null,null,null,null,null,null,null,null,null,null,null,null,"Workmark:"]
[null,null,null,null,null,null,"None *",null,null,null,null,null,null,null,null,null,null,null,null,null,null,null,null,null,null,null,"741.5 *",null,null,null,null,null,null,null,null,null,null,null,null,null,null,null,null,null,null,null,"3 biographee letters* "]
[]
[null,null,null,null,null,null,"Graphic",null,null,null,null,null,null,null,null,null,null,null,null,null,null,null,null,null,null,null,"Use fiction classification",null,null,null,null,null,null,null,null,null,null,null,null,null,null,null,null,null,null,null,"Biographee's last name"]
[]
[null,null,null,null,null,null,"Other:",null,null,null,null,null,null,null,null,null,null,null,null,null,null,null,null,null,null,null,"Other:",null,null,null,null,null,null,null,null,null,null,null,null,null,null,null,null,null,null,null,"Other:"]
[]
[null,null,null,null,"Graphic Non-Fiction Call Number:"]
[null,null,null,null,"Prefix:",null,null,null,null,null,null,null,null,null,null,null,null,null,null,null,null,null,null,null,"Classification:",null,null,null,null,null,null,null,null,null,null,null,null,null,null,null,null,null,null,null,"Workmark:"]
[null,null,null,null,null,null,"None *",null,null,null,null,null,null,null,null,null,null,null,null,null,null,null,null,null,null,null,"Dewey Number *",null,null,null,null,null,null,null,null,null,null,null,null,null,null,null,null,null,null,null,"3 biographee letters* "]
[]
[null,null,null,null,null,null,"J above class",null,null,null,null,null,null,null,null,null,null,null,null,null,null,null,null,null,null,null,"E",null,null,null,null,null,null,null,null,null,null,null,null,null,null,null,null,null,null,null,"Biographee's last name"]
[]
[null,null,null,null,null,null,"Other:",null,null,null,null,null,null,null,null,null,null,null,null,null,null,null,null,null,null,null,"Other:",null,null,null,null,null,null,null,null,null,null,null,null,null,null,null,null,null,null,null,"Other:"]
[]
[null,null,null,null,"Collective Biography Call Number:"]
[null,null,null,null,"Prefix:",null,null,null,null,null,null,null,null,null,null,null,null,null,null,null,null,null,null,null,"Classification:",null,null,null,null,null,null,null,null,null,null,null,null,null,null,null,null,null,null,null,"Workmark:"]
[null,null,null,null,null,null,"Follow nonfiction prefixes *",null,null,null,null,null,null,null,null,null,null,null,null,null,null,null,null,null,null,null,"920 *",null,null,null,null,null,null,null,null,null,null,null,null,null,null,null,null,null,null,null,"3 biographee letters* "]
[]
[null,null,null,null,null,null,"Other:",null,null,null,null,null,null,null,null,null,null,null,null,null,null,null,null,null,null,null,"BC",null,null,null,null,null,null,null,null,null,null,null,null,null,null,null,null,null,null,null,"Biographee's last name"]
[]
[null,null,null,null,null,null,null,null,null,null,null,null,null,null,null,null,null,null,null,null,null,null,null,null,null,null,"Other:",null,null,null,null,null,null,null,null,null,null,null,null,null,null,null,null,null,null,null,"Other:"]
[]
[null,null,null,null,"Story Collection Books Call Number:"]
[null,null,null,null,"Prefix:",null,null,null,null,null,null,null,null,null,null,null,null,null,null,null,null,null,null,null,"Classification:",null,null,null,null,null,null,null,null,null,null,null,null,null,null,null,null,null,null,null,"Workmark:"]
[null,null,null,null,null,null,"Follow fiction prefixes *",null,null,null,null,null,null,null,null,null,null,null,null,null,null,null,null,null,null,null,"F *",null,null,null,null,null,null,null,null,null,null,null,null,null,null,null,null,null,null,null,"3 biographee letters* "]
[]
[null,null,null,null,null,null,"Other:",null,null,null,null,null,null,null,null,null,null,null,null,null,null,null,null,null,null,null,"Fic",null,null,null,null,null,null,null,null,null,null,null,null,null,null,null,null,null,null,null,"Biographee's last name"]
[]
[null,null,null,null,null,null,null,null,null,null,null,null,null,null,null,null,null,null,null,null,null,null,null,null,null,null,"SC",null,null,null,null,null,null,null,null,null,null,null,null,null,null,null,null,null,null,null,"Other:"]
[]
[null,null,null,null,null,null,null,null,null,null,null,null,null,null,null,null,null,null,null,null,null,null,null,null,null,null,"Other:"]
[]
[null,null,null,null,"Foreign Language Call Number:"]
[null,null,null,null,"Prefix:",null,null,null,null,null,null,null,null,null,null,null,null,null,null,null,null,null,null,null,"Classification:",null,null,null,null,null,null,null,null,null,null,null,null,null,null,null,null,null,null,null,"Workmark:"]
[null,null,null,null,null,null,"None *",null,null,null,null,null,null,null,null,null,null,null,null,null,null,null,null,null,null,null,"Dewey by Lang *",null,null,null,null,null,null,null,null,null,null,null,null,null,null,null,null,null,null,null,"3 biographee letters* "]
[]
[null,null,null,null,null,null,"Sp",null,null,null,null,null,null,null,null,null,null,null,null,null,null,null,null,null,null,null,"Dewey by Subject",null,null,null,null,null,null,null,null,null,null,null,null,null,null,null,null,null,null,null,"Biographee's last name"]
[]
[null,null,null,null,null,null,"Other:",null,null,null,null,null,null,null,null,null,null,null,null,null,null,null,null,null,null,null,null,null,null,null,null,null,null,null,null,null,null,null,null,null,null,null,null,null,null,null,"Other:"]
[]
[null,null,null,null,"Billingual:"]
[null,null,null,null,null,null,"Use English call number options *",null,null,null,null,null,null,null,null,null,null,null,null,null,null,null,null,null,null,null,"Use foreign language call number options"]
[]
[null,null,null,null,"Reference Call Number:"]
[null,null,null,null,"Prefix:",null,null,null,null,null,null,null,null,null,null,null,null,null,null,null,null,null,null,null,"Classification:",null,null,null,null,null,null,null,null,null,null,null,null,null,null,null,null,null,null,null,"Workmark:"]
[null,null,null,null,null,null,"None",null,null,null,null,null,null,null,null,null,null,null,null,null,null,null,null,null,null,null,"Dewey *",null,null,null,null,null,null,null,null,null,null,null,null,null,null,null,null,null,null,null,"3 biographee letters* "]
[]
[null,null,null,null,null,null,"R above dewey number *",null,null,null,null,null,null,null,null,null,null,null,null,null,null,null,null,null,null,null,null,null,null,null,null,null,null,null,null,null,null,null,null,null,null,null,null,null,null,null,"Biographee's last name"]
[]
[null,null,null,null,null,null,"Other:",null,null,null,null,null,null,null,null,null,null,null,null,null,null,null,null,null,null,null,null,null,null,null,null,null,null,null,null,null,null,null,null,null,null,null,null,null,null,null,"Other:"]
[]
[null,null,"Attaching Instructions",null,"Processing Options:"]
[null,null,"*Mylar Jackets are attached to all books with dust jackets (Standard)"]
[]
[null,null,null,null,"Barcode Label(s):"]
[null,null,null,null,null,null,"Barcode 1:"]
[null,null,null,null,null,null,null,null,"Position A - Q:"]
[]
[null,null,null,null,null,null,null,null,"Other:"]
[]
[null,null,null,null,null,null,"Barcode 2:"]
[null,null,null,null,null,null,null,null,"Position A - Q:"]
[]
[null,null,null,null,null,null,null,null,"Other:"]
[]
[null,null,null,null,"Spine Label: "]
[null,null,null,null,null,null,null,null,"1.5\" from bottom of spine*"]
[]
[null,null,null,null,null,null,null,null,"Other:"]
[]
[null,null,null,null,"AR Spine Label:"]
[null,null,null,null,null,null,null,null,"Above Spine Label*"]
[]
[null,null,null,null,null,null,null,null,"Other:"]
[]
[null,null,null,null,"AR Information Label:",null,null,null,null,null,null,null,null,null,null,null,null,null,null,null,null,null,null,null,null,null,null,null,null,null,null,null,null,null,"Vertical",null,null,null,null,null,null,null,null,null,"Vertical",null,null,null,null,null,null,null,null,null,"Horizontal"]
[null,null,null,null,null,null,null,null,"Other:",null,null,null,null,null,null,null,null,null,null,null,null,null,null,null,null,null,null,null,null,null,null,null,null,null,"(Reading Up)",null,null,null,null,null,null,null,null,null,"(Reading Down)"]
[]
[]
[null,null,null,null,"Book Pocket:"]
[null,null,null,null,null,null,null,null,"Inside front cover centered *"]
[]
[null,null,null,null,null,null,null,null,"Other:"]
[]
[null,null,null,null,"Other Option(s):"]
[null,null,null,null,null,null,null,null,"Other:"]
[]
[null,null,null,null,null,null,null,null,"Other:"]
[]
[null,null,null,null,null,null,null,null,"Other:"]
[]
[]
[null,null,"Additional / Special Instructions",null,"Processing Options:"]

{"sheet":"eBook Access Form","index":3,"n_rows":58,"n_cols":41,"rows_kept":58,"cut":false,"hidden":false,"merged":[[37,14,37,52],[49,14,49,52],[4,0,4,55],[17,14,18,52],[24,14,25,52],[26,14,26,30],[26,36,26,52],[28,14,28,52],[12,42,12,52],[12,14,12,30],[8,14,8,52],[10,14,10,52],[14,14,14,52],[19,14,19,30],[19,36,19,52],[21,14,21,52]]}
[]
[null,null,null,null,null,null,null,null,null,null,null,null,null,null,null,null,null,null,null,null,null,null,null,null,null,null,"eBOOK ACCESS INFORMATION"]
[null,null,null,null,null,null,null,null,null,null,null,null,null,null,null,null,null,null,null,null,null,null,null,null,null,null,null,null,null,null,"* = REQUIRED FIELDS"]
[]
["If no information is provided, J. Appleseed will create a Username / Password for you."]
[]
[null,null,null,null,null,null,null,null,null,null,null,null,null,null,"*School / Library Information:"]
[]
[null,null,null,null,null,null,null,null,null,null,null,null,"School / Library Name:"]
[]
[null,null,null,null,null,null,null,null,null,null,null,null,"School District:"]
[]
[null,null,null,null,null,null,null,null,null,null,null,null,"Contact Name:",null,null,null,null,null,null,null,null,null,null,null,null,null,null,null,null,null,null,null,null,null,null,null,null,null,null,null,"Phone Number:"]
[]
[null,null,null,null,null,null,null,null,null,null,null,null,"E-Mail Address:"]
[]
[null,null,null,null,null,null,null,null,null,null,null,null,null,null,"*Administrative Access:"]
[null,null,null,null,null,null,null,null,null,null,null,null,null,null,"(Administrative access provides valuable usage statistics and resources - Please provide 2 choices for username in the event the first is not available)"]
[]
[null,null,null,null,null,null,null,null,null,null,null,null,"Username (1):",null,null,null,null,null,null,null,null,null,null,null,null,null,null,null,null,null,null,null,null,null,"(2):"]
[]
[null,null,null,null,null,null,null,null,null,null,null,null,"Password:"]
[]
[null,null,null,null,null,null,null,null,null,null,null,null,null,null,"*General Access:"]
[null,null,null,null,null,null,null,null,null,null,null,null,null,null,"(This allows general reader access to your eBooks.  General access credentials must be different from Administrative Access - Please provide 2 choices for username in the event the first is not available))"]
[]
[null,null,null,null,null,null,null,null,null,null,null,null,"Username (1):",null,null,null,null,null,null,null,null,null,null,null,null,null,null,null,null,null,null,null,null,null,"(2):"]
[]
[null,null,null,null,null,null,null,null,null,null,null,null,"Password:"]
[]
[null,null,null,null,null,null,null,null,null,null,null,null,null,null,"*MARC Records Access Requirements:"]
[null,null,null,null,null,null,null,null,null,null,null,null,null,null,"(No username / password required to access)"]
[]
[null,null,null,null,null,null,null,null,null,null,null,null,"Instant Access:",null,null,null,"Yes",null,null,null,null,null,"No"]
[]
[]
[null,null,null,null,null,null,null,null,null,null,null,null,null,null,"IP Address Authentication (optional):"]
[null,null,null,null,null,null,null,null,null,null,null,null,null,null,"If we add your IP address information to your account, users who access your library onsite from the building will automatically be logged in.  PLEASE NOTE: IP authentication is not an access option for organizations who use a private IP address or use a shared public IP address.  Please consult with your network administrator if you are unsure."]
[null,null,null,null,null,null,null,null,null,null,null,null,null,null,"**IP authentication does not work remotely (e.g. from home)**"]
[]
[null,null,null,null,null,null,null,null,null,null,null,null,null,null,"Provide the IP addressor range of network:"]
[]
[null,null,null,null,null,null,null,null,null,null,null,null,null,null,null,null,"Yes",null,null,null,null,null,"No"]
[]
[null,null,null,null,null,null,null,null,null,null,null,null,null,null,"Does this IP address or range service multiple buildings or sites?"]
[]
[null,null,null,null,null,null,null,null,null,null,null,null,null,null,null,null,"Yes",null,null,null,null,null,"No"]
[]
[null,null,null,null,null,null,null,null,null,null,null,null,null,null,"Referring URL Address (optional):"]
[null,null,null,null,null,null,null,null,null,null,null,null,null,null,"If your organization has a secure password protected site, we can put the URL of your site on our list of approved URLs, and anytime a user clicks on your library link from your site  regardless of whether they are at school or at home  they will be automatically logged in.  Referring URLs must be unique to your institution, not shared by a district."]
[]
[null,null,null,null,null,null,null,null,null,null,null,null,null,null,"Provide the URL of the web page where the access link(s) will be posted:"]
[]
[null,null,null,null,null,null,null,null,null,null,null,null,null,null,null,null,"Yes",null,null,null,null,null,"No"]
[]
[null,null,null,null,null,null,null,null,null,null,null,null,null,null,"Does this IP address or range service multiple buildings or sites?"]
[]
[null,null,null,null,null,null,null,null,null,null,null,null,null,null,null,null,"Yes",null,null,null,null,null,"No"]

{"sheet":"HIDDEN","index":4,"n_rows":33,"n_cols":8,"rows_kept":33,"cut":false,"hidden":true,"merged":[]}
["PROMOTIONS","PAYMENTS","FORMATS"]
[]
["Buy 2, Get 1 FREE","VISA","Reinforced Library",null,null,"BOGO",{"$f":"IF('Title List'!AL7>=500,\"Yes\",\"No\")","v":"No"},{"$f":"IF(G3=\"Yes\",\"Eligible for Buy 2, Get 1 FREE Books, place an X in Column AE next to your FREE choices\",\"\")","v":""}]
["Free eBooks Premium Subscription","Mastercard","Hardcover with Jacket"]
["Free eBooks Fall 2021 Subscription","American Express","Board Book",null,null,"Premium '21 Subscription",{"$f":"IF('Title List'!AL3>=5000,\"Yes\",\"No\")","v":"No"},{"$f":"IF(G5=\"Yes\",\"Eligible for Premium '21 eBook Subscription\",\"\")","v":""}]
["Free eBooks Package 2021 Subscription","Check","Digital Book"]
["Savings Bundle",null,null,null,null,"Frontlist F21 Subscription",{"$f":"IF('Title List'!AL3>=2000,\"Yes\",\"No\")","v":"No"},{"$f":"IF(G7=\"Yes\",\"Eligible for Complete Fall '21 eBook Subscription\",\"\")","v":""}]
["*Savings Bundle Bonus"]
["*Free Custom Processing",null,null,null,null,"Animals F21 Subscription",{"$f":"IF('Title List'!AL3>=1000,\"Yes\",\"No\")","v":"No"},{"$f":"IF(G9=\"Yes\",\"Eligible for Animals '21 eBook Subscription\",\"\")","v":""}]
["Free Shipping"]
[null,null,null,null,null,"STEM F21 Subscription",{"$f":"IF('Title List'!AL3>=1000,\"Yes\",\"No\")","v":"No"},{"$f":"IF(G11=\"Yes\",\"Eligible for STEM Fall '21 eBook Subscription\",\"\")","v":""}]
[]
["YES/NO OPTION","SUBJECTS","PROCESSING OPTIONS",null,null,"Gift Card",{"$f":"IF('Title List'!AL4>=1000,\"Yes\",\"No\")","v":"No"},{"$f":"IF(G13=\"Yes\",\"Eligible for Amazon Gift Card\",\"\")","v":""}]
[]
["Yes","Animals & Nature","MARC Records",null,null,"Custom Processing",{"$f":"IF('Title List'!AL8>=500,\"Yes\",\"No\")","v":"No"},{"$f":"IF(G15=\"Yes\",\"Eligible for Free Custom Processing\",\"\")","v":""}]
["No","Arts, Crafts, & Activities","Bar Codes"]
[null,"Biographies","Bar Codes (Additional Set)"]
[null,"Careers","Spine Labels"]
[null,"Culture & Religion","Spine Labels (Additional Set)",null,null,null,{"$f":"IF(COUNTIF(G3:G15,\"*Yes*\"),\"Yes\",\"No\")","v":"No"}]
[null,"Current Issues","QR Labels (for eBooks)"]
[null,"Fiction","Book Pockets"]
[null,"Health","Shelf List Cards"]
[null,"High Interest","Date Due Cards"]
[null,"History","Date Due Slips"]
[null,"Language Arts","Property Label"]
[null,"Legends, Myths, & Paranormal","AR Spine Label"]
[null,"Math and Finance","AR Info Label"]
[null,"Science & Technology","AR Indicator Label"]
[null,"Social Studies","Lexile Label"]
[null,"Sports & Recreation","Catalog Card Kits"]
[null,null,"Theft 3M Tattle Tape"]
[null,null,"Theft Checkpoint"]
[null,null,"Theft RFID"]