{"text_format":"1","workbook":"xlsx","n_sheets":4,"sheets":["Instructions","Sheet1","Sheet2","StandingOrder"],"not_rendered":{"charts":0,"images":3,"macros":1,"external_links":0,"defined_names":9,"comments":2,"pivot_tables":0},"unopened":[],"bounds":{"document_bytes":16777216,"sheet_cells":100000,"rows_first":2000,"rows_last":500,"rows_between":2000,"halvings":0,"cell_chars":16384,"cell_head_chars":4096},"cells_cut":0,"cells_raw":0,"read":"whole","date_system":"1900"}

{"sheet":"Instructions","index":0,"n_rows":16,"n_cols":1,"rows_kept":16,"cut":false,"hidden":false,"merged":[]}
["Simple instructions on how to use the excel OF:"]
["Notes"]
["~ Enter the ship to and bill to information for the customer that you're creating the list for "]
["~ Enter the qty of LB books/LB sets/ebooks/etc that your customer wants in the \"QTY\" column (column A)"]
["~ You'll notice that in the fields next to the bill to area, you'll find the \"Summary\" box - here is where you'll see (at a glance) a quick summary of the products ordered - these fields are dynamically updated as new qtys are added to the overall file"]
["~ Under the summary box, you'll find a manilla colored box where you can enter any notes, instructions, etc that you see fit"]
["~ When done entering your qtys, please go up to the top of the excel file and click the \"Order Summary\" button"]
["~ The file will automatically remove all NON-SELECTED titles and only list the titles with a QTY chosen (you can always go back and add more titles by clicking \"Clear Summary\" at the top above the Bill to, and it'll bring back all titles)"]
["~ Once completed, click the \"Finalize Order\" button above the Bill to box and wait about 5-10 seconds, and you'll see \"Sheet2\" will open up a printer-friendly version of the order will appear. This version is ready to be sent as a final order/proposal to customers/customer service"]
["~ Please make sure to adjust the print area for this form so that it only prints the pages you want printed"]
["~ You can click on the top row of the notes box on this page - click and hold - and then you can drag this box to the bottom of your title listing - thus enabling the notes to also print out"]
[]
["A few quick tips on this excel OF:"]
["~ The titles are listed here as they appear on the 2020 catalog(s)"]
["~ Row 22 is the header row - you can use this row to sort or filter out specific types of data, to make this OF easier to navigate. For instance, if you want to ONLY DISPLAY the library bound books, go to cell G22, click on the box in the bottom right portion of the cell, and deselect \"Select All\" and then select \"Library Bound Book\" and close out of the menu - now your excel file will only display the print books. This function/capability is available for any column in Row 22."]
["~ If you find any issues or have any ideas on how we can make this more user friendly, please be sure to let us know"]

{"sheet":"Sheet1","index":1,"n_rows":5055,"n_cols":36,"rows_kept":2250,"cut":true,"hidden":false,"merged":[[6,25,6,31],[7,26,7,27],[11,25,11,27],[10,28,10,29],[10,30,10,31],[11,28,11,29],[11,30,11,31],[7,28,7,31],[8,28,8,31],[9,28,9,31],[19,13,19,14],[12,28,12,29],[12,30,12,31],[8,26,8,27],[9,26,9,27],[12,25,12,27],[19,15,19,21],[13,25,13,27],[13,28,13,29],[13,30,13,31],[14,28,14,29],[14,30,14,31],[15,15,15,21],[16,15,16,21],[17,15,17,21],[12,15,12,21],[13,15,13,21],[14,15,14,21],[7,13,7,14],[8,13,8,14],[9,13,9,14],[10,13,10,14],[16,7,16,10],[17,7,17,10],[19,7,19,10],[6,13,6,21],[16,13,16,14],[17,13,17,14],[11,13,11,14],[12,13,12,14],[13,13,13,14],[14,13,14,14],[15,13,15,14],[7,15,7,21],[8,15,8,21],[9,15,9,21],[10,15,10,21],[11,15,11,21],[11,7,11,10],[12,7,12,10],[13,7,13,10],[14,7,14,10],[15,7,15,10],[6,6,6,10],[7,7,7,10],[8,7,8,10],[9,7,9,10],[10,7,10,10]],"bounds":{"rows_first":1000,"rows_last":250,"rows_between":1000,"halvings":1}}
[]
[]
[]
[]
[]
[]
[null,null,null,null,null,null,"Ship to",null,null,null,null,null,null,"Bill to",null,null,null,null,null,null,null,null,null,null,null,"Summary"]
[null,null,null,null,null,null,"School/Library:",null,null,null,null,null,null,"School/Library:",null,null,null,null,null,null,null,null,null,null,null,null,"Print",null," eBooks"]
[null,null,null,null,null,null,"Attention:",null,null,null,null,null,null,"Attention:",null,null,null,null,null,null,null,null,null,null,null,"# of Books",{"$f":"SUMPRODUCT(((Table1[Product Type]=\"Library Bound Book\")\n+(Table1[Product Type]=\"Library Set\")\n+(Table1[Product Type]=\"Paperback Book\")\n+(Table1[Product Type]=\"Single Copy Set\"))*(Table1[Subtotal QTY]))","v":0},null,{"$f":"SUMPRODUCT(((Table1[Product Type]=\"eBook\")+(Table1[Product Type]=\"eBook Set\"))*(Table1[Subtotal QTY]))","v":0}]
[null,null,null,null,null,null,"Title:",null,null,null,null,null,null,"Title:",null,null,null,null,null,null,null,null,null,null,null,"Subtotal",{"$f":"SUMPRODUCT(((Table1[Product Type]=\"Library Bound Book\")\n+(Table1[Product Type]=\"Library Set\")\n+(Table1[Product Type]=\"Paperback Book\")\n+(Table1[Product Type]=\"Single Copy Set\"))*(Table1[Subtotal]))","v":0},null,{"$f":"SUMPRODUCT(((Table1[Product Type]=\"eBook\")+(Table1[Product Type]=\"eBook Set\"))*(Table1[Subtotal]))","v":0}]
[null,null,null,null,null,null,"Street Address:",null,null,null,null,null,null,"Street Address:",null,null,null,null,null,null,null,null,null,null,null,null,null,null,"Book Subtotal",null,{"$f":"AA10+AC10","v":0}]
[null,null,null,null,null,null,"City:",null,null,null,null,null,null,"City:",null,null,null,null,null,null,null,null,null,null,null,"(if applicable)",null,null,"Library Processing"]
[null,null,null,null,null,null,"State:",null,null,null,null,null,null,"State:",null,null,null,null,null,null,null,null,null,null,null,"9% S&H (12% for Alaska & Hawaii) - FREE on all orders over $500",null,null,"Shipping & Handling",null,{"$f":"IF(AE11<500,(AE11*0.09),(\"0.00\"))","v":0}]
[null,null,null,null,null,null,"Zip:",null,null,null,null,null,null,"Zip:",null,null,null,null,null,null,null,null,null,null,null,"(if applicable)",null,null,"Tax"]
[null,null,null,null,null,null,"Contact Name:",null,null,null,null,null,null,"Contact Name:",null,null,null,null,null,null,null,null,null,null,null,null,null,null,"GRAND TOTAL",null,{"$f":"AE11+AE12+AE13+AE14","v":0}]
[null,null,null,null,null,null,"Phone:",null,null,null,null,null,null,"Phone:"]
[null,null,null,null,null,null,"Fax:",null,null,null,null,null,null,"Fax:",null,null,null,null,null,null,null,null,null,null,null,null,"Notes"]
[null,null,null,null,null,null,"email:",null,null,null,null,null,null,"email:"]
[]
["**TITLES HIGHLIGHTED YELLOW ARE FUTURE RELEASES**",null,null,null,null,null,"PO# (if needed)",null,null,null,null,null,null,"Rep Name:",null,null,null,null,null,null,null,null,null,"mikewhite@booklookindiana.com"]
[]
["QTY","Spring 2021 GH Page #","GH Full 2020 Page #","Spring 2021 KH Page #","KH Full 2020 Page #","Catalog Subject","Series","Title","ISBN","Weblink","Imprint","Product Type","# of Books","© Date","Season","Binding Type","Trim","Contributor Type","Contributor","ATOS","Points","DRA","EIL","GRL","Lexile","Reading Level","Interest Level","Description","Language","List Price","School & Library Price","Dewey","Page Count","Hyperlink","Subtotal QTY","Subtotal"]
[null,6,null,null,null,"Current Issues","Opposing Viewpoints","Opposing Viewpoints (Fall 2020)","978-1-5345-0744-9",{"$f":"HYPERLINK(Table1[[#This Row],[Hyperlink]],\"Weblink\")","v":"Weblink"},"Greenhaven Publishing","Library Set",5,"2021","August 2020","Library","6.000 X 9.000",null,null,null,null,null,null,null,null,"Grade 10 - 12","Grade 9 - 12","First introduced more than 40 years ago, Opposing Viewpoints still sets the standard for current-issue studies. With almost 300 volumes covering nearly every controversial contemporary topic, Opposing Viewpoints is the leading source of current-issue materials for libraries and classrooms. Each book delivers pro versus con expert opinions selected from highly respected sources and publications. Features include: Guided reading questions that assist students in reading comprehension. Chapter prefaces provide context on the topics and debates presented. Chapters summarize both sides of the debates, providing a balanced look at contemporary controversies.","English",244,195.2,null,"176 pp.","https://greenhavenpublishing.com/978-1-5345-0744-9",{"$f":"Table1[[#This Row],['# of Books]]*Table1[[#This Row],[QTY]]","v":0},{"$f":"Table1[[#This Row],[QTY]]*Table1[[#This Row],[School & Library Price]]","v":0}]
[null,6,null,null,null,"Current Issues","Opposing Viewpoints","Opposing Viewpoints (Fall 2020)","978-1-5345-0751-7",{"$f":"HYPERLINK(Table1[[#This Row],[Hyperlink]],\"Weblink\")","v":"Weblink"},"Greenhaven Publishing","Single Copy Set",5,"2021","August 2020","Paperback","6.000 X 9.000",null,null,null,null,null,null,null,null,"Grade 10 - 12","Grade 9 - 12","First introduced more than 40 years ago, Opposing Viewpoints still sets the standard for current-issue studies. With almost 300 volumes covering nearly every controversial contemporary topic, Opposing Viewpoints is the leading source of current-issue materials for libraries and classrooms. Each book delivers pro versus con expert opinions selected from highly respected sources and publications. Features include: Guided reading questions that assist students in reading comprehension. Chapter prefaces provide context on the topics and debates presented. Chapters summarize both sides of the debates, providing a balanced look at contemporary controversies.","English",169,135.19999999999999,null,"176 pp.","https://greenhavenpublishing.com/978-1-5345-0751-7",{"$f":"Table1[[#This Row],['# of Books]]*Table1[[#This Row],[QTY]]","v":0},{"$f":"Table1[[#This Row],[QTY]]*Table1[[#This Row],[School & Library Price]]","v":0}]
[null,6,null,null,null,"Current Issues","Opposing Viewpoints","Domestic Terrorism","978-1-5345-0695-4",{"$f":"HYPERLINK(Table1[[#This Row],[Hyperlink]],\"Weblink\")","v":"Weblink"},"Greenhaven Publishing","Library Bound Book",1,"2021","August 2020","Library","6.000 X 9.000","Compiled by","Gary Wiener",null,null,null,null,"Z",null,"Grade 10 - 12","Grade 9 - 12","We think we know it when we see it, but what is domestic terrorism exactly? Part of the confusion may stem from the fact that there is hesitancy among top federal agencies to define it. Starting with the reasons why this is so, this volume explores whether serious concerns about domestic terrorism are justified, if there are situations when domestic terrorism is justified, and how politicians and the media may be stoking domestic terrorism. Your readers will evaluate which efforts could lead to the prevention of domestic terrorism incidents.","English",48.8,39.04,"363.3250973--dc23","176 pp.","https://greenhavenpublishing.com/978-1-5345-0695-4",{"$f":"Table1[[#This Row],['# of Books]]*Table1[[#This Row],[QTY]]","v":0},{"$f":"Table1[[#This Row],[QTY]]*Table1[[#This Row],[School & Library Price]]","v":0}]
[null,6,null,null,null,"Current Issues","Opposing Viewpoints","Domestic Terrorism","978-1-5345-0694-7",{"$f":"HYPERLINK(Table1[[#This Row],[Hyperlink]],\"Weblink\")","v":"Weblink"},"Greenhaven Publishing","Paperback Book",1,"2021","August 2020","Paperback","6.000 X 9.000","Compiled by","Gary Wiener",null,null,null,null,"Z",null,"Grade 10 - 12","Grade 9 - 12","We think we know it when we see it, but what is domestic terrorism exactly? Part of the confusion may stem from the fact that there is hesitancy among top federal agencies to define it. Starting with the reasons why this is so, this volume explores whether serious concerns about domestic terrorism are justified, if there are situations when domestic terrorism is justified, and how politicians and the media may be stoking domestic terrorism. Your readers will evaluate which efforts could lead to the prevention of domestic terrorism incidents.","English",33.799999999999997,27.04,"363.3250973--dc23","176 pp.","https://greenhavenpublishing.com/978-1-5345-0694-7",{"$f":"Table1[[#This Row],['# of Books]]*Table1[[#This Row],[QTY]]","v":0},{"$f":"Table1[[#This Row],[QTY]]*Table1[[#This Row],[School & Library Price]]","v":0}]
[null,6,null,null,null,"Current Issues","Opposing Viewpoints","Hunting and Conservation","978-1-5345-0693-0",{"$f":"HYPERLINK(Table1[[#This Row],[Hyperlink]],\"Weblink\")","v":"Weblink"},"Greenhaven Publishing","Library Bound Book",1,"2021","August 2020","Library","6.000 X 9.000","Compiled by","Marcia Amidon Lusted",null,null,null,null,"Z",null,"Grade 10 - 12","Grade 9 - 12","Although hunting and conservation may appear to be at odds, the truth is that many great conservation efforts have been propelled by hunters. For example, the U.S. National Park System was created in large part to the efforts of hunters. So how does hunting benefit conservation today? Critics argue that hunting encourages poaching, animal cruelty, and can lead to extinction. Proponents counter that hunting encourages sustainability and controls animal populations, and that hunting for sustenance is more ethical than buying commercial meat. The diverging perspectives that comprise this volume provide readers with a comprehensive view of the controversies surrounding this topic.","English",48.8,39.04,"639/.1--dc23","176 pp.","https://greenhavenpublishing.com/978-1-5345-0693-0",{"$f":"Table1[[#This Row],['# of Books]]*Table1[[#This Row],[QTY]]","v":0},{"$f":"Table1[[#This Row],[QTY]]*Table1[[#This Row],[School & Library Price]]","v":0}]
[null,6,null,null,null,"Current Issues","Opposing Viewpoints","Hunting and Conservation","978-1-5345-0692-3",{"$f":"HYPERLINK(Table1[[#This Row],[Hyperlink]],\"Weblink\")","v":"Weblink"},"Greenhaven Publishing","Paperback Book",1,"2021","August 2020","Paperback","6.000 X 9.000","Compiled by","Marcia Amidon Lusted",null,null,null,null,"Z",null,"Grade 10 - 12","Grade 9 - 12","Although hunting and conservation may appear to be at odds, the truth is that many great conservation efforts have been propelled by hunters. For example, the U.S. National Park System was created in large part to the efforts of hunters. So how does hunting benefit conservation today? Critics argue that hunting encourages poaching, animal cruelty, and can lead to extinction. Proponents counter that hunting encourages sustainability and controls animal populations, and that hunting for sustenance is more ethical than buying commercial meat. The diverging perspectives that comprise this volume provide readers with a comprehensive view of the controversies surrounding this topic.","English",33.799999999999997,27.04,"639/.1--dc23","176 pp.","https://greenhavenpublishing.com/978-1-5345-0692-3",{"$f":"Table1[[#This Row],['# of Books]]*Table1[[#This Row],[QTY]]","v":0},{"$f":"Table1[[#This Row],[QTY]]*Table1[[#This Row],[School & Library Price]]","v":0}]
[null,6,null,null,null,"Current Issues","Opposing Viewpoints","Mass Shootings","978-1-5345-0689-3",{"$f":"HYPERLINK(Table1[[#This Row],[Hyperlink]],\"Weblink\")","v":"Weblink"},"Greenhaven Publishing","Library Bound Book",1,"2021","August 2020","Library","6.000 X 9.000","Compiled by","Martin Gitlin",null,null,null,null,"Z",null,"Grade 10 - 12","Grade 9 - 12","Since 2016, the United States has experienced an average of nearly one mass shooting per day. Is this the new normal, or can something be done to prevent these slaughters? America seems divided about how to stop mass shootings. While some point to stricter gun control as a solution, others urge a focus on mental health and improvement of social factors that contribute to disenfranchisement. Meanwhile, the shootings continue while the country's leaders are at a standstill. The diverse viewpoints in this volume will help your readers explore the topic of mass shootings, their causes and effects, and potential solutions for eliminating them.","English",48.8,39.04,"363.330973--dc23","176 pp.","https://greenhavenpublishing.com/978-1-5345-0689-3",{"$f":"Table1[[#This Row],['# of Books]]*Table1[[#This Row],[QTY]]","v":0},{"$f":"Table1[[#This Row],[QTY]]*Table1[[#This Row],[School & Library Price]]","v":0}]
[null,6,null,null,null,"Current Issues","Opposing Viewpoints","Mass Shootings","978-1-5345-0688-6",{"$f":"HYPERLINK(Table1[[#This Row],[Hyperlink]],\"Weblink\")","v":"Weblink"},"Greenhaven Publishing","Paperback Book",1,"2021","August 2020","Paperback","6.000 X 9.000","Compiled by","Martin Gitlin",null,null,null,null,"Z",null,"Grade 10 - 12","Grade 9 - 12","Since 2016, the United States has experienced an average of nearly one mass shooting per day. Is this the new normal, or can something be done to prevent these slaughters? America seems divided about how to stop mass shootings. While some point to stricter gun control as a solution, others urge a focus on mental health and improvement of social factors that contribute to disenfranchisement. Meanwhile, the shootings continue while the country's leaders are at a standstill. The diverse viewpoints in this volume will help your readers explore the topic of mass shootings, their causes and effects, and potential solutions for eliminating them.","English",33.799999999999997,27.04,"363.330973--dc23","176 pp.","https://greenhavenpublishing.com/978-1-5345-0688-6",{"$f":"Table1[[#This Row],['# of Books]]*Table1[[#This Row],[QTY]]","v":0},{"$f":"Table1[[#This Row],[QTY]]*Table1[[#This Row],[School & Library Price]]","v":0}]
[null,6,null,null,null,"Current Issues","Opposing Viewpoints","Party Politics","978-1-5345-0685-5",{"$f":"HYPERLINK(Table1[[#This Row],[Hyperlink]],\"Weblink\")","v":"Weblink"},"Greenhaven Publishing","Library Bound Book",1,"2021","August 2020","Library","6.000 X 9.000","Compiled by","Avery Elizabeth Hurt",null,null,null,null,"Z",null,"Grade 10 - 12","Grade 9 - 12","The establishment and evolution of political parties in the United States can be more than a little confusing to today's students. This anthology of essays offers a diverse array of perspectives that explore America's political parties. What purpose do political parties serve? Do they encourage corruption? Why are there only two major parties, and is that why the country is so divided? Given today's volatile political climate, can the United States come together and transcend party politics? Viewpoints written by experts in the field attempt to address these questions, while chapter prefaces and viewpoint introductions provide context.","English",48.8,39.04,"324.273--dc23","176 pp.","https://greenhavenpublishing.com/978-1-5345-0685-5",{"$f":"Table1[[#This Row],['# of Books]]*Table1[[#This Row],[QTY]]","v":0},{"$f":"Table1[[#This Row],[QTY]]*Table1[[#This Row],[School & Library Price]]","v":0}]
[null,6,null,null,null,"Current Issues","Opposing Viewpoints","Party Politics","978-1-5345-0684-8",{"$f":"HYPERLINK(Table1[[#This Row],[Hyperlink]],\"Weblink\")","v":"Weblink"},"Greenhaven Publishing","Paperback Book",1,"2021","August 2020","Paperback","6.000 X 9.000","Compiled by","Avery Elizabeth Hurt",null,null,null,null,"Z",null,"Grade 10 - 12","Grade 9 - 12","The establishment and evolution of political parties in the United States can be more than a little confusing to today's students. This anthology of essays offers a diverse array of perspectives that explore America's political parties. What purpose do political parties serve? Do they encourage corruption? Why are there only two major parties, and is that why the country is so divided? Given today's volatile political climate, can the United States come together and transcend party politics? Viewpoints written by experts in the field attempt to address these questions, while chapter prefaces and viewpoint introductions provide context.","English",33.799999999999997,27.04,"324.273--dc23","176 pp.","https://greenhavenpublishing.com/978-1-5345-0684-8",{"$f":"Table1[[#This Row],['# of Books]]*Table1[[#This Row],[QTY]]","v":0},{"$f":"Table1[[#This Row],[QTY]]*Table1[[#This Row],[School & Library Price]]","v":0}]
[null,6,null,null,null,"Current Issues","Opposing Viewpoints","The Prison Industrial Complex","978-1-5345-0691-6",{"$f":"HYPERLINK(Table1[[#This Row],[Hyperlink]],\"Weblink\")","v":"Weblink"},"Greenhaven Publishing","Library Bound Book",1,"2021","August 2020","Library","6.000 X 9.000","Compiled by","Lita Sorensen",null,null,null,null,"Z",null,"Grade 10 - 12","Grade 9 - 12","The United States boasts the highest incarceration rate in the entire world. Perhaps not coincidentally, mass incarceration has been a financial boon to the private prison industry. Privatization of prisons is seen by some as a solution to state governments' budget problems, but the mission of these for-profit companies is not necessarily aligned with the reform system. The diverse perspectives in this volume examine the history of private prisons in the United States, whether they are more concerned with rehabilitation or financial profit, and what impact they have on criminal justice laws and society at large.","English",48.8,39.04,"365/.973--dc23","176 pp.","https://greenhavenpublishing.com/978-1-5345-0691-6",{"$f":"Table1[[#This Row],['# of Books]]*Table1[[#This Row],[QTY]]","v":0},{"$f":"Table1[[#This Row],[QTY]]*Table1[[#This Row],[School & Library Price]]","v":0}]
[null,6,null,null,null,"Current Issues","Opposing Viewpoints","The Prison Industrial Complex","978-1-5345-0690-9",{"$f":"HYPERLINK(Table1[[#This Row],[Hyperlink]],\"Weblink\")","v":"Weblink"},"Greenhaven Publishing","Paperback Book",1,"2021","August 2020","Paperback","6.000 X 9.000","Compiled by","Lita Sorensen",null,null,null,null,"Z",null,"Grade 10 - 12","Grade 9 - 12","The United States boasts the highest incarceration rate in the entire world. Perhaps not coincidentally, mass incarceration has been a financial boon to the private prison industry. Privatization of prisons is seen by some as a solution to state governments' budget problems, but the mission of these for-profit companies is not necessarily aligned with the reform system. The diverse perspectives in this volume examine the history of private prisons in the United States, whether they are more concerned with rehabilitation or financial profit, and what impact they have on criminal justice laws and society at large.","English",33.799999999999997,27.04,"365/.973--dc23","176 pp.","https://greenhavenpublishing.com/978-1-5345-0690-9",{"$f":"Table1[[#This Row],['# of Books]]*Table1[[#This Row],[QTY]]","v":0},{"$f":"Table1[[#This Row],[QTY]]*Table1[[#This Row],[School & Library Price]]","v":0}]
[null,null,7,null,null,"Current Issues","Opposing Viewpoints","Opposing Viewpoints (Spring 2020)","978-1-5345-0674-9",{"$f":"HYPERLINK(Table1[[#This Row],[Hyperlink]],\"Weblink\")","v":"Weblink"},"Greenhaven Publishing","Library Set",6,"2020","January 2020","Library","6.000 X 9.000",null,null,null,null,null,null,null,null,"Grade 10 - 12","Grade 9 - 12","First introduced more than 40 years ago, Opposing Viewpoints still sets the standard for current-issue studies. With almost 300 volumes covering nearly every controversial contemporary topic, Opposing Viewpoints is the leading source of current-issue materials for libraries and classrooms. Each book delivers pro versus con expert opinions selected from highly respected and often hard-to-find sources and publications. Features include: Guided reading questions at the beginning of each viewpoint assist students in reading comprehension. Chapter prefaces provide context to readers on the topics and debates presented in each chapter. Chapters dissect both sides of debates to present an impartial look at contemporary controversies.","English",292.8,234.24,null,"176–200 pp.","https://greenhavenpublishing.com/978-1-5345-0674-9",{"$f":"Table1[[#This Row],['# of Books]]*Table1[[#This Row],[QTY]]","v":0},{"$f":"Table1[[#This Row],[QTY]]*Table1[[#This Row],[School & Library Price]]","v":0}]
[null,null,7,null,null,"Current Issues","Opposing Viewpoints","Opposing Viewpoints (Spring 2020)","978-1-5345-0679-4",{"$f":"HYPERLINK(Table1[[#This Row],[Hyperlink]],\"Weblink\")","v":"Weblink"},"Greenhaven Publishing","Single Copy Set",6,"2020","January 2020","Paperback","6.000 X 9.000",null,null,null,null,null,null,null,null,"Grade 10 - 12","Grade 9 - 12","First introduced more than 40 years ago, Opposing Viewpoints still sets the standard for current-issue studies. With almost 300 volumes covering nearly every controversial contemporary topic, Opposing Viewpoints is the leading source of current-issue materials for libraries and classrooms. Each book delivers pro versus con expert opinions selected from highly respected and often hard-to-find sources and publications. Features include: Guided reading questions at the beginning of each viewpoint assist students in reading comprehension. Chapter prefaces provide context to readers on the topics and debates presented in each chapter. Chapters dissect both sides of debates to present an impartial look at contemporary controversies.","English",202.8,162.24,null,"176–200 pp.","https://greenhavenpublishing.com/978-1-5345-0679-4",{"$f":"Table1[[#This Row],['# of Books]]*Table1[[#This Row],[QTY]]","v":0},{"$f":"Table1[[#This Row],[QTY]]*Table1[[#This Row],[School & Library Price]]","v":0}]
[null,7,7,null,null,"Current Issues","Opposing Viewpoints","America's Changing Demographics","978-1-5345-0601-5",{"$f":"HYPERLINK(Table1[[#This Row],[Hyperlink]],\"Weblink\")","v":"Weblink"},"Greenhaven Publishing","Library Bound Book",1,"2020","January 2020","Library","6.000 X 9.000","Edited by","Martin Gitlin",null,null,null,null,"Z",null,"Grade 10 - 12","Grade 9 - 12","Thanks to a declining birth rate, upticks in immigration, and evolving gender roles, America looks much different from the way it did 100, 50, or even 25 years ago. Aging baby boomers are putting stress on the current health care system. Young people have different values and priorities from those of previous generations. Unequal distribution of wealth has created a greater economic divide than ever before. How will America's shifting demographics affect the country's future? Through diverse viewpoints, this fascinating volume explores the many factors that contribute to what it means to be an American and how that might change in this century.","English",48.8,39.04,"304.60973--dc23","200 pp.","https://greenhavenpublishing.com/978-1-5345-0601-5",{"$f":"Table1[[#This Row],['# of Books]]*Table1[[#This Row],[QTY]]","v":0},{"$f":"Table1[[#This Row],[QTY]]*Table1[[#This Row],[School & Library Price]]","v":0}]
[null,7,7,null,null,"Current Issues","Opposing Viewpoints","America's Changing Demographics","978-1-5345-0600-8",{"$f":"HYPERLINK(Table1[[#This Row],[Hyperlink]],\"Weblink\")","v":"Weblink"},"Greenhaven Publishing","Paperback Book",1,"2020","January 2020","Paperback","6.000 X 9.000","Edited by","Martin Gitlin",null,null,null,null,"Z",null,"Grade 10 - 12","Grade 9 - 12","Thanks to a declining birth rate, upticks in immigration, and evolving gender roles, America looks much different from the way it did 100, 50, or even 25 years ago. Aging baby boomers are putting stress on the current health care system. Young people have different values and priorities from those of previous generations. Unequal distribution of wealth has created a greater economic divide than ever before. How will America's shifting demographics affect the country's future? Through diverse viewpoints, this fascinating volume explores the many factors that contribute to what it means to be an American and how that might change in this century.","English",33.799999999999997,27.04,"304.60973--dc23","200 pp.","https://greenhavenpublishing.com/978-1-5345-0600-8",{"$f":"Table1[[#This Row],['# of Books]]*Table1[[#This Row],[QTY]]","v":0},{"$f":"Table1[[#This Row],[QTY]]*Table1[[#This Row],[School & Library Price]]","v":0}]
[null,7,7,null,null,"Current Issues","Opposing Viewpoints","Gender in the 21st Century","978-1-5345-0593-3",{"$f":"HYPERLINK(Table1[[#This Row],[Hyperlink]],\"Weblink\")","v":"Weblink"},"Greenhaven Publishing","Library Bound Book",1,"2020","January 2020","Library","6.000 X 9.000","Edited by","M. M. Eboch",null,null,null,null,"Z",null,"Grade 10 - 12","Grade 9 - 12","Once we understand that gender is distinct from sex, a whole world of possibilities open up, along with the potential for confusion. Shifting attitudes about the roles of men and women have allowed younger generations to refuse to be pigeonholed into conventional gender norms. As a result, the 21st century seems ripe for a gender revolution. The viewpoints in this volume approach gender from a variety of perspectives, providing readers with food for thought about where gender comes from, how we can make sense of its importance, and where it might be headed.","English",48.8,39.04,"305.3--dc23","176 pp.","https://greenhavenpublishing.com/978-1-5345-0593-3",{"$f":"Table1[[#This Row],['# of Books]]*Table1[[#This Row],[QTY]]","v":0},{"$f":"Table1[[#This Row],[QTY]]*Table1[[#This Row],[School & Library Price]]","v":0}]
[null,7,7,null,null,"Current Issues","Opposing Viewpoints","Gender in the 21st Century","978-1-5345-0592-6",{"$f":"HYPERLINK(Table1[[#This Row],[Hyperlink]],\"Weblink\")","v":"Weblink"},"Greenhaven Publishing","Paperback Book",1,"2020","January 2020","Paperback","6.000 X 9.000","Edited by","M. M. Eboch",null,null,null,null,"Z",null,"Grade 10 - 12","Grade 9 - 12","Once we understand that gender is distinct from sex, a whole world of possibilities open up, along with the potential for confusion. Shifting attitudes about the roles of men and women have allowed younger generations to refuse to be pigeonholed into conventional gender norms. As a result, the 21st century seems ripe for a gender revolution. The viewpoints in this volume approach gender from a variety of perspectives, providing readers with food for thought about where gender comes from, how we can make sense of its importance, and where it might be headed.","English",33.799999999999997,27.04,"305.3--dc23","176 pp.","https://greenhavenpublishing.com/978-1-5345-0592-6",{"$f":"Table1[[#This Row],['# of Books]]*Table1[[#This Row],[QTY]]","v":0},{"$f":"Table1[[#This Row],[QTY]]*Table1[[#This Row],[School & Library Price]]","v":0}]
[null,7,7,null,null,"Current Issues","Opposing Viewpoints","Human Migration","978-1-5345-0599-5",{"$f":"HYPERLINK(Table1[[#This Row],[Hyperlink]],\"Weblink\")","v":"Weblink"},"Greenhaven Publishing","Library Bound Book",1,"2020","January 2020","Library","6.000 X 9.000","Edited by","Barbara Krasner ",null,null,null,null,"Z",null,"Grade 10 - 12","Grade 9 - 12","People around the world move from their homes for different reasons. Some seek opportunity. Others are fleeing dangerous conditions or have been displaced by environmental disasters. How welcoming should countries be toward immigrants and refugees, and what value do such migrants add to their new surroundings? The diverse viewpoints in this resource explore the benefits and shortcomings of strict immigration policies and open borders, how immigrants can sustain countries and how they can create larger problems, and what the international community is or is not obligated to do to help.","English",48.8,39.04,"325.73--dc23","200 pp.","https://greenhavenpublishing.com/978-1-5345-0599-5",{"$f":"Table1[[#This Row],['# of Books]]*Table1[[#This Row],[QTY]]","v":0},{"$f":"Table1[[#This Row],[QTY]]*Table1[[#This Row],[School & Library Price]]","v":0}]
[null,7,7,null,null,"Current Issues","Opposing Viewpoints","Human Migration","978-1-5345-0598-8",{"$f":"HYPERLINK(Table1[[#This Row],[Hyperlink]],\"Weblink\")","v":"Weblink"},"Greenhaven Publishing","Paperback Book",1,"2020","January 2020","Paperback","6.000 X 9.000","Edited by","Barbara Krasner ",null,null,null,null,"Z",null,"Grade 10 - 12","Grade 9 - 12","People around the world move from their homes for different reasons. Some seek opportunity. Others are fleeing dangerous conditions or have been displaced by environmental disasters. How welcoming should countries be toward immigrants and refugees, and what value do such migrants add to their new surroundings? The diverse viewpoints in this resource explore the benefits and shortcomings of strict immigration policies and open borders, how immigrants can sustain countries and how they can create larger problems, and what the international community is or is not obligated to do to help.","English",33.799999999999997,27.04,"325.73--dc23","200 pp.","https://greenhavenpublishing.com/978-1-5345-0598-8",{"$f":"Table1[[#This Row],['# of Books]]*Table1[[#This Row],[QTY]]","v":0},{"$f":"Table1[[#This Row],[QTY]]*Table1[[#This Row],[School & Library Price]]","v":0}]
[null,7,7,null,null,"Current Issues","Opposing Viewpoints","Labor Unions and Workers' Rights","978-1-5345-0595-7",{"$f":"HYPERLINK(Table1[[#This Row],[Hyperlink]],\"Weblink\")","v":"Weblink"},"Greenhaven Publishing","Library Bound Book",1,"2020","January 2020","Library","6.000 X 9.000","Edited by","Avery Elizabeth Hurt",null,null,null,null,"Z",null,"Grade 10 - 12","Grade 9 - 12","Labor unions have been a part of the United States ever since the Industrial Revolution, when laborers had to fight for safe working conditions and fair wages. But are unions still necessary today? Critics argue that labor unions stifle economic growth and harm workers more than they help. Supporters say unions are essential in ensuring that corporations don't take advantage of their labor force. This volume examines the labor force and its changing needs from the Industrial Revolution to the present, presenting diverging perspectives on the effectiveness of labor unions to ensure the safety and welfare of the American worker.","English",48.8,39.04,"331.880973--dc23","176 pp.","https://greenhavenpublishing.com/978-1-5345-0595-7",{"$f":"Table1[[#This Row],['# of Books]]*Table1[[#This Row],[QTY]]","v":0},{"$f":"Table1[[#This Row],[QTY]]*Table1[[#This Row],[School & Library Price]]","v":0}]
[null,7,7,null,null,"Current Issues","Opposing Viewpoints","Labor Unions and Workers' Rights","978-1-5345-0594-0",{"$f":"HYPERLINK(Table1[[#This Row],[Hyperlink]],\"Weblink\")","v":"Weblink"},"Greenhaven Publishing","Paperback Book",1,"2020","January 2020","Paperback","6.000 X 9.000","Edited by","Avery Elizabeth Hurt",null,null,null,null,"Z",null,"Grade 10 - 12","Grade 9 - 12","Labor unions have been a part of the United States ever since the Industrial Revolution, when laborers had to fight for safe working conditions and fair wages. But are unions still necessary today? Critics argue that labor unions stifle economic growth and harm workers more than they help. Supporters say unions are essential in ensuring that corporations don't take advantage of their labor force. This volume examines the labor force and its changing needs from the Industrial Revolution to the present, presenting diverging perspectives on the effectiveness of labor unions to ensure the safety and welfare of the American worker.","English",33.799999999999997,27.04,"331.880973--dc23","176 pp.","https://greenhavenpublishing.com/978-1-5345-0594-0",{"$f":"Table1[[#This Row],['# of Books]]*Table1[[#This Row],[QTY]]","v":0},{"$f":"Table1[[#This Row],[QTY]]*Table1[[#This Row],[School & Library Price]]","v":0}]
[null,7,7,null,null,"Current Issues","Opposing Viewpoints","Privilege in America","978-1-5345-0603-9",{"$f":"HYPERLINK(Table1[[#This Row],[Hyperlink]],\"Weblink\")","v":"Weblink"},"Greenhaven Publishing","Library Bound Book",1,"2020","January 2020","Library","6.000 X 9.000","Edited by","Gary Wiener",null,null,null,null,"Z",null,"Grade 10 - 12","Grade 9 - 12","The word \"privilege\" gets thrown around a lot during discussions of inequality in America, whether it be about race, gender, or wealth. But how serious an issue is privilege, really? Is it manufactured by marginalized groups? Should those with marked advantages feel threatened? America prides itself on democratic ideals and advancement through merit and hard work. Are these ideals based on a lie? If so, what practical solutions can be undertaken to level the playing field? Presenting a wide variety of perspectives from authoritative voices, this volume unpacks a complex issue that many are uncomfortable confronting.","English",48.8,39.04,"303.3--dc23","200 pp.","https://greenhavenpublishing.com/978-1-5345-0603-9",{"$f":"Table1[[#This Row],['# of Books]]*Table1[[#This Row],[QTY]]","v":0},{"$f":"Table1[[#This Row],[QTY]]*Table1[[#This Row],[School & Library Price]]","v":0}]
[null,7,7,null,null,"Current Issues","Opposing Viewpoints","Privilege in America","978-1-5345-0602-2",{"$f":"HYPERLINK(Table1[[#This Row],[Hyperlink]],\"Weblink\")","v":"Weblink"},"Greenhaven Publishing","Paperback Book",1,"2020","January 2020","Paperback","6.000 X 9.000","Edited by","Gary Wiener",null,null,null,null,"Z",null,"Grade 10 - 12","Grade 9 - 12","The word \"privilege\" gets thrown around a lot during discussions of inequality in America, whether it be about race, gender, or wealth. But how serious an issue is privilege, really? Is it manufactured by marginalized groups? Should those with marked advantages feel threatened? America prides itself on democratic ideals and advancement through merit and hard work. Are these ideals based on a lie? If so, what practical solutions can be undertaken to level the playing field? Presenting a wide variety of perspectives from authoritative voices, this volume unpacks a complex issue that many are uncomfortable confronting.","English",33.799999999999997,27.04,"303.3--dc23","200 pp.","https://greenhavenpublishing.com/978-1-5345-0602-2",{"$f":"Table1[[#This Row],['# of Books]]*Table1[[#This Row],[QTY]]","v":0},{"$f":"Table1[[#This Row],[QTY]]*Table1[[#This Row],[School & Library Price]]","v":0}]
[null,7,7,null,null,"Current Issues","Opposing Viewpoints","The #MeToo Movement","978-1-5345-0597-1",{"$f":"HYPERLINK(Table1[[#This Row],[Hyperlink]],\"Weblink\")","v":"Weblink"},"Greenhaven Publishing","Library Bound Book",1,"2020","January 2020","Library","6.000 X 9.000","Edited by","M. M. Eboch",null,null,null,null,"Z",null,"Grade 10 - 12","Grade 9 - 12","#MeToo gained much-needed traction when celebrities began sharing their horrifying experiences in an effort to bring down a powerful studio mogul. Revelations of sexual harassment are often met with smearing and victim blaming, but many believe the Hollywood spotlight has a real chance of effecting change. Still, many feel threatened by this movement. Has #MeToo gone too far? Is its mission clear? Has it failed to include more marginalized groups? Will it be abandoned when Hollywood moves on to its next cause? This volume presents diverse viewpoints that unpack the goals, triumphs, and shortcomings of this relatively young movement.","English",48.8,39.04,"362.883--dc23","200 pp.","https://greenhavenpublishing.com/978-1-5345-0597-1",{"$f":"Table1[[#This Row],['# of Books]]*Table1[[#This Row],[QTY]]","v":0},{"$f":"Table1[[#This Row],[QTY]]*Table1[[#This Row],[School & Library Price]]","v":0}]
[null,7,7,null,null,"Current Issues","Opposing Viewpoints","The #MeToo Movement","978-1-5345-0596-4",{"$f":"HYPERLINK(Table1[[#This Row],[Hyperlink]],\"Weblink\")","v":"Weblink"},"Greenhaven Publishing","Paperback Book",1,"2020","January 2020","Paperback","6.000 X 9.000","Edited by","M. M. Eboch",null,null,null,null,"Z",null,"Grade 10 - 12","Grade 9 - 12","#MeToo gained much-needed traction when celebrities began sharing their horrifying experiences in an effort to bring down a powerful studio mogul. Revelations of sexual harassment are often met with smearing and victim blaming, but many believe the Hollywood spotlight has a real chance of effecting change. Still, many feel threatened by this movement. Has #MeToo gone too far? Is its mission clear? Has it failed to include more marginalized groups? Will it be abandoned when Hollywood moves on to its next cause? This volume presents diverse viewpoints that unpack the goals, triumphs, and shortcomings of this relatively young movement.","English",33.799999999999997,27.04,"362.883--dc23","200 pp.","https://greenhavenpublishing.com/978-1-5345-0596-4",{"$f":"Table1[[#This Row],['# of Books]]*Table1[[#This Row],[QTY]]","v":0},{"$f":"Table1[[#This Row],[QTY]]*Table1[[#This Row],[School & Library Price]]","v":0}]
[null,null,6,null,null,"Current Issues","Opposing Viewpoints","Opposing Viewpoints (Fall 2019)","978-1-5345-0579-7",{"$f":"HYPERLINK(Table1[[#This Row],[Hyperlink]],\"Weblink\")","v":"Weblink"},"Greenhaven Publishing","Library Set",6,"2020","August 2019","Library","6.000 X 9.000",null,null,null,null,null,null,null,null,"Grade 10 - 12","Grade 9 - 12","First introduced more than 40 years ago, Opposing Viewpoints still sets the standard for current-issue studies. With almost 300 volumes covering nearly every controversial contemporary topic, Opposing Viewpoints is the leading source of current-issue materials for libraries and classrooms. Each book delivers pro versus con expert opinions selected from highly respected and often hard-to-find sources and publications. Features include: Fascinating and relevant sidebars that encourage critical thinking. Websites and further information sections that encourage independent exploration.","English",292.8,234.24,null,"176–200 pp.","https://greenhavenpublishing.com/978-1-5345-0579-7",{"$f":"Table1[[#This Row],['# of Books]]*Table1[[#This Row],[QTY]]","v":0},{"$f":"Table1[[#This Row],[QTY]]*Table1[[#This Row],[School & Library Price]]","v":0}]
[null,null,6,null,null,"Current Issues","Opposing Viewpoints","Opposing Viewpoints (Fall 2019)","978-1-5345-0587-2",{"$f":"HYPERLINK(Table1[[#This Row],[Hyperlink]],\"Weblink\")","v":"Weblink"},"Greenhaven Publishing","Single Copy Set",6,"2020","August 2019","Paperback","6.000 X 9.000",null,null,null,null,null,null,null,null,"Grade 10 - 12","Grade 9 - 12","First introduced more than 40 years ago, Opposing Viewpoints still sets the standard for current-issue studies. With almost 300 volumes covering nearly every controversial contemporary topic, Opposing Viewpoints is the leading source of current-issue materials for libraries and classrooms. Each book delivers pro versus con expert opinions selected from highly respected and often hard-to-find sources and publications. Features include: Fascinating and relevant sidebars that encourage critical thinking. Websites and further information sections that encourage independent exploration.","English",202.8,162.24,null,"176–200 pp.","https://greenhavenpublishing.com/978-1-5345-0587-2",{"$f":"Table1[[#This Row],['# of Books]]*Table1[[#This Row],[QTY]]","v":0},{"$f":"Table1[[#This Row],[QTY]]*Table1[[#This Row],[School & Library Price]]","v":0}]
[null,7,6,null,null,"Current Issues","Opposing Viewpoints","Automation of Labor","978-1-5345-0506-3",{"$f":"HYPERLINK(Table1[[#This Row],[Hyperlink]],\"Weblink\")","v":"Weblink"},"Greenhaven Publishing","Library Bound Book",1,"2020","August 2019","Library","6.000 X 9.000","Edited by","Rachel Bozek",null,null,null,null,"Z",null,"Grade 10 - 12","Grade 9 - 12","There have been many benefits to automation, including affordable pricing and accessibility of goods through mass marketing, but its impact on the workforce also has the potential to cripple society. While automation saves billions of dollars for corporations, it also eliminates jobs from the workforce. Advancements in artificial intelligence mean that manufacturing jobs are not the only sector to fall victim to job displacement; experts predict that many white-collar jobs soon will be carried out by computers. In this resource, experts predict how the labor market will be restructured and how humans can successfully adapt to these changes.","English",48.8,39.04,"331.25--dc23","200 pp.","https://greenhavenpublishing.com/978-1-5345-0506-3",{"$f":"Table1[[#This Row],['# of Books]]*Table1[[#This Row],[QTY]]","v":0},{"$f":"Table1[[#This Row],[QTY]]*Table1[[#This Row],[School & Library Price]]","v":0}]
[null,7,6,null,null,"Current Issues","Opposing Viewpoints","Automation of Labor","978-1-5345-0507-0",{"$f":"HYPERLINK(Table1[[#This Row],[Hyperlink]],\"Weblink\")","v":"Weblink"},"Greenhaven Publishing","Paperback Book",1,"2020","August 2019","Paperback","6.000 X 9.000","Edited by","Rachel Bozek",null,null,null,null,"Z",null,"Grade 10 - 12","Grade 9 - 12","There have been many benefits to automation, including affordable pricing and accessibility of goods through mass marketing, but its impact on the workforce also has the potential to cripple society. While automation saves billions of dollars for corporations, it also eliminates jobs from the workforce. Advancements in artificial intelligence mean that manufacturing jobs are not the only sector to fall victim to job displacement; experts predict that many white-collar jobs soon will be carried out by computers. In this resource, experts predict how the labor market will be restructured and how humans can successfully adapt to these changes.","English",33.799999999999997,27.04,"331.25--dc23","200 pp.","https://greenhavenpublishing.com/978-1-5345-0507-0",{"$f":"Table1[[#This Row],['# of Books]]*Table1[[#This Row],[QTY]]","v":0},{"$f":"Table1[[#This Row],[QTY]]*Table1[[#This Row],[School & Library Price]]","v":0}]
[null,7,6,null,null,"Current Issues","Opposing Viewpoints","Development, Land Use, and Environmental Impact","978-1-5345-0510-0",{"$f":"HYPERLINK(Table1[[#This Row],[Hyperlink]],\"Weblink\")","v":"Weblink"},"Greenhaven Publishing","Library Bound Book",1,"2020","August 2019","Library","6.000 X 9.000","Edited by","Srijita C. Pal",null,null,null,null,"Z",null,"Grade 10 - 12","Grade 9 - 12","In the past quarter-century, the total area of developed land in the United States increased by nearly 50 percent. Such a shift comes with substantial environmental, economic, and social impacts. Conflicts arise over regulation, with advocates concerned about the harm excessive development does to the environment and critics charging that urbanization is a natural shift in the market. The diverse perspectives in this resource strive to address the tough questions that arise from this important issue.","English",48.8,39.04,"333.73/13--dc23","176 pp.","https://greenhavenpublishing.com/978-1-5345-0510-0",{"$f":"Table1[[#This Row],['# of Books]]*Table1[[#This Row],[QTY]]","v":0},{"$f":"Table1[[#This Row],[QTY]]*Table1[[#This Row],[School & Library Price]]","v":0}]
[null,7,6,null,null,"Current Issues","Opposing Viewpoints","Development, Land Use, and Environmental Impact","978-1-5345-0511-7",{"$f":"HYPERLINK(Table1[[#This Row],[Hyperlink]],\"Weblink\")","v":"Weblink"},"Greenhaven Publishing","Paperback Book",1,"2020","August 2019","Paperback","6.000 X 9.000","Edited by","Srijita C. Pal",null,null,null,null,"Z",null,"Grade 10 - 12","Grade 9 - 12","In the past quarter-century, the total area of developed land in the United States increased by nearly 50 percent. Such a shift comes with substantial environmental, economic, and social impacts. Conflicts arise over regulation, with advocates concerned about the harm excessive development does to the environment and critics charging that urbanization is a natural shift in the market. The diverse perspectives in this resource strive to address the tough questions that arise from this important issue.","English",33.799999999999997,27.04,"333.73/13--dc23","176 pp.","https://greenhavenpublishing.com/978-1-5345-0511-7",{"$f":"Table1[[#This Row],['# of Books]]*Table1[[#This Row],[QTY]]","v":0},{"$f":"Table1[[#This Row],[QTY]]*Table1[[#This Row],[School & Library Price]]","v":0}]
[null,7,6,null,null,"Current Issues","Opposing Viewpoints","DNA Testing and Privacy","978-1-5345-0500-1",{"$f":"HYPERLINK(Table1[[#This Row],[Hyperlink]],\"Weblink\")","v":"Weblink"},"Greenhaven Publishing","Library Bound Book",1,"2020","August 2019","Library","6.000 X 9.000","Edited by","Barbara Krasner ",null,null,null,null,"Z",null,"Grade 10 - 12","Grade 9 - 12","Home DNA testing companies, such as 23 and Me and AncestryDNA, are at peak popularity, fulfilling our desires to know where we come from and what our future might look like. Questions have arisen about who owns test results and whether testing companies have the right to sell customers' data to pharmaceutical companies and other outlets. Yet home DNA tests have been credited with catching criminals, such as the Golden State Killer. Containing viewpoints from diverse voices in the field, this volume helps readers to examine the controversies surrounding home DNA tests.","English",48.8,39.04,"614/.1--dc23","176 pp.","https://greenhavenpublishing.com/978-1-5345-0500-1",{"$f":"Table1[[#This Row],['# of Books]]*Table1[[#This Row],[QTY]]","v":0},{"$f":"Table1[[#This Row],[QTY]]*Table1[[#This Row],[School & Library Price]]","v":0}]
[null,7,6,null,null,"Current Issues","Opposing Viewpoints","DNA Testing and Privacy","978-1-5345-0501-8",{"$f":"HYPERLINK(Table1[[#This Row],[Hyperlink]],\"Weblink\")","v":"Weblink"},"Greenhaven Publishing","Paperback Book",1,"2020","August 2019","Paperback","6.000 X 9.000","Edited by","Barbara Krasner ",null,null,null,null,"Z",null,"Grade 10 - 12","Grade 9 - 12","Home DNA testing companies, such as 23 and Me and AncestryDNA, are at peak popularity, fulfilling our desires to know where we come from and what our future might look like. Questions have arisen about who owns test results and whether testing companies have the right to sell customers' data to pharmaceutical companies and other outlets. Yet home DNA tests have been credited with catching criminals, such as the Golden State Killer. Containing viewpoints from diverse voices in the field, this volume helps readers to examine the controversies surrounding home DNA tests.","English",33.799999999999997,27.04,"614/.1--dc23","176 pp.","https://greenhavenpublishing.com/978-1-5345-0501-8",{"$f":"Table1[[#This Row],['# of Books]]*Table1[[#This Row],[QTY]]","v":0},{"$f":"Table1[[#This Row],[QTY]]*Table1[[#This Row],[School & Library Price]]","v":0}]
[null,7,6,null,null,"Current Issues","Opposing Viewpoints","The Blockade of the Gaza Strip","978-1-5345-0508-7",{"$f":"HYPERLINK(Table1[[#This Row],[Hyperlink]],\"Weblink\")","v":"Weblink"},"Greenhaven Publishing","Library Bound Book",1,"2020","August 2019","Library","6.000 X 9.000","Edited by","Martin Gitlin",null,null,null,null,"Z",null,"Grade 10 - 12","Grade 9 - 12","Ever since Israel ended its occupation of Gaza in 2005, Islamist group Hamas and other militant groups in Gaza have created conflicts with Israel. In 2007, Israel instituted a blockade of the Gaza Strip, restricting border crossings and access to necessities such as food, water, and power. Israel maintains that the intent of the blockade is to eliminate Hamas' ability to launch rockets into Israel. The Palestinians charge that the blockade effectively weakens Hamas and constitutes suffering and human rights violations among Gaza's citizens. In this informative and provocative resource, essay authors share their unique perspectives on this contentious issue.","English",48.8,39.04,"956.04--dc23","176 pp.","https://greenhavenpublishing.com/978-1-5345-0508-7",{"$f":"Table1[[#This Row],['# of Books]]*Table1[[#This Row],[QTY]]","v":0},{"$f":"Table1[[#This Row],[QTY]]*Table1[[#This Row],[School & Library Price]]","v":0}]
[null,7,6,null,null,"Current Issues","Opposing Viewpoints","The Blockade of the Gaza Strip","978-1-5345-0509-4",{"$f":"HYPERLINK(Table1[[#This Row],[Hyperlink]],\"Weblink\")","v":"Weblink"},"Greenhaven Publishing","Paperback Book",1,"2020","August 2019","Paperback","6.000 X 9.000","Edited by","Martin Gitlin",null,null,null,null,"Z",null,"Grade 10 - 12","Grade 9 - 12","Ever since Israel ended its occupation of Gaza in 2005, Islamist group Hamas and other militant groups in Gaza have created conflicts with Israel. In 2007, Israel instituted a blockade of the Gaza Strip, restricting border crossings and access to necessities such as food, water, and power. Israel maintains that the intent of the blockade is to eliminate Hamas' ability to launch rockets into Israel. The Palestinians charge that the blockade effectively weakens Hamas and constitutes suffering and human rights violations among Gaza's citizens. In this informative and provocative resource, essay authors share their unique perspectives on this contentious issue.","English",33.799999999999997,27.04,"956.04--dc23","176 pp.","https://greenhavenpublishing.com/978-1-5345-0509-4",{"$f":"Table1[[#This Row],['# of Books]]*Table1[[#This Row],[QTY]]","v":0},{"$f":"Table1[[#This Row],[QTY]]*Table1[[#This Row],[School & Library Price]]","v":0}]
[null,7,6,null,null,"Current Issues","Opposing Viewpoints","The Future of Space Exploration","978-1-5345-0502-5",{"$f":"HYPERLINK(Table1[[#This Row],[Hyperlink]],\"Weblink\")","v":"Weblink"},"Greenhaven Publishing","Library Bound Book",1,"2020","August 2019","Library","6.000 X 9.000","Edited by","Avery Elizabeth Hurt",null,null,null,null,"Z",null,"Grade 10 - 12","Grade 9 - 12","The excitement surrounding space exploration seems to have waned in the decades since the mid-twentieth century's thrilling \"race to space.\" Is there still purpose in exploring other planets? If so, who should be tasked with this endeavor and what complications might arise from it? The viewpoints in this resource address important issues surrounding this topic, such as the merits of privatizing space exploration, seeking extraterrestrial life-forms, the economics and politics of space exploration, and the possibility of militarizing space.","English",48.8,39.04,"629.40973--dc23","176 pp.","https://greenhavenpublishing.com/978-1-5345-0502-5",{"$f":"Table1[[#This Row],['# of Books]]*Table1[[#This Row],[QTY]]","v":0},{"$f":"Table1[[#This Row],[QTY]]*Table1[[#This Row],[School & Library Price]]","v":0}]
[null,7,6,null,null,"Current Issues","Opposing Viewpoints","The Future of Space Exploration","978-1-5345-0503-2",{"$f":"HYPERLINK(Table1[[#This Row],[Hyperlink]],\"Weblink\")","v":"Weblink"},"Greenhaven Publishing","Paperback Book",1,"2020","August 2019","Paperback","6.000 X 9.000","Edited by","Avery Elizabeth Hurt",null,null,null,null,"Z",null,"Grade 10 - 12","Grade 9 - 12","The excitement surrounding space exploration seems to have waned in the decades since the mid-twentieth century's thrilling \"race to space.\" Is there still purpose in exploring other planets? If so, who should be tasked with this endeavor and what complications might arise from it? The viewpoints in this resource address important issues surrounding this topic, such as the merits of privatizing space exploration, seeking extraterrestrial life-forms, the economics and politics of space exploration, and the possibility of militarizing space.","English",33.799999999999997,27.04,"629.40973--dc23","176 pp.","https://greenhavenpublishing.com/978-1-5345-0503-2",{"$f":"Table1[[#This Row],['# of Books]]*Table1[[#This Row],[QTY]]","v":0},{"$f":"Table1[[#This Row],[QTY]]*Table1[[#This Row],[School & Library Price]]","v":0}]
[null,7,6,null,null,"Current Issues","Opposing Viewpoints","Toxic Masculinity","978-1-5345-0504-9",{"$f":"HYPERLINK(Table1[[#This Row],[Hyperlink]],\"Weblink\")","v":"Weblink"},"Greenhaven Publishing","Library Bound Book",1,"2020","August 2019","Library","6.000 X 9.000","Edited by","Barbara Krasner ",null,null,null,null,"Z",null,"Grade 10 - 12","Grade 9 - 12","Since the emergence of the #MeToo movement, the term \"toxic masculinity\" has been used as an insult, a defense, and a lazy explanation of society's ills. What is toxic masculinity? Is it inherently a condemnation or is it a nuanced labeling of the limitations of gender roles? Written by diverse authors from a variety of perspectives, the essays in this enlightening resource explore the state of masculinity today, whether toxic masculinity actually exists, how it affects others, and how changes in men's and women's roles may or may not be something to fear.","English",48.8,39.04,"305.31--dc23","176 pp.","https://greenhavenpublishing.com/978-1-5345-0504-9",{"$f":"Table1[[#This Row],['# of Books]]*Table1[[#This Row],[QTY]]","v":0},{"$f":"Table1[[#This Row],[QTY]]*Table1[[#This Row],[School & Library Price]]","v":0}]
[null,7,6,null,null,"Current Issues","Opposing Viewpoints","Toxic Masculinity","978-1-5345-0505-6",{"$f":"HYPERLINK(Table1[[#This Row],[Hyperlink]],\"Weblink\")","v":"Weblink"},"Greenhaven Publishing","Paperback Book",1,"2020","August 2019","Paperback","6.000 X 9.000","Edited by","Barbara Krasner ",null,null,null,null,"Z",null,"Grade 10 - 12","Grade 9 - 12","Since the emergence of the #MeToo movement, the term \"toxic masculinity\" has been used as an insult, a defense, and a lazy explanation of society's ills. What is toxic masculinity? Is it inherently a condemnation or is it a nuanced labeling of the limitations of gender roles? Written by diverse authors from a variety of perspectives, the essays in this enlightening resource explore the state of masculinity today, whether toxic masculinity actually exists, how it affects others, and how changes in men's and women's roles may or may not be something to fear.","English",33.799999999999997,27.04,"305.31--dc23","176 pp.","https://greenhavenpublishing.com/978-1-5345-0505-6",{"$f":"Table1[[#This Row],['# of Books]]*Table1[[#This Row],[QTY]]","v":0},{"$f":"Table1[[#This Row],[QTY]]*Table1[[#This Row],[School & Library Price]]","v":0}]
[null,7,6,null,null,"Current Issues","Opposing Viewpoints","Athletes, Ethics, and Morality","978-1-5345-0410-3",{"$f":"HYPERLINK(Table1[[#This Row],[Hyperlink]],\"Weblink\")","v":"Weblink"},"Greenhaven Publishing","Library Bound Book",1,"2019","January 2019","Library","6.000 X 9.000","Edited by","Martin Gitlin",null,null,null,null,"Z",null,"Grade 10 - 12","Grade 9 - 12","Athletes have a unique power in our world today. Their astronomical salaries, enviable lifestyles, and celebrity have tremendous influence over young people. This is reflected in advertising dollars as well as merchandise and ticket sales. For every athlete who uses their platform for charitable, political, and social good, there are many whose unethical or even criminal behavior sends the wrong message. What is the responsibility of athletes to their fans, to their teams, and to their leagues? How much responsibility do we hold for holding them in such high esteem? The viewpoints in this volume explore this complicated issue.","English",48.8,39.04,"796.01--dc23","200 pp.","https://greenhavenpublishing.com/978-1-5345-0410-3",{"$f":"Table1[[#This Row],['# of Books]]*Table1[[#This Row],[QTY]]","v":0},{"$f":"Table1[[#This Row],[QTY]]*Table1[[#This Row],[School & Library Price]]","v":0}]
[null,7,6,null,null,"Current Issues","Opposing Viewpoints","Athletes, Ethics, and Morality","978-1-5345-0431-8",{"$f":"HYPERLINK(Table1[[#This Row],[Hyperlink]],\"Weblink\")","v":"Weblink"},"Greenhaven Publishing","Paperback Book",1,"2019","January 2019","Paperback","6.000 X 9.000","Edited by","Martin Gitlin",null,null,null,null,"Z",null,"Grade 10 - 12","Grade 9 - 12","Athletes have a unique power in our world today. Their astronomical salaries, enviable lifestyles, and celebrity have tremendous influence over young people. This is reflected in advertising dollars as well as merchandise and ticket sales. For every athlete who uses their platform for charitable, political, and social good, there are many whose unethical or even criminal behavior sends the wrong message. What is the responsibility of athletes to their fans, to their teams, and to their leagues? How much responsibility do we hold for holding them in such high esteem? The viewpoints in this volume explore this complicated issue.","English",33.799999999999997,27.04,"796.01--dc23","200 pp.","https://greenhavenpublishing.com/978-1-5345-0431-8",{"$f":"Table1[[#This Row],['# of Books]]*Table1[[#This Row],[QTY]]","v":0},{"$f":"Table1[[#This Row],[QTY]]*Table1[[#This Row],[School & Library Price]]","v":0}]
[null,7,6,null,null,"Current Issues","Opposing Viewpoints","Campaign Finance","978-1-5345-0411-0",{"$f":"HYPERLINK(Table1[[#This Row],[Hyperlink]],\"Weblink\")","v":"Weblink"},"Greenhaven Publishing","Library Bound Book",1,"2019","January 2019","Library","6.000 X 9.000","Edited by","Kathryn Roberts",null,null,null,null,"Z",null,"Grade 10 - 12","Grade 9 - 12","Even before the controversy of the 2016 U.S. presidential election, it was clear that the nation's political campaign system is deeply flawed. With political action committees, special interest groups, and ultra-wealthy donors buying and selling candidates, Americans end up with representatives who may be more beholden to top donors than to the American people. Would campaign finance reform level the playing field and give Americans the best candidates for the job, or is it a losing proposition that we must accept? The opposing perspectives in this volume will encourage readers to make up their own minds on this polarizing issue.","English",48.8,39.04,"324.7/80973--dc23","200 pp.","https://greenhavenpublishing.com/978-1-5345-0411-0",{"$f":"Table1[[#This Row],['# of Books]]*Table1[[#This Row],[QTY]]","v":0},{"$f":"Table1[[#This Row],[QTY]]*Table1[[#This Row],[School & Library Price]]","v":0}]
[null,7,6,null,null,"Current Issues","Opposing Viewpoints","Campaign Finance","978-1-5345-0433-2",{"$f":"HYPERLINK(Table1[[#This Row],[Hyperlink]],\"Weblink\")","v":"Weblink"},"Greenhaven Publishing","Paperback Book",1,"2019","January 2019","Paperback","6.000 X 9.000","Edited by","Kathryn Roberts",null,null,null,null,"Z",null,"Grade 10 - 12","Grade 9 - 12","Even before the controversy of the 2016 U.S. presidential election, it was clear that the nation's political campaign system is deeply flawed. With political action committees, special interest groups, and ultra-wealthy donors buying and selling candidates, Americans end up with representatives who may be more beholden to top donors than to the American people. Would campaign finance reform level the playing field and give Americans the best candidates for the job, or is it a losing proposition that we must accept? The opposing perspectives in this volume will encourage readers to make up their own minds on this polarizing issue.","English",33.799999999999997,27.04,"324.7/80973--dc23","200 pp.","https://greenhavenpublishing.com/978-1-5345-0433-2",{"$f":"Table1[[#This Row],['# of Books]]*Table1[[#This Row],[QTY]]","v":0},{"$f":"Table1[[#This Row],[QTY]]*Table1[[#This Row],[School & Library Price]]","v":0}]
[null,7,6,null,null,"Current Issues","Opposing Viewpoints","Gentrification and the Housing Crisis","978-1-5345-0412-7",{"$f":"HYPERLINK(Table1[[#This Row],[Hyperlink]],\"Weblink\")","v":"Weblink"},"Greenhaven Publishing","Library Bound Book",1,"2019","January 2019","Library","6.000 X 9.000","Edited by","Marcia Amidon Lusted",null,null,null,null,"Z",null,"Grade 10 - 12","Grade 9 - 12","Urban populations are on the rise, fueling a welcome rejuvenation of U.S. cities, many of which have been decaying since the suburban boom of the mid-twentieth century. But such renewal has resulted in the displacement of original residents, who can no longer keep pace with rising rents. Gentrification is often blamed for contributing to the housing crisis, but what about the improvements it has brought to America's cities? The diverse perspectives in this volume explore the different effects of gentrification and imagine solutions for accommodating everyone in this changing urban landscape.","English",48.8,39.04,"307.3/4160973--dc23","200 pp.","https://greenhavenpublishing.com/978-1-5345-0412-7",{"$f":"Table1[[#This Row],['# of Books]]*Table1[[#This Row],[QTY]]","v":0},{"$f":"Table1[[#This Row],[QTY]]*Table1[[#This Row],[School & Library Price]]","v":0}]
[null,7,6,null,null,"Current Issues","Opposing Viewpoints","Gentrification and the Housing Crisis","978-1-5345-0435-6",{"$f":"HYPERLINK(Table1[[#This Row],[Hyperlink]],\"Weblink\")","v":"Weblink"},"Greenhaven Publishing","Paperback Book",1,"2019","January 2019","Paperback","6.000 X 9.000","Edited by","Marcia Amidon Lusted",null,null,null,null,"Z",null,"Grade 10 - 12","Grade 9 - 12","Urban populations are on the rise, fueling a welcome rejuvenation of U.S. cities, many of which have been decaying since the suburban boom of the mid-twentieth century. But such renewal has resulted in the displacement of original residents, who can no longer keep pace with rising rents. Gentrification is often blamed for contributing to the housing crisis, but what about the improvements it has brought to America's cities? The diverse perspectives in this volume explore the different effects of gentrification and imagine solutions for accommodating everyone in this changing urban landscape.","English",33.799999999999997,27.04,"307.3/4160973--dc23","200 pp.","https://greenhavenpublishing.com/978-1-5345-0435-6",{"$f":"Table1[[#This Row],['# of Books]]*Table1[[#This Row],[QTY]]","v":0},{"$f":"Table1[[#This Row],[QTY]]*Table1[[#This Row],[School & Library Price]]","v":0}]
[null,7,6,null,null,"Current Issues","Opposing Viewpoints","Harm Reduction: Public Health Strategies","978-1-5345-0413-4",{"$f":"HYPERLINK(Table1[[#This Row],[Hyperlink]],\"Weblink\")","v":"Weblink"},"Greenhaven Publishing","Library Bound Book",1,"2019","January 2019","Library","6.000 X 9.000","Edited by","Barbara Krasner ",null,null,null,null,"Z",null,"Grade 10 - 12","Grade 9 - 12","The war on drugs has done little to curb drug use. Accidental drug overdose is the second-leading cause of injury-related deaths for young people. Enter harm reduction, a philosophy that accepts the idea that drug use is inevitable and that making it safer is a more realistic approach. But is harm reduction merely enabling dangerous and potentially deadly behavior? Does distributing clean needles to drug addicts send the wrong message? Is abstinence the only way to stop people from engaging in risky behavior? Experts on several sides of the debate offer perspectives on this fascinating issue.","English",48.8,39.04,"362.290973--dc23","176 pp.","https://greenhavenpublishing.com/978-1-5345-0413-4",{"$f":"Table1[[#This Row],['# of Books]]*Table1[[#This Row],[QTY]]","v":0},{"$f":"Table1[[#This Row],[QTY]]*Table1[[#This Row],[School & Library Price]]","v":0}]
[null,7,6,null,null,"Current Issues","Opposing Viewpoints","Harm Reduction: Public Health Strategies","978-1-5345-0437-0",{"$f":"HYPERLINK(Table1[[#This Row],[Hyperlink]],\"Weblink\")","v":"Weblink"},"Greenhaven Publishing","Paperback Book",1,"2019","January 2019","Paperback","6.000 X 9.000","Edited by","Barbara Krasner ",null,null,null,null,"Z",null,"Grade 10 - 12","Grade 9 - 12","The war on drugs has done little to curb drug use. Accidental drug overdose is the second-leading cause of injury-related deaths for young people. Enter harm reduction, a philosophy that accepts the idea that drug use is inevitable and that making it safer is a more realistic approach. But is harm reduction merely enabling dangerous and potentially deadly behavior? Does distributing clean needles to drug addicts send the wrong message? Is abstinence the only way to stop people from engaging in risky behavior? Experts on several sides of the debate offer perspectives on this fascinating issue.","English",33.799999999999997,27.04,"362.290973--dc23","176 pp.","https://greenhavenpublishing.com/978-1-5345-0437-0",{"$f":"Table1[[#This Row],['# of Books]]*Table1[[#This Row],[QTY]]","v":0},{"$f":"Table1[[#This Row],[QTY]]*Table1[[#This Row],[School & Library Price]]","v":0}]
[null,7,6,null,null,"Current Issues","Opposing Viewpoints","Pesticides and GMOs","978-1-5345-0414-1",{"$f":"HYPERLINK(Table1[[#This Row],[Hyperlink]],\"Weblink\")","v":"Weblink"},"Greenhaven Publishing","Library Bound Book",1,"2019","January 2019","Library","6.000 X 9.000","Edited by","Yea Jee Bae",null,null,null,null,"Z",null,"Grade 10 - 12","Grade 9 - 12","In a world in which so many are hungry, scientific advances in agriculture can have a substantial impact. Pesticides and GMOs help ensure that more of us can enjoy nutritious produce, but do they do more harm than good? From fears of causing cancer to the future of small and family farmers, there are enough questions about pesticides and GMOs to fuel their critics. Yet the list of benefits is hard to ignore. The diverse viewpoints from authoritative voices in the field will provide readers with a full picture of this complex topic.","English",48.8,39.04,"628.5/29--dc23","200 pp.","https://greenhavenpublishing.com/978-1-5345-0414-1",{"$f":"Table1[[#This Row],['# of Books]]*Table1[[#This Row],[QTY]]","v":0},{"$f":"Table1[[#This Row],[QTY]]*Table1[[#This Row],[School & Library Price]]","v":0}]
[null,7,6,null,null,"Current Issues","Opposing Viewpoints","Pesticides and GMOs","978-1-5345-0439-4",{"$f":"HYPERLINK(Table1[[#This Row],[Hyperlink]],\"Weblink\")","v":"Weblink"},"Greenhaven Publishing","Paperback Book",1,"2019","January 2019","Paperback","6.000 X 9.000","Edited by","Yea Jee Bae",null,null,null,null,"Z",null,"Grade 10 - 12","Grade 9 - 12","In a world in which so many are hungry, scientific advances in agriculture can have a substantial impact. Pesticides and GMOs help ensure that more of us can enjoy nutritious produce, but do they do more harm than good? From fears of causing cancer to the future of small and family farmers, there are enough questions about pesticides and GMOs to fuel their critics. Yet the list of benefits is hard to ignore. The diverse viewpoints from authoritative voices in the field will provide readers with a full picture of this complex topic.","English",33.799999999999997,27.04,"628.5/29--dc23","200 pp.","https://greenhavenpublishing.com/978-1-5345-0439-4",{"$f":"Table1[[#This Row],['# of Books]]*Table1[[#This Row],[QTY]]","v":0},{"$f":"Table1[[#This Row],[QTY]]*Table1[[#This Row],[School & Library Price]]","v":0}]
[null,7,6,null,null,"Current Issues","Opposing Viewpoints","Politics and Journalism in a Post-Truth World","978-1-5345-0415-8",{"$f":"HYPERLINK(Table1[[#This Row],[Hyperlink]],\"Weblink\")","v":"Weblink"},"Greenhaven Publishing","Library Bound Book",1,"2019","January 2019","Library","6.000 X 9.000","Edited by","Martin Gitlin",null,null,null,null,"Z",null,"Grade 10 - 12","Grade 9 - 12","Fake news. Alternative facts. Even before those terms were coined, we had already moved to a \"post-truth\" reality. Due to a number of driving forces, we have evolved into a society that values emotion and personal belief more than it does objective facts. More Americans are willing to believe false stories as long as they match up with their own personal and political beliefs. How will this affect our elections, journalistic standards, and news habits? Can we ever go back? The diverse viewpoints in this volume attempt to explain and predict the state of our union.","English",48.8,39.04,"070.4/49320973--dc23","176 pp.","https://greenhavenpublishing.com/978-1-5345-0415-8",{"$f":"Table1[[#This Row],['# of Books]]*Table1[[#This Row],[QTY]]","v":0},{"$f":"Table1[[#This Row],[QTY]]*Table1[[#This Row],[School & Library Price]]","v":0}]
[null,7,6,null,null,"Current Issues","Opposing Viewpoints","Politics and Journalism in a Post-Truth World","978-1-5345-0441-7",{"$f":"HYPERLINK(Table1[[#This Row],[Hyperlink]],\"Weblink\")","v":"Weblink"},"Greenhaven Publishing","Paperback Book",1,"2019","January 2019","Paperback","6.000 X 9.000","Edited by","Martin Gitlin",null,null,null,null,"Z",null,"Grade 10 - 12","Grade 9 - 12","Fake news. Alternative facts. Even before those terms were coined, we had already moved to a \"post-truth\" reality. Due to a number of driving forces, we have evolved into a society that values emotion and personal belief more than it does objective facts. More Americans are willing to believe false stories as long as they match up with their own personal and political beliefs. How will this affect our elections, journalistic standards, and news habits? Can we ever go back? The diverse viewpoints in this volume attempt to explain and predict the state of our union.","English",33.799999999999997,27.04,"070.4/49320973--dc23","176 pp.","https://greenhavenpublishing.com/978-1-5345-0441-7",{"$f":"Table1[[#This Row],['# of Books]]*Table1[[#This Row],[QTY]]","v":0},{"$f":"Table1[[#This Row],[QTY]]*Table1[[#This Row],[School & Library Price]]","v":0}]
[null,7,7,null,null,"Current Issues","Opposing Viewpoints","Black Lives Matter","978-1-5345-0289-5",{"$f":"HYPERLINK(Table1[[#This Row],[Hyperlink]],\"Weblink\")","v":"Weblink"},"Greenhaven Publishing","Library Bound Book",1,"2019","August 2018","Library","6.000 X 9.000","Edited by","Martin Gitlin",null,null,null,null,"Z",null,"Grade 10 - 12","Grade 9 - 12","In 2012, a seventeen-year-old African American boy named Trayvon Martin was murdered in cold blood by a neighborhood vigilante. When the murderer was acquitted, shockwaves ran through African American communities across the United States. The frustration over the perceived lack of value of African Americans in the United States spurred #BlackLivesMatter. The activist group mobilized as a rash of killings of unarmed African Americans by police seemed to plague the country. But many whites didn't understand their cause and responded with \"All Lives Matter.\" The viewpoints in this resource ask important questions regarding race in the United States.","English",48.8,39.04,"323.1196/073--dc23","200 pp.","https://greenhavenpublishing.com/978-1-5345-0289-5",{"$f":"Table1[[#This Row],['# of Books]]*Table1[[#This Row],[QTY]]","v":0},{"$f":"Table1[[#This Row],[QTY]]*Table1[[#This Row],[School & Library Price]]","v":0}]
[null,7,7,null,null,"Current Issues","Opposing Viewpoints","Black Lives Matter","978-1-5345-0290-1",{"$f":"HYPERLINK(Table1[[#This Row],[Hyperlink]],\"Weblink\")","v":"Weblink"},"Greenhaven Publishing","Paperback Book",1,"2019","August 2018","Paperback","6.000 X 9.000","Edited by","Martin Gitlin",null,null,null,null,"Z",null,"Grade 10 - 12","Grade 9 - 12","In 2012, a seventeen-year-old African American boy named Trayvon Martin was murdered in cold blood by a neighborhood vigilante. When the murderer was acquitted, shockwaves ran through African American communities across the United States. The frustration over the perceived lack of value of African Americans in the United States spurred #BlackLivesMatter. The activist group mobilized as a rash of killings of unarmed African Americans by police seemed to plague the country. But many whites didn't understand their cause and responded with \"All Lives Matter.\" The viewpoints in this resource ask important questions regarding race in the United States.","English",33.799999999999997,27.04,"323.1196/073--dc23","200 pp.","https://greenhavenpublishing.com/978-1-5345-0290-1",{"$f":"Table1[[#This Row],['# of Books]]*Table1[[#This Row],[QTY]]","v":0},{"$f":"Table1[[#This Row],[QTY]]*Table1[[#This Row],[School & Library Price]]","v":0}]
[null,7,9,null,null,"Current Issues","Opposing Viewpoints","Feminism","978-1-5345-0291-8",{"$f":"HYPERLINK(Table1[[#This Row],[Hyperlink]],\"Weblink\")","v":"Weblink"},"Greenhaven Publishing","Library Bound Book",1,"2019","August 2018","Library","6.000 X 9.000","Edited by","Avery Elizabeth Hurt",null,null,null,null,"Z",null,"Grade 10 - 12","Grade 9 - 12","Nearly a half-century after the women's liberation movement, women have achieved things that their grandmothers might only have dreamed. Now that women work in boardrooms, executive suites, and top government positions, as well as in the home, some believe that the fight has been won. For others, the perception that women are on equal footing with men is dangerous. Through diverse perspectives, this enlightening volume explores the current debates on feminism's front, including the pay gap, violence against women, substandard health care, reproductive rights, and representation in government.","English",48.8,39.04,"305.42--dc23","176 pp.","https://greenhavenpublishing.com/978-1-5345-0291-8",{"$f":"Table1[[#This Row],['# of Books]]*Table1[[#This Row],[QTY]]","v":0},{"$f":"Table1[[#This Row],[QTY]]*Table1[[#This Row],[School & Library Price]]","v":0}]
[null,7,9,null,null,"Current Issues","Opposing Viewpoints","Feminism","978-1-5345-0292-5",{"$f":"HYPERLINK(Table1[[#This Row],[Hyperlink]],\"Weblink\")","v":"Weblink"},"Greenhaven Publishing","Paperback Book",1,"2019","August 2018","Paperback","6.000 X 9.000","Edited by","Avery Elizabeth Hurt",null,null,null,null,"Z",null,"Grade 10 - 12","Grade 9 - 12","Nearly a half-century after the women's liberation movement, women have achieved things that their grandmothers might only have dreamed. Now that women work in boardrooms, executive suites, and top government positions, as well as in the home, some believe that the fight has been won. For others, the perception that women are on equal footing with men is dangerous. Through diverse perspectives, this enlightening volume explores the current debates on feminism's front, including the pay gap, violence against women, substandard health care, reproductive rights, and representation in government.","English",33.799999999999997,27.04,"305.42--dc23","176 pp.","https://greenhavenpublishing.com/978-1-5345-0292-5",{"$f":"Table1[[#This Row],['# of Books]]*Table1[[#This Row],[QTY]]","v":0},{"$f":"Table1[[#This Row],[QTY]]*Table1[[#This Row],[School & Library Price]]","v":0}]
[null,7,10,null,null,"Current Issues","Opposing Viewpoints","Interpreting the Bill of Rights","978-1-5345-0293-2",{"$f":"HYPERLINK(Table1[[#This Row],[Hyperlink]],\"Weblink\")","v":"Weblink"},"Greenhaven Publishing","Library Bound Book",1,"2019","August 2018","Library","6.000 X 9.000","Edited by","Avery Elizabeth Hurt",null,null,null,null,"Z",null,"Grade 10 - 12","Grade 9 - 12","The first ten amendments to the U.S. Constitution were written to safeguard individual liberties and limit government power. Was the Bill of Rights necessary, or did it open up a can of worms the framers didn't intend? Throughout the course of U.S. history, amendments have been subject to various interpretations, often to the point of contention. In this informative anthology, readers will be exposed to the complex issues of interpreting a document that was created more than two hundred years ago.","English",48.8,39.04,"342.7303--dc23","200 pp.","https://greenhavenpublishing.com/978-1-5345-0293-2",{"$f":"Table1[[#This Row],['# of Books]]*Table1[[#This Row],[QTY]]","v":0},{"$f":"Table1[[#This Row],[QTY]]*Table1[[#This Row],[School & Library Price]]","v":0}]
[null,7,10,null,null,"Current Issues","Opposing Viewpoints","Interpreting the Bill of Rights","978-1-5345-0294-9",{"$f":"HYPERLINK(Table1[[#This Row],[Hyperlink]],\"Weblink\")","v":"Weblink"},"Greenhaven Publishing","Paperback Book",1,"2019","August 2018","Paperback","6.000 X 9.000","Edited by","Avery Elizabeth Hurt",null,null,null,null,"Z",null,"Grade 10 - 12","Grade 9 - 12","The first ten amendments to the U.S. Constitution were written to safeguard individual liberties and limit government power. Was the Bill of Rights necessary, or did it open up a can of worms the framers didn't intend? Throughout the course of U.S. history, amendments have been subject to various interpretations, often to the point of contention. In this informative anthology, readers will be exposed to the complex issues of interpreting a document that was created more than two hundred years ago.","English",33.799999999999997,27.04,"342.7303--dc23","200 pp.","https://greenhavenpublishing.com/978-1-5345-0294-9",{"$f":"Table1[[#This Row],['# of Books]]*Table1[[#This Row],[QTY]]","v":0},{"$f":"Table1[[#This Row],[QTY]]*Table1[[#This Row],[School & Library Price]]","v":0}]
[null,7,11,null,null,"Current Issues","Opposing Viewpoints","Mandatory Minimum Sentences","978-1-5345-0295-6",{"$f":"HYPERLINK(Table1[[#This Row],[Hyperlink]],\"Weblink\")","v":"Weblink"},"Greenhaven Publishing","Library Bound Book",1,"2019","August 2018","Library","6.000 X 9.000","Edited by","H. Craig Erskine, III",null,null,null,null,"Z",null,"Grade 10 - 12","Grade 9 - 12","Is it fair to remove judicial discretion when sentencing criminals for certain crimes? This volume presents a wide diversity of opinions from an array of experts on the impact of mandatory minimum sentencing on crime, including the \"three strikes\" law. Readers are asked to examine the inherent fairness of mandatory sentences. Are they discriminatory? Do they usurp judicial power and result in overcrowded prisons? Or do they protect children and deter repeat offenders? Experts also weigh in on alternatives to mandatory sentences.","English",48.8,39.04,"345.73/0772--dc23","200 pp.","https://greenhavenpublishing.com/978-1-5345-0295-6",{"$f":"Table1[[#This Row],['# of Books]]*Table1[[#This Row],[QTY]]","v":0},{"$f":"Table1[[#This Row],[QTY]]*Table1[[#This Row],[School & Library Price]]","v":0}]
[null,7,11,null,null,"Current Issues","Opposing Viewpoints","Mandatory Minimum Sentences","978-1-5345-0296-3",{"$f":"HYPERLINK(Table1[[#This Row],[Hyperlink]],\"Weblink\")","v":"Weblink"},"Greenhaven Publishing","Paperback Book",1,"2019","August 2018","Paperback","6.000 X 9.000","Edited by","H. Craig Erskine, III",null,null,null,null,"Z",null,"Grade 10 - 12","Grade 9 - 12","Is it fair to remove judicial discretion when sentencing criminals for certain crimes? This volume presents a wide diversity of opinions from an array of experts on the impact of mandatory minimum sentencing on crime, including the \"three strikes\" law. Readers are asked to examine the inherent fairness of mandatory sentences. Are they discriminatory? Do they usurp judicial power and result in overcrowded prisons? Or do they protect children and deter repeat offenders? Experts also weigh in on alternatives to mandatory sentences.","English",33.799999999999997,27.04,"345.73/0772--dc23","200 pp.","https://greenhavenpublishing.com/978-1-5345-0296-3",{"$f":"Table1[[#This Row],['# of Books]]*Table1[[#This Row],[QTY]]","v":0},{"$f":"Table1[[#This Row],[QTY]]*Table1[[#This Row],[School & Library Price]]","v":0}]
[null,7,12,null,null,"Current Issues","Opposing Viewpoints","Net Neutrality","978-1-5345-0297-0",{"$f":"HYPERLINK(Table1[[#This Row],[Hyperlink]],\"Weblink\")","v":"Weblink"},"Greenhaven Publishing","Library Bound Book",1,"2019","August 2018","Library","6.000 X 9.000","Edited by","Kathryn Roberts",null,null,null,null,"Z",null,"Grade 10 - 12","Grade 9 - 12","Is a free and open internet a hallmark of democracy? Net neutrality advocates are fighting for government regulation and protection of this relatively new frontier. They believe that the internet is now a basic human need and argue that defined rules are essential to the protection of customers and to the encouragement of innovation. Detractors worry that too much government oversight discourages innovation and investment. The viewpoints in this informative anthology are written by experts with a variety of perspectives about a complex topic that encompasses many fields, including technology, business, and the Constitution.","English",48.8,39.04,"384.3/3--dc23","200 pp.","https://greenhavenpublishing.com/978-1-5345-0297-0",{"$f":"Table1[[#This Row],['# of Books]]*Table1[[#This Row],[QTY]]","v":0},{"$f":"Table1[[#This Row],[QTY]]*Table1[[#This Row],[School & Library Price]]","v":0}]
[null,7,12,null,null,"Current Issues","Opposing Viewpoints","Net Neutrality","978-1-5345-0298-7",{"$f":"HYPERLINK(Table1[[#This Row],[Hyperlink]],\"Weblink\")","v":"Weblink"},"Greenhaven Publishing","Paperback Book",1,"2019","August 2018","Paperback","6.000 X 9.000","Edited by","Kathryn Roberts",null,null,null,null,"Z",null,"Grade 10 - 12","Grade 9 - 12","Is a free and open internet a hallmark of democracy? Net neutrality advocates are fighting for government regulation and protection of this relatively new frontier. They believe that the internet is now a basic human need and argue that defined rules are essential to the protection of customers and to the encouragement of innovation. Detractors worry that too much government oversight discourages innovation and investment. The viewpoints in this informative anthology are written by experts with a variety of perspectives about a complex topic that encompasses many fields, including technology, business, and the Constitution.","English",33.799999999999997,27.04,"384.3/3--dc23","200 pp.","https://greenhavenpublishing.com/978-1-5345-0298-7",{"$f":"Table1[[#This Row],['# of Books]]*Table1[[#This Row],[QTY]]","v":0},{"$f":"Table1[[#This Row],[QTY]]*Table1[[#This Row],[School & Library Price]]","v":0}]
[null,7,13,null,null,"Current Issues","Opposing Viewpoints","Sanctuary Cities","978-1-5345-0299-4",{"$f":"HYPERLINK(Table1[[#This Row],[Hyperlink]],\"Weblink\")","v":"Weblink"},"Greenhaven Publishing","Library Bound Book",1,"2019","August 2018","Library","6.000 X 9.000","Edited by","Marcia Amidon Lusted",null,null,null,null,"Z",null,"Grade 10 - 12","Grade 9 - 12","As part of his crackdown on illegal immigration, President Trump's vow to defund sanctuary cities, cities and counties that protect low-priority immigrants from deportation, has stirred up a hornet's nest of controversy. Are sanctuary cities legal? Should the federal government infringe on states' rights? Why should illegal immigrants be protected? Do sanctuary cities threaten national security and community safety? Do they encourage illegal immigration? These are among the many complicated questions posed in this enlightening anthology, in which diverse viewpoints address the swirling issues of immigration, federal vs. states' rights, and America's moral responsibility as a democracy.","English",48.8,39.04,"325.73--dc23","200 pp.","https://greenhavenpublishing.com/978-1-5345-0299-4",{"$f":"Table1[[#This Row],['# of Books]]*Table1[[#This Row],[QTY]]","v":0},{"$f":"Table1[[#This Row],[QTY]]*Table1[[#This Row],[School & Library Price]]","v":0}]
[null,7,13,null,null,"Current Issues","Opposing Viewpoints","Sanctuary Cities","978-1-5345-0300-7",{"$f":"HYPERLINK(Table1[[#This Row],[Hyperlink]],\"Weblink\")","v":"Weblink"},"Greenhaven Publishing","Paperback Book",1,"2019","August 2018","Paperback","6.000 X 9.000","Edited by","Marcia Amidon Lusted",null,null,null,null,"Z",null,"Grade 10 - 12","Grade 9 - 12","As part of his crackdown on illegal immigration, President Trump's vow to defund sanctuary cities, cities and counties that protect low-priority immigrants from deportation, has stirred up a hornet's nest of controversy. Are sanctuary cities legal? Should the federal government infringe on states' rights? Why should illegal immigrants be protected? Do sanctuary cities threaten national security and community safety? Do they encourage illegal immigration? These are among the many complicated questions posed in this enlightening anthology, in which diverse viewpoints address the swirling issues of immigration, federal vs. states' rights, and America's moral responsibility as a democracy.","English",33.799999999999997,27.04,"325.73--dc23","200 pp.","https://greenhavenpublishing.com/978-1-5345-0300-7",{"$f":"Table1[[#This Row],['# of Books]]*Table1[[#This Row],[QTY]]","v":0},{"$f":"Table1[[#This Row],[QTY]]*Table1[[#This Row],[School & Library Price]]","v":0}]
[null,null,7,null,null,"Current Issues","Opposing Viewpoints","Big Pharma and Drug Pricing","978-1-5345-0176-8",{"$f":"HYPERLINK(Table1[[#This Row],[Hyperlink]],\"Weblink\")","v":"Weblink"},"Greenhaven Publishing","Library Bound Book",1,"2018","January 2018","Library","6.000 X 9.000","Edited by","Pete Schauer",null,null,null,null,"Z",null,"Grade 10 - 12","Grade 9 - 12","Americans pay among the highest prices for prescription drugs, thanks to government legislation and the powerful pharmaceutical lobbies. The effect has been disastrous, with many citizens obtaining cheaper medicine from Canada, and others forgoing it altogether at the risk of their health. These crippling prices are set by \"big pharma,\" at the insistence of those who support free trade. Consumers call the pharmaceutical companies greedy and selfish, but these companies also enact change, through scientific research, curing of diseases, and community outreach. What is the answer to this complex issue? Readers will learn about the conflicts and potential solutions in this compelling volume.","English",48.8,39.04,"338.4/361510973--dc23","208 pp.","https://greenhavenpublishing.com/978-1-5345-0176-8",{"$f":"Table1[[#This Row],['# of Books]]*Table1[[#This Row],[QTY]]","v":0},{"$f":"Table1[[#This Row],[QTY]]*Table1[[#This Row],[School & Library Price]]","v":0}]
[null,null,7,null,null,"Current Issues","Opposing Viewpoints","Big Pharma and Drug Pricing","978-1-5345-0182-9",{"$f":"HYPERLINK(Table1[[#This Row],[Hyperlink]],\"Weblink\")","v":"Weblink"},"Greenhaven Publishing","Paperback Book",1,"2018","January 2018","Paperback","6.000 X 9.000","Edited by","Pete Schauer",null,null,null,null,"Z",null,"Grade 10 - 12","Grade 9 - 12","Americans pay among the highest prices for prescription drugs, thanks to government legislation and the powerful pharmaceutical lobbies. The effect has been disastrous, with many citizens obtaining cheaper medicine from Canada, and others forgoing it altogether at the risk of their health. These crippling prices are set by \"big pharma,\" at the insistence of those who support free trade. Consumers call the pharmaceutical companies greedy and selfish, but these companies also enact change, through scientific research, curing of diseases, and community outreach. What is the answer to this complex issue? Readers will learn about the conflicts and potential solutions in this compelling volume.","English",33.799999999999997,27.04,"338.4/361510973--dc23","208 pp.","https://greenhavenpublishing.com/978-1-5345-0182-9",{"$f":"Table1[[#This Row],['# of Books]]*Table1[[#This Row],[QTY]]","v":0},{"$f":"Table1[[#This Row],[QTY]]*Table1[[#This Row],[School & Library Price]]","v":0}]
[null,null,10,null,null,"Current Issues","Opposing Viewpoints","Hacking and Freedom of Information","978-1-5345-0178-2",{"$f":"HYPERLINK(Table1[[#This Row],[Hyperlink]],\"Weblink\")","v":"Weblink"},"Greenhaven Publishing","Library Bound Book",1,"2018","January 2018","Library","6.000 X 9.000","Edited by","Marcia Amidon Lusted",null,null,null,null,"Z",null,"Grade 10 - 12","Grade 9 - 12","We know there are white hat hackers and black hat hackers, but what about the gray area in between? Some hackers consider themselves activists and have justified their cyberattacks on media, political figures, universities, and even governments as a search for truth. Is information indeed free in a democracy? Does uncovering secrets that the public may have a right to know justify security breaches? Are WikiLeaks and the Anonymous group providing an important service to citizens, or are they traitors? Through a progression of authoritative viewpoints, readers will learn that there are no easy answers to this debate.","English",48.8,39.04,"364.16/8--dc23","208 pp.","https://greenhavenpublishing.com/978-1-5345-0178-2",{"$f":"Table1[[#This Row],['# of Books]]*Table1[[#This Row],[QTY]]","v":0},{"$f":"Table1[[#This Row],[QTY]]*Table1[[#This Row],[School & Library Price]]","v":0}]
[null,null,10,null,null,"Current Issues","Opposing Viewpoints","Hacking and Freedom of Information","978-1-5345-0184-3",{"$f":"HYPERLINK(Table1[[#This Row],[Hyperlink]],\"Weblink\")","v":"Weblink"},"Greenhaven Publishing","Paperback Book",1,"2018","January 2018","Paperback","6.000 X 9.000","Edited by","Marcia Amidon Lusted",null,null,null,null,"Z",null,"Grade 10 - 12","Grade 9 - 12","We know there are white hat hackers and black hat hackers, but what about the gray area in between? Some hackers consider themselves activists and have justified their cyberattacks on media, political figures, universities, and even governments as a search for truth. Is information indeed free in a democracy? Does uncovering secrets that the public may have a right to know justify security breaches? Are WikiLeaks and the Anonymous group providing an important service to citizens, or are they traitors? Through a progression of authoritative viewpoints, readers will learn that there are no easy answers to this debate.","English",33.799999999999997,27.04,"364.16/8--dc23","208 pp.","https://greenhavenpublishing.com/978-1-5345-0184-3",{"$f":"Table1[[#This Row],['# of Books]]*Table1[[#This Row],[QTY]]","v":0},{"$f":"Table1[[#This Row],[QTY]]*Table1[[#This Row],[School & Library Price]]","v":0}]
[null,null,10,null,null,"Current Issues","Opposing Viewpoints","Identity Politics","978-1-5345-0174-4",{"$f":"HYPERLINK(Table1[[#This Row],[Hyperlink]],\"Weblink\")","v":"Weblink"},"Greenhaven Publishing","Library Bound Book",1,"2018","January 2018","Library","6.000 X 9.000","Edited by","Elizabeth Schmermund",null,null,null,null,"Z",null,"Grade 10 - 12","Grade 9 - 12","In an age of divisiveness, perhaps more than America has seen in decades, identity politics has taken its share of the blame. Those who have cheered on progressive ideology often write off detractors as racists, homophobes, and misogynists. And those who rail against political correctness often feel their own voices are not being heard or, worse, are being censored. Do identity politics come at a cost to national empathy and unity? Or do they reflect and address legitimate discrimination? Through multiple perspectives, readers will learn why this topic has become a hot button issue.","English",48.8,39.04,"306.2--dc23","216 pp.","https://greenhavenpublishing.com/978-1-5345-0174-4",{"$f":"Table1[[#This Row],['# of Books]]*Table1[[#This Row],[QTY]]","v":0},{"$f":"Table1[[#This Row],[QTY]]*Table1[[#This Row],[School & Library Price]]","v":0}]
[null,null,10,null,null,"Current Issues","Opposing Viewpoints","Identity Politics","978-1-5345-0180-5",{"$f":"HYPERLINK(Table1[[#This Row],[Hyperlink]],\"Weblink\")","v":"Weblink"},"Greenhaven Publishing","Paperback Book",1,"2018","January 2018","Paperback","6.000 X 9.000","Edited by","Elizabeth Schmermund",null,null,null,null,"Z",null,"Grade 10 - 12","Grade 9 - 12","In an age of divisiveness, perhaps more than America has seen in decades, identity politics has taken its share of the blame. Those who have cheered on progressive ideology often write off detractors as racists, homophobes, and misogynists. And those who rail against political correctness often feel their own voices are not being heard or, worse, are being censored. Do identity politics come at a cost to national empathy and unity? Or do they reflect and address legitimate discrimination? Through multiple perspectives, readers will learn why this topic has become a hot button issue.","English",33.799999999999997,27.04,"306.2--dc23","216 pp.","https://greenhavenpublishing.com/978-1-5345-0180-5",{"$f":"Table1[[#This Row],['# of Books]]*Table1[[#This Row],[QTY]]","v":0},{"$f":"Table1[[#This Row],[QTY]]*Table1[[#This Row],[School & Library Price]]","v":0}]
[null,null,12,null,null,"Current Issues","Opposing Viewpoints","Online Filter Bubbles","978-1-5345-0175-1",{"$f":"HYPERLINK(Table1[[#This Row],[Hyperlink]],\"Weblink\")","v":"Weblink"},"Greenhaven Publishing","Library Bound Book",1,"2018","January 2018","Library","6.000 X 9.000","Edited by","Paula Johanson",null,null,null,null,"Z",null,"Grade 10 - 12","Grade 9 - 12","Every time we check our feeds we create safety bubbles around ourselves. Thanks to technological algorithms, we are living an increasingly narrow existence, one in which the news we read, the products we purchase, and the people we interact with are tailor-made for each of us. We might feel informed and comfortable, but we are isolating ourselves from anything outside our bubble. Are online filters just an efficient way to connect, or do they spell the end of democracy? Anyone who has read this book will understand the potential dangers of a society whose assumptions are never challenged.","English",48.8,39.04,"025.04--dc23","208 pp.","https://greenhavenpublishing.com/978-1-5345-0175-1",{"$f":"Table1[[#This Row],['# of Books]]*Table1[[#This Row],[QTY]]","v":0},{"$f":"Table1[[#This Row],[QTY]]*Table1[[#This Row],[School & Library Price]]","v":0}]
[null,null,12,null,null,"Current Issues","Opposing Viewpoints","Online Filter Bubbles","978-1-5345-0181-2",{"$f":"HYPERLINK(Table1[[#This Row],[Hyperlink]],\"Weblink\")","v":"Weblink"},"Greenhaven Publishing","Paperback Book",1,"2018","January 2018","Paperback","6.000 X 9.000","Edited by","Paula Johanson",null,null,null,null,"Z",null,"Grade 10 - 12","Grade 9 - 12","Every time we check our feeds we create safety bubbles around ourselves. Thanks to technological algorithms, we are living an increasingly narrow existence, one in which the news we read, the products we purchase, and the people we interact with are tailor-made for each of us. We might feel informed and comfortable, but we are isolating ourselves from anything outside our bubble. Are online filters just an efficient way to connect, or do they spell the end of democracy? Anyone who has read this book will understand the potential dangers of a society whose assumptions are never challenged.","English",33.799999999999997,27.04,"025.04--dc23","208 pp.","https://greenhavenpublishing.com/978-1-5345-0181-2",{"$f":"Table1[[#This Row],['# of Books]]*Table1[[#This Row],[QTY]]","v":0},{"$f":"Table1[[#This Row],[QTY]]*Table1[[#This Row],[School & Library Price]]","v":0}]
[null,null,9,null,null,"Current Issues","Opposing Viewpoints","The Fifth Estate: Extreme Viewpoints from Alternative Media","978-1-5345-0177-5",{"$f":"HYPERLINK(Table1[[#This Row],[Hyperlink]],\"Weblink\")","v":"Weblink"},"Greenhaven Publishing","Library Bound Book",1,"2018","January 2018","Library","6.000 X 9.000","Edited by","Kathryn Roberts",null,null,null,null,"Z",null,"Grade 10 - 12","Grade 9 - 12","The influence of what is known as The Fifth Estate, which is viewpoints and journalism generated outside of the mainstream press, has risen thanks to the emergence of blogs and social media. How effective are these alternate sources in raising public consciousness, changing government policy, and stirring grassroots movements? Are they held to the same standards as mainstream journalism? In this age of fake news, WikiLeaks, and the president's so-called war on the press, readers will find the varied and provocative viewpoints that are explained in this book incredibly relevant and enlightening.","English",48.8,39.04,"302.23--dc23","208 pp.","https://greenhavenpublishing.com/978-1-5345-0177-5",{"$f":"Table1[[#This Row],['# of Books]]*Table1[[#This Row],[QTY]]","v":0},{"$f":"Table1[[#This Row],[QTY]]*Table1[[#This Row],[School & Library Price]]","v":0}]
[null,null,9,null,null,"Current Issues","Opposing Viewpoints","The Fifth Estate: Extreme Viewpoints from Alternative Media","978-1-5345-0183-6",{"$f":"HYPERLINK(Table1[[#This Row],[Hyperlink]],\"Weblink\")","v":"Weblink"},"Greenhaven Publishing","Paperback Book",1,"2018","January 2018","Paperback","6.000 X 9.000","Edited by","Kathryn Roberts",null,null,null,null,"Z",null,"Grade 10 - 12","Grade 9 - 12","The influence of what is known as The Fifth Estate, which is viewpoints and journalism generated outside of the mainstream press, has risen thanks to the emergence of blogs and social media. How effective are these alternate sources in raising public consciousness, changing government policy, and stirring grassroots movements? Are they held to the same standards as mainstream journalism? In this age of fake news, WikiLeaks, and the president's so-called war on the press, readers will find the varied and provocative viewpoints that are explained in this book incredibly relevant and enlightening.","English",33.799999999999997,27.04,"302.23--dc23","208 pp.","https://greenhavenpublishing.com/978-1-5345-0183-6",{"$f":"Table1[[#This Row],['# of Books]]*Table1[[#This Row],[QTY]]","v":0},{"$f":"Table1[[#This Row],[QTY]]*Table1[[#This Row],[School & Library Price]]","v":0}]
[null,null,15,null,null,"Current Issues","Opposing Viewpoints","Western Democracy at Risk","978-1-5345-0173-7",{"$f":"HYPERLINK(Table1[[#This Row],[Hyperlink]],\"Weblink\")","v":"Weblink"},"Greenhaven Publishing","Library Bound Book",1,"2018","January 2018","Library","6.000 X 9.000","Edited by","Avery Elizabeth Hurt",null,null,null,null,"Z",null,"Grade 10 - 12","Grade 9 - 12","America's founding principles have long been held up as model of success to the rest of the world. Somewhat suddenly however, these principals don't seem as solid as they once did. Globalization has created economic growth, but has also widened the gap between rich and poor. A rising conflict between multiculturalism and nationalism has fragmented western populations and caused a surge of nativism. Fake news and filters undermine free speech and a free press. Political parties have fragmented, and election tampering is a valid concern. The viewpoints in this resource address the current state of western democracy.","English",48.8,39.04,"320.9182/1--dc23","208 pp.","https://greenhavenpublishing.com/978-1-5345-0173-7",{"$f":"Table1[[#This Row],['# of Books]]*Table1[[#This Row],[QTY]]","v":0},{"$f":"Table1[[#This Row],[QTY]]*Table1[[#This Row],[School & Library Price]]","v":0}]
[null,null,15,null,null,"Current Issues","Opposing Viewpoints","Western Democracy at Risk","978-1-5345-0179-9",{"$f":"HYPERLINK(Table1[[#This Row],[Hyperlink]],\"Weblink\")","v":"Weblink"},"Greenhaven Publishing","Paperback Book",1,"2018","January 2018","Paperback","6.000 X 9.000","Edited by","Avery Elizabeth Hurt",null,null,null,null,"Z",null,"Grade 10 - 12","Grade 9 - 12","America's founding principles have long been held up as model of success to the rest of the world. Somewhat suddenly however, these principals don't seem as solid as they once did. Globalization has created economic growth, but has also widened the gap between rich and poor. A rising conflict between multiculturalism and nationalism has fragmented western populations and caused a surge of nativism. Fake news and filters undermine free speech and a free press. Political parties have fragmented, and election tampering is a valid concern. The viewpoints in this resource address the current state of western democracy.","English",33.799999999999997,27.04,"320.9182/1--dc23","208 pp.","https://greenhavenpublishing.com/978-1-5345-0179-9",{"$f":"Table1[[#This Row],['# of Books]]*Table1[[#This Row],[QTY]]","v":0},{"$f":"Table1[[#This Row],[QTY]]*Table1[[#This Row],[School & Library Price]]","v":0}]
[null,null,8,null,null,"Current Issues","Opposing Viewpoints","Corporate Farming","978-1-5345-0051-8",{"$f":"HYPERLINK(Table1[[#This Row],[Hyperlink]],\"Weblink\")","v":"Weblink"},"Greenhaven Publishing","Library Bound Book",1,"2018","August 2017","Library","6.000 X 9.000","Edited by","Avery Elizabeth Hurt",null,null,null,null,"Z",null,"Grade 10 - 12","Grade 9 - 12","Corporate farms have solved so many of the world's problems. In addition to making healthy food accessible and affordable to more people, they provide jobs in communities that sorely need them. Questions must be answered. Do corporations have too much power over food? Do they benefit from unfair tax breaks? Are their profit-driven practices hurting the environment, perhaps irreparably? What does their success mean for the family farmer? This thought-provoking volume tackles these questions, providing readers with analysis that will lead to their own intelligent opinions.","English",48.8,39.04,"338.1--dc23","208 pp.","https://greenhavenpublishing.com/978-1-5345-0051-8",{"$f":"Table1[[#This Row],['# of Books]]*Table1[[#This Row],[QTY]]","v":0},{"$f":"Table1[[#This Row],[QTY]]*Table1[[#This Row],[School & Library Price]]","v":0}]
[null,null,8,null,null,"Current Issues","Opposing Viewpoints","Corporate Farming","978-1-5345-0049-5",{"$f":"HYPERLINK(Table1[[#This Row],[Hyperlink]],\"Weblink\")","v":"Weblink"},"Greenhaven Publishing","Paperback Book",1,"2018","August 2017","Paperback","6.000 X 9.000","Edited by","Avery Elizabeth Hurt",null,null,null,null,"Z",null,"Grade 10 - 12","Grade 9 - 12","Corporate farms have solved so many of the world's problems. In addition to making healthy food accessible and affordable to more people, they provide jobs in communities that sorely need them. Questions must be answered. Do corporations have too much power over food? Do they benefit from unfair tax breaks? Are their profit-driven practices hurting the environment, perhaps irreparably? What does their success mean for the family farmer? This thought-provoking volume tackles these questions, providing readers with analysis that will lead to their own intelligent opinions.","English",33.799999999999997,27.04,"338.1--dc23","208 pp.","https://greenhavenpublishing.com/978-1-5345-0049-5",{"$f":"Table1[[#This Row],['# of Books]]*Table1[[#This Row],[QTY]]","v":0},{"$f":"Table1[[#This Row],[QTY]]*Table1[[#This Row],[School & Library Price]]","v":0}]
[null,null,10,null,null,"Current Issues","Opposing Viewpoints","Immigration Bans","978-1-5345-0059-4",{"$f":"HYPERLINK(Table1[[#This Row],[Hyperlink]],\"Weblink\")","v":"Weblink"},"Greenhaven Publishing","Library Bound Book",1,"2018","August 2017","Library","6.000 X 9.000","Edited by","Elizabeth Schmermund",null,null,null,null,"Z",null,"Grade 10 - 12","Grade 9 - 12","Recent world events have brought the issue of immigration to the forefront of media and journalism, cultural debates, and political campaigns. Calls for regulation are criticized as racist and xenophobic by some and deemed necessary by others. This resource addresses important questions surrounding the issue: How do immigration bans affect different groups? How can nations reconcile humanitarian and security concerns for refugees? How much of the nation’s economy depends on immigrant labor? And finally, do increased border controls and deportations actually work?","English",48.8,39.04,"325.73--dc23","232 pp.","https://greenhavenpublishing.com/978-1-5345-0059-4",{"$f":"Table1[[#This Row],['# of Books]]*Table1[[#This Row],[QTY]]","v":0},{"$f":"Table1[[#This Row],[QTY]]*Table1[[#This Row],[School & Library Price]]","v":0}]
[null,null,10,null,null,"Current Issues","Opposing Viewpoints","Immigration Bans","978-1-5345-0057-0",{"$f":"HYPERLINK(Table1[[#This Row],[Hyperlink]],\"Weblink\")","v":"Weblink"},"Greenhaven Publishing","Paperback Book",1,"2018","August 2017","Paperback","6.000 X 9.000","Edited by","Elizabeth Schmermund",null,null,null,null,"Z",null,"Grade 10 - 12","Grade 9 - 12","Recent world events have brought the issue of immigration to the forefront of media and journalism, cultural debates, and political campaigns. Calls for regulation are criticized as racist and xenophobic by some and deemed necessary by others. This resource addresses important questions surrounding the issue: How do immigration bans affect different groups? How can nations reconcile humanitarian and security concerns for refugees? How much of the nation’s economy depends on immigrant labor? And finally, do increased border controls and deportations actually work?","English",33.799999999999997,27.04,"325.73--dc23","232 pp.","https://greenhavenpublishing.com/978-1-5345-0057-0",{"$f":"Table1[[#This Row],['# of Books]]*Table1[[#This Row],[QTY]]","v":0},{"$f":"Table1[[#This Row],[QTY]]*Table1[[#This Row],[School & Library Price]]","v":0}]
[null,null,11,null,null,"Current Issues","Opposing Viewpoints","Mass Incarceration","978-1-5345-0045-7",{"$f":"HYPERLINK(Table1[[#This Row],[Hyperlink]],\"Weblink\")","v":"Weblink"},"Greenhaven Publishing","Library Bound Book",1,"2018","August 2017","Library","6.000 X 9.000","Edited by","Rebecca Aldridge",null,null,null,null,"Z",null,"Grade 10 - 12","Grade 9 - 12","The number of Americans who live behind bars has increased by 550 percent over the last 40 years. This has been the result of aggressive tough-on-crime legislation that had more harmful effects than lawmakers could have foreseen. Experts now see the problem but disagree on the solutions. Does incarceration limit crime, or does it simply feed into a cycle of problems that harm society and create a criminal class? Are sentences and rehabilitation programs that avoid prison time effective? This compelling volume tackles tough questions from many different angles.","English",48.8,39.04,"365'.973--dc23","296 pp.","https://greenhavenpublishing.com/978-1-5345-0045-7",{"$f":"Table1[[#This Row],['# of Books]]*Table1[[#This Row],[QTY]]","v":0},{"$f":"Table1[[#This Row],[QTY]]*Table1[[#This Row],[School & Library Price]]","v":0}]
[null,null,11,null,null,"Current Issues","Opposing Viewpoints","Mass Incarceration","978-1-5345-0043-3",{"$f":"HYPERLINK(Table1[[#This Row],[Hyperlink]],\"Weblink\")","v":"Weblink"},"Greenhaven Publishing","Paperback Book",1,"2018","August 2017","Paperback","6.000 X 9.000","Edited by","Rebecca Aldridge",null,null,null,null,"Z",null,"Grade 10 - 12","Grade 9 - 12","The number of Americans who live behind bars has increased by 550 percent over the last 40 years. This has been the result of aggressive tough-on-crime legislation that had more harmful effects than lawmakers could have foreseen. Experts now see the problem but disagree on the solutions. Does incarceration limit crime, or does it simply feed into a cycle of problems that harm society and create a criminal class? Are sentences and rehabilitation programs that avoid prison time effective? This compelling volume tackles tough questions from many different angles.","English",33.799999999999997,27.04,"365'.973--dc23","296 pp.","https://greenhavenpublishing.com/978-1-5345-0043-3",{"$f":"Table1[[#This Row],['# of Books]]*Table1[[#This Row],[QTY]]","v":0},{"$f":"Table1[[#This Row],[QTY]]*Table1[[#This Row],[School & Library Price]]","v":0}]
[null,null,13,null,null,"Current Issues","Opposing Viewpoints","The Politics of Water Scarcity","978-1-5345-0054-9",{"$f":"HYPERLINK(Table1[[#This Row],[Hyperlink]],\"Weblink\")","v":"Weblink"},"Greenhaven Publishing","Library Bound Book",1,"2018","August 2017","Library","6.000 X 9.000","Edited by","Susan Nichols",null,null,null,null,"Z",null,"Grade 10 - 12","Grade 9 - 12","Clean water is something we take for granted. It’s there when we turn on our taps to fill a glass, take a shower, or wash our hands. But for many of the world’s citizens, water is a precious commodity. Many don’t have access to clean water. Others must use the same water for drinking, cooking, and cleaning. Is access to clean water a human right? Should water be provided by governments or private entities? Will water become a commodity of the rich? And how are our environmental practices affecting the world’s supply of water?","English",48.8,39.04,"333.91'16--dc23","192 pp.","https://greenhavenpublishing.com/978-1-5345-0054-9",{"$f":"Table1[[#This Row],['# of Books]]*Table1[[#This Row],[QTY]]","v":0},{"$f":"Table1[[#This Row],[QTY]]*Table1[[#This Row],[School & Library Price]]","v":0}]
[null,null,13,null,null,"Current Issues","Opposing Viewpoints","The Politics of Water Scarcity","978-1-5345-0052-5",{"$f":"HYPERLINK(Table1[[#This Row],[Hyperlink]],\"Weblink\")","v":"Weblink"},"Greenhaven Publishing","Paperback Book",1,"2018","August 2017","Paperback","6.000 X 9.000","Edited by","Susan Nichols",null,null,null,null,"Z",null,"Grade 10 - 12","Grade 9 - 12","Clean water is something we take for granted. It’s there when we turn on our taps to fill a glass, take a shower, or wash our hands. But for many of the world’s citizens, water is a precious commodity. Many don’t have access to clean water. Others must use the same water for drinking, cooking, and cleaning. Is access to clean water a human right? Should water be provided by governments or private entities? Will water become a commodity of the rich? And how are our environmental practices affecting the world’s supply of water?","English",33.799999999999997,27.04,"333.91'16--dc23","192 pp.","https://greenhavenpublishing.com/978-1-5345-0052-5",{"$f":"Table1[[#This Row],['# of Books]]*Table1[[#This Row],[QTY]]","v":0},{"$f":"Table1[[#This Row],[QTY]]*Table1[[#This Row],[School & Library Price]]","v":0}]
[null,null,15,null,null,"Current Issues","Opposing Viewpoints","Uber, Lyft, Airbnb, and the Sharing Economy","978-1-5345-0048-8",{"$f":"HYPERLINK(Table1[[#This Row],[Hyperlink]],\"Weblink\")","v":"Weblink"},"Greenhaven Publishing","Library Bound Book",1,"2018","August 2017","Library","6.000 X 9.000","Edited by","Rachel Bozek",null,null,null,null,"Z",null,"Grade 10 - 12","Grade 9 - 12","Something remarkable emerged as a result of the Great Recession of the early twenty-first century: a sharing economy. Among the loss of jobs and mortgages and uncertainty about the future, people got creative with the way they earned and spent their money. Democratic platforms like Uber and Airbnb have skyrocketed in popularity, prompting tighter government regulations. Are they the answer to an economy increasingly controlled by giant corporations? Or are they just a different way for people to profit from and exploit struggling workers? Readers learn more from viewpoints written by today’s experts.","English",48.8,39.04,"339.4'7--dc23","208 pp.","https://greenhavenpublishing.com/978-1-5345-0048-8",{"$f":"Table1[[#This Row],['# of Books]]*Table1[[#This Row],[QTY]]","v":0},{"$f":"Table1[[#This Row],[QTY]]*Table1[[#This Row],[School & Library Price]]","v":0}]
[null,null,15,null,null,"Current Issues","Opposing Viewpoints","Uber, Lyft, Airbnb, and the Sharing Economy","978-1-5345-0046-4",{"$f":"HYPERLINK(Table1[[#This Row],[Hyperlink]],\"Weblink\")","v":"Weblink"},"Greenhaven Publishing","Paperback Book",1,"2018","August 2017","Paperback","6.000 X 9.000","Edited by","Rachel Bozek",null,null,null,null,"Z",null,"Grade 10 - 12","Grade 9 - 12","Something remarkable emerged as a result of the Great Recession of the early twenty-first century: a sharing economy. Among the loss of jobs and mortgages and uncertainty about the future, people got creative with the way they earned and spent their money. Democratic platforms like Uber and Airbnb have skyrocketed in popularity, prompting tighter government regulations. Are they the answer to an economy increasingly controlled by giant corporations? Or are they just a different way for people to profit from and exploit struggling workers? Readers learn more from viewpoints written by today’s experts.","English",33.799999999999997,27.04,"339.4'7--dc23","208 pp.","https://greenhavenpublishing.com/978-1-5345-0046-4",{"$f":"Table1[[#This Row],['# of Books]]*Table1[[#This Row],[QTY]]","v":0},{"$f":"Table1[[#This Row],[QTY]]*Table1[[#This Row],[School & Library Price]]","v":0}]
[null,null,15,null,null,"Current Issues","Opposing Viewpoints","Violent Video Games and Society","978-1-5345-0072-3",{"$f":"HYPERLINK(Table1[[#This Row],[Hyperlink]],\"Weblink\")","v":"Weblink"},"Greenhaven Publishing","Library Bound Book",1,"2018","August 2017","Library","6.000 X 9.000","Edited by","Gloria G. Adams",null,null,null,null,"Z",null,"Grade 10 - 12","Grade 9 - 12","The video game industry is big business, and with the improvement of Virtual Reality technology, video games will only become more realistic and immersive. Fears abound that they drive their players to commit violent acts. While many people believe the games desensitize kids to violence, others argue that there has been no scientific connection between aggressive behavior and video games. Is immersion in violent video games a bridge to committing real-life acts of violence, demeaning women, and bullying? Or can video games actually help troubled kids, by providing them with a safe outlet for their aggression and a way to work out their frustrations?","English",48.8,39.04,"794.8--dc23","192 pp.","https://greenhavenpublishing.com/978-1-5345-0072-3",{"$f":"Table1[[#This Row],['# of Books]]*Table1[[#This Row],[QTY]]","v":0},{"$f":"Table1[[#This Row],[QTY]]*Table1[[#This Row],[School & Library Price]]","v":0}]
[null,null,15,null,null,"Current Issues","Opposing Viewpoints","Violent Video Games and Society","978-1-5345-0055-6",{"$f":"HYPERLINK(Table1[[#This Row],[Hyperlink]],\"Weblink\")","v":"Weblink"},"Greenhaven Publishing","Paperback Book",1,"2018","August 2017","Paperback","6.000 X 9.000","Edited by","Gloria G. Adams",null,null,null,null,"Z",null,"Grade 10 - 12","Grade 9 - 12","The video game industry is big business, and with the improvement of Virtual Reality technology, video games will only become more realistic and immersive. Fears abound that they drive their players to commit violent acts. While many people believe the games desensitize kids to violence, others argue that there has been no scientific connection between aggressive behavior and video games. Is immersion in violent video games a bridge to committing real-life acts of violence, demeaning women, and bullying? Or can video games actually help troubled kids, by providing them with a safe outlet for their aggression and a way to work out their frustrations?","English",33.799999999999997,27.04,"794.8--dc23","192 pp.","https://greenhavenpublishing.com/978-1-5345-0055-6",{"$f":"Table1[[#This Row],['# of Books]]*Table1[[#This Row],[QTY]]","v":0},{"$f":"Table1[[#This Row],[QTY]]*Table1[[#This Row],[School & Library Price]]","v":0}]
[null,8,null,null,null,"Current Issues","Introducing Issues with Opposing Viewpoints","Introducing Issues with Opposing Viewpoints (Spring 2021)","978-1-5345-0747-0",{"$f":"HYPERLINK(Table1[[#This Row],[Hyperlink]],\"Weblink\")","v":"Weblink"},"Greenhaven Publishing","Library Set",5,"2021","January 2021","Library","6.500 X 9.250",null,null,null,null,null,null,null,null,"Grade 7 - 10","Grade 7 - 12","Inspired by the highly acclaimed Opposing Viewpoints series, this set promotes issue awareness and the development of critical thinking skills. Extremely user-friendly and accessible, it offers a wealth of information at a lower reading level in a bright, engaging package. This appealing combination helps students grasp the controversies of our increasingly complex world. Features include: Fact boxes that provide students with statistical information. Photographs and graphics engage readers and assist in comprehension. Guided reading and critical-thinking questions for each viewpoint assist students in understanding how viewpoint authors develop arguments.","English",210,168,null,"120 pp.","https://greenhavenpublishing.com/978-1-5345-0747-0",{"$f":"Table1[[#This Row],['# of Books]]*Table1[[#This Row],[QTY]]","v":0},{"$f":"Table1[[#This Row],[QTY]]*Table1[[#This Row],[School & Library Price]]","v":0}]
[null,8,null,null,null,"Current Issues","Introducing Issues with Opposing Viewpoints","Introducing Issues with Opposing Viewpoints (Spring 2021)","978-1-5345-0749-4",{"$f":"HYPERLINK(Table1[[#This Row],[Hyperlink]],\"Weblink\")","v":"Weblink"},"Greenhaven Publishing","Single Copy Set",5,"2021","January 2021","Paperback","6.500 X 9.250",null,null,null,null,null,null,null,null,"Grade 7 - 10","Grade 7 - 12","Inspired by the highly acclaimed Opposing Viewpoints series, this set promotes issue awareness and the development of critical thinking skills. Extremely user-friendly and accessible, it offers a wealth of information at a lower reading level in a bright, engaging package. This appealing combination helps students grasp the controversies of our increasingly complex world. Features include: Fact boxes that provide students with statistical information. Photographs and graphics engage readers and assist in comprehension. Guided reading and critical-thinking questions for each viewpoint assist students in understanding how viewpoint authors develop arguments.","English",141.5,113.2,null,"120 pp.","https://greenhavenpublishing.com/978-1-5345-0749-4",{"$f":"Table1[[#This Row],['# of Books]]*Table1[[#This Row],[QTY]]","v":0},{"$f":"Table1[[#This Row],[QTY]]*Table1[[#This Row],[School & Library Price]]","v":0}]
[null,8,null,null,null,"Current Issues","Introducing Issues with Opposing Viewpoints","Animal Testing","978-1-5345-0717-3",{"$f":"HYPERLINK(Table1[[#This Row],[Hyperlink]],\"Weblink\")","v":"Weblink"},"Greenhaven Publishing","Library Bound Book",1,"2021","January 2021","Library","6.500 X 9.250","Compiled by","M. M. Eboch",null,null,null,null,"Z",null,"Grade 7 - 10","Grade 7 - 12","Medical research using animal testing has contributed to many important treatments and cures for humans. Few people are interested in harming animals, but this practice seems preferable to using ourselves as test subjects. However, this practice meets with strong and rational opposition from animal rights groups and others. This volume presents important questions and provides divergent viewpoints on the ethics of testing on animals and whether there are viable alternatives. Collected viewpoints explore the reasons that companies and researchers use animals to test their products and treatments, the harm and benefits of animal testing, and options for animal-free tests. This essential addition to your collection will help your readers form intelligent opinions on this controversial topic.","English",42,33.6,"179/.4--dc23","120 pp.","https://greenhavenpublishing.com/978-1-5345-0717-3",{"$f":"Table1[[#This Row],['# of Books]]*Table1[[#This Row],[QTY]]","v":0},{"$f":"Table1[[#This Row],[QTY]]*Table1[[#This Row],[School & Library Price]]","v":0}]
[null,8,null,null,null,"Current Issues","Introducing Issues with Opposing Viewpoints","Animal Testing","978-1-5345-0716-6",{"$f":"HYPERLINK(Table1[[#This Row],[Hyperlink]],\"Weblink\")","v":"Weblink"},"Greenhaven Publishing","Paperback Book",1,"2021","January 2021","Paperback","6.500 X 9.250","Compiled by","M. M. Eboch",null,null,null,null,"Z",null,"Grade 7 - 10","Grade 7 - 12","Medical research using animal testing has contributed to many important treatments and cures for humans. Few people are interested in harming animals, but this practice seems preferable to using ourselves as test subjects. However, this practice meets with strong and rational opposition from animal rights groups and others. This volume presents important questions and provides divergent viewpoints on the ethics of testing on animals and whether there are viable alternatives. Collected viewpoints explore the reasons that companies and researchers use animals to test their products and treatments, the harm and benefits of animal testing, and options for animal-free tests. This essential addition to your collection will help your readers form intelligent opinions on this controversial topic.","English",28.3,22.64,"179/.4--dc23","120 pp.","https://greenhavenpublishing.com/978-1-5345-0716-6",{"$f":"Table1[[#This Row],['# of Books]]*Table1[[#This Row],[QTY]]","v":0},{"$f":"Table1[[#This Row],[QTY]]*Table1[[#This Row],[School & Library Price]]","v":0}]
[null,8,null,null,null,"Current Issues","Introducing Issues with Opposing Viewpoints","Celebrity Culture","978-1-5345-0721-0",{"$f":"HYPERLINK(Table1[[#This Row],[Hyperlink]],\"Weblink\")","v":"Weblink"},"Greenhaven Publishing","Library Bound Book",1,"2021","January 2021","Library","6.500 X 9.250","Compiled by","Lisa Idzikowski",null,null,null,null,"Z",null,"Grade 7 - 10","Grade 7 - 12","We have entered a time when celebrities are so valued that they are more respected and powerful than anyone else. It began with movie and sports stars, but as a result of the preponderance of reality shows that change nobodies into stars with immense clout, celebrity has been democratized. YouTube stars and Instagram influencers are the latest to rise to celebrity status, and they have more power than many of us know. This curation of perspectives explores the advantages to celebrity, how advances in media technology have impacted fame, and the dangers inherent in a rising celebrity culture.","English",42,33.6,"306--dc23","120 pp.","https://greenhavenpublishing.com/978-1-5345-0721-0",{"$f":"Table1[[#This Row],['# of Books]]*Table1[[#This Row],[QTY]]","v":0},{"$f":"Table1[[#This Row],[QTY]]*Table1[[#This Row],[School & Library Price]]","v":0}]
[null,8,null,null,null,"Current Issues","Introducing Issues with Opposing Viewpoints","Celebrity Culture","978-1-5345-0720-3",{"$f":"HYPERLINK(Table1[[#This Row],[Hyperlink]],\"Weblink\")","v":"Weblink"},"Greenhaven Publishing","Paperback Book",1,"2021","January 2021","Paperback","6.500 X 9.250","Compiled by","Lisa Idzikowski",null,null,null,null,"Z",null,"Grade 7 - 10","Grade 7 - 12","We have entered a time when celebrities are so valued that they are more respected and powerful than anyone else. It began with movie and sports stars, but as a result of the preponderance of reality shows that change nobodies into stars with immense clout, celebrity has been democratized. YouTube stars and Instagram influencers are the latest to rise to celebrity status, and they have more power than many of us know. This curation of perspectives explores the advantages to celebrity, how advances in media technology have impacted fame, and the dangers inherent in a rising celebrity culture.","English",28.3,22.64,"306--dc23","120 pp.","https://greenhavenpublishing.com/978-1-5345-0720-3",{"$f":"Table1[[#This Row],['# of Books]]*Table1[[#This Row],[QTY]]","v":0},{"$f":"Table1[[#This Row],[QTY]]*Table1[[#This Row],[School & Library Price]]","v":0}]
[null,8,null,null,null,"Current Issues","Introducing Issues with Opposing Viewpoints","Physician-Assisted Suicide","978-1-5345-0715-9",{"$f":"HYPERLINK(Table1[[#This Row],[Hyperlink]],\"Weblink\")","v":"Weblink"},"Greenhaven Publishing","Library Bound Book",1,"2021","January 2021","Library","6.500 X 9.250","Compiled by","M. M. Eboch",null,null,null,null,"Z",null,"Grade 7 - 10","Grade 7 - 12","Physician-assisted suicide is legal in nine U.S. states and the District of Columbia. It is not without controversy, even in the states where Physician-assisted suicide laws have been passed. Proponents believe that it's a matter of liberty, that the terminally ill have the right to choose how their lives will end. Opponents argue that such laws make the terminally ill vulnerable to medical errors and abuse, and they believe that the laws devalue life. The viewpoints in this volume examine physician-assisted suicide from many angles, providing readers with a comprehensive approach to this challenging topic.","English",42,33.6,"179.7--dc23","120 pp.","https://greenhavenpublishing.com/978-1-5345-0715-9",{"$f":"Table1[[#This Row],['# of Books]]*Table1[[#This Row],[QTY]]","v":0},{"$f":"Table1[[#This Row],[QTY]]*Table1[[#This Row],[School & Library Price]]","v":0}]
[null,8,null,null,null,"Current Issues","Introducing Issues with Opposing Viewpoints","Physician-Assisted Suicide","978-1-5345-0714-2",{"$f":"HYPERLINK(Table1[[#This Row],[Hyperlink]],\"Weblink\")","v":"Weblink"},"Greenhaven Publishing","Paperback Book",1,"2021","January 2021","Paperback","6.500 X 9.250","Compiled by","M. M. Eboch",null,null,null,null,"Z",null,"Grade 7 - 10","Grade 7 - 12","Physician-assisted suicide is legal in nine U.S. states and the District of Columbia. It is not without controversy, even in the states where Physician-assisted suicide laws have been passed. Proponents believe that it's a matter of liberty, that the terminally ill have the right to choose how their lives will end. Opponents argue that such laws make the terminally ill vulnerable to medical errors and abuse, and they believe that the laws devalue life. The viewpoints in this volume examine physician-assisted suicide from many angles, providing readers with a comprehensive approach to this challenging topic.","English",28.3,22.64,"179.7--dc23","120 pp.","https://greenhavenpublishing.com/978-1-5345-0714-2",{"$f":"Table1[[#This Row],['# of Books]]*Table1[[#This Row],[QTY]]","v":0},{"$f":"Table1[[#This Row],[QTY]]*Table1[[#This Row],[School & Library Price]]","v":0}]
[null,8,null,null,null,"Current Issues","Introducing Issues with Opposing Viewpoints","Prescription Drugs","978-1-5345-0725-8",{"$f":"HYPERLINK(Table1[[#This Row],[Hyperlink]],\"Weblink\")","v":"Weblink"},"Greenhaven Publishing","Library Bound Book",1,"2021","January 2021","Library","6.500 X 9.250","Compiled by","M. M. Eboch",null,null,null,null,"Z",null,"Grade 7 - 10","Grade 7 - 12","Americans spend more than 460 billion dollars on prescription drugs annually, according to the Department of Health and Human Services. Not all of this medication is helping us. Unnecessary and improper use of medication is responsible for an extremely high number of hospital visits and deaths each year. In addition, the cost of many medications can be prohibitive. Are we taking too many drugs? Why are prescription drugs in the United States so expensive? Does the pharmaceutical industry work for our best interest? The perspectives in this volume delve into the many facets of the controversies pertaining to prescription drugs.","English",42,33.6,"615.5/8--dc23","120 pp.","https://greenhavenpublishing.com/978-1-5345-0725-8",{"$f":"Table1[[#This Row],['# of Books]]*Table1[[#This Row],[QTY]]","v":0},{"$f":"Table1[[#This Row],[QTY]]*Table1[[#This Row],[School & Library Price]]","v":0}]
[null,8,null,null,null,"Current Issues","Introducing Issues with Opposing Viewpoints","Prescription Drugs","978-1-5345-0724-1",{"$f":"HYPERLINK(Table1[[#This Row],[Hyperlink]],\"Weblink\")","v":"Weblink"},"Greenhaven Publishing","Paperback Book",1,"2021","January 2021","Paperback","6.500 X 9.250","Compiled by","M. M. Eboch",null,null,null,null,"Z",null,"Grade 7 - 10","Grade 7 - 12","Americans spend more than 460 billion dollars on prescription drugs annually, according to the Department of Health and Human Services. Not all of this medication is helping us. Unnecessary and improper use of medication is responsible for an extremely high number of hospital visits and deaths each year. In addition, the cost of many medications can be prohibitive. Are we taking too many drugs? Why are prescription drugs in the United States so expensive? Does the pharmaceutical industry work for our best interest? The perspectives in this volume delve into the many facets of the controversies pertaining to prescription drugs.","English",28.3,22.64,"615.5/8--dc23","120 pp.","https://greenhavenpublishing.com/978-1-5345-0724-1",{"$f":"Table1[[#This Row],['# of Books]]*Table1[[#This Row],[QTY]]","v":0},{"$f":"Table1[[#This Row],[QTY]]*Table1[[#This Row],[School & Library Price]]","v":0}]
[null,8,null,null,null,"Current Issues","Introducing Issues with Opposing Viewpoints","Transportation Infrastructure","978-1-5345-0723-4",{"$f":"HYPERLINK(Table1[[#This Row],[Hyperlink]],\"Weblink\")","v":"Weblink"},"Greenhaven Publishing","Library Bound Book",1,"2021","January 2021","Library","6.500 X 9.250","Compiled by","Lisa Idzikowski",null,null,null,null,"Z",null,"Grade 7 - 10","Grade 7 - 12","In the past several U.S. presidential elections, candidates have promised to fix the country's transportation. A strong transportation system is the base of a society's economic stability and development. It can impact its health, wealth, and growth. Why then, are so many of the roads, bridges, and rail systems virtually unchanged from the last century? When will the country's transportation infrastructure catch up to the technology, living habits, and needs of a twenty-first-century population? The viewpoints in this volume explore the importance of transportation infrastructure, why it seems so difficult to maintain, and hopes for its future.","English",42,33.6,"388.0973--dc23","120 pp.","https://greenhavenpublishing.com/978-1-5345-0723-4",{"$f":"Table1[[#This Row],['# of Books]]*Table1[[#This Row],[QTY]]","v":0},{"$f":"Table1[[#This Row],[QTY]]*Table1[[#This Row],[School & Library Price]]","v":0}]
[null,8,null,null,null,"Current Issues","Introducing Issues with Opposing Viewpoints","Transportation Infrastructure","978-1-5345-0722-7",{"$f":"HYPERLINK(Table1[[#This Row],[Hyperlink]],\"Weblink\")","v":"Weblink"},"Greenhaven Publishing","Paperback Book",1,"2021","January 2021","Paperback","6.500 X 9.250","Compiled by","Lisa Idzikowski",null,null,null,null,"Z",null,"Grade 7 - 10","Grade 7 - 12","In the past several U.S. presidential elections, candidates have promised to fix the country's transportation. A strong transportation system is the base of a society's economic stability and development. It can impact its health, wealth, and growth. Why then, are so many of the roads, bridges, and rail systems virtually unchanged from the last century? When will the country's transportation infrastructure catch up to the technology, living habits, and needs of a twenty-first-century population? The viewpoints in this volume explore the importance of transportation infrastructure, why it seems so difficult to maintain, and hopes for its future.","English",28.3,22.64,"388.0973--dc23","120 pp.","https://greenhavenpublishing.com/978-1-5345-0722-7",{"$f":"Table1[[#This Row],['# of Books]]*Table1[[#This Row],[QTY]]","v":0},{"$f":"Table1[[#This Row],[QTY]]*Table1[[#This Row],[School & Library Price]]","v":0}]
[null,null,17,null,null,"Current Issues","Introducing Issues with Opposing Viewpoints","Introducing Issues with Opposing Viewpoints (Spring 2020)","978-1-5345-0673-2",{"$f":"HYPERLINK(Table1[[#This Row],[Hyperlink]],\"Weblink\")","v":"Weblink"},"Greenhaven Publishing","Library Set",6,"2020","January 2020","Library","6.500 X 9.250",null,null,null,null,null,null,null,null,"Grade 7 - 10","Grade 7 - 12","Inspired by the highly acclaimed Opposing Viewpoints series, this series promotes issue awareness as well as critical thinking. Extremely user-friendly and accessible, it offers a wealth of information at a lower reading level in a bright, engaging package. This appealing combination helps more students grasp the controversies of our increasingly complex world. Features include: Fact boxes provide students with statistical information about the topics discussed. Photographs and graphics engage readers and assist in comprehension of the topics. Guided reading and critical-thinking questions for each viewpoint assist students in understanding how authors develop arguments.","English",252,201.6,null,"120 pp.","https://greenhavenpublishing.com/978-1-5345-0673-2",{"$f":"Table1[[#This Row],['# of Books]]*Table1[[#This Row],[QTY]]","v":0},{"$f":"Table1[[#This Row],[QTY]]*Table1[[#This Row],[School & Library Price]]","v":0}]
[null,null,17,null,null,"Current Issues","Introducing Issues with Opposing Viewpoints","Introducing Issues with Opposing Viewpoints (Spring 2020)","978-1-5345-0678-7",{"$f":"HYPERLINK(Table1[[#This Row],[Hyperlink]],\"Weblink\")","v":"Weblink"},"Greenhaven Publishing","Single Copy Set",6,"2020","January 2020","Paperback","6.500 X 9.250",null,null,null,null,null,null,null,null,"Grade 7 - 10","Grade 7 - 12","Inspired by the highly acclaimed Opposing Viewpoints series, this series promotes issue awareness as well as critical thinking. Extremely user-friendly and accessible, it offers a wealth of information at a lower reading level in a bright, engaging package. This appealing combination helps more students grasp the controversies of our increasingly complex world. Features include: Fact boxes provide students with statistical information about the topics discussed. Photographs and graphics engage readers and assist in comprehension of the topics. Guided reading and critical-thinking questions for each viewpoint assist students in understanding how authors develop arguments.","English",169.8,135.84,null,"120 pp.","https://greenhavenpublishing.com/978-1-5345-0678-7",{"$f":"Table1[[#This Row],['# of Books]]*Table1[[#This Row],[QTY]]","v":0},{"$f":"Table1[[#This Row],[QTY]]*Table1[[#This Row],[School & Library Price]]","v":0}]
[null,9,17,null,null,"Current Issues","Introducing Issues with Opposing Viewpoints","AI, Robots, and the Future of the Human Race","978-1-5345-0659-6",{"$f":"HYPERLINK(Table1[[#This Row],[Hyperlink]],\"Weblink\")","v":"Weblink"},"Greenhaven Publishing","Library Bound Book",1,"2020","January 2020","Library","6.500 X 9.250","Edited by","Lisa Idzikowski",null,null,null,null,"Z",null,"Grade 7 - 10","Grade 7 - 12","The term \"artificial intelligence\" was introduced in 1956. Today's AI is accomplishing the original goal of mirroring human thought processes; it's designed to independently adapt to and learn from new data. AI involves programming machines and robots to automatically complete complicated tasks. The opportunities to simplify and enhance daily life that these machines offer could make them instrumental in advancing the development of humankind. However, concerns about what can be accomplished through robotics, the extent to which humans can control sophisticated AI, and the impact robots and AI will have on labor, warfare, and health must also be considered. This volume presents thoughtful, well-researched essays that help readers analyze this topic and develop their own intelligent viewpoints.","English",42,33.6,"303.48/3--dc23","120 pp.","https://greenhavenpublishing.com/978-1-5345-0659-6",{"$f":"Table1[[#This Row],['# of Books]]*Table1[[#This Row],[QTY]]","v":0},{"$f":"Table1[[#This Row],[QTY]]*Table1[[#This Row],[School & Library Price]]","v":0}]
[null,9,17,null,null,"Current Issues","Introducing Issues with Opposing Viewpoints","AI, Robots, and the Future of the Human Race","978-1-5345-0658-9",{"$f":"HYPERLINK(Table1[[#This Row],[Hyperlink]],\"Weblink\")","v":"Weblink"},"Greenhaven Publishing","Paperback Book",1,"2020","January 2020","Paperback","6.500 X 9.250","Edited by","Lisa Idzikowski",null,null,null,null,"Z",null,"Grade 7 - 10","Grade 7 - 12","The term \"artificial intelligence\" was introduced in 1956. Today's AI is accomplishing the original goal of mirroring human thought processes; it's designed to independently adapt to and learn from new data. AI involves programming machines and robots to automatically complete complicated tasks. The opportunities to simplify and enhance daily life that these machines offer could make them instrumental in advancing the development of humankind. However, concerns about what can be accomplished through robotics, the extent to which humans can control sophisticated AI, and the impact robots and AI will have on labor, warfare, and health must also be considered. This volume presents thoughtful, well-researched essays that help readers analyze this topic and develop their own intelligent viewpoints.","English",28.3,22.64,"303.48/3--dc23","120 pp.","https://greenhavenpublishing.com/978-1-5345-0658-9",{"$f":"Table1[[#This Row],['# of Books]]*Table1[[#This Row],[QTY]]","v":0},{"$f":"Table1[[#This Row],[QTY]]*Table1[[#This Row],[School & Library Price]]","v":0}]
[null,9,17,null,null,"Current Issues","Introducing Issues with Opposing Viewpoints","America's Urban-Rural Divide","978-1-5345-0661-9",{"$f":"HYPERLINK(Table1[[#This Row],[Hyperlink]],\"Weblink\")","v":"Weblink"},"Greenhaven Publishing","Library Bound Book",1,"2020","January 2020","Library","6.500 X 9.250","Edited by","Bridey Heing",null,null,null,null,"Z",null,"Grade 7 - 10","Grade 7 - 12","The divisive 2016 presidential election suggested the presence of a rift between residents of urban areas and those in rural communities, with fundamental differences in beliefs and values between the two. While the election spurred renewed interest in this divide, the divergence in the perspectives and priorities of urban and rural communities has existed throughout American history. This volume explores how the urban-rural divide came to exist, how it impacts politics, whether technology has decreased or increased this sense of division, and what can be done to unify Americans.","English",42,33.6,"307.70973--dc23","120 pp.","https://greenhavenpublishing.com/978-1-5345-0661-9",{"$f":"Table1[[#This Row],['# of Books]]*Table1[[#This Row],[QTY]]","v":0},{"$f":"Table1[[#This Row],[QTY]]*Table1[[#This Row],[School & Library Price]]","v":0}]
[null,9,17,null,null,"Current Issues","Introducing Issues with Opposing Viewpoints","America's Urban-Rural Divide","978-1-5345-0660-2",{"$f":"HYPERLINK(Table1[[#This Row],[Hyperlink]],\"Weblink\")","v":"Weblink"},"Greenhaven Publishing","Paperback Book",1,"2020","January 2020","Paperback","6.500 X 9.250","Edited by","Bridey Heing",null,null,null,null,"Z",null,"Grade 7 - 10","Grade 7 - 12","The divisive 2016 presidential election suggested the presence of a rift between residents of urban areas and those in rural communities, with fundamental differences in beliefs and values between the two. While the election spurred renewed interest in this divide, the divergence in the perspectives and priorities of urban and rural communities has existed throughout American history. This volume explores how the urban-rural divide came to exist, how it impacts politics, whether technology has decreased or increased this sense of division, and what can be done to unify Americans.","English",28.3,22.64,"307.70973--dc23","120 pp.","https://greenhavenpublishing.com/978-1-5345-0660-2",{"$f":"Table1[[#This Row],['# of Books]]*Table1[[#This Row],[QTY]]","v":0},{"$f":"Table1[[#This Row],[QTY]]*Table1[[#This Row],[School & Library Price]]","v":0}]
[null,9,17,null,null,"Current Issues","Introducing Issues with Opposing Viewpoints","Cults, Sects, and New Religions","978-1-5345-0667-1",{"$f":"HYPERLINK(Table1[[#This Row],[Hyperlink]],\"Weblink\")","v":"Weblink"},"Greenhaven Publishing","Library Bound Book",1,"2020","January 2020","Library","6.500 X 9.250","Edited by","M. M. Eboch",null,null,null,null,"Z",null,"Grade 7 - 10","Grade 7 - 12","Recently, cults have been a source of fascination, with various television shows, movies, and books portraying them in lurid detail. However, cults have existed since ancient history, and many new religious movements have proven to be harmless. What distinguishes a cult from a sect, and how do these new religious movements become accepted? What strategies are in place to prevent dangerous cults from forming, and how do these cults recruit members to begin with? Should cults and sects be granted the right to religious freedom? This volume explores the history of unorthodox religious groups and the debates surrounding them.","English",42,33.6,"209--dc23","120 pp.","https://greenhavenpublishing.com/978-1-5345-0667-1",{"$f":"Table1[[#This Row],['# of Books]]*Table1[[#This Row],[QTY]]","v":0},{"$f":"Table1[[#This Row],[QTY]]*Table1[[#This Row],[School & Library Price]]","v":0}]
[null,9,17,null,null,"Current Issues","Introducing Issues with Opposing Viewpoints","Cults, Sects, and New Religions","978-1-5345-0666-4",{"$f":"HYPERLINK(Table1[[#This Row],[Hyperlink]],\"Weblink\")","v":"Weblink"},"Greenhaven Publishing","Paperback Book",1,"2020","January 2020","Paperback","6.500 X 9.250","Edited by","M. M. Eboch",null,null,null,null,"Z",null,"Grade 7 - 10","Grade 7 - 12","Recently, cults have been a source of fascination, with various television shows, movies, and books portraying them in lurid detail. However, cults have existed since ancient history, and many new religious movements have proven to be harmless. What distinguishes a cult from a sect, and how do these new religious movements become accepted? What strategies are in place to prevent dangerous cults from forming, and how do these cults recruit members to begin with? Should cults and sects be granted the right to religious freedom? This volume explores the history of unorthodox religious groups and the debates surrounding them.","English",28.3,22.64,"209--dc23","120 pp.","https://greenhavenpublishing.com/978-1-5345-0666-4",{"$f":"Table1[[#This Row],['# of Books]]*Table1[[#This Row],[QTY]]","v":0},{"$f":"Table1[[#This Row],[QTY]]*Table1[[#This Row],[School & Library Price]]","v":0}]
[null,9,17,null,null,"Current Issues","Introducing Issues with Opposing Viewpoints","Gun Control and the NRA","978-1-5345-0663-3",{"$f":"HYPERLINK(Table1[[#This Row],[Hyperlink]],\"Weblink\")","v":"Weblink"},"Greenhaven Publishing","Library Bound Book",1,"2020","January 2020","Library","6.500 X 9.250","Edited by","Joellen McCarty",null,null,null,null,"Z",null,"Grade 7 - 10","Grade 7 - 12","School shootings and mass gun violence have brought the gun control debate to national attention, and according to a 2018 survey, 57 percent of Americans believe that stricter gun laws are necessary. However, the same survey found that 42 percent of Americans live in gun-owning households, indicating that gun ownership is deeply embedded in American life. How can the right to gun ownership and the necessity of reducing gun violence be reconciled? Is the NRA a necessary protector of civil liberties, or does it stand in the way of effective legislation? This volume will help readers examine these contentious questions.","English",42,33.6,"363.330973--dc23","120 pp.","https://greenhavenpublishing.com/978-1-5345-0663-3",{"$f":"Table1[[#This Row],['# of Books]]*Table1[[#This Row],[QTY]]","v":0},{"$f":"Table1[[#This Row],[QTY]]*Table1[[#This Row],[School & Library Price]]","v":0}]
[null,9,17,null,null,"Current Issues","Introducing Issues with Opposing Viewpoints","Gun Control and the NRA","978-1-5345-0662-6",{"$f":"HYPERLINK(Table1[[#This Row],[Hyperlink]],\"Weblink\")","v":"Weblink"},"Greenhaven Publishing","Paperback Book",1,"2020","January 2020","Paperback","6.500 X 9.250","Edited by","Joellen McCarty",null,null,null,null,"Z",null,"Grade 7 - 10","Grade 7 - 12","School shootings and mass gun violence have brought the gun control debate to national attention, and according to a 2018 survey, 57 percent of Americans believe that stricter gun laws are necessary. However, the same survey found that 42 percent of Americans live in gun-owning households, indicating that gun ownership is deeply embedded in American life. How can the right to gun ownership and the necessity of reducing gun violence be reconciled? Is the NRA a necessary protector of civil liberties, or does it stand in the way of effective legislation? This volume will help readers examine these contentious questions.","English",28.3,22.64,"363.330973--dc23","120 pp.","https://greenhavenpublishing.com/978-1-5345-0662-6",{"$f":"Table1[[#This Row],['# of Books]]*Table1[[#This Row],[QTY]]","v":0},{"$f":"Table1[[#This Row],[QTY]]*Table1[[#This Row],[School & Library Price]]","v":0}]
[null,9,17,null,null,"Current Issues","Introducing Issues with Opposing Viewpoints","Legalization of Marijuana","978-1-5345-0669-5",{"$f":"HYPERLINK(Table1[[#This Row],[Hyperlink]],\"Weblink\")","v":"Weblink"},"Greenhaven Publishing","Library Bound Book",1,"2020","January 2020","Library","6.500 X 9.250","Edited by","M. M. Eboch",null,null,null,null,"Z",null,"Grade 7 - 10","Grade 7 - 12","As of 2018, thirty-three states and the District of Columbia have legalized marijuana in some form, either broadly allowing its recreational use or limiting it to medical applications. However, the conditions under which marijuana should be legalized, if at all, are hotly debated. Some assert that it should only be allowed for medicinal purposes, while others argue that attempting to prohibit it is futile and that it would be better to legalize it, which would enable the regulation and taxation of it. Concerns about marijuana's availability to minors and its relationship to crime and addiction are explored in this volume.","English",42,33.6,"344.7304/233--dc23","120 pp.","https://greenhavenpublishing.com/978-1-5345-0669-5",{"$f":"Table1[[#This Row],['# of Books]]*Table1[[#This Row],[QTY]]","v":0},{"$f":"Table1[[#This Row],[QTY]]*Table1[[#This Row],[School & Library Price]]","v":0}]
[null,9,17,null,null,"Current Issues","Introducing Issues with Opposing Viewpoints","Legalization of Marijuana","978-1-5345-0668-8",{"$f":"HYPERLINK(Table1[[#This Row],[Hyperlink]],\"Weblink\")","v":"Weblink"},"Greenhaven Publishing","Paperback Book",1,"2020","January 2020","Paperback","6.500 X 9.250","Edited by","M. M. Eboch",null,null,null,null,"Z",null,"Grade 7 - 10","Grade 7 - 12","As of 2018, thirty-three states and the District of Columbia have legalized marijuana in some form, either broadly allowing its recreational use or limiting it to medical applications. However, the conditions under which marijuana should be legalized, if at all, are hotly debated. Some assert that it should only be allowed for medicinal purposes, while others argue that attempting to prohibit it is futile and that it would be better to legalize it, which would enable the regulation and taxation of it. Concerns about marijuana's availability to minors and its relationship to crime and addiction are explored in this volume.","English",28.3,22.64,"344.7304/233--dc23","120 pp.","https://greenhavenpublishing.com/978-1-5345-0668-8",{"$f":"Table1[[#This Row],['# of Books]]*Table1[[#This Row],[QTY]]","v":0},{"$f":"Table1[[#This Row],[QTY]]*Table1[[#This Row],[School & Library Price]]","v":0}]
[null,9,17,null,null,"Current Issues","Introducing Issues with Opposing Viewpoints","Patriotism","978-1-5345-0665-7",{"$f":"HYPERLINK(Table1[[#This Row],[Hyperlink]],\"Weblink\")","v":"Weblink"},"Greenhaven Publishing","Library Bound Book",1,"2020","January 2020","Library","6.500 X 9.250","Edited by","Sabine Cherenfant",null,null,null,null,"Z",null,"Grade 7 - 10","Grade 7 - 12","Patriotism refers to devotion to one's country, and as such it is often considered essential to a cohesive national identity. However, with concerns about xenophobia, nationalism, and chauvinism on the rise, the question of what role patriotism plays in these problematic exclusionary beliefs and practices must be examined. This volume considers various viewpoints on what defines patriotism, how it originated as a concept, and the ways in which it both helps and hinders nations. It examines patriotism through the lens of contemporary political and social issues around the world.","English",42,33.6,"323.6/50973--dc23","120 pp.","https://greenhavenpublishing.com/978-1-5345-0665-7",{"$f":"Table1[[#This Row],['# of Books]]*Table1[[#This Row],[QTY]]","v":0},{"$f":"Table1[[#This Row],[QTY]]*Table1[[#This Row],[School & Library Price]]","v":0}]
[null,9,17,null,null,"Current Issues","Introducing Issues with Opposing Viewpoints","Patriotism","978-1-5345-0664-0",{"$f":"HYPERLINK(Table1[[#This Row],[Hyperlink]],\"Weblink\")","v":"Weblink"},"Greenhaven Publishing","Paperback Book",1,"2020","January 2020","Paperback","6.500 X 9.250","Edited by","Sabine Cherenfant",null,null,null,null,"Z",null,"Grade 7 - 10","Grade 7 - 12","Patriotism refers to devotion to one's country, and as such it is often considered essential to a cohesive national identity. However, with concerns about xenophobia, nationalism, and chauvinism on the rise, the question of what role patriotism plays in these problematic exclusionary beliefs and practices must be examined. This volume considers various viewpoints on what defines patriotism, how it originated as a concept, and the ways in which it both helps and hinders nations. It examines patriotism through the lens of contemporary political and social issues around the world.","English",28.3,22.64,"323.6/50973--dc23","120 pp.","https://greenhavenpublishing.com/978-1-5345-0664-0",{"$f":"Table1[[#This Row],['# of Books]]*Table1[[#This Row],[QTY]]","v":0},{"$f":"Table1[[#This Row],[QTY]]*Table1[[#This Row],[School & Library Price]]","v":0}]
[null,null,16,null,null,"Current Issues","Introducing Issues with Opposing Viewpoints","Introducing Issues with Opposing Viewpoints (Fall 2019)","978-1-5345-0582-7",{"$f":"HYPERLINK(Table1[[#This Row],[Hyperlink]],\"Weblink\")","v":"Weblink"},"Greenhaven Publishing","Library Set",6,"2020","August 2019","Library","6.500 X 9.250",null,null,null,null,null,null,null,null,"Grade 7 - 10","Grade 7 - 12","Inspired by the highly acclaimed Opposing Viewpoints series, this series promotes issue awareness as well as critical thinking. Extremely user-friendly and accessible, it offers a wealth of information at a lower reading level in a bright, engaging package. This appealing combination helps more students grasp the controversies of our increasingly complex world. Features include: Fascinating and relevant fact boxes that encourage critical thinking. Websites and further information sections that encourage independent exploration. Charts, tables, and graphs supply resources for fact-checking and report-writing.","English",252,201.6,null,"120 pp.","https://greenhavenpublishing.com/978-1-5345-0582-7",{"$f":"Table1[[#This Row],['# of Books]]*Table1[[#This Row],[QTY]]","v":0},{"$f":"Table1[[#This Row],[QTY]]*Table1[[#This Row],[School & Library Price]]","v":0}]
[null,null,16,null,null,"Current Issues","Introducing Issues with Opposing Viewpoints","Introducing Issues with Opposing Viewpoints (Fall 2019)","978-1-5345-0586-5",{"$f":"HYPERLINK(Table1[[#This Row],[Hyperlink]],\"Weblink\")","v":"Weblink"},"Greenhaven Publishing","Single Copy Set",6,"2020","August 2019","Paperback","6.500 X 9.250",null,null,null,null,null,null,null,null,"Grade 7 - 10","Grade 7 - 12","Inspired by the highly acclaimed Opposing Viewpoints series, this series promotes issue awareness as well as critical thinking. Extremely user-friendly and accessible, it offers a wealth of information at a lower reading level in a bright, engaging package. This appealing combination helps more students grasp the controversies of our increasingly complex world. Features include: Fascinating and relevant fact boxes that encourage critical thinking. Websites and further information sections that encourage independent exploration. Charts, tables, and graphs supply resources for fact-checking and report-writing.","English",169.8,135.84,null,"120 pp.","https://greenhavenpublishing.com/978-1-5345-0586-5",{"$f":"Table1[[#This Row],['# of Books]]*Table1[[#This Row],[QTY]]","v":0},{"$f":"Table1[[#This Row],[QTY]]*Table1[[#This Row],[School & Library Price]]","v":0}]
[null,9,16,null,null,"Current Issues","Introducing Issues with Opposing Viewpoints","Capitalism and Moral Responsibility","978-1-5345-0576-6",{"$f":"HYPERLINK(Table1[[#This Row],[Hyperlink]],\"Weblink\")","v":"Weblink"},"Greenhaven Publishing","Library Bound Book",1,"2020","August 2019","Library","6.500 X 9.250","Edited by","Lisa Idzikowski",null,null,null,null,"Z",null,"Grade 7 - 10","Grade 7 - 12","Capitalism has been touted as the superior political and economic system, as evidenced by the success of the United States and many other countries around the globe. Is capitalism immoral by nature of its requirements, which include inequality, consumption, and greed, or are those simply unfortunate byproducts? Can capitalism fit in with religion? The divergent viewpoints in this resource explore the tenets of capitalism and whether or not it is at odds with the development of a just and moral society.","English",42,33.6,"174/.4--dc23","120 pp.","https://greenhavenpublishing.com/978-1-5345-0576-6",{"$f":"Table1[[#This Row],['# of Books]]*Table1[[#This Row],[QTY]]","v":0},{"$f":"Table1[[#This Row],[QTY]]*Table1[[#This Row],[School & Library Price]]","v":0}]
[null,9,16,null,null,"Current Issues","Introducing Issues with Opposing Viewpoints","Capitalism and Moral Responsibility","978-1-5345-0577-3",{"$f":"HYPERLINK(Table1[[#This Row],[Hyperlink]],\"Weblink\")","v":"Weblink"},"Greenhaven Publishing","Paperback Book",1,"2020","August 2019","Paperback","6.500 X 9.250","Edited by","Lisa Idzikowski",null,null,null,null,"Z",null,"Grade 7 - 10","Grade 7 - 12","Capitalism has been touted as the superior political and economic system, as evidenced by the success of the United States and many other countries around the globe. Is capitalism immoral by nature of its requirements, which include inequality, consumption, and greed, or are those simply unfortunate byproducts? Can capitalism fit in with religion? The divergent viewpoints in this resource explore the tenets of capitalism and whether or not it is at odds with the development of a just and moral society.","English",28.3,22.64,"174/.4--dc23","120 pp.","https://greenhavenpublishing.com/978-1-5345-0577-3",{"$f":"Table1[[#This Row],['# of Books]]*Table1[[#This Row],[QTY]]","v":0},{"$f":"Table1[[#This Row],[QTY]]*Table1[[#This Row],[School & Library Price]]","v":0}]
[null,9,16,null,null,"Current Issues","Introducing Issues with Opposing Viewpoints","Cultural Appropriation","978-1-5345-0566-7",{"$f":"HYPERLINK(Table1[[#This Row],[Hyperlink]],\"Weblink\")","v":"Weblink"},"Greenhaven Publishing","Library Bound Book",1,"2020","August 2019","Library","6.500 X 9.250","Edited by","M. M. Eboch",null,null,null,null,"Z",null,"Grade 7 - 10","Grade 7 - 12","A white celebrity boasts dreadlocks in an Instagram post. Fashion models strut down a runway wearing Native American headdresses. A fraternity brother dons blackface as part of his Halloween costume. What do these things have in common? They are acts of cultural appropriation, the oftentimes innocent but nonetheless offensive practice of emulating the culture of a people with less power and privilege. When does appreciation cross the line to become appropriation? The viewpoints in this volume address what constitutes cultural appropriation, how it hurts those it seeks to celebrate, and how to be inspired by a culture without insulting it.","English",42,33.6,"303.48/2--dc23","120 pp.","https://greenhavenpublishing.com/978-1-5345-0566-7",{"$f":"Table1[[#This Row],['# of Books]]*Table1[[#This Row],[QTY]]","v":0},{"$f":"Table1[[#This Row],[QTY]]*Table1[[#This Row],[School & Library Price]]","v":0}]
[null,9,16,null,null,"Current Issues","Introducing Issues with Opposing Viewpoints","Cultural Appropriation","978-1-5345-0567-4",{"$f":"HYPERLINK(Table1[[#This Row],[Hyperlink]],\"Weblink\")","v":"Weblink"},"Greenhaven Publishing","Paperback Book",1,"2020","August 2019","Paperback","6.500 X 9.250","Edited by","M. M. Eboch",null,null,null,null,"Z",null,"Grade 7 - 10","Grade 7 - 12","A white celebrity boasts dreadlocks in an Instagram post. Fashion models strut down a runway wearing Native American headdresses. A fraternity brother dons blackface as part of his Halloween costume. What do these things have in common? They are acts of cultural appropriation, the oftentimes innocent but nonetheless offensive practice of emulating the culture of a people with less power and privilege. When does appreciation cross the line to become appropriation? The viewpoints in this volume address what constitutes cultural appropriation, how it hurts those it seeks to celebrate, and how to be inspired by a culture without insulting it.","English",28.3,22.64,"303.48/2--dc23","120 pp.","https://greenhavenpublishing.com/978-1-5345-0567-4",{"$f":"Table1[[#This Row],['# of Books]]*Table1[[#This Row],[QTY]]","v":0},{"$f":"Table1[[#This Row],[QTY]]*Table1[[#This Row],[School & Library Price]]","v":0}]
[null,9,16,null,null,"Current Issues","Introducing Issues with Opposing Viewpoints","Ethics in Journalism","978-1-5345-0568-1",{"$f":"HYPERLINK(Table1[[#This Row],[Hyperlink]],\"Weblink\")","v":"Weblink"},"Greenhaven Publishing","Library Bound Book",1,"2020","August 2019","Library","6.500 X 9.250","Edited by","M. M. Eboch",null,null,null,null,"Z",null,"Grade 7 - 10","Grade 7 - 12","With a 24-hour news cycle, the desperate need to attract viewers and increase revenue, and the pressure of being the first to print, news organizations have had to undergo a rapid evolution. Whether they've been able to maintain their integrity during this transition is a matter of debate. In this resource, a wide spectrum of contributors addresses the importance of journalistic ethics, the challenges journalists face today, and what's at stake for newspeople when charges of \"fake news\" are lobbed at them.","English",42,33.6,"174/.907--dc23","120 pp.","https://greenhavenpublishing.com/978-1-5345-0568-1",{"$f":"Table1[[#This Row],['# of Books]]*Table1[[#This Row],[QTY]]","v":0},{"$f":"Table1[[#This Row],[QTY]]*Table1[[#This Row],[School & Library Price]]","v":0}]
[null,9,16,null,null,"Current Issues","Introducing Issues with Opposing Viewpoints","Ethics in Journalism","978-1-5345-0569-8",{"$f":"HYPERLINK(Table1[[#This Row],[Hyperlink]],\"Weblink\")","v":"Weblink"},"Greenhaven Publishing","Paperback Book",1,"2020","August 2019","Paperback","6.500 X 9.250","Edited by","M. M. Eboch",null,null,null,null,"Z",null,"Grade 7 - 10","Grade 7 - 12","With a 24-hour news cycle, the desperate need to attract viewers and increase revenue, and the pressure of being the first to print, news organizations have had to undergo a rapid evolution. Whether they've been able to maintain their integrity during this transition is a matter of debate. In this resource, a wide spectrum of contributors addresses the importance of journalistic ethics, the challenges journalists face today, and what's at stake for newspeople when charges of \"fake news\" are lobbed at them.","English",28.3,22.64,"174/.907--dc23","120 pp.","https://greenhavenpublishing.com/978-1-5345-0569-8",{"$f":"Table1[[#This Row],['# of Books]]*Table1[[#This Row],[QTY]]","v":0},{"$f":"Table1[[#This Row],[QTY]]*Table1[[#This Row],[School & Library Price]]","v":0}]
[null,9,16,null,null,"Current Issues","Introducing Issues with Opposing Viewpoints","Incarceration of Minors","978-1-5345-0570-4",{"$f":"HYPERLINK(Table1[[#This Row],[Hyperlink]],\"Weblink\")","v":"Weblink"},"Greenhaven Publishing","Library Bound Book",1,"2020","August 2019","Library","6.500 X 9.250","Edited by","Martin Gitlin",null,null,null,null,"Z",null,"Grade 7 - 10","Grade 7 - 12","Approximately ten thousand children are imprisoned in adult correctional facilities in the United States on any given day. Children as young as thirteen have received life sentences in prisons far from their family and community, vulnerable to abuse and neglect. These are often the same conditions that led them there in the first place. What is the most effective method of dealing with youth offenders? Should they be tried as adults and incarcerated with adult prisoners? Is money better spent on education and rehabilitation? This resource tackles these difficult questions through diverse perspectives written by authorities on the subject.","English",42,33.6,"365/.420973--dc23","120 pp.","https://greenhavenpublishing.com/978-1-5345-0570-4",{"$f":"Table1[[#This Row],['# of Books]]*Table1[[#This Row],[QTY]]","v":0},{"$f":"Table1[[#This Row],[QTY]]*Table1[[#This Row],[School & Library Price]]","v":0}]
[null,9,16,null,null,"Current Issues","Introducing Issues with Opposing Viewpoints","Incarceration of Minors","978-1-5345-0571-1",{"$f":"HYPERLINK(Table1[[#This Row],[Hyperlink]],\"Weblink\")","v":"Weblink"},"Greenhaven Publishing","Paperback Book",1,"2020","August 2019","Paperback","6.500 X 9.250","Edited by","Martin Gitlin",null,null,null,null,"Z",null,"Grade 7 - 10","Grade 7 - 12","Approximately ten thousand children are imprisoned in adult correctional facilities in the United States on any given day. Children as young as thirteen have received life sentences in prisons far from their family and community, vulnerable to abuse and neglect. These are often the same conditions that led them there in the first place. What is the most effective method of dealing with youth offenders? Should they be tried as adults and incarcerated with adult prisoners? Is money better spent on education and rehabilitation? This resource tackles these difficult questions through diverse perspectives written by authorities on the subject.","English",28.3,22.64,"365/.420973--dc23","120 pp.","https://greenhavenpublishing.com/978-1-5345-0571-1",{"$f":"Table1[[#This Row],['# of Books]]*Table1[[#This Row],[QTY]]","v":0},{"$f":"Table1[[#This Row],[QTY]]*Table1[[#This Row],[School & Library Price]]","v":0}]
[null,9,16,null,null,"Current Issues","Introducing Issues with Opposing Viewpoints","School Shootings","978-1-5345-0572-8",{"$f":"HYPERLINK(Table1[[#This Row],[Hyperlink]],\"Weblink\")","v":"Weblink"},"Greenhaven Publishing","Library Bound Book",1,"2020","August 2019","Library","6.500 X 9.250","Edited by","Lisa Idzikowski",null,null,null,null,"Z",null,"Grade 7 - 10","Grade 7 - 12","Since 2009, there have been 288 school shootings in the United States. This is an alarming statistic for one of the safest, richest, and most powerful countries in the world. Whenever one of these senseless tragedies occurs, activists and political leaders attempt to push their agendas, calling for stricter gun control, or tighter security, or even for arming teachers. This valuable resource, containing diverse viewpoints written by authoritative voices, explores why school shootings seem to be an epidemic, their potential causes, and what can be done to stop them.","English",42,33.6,"371.7/82--dc23","120 pp.","https://greenhavenpublishing.com/978-1-5345-0572-8",{"$f":"Table1[[#This Row],['# of Books]]*Table1[[#This Row],[QTY]]","v":0},{"$f":"Table1[[#This Row],[QTY]]*Table1[[#This Row],[School & Library Price]]","v":0}]
[null,9,16,null,null,"Current Issues","Introducing Issues with Opposing Viewpoints","School Shootings","978-1-5345-0573-5",{"$f":"HYPERLINK(Table1[[#This Row],[Hyperlink]],\"Weblink\")","v":"Weblink"},"Greenhaven Publishing","Paperback Book",1,"2020","August 2019","Paperback","6.500 X 9.250","Edited by","Lisa Idzikowski",null,null,null,null,"Z",null,"Grade 7 - 10","Grade 7 - 12","Since 2009, there have been 288 school shootings in the United States. This is an alarming statistic for one of the safest, richest, and most powerful countries in the world. Whenever one of these senseless tragedies occurs, activists and political leaders attempt to push their agendas, calling for stricter gun control, or tighter security, or even for arming teachers. This valuable resource, containing diverse viewpoints written by authoritative voices, explores why school shootings seem to be an epidemic, their potential causes, and what can be done to stop them.","English",28.3,22.64,"371.7/82--dc23","120 pp.","https://greenhavenpublishing.com/978-1-5345-0573-5",{"$f":"Table1[[#This Row],['# of Books]]*Table1[[#This Row],[QTY]]","v":0},{"$f":"Table1[[#This Row],[QTY]]*Table1[[#This Row],[School & Library Price]]","v":0}]
[null,9,16,null,null,"Current Issues","Introducing Issues with Opposing Viewpoints","Student Protests","978-1-5345-0574-2",{"$f":"HYPERLINK(Table1[[#This Row],[Hyperlink]],\"Weblink\")","v":"Weblink"},"Greenhaven Publishing","Library Bound Book",1,"2020","August 2019","Library","6.500 X 9.250","Edited by","Martin Gitlin",null,null,null,null,"Z",null,"Grade 7 - 10","Grade 7 - 12","Few would argue that students have the right to protest, but what forms of protest are acceptable? From the Vietnam War era to the more recent National School Walkout, students have used walkouts as a form of protest. Yet some teachers and administrators admonish such efforts because they waste precious class time and detract from learning. Others believe that, while peaceful protest is always the best first step, violence is an acceptable option when all else fails. Through balanced and respectful viewpoints, this resource examines the ways students can make their voices heard in an effort to create change.","English",42,33.6,"371.8/10973--dc23","120 pp.","https://greenhavenpublishing.com/978-1-5345-0574-2",{"$f":"Table1[[#This Row],['# of Books]]*Table1[[#This Row],[QTY]]","v":0},{"$f":"Table1[[#This Row],[QTY]]*Table1[[#This Row],[School & Library Price]]","v":0}]
[null,9,16,null,null,"Current Issues","Introducing Issues with Opposing Viewpoints","Student Protests","978-1-5345-0575-9",{"$f":"HYPERLINK(Table1[[#This Row],[Hyperlink]],\"Weblink\")","v":"Weblink"},"Greenhaven Publishing","Paperback Book",1,"2020","August 2019","Paperback","6.500 X 9.250","Edited by","Martin Gitlin",null,null,null,null,"Z",null,"Grade 7 - 10","Grade 7 - 12","Few would argue that students have the right to protest, but what forms of protest are acceptable? From the Vietnam War era to the more recent National School Walkout, students have used walkouts as a form of protest. Yet some teachers and administrators admonish such efforts because they waste precious class time and detract from learning. Others believe that, while peaceful protest is always the best first step, violence is an acceptable option when all else fails. Through balanced and respectful viewpoints, this resource examines the ways students can make their voices heard in an effort to create change.","English",28.3,22.64,"371.8/10973--dc23","120 pp.","https://greenhavenpublishing.com/978-1-5345-0575-9",{"$f":"Table1[[#This Row],['# of Books]]*Table1[[#This Row],[QTY]]","v":0},{"$f":"Table1[[#This Row],[QTY]]*Table1[[#This Row],[School & Library Price]]","v":0}]
[null,9,16,null,null,"Current Issues","Introducing Issues with Opposing Viewpoints","Hunting","978-1-5345-0422-6",{"$f":"HYPERLINK(Table1[[#This Row],[Hyperlink]],\"Weblink\")","v":"Weblink"},"Greenhaven Publishing","Library Bound Book",1,"2019","January 2019","Library","6.500 X 9.250","Edited by","Lisa Idzikowski",null,null,null,null,"Z",null,"Grade 7 - 10","Grade 7 - 12","Hunting game has been a way of life for humans for two million years. Today, people around the world hunt both as a source of food and for sport. While its critics argue that hunting is barbaric and a rich man's sport, its supporters defend the activity in terms of tradition, culture, and population control. Of course, there are still societies around the world that depend on hunting to survive. But for the rest, can hunting ever be justified? The diverse perspectives in this volume will surprise students who may already have made up their minds on the subject.","English",42,33.6,"639/.1--dc23","120 pp.","https://greenhavenpublishing.com/978-1-5345-0422-6",{"$f":"Table1[[#This Row],['# of Books]]*Table1[[#This Row],[QTY]]","v":0},{"$f":"Table1[[#This Row],[QTY]]*Table1[[#This Row],[School & Library Price]]","v":0}]
[null,9,16,null,null,"Current Issues","Introducing Issues with Opposing Viewpoints","Hunting","978-1-5345-0481-3",{"$f":"HYPERLINK(Table1[[#This Row],[Hyperlink]],\"Weblink\")","v":"Weblink"},"Greenhaven Publishing","Paperback Book",1,"2019","January 2019","Paperback","6.500 X 9.250","Edited by","Lisa Idzikowski",null,null,null,null,"Z",null,"Grade 7 - 10","Grade 7 - 12","Hunting game has been a way of life for humans for two million years. Today, people around the world hunt both as a source of food and for sport. While its critics argue that hunting is barbaric and a rich man's sport, its supporters defend the activity in terms of tradition, culture, and population control. Of course, there are still societies around the world that depend on hunting to survive. But for the rest, can hunting ever be justified? The diverse perspectives in this volume will surprise students who may already have made up their minds on the subject.","English",28.3,22.64,"639/.1--dc23","120 pp.","https://greenhavenpublishing.com/978-1-5345-0481-3",{"$f":"Table1[[#This Row],['# of Books]]*Table1[[#This Row],[QTY]]","v":0},{"$f":"Table1[[#This Row],[QTY]]*Table1[[#This Row],[School & Library Price]]","v":0}]
[null,9,16,null,null,"Current Issues","Introducing Issues with Opposing Viewpoints","Immigration and Travel Restrictions","978-1-5345-0423-3",{"$f":"HYPERLINK(Table1[[#This Row],[Hyperlink]],\"Weblink\")","v":"Weblink"},"Greenhaven Publishing","Library Bound Book",1,"2019","January 2019","Library","6.500 X 9.250","Edited by","M. M. Eboch",null,null,null,null,"Z",null,"Grade 7 - 10","Grade 7 - 12","Restrictions on immigration and visitation have been in place for decades in the name of security and public health, but recently they have become a point of contention, particularly in the United States and many European nations. As terrorist attacks have proliferated around the world, security restrictions have tightened, resulting in an outcry that travel bans are discriminatory and racist. Is it better to be safe than sorry? Are travel bans such as Executive Order 13769 more about politics than security? A wide array of authoritative voices offers their perspectives on this timely and far-reaching debate.","English",42,33.6,"304.8/73--dc23","120 pp.","https://greenhavenpublishing.com/978-1-5345-0423-3",{"$f":"Table1[[#This Row],['# of Books]]*Table1[[#This Row],[QTY]]","v":0},{"$f":"Table1[[#This Row],[QTY]]*Table1[[#This Row],[School & Library Price]]","v":0}]
[null,9,16,null,null,"Current Issues","Introducing Issues with Opposing Viewpoints","Immigration and Travel Restrictions","978-1-5345-0483-7",{"$f":"HYPERLINK(Table1[[#This Row],[Hyperlink]],\"Weblink\")","v":"Weblink"},"Greenhaven Publishing","Paperback Book",1,"2019","January 2019","Paperback","6.500 X 9.250","Edited by","M. M. Eboch",null,null,null,null,"Z",null,"Grade 7 - 10","Grade 7 - 12","Restrictions on immigration and visitation have been in place for decades in the name of security and public health, but recently they have become a point of contention, particularly in the United States and many European nations. As terrorist attacks have proliferated around the world, security restrictions have tightened, resulting in an outcry that travel bans are discriminatory and racist. Is it better to be safe than sorry? Are travel bans such as Executive Order 13769 more about politics than security? A wide array of authoritative voices offers their perspectives on this timely and far-reaching debate.","English",28.3,22.64,"304.8/73--dc23","120 pp.","https://greenhavenpublishing.com/978-1-5345-0483-7",{"$f":"Table1[[#This Row],['# of Books]]*Table1[[#This Row],[QTY]]","v":0},{"$f":"Table1[[#This Row],[QTY]]*Table1[[#This Row],[School & Library Price]]","v":0}]
[null,9,16,null,null,"Current Issues","Introducing Issues with Opposing Viewpoints","Intersectionality and Identity Politics","978-1-5345-0424-0",{"$f":"HYPERLINK(Table1[[#This Row],[Hyperlink]],\"Weblink\")","v":"Weblink"},"Greenhaven Publishing","Library Bound Book",1,"2019","January 2019","Library","6.500 X 9.250","Edited by","M. M. Eboch",null,null,null,null,"Z",null,"Grade 7 - 10","Grade 7 - 12","In America's melting pot, as the spectrum of power broadens to include different religions, races, genders, and sexual orientations, a complicated reality emerges: Americans don't always fit into one simple category. It is generally agreed that embracing all parts of our complex identities is a positive development, and politicians have taken notice. But who benefits from identity politics? Do they unwittingly divide us? Are they causing unneeded stress in the country? The perspectives in this volume explore intersectionality and identity politics as an emerging force in our culture.","English",42,33.6,"320.0973--dc23","120 pp.","https://greenhavenpublishing.com/978-1-5345-0424-0",{"$f":"Table1[[#This Row],['# of Books]]*Table1[[#This Row],[QTY]]","v":0},{"$f":"Table1[[#This Row],[QTY]]*Table1[[#This Row],[School & Library Price]]","v":0}]
[null,9,16,null,null,"Current Issues","Introducing Issues with Opposing Viewpoints","Intersectionality and Identity Politics","978-1-5345-0485-1",{"$f":"HYPERLINK(Table1[[#This Row],[Hyperlink]],\"Weblink\")","v":"Weblink"},"Greenhaven Publishing","Paperback Book",1,"2019","January 2019","Paperback","6.500 X 9.250","Edited by","M. M. Eboch",null,null,null,null,"Z",null,"Grade 7 - 10","Grade 7 - 12","In America's melting pot, as the spectrum of power broadens to include different religions, races, genders, and sexual orientations, a complicated reality emerges: Americans don't always fit into one simple category. It is generally agreed that embracing all parts of our complex identities is a positive development, and politicians have taken notice. But who benefits from identity politics? Do they unwittingly divide us? Are they causing unneeded stress in the country? The perspectives in this volume explore intersectionality and identity politics as an emerging force in our culture.","English",28.3,22.64,"320.0973--dc23","120 pp.","https://greenhavenpublishing.com/978-1-5345-0485-1",{"$f":"Table1[[#This Row],['# of Books]]*Table1[[#This Row],[QTY]]","v":0},{"$f":"Table1[[#This Row],[QTY]]*Table1[[#This Row],[School & Library Price]]","v":0}]
[null,9,16,null,null,"Current Issues","Introducing Issues with Opposing Viewpoints","Self-Advocacy and Disability Rights","978-1-5345-0425-7",{"$f":"HYPERLINK(Table1[[#This Row],[Hyperlink]],\"Weblink\")","v":"Weblink"},"Greenhaven Publishing","Library Bound Book",1,"2019","January 2019","Library","6.500 X 9.250","Edited by","M. M. Eboch",null,null,null,null,"Z",null,"Grade 7 - 10","Grade 7 - 12","People with disabilities, both physical and developmental, are an often-overlooked segment of civil rights movements. In fact, these individuals are among the most powerless in our society, even with organizations and professionals dedicated to fighting on their behalf. The self-advocacy movement seeks to empower the disabled to take control of their own lives. Through education about rights, laws, and \"the system,\" disabled adults and teens, as well as the parents of disabled children, can have agency over their lives. The viewpoints in this volume offer guidance and opinions from different perspectives.","English",42,33.6,"323.3/70973--dc23","120 pp.","https://greenhavenpublishing.com/978-1-5345-0425-7",{"$f":"Table1[[#This Row],['# of Books]]*Table1[[#This Row],[QTY]]","v":0},{"$f":"Table1[[#This Row],[QTY]]*Table1[[#This Row],[School & Library Price]]","v":0}]
[null,9,16,null,null,"Current Issues","Introducing Issues with Opposing Viewpoints","Self-Advocacy and Disability Rights","978-1-5345-0487-5",{"$f":"HYPERLINK(Table1[[#This Row],[Hyperlink]],\"Weblink\")","v":"Weblink"},"Greenhaven Publishing","Paperback Book",1,"2019","January 2019","Paperback","6.500 X 9.250","Edited by","M. M. Eboch",null,null,null,null,"Z",null,"Grade 7 - 10","Grade 7 - 12","People with disabilities, both physical and developmental, are an often-overlooked segment of civil rights movements. In fact, these individuals are among the most powerless in our society, even with organizations and professionals dedicated to fighting on their behalf. The self-advocacy movement seeks to empower the disabled to take control of their own lives. Through education about rights, laws, and \"the system,\" disabled adults and teens, as well as the parents of disabled children, can have agency over their lives. The viewpoints in this volume offer guidance and opinions from different perspectives.","English",28.3,22.64,"323.3/70973--dc23","120 pp.","https://greenhavenpublishing.com/978-1-5345-0487-5",{"$f":"Table1[[#This Row],['# of Books]]*Table1[[#This Row],[QTY]]","v":0},{"$f":"Table1[[#This Row],[QTY]]*Table1[[#This Row],[School & Library Price]]","v":0}]
[null,9,16,null,null,"Current Issues","Introducing Issues with Opposing Viewpoints","The Effectiveness of Alternative Medicine","978-1-5345-0421-9",{"$f":"HYPERLINK(Table1[[#This Row],[Hyperlink]],\"Weblink\")","v":"Weblink"},"Greenhaven Publishing","Library Bound Book",1,"2019","January 2019","Library","6.500 X 9.250","Edited by","Lisa Idzikowski",null,null,null,null,"Z",null,"Grade 7 - 10","Grade 7 - 12","Western medicine has not traditionally respected or accepted alternatives such as acupuncture and homeopathic remedies. Many cultures around the globe, however, champion what we call alternative medicine. Why are some so quick to dismiss alternative options while others believe they can almost work miracles? Is it simply a matter of educating doctors and patients? Are such therapies rigorously tested and regulated? The viewpoints in this resource explore the potential benefits and dangers of alternative therapies, providing readers with provocative questions to consider.","English",42,33.6,"610--dc23","120 pp.","https://greenhavenpublishing.com/978-1-5345-0421-9",{"$f":"Table1[[#This Row],['# of Books]]*Table1[[#This Row],[QTY]]","v":0},{"$f":"Table1[[#This Row],[QTY]]*Table1[[#This Row],[School & Library Price]]","v":0}]
[null,9,16,null,null,"Current Issues","Introducing Issues with Opposing Viewpoints","The Effectiveness of Alternative Medicine","978-1-5345-0479-0",{"$f":"HYPERLINK(Table1[[#This Row],[Hyperlink]],\"Weblink\")","v":"Weblink"},"Greenhaven Publishing","Paperback Book",1,"2019","January 2019","Paperback","6.500 X 9.250","Edited by","Lisa Idzikowski",null,null,null,null,"Z",null,"Grade 7 - 10","Grade 7 - 12","Western medicine has not traditionally respected or accepted alternatives such as acupuncture and homeopathic remedies. Many cultures around the globe, however, champion what we call alternative medicine. Why are some so quick to dismiss alternative options while others believe they can almost work miracles? Is it simply a matter of educating doctors and patients? Are such therapies rigorously tested and regulated? The viewpoints in this resource explore the potential benefits and dangers of alternative therapies, providing readers with provocative questions to consider.","English",28.3,22.64,"610--dc23","120 pp.","https://greenhavenpublishing.com/978-1-5345-0479-0",{"$f":"Table1[[#This Row],['# of Books]]*Table1[[#This Row],[QTY]]","v":0},{"$f":"Table1[[#This Row],[QTY]]*Table1[[#This Row],[School & Library Price]]","v":0}]
[null,9,16,null,null,"Current Issues","Introducing Issues with Opposing Viewpoints","Witch Hunt or Justice?: Accusations Against Public Figures","978-1-5345-0426-4",{"$f":"HYPERLINK(Table1[[#This Row],[Hyperlink]],\"Weblink\")","v":"Weblink"},"Greenhaven Publishing","Library Bound Book",1,"2019","January 2019","Library","6.500 X 9.250","Edited by","M. M. Eboch",null,null,null,null,"Z",null,"Grade 7 - 10","Grade 7 - 12","Perhaps more than any other time in history, it is easy to be heard. This includes speaking out against people in the public eye. But is going straight to the court of public opinion a fair and just way to punish someone? Do public figures have a right to certain protections? Is due process sacrificed when public figures are accused so publicly? Perhaps more importantly, is the severity of the punishment ultimately diminished as a result? Diverse perspectives approach this relatively new phenomenon from a number of angles.","English",42,33.6,"303.3/8--dc23","120 pp.","https://greenhavenpublishing.com/978-1-5345-0426-4",{"$f":"Table1[[#This Row],['# of Books]]*Table1[[#This Row],[QTY]]","v":0},{"$f":"Table1[[#This Row],[QTY]]*Table1[[#This Row],[School & Library Price]]","v":0}]
[null,9,16,null,null,"Current Issues","Introducing Issues with Opposing Viewpoints","Witch Hunt or Justice?: Accusations Against Public Figures","978-1-5345-0489-9",{"$f":"HYPERLINK(Table1[[#This Row],[Hyperlink]],\"Weblink\")","v":"Weblink"},"Greenhaven Publishing","Paperback Book",1,"2019","January 2019","Paperback","6.500 X 9.250","Edited by","M. M. Eboch",null,null,null,null,"Z",null,"Grade 7 - 10","Grade 7 - 12","Perhaps more than any other time in history, it is easy to be heard. This includes speaking out against people in the public eye. But is going straight to the court of public opinion a fair and just way to punish someone? Do public figures have a right to certain protections? Is due process sacrificed when public figures are accused so publicly? Perhaps more importantly, is the severity of the punishment ultimately diminished as a result? Diverse perspectives approach this relatively new phenomenon from a number of angles.","English",28.3,22.64,"303.3/8--dc23","120 pp.","https://greenhavenpublishing.com/978-1-5345-0489-9",{"$f":"Table1[[#This Row],['# of Books]]*Table1[[#This Row],[QTY]]","v":0},{"$f":"Table1[[#This Row],[QTY]]*Table1[[#This Row],[School & Library Price]]","v":0}]
[null,9,17,null,null,"Current Issues","Introducing Issues with Opposing Viewpoints","Charter Schools and School Vouchers","978-1-5345-0355-7",{"$f":"HYPERLINK(Table1[[#This Row],[Hyperlink]],\"Weblink\")","v":"Weblink"},"Greenhaven Publishing","Library Bound Book",1,"2019","August 2018","Library","6.500 X 9.250","Edited by","Pete Schauer",null,null,null,null,"Z",null,"Grade 7 - 10","Grade 7 - 12","In an attempt to correct the perceived failures of public schools came the notion of \"school choice.\" One solution is charter schools: independent, privately run but publicly funded schools that now enroll more than three million students across forty-three states. Another is vouchers, which allow parents to use state dollars at their school of choice. But evidence of vouchers' success is scant, and many argue that they violate the First Amendment. What happens to public school systems when tax dollars go instead to alternative choices? The viewpoints in this anthology examine the debates surrounding education for our future generations.","English",42,33.6,"379.1/11--dc23","120 pp.","https://greenhavenpublishing.com/978-1-5345-0355-7",{"$f":"Table1[[#This Row],['# of Books]]*Table1[[#This Row],[QTY]]","v":0},{"$f":"Table1[[#This Row],[QTY]]*Table1[[#This Row],[School & Library Price]]","v":0}]
[null,9,17,null,null,"Current Issues","Introducing Issues with Opposing Viewpoints","Charter Schools and School Vouchers","978-1-5345-0356-4",{"$f":"HYPERLINK(Table1[[#This Row],[Hyperlink]],\"Weblink\")","v":"Weblink"},"Greenhaven Publishing","Paperback Book",1,"2019","August 2018","Paperback","6.500 X 9.250","Edited by","Pete Schauer",null,null,null,null,"Z",null,"Grade 7 - 10","Grade 7 - 12","In an attempt to correct the perceived failures of public schools came the notion of \"school choice.\" One solution is charter schools: independent, privately run but publicly funded schools that now enroll more than three million students across forty-three states. Another is vouchers, which allow parents to use state dollars at their school of choice. But evidence of vouchers' success is scant, and many argue that they violate the First Amendment. What happens to public school systems when tax dollars go instead to alternative choices? The viewpoints in this anthology examine the debates surrounding education for our future generations.","English",28.3,22.64,"379.1/11--dc23","120 pp.","https://greenhavenpublishing.com/978-1-5345-0356-4",{"$f":"Table1[[#This Row],['# of Books]]*Table1[[#This Row],[QTY]]","v":0},{"$f":"Table1[[#This Row],[QTY]]*Table1[[#This Row],[School & Library Price]]","v":0}]
[null,9,17,null,null,"Current Issues","Introducing Issues with Opposing Viewpoints","Classified Intelligence and Leaks","978-1-5345-0357-1",{"$f":"HYPERLINK(Table1[[#This Row],[Hyperlink]],\"Weblink\")","v":"Weblink"},"Greenhaven Publishing","Library Bound Book",1,"2019","August 2018","Library","6.500 X 9.250","Edited by","Lisa Idzikowski",null,null,null,null,"Z",null,"Grade 7 - 10","Grade 7 - 12","Experts often disagree about how much and what kind of intelligence should be considered classified. In addition, there can be benefits to leaking intelligence, a practice that is done by insiders with some regularity. Do citizens have a right to know about all government activities, or is security of higher value? What happens when leaks affect the safety of journalists and diplomats around the world? Who decides when a leaker is a \"whistleblower\" or a \"traitor\"? Readers of this captivating volume will learn about the issue from a diverse array of viewpoints.","English",42,33.6,"352.3/79--dc23","120 pp.","https://greenhavenpublishing.com/978-1-5345-0357-1",{"$f":"Table1[[#This Row],['# of Books]]*Table1[[#This Row],[QTY]]","v":0},{"$f":"Table1[[#This Row],[QTY]]*Table1[[#This Row],[School & Library Price]]","v":0}]
[null,9,17,null,null,"Current Issues","Introducing Issues with Opposing Viewpoints","Classified Intelligence and Leaks","978-1-5345-0358-8",{"$f":"HYPERLINK(Table1[[#This Row],[Hyperlink]],\"Weblink\")","v":"Weblink"},"Greenhaven Publishing","Paperback Book",1,"2019","August 2018","Paperback","6.500 X 9.250","Edited by","Lisa Idzikowski",null,null,null,null,"Z",null,"Grade 7 - 10","Grade 7 - 12","Experts often disagree about how much and what kind of intelligence should be considered classified. In addition, there can be benefits to leaking intelligence, a practice that is done by insiders with some regularity. Do citizens have a right to know about all government activities, or is security of higher value? What happens when leaks affect the safety of journalists and diplomats around the world? Who decides when a leaker is a \"whistleblower\" or a \"traitor\"? Readers of this captivating volume will learn about the issue from a diverse array of viewpoints.","English",28.3,22.64,"352.3/79--dc23","120 pp.","https://greenhavenpublishing.com/978-1-5345-0358-8",{"$f":"Table1[[#This Row],['# of Books]]*Table1[[#This Row],[QTY]]","v":0},{"$f":"Table1[[#This Row],[QTY]]*Table1[[#This Row],[School & Library Price]]","v":0}]
[null,9,17,null,null,"Current Issues","Introducing Issues with Opposing Viewpoints","Commercial Space Exploration","978-1-5345-0359-5",{"$f":"HYPERLINK(Table1[[#This Row],[Hyperlink]],\"Weblink\")","v":"Weblink"},"Greenhaven Publishing","Library Bound Book",1,"2019","August 2018","Library","6.500 X 9.250","Edited by","M. M. Eboch",null,null,null,null,"Z",null,"Grade 7 - 10","Grade 7 - 12","Space missions were part of the mythology of the twentieth century. Today, space exploration has changed dramatically, including the exciting possibility of commercial space exploration. In this fascinating anthology, expert viewpoints explore the potential of space tourism, robot astronauts, and colonizing Mars. But is commercial space travel sustainable? Should average citizens take such risks to their personal safety? Is talk of commercial space exploration merely a gimmick, or is it the future? Experts disagree, but readers will be able to reach their own conclusions after reading the diverse opinions on the subject.","English",42,33.6,"338.0999--dc23","120 pp.","https://greenhavenpublishing.com/978-1-5345-0359-5",{"$f":"Table1[[#This Row],['# of Books]]*Table1[[#This Row],[QTY]]","v":0},{"$f":"Table1[[#This Row],[QTY]]*Table1[[#This Row],[School & Library Price]]","v":0}]
[null,9,17,null,null,"Current Issues","Introducing Issues with Opposing Viewpoints","Commercial Space Exploration","978-1-5345-0360-1",{"$f":"HYPERLINK(Table1[[#This Row],[Hyperlink]],\"Weblink\")","v":"Weblink"},"Greenhaven Publishing","Paperback Book",1,"2019","August 2018","Paperback","6.500 X 9.250","Edited by","M. M. Eboch",null,null,null,null,"Z",null,"Grade 7 - 10","Grade 7 - 12","Space missions were part of the mythology of the twentieth century. Today, space exploration has changed dramatically, including the exciting possibility of commercial space exploration. In this fascinating anthology, expert viewpoints explore the potential of space tourism, robot astronauts, and colonizing Mars. But is commercial space travel sustainable? Should average citizens take such risks to their personal safety? Is talk of commercial space exploration merely a gimmick, or is it the future? Experts disagree, but readers will be able to reach their own conclusions after reading the diverse opinions on the subject.","English",28.3,22.64,"338.0999--dc23","120 pp.","https://greenhavenpublishing.com/978-1-5345-0360-1",{"$f":"Table1[[#This Row],['# of Books]]*Table1[[#This Row],[QTY]]","v":0},{"$f":"Table1[[#This Row],[QTY]]*Table1[[#This Row],[School & Library Price]]","v":0}]
[null,9,18,null,null,"Current Issues","Introducing Issues with Opposing Viewpoints","Masculinity in the Twenty-First Century","978-1-5345-0361-8",{"$f":"HYPERLINK(Table1[[#This Row],[Hyperlink]],\"Weblink\")","v":"Weblink"},"Greenhaven Publishing","Library Bound Book",1,"2019","August 2018","Library","6.500 X 9.250","Edited by","M. M. Eboch",null,null,null,null,"Z",null,"Grade 7 - 10","Grade 7 - 12","As gender norms have changed over the decades, the definition of masculinity has evolved, leading to some confusion, unmet expectations, and an unknown future. Today's man can feel comfortable displaying emotion and empathy. Does this shift mean that the role of man is no longer dominant in our society? Is there an inevitable path to irrelevance? The diverging viewpoints in this thought-provoking resource will challenge readers' assumptions about gender roles and ask them to consider how those roles will evolve as the century progresses.","English",42,33.6,"305.31--dc23","120 pp.","https://greenhavenpublishing.com/978-1-5345-0361-8",{"$f":"Table1[[#This Row],['# of Books]]*Table1[[#This Row],[QTY]]","v":0},{"$f":"Table1[[#This Row],[QTY]]*Table1[[#This Row],[School & Library Price]]","v":0}]
[null,9,18,null,null,"Current Issues","Introducing Issues with Opposing Viewpoints","Masculinity in the Twenty-First Century","978-1-5345-0362-5",{"$f":"HYPERLINK(Table1[[#This Row],[Hyperlink]],\"Weblink\")","v":"Weblink"},"Greenhaven Publishing","Paperback Book",1,"2019","August 2018","Paperback","6.500 X 9.250","Edited by","M. M. Eboch",null,null,null,null,"Z",null,"Grade 7 - 10","Grade 7 - 12","As gender norms have changed over the decades, the definition of masculinity has evolved, leading to some confusion, unmet expectations, and an unknown future. Today's man can feel comfortable displaying emotion and empathy. Does this shift mean that the role of man is no longer dominant in our society? Is there an inevitable path to irrelevance? The diverging viewpoints in this thought-provoking resource will challenge readers' assumptions about gender roles and ask them to consider how those roles will evolve as the century progresses.","English",28.3,22.64,"305.31--dc23","120 pp.","https://greenhavenpublishing.com/978-1-5345-0362-5",{"$f":"Table1[[#This Row],['# of Books]]*Table1[[#This Row],[QTY]]","v":0},{"$f":"Table1[[#This Row],[QTY]]*Table1[[#This Row],[School & Library Price]]","v":0}]
[null,9,18,null,null,"Current Issues","Introducing Issues with Opposing Viewpoints","Self-Driving Cars","978-1-5345-0363-2",{"$f":"HYPERLINK(Table1[[#This Row],[Hyperlink]],\"Weblink\")","v":"Weblink"},"Greenhaven Publishing","Library Bound Book",1,"2019","August 2018","Library","6.500 X 9.250","Compiled by, Compiled by","Lisa Idzikowski, Pete Schauer",null,null,null,null,"Z",null,"Grade 7 - 10","Grade 7 - 12","Once they were the stuff of science fiction, but almost out of nowhere, self-driving cars have become a reality. Experts suggest that driverless cars will appear on our roads within five to twenty years, and Uber has already piloted a self-driving car program in select cities. Driverless cars are undoubtedly cool, but are they safe? Why do we need self-driving cars? Is it a case of technology creating a \"need,\" or will they actually provide a benefit to society? This fascinating and timely volume offers a diverse array of perspectives written by experts on this twenty-first-century subject.","English",42,33.6,"388.3/42--dc23","120 pp.","https://greenhavenpublishing.com/978-1-5345-0363-2",{"$f":"Table1[[#This Row],['# of Books]]*Table1[[#This Row],[QTY]]","v":0},{"$f":"Table1[[#This Row],[QTY]]*Table1[[#This Row],[School & Library Price]]","v":0}]
[null,9,18,null,null,"Current Issues","Introducing Issues with Opposing Viewpoints","Self-Driving Cars","978-1-5345-0364-9",{"$f":"HYPERLINK(Table1[[#This Row],[Hyperlink]],\"Weblink\")","v":"Weblink"},"Greenhaven Publishing","Paperback Book",1,"2019","August 2018","Paperback","6.500 X 9.250","Compiled by, Compiled by","Lisa Idzikowski, Pete Schauer",null,null,null,null,"Z",null,"Grade 7 - 10","Grade 7 - 12","Once they were the stuff of science fiction, but almost out of nowhere, self-driving cars have become a reality. Experts suggest that driverless cars will appear on our roads within five to twenty years, and Uber has already piloted a self-driving car program in select cities. Driverless cars are undoubtedly cool, but are they safe? Why do we need self-driving cars? Is it a case of technology creating a \"need,\" or will they actually provide a benefit to society? This fascinating and timely volume offers a diverse array of perspectives written by experts on this twenty-first-century subject.","English",28.3,22.64,"388.3/42--dc23","120 pp.","https://greenhavenpublishing.com/978-1-5345-0364-9",{"$f":"Table1[[#This Row],['# of Books]]*Table1[[#This Row],[QTY]]","v":0},{"$f":"Table1[[#This Row],[QTY]]*Table1[[#This Row],[School & Library Price]]","v":0}]
[null,9,18,null,null,"Current Issues","Introducing Issues with Opposing Viewpoints","Voting Rights and Voter ID Laws","978-1-5345-0365-6",{"$f":"HYPERLINK(Table1[[#This Row],[Hyperlink]],\"Weblink\")","v":"Weblink"},"Greenhaven Publishing","Library Bound Book",1,"2019","August 2018","Library","6.500 X 9.250","Edited by","M. M. Eboch",null,null,null,null,"Z",null,"Grade 7 - 10","Grade 7 - 12","In 1965, the Voting Rights Act ensured that Americans would no longer be denied the right to vote because of their color. Fifty years later, debates over voting rights have re-emerged. Proponents of stricter laws say they are simply attempting to reduce incidents of voter fraud. Critics argue that the proposed restrictions are discriminatory against minority and low-income voters, and rig the contests in favor of one party. The viewpoints in this important resource address the accomplishments of the 1965 Voting Rights Act, whom voting laws hurt, and whether or not the United States needs voting ID laws.","English",42,33.6,"342.73/072--dc23","120 pp.","https://greenhavenpublishing.com/978-1-5345-0365-6",{"$f":"Table1[[#This Row],['# of Books]]*Table1[[#This Row],[QTY]]","v":0},{"$f":"Table1[[#This Row],[QTY]]*Table1[[#This Row],[School & Library Price]]","v":0}]
[null,9,18,null,null,"Current Issues","Introducing Issues with Opposing Viewpoints","Voting Rights and Voter ID Laws","978-1-5345-0366-3",{"$f":"HYPERLINK(Table1[[#This Row],[Hyperlink]],\"Weblink\")","v":"Weblink"},"Greenhaven Publishing","Paperback Book",1,"2019","August 2018","Paperback","6.500 X 9.250","Edited by","M. M. Eboch",null,null,null,null,"Z",null,"Grade 7 - 10","Grade 7 - 12","In 1965, the Voting Rights Act ensured that Americans would no longer be denied the right to vote because of their color. Fifty years later, debates over voting rights have re-emerged. Proponents of stricter laws say they are simply attempting to reduce incidents of voter fraud. Critics argue that the proposed restrictions are discriminatory against minority and low-income voters, and rig the contests in favor of one party. The viewpoints in this important resource address the accomplishments of the 1965 Voting Rights Act, whom voting laws hurt, and whether or not the United States needs voting ID laws.","English",28.3,22.64,"342.73/072--dc23","120 pp.","https://greenhavenpublishing.com/978-1-5345-0366-3",{"$f":"Table1[[#This Row],['# of Books]]*Table1[[#This Row],[QTY]]","v":0},{"$f":"Table1[[#This Row],[QTY]]*Table1[[#This Row],[School & Library Price]]","v":0}]
[null,null,17,null,null,"Current Issues","Introducing Issues with Opposing Viewpoints","Data Mining","978-1-5345-0196-6",{"$f":"HYPERLINK(Table1[[#This Row],[Hyperlink]],\"Weblink\")","v":"Weblink"},"Greenhaven Publishing","Library Bound Book",1,"2018","January 2018","Library","6.500 X 9.250","Edited by","M. M. Eboch",null,null,null,null,"Z",null,"Grade 7 - 10","Grade 7 - 12","In this tech-obsessed day and age, there is no such thing as true security, unless you have no digital footprint whatsoever and live entirely off the grid. A smartphone, a laptop, an online shopping account, all of these things leave users vulnerable to data mining. The viewpoints in this resource debate data mining and whether it's a danger to society or, ultimately, a boon that will only help our technology-driven world grow more efficient. Readers will learn about the benefits of data mining as well as the pitfalls that come with security breaches.","English",42,33.6,"006.3/12--dc23","120 pp.","https://greenhavenpublishing.com/978-1-5345-0196-6",{"$f":"Table1[[#This Row],['# of Books]]*Table1[[#This Row],[QTY]]","v":0},{"$f":"Table1[[#This Row],[QTY]]*Table1[[#This Row],[School & Library Price]]","v":0}]
[null,null,17,null,null,"Current Issues","Introducing Issues with Opposing Viewpoints","Data Mining","978-1-5345-0277-2",{"$f":"HYPERLINK(Table1[[#This Row],[Hyperlink]],\"Weblink\")","v":"Weblink"},"Greenhaven Publishing","Paperback Book",1,"2018","January 2018","Paperback","6.500 X 9.250","Edited by","M. M. Eboch",null,null,null,null,"Z",null,"Grade 7 - 10","Grade 7 - 12","In this tech-obsessed day and age, there is no such thing as true security, unless you have no digital footprint whatsoever and live entirely off the grid. A smartphone, a laptop, an online shopping account, all of these things leave users vulnerable to data mining. The viewpoints in this resource debate data mining and whether it's a danger to society or, ultimately, a boon that will only help our technology-driven world grow more efficient. Readers will learn about the benefits of data mining as well as the pitfalls that come with security breaches.","English",28.3,22.64,"006.3/12--dc23","120 pp.","https://greenhavenpublishing.com/978-1-5345-0277-2",{"$f":"Table1[[#This Row],['# of Books]]*Table1[[#This Row],[QTY]]","v":0},{"$f":"Table1[[#This Row],[QTY]]*Table1[[#This Row],[School & Library Price]]","v":0}]
[null,null,18,null,null,"Current Issues","Introducing Issues with Opposing Viewpoints","Globalization and Free Trade","978-1-5345-0191-1",{"$f":"HYPERLINK(Table1[[#This Row],[Hyperlink]],\"Weblink\")","v":"Weblink"},"Greenhaven Publishing","Library Bound Book",1,"2018","January 2018","Library","6.500 X 9.250","Edited by","Lisa Idzikowski",null,null,null,null,"Z",null,"Grade 7 - 10","Grade 7 - 12","Where does the United States fit in the global marketplace? Just how much are we exporting to, and importing from, other nations, and shouldn't those goods and services be regulated? The viewpoints in this anthology introduce readers to the pros and cons of globalization and the pitfalls involved with free trade. Readers will learn about trade restrictions, taxes, and tariffs, as well as topics like foreign investments, outsourcing, and why it may be better to keep business interests and industry within U.S. borders.","English",42,33.6,"382/.71--dc23","120 pp.","https://greenhavenpublishing.com/978-1-5345-0191-1",{"$f":"Table1[[#This Row],['# of Books]]*Table1[[#This Row],[QTY]]","v":0},{"$f":"Table1[[#This Row],[QTY]]*Table1[[#This Row],[School & Library Price]]","v":0}]
[null,null,18,null,null,"Current Issues","Introducing Issues with Opposing Viewpoints","Globalization and Free Trade","978-1-5345-0273-4",{"$f":"HYPERLINK(Table1[[#This Row],[Hyperlink]],\"Weblink\")","v":"Weblink"},"Greenhaven Publishing","Paperback Book",1,"2018","January 2018","Paperback","6.500 X 9.250","Edited by","Lisa Idzikowski",null,null,null,null,"Z",null,"Grade 7 - 10","Grade 7 - 12","Where does the United States fit in the global marketplace? Just how much are we exporting to, and importing from, other nations, and shouldn't those goods and services be regulated? The viewpoints in this anthology introduce readers to the pros and cons of globalization and the pitfalls involved with free trade. Readers will learn about trade restrictions, taxes, and tariffs, as well as topics like foreign investments, outsourcing, and why it may be better to keep business interests and industry within U.S. borders.","English",28.3,22.64,"382/.71--dc23","120 pp.","https://greenhavenpublishing.com/978-1-5345-0273-4",{"$f":"Table1[[#This Row],['# of Books]]*Table1[[#This Row],[QTY]]","v":0},{"$f":"Table1[[#This Row],[QTY]]*Table1[[#This Row],[School & Library Price]]","v":0}]
[null,null,18,null,null,"Current Issues","Introducing Issues with Opposing Viewpoints","Internet Journalism and Fake News","978-1-5345-0195-9",{"$f":"HYPERLINK(Table1[[#This Row],[Hyperlink]],\"Weblink\")","v":"Weblink"},"Greenhaven Publishing","Library Bound Book",1,"2018","January 2018","Library","6.500 X 9.250","Edited by","Kathryn Roberts",null,null,null,null,"Z",null,"Grade 7 - 10","Grade 7 - 12","Blogs, Twitter, Facebook, Tumblr, Wikipedia...there are endless sources for information on the Internet. But who can you trust to give you the truth? The catch-all of \"fake news\" has journalists, politicians, and information junkies alike worried about integrity, veracity, and legitimate sourcing. This collection of authoritative but diverse viewpoints tackles what constitutes fake news, where the term originated, and how it is often used to further politicize the media. Readers will also find discussions of propaganda and whether information disseminated by the American government is the only \"real\" news.","English",42,33.6,"808/.06607--dc23","120 pp.","https://greenhavenpublishing.com/978-1-5345-0195-9",{"$f":"Table1[[#This Row],['# of Books]]*Table1[[#This Row],[QTY]]","v":0},{"$f":"Table1[[#This Row],[QTY]]*Table1[[#This Row],[School & Library Price]]","v":0}]
[null,null,18,null,null,"Current Issues","Introducing Issues with Opposing Viewpoints","Internet Journalism and Fake News","978-1-5345-0275-8",{"$f":"HYPERLINK(Table1[[#This Row],[Hyperlink]],\"Weblink\")","v":"Weblink"},"Greenhaven Publishing","Paperback Book",1,"2018","January 2018","Paperback","6.500 X 9.250","Edited by","Kathryn Roberts",null,null,null,null,"Z",null,"Grade 7 - 10","Grade 7 - 12","Blogs, Twitter, Facebook, Tumblr, Wikipedia...there are endless sources for information on the Internet. But who can you trust to give you the truth? The catch-all of \"fake news\" has journalists, politicians, and information junkies alike worried about integrity, veracity, and legitimate sourcing. This collection of authoritative but diverse viewpoints tackles what constitutes fake news, where the term originated, and how it is often used to further politicize the media. Readers will also find discussions of propaganda and whether information disseminated by the American government is the only \"real\" news.","English",28.3,22.64,"808/.06607--dc23","120 pp.","https://greenhavenpublishing.com/978-1-5345-0275-8",{"$f":"Table1[[#This Row],['# of Books]]*Table1[[#This Row],[QTY]]","v":0},{"$f":"Table1[[#This Row],[QTY]]*Table1[[#This Row],[School & Library Price]]","v":0}]
[null,null,18,null,null,"Current Issues","Introducing Issues with Opposing Viewpoints","Taxes and Society's Priorities","978-1-5345-0192-8",{"$f":"HYPERLINK(Table1[[#This Row],[Hyperlink]],\"Weblink\")","v":"Weblink"},"Greenhaven Publishing","Library Bound Book",1,"2018","January 2018","Library","6.500 X 9.250","Edited by","Caleb Bissinger",null,null,null,null,"Z",null,"Grade 7 - 10","Grade 7 - 12","The 45th President of the United States has admitted to not paying his full tax burden, so why should the average citizen fork over their hard-earned money? What purpose do taxes serve? Where does the money go? This collection discusses the history and details of taxation and how tax dollars fund everything from public schools to parks to improving infrastructure. Readers will get a sense of how society thrives through regular taxation. But they will also hear how taxation can trap hard-working Americans and hold them back.","English",42,33.6,"336.200973--dc23","120 pp.","https://greenhavenpublishing.com/978-1-5345-0192-8",{"$f":"Table1[[#This Row],['# of Books]]*Table1[[#This Row],[QTY]]","v":0},{"$f":"Table1[[#This Row],[QTY]]*Table1[[#This Row],[School & Library Price]]","v":0}]
[null,null,18,null,null,"Current Issues","Introducing Issues with Opposing Viewpoints","Taxes and Society's Priorities","978-1-5345-0276-5",{"$f":"HYPERLINK(Table1[[#This Row],[Hyperlink]],\"Weblink\")","v":"Weblink"},"Greenhaven Publishing","Paperback Book",1,"2018","January 2018","Paperback","6.500 X 9.250","Edited by","Caleb Bissinger",null,null,null,null,"Z",null,"Grade 7 - 10","Grade 7 - 12","The 45th President of the United States has admitted to not paying his full tax burden, so why should the average citizen fork over their hard-earned money? What purpose do taxes serve? Where does the money go? This collection discusses the history and details of taxation and how tax dollars fund everything from public schools to parks to improving infrastructure. Readers will get a sense of how society thrives through regular taxation. But they will also hear how taxation can trap hard-working Americans and hold them back.","English",28.3,22.64,"336.200973--dc23","120 pp.","https://greenhavenpublishing.com/978-1-5345-0276-5",{"$f":"Table1[[#This Row],['# of Books]]*Table1[[#This Row],[QTY]]","v":0},{"$f":"Table1[[#This Row],[QTY]]*Table1[[#This Row],[School & Library Price]]","v":0}]
[null,null,17,null,null,"Current Issues","Introducing Issues with Opposing Viewpoints","The Electoral College and the Popular Vote","978-1-5345-0193-5",{"$f":"HYPERLINK(Table1[[#This Row],[Hyperlink]],\"Weblink\")","v":"Weblink"},"Greenhaven Publishing","Library Bound Book",1,"2018","January 2018","Library","6.500 X 9.250","Edited by","Lisa Idzikowski",null,null,null,null,"Z",null,"Grade 7 - 10","Grade 7 - 12","What is the Electoral College, and do the American people really need it? Should the popular vote determine the winner in any given presidential election? This anthology examines the origin and purpose of the Electoral College and offers balanced arguments for and against its use in the general election process. Readers will see how the Electoral College and popular vote can function harmoniously together, as well as examples supporting the viewpoint that the system has broken down and doesn't reflect the popular will.","English",42,33.6,"324.6/3--dc23","120 pp.","https://greenhavenpublishing.com/978-1-5345-0193-5",{"$f":"Table1[[#This Row],['# of Books]]*Table1[[#This Row],[QTY]]","v":0},{"$f":"Table1[[#This Row],[QTY]]*Table1[[#This Row],[School & Library Price]]","v":0}]
[null,null,17,null,null,"Current Issues","Introducing Issues with Opposing Viewpoints","The Electoral College and the Popular Vote","978-1-5345-0274-1",{"$f":"HYPERLINK(Table1[[#This Row],[Hyperlink]],\"Weblink\")","v":"Weblink"},"Greenhaven Publishing","Paperback Book",1,"2018","January 2018","Paperback","6.500 X 9.250","Edited by","Lisa Idzikowski",null,null,null,null,"Z",null,"Grade 7 - 10","Grade 7 - 12","What is the Electoral College, and do the American people really need it? Should the popular vote determine the winner in any given presidential election? This anthology examines the origin and purpose of the Electoral College and offers balanced arguments for and against its use in the general election process. Readers will see how the Electoral College and popular vote can function harmoniously together, as well as examples supporting the viewpoint that the system has broken down and doesn't reflect the popular will.","English",28.3,22.64,"324.6/3--dc23","120 pp.","https://greenhavenpublishing.com/978-1-5345-0274-1",{"$f":"Table1[[#This Row],['# of Books]]*Table1[[#This Row],[QTY]]","v":0},{"$f":"Table1[[#This Row],[QTY]]*Table1[[#This Row],[School & Library Price]]","v":0}]
[null,null,18,null,null,"Current Issues","Introducing Issues with Opposing Viewpoints","The Next Mass Extinction","978-1-5345-0194-2",{"$f":"HYPERLINK(Table1[[#This Row],[Hyperlink]],\"Weblink\")","v":"Weblink"},"Greenhaven Publishing","Library Bound Book",1,"2018","January 2018","Library","6.500 X 9.250","Edited by","M. M. Eboch",null,null,null,null,"Z",null,"Grade 7 - 10","Grade 7 - 12","According to scientists, an asteroid wiped out the last of the dinosaurs approximately 66 million years ago. This is just the most recent major extinction event our planet has experienced. There have been at least five, along with numerous minor events, and more could be on the way. The voices in this balanced anthology discuss whether claims of mass extinction can really be substantiated, the impact of these events, when another large-scale extinction may occur, and whether humans would survive a cataclysmic event designed to reboot the Earth.","English",42,33.6,"304.2--dc23","120 pp.","https://greenhavenpublishing.com/978-1-5345-0194-2",{"$f":"Table1[[#This Row],['# of Books]]*Table1[[#This Row],[QTY]]","v":0},{"$f":"Table1[[#This Row],[QTY]]*Table1[[#This Row],[School & Library Price]]","v":0}]
[null,null,18,null,null,"Current Issues","Introducing Issues with Opposing Viewpoints","The Next Mass Extinction","978-1-5345-0278-9",{"$f":"HYPERLINK(Table1[[#This Row],[Hyperlink]],\"Weblink\")","v":"Weblink"},"Greenhaven Publishing","Paperback Book",1,"2018","January 2018","Paperback","6.500 X 9.250","Edited by","M. M. Eboch",null,null,null,null,"Z",null,"Grade 7 - 10","Grade 7 - 12","According to scientists, an asteroid wiped out the last of the dinosaurs approximately 66 million years ago. This is just the most recent major extinction event our planet has experienced. There have been at least five, along with numerous minor events, and more could be on the way. The voices in this balanced anthology discuss whether claims of mass extinction can really be substantiated, the impact of these events, when another large-scale extinction may occur, and whether humans would survive a cataclysmic event designed to reboot the Earth.","English",28.3,22.64,"304.2--dc23","120 pp.","https://greenhavenpublishing.com/978-1-5345-0278-9",{"$f":"Table1[[#This Row],['# of Books]]*Table1[[#This Row],[QTY]]","v":0},{"$f":"Table1[[#This Row],[QTY]]*Table1[[#This Row],[School & Library Price]]","v":0}]
[null,10,null,null,null,"Current Issues","At Issue","At Issue (Spring 2021)","978-1-5345-0746-3",{"$f":"HYPERLINK(Table1[[#This Row],[Hyperlink]],\"Weblink\")","v":"Weblink"},"Greenhaven Publishing","Library Set",5,"2021","January 2021","Library","6.000 X 9.000",null,null,null,null,null,null,null,null,"Grade 10 - 12","Grade 9 - 12","This analytical set provides a wide range of opinions on controversial subjects including nuclear anxiety, open borders, money laundering, and food security. Each volume includes primary and secondary sources from many perspectives and a variety of sources including journals, newspapers, books, websites, and government agencies. Features include: Curated selections of contemporary articles that guide students in considering all sides of controversial issues. Viewpoint introductions assist readers in understanding the key arguments made by each viewpoint. Volume introductions provide students with unbiased information about the topic's historical and political context.","English",197,157.6,null,"128 pp.","https://greenhavenpublishing.com/978-1-5345-0746-3",{"$f":"Table1[[#This Row],['# of Books]]*Table1[[#This Row],[QTY]]","v":0},{"$f":"Table1[[#This Row],[QTY]]*Table1[[#This Row],[School & Library Price]]","v":0}]
[null,10,null,null,null,"Current Issues","At Issue","At Issue (Spring 2021)","978-1-5345-0753-1",{"$f":"HYPERLINK(Table1[[#This Row],[Hyperlink]],\"Weblink\")","v":"Weblink"},"Greenhaven Publishing","Single Copy Set",5,"2021","January 2021","Paperback","6.000 X 9.000",null,null,null,null,null,null,null,null,"Grade 10 - 12","Grade 9 - 12","This analytical set provides a wide range of opinions on controversial subjects including nuclear anxiety, open borders, money laundering, and food security. Each volume includes primary and secondary sources from many perspectives and a variety of sources including journals, newspapers, books, websites, and government agencies. Features include: Curated selections of contemporary articles that guide students in considering all sides of controversial issues. Viewpoint introductions assist readers in understanding the key arguments made by each viewpoint. Volume introductions provide students with unbiased information about the topic's historical and political context.","English",139,111.2,null,"128 pp.","https://greenhavenpublishing.com/978-1-5345-0753-1",{"$f":"Table1[[#This Row],['# of Books]]*Table1[[#This Row],[QTY]]","v":0},{"$f":"Table1[[#This Row],[QTY]]*Table1[[#This Row],[School & Library Price]]","v":0}]
[null,10,null,null,null,"Current Issues","At Issue","Food Security","978-1-5345-0736-4",{"$f":"HYPERLINK(Table1[[#This Row],[Hyperlink]],\"Weblink\")","v":"Weblink"},"Greenhaven Publishing","Library Bound Book",1,"2021","January 2021","Library","6.000 X 9.000","Compiled by","Kathryn Roberts",null,null,null,null,"Z",null,"Grade 10 - 12","Grade 9 - 12","For a number of reasons, the global food supply is not as stable as it has been historically. The global population continues to grow, while catastrophic weather events like floods and droughts have an increasingly detrimental effect on crops around the world. Various political factors also impact food security, including violent conflicts within and between countries, trade wars and tariffs, and contentious decisions regarding which crops to subsidize. The viewpoints in this volume explore the causes of food insecurity around the world while also presenting potential solutions that could stabilize food supply at a local and global level.","English",39.4,31.52,"338.1/9--dc23","128 pp.","https://greenhavenpublishing.com/978-1-5345-0736-4",{"$f":"Table1[[#This Row],['# of Books]]*Table1[[#This Row],[QTY]]","v":0},{"$f":"Table1[[#This Row],[QTY]]*Table1[[#This Row],[School & Library Price]]","v":0}]
[null,10,null,null,null,"Current Issues","At Issue","Food Security","978-1-5345-0735-7",{"$f":"HYPERLINK(Table1[[#This Row],[Hyperlink]],\"Weblink\")","v":"Weblink"},"Greenhaven Publishing","Paperback Book",1,"2021","January 2021","Paperback","6.000 X 9.000","Compiled by","Kathryn Roberts",null,null,null,null,"Z",null,"Grade 10 - 12","Grade 9 - 12","For a number of reasons, the global food supply is not as stable as it has been historically. The global population continues to grow, while catastrophic weather events like floods and droughts have an increasingly detrimental effect on crops around the world. Various political factors also impact food security, including violent conflicts within and between countries, trade wars and tariffs, and contentious decisions regarding which crops to subsidize. The viewpoints in this volume explore the causes of food insecurity around the world while also presenting potential solutions that could stabilize food supply at a local and global level.","English",27.8,22.24,"338.1/9--dc23","128 pp.","https://greenhavenpublishing.com/978-1-5345-0735-7",{"$f":"Table1[[#This Row],['# of Books]]*Table1[[#This Row],[QTY]]","v":0},{"$f":"Table1[[#This Row],[QTY]]*Table1[[#This Row],[School & Library Price]]","v":0}]
[null,10,null,null,null,"Current Issues","At Issue","Food Security","978-1-5345-0737-1",{"$f":"HYPERLINK(Table1[[#This Row],[Hyperlink]],\"Weblink\")","v":"Weblink"},"Greenhaven Publishing","eBook",1,"2021","January 2021",null,null,"Compiled by","Kathryn Roberts",null,null,null,null,"Z",null,"Grade 10 - 12","Grade 9 - 12","For a number of reasons, the global food supply is not as stable as it has been historically. The global population continues to grow, while catastrophic weather events like floods and droughts have an increasingly detrimental effect on crops around the world. Various political factors also impact food security, including violent conflicts within and between countries, trade wars and tariffs, and contentious decisions regarding which crops to subsidize. The viewpoints in this volume explore the causes of food insecurity around the world while also presenting potential solutions that could stabilize food supply at a local and global level.","English",39.4,31.52,"338.1/9--dc23","128 pp.","https://greenhavenpublishing.com/978-1-5345-0737-1",{"$f":"Table1[[#This Row],['# of Books]]*Table1[[#This Row],[QTY]]","v":0},{"$f":"Table1[[#This Row],[QTY]]*Table1[[#This Row],[School & Library Price]]","v":0}]
[null,10,null,null,null,"Current Issues","At Issue","Genocide","978-1-5345-0727-2",{"$f":"HYPERLINK(Table1[[#This Row],[Hyperlink]],\"Weblink\")","v":"Weblink"},"Greenhaven Publishing","Library Bound Book",1,"2021","January 2021","Library","6.000 X 9.000","Compiled by","Barbara Krasner ",null,null,null,null,"Z",null,"Grade 10 - 12","Grade 9 - 12","In 1948, the United Nations established the Genocide Convention to legally define genocide as actions intended to destroy a particular group of people based on race, religion, ethnicity, and other defining characteristics. The goal was to prevent and punish future acts of genocide, but a number of mass killings have followed since its establishment, and in some situations whether these executions qualify as genocides is surprisingly unclear. The viewpoints in this volume explore what genocide is and isn't, and provide historical and contemporary examples of genocide. Readers will examine potential political and social solutions to prevent future genocides.","English",39.4,31.52,"364.15/1--dc23","128 pp.","https://greenhavenpublishing.com/978-1-5345-0727-2",{"$f":"Table1[[#This Row],['# of Books]]*Table1[[#This Row],[QTY]]","v":0},{"$f":"Table1[[#This Row],[QTY]]*Table1[[#This Row],[School & Library Price]]","v":0}]
[null,10,null,null,null,"Current Issues","At Issue","Genocide","978-1-5345-0726-5",{"$f":"HYPERLINK(Table1[[#This Row],[Hyperlink]],\"Weblink\")","v":"Weblink"},"Greenhaven Publishing","Paperback Book",1,"2021","January 2021","Paperback","6.000 X 9.000","Compiled by","Barbara Krasner ",null,null,null,null,"Z",null,"Grade 10 - 12","Grade 9 - 12","In 1948, the United Nations established the Genocide Convention to legally define genocide as actions intended to destroy a particular group of people based on race, religion, ethnicity, and other defining characteristics. The goal was to prevent and punish future acts of genocide, but a number of mass killings have followed since its establishment, and in some situations whether these executions qualify as genocides is surprisingly unclear. The viewpoints in this volume explore what genocide is and isn't, and provide historical and contemporary examples of genocide. Readers will examine potential political and social solutions to prevent future genocides.","English",27.8,22.24,"364.15/1--dc23","128 pp.","https://greenhavenpublishing.com/978-1-5345-0726-5",{"$f":"Table1[[#This Row],['# of Books]]*Table1[[#This Row],[QTY]]","v":0},{"$f":"Table1[[#This Row],[QTY]]*Table1[[#This Row],[School & Library Price]]","v":0}]
[null,10,null,null,null,"Current Issues","At Issue","Genocide","978-1-5345-0728-9",{"$f":"HYPERLINK(Table1[[#This Row],[Hyperlink]],\"Weblink\")","v":"Weblink"},"Greenhaven Publishing","eBook",1,"2021","January 2021",null,null,"Compiled by","Barbara Krasner ",null,null,null,null,"Z",null,"Grade 10 - 12","Grade 9 - 12","In 1948, the United Nations established the Genocide Convention to legally define genocide as actions intended to destroy a particular group of people based on race, religion, ethnicity, and other defining characteristics. The goal was to prevent and punish future acts of genocide, but a number of mass killings have followed since its establishment, and in some situations whether these executions qualify as genocides is surprisingly unclear. The viewpoints in this volume explore what genocide is and isn't, and provide historical and contemporary examples of genocide. Readers will examine potential political and social solutions to prevent future genocides.","English",39.4,31.52,"364.15/1--dc23","128 pp.","https://greenhavenpublishing.com/978-1-5345-0728-9",{"$f":"Table1[[#This Row],['# of Books]]*Table1[[#This Row],[QTY]]","v":0},{"$f":"Table1[[#This Row],[QTY]]*Table1[[#This Row],[School & Library Price]]","v":0}]
[null,10,null,null,null,"Current Issues","At Issue","Money Laundering","978-1-5345-0733-3",{"$f":"HYPERLINK(Table1[[#This Row],[Hyperlink]],\"Weblink\")","v":"Weblink"},"Greenhaven Publishing","Library Bound Book",1,"2021","January 2021","Library","6.000 X 9.000","Compiled by","Lisa Idzikowski",null,null,null,null,"Z",null,"Grade 10 - 12","Grade 9 - 12","When one thinks of money laundering, the first thing that might come to mind is its connection to organized crime, with gangs and drug cartels hiding away large amounts of illegally obtained cash. However, many other groups and individuals also partake in money laundering, including white-collar criminals, terrorists, and even politicians. The viewpoints in this book examine what money laundering is and how it occurs, what domestic and international efforts are in place to fight it, and how technology both aids and complicates these efforts.","English",39.4,31.52,"364.16/8--dc23","128 pp.","https://greenhavenpublishing.com/978-1-5345-0733-3",{"$f":"Table1[[#This Row],['# of Books]]*Table1[[#This Row],[QTY]]","v":0},{"$f":"Table1[[#This Row],[QTY]]*Table1[[#This Row],[School & Library Price]]","v":0}]
[null,10,null,null,null,"Current Issues","At Issue","Money Laundering","978-1-5345-0732-6",{"$f":"HYPERLINK(Table1[[#This Row],[Hyperlink]],\"Weblink\")","v":"Weblink"},"Greenhaven Publishing","Paperback Book",1,"2021","January 2021","Paperback","6.000 X 9.000","Compiled by","Lisa Idzikowski",null,null,null,null,"Z",null,"Grade 10 - 12","Grade 9 - 12","When one thinks of money laundering, the first thing that might come to mind is its connection to organized crime, with gangs and drug cartels hiding away large amounts of illegally obtained cash. However, many other groups and individuals also partake in money laundering, including white-collar criminals, terrorists, and even politicians. The viewpoints in this book examine what money laundering is and how it occurs, what domestic and international efforts are in place to fight it, and how technology both aids and complicates these efforts.","English",27.8,22.24,"364.16/8--dc23","128 pp.","https://greenhavenpublishing.com/978-1-5345-0732-6",{"$f":"Table1[[#This Row],['# of Books]]*Table1[[#This Row],[QTY]]","v":0},{"$f":"Table1[[#This Row],[QTY]]*Table1[[#This Row],[School & Library Price]]","v":0}]
[null,10,null,null,null,"Current Issues","At Issue","Money Laundering","978-1-5345-0734-0",{"$f":"HYPERLINK(Table1[[#This Row],[Hyperlink]],\"Weblink\")","v":"Weblink"},"Greenhaven Publishing","eBook",1,"2021","January 2021",null,null,"Compiled by","Lisa Idzikowski",null,null,null,null,"Z",null,"Grade 10 - 12","Grade 9 - 12","When one thinks of money laundering, the first thing that might come to mind is its connection to organized crime, with gangs and drug cartels hiding away large amounts of illegally obtained cash. However, many other groups and individuals also partake in money laundering, including white-collar criminals, terrorists, and even politicians. The viewpoints in this book examine what money laundering is and how it occurs, what domestic and international efforts are in place to fight it, and how technology both aids and complicates these efforts.","English",39.4,31.52,"364.16/8--dc23","128 pp.","https://greenhavenpublishing.com/978-1-5345-0734-0",{"$f":"Table1[[#This Row],['# of Books]]*Table1[[#This Row],[QTY]]","v":0},{"$f":"Table1[[#This Row],[QTY]]*Table1[[#This Row],[School & Library Price]]","v":0}]
[null,10,null,null,null,"Current Issues","At Issue","Nuclear Anxiety","978-1-5345-0742-5",{"$f":"HYPERLINK(Table1[[#This Row],[Hyperlink]],\"Weblink\")","v":"Weblink"},"Greenhaven Publishing","Library Bound Book",1,"2021","January 2021","Library","6.000 X 9.000","Compiled by","Haq Kamar",null,null,null,null,"Z",null,"Grade 10 - 12","Grade 9 - 12","For many, nuclear anxiety is closely related to the Cold War between the U.S. and U.S.S.R. Following the atomic bombings of Hiroshima and Nagasaki in World War II, the devastating potential of these weapons was all too clear, which led to significant anxiety among civilians, politicians, and military personnel over their use. Though the Cold War ended in 1991, anxieties surrounding nuclear armament remain, and the players involved in these nuclear standoffs have changed over recent decades. Your readers will explore the history and present status of nuclear weaponry, along with its social, political, and health impacts.","English",39.4,31.52,"152.4/6--dc23","128 pp.","https://greenhavenpublishing.com/978-1-5345-0742-5",{"$f":"Table1[[#This Row],['# of Books]]*Table1[[#This Row],[QTY]]","v":0},{"$f":"Table1[[#This Row],[QTY]]*Table1[[#This Row],[School & Library Price]]","v":0}]
[null,10,null,null,null,"Current Issues","At Issue","Nuclear Anxiety","978-1-5345-0741-8",{"$f":"HYPERLINK(Table1[[#This Row],[Hyperlink]],\"Weblink\")","v":"Weblink"},"Greenhaven Publishing","Paperback Book",1,"2021","January 2021","Paperback","6.000 X 9.000","Compiled by","Haq Kamar",null,null,null,null,"Z",null,"Grade 10 - 12","Grade 9 - 12","For many, nuclear anxiety is closely related to the Cold War between the U.S. and U.S.S.R. Following the atomic bombings of Hiroshima and Nagasaki in World War II, the devastating potential of these weapons was all too clear, which led to significant anxiety among civilians, politicians, and military personnel over their use. Though the Cold War ended in 1991, anxieties surrounding nuclear armament remain, and the players involved in these nuclear standoffs have changed over recent decades. Your readers will explore the history and present status of nuclear weaponry, along with its social, political, and health impacts.","English",27.8,22.24,"152.4/6--dc23","128 pp.","https://greenhavenpublishing.com/978-1-5345-0741-8",{"$f":"Table1[[#This Row],['# of Books]]*Table1[[#This Row],[QTY]]","v":0},{"$f":"Table1[[#This Row],[QTY]]*Table1[[#This Row],[School & Library Price]]","v":0}]
[null,10,null,null,null,"Current Issues","At Issue","Nuclear Anxiety","978-1-5345-0743-2",{"$f":"HYPERLINK(Table1[[#This Row],[Hyperlink]],\"Weblink\")","v":"Weblink"},"Greenhaven Publishing","eBook",1,"2021","January 2021",null,null,"Compiled by","Haq Kamar",null,null,null,null,"Z",null,"Grade 10 - 12","Grade 9 - 12","For many, nuclear anxiety is closely related to the Cold War between the U.S. and U.S.S.R. Following the atomic bombings of Hiroshima and Nagasaki in World War II, the devastating potential of these weapons was all too clear, which led to significant anxiety among civilians, politicians, and military personnel over their use. Though the Cold War ended in 1991, anxieties surrounding nuclear armament remain, and the players involved in these nuclear standoffs have changed over recent decades. Your readers will explore the history and present status of nuclear weaponry, along with its social, political, and health impacts.","English",39.4,31.52,"152.4/6--dc23","128 pp.","https://greenhavenpublishing.com/978-1-5345-0743-2",{"$f":"Table1[[#This Row],['# of Books]]*Table1[[#This Row],[QTY]]","v":0},{"$f":"Table1[[#This Row],[QTY]]*Table1[[#This Row],[School & Library Price]]","v":0}]
[null,10,null,null,null,"Current Issues","At Issue","Open Borders","978-1-5345-0739-5",{"$f":"HYPERLINK(Table1[[#This Row],[Hyperlink]],\"Weblink\")","v":"Weblink"},"Greenhaven Publishing","Library Bound Book",1,"2021","January 2021","Library","6.000 X 9.000","Compiled by","Andrew Karpan",null,null,null,null,"Z",null,"Grade 10 - 12","Grade 9 - 12","The term \"open borders\" refers to a policy of allowing free movement between countries without restrictions or border control. In an era characterized by the Brexit referendum and the Trump administration's policy of restricting immigration in the U.S., the prospect of borders being open may seem improbable. A number of politicians, policymakers, economists, and citizens assert that referendums and restrictions are the best way to address the economic and social issues that the international community faces today. This volume helps readers examine the issue of open borders from a variety of angles, examining its economic, social, political, moral, and legal aspects.","English",39.4,31.52,"304.8--dc23","128 pp.","https://greenhavenpublishing.com/978-1-5345-0739-5",{"$f":"Table1[[#This Row],['# of Books]]*Table1[[#This Row],[QTY]]","v":0},{"$f":"Table1[[#This Row],[QTY]]*Table1[[#This Row],[School & Library Price]]","v":0}]
[null,10,null,null,null,"Current Issues","At Issue","Open Borders","978-1-5345-0738-8",{"$f":"HYPERLINK(Table1[[#This Row],[Hyperlink]],\"Weblink\")","v":"Weblink"},"Greenhaven Publishing","Paperback Book",1,"2021","January 2021","Paperback","6.000 X 9.000","Compiled by","Andrew Karpan",null,null,null,null,"Z",null,"Grade 10 - 12","Grade 9 - 12","The term \"open borders\" refers to a policy of allowing free movement between countries without restrictions or border control. In an era characterized by the Brexit referendum and the Trump administration's policy of restricting immigration in the U.S., the prospect of borders being open may seem improbable. A number of politicians, policymakers, economists, and citizens assert that referendums and restrictions are the best way to address the economic and social issues that the international community faces today. This volume helps readers examine the issue of open borders from a variety of angles, examining its economic, social, political, moral, and legal aspects.","English",27.8,22.24,"304.8--dc23","128 pp.","https://greenhavenpublishing.com/978-1-5345-0738-8",{"$f":"Table1[[#This Row],['# of Books]]*Table1[[#This Row],[QTY]]","v":0},{"$f":"Table1[[#This Row],[QTY]]*Table1[[#This Row],[School & Library Price]]","v":0}]
[null,10,null,null,null,"Current Issues","At Issue","Open Borders","978-1-5345-0740-1",{"$f":"HYPERLINK(Table1[[#This Row],[Hyperlink]],\"Weblink\")","v":"Weblink"},"Greenhaven Publishing","eBook",1,"2021","January 2021",null,null,"Compiled by","Andrew Karpan",null,null,null,null,"Z",null,"Grade 10 - 12","Grade 9 - 12","The term \"open borders\" refers to a policy of allowing free movement between countries without restrictions or border control. In an era characterized by the Brexit referendum and the Trump administration's policy of restricting immigration in the U.S., the prospect of borders being open may seem improbable. A number of politicians, policymakers, economists, and citizens assert that referendums and restrictions are the best way to address the economic and social issues that the international community faces today. This volume helps readers examine the issue of open borders from a variety of angles, examining its economic, social, political, moral, and legal aspects.","English",39.4,31.52,"304.8--dc23","128 pp.","https://greenhavenpublishing.com/978-1-5345-0740-1",{"$f":"Table1[[#This Row],['# of Books]]*Table1[[#This Row],[QTY]]","v":0},{"$f":"Table1[[#This Row],[QTY]]*Table1[[#This Row],[School & Library Price]]","v":0}]
[null,null,19,null,null,"Current Issues","At Issue","At Issue (Spring 2020)","978-1-5345-0670-1",{"$f":"HYPERLINK(Table1[[#This Row],[Hyperlink]],\"Weblink\")","v":"Weblink"},"Greenhaven Publishing","Library Set",6,"2020","January 2020","Library","6.000 X 9.000",null,null,null,null,null,null,null,null,"Grade 10 - 12","Grade 9 - 12","This compelling set includes a wide range of opinions on a single controversial subject. Each volume includes primary and secondary sources from many perspectives and a variety of sources, including journals, newspapers, books, websites, government agencies, and others. Features include: Curated selections of contemporary articles guide students in considering all sides of controversial issues. Viewpoint introductions assist readers in understanding the key arguments made by each viewpoint. Volume introductions provide students with unbiased knowledge of the topic's historical and political context.","English",236.4,189.12,null,"128 pp.","https://greenhavenpublishing.com/978-1-5345-0670-1",{"$f":"Table1[[#This Row],['# of Books]]*Table1[[#This Row],[QTY]]","v":0},{"$f":"Table1[[#This Row],[QTY]]*Table1[[#This Row],[School & Library Price]]","v":0}]
[null,null,19,null,null,"Current Issues","At Issue","At Issue (Spring 2020)","978-1-5345-0675-6",{"$f":"HYPERLINK(Table1[[#This Row],[Hyperlink]],\"Weblink\")","v":"Weblink"},"Greenhaven Publishing","Single Copy Set",6,"2020","January 2020","Paperback","6.000 X 9.000",null,null,null,null,null,null,null,null,"Grade 10 - 12","Grade 9 - 12","This compelling set includes a wide range of opinions on a single controversial subject. Each volume includes primary and secondary sources from many perspectives and a variety of sources, including journals, newspapers, books, websites, government agencies, and others. Features include: Curated selections of contemporary articles guide students in considering all sides of controversial issues. Viewpoint introductions assist readers in understanding the key arguments made by each viewpoint. Volume introductions provide students with unbiased knowledge of the topic's historical and political context.","English",166.8,133.44,null,"128 pp.","https://greenhavenpublishing.com/978-1-5345-0675-6",{"$f":"Table1[[#This Row],['# of Books]]*Table1[[#This Row],[QTY]]","v":0},{"$f":"Table1[[#This Row],[QTY]]*Table1[[#This Row],[School & Library Price]]","v":0}]
[null,11,19,null,null,"Current Issues","At Issue","Athlete Activism","978-1-5345-0635-0",{"$f":"HYPERLINK(Table1[[#This Row],[Hyperlink]],\"Weblink\")","v":"Weblink"},"Greenhaven Publishing","Library Bound Book",1,"2020","January 2020","Library","6.000 X 9.000","Edited by","Gary Wiener",null,null,null,null,"Z",null,"Grade 10 - 12","Grade 9 - 12","While Colin Kaepernick's 2016 protests reignited the debate surrounding athletes and political activism, the relationship between the two is a longstanding tradition. The athletic field has long been a site for protests against racism, hosting key events in the fight for equality, such as legendary African American baseball player Jackie Robinson's 1947 induction into the MLB. Recent protests have expanded to issues like sexism, LGBT rights, and immigration, and have made use of social media and other modern developments. This volume examines the controversies surrounding athlete activism as well as its place in history and contemporary politics.","English",39.4,31.52,"306.4/83--dc23","128 pp.","https://greenhavenpublishing.com/978-1-5345-0635-0",{"$f":"Table1[[#This Row],['# of Books]]*Table1[[#This Row],[QTY]]","v":0},{"$f":"Table1[[#This Row],[QTY]]*Table1[[#This Row],[School & Library Price]]","v":0}]
[null,11,19,null,null,"Current Issues","At Issue","Athlete Activism","978-1-5345-0634-3",{"$f":"HYPERLINK(Table1[[#This Row],[Hyperlink]],\"Weblink\")","v":"Weblink"},"Greenhaven Publishing","Paperback Book",1,"2020","January 2020","Paperback","6.000 X 9.000","Edited by","Gary Wiener",null,null,null,null,"Z",null,"Grade 10 - 12","Grade 9 - 12","While Colin Kaepernick's 2016 protests reignited the debate surrounding athletes and political activism, the relationship between the two is a longstanding tradition. The athletic field has long been a site for protests against racism, hosting key events in the fight for equality, such as legendary African American baseball player Jackie Robinson's 1947 induction into the MLB. Recent protests have expanded to issues like sexism, LGBT rights, and immigration, and have made use of social media and other modern developments. This volume examines the controversies surrounding athlete activism as well as its place in history and contemporary politics.","English",27.8,22.24,"306.4/83--dc23","128 pp.","https://greenhavenpublishing.com/978-1-5345-0634-3",{"$f":"Table1[[#This Row],['# of Books]]*Table1[[#This Row],[QTY]]","v":0},{"$f":"Table1[[#This Row],[QTY]]*Table1[[#This Row],[School & Library Price]]","v":0}]
[null,11,19,null,null,"Current Issues","At Issue","Athlete Activism","978-1-5345-0636-7",{"$f":"HYPERLINK(Table1[[#This Row],[Hyperlink]],\"Weblink\")","v":"Weblink"},"Greenhaven Publishing","eBook",1,"2020","January 2020",null,null,"Edited by","Gary Wiener",null,null,null,null,"Z",null,"Grade 10 - 12","Grade 9 - 12","While Colin Kaepernick's 2016 protests reignited the debate surrounding athletes and political activism, the relationship between the two is a longstanding tradition. The athletic field has long been a site for protests against racism, hosting key events in the fight for equality, such as legendary African American baseball player Jackie Robinson's 1947 induction into the MLB. Recent protests have expanded to issues like sexism, LGBT rights, and immigration, and have made use of social media and other modern developments. This volume examines the controversies surrounding athlete activism as well as its place in history and contemporary politics.","English",39.4,31.52,"306.4/83--dc23","128 pp.","https://greenhavenpublishing.com/978-1-5345-0636-7",{"$f":"Table1[[#This Row],['# of Books]]*Table1[[#This Row],[QTY]]","v":0},{"$f":"Table1[[#This Row],[QTY]]*Table1[[#This Row],[School & Library Price]]","v":0}]
[null,11,19,null,null,"Current Issues","At Issue","Mob Rule or the Wisdom of the Crowd?","978-1-5345-0638-1",{"$f":"HYPERLINK(Table1[[#This Row],[Hyperlink]],\"Weblink\")","v":"Weblink"},"Greenhaven Publishing","Library Bound Book",1,"2020","January 2020","Library","6.000 X 9.000","Edited by","Lita Sorensen",null,null,null,null,"Z",null,"Grade 10 - 12","Grade 9 - 12","One of the tenets of democracy is that everyone has a voice in decision making and that the decisions made are what the majority wants. Many argue that wisdom of the crowd prevails in democracies, but are political decisions actually reached by a clear consensus, or does angry factionalism prevent this? Does irrational mob rule cause people to gang together and lash out against the opposition? Are the majority of citizens satisfied with the political situation? This volume explores whether political organization is possible without the force of mob rule, as well as how contemporary political events fit into this debate.","English",39.4,31.52,"658.4/036--dc23","128 pp.","https://greenhavenpublishing.com/978-1-5345-0638-1",{"$f":"Table1[[#This Row],['# of Books]]*Table1[[#This Row],[QTY]]","v":0},{"$f":"Table1[[#This Row],[QTY]]*Table1[[#This Row],[School & Library Price]]","v":0}]
[null,11,19,null,null,"Current Issues","At Issue","Mob Rule or the Wisdom of the Crowd?","978-1-5345-0637-4",{"$f":"HYPERLINK(Table1[[#This Row],[Hyperlink]],\"Weblink\")","v":"Weblink"},"Greenhaven Publishing","Paperback Book",1,"2020","January 2020","Paperback","6.000 X 9.000","Edited by","Lita Sorensen",null,null,null,null,"Z",null,"Grade 10 - 12","Grade 9 - 12","One of the tenets of democracy is that everyone has a voice in decision making and that the decisions made are what the majority wants. Many argue that wisdom of the crowd prevails in democracies, but are political decisions actually reached by a clear consensus, or does angry factionalism prevent this? Does irrational mob rule cause people to gang together and lash out against the opposition? Are the majority of citizens satisfied with the political situation? This volume explores whether political organization is possible without the force of mob rule, as well as how contemporary political events fit into this debate.","English",27.8,22.24,"658.4/036--dc23","128 pp.","https://greenhavenpublishing.com/978-1-5345-0637-4",{"$f":"Table1[[#This Row],['# of Books]]*Table1[[#This Row],[QTY]]","v":0},{"$f":"Table1[[#This Row],[QTY]]*Table1[[#This Row],[School & Library Price]]","v":0}]
[null,11,19,null,null,"Current Issues","At Issue","Mob Rule or the Wisdom of the Crowd?","978-1-5345-0639-8",{"$f":"HYPERLINK(Table1[[#This Row],[Hyperlink]],\"Weblink\")","v":"Weblink"},"Greenhaven Publishing","eBook",1,"2020","January 2020",null,null,"Edited by","Lita Sorensen",null,null,null,null,"Z",null,"Grade 10 - 12","Grade 9 - 12","One of the tenets of democracy is that everyone has a voice in decision making and that the decisions made are what the majority wants. Many argue that wisdom of the crowd prevails in democracies, but are political decisions actually reached by a clear consensus, or does angry factionalism prevent this? Does irrational mob rule cause people to gang together and lash out against the opposition? Are the majority of citizens satisfied with the political situation? This volume explores whether political organization is possible without the force of mob rule, as well as how contemporary political events fit into this debate.","English",39.4,31.52,"658.4/036--dc23","128 pp.","https://greenhavenpublishing.com/978-1-5345-0639-8",{"$f":"Table1[[#This Row],['# of Books]]*Table1[[#This Row],[QTY]]","v":0},{"$f":"Table1[[#This Row],[QTY]]*Table1[[#This Row],[School & Library Price]]","v":0}]
[null,11,19,null,null,"Current Issues","At Issue","Sexual Consent","978-1-5345-0632-9",{"$f":"HYPERLINK(Table1[[#This Row],[Hyperlink]],\"Weblink\")","v":"Weblink"},"Greenhaven Publishing","Library Bound Book",1,"2020","January 2020","Library","6.000 X 9.000","Edited by","Martin Gitlin",null,null,null,null,"Z",null,"Grade 10 - 12","Grade 9 - 12","For many years, \"no means no\" served as the standard for whether sexual consent is granted, but valid concerns have called for an expansion of this standard. Factors that could prevent someone from rejecting an unwanted advance include coercion and intoxication, making the concept of verbal consent muddy. The debate over whether this standard should be replaced and what should replace it has brought forth various possible solutions, with some arguing that only enthusiastic verbal consent will do, and others asserting that this expectation is unrealistic. Factors like age, positions of trust and authority, and mental and emotional conditions and disabilities also factor into the discussion. The well-balanced articles found here will provide your readers with an intelligent understanding of this topic.","English",39.4,31.52,"176/.4--dc23","128 pp.","https://greenhavenpublishing.com/978-1-5345-0632-9",{"$f":"Table1[[#This Row],['# of Books]]*Table1[[#This Row],[QTY]]","v":0},{"$f":"Table1[[#This Row],[QTY]]*Table1[[#This Row],[School & Library Price]]","v":0}]
[null,11,19,null,null,"Current Issues","At Issue","Sexual Consent","978-1-5345-0631-2",{"$f":"HYPERLINK(Table1[[#This Row],[Hyperlink]],\"Weblink\")","v":"Weblink"},"Greenhaven Publishing","Paperback Book",1,"2020","January 2020","Paperback","6.000 X 9.000","Edited by","Martin Gitlin",null,null,null,null,"Z",null,"Grade 10 - 12","Grade 9 - 12","For many years, \"no means no\" served as the standard for whether sexual consent is granted, but valid concerns have called for an expansion of this standard. Factors that could prevent someone from rejecting an unwanted advance include coercion and intoxication, making the concept of verbal consent muddy. The debate over whether this standard should be replaced and what should replace it has brought forth various possible solutions, with some arguing that only enthusiastic verbal consent will do, and others asserting that this expectation is unrealistic. Factors like age, positions of trust and authority, and mental and emotional conditions and disabilities also factor into the discussion. The well-balanced articles found here will provide your readers with an intelligent understanding of this topic.","English",27.8,22.24,"176/.4--dc23","128 pp.","https://greenhavenpublishing.com/978-1-5345-0631-2",{"$f":"Table1[[#This Row],['# of Books]]*Table1[[#This Row],[QTY]]","v":0},{"$f":"Table1[[#This Row],[QTY]]*Table1[[#This Row],[School & Library Price]]","v":0}]
[null,11,19,null,null,"Current Issues","At Issue","Sexual Consent","978-1-5345-0633-6",{"$f":"HYPERLINK(Table1[[#This Row],[Hyperlink]],\"Weblink\")","v":"Weblink"},"Greenhaven Publishing","eBook",1,"2020","January 2020",null,null,"Edited by","Martin Gitlin",null,null,null,null,"Z",null,"Grade 10 - 12","Grade 9 - 12","For many years, \"no means no\" served as the standard for whether sexual consent is granted, but valid concerns have called for an expansion of this standard. Factors that could prevent someone from rejecting an unwanted advance include coercion and intoxication, making the concept of verbal consent muddy. The debate over whether this standard should be replaced and what should replace it has brought forth various possible solutions, with some arguing that only enthusiastic verbal consent will do, and others asserting that this expectation is unrealistic. Factors like age, positions of trust and authority, and mental and emotional conditions and disabilities also factor into the discussion. The well-balanced articles found here will provide your readers with an intelligent understanding of this topic.","English",39.4,31.52,"176/.4--dc23","128 pp.","https://greenhavenpublishing.com/978-1-5345-0633-6",{"$f":"Table1[[#This Row],['# of Books]]*Table1[[#This Row],[QTY]]","v":0},{"$f":"Table1[[#This Row],[QTY]]*Table1[[#This Row],[School & Library Price]]","v":0}]
[null,11,19,null,null,"Current Issues","At Issue","Student Debt","978-1-5345-0623-7",{"$f":"HYPERLINK(Table1[[#This Row],[Hyperlink]],\"Weblink\")","v":"Weblink"},"Greenhaven Publishing","Library Bound Book",1,"2020","January 2020","Library","6.000 X 9.000","Edited by","Avery Elizabeth Hurt",null,null,null,null,"Z",null,"Grade 10 - 12","Grade 9 - 12","As of 2019, Americans owed over 1.56 trillion dollars in student loan debt, and 69 percent of college students who graduated in 2018 had to take out student loans. Student debt has increased significantly over the past twenty years, but what factors have brought this about? Are students to blame for making irresponsible financial decisions, or is the price of education rising disproportionately to average income? How do variables like class and race impact student debt? What impact do these debts have on individuals and the economy? This volume examines the nature of America's student debt crisis and explores possible solutions.","English",39.4,31.52,"378.3/8--dc23","128 pp.","https://greenhavenpublishing.com/978-1-5345-0623-7",{"$f":"Table1[[#This Row],['# of Books]]*Table1[[#This Row],[QTY]]","v":0},{"$f":"Table1[[#This Row],[QTY]]*Table1[[#This Row],[School & Library Price]]","v":0}]
[null,11,19,null,null,"Current Issues","At Issue","Student Debt","978-1-5345-0622-0",{"$f":"HYPERLINK(Table1[[#This Row],[Hyperlink]],\"Weblink\")","v":"Weblink"},"Greenhaven Publishing","Paperback Book",1,"2020","January 2020","Paperback","6.000 X 9.000","Edited by","Avery Elizabeth Hurt",null,null,null,null,"Z",null,"Grade 10 - 12","Grade 9 - 12","As of 2019, Americans owed over 1.56 trillion dollars in student loan debt, and 69 percent of college students who graduated in 2018 had to take out student loans. Student debt has increased significantly over the past twenty years, but what factors have brought this about? Are students to blame for making irresponsible financial decisions, or is the price of education rising disproportionately to average income? How do variables like class and race impact student debt? What impact do these debts have on individuals and the economy? This volume examines the nature of America's student debt crisis and explores possible solutions.","English",27.8,22.24,"378.3/8--dc23","128 pp.","https://greenhavenpublishing.com/978-1-5345-0622-0",{"$f":"Table1[[#This Row],['# of Books]]*Table1[[#This Row],[QTY]]","v":0},{"$f":"Table1[[#This Row],[QTY]]*Table1[[#This Row],[School & Library Price]]","v":0}]
[null,11,19,null,null,"Current Issues","At Issue","Student Debt","978-1-5345-0624-4",{"$f":"HYPERLINK(Table1[[#This Row],[Hyperlink]],\"Weblink\")","v":"Weblink"},"Greenhaven Publishing","eBook",1,"2020","January 2020",null,null,"Edited by","Avery Elizabeth Hurt",null,null,null,null,"Z",null,"Grade 10 - 12","Grade 9 - 12","As of 2019, Americans owed over 1.56 trillion dollars in student loan debt, and 69 percent of college students who graduated in 2018 had to take out student loans. Student debt has increased significantly over the past twenty years, but what factors have brought this about? Are students to blame for making irresponsible financial decisions, or is the price of education rising disproportionately to average income? How do variables like class and race impact student debt? What impact do these debts have on individuals and the economy? This volume examines the nature of America's student debt crisis and explores possible solutions.","English",39.4,31.52,"378.3/8--dc23","128 pp.","https://greenhavenpublishing.com/978-1-5345-0624-4",{"$f":"Table1[[#This Row],['# of Books]]*Table1[[#This Row],[QTY]]","v":0},{"$f":"Table1[[#This Row],[QTY]]*Table1[[#This Row],[School & Library Price]]","v":0}]
[null,11,19,null,null,"Current Issues","At Issue","Universal Health Care","978-1-5345-0626-8",{"$f":"HYPERLINK(Table1[[#This Row],[Hyperlink]],\"Weblink\")","v":"Weblink"},"Greenhaven Publishing","Library Bound Book",1,"2020","January 2020","Library","6.000 X 9.000","Edited by","Marcia Amidon Lusted",null,null,null,null,"Z",null,"Grade 10 - 12","Grade 9 - 12","Under universal health care, all residents of a country would be guaranteed care without incurring financial hardship, regardless of income. Out of the thirty-three countries that are considered developed, thirty-two have universal health care, with the United States being the exception. However, despite the widespread nature of universal health care, its implementation varies between countries. Additionally, despite its positive health impacts, the financial burden it places on governments is a major source of concern. This volume helps readers examine this issue through exploring economic, political, and health considerations, taking all sides of the debate into account.","English",39.4,31.52,"362.1/04250973--dc23","128 pp.","https://greenhavenpublishing.com/978-1-5345-0626-8",{"$f":"Table1[[#This Row],['# of Books]]*Table1[[#This Row],[QTY]]","v":0},{"$f":"Table1[[#This Row],[QTY]]*Table1[[#This Row],[School & Library Price]]","v":0}]
[null,11,19,null,null,"Current Issues","At Issue","Universal Health Care","978-1-5345-0625-1",{"$f":"HYPERLINK(Table1[[#This Row],[Hyperlink]],\"Weblink\")","v":"Weblink"},"Greenhaven Publishing","Paperback Book",1,"2020","January 2020","Paperback","6.000 X 9.000","Edited by","Marcia Amidon Lusted",null,null,null,null,"Z",null,"Grade 10 - 12","Grade 9 - 12","Under universal health care, all residents of a country would be guaranteed care without incurring financial hardship, regardless of income. Out of the thirty-three countries that are considered developed, thirty-two have universal health care, with the United States being the exception. However, despite the widespread nature of universal health care, its implementation varies between countries. Additionally, despite its positive health impacts, the financial burden it places on governments is a major source of concern. This volume helps readers examine this issue through exploring economic, political, and health considerations, taking all sides of the debate into account.","English",27.8,22.24,"362.1/04250973--dc23","128 pp.","https://greenhavenpublishing.com/978-1-5345-0625-1",{"$f":"Table1[[#This Row],['# of Books]]*Table1[[#This Row],[QTY]]","v":0},{"$f":"Table1[[#This Row],[QTY]]*Table1[[#This Row],[School & Library Price]]","v":0}]
[null,11,19,null,null,"Current Issues","At Issue","Universal Health Care","978-1-5345-0627-5",{"$f":"HYPERLINK(Table1[[#This Row],[Hyperlink]],\"Weblink\")","v":"Weblink"},"Greenhaven Publishing","eBook",1,"2020","January 2020",null,null,"Edited by","Marcia Amidon Lusted",null,null,null,null,"Z",null,"Grade 10 - 12","Grade 9 - 12","Under universal health care, all residents of a country would be guaranteed care without incurring financial hardship, regardless of income. Out of the thirty-three countries that are considered developed, thirty-two have universal health care, with the United States being the exception. However, despite the widespread nature of universal health care, its implementation varies between countries. Additionally, despite its positive health impacts, the financial burden it places on governments is a major source of concern. This volume helps readers examine this issue through exploring economic, political, and health considerations, taking all sides of the debate into account.","English",39.4,31.52,"362.1/04250973--dc23","128 pp.","https://greenhavenpublishing.com/978-1-5345-0627-5",{"$f":"Table1[[#This Row],['# of Books]]*Table1[[#This Row],[QTY]]","v":0},{"$f":"Table1[[#This Row],[QTY]]*Table1[[#This Row],[School & Library Price]]","v":0}]
[null,11,19,null,null,"Current Issues","At Issue","Vaccination","978-1-5345-0629-9",{"$f":"HYPERLINK(Table1[[#This Row],[Hyperlink]],\"Weblink\")","v":"Weblink"},"Greenhaven Publishing","Library Bound Book",1,"2020","January 2020","Library","6.000 X 9.000","Edited by","Lisa Idzikowski",null,null,null,null,"Z",null,"Grade 10 - 12","Grade 9 - 12","Give your readers a comprehensive resource that will allow them to form intelligent opinions on a perennial, hot-button topic. Since the smallpox vaccine was invented in 1796, vaccination has played an essential role in eradicating a number of diseases, including polio, measles, tetanus, and smallpox. Despite its effectiveness at preventing disease outbreaks, vaccination has been met with resistance. It has on rare occasions caused patients to become injured or ill, encouraging some to deduce that they are not worth the risk. Questions about whether vaccines are linked to autism also abound. While universal vaccination would help to eliminate diseases, the question of whether it violates individual liberty merits consideration. The prospective future of vaccination is also discussed.","English",39.4,31.52,"615.3/72--dc23","128 pp.","https://greenhavenpublishing.com/978-1-5345-0629-9",{"$f":"Table1[[#This Row],['# of Books]]*Table1[[#This Row],[QTY]]","v":0},{"$f":"Table1[[#This Row],[QTY]]*Table1[[#This Row],[School & Library Price]]","v":0}]
[null,11,19,null,null,"Current Issues","At Issue","Vaccination","978-1-5345-0628-2",{"$f":"HYPERLINK(Table1[[#This Row],[Hyperlink]],\"Weblink\")","v":"Weblink"},"Greenhaven Publishing","Paperback Book",1,"2020","January 2020","Paperback","6.000 X 9.000","Edited by","Lisa Idzikowski",null,null,null,null,"Z",null,"Grade 10 - 12","Grade 9 - 12","Give your readers a comprehensive resource that will allow them to form intelligent opinions on a perennial, hot-button topic. Since the smallpox vaccine was invented in 1796, vaccination has played an essential role in eradicating a number of diseases, including polio, measles, tetanus, and smallpox. Despite its effectiveness at preventing disease outbreaks, vaccination has been met with resistance. It has on rare occasions caused patients to become injured or ill, encouraging some to deduce that they are not worth the risk. Questions about whether vaccines are linked to autism also abound. While universal vaccination would help to eliminate diseases, the question of whether it violates individual liberty merits consideration. The prospective future of vaccination is also discussed.","English",27.8,22.24,"615.3/72--dc23","128 pp.","https://greenhavenpublishing.com/978-1-5345-0628-2",{"$f":"Table1[[#This Row],['# of Books]]*Table1[[#This Row],[QTY]]","v":0},{"$f":"Table1[[#This Row],[QTY]]*Table1[[#This Row],[School & Library Price]]","v":0}]
[null,11,19,null,null,"Current Issues","At Issue","Vaccination","978-1-5345-0630-5",{"$f":"HYPERLINK(Table1[[#This Row],[Hyperlink]],\"Weblink\")","v":"Weblink"},"Greenhaven Publishing","eBook",1,"2020","January 2020",null,null,"Edited by","Lisa Idzikowski",null,null,null,null,"Z",null,"Grade 10 - 12","Grade 9 - 12","Give your readers a comprehensive resource that will allow them to form intelligent opinions on a perennial, hot-button topic. Since the smallpox vaccine was invented in 1796, vaccination has played an essential role in eradicating a number of diseases, including polio, measles, tetanus, and smallpox. Despite its effectiveness at preventing disease outbreaks, vaccination has been met with resistance. It has on rare occasions caused patients to become injured or ill, encouraging some to deduce that they are not worth the risk. Questions about whether vaccines are linked to autism also abound. While universal vaccination would help to eliminate diseases, the question of whether it violates individual liberty merits consideration. The prospective future of vaccination is also discussed.","English",39.4,31.52,"615.3/72--dc23","128 pp.","https://greenhavenpublishing.com/978-1-5345-0630-5",{"$f":"Table1[[#This Row],['# of Books]]*Table1[[#This Row],[QTY]]","v":0},{"$f":"Table1[[#This Row],[QTY]]*Table1[[#This Row],[School & Library Price]]","v":0}]
[null,null,19,null,null,"Current Issues","At Issue","At Issue (Fall 2019)","978-1-5345-0578-0",{"$f":"HYPERLINK(Table1[[#This Row],[Hyperlink]],\"Weblink\")","v":"Weblink"},"Greenhaven Publishing","Library Set",6,"2020","August 2019","Library","6.000 X 9.000",null,null,null,null,null,null,null,null,"Grade 10 - 12","Grade 9 - 12","The At Issue series includes a wide range of opinions on a single controversial subject. Each volume includes primary and secondary sources from many perspectives and a variety of sources, including journals, newspapers, books, websites, government agencies, and others. Features include: Extensive bibliographies. Annotated lists of relevant organizations to contact offer a gateway to further research and independent study.","English",236.4,189.12,null,"128 pp.","https://greenhavenpublishing.com/978-1-5345-0578-0",{"$f":"Table1[[#This Row],['# of Books]]*Table1[[#This Row],[QTY]]","v":0},{"$f":"Table1[[#This Row],[QTY]]*Table1[[#This Row],[School & Library Price]]","v":0}]
[null,null,19,null,null,"Current Issues","At Issue","At Issue (Fall 2019)","978-1-5345-0583-4",{"$f":"HYPERLINK(Table1[[#This Row],[Hyperlink]],\"Weblink\")","v":"Weblink"},"Greenhaven Publishing","Single Copy Set",6,"2020","August 2019","Paperback","6.000 X 9.000",null,null,null,null,null,null,null,null,"Grade 10 - 12","Grade 9 - 12","The At Issue series includes a wide range of opinions on a single controversial subject. Each volume includes primary and secondary sources from many perspectives and a variety of sources, including journals, newspapers, books, websites, government agencies, and others. Features include: Extensive bibliographies. Annotated lists of relevant organizations to contact offer a gateway to further research and independent study.","English",166.8,133.44,null,"128 pp.","https://greenhavenpublishing.com/978-1-5345-0583-4",{"$f":"Table1[[#This Row],['# of Books]]*Table1[[#This Row],[QTY]]","v":0},{"$f":"Table1[[#This Row],[QTY]]*Table1[[#This Row],[School & Library Price]]","v":0}]
[null,11,19,null,null,"Current Issues","At Issue","Celebrities in Politics","978-1-5345-0518-6",{"$f":"HYPERLINK(Table1[[#This Row],[Hyperlink]],\"Weblink\")","v":"Weblink"},"Greenhaven Publishing","Library Bound Book",1,"2020","August 2019","Library","6.000 X 9.000","Edited by","Lisa Idzikowski",null,null,null,null,"Z",null,"Grade 10 - 12","Grade 9 - 12","From campaigning for politicians, to speaking out on political issues, to running for public office, celebrities around the world have long played an active role in politics. Their presence in the public sphere often helps them make this leap, but is the fact that we recognize their names and faces enough to make them trustworthy political figures? The diverse viewpoints in this volume explore what role celebrities should play in politics, discuss the phenomenon of making the transition from celebrity to politician, and investigate the place of contemporary media culture in this pattern.","English",39.4,31.52,"306.2--dc23","128 pp.","https://greenhavenpublishing.com/978-1-5345-0518-6",{"$f":"Table1[[#This Row],['# of Books]]*Table1[[#This Row],[QTY]]","v":0},{"$f":"Table1[[#This Row],[QTY]]*Table1[[#This Row],[School & Library Price]]","v":0}]
[null,11,19,null,null,"Current Issues","At Issue","Celebrities in Politics","978-1-5345-0519-3",{"$f":"HYPERLINK(Table1[[#This Row],[Hyperlink]],\"Weblink\")","v":"Weblink"},"Greenhaven Publishing","Paperback Book",1,"2020","August 2019","Paperback","6.000 X 9.000","Edited by","Lisa Idzikowski",null,null,null,null,"Z",null,"Grade 10 - 12","Grade 9 - 12","From campaigning for politicians, to speaking out on political issues, to running for public office, celebrities around the world have long played an active role in politics. Their presence in the public sphere often helps them make this leap, but is the fact that we recognize their names and faces enough to make them trustworthy political figures? The diverse viewpoints in this volume explore what role celebrities should play in politics, discuss the phenomenon of making the transition from celebrity to politician, and investigate the place of contemporary media culture in this pattern.","English",27.8,22.24,"306.2--dc23","128 pp.","https://greenhavenpublishing.com/978-1-5345-0519-3",{"$f":"Table1[[#This Row],['# of Books]]*Table1[[#This Row],[QTY]]","v":0},{"$f":"Table1[[#This Row],[QTY]]*Table1[[#This Row],[School & Library Price]]","v":0}]
[null,11,19,null,null,"Current Issues","At Issue","Celebrities in Politics","978-1-5345-0520-9",{"$f":"HYPERLINK(Table1[[#This Row],[Hyperlink]],\"Weblink\")","v":"Weblink"},"Greenhaven Publishing","eBook",1,"2020","August 2019",null,null,"Edited by","Lisa Idzikowski",null,null,null,null,"Z",null,"Grade 10 - 12","Grade 9 - 12","From campaigning for politicians, to speaking out on political issues, to running for public office, celebrities around the world have long played an active role in politics. Their presence in the public sphere often helps them make this leap, but is the fact that we recognize their names and faces enough to make them trustworthy political figures? The diverse viewpoints in this volume explore what role celebrities should play in politics, discuss the phenomenon of making the transition from celebrity to politician, and investigate the place of contemporary media culture in this pattern.","English",39.4,31.52,"306.2--dc23","128 pp.","https://greenhavenpublishing.com/978-1-5345-0520-9",{"$f":"Table1[[#This Row],['# of Books]]*Table1[[#This Row],[QTY]]","v":0},{"$f":"Table1[[#This Row],[QTY]]*Table1[[#This Row],[School & Library Price]]","v":0}]
[null,11,19,null,null,"Current Issues","At Issue","Male Privilege","978-1-5345-0521-6",{"$f":"HYPERLINK(Table1[[#This Row],[Hyperlink]],\"Weblink\")","v":"Weblink"},"Greenhaven Publishing","Library Bound Book",1,"2020","August 2019","Library","6.000 X 9.000","Edited by","Anna Wenzel",null,null,null,null,"Z",null,"Grade 10 - 12","Grade 9 - 12","Male privilege refers to the sociological concept that men are automatically granted certain privileges and advantages in politics, society, and the workplace based entirely on their gender. Feminists and others concerned with perceived gender inequality hope to challenge the preconceived values and notions that enable male privilege and the inherently patriarchal nature of society. The viewpoints in this volume address the definition and history of male privilege, offer differing perspectives on whether it exists and how it may influence society, and propose solutions to help reduce gender inequality.","English",39.4,31.52,"305.31--dc23","128 pp.","https://greenhavenpublishing.com/978-1-5345-0521-6",{"$f":"Table1[[#This Row],['# of Books]]*Table1[[#This Row],[QTY]]","v":0},{"$f":"Table1[[#This Row],[QTY]]*Table1[[#This Row],[School & Library Price]]","v":0}]
[null,11,19,null,null,"Current Issues","At Issue","Male Privilege","978-1-5345-0522-3",{"$f":"HYPERLINK(Table1[[#This Row],[Hyperlink]],\"Weblink\")","v":"Weblink"},"Greenhaven Publishing","Paperback Book",1,"2020","August 2019","Paperback","6.000 X 9.000","Edited by","Anna Wenzel",null,null,null,null,"Z",null,"Grade 10 - 12","Grade 9 - 12","Male privilege refers to the sociological concept that men are automatically granted certain privileges and advantages in politics, society, and the workplace based entirely on their gender. Feminists and others concerned with perceived gender inequality hope to challenge the preconceived values and notions that enable male privilege and the inherently patriarchal nature of society. The viewpoints in this volume address the definition and history of male privilege, offer differing perspectives on whether it exists and how it may influence society, and propose solutions to help reduce gender inequality.","English",27.8,22.24,"305.31--dc23","128 pp.","https://greenhavenpublishing.com/978-1-5345-0522-3",{"$f":"Table1[[#This Row],['# of Books]]*Table1[[#This Row],[QTY]]","v":0},{"$f":"Table1[[#This Row],[QTY]]*Table1[[#This Row],[School & Library Price]]","v":0}]
[null,11,19,null,null,"Current Issues","At Issue","Male Privilege","978-1-5345-0523-0",{"$f":"HYPERLINK(Table1[[#This Row],[Hyperlink]],\"Weblink\")","v":"Weblink"},"Greenhaven Publishing","eBook",1,"2020","August 2019",null,null,"Edited by","Anna Wenzel",null,null,null,null,"Z",null,"Grade 10 - 12","Grade 9 - 12","Male privilege refers to the sociological concept that men are automatically granted certain privileges and advantages in politics, society, and the workplace based entirely on their gender. Feminists and others concerned with perceived gender inequality hope to challenge the preconceived values and notions that enable male privilege and the inherently patriarchal nature of society. The viewpoints in this volume address the definition and history of male privilege, offer differing perspectives on whether it exists and how it may influence society, and propose solutions to help reduce gender inequality.","English",39.4,31.52,"305.31--dc23","128 pp.","https://greenhavenpublishing.com/978-1-5345-0523-0",{"$f":"Table1[[#This Row],['# of Books]]*Table1[[#This Row],[QTY]]","v":0},{"$f":"Table1[[#This Row],[QTY]]*Table1[[#This Row],[School & Library Price]]","v":0}]
[null,11,19,null,null,"Current Issues","At Issue","Public Outrage and Protest","978-1-5345-0527-8",{"$f":"HYPERLINK(Table1[[#This Row],[Hyperlink]],\"Weblink\")","v":"Weblink"},"Greenhaven Publishing","Library Bound Book",1,"2020","August 2019","Library","6.000 X 9.000","Edited by","Eamon Doyle",null,null,null,null,"Z",null,"Grade 10 - 12","Grade 9 - 12","The United States has had an active history of public protest since colonial times, with the Boston Tea Party serving as an emblematic example to this day. Protest in the United States is often associated with its zenith in the 1960s, but demonstrations of public outrage continue to play a major role in contemporary America, with notable recent examples ranging from the Women's March to Black Lives Matter protests. Through this volume's dynamic viewpoints, readers will gain a better understanding of the history of public protest, its differing manifestations, and its efficacy in promoting political and social change.","English",39.4,31.52,"303.6--dc23","128 pp.","https://greenhavenpublishing.com/978-1-5345-0527-8",{"$f":"Table1[[#This Row],['# of Books]]*Table1[[#This Row],[QTY]]","v":0},{"$f":"Table1[[#This Row],[QTY]]*Table1[[#This Row],[School & Library Price]]","v":0}]
[null,11,19,null,null,"Current Issues","At Issue","Public Outrage and Protest","978-1-5345-0528-5",{"$f":"HYPERLINK(Table1[[#This Row],[Hyperlink]],\"Weblink\")","v":"Weblink"},"Greenhaven Publishing","Paperback Book",1,"2020","August 2019","Paperback","6.000 X 9.000","Edited by","Eamon Doyle",null,null,null,null,"Z",null,"Grade 10 - 12","Grade 9 - 12","The United States has had an active history of public protest since colonial times, with the Boston Tea Party serving as an emblematic example to this day. Protest in the United States is often associated with its zenith in the 1960s, but demonstrations of public outrage continue to play a major role in contemporary America, with notable recent examples ranging from the Women's March to Black Lives Matter protests. Through this volume's dynamic viewpoints, readers will gain a better understanding of the history of public protest, its differing manifestations, and its efficacy in promoting political and social change.","English",27.8,22.24,"303.6--dc23","128 pp.","https://greenhavenpublishing.com/978-1-5345-0528-5",{"$f":"Table1[[#This Row],['# of Books]]*Table1[[#This Row],[QTY]]","v":0},{"$f":"Table1[[#This Row],[QTY]]*Table1[[#This Row],[School & Library Price]]","v":0}]
[null,11,19,null,null,"Current Issues","At Issue","Public Outrage and Protest","978-1-5345-0529-2",{"$f":"HYPERLINK(Table1[[#This Row],[Hyperlink]],\"Weblink\")","v":"Weblink"},"Greenhaven Publishing","eBook",1,"2020","August 2019",null,null,"Edited by","Eamon Doyle",null,null,null,null,"Z",null,"Grade 10 - 12","Grade 9 - 12","The United States has had an active history of public protest since colonial times, with the Boston Tea Party serving as an emblematic example to this day. Protest in the United States is often associated with its zenith in the 1960s, but demonstrations of public outrage continue to play a major role in contemporary America, with notable recent examples ranging from the Women's March to Black Lives Matter protests. Through this volume's dynamic viewpoints, readers will gain a better understanding of the history of public protest, its differing manifestations, and its efficacy in promoting political and social change.","English",39.4,31.52,"303.6--dc23","128 pp.","https://greenhavenpublishing.com/978-1-5345-0529-2",{"$f":"Table1[[#This Row],['# of Books]]*Table1[[#This Row],[QTY]]","v":0},{"$f":"Table1[[#This Row],[QTY]]*Table1[[#This Row],[School & Library Price]]","v":0}]
[null,11,19,null,null,"Current Issues","At Issue","The Opioid Crisis","978-1-5345-0524-7",{"$f":"HYPERLINK(Table1[[#This Row],[Hyperlink]],\"Weblink\")","v":"Weblink"},"Greenhaven Publishing","Library Bound Book",1,"2020","August 2019","Library","6.000 X 9.000","Edited by","Sabine Cherenfant",null,null,null,null,"Z",null,"Grade 10 - 12","Grade 9 - 12","Opioids are pain relievers that include legal drugs like morphine, fentanyl, and oxycodone and illegal drugs like heroin. In 2017, the U.S. Department of Health and Human Services declared the opioid epidemic a public health crisis after 42,249 people in the United States died of opioid overdoses in 2016. Opioid prescription has been on the rise since the 1990s, when pharmaceutical companies asserted that the pain relievers were not addictive, though the tragic consequences have proven otherwise. This volume explores the history of the opioid crisis and solutions that have been proposed to fight this increasingly deadly epidemic.","English",39.4,31.52,"362.29/3--dc23","128 pp.","https://greenhavenpublishing.com/978-1-5345-0524-7",{"$f":"Table1[[#This Row],['# of Books]]*Table1[[#This Row],[QTY]]","v":0},{"$f":"Table1[[#This Row],[QTY]]*Table1[[#This Row],[School & Library Price]]","v":0}]
[null,11,19,null,null,"Current Issues","At Issue","The Opioid Crisis","978-1-5345-0525-4",{"$f":"HYPERLINK(Table1[[#This Row],[Hyperlink]],\"Weblink\")","v":"Weblink"},"Greenhaven Publishing","Paperback Book",1,"2020","August 2019","Paperback","6.000 X 9.000","Edited by","Sabine Cherenfant",null,null,null,null,"Z",null,"Grade 10 - 12","Grade 9 - 12","Opioids are pain relievers that include legal drugs like morphine, fentanyl, and oxycodone and illegal drugs like heroin. In 2017, the U.S. Department of Health and Human Services declared the opioid epidemic a public health crisis after 42,249 people in the United States died of opioid overdoses in 2016. Opioid prescription has been on the rise since the 1990s, when pharmaceutical companies asserted that the pain relievers were not addictive, though the tragic consequences have proven otherwise. This volume explores the history of the opioid crisis and solutions that have been proposed to fight this increasingly deadly epidemic.","English",27.8,22.24,"362.29/3--dc23","128 pp.","https://greenhavenpublishing.com/978-1-5345-0525-4",{"$f":"Table1[[#This Row],['# of Books]]*Table1[[#This Row],[QTY]]","v":0},{"$f":"Table1[[#This Row],[QTY]]*Table1[[#This Row],[School & Library Price]]","v":0}]
[null,11,19,null,null,"Current Issues","At Issue","The Opioid Crisis","978-1-5345-0526-1",{"$f":"HYPERLINK(Table1[[#This Row],[Hyperlink]],\"Weblink\")","v":"Weblink"},"Greenhaven Publishing","eBook",1,"2020","August 2019",null,null,"Edited by","Sabine Cherenfant",null,null,null,null,"Z",null,"Grade 10 - 12","Grade 9 - 12","Opioids are pain relievers that include legal drugs like morphine, fentanyl, and oxycodone and illegal drugs like heroin. In 2017, the U.S. Department of Health and Human Services declared the opioid epidemic a public health crisis after 42,249 people in the United States died of opioid overdoses in 2016. Opioid prescription has been on the rise since the 1990s, when pharmaceutical companies asserted that the pain relievers were not addictive, though the tragic consequences have proven otherwise. This volume explores the history of the opioid crisis and solutions that have been proposed to fight this increasingly deadly epidemic.","English",39.4,31.52,"362.29/3--dc23","128 pp.","https://greenhavenpublishing.com/978-1-5345-0526-1",{"$f":"Table1[[#This Row],['# of Books]]*Table1[[#This Row],[QTY]]","v":0},{"$f":"Table1[[#This Row],[QTY]]*Table1[[#This Row],[School & Library Price]]","v":0}]
[null,11,19,null,null,"Current Issues","At Issue","Vaping","978-1-5345-0512-4",{"$f":"HYPERLINK(Table1[[#This Row],[Hyperlink]],\"Weblink\")","v":"Weblink"},"Greenhaven Publishing","Library Bound Book",1,"2020","August 2019","Library","6.000 X 9.000","Edited by","Andrew Karpan",null,null,null,null,"Z",null,"Grade 10 - 12","Grade 9 - 12","Though first introduced in 2003, vaping's popularity has rapidly increased in recent years. Vaping involves the inhalation of aerosols and is generally considered safer than smoking tobacco, but little is currently known about its health impacts. Additionally, although evidence suggests that vaping can help curb tobacco smoking, there is also concern that it increases addiction among non-smokers, especially children and teenagers. This concern is exacerbated by marketing strategies for electronic cigarettes, which often seem targeted toward young people. The perspectives in this resource explore the facts that are currently available on vaping along with its relationship to addictive substances.","English",39.4,31.52,"362.29/6--dc23","128 pp.","https://greenhavenpublishing.com/978-1-5345-0512-4",{"$f":"Table1[[#This Row],['# of Books]]*Table1[[#This Row],[QTY]]","v":0},{"$f":"Table1[[#This Row],[QTY]]*Table1[[#This Row],[School & Library Price]]","v":0}]
[null,11,19,null,null,"Current Issues","At Issue","Vaping","978-1-5345-0513-1",{"$f":"HYPERLINK(Table1[[#This Row],[Hyperlink]],\"Weblink\")","v":"Weblink"},"Greenhaven Publishing","Paperback Book",1,"2020","August 2019","Paperback","6.000 X 9.000","Edited by","Andrew Karpan",null,null,null,null,"Z",null,"Grade 10 - 12","Grade 9 - 12","Though first introduced in 2003, vaping's popularity has rapidly increased in recent years. Vaping involves the inhalation of aerosols and is generally considered safer than smoking tobacco, but little is currently known about its health impacts. Additionally, although evidence suggests that vaping can help curb tobacco smoking, there is also concern that it increases addiction among non-smokers, especially children and teenagers. This concern is exacerbated by marketing strategies for electronic cigarettes, which often seem targeted toward young people. The perspectives in this resource explore the facts that are currently available on vaping along with its relationship to addictive substances.","English",27.8,22.24,"362.29/6--dc23","128 pp.","https://greenhavenpublishing.com/978-1-5345-0513-1",{"$f":"Table1[[#This Row],['# of Books]]*Table1[[#This Row],[QTY]]","v":0},{"$f":"Table1[[#This Row],[QTY]]*Table1[[#This Row],[School & Library Price]]","v":0}]
[null,11,19,null,null,"Current Issues","At Issue","Vaping","978-1-5345-0514-8",{"$f":"HYPERLINK(Table1[[#This Row],[Hyperlink]],\"Weblink\")","v":"Weblink"},"Greenhaven Publishing","eBook",1,"2020","August 2019",null,null,"Edited by","Andrew Karpan",null,null,null,null,"Z",null,"Grade 10 - 12","Grade 9 - 12","Though first introduced in 2003, vaping's popularity has rapidly increased in recent years. Vaping involves the inhalation of aerosols and is generally considered safer than smoking tobacco, but little is currently known about its health impacts. Additionally, although evidence suggests that vaping can help curb tobacco smoking, there is also concern that it increases addiction among non-smokers, especially children and teenagers. This concern is exacerbated by marketing strategies for electronic cigarettes, which often seem targeted toward young people. The perspectives in this resource explore the facts that are currently available on vaping along with its relationship to addictive substances.","English",39.4,31.52,"362.29/6--dc23","128 pp.","https://greenhavenpublishing.com/978-1-5345-0514-8",{"$f":"Table1[[#This Row],['# of Books]]*Table1[[#This Row],[QTY]]","v":0},{"$f":"Table1[[#This Row],[QTY]]*Table1[[#This Row],[School & Library Price]]","v":0}]
[null,11,19,null,null,"Current Issues","At Issue","Wrongful Conviction and Exoneration","978-1-5345-0515-5",{"$f":"HYPERLINK(Table1[[#This Row],[Hyperlink]],\"Weblink\")","v":"Weblink"},"Greenhaven Publishing","Library Bound Book",1,"2020","August 2019","Library","6.000 X 9.000","Edited by","Lisa Idzikowski",null,null,null,null,"Z",null,"Grade 10 - 12","Grade 9 - 12","Since 1989, there have been over 2,200 exonerations in the United States. These have resulted from a number of factors, including the discovery of new evidence, perjury, false identification, and bad forensic evidence. Even when an individual is exonerated, is it possible to compensate them for their loss of time and money? This volume looks at the issue from varying perspectives, exploring causes of wrongful convictions, ways to increase exonerations for those who were unjustly imprisoned, strategies to decrease the number of wrongful convictions going forward, and appropriate compensation for those who have lost years of their lives.","English",39.4,31.52,"345.73/0122--dc23","128 pp.","https://greenhavenpublishing.com/978-1-5345-0515-5",{"$f":"Table1[[#This Row],['# of Books]]*Table1[[#This Row],[QTY]]","v":0},{"$f":"Table1[[#This Row],[QTY]]*Table1[[#This Row],[School & Library Price]]","v":0}]
[null,11,19,null,null,"Current Issues","At Issue","Wrongful Conviction and Exoneration","978-1-5345-0516-2",{"$f":"HYPERLINK(Table1[[#This Row],[Hyperlink]],\"Weblink\")","v":"Weblink"},"Greenhaven Publishing","Paperback Book",1,"2020","August 2019","Paperback","6.000 X 9.000","Edited by","Lisa Idzikowski",null,null,null,null,"Z",null,"Grade 10 - 12","Grade 9 - 12","Since 1989, there have been over 2,200 exonerations in the United States. These have resulted from a number of factors, including the discovery of new evidence, perjury, false identification, and bad forensic evidence. Even when an individual is exonerated, is it possible to compensate them for their loss of time and money? This volume looks at the issue from varying perspectives, exploring causes of wrongful convictions, ways to increase exonerations for those who were unjustly imprisoned, strategies to decrease the number of wrongful convictions going forward, and appropriate compensation for those who have lost years of their lives.","English",27.8,22.24,"345.73/0122--dc23","128 pp.","https://greenhavenpublishing.com/978-1-5345-0516-2",{"$f":"Table1[[#This Row],['# of Books]]*Table1[[#This Row],[QTY]]","v":0},{"$f":"Table1[[#This Row],[QTY]]*Table1[[#This Row],[School & Library Price]]","v":0}]
[null,11,19,null,null,"Current Issues","At Issue","Wrongful Conviction and Exoneration","978-1-5345-0517-9",{"$f":"HYPERLINK(Table1[[#This Row],[Hyperlink]],\"Weblink\")","v":"Weblink"},"Greenhaven Publishing","eBook",1,"2020","August 2019",null,null,"Edited by","Lisa Idzikowski",null,null,null,null,"Z",null,"Grade 10 - 12","Grade 9 - 12","Since 1989, there have been over 2,200 exonerations in the United States. These have resulted from a number of factors, including the discovery of new evidence, perjury, false identification, and bad forensic evidence. Even when an individual is exonerated, is it possible to compensate them for their loss of time and money? This volume looks at the issue from varying perspectives, exploring causes of wrongful convictions, ways to increase exonerations for those who were unjustly imprisoned, strategies to decrease the number of wrongful convictions going forward, and appropriate compensation for those who have lost years of their lives.","English",39.4,31.52,"345.73/0122--dc23","128 pp.","https://greenhavenpublishing.com/978-1-5345-0517-9",{"$f":"Table1[[#This Row],['# of Books]]*Table1[[#This Row],[QTY]]","v":0},{"$f":"Table1[[#This Row],[QTY]]*Table1[[#This Row],[School & Library Price]]","v":0}]
[null,11,19,null,null,"Current Issues","At Issue","America's Infrastructure","978-1-5345-0416-5",{"$f":"HYPERLINK(Table1[[#This Row],[Hyperlink]],\"Weblink\")","v":"Weblink"},"Greenhaven Publishing","Library Bound Book",1,"2019","January 2019","Library","6.000 X 9.000","Edited by","Lisa Idzikowski",null,null,null,null,"Z",null,"Grade 10 - 12","Grade 9 - 12","Engineers argue that inadequate maintenance of roads, bridges, airports, waterways, and other critical aspects of infrastructure along with underinvestment have created an infrastructure crisis in the United States. Many politicians agree with this claim and are attempting to take action. However, we are faced with the issue of which projects are most essential and how to fund them. Is the state of America's infrastructure that dire compared to the rest of the world? Are these efforts to improve it a cynical ploy from politicians to gain attention and ensure reelection? This volume considers the many perspectives of this pressing issue.","English",39.4,31.52,"363.60973--dc23","128 pp.","https://greenhavenpublishing.com/978-1-5345-0416-5",{"$f":"Table1[[#This Row],['# of Books]]*Table1[[#This Row],[QTY]]","v":0},{"$f":"Table1[[#This Row],[QTY]]*Table1[[#This Row],[School & Library Price]]","v":0}]
[null,11,19,null,null,"Current Issues","At Issue","America's Infrastructure","978-1-5345-0443-1",{"$f":"HYPERLINK(Table1[[#This Row],[Hyperlink]],\"Weblink\")","v":"Weblink"},"Greenhaven Publishing","Paperback Book",1,"2019","January 2019","Paperback","6.000 X 9.000","Edited by","Lisa Idzikowski",null,null,null,null,"Z",null,"Grade 10 - 12","Grade 9 - 12","Engineers argue that inadequate maintenance of roads, bridges, airports, waterways, and other critical aspects of infrastructure along with underinvestment have created an infrastructure crisis in the United States. Many politicians agree with this claim and are attempting to take action. However, we are faced with the issue of which projects are most essential and how to fund them. Is the state of America's infrastructure that dire compared to the rest of the world? Are these efforts to improve it a cynical ploy from politicians to gain attention and ensure reelection? This volume considers the many perspectives of this pressing issue.","English",27.8,22.24,"363.60973--dc23","128 pp.","https://greenhavenpublishing.com/978-1-5345-0443-1",{"$f":"Table1[[#This Row],['# of Books]]*Table1[[#This Row],[QTY]]","v":0},{"$f":"Table1[[#This Row],[QTY]]*Table1[[#This Row],[School & Library Price]]","v":0}]
[null,11,19,null,null,"Current Issues","At Issue","America's Infrastructure","978-1-5345-0409-7",{"$f":"HYPERLINK(Table1[[#This Row],[Hyperlink]],\"Weblink\")","v":"Weblink"},"Greenhaven Publishing","eBook",1,"2019","January 2019",null,null,"Edited by","Lisa Idzikowski",null,null,null,null,"Z",null,"Grade 10 - 12","Grade 9 - 12","Engineers argue that inadequate maintenance of roads, bridges, airports, waterways, and other critical aspects of infrastructure along with underinvestment have created an infrastructure crisis in the United States. Many politicians agree with this claim and are attempting to take action. However, we are faced with the issue of which projects are most essential and how to fund them. Is the state of America's infrastructure that dire compared to the rest of the world? Are these efforts to improve it a cynical ploy from politicians to gain attention and ensure reelection? This volume considers the many perspectives of this pressing issue.","English",39.4,31.52,"363.60973--dc23","128 pp.","https://greenhavenpublishing.com/978-1-5345-0409-7",{"$f":"Table1[[#This Row],['# of Books]]*Table1[[#This Row],[QTY]]","v":0},{"$f":"Table1[[#This Row],[QTY]]*Table1[[#This Row],[School & Library Price]]","v":0}]
[null,11,19,null,null,"Current Issues","At Issue","Ethical Pet Ownership: Puppy Mills, Rescue Pets, and Exotic Animal Trade","978-1-5345-0379-3",{"$f":"HYPERLINK(Table1[[#This Row],[Hyperlink]],\"Weblink\")","v":"Weblink"},"Greenhaven Publishing","Library Bound Book",1,"2019","January 2019","Library","6.000 X 9.000","Edited by","Lisa Idzikowski",null,null,null,null,"Z","1320L","Grade 10 - 12","Grade 9 - 12","As of 2017, 55 percent of American households included at least one pet. Pets are ubiquitous and often considered part of the family, but are they content in a domestic setting? Is there a way for us to tell if we are giving pets a suitable standard of living? Many factors must be considered when looking at the ethics of pet ownership, including what rights animals should possess, where the animals come from, and what species of animals should be kept as pets. Readers will gain a better understanding of the many ethical considerations surrounding pet ownership.","English",39.4,31.52,"636.088/7--dc23","128 pp.","https://greenhavenpublishing.com/978-1-5345-0379-3",{"$f":"Table1[[#This Row],['# of Books]]*Table1[[#This Row],[QTY]]","v":0},{"$f":"Table1[[#This Row],[QTY]]*Table1[[#This Row],[School & Library Price]]","v":0}]
[null,11,19,null,null,"Current Issues","At Issue","Ethical Pet Ownership: Puppy Mills, Rescue Pets, and Exotic Animal Trade","978-1-5345-0445-5",{"$f":"HYPERLINK(Table1[[#This Row],[Hyperlink]],\"Weblink\")","v":"Weblink"},"Greenhaven Publishing","Paperback Book",1,"2019","January 2019","Paperback","6.000 X 9.000","Edited by","Lisa Idzikowski",null,null,null,null,"Z","1320L","Grade 10 - 12","Grade 9 - 12","As of 2017, 55 percent of American households included at least one pet. Pets are ubiquitous and often considered part of the family, but are they content in a domestic setting? Is there a way for us to tell if we are giving pets a suitable standard of living? Many factors must be considered when looking at the ethics of pet ownership, including what rights animals should possess, where the animals come from, and what species of animals should be kept as pets. Readers will gain a better understanding of the many ethical considerations surrounding pet ownership.","English",27.8,22.24,"636.088/7--dc23","128 pp.","https://greenhavenpublishing.com/978-1-5345-0445-5",{"$f":"Table1[[#This Row],['# of Books]]*Table1[[#This Row],[QTY]]","v":0},{"$f":"Table1[[#This Row],[QTY]]*Table1[[#This Row],[School & Library Price]]","v":0}]
[null,11,19,null,null,"Current Issues","At Issue","Ethical Pet Ownership: Puppy Mills, Rescue Pets, and Exotic Animal Trade","978-1-5345-0394-6",{"$f":"HYPERLINK(Table1[[#This Row],[Hyperlink]],\"Weblink\")","v":"Weblink"},"Greenhaven Publishing","eBook",1,"2019","January 2019",null,null,"Edited by","Lisa Idzikowski",null,null,null,null,"Z","1320L","Grade 10 - 12","Grade 9 - 12","As of 2017, 55 percent of American households included at least one pet. Pets are ubiquitous and often considered part of the family, but are they content in a domestic setting? Is there a way for us to tell if we are giving pets a suitable standard of living? Many factors must be considered when looking at the ethics of pet ownership, including what rights animals should possess, where the animals come from, and what species of animals should be kept as pets. Readers will gain a better understanding of the many ethical considerations surrounding pet ownership.","English",39.4,31.52,"636.088/7--dc23","128 pp.","https://greenhavenpublishing.com/978-1-5345-0394-6",{"$f":"Table1[[#This Row],['# of Books]]*Table1[[#This Row],[QTY]]","v":0},{"$f":"Table1[[#This Row],[QTY]]*Table1[[#This Row],[School & Library Price]]","v":0}]
[null,11,19,null,null,"Current Issues","At Issue","Political Corruption","978-1-5345-0380-9",{"$f":"HYPERLINK(Table1[[#This Row],[Hyperlink]],\"Weblink\")","v":"Weblink"},"Greenhaven Publishing","Library Bound Book",1,"2019","January 2019","Library","6.000 X 9.000","Edited by","Eileen Lucas",null,null,null,null,"Z",null,"Grade 10 - 12","Grade 9 - 12","When politicians use their political power to privately benefit in an illegitimate manner, it is considered a fundamental threat to democracy. However, political corruption takes many forms, including bribery, extortion, influence peddling, and facilitating criminal enterprises. Additionally, there are certain cases that come across as ethically ambiguous: should campaign donations be considered a form of bribery? How can we prevent them from operating as a bribe? This volume looks at political corruption in the United States and beyond, exploring the factors that contribute to a culture of corruption and the possible means of combatting it.","English",39.4,31.52,"364.1/3230973--dc23","128 pp.","https://greenhavenpublishing.com/978-1-5345-0380-9",{"$f":"Table1[[#This Row],['# of Books]]*Table1[[#This Row],[QTY]]","v":0},{"$f":"Table1[[#This Row],[QTY]]*Table1[[#This Row],[School & Library Price]]","v":0}]
[null,11,19,null,null,"Current Issues","At Issue","Political Corruption","978-1-5345-0447-9",{"$f":"HYPERLINK(Table1[[#This Row],[Hyperlink]],\"Weblink\")","v":"Weblink"},"Greenhaven Publishing","Paperback Book",1,"2019","January 2019","Paperback","6.000 X 9.000","Edited by","Eileen Lucas",null,null,null,null,"Z",null,"Grade 10 - 12","Grade 9 - 12","When politicians use their political power to privately benefit in an illegitimate manner, it is considered a fundamental threat to democracy. However, political corruption takes many forms, including bribery, extortion, influence peddling, and facilitating criminal enterprises. Additionally, there are certain cases that come across as ethically ambiguous: should campaign donations be considered a form of bribery? How can we prevent them from operating as a bribe? This volume looks at political corruption in the United States and beyond, exploring the factors that contribute to a culture of corruption and the possible means of combatting it.","English",27.8,22.24,"364.1/3230973--dc23","128 pp.","https://greenhavenpublishing.com/978-1-5345-0447-9",{"$f":"Table1[[#This Row],['# of Books]]*Table1[[#This Row],[QTY]]","v":0},{"$f":"Table1[[#This Row],[QTY]]*Table1[[#This Row],[School & Library Price]]","v":0}]
[null,11,19,null,null,"Current Issues","At Issue","Political Corruption","978-1-5345-0395-3",{"$f":"HYPERLINK(Table1[[#This Row],[Hyperlink]],\"Weblink\")","v":"Weblink"},"Greenhaven Publishing","eBook",1,"2019","January 2019",null,null,"Edited by","Eileen Lucas",null,null,null,null,"Z",null,"Grade 10 - 12","Grade 9 - 12","When politicians use their political power to privately benefit in an illegitimate manner, it is considered a fundamental threat to democracy. However, political corruption takes many forms, including bribery, extortion, influence peddling, and facilitating criminal enterprises. Additionally, there are certain cases that come across as ethically ambiguous: should campaign donations be considered a form of bribery? How can we prevent them from operating as a bribe? This volume looks at political corruption in the United States and beyond, exploring the factors that contribute to a culture of corruption and the possible means of combatting it.","English",39.4,31.52,"364.1/3230973--dc23","128 pp.","https://greenhavenpublishing.com/978-1-5345-0395-3",{"$f":"Table1[[#This Row],['# of Books]]*Table1[[#This Row],[QTY]]","v":0},{"$f":"Table1[[#This Row],[QTY]]*Table1[[#This Row],[School & Library Price]]","v":0}]
[null,11,19,null,null,"Current Issues","At Issue","Presentism: Reexamining Historical Figures Through Today's Lens","978-1-5345-0381-6",{"$f":"HYPERLINK(Table1[[#This Row],[Hyperlink]],\"Weblink\")","v":"Weblink"},"Greenhaven Publishing","Library Bound Book",1,"2019","January 2019","Library","6.000 X 9.000","Edited by","Sabine Cherenfant",null,null,null,null,"Z","1310L","Grade 10 - 12","Grade 9 - 12","The recent wave of statues, building names, and other monuments memorializing figures like Christopher Columbus and Confederate generals being removed from public spaces and college campuses has brought the reassessment of historical figures to the fore. It has raised questions about whom we choose to venerate; how historical narratives form; and whether it is best to erase problematic figures from the historical record, present a new interpretation on them, or attempt to be as unbiased as possible by contemporary attitudes when regarding them. Readers will learn more about this timely and complicated issue through a wide range of perspectives.","English",39.4,31.52,"901--dc23","128 pp.","https://greenhavenpublishing.com/978-1-5345-0381-6",{"$f":"Table1[[#This Row],['# of Books]]*Table1[[#This Row],[QTY]]","v":0},{"$f":"Table1[[#This Row],[QTY]]*Table1[[#This Row],[School & Library Price]]","v":0}]
[null,11,19,null,null,"Current Issues","At Issue","Presentism: Reexamining Historical Figures Through Today's Lens","978-1-5345-0449-3",{"$f":"HYPERLINK(Table1[[#This Row],[Hyperlink]],\"Weblink\")","v":"Weblink"},"Greenhaven Publishing","Paperback Book",1,"2019","January 2019","Paperback","6.000 X 9.000","Edited by","Sabine Cherenfant",null,null,null,null,"Z","1310L","Grade 10 - 12","Grade 9 - 12","The recent wave of statues, building names, and other monuments memorializing figures like Christopher Columbus and Confederate generals being removed from public spaces and college campuses has brought the reassessment of historical figures to the fore. It has raised questions about whom we choose to venerate; how historical narratives form; and whether it is best to erase problematic figures from the historical record, present a new interpretation on them, or attempt to be as unbiased as possible by contemporary attitudes when regarding them. Readers will learn more about this timely and complicated issue through a wide range of perspectives.","English",27.8,22.24,"901--dc23","128 pp.","https://greenhavenpublishing.com/978-1-5345-0449-3",{"$f":"Table1[[#This Row],['# of Books]]*Table1[[#This Row],[QTY]]","v":0},{"$f":"Table1[[#This Row],[QTY]]*Table1[[#This Row],[School & Library Price]]","v":0}]
[null,11,19,null,null,"Current Issues","At Issue","Presentism: Reexamining Historical Figures Through Today's Lens","978-1-5345-0396-0",{"$f":"HYPERLINK(Table1[[#This Row],[Hyperlink]],\"Weblink\")","v":"Weblink"},"Greenhaven Publishing","eBook",1,"2019","January 2019",null,null,"Edited by","Sabine Cherenfant",null,null,null,null,"Z","1310L","Grade 10 - 12","Grade 9 - 12","The recent wave of statues, building names, and other monuments memorializing figures like Christopher Columbus and Confederate generals being removed from public spaces and college campuses has brought the reassessment of historical figures to the fore. It has raised questions about whom we choose to venerate; how historical narratives form; and whether it is best to erase problematic figures from the historical record, present a new interpretation on them, or attempt to be as unbiased as possible by contemporary attitudes when regarding them. Readers will learn more about this timely and complicated issue through a wide range of perspectives.","English",39.4,31.52,"901--dc23","128 pp.","https://greenhavenpublishing.com/978-1-5345-0396-0",{"$f":"Table1[[#This Row],['# of Books]]*Table1[[#This Row],[QTY]]","v":0},{"$f":"Table1[[#This Row],[QTY]]*Table1[[#This Row],[School & Library Price]]","v":0}]
[null,11,19,null,null,"Current Issues","At Issue","The Role of Religion in Public Policy","978-1-5345-0382-3",{"$f":"HYPERLINK(Table1[[#This Row],[Hyperlink]],\"Weblink\")","v":"Weblink"},"Greenhaven Publishing","Library Bound Book",1,"2019","January 2019","Library","6.000 X 9.000","Edited by","Eamon Doyle",null,null,null,null,"Z",null,"Grade 10 - 12","Grade 9 - 12","One of the fundamental rights granted in the United States is religious freedom, but does this mean that religion should be entirely removed from politics or that all religious voices should be considered equally? The separation of church and state was established in the Constitution, but the fact that as of 2015, 84 percent of Americans hold some sort of religious belief means that this is easier said than done. Religious morality frequently colors debates surrounding various policy issues, ranging from reproductive rights to education. This volume exposes readers to the ways in which religion inflects policymaking and the varying perspectives about religion's role in politics.","English",39.4,31.52,"322/.10973--dc23","128 pp.","https://greenhavenpublishing.com/978-1-5345-0382-3",{"$f":"Table1[[#This Row],['# of Books]]*Table1[[#This Row],[QTY]]","v":0},{"$f":"Table1[[#This Row],[QTY]]*Table1[[#This Row],[School & Library Price]]","v":0}]
[null,11,19,null,null,"Current Issues","At Issue","The Role of Religion in Public Policy","978-1-5345-0451-6",{"$f":"HYPERLINK(Table1[[#This Row],[Hyperlink]],\"Weblink\")","v":"Weblink"},"Greenhaven Publishing","Paperback Book",1,"2019","January 2019","Paperback","6.000 X 9.000","Edited by","Eamon Doyle",null,null,null,null,"Z",null,"Grade 10 - 12","Grade 9 - 12","One of the fundamental rights granted in the United States is religious freedom, but does this mean that religion should be entirely removed from politics or that all religious voices should be considered equally? The separation of church and state was established in the Constitution, but the fact that as of 2015, 84 percent of Americans hold some sort of religious belief means that this is easier said than done. Religious morality frequently colors debates surrounding various policy issues, ranging from reproductive rights to education. This volume exposes readers to the ways in which religion inflects policymaking and the varying perspectives about religion's role in politics.","English",27.8,22.24,"322/.10973--dc23","128 pp.","https://greenhavenpublishing.com/978-1-5345-0451-6",{"$f":"Table1[[#This Row],['# of Books]]*Table1[[#This Row],[QTY]]","v":0},{"$f":"Table1[[#This Row],[QTY]]*Table1[[#This Row],[School & Library Price]]","v":0}]
[null,11,19,null,null,"Current Issues","At Issue","The Role of Religion in Public Policy","978-1-5345-0397-7",{"$f":"HYPERLINK(Table1[[#This Row],[Hyperlink]],\"Weblink\")","v":"Weblink"},"Greenhaven Publishing","eBook",1,"2019","January 2019",null,null,"Edited by","Eamon Doyle",null,null,null,null,"Z",null,"Grade 10 - 12","Grade 9 - 12","One of the fundamental rights granted in the United States is religious freedom, but does this mean that religion should be entirely removed from politics or that all religious voices should be considered equally? The separation of church and state was established in the Constitution, but the fact that as of 2015, 84 percent of Americans hold some sort of religious belief means that this is easier said than done. Religious morality frequently colors debates surrounding various policy issues, ranging from reproductive rights to education. This volume exposes readers to the ways in which religion inflects policymaking and the varying perspectives about religion's role in politics.","English",39.4,31.52,"322/.10973--dc23","128 pp.","https://greenhavenpublishing.com/978-1-5345-0397-7",{"$f":"Table1[[#This Row],['# of Books]]*Table1[[#This Row],[QTY]]","v":0},{"$f":"Table1[[#This Row],[QTY]]*Table1[[#This Row],[School & Library Price]]","v":0}]
[null,11,19,null,null,"Current Issues","At Issue","Troll Factories: Russia’s Web Brigades","978-1-5345-0383-0",{"$f":"HYPERLINK(Table1[[#This Row],[Hyperlink]],\"Weblink\")","v":"Weblink"},"Greenhaven Publishing","Library Bound Book",1,"2019","January 2019","Library","6.000 X 9.000","Edited by","Andrew Karpan",null,null,null,null,"Z",null,"Grade 10 - 12","Grade 9 - 12","Many Americans became aware of Russia's web brigades during the 2016 presidential election, during which allegations of Russian interference came to light. However, Russia's history of online meddling extends back to the early 2000s and far beyond just the United States. This volume explores the little known history of Russia's troll factories and the role they have played in various political movements and events, as well as the factors that enabled this interference and the possible means of combatting it.","English",39.4,31.52,"303.48/2--dc23","128 pp.","https://greenhavenpublishing.com/978-1-5345-0383-0",{"$f":"Table1[[#This Row],['# of Books]]*Table1[[#This Row],[QTY]]","v":0},{"$f":"Table1[[#This Row],[QTY]]*Table1[[#This Row],[School & Library Price]]","v":0}]
[null,11,19,null,null,"Current Issues","At Issue","Troll Factories: Russia’s Web Brigades","978-1-5345-0453-0",{"$f":"HYPERLINK(Table1[[#This Row],[Hyperlink]],\"Weblink\")","v":"Weblink"},"Greenhaven Publishing","Paperback Book",1,"2019","January 2019","Paperback","6.000 X 9.000","Edited by","Andrew Karpan",null,null,null,null,"Z",null,"Grade 10 - 12","Grade 9 - 12","Many Americans became aware of Russia's web brigades during the 2016 presidential election, during which allegations of Russian interference came to light. However, Russia's history of online meddling extends back to the early 2000s and far beyond just the United States. This volume explores the little known history of Russia's troll factories and the role they have played in various political movements and events, as well as the factors that enabled this interference and the possible means of combatting it.","English",27.8,22.24,"303.48/2--dc23","128 pp.","https://greenhavenpublishing.com/978-1-5345-0453-0",{"$f":"Table1[[#This Row],['# of Books]]*Table1[[#This Row],[QTY]]","v":0},{"$f":"Table1[[#This Row],[QTY]]*Table1[[#This Row],[School & Library Price]]","v":0}]
[null,11,19,null,null,"Current Issues","At Issue","Troll Factories: Russia’s Web Brigades","978-1-5345-0398-4",{"$f":"HYPERLINK(Table1[[#This Row],[Hyperlink]],\"Weblink\")","v":"Weblink"},"Greenhaven Publishing","eBook",1,"2019","January 2019",null,null,"Edited by","Andrew Karpan",null,null,null,null,"Z",null,"Grade 10 - 12","Grade 9 - 12","Many Americans became aware of Russia's web brigades during the 2016 presidential election, during which allegations of Russian interference came to light. However, Russia's history of online meddling extends back to the early 2000s and far beyond just the United States. This volume explores the little known history of Russia's troll factories and the role they have played in various political movements and events, as well as the factors that enabled this interference and the possible means of combatting it.","English",39.4,31.52,"303.48/2--dc23","128 pp.","https://greenhavenpublishing.com/978-1-5345-0398-4",{"$f":"Table1[[#This Row],['# of Books]]*Table1[[#This Row],[QTY]]","v":0},{"$f":"Table1[[#This Row],[QTY]]*Table1[[#This Row],[School & Library Price]]","v":0}]
[null,11,23,null,null,"Current Issues","At Issue","Gerrymandering and Voting Districts","978-1-5345-0325-0",{"$f":"HYPERLINK(Table1[[#This Row],[Hyperlink]],\"Weblink\")","v":"Weblink"},"Greenhaven Publishing","Library Bound Book",1,"2019","August 2018","Library","6.000 X 9.000","Edited by","Rita Santos",null,null,null,null,"Z",null,"Grade 10 - 12","Grade 9 - 12","Gerrymandering, the manipulation of boundaries in order to benefit one group or political party, is not new, but thanks to technology it is more widespread. Questions about the constitutionality of gerrymandering have gone all the way to the U.S. Supreme Court. This provocative volume explores the practice of partisan redistricting, how it affects elections and policy, whether it is unconstitutional, and above all what must be done to ensure that control of the government rests in the hands of the people.","English",39.4,31.52,"328.73/073455--dc23","136 pp.","https://greenhavenpublishing.com/978-1-5345-0325-0",{"$f":"Table1[[#This Row],['# of Books]]*Table1[[#This Row],[QTY]]","v":0},{"$f":"Table1[[#This Row],[QTY]]*Table1[[#This Row],[School & Library Price]]","v":0}]
[null,11,23,null,null,"Current Issues","At Issue","Gerrymandering and Voting Districts","978-1-5345-0326-7",{"$f":"HYPERLINK(Table1[[#This Row],[Hyperlink]],\"Weblink\")","v":"Weblink"},"Greenhaven Publishing","Paperback Book",1,"2019","August 2018","Paperback","6.000 X 9.000","Edited by","Rita Santos",null,null,null,null,"Z",null,"Grade 10 - 12","Grade 9 - 12","Gerrymandering, the manipulation of boundaries in order to benefit one group or political party, is not new, but thanks to technology it is more widespread. Questions about the constitutionality of gerrymandering have gone all the way to the U.S. Supreme Court. This provocative volume explores the practice of partisan redistricting, how it affects elections and policy, whether it is unconstitutional, and above all what must be done to ensure that control of the government rests in the hands of the people.","English",27.8,22.24,"328.73/073455--dc23","136 pp.","https://greenhavenpublishing.com/978-1-5345-0326-7",{"$f":"Table1[[#This Row],['# of Books]]*Table1[[#This Row],[QTY]]","v":0},{"$f":"Table1[[#This Row],[QTY]]*Table1[[#This Row],[School & Library Price]]","v":0}]
[null,11,23,null,null,"Current Issues","At Issue","Gerrymandering and Voting Districts","978-1-5345-0327-4",{"$f":"HYPERLINK(Table1[[#This Row],[Hyperlink]],\"Weblink\")","v":"Weblink"},"Greenhaven Publishing","eBook",1,"2019","August 2018",null,null,"Edited by","Rita Santos",null,null,null,null,"Z",null,"Grade 10 - 12","Grade 9 - 12","Gerrymandering, the manipulation of boundaries in order to benefit one group or political party, is not new, but thanks to technology it is more widespread. Questions about the constitutionality of gerrymandering have gone all the way to the U.S. Supreme Court. This provocative volume explores the practice of partisan redistricting, how it affects elections and policy, whether it is unconstitutional, and above all what must be done to ensure that control of the government rests in the hands of the people.","English",39.4,31.52,"328.73/073455--dc23","136 pp.","https://greenhavenpublishing.com/978-1-5345-0327-4",{"$f":"Table1[[#This Row],['# of Books]]*Table1[[#This Row],[QTY]]","v":0},{"$f":"Table1[[#This Row],[QTY]]*Table1[[#This Row],[School & Library Price]]","v":0}]
[null,11,24,null,null,"Current Issues","At Issue","Media Bias and the Role of the Press","978-1-5345-0328-1",{"$f":"HYPERLINK(Table1[[#This Row],[Hyperlink]],\"Weblink\")","v":"Weblink"},"Greenhaven Publishing","Library Bound Book",1,"2019","August 2018","Library","6.000 X 9.000","Edited by","Eamon Doyle",null,null,null,null,"Z",null,"Grade 10 - 12","Grade 9 - 12","In a democratic society, the role of the press is usually characterized by neutrality and the necessity of an informed electorate. The journalist's ethic is to present facts with minimal interpretation. Over the decades, however, this strict code has evolved and opened up, and thanks to the internet, an alternative media has risen. This has led to accusations of media bias and condemnation of certain media outlets by powerful elected leaders. The viewpoints in this volume explore the obligations of the media, the rise of satirical news outlets, and how to interpret news in a post-fact era.","English",39.4,31.52,"302.230973--dc23","128 pp.","https://greenhavenpublishing.com/978-1-5345-0328-1",{"$f":"Table1[[#This Row],['# of Books]]*Table1[[#This Row],[QTY]]","v":0},{"$f":"Table1[[#This Row],[QTY]]*Table1[[#This Row],[School & Library Price]]","v":0}]
[null,11,24,null,null,"Current Issues","At Issue","Media Bias and the Role of the Press","978-1-5345-0329-8",{"$f":"HYPERLINK(Table1[[#This Row],[Hyperlink]],\"Weblink\")","v":"Weblink"},"Greenhaven Publishing","Paperback Book",1,"2019","August 2018","Paperback","6.000 X 9.000","Edited by","Eamon Doyle",null,null,null,null,"Z",null,"Grade 10 - 12","Grade 9 - 12","In a democratic society, the role of the press is usually characterized by neutrality and the necessity of an informed electorate. The journalist's ethic is to present facts with minimal interpretation. Over the decades, however, this strict code has evolved and opened up, and thanks to the internet, an alternative media has risen. This has led to accusations of media bias and condemnation of certain media outlets by powerful elected leaders. The viewpoints in this volume explore the obligations of the media, the rise of satirical news outlets, and how to interpret news in a post-fact era.","English",27.8,22.24,"302.230973--dc23","128 pp.","https://greenhavenpublishing.com/978-1-5345-0329-8",{"$f":"Table1[[#This Row],['# of Books]]*Table1[[#This Row],[QTY]]","v":0},{"$f":"Table1[[#This Row],[QTY]]*Table1[[#This Row],[School & Library Price]]","v":0}]
[null,11,24,null,null,"Current Issues","At Issue","Media Bias and the Role of the Press","978-1-5345-0330-4",{"$f":"HYPERLINK(Table1[[#This Row],[Hyperlink]],\"Weblink\")","v":"Weblink"},"Greenhaven Publishing","eBook",1,"2019","August 2018",null,null,"Edited by","Eamon Doyle",null,null,null,null,"Z",null,"Grade 10 - 12","Grade 9 - 12","In a democratic society, the role of the press is usually characterized by neutrality and the necessity of an informed electorate. The journalist's ethic is to present facts with minimal interpretation. Over the decades, however, this strict code has evolved and opened up, and thanks to the internet, an alternative media has risen. This has led to accusations of media bias and condemnation of certain media outlets by powerful elected leaders. The viewpoints in this volume explore the obligations of the media, the rise of satirical news outlets, and how to interpret news in a post-fact era.","English",39.4,31.52,"302.230973--dc23","128 pp.","https://greenhavenpublishing.com/978-1-5345-0330-4",{"$f":"Table1[[#This Row],['# of Books]]*Table1[[#This Row],[QTY]]","v":0},{"$f":"Table1[[#This Row],[QTY]]*Table1[[#This Row],[School & Library Price]]","v":0}]
[null,11,25,null,null,"Current Issues","At Issue","Politicians on Social Media","978-1-5345-0331-1",{"$f":"HYPERLINK(Table1[[#This Row],[Hyperlink]],\"Weblink\")","v":"Weblink"},"Greenhaven Publishing","Library Bound Book",1,"2019","August 2018","Library","6.000 X 9.000","Edited by","Pete Schauer",null,null,null,null,"Z",null,"Grade 10 - 12","Grade 9 - 12","The rise of social media has changed politics forever. No longer must citizens go through the trouble of writing letters to their representatives to be heard. In turn, politicians have been given a direct line to their constituents. Is this accessibility an asset or a liability? How has the use of social media changed the campaign and election process? What happens when the president blocks you on Twitter? The thought-provoking viewpoints in this volume explore the finer points of a newly emerging controversy.","English",39.4,31.52,"324.7/30973--dc23","128 pp.","https://greenhavenpublishing.com/978-1-5345-0331-1",{"$f":"Table1[[#This Row],['# of Books]]*Table1[[#This Row],[QTY]]","v":0},{"$f":"Table1[[#This Row],[QTY]]*Table1[[#This Row],[School & Library Price]]","v":0}]
[null,11,25,null,null,"Current Issues","At Issue","Politicians on Social Media","978-1-5345-0332-8",{"$f":"HYPERLINK(Table1[[#This Row],[Hyperlink]],\"Weblink\")","v":"Weblink"},"Greenhaven Publishing","Paperback Book",1,"2019","August 2018","Paperback","6.000 X 9.000","Edited by","Pete Schauer",null,null,null,null,"Z",null,"Grade 10 - 12","Grade 9 - 12","The rise of social media has changed politics forever. No longer must citizens go through the trouble of writing letters to their representatives to be heard. In turn, politicians have been given a direct line to their constituents. Is this accessibility an asset or a liability? How has the use of social media changed the campaign and election process? What happens when the president blocks you on Twitter? The thought-provoking viewpoints in this volume explore the finer points of a newly emerging controversy.","English",27.8,22.24,"324.7/30973--dc23","128 pp.","https://greenhavenpublishing.com/978-1-5345-0332-8",{"$f":"Table1[[#This Row],['# of Books]]*Table1[[#This Row],[QTY]]","v":0},{"$f":"Table1[[#This Row],[QTY]]*Table1[[#This Row],[School & Library Price]]","v":0}]
[null,11,25,null,null,"Current Issues","At Issue","Politicians on Social Media","978-1-5345-0333-5",{"$f":"HYPERLINK(Table1[[#This Row],[Hyperlink]],\"Weblink\")","v":"Weblink"},"Greenhaven Publishing","eBook",1,"2019","August 2018",null,null,"Edited by","Pete Schauer",null,null,null,null,"Z",null,"Grade 10 - 12","Grade 9 - 12","The rise of social media has changed politics forever. No longer must citizens go through the trouble of writing letters to their representatives to be heard. In turn, politicians have been given a direct line to their constituents. Is this accessibility an asset or a liability? How has the use of social media changed the campaign and election process? What happens when the president blocks you on Twitter? The thought-provoking viewpoints in this volume explore the finer points of a newly emerging controversy.","English",39.4,31.52,"324.7/30973--dc23","128 pp.","https://greenhavenpublishing.com/978-1-5345-0333-5",{"$f":"Table1[[#This Row],['# of Books]]*Table1[[#This Row],[QTY]]","v":0},{"$f":"Table1[[#This Row],[QTY]]*Table1[[#This Row],[School & Library Price]]","v":0}]
[null,11,21,null,null,"Current Issues","At Issue","The Deep State","978-1-5345-0319-9",{"$f":"HYPERLINK(Table1[[#This Row],[Hyperlink]],\"Weblink\")","v":"Weblink"},"Greenhaven Publishing","Library Bound Book",1,"2019","August 2018","Library","6.000 X 9.000","Edited by","Rita Santos",null,null,null,null,"Z",null,"Grade 10 - 12","Grade 9 - 12","It used to be that \"deep state\" was a shadowy term used to describe developing nations whose governments operated outside of democratically elected leaders. The term has evolved and has been applied to transparent countries such as the United States. What is the deep state and how does it apply to the United States and other democratic governments? This fascinating and informative volume presents a variety of perspectives that helps readers to decide whether a deep state is something to fear or simply a conspiracy theory.","English",39.4,31.52,"320.973--dc23","128 pp.","https://greenhavenpublishing.com/978-1-5345-0319-9",{"$f":"Table1[[#This Row],['# of Books]]*Table1[[#This Row],[QTY]]","v":0},{"$f":"Table1[[#This Row],[QTY]]*Table1[[#This Row],[School & Library Price]]","v":0}]
[null,11,21,null,null,"Current Issues","At Issue","The Deep State","978-1-5345-0320-5",{"$f":"HYPERLINK(Table1[[#This Row],[Hyperlink]],\"Weblink\")","v":"Weblink"},"Greenhaven Publishing","Paperback Book",1,"2019","August 2018","Paperback","6.000 X 9.000","Edited by","Rita Santos",null,null,null,null,"Z",null,"Grade 10 - 12","Grade 9 - 12","It used to be that \"deep state\" was a shadowy term used to describe developing nations whose governments operated outside of democratically elected leaders. The term has evolved and has been applied to transparent countries such as the United States. What is the deep state and how does it apply to the United States and other democratic governments? This fascinating and informative volume presents a variety of perspectives that helps readers to decide whether a deep state is something to fear or simply a conspiracy theory.","English",27.8,22.24,"320.973--dc23","128 pp.","https://greenhavenpublishing.com/978-1-5345-0320-5",{"$f":"Table1[[#This Row],['# of Books]]*Table1[[#This Row],[QTY]]","v":0},{"$f":"Table1[[#This Row],[QTY]]*Table1[[#This Row],[School & Library Price]]","v":0}]
[null,11,21,null,null,"Current Issues","At Issue","The Deep State","978-1-5345-0321-2",{"$f":"HYPERLINK(Table1[[#This Row],[Hyperlink]],\"Weblink\")","v":"Weblink"},"Greenhaven Publishing","eBook",1,"2019","August 2018",null,null,"Edited by","Rita Santos",null,null,null,null,"Z",null,"Grade 10 - 12","Grade 9 - 12","It used to be that \"deep state\" was a shadowy term used to describe developing nations whose governments operated outside of democratically elected leaders. The term has evolved and has been applied to transparent countries such as the United States. What is the deep state and how does it apply to the United States and other democratic governments? This fascinating and informative volume presents a variety of perspectives that helps readers to decide whether a deep state is something to fear or simply a conspiracy theory.","English",39.4,31.52,"320.973--dc23","128 pp.","https://greenhavenpublishing.com/978-1-5345-0321-2",{"$f":"Table1[[#This Row],['# of Books]]*Table1[[#This Row],[QTY]]","v":0},{"$f":"Table1[[#This Row],[QTY]]*Table1[[#This Row],[School & Library Price]]","v":0}]
[null,11,22,null,null,"Current Issues","At Issue","The Federal Budget and Government Spending","978-1-5345-0322-9",{"$f":"HYPERLINK(Table1[[#This Row],[Hyperlink]],\"Weblink\")","v":"Weblink"},"Greenhaven Publishing","Library Bound Book",1,"2019","August 2018","Library","6.000 X 9.000","Edited by","Lisa Idzikowski",null,null,null,null,"Z",null,"Grade 10 - 12","Grade 9 - 12","The federal budget affects all of us, whether we know it or not. Monies spent by the government go into our education, our security, our military, and our bridges and roads. But who is accountable for the budget, and what happens if we don't agree where the money is going? The expert viewpoints in this informative anthology examine where our tax dollars go, whether citizens have a say in spending, and what it means when the deficit just keeps growing.","English",39.4,31.52,"336.3/90973--dc23","136 pp.","https://greenhavenpublishing.com/978-1-5345-0322-9",{"$f":"Table1[[#This Row],['# of Books]]*Table1[[#This Row],[QTY]]","v":0},{"$f":"Table1[[#This Row],[QTY]]*Table1[[#This Row],[School & Library Price]]","v":0}]
[null,11,22,null,null,"Current Issues","At Issue","The Federal Budget and Government Spending","978-1-5345-0323-6",{"$f":"HYPERLINK(Table1[[#This Row],[Hyperlink]],\"Weblink\")","v":"Weblink"},"Greenhaven Publishing","Paperback Book",1,"2019","August 2018","Paperback","6.000 X 9.000","Edited by","Lisa Idzikowski",null,null,null,null,"Z",null,"Grade 10 - 12","Grade 9 - 12","The federal budget affects all of us, whether we know it or not. Monies spent by the government go into our education, our security, our military, and our bridges and roads. But who is accountable for the budget, and what happens if we don't agree where the money is going? The expert viewpoints in this informative anthology examine where our tax dollars go, whether citizens have a say in spending, and what it means when the deficit just keeps growing.","English",27.8,22.24,"336.3/90973--dc23","136 pp.","https://greenhavenpublishing.com/978-1-5345-0323-6",{"$f":"Table1[[#This Row],['# of Books]]*Table1[[#This Row],[QTY]]","v":0},{"$f":"Table1[[#This Row],[QTY]]*Table1[[#This Row],[School & Library Price]]","v":0}]
[null,11,22,null,null,"Current Issues","At Issue","The Federal Budget and Government Spending","978-1-5345-0324-3",{"$f":"HYPERLINK(Table1[[#This Row],[Hyperlink]],\"Weblink\")","v":"Weblink"},"Greenhaven Publishing","eBook",1,"2019","August 2018",null,null,"Edited by","Lisa Idzikowski",null,null,null,null,"Z",null,"Grade 10 - 12","Grade 9 - 12","The federal budget affects all of us, whether we know it or not. Monies spent by the government go into our education, our security, our military, and our bridges and roads. But who is accountable for the budget, and what happens if we don't agree where the money is going? The expert viewpoints in this informative anthology examine where our tax dollars go, whether citizens have a say in spending, and what it means when the deficit just keeps growing.","English",39.4,31.52,"336.3/90973--dc23","136 pp.","https://greenhavenpublishing.com/978-1-5345-0324-3",{"$f":"Table1[[#This Row],['# of Books]]*Table1[[#This Row],[QTY]]","v":0},{"$f":"Table1[[#This Row],[QTY]]*Table1[[#This Row],[School & Library Price]]","v":0}]
[null,11,25,null,null,"Current Issues","At Issue","The Role of Science in Public Policy","978-1-5345-0334-2",{"$f":"HYPERLINK(Table1[[#This Row],[Hyperlink]],\"Weblink\")","v":"Weblink"},"Greenhaven Publishing","Library Bound Book",1,"2019","August 2018","Library","6.000 X 9.000","Edited by","Eamon Doyle",null,null,null,null,"Z",null,"Grade 10 - 12","Grade 9 - 12","Does science have a place when it comes to making public policy? The answer might not be as simple as many people think. Ideally, scientists discover facts, and those facts inform policy. But policy undermines the open-ended nature of scientific inquiry, and scientists end up representing an agenda rather than presenting objective truths to be used to make decisions that impact the public. Through a variety of perspectives, this volume explores who wins and who loses when science and politics mix.","English",39.4,31.52,"306.4/5/0973--dc23","128 pp.","https://greenhavenpublishing.com/978-1-5345-0334-2",{"$f":"Table1[[#This Row],['# of Books]]*Table1[[#This Row],[QTY]]","v":0},{"$f":"Table1[[#This Row],[QTY]]*Table1[[#This Row],[School & Library Price]]","v":0}]
[null,11,25,null,null,"Current Issues","At Issue","The Role of Science in Public Policy","978-1-5345-0335-9",{"$f":"HYPERLINK(Table1[[#This Row],[Hyperlink]],\"Weblink\")","v":"Weblink"},"Greenhaven Publishing","Paperback Book",1,"2019","August 2018","Paperback","6.000 X 9.000","Edited by","Eamon Doyle",null,null,null,null,"Z",null,"Grade 10 - 12","Grade 9 - 12","Does science have a place when it comes to making public policy? The answer might not be as simple as many people think. Ideally, scientists discover facts, and those facts inform policy. But policy undermines the open-ended nature of scientific inquiry, and scientists end up representing an agenda rather than presenting objective truths to be used to make decisions that impact the public. Through a variety of perspectives, this volume explores who wins and who loses when science and politics mix.","English",27.8,22.24,"306.4/5/0973--dc23","128 pp.","https://greenhavenpublishing.com/978-1-5345-0335-9",{"$f":"Table1[[#This Row],['# of Books]]*Table1[[#This Row],[QTY]]","v":0},{"$f":"Table1[[#This Row],[QTY]]*Table1[[#This Row],[School & Library Price]]","v":0}]
[null,11,25,null,null,"Current Issues","At Issue","The Role of Science in Public Policy","978-1-5345-0336-6",{"$f":"HYPERLINK(Table1[[#This Row],[Hyperlink]],\"Weblink\")","v":"Weblink"},"Greenhaven Publishing","eBook",1,"2019","August 2018",null,null,"Edited by","Eamon Doyle",null,null,null,null,"Z",null,"Grade 10 - 12","Grade 9 - 12","Does science have a place when it comes to making public policy? The answer might not be as simple as many people think. Ideally, scientists discover facts, and those facts inform policy. But policy undermines the open-ended nature of scientific inquiry, and scientists end up representing an agenda rather than presenting objective truths to be used to make decisions that impact the public. Through a variety of perspectives, this volume explores who wins and who loses when science and politics mix.","English",39.4,31.52,"306.4/5/0973--dc23","128 pp.","https://greenhavenpublishing.com/978-1-5345-0336-6",{"$f":"Table1[[#This Row],['# of Books]]*Table1[[#This Row],[QTY]]","v":0},{"$f":"Table1[[#This Row],[QTY]]*Table1[[#This Row],[School & Library Price]]","v":0}]
[null,null,21,null,null,"Current Issues","At Issue","Cyberwarfare","978-1-5345-0204-8",{"$f":"HYPERLINK(Table1[[#This Row],[Hyperlink]],\"Weblink\")","v":"Weblink"},"Greenhaven Publishing","Library Bound Book",1,"2018","January 2018","Library","6.000 X 9.000","Edited by","Megan Manzano",null,null,null,null,"Z","1370L","Grade 10 - 12","Grade 9 - 12","There is warfare, and there is cyberwarfare. In today's technologically-driven world, governments, and even terrorist groups and hacktivists, engage in cyberwarfare to attack or disrupt the operations of other nations and organizations. Recent revelations about cyberattacks that threatened individual and national security have caused ripples of concern and outrage, but tend to die down quickly. How safe are we, and do we take security for granted? This resource offers a diverse selection of viewpoints from the top voices in the field to enlighten readers about warfare in the Information Age.","English",39.4,31.52,"355.4/1--dc23","120 pp.","https://greenhavenpublishing.com/978-1-5345-0204-8",{"$f":"Table1[[#This Row],['# of Books]]*Table1[[#This Row],[QTY]]","v":0},{"$f":"Table1[[#This Row],[QTY]]*Table1[[#This Row],[School & Library Price]]","v":0}]
[null,null,21,null,null,"Current Issues","At Issue","Cyberwarfare","978-1-5345-0210-9",{"$f":"HYPERLINK(Table1[[#This Row],[Hyperlink]],\"Weblink\")","v":"Weblink"},"Greenhaven Publishing","Paperback Book",1,"2018","January 2018","Paperback","6.000 X 9.000","Edited by","Megan Manzano",null,null,null,null,"Z","1370L","Grade 10 - 12","Grade 9 - 12","There is warfare, and there is cyberwarfare. In today's technologically-driven world, governments, and even terrorist groups and hacktivists, engage in cyberwarfare to attack or disrupt the operations of other nations and organizations. Recent revelations about cyberattacks that threatened individual and national security have caused ripples of concern and outrage, but tend to die down quickly. How safe are we, and do we take security for granted? This resource offers a diverse selection of viewpoints from the top voices in the field to enlighten readers about warfare in the Information Age.","English",27.8,22.24,"355.4/1--dc23","120 pp.","https://greenhavenpublishing.com/978-1-5345-0210-9",{"$f":"Table1[[#This Row],['# of Books]]*Table1[[#This Row],[QTY]]","v":0},{"$f":"Table1[[#This Row],[QTY]]*Table1[[#This Row],[School & Library Price]]","v":0}]
[null,null,21,null,null,"Current Issues","At Issue","Cyberwarfare","978-1-5345-0201-7",{"$f":"HYPERLINK(Table1[[#This Row],[Hyperlink]],\"Weblink\")","v":"Weblink"},"Greenhaven Publishing","eBook",1,"2018","January 2018",null,null,"Edited by","Megan Manzano",null,null,null,null,"Z","1370L","Grade 10 - 12","Grade 9 - 12","There is warfare, and there is cyberwarfare. In today's technologically-driven world, governments, and even terrorist groups and hacktivists, engage in cyberwarfare to attack or disrupt the operations of other nations and organizations. Recent revelations about cyberattacks that threatened individual and national security have caused ripples of concern and outrage, but tend to die down quickly. How safe are we, and do we take security for granted? This resource offers a diverse selection of viewpoints from the top voices in the field to enlighten readers about warfare in the Information Age.","English",39.4,31.52,"355.4/1--dc23","120 pp.","https://greenhavenpublishing.com/978-1-5345-0201-7",{"$f":"Table1[[#This Row],['# of Books]]*Table1[[#This Row],[QTY]]","v":0},{"$f":"Table1[[#This Row],[QTY]]*Table1[[#This Row],[School & Library Price]]","v":0}]
[null,null,24,null,null,"Current Issues","At Issue","Pipelines and Politics","978-1-5345-0203-1",{"$f":"HYPERLINK(Table1[[#This Row],[Hyperlink]],\"Weblink\")","v":"Weblink"},"Greenhaven Publishing","Library Bound Book",1,"2018","January 2018","Library","6.000 X 9.000","Edited by","Lisa Idzikowski",null,null,null,null,"Z",null,"Grade 10 - 12","Grade 9 - 12","Fossil fuels are a valuable commodity at the forefront of national and international politics. Pipelines can create jobs and economic growth, not to mention delivering a commodity to people who need it. What happens when there is conflict about the land through which a pipeline travels? Such conflicts can lead to protests, stoppages, and even war. Readers of this comprehensive volume, which explores the topic from a multitude of angles, will learn how a simple pipeline can have enormous geopolitical ramifications.","English",39.4,31.52,"388.50973--dc23","152 pp.","https://greenhavenpublishing.com/978-1-5345-0203-1",{"$f":"Table1[[#This Row],['# of Books]]*Table1[[#This Row],[QTY]]","v":0},{"$f":"Table1[[#This Row],[QTY]]*Table1[[#This Row],[School & Library Price]]","v":0}]
[null,null,24,null,null,"Current Issues","At Issue","Pipelines and Politics","978-1-5345-0212-3",{"$f":"HYPERLINK(Table1[[#This Row],[Hyperlink]],\"Weblink\")","v":"Weblink"},"Greenhaven Publishing","Paperback Book",1,"2018","January 2018","Paperback","6.000 X 9.000","Edited by","Lisa Idzikowski",null,null,null,null,"Z",null,"Grade 10 - 12","Grade 9 - 12","Fossil fuels are a valuable commodity at the forefront of national and international politics. Pipelines can create jobs and economic growth, not to mention delivering a commodity to people who need it. What happens when there is conflict about the land through which a pipeline travels? Such conflicts can lead to protests, stoppages, and even war. Readers of this comprehensive volume, which explores the topic from a multitude of angles, will learn how a simple pipeline can have enormous geopolitical ramifications.","English",27.8,22.24,"388.50973--dc23","152 pp.","https://greenhavenpublishing.com/978-1-5345-0212-3",{"$f":"Table1[[#This Row],['# of Books]]*Table1[[#This Row],[QTY]]","v":0},{"$f":"Table1[[#This Row],[QTY]]*Table1[[#This Row],[School & Library Price]]","v":0}]
[null,null,24,null,null,"Current Issues","At Issue","Pipelines and Politics","978-1-5345-0198-0",{"$f":"HYPERLINK(Table1[[#This Row],[Hyperlink]],\"Weblink\")","v":"Weblink"},"Greenhaven Publishing","eBook",1,"2018","January 2018",null,null,"Edited by","Lisa Idzikowski",null,null,null,null,"Z",null,"Grade 10 - 12","Grade 9 - 12","Fossil fuels are a valuable commodity at the forefront of national and international politics. Pipelines can create jobs and economic growth, not to mention delivering a commodity to people who need it. What happens when there is conflict about the land through which a pipeline travels? Such conflicts can lead to protests, stoppages, and even war. Readers of this comprehensive volume, which explores the topic from a multitude of angles, will learn how a simple pipeline can have enormous geopolitical ramifications.","English",39.4,31.52,"388.50973--dc23","152 pp.","https://greenhavenpublishing.com/978-1-5345-0198-0",{"$f":"Table1[[#This Row],['# of Books]]*Table1[[#This Row],[QTY]]","v":0},{"$f":"Table1[[#This Row],[QTY]]*Table1[[#This Row],[School & Library Price]]","v":0}]
[null,null,25,null,null,"Current Issues","At Issue","Populism in the Digital Age","978-1-5345-0207-9",{"$f":"HYPERLINK(Table1[[#This Row],[Hyperlink]],\"Weblink\")","v":"Weblink"},"Greenhaven Publishing","Library Bound Book",1,"2018","January 2018","Library","6.000 X 9.000","Edited by","Anne Cunningham",null,null,null,null,"Z","1350L","Grade 10 - 12","Grade 9 - 12","The development of social media platforms has allowed a new wave of populism to accelerate rapidly. Tweets, Facebook shares, and viral memes get information to ordinary citizens quickly and directly, without the influence of authorities, and often without the benefit of research and facts. Is this democracy in its purest form or mindless transmission of fake news and irresponsible reporting? What is the result of digital populism, and what can be done to use it for the good of the people? This resource contains viewpoints that will awaken readers to the value of critical thinking skills.","English",39.4,31.52,"320.01/4--dc23","120 pp.","https://greenhavenpublishing.com/978-1-5345-0207-9",{"$f":"Table1[[#This Row],['# of Books]]*Table1[[#This Row],[QTY]]","v":0},{"$f":"Table1[[#This Row],[QTY]]*Table1[[#This Row],[School & Library Price]]","v":0}]
[null,null,25,null,null,"Current Issues","At Issue","Populism in the Digital Age","978-1-5345-0214-7",{"$f":"HYPERLINK(Table1[[#This Row],[Hyperlink]],\"Weblink\")","v":"Weblink"},"Greenhaven Publishing","Paperback Book",1,"2018","January 2018","Paperback","6.000 X 9.000","Edited by","Anne Cunningham",null,null,null,null,"Z","1350L","Grade 10 - 12","Grade 9 - 12","The development of social media platforms has allowed a new wave of populism to accelerate rapidly. Tweets, Facebook shares, and viral memes get information to ordinary citizens quickly and directly, without the influence of authorities, and often without the benefit of research and facts. Is this democracy in its purest form or mindless transmission of fake news and irresponsible reporting? What is the result of digital populism, and what can be done to use it for the good of the people? This resource contains viewpoints that will awaken readers to the value of critical thinking skills.","English",27.8,22.24,"320.01/4--dc23","120 pp.","https://greenhavenpublishing.com/978-1-5345-0214-7",{"$f":"Table1[[#This Row],['# of Books]]*Table1[[#This Row],[QTY]]","v":0},{"$f":"Table1[[#This Row],[QTY]]*Table1[[#This Row],[School & Library Price]]","v":0}]
[null,null,25,null,null,"Current Issues","At Issue","Populism in the Digital Age","978-1-5345-0202-4",{"$f":"HYPERLINK(Table1[[#This Row],[Hyperlink]],\"Weblink\")","v":"Weblink"},"Greenhaven Publishing","eBook",1,"2018","January 2018",null,null,"Edited by","Anne Cunningham",null,null,null,null,"Z","1350L","Grade 10 - 12","Grade 9 - 12","The development of social media platforms has allowed a new wave of populism to accelerate rapidly. Tweets, Facebook shares, and viral memes get information to ordinary citizens quickly and directly, without the influence of authorities, and often without the benefit of research and facts. Is this democracy in its purest form or mindless transmission of fake news and irresponsible reporting? What is the result of digital populism, and what can be done to use it for the good of the people? This resource contains viewpoints that will awaken readers to the value of critical thinking skills.","English",39.4,31.52,"320.01/4--dc23","120 pp.","https://greenhavenpublishing.com/978-1-5345-0202-4",{"$f":"Table1[[#This Row],['# of Books]]*Table1[[#This Row],[QTY]]","v":0},{"$f":"Table1[[#This Row],[QTY]]*Table1[[#This Row],[School & Library Price]]","v":0}]
[null,null,25,null,null,"Current Issues","At Issue","Reproductive Rights","978-1-5345-0206-2",{"$f":"HYPERLINK(Table1[[#This Row],[Hyperlink]],\"Weblink\")","v":"Weblink"},"Greenhaven Publishing","Library Bound Book",1,"2018","January 2018","Library","6.000 X 9.000","Edited by","Anne Cunningham",null,null,null,null,"Z",null,"Grade 10 - 12","Grade 9 - 12","There has been a neat divide in the United States and elsewhere between the \"pro-choice\" and \"pro-life\" camps. Reproductive rights are more expansive than the abortion debate. Access to affordable health services is a fundamental right, yet women, who are subject to discrimination, poverty, and violence at a higher rate than men, are at risk for losing access to screenings, maternal care, and contraception. Does the government have the right to legislate women's health? This close examination provides perspectives from all sides to help readers understand what is at stake.","English",39.4,31.52,"613.9--dc23","104 pp.","https://greenhavenpublishing.com/978-1-5345-0206-2",{"$f":"Table1[[#This Row],['# of Books]]*Table1[[#This Row],[QTY]]","v":0},{"$f":"Table1[[#This Row],[QTY]]*Table1[[#This Row],[School & Library Price]]","v":0}]
[null,null,25,null,null,"Current Issues","At Issue","Reproductive Rights","978-1-5345-0209-3",{"$f":"HYPERLINK(Table1[[#This Row],[Hyperlink]],\"Weblink\")","v":"Weblink"},"Greenhaven Publishing","Paperback Book",1,"2018","January 2018","Paperback","6.000 X 9.000","Edited by","Anne Cunningham",null,null,null,null,"Z",null,"Grade 10 - 12","Grade 9 - 12","There has been a neat divide in the United States and elsewhere between the \"pro-choice\" and \"pro-life\" camps. Reproductive rights are more expansive than the abortion debate. Access to affordable health services is a fundamental right, yet women, who are subject to discrimination, poverty, and violence at a higher rate than men, are at risk for losing access to screenings, maternal care, and contraception. Does the government have the right to legislate women's health? This close examination provides perspectives from all sides to help readers understand what is at stake.","English",27.8,22.24,"613.9--dc23","104 pp.","https://greenhavenpublishing.com/978-1-5345-0209-3",{"$f":"Table1[[#This Row],['# of Books]]*Table1[[#This Row],[QTY]]","v":0},{"$f":"Table1[[#This Row],[QTY]]*Table1[[#This Row],[School & Library Price]]","v":0}]
[null,null,25,null,null,"Current Issues","At Issue","Reproductive Rights","978-1-5345-0197-3",{"$f":"HYPERLINK(Table1[[#This Row],[Hyperlink]],\"Weblink\")","v":"Weblink"},"Greenhaven Publishing","eBook",1,"2018","January 2018",null,null,"Edited by","Anne Cunningham",null,null,null,null,"Z",null,"Grade 10 - 12","Grade 9 - 12","There has been a neat divide in the United States and elsewhere between the \"pro-choice\" and \"pro-life\" camps. Reproductive rights are more expansive than the abortion debate. Access to affordable health services is a fundamental right, yet women, who are subject to discrimination, poverty, and violence at a higher rate than men, are at risk for losing access to screenings, maternal care, and contraception. Does the government have the right to legislate women's health? This close examination provides perspectives from all sides to help readers understand what is at stake.","English",39.4,31.52,"613.9--dc23","104 pp.","https://greenhavenpublishing.com/978-1-5345-0197-3",{"$f":"Table1[[#This Row],['# of Books]]*Table1[[#This Row],[QTY]]","v":0},{"$f":"Table1[[#This Row],[QTY]]*Table1[[#This Row],[School & Library Price]]","v":0}]
[null,null,21,null,null,"Current Issues","At Issue","The Death Penalty","978-1-5345-0208-6",{"$f":"HYPERLINK(Table1[[#This Row],[Hyperlink]],\"Weblink\")","v":"Weblink"},"Greenhaven Publishing","Library Bound Book",1,"2018","January 2018","Library","6.000 X 9.000","Edited by","Megan Manzano",null,null,null,null,"Z","1350L","Grade 10 - 12","Grade 9 - 12","Is capital punishment morally justified? Although the issue generates strong opinions, there are no easy answers when it comes to taking the life of a human being. Supporters of the death penalty believe it deters law-breaking and is the only punishment strong enough for horrific crimes such as child murder and genocide. Opponents argue that it violates human rights and point to its finality in the face of judicial system error and unfairness. This resource presents a fascinating progression of current viewpoints that reflect the many facets of the death penalty debate.","English",39.4,31.52,"364.660973--dc23","120 pp.","https://greenhavenpublishing.com/978-1-5345-0208-6",{"$f":"Table1[[#This Row],['# of Books]]*Table1[[#This Row],[QTY]]","v":0},{"$f":"Table1[[#This Row],[QTY]]*Table1[[#This Row],[School & Library Price]]","v":0}]
[null,null,21,null,null,"Current Issues","At Issue","The Death Penalty","978-1-5345-0213-0",{"$f":"HYPERLINK(Table1[[#This Row],[Hyperlink]],\"Weblink\")","v":"Weblink"},"Greenhaven Publishing","Paperback Book",1,"2018","January 2018","Paperback","6.000 X 9.000","Edited by","Megan Manzano",null,null,null,null,"Z","1350L","Grade 10 - 12","Grade 9 - 12","Is capital punishment morally justified? Although the issue generates strong opinions, there are no easy answers when it comes to taking the life of a human being. Supporters of the death penalty believe it deters law-breaking and is the only punishment strong enough for horrific crimes such as child murder and genocide. Opponents argue that it violates human rights and point to its finality in the face of judicial system error and unfairness. This resource presents a fascinating progression of current viewpoints that reflect the many facets of the death penalty debate.","English",27.8,22.24,"364.660973--dc23","120 pp.","https://greenhavenpublishing.com/978-1-5345-0213-0",{"$f":"Table1[[#This Row],['# of Books]]*Table1[[#This Row],[QTY]]","v":0},{"$f":"Table1[[#This Row],[QTY]]*Table1[[#This Row],[School & Library Price]]","v":0}]
[null,null,21,null,null,"Current Issues","At Issue","The Death Penalty","978-1-5345-0199-7",{"$f":"HYPERLINK(Table1[[#This Row],[Hyperlink]],\"Weblink\")","v":"Weblink"},"Greenhaven Publishing","eBook",1,"2018","January 2018",null,null,"Edited by","Megan Manzano",null,null,null,null,"Z","1350L","Grade 10 - 12","Grade 9 - 12","Is capital punishment morally justified? Although the issue generates strong opinions, there are no easy answers when it comes to taking the life of a human being. Supporters of the death penalty believe it deters law-breaking and is the only punishment strong enough for horrific crimes such as child murder and genocide. Opponents argue that it violates human rights and point to its finality in the face of judicial system error and unfairness. This resource presents a fascinating progression of current viewpoints that reflect the many facets of the death penalty debate.","English",39.4,31.52,"364.660973--dc23","120 pp.","https://greenhavenpublishing.com/978-1-5345-0199-7",{"$f":"Table1[[#This Row],['# of Books]]*Table1[[#This Row],[QTY]]","v":0},{"$f":"Table1[[#This Row],[QTY]]*Table1[[#This Row],[School & Library Price]]","v":0}]
[null,null,22,null,null,"Current Issues","At Issue","The Ethics of WikiLeaks","978-1-5345-0205-5",{"$f":"HYPERLINK(Table1[[#This Row],[Hyperlink]],\"Weblink\")","v":"Weblink"},"Greenhaven Publishing","Library Bound Book",1,"2018","January 2018","Library","6.000 X 9.000","Edited by","Carrie Ann Taylor",null,null,null,null,"Z",null,"Grade 10 - 12","Grade 9 - 12","What is Wikileaks and how does it work? Wikileaks aims to expose secrets and make available important, and often classified, information to the public. The organization's commitment to encouraging and protecting whistleblowers and journalists is seen by many to be a heroic fight for free speech and government transparency. But at what point does the First Amendment matter more than security and diplomacy? Is the organization's agenda really as pure as it purports? Through reading a variety of authoritative viewpoints on the topic, readers will be encouraged to make sense of this ethical dilemma.","English",39.4,31.52,"172--dc23","104 pp.","https://greenhavenpublishing.com/978-1-5345-0205-5",{"$f":"Table1[[#This Row],['# of Books]]*Table1[[#This Row],[QTY]]","v":0},{"$f":"Table1[[#This Row],[QTY]]*Table1[[#This Row],[School & Library Price]]","v":0}]
[null,null,22,null,null,"Current Issues","At Issue","The Ethics of WikiLeaks","978-1-5345-0211-6",{"$f":"HYPERLINK(Table1[[#This Row],[Hyperlink]],\"Weblink\")","v":"Weblink"},"Greenhaven Publishing","Paperback Book",1,"2018","January 2018","Paperback","6.000 X 9.000","Edited by","Carrie Ann Taylor",null,null,null,null,"Z",null,"Grade 10 - 12","Grade 9 - 12","What is Wikileaks and how does it work? Wikileaks aims to expose secrets and make available important, and often classified, information to the public. The organization's commitment to encouraging and protecting whistleblowers and journalists is seen by many to be a heroic fight for free speech and government transparency. But at what point does the First Amendment matter more than security and diplomacy? Is the organization's agenda really as pure as it purports? Through reading a variety of authoritative viewpoints on the topic, readers will be encouraged to make sense of this ethical dilemma.","English",27.8,22.24,"172--dc23","104 pp.","https://greenhavenpublishing.com/978-1-5345-0211-6",{"$f":"Table1[[#This Row],['# of Books]]*Table1[[#This Row],[QTY]]","v":0},{"$f":"Table1[[#This Row],[QTY]]*Table1[[#This Row],[School & Library Price]]","v":0}]
[null,null,22,null,null,"Current Issues","At Issue","The Ethics of WikiLeaks","978-1-5345-0200-0",{"$f":"HYPERLINK(Table1[[#This Row],[Hyperlink]],\"Weblink\")","v":"Weblink"},"Greenhaven Publishing","eBook",1,"2018","January 2018",null,null,"Edited by","Carrie Ann Taylor",null,null,null,null,"Z",null,"Grade 10 - 12","Grade 9 - 12","What is Wikileaks and how does it work? Wikileaks aims to expose secrets and make available important, and often classified, information to the public. The organization's commitment to encouraging and protecting whistleblowers and journalists is seen by many to be a heroic fight for free speech and government transparency. But at what point does the First Amendment matter more than security and diplomacy? Is the organization's agenda really as pure as it purports? Through reading a variety of authoritative viewpoints on the topic, readers will be encouraged to make sense of this ethical dilemma.","English",39.4,31.52,"172--dc23","104 pp.","https://greenhavenpublishing.com/978-1-5345-0200-0",{"$f":"Table1[[#This Row],['# of Books]]*Table1[[#This Row],[QTY]]","v":0},{"$f":"Table1[[#This Row],[QTY]]*Table1[[#This Row],[School & Library Price]]","v":0}]
[null,null,20,null,null,"Current Issues","At Issue","Banned Books","978-1-5345-0075-4",{"$f":"HYPERLINK(Table1[[#This Row],[Hyperlink]],\"Weblink\")","v":"Weblink"},"Greenhaven Publishing","Library Bound Book",1,"2018","August 2017","Library","6.000 X 9.000","Edited by","Marcia Amidon Lusted",null,null,null,null,"Z","1280L","Grade 10 - 12","Grade 9 - 12","It may sound shocking, but even in this current age, books are banned all around the globe. What makes a book inappropriate, even dangerous for public consumption, and who has the power to deem it so? Some governments ban books as a form of censorship. Schools and districts can ban books they consider too racy or inappropriate for their students. Does banning books take away our liberties, attempt to erase history, and impose an agenda? Is the practice actually in our best interest, depending on the circumstance? This balanced volume helps readers to examine this nuanced issue.","English",39.4,31.52,"363.31--dc23","88 pp.","https://greenhavenpublishing.com/978-1-5345-0075-4",{"$f":"Table1[[#This Row],['# of Books]]*Table1[[#This Row],[QTY]]","v":0},{"$f":"Table1[[#This Row],[QTY]]*Table1[[#This Row],[School & Library Price]]","v":0}]
[null,null,20,null,null,"Current Issues","At Issue","Banned Books","978-1-5345-0071-6",{"$f":"HYPERLINK(Table1[[#This Row],[Hyperlink]],\"Weblink\")","v":"Weblink"},"Greenhaven Publishing","Paperback Book",1,"2018","August 2017","Paperback","6.000 X 9.000","Edited by","Marcia Amidon Lusted",null,null,null,null,"Z","1280L","Grade 10 - 12","Grade 9 - 12","It may sound shocking, but even in this current age, books are banned all around the globe. What makes a book inappropriate, even dangerous for public consumption, and who has the power to deem it so? Some governments ban books as a form of censorship. Schools and districts can ban books they consider too racy or inappropriate for their students. Does banning books take away our liberties, attempt to erase history, and impose an agenda? Is the practice actually in our best interest, depending on the circumstance? This balanced volume helps readers to examine this nuanced issue.","English",27.8,22.24,"363.31--dc23","88 pp.","https://greenhavenpublishing.com/978-1-5345-0071-6",{"$f":"Table1[[#This Row],['# of Books]]*Table1[[#This Row],[QTY]]","v":0},{"$f":"Table1[[#This Row],[QTY]]*Table1[[#This Row],[School & Library Price]]","v":0}]
[null,null,20,null,null,"Current Issues","At Issue","Banned Books","978-1-5345-0076-1",{"$f":"HYPERLINK(Table1[[#This Row],[Hyperlink]],\"Weblink\")","v":"Weblink"},"Greenhaven Publishing","eBook",1,"2018","August 2017",null,null,"Edited by","Marcia Amidon Lusted",null,null,null,null,"Z","1280L","Grade 10 - 12","Grade 9 - 12","It may sound shocking, but even in this current age, books are banned all around the globe. What makes a book inappropriate, even dangerous for public consumption, and who has the power to deem it so? Some governments ban books as a form of censorship. Schools and districts can ban books they consider too racy or inappropriate for their students. Does banning books take away our liberties, attempt to erase history, and impose an agenda? Is the practice actually in our best interest, depending on the circumstance? This balanced volume helps readers to examine this nuanced issue.","English",39.4,31.52,"363.31--dc23","88 pp.","https://greenhavenpublishing.com/978-1-5345-0076-1",{"$f":"Table1[[#This Row],['# of Books]]*Table1[[#This Row],[QTY]]","v":0},{"$f":"Table1[[#This Row],[QTY]]*Table1[[#This Row],[School & Library Price]]","v":0}]
[null,null,21,null,null,"Current Issues","At Issue","Civil Disobedience","978-1-5345-0065-5",{"$f":"HYPERLINK(Table1[[#This Row],[Hyperlink]],\"Weblink\")","v":"Weblink"},"Greenhaven Publishing","Library Bound Book",1,"2018","August 2017","Library","6.000 X 9.000","Edited by","Elizabeth Schmermund",null,null,null,null,"Z",null,"Grade 10 - 12","Grade 9 - 12","Civil disobedience, the refusal to obey certain laws, is a method of protest famously articulated by philosopher and writer Henry David Thoreau in his 1849 essay “Civil Disobedience.” Thoreau believed that protest became a moral obligation when laws collided with conscience. Since then, civil disobedience has been employed as a form of rebellion around the world. But is there a place for civil disobedience in democratic societies? When is civil disobedience justifiable? Is violence ever called for? Furthermore, how effective is civil disobedience?","English",39.4,31.52,"303.6'1--dc23","144 pp.","https://greenhavenpublishing.com/978-1-5345-0065-5",{"$f":"Table1[[#This Row],['# of Books]]*Table1[[#This Row],[QTY]]","v":0},{"$f":"Table1[[#This Row],[QTY]]*Table1[[#This Row],[School & Library Price]]","v":0}]
[null,null,21,null,null,"Current Issues","At Issue","Civil Disobedience","978-1-5345-0063-1",{"$f":"HYPERLINK(Table1[[#This Row],[Hyperlink]],\"Weblink\")","v":"Weblink"},"Greenhaven Publishing","Paperback Book",1,"2018","August 2017","Paperback","6.000 X 9.000","Edited by","Elizabeth Schmermund",null,null,null,null,"Z",null,"Grade 10 - 12","Grade 9 - 12","Civil disobedience, the refusal to obey certain laws, is a method of protest famously articulated by philosopher and writer Henry David Thoreau in his 1849 essay “Civil Disobedience.” Thoreau believed that protest became a moral obligation when laws collided with conscience. Since then, civil disobedience has been employed as a form of rebellion around the world. But is there a place for civil disobedience in democratic societies? When is civil disobedience justifiable? Is violence ever called for? Furthermore, how effective is civil disobedience?","English",27.8,22.24,"303.6'1--dc23","144 pp.","https://greenhavenpublishing.com/978-1-5345-0063-1",{"$f":"Table1[[#This Row],['# of Books]]*Table1[[#This Row],[QTY]]","v":0},{"$f":"Table1[[#This Row],[QTY]]*Table1[[#This Row],[School & Library Price]]","v":0}]
[null,null,21,null,null,"Current Issues","At Issue","Civil Disobedience","978-1-5345-0066-2",{"$f":"HYPERLINK(Table1[[#This Row],[Hyperlink]],\"Weblink\")","v":"Weblink"},"Greenhaven Publishing","eBook",1,"2018","August 2017",null,null,"Edited by","Elizabeth Schmermund",null,null,null,null,"Z",null,"Grade 10 - 12","Grade 9 - 12","Civil disobedience, the refusal to obey certain laws, is a method of protest famously articulated by philosopher and writer Henry David Thoreau in his 1849 essay “Civil Disobedience.” Thoreau believed that protest became a moral obligation when laws collided with conscience. Since then, civil disobedience has been employed as a form of rebellion around the world. But is there a place for civil disobedience in democratic societies? When is civil disobedience justifiable? Is violence ever called for? Furthermore, how effective is civil disobedience?","English",39.4,31.52,"303.6'1--dc23","144 pp.","https://greenhavenpublishing.com/978-1-5345-0066-2",{"$f":"Table1[[#This Row],['# of Books]]*Table1[[#This Row],[QTY]]","v":0},{"$f":"Table1[[#This Row],[QTY]]*Table1[[#This Row],[School & Library Price]]","v":0}]
[null,null,23,null,null,"Current Issues","At Issue","Guns: Conceal and Carry","978-1-5345-0062-4",{"$f":"HYPERLINK(Table1[[#This Row],[Hyperlink]],\"Weblink\")","v":"Weblink"},"Greenhaven Publishing","Library Bound Book",1,"2018","August 2017","Library","6.000 X 9.000","Edited by","Anne C. Cunningham",null,null,null,null,"Z",null,"Grade 10 - 12","Grade 9 - 12","Nowhere is the gun control debate more heated than in the United States. Gun control advocates argue for tighter restrictions on purchasing and licensing in the hopes of reducing incidents of shootings. Gun owners fear that their guns will be taken away, eliminating their ability to protect their families. Carrying a concealed handgun is legal in every state, and polls shows that the majority of Americans support conceal and carry. The viewpoints in this volume attempt to answer tough questions, such as “Do concealed handguns deter or increase crime?” and “Do the protections stipulated in the Second Amendment cover today’s gun owners?”","English",39.4,31.52,"344.7305'33--dc23","200 pp.","https://greenhavenpublishing.com/978-1-5345-0062-4",{"$f":"Table1[[#This Row],['# of Books]]*Table1[[#This Row],[QTY]]","v":0},{"$f":"Table1[[#This Row],[QTY]]*Table1[[#This Row],[School & Library Price]]","v":0}]
[null,null,23,null,null,"Current Issues","At Issue","Guns: Conceal and Carry","978-1-5345-0060-0",{"$f":"HYPERLINK(Table1[[#This Row],[Hyperlink]],\"Weblink\")","v":"Weblink"},"Greenhaven Publishing","Paperback Book",1,"2018","August 2017","Paperback","6.000 X 9.000","Edited by","Anne C. Cunningham",null,null,null,null,"Z",null,"Grade 10 - 12","Grade 9 - 12","Nowhere is the gun control debate more heated than in the United States. Gun control advocates argue for tighter restrictions on purchasing and licensing in the hopes of reducing incidents of shootings. Gun owners fear that their guns will be taken away, eliminating their ability to protect their families. Carrying a concealed handgun is legal in every state, and polls shows that the majority of Americans support conceal and carry. The viewpoints in this volume attempt to answer tough questions, such as “Do concealed handguns deter or increase crime?” and “Do the protections stipulated in the Second Amendment cover today’s gun owners?”","English",27.8,22.24,"344.7305'33--dc23","200 pp.","https://greenhavenpublishing.com/978-1-5345-0060-0",{"$f":"Table1[[#This Row],['# of Books]]*Table1[[#This Row],[QTY]]","v":0},{"$f":"Table1[[#This Row],[QTY]]*Table1[[#This Row],[School & Library Price]]","v":0}]
[null,null,23,null,null,"Current Issues","At Issue","Guns: Conceal and Carry","978-1-5345-0073-0",{"$f":"HYPERLINK(Table1[[#This Row],[Hyperlink]],\"Weblink\")","v":"Weblink"},"Greenhaven Publishing","eBook",1,"2018","August 2017",null,null,"Edited by","Anne C. Cunningham",null,null,null,null,"Z",null,"Grade 10 - 12","Grade 9 - 12","Nowhere is the gun control debate more heated than in the United States. Gun control advocates argue for tighter restrictions on purchasing and licensing in the hopes of reducing incidents of shootings. Gun owners fear that their guns will be taken away, eliminating their ability to protect their families. Carrying a concealed handgun is legal in every state, and polls shows that the majority of Americans support conceal and carry. The viewpoints in this volume attempt to answer tough questions, such as “Do concealed handguns deter or increase crime?” and “Do the protections stipulated in the Second Amendment cover today’s gun owners?”","English",39.4,31.52,"344.7305'33--dc23","200 pp.","https://greenhavenpublishing.com/978-1-5345-0073-0",{"$f":"Table1[[#This Row],['# of Books]]*Table1[[#This Row],[QTY]]","v":0},{"$f":"Table1[[#This Row],[QTY]]*Table1[[#This Row],[School & Library Price]]","v":0}]
[null,null,25,null,null,"Current Issues","At Issue","The Right to a Living Wage","978-1-5345-0082-2",{"$f":"HYPERLINK(Table1[[#This Row],[Hyperlink]],\"Weblink\")","v":"Weblink"},"Greenhaven Publishing","Library Bound Book",1,"2018","August 2017","Library","6.000 X 9.000","Edited by","Matt Uhler",null,null,null,null,"Z","1390L","Grade 10 - 12","Grade 9 - 12","With the disappearance of well-paying jobs and the increasing cost of living, it’s becoming more and more difficult to stay afloat in the United States. Workers who earn the minimum wage often can’t afford the most basic needs. In response, more than 100 U.S. cities have issued living wage ordinances, requiring payments that allow workers to afford food, clothing, shelter, utilities, and healthcare. It may seem obvious that everyone wins with a living wage. But does paying out a living wage help or harm the economy? Should corporations be forced to pay them? What is society’s responsibility to its workers?","English",39.4,31.52,"331.2/3--dc23","200 pp.","https://greenhavenpublishing.com/978-1-5345-0082-2",{"$f":"Table1[[#This Row],['# of Books]]*Table1[[#This Row],[QTY]]","v":0},{"$f":"Table1[[#This Row],[QTY]]*Table1[[#This Row],[School & Library Price]]","v":0}]
[null,null,25,null,null,"Current Issues","At Issue","The Right to a Living Wage","978-1-5345-0080-8",{"$f":"HYPERLINK(Table1[[#This Row],[Hyperlink]],\"Weblink\")","v":"Weblink"},"Greenhaven Publishing","Paperback Book",1,"2018","August 2017","Paperback","6.000 X 9.000","Edited by","Matt Uhler",null,null,null,null,"Z","1390L","Grade 10 - 12","Grade 9 - 12","With the disappearance of well-paying jobs and the increasing cost of living, it’s becoming more and more difficult to stay afloat in the United States. Workers who earn the minimum wage often can’t afford the most basic needs. In response, more than 100 U.S. cities have issued living wage ordinances, requiring payments that allow workers to afford food, clothing, shelter, utilities, and healthcare. It may seem obvious that everyone wins with a living wage. But does paying out a living wage help or harm the economy? Should corporations be forced to pay them? What is society’s responsibility to its workers?","English",27.8,22.24,"331.2/3--dc23","200 pp.","https://greenhavenpublishing.com/978-1-5345-0080-8",{"$f":"Table1[[#This Row],['# of Books]]*Table1[[#This Row],[QTY]]","v":0},{"$f":"Table1[[#This Row],[QTY]]*Table1[[#This Row],[School & Library Price]]","v":0}]
[null,null,25,null,null,"Current Issues","At Issue","The Right to a Living Wage","978-1-5345-0083-9",{"$f":"HYPERLINK(Table1[[#This Row],[Hyperlink]],\"Weblink\")","v":"Weblink"},"Greenhaven Publishing","eBook",1,"2018","August 2017",null,null,"Edited by","Matt Uhler",null,null,null,null,"Z","1390L","Grade 10 - 12","Grade 9 - 12","With the disappearance of well-paying jobs and the increasing cost of living, it’s becoming more and more difficult to stay afloat in the United States. Workers who earn the minimum wage often can’t afford the most basic needs. In response, more than 100 U.S. cities have issued living wage ordinances, requiring payments that allow workers to afford food, clothing, shelter, utilities, and healthcare. It may seem obvious that everyone wins with a living wage. But does paying out a living wage help or harm the economy? Should corporations be forced to pay them? What is society’s responsibility to its workers?","English",39.4,31.52,"331.2/3--dc23","200 pp.","https://greenhavenpublishing.com/978-1-5345-0083-9",{"$f":"Table1[[#This Row],['# of Books]]*Table1[[#This Row],[QTY]]","v":0},{"$f":"Table1[[#This Row],[QTY]]*Table1[[#This Row],[School & Library Price]]","v":0}]
[null,null,26,null,null,"Current Issues","At Issue","Trial by Internet","978-1-5345-0069-3",{"$f":"HYPERLINK(Table1[[#This Row],[Hyperlink]],\"Weblink\")","v":"Weblink"},"Greenhaven Publishing","Library Bound Book",1,"2018","August 2017","Library","6.000 X 9.000","Edited by","Avery Elizabeth Hurt",null,null,null,null,"Z","1290L","Grade 10 - 12","Grade 9 - 12","The relative anonymity the Internet provides allows us to assert our knowledge like a professor, show off our seemingly perfect lives, and judge like we're presiding over a court of law. The problem with this relatively new phenomenon is that we often make snap judgments about other people's actions or statements without knowing all of the facts, and without giving others the benefit of the doubt. This volume dives deep into the realities of the Internet age: Do we become different people when we’re on the Internet? What responsibility do we have in our treatment of others in this new society? Is it our place to be virtual judge and jury?","English",39.4,31.52,"364.2/54--dc23","136 pp.","https://greenhavenpublishing.com/978-1-5345-0069-3",{"$f":"Table1[[#This Row],['# of Books]]*Table1[[#This Row],[QTY]]","v":0},{"$f":"Table1[[#This Row],[QTY]]*Table1[[#This Row],[School & Library Price]]","v":0}]
[null,null,26,null,null,"Current Issues","At Issue","Trial by Internet","978-1-5345-0067-9",{"$f":"HYPERLINK(Table1[[#This Row],[Hyperlink]],\"Weblink\")","v":"Weblink"},"Greenhaven Publishing","Paperback Book",1,"2018","August 2017","Paperback","6.000 X 9.000","Edited by","Avery Elizabeth Hurt",null,null,null,null,"Z","1290L","Grade 10 - 12","Grade 9 - 12","The relative anonymity the Internet provides allows us to assert our knowledge like a professor, show off our seemingly perfect lives, and judge like we're presiding over a court of law. The problem with this relatively new phenomenon is that we often make snap judgments about other people's actions or statements without knowing all of the facts, and without giving others the benefit of the doubt. This volume dives deep into the realities of the Internet age: Do we become different people when we’re on the Internet? What responsibility do we have in our treatment of others in this new society? Is it our place to be virtual judge and jury?","English",27.8,22.24,"364.2/54--dc23","136 pp.","https://greenhavenpublishing.com/978-1-5345-0067-9",{"$f":"Table1[[#This Row],['# of Books]]*Table1[[#This Row],[QTY]]","v":0},{"$f":"Table1[[#This Row],[QTY]]*Table1[[#This Row],[School & Library Price]]","v":0}]
[null,null,26,null,null,"Current Issues","At Issue","Trial by Internet","978-1-5345-0070-9",{"$f":"HYPERLINK(Table1[[#This Row],[Hyperlink]],\"Weblink\")","v":"Weblink"},"Greenhaven Publishing","eBook",1,"2018","August 2017",null,null,"Edited by","Avery Elizabeth Hurt",null,null,null,null,"Z","1290L","Grade 10 - 12","Grade 9 - 12","The relative anonymity the Internet provides allows us to assert our knowledge like a professor, show off our seemingly perfect lives, and judge like we're presiding over a court of law. The problem with this relatively new phenomenon is that we often make snap judgments about other people's actions or statements without knowing all of the facts, and without giving others the benefit of the doubt. This volume dives deep into the realities of the Internet age: Do we become different people when we’re on the Internet? What responsibility do we have in our treatment of others in this new society? Is it our place to be virtual judge and jury?","English",39.4,31.52,"364.2/54--dc23","136 pp.","https://greenhavenpublishing.com/978-1-5345-0070-9",{"$f":"Table1[[#This Row],['# of Books]]*Table1[[#This Row],[QTY]]","v":0},{"$f":"Table1[[#This Row],[QTY]]*Table1[[#This Row],[School & Library Price]]","v":0}]
[null,null,27,null,null,"Current Issues","At Issue","When Is Free Speech Hate Speech?","978-1-5345-0077-8",{"$f":"HYPERLINK(Table1[[#This Row],[Hyperlink]],\"Weblink\")","v":"Weblink"},"Greenhaven Publishing","Library Bound Book",1,"2018","August 2017","Library","6.000 X 9.000","Edited by","Martin Gitlin",null,null,null,null,"Z","1340L","Grade 10 - 12","Grade 9 - 12","Free speech is guaranteed under the First Amendment. Although it may hurt and offend, hate speech is still free, under most circumstances. But what happens when institutions like universities adopt policies prohibiting offensive speech? Do such policies cause more harm than good? Should measures be taken to curb threatening or insulting comments? Or does that amount to little more than censorship? Is our quest to be polite and politically correct curtailing opportunities to express, learn, and grow? When does free speech become criminally threatening? These questions and more are thoughtfully examined in this important resource.","English",39.4,31.52,"323.44/30973--dc23","160 pp.","https://greenhavenpublishing.com/978-1-5345-0077-8",{"$f":"Table1[[#This Row],['# of Books]]*Table1[[#This Row],[QTY]]","v":0},{"$f":"Table1[[#This Row],[QTY]]*Table1[[#This Row],[School & Library Price]]","v":0}]
[null,null,27,null,null,"Current Issues","At Issue","When Is Free Speech Hate Speech?","978-1-5345-0078-5",{"$f":"HYPERLINK(Table1[[#This Row],[Hyperlink]],\"Weblink\")","v":"Weblink"},"Greenhaven Publishing","Paperback Book",1,"2018","August 2017","Paperback","6.000 X 9.000","Edited by","Martin Gitlin",null,null,null,null,"Z","1340L","Grade 10 - 12","Grade 9 - 12","Free speech is guaranteed under the First Amendment. Although it may hurt and offend, hate speech is still free, under most circumstances. But what happens when institutions like universities adopt policies prohibiting offensive speech? Do such policies cause more harm than good? Should measures be taken to curb threatening or insulting comments? Or does that amount to little more than censorship? Is our quest to be polite and politically correct curtailing opportunities to express, learn, and grow? When does free speech become criminally threatening? These questions and more are thoughtfully examined in this important resource.","English",27.8,22.24,"323.44/30973--dc23","160 pp.","https://greenhavenpublishing.com/978-1-5345-0078-5",{"$f":"Table1[[#This Row],['# of Books]]*Table1[[#This Row],[QTY]]","v":0},{"$f":"Table1[[#This Row],[QTY]]*Table1[[#This Row],[School & Library Price]]","v":0}]
[null,null,27,null,null,"Current Issues","At Issue","When Is Free Speech Hate Speech?","978-1-5345-0079-2",{"$f":"HYPERLINK(Table1[[#This Row],[Hyperlink]],\"Weblink\")","v":"Weblink"},"Greenhaven Publishing","eBook",1,"2018","August 2017",null,null,"Edited by","Martin Gitlin",null,null,null,null,"Z","1340L","Grade 10 - 12","Grade 9 - 12","Free speech is guaranteed under the First Amendment. Although it may hurt and offend, hate speech is still free, under most circumstances. But what happens when institutions like universities adopt policies prohibiting offensive speech? Do such policies cause more harm than good? Should measures be taken to curb threatening or insulting comments? Or does that amount to little more than censorship? Is our quest to be polite and politically correct curtailing opportunities to express, learn, and grow? When does free speech become criminally threatening? These questions and more are thoughtfully examined in this important resource.","English",39.4,31.52,"323.44/30973--dc23","160 pp.","https://greenhavenpublishing.com/978-1-5345-0079-2",{"$f":"Table1[[#This Row],['# of Books]]*Table1[[#This Row],[QTY]]","v":0},{"$f":"Table1[[#This Row],[QTY]]*Table1[[#This Row],[School & Library Price]]","v":0}]
[null,12,null,null,null,"Current Issues","Current Controversies","Current Controversies (Fall 2020)","978-1-5345-0745-6",{"$f":"HYPERLINK(Table1[[#This Row],[Hyperlink]],\"Weblink\")","v":"Weblink"},"Greenhaven Publishing","Library Set",5,"2021","August 2020","Library","6.000 X 9.000",null,null,null,null,null,null,null,null,"Grade 10 - 12","Grade 9 - 12","Each anthology in this set presents a diverse array of views from a wide spectrum of sources. Views are organized in a question-and-response format to encourage readers to view complex issues from multiple angles. This approach provides students with a concise view of divergent opinions on each topic. Features include: Volume introductions provide the historical and political context necessary to engage with nuanced topics. Curated further reading and organizations to contact lists guide students in continued engagement with each topic.","English",232,185.6,null,"176 pp.","https://greenhavenpublishing.com/978-1-5345-0745-6",{"$f":"Table1[[#This Row],['# of Books]]*Table1[[#This Row],[QTY]]","v":0},{"$f":"Table1[[#This Row],[QTY]]*Table1[[#This Row],[School & Library Price]]","v":0}]
[null,12,null,null,null,"Current Issues","Current Controversies","Current Controversies (Fall 2020)","978-1-5345-0748-7",{"$f":"HYPERLINK(Table1[[#This Row],[Hyperlink]],\"Weblink\")","v":"Weblink"},"Greenhaven Publishing","Single Copy Set",5,"2021","August 2020","Paperback","6.000 X 9.000",null,null,null,null,null,null,null,null,"Grade 10 - 12","Grade 9 - 12","Each anthology in this set presents a diverse array of views from a wide spectrum of sources. Views are organized in a question-and-response format to encourage readers to view complex issues from multiple angles. This approach provides students with a concise view of divergent opinions on each topic. Features include: Volume introductions provide the historical and political context necessary to engage with nuanced topics. Curated further reading and organizations to contact lists guide students in continued engagement with each topic.","English",160,128,null,"176 pp.","https://greenhavenpublishing.com/978-1-5345-0748-7",{"$f":"Table1[[#This Row],['# of Books]]*Table1[[#This Row],[QTY]]","v":0},{"$f":"Table1[[#This Row],[QTY]]*Table1[[#This Row],[School & Library Price]]","v":0}]
[null,12,null,null,null,"Current Issues","Current Controversies","Agriculture","978-1-5345-0697-8",{"$f":"HYPERLINK(Table1[[#This Row],[Hyperlink]],\"Weblink\")","v":"Weblink"},"Greenhaven Publishing","Library Bound Book",1,"2021","August 2020","Library","6.000 X 9.000","Compiled by","Lisa Idzikowski",null,null,null,null,"Z",null,"Grade 10 - 12","Grade 9 - 12","Agriculture has existed for approximately 12,000 years and has played an important role in shaping human history. It enabled the development of the United States, and the family farm has become an indelible image of American resilience and self-sufficiency. However, with changes in technology, the global economy, and our understanding of nutritional needs, the field of agriculture has been forced to adjust to meet twenty-first-century demands. Is it necessary that factory farms displace family farms? Should the government play a larger role in regulating technological innovations like GMOs? This volume guides readers to examine these key issues and many others.","English",46.4,37.119999999999997,"630--dc23","176 pp.","https://greenhavenpublishing.com/978-1-5345-0697-8",{"$f":"Table1[[#This Row],['# of Books]]*Table1[[#This Row],[QTY]]","v":0},{"$f":"Table1[[#This Row],[QTY]]*Table1[[#This Row],[School & Library Price]]","v":0}]
[null,12,null,null,null,"Current Issues","Current Controversies","Agriculture","978-1-5345-0696-1",{"$f":"HYPERLINK(Table1[[#This Row],[Hyperlink]],\"Weblink\")","v":"Weblink"},"Greenhaven Publishing","Paperback Book",1,"2021","August 2020","Paperback","6.000 X 9.000","Compiled by","Lisa Idzikowski",null,null,null,null,"Z",null,"Grade 10 - 12","Grade 9 - 12","Agriculture has existed for approximately 12,000 years and has played an important role in shaping human history. It enabled the development of the United States, and the family farm has become an indelible image of American resilience and self-sufficiency. However, with changes in technology, the global economy, and our understanding of nutritional needs, the field of agriculture has been forced to adjust to meet twenty-first-century demands. Is it necessary that factory farms displace family farms? Should the government play a larger role in regulating technological innovations like GMOs? This volume guides readers to examine these key issues and many others.","English",32,25.6,"630--dc23","176 pp.","https://greenhavenpublishing.com/978-1-5345-0696-1",{"$f":"Table1[[#This Row],['# of Books]]*Table1[[#This Row],[QTY]]","v":0},{"$f":"Table1[[#This Row],[QTY]]*Table1[[#This Row],[School & Library Price]]","v":0}]
[null,12,null,null,null,"Current Issues","Current Controversies","Agriculture","978-1-5345-0698-5",{"$f":"HYPERLINK(Table1[[#This Row],[Hyperlink]],\"Weblink\")","v":"Weblink"},"Greenhaven Publishing","eBook",1,"2021","August 2020",null,null,"Compiled by","Lisa Idzikowski",null,null,null,null,"Z",null,"Grade 10 - 12","Grade 9 - 12","Agriculture has existed for approximately 12,000 years and has played an important role in shaping human history. It enabled the development of the United States, and the family farm has become an indelible image of American resilience and self-sufficiency. However, with changes in technology, the global economy, and our understanding of nutritional needs, the field of agriculture has been forced to adjust to meet twenty-first-century demands. Is it necessary that factory farms displace family farms? Should the government play a larger role in regulating technological innovations like GMOs? This volume guides readers to examine these key issues and many others.","English",46.4,37.119999999999997,"630--dc23","176 pp.","https://greenhavenpublishing.com/978-1-5345-0698-5",{"$f":"Table1[[#This Row],['# of Books]]*Table1[[#This Row],[QTY]]","v":0},{"$f":"Table1[[#This Row],[QTY]]*Table1[[#This Row],[School & Library Price]]","v":0}]
[null,12,null,null,null,"Current Issues","Current Controversies","Holocaust Deniers and Conspiracy Theorists","978-1-5345-0703-6",{"$f":"HYPERLINK(Table1[[#This Row],[Hyperlink]],\"Weblink\")","v":"Weblink"},"Greenhaven Publishing","Library Bound Book",1,"2021","August 2020","Library","6.000 X 9.000","Compiled by","Bridey Heing",null,null,null,null,"Z",null,"Grade 10 - 12","Grade 9 - 12","Conspiracy theories have existed for centuries to rationalize major events and crises, but while they were once relegated to the fringes of discourse, in recent decades, they have increasingly become part of public debate. While many conspiracy theories are innocuous, others, like Holocaust denial, are considered dangerous because their intention to legitimize racist or otherwise hateful ideologies. This resource helps readers to examine key debates and topics related to conspiracy theories. Balancing free speech and public safety, the development of conspiracy theorizing over the past century, the role the internet has played, and whether some conspiracy theories can actually benefit society are all richly analyzed.","English",46.4,37.119999999999997,"001.9--dc23","176 pp.","https://greenhavenpublishing.com/978-1-5345-0703-6",{"$f":"Table1[[#This Row],['# of Books]]*Table1[[#This Row],[QTY]]","v":0},{"$f":"Table1[[#This Row],[QTY]]*Table1[[#This Row],[School & Library Price]]","v":0}]
[null,12,null,null,null,"Current Issues","Current Controversies","Holocaust Deniers and Conspiracy Theorists","978-1-5345-0702-9",{"$f":"HYPERLINK(Table1[[#This Row],[Hyperlink]],\"Weblink\")","v":"Weblink"},"Greenhaven Publishing","Paperback Book",1,"2021","August 2020","Paperback","6.000 X 9.000","Compiled by","Bridey Heing",null,null,null,null,"Z",null,"Grade 10 - 12","Grade 9 - 12","Conspiracy theories have existed for centuries to rationalize major events and crises, but while they were once relegated to the fringes of discourse, in recent decades, they have increasingly become part of public debate. While many conspiracy theories are innocuous, others, like Holocaust denial, are considered dangerous because their intention to legitimize racist or otherwise hateful ideologies. This resource helps readers to examine key debates and topics related to conspiracy theories. Balancing free speech and public safety, the development of conspiracy theorizing over the past century, the role the internet has played, and whether some conspiracy theories can actually benefit society are all richly analyzed.","English",32,25.6,"001.9--dc23","176 pp.","https://greenhavenpublishing.com/978-1-5345-0702-9",{"$f":"Table1[[#This Row],['# of Books]]*Table1[[#This Row],[QTY]]","v":0},{"$f":"Table1[[#This Row],[QTY]]*Table1[[#This Row],[School & Library Price]]","v":0}]
[null,12,null,null,null,"Current Issues","Current Controversies","Holocaust Deniers and Conspiracy Theorists","978-1-5345-0704-3",{"$f":"HYPERLINK(Table1[[#This Row],[Hyperlink]],\"Weblink\")","v":"Weblink"},"Greenhaven Publishing","eBook",1,"2021","August 2020",null,null,"Compiled by","Bridey Heing",null,null,null,null,"Z",null,"Grade 10 - 12","Grade 9 - 12","Conspiracy theories have existed for centuries to rationalize major events and crises, but while they were once relegated to the fringes of discourse, in recent decades, they have increasingly become part of public debate. While many conspiracy theories are innocuous, others, like Holocaust denial, are considered dangerous because their intention to legitimize racist or otherwise hateful ideologies. This resource helps readers to examine key debates and topics related to conspiracy theories. Balancing free speech and public safety, the development of conspiracy theorizing over the past century, the role the internet has played, and whether some conspiracy theories can actually benefit society are all richly analyzed.","English",46.4,37.119999999999997,"001.9--dc23","176 pp.","https://greenhavenpublishing.com/978-1-5345-0704-3",{"$f":"Table1[[#This Row],['# of Books]]*Table1[[#This Row],[QTY]]","v":0},{"$f":"Table1[[#This Row],[QTY]]*Table1[[#This Row],[School & Library Price]]","v":0}]
[null,12,null,null,null,"Current Issues","Current Controversies","Immigration, Asylum, and Sanctuary Cities","978-1-5345-0709-8",{"$f":"HYPERLINK(Table1[[#This Row],[Hyperlink]],\"Weblink\")","v":"Weblink"},"Greenhaven Publishing","Library Bound Book",1,"2021","August 2020","Library","6.000 X 9.000","Compiled by","Ariana Agrios",null,null,null,null,"Z",null,"Grade 10 - 12","Grade 9 - 12","Though sanctuary cities have recently become a significant aspect of the immigration debate as a result of the Trump administration's stricter immigration policies, sanctuary cities have existed in America since the 1980s and for centuries in countries around the world. However, the precise definition and legal standing of sanctuary cities in today's context is often foggy. The viewpoints in this volume discuss the timely issue of sanctuary cities from a variety of angles while also exploring the economic, cultural, political, and moral aspects of asylum and immigration.","English",46.4,37.119999999999997,"325.73--dc23","176 pp.","https://greenhavenpublishing.com/978-1-5345-0709-8",{"$f":"Table1[[#This Row],['# of Books]]*Table1[[#This Row],[QTY]]","v":0},{"$f":"Table1[[#This Row],[QTY]]*Table1[[#This Row],[School & Library Price]]","v":0}]
[null,12,null,null,null,"Current Issues","Current Controversies","Immigration, Asylum, and Sanctuary Cities","978-1-5345-0708-1",{"$f":"HYPERLINK(Table1[[#This Row],[Hyperlink]],\"Weblink\")","v":"Weblink"},"Greenhaven Publishing","Paperback Book",1,"2021","August 2020","Paperback","6.000 X 9.000","Compiled by","Ariana Agrios",null,null,null,null,"Z",null,"Grade 10 - 12","Grade 9 - 12","Though sanctuary cities have recently become a significant aspect of the immigration debate as a result of the Trump administration's stricter immigration policies, sanctuary cities have existed in America since the 1980s and for centuries in countries around the world. However, the precise definition and legal standing of sanctuary cities in today's context is often foggy. The viewpoints in this volume discuss the timely issue of sanctuary cities from a variety of angles while also exploring the economic, cultural, political, and moral aspects of asylum and immigration.","English",32,25.6,"325.73--dc23","176 pp.","https://greenhavenpublishing.com/978-1-5345-0708-1",{"$f":"Table1[[#This Row],['# of Books]]*Table1[[#This Row],[QTY]]","v":0},{"$f":"Table1[[#This Row],[QTY]]*Table1[[#This Row],[School & Library Price]]","v":0}]
[null,12,null,null,null,"Current Issues","Current Controversies","Immigration, Asylum, and Sanctuary Cities","978-1-5345-0710-4",{"$f":"HYPERLINK(Table1[[#This Row],[Hyperlink]],\"Weblink\")","v":"Weblink"},"Greenhaven Publishing","eBook",1,"2021","August 2020",null,null,"Compiled by","Ariana Agrios",null,null,null,null,"Z",null,"Grade 10 - 12","Grade 9 - 12","Though sanctuary cities have recently become a significant aspect of the immigration debate as a result of the Trump administration's stricter immigration policies, sanctuary cities have existed in America since the 1980s and for centuries in countries around the world. However, the precise definition and legal standing of sanctuary cities in today's context is often foggy. The viewpoints in this volume discuss the timely issue of sanctuary cities from a variety of angles while also exploring the economic, cultural, political, and moral aspects of asylum and immigration.","English",46.4,37.119999999999997,"325.73--dc23","176 pp.","https://greenhavenpublishing.com/978-1-5345-0710-4",{"$f":"Table1[[#This Row],['# of Books]]*Table1[[#This Row],[QTY]]","v":0},{"$f":"Table1[[#This Row],[QTY]]*Table1[[#This Row],[School & Library Price]]","v":0}]
[null,12,null,null,null,"Current Issues","Current Controversies","Nativism, Nationalism, and Patriotism","978-1-5345-0700-5",{"$f":"HYPERLINK(Table1[[#This Row],[Hyperlink]],\"Weblink\")","v":"Weblink"},"Greenhaven Publishing","Library Bound Book",1,"2021","August 2020","Library","6.000 X 9.000","Compiled by","Eamon Doyle",null,null,null,null,"Z",null,"Grade 10 - 12","Grade 9 - 12","Since the rise of globalism in the post-Cold War era, neoliberalism and free trade have generally characterized politics in democratic nations. However, in recent years, nationalism has been on the rise in countries around the world, including the United States. Events like the Brexit referendum and the 2016 U.S. presidential election have brought the related issues of nationalism, nativism, and patriotism to the forefront, but much confusion exists when discussing these concepts. The viewpoints presented in this volume clarify the distinctions and interconnections between these concepts while presenting a variety of viewpoints on their role in domestic and global politics.","English",46.4,37.119999999999997,"320.540973--dc23","176 pp.","https://greenhavenpublishing.com/978-1-5345-0700-5",{"$f":"Table1[[#This Row],['# of Books]]*Table1[[#This Row],[QTY]]","v":0},{"$f":"Table1[[#This Row],[QTY]]*Table1[[#This Row],[School & Library Price]]","v":0}]
[null,12,null,null,null,"Current Issues","Current Controversies","Nativism, Nationalism, and Patriotism","978-1-5345-0699-2",{"$f":"HYPERLINK(Table1[[#This Row],[Hyperlink]],\"Weblink\")","v":"Weblink"},"Greenhaven Publishing","Paperback Book",1,"2021","August 2020","Paperback","6.000 X 9.000","Compiled by","Eamon Doyle",null,null,null,null,"Z",null,"Grade 10 - 12","Grade 9 - 12","Since the rise of globalism in the post-Cold War era, neoliberalism and free trade have generally characterized politics in democratic nations. However, in recent years, nationalism has been on the rise in countries around the world, including the United States. Events like the Brexit referendum and the 2016 U.S. presidential election have brought the related issues of nationalism, nativism, and patriotism to the forefront, but much confusion exists when discussing these concepts. The viewpoints presented in this volume clarify the distinctions and interconnections between these concepts while presenting a variety of viewpoints on their role in domestic and global politics.","English",32,25.6,"320.540973--dc23","176 pp.","https://greenhavenpublishing.com/978-1-5345-0699-2",{"$f":"Table1[[#This Row],['# of Books]]*Table1[[#This Row],[QTY]]","v":0},{"$f":"Table1[[#This Row],[QTY]]*Table1[[#This Row],[School & Library Price]]","v":0}]
[null,12,null,null,null,"Current Issues","Current Controversies","Nativism, Nationalism, and Patriotism","978-1-5345-0701-2",{"$f":"HYPERLINK(Table1[[#This Row],[Hyperlink]],\"Weblink\")","v":"Weblink"},"Greenhaven Publishing","eBook",1,"2021","August 2020",null,null,"Compiled by","Eamon Doyle",null,null,null,null,"Z",null,"Grade 10 - 12","Grade 9 - 12","Since the rise of globalism in the post-Cold War era, neoliberalism and free trade have generally characterized politics in democratic nations. However, in recent years, nationalism has been on the rise in countries around the world, including the United States. Events like the Brexit referendum and the 2016 U.S. presidential election have brought the related issues of nationalism, nativism, and patriotism to the forefront, but much confusion exists when discussing these concepts. The viewpoints presented in this volume clarify the distinctions and interconnections between these concepts while presenting a variety of viewpoints on their role in domestic and global politics.","English",46.4,37.119999999999997,"320.540973--dc23","176 pp.","https://greenhavenpublishing.com/978-1-5345-0701-2",{"$f":"Table1[[#This Row],['# of Books]]*Table1[[#This Row],[QTY]]","v":0},{"$f":"Table1[[#This Row],[QTY]]*Table1[[#This Row],[School & Library Price]]","v":0}]
[null,12,null,null,null,"Current Issues","Current Controversies","The Gig Economy","978-1-5345-0706-7",{"$f":"HYPERLINK(Table1[[#This Row],[Hyperlink]],\"Weblink\")","v":"Weblink"},"Greenhaven Publishing","Library Bound Book",1,"2021","August 2020","Library","6.000 X 9.000","Compiled by","Bridey Heing",null,null,null,null,"Z",null,"Grade 10 - 12","Grade 9 - 12","For many, the gig economy is part of everyday life. It affects how our food and groceries are delivered, our transportation options, and where we stay when we travel. But while apps like Uber tend to receive the most attention, this shift in the labor market manifests in many different ways. Essentially, it applies to anyone who forgoes traditional full-time employment for temporary or contract-based work. Your readers will experience a wide range of viewpoints that consider how the gig economy has developed, its advantages and disadvantages for both workers and consumers, and whether regulation could help ensure its growth is beneficial to all involved.","English",46.4,37.119999999999997,"331.25/7290973--dc23","176 pp.","https://greenhavenpublishing.com/978-1-5345-0706-7",{"$f":"Table1[[#This Row],['# of Books]]*Table1[[#This Row],[QTY]]","v":0},{"$f":"Table1[[#This Row],[QTY]]*Table1[[#This Row],[School & Library Price]]","v":0}]
[null,12,null,null,null,"Current Issues","Current Controversies","The Gig Economy","978-1-5345-0705-0",{"$f":"HYPERLINK(Table1[[#This Row],[Hyperlink]],\"Weblink\")","v":"Weblink"},"Greenhaven Publishing","Paperback Book",1,"2021","August 2020","Paperback","6.000 X 9.000","Compiled by","Bridey Heing",null,null,null,null,"Z",null,"Grade 10 - 12","Grade 9 - 12","For many, the gig economy is part of everyday life. It affects how our food and groceries are delivered, our transportation options, and where we stay when we travel. But while apps like Uber tend to receive the most attention, this shift in the labor market manifests in many different ways. Essentially, it applies to anyone who forgoes traditional full-time employment for temporary or contract-based work. Your readers will experience a wide range of viewpoints that consider how the gig economy has developed, its advantages and disadvantages for both workers and consumers, and whether regulation could help ensure its growth is beneficial to all involved.","English",32,25.6,"331.25/7290973--dc23","176 pp.","https://greenhavenpublishing.com/978-1-5345-0705-0",{"$f":"Table1[[#This Row],['# of Books]]*Table1[[#This Row],[QTY]]","v":0},{"$f":"Table1[[#This Row],[QTY]]*Table1[[#This Row],[School & Library Price]]","v":0}]
[null,12,null,null,null,"Current Issues","Current Controversies","The Gig Economy","978-1-5345-0707-4",{"$f":"HYPERLINK(Table1[[#This Row],[Hyperlink]],\"Weblink\")","v":"Weblink"},"Greenhaven Publishing","eBook",1,"2021","August 2020",null,null,"Compiled by","Bridey Heing",null,null,null,null,"Z",null,"Grade 10 - 12","Grade 9 - 12","For many, the gig economy is part of everyday life. It affects how our food and groceries are delivered, our transportation options, and where we stay when we travel. But while apps like Uber tend to receive the most attention, this shift in the labor market manifests in many different ways. Essentially, it applies to anyone who forgoes traditional full-time employment for temporary or contract-based work. Your readers will experience a wide range of viewpoints that consider how the gig economy has developed, its advantages and disadvantages for both workers and consumers, and whether regulation could help ensure its growth is beneficial to all involved.","English",46.4,37.119999999999997,"331.25/7290973--dc23","176 pp.","https://greenhavenpublishing.com/978-1-5345-0707-4",{"$f":"Table1[[#This Row],['# of Books]]*Table1[[#This Row],[QTY]]","v":0},{"$f":"Table1[[#This Row],[QTY]]*Table1[[#This Row],[School & Library Price]]","v":0}]
[null,null,28,null,null,"Current Issues","Current Controversies","Current Controversies (Spring 2020)","978-1-5345-0671-8",{"$f":"HYPERLINK(Table1[[#This Row],[Hyperlink]],\"Weblink\")","v":"Weblink"},"Greenhaven Publishing","Library Set",6,"2020","January 2020","Library","6.000 X 9.000",null,null,null,null,null,null,null,null,"Grade 10 - 12","Grade 9 - 12","Each of these anthologies presents a diverse array of views from a wide spectrum of sources. Views are organized in a question-and-response format to encourage readers to view complex issues from multiple angles. This approach provides students with a concise view of divergent opinions on each topic. Features include: Question-and-answer chapter format offers a balanced approach to arguments on both sides of contemporary debates. Introductions provide the historical and political context necessary to engage with nuanced topics. Curated further reading and organizations to contact lists guide students in continued engagement with the topics covered.","English",278.39999999999998,222.72,null,"176–200 pp.","https://greenhavenpublishing.com/978-1-5345-0671-8",{"$f":"Table1[[#This Row],['# of Books]]*Table1[[#This Row],[QTY]]","v":0},{"$f":"Table1[[#This Row],[QTY]]*Table1[[#This Row],[School & Library Price]]","v":0}]
[null,null,28,null,null,"Current Issues","Current Controversies","Current Controversies (Spring 2020)","978-1-5345-0676-3",{"$f":"HYPERLINK(Table1[[#This Row],[Hyperlink]],\"Weblink\")","v":"Weblink"},"Greenhaven Publishing","Single Copy Set",6,"2020","January 2020","Paperback","6.000 X 9.000",null,null,null,null,null,null,null,null,"Grade 10 - 12","Grade 9 - 12","Each of these anthologies presents a diverse array of views from a wide spectrum of sources. Views are organized in a question-and-response format to encourage readers to view complex issues from multiple angles. This approach provides students with a concise view of divergent opinions on each topic. Features include: Question-and-answer chapter format offers a balanced approach to arguments on both sides of contemporary debates. Introductions provide the historical and political context necessary to engage with nuanced topics. Curated further reading and organizations to contact lists guide students in continued engagement with the topics covered.","English",192,153.6,null,"176–200 pp.","https://greenhavenpublishing.com/978-1-5345-0676-3",{"$f":"Table1[[#This Row],['# of Books]]*Table1[[#This Row],[QTY]]","v":0},{"$f":"Table1[[#This Row],[QTY]]*Table1[[#This Row],[School & Library Price]]","v":0}]
[null,13,28,null,null,"Current Issues","Current Controversies","America's Mental Health Crisis","978-1-5345-0614-5",{"$f":"HYPERLINK(Table1[[#This Row],[Hyperlink]],\"Weblink\")","v":"Weblink"},"Greenhaven Publishing","Library Bound Book",1,"2020","January 2020","Library","6.000 X 9.000","Edited by","Nadra Nittle",null,null,null,null,"Z",null,"Grade 10 - 12","Grade 9 - 12","Approximately one in five adults in the United States experience mental illness on an annual basis, and emotional, behavioral, or mental disorders are just as prevalent among young people. Issues like homelessness and mass violence have brought mental illness into the spotlight, but have significant strides been made in addressing mental health issues in recent years or are these disorders still widely stigmatized? This volume explores the questions of whether mental health issues stem from uniquely American factors, how accessible treatment is to those who need it, and whether modern technology plays a role in America's mental health.","English",46.4,37.119999999999997,"362.20973--dc23","200 pp.","https://greenhavenpublishing.com/978-1-5345-0614-5",{"$f":"Table1[[#This Row],['# of Books]]*Table1[[#This Row],[QTY]]","v":0},{"$f":"Table1[[#This Row],[QTY]]*Table1[[#This Row],[School & Library Price]]","v":0}]
[null,13,28,null,null,"Current Issues","Current Controversies","America's Mental Health Crisis","978-1-5345-0613-8",{"$f":"HYPERLINK(Table1[[#This Row],[Hyperlink]],\"Weblink\")","v":"Weblink"},"Greenhaven Publishing","Paperback Book",1,"2020","January 2020","Paperback","6.000 X 9.000","Edited by","Nadra Nittle",null,null,null,null,"Z",null,"Grade 10 - 12","Grade 9 - 12","Approximately one in five adults in the United States experience mental illness on an annual basis, and emotional, behavioral, or mental disorders are just as prevalent among young people. Issues like homelessness and mass violence have brought mental illness into the spotlight, but have significant strides been made in addressing mental health issues in recent years or are these disorders still widely stigmatized? This volume explores the questions of whether mental health issues stem from uniquely American factors, how accessible treatment is to those who need it, and whether modern technology plays a role in America's mental health.","English",32,25.6,"362.20973--dc23","200 pp.","https://greenhavenpublishing.com/978-1-5345-0613-8",{"$f":"Table1[[#This Row],['# of Books]]*Table1[[#This Row],[QTY]]","v":0},{"$f":"Table1[[#This Row],[QTY]]*Table1[[#This Row],[School & Library Price]]","v":0}]
[null,13,28,null,null,"Current Issues","Current Controversies","America's Mental Health Crisis","978-1-5345-0615-2",{"$f":"HYPERLINK(Table1[[#This Row],[Hyperlink]],\"Weblink\")","v":"Weblink"},"Greenhaven Publishing","eBook",1,"2020","January 2020",null,null,"Edited by","Nadra Nittle",null,null,null,null,"Z",null,"Grade 10 - 12","Grade 9 - 12","Approximately one in five adults in the United States experience mental illness on an annual basis, and emotional, behavioral, or mental disorders are just as prevalent among young people. Issues like homelessness and mass violence have brought mental illness into the spotlight, but have significant strides been made in addressing mental health issues in recent years or are these disorders still widely stigmatized? This volume explores the questions of whether mental health issues stem from uniquely American factors, how accessible treatment is to those who need it, and whether modern technology plays a role in America's mental health.","English",46.4,37.119999999999997,"362.20973--dc23","200 pp.","https://greenhavenpublishing.com/978-1-5345-0615-2",{"$f":"Table1[[#This Row],['# of Books]]*Table1[[#This Row],[QTY]]","v":0},{"$f":"Table1[[#This Row],[QTY]]*Table1[[#This Row],[School & Library Price]]","v":0}]
[null,13,28,null,null,"Current Issues","Current Controversies","Environmental Catastrophe","978-1-5345-0617-6",{"$f":"HYPERLINK(Table1[[#This Row],[Hyperlink]],\"Weblink\")","v":"Weblink"},"Greenhaven Publishing","Library Bound Book",1,"2020","January 2020","Library","6.000 X 9.000","Edited by","Bridey Heing",null,null,null,null,"Z",null,"Grade 10 - 12","Grade 9 - 12","Unlike natural disasters, which happen because of the earth's natural geological processes, environmental catastrophes are devastating events that occur due to humanity's impact on the environment. These can include nuclear bombings, oil spills, and more recently the extreme weather events brought about by climate change. Wildfires, heat waves, flooding, droughts, and numerous other catastrophic scenarios manifest as a result. Use this volume to inform and alert your readers about this essential topic. With the global impact of environmental catastrophes becoming increasingly pronounced, scientists and politicians alike question what the best course of action may be to slow or even reverse the devastation. With this book, readers will form intelligent opinions that can help shape future action about necessary solutions.","English",46.4,37.119999999999997,"363.738/74--dc23","176 pp.","https://greenhavenpublishing.com/978-1-5345-0617-6",{"$f":"Table1[[#This Row],['# of Books]]*Table1[[#This Row],[QTY]]","v":0},{"$f":"Table1[[#This Row],[QTY]]*Table1[[#This Row],[School & Library Price]]","v":0}]
[null,13,28,null,null,"Current Issues","Current Controversies","Environmental Catastrophe","978-1-5345-0616-9",{"$f":"HYPERLINK(Table1[[#This Row],[Hyperlink]],\"Weblink\")","v":"Weblink"},"Greenhaven Publishing","Paperback Book",1,"2020","January 2020","Paperback","6.000 X 9.000","Edited by","Bridey Heing",null,null,null,null,"Z",null,"Grade 10 - 12","Grade 9 - 12","Unlike natural disasters, which happen because of the earth's natural geological processes, environmental catastrophes are devastating events that occur due to humanity's impact on the environment. These can include nuclear bombings, oil spills, and more recently the extreme weather events brought about by climate change. Wildfires, heat waves, flooding, droughts, and numerous other catastrophic scenarios manifest as a result. Use this volume to inform and alert your readers about this essential topic. With the global impact of environmental catastrophes becoming increasingly pronounced, scientists and politicians alike question what the best course of action may be to slow or even reverse the devastation. With this book, readers will form intelligent opinions that can help shape future action about necessary solutions.","English",32,25.6,"363.738/74--dc23","176 pp.","https://greenhavenpublishing.com/978-1-5345-0616-9",{"$f":"Table1[[#This Row],['# of Books]]*Table1[[#This Row],[QTY]]","v":0},{"$f":"Table1[[#This Row],[QTY]]*Table1[[#This Row],[School & Library Price]]","v":0}]
[null,13,28,null,null,"Current Issues","Current Controversies","Environmental Catastrophe","978-1-5345-0618-3",{"$f":"HYPERLINK(Table1[[#This Row],[Hyperlink]],\"Weblink\")","v":"Weblink"},"Greenhaven Publishing","eBook",1,"2020","January 2020",null,null,"Edited by","Bridey Heing",null,null,null,null,"Z",null,"Grade 10 - 12","Grade 9 - 12","Unlike natural disasters, which happen because of the earth's natural geological processes, environmental catastrophes are devastating events that occur due to humanity's impact on the environment. These can include nuclear bombings, oil spills, and more recently the extreme weather events brought about by climate change. Wildfires, heat waves, flooding, droughts, and numerous other catastrophic scenarios manifest as a result. Use this volume to inform and alert your readers about this essential topic. With the global impact of environmental catastrophes becoming increasingly pronounced, scientists and politicians alike question what the best course of action may be to slow or even reverse the devastation. With this book, readers will form intelligent opinions that can help shape future action about necessary solutions.","English",46.4,37.119999999999997,"363.738/74--dc23","176 pp.","https://greenhavenpublishing.com/978-1-5345-0618-3",{"$f":"Table1[[#This Row],['# of Books]]*Table1[[#This Row],[QTY]]","v":0},{"$f":"Table1[[#This Row],[QTY]]*Table1[[#This Row],[School & Library Price]]","v":0}]
[null,13,28,null,null,"Current Issues","Current Controversies","Fair Trade","978-1-5345-0609-1",{"$f":"HYPERLINK(Table1[[#This Row],[Hyperlink]],\"Weblink\")","v":"Weblink"},"Greenhaven Publishing","Library Bound Book",1,"2020","January 2020","Library","6.000 X 9.000","Edited by","Ariana Agrios",null,null,null,null,"Z",null,"Grade 10 - 12","Grade 9 - 12","Fair trade is intended to help producers in developing countries achieve better working and trading conditions while maintaining certain environmental standards. This is achieved through arrangements with distributors around the world. With the influx of fair trade goods on grocery store shelves and restaurant menus, one would assume an overall positive trend in trade conditions is occurring. However, numerous concerns continue to surround fair trade, as readers will learn. They will consider whether it benefits all developing countries and markets equally, and analyze the extent to which it is effective at protecting the environment. They will develop intelligent opinions on which conditions will make trade as fair as possible.","English",46.4,37.119999999999997,"382/.3091724--dc23","176 pp.","https://greenhavenpublishing.com/978-1-5345-0609-1",{"$f":"Table1[[#This Row],['# of Books]]*Table1[[#This Row],[QTY]]","v":0},{"$f":"Table1[[#This Row],[QTY]]*Table1[[#This Row],[School & Library Price]]","v":0}]
[null,13,28,null,null,"Current Issues","Current Controversies","Fair Trade","978-1-5345-0608-4",{"$f":"HYPERLINK(Table1[[#This Row],[Hyperlink]],\"Weblink\")","v":"Weblink"},"Greenhaven Publishing","Paperback Book",1,"2020","January 2020","Paperback","6.000 X 9.000","Edited by","Ariana Agrios",null,null,null,null,"Z",null,"Grade 10 - 12","Grade 9 - 12","Fair trade is intended to help producers in developing countries achieve better working and trading conditions while maintaining certain environmental standards. This is achieved through arrangements with distributors around the world. With the influx of fair trade goods on grocery store shelves and restaurant menus, one would assume an overall positive trend in trade conditions is occurring. However, numerous concerns continue to surround fair trade, as readers will learn. They will consider whether it benefits all developing countries and markets equally, and analyze the extent to which it is effective at protecting the environment. They will develop intelligent opinions on which conditions will make trade as fair as possible.","English",32,25.6,"382/.3091724--dc23","176 pp.","https://greenhavenpublishing.com/978-1-5345-0608-4",{"$f":"Table1[[#This Row],['# of Books]]*Table1[[#This Row],[QTY]]","v":0},{"$f":"Table1[[#This Row],[QTY]]*Table1[[#This Row],[School & Library Price]]","v":0}]
[null,13,28,null,null,"Current Issues","Current Controversies","Fair Trade","978-1-5345-0621-3",{"$f":"HYPERLINK(Table1[[#This Row],[Hyperlink]],\"Weblink\")","v":"Weblink"},"Greenhaven Publishing","eBook",1,"2020","January 2020",null,null,"Edited by","Ariana Agrios",null,null,null,null,"Z",null,"Grade 10 - 12","Grade 9 - 12","Fair trade is intended to help producers in developing countries achieve better working and trading conditions while maintaining certain environmental standards. This is achieved through arrangements with distributors around the world. With the influx of fair trade goods on grocery store shelves and restaurant menus, one would assume an overall positive trend in trade conditions is occurring. However, numerous concerns continue to surround fair trade, as readers will learn. They will consider whether it benefits all developing countries and markets equally, and analyze the extent to which it is effective at protecting the environment. They will develop intelligent opinions on which conditions will make trade as fair as possible.","English",46.4,37.119999999999997,"382/.3091724--dc23","176 pp.","https://greenhavenpublishing.com/978-1-5345-0621-3",{"$f":"Table1[[#This Row],['# of Books]]*Table1[[#This Row],[QTY]]","v":0},{"$f":"Table1[[#This Row],[QTY]]*Table1[[#This Row],[School & Library Price]]","v":0}]
[null,13,28,null,null,"Current Issues","Current Controversies","Freedom of the Press","978-1-5345-0605-3",{"$f":"HYPERLINK(Table1[[#This Row],[Hyperlink]],\"Weblink\")","v":"Weblink"},"Greenhaven Publishing","Library Bound Book",1,"2020","January 2020","Library","6.000 X 9.000","Edited by","Andrew Karpan",null,null,null,null,"Z",null,"Grade 10 - 12","Grade 9 - 12","The rights protecting journalists and the press in the United States are a defining aspect of the nation's democratic nature. What tends to be discussed less frequently is how today's media environment enables or hinders a free press. Has the internet made the press freer or restricted it in new ways? How do issues like funding, the role of media conglomerates, and legal actions against journalists and publications fit into a free media landscape? These questions will be explored from varying perspectives in this timely volume.","English",46.4,37.119999999999997,"323.44/50973--dc23","176 pp.","https://greenhavenpublishing.com/978-1-5345-0605-3",{"$f":"Table1[[#This Row],['# of Books]]*Table1[[#This Row],[QTY]]","v":0},{"$f":"Table1[[#This Row],[QTY]]*Table1[[#This Row],[School & Library Price]]","v":0}]
[null,13,28,null,null,"Current Issues","Current Controversies","Freedom of the Press","978-1-5345-0604-6",{"$f":"HYPERLINK(Table1[[#This Row],[Hyperlink]],\"Weblink\")","v":"Weblink"},"Greenhaven Publishing","Paperback Book",1,"2020","January 2020","Paperback","6.000 X 9.000","Edited by","Andrew Karpan",null,null,null,null,"Z",null,"Grade 10 - 12","Grade 9 - 12","The rights protecting journalists and the press in the United States are a defining aspect of the nation's democratic nature. What tends to be discussed less frequently is how today's media environment enables or hinders a free press. Has the internet made the press freer or restricted it in new ways? How do issues like funding, the role of media conglomerates, and legal actions against journalists and publications fit into a free media landscape? These questions will be explored from varying perspectives in this timely volume.","English",32,25.6,"323.44/50973--dc23","176 pp.","https://greenhavenpublishing.com/978-1-5345-0604-6",{"$f":"Table1[[#This Row],['# of Books]]*Table1[[#This Row],[QTY]]","v":0},{"$f":"Table1[[#This Row],[QTY]]*Table1[[#This Row],[School & Library Price]]","v":0}]
[null,13,28,null,null,"Current Issues","Current Controversies","Freedom of the Press","978-1-5345-0619-0",{"$f":"HYPERLINK(Table1[[#This Row],[Hyperlink]],\"Weblink\")","v":"Weblink"},"Greenhaven Publishing","eBook",1,"2020","January 2020",null,null,"Edited by","Andrew Karpan",null,null,null,null,"Z",null,"Grade 10 - 12","Grade 9 - 12","The rights protecting journalists and the press in the United States are a defining aspect of the nation's democratic nature. What tends to be discussed less frequently is how today's media environment enables or hinders a free press. Has the internet made the press freer or restricted it in new ways? How do issues like funding, the role of media conglomerates, and legal actions against journalists and publications fit into a free media landscape? These questions will be explored from varying perspectives in this timely volume.","English",46.4,37.119999999999997,"323.44/50973--dc23","176 pp.","https://greenhavenpublishing.com/978-1-5345-0619-0",{"$f":"Table1[[#This Row],['# of Books]]*Table1[[#This Row],[QTY]]","v":0},{"$f":"Table1[[#This Row],[QTY]]*Table1[[#This Row],[School & Library Price]]","v":0}]
[null,13,28,null,null,"Current Issues","Current Controversies","Medical Use of Illicit Drugs","978-1-5345-0611-4",{"$f":"HYPERLINK(Table1[[#This Row],[Hyperlink]],\"Weblink\")","v":"Weblink"},"Greenhaven Publishing","Library Bound Book",1,"2020","January 2020","Library","6.000 X 9.000","Edited by","Kathleen Cronin",null,null,null,null,"Z",null,"Grade 10 - 12","Grade 9 - 12","With the legalization of medical marijuana becoming increasingly common in many states, the medicinal potential of formerly illicit drugs has caught the public's attention. However, marijuana is not the only drug being researched and used medicinally: MDMA, psilocybin, and ketamine have been found to have therapeutic qualities, which leads some to question whether the medical use of these substances may also be legal in the future. This volume helps readers explore issues like regulation, the ethics of using illicit drugs in medical and scientific research, and its place in the greater history of drug regulation in the United States.","English",46.4,37.119999999999997,"615.7/883--dc23","200 pp.","https://greenhavenpublishing.com/978-1-5345-0611-4",{"$f":"Table1[[#This Row],['# of Books]]*Table1[[#This Row],[QTY]]","v":0},{"$f":"Table1[[#This Row],[QTY]]*Table1[[#This Row],[School & Library Price]]","v":0}]
[null,13,28,null,null,"Current Issues","Current Controversies","Medical Use of Illicit Drugs","978-1-5345-0610-7",{"$f":"HYPERLINK(Table1[[#This Row],[Hyperlink]],\"Weblink\")","v":"Weblink"},"Greenhaven Publishing","Paperback Book",1,"2020","January 2020","Paperback","6.000 X 9.000","Edited by","Kathleen Cronin",null,null,null,null,"Z",null,"Grade 10 - 12","Grade 9 - 12","With the legalization of medical marijuana becoming increasingly common in many states, the medicinal potential of formerly illicit drugs has caught the public's attention. However, marijuana is not the only drug being researched and used medicinally: MDMA, psilocybin, and ketamine have been found to have therapeutic qualities, which leads some to question whether the medical use of these substances may also be legal in the future. This volume helps readers explore issues like regulation, the ethics of using illicit drugs in medical and scientific research, and its place in the greater history of drug regulation in the United States.","English",32,25.6,"615.7/883--dc23","200 pp.","https://greenhavenpublishing.com/978-1-5345-0610-7",{"$f":"Table1[[#This Row],['# of Books]]*Table1[[#This Row],[QTY]]","v":0},{"$f":"Table1[[#This Row],[QTY]]*Table1[[#This Row],[School & Library Price]]","v":0}]
[null,13,28,null,null,"Current Issues","Current Controversies","Medical Use of Illicit Drugs","978-1-5345-0612-1",{"$f":"HYPERLINK(Table1[[#This Row],[Hyperlink]],\"Weblink\")","v":"Weblink"},"Greenhaven Publishing","eBook",1,"2020","January 2020",null,null,"Edited by","Kathleen Cronin",null,null,null,null,"Z",null,"Grade 10 - 12","Grade 9 - 12","With the legalization of medical marijuana becoming increasingly common in many states, the medicinal potential of formerly illicit drugs has caught the public's attention. However, marijuana is not the only drug being researched and used medicinally: MDMA, psilocybin, and ketamine have been found to have therapeutic qualities, which leads some to question whether the medical use of these substances may also be legal in the future. This volume helps readers explore issues like regulation, the ethics of using illicit drugs in medical and scientific research, and its place in the greater history of drug regulation in the United States.","English",46.4,37.119999999999997,"615.7/883--dc23","200 pp.","https://greenhavenpublishing.com/978-1-5345-0612-1",{"$f":"Table1[[#This Row],['# of Books]]*Table1[[#This Row],[QTY]]","v":0},{"$f":"Table1[[#This Row],[QTY]]*Table1[[#This Row],[School & Library Price]]","v":0}]
[null,13,28,null,null,"Current Issues","Current Controversies","The Dark Web","978-1-5345-0607-7",{"$f":"HYPERLINK(Table1[[#This Row],[Hyperlink]],\"Weblink\")","v":"Weblink"},"Greenhaven Publishing","Library Bound Book",1,"2020","January 2020","Library","6.000 X 9.000","Edited by","Eamon Doyle",null,null,null,null,"Z",null,"Grade 10 - 12","Grade 9 - 12","Discussions of the dark web often have sinister connotations, as its capacity to enable various crimes is the aspect that most people fixate upon. However, there is nothing fundamentally criminal about the dark web. It is simply an encrypted part of the internet that allows users to remain anonymous. Nonetheless, a considerable amount of illegal activity does occur on it, making the questions of how it can be monitored and the extent to which it should be pressing issues. This volume explores the various issues related to the dark web, giving readers a better understanding of this enigmatic topic.","English",46.4,37.119999999999997,"364.16'8--dc23","200 pp.","https://greenhavenpublishing.com/978-1-5345-0607-7",{"$f":"Table1[[#This Row],['# of Books]]*Table1[[#This Row],[QTY]]","v":0},{"$f":"Table1[[#This Row],[QTY]]*Table1[[#This Row],[School & Library Price]]","v":0}]
[null,13,28,null,null,"Current Issues","Current Controversies","The Dark Web","978-1-5345-0606-0",{"$f":"HYPERLINK(Table1[[#This Row],[Hyperlink]],\"Weblink\")","v":"Weblink"},"Greenhaven Publishing","Paperback Book",1,"2020","January 2020","Paperback","6.000 X 9.000","Edited by","Eamon Doyle",null,null,null,null,"Z",null,"Grade 10 - 12","Grade 9 - 12","Discussions of the dark web often have sinister connotations, as its capacity to enable various crimes is the aspect that most people fixate upon. However, there is nothing fundamentally criminal about the dark web. It is simply an encrypted part of the internet that allows users to remain anonymous. Nonetheless, a considerable amount of illegal activity does occur on it, making the questions of how it can be monitored and the extent to which it should be pressing issues. This volume explores the various issues related to the dark web, giving readers a better understanding of this enigmatic topic.","English",32,25.6,"364.16'8--dc23","200 pp.","https://greenhavenpublishing.com/978-1-5345-0606-0",{"$f":"Table1[[#This Row],['# of Books]]*Table1[[#This Row],[QTY]]","v":0},{"$f":"Table1[[#This Row],[QTY]]*Table1[[#This Row],[School & Library Price]]","v":0}]
[null,13,28,null,null,"Current Issues","Current Controversies","The Dark Web","978-1-5345-0620-6",{"$f":"HYPERLINK(Table1[[#This Row],[Hyperlink]],\"Weblink\")","v":"Weblink"},"Greenhaven Publishing","eBook",1,"2020","January 2020",null,null,"Edited by","Eamon Doyle",null,null,null,null,"Z",null,"Grade 10 - 12","Grade 9 - 12","Discussions of the dark web often have sinister connotations, as its capacity to enable various crimes is the aspect that most people fixate upon. However, there is nothing fundamentally criminal about the dark web. It is simply an encrypted part of the internet that allows users to remain anonymous. Nonetheless, a considerable amount of illegal activity does occur on it, making the questions of how it can be monitored and the extent to which it should be pressing issues. This volume explores the various issues related to the dark web, giving readers a better understanding of this enigmatic topic.","English",46.4,37.119999999999997,"364.16'8--dc23","200 pp.","https://greenhavenpublishing.com/978-1-5345-0620-6",{"$f":"Table1[[#This Row],['# of Books]]*Table1[[#This Row],[QTY]]","v":0},{"$f":"Table1[[#This Row],[QTY]]*Table1[[#This Row],[School & Library Price]]","v":0}]
[null,null,28,null,null,"Current Issues","Current Controversies","Current Controversies (Fall 2019)","978-1-5345-0580-3",{"$f":"HYPERLINK(Table1[[#This Row],[Hyperlink]],\"Weblink\")","v":"Weblink"},"Greenhaven Publishing","Library Set",6,"2020","August 2019","Library","6.000 X 9.000",null,null,null,null,null,null,null,null,"Grade 10 - 12","Grade 9 - 12","Each anthology in the Current Controversies series presents a diverse array of views from a wide spectrum of sources. Views are organized in a question-and-response format to encourage readers to view complex issues from multiple angles. This approach provides students with a concise view of divergent opinions on each topic. Features include: Essays, articles, and primary sources in one convenient source. Website lists and further information sections encourage further research and independent study.","English",278.39999999999998,222.72,null,"176–200 pp.","https://greenhavenpublishing.com/978-1-5345-0580-3",{"$f":"Table1[[#This Row],['# of Books]]*Table1[[#This Row],[QTY]]","v":0},{"$f":"Table1[[#This Row],[QTY]]*Table1[[#This Row],[School & Library Price]]","v":0}]
[null,null,28,null,null,"Current Issues","Current Controversies","Current Controversies (Fall 2019)","978-1-5345-0584-1",{"$f":"HYPERLINK(Table1[[#This Row],[Hyperlink]],\"Weblink\")","v":"Weblink"},"Greenhaven Publishing","Single Copy Set",6,"2020","August 2019","Paperback","6.000 X 9.000",null,null,null,null,null,null,null,null,"Grade 10 - 12","Grade 9 - 12","Each anthology in the Current Controversies series presents a diverse array of views from a wide spectrum of sources. Views are organized in a question-and-response format to encourage readers to view complex issues from multiple angles. This approach provides students with a concise view of divergent opinions on each topic. Features include: Essays, articles, and primary sources in one convenient source. Website lists and further information sections encourage further research and independent study.","English",192,153.6,null,"176–200 pp.","https://greenhavenpublishing.com/978-1-5345-0584-1",{"$f":"Table1[[#This Row],['# of Books]]*Table1[[#This Row],[QTY]]","v":0},{"$f":"Table1[[#This Row],[QTY]]*Table1[[#This Row],[School & Library Price]]","v":0}]
[null,13,28,null,null,"Current Issues","Current Controversies","Cryptocurrencies and Blockchain Technology","978-1-5345-0533-9",{"$f":"HYPERLINK(Table1[[#This Row],[Hyperlink]],\"Weblink\")","v":"Weblink"},"Greenhaven Publishing","Library Bound Book",1,"2020","August 2019","Library","6.000 X 9.000","Edited by","Andrew Karpan",null,null,null,null,"Z",null,"Grade 10 - 12","Grade 9 - 12","With cryptocurrencies like Bitcoin on the rise, many wonder if these digital currencies could be the exchange medium of the future, but what are cryptocurrencies and the blockchain technology that facilitates them? Blockchain technology involves linking a series of digital records through cryptography without the use of a centralized server, which when applied to asset exchange creates cryptocurrencies. However, there are various concerns about the ability to regulate cryptocurrencies, their stability, and whether they can be applied on a global scale. This volume enables readers to better understand these new technologies and the controversies surrounding them.","English",46.4,37.119999999999997,"332.4--dc23","176 pp.","https://greenhavenpublishing.com/978-1-5345-0533-9",{"$f":"Table1[[#This Row],['# of Books]]*Table1[[#This Row],[QTY]]","v":0},{"$f":"Table1[[#This Row],[QTY]]*Table1[[#This Row],[School & Library Price]]","v":0}]
[null,13,28,null,null,"Current Issues","Current Controversies","Cryptocurrencies and Blockchain Technology","978-1-5345-0534-6",{"$f":"HYPERLINK(Table1[[#This Row],[Hyperlink]],\"Weblink\")","v":"Weblink"},"Greenhaven Publishing","Paperback Book",1,"2020","August 2019","Paperback","6.000 X 9.000","Edited by","Andrew Karpan",null,null,null,null,"Z",null,"Grade 10 - 12","Grade 9 - 12","With cryptocurrencies like Bitcoin on the rise, many wonder if these digital currencies could be the exchange medium of the future, but what are cryptocurrencies and the blockchain technology that facilitates them? Blockchain technology involves linking a series of digital records through cryptography without the use of a centralized server, which when applied to asset exchange creates cryptocurrencies. However, there are various concerns about the ability to regulate cryptocurrencies, their stability, and whether they can be applied on a global scale. This volume enables readers to better understand these new technologies and the controversies surrounding them.","English",32,25.6,"332.4--dc23","176 pp.","https://greenhavenpublishing.com/978-1-5345-0534-6",{"$f":"Table1[[#This Row],['# of Books]]*Table1[[#This Row],[QTY]]","v":0},{"$f":"Table1[[#This Row],[QTY]]*Table1[[#This Row],[School & Library Price]]","v":0}]
[null,13,28,null,null,"Current Issues","Current Controversies","Cryptocurrencies and Blockchain Technology","978-1-5345-0535-3",{"$f":"HYPERLINK(Table1[[#This Row],[Hyperlink]],\"Weblink\")","v":"Weblink"},"Greenhaven Publishing","eBook",1,"2020","August 2019",null,null,"Edited by","Andrew Karpan",null,null,null,null,"Z",null,"Grade 10 - 12","Grade 9 - 12","With cryptocurrencies like Bitcoin on the rise, many wonder if these digital currencies could be the exchange medium of the future, but what are cryptocurrencies and the blockchain technology that facilitates them? Blockchain technology involves linking a series of digital records through cryptography without the use of a centralized server, which when applied to asset exchange creates cryptocurrencies. However, there are various concerns about the ability to regulate cryptocurrencies, their stability, and whether they can be applied on a global scale. This volume enables readers to better understand these new technologies and the controversies surrounding them.","English",46.4,37.119999999999997,"332.4--dc23","176 pp.","https://greenhavenpublishing.com/978-1-5345-0535-3",{"$f":"Table1[[#This Row],['# of Books]]*Table1[[#This Row],[QTY]]","v":0},{"$f":"Table1[[#This Row],[QTY]]*Table1[[#This Row],[School & Library Price]]","v":0}]
[null,13,28,null,null,"Current Issues","Current Controversies","Historical Revisionism","978-1-5345-0536-0",{"$f":"HYPERLINK(Table1[[#This Row],[Hyperlink]],\"Weblink\")","v":"Weblink"},"Greenhaven Publishing","Library Bound Book",1,"2020","August 2019","Library","6.000 X 9.000","Edited by","Barbara Krasner ",null,null,null,null,"Z",null,"Grade 10 - 12","Grade 9 - 12","Historical revisionism refers to any reinterpretation of recorded history, but whether this practice is beneficial, harmful, or somewhere in between is hotly contested. While allowing newly discovered evidence and facts to enter the historical record may seem benign, the reinterpretation of existing facts to reflect contemporary morality is a far more controversial aspect of the topic. Many also worry this could lead to historical facts being distorted, as has been the case with Holocaust denial. This volume discusses the different forms and causes of historical revisionism along with the ethical, social, and scholarly concerns related to the issue.","English",46.4,37.119999999999997,"907.2--dc23","176 pp.","https://greenhavenpublishing.com/978-1-5345-0536-0",{"$f":"Table1[[#This Row],['# of Books]]*Table1[[#This Row],[QTY]]","v":0},{"$f":"Table1[[#This Row],[QTY]]*Table1[[#This Row],[School & Library Price]]","v":0}]
[null,13,28,null,null,"Current Issues","Current Controversies","Historical Revisionism","978-1-5345-0537-7",{"$f":"HYPERLINK(Table1[[#This Row],[Hyperlink]],\"Weblink\")","v":"Weblink"},"Greenhaven Publishing","Paperback Book",1,"2020","August 2019","Paperback","6.000 X 9.000","Edited by","Barbara Krasner ",null,null,null,null,"Z",null,"Grade 10 - 12","Grade 9 - 12","Historical revisionism refers to any reinterpretation of recorded history, but whether this practice is beneficial, harmful, or somewhere in between is hotly contested. While allowing newly discovered evidence and facts to enter the historical record may seem benign, the reinterpretation of existing facts to reflect contemporary morality is a far more controversial aspect of the topic. Many also worry this could lead to historical facts being distorted, as has been the case with Holocaust denial. This volume discusses the different forms and causes of historical revisionism along with the ethical, social, and scholarly concerns related to the issue.","English",32,25.6,"907.2--dc23","176 pp.","https://greenhavenpublishing.com/978-1-5345-0537-7",{"$f":"Table1[[#This Row],['# of Books]]*Table1[[#This Row],[QTY]]","v":0},{"$f":"Table1[[#This Row],[QTY]]*Table1[[#This Row],[School & Library Price]]","v":0}]
[null,13,28,null,null,"Current Issues","Current Controversies","Historical Revisionism","978-1-5345-0538-4",{"$f":"HYPERLINK(Table1[[#This Row],[Hyperlink]],\"Weblink\")","v":"Weblink"},"Greenhaven Publishing","eBook",1,"2020","August 2019",null,null,"Edited by","Barbara Krasner ",null,null,null,null,"Z",null,"Grade 10 - 12","Grade 9 - 12","Historical revisionism refers to any reinterpretation of recorded history, but whether this practice is beneficial, harmful, or somewhere in between is hotly contested. While allowing newly discovered evidence and facts to enter the historical record may seem benign, the reinterpretation of existing facts to reflect contemporary morality is a far more controversial aspect of the topic. Many also worry this could lead to historical facts being distorted, as has been the case with Holocaust denial. This volume discusses the different forms and causes of historical revisionism along with the ethical, social, and scholarly concerns related to the issue.","English",46.4,37.119999999999997,"907.2--dc23","176 pp.","https://greenhavenpublishing.com/978-1-5345-0538-4",{"$f":"Table1[[#This Row],['# of Books]]*Table1[[#This Row],[QTY]]","v":0},{"$f":"Table1[[#This Row],[QTY]]*Table1[[#This Row],[School & Library Price]]","v":0}]
[null,13,28,null,null,"Current Issues","Current Controversies","Soft Power and Diplomacy","978-1-5345-0542-1",{"$f":"HYPERLINK(Table1[[#This Row],[Hyperlink]],\"Weblink\")","v":"Weblink"},"Greenhaven Publishing","Library Bound Book",1,"2020","August 2019","Library","6.000 X 9.000","Edited by","Bridey Heing",null,null,null,null,"Z",null,"Grade 10 - 12","Grade 9 - 12","When considering the damage caused by the hard power of military intervention, soft power comes across as an appealing alternative. Soft power depends on diplomatically appealing to others to gain favor and influence rather than using coercive force, offering a more peaceful means of engaging in international relations. However, whether soft power is as effective as hard power and how it can be achieved is a source of debate. Through the diverse perspectives in this volume, readers will gain an understanding of the differing perspectives on soft power's efficacy as a political strategy and the ways it can be implemented.","English",46.4,37.119999999999997,"327.2--dc23","176 pp.","https://greenhavenpublishing.com/978-1-5345-0542-1",{"$f":"Table1[[#This Row],['# of Books]]*Table1[[#This Row],[QTY]]","v":0},{"$f":"Table1[[#This Row],[QTY]]*Table1[[#This Row],[School & Library Price]]","v":0}]
[null,13,28,null,null,"Current Issues","Current Controversies","Soft Power and Diplomacy","978-1-5345-0543-8",{"$f":"HYPERLINK(Table1[[#This Row],[Hyperlink]],\"Weblink\")","v":"Weblink"},"Greenhaven Publishing","Paperback Book",1,"2020","August 2019","Paperback","6.000 X 9.000","Edited by","Bridey Heing",null,null,null,null,"Z",null,"Grade 10 - 12","Grade 9 - 12","When considering the damage caused by the hard power of military intervention, soft power comes across as an appealing alternative. Soft power depends on diplomatically appealing to others to gain favor and influence rather than using coercive force, offering a more peaceful means of engaging in international relations. However, whether soft power is as effective as hard power and how it can be achieved is a source of debate. Through the diverse perspectives in this volume, readers will gain an understanding of the differing perspectives on soft power's efficacy as a political strategy and the ways it can be implemented.","English",32,25.6,"327.2--dc23","176 pp.","https://greenhavenpublishing.com/978-1-5345-0543-8",{"$f":"Table1[[#This Row],['# of Books]]*Table1[[#This Row],[QTY]]","v":0},{"$f":"Table1[[#This Row],[QTY]]*Table1[[#This Row],[School & Library Price]]","v":0}]
[null,13,28,null,null,"Current Issues","Current Controversies","Soft Power and Diplomacy","978-1-5345-0544-5",{"$f":"HYPERLINK(Table1[[#This Row],[Hyperlink]],\"Weblink\")","v":"Weblink"},"Greenhaven Publishing","eBook",1,"2020","August 2019",null,null,"Edited by","Bridey Heing",null,null,null,null,"Z",null,"Grade 10 - 12","Grade 9 - 12","When considering the damage caused by the hard power of military intervention, soft power comes across as an appealing alternative. Soft power depends on diplomatically appealing to others to gain favor and influence rather than using coercive force, offering a more peaceful means of engaging in international relations. However, whether soft power is as effective as hard power and how it can be achieved is a source of debate. Through the diverse perspectives in this volume, readers will gain an understanding of the differing perspectives on soft power's efficacy as a political strategy and the ways it can be implemented.","English",46.4,37.119999999999997,"327.2--dc23","176 pp.","https://greenhavenpublishing.com/978-1-5345-0544-5",{"$f":"Table1[[#This Row],['# of Books]]*Table1[[#This Row],[QTY]]","v":0},{"$f":"Table1[[#This Row],[QTY]]*Table1[[#This Row],[School & Library Price]]","v":0}]
[null,13,28,null,null,"Current Issues","Current Controversies","Tariffs and the Future of Trade","978-1-5345-0545-2",{"$f":"HYPERLINK(Table1[[#This Row],[Hyperlink]],\"Weblink\")","v":"Weblink"},"Greenhaven Publishing","Library Bound Book",1,"2020","August 2019","Library","6.000 X 9.000","Edited by","Eamon Doyle",null,null,null,null,"Z",null,"Grade 10 - 12","Grade 9 - 12","With the introduction of significant tariffs on Chinese goods in 2018 and the resultant talk of a trade war between the United States and China, critical analysis has renewed itself on the usefulness of tariffs. Your readers will analyze whether tariffs are an effective means of political influence. They'll survey what effect tariffs will have on the domestic and global economy, and how tariffs will ultimately impact the future of trade. This volume offers opposing perspectives on tariffs and trade wars, further providing context on historical tariffs and global trade.","English",46.4,37.119999999999997,"382/.7--dc23","200 pp.","https://greenhavenpublishing.com/978-1-5345-0545-2",{"$f":"Table1[[#This Row],['# of Books]]*Table1[[#This Row],[QTY]]","v":0},{"$f":"Table1[[#This Row],[QTY]]*Table1[[#This Row],[School & Library Price]]","v":0}]
[null,13,28,null,null,"Current Issues","Current Controversies","Tariffs and the Future of Trade","978-1-5345-0546-9",{"$f":"HYPERLINK(Table1[[#This Row],[Hyperlink]],\"Weblink\")","v":"Weblink"},"Greenhaven Publishing","Paperback Book",1,"2020","August 2019","Paperback","6.000 X 9.000","Edited by","Eamon Doyle",null,null,null,null,"Z",null,"Grade 10 - 12","Grade 9 - 12","With the introduction of significant tariffs on Chinese goods in 2018 and the resultant talk of a trade war between the United States and China, critical analysis has renewed itself on the usefulness of tariffs. Your readers will analyze whether tariffs are an effective means of political influence. They'll survey what effect tariffs will have on the domestic and global economy, and how tariffs will ultimately impact the future of trade. This volume offers opposing perspectives on tariffs and trade wars, further providing context on historical tariffs and global trade.","English",32,25.6,"382/.7--dc23","200 pp.","https://greenhavenpublishing.com/978-1-5345-0546-9",{"$f":"Table1[[#This Row],['# of Books]]*Table1[[#This Row],[QTY]]","v":0},{"$f":"Table1[[#This Row],[QTY]]*Table1[[#This Row],[School & Library Price]]","v":0}]
[null,13,28,null,null,"Current Issues","Current Controversies","Tariffs and the Future of Trade","978-1-5345-0547-6",{"$f":"HYPERLINK(Table1[[#This Row],[Hyperlink]],\"Weblink\")","v":"Weblink"},"Greenhaven Publishing","eBook",1,"2020","August 2019",null,null,"Edited by","Eamon Doyle",null,null,null,null,"Z",null,"Grade 10 - 12","Grade 9 - 12","With the introduction of significant tariffs on Chinese goods in 2018 and the resultant talk of a trade war between the United States and China, critical analysis has renewed itself on the usefulness of tariffs. Your readers will analyze whether tariffs are an effective means of political influence. They'll survey what effect tariffs will have on the domestic and global economy, and how tariffs will ultimately impact the future of trade. This volume offers opposing perspectives on tariffs and trade wars, further providing context on historical tariffs and global trade.","English",46.4,37.119999999999997,"382/.7--dc23","200 pp.","https://greenhavenpublishing.com/978-1-5345-0547-6",{"$f":"Table1[[#This Row],['# of Books]]*Table1[[#This Row],[QTY]]","v":0},{"$f":"Table1[[#This Row],[QTY]]*Table1[[#This Row],[School & Library Price]]","v":0}]
[null,13,28,null,null,"Current Issues","Current Controversies","The Industrial Food Complex","978-1-5345-0539-1",{"$f":"HYPERLINK(Table1[[#This Row],[Hyperlink]],\"Weblink\")","v":"Weblink"},"Greenhaven Publishing","Library Bound Book",1,"2020","August 2019","Library","6.000 X 9.000","Edited by","Joellen McCarty",null,null,null,null,"Z",null,"Grade 10 - 12","Grade 9 - 12","As of 2015, one in three people worked in agriculture globally. With agriculture contributing only 3 percent of the global GDP, it is challenging for those workers to earn a living wage. Concerns are levied against companies in the food industry, with questions raised about their ethics and their treatment of workers, livestock, and the environment. The massive scale of the industry makes regulation difficult, but under-regulation can result in public health crises. The diverse viewpoints in this volume explore the controversies, challenges, and solutions involved in providing food in our world today.","English",46.4,37.119999999999997,"338.4/7664--dc23","200 pp.","https://greenhavenpublishing.com/978-1-5345-0539-1",{"$f":"Table1[[#This Row],['# of Books]]*Table1[[#This Row],[QTY]]","v":0},{"$f":"Table1[[#This Row],[QTY]]*Table1[[#This Row],[School & Library Price]]","v":0}]
[null,13,28,null,null,"Current Issues","Current Controversies","The Industrial Food Complex","978-1-5345-0540-7",{"$f":"HYPERLINK(Table1[[#This Row],[Hyperlink]],\"Weblink\")","v":"Weblink"},"Greenhaven Publishing","Paperback Book",1,"2020","August 2019","Paperback","6.000 X 9.000","Edited by","Joellen McCarty",null,null,null,null,"Z",null,"Grade 10 - 12","Grade 9 - 12","As of 2015, one in three people worked in agriculture globally. With agriculture contributing only 3 percent of the global GDP, it is challenging for those workers to earn a living wage. Concerns are levied against companies in the food industry, with questions raised about their ethics and their treatment of workers, livestock, and the environment. The massive scale of the industry makes regulation difficult, but under-regulation can result in public health crises. The diverse viewpoints in this volume explore the controversies, challenges, and solutions involved in providing food in our world today.","English",32,25.6,"338.4/7664--dc23","200 pp.","https://greenhavenpublishing.com/978-1-5345-0540-7",{"$f":"Table1[[#This Row],['# of Books]]*Table1[[#This Row],[QTY]]","v":0},{"$f":"Table1[[#This Row],[QTY]]*Table1[[#This Row],[School & Library Price]]","v":0}]
[null,13,28,null,null,"Current Issues","Current Controversies","The Industrial Food Complex","978-1-5345-0541-4",{"$f":"HYPERLINK(Table1[[#This Row],[Hyperlink]],\"Weblink\")","v":"Weblink"},"Greenhaven Publishing","eBook",1,"2020","August 2019",null,null,"Edited by","Joellen McCarty",null,null,null,null,"Z",null,"Grade 10 - 12","Grade 9 - 12","As of 2015, one in three people worked in agriculture globally. With agriculture contributing only 3 percent of the global GDP, it is challenging for those workers to earn a living wage. Concerns are levied against companies in the food industry, with questions raised about their ethics and their treatment of workers, livestock, and the environment. The massive scale of the industry makes regulation difficult, but under-regulation can result in public health crises. The diverse viewpoints in this volume explore the controversies, challenges, and solutions involved in providing food in our world today.","English",46.4,37.119999999999997,"338.4/7664--dc23","200 pp.","https://greenhavenpublishing.com/978-1-5345-0541-4",{"$f":"Table1[[#This Row],['# of Books]]*Table1[[#This Row],[QTY]]","v":0},{"$f":"Table1[[#This Row],[QTY]]*Table1[[#This Row],[School & Library Price]]","v":0}]
[null,13,28,null,null,"Current Issues","Current Controversies","Whistleblowers","978-1-5345-0530-8",{"$f":"HYPERLINK(Table1[[#This Row],[Hyperlink]],\"Weblink\")","v":"Weblink"},"Greenhaven Publishing","Library Bound Book",1,"2020","August 2019","Library","6.000 X 9.000","Edited by","Anna E. Lindner",null,null,null,null,"Z",null,"Grade 10 - 12","Grade 9 - 12","Highly publicized cases involving whistleblowers including Chelsea Manning, Edward Snowden, and WikiLeaks have brought whistleblowing to the public's attention in recent years. It has gained further attention in the \"Me Too\" era, as whistleblowers have exposed numerous cases of misconduct among powerful men in the entertainment industry and beyond. Whether whistleblowing is an inherently positive practice and how whistleblowers should be protected and compensated for their deeds are widely debated. Through diverse perspectives from authoritative voices, readers will gain an understanding of the practice of whistleblowing, the laws related to it, and its place in democratic society.","English",46.4,37.119999999999997,"342/.068--dc23","200 pp.","https://greenhavenpublishing.com/978-1-5345-0530-8",{"$f":"Table1[[#This Row],['# of Books]]*Table1[[#This Row],[QTY]]","v":0},{"$f":"Table1[[#This Row],[QTY]]*Table1[[#This Row],[School & Library Price]]","v":0}]
[null,13,28,null,null,"Current Issues","Current Controversies","Whistleblowers","978-1-5345-0531-5",{"$f":"HYPERLINK(Table1[[#This Row],[Hyperlink]],\"Weblink\")","v":"Weblink"},"Greenhaven Publishing","Paperback Book",1,"2020","August 2019","Paperback","6.000 X 9.000","Edited by","Anna E. Lindner",null,null,null,null,"Z",null,"Grade 10 - 12","Grade 9 - 12","Highly publicized cases involving whistleblowers including Chelsea Manning, Edward Snowden, and WikiLeaks have brought whistleblowing to the public's attention in recent years. It has gained further attention in the \"Me Too\" era, as whistleblowers have exposed numerous cases of misconduct among powerful men in the entertainment industry and beyond. Whether whistleblowing is an inherently positive practice and how whistleblowers should be protected and compensated for their deeds are widely debated. Through diverse perspectives from authoritative voices, readers will gain an understanding of the practice of whistleblowing, the laws related to it, and its place in democratic society.","English",32,25.6,"342/.068--dc23","200 pp.","https://greenhavenpublishing.com/978-1-5345-0531-5",{"$f":"Table1[[#This Row],['# of Books]]*Table1[[#This Row],[QTY]]","v":0},{"$f":"Table1[[#This Row],[QTY]]*Table1[[#This Row],[School & Library Price]]","v":0}]
[null,13,28,null,null,"Current Issues","Current Controversies","Whistleblowers","978-1-5345-0532-2",{"$f":"HYPERLINK(Table1[[#This Row],[Hyperlink]],\"Weblink\")","v":"Weblink"},"Greenhaven Publishing","eBook",1,"2020","August 2019",null,null,"Edited by","Anna E. Lindner",null,null,null,null,"Z",null,"Grade 10 - 12","Grade 9 - 12","Highly publicized cases involving whistleblowers including Chelsea Manning, Edward Snowden, and WikiLeaks have brought whistleblowing to the public's attention in recent years. It has gained further attention in the \"Me Too\" era, as whistleblowers have exposed numerous cases of misconduct among powerful men in the entertainment industry and beyond. Whether whistleblowing is an inherently positive practice and how whistleblowers should be protected and compensated for their deeds are widely debated. Through diverse perspectives from authoritative voices, readers will gain an understanding of the practice of whistleblowing, the laws related to it, and its place in democratic society.","English",46.4,37.119999999999997,"342/.068--dc23","200 pp.","https://greenhavenpublishing.com/978-1-5345-0532-2",{"$f":"Table1[[#This Row],['# of Books]]*Table1[[#This Row],[QTY]]","v":0},{"$f":"Table1[[#This Row],[QTY]]*Table1[[#This Row],[School & Library Price]]","v":0}]
[null,13,28,null,null,"Current Issues","Current Controversies","Antifa and the Radical Left","978-1-5345-0384-7",{"$f":"HYPERLINK(Table1[[#This Row],[Hyperlink]],\"Weblink\")","v":"Weblink"},"Greenhaven Publishing","Library Bound Book",1,"2019","January 2019","Library","6.000 X 9.000","Edited by","Eamon Doyle",null,null,null,null,"Z",null,"Grade 10 - 12","Grade 9 - 12","Antifa has received public attention since the election of President Trump. To some, this was believed to represent the rise of white supremacy and authoritarianism in the United States, which Antifa made it a point to combat at any cost. What exactly is the Antifa movement? Are its militant, sometimes violent attempts to combat fascism justified, or are they just as morally reprehensible as what they are reacting against? This volume looks at Antifa's place in American and international history, as well as its organization, goals, and ethical implications, offering a clearer look at this enigmatic movement.","English",46.4,37.119999999999997,"320.53/30973--dc23","176 pp.","https://greenhavenpublishing.com/978-1-5345-0384-7",{"$f":"Table1[[#This Row],['# of Books]]*Table1[[#This Row],[QTY]]","v":0},{"$f":"Table1[[#This Row],[QTY]]*Table1[[#This Row],[School & Library Price]]","v":0}]
[null,13,28,null,null,"Current Issues","Current Controversies","Antifa and the Radical Left","978-1-5345-0455-4",{"$f":"HYPERLINK(Table1[[#This Row],[Hyperlink]],\"Weblink\")","v":"Weblink"},"Greenhaven Publishing","Paperback Book",1,"2019","January 2019","Paperback","6.000 X 9.000","Edited by","Eamon Doyle",null,null,null,null,"Z",null,"Grade 10 - 12","Grade 9 - 12","Antifa has received public attention since the election of President Trump. To some, this was believed to represent the rise of white supremacy and authoritarianism in the United States, which Antifa made it a point to combat at any cost. What exactly is the Antifa movement? Are its militant, sometimes violent attempts to combat fascism justified, or are they just as morally reprehensible as what they are reacting against? This volume looks at Antifa's place in American and international history, as well as its organization, goals, and ethical implications, offering a clearer look at this enigmatic movement.","English",32,25.6,"320.53/30973--dc23","176 pp.","https://greenhavenpublishing.com/978-1-5345-0455-4",{"$f":"Table1[[#This Row],['# of Books]]*Table1[[#This Row],[QTY]]","v":0},{"$f":"Table1[[#This Row],[QTY]]*Table1[[#This Row],[School & Library Price]]","v":0}]
[null,13,28,null,null,"Current Issues","Current Controversies","Antifa and the Radical Left","978-1-5345-0399-1",{"$f":"HYPERLINK(Table1[[#This Row],[Hyperlink]],\"Weblink\")","v":"Weblink"},"Greenhaven Publishing","eBook",1,"2019","January 2019",null,null,"Edited by","Eamon Doyle",null,null,null,null,"Z",null,"Grade 10 - 12","Grade 9 - 12","Antifa has received public attention since the election of President Trump. To some, this was believed to represent the rise of white supremacy and authoritarianism in the United States, which Antifa made it a point to combat at any cost. What exactly is the Antifa movement? Are its militant, sometimes violent attempts to combat fascism justified, or are they just as morally reprehensible as what they are reacting against? This volume looks at Antifa's place in American and international history, as well as its organization, goals, and ethical implications, offering a clearer look at this enigmatic movement.","English",46.4,37.119999999999997,"320.53/30973--dc23","176 pp.","https://greenhavenpublishing.com/978-1-5345-0399-1",{"$f":"Table1[[#This Row],['# of Books]]*Table1[[#This Row],[QTY]]","v":0},{"$f":"Table1[[#This Row],[QTY]]*Table1[[#This Row],[School & Library Price]]","v":0}]
[null,13,28,null,null,"Current Issues","Current Controversies","Globalization","978-1-5345-0386-1",{"$f":"HYPERLINK(Table1[[#This Row],[Hyperlink]],\"Weblink\")","v":"Weblink"},"Greenhaven Publishing","Library Bound Book",1,"2019","January 2019","Library","6.000 X 9.000","Edited by","Yea Jee Bae",null,null,null,null,"Z",null,"Grade 10 - 12","Grade 9 - 12","The advancement of transportation and communication technology has facilitated greater interaction between people throughout the world, a process known as globalization. Because of its various economic, social, cultural, and environmental implications, attitudes toward globalization are ambivalent. There are concerns about the exploitation of people and resources from less economically stable countries and the destruction of cultural traditions, but at the same time it has allowed the world to open up for people on an international scale. It is important to weigh the many costs and benefits of this complicated issue to form a reasoned response, which this book adeptly supports.","English",46.4,37.119999999999997,"303.48/2--dc23","200 pp.","https://greenhavenpublishing.com/978-1-5345-0386-1",{"$f":"Table1[[#This Row],['# of Books]]*Table1[[#This Row],[QTY]]","v":0},{"$f":"Table1[[#This Row],[QTY]]*Table1[[#This Row],[School & Library Price]]","v":0}]
[null,13,28,null,null,"Current Issues","Current Controversies","Globalization","978-1-5345-0459-2",{"$f":"HYPERLINK(Table1[[#This Row],[Hyperlink]],\"Weblink\")","v":"Weblink"},"Greenhaven Publishing","Paperback Book",1,"2019","January 2019","Paperback","6.000 X 9.000","Edited by","Yea Jee Bae",null,null,null,null,"Z",null,"Grade 10 - 12","Grade 9 - 12","The advancement of transportation and communication technology has facilitated greater interaction between people throughout the world, a process known as globalization. Because of its various economic, social, cultural, and environmental implications, attitudes toward globalization are ambivalent. There are concerns about the exploitation of people and resources from less economically stable countries and the destruction of cultural traditions, but at the same time it has allowed the world to open up for people on an international scale. It is important to weigh the many costs and benefits of this complicated issue to form a reasoned response, which this book adeptly supports.","English",32,25.6,"303.48/2--dc23","200 pp.","https://greenhavenpublishing.com/978-1-5345-0459-2",{"$f":"Table1[[#This Row],['# of Books]]*Table1[[#This Row],[QTY]]","v":0},{"$f":"Table1[[#This Row],[QTY]]*Table1[[#This Row],[School & Library Price]]","v":0}]
[null,13,28,null,null,"Current Issues","Current Controversies","Globalization","978-1-5345-0401-1",{"$f":"HYPERLINK(Table1[[#This Row],[Hyperlink]],\"Weblink\")","v":"Weblink"},"Greenhaven Publishing","eBook",1,"2019","January 2019",null,null,"Edited by","Yea Jee Bae",null,null,null,null,"Z",null,"Grade 10 - 12","Grade 9 - 12","The advancement of transportation and communication technology has facilitated greater interaction between people throughout the world, a process known as globalization. Because of its various economic, social, cultural, and environmental implications, attitudes toward globalization are ambivalent. There are concerns about the exploitation of people and resources from less economically stable countries and the destruction of cultural traditions, but at the same time it has allowed the world to open up for people on an international scale. It is important to weigh the many costs and benefits of this complicated issue to form a reasoned response, which this book adeptly supports.","English",46.4,37.119999999999997,"303.48/2--dc23","200 pp.","https://greenhavenpublishing.com/978-1-5345-0401-1",{"$f":"Table1[[#This Row],['# of Books]]*Table1[[#This Row],[QTY]]","v":0},{"$f":"Table1[[#This Row],[QTY]]*Table1[[#This Row],[School & Library Price]]","v":0}]
[null,13,28,null,null,"Current Issues","Current Controversies","Interference in Elections","978-1-5345-0387-8",{"$f":"HYPERLINK(Table1[[#This Row],[Hyperlink]],\"Weblink\")","v":"Weblink"},"Greenhaven Publishing","Library Bound Book",1,"2019","January 2019","Library","6.000 X 9.000","Edited by","Kristina Lyn Heitkamp",null,null,null,null,"Z",null,"Grade 10 - 12","Grade 9 - 12","Allegations of Russian meddling in the 2016 presidential election have brought the issue of election interference to the fore, but is it actually a significant issue in the United States? This volume explores the history of election interference in the United States and beyond, as well as the various methods of interference. It also discusses whether interference can be effectively combatted and what attempts are being made to do so. Election interference has been declared a threat to the electoral process and democracy as a whole, and it is more important than ever to understand the various factors at play.","English",46.4,37.119999999999997,"324.973/0932--dc23","176 pp.","https://greenhavenpublishing.com/978-1-5345-0387-8",{"$f":"Table1[[#This Row],['# of Books]]*Table1[[#This Row],[QTY]]","v":0},{"$f":"Table1[[#This Row],[QTY]]*Table1[[#This Row],[School & Library Price]]","v":0}]
[null,13,28,null,null,"Current Issues","Current Controversies","Interference in Elections","978-1-5345-0461-5",{"$f":"HYPERLINK(Table1[[#This Row],[Hyperlink]],\"Weblink\")","v":"Weblink"},"Greenhaven Publishing","Paperback Book",1,"2019","January 2019","Paperback","6.000 X 9.000","Edited by","Kristina Lyn Heitkamp",null,null,null,null,"Z",null,"Grade 10 - 12","Grade 9 - 12","Allegations of Russian meddling in the 2016 presidential election have brought the issue of election interference to the fore, but is it actually a significant issue in the United States? This volume explores the history of election interference in the United States and beyond, as well as the various methods of interference. It also discusses whether interference can be effectively combatted and what attempts are being made to do so. Election interference has been declared a threat to the electoral process and democracy as a whole, and it is more important than ever to understand the various factors at play.","English",32,25.6,"324.973/0932--dc23","176 pp.","https://greenhavenpublishing.com/978-1-5345-0461-5",{"$f":"Table1[[#This Row],['# of Books]]*Table1[[#This Row],[QTY]]","v":0},{"$f":"Table1[[#This Row],[QTY]]*Table1[[#This Row],[School & Library Price]]","v":0}]
[null,13,28,null,null,"Current Issues","Current Controversies","Interference in Elections","978-1-5345-0402-8",{"$f":"HYPERLINK(Table1[[#This Row],[Hyperlink]],\"Weblink\")","v":"Weblink"},"Greenhaven Publishing","eBook",1,"2019","January 2019",null,null,"Edited by","Kristina Lyn Heitkamp",null,null,null,null,"Z",null,"Grade 10 - 12","Grade 9 - 12","Allegations of Russian meddling in the 2016 presidential election have brought the issue of election interference to the fore, but is it actually a significant issue in the United States? This volume explores the history of election interference in the United States and beyond, as well as the various methods of interference. It also discusses whether interference can be effectively combatted and what attempts are being made to do so. Election interference has been declared a threat to the electoral process and democracy as a whole, and it is more important than ever to understand the various factors at play.","English",46.4,37.119999999999997,"324.973/0932--dc23","176 pp.","https://greenhavenpublishing.com/978-1-5345-0402-8",{"$f":"Table1[[#This Row],['# of Books]]*Table1[[#This Row],[QTY]]","v":0},{"$f":"Table1[[#This Row],[QTY]]*Table1[[#This Row],[School & Library Price]]","v":0}]
[null,13,28,null,null,"Current Issues","Current Controversies","Learned Helplessness, Welfare, and the Poverty Cycle","978-1-5345-0388-5",{"$f":"HYPERLINK(Table1[[#This Row],[Hyperlink]],\"Weblink\")","v":"Weblink"},"Greenhaven Publishing","Library Bound Book",1,"2019","January 2019","Library","6.000 X 9.000","Edited by","Kristina Lyn Heitkamp",null,null,null,null,"Z",null,"Grade 10 - 12","Grade 9 - 12","Between 1996 and 2017, the number of families on welfare declined to less than a quarter of its former rate of coverage, yet nearly twice as many households live in extreme poverty and nearly 25 percent of American children live in poverty. What can be done to help these children and families escape poverty? Are government programs like welfare the best solution, or are there other ways to pull families out of poverty? This volume looks at the issue of poverty, the various theories about why it proliferates, and a number of proposed strategies to fight it.","English",46.4,37.119999999999997,"362.50973--dc23","176 pp.","https://greenhavenpublishing.com/978-1-5345-0388-5",{"$f":"Table1[[#This Row],['# of Books]]*Table1[[#This Row],[QTY]]","v":0},{"$f":"Table1[[#This Row],[QTY]]*Table1[[#This Row],[School & Library Price]]","v":0}]
[null,13,28,null,null,"Current Issues","Current Controversies","Learned Helplessness, Welfare, and the Poverty Cycle","978-1-5345-0463-9",{"$f":"HYPERLINK(Table1[[#This Row],[Hyperlink]],\"Weblink\")","v":"Weblink"},"Greenhaven Publishing","Paperback Book",1,"2019","January 2019","Paperback","6.000 X 9.000","Edited by","Kristina Lyn Heitkamp",null,null,null,null,"Z",null,"Grade 10 - 12","Grade 9 - 12","Between 1996 and 2017, the number of families on welfare declined to less than a quarter of its former rate of coverage, yet nearly twice as many households live in extreme poverty and nearly 25 percent of American children live in poverty. What can be done to help these children and families escape poverty? Are government programs like welfare the best solution, or are there other ways to pull families out of poverty? This volume looks at the issue of poverty, the various theories about why it proliferates, and a number of proposed strategies to fight it.","English",32,25.6,"362.50973--dc23","176 pp.","https://greenhavenpublishing.com/978-1-5345-0463-9",{"$f":"Table1[[#This Row],['# of Books]]*Table1[[#This Row],[QTY]]","v":0},{"$f":"Table1[[#This Row],[QTY]]*Table1[[#This Row],[School & Library Price]]","v":0}]
[null,13,28,null,null,"Current Issues","Current Controversies","Learned Helplessness, Welfare, and the Poverty Cycle","978-1-5345-0403-5",{"$f":"HYPERLINK(Table1[[#This Row],[Hyperlink]],\"Weblink\")","v":"Weblink"},"Greenhaven Publishing","eBook",1,"2019","January 2019",null,null,"Edited by","Kristina Lyn Heitkamp",null,null,null,null,"Z",null,"Grade 10 - 12","Grade 9 - 12","Between 1996 and 2017, the number of families on welfare declined to less than a quarter of its former rate of coverage, yet nearly twice as many households live in extreme poverty and nearly 25 percent of American children live in poverty. What can be done to help these children and families escape poverty? Are government programs like welfare the best solution, or are there other ways to pull families out of poverty? This volume looks at the issue of poverty, the various theories about why it proliferates, and a number of proposed strategies to fight it.","English",46.4,37.119999999999997,"362.50973--dc23","176 pp.","https://greenhavenpublishing.com/978-1-5345-0403-5",{"$f":"Table1[[#This Row],['# of Books]]*Table1[[#This Row],[QTY]]","v":0},{"$f":"Table1[[#This Row],[QTY]]*Table1[[#This Row],[School & Library Price]]","v":0}]
[null,13,28,null,null,"Current Issues","Current Controversies","The Economics of Clean Energy","978-1-5345-0385-4",{"$f":"HYPERLINK(Table1[[#This Row],[Hyperlink]],\"Weblink\")","v":"Weblink"},"Greenhaven Publishing","Library Bound Book",1,"2019","January 2019","Library","6.000 X 9.000","Edited by","Kathryn Roberts",null,null,null,null,"Z",null,"Grade 10 - 12","Grade 9 - 12","As of 2017, 69 percent of Americans were in favor of restricting carbon emissions from coal power plants out of concern for climate change and the state of the environment, but can we afford to make the change to cleaner energy sources? This volume looks at the various alternative energy sources and their economic viability, exploring the debate about which path forward makes the most sense. Readers will gain a better understanding of the crossroads facing policymakers and the energy sector and be empowered to form their own opinions about how this urgent issue should be addressed.","English",46.4,37.119999999999997,"333.79--dc23","200 pp.","https://greenhavenpublishing.com/978-1-5345-0385-4",{"$f":"Table1[[#This Row],['# of Books]]*Table1[[#This Row],[QTY]]","v":0},{"$f":"Table1[[#This Row],[QTY]]*Table1[[#This Row],[School & Library Price]]","v":0}]
[null,13,28,null,null,"Current Issues","Current Controversies","The Economics of Clean Energy","978-1-5345-0457-8",{"$f":"HYPERLINK(Table1[[#This Row],[Hyperlink]],\"Weblink\")","v":"Weblink"},"Greenhaven Publishing","Paperback Book",1,"2019","January 2019","Paperback","6.000 X 9.000","Edited by","Kathryn Roberts",null,null,null,null,"Z",null,"Grade 10 - 12","Grade 9 - 12","As of 2017, 69 percent of Americans were in favor of restricting carbon emissions from coal power plants out of concern for climate change and the state of the environment, but can we afford to make the change to cleaner energy sources? This volume looks at the various alternative energy sources and their economic viability, exploring the debate about which path forward makes the most sense. Readers will gain a better understanding of the crossroads facing policymakers and the energy sector and be empowered to form their own opinions about how this urgent issue should be addressed.","English",32,25.6,"333.79--dc23","200 pp.","https://greenhavenpublishing.com/978-1-5345-0457-8",{"$f":"Table1[[#This Row],['# of Books]]*Table1[[#This Row],[QTY]]","v":0},{"$f":"Table1[[#This Row],[QTY]]*Table1[[#This Row],[School & Library Price]]","v":0}]
[null,13,28,null,null,"Current Issues","Current Controversies","The Economics of Clean Energy","978-1-5345-0400-4",{"$f":"HYPERLINK(Table1[[#This Row],[Hyperlink]],\"Weblink\")","v":"Weblink"},"Greenhaven Publishing","eBook",1,"2019","January 2019",null,null,"Edited by","Kathryn Roberts",null,null,null,null,"Z",null,"Grade 10 - 12","Grade 9 - 12","As of 2017, 69 percent of Americans were in favor of restricting carbon emissions from coal power plants out of concern for climate change and the state of the environment, but can we afford to make the change to cleaner energy sources? This volume looks at the various alternative energy sources and their economic viability, exploring the debate about which path forward makes the most sense. Readers will gain a better understanding of the crossroads facing policymakers and the energy sector and be empowered to form their own opinions about how this urgent issue should be addressed.","English",46.4,37.119999999999997,"333.79--dc23","200 pp.","https://greenhavenpublishing.com/978-1-5345-0400-4",{"$f":"Table1[[#This Row],['# of Books]]*Table1[[#This Row],[QTY]]","v":0},{"$f":"Table1[[#This Row],[QTY]]*Table1[[#This Row],[School & Library Price]]","v":0}]
[null,13,28,null,null,"Current Issues","Current Controversies","The Two-Party System in the United States","978-1-5345-0389-2",{"$f":"HYPERLINK(Table1[[#This Row],[Hyperlink]],\"Weblink\")","v":"Weblink"},"Greenhaven Publishing","Library Bound Book",1,"2019","January 2019","Library","6.000 X 9.000","Edited by","Barbara Krasner ",null,null,null,null,"Z",null,"Grade 10 - 12","Grade 9 - 12","To many, bipartisanship is a fundamental aspect of American democracy: it is designed to allow voters of differing political beliefs to find a political party that most closely conforms to their values. However, in a 2015 poll, 43 percent of Americans identified with neither party, preferring to be politically independent. Is the two-party system essential to American politics? What part does it play in our electoral and political systems? Growing concerns about political polarization and bipartisanship's role in it have also come to light. This volume explores the various perspectives about the future of American democracy.","English",46.4,37.119999999999997,"324.273--dc23","200 pp.","https://greenhavenpublishing.com/978-1-5345-0389-2",{"$f":"Table1[[#This Row],['# of Books]]*Table1[[#This Row],[QTY]]","v":0},{"$f":"Table1[[#This Row],[QTY]]*Table1[[#This Row],[School & Library Price]]","v":0}]
[null,13,28,null,null,"Current Issues","Current Controversies","The Two-Party System in the United States","978-1-5345-0465-3",{"$f":"HYPERLINK(Table1[[#This Row],[Hyperlink]],\"Weblink\")","v":"Weblink"},"Greenhaven Publishing","Paperback Book",1,"2019","January 2019","Paperback","6.000 X 9.000","Edited by","Barbara Krasner ",null,null,null,null,"Z",null,"Grade 10 - 12","Grade 9 - 12","To many, bipartisanship is a fundamental aspect of American democracy: it is designed to allow voters of differing political beliefs to find a political party that most closely conforms to their values. However, in a 2015 poll, 43 percent of Americans identified with neither party, preferring to be politically independent. Is the two-party system essential to American politics? What part does it play in our electoral and political systems? Growing concerns about political polarization and bipartisanship's role in it have also come to light. This volume explores the various perspectives about the future of American democracy.","English",32,25.6,"324.273--dc23","200 pp.","https://greenhavenpublishing.com/978-1-5345-0465-3",{"$f":"Table1[[#This Row],['# of Books]]*Table1[[#This Row],[QTY]]","v":0},{"$f":"Table1[[#This Row],[QTY]]*Table1[[#This Row],[School & Library Price]]","v":0}]
[null,13,28,null,null,"Current Issues","Current Controversies","The Two-Party System in the United States","978-1-5345-0404-2",{"$f":"HYPERLINK(Table1[[#This Row],[Hyperlink]],\"Weblink\")","v":"Weblink"},"Greenhaven Publishing","eBook",1,"2019","January 2019",null,null,"Edited by","Barbara Krasner ",null,null,null,null,"Z",null,"Grade 10 - 12","Grade 9 - 12","To many, bipartisanship is a fundamental aspect of American democracy: it is designed to allow voters of differing political beliefs to find a political party that most closely conforms to their values. However, in a 2015 poll, 43 percent of Americans identified with neither party, preferring to be politically independent. Is the two-party system essential to American politics? What part does it play in our electoral and political systems? Growing concerns about political polarization and bipartisanship's role in it have also come to light. This volume explores the various perspectives about the future of American democracy.","English",46.4,37.119999999999997,"324.273--dc23","200 pp.","https://greenhavenpublishing.com/978-1-5345-0404-2",{"$f":"Table1[[#This Row],['# of Books]]*Table1[[#This Row],[QTY]]","v":0},{"$f":"Table1[[#This Row],[QTY]]*Table1[[#This Row],[School & Library Price]]","v":0}]
[null,13,30,null,null,"Current Issues","Current Controversies","Executive Orders","978-1-5345-0304-5",{"$f":"HYPERLINK(Table1[[#This Row],[Hyperlink]],\"Weblink\")","v":"Weblink"},"Greenhaven Publishing","Library Bound Book",1,"2019","August 2018","Library","6.000 X 9.000","Edited by","Marcia Amidon Lusted",null,null,null,null,"Z",null,"Grade 10 - 12","Grade 9 - 12","How much power should the president of the United States possess? This is the key question defining the debate over executive orders. While executive orders have played an important role in key policy changes throughout the United States' history, they can also be perceived as an abuse of power that allows the president to make important decisions without Congress's consent. Through the viewpoints included in this volume, readers will come to better understand what an executive order is and explore the key arguments for and against its usage.","English",46.4,37.119999999999997,"352.23/50973--dc23","200 pp.","https://greenhavenpublishing.com/978-1-5345-0304-5",{"$f":"Table1[[#This Row],['# of Books]]*Table1[[#This Row],[QTY]]","v":0},{"$f":"Table1[[#This Row],[QTY]]*Table1[[#This Row],[School & Library Price]]","v":0}]
[null,13,30,null,null,"Current Issues","Current Controversies","Executive Orders","978-1-5345-0305-2",{"$f":"HYPERLINK(Table1[[#This Row],[Hyperlink]],\"Weblink\")","v":"Weblink"},"Greenhaven Publishing","Paperback Book",1,"2019","August 2018","Paperback","6.000 X 9.000","Edited by","Marcia Amidon Lusted",null,null,null,null,"Z",null,"Grade 10 - 12","Grade 9 - 12","How much power should the president of the United States possess? This is the key question defining the debate over executive orders. While executive orders have played an important role in key policy changes throughout the United States' history, they can also be perceived as an abuse of power that allows the president to make important decisions without Congress's consent. Through the viewpoints included in this volume, readers will come to better understand what an executive order is and explore the key arguments for and against its usage.","English",32,25.6,"352.23/50973--dc23","200 pp.","https://greenhavenpublishing.com/978-1-5345-0305-2",{"$f":"Table1[[#This Row],['# of Books]]*Table1[[#This Row],[QTY]]","v":0},{"$f":"Table1[[#This Row],[QTY]]*Table1[[#This Row],[School & Library Price]]","v":0}]
[null,13,null,null,null,"Current Issues","Current Controversies","Executive Orders","978-1-5345-0306-9",{"$f":"HYPERLINK(Table1[[#This Row],[Hyperlink]],\"Weblink\")","v":"Weblink"},"Greenhaven Publishing","eBook",1,"2019","August 2018",null,null,"Edited by","Marcia Amidon Lusted",null,null,null,null,"Z",null,"Grade 10 - 12","Grade 9 - 12","How much power should the president of the United States possess? This is the key question defining the debate over executive orders. While executive orders have played an important role in key policy changes throughout the United States' history, they can also be perceived as an abuse of power that allows the president to make important decisions without Congress's consent. Through the viewpoints included in this volume, readers will come to better understand what an executive order is and explore the key arguments for and against its usage.","English",46.4,37.119999999999997,"352.23/50973--dc23","200 pp.","https://greenhavenpublishing.com/978-1-5345-0306-9",{"$f":"Table1[[#This Row],['# of Books]]*Table1[[#This Row],[QTY]]","v":0},{"$f":"Table1[[#This Row],[QTY]]*Table1[[#This Row],[School & Library Price]]","v":0}]
[null,13,30,null,null,"Current Issues","Current Controversies","Freedom of Speech on Campus","978-1-5345-0307-6",{"$f":"HYPERLINK(Table1[[#This Row],[Hyperlink]],\"Weblink\")","v":"Weblink"},"Greenhaven Publishing","Library Bound Book",1,"2019","August 2018","Library","6.000 X 9.000","Edited by","Eamon Doyle",null,null,null,null,"Z",null,"Grade 10 - 12","Grade 9 - 12","Freedom of speech is a fundamental aspect of American democracy, and university campuses have historically been central to the free speech debate through serving as protectors of this constitutional right. In recent years, campuses have returned to the center of this debate as our notion of what kinds of speech are acceptable and how speech should be controlled continues to develop. With the rise of trigger warnings, designated free-speech zones, and controversial speakers being disinvited from lecturing at universities, the question of whether campuses continue to represent the future of free speech or symbolize its repression has become progressively urgent.","English",46.4,37.119999999999997,"323.44/30973--dc23","176 pp.","https://greenhavenpublishing.com/978-1-5345-0307-6",{"$f":"Table1[[#This Row],['# of Books]]*Table1[[#This Row],[QTY]]","v":0},{"$f":"Table1[[#This Row],[QTY]]*Table1[[#This Row],[School & Library Price]]","v":0}]
[null,13,30,null,null,"Current Issues","Current Controversies","Freedom of Speech on Campus","978-1-5345-0308-3",{"$f":"HYPERLINK(Table1[[#This Row],[Hyperlink]],\"Weblink\")","v":"Weblink"},"Greenhaven Publishing","Paperback Book",1,"2019","August 2018","Paperback","6.000 X 9.000","Edited by","Eamon Doyle",null,null,null,null,"Z",null,"Grade 10 - 12","Grade 9 - 12","Freedom of speech is a fundamental aspect of American democracy, and university campuses have historically been central to the free speech debate through serving as protectors of this constitutional right. In recent years, campuses have returned to the center of this debate as our notion of what kinds of speech are acceptable and how speech should be controlled continues to develop. With the rise of trigger warnings, designated free-speech zones, and controversial speakers being disinvited from lecturing at universities, the question of whether campuses continue to represent the future of free speech or symbolize its repression has become progressively urgent.","English",32,25.6,"323.44/30973--dc23","176 pp.","https://greenhavenpublishing.com/978-1-5345-0308-3",{"$f":"Table1[[#This Row],['# of Books]]*Table1[[#This Row],[QTY]]","v":0},{"$f":"Table1[[#This Row],[QTY]]*Table1[[#This Row],[School & Library Price]]","v":0}]
[null,13,30,null,null,"Current Issues","Current Controversies","Freedom of Speech on Campus","978-1-5345-0309-0",{"$f":"HYPERLINK(Table1[[#This Row],[Hyperlink]],\"Weblink\")","v":"Weblink"},"Greenhaven Publishing","eBook",1,"2019","August 2018",null,null,"Edited by","Eamon Doyle",null,null,null,null,"Z",null,"Grade 10 - 12","Grade 9 - 12","Freedom of speech is a fundamental aspect of American democracy, and university campuses have historically been central to the free speech debate through serving as protectors of this constitutional right. In recent years, campuses have returned to the center of this debate as our notion of what kinds of speech are acceptable and how speech should be controlled continues to develop. With the rise of trigger warnings, designated free-speech zones, and controversial speakers being disinvited from lecturing at universities, the question of whether campuses continue to represent the future of free speech or symbolize its repression has become progressively urgent.","English",46.4,37.119999999999997,"323.44/30973--dc23","176 pp.","https://greenhavenpublishing.com/978-1-5345-0309-0",{"$f":"Table1[[#This Row],['# of Books]]*Table1[[#This Row],[QTY]]","v":0},{"$f":"Table1[[#This Row],[QTY]]*Table1[[#This Row],[School & Library Price]]","v":0}]
[null,13,31,null,null,"Current Issues","Current Controversies","Political Extremism in the United States","978-1-5345-0310-6",{"$f":"HYPERLINK(Table1[[#This Row],[Hyperlink]],\"Weblink\")","v":"Weblink"},"Greenhaven Publishing","Library Bound Book",1,"2019","August 2018","Library","6.000 X 9.000","Edited by","Eamon Doyle",null,null,null,null,"Z",null,"Grade 10 - 12","Grade 9 - 12","The 2016 presidential election brought to light the increasingly polarized nature of American politics. What brought about this political extremism, and can anything be done to curb it? This volume helps to define political extremism, explores the ways in which extremism manifests itself, including hate speech and domestic terrorism, and explains theories about how it can be counteracted. With partisanship in the United States showing no sign of decline without significant intervention, it is more essential than ever to try to understand what brought about this political division.","English",46.4,37.119999999999997,"303.48/4--dc23","200 pp.","https://greenhavenpublishing.com/978-1-5345-0310-6",{"$f":"Table1[[#This Row],['# of Books]]*Table1[[#This Row],[QTY]]","v":0},{"$f":"Table1[[#This Row],[QTY]]*Table1[[#This Row],[School & Library Price]]","v":0}]
[null,13,31,null,null,"Current Issues","Current Controversies","Political Extremism in the United States","978-1-5345-0311-3",{"$f":"HYPERLINK(Table1[[#This Row],[Hyperlink]],\"Weblink\")","v":"Weblink"},"Greenhaven Publishing","Paperback Book",1,"2019","August 2018","Paperback","6.000 X 9.000","Edited by","Eamon Doyle",null,null,null,null,"Z",null,"Grade 10 - 12","Grade 9 - 12","The 2016 presidential election brought to light the increasingly polarized nature of American politics. What brought about this political extremism, and can anything be done to curb it? This volume helps to define political extremism, explores the ways in which extremism manifests itself, including hate speech and domestic terrorism, and explains theories about how it can be counteracted. With partisanship in the United States showing no sign of decline without significant intervention, it is more essential than ever to try to understand what brought about this political division.","English",32,25.6,"303.48/4--dc23","200 pp.","https://greenhavenpublishing.com/978-1-5345-0311-3",{"$f":"Table1[[#This Row],['# of Books]]*Table1[[#This Row],[QTY]]","v":0},{"$f":"Table1[[#This Row],[QTY]]*Table1[[#This Row],[School & Library Price]]","v":0}]
[null,13,31,null,null,"Current Issues","Current Controversies","Political Extremism in the United States","978-1-5345-0312-0",{"$f":"HYPERLINK(Table1[[#This Row],[Hyperlink]],\"Weblink\")","v":"Weblink"},"Greenhaven Publishing","eBook",1,"2019","August 2018",null,null,"Edited by","Eamon Doyle",null,null,null,null,"Z",null,"Grade 10 - 12","Grade 9 - 12","The 2016 presidential election brought to light the increasingly polarized nature of American politics. What brought about this political extremism, and can anything be done to curb it? This volume helps to define political extremism, explores the ways in which extremism manifests itself, including hate speech and domestic terrorism, and explains theories about how it can be counteracted. With partisanship in the United States showing no sign of decline without significant intervention, it is more essential than ever to try to understand what brought about this political division.","English",46.4,37.119999999999997,"303.48/4--dc23","200 pp.","https://greenhavenpublishing.com/978-1-5345-0312-0",{"$f":"Table1[[#This Row],['# of Books]]*Table1[[#This Row],[QTY]]","v":0},{"$f":"Table1[[#This Row],[QTY]]*Table1[[#This Row],[School & Library Price]]","v":0}]
[null,13,32,null,null,"Current Issues","Current Controversies","States' Rights and the Role of the Federal Government","978-1-5345-0313-7",{"$f":"HYPERLINK(Table1[[#This Row],[Hyperlink]],\"Weblink\")","v":"Weblink"},"Greenhaven Publishing","Library Bound Book",1,"2019","August 2018","Library","6.000 X 9.000","Edited by","Marcia Amidon Lusted",null,null,null,null,"Z",null,"Grade 10 - 12","Grade 9 - 12","The balance of power between states and the federal government has long been a point of contention. In an era when one political party controls the three branches of the federal government, the possibility to employ states' rights to resist objectionable federal policy has made it a highly contemporary issue. With states' rights at the center of issues like sanctuary cities, abortion, gun control, and LGBTQ rights, understanding the distribution of power between state and federal government is key to grasping the current political climate and the future of American politics.","English",46.4,37.119999999999997,"320.473/049--dc23","200 pp.","https://greenhavenpublishing.com/978-1-5345-0313-7",{"$f":"Table1[[#This Row],['# of Books]]*Table1[[#This Row],[QTY]]","v":0},{"$f":"Table1[[#This Row],[QTY]]*Table1[[#This Row],[School & Library Price]]","v":0}]
[null,13,32,null,null,"Current Issues","Current Controversies","States' Rights and the Role of the Federal Government","978-1-5345-0314-4",{"$f":"HYPERLINK(Table1[[#This Row],[Hyperlink]],\"Weblink\")","v":"Weblink"},"Greenhaven Publishing","Paperback Book",1,"2019","August 2018","Paperback","6.000 X 9.000","Edited by","Marcia Amidon Lusted",null,null,null,null,"Z",null,"Grade 10 - 12","Grade 9 - 12","The balance of power between states and the federal government has long been a point of contention. In an era when one political party controls the three branches of the federal government, the possibility to employ states' rights to resist objectionable federal policy has made it a highly contemporary issue. With states' rights at the center of issues like sanctuary cities, abortion, gun control, and LGBTQ rights, understanding the distribution of power between state and federal government is key to grasping the current political climate and the future of American politics.","English",32,25.6,"320.473/049--dc23","200 pp.","https://greenhavenpublishing.com/978-1-5345-0314-4",{"$f":"Table1[[#This Row],['# of Books]]*Table1[[#This Row],[QTY]]","v":0},{"$f":"Table1[[#This Row],[QTY]]*Table1[[#This Row],[School & Library Price]]","v":0}]
[null,13,32,null,null,"Current Issues","Current Controversies","States' Rights and the Role of the Federal Government","978-1-5345-0315-1",{"$f":"HYPERLINK(Table1[[#This Row],[Hyperlink]],\"Weblink\")","v":"Weblink"},"Greenhaven Publishing","eBook",1,"2019","August 2018",null,null,"Edited by","Marcia Amidon Lusted",null,null,null,null,"Z",null,"Grade 10 - 12","Grade 9 - 12","The balance of power between states and the federal government has long been a point of contention. In an era when one political party controls the three branches of the federal government, the possibility to employ states' rights to resist objectionable federal policy has made it a highly contemporary issue. With states' rights at the center of issues like sanctuary cities, abortion, gun control, and LGBTQ rights, understanding the distribution of power between state and federal government is key to grasping the current political climate and the future of American politics.","English",46.4,37.119999999999997,"320.473/049--dc23","200 pp.","https://greenhavenpublishing.com/978-1-5345-0315-1",{"$f":"Table1[[#This Row],['# of Books]]*Table1[[#This Row],[QTY]]","v":0},{"$f":"Table1[[#This Row],[QTY]]*Table1[[#This Row],[School & Library Price]]","v":0}]
[null,13,30,null,null,"Current Issues","Current Controversies","The Energy Industry","978-1-5345-0301-4",{"$f":"HYPERLINK(Table1[[#This Row],[Hyperlink]],\"Weblink\")","v":"Weblink"},"Greenhaven Publishing","Library Bound Book",1,"2019","August 2018","Library","6.000 X 9.000","Edited by","Kristina Lyn Heitkamp",null,null,null,null,"Z",null,"Grade 10 - 12","Grade 9 - 12","The debate over how the energy industry should develop in the United States and beyond has reached a critical point. The search for cleaner and more sustainable fuel sources continues, but with the United States' proposed withdrawal from the Paris climate accord and the expansion of the Keystone XL pipeline approved by the Trump administration, the issue of how America's energy policy should develop in the coming years is more complicated than ever. Readers will gain a better understanding of the factual information on the energy industry and learn the key arguments in the debate surrounding it.","English",46.4,37.119999999999997,"333.79--dc23","200 pp.","https://greenhavenpublishing.com/978-1-5345-0301-4",{"$f":"Table1[[#This Row],['# of Books]]*Table1[[#This Row],[QTY]]","v":0},{"$f":"Table1[[#This Row],[QTY]]*Table1[[#This Row],[School & Library Price]]","v":0}]
[null,13,30,null,null,"Current Issues","Current Controversies","The Energy Industry","978-1-5345-0302-1",{"$f":"HYPERLINK(Table1[[#This Row],[Hyperlink]],\"Weblink\")","v":"Weblink"},"Greenhaven Publishing","Paperback Book",1,"2019","August 2018","Paperback","6.000 X 9.000","Edited by","Kristina Lyn Heitkamp",null,null,null,null,"Z",null,"Grade 10 - 12","Grade 9 - 12","The debate over how the energy industry should develop in the United States and beyond has reached a critical point. The search for cleaner and more sustainable fuel sources continues, but with the United States' proposed withdrawal from the Paris climate accord and the expansion of the Keystone XL pipeline approved by the Trump administration, the issue of how America's energy policy should develop in the coming years is more complicated than ever. Readers will gain a better understanding of the factual information on the energy industry and learn the key arguments in the debate surrounding it.","English",32,25.6,"333.79--dc23","200 pp.","https://greenhavenpublishing.com/978-1-5345-0302-1",{"$f":"Table1[[#This Row],['# of Books]]*Table1[[#This Row],[QTY]]","v":0},{"$f":"Table1[[#This Row],[QTY]]*Table1[[#This Row],[School & Library Price]]","v":0}]
[null,13,30,null,null,"Current Issues","Current Controversies","The Energy Industry","978-1-5345-0303-8",{"$f":"HYPERLINK(Table1[[#This Row],[Hyperlink]],\"Weblink\")","v":"Weblink"},"Greenhaven Publishing","eBook",1,"2019","August 2018",null,null,"Edited by","Kristina Lyn Heitkamp",null,null,null,null,"Z",null,"Grade 10 - 12","Grade 9 - 12","The debate over how the energy industry should develop in the United States and beyond has reached a critical point. The search for cleaner and more sustainable fuel sources continues, but with the United States' proposed withdrawal from the Paris climate accord and the expansion of the Keystone XL pipeline approved by the Trump administration, the issue of how America's energy policy should develop in the coming years is more complicated than ever. Readers will gain a better understanding of the factual information on the energy industry and learn the key arguments in the debate surrounding it.","English",46.4,37.119999999999997,"333.79--dc23","200 pp.","https://greenhavenpublishing.com/978-1-5345-0303-8",{"$f":"Table1[[#This Row],['# of Books]]*Table1[[#This Row],[QTY]]","v":0},{"$f":"Table1[[#This Row],[QTY]]*Table1[[#This Row],[School & Library Price]]","v":0}]
[null,13,32,null,null,"Current Issues","Current Controversies","Universal Health Care","978-1-5345-0316-8",{"$f":"HYPERLINK(Table1[[#This Row],[Hyperlink]],\"Weblink\")","v":"Weblink"},"Greenhaven Publishing","Library Bound Book",1,"2019","August 2018","Library","6.000 X 9.000","Edited by","Kristina Lyn Heitkamp",null,null,null,null,"Z",null,"Grade 10 - 12","Grade 9 - 12","With the Affordable Care Act signed into law in 2010, the United States seemed closer than ever to achieving universal health care. However, repealing the act has been a key goal for the Trump administration and the Republican-controlled Congress, with the main arguments against it including the higher premiums for middle-class Americans and the abuse of government power through its control of the insurance industry. This volume helps define universal health care, explains the arguments for and against it, and discusses attempts to implement it on an international scale.","English",46.4,37.119999999999997,"362.10973--dc23","176 pp.","https://greenhavenpublishing.com/978-1-5345-0316-8",{"$f":"Table1[[#This Row],['# of Books]]*Table1[[#This Row],[QTY]]","v":0},{"$f":"Table1[[#This Row],[QTY]]*Table1[[#This Row],[School & Library Price]]","v":0}]
[null,13,32,null,null,"Current Issues","Current Controversies","Universal Health Care","978-1-5345-0317-5",{"$f":"HYPERLINK(Table1[[#This Row],[Hyperlink]],\"Weblink\")","v":"Weblink"},"Greenhaven Publishing","Paperback Book",1,"2019","August 2018","Paperback","6.000 X 9.000","Edited by","Kristina Lyn Heitkamp",null,null,null,null,"Z",null,"Grade 10 - 12","Grade 9 - 12","With the Affordable Care Act signed into law in 2010, the United States seemed closer than ever to achieving universal health care. However, repealing the act has been a key goal for the Trump administration and the Republican-controlled Congress, with the main arguments against it including the higher premiums for middle-class Americans and the abuse of government power through its control of the insurance industry. This volume helps define universal health care, explains the arguments for and against it, and discusses attempts to implement it on an international scale.","English",32,25.6,"362.10973--dc23","176 pp.","https://greenhavenpublishing.com/978-1-5345-0317-5",{"$f":"Table1[[#This Row],['# of Books]]*Table1[[#This Row],[QTY]]","v":0},{"$f":"Table1[[#This Row],[QTY]]*Table1[[#This Row],[School & Library Price]]","v":0}]
[null,13,null,null,null,"Current Issues","Current Controversies","Universal Health Care","978-1-5345-0318-2",{"$f":"HYPERLINK(Table1[[#This Row],[Hyperlink]],\"Weblink\")","v":"Weblink"},"Greenhaven Publishing","eBook",1,"2019","August 2018",null,null,"Edited by","Kristina Lyn Heitkamp",null,null,null,null,"Z",null,"Grade 10 - 12","Grade 9 - 12","With the Affordable Care Act signed into law in 2010, the United States seemed closer than ever to achieving universal health care. However, repealing the act has been a key goal for the Trump administration and the Republican-controlled Congress, with the main arguments against it including the higher premiums for middle-class Americans and the abuse of government power through its control of the insurance industry. This volume helps define universal health care, explains the arguments for and against it, and discusses attempts to implement it on an international scale.","English",46.4,37.119999999999997,"362.10973--dc23","176 pp.","https://greenhavenpublishing.com/978-1-5345-0318-2",{"$f":"Table1[[#This Row],['# of Books]]*Table1[[#This Row],[QTY]]","v":0},{"$f":"Table1[[#This Row],[QTY]]*Table1[[#This Row],[School & Library Price]]","v":0}]
[null,null,29,null,null,"Current Issues","Current Controversies","Are There Two Americas?","978-1-5345-0233-8",{"$f":"HYPERLINK(Table1[[#This Row],[Hyperlink]],\"Weblink\")","v":"Weblink"},"Greenhaven Publishing","Library Bound Book",1,"2018","January 2018","Library","6.000 X 9.000","Edited by","Caleb Bissinger",null,null,null,null,"Z","1330L","Grade 10 - 12","Grade 9 - 12","The haves and the have-nots, \"coastal elites\" versus \"real America,\" big cities or fly-over country, people play fast and loose with the terms, but who falls into these groups and are they really so different? Media and politicians alike constantly push the narrative of \"us\" versus \" them,\" instead of one nation indivisible. But are they correct to do so or woefully misguided? This insightful anthology unpacks the concept of a divided nation and looks at the conflicts that come from economic disparity, geography, social status, and more.","English",46.4,37.119999999999997,"305.800973--dc23","184 pp.","https://greenhavenpublishing.com/978-1-5345-0233-8",{"$f":"Table1[[#This Row],['# of Books]]*Table1[[#This Row],[QTY]]","v":0},{"$f":"Table1[[#This Row],[QTY]]*Table1[[#This Row],[School & Library Price]]","v":0}]
[null,null,29,null,null,"Current Issues","Current Controversies","Are There Two Americas?","978-1-5345-0239-0",{"$f":"HYPERLINK(Table1[[#This Row],[Hyperlink]],\"Weblink\")","v":"Weblink"},"Greenhaven Publishing","Paperback Book",1,"2018","January 2018","Paperback","6.000 X 9.000","Edited by","Caleb Bissinger",null,null,null,null,"Z","1330L","Grade 10 - 12","Grade 9 - 12","The haves and the have-nots, \"coastal elites\" versus \"real America,\" big cities or fly-over country, people play fast and loose with the terms, but who falls into these groups and are they really so different? Media and politicians alike constantly push the narrative of \"us\" versus \" them,\" instead of one nation indivisible. But are they correct to do so or woefully misguided? This insightful anthology unpacks the concept of a divided nation and looks at the conflicts that come from economic disparity, geography, social status, and more.","English",32,25.6,"305.800973--dc23","184 pp.","https://greenhavenpublishing.com/978-1-5345-0239-0",{"$f":"Table1[[#This Row],['# of Books]]*Table1[[#This Row],[QTY]]","v":0},{"$f":"Table1[[#This Row],[QTY]]*Table1[[#This Row],[School & Library Price]]","v":0}]
[null,null,29,null,null,"Current Issues","Current Controversies","Are There Two Americas?","978-1-5345-0228-4",{"$f":"HYPERLINK(Table1[[#This Row],[Hyperlink]],\"Weblink\")","v":"Weblink"},"Greenhaven Publishing","eBook",1,"2018","January 2018",null,null,"Edited by","Caleb Bissinger",null,null,null,null,"Z","1330L","Grade 10 - 12","Grade 9 - 12","The haves and the have-nots, \"coastal elites\" versus \"real America,\" big cities or fly-over country, people play fast and loose with the terms, but who falls into these groups and are they really so different? Media and politicians alike constantly push the narrative of \"us\" versus \" them,\" instead of one nation indivisible. But are they correct to do so or woefully misguided? This insightful anthology unpacks the concept of a divided nation and looks at the conflicts that come from economic disparity, geography, social status, and more.","English",46.4,37.119999999999997,"305.800973--dc23","184 pp.","https://greenhavenpublishing.com/978-1-5345-0228-4",{"$f":"Table1[[#This Row],['# of Books]]*Table1[[#This Row],[QTY]]","v":0},{"$f":"Table1[[#This Row],[QTY]]*Table1[[#This Row],[School & Library Price]]","v":0}]
[null,null,29,null,null,"Current Issues","Current Controversies","Deporting Immigrants","978-1-5345-0234-5",{"$f":"HYPERLINK(Table1[[#This Row],[Hyperlink]],\"Weblink\")","v":"Weblink"},"Greenhaven Publishing","Library Bound Book",1,"2018","January 2018","Library","6.000 X 9.000","Edited by","Anne Cunningham",null,null,null,null,"Z","1350L","Grade 10 - 12","Grade 9 - 12","As immigration and naturalization processes continue to dominate U.S. news headlines and political rhetoric, the tangible fear of having one's family torn apart is only growing greater for those who flock to the United States for work, education, or refuge. This book looks at both legal and undocumented immigration and explores the challenges faced by local and federal government officials, by different types of workers, and by the children of green card or visa holders. This is a balanced overview of deportation, those it may involve, and how it works.","English",46.4,37.119999999999997,"325.73--dc23","200 pp.","https://greenhavenpublishing.com/978-1-5345-0234-5",{"$f":"Table1[[#This Row],['# of Books]]*Table1[[#This Row],[QTY]]","v":0},{"$f":"Table1[[#This Row],[QTY]]*Table1[[#This Row],[School & Library Price]]","v":0}]
[null,null,29,null,null,"Current Issues","Current Controversies","Deporting Immigrants","978-1-5345-0240-6",{"$f":"HYPERLINK(Table1[[#This Row],[Hyperlink]],\"Weblink\")","v":"Weblink"},"Greenhaven Publishing","Paperback Book",1,"2018","January 2018","Paperback","6.000 X 9.000","Edited by","Anne Cunningham",null,null,null,null,"Z","1350L","Grade 10 - 12","Grade 9 - 12","As immigration and naturalization processes continue to dominate U.S. news headlines and political rhetoric, the tangible fear of having one's family torn apart is only growing greater for those who flock to the United States for work, education, or refuge. This book looks at both legal and undocumented immigration and explores the challenges faced by local and federal government officials, by different types of workers, and by the children of green card or visa holders. This is a balanced overview of deportation, those it may involve, and how it works.","English",32,25.6,"325.73--dc23","200 pp.","https://greenhavenpublishing.com/978-1-5345-0240-6",{"$f":"Table1[[#This Row],['# of Books]]*Table1[[#This Row],[QTY]]","v":0},{"$f":"Table1[[#This Row],[QTY]]*Table1[[#This Row],[School & Library Price]]","v":0}]
[null,null,29,null,null,"Current Issues","Current Controversies","Deporting Immigrants","978-1-5345-0227-7",{"$f":"HYPERLINK(Table1[[#This Row],[Hyperlink]],\"Weblink\")","v":"Weblink"},"Greenhaven Publishing","eBook",1,"2018","January 2018",null,null,"Edited by","Anne Cunningham",null,null,null,null,"Z","1350L","Grade 10 - 12","Grade 9 - 12","As immigration and naturalization processes continue to dominate U.S. news headlines and political rhetoric, the tangible fear of having one's family torn apart is only growing greater for those who flock to the United States for work, education, or refuge. This book looks at both legal and undocumented immigration and explores the challenges faced by local and federal government officials, by different types of workers, and by the children of green card or visa holders. This is a balanced overview of deportation, those it may involve, and how it works.","English",46.4,37.119999999999997,"325.73--dc23","200 pp.","https://greenhavenpublishing.com/978-1-5345-0227-7",{"$f":"Table1[[#This Row],['# of Books]]*Table1[[#This Row],[QTY]]","v":0},{"$f":"Table1[[#This Row],[QTY]]*Table1[[#This Row],[School & Library Price]]","v":0}]
[null,null,30,null,null,"Current Issues","Current Controversies","Enhanced Interrogation and Torture","978-1-5345-0235-2",{"$f":"HYPERLINK(Table1[[#This Row],[Hyperlink]],\"Weblink\")","v":"Weblink"},"Greenhaven Publishing","Library Bound Book",1,"2018","January 2018","Library","6.000 X 9.000","Edited by","Gary Wiener",null,null,null,null,"Z",null,"Grade 10 - 12","Grade 9 - 12","You hear about \"waterboarding,\" but what exactly does it mean? This informative, and at times unflinching, collection of essays explores the radical tactics used by government-sanctioned agencies, and those used by terror groups, to ferret out key intelligence from detainees. Topics range from the Geneva Convention to the conditions at Iraq's Abu Ghraib prison to the impact of the viral execution videos released by ISIS. A frank look at a difficult subject, this book is recommended for older readers who may already be studying the effects of war or current events.","English",46.4,37.119999999999997,"327.1273--dc23","184 pp.","https://greenhavenpublishing.com/978-1-5345-0235-2",{"$f":"Table1[[#This Row],['# of Books]]*Table1[[#This Row],[QTY]]","v":0},{"$f":"Table1[[#This Row],[QTY]]*Table1[[#This Row],[School & Library Price]]","v":0}]
[null,null,30,null,null,"Current Issues","Current Controversies","Enhanced Interrogation and Torture","978-1-5345-0241-3",{"$f":"HYPERLINK(Table1[[#This Row],[Hyperlink]],\"Weblink\")","v":"Weblink"},"Greenhaven Publishing","Paperback Book",1,"2018","January 2018","Paperback","6.000 X 9.000","Edited by","Gary Wiener",null,null,null,null,"Z",null,"Grade 10 - 12","Grade 9 - 12","You hear about \"waterboarding,\" but what exactly does it mean? This informative, and at times unflinching, collection of essays explores the radical tactics used by government-sanctioned agencies, and those used by terror groups, to ferret out key intelligence from detainees. Topics range from the Geneva Convention to the conditions at Iraq's Abu Ghraib prison to the impact of the viral execution videos released by ISIS. A frank look at a difficult subject, this book is recommended for older readers who may already be studying the effects of war or current events.","English",32,25.6,"327.1273--dc23","184 pp.","https://greenhavenpublishing.com/978-1-5345-0241-3",{"$f":"Table1[[#This Row],['# of Books]]*Table1[[#This Row],[QTY]]","v":0},{"$f":"Table1[[#This Row],[QTY]]*Table1[[#This Row],[School & Library Price]]","v":0}]
[null,null,30,null,null,"Current Issues","Current Controversies","Enhanced Interrogation and Torture","978-1-5345-0230-7",{"$f":"HYPERLINK(Table1[[#This Row],[Hyperlink]],\"Weblink\")","v":"Weblink"},"Greenhaven Publishing","eBook",1,"2018","January 2018",null,null,"Edited by","Gary Wiener",null,null,null,null,"Z",null,"Grade 10 - 12","Grade 9 - 12","You hear about \"waterboarding,\" but what exactly does it mean? This informative, and at times unflinching, collection of essays explores the radical tactics used by government-sanctioned agencies, and those used by terror groups, to ferret out key intelligence from detainees. Topics range from the Geneva Convention to the conditions at Iraq's Abu Ghraib prison to the impact of the viral execution videos released by ISIS. A frank look at a difficult subject, this book is recommended for older readers who may already be studying the effects of war or current events.","English",46.4,37.119999999999997,"327.1273--dc23","184 pp.","https://greenhavenpublishing.com/978-1-5345-0230-7",{"$f":"Table1[[#This Row],['# of Books]]*Table1[[#This Row],[QTY]]","v":0},{"$f":"Table1[[#This Row],[QTY]]*Table1[[#This Row],[School & Library Price]]","v":0}]
[null,null,31,null,null,"Current Issues","Current Controversies","Microaggressions, Safe Spaces, and Trigger Warnings","978-1-5345-0236-9",{"$f":"HYPERLINK(Table1[[#This Row],[Hyperlink]],\"Weblink\")","v":"Weblink"},"Greenhaven Publishing","Library Bound Book",1,"2018","January 2018","Library","6.000 X 9.000","Edited by","Gary Wiener",null,null,null,null,"Z","1380L","Grade 10 - 12","Grade 9 - 12","Despite the name, trigger warnings have nothing to do with gun control, and safe spaces don't necessarily mean state-of-the-art panic rooms. Instead, these terms and the phrase \"microaggressions\" relate to preserving and protecting one's emotional safety. In this volume, readers will learn about the increased demand for sensitivity in social settings, in literature and media, and on the Internet. They will also encounter the opposing view, that we, as a society, are becoming too fragile and don't need figurative bulletproof vests for every occasion.","English",46.4,37.119999999999997,"305.800973--dc23","168 pp.","https://greenhavenpublishing.com/978-1-5345-0236-9",{"$f":"Table1[[#This Row],['# of Books]]*Table1[[#This Row],[QTY]]","v":0},{"$f":"Table1[[#This Row],[QTY]]*Table1[[#This Row],[School & Library Price]]","v":0}]
[null,null,31,null,null,"Current Issues","Current Controversies","Microaggressions, Safe Spaces, and Trigger Warnings","978-1-5345-0242-0",{"$f":"HYPERLINK(Table1[[#This Row],[Hyperlink]],\"Weblink\")","v":"Weblink"},"Greenhaven Publishing","Paperback Book",1,"2018","January 2018","Paperback","6.000 X 9.000","Edited by","Gary Wiener",null,null,null,null,"Z","1380L","Grade 10 - 12","Grade 9 - 12","Despite the name, trigger warnings have nothing to do with gun control, and safe spaces don't necessarily mean state-of-the-art panic rooms. Instead, these terms and the phrase \"microaggressions\" relate to preserving and protecting one's emotional safety. In this volume, readers will learn about the increased demand for sensitivity in social settings, in literature and media, and on the Internet. They will also encounter the opposing view, that we, as a society, are becoming too fragile and don't need figurative bulletproof vests for every occasion.","English",32,25.6,"305.800973--dc23","168 pp.","https://greenhavenpublishing.com/978-1-5345-0242-0",{"$f":"Table1[[#This Row],['# of Books]]*Table1[[#This Row],[QTY]]","v":0},{"$f":"Table1[[#This Row],[QTY]]*Table1[[#This Row],[School & Library Price]]","v":0}]
[null,null,31,null,null,"Current Issues","Current Controversies","Microaggressions, Safe Spaces, and Trigger Warnings","978-1-5345-0231-4",{"$f":"HYPERLINK(Table1[[#This Row],[Hyperlink]],\"Weblink\")","v":"Weblink"},"Greenhaven Publishing","eBook",1,"2018","January 2018",null,null,"Edited by","Gary Wiener",null,null,null,null,"Z","1380L","Grade 10 - 12","Grade 9 - 12","Despite the name, trigger warnings have nothing to do with gun control, and safe spaces don't necessarily mean state-of-the-art panic rooms. Instead, these terms and the phrase \"microaggressions\" relate to preserving and protecting one's emotional safety. In this volume, readers will learn about the increased demand for sensitivity in social settings, in literature and media, and on the Internet. They will also encounter the opposing view, that we, as a society, are becoming too fragile and don't need figurative bulletproof vests for every occasion.","English",46.4,37.119999999999997,"305.800973--dc23","168 pp.","https://greenhavenpublishing.com/978-1-5345-0231-4",{"$f":"Table1[[#This Row],['# of Books]]*Table1[[#This Row],[QTY]]","v":0},{"$f":"Table1[[#This Row],[QTY]]*Table1[[#This Row],[School & Library Price]]","v":0}]
[null,null,31,null,null,"Current Issues","Current Controversies","Police Training and Excessive Force","978-1-5345-0237-6",{"$f":"HYPERLINK(Table1[[#This Row],[Hyperlink]],\"Weblink\")","v":"Weblink"},"Greenhaven Publishing","Library Bound Book",1,"2018","January 2018","Library","6.000 X 9.000","Edited by","Pete Schauer",null,null,null,null,"Z","1330L","Grade 10 - 12","Grade 9 - 12","How rough is too rough? Rodney King is an unfamiliar name for those growing up today, but the ongoing conversation concerning police brutality is one they know all-too well. This collection deep-dives into police training procedure, what constitutes excessive force, and what happens when the community disagrees with the police and the justice system. Relevant topics covered in this balanced anthology include the 1992 L.A. riots and the 2014 outcry in Ferguson, MO, as well as the choking death of Eric Garner in Staten Island, NY.","English",46.4,37.119999999999997,"363.2/32--dc23","176 pp.","https://greenhavenpublishing.com/978-1-5345-0237-6",{"$f":"Table1[[#This Row],['# of Books]]*Table1[[#This Row],[QTY]]","v":0},{"$f":"Table1[[#This Row],[QTY]]*Table1[[#This Row],[School & Library Price]]","v":0}]
[null,null,31,null,null,"Current Issues","Current Controversies","Police Training and Excessive Force","978-1-5345-0243-7",{"$f":"HYPERLINK(Table1[[#This Row],[Hyperlink]],\"Weblink\")","v":"Weblink"},"Greenhaven Publishing","Paperback Book",1,"2018","January 2018","Paperback","6.000 X 9.000","Edited by","Pete Schauer",null,null,null,null,"Z","1330L","Grade 10 - 12","Grade 9 - 12","How rough is too rough? Rodney King is an unfamiliar name for those growing up today, but the ongoing conversation concerning police brutality is one they know all-too well. This collection deep-dives into police training procedure, what constitutes excessive force, and what happens when the community disagrees with the police and the justice system. Relevant topics covered in this balanced anthology include the 1992 L.A. riots and the 2014 outcry in Ferguson, MO, as well as the choking death of Eric Garner in Staten Island, NY.","English",32,25.6,"363.2/32--dc23","176 pp.","https://greenhavenpublishing.com/978-1-5345-0243-7",{"$f":"Table1[[#This Row],['# of Books]]*Table1[[#This Row],[QTY]]","v":0},{"$f":"Table1[[#This Row],[QTY]]*Table1[[#This Row],[School & Library Price]]","v":0}]
[null,null,31,null,null,"Current Issues","Current Controversies","Police Training and Excessive Force","978-1-5345-0229-1",{"$f":"HYPERLINK(Table1[[#This Row],[Hyperlink]],\"Weblink\")","v":"Weblink"},"Greenhaven Publishing","eBook",1,"2018","January 2018",null,null,"Edited by","Pete Schauer",null,null,null,null,"Z","1330L","Grade 10 - 12","Grade 9 - 12","How rough is too rough? Rodney King is an unfamiliar name for those growing up today, but the ongoing conversation concerning police brutality is one they know all-too well. This collection deep-dives into police training procedure, what constitutes excessive force, and what happens when the community disagrees with the police and the justice system. Relevant topics covered in this balanced anthology include the 1992 L.A. riots and the 2014 outcry in Ferguson, MO, as well as the choking death of Eric Garner in Staten Island, NY.","English",46.4,37.119999999999997,"363.2/32--dc23","176 pp.","https://greenhavenpublishing.com/978-1-5345-0229-1",{"$f":"Table1[[#This Row],['# of Books]]*Table1[[#This Row],[QTY]]","v":0},{"$f":"Table1[[#This Row],[QTY]]*Table1[[#This Row],[School & Library Price]]","v":0}]
[null,null,29,null,null,"Current Issues","Current Controversies","The Confederate Flag","978-1-5345-0238-3",{"$f":"HYPERLINK(Table1[[#This Row],[Hyperlink]],\"Weblink\")","v":"Weblink"},"Greenhaven Publishing","Library Bound Book",1,"2018","January 2018","Library","6.000 X 9.000","Edited by","Anne Cunningham",null,null,null,null,"Z","1300L","Grade 10 - 12","Grade 9 - 12","Is it a symbol of pride in one's heritage or an ugly reminder of slavery and the fruits of racism? The issue of whether the Confederate flag belongs in front of government buildings, or even on Southern pride paraphernalia, has been a hot button for more than a century, long after the Civil War was fought and won. This book takes a close look at the flag's origins, its controversial history, what meaning it has for Americans living today, and the ongoing debate on its use and display.","English",46.4,37.119999999999997,"929.9/20973--dc23","200 pp.","https://greenhavenpublishing.com/978-1-5345-0238-3",{"$f":"Table1[[#This Row],['# of Books]]*Table1[[#This Row],[QTY]]","v":0},{"$f":"Table1[[#This Row],[QTY]]*Table1[[#This Row],[School & Library Price]]","v":0}]
[null,null,29,null,null,"Current Issues","Current Controversies","The Confederate Flag","978-1-5345-0244-4",{"$f":"HYPERLINK(Table1[[#This Row],[Hyperlink]],\"Weblink\")","v":"Weblink"},"Greenhaven Publishing","Paperback Book",1,"2018","January 2018","Paperback","6.000 X 9.000","Edited by","Anne Cunningham",null,null,null,null,"Z","1300L","Grade 10 - 12","Grade 9 - 12","Is it a symbol of pride in one's heritage or an ugly reminder of slavery and the fruits of racism? The issue of whether the Confederate flag belongs in front of government buildings, or even on Southern pride paraphernalia, has been a hot button for more than a century, long after the Civil War was fought and won. This book takes a close look at the flag's origins, its controversial history, what meaning it has for Americans living today, and the ongoing debate on its use and display.","English",32,25.6,"929.9/20973--dc23","200 pp.","https://greenhavenpublishing.com/978-1-5345-0244-4",{"$f":"Table1[[#This Row],['# of Books]]*Table1[[#This Row],[QTY]]","v":0},{"$f":"Table1[[#This Row],[QTY]]*Table1[[#This Row],[School & Library Price]]","v":0}]
[null,null,29,null,null,"Current Issues","Current Controversies","The Confederate Flag","978-1-5345-0232-1",{"$f":"HYPERLINK(Table1[[#This Row],[Hyperlink]],\"Weblink\")","v":"Weblink"},"Greenhaven Publishing","eBook",1,"2018","January 2018",null,null,"Edited by","Anne Cunningham",null,null,null,null,"Z","1300L","Grade 10 - 12","Grade 9 - 12","Is it a symbol of pride in one's heritage or an ugly reminder of slavery and the fruits of racism? The issue of whether the Confederate flag belongs in front of government buildings, or even on Southern pride paraphernalia, has been a hot button for more than a century, long after the Civil War was fought and won. This book takes a close look at the flag's origins, its controversial history, what meaning it has for Americans living today, and the ongoing debate on its use and display.","English",46.4,37.119999999999997,"929.9/20973--dc23","200 pp.","https://greenhavenpublishing.com/978-1-5345-0232-1",{"$f":"Table1[[#This Row],['# of Books]]*Table1[[#This Row],[QTY]]","v":0},{"$f":"Table1[[#This Row],[QTY]]*Table1[[#This Row],[School & Library Price]]","v":0}]
[null,null,30,null,null,"Current Issues","Current Controversies","Fracking","978-1-5345-0103-4",{"$f":"HYPERLINK(Table1[[#This Row],[Hyperlink]],\"Weblink\")","v":"Weblink"},"Greenhaven Publishing","Library Bound Book",1,"2018","August 2017","Library","6.000 X 9.000","Edited by","Anne C. Cunningham",null,null,null,null,"Z","1370L","Grade 10 - 12","Grade 9 - 12","On the surface, fracking, or hydraulic fracturing, seems like a perfect solution to the country’s energy crises. It is a relatively easy and independent way to supply natural gas. But controversies surround the practice. The process involved in fracking has been shown to be harmful to the environment and a threat to our public health. Do the benefits of fracking outweigh the costs? Can improvements be made to the process that would eliminate its dangers? Should the government get more involved in regulating fracking, or should it be up to the people?","English",46.4,37.119999999999997,"622/.3381--dc23","184 pp.","https://greenhavenpublishing.com/978-1-5345-0103-4",{"$f":"Table1[[#This Row],['# of Books]]*Table1[[#This Row],[QTY]]","v":0},{"$f":"Table1[[#This Row],[QTY]]*Table1[[#This Row],[School & Library Price]]","v":0}]
[null,null,30,null,null,"Current Issues","Current Controversies","Fracking","978-1-5345-0101-0",{"$f":"HYPERLINK(Table1[[#This Row],[Hyperlink]],\"Weblink\")","v":"Weblink"},"Greenhaven Publishing","Paperback Book",1,"2018","August 2017","Paperback","6.000 X 9.000","Edited by","Anne C. Cunningham",null,null,null,null,"Z","1370L","Grade 10 - 12","Grade 9 - 12","On the surface, fracking, or hydraulic fracturing, seems like a perfect solution to the country’s energy crises. It is a relatively easy and independent way to supply natural gas. But controversies surround the practice. The process involved in fracking has been shown to be harmful to the environment and a threat to our public health. Do the benefits of fracking outweigh the costs? Can improvements be made to the process that would eliminate its dangers? Should the government get more involved in regulating fracking, or should it be up to the people?","English",32,25.6,"622/.3381--dc23","184 pp.","https://greenhavenpublishing.com/978-1-5345-0101-0",{"$f":"Table1[[#This Row],['# of Books]]*Table1[[#This Row],[QTY]]","v":0},{"$f":"Table1[[#This Row],[QTY]]*Table1[[#This Row],[School & Library Price]]","v":0}]
[null,null,30,null,null,"Current Issues","Current Controversies","Fracking","978-1-5345-0104-1",{"$f":"HYPERLINK(Table1[[#This Row],[Hyperlink]],\"Weblink\")","v":"Weblink"},"Greenhaven Publishing","eBook",1,"2018","August 2017",null,null,"Edited by","Anne C. Cunningham",null,null,null,null,"Z","1370L","Grade 10 - 12","Grade 9 - 12","On the surface, fracking, or hydraulic fracturing, seems like a perfect solution to the country’s energy crises. It is a relatively easy and independent way to supply natural gas. But controversies surround the practice. The process involved in fracking has been shown to be harmful to the environment and a threat to our public health. Do the benefits of fracking outweigh the costs? Can improvements be made to the process that would eliminate its dangers? Should the government get more involved in regulating fracking, or should it be up to the people?","English",46.4,37.119999999999997,"622/.3381--dc23","184 pp.","https://greenhavenpublishing.com/978-1-5345-0104-1",{"$f":"Table1[[#This Row],['# of Books]]*Table1[[#This Row],[QTY]]","v":0},{"$f":"Table1[[#This Row],[QTY]]*Table1[[#This Row],[School & Library Price]]","v":0}]
[null,null,30,null,null,"Current Issues","Current Controversies","Homelessness and Street Crime","978-1-5345-0095-2",{"$f":"HYPERLINK(Table1[[#This Row],[Hyperlink]],\"Weblink\")","v":"Weblink"},"Greenhaven Publishing","Library Bound Book",1,"2018","August 2017","Library","6.000 X 9.000","Edited by","Pete Schauer",null,null,null,null,"Z","1340L","Grade 10 - 12","Grade 9 - 12","Hundreds of thousands of Americans are without a home, sleeping on streets or in temporary shelters. Nearly one-fifth of homeless Americans suffer from an untreated mental illness. Due in part to reductions in state and city budgets, many who need assistance are left to live on the street. One natural byproduct of a life on the street is criminal behavior, as adaptation to illegal acts becomes a matter of survival. Could ending homelessness reduce crime? What are ways in which that could be achieved, and whose responsibility is it? Are the homeless being unfairly blamed for street crime? This volume offers a close examination of the issue from a variety of viewpoints.","English",46.4,37.119999999999997,"362.5'920973--dc23","240 pp.","https://greenhavenpublishing.com/978-1-5345-0095-2",{"$f":"Table1[[#This Row],['# of Books]]*Table1[[#This Row],[QTY]]","v":0},{"$f":"Table1[[#This Row],[QTY]]*Table1[[#This Row],[School & Library Price]]","v":0}]
[null,null,30,null,null,"Current Issues","Current Controversies","Homelessness and Street Crime","978-1-5345-0093-8",{"$f":"HYPERLINK(Table1[[#This Row],[Hyperlink]],\"Weblink\")","v":"Weblink"},"Greenhaven Publishing","Paperback Book",1,"2018","August 2017","Paperback","6.000 X 9.000","Edited by","Pete Schauer",null,null,null,null,"Z","1340L","Grade 10 - 12","Grade 9 - 12","Hundreds of thousands of Americans are without a home, sleeping on streets or in temporary shelters. Nearly one-fifth of homeless Americans suffer from an untreated mental illness. Due in part to reductions in state and city budgets, many who need assistance are left to live on the street. One natural byproduct of a life on the street is criminal behavior, as adaptation to illegal acts becomes a matter of survival. Could ending homelessness reduce crime? What are ways in which that could be achieved, and whose responsibility is it? Are the homeless being unfairly blamed for street crime? This volume offers a close examination of the issue from a variety of viewpoints.","English",32,25.6,"362.5'920973--dc23","240 pp.","https://greenhavenpublishing.com/978-1-5345-0093-8",{"$f":"Table1[[#This Row],['# of Books]]*Table1[[#This Row],[QTY]]","v":0},{"$f":"Table1[[#This Row],[QTY]]*Table1[[#This Row],[School & Library Price]]","v":0}]
[null,null,30,null,null,"Current Issues","Current Controversies","Homelessness and Street Crime","978-1-5345-0096-9",{"$f":"HYPERLINK(Table1[[#This Row],[Hyperlink]],\"Weblink\")","v":"Weblink"},"Greenhaven Publishing","eBook",1,"2018","August 2017",null,null,"Edited by","Pete Schauer",null,null,null,null,"Z","1340L","Grade 10 - 12","Grade 9 - 12","Hundreds of thousands of Americans are without a home, sleeping on streets or in temporary shelters. Nearly one-fifth of homeless Americans suffer from an untreated mental illness. Due in part to reductions in state and city budgets, many who need assistance are left to live on the street. One natural byproduct of a life on the street is criminal behavior, as adaptation to illegal acts becomes a matter of survival. Could ending homelessness reduce crime? What are ways in which that could be achieved, and whose responsibility is it? Are the homeless being unfairly blamed for street crime? This volume offers a close examination of the issue from a variety of viewpoints.","English",46.4,37.119999999999997,"362.5'920973--dc23","240 pp.","https://greenhavenpublishing.com/978-1-5345-0096-9",{"$f":"Table1[[#This Row],['# of Books]]*Table1[[#This Row],[QTY]]","v":0},{"$f":"Table1[[#This Row],[QTY]]*Table1[[#This Row],[School & Library Price]]","v":0}]
[null,null,31,null,null,"Current Issues","Current Controversies","Political Correctness","978-1-5345-0099-0",{"$f":"HYPERLINK(Table1[[#This Row],[Hyperlink]],\"Weblink\")","v":"Weblink"},"Greenhaven Publishing","Library Bound Book",1,"2018","August 2017","Library","6.000 X 9.000","Edited by","Rachel Bozek",null,null,null,null,"Z","1350L","Grade 10 - 12","Grade 9 - 12","Political correctness, better known as “PC,” flourished in institutions of higher learning in the 1990s. With the rise of social media, a second wave of PC culture has emerged that is more aggressive than the first. It seems to many that nearly everyone is a target, at risk of being labeled a racist or misogynist based on one short tweet. The movement, though intended to be inclusive and pluralistic, has its detractors. Is political correctness protective or is it an attack on freedom? Do knee-jerk reactions cancel out the opportunity for thoughtful discourse? And what does this culture mean for our future?","English",46.4,37.119999999999997,"306--dc23","160 pp.","https://greenhavenpublishing.com/978-1-5345-0099-0",{"$f":"Table1[[#This Row],['# of Books]]*Table1[[#This Row],[QTY]]","v":0},{"$f":"Table1[[#This Row],[QTY]]*Table1[[#This Row],[School & Library Price]]","v":0}]
[null,null,31,null,null,"Current Issues","Current Controversies","Political Correctness","978-1-5345-0097-6",{"$f":"HYPERLINK(Table1[[#This Row],[Hyperlink]],\"Weblink\")","v":"Weblink"},"Greenhaven Publishing","Paperback Book",1,"2018","August 2017","Paperback","6.000 X 9.000","Edited by","Rachel Bozek",null,null,null,null,"Z","1350L","Grade 10 - 12","Grade 9 - 12","Political correctness, better known as “PC,” flourished in institutions of higher learning in the 1990s. With the rise of social media, a second wave of PC culture has emerged that is more aggressive than the first. It seems to many that nearly everyone is a target, at risk of being labeled a racist or misogynist based on one short tweet. The movement, though intended to be inclusive and pluralistic, has its detractors. Is political correctness protective or is it an attack on freedom? Do knee-jerk reactions cancel out the opportunity for thoughtful discourse? And what does this culture mean for our future?","English",32,25.6,"306--dc23","160 pp.","https://greenhavenpublishing.com/978-1-5345-0097-6",{"$f":"Table1[[#This Row],['# of Books]]*Table1[[#This Row],[QTY]]","v":0},{"$f":"Table1[[#This Row],[QTY]]*Table1[[#This Row],[School & Library Price]]","v":0}]
[null,null,31,null,null,"Current Issues","Current Controversies","Political Correctness","978-1-5345-0100-3",{"$f":"HYPERLINK(Table1[[#This Row],[Hyperlink]],\"Weblink\")","v":"Weblink"},"Greenhaven Publishing","eBook",1,"2018","August 2017",null,null,"Edited by","Rachel Bozek",null,null,null,null,"Z","1350L","Grade 10 - 12","Grade 9 - 12","Political correctness, better known as “PC,” flourished in institutions of higher learning in the 1990s. With the rise of social media, a second wave of PC culture has emerged that is more aggressive than the first. It seems to many that nearly everyone is a target, at risk of being labeled a racist or misogynist based on one short tweet. The movement, though intended to be inclusive and pluralistic, has its detractors. Is political correctness protective or is it an attack on freedom? Do knee-jerk reactions cancel out the opportunity for thoughtful discourse? And what does this culture mean for our future?","English",46.4,37.119999999999997,"306--dc23","160 pp.","https://greenhavenpublishing.com/978-1-5345-0100-3",{"$f":"Table1[[#This Row],['# of Books]]*Table1[[#This Row],[QTY]]","v":0},{"$f":"Table1[[#This Row],[QTY]]*Table1[[#This Row],[School & Library Price]]","v":0}]
[null,null,32,null,null,"Current Issues","Current Controversies","Returning Soldiers and PTSD","978-1-5345-0091-4",{"$f":"HYPERLINK(Table1[[#This Row],[Hyperlink]],\"Weblink\")","v":"Weblink"},"Greenhaven Publishing","Library Bound Book",1,"2018","August 2017","Library","6.000 X 9.000","Edited by","Barbara Krasner ",null,null,null,null,"Z",null,"Grade 10 - 12","Grade 9 - 12","One of the most painful and tragic legacies of the wars in Iraq and Afghanistan has been the trauma suffered by those who served and the far-reaching consequences and after-effects of their scarring combat experiences. This very important volume looks at the issue of returning soldiers PTSD from multiple angles, examining skyrocketing suicide rates; the debates surrounding the quality and accessibility of health care; the nature of and stigmas associated with a PTSD diagnosis; the responsibility that government and society have to care for returning soldiers; how welcoming, protective, and supportive the environment is to which soldiers return; and the steep cost of war to the individual, families, and society at large.","English",46.4,37.119999999999997,"616.85/21--dc23","296 pp.","https://greenhavenpublishing.com/978-1-5345-0091-4",{"$f":"Table1[[#This Row],['# of Books]]*Table1[[#This Row],[QTY]]","v":0},{"$f":"Table1[[#This Row],[QTY]]*Table1[[#This Row],[School & Library Price]]","v":0}]
[null,null,32,null,null,"Current Issues","Current Controversies","Returning Soldiers and PTSD","978-1-5345-0087-7",{"$f":"HYPERLINK(Table1[[#This Row],[Hyperlink]],\"Weblink\")","v":"Weblink"},"Greenhaven Publishing","Paperback Book",1,"2018","August 2017","Paperback","6.000 X 9.000","Edited by","Barbara Krasner ",null,null,null,null,"Z",null,"Grade 10 - 12","Grade 9 - 12","One of the most painful and tragic legacies of the wars in Iraq and Afghanistan has been the trauma suffered by those who served and the far-reaching consequences and after-effects of their scarring combat experiences. This very important volume looks at the issue of returning soldiers PTSD from multiple angles, examining skyrocketing suicide rates; the debates surrounding the quality and accessibility of health care; the nature of and stigmas associated with a PTSD diagnosis; the responsibility that government and society have to care for returning soldiers; how welcoming, protective, and supportive the environment is to which soldiers return; and the steep cost of war to the individual, families, and society at large.","English",32,25.6,"616.85/21--dc23","296 pp.","https://greenhavenpublishing.com/978-1-5345-0087-7",{"$f":"Table1[[#This Row],['# of Books]]*Table1[[#This Row],[QTY]]","v":0},{"$f":"Table1[[#This Row],[QTY]]*Table1[[#This Row],[School & Library Price]]","v":0}]
[null,null,32,null,null,"Current Issues","Current Controversies","Returning Soldiers and PTSD","978-1-5345-0092-1",{"$f":"HYPERLINK(Table1[[#This Row],[Hyperlink]],\"Weblink\")","v":"Weblink"},"Greenhaven Publishing","eBook",1,"2018","August 2017",null,null,"Edited by","Barbara Krasner ",null,null,null,null,"Z",null,"Grade 10 - 12","Grade 9 - 12","One of the most painful and tragic legacies of the wars in Iraq and Afghanistan has been the trauma suffered by those who served and the far-reaching consequences and after-effects of their scarring combat experiences. This very important volume looks at the issue of returning soldiers PTSD from multiple angles, examining skyrocketing suicide rates; the debates surrounding the quality and accessibility of health care; the nature of and stigmas associated with a PTSD diagnosis; the responsibility that government and society have to care for returning soldiers; how welcoming, protective, and supportive the environment is to which soldiers return; and the steep cost of war to the individual, families, and society at large.","English",46.4,37.119999999999997,"616.85/21--dc23","296 pp.","https://greenhavenpublishing.com/978-1-5345-0092-1",{"$f":"Table1[[#This Row],['# of Books]]*Table1[[#This Row],[QTY]]","v":0},{"$f":"Table1[[#This Row],[QTY]]*Table1[[#This Row],[School & Library Price]]","v":0}]
[null,null,29,null,null,"Current Issues","Current Controversies","The Border Wall with Mexico","978-1-5345-0085-3",{"$f":"HYPERLINK(Table1[[#This Row],[Hyperlink]],\"Weblink\")","v":"Weblink"},"Greenhaven Publishing","Library Bound Book",1,"2018","August 2017","Library","6.000 X 9.000","Edited by","Martin Gitlin",null,null,null,null,"Z","1350L","Grade 10 - 12","Grade 9 - 12","To some, the idea of a border wall with Mexico represents a necessary and practical barrier to illegal immigration and the perceived host of ills that are associated with it. To others, it is both an unrealistic and inhumane effort that demonizes desperate individuals and families who are only seeking a better life. The debate is fierce and is bound up with competing notions of crime, ethnicity, opportunity, fairness, justice, and what America promises, offers, stands for, and represents. All sides of the debate are presented here, and each is given a fair and respectful hearing, allowing readers to sift through fact and opinion, evaluate the strength of arguments, and form an educated opinion on the issue.","English",46.4,37.119999999999997,"972'.1--dc23","144 pp.","https://greenhavenpublishing.com/978-1-5345-0085-3",{"$f":"Table1[[#This Row],['# of Books]]*Table1[[#This Row],[QTY]]","v":0},{"$f":"Table1[[#This Row],[QTY]]*Table1[[#This Row],[School & Library Price]]","v":0}]
[null,null,29,null,null,"Current Issues","Current Controversies","The Border Wall with Mexico","978-1-5345-0090-7",{"$f":"HYPERLINK(Table1[[#This Row],[Hyperlink]],\"Weblink\")","v":"Weblink"},"Greenhaven Publishing","Paperback Book",1,"2018","August 2017","Paperback","6.000 X 9.000","Edited by","Martin Gitlin",null,null,null,null,"Z","1350L","Grade 10 - 12","Grade 9 - 12","To some, the idea of a border wall with Mexico represents a necessary and practical barrier to illegal immigration and the perceived host of ills that are associated with it. To others, it is both an unrealistic and inhumane effort that demonizes desperate individuals and families who are only seeking a better life. The debate is fierce and is bound up with competing notions of crime, ethnicity, opportunity, fairness, justice, and what America promises, offers, stands for, and represents. All sides of the debate are presented here, and each is given a fair and respectful hearing, allowing readers to sift through fact and opinion, evaluate the strength of arguments, and form an educated opinion on the issue.","English",32,25.6,"972'.1--dc23","144 pp.","https://greenhavenpublishing.com/978-1-5345-0090-7",{"$f":"Table1[[#This Row],['# of Books]]*Table1[[#This Row],[QTY]]","v":0},{"$f":"Table1[[#This Row],[QTY]]*Table1[[#This Row],[School & Library Price]]","v":0}]
[null,null,29,null,null,"Current Issues","Current Controversies","The Border Wall with Mexico","978-1-5345-0086-0",{"$f":"HYPERLINK(Table1[[#This Row],[Hyperlink]],\"Weblink\")","v":"Weblink"},"Greenhaven Publishing","eBook",1,"2018","August 2017",null,null,"Edited by","Martin Gitlin",null,null,null,null,"Z","1350L","Grade 10 - 12","Grade 9 - 12","To some, the idea of a border wall with Mexico represents a necessary and practical barrier to illegal immigration and the perceived host of ills that are associated with it. To others, it is both an unrealistic and inhumane effort that demonizes desperate individuals and families who are only seeking a better life. The debate is fierce and is bound up with competing notions of crime, ethnicity, opportunity, fairness, justice, and what America promises, offers, stands for, and represents. All sides of the debate are presented here, and each is given a fair and respectful hearing, allowing readers to sift through fact and opinion, evaluate the strength of arguments, and form an educated opinion on the issue.","English",46.4,37.119999999999997,"972'.1--dc23","144 pp.","https://greenhavenpublishing.com/978-1-5345-0086-0",{"$f":"Table1[[#This Row],['# of Books]]*Table1[[#This Row],[QTY]]","v":0},{"$f":"Table1[[#This Row],[QTY]]*Table1[[#This Row],[School & Library Price]]","v":0}]
[null,null,31,null,null,"Current Issues","Current Controversies","The Political Elite and Special Interests","978-1-5345-0106-5",{"$f":"HYPERLINK(Table1[[#This Row],[Hyperlink]],\"Weblink\")","v":"Weblink"},"Greenhaven Publishing","Library Bound Book",1,"2018","August 2017","Library","6.000 X 9.000","Edited by","Rachel Bozek",null,null,null,null,"Z","1300L","Grade 10 - 12","Grade 9 - 12","There is a growing sense that government is no longer of the people, by the people, and for the people. Many believe that society is manipulated by a handful of political elites and special interests. But why does each party feel that it is the elites and special interests of the other party who are in control of things? Does “one person one vote” still hold sway? Is this still a citizen democracy, or has it evolved into an oligarchy? Whose voice and vote really count? These and other questions and debates concerning power, influence, and who wields it are at the center of this fascinating collection of articles drawn from across the political spectrum.","English",46.4,37.119999999999997,"322.4--dc23","136 pp.","https://greenhavenpublishing.com/978-1-5345-0106-5",{"$f":"Table1[[#This Row],['# of Books]]*Table1[[#This Row],[QTY]]","v":0},{"$f":"Table1[[#This Row],[QTY]]*Table1[[#This Row],[School & Library Price]]","v":0}]
[null,null,31,null,null,"Current Issues","Current Controversies","The Political Elite and Special Interests","978-1-5345-0105-8",{"$f":"HYPERLINK(Table1[[#This Row],[Hyperlink]],\"Weblink\")","v":"Weblink"},"Greenhaven Publishing","Paperback Book",1,"2018","August 2017","Paperback","6.000 X 9.000","Edited by","Rachel Bozek",null,null,null,null,"Z","1300L","Grade 10 - 12","Grade 9 - 12","There is a growing sense that government is no longer of the people, by the people, and for the people. Many believe that society is manipulated by a handful of political elites and special interests. But why does each party feel that it is the elites and special interests of the other party who are in control of things? Does “one person one vote” still hold sway? Is this still a citizen democracy, or has it evolved into an oligarchy? Whose voice and vote really count? These and other questions and debates concerning power, influence, and who wields it are at the center of this fascinating collection of articles drawn from across the political spectrum.","English",32,25.6,"322.4--dc23","136 pp.","https://greenhavenpublishing.com/978-1-5345-0105-8",{"$f":"Table1[[#This Row],['# of Books]]*Table1[[#This Row],[QTY]]","v":0},{"$f":"Table1[[#This Row],[QTY]]*Table1[[#This Row],[School & Library Price]]","v":0}]
[null,null,31,null,null,"Current Issues","Current Controversies","The Political Elite and Special Interests","978-1-5345-0107-2",{"$f":"HYPERLINK(Table1[[#This Row],[Hyperlink]],\"Weblink\")","v":"Weblink"},"Greenhaven Publishing","eBook",1,"2018","August 2017",null,null,"Edited by","Rachel Bozek",null,null,null,null,"Z","1300L","Grade 10 - 12","Grade 9 - 12","There is a growing sense that government is no longer of the people, by the people, and for the people. Many believe that society is manipulated by a handful of political elites and special interests. But why does each party feel that it is the elites and special interests of the other party who are in control of things? Does “one person one vote” still hold sway? Is this still a citizen democracy, or has it evolved into an oligarchy? Whose voice and vote really count? These and other questions and debates concerning power, influence, and who wields it are at the center of this fascinating collection of articles drawn from across the political spectrum.","English",46.4,37.119999999999997,"322.4--dc23","136 pp.","https://greenhavenpublishing.com/978-1-5345-0107-2",{"$f":"Table1[[#This Row],['# of Books]]*Table1[[#This Row],[QTY]]","v":0},{"$f":"Table1[[#This Row],[QTY]]*Table1[[#This Row],[School & Library Price]]","v":0}]
[null,14,34,null,null,"Current Issues","Global Viewpoints","Global Viewpoints (Spring 2020)","978-1-5345-0672-5",{"$f":"HYPERLINK(Table1[[#This Row],[Hyperlink]],\"Weblink\")","v":"Weblink"},"Greenhaven Publishing","Library Set",6,"2020","January 2020","Library","6.000 X 9.000",null,null,null,null,null,null,null,null,"Grade 10 - 12","Grade 9 - 12","As technology makes the world more accessible, students need exposure to social, political, environmental, and health issues of global significance. Each anthology delivers contemporary views on the featured issue with much of the material reflecting stances of countries other than the United States. Primary sources, including speeches and government documents, join essays from international magazines and news sources for a truly panoramic view. Features include: Viewpoints selected from publications and sources around the world offer students a global perspective on pressing issues. Critical-thinking questions guide students in continued consideration and analysis of the topics. Thematic chapters simplify and summarize key aspects of topics into comprehensible information.","English",277.2,221.76,null,"176–200 pp.","https://greenhavenpublishing.com/978-1-5345-0672-5",{"$f":"Table1[[#This Row],['# of Books]]*Table1[[#This Row],[QTY]]","v":0},{"$f":"Table1[[#This Row],[QTY]]*Table1[[#This Row],[School & Library Price]]","v":0}]
[null,14,34,null,null,"Current Issues","Global Viewpoints","Global Viewpoints (Spring 2020)","978-1-5345-0677-0",{"$f":"HYPERLINK(Table1[[#This Row],[Hyperlink]],\"Weblink\")","v":"Weblink"},"Greenhaven Publishing","Single Copy Set",6,"2020","January 2020","Paperback","6.000 X 9.000",null,null,null,null,null,null,null,null,"Grade 10 - 12","Grade 9 - 12","As technology makes the world more accessible, students need exposure to social, political, environmental, and health issues of global significance. Each anthology delivers contemporary views on the featured issue with much of the material reflecting stances of countries other than the United States. Primary sources, including speeches and government documents, join essays from international magazines and news sources for a truly panoramic view. Features include: Viewpoints selected from publications and sources around the world offer students a global perspective on pressing issues. Critical-thinking questions guide students in continued consideration and analysis of the topics. Thematic chapters simplify and summarize key aspects of topics into comprehensible information.","English",190.2,152.16,null,"176–200 pp.","https://greenhavenpublishing.com/978-1-5345-0677-0",{"$f":"Table1[[#This Row],['# of Books]]*Table1[[#This Row],[QTY]]","v":0},{"$f":"Table1[[#This Row],[QTY]]*Table1[[#This Row],[School & Library Price]]","v":0}]
[null,14,34,null,null,"Current Issues","Global Viewpoints","Biodiversity and Conservation","978-1-5345-0641-1",{"$f":"HYPERLINK(Table1[[#This Row],[Hyperlink]],\"Weblink\")","v":"Weblink"},"Greenhaven Publishing","Library Bound Book",1,"2020","January 2020","Library","6.000 X 9.000","Author","Lisa Idzikowski",null,null,null,null,"Z",null,"Grade 10 - 12","Grade 9 - 12","Biodiversity, the variety of life on Earth, is vital to the health of the planet. But overdevelopment and deforestation have threatened biodiversity, as have pollution, overfishing, and hunting and poaching. Conservation efforts must be intensified in order to avoid collapse of our valuable ecosystems. The viewpoints in this volume address the importance of biodiversity and what has contributed to its loss, examples of crises in different parts of the world, and what can be done to ensure the biodiversity of the planet is preserved.","English",46.2,36.96,"333.95/16--dc23","176 pp.","https://greenhavenpublishing.com/978-1-5345-0641-1",{"$f":"Table1[[#This Row],['# of Books]]*Table1[[#This Row],[QTY]]","v":0},{"$f":"Table1[[#This Row],[QTY]]*Table1[[#This Row],[School & Library Price]]","v":0}]
[null,14,34,null,null,"Current Issues","Global Viewpoints","Biodiversity and Conservation","978-1-5345-0640-4",{"$f":"HYPERLINK(Table1[[#This Row],[Hyperlink]],\"Weblink\")","v":"Weblink"},"Greenhaven Publishing","Paperback Book",1,"2020","January 2020","Paperback","6.000 X 9.000","Author","Lisa Idzikowski",null,null,null,null,"Z",null,"Grade 10 - 12","Grade 9 - 12","Biodiversity, the variety of life on Earth, is vital to the health of the planet. But overdevelopment and deforestation have threatened biodiversity, as have pollution, overfishing, and hunting and poaching. Conservation efforts must be intensified in order to avoid collapse of our valuable ecosystems. The viewpoints in this volume address the importance of biodiversity and what has contributed to its loss, examples of crises in different parts of the world, and what can be done to ensure the biodiversity of the planet is preserved.","English",31.7,25.36,"333.95/16--dc23","176 pp.","https://greenhavenpublishing.com/978-1-5345-0640-4",{"$f":"Table1[[#This Row],['# of Books]]*Table1[[#This Row],[QTY]]","v":0},{"$f":"Table1[[#This Row],[QTY]]*Table1[[#This Row],[School & Library Price]]","v":0}]
[null,14,34,null,null,"Current Issues","Global Viewpoints","Biodiversity and Conservation","978-1-5345-0642-8",{"$f":"HYPERLINK(Table1[[#This Row],[Hyperlink]],\"Weblink\")","v":"Weblink"},"Greenhaven Publishing","eBook",1,"2020","January 2020",null,null,"Author","Lisa Idzikowski",null,null,null,null,"Z",null,"Grade 10 - 12","Grade 9 - 12","Biodiversity, the variety of life on Earth, is vital to the health of the planet. But overdevelopment and deforestation have threatened biodiversity, as have pollution, overfishing, and hunting and poaching. Conservation efforts must be intensified in order to avoid collapse of our valuable ecosystems. The viewpoints in this volume address the importance of biodiversity and what has contributed to its loss, examples of crises in different parts of the world, and what can be done to ensure the biodiversity of the planet is preserved.","English",46.2,36.96,"333.95/16--dc23","176 pp.","https://greenhavenpublishing.com/978-1-5345-0642-8",{"$f":"Table1[[#This Row],['# of Books]]*Table1[[#This Row],[QTY]]","v":0},{"$f":"Table1[[#This Row],[QTY]]*Table1[[#This Row],[School & Library Price]]","v":0}]
[null,14,34,null,null,"Current Issues","Global Viewpoints","Global Health","978-1-5345-0647-3",{"$f":"HYPERLINK(Table1[[#This Row],[Hyperlink]],\"Weblink\")","v":"Weblink"},"Greenhaven Publishing","Library Bound Book",1,"2020","January 2020","Library","6.000 X 9.000","Edited by","Kathryn Roberts",null,null,null,null,"Z",null,"Grade 10 - 12","Grade 9 - 12","The impact of globalization on world health has been extremely positive. However, the increased connectivity enabled by globalization also makes the health and well being of citizens around the world more important than ever. Global pandemics, natural disasters, air pollution, medical care access, healthy food chains, immunization education and availability, and economic disparity all factor into creating a healthy population. Why is global health so important, and what stands in the way of achieving it? Through viewpoints written by experts in the field, this volume highlights important issues in global health around the world.","English",46.2,36.96,"362.1--dc23","200 pp.","https://greenhavenpublishing.com/978-1-5345-0647-3",{"$f":"Table1[[#This Row],['# of Books]]*Table1[[#This Row],[QTY]]","v":0},{"$f":"Table1[[#This Row],[QTY]]*Table1[[#This Row],[School & Library Price]]","v":0}]
[null,14,34,null,null,"Current Issues","Global Viewpoints","Global Health","978-1-5345-0646-6",{"$f":"HYPERLINK(Table1[[#This Row],[Hyperlink]],\"Weblink\")","v":"Weblink"},"Greenhaven Publishing","Paperback Book",1,"2020","January 2020","Paperback","6.000 X 9.000","Edited by","Kathryn Roberts",null,null,null,null,"Z",null,"Grade 10 - 12","Grade 9 - 12","The impact of globalization on world health has been extremely positive. However, the increased connectivity enabled by globalization also makes the health and well being of citizens around the world more important than ever. Global pandemics, natural disasters, air pollution, medical care access, healthy food chains, immunization education and availability, and economic disparity all factor into creating a healthy population. Why is global health so important, and what stands in the way of achieving it? Through viewpoints written by experts in the field, this volume highlights important issues in global health around the world.","English",31.7,25.36,"362.1--dc23","200 pp.","https://greenhavenpublishing.com/978-1-5345-0646-6",{"$f":"Table1[[#This Row],['# of Books]]*Table1[[#This Row],[QTY]]","v":0},{"$f":"Table1[[#This Row],[QTY]]*Table1[[#This Row],[School & Library Price]]","v":0}]
[null,14,34,null,null,"Current Issues","Global Viewpoints","Global Health","978-1-5345-0648-0",{"$f":"HYPERLINK(Table1[[#This Row],[Hyperlink]],\"Weblink\")","v":"Weblink"},"Greenhaven Publishing","eBook",1,"2020","January 2020",null,null,"Edited by","Kathryn Roberts",null,null,null,null,"Z",null,"Grade 10 - 12","Grade 9 - 12","The impact of globalization on world health has been extremely positive. However, the increased connectivity enabled by globalization also makes the health and well being of citizens around the world more important than ever. Global pandemics, natural disasters, air pollution, medical care access, healthy food chains, immunization education and availability, and economic disparity all factor into creating a healthy population. Why is global health so important, and what stands in the way of achieving it? Through viewpoints written by experts in the field, this volume highlights important issues in global health around the world.","English",46.2,36.96,"362.1--dc23","200 pp.","https://greenhavenpublishing.com/978-1-5345-0648-0",{"$f":"Table1[[#This Row],['# of Books]]*Table1[[#This Row],[QTY]]","v":0},{"$f":"Table1[[#This Row],[QTY]]*Table1[[#This Row],[School & Library Price]]","v":0}]
[null,14,34,null,null,"Current Issues","Global Viewpoints","Human Trafficking","978-1-5345-0650-3",{"$f":"HYPERLINK(Table1[[#This Row],[Hyperlink]],\"Weblink\")","v":"Weblink"},"Greenhaven Publishing","Library Bound Book",1,"2020","January 2020","Library","6.000 X 9.000","Author","Lita Sorensen",null,null,null,null,"Z",null,"Grade 10 - 12","Grade 9 - 12","According to UNICEF, human trafficking generates a staggering 32 billion dollars in profits each year. Human trafficking takes place all around the world, affecting nearly every country, rich and poor. Women, girls, and migrants are extremely vulnerable to traffickers, who coerce them into sexual exploitation and forced labor. How can the international community allow such terrible criminal networks to flourish? This informative volume offers a diverse array of case studies, first-person accounts, and analyses from experts in the field to provide a full picture of what has been called a pandemic of the twenty-first century.","English",46.2,36.96,"364.15/51--dc23﻿","176 pp.","https://greenhavenpublishing.com/978-1-5345-0650-3",{"$f":"Table1[[#This Row],['# of Books]]*Table1[[#This Row],[QTY]]","v":0},{"$f":"Table1[[#This Row],[QTY]]*Table1[[#This Row],[School & Library Price]]","v":0}]
[null,14,34,null,null,"Current Issues","Global Viewpoints","Human Trafficking","978-1-5345-0649-7",{"$f":"HYPERLINK(Table1[[#This Row],[Hyperlink]],\"Weblink\")","v":"Weblink"},"Greenhaven Publishing","Paperback Book",1,"2020","January 2020","Paperback","6.000 X 9.000","Author","Lita Sorensen",null,null,null,null,"Z",null,"Grade 10 - 12","Grade 9 - 12","According to UNICEF, human trafficking generates a staggering 32 billion dollars in profits each year. Human trafficking takes place all around the world, affecting nearly every country, rich and poor. Women, girls, and migrants are extremely vulnerable to traffickers, who coerce them into sexual exploitation and forced labor. How can the international community allow such terrible criminal networks to flourish? This informative volume offers a diverse array of case studies, first-person accounts, and analyses from experts in the field to provide a full picture of what has been called a pandemic of the twenty-first century.","English",31.7,25.36,"364.15/51--dc23﻿","176 pp.","https://greenhavenpublishing.com/978-1-5345-0649-7",{"$f":"Table1[[#This Row],['# of Books]]*Table1[[#This Row],[QTY]]","v":0},{"$f":"Table1[[#This Row],[QTY]]*Table1[[#This Row],[School & Library Price]]","v":0}]
[null,14,34,null,null,"Current Issues","Global Viewpoints","Human Trafficking","978-1-5345-0651-0",{"$f":"HYPERLINK(Table1[[#This Row],[Hyperlink]],\"Weblink\")","v":"Weblink"},"Greenhaven Publishing","eBook",1,"2020","January 2020",null,null,"Author","Lita Sorensen",null,null,null,null,"Z",null,"Grade 10 - 12","Grade 9 - 12","According to UNICEF, human trafficking generates a staggering 32 billion dollars in profits each year. Human trafficking takes place all around the world, affecting nearly every country, rich and poor. Women, girls, and migrants are extremely vulnerable to traffickers, who coerce them into sexual exploitation and forced labor. How can the international community allow such terrible criminal networks to flourish? This informative volume offers a diverse array of case studies, first-person accounts, and analyses from experts in the field to provide a full picture of what has been called a pandemic of the twenty-first century.","English",46.2,36.96,"364.15/51--dc23﻿","176 pp.","https://greenhavenpublishing.com/978-1-5345-0651-0",{"$f":"Table1[[#This Row],['# of Books]]*Table1[[#This Row],[QTY]]","v":0},{"$f":"Table1[[#This Row],[QTY]]*Table1[[#This Row],[School & Library Price]]","v":0}]
[null,14,34,null,null,"Current Issues","Global Viewpoints","Modern Conflict and Diplomacy","978-1-5345-0653-4",{"$f":"HYPERLINK(Table1[[#This Row],[Hyperlink]],\"Weblink\")","v":"Weblink"},"Greenhaven Publishing","Library Bound Book",1,"2020","January 2020","Library","6.000 X 9.000","Edited by","Martin Gitlin",null,null,null,null,"Z",null,"Grade 10 - 12","Grade 9 - 12","It goes without saying that world peace is the ultimate goal, but what makes it so hard to achieve? Certain regions of the world have been engaged in conflicts that appear unending, despite the efforts of many to help them find solutions. Conflict will always be present, but what is the best way to deal with it? Is diplomacy always effective, or are there times when military action is the only answer? The viewpoints in this volume highlight various conflicts around the world and analyze the methods taken to resolve them.","English",46.2,36.96,"327.73009/05--dc23","176 pp.","https://greenhavenpublishing.com/978-1-5345-0653-4",{"$f":"Table1[[#This Row],['# of Books]]*Table1[[#This Row],[QTY]]","v":0},{"$f":"Table1[[#This Row],[QTY]]*Table1[[#This Row],[School & Library Price]]","v":0}]
[null,14,34,null,null,"Current Issues","Global Viewpoints","Modern Conflict and Diplomacy","978-1-5345-0652-7",{"$f":"HYPERLINK(Table1[[#This Row],[Hyperlink]],\"Weblink\")","v":"Weblink"},"Greenhaven Publishing","Paperback Book",1,"2020","January 2020","Paperback","6.000 X 9.000","Edited by","Martin Gitlin",null,null,null,null,"Z",null,"Grade 10 - 12","Grade 9 - 12","It goes without saying that world peace is the ultimate goal, but what makes it so hard to achieve? Certain regions of the world have been engaged in conflicts that appear unending, despite the efforts of many to help them find solutions. Conflict will always be present, but what is the best way to deal with it? Is diplomacy always effective, or are there times when military action is the only answer? The viewpoints in this volume highlight various conflicts around the world and analyze the methods taken to resolve them.","English",31.7,25.36,"327.73009/05--dc23","176 pp.","https://greenhavenpublishing.com/978-1-5345-0652-7",{"$f":"Table1[[#This Row],['# of Books]]*Table1[[#This Row],[QTY]]","v":0},{"$f":"Table1[[#This Row],[QTY]]*Table1[[#This Row],[School & Library Price]]","v":0}]
[null,14,34,null,null,"Current Issues","Global Viewpoints","Modern Conflict and Diplomacy","978-1-5345-0654-1",{"$f":"HYPERLINK(Table1[[#This Row],[Hyperlink]],\"Weblink\")","v":"Weblink"},"Greenhaven Publishing","eBook",1,"2020","January 2020",null,null,"Edited by","Martin Gitlin",null,null,null,null,"Z",null,"Grade 10 - 12","Grade 9 - 12","It goes without saying that world peace is the ultimate goal, but what makes it so hard to achieve? Certain regions of the world have been engaged in conflicts that appear unending, despite the efforts of many to help them find solutions. Conflict will always be present, but what is the best way to deal with it? Is diplomacy always effective, or are there times when military action is the only answer? The viewpoints in this volume highlight various conflicts around the world and analyze the methods taken to resolve them.","English",46.2,36.96,"327.73009/05--dc23","176 pp.","https://greenhavenpublishing.com/978-1-5345-0654-1",{"$f":"Table1[[#This Row],['# of Books]]*Table1[[#This Row],[QTY]]","v":0},{"$f":"Table1[[#This Row],[QTY]]*Table1[[#This Row],[School & Library Price]]","v":0}]
[null,14,34,null,null,"Current Issues","Global Viewpoints","National Identity","978-1-5345-0656-5",{"$f":"HYPERLINK(Table1[[#This Row],[Hyperlink]],\"Weblink\")","v":"Weblink"},"Greenhaven Publishing","Library Bound Book",1,"2020","January 2020","Library","6.000 X 9.000","Edited by","Martin Gitlin",null,null,null,null,"Z",null,"Grade 10 - 12","Grade 9 - 12","How can we maintain a strong national identity without going too far? Having pride in one's country, its history and values, is important, but what happens when that is threatened by new immigrant groups? When a country becomes more diverse, whether it's race, ethnicity, or religious faith, does the nation's identity expand to accommodate those changes or does it become more rigid, setting the stage for an \"us\" and \"them\" conflict? Through diverse perspectives from countries around the world, this volume explores facets of national identity. Readers will analyze its purpose, benefits, dangers, and its future in a changing world.","English",46.2,36.96,"320.54--dc23","176 pp.","https://greenhavenpublishing.com/978-1-5345-0656-5",{"$f":"Table1[[#This Row],['# of Books]]*Table1[[#This Row],[QTY]]","v":0},{"$f":"Table1[[#This Row],[QTY]]*Table1[[#This Row],[School & Library Price]]","v":0}]
[null,14,34,null,null,"Current Issues","Global Viewpoints","National Identity","978-1-5345-0655-8",{"$f":"HYPERLINK(Table1[[#This Row],[Hyperlink]],\"Weblink\")","v":"Weblink"},"Greenhaven Publishing","Paperback Book",1,"2020","January 2020","Paperback","6.000 X 9.000","Edited by","Martin Gitlin",null,null,null,null,"Z",null,"Grade 10 - 12","Grade 9 - 12","How can we maintain a strong national identity without going too far? Having pride in one's country, its history and values, is important, but what happens when that is threatened by new immigrant groups? When a country becomes more diverse, whether it's race, ethnicity, or religious faith, does the nation's identity expand to accommodate those changes or does it become more rigid, setting the stage for an \"us\" and \"them\" conflict? Through diverse perspectives from countries around the world, this volume explores facets of national identity. Readers will analyze its purpose, benefits, dangers, and its future in a changing world.","English",31.7,25.36,"320.54--dc23","176 pp.","https://greenhavenpublishing.com/978-1-5345-0655-8",{"$f":"Table1[[#This Row],['# of Books]]*Table1[[#This Row],[QTY]]","v":0},{"$f":"Table1[[#This Row],[QTY]]*Table1[[#This Row],[School & Library Price]]","v":0}]
[null,14,34,null,null,"Current Issues","Global Viewpoints","National Identity","978-1-5345-0657-2",{"$f":"HYPERLINK(Table1[[#This Row],[Hyperlink]],\"Weblink\")","v":"Weblink"},"Greenhaven Publishing","eBook",1,"2020","January 2020",null,null,"Edited by","Martin Gitlin",null,null,null,null,"Z",null,"Grade 10 - 12","Grade 9 - 12","How can we maintain a strong national identity without going too far? Having pride in one's country, its history and values, is important, but what happens when that is threatened by new immigrant groups? When a country becomes more diverse, whether it's race, ethnicity, or religious faith, does the nation's identity expand to accommodate those changes or does it become more rigid, setting the stage for an \"us\" and \"them\" conflict? Through diverse perspectives from countries around the world, this volume explores facets of national identity. Readers will analyze its purpose, benefits, dangers, and its future in a changing world.","English",46.2,36.96,"320.54--dc23","176 pp.","https://greenhavenpublishing.com/978-1-5345-0657-2",{"$f":"Table1[[#This Row],['# of Books]]*Table1[[#This Row],[QTY]]","v":0},{"$f":"Table1[[#This Row],[QTY]]*Table1[[#This Row],[School & Library Price]]","v":0}]
[null,14,34,null,null,"Current Issues","Global Viewpoints","The Dominance of Global Corporations","978-1-5345-0644-2",{"$f":"HYPERLINK(Table1[[#This Row],[Hyperlink]],\"Weblink\")","v":"Weblink"},"Greenhaven Publishing","Library Bound Book",1,"2020","January 2020","Library","6.000 X 9.000","Edited by","Avery Elizabeth Hurt",null,null,null,null,"Z",null,"Grade 10 - 12","Grade 9 - 12","Corporations are increasingly dominating the economic and political landscape of our globe. People in even the remotest regions drink Coca Cola, and a McDonald's is located near many of the world's most famous tourist sites. How did this happen in such a relatively short time, and is there any turning back now that deregulation and legislation favor such organizations? Does this dominance threaten democracy? And, given the power of tech companies like Apple, Facebook, and Twitter, what is in store for the future? The perspectives in this volume tackle the powerful rise of corporations and their influence around the world.","English",46.2,36.96,"306.3/4--dc23","176 pp.","https://greenhavenpublishing.com/978-1-5345-0644-2",{"$f":"Table1[[#This Row],['# of Books]]*Table1[[#This Row],[QTY]]","v":0},{"$f":"Table1[[#This Row],[QTY]]*Table1[[#This Row],[School & Library Price]]","v":0}]
[null,14,34,null,null,"Current Issues","Global Viewpoints","The Dominance of Global Corporations","978-1-5345-0643-5",{"$f":"HYPERLINK(Table1[[#This Row],[Hyperlink]],\"Weblink\")","v":"Weblink"},"Greenhaven Publishing","Paperback Book",1,"2020","January 2020","Paperback","6.000 X 9.000","Edited by","Avery Elizabeth Hurt",null,null,null,null,"Z",null,"Grade 10 - 12","Grade 9 - 12","Corporations are increasingly dominating the economic and political landscape of our globe. People in even the remotest regions drink Coca Cola, and a McDonald's is located near many of the world's most famous tourist sites. How did this happen in such a relatively short time, and is there any turning back now that deregulation and legislation favor such organizations? Does this dominance threaten democracy? And, given the power of tech companies like Apple, Facebook, and Twitter, what is in store for the future? The perspectives in this volume tackle the powerful rise of corporations and their influence around the world.","English",31.7,25.36,"306.3/4--dc23","176 pp.","https://greenhavenpublishing.com/978-1-5345-0643-5",{"$f":"Table1[[#This Row],['# of Books]]*Table1[[#This Row],[QTY]]","v":0},{"$f":"Table1[[#This Row],[QTY]]*Table1[[#This Row],[School & Library Price]]","v":0}]
[null,14,34,null,null,"Current Issues","Global Viewpoints","The Dominance of Global Corporations","978-1-5345-0645-9",{"$f":"HYPERLINK(Table1[[#This Row],[Hyperlink]],\"Weblink\")","v":"Weblink"},"Greenhaven Publishing","eBook",1,"2020","January 2020",null,null,"Edited by","Avery Elizabeth Hurt",null,null,null,null,"Z",null,"Grade 10 - 12","Grade 9 - 12","Corporations are increasingly dominating the economic and political landscape of our globe. People in even the remotest regions drink Coca Cola, and a McDonald's is located near many of the world's most famous tourist sites. How did this happen in such a relatively short time, and is there any turning back now that deregulation and legislation favor such organizations? Does this dominance threaten democracy? And, given the power of tech companies like Apple, Facebook, and Twitter, what is in store for the future? The perspectives in this volume tackle the powerful rise of corporations and their influence around the world.","English",46.2,36.96,"306.3/4--dc23","176 pp.","https://greenhavenpublishing.com/978-1-5345-0645-9",{"$f":"Table1[[#This Row],['# of Books]]*Table1[[#This Row],[QTY]]","v":0},{"$f":"Table1[[#This Row],[QTY]]*Table1[[#This Row],[School & Library Price]]","v":0}]
[null,null,33,null,null,"Current Issues","Global Viewpoints","Global Viewpoints (Fall 2019)","978-1-5345-0581-0",{"$f":"HYPERLINK(Table1[[#This Row],[Hyperlink]],\"Weblink\")","v":"Weblink"},"Greenhaven Publishing","Library Set",6,"2020","August 2019","Library","6.000 X 9.000",null,null,null,null,null,null,null,null,"Grade 10 - 12","Grade 9 - 12","As technology makes the world more accessible, students need exposure to social, political, environmental, and health issues of global significance. Each anthology in the Global Viewpoints series delivers contemporary views on the featured issue with much of the material reflecting stances of countries other than the United States. Primary sources, including speeches and government documents, join essays from international magazines and news sources for a truly panoramic view. Features include: Detailed bibliographies, further information sections, and website lists that encourage further research and independent study. Excellent report-writing resources such as maps, charts, and primary sources.","English",277.2,221.76,null,"176–200 pp.","https://greenhavenpublishing.com/978-1-5345-0581-0",{"$f":"Table1[[#This Row],['# of Books]]*Table1[[#This Row],[QTY]]","v":0},{"$f":"Table1[[#This Row],[QTY]]*Table1[[#This Row],[School & Library Price]]","v":0}]
[null,null,33,null,null,"Current Issues","Global Viewpoints","Global Viewpoints (Fall 2019)","978-1-5345-0585-8",{"$f":"HYPERLINK(Table1[[#This Row],[Hyperlink]],\"Weblink\")","v":"Weblink"},"Greenhaven Publishing","Single Copy Set",6,"2020","August 2019","Paperback","6.000 X 9.000",null,null,null,null,null,null,null,null,"Grade 10 - 12","Grade 9 - 12","As technology makes the world more accessible, students need exposure to social, political, environmental, and health issues of global significance. Each anthology in the Global Viewpoints series delivers contemporary views on the featured issue with much of the material reflecting stances of countries other than the United States. Primary sources, including speeches and government documents, join essays from international magazines and news sources for a truly panoramic view. Features include: Detailed bibliographies, further information sections, and website lists that encourage further research and independent study. Excellent report-writing resources such as maps, charts, and primary sources.","English",190.2,152.16,null,"176–200 pp.","https://greenhavenpublishing.com/978-1-5345-0585-8",{"$f":"Table1[[#This Row],['# of Books]]*Table1[[#This Row],[QTY]]","v":0},{"$f":"Table1[[#This Row],[QTY]]*Table1[[#This Row],[School & Library Price]]","v":0}]
[null,15,33,null,null,"Current Issues","Global Viewpoints","Chemical and Biological Warfare","978-1-5345-0548-3",{"$f":"HYPERLINK(Table1[[#This Row],[Hyperlink]],\"Weblink\")","v":"Weblink"},"Greenhaven Publishing","Library Bound Book",1,"2020","August 2019","Library","6.000 X 9.000","Edited by","Lisa Idzikowski",null,null,null,null,"Z",null,"Grade 10 - 12","Grade 9 - 12","The international community has pledged to curtail development and use of chemical and biological weapons in several agreements, beginning with the 1925 Geneva Protocol, but several nations are not honoring these pacts. Critics argue that chemical and biological weapons are crueler than traditional warfare methods and that they harm innocent civilians. Some experts say that they are less of a threat when compared to nuclear weapons. The authors of the viewpoints in this informative resource examine the use and efficacy of chemical and biological weapons, address who is using them, and suggest ways to prevent their use.","English",46.2,36.96,"358/.34--dc23","200 pp.","https://greenhavenpublishing.com/978-1-5345-0548-3",{"$f":"Table1[[#This Row],['# of Books]]*Table1[[#This Row],[QTY]]","v":0},{"$f":"Table1[[#This Row],[QTY]]*Table1[[#This Row],[School & Library Price]]","v":0}]
[null,15,33,null,null,"Current Issues","Global Viewpoints","Chemical and Biological Warfare","978-1-5345-0549-0",{"$f":"HYPERLINK(Table1[[#This Row],[Hyperlink]],\"Weblink\")","v":"Weblink"},"Greenhaven Publishing","Paperback Book",1,"2020","August 2019","Paperback","6.000 X 9.000","Edited by","Lisa Idzikowski",null,null,null,null,"Z",null,"Grade 10 - 12","Grade 9 - 12","The international community has pledged to curtail development and use of chemical and biological weapons in several agreements, beginning with the 1925 Geneva Protocol, but several nations are not honoring these pacts. Critics argue that chemical and biological weapons are crueler than traditional warfare methods and that they harm innocent civilians. Some experts say that they are less of a threat when compared to nuclear weapons. The authors of the viewpoints in this informative resource examine the use and efficacy of chemical and biological weapons, address who is using them, and suggest ways to prevent their use.","English",31.7,25.36,"358/.34--dc23","200 pp.","https://greenhavenpublishing.com/978-1-5345-0549-0",{"$f":"Table1[[#This Row],['# of Books]]*Table1[[#This Row],[QTY]]","v":0},{"$f":"Table1[[#This Row],[QTY]]*Table1[[#This Row],[School & Library Price]]","v":0}]
[null,15,33,null,null,"Current Issues","Global Viewpoints","Chemical and Biological Warfare","978-1-5345-0550-6",{"$f":"HYPERLINK(Table1[[#This Row],[Hyperlink]],\"Weblink\")","v":"Weblink"},"Greenhaven Publishing","eBook",1,"2020","August 2019",null,null,"Edited by","Lisa Idzikowski",null,null,null,null,"Z",null,"Grade 10 - 12","Grade 9 - 12","The international community has pledged to curtail development and use of chemical and biological weapons in several agreements, beginning with the 1925 Geneva Protocol, but several nations are not honoring these pacts. Critics argue that chemical and biological weapons are crueler than traditional warfare methods and that they harm innocent civilians. Some experts say that they are less of a threat when compared to nuclear weapons. The authors of the viewpoints in this informative resource examine the use and efficacy of chemical and biological weapons, address who is using them, and suggest ways to prevent their use.","English",46.2,36.96,"358/.34--dc23","200 pp.","https://greenhavenpublishing.com/978-1-5345-0550-6",{"$f":"Table1[[#This Row],['# of Books]]*Table1[[#This Row],[QTY]]","v":0},{"$f":"Table1[[#This Row],[QTY]]*Table1[[#This Row],[School & Library Price]]","v":0}]
[null,15,33,null,null,"Current Issues","Global Viewpoints","Citizenship in the 21st Century","978-1-5345-0551-3",{"$f":"HYPERLINK(Table1[[#This Row],[Hyperlink]],\"Weblink\")","v":"Weblink"},"Greenhaven Publishing","Library Bound Book",1,"2020","August 2019","Library","6.000 X 9.000","Edited by","Martin Gitlin",null,null,null,null,"Z",null,"Grade 10 - 12","Grade 9 - 12","What does it mean to be a citizen in the 21st century? Globalization, the dominance of corporations, the influence of technology, massive immigration, and geopolitical shifts have changed our world considerably in just a few decades. How have these changes affected the responsibilities placed on us as citizens and also on governments and leaders around the world? Tackling a number of fascinating issues pertaining to our future, the viewpoints in this resource examine our place in the world today and predict the ways in which citizenship will continue to evolve.","English",46.2,36.96,"323.6/5--dc23","176 pp.","https://greenhavenpublishing.com/978-1-5345-0551-3",{"$f":"Table1[[#This Row],['# of Books]]*Table1[[#This Row],[QTY]]","v":0},{"$f":"Table1[[#This Row],[QTY]]*Table1[[#This Row],[School & Library Price]]","v":0}]
[null,15,33,null,null,"Current Issues","Global Viewpoints","Citizenship in the 21st Century","978-1-5345-0552-0",{"$f":"HYPERLINK(Table1[[#This Row],[Hyperlink]],\"Weblink\")","v":"Weblink"},"Greenhaven Publishing","Paperback Book",1,"2020","August 2019","Paperback","6.000 X 9.000","Edited by","Martin Gitlin",null,null,null,null,"Z",null,"Grade 10 - 12","Grade 9 - 12","What does it mean to be a citizen in the 21st century? Globalization, the dominance of corporations, the influence of technology, massive immigration, and geopolitical shifts have changed our world considerably in just a few decades. How have these changes affected the responsibilities placed on us as citizens and also on governments and leaders around the world? Tackling a number of fascinating issues pertaining to our future, the viewpoints in this resource examine our place in the world today and predict the ways in which citizenship will continue to evolve.","English",31.7,25.36,"323.6/5--dc23","176 pp.","https://greenhavenpublishing.com/978-1-5345-0552-0",{"$f":"Table1[[#This Row],['# of Books]]*Table1[[#This Row],[QTY]]","v":0},{"$f":"Table1[[#This Row],[QTY]]*Table1[[#This Row],[School & Library Price]]","v":0}]
[null,15,33,null,null,"Current Issues","Global Viewpoints","Citizenship in the 21st Century","978-1-5345-0553-7",{"$f":"HYPERLINK(Table1[[#This Row],[Hyperlink]],\"Weblink\")","v":"Weblink"},"Greenhaven Publishing","eBook",1,"2020","August 2019",null,null,"Edited by","Martin Gitlin",null,null,null,null,"Z",null,"Grade 10 - 12","Grade 9 - 12","What does it mean to be a citizen in the 21st century? Globalization, the dominance of corporations, the influence of technology, massive immigration, and geopolitical shifts have changed our world considerably in just a few decades. How have these changes affected the responsibilities placed on us as citizens and also on governments and leaders around the world? Tackling a number of fascinating issues pertaining to our future, the viewpoints in this resource examine our place in the world today and predict the ways in which citizenship will continue to evolve.","English",46.2,36.96,"323.6/5--dc23","176 pp.","https://greenhavenpublishing.com/978-1-5345-0553-7",{"$f":"Table1[[#This Row],['# of Books]]*Table1[[#This Row],[QTY]]","v":0},{"$f":"Table1[[#This Row],[QTY]]*Table1[[#This Row],[School & Library Price]]","v":0}]
[null,15,33,null,null,"Current Issues","Global Viewpoints","Climate Change and Population Displacement","978-1-5345-0554-4",{"$f":"HYPERLINK(Table1[[#This Row],[Hyperlink]],\"Weblink\")","v":"Weblink"},"Greenhaven Publishing","Library Bound Book",1,"2020","August 2019","Library","6.000 X 9.000","Edited by","Marcia Amidon Lusted",null,null,null,null,"Z",null,"Grade 10 - 12","Grade 9 - 12","While politicians debate whether or not climate change is real, extreme weather rages around the world. Whatever the cause, the effects are real, as evidenced by staggering numbers of displaced people. These climate refugees, through no fault of their own, have meaningful impacts on populations, economies, and even cultural makeup. How can world leaders adapt to these changes? In this fascinating resource, writers from around the world offer their takes on the current crises as well as predictions for the future.","English",46.2,36.96,"362.87--dc23","200 pp.","https://greenhavenpublishing.com/978-1-5345-0554-4",{"$f":"Table1[[#This Row],['# of Books]]*Table1[[#This Row],[QTY]]","v":0},{"$f":"Table1[[#This Row],[QTY]]*Table1[[#This Row],[School & Library Price]]","v":0}]
[null,15,33,null,null,"Current Issues","Global Viewpoints","Climate Change and Population Displacement","978-1-5345-0555-1",{"$f":"HYPERLINK(Table1[[#This Row],[Hyperlink]],\"Weblink\")","v":"Weblink"},"Greenhaven Publishing","Paperback Book",1,"2020","August 2019","Paperback","6.000 X 9.000","Edited by","Marcia Amidon Lusted",null,null,null,null,"Z",null,"Grade 10 - 12","Grade 9 - 12","While politicians debate whether or not climate change is real, extreme weather rages around the world. Whatever the cause, the effects are real, as evidenced by staggering numbers of displaced people. These climate refugees, through no fault of their own, have meaningful impacts on populations, economies, and even cultural makeup. How can world leaders adapt to these changes? In this fascinating resource, writers from around the world offer their takes on the current crises as well as predictions for the future.","English",31.7,25.36,"362.87--dc23","200 pp.","https://greenhavenpublishing.com/978-1-5345-0555-1",{"$f":"Table1[[#This Row],['# of Books]]*Table1[[#This Row],[QTY]]","v":0},{"$f":"Table1[[#This Row],[QTY]]*Table1[[#This Row],[School & Library Price]]","v":0}]
[null,15,33,null,null,"Current Issues","Global Viewpoints","Climate Change and Population Displacement","978-1-5345-0556-8",{"$f":"HYPERLINK(Table1[[#This Row],[Hyperlink]],\"Weblink\")","v":"Weblink"},"Greenhaven Publishing","eBook",1,"2020","August 2019",null,null,"Edited by","Marcia Amidon Lusted",null,null,null,null,"Z",null,"Grade 10 - 12","Grade 9 - 12","While politicians debate whether or not climate change is real, extreme weather rages around the world. Whatever the cause, the effects are real, as evidenced by staggering numbers of displaced people. These climate refugees, through no fault of their own, have meaningful impacts on populations, economies, and even cultural makeup. How can world leaders adapt to these changes? In this fascinating resource, writers from around the world offer their takes on the current crises as well as predictions for the future.","English",46.2,36.96,"362.87--dc23","200 pp.","https://greenhavenpublishing.com/978-1-5345-0556-8",{"$f":"Table1[[#This Row],['# of Books]]*Table1[[#This Row],[QTY]]","v":0},{"$f":"Table1[[#This Row],[QTY]]*Table1[[#This Row],[School & Library Price]]","v":0}]
[null,15,33,null,null,"Current Issues","Global Viewpoints","Gender Diversity in Government","978-1-5345-0557-5",{"$f":"HYPERLINK(Table1[[#This Row],[Hyperlink]],\"Weblink\")","v":"Weblink"},"Greenhaven Publishing","Library Bound Book",1,"2020","August 2019","Library","6.000 X 9.000","Edited by","Avery Elizabeth Hurt",null,null,null,null,"Z",null,"Grade 10 - 12","Grade 9 - 12","Opening the door to women for leadership positions in government and public institutions is critical in achieving fair and balanced policies. Yet only ten of the world's nations are led by democratically elected women. The United States ranks a shocking 100th in terms of women's representation in legislatures or parliaments. The viewpoints in this valuable resource examine the state of gender diversity in governments around the world, what factors are impeding a greater balance in diversity, the negative effects of this imbalance, and how more women can become involved in representation.","English",46.2,36.96,"320.082--dc23","200 pp.","https://greenhavenpublishing.com/978-1-5345-0557-5",{"$f":"Table1[[#This Row],['# of Books]]*Table1[[#This Row],[QTY]]","v":0},{"$f":"Table1[[#This Row],[QTY]]*Table1[[#This Row],[School & Library Price]]","v":0}]
[null,15,33,null,null,"Current Issues","Global Viewpoints","Gender Diversity in Government","978-1-5345-0558-2",{"$f":"HYPERLINK(Table1[[#This Row],[Hyperlink]],\"Weblink\")","v":"Weblink"},"Greenhaven Publishing","Paperback Book",1,"2020","August 2019","Paperback","6.000 X 9.000","Edited by","Avery Elizabeth Hurt",null,null,null,null,"Z",null,"Grade 10 - 12","Grade 9 - 12","Opening the door to women for leadership positions in government and public institutions is critical in achieving fair and balanced policies. Yet only ten of the world's nations are led by democratically elected women. The United States ranks a shocking 100th in terms of women's representation in legislatures or parliaments. The viewpoints in this valuable resource examine the state of gender diversity in governments around the world, what factors are impeding a greater balance in diversity, the negative effects of this imbalance, and how more women can become involved in representation.","English",31.7,25.36,"320.082--dc23","200 pp.","https://greenhavenpublishing.com/978-1-5345-0558-2",{"$f":"Table1[[#This Row],['# of Books]]*Table1[[#This Row],[QTY]]","v":0},{"$f":"Table1[[#This Row],[QTY]]*Table1[[#This Row],[School & Library Price]]","v":0}]
[null,15,33,null,null,"Current Issues","Global Viewpoints","Gender Diversity in Government","978-1-5345-0559-9",{"$f":"HYPERLINK(Table1[[#This Row],[Hyperlink]],\"Weblink\")","v":"Weblink"},"Greenhaven Publishing","eBook",1,"2020","August 2019",null,null,"Edited by","Avery Elizabeth Hurt",null,null,null,null,"Z",null,"Grade 10 - 12","Grade 9 - 12","Opening the door to women for leadership positions in government and public institutions is critical in achieving fair and balanced policies. Yet only ten of the world's nations are led by democratically elected women. The United States ranks a shocking 100th in terms of women's representation in legislatures or parliaments. The viewpoints in this valuable resource examine the state of gender diversity in governments around the world, what factors are impeding a greater balance in diversity, the negative effects of this imbalance, and how more women can become involved in representation.","English",46.2,36.96,"320.082--dc23","200 pp.","https://greenhavenpublishing.com/978-1-5345-0559-9",{"$f":"Table1[[#This Row],['# of Books]]*Table1[[#This Row],[QTY]]","v":0},{"$f":"Table1[[#This Row],[QTY]]*Table1[[#This Row],[School & Library Price]]","v":0}]
[null,15,33,null,null,"Current Issues","Global Viewpoints","Reproductive Rights","978-1-5345-0560-5",{"$f":"HYPERLINK(Table1[[#This Row],[Hyperlink]],\"Weblink\")","v":"Weblink"},"Greenhaven Publishing","Library Bound Book",1,"2020","August 2019","Library","6.000 X 9.000","Edited by","Kathryn Roberts",null,null,null,null,"Z",null,"Grade 10 - 12","Grade 9 - 12","Around the world, state legislatures have taken the liberty of policing women's bodies, suppressing women's rights and restricting or prohibiting access to health care, contraception, and abortion. In some countries, women have been banned from breastfeeding in public, are subject to forced sterilization, and are required to have spousal authorization for prenatal and obstetric treatments. Are reproductive rights human rights, and if so, how do we ensure them? This thought-provoking resource offers global perspectives on the need to expand reproductive health services to ensure the safety and agency of women around the world.","English",46.2,36.96,"323.3/4--dc23","176 pp.","https://greenhavenpublishing.com/978-1-5345-0560-5",{"$f":"Table1[[#This Row],['# of Books]]*Table1[[#This Row],[QTY]]","v":0},{"$f":"Table1[[#This Row],[QTY]]*Table1[[#This Row],[School & Library Price]]","v":0}]
[null,15,33,null,null,"Current Issues","Global Viewpoints","Reproductive Rights","978-1-5345-0561-2",{"$f":"HYPERLINK(Table1[[#This Row],[Hyperlink]],\"Weblink\")","v":"Weblink"},"Greenhaven Publishing","Paperback Book",1,"2020","August 2019","Paperback","6.000 X 9.000","Edited by","Kathryn Roberts",null,null,null,null,"Z",null,"Grade 10 - 12","Grade 9 - 12","Around the world, state legislatures have taken the liberty of policing women's bodies, suppressing women's rights and restricting or prohibiting access to health care, contraception, and abortion. In some countries, women have been banned from breastfeeding in public, are subject to forced sterilization, and are required to have spousal authorization for prenatal and obstetric treatments. Are reproductive rights human rights, and if so, how do we ensure them? This thought-provoking resource offers global perspectives on the need to expand reproductive health services to ensure the safety and agency of women around the world.","English",31.7,25.36,"323.3/4--dc23","176 pp.","https://greenhavenpublishing.com/978-1-5345-0561-2",{"$f":"Table1[[#This Row],['# of Books]]*Table1[[#This Row],[QTY]]","v":0},{"$f":"Table1[[#This Row],[QTY]]*Table1[[#This Row],[School & Library Price]]","v":0}]
[null,15,33,null,null,"Current Issues","Global Viewpoints","Reproductive Rights","978-1-5345-0562-9",{"$f":"HYPERLINK(Table1[[#This Row],[Hyperlink]],\"Weblink\")","v":"Weblink"},"Greenhaven Publishing","eBook",1,"2020","August 2019",null,null,"Edited by","Kathryn Roberts",null,null,null,null,"Z",null,"Grade 10 - 12","Grade 9 - 12","Around the world, state legislatures have taken the liberty of policing women's bodies, suppressing women's rights and restricting or prohibiting access to health care, contraception, and abortion. In some countries, women have been banned from breastfeeding in public, are subject to forced sterilization, and are required to have spousal authorization for prenatal and obstetric treatments. Are reproductive rights human rights, and if so, how do we ensure them? This thought-provoking resource offers global perspectives on the need to expand reproductive health services to ensure the safety and agency of women around the world.","English",46.2,36.96,"323.3/4--dc23","176 pp.","https://greenhavenpublishing.com/978-1-5345-0562-9",{"$f":"Table1[[#This Row],['# of Books]]*Table1[[#This Row],[QTY]]","v":0},{"$f":"Table1[[#This Row],[QTY]]*Table1[[#This Row],[School & Library Price]]","v":0}]
[null,15,33,null,null,"Current Issues","Global Viewpoints","The Rise of Authoritarianism","978-1-5345-0563-6",{"$f":"HYPERLINK(Table1[[#This Row],[Hyperlink]],\"Weblink\")","v":"Weblink"},"Greenhaven Publishing","Library Bound Book",1,"2020","August 2019","Library","6.000 X 9.000","Edited by","Gary Wiener",null,null,null,null,"Z",null,"Grade 10 - 12","Grade 9 - 12","Due to factors such as income inequality and multiculturalism, liberal democracies have weakened considerably in the last quarter century. Democratic ideals have retreated in Venezuela, the Philippines, Hungary, Russia, and Poland. Many worry that they're on the decline in such bastions of democracy as western Europe and the United States, where fear and distrust of the status quo has opened the door to authoritarian leaders. Is there any hope of getting back to the prosperity and freedom of the mid-twentieth century? The viewpoints in this enlightening resource tackle this complex topic from a broad range of perspectives.","English",46.2,36.96,"320.5/3--dc23","200 pp.","https://greenhavenpublishing.com/978-1-5345-0563-6",{"$f":"Table1[[#This Row],['# of Books]]*Table1[[#This Row],[QTY]]","v":0},{"$f":"Table1[[#This Row],[QTY]]*Table1[[#This Row],[School & Library Price]]","v":0}]
[null,15,33,null,null,"Current Issues","Global Viewpoints","The Rise of Authoritarianism","978-1-5345-0564-3",{"$f":"HYPERLINK(Table1[[#This Row],[Hyperlink]],\"Weblink\")","v":"Weblink"},"Greenhaven Publishing","Paperback Book",1,"2020","August 2019","Paperback","6.000 X 9.000","Edited by","Gary Wiener",null,null,null,null,"Z",null,"Grade 10 - 12","Grade 9 - 12","Due to factors such as income inequality and multiculturalism, liberal democracies have weakened considerably in the last quarter century. Democratic ideals have retreated in Venezuela, the Philippines, Hungary, Russia, and Poland. Many worry that they're on the decline in such bastions of democracy as western Europe and the United States, where fear and distrust of the status quo has opened the door to authoritarian leaders. Is there any hope of getting back to the prosperity and freedom of the mid-twentieth century? The viewpoints in this enlightening resource tackle this complex topic from a broad range of perspectives.","English",31.7,25.36,"320.5/3--dc23","200 pp.","https://greenhavenpublishing.com/978-1-5345-0564-3",{"$f":"Table1[[#This Row],['# of Books]]*Table1[[#This Row],[QTY]]","v":0},{"$f":"Table1[[#This Row],[QTY]]*Table1[[#This Row],[School & Library Price]]","v":0}]
[null,15,33,null,null,"Current Issues","Global Viewpoints","The Rise of Authoritarianism","978-1-5345-0565-0",{"$f":"HYPERLINK(Table1[[#This Row],[Hyperlink]],\"Weblink\")","v":"Weblink"},"Greenhaven Publishing","eBook",1,"2020","August 2019",null,null,"Edited by","Gary Wiener",null,null,null,null,"Z",null,"Grade 10 - 12","Grade 9 - 12","Due to factors such as income inequality and multiculturalism, liberal democracies have weakened considerably in the last quarter century. Democratic ideals have retreated in Venezuela, the Philippines, Hungary, Russia, and Poland. Many worry that they're on the decline in such bastions of democracy as western Europe and the United States, where fear and distrust of the status quo has opened the door to authoritarian leaders. Is there any hope of getting back to the prosperity and freedom of the mid-twentieth century? The viewpoints in this enlightening resource tackle this complex topic from a broad range of perspectives.","English",46.2,36.96,"320.5/3--dc23","200 pp.","https://greenhavenpublishing.com/978-1-5345-0565-0",{"$f":"Table1[[#This Row],['# of Books]]*Table1[[#This Row],[QTY]]","v":0},{"$f":"Table1[[#This Row],[QTY]]*Table1[[#This Row],[School & Library Price]]","v":0}]
[null,null,33,null,null,"Current Issues","Global Viewpoints","Anti-Semitism and the Boycott, Divestment, and Sanctions Movement","978-1-5345-0390-8",{"$f":"HYPERLINK(Table1[[#This Row],[Hyperlink]],\"Weblink\")","v":"Weblink"},"Greenhaven Publishing","Library Bound Book",1,"2019","January 2019","Library","6.000 X 9.000","Edited by","Gary Wiener",null,null,null,null,"Z",null,"Grade 10 - 12","Grade 9 - 12","Since its inception in 2005, the Boycott, Divestment, and Sanctions (BDS) movement has seen numerous boycotts against Israel in an effort to encourage withdrawal from what supporters of the movement consider to be occupied territories, along with recognition of the rights of Arab-Palestinian citizens and refugees. Supporters claim that Israel is an apartheid state, but this assertion is hotly contested. Many critics of BDS claim that the movement is anti-Semitic and promotes the delegitimization of Israel. This volume explores the varying perspectives on the movement, enabling readers to form their own opinions about its place in global politics.","English",46.2,36.96,"956.9405/5--dc23","176 pp.","https://greenhavenpublishing.com/978-1-5345-0390-8",{"$f":"Table1[[#This Row],['# of Books]]*Table1[[#This Row],[QTY]]","v":0},{"$f":"Table1[[#This Row],[QTY]]*Table1[[#This Row],[School & Library Price]]","v":0}]
[null,null,33,null,null,"Current Issues","Global Viewpoints","Anti-Semitism and the Boycott, Divestment, and Sanctions Movement","978-1-5345-0467-7",{"$f":"HYPERLINK(Table1[[#This Row],[Hyperlink]],\"Weblink\")","v":"Weblink"},"Greenhaven Publishing","Paperback Book",1,"2019","January 2019","Paperback","6.000 X 9.000","Edited by","Gary Wiener",null,null,null,null,"Z",null,"Grade 10 - 12","Grade 9 - 12","Since its inception in 2005, the Boycott, Divestment, and Sanctions (BDS) movement has seen numerous boycotts against Israel in an effort to encourage withdrawal from what supporters of the movement consider to be occupied territories, along with recognition of the rights of Arab-Palestinian citizens and refugees. Supporters claim that Israel is an apartheid state, but this assertion is hotly contested. Many critics of BDS claim that the movement is anti-Semitic and promotes the delegitimization of Israel. This volume explores the varying perspectives on the movement, enabling readers to form their own opinions about its place in global politics.","English",31.7,25.36,"956.9405/5--dc23","176 pp.","https://greenhavenpublishing.com/978-1-5345-0467-7",{"$f":"Table1[[#This Row],['# of Books]]*Table1[[#This Row],[QTY]]","v":0},{"$f":"Table1[[#This Row],[QTY]]*Table1[[#This Row],[School & Library Price]]","v":0}]
[null,null,33,null,null,"Current Issues","Global Viewpoints","Anti-Semitism and the Boycott, Divestment, and Sanctions Movement","978-1-5345-0405-9",{"$f":"HYPERLINK(Table1[[#This Row],[Hyperlink]],\"Weblink\")","v":"Weblink"},"Greenhaven Publishing","eBook",1,"2019","January 2019",null,null,"Edited by","Gary Wiener",null,null,null,null,"Z",null,"Grade 10 - 12","Grade 9 - 12","Since its inception in 2005, the Boycott, Divestment, and Sanctions (BDS) movement has seen numerous boycotts against Israel in an effort to encourage withdrawal from what supporters of the movement consider to be occupied territories, along with recognition of the rights of Arab-Palestinian citizens and refugees. Supporters claim that Israel is an apartheid state, but this assertion is hotly contested. Many critics of BDS claim that the movement is anti-Semitic and promotes the delegitimization of Israel. This volume explores the varying perspectives on the movement, enabling readers to form their own opinions about its place in global politics.","English",46.2,36.96,"956.9405/5--dc23","176 pp.","https://greenhavenpublishing.com/978-1-5345-0405-9",{"$f":"Table1[[#This Row],['# of Books]]*Table1[[#This Row],[QTY]]","v":0},{"$f":"Table1[[#This Row],[QTY]]*Table1[[#This Row],[School & Library Price]]","v":0}]
[null,15,33,null,null,"Current Issues","Global Viewpoints","Collective Guilt: Slavery, the Holocaust, and Other Atrocities","978-1-5345-0391-5",{"$f":"HYPERLINK(Table1[[#This Row],[Hyperlink]],\"Weblink\")","v":"Weblink"},"Greenhaven Publishing","Library Bound Book",1,"2019","January 2019","Library","6.000 X 9.000","Edited by","Avery Elizabeth Hurt",null,null,null,null,"Z",null,"Grade 10 - 12","Grade 9 - 12","The Holocaust came to an end in 1945, and slavery was abolished in the United States in 1865. Many of the individuals who directly experienced these horrific events are no longer living, but descendants of these victims claim to suffer lasting effects. However, these lingering traces of historical trauma extend even further: descendants of oppressors and perpetrators are often held to be responsible for the atrocities as well. Notions of collective guilt and punishment have been debated from the immediate aftermath of these atrocities to the present, with issues including reparations and admissions of guilt among the contentious topics. This compelling resource tackles this tough topic.","English",46.2,36.96,"305--dc23","176 pp.","https://greenhavenpublishing.com/978-1-5345-0391-5",{"$f":"Table1[[#This Row],['# of Books]]*Table1[[#This Row],[QTY]]","v":0},{"$f":"Table1[[#This Row],[QTY]]*Table1[[#This Row],[School & Library Price]]","v":0}]
[null,15,33,null,null,"Current Issues","Global Viewpoints","Collective Guilt: Slavery, the Holocaust, and Other Atrocities","978-1-5345-0469-1",{"$f":"HYPERLINK(Table1[[#This Row],[Hyperlink]],\"Weblink\")","v":"Weblink"},"Greenhaven Publishing","Paperback Book",1,"2019","January 2019","Paperback","6.000 X 9.000","Edited by","Avery Elizabeth Hurt",null,null,null,null,"Z",null,"Grade 10 - 12","Grade 9 - 12","The Holocaust came to an end in 1945, and slavery was abolished in the United States in 1865. Many of the individuals who directly experienced these horrific events are no longer living, but descendants of these victims claim to suffer lasting effects. However, these lingering traces of historical trauma extend even further: descendants of oppressors and perpetrators are often held to be responsible for the atrocities as well. Notions of collective guilt and punishment have been debated from the immediate aftermath of these atrocities to the present, with issues including reparations and admissions of guilt among the contentious topics. This compelling resource tackles this tough topic.","English",31.7,25.36,"305--dc23","176 pp.","https://greenhavenpublishing.com/978-1-5345-0469-1",{"$f":"Table1[[#This Row],['# of Books]]*Table1[[#This Row],[QTY]]","v":0},{"$f":"Table1[[#This Row],[QTY]]*Table1[[#This Row],[School & Library Price]]","v":0}]
[null,15,33,null,null,"Current Issues","Global Viewpoints","Collective Guilt: Slavery, the Holocaust, and Other Atrocities","978-1-5345-0406-6",{"$f":"HYPERLINK(Table1[[#This Row],[Hyperlink]],\"Weblink\")","v":"Weblink"},"Greenhaven Publishing","eBook",1,"2019","January 2019",null,null,"Edited by","Avery Elizabeth Hurt",null,null,null,null,"Z",null,"Grade 10 - 12","Grade 9 - 12","The Holocaust came to an end in 1945, and slavery was abolished in the United States in 1865. Many of the individuals who directly experienced these horrific events are no longer living, but descendants of these victims claim to suffer lasting effects. However, these lingering traces of historical trauma extend even further: descendants of oppressors and perpetrators are often held to be responsible for the atrocities as well. Notions of collective guilt and punishment have been debated from the immediate aftermath of these atrocities to the present, with issues including reparations and admissions of guilt among the contentious topics. This compelling resource tackles this tough topic.","English",46.2,36.96,"305--dc23","176 pp.","https://greenhavenpublishing.com/978-1-5345-0406-6",{"$f":"Table1[[#This Row],['# of Books]]*Table1[[#This Row],[QTY]]","v":0},{"$f":"Table1[[#This Row],[QTY]]*Table1[[#This Row],[School & Library Price]]","v":0}]
[null,15,33,null,null,"Current Issues","Global Viewpoints","Islam in Society","978-1-5345-0419-6",{"$f":"HYPERLINK(Table1[[#This Row],[Hyperlink]],\"Weblink\")","v":"Weblink"},"Greenhaven Publishing","Library Bound Book",1,"2019","January 2019","Library","6.000 X 9.000","Edited by","Eileen Lucas",null,null,null,null,"Z","1320L","Grade 10 - 12","Grade 9 - 12","Provide your readers with this essential guidebook about Islam and its role in society. As of 2015, approximately 1.8 billion people identified as Muslim, 24 percent of the global population. Islam's adherents are found throughout the world, but some question whether its values and practices are at odds with those of Western nations, with particular concerns about Muslim extremism and its connection to terrorism. This has prompted attempts to control or even prevent Muslims from entering Western countries. As the global Muslim population continues to rise and immigration increases, questions about the role of Islam and its adherents in society have become increasingly urgent.","English",46.2,36.96,"297--dc23","200 pp.","https://greenhavenpublishing.com/978-1-5345-0419-6",{"$f":"Table1[[#This Row],['# of Books]]*Table1[[#This Row],[QTY]]","v":0},{"$f":"Table1[[#This Row],[QTY]]*Table1[[#This Row],[School & Library Price]]","v":0}]
[null,15,33,null,null,"Current Issues","Global Viewpoints","Islam in Society","978-1-5345-0475-2",{"$f":"HYPERLINK(Table1[[#This Row],[Hyperlink]],\"Weblink\")","v":"Weblink"},"Greenhaven Publishing","Paperback Book",1,"2019","January 2019","Paperback","6.000 X 9.000","Edited by","Eileen Lucas",null,null,null,null,"Z","1320L","Grade 10 - 12","Grade 9 - 12","Provide your readers with this essential guidebook about Islam and its role in society. As of 2015, approximately 1.8 billion people identified as Muslim, 24 percent of the global population. Islam's adherents are found throughout the world, but some question whether its values and practices are at odds with those of Western nations, with particular concerns about Muslim extremism and its connection to terrorism. This has prompted attempts to control or even prevent Muslims from entering Western countries. As the global Muslim population continues to rise and immigration increases, questions about the role of Islam and its adherents in society have become increasingly urgent.","English",31.7,25.36,"297--dc23","200 pp.","https://greenhavenpublishing.com/978-1-5345-0475-2",{"$f":"Table1[[#This Row],['# of Books]]*Table1[[#This Row],[QTY]]","v":0},{"$f":"Table1[[#This Row],[QTY]]*Table1[[#This Row],[School & Library Price]]","v":0}]
[null,15,33,null,null,"Current Issues","Global Viewpoints","Islam in Society","978-1-5345-0417-2",{"$f":"HYPERLINK(Table1[[#This Row],[Hyperlink]],\"Weblink\")","v":"Weblink"},"Greenhaven Publishing","eBook",1,"2019","January 2019",null,null,"Edited by","Eileen Lucas",null,null,null,null,"Z","1320L","Grade 10 - 12","Grade 9 - 12","Provide your readers with this essential guidebook about Islam and its role in society. As of 2015, approximately 1.8 billion people identified as Muslim, 24 percent of the global population. Islam's adherents are found throughout the world, but some question whether its values and practices are at odds with those of Western nations, with particular concerns about Muslim extremism and its connection to terrorism. This has prompted attempts to control or even prevent Muslims from entering Western countries. As the global Muslim population continues to rise and immigration increases, questions about the role of Islam and its adherents in society have become increasingly urgent.","English",46.2,36.96,"297--dc23","200 pp.","https://greenhavenpublishing.com/978-1-5345-0417-2",{"$f":"Table1[[#This Row],['# of Books]]*Table1[[#This Row],[QTY]]","v":0},{"$f":"Table1[[#This Row],[QTY]]*Table1[[#This Row],[School & Library Price]]","v":0}]
[null,15,33,null,null,"Current Issues","Global Viewpoints","Life After Death?: Inheritance, Burial Practices, and Family Heirlooms","978-1-5345-0420-2",{"$f":"HYPERLINK(Table1[[#This Row],[Hyperlink]],\"Weblink\")","v":"Weblink"},"Greenhaven Publishing","Library Bound Book",1,"2019","January 2019","Library","6.000 X 9.000","Edited by","Marcia Amidon Lusted",null,null,null,null,"Z",null,"Grade 10 - 12","Grade 9 - 12","While death is a universal experience, the traditions that surround it differ from culture to culture. How should the body of the deceased be laid to rest? What should be done with his or her belongings? How can a person's legacy live on through traditions and keepsakes? This volume explores practices around the world, addressing the practical and spiritual considerations that come with death and encouraging readers to keep an open mind toward the rituals and beliefs of other cultures and turn a critical eye toward their own.","English",46.2,36.96,"393--dc23","200 pp.","https://greenhavenpublishing.com/978-1-5345-0420-2",{"$f":"Table1[[#This Row],['# of Books]]*Table1[[#This Row],[QTY]]","v":0},{"$f":"Table1[[#This Row],[QTY]]*Table1[[#This Row],[School & Library Price]]","v":0}]
[null,15,33,null,null,"Current Issues","Global Viewpoints","Life After Death?: Inheritance, Burial Practices, and Family Heirlooms","978-1-5345-0477-6",{"$f":"HYPERLINK(Table1[[#This Row],[Hyperlink]],\"Weblink\")","v":"Weblink"},"Greenhaven Publishing","Paperback Book",1,"2019","January 2019","Paperback","6.000 X 9.000","Edited by","Marcia Amidon Lusted",null,null,null,null,"Z",null,"Grade 10 - 12","Grade 9 - 12","While death is a universal experience, the traditions that surround it differ from culture to culture. How should the body of the deceased be laid to rest? What should be done with his or her belongings? How can a person's legacy live on through traditions and keepsakes? This volume explores practices around the world, addressing the practical and spiritual considerations that come with death and encouraging readers to keep an open mind toward the rituals and beliefs of other cultures and turn a critical eye toward their own.","English",31.7,25.36,"393--dc23","200 pp.","https://greenhavenpublishing.com/978-1-5345-0477-6",{"$f":"Table1[[#This Row],['# of Books]]*Table1[[#This Row],[QTY]]","v":0},{"$f":"Table1[[#This Row],[QTY]]*Table1[[#This Row],[School & Library Price]]","v":0}]
[null,15,33,null,null,"Current Issues","Global Viewpoints","Life After Death?: Inheritance, Burial Practices, and Family Heirlooms","978-1-5345-0418-9",{"$f":"HYPERLINK(Table1[[#This Row],[Hyperlink]],\"Weblink\")","v":"Weblink"},"Greenhaven Publishing","eBook",1,"2019","January 2019",null,null,"Edited by","Marcia Amidon Lusted",null,null,null,null,"Z",null,"Grade 10 - 12","Grade 9 - 12","While death is a universal experience, the traditions that surround it differ from culture to culture. How should the body of the deceased be laid to rest? What should be done with his or her belongings? How can a person's legacy live on through traditions and keepsakes? This volume explores practices around the world, addressing the practical and spiritual considerations that come with death and encouraging readers to keep an open mind toward the rituals and beliefs of other cultures and turn a critical eye toward their own.","English",46.2,36.96,"393--dc23","200 pp.","https://greenhavenpublishing.com/978-1-5345-0418-9",{"$f":"Table1[[#This Row],['# of Books]]*Table1[[#This Row],[QTY]]","v":0},{"$f":"Table1[[#This Row],[QTY]]*Table1[[#This Row],[School & Library Price]]","v":0}]
[null,15,33,null,null,"Current Issues","Global Viewpoints","The Food Chain: Regulation, Inspection, and Supply","978-1-5345-0393-9",{"$f":"HYPERLINK(Table1[[#This Row],[Hyperlink]],\"Weblink\")","v":"Weblink"},"Greenhaven Publishing","Library Bound Book",1,"2019","January 2019","Library","6.000 X 9.000","Edited by","Barbara Krasner ",null,null,null,null,"Z","1380L","Grade 10 - 12","Grade 9 - 12","Globalization has impacted many aspects of life, and the food chain is no exception. Approximately one-quarter of America's food supply is imported, and while food production and manufacturing companies financially benefit from sourcing food from other countries, regulating these food sources becomes increasingly difficult. How does food regulation and inspection differ between countries? What can be done to ensure food imported from other countries is safe for consumption, and how can we make sure people involved in the food production process around the world are treated ethically? Readers will explore the many considerations affecting the global food chain.","English",46.2,36.96,"664.0068/4--dc23","176 pp.","https://greenhavenpublishing.com/978-1-5345-0393-9",{"$f":"Table1[[#This Row],['# of Books]]*Table1[[#This Row],[QTY]]","v":0},{"$f":"Table1[[#This Row],[QTY]]*Table1[[#This Row],[School & Library Price]]","v":0}]
[null,15,33,null,null,"Current Issues","Global Viewpoints","The Food Chain: Regulation, Inspection, and Supply","978-1-5345-0473-8",{"$f":"HYPERLINK(Table1[[#This Row],[Hyperlink]],\"Weblink\")","v":"Weblink"},"Greenhaven Publishing","Paperback Book",1,"2019","January 2019","Paperback","6.000 X 9.000","Edited by","Barbara Krasner ",null,null,null,null,"Z","1380L","Grade 10 - 12","Grade 9 - 12","Globalization has impacted many aspects of life, and the food chain is no exception. Approximately one-quarter of America's food supply is imported, and while food production and manufacturing companies financially benefit from sourcing food from other countries, regulating these food sources becomes increasingly difficult. How does food regulation and inspection differ between countries? What can be done to ensure food imported from other countries is safe for consumption, and how can we make sure people involved in the food production process around the world are treated ethically? Readers will explore the many considerations affecting the global food chain.","English",31.7,25.36,"664.0068/4--dc23","176 pp.","https://greenhavenpublishing.com/978-1-5345-0473-8",{"$f":"Table1[[#This Row],['# of Books]]*Table1[[#This Row],[QTY]]","v":0},{"$f":"Table1[[#This Row],[QTY]]*Table1[[#This Row],[School & Library Price]]","v":0}]
[null,15,33,null,null,"Current Issues","Global Viewpoints","The Food Chain: Regulation, Inspection, and Supply","978-1-5345-0408-0",{"$f":"HYPERLINK(Table1[[#This Row],[Hyperlink]],\"Weblink\")","v":"Weblink"},"Greenhaven Publishing","eBook",1,"2019","January 2019",null,null,"Edited by","Barbara Krasner ",null,null,null,null,"Z","1380L","Grade 10 - 12","Grade 9 - 12","Globalization has impacted many aspects of life, and the food chain is no exception. Approximately one-quarter of America's food supply is imported, and while food production and manufacturing companies financially benefit from sourcing food from other countries, regulating these food sources becomes increasingly difficult. How does food regulation and inspection differ between countries? What can be done to ensure food imported from other countries is safe for consumption, and how can we make sure people involved in the food production process around the world are treated ethically? Readers will explore the many considerations affecting the global food chain.","English",46.2,36.96,"664.0068/4--dc23","176 pp.","https://greenhavenpublishing.com/978-1-5345-0408-0",{"$f":"Table1[[#This Row],['# of Books]]*Table1[[#This Row],[QTY]]","v":0},{"$f":"Table1[[#This Row],[QTY]]*Table1[[#This Row],[School & Library Price]]","v":0}]
[null,15,33,null,null,"Current Issues","Global Viewpoints","Violence Against Women","978-1-5345-0392-2",{"$f":"HYPERLINK(Table1[[#This Row],[Hyperlink]],\"Weblink\")","v":"Weblink"},"Greenhaven Publishing","Library Bound Book",1,"2019","January 2019","Library","6.000 X 9.000","Edited by","Kathryn Roberts",null,null,null,null,"Z",null,"Grade 10 - 12","Grade 9 - 12","Annually, approximately 66,000 women are violently killed in countries around the world. While historically these crimes were grouped into the general category of homicide, femicide, the murder of women because of their gender, is now being recognized as a unique issue and a hate crime. However, some assert that the fact that 80 percent of murder victims are male suggests that the issue of femicide is being blown out of proportion. This volume explores the forms femicide takes around the world and potential means of combatting it, and discusses the varying perspectives on the usefulness of its categorization.","English",46.2,36.96,"362.88082--dc23","200 pp.","https://greenhavenpublishing.com/978-1-5345-0392-2",{"$f":"Table1[[#This Row],['# of Books]]*Table1[[#This Row],[QTY]]","v":0},{"$f":"Table1[[#This Row],[QTY]]*Table1[[#This Row],[School & Library Price]]","v":0}]
[null,15,33,null,null,"Current Issues","Global Viewpoints","Violence Against Women","978-1-5345-0471-4",{"$f":"HYPERLINK(Table1[[#This Row],[Hyperlink]],\"Weblink\")","v":"Weblink"},"Greenhaven Publishing","Paperback Book",1,"2019","January 2019","Paperback","6.000 X 9.000","Edited by","Kathryn Roberts",null,null,null,null,"Z",null,"Grade 10 - 12","Grade 9 - 12","Annually, approximately 66,000 women are violently killed in countries around the world. While historically these crimes were grouped into the general category of homicide, femicide, the murder of women because of their gender, is now being recognized as a unique issue and a hate crime. However, some assert that the fact that 80 percent of murder victims are male suggests that the issue of femicide is being blown out of proportion. This volume explores the forms femicide takes around the world and potential means of combatting it, and discusses the varying perspectives on the usefulness of its categorization.","English",31.7,25.36,"362.88082--dc23","200 pp.","https://greenhavenpublishing.com/978-1-5345-0471-4",{"$f":"Table1[[#This Row],['# of Books]]*Table1[[#This Row],[QTY]]","v":0},{"$f":"Table1[[#This Row],[QTY]]*Table1[[#This Row],[School & Library Price]]","v":0}]
[null,15,33,null,null,"Current Issues","Global Viewpoints","Violence Against Women","978-1-5345-0407-3",{"$f":"HYPERLINK(Table1[[#This Row],[Hyperlink]],\"Weblink\")","v":"Weblink"},"Greenhaven Publishing","eBook",1,"2019","January 2019",null,null,"Edited by","Kathryn Roberts",null,null,null,null,"Z",null,"Grade 10 - 12","Grade 9 - 12","Annually, approximately 66,000 women are violently killed in countries around the world. While historically these crimes were grouped into the general category of homicide, femicide, the murder of women because of their gender, is now being recognized as a unique issue and a hate crime. However, some assert that the fact that 80 percent of murder victims are male suggests that the issue of femicide is being blown out of proportion. This volume explores the forms femicide takes around the world and potential means of combatting it, and discusses the varying perspectives on the usefulness of its categorization.","English",46.2,36.96,"362.88082--dc23","200 pp.","https://greenhavenpublishing.com/978-1-5345-0407-3",{"$f":"Table1[[#This Row],['# of Books]]*Table1[[#This Row],[QTY]]","v":0},{"$f":"Table1[[#This Row],[QTY]]*Table1[[#This Row],[School & Library Price]]","v":0}]
[null,15,34,null,null,"Current Issues","Global Viewpoints","Arms Sales, Treaties, and Violations","978-1-5345-0349-6",{"$f":"HYPERLINK(Table1[[#This Row],[Hyperlink]],\"Weblink\")","v":"Weblink"},"Greenhaven Publishing","Library Bound Book",1,"2019","August 2018","Library","6.000 X 9.000","Edited by","Rita Santos",null,null,null,null,"Z",null,"Grade 10 - 12","Grade 9 - 12","The international weapons trade is a vast and lucrative machine, estimated at generating 70 billion dollars annually. In 2014, The Arms Trade Treaty, which regulates the international trade in conventional arms, was entered into force. But compliance is complicated, and even the most powerful nations have violated the treaty. Irresponsible arms transfers and ready availability can destabilize security and cause a host of problems among civilian populations in a region. The viewpoints in this resource examine the responsibility of nation states around the world to take accountability for their participation in weaponizing.","English",46.2,36.96,"382/.456234--dc23","200 pp.","https://greenhavenpublishing.com/978-1-5345-0349-6",{"$f":"Table1[[#This Row],['# of Books]]*Table1[[#This Row],[QTY]]","v":0},{"$f":"Table1[[#This Row],[QTY]]*Table1[[#This Row],[School & Library Price]]","v":0}]
[null,15,34,null,null,"Current Issues","Global Viewpoints","Arms Sales, Treaties, and Violations","978-1-5345-0350-2",{"$f":"HYPERLINK(Table1[[#This Row],[Hyperlink]],\"Weblink\")","v":"Weblink"},"Greenhaven Publishing","Paperback Book",1,"2019","August 2018","Paperback","6.000 X 9.000","Edited by","Rita Santos",null,null,null,null,"Z",null,"Grade 10 - 12","Grade 9 - 12","The international weapons trade is a vast and lucrative machine, estimated at generating 70 billion dollars annually. In 2014, The Arms Trade Treaty, which regulates the international trade in conventional arms, was entered into force. But compliance is complicated, and even the most powerful nations have violated the treaty. Irresponsible arms transfers and ready availability can destabilize security and cause a host of problems among civilian populations in a region. The viewpoints in this resource examine the responsibility of nation states around the world to take accountability for their participation in weaponizing.","English",31.7,25.36,"382/.456234--dc23","200 pp.","https://greenhavenpublishing.com/978-1-5345-0350-2",{"$f":"Table1[[#This Row],['# of Books]]*Table1[[#This Row],[QTY]]","v":0},{"$f":"Table1[[#This Row],[QTY]]*Table1[[#This Row],[School & Library Price]]","v":0}]
[null,15,34,null,null,"Current Issues","Global Viewpoints","Arms Sales, Treaties, and Violations","978-1-5345-0351-9",{"$f":"HYPERLINK(Table1[[#This Row],[Hyperlink]],\"Weblink\")","v":"Weblink"},"Greenhaven Publishing","eBook",1,"2019","August 2018",null,null,"Edited by","Rita Santos",null,null,null,null,"Z",null,"Grade 10 - 12","Grade 9 - 12","The international weapons trade is a vast and lucrative machine, estimated at generating 70 billion dollars annually. In 2014, The Arms Trade Treaty, which regulates the international trade in conventional arms, was entered into force. But compliance is complicated, and even the most powerful nations have violated the treaty. Irresponsible arms transfers and ready availability can destabilize security and cause a host of problems among civilian populations in a region. The viewpoints in this resource examine the responsibility of nation states around the world to take accountability for their participation in weaponizing.","English",46.2,36.96,"382/.456234--dc23","200 pp.","https://greenhavenpublishing.com/978-1-5345-0351-9",{"$f":"Table1[[#This Row],['# of Books]]*Table1[[#This Row],[QTY]]","v":0},{"$f":"Table1[[#This Row],[QTY]]*Table1[[#This Row],[School & Library Price]]","v":0}]
[null,15,34,null,null,"Current Issues","Global Viewpoints","Civilian Casualties in War","978-1-5345-0337-3",{"$f":"HYPERLINK(Table1[[#This Row],[Hyperlink]],\"Weblink\")","v":"Weblink"},"Greenhaven Publishing","Library Bound Book",1,"2019","August 2018","Library","6.000 X 9.000","Edited by","Barbara Krasner ",null,null,null,null,"Z",null,"Grade 10 - 12","Grade 9 - 12","According to UNICEF, the number of civilian casualties in war climbed from 5 percent at the turn of the twentieth century to more than 90 percent at the end of that century. Additionally, the current war against ISIS has racked up a staggering number of civilian deaths, including children. The days when professional armies fought in contained areas are long gone, having been replaced by drone strikes, neighbors shooting at neighbors from apartment windows, and massacres in rural villages. The viewpoints in this resource examine this byproduct of modern war and explore strategies for reducing civilian casualties.","English",46.2,36.96,"172/.42--dc23","200 pp.","https://greenhavenpublishing.com/978-1-5345-0337-3",{"$f":"Table1[[#This Row],['# of Books]]*Table1[[#This Row],[QTY]]","v":0},{"$f":"Table1[[#This Row],[QTY]]*Table1[[#This Row],[School & Library Price]]","v":0}]
[null,15,34,null,null,"Current Issues","Global Viewpoints","Civilian Casualties in War","978-1-5345-0338-0",{"$f":"HYPERLINK(Table1[[#This Row],[Hyperlink]],\"Weblink\")","v":"Weblink"},"Greenhaven Publishing","Paperback Book",1,"2019","August 2018","Paperback","6.000 X 9.000","Edited by","Barbara Krasner ",null,null,null,null,"Z",null,"Grade 10 - 12","Grade 9 - 12","According to UNICEF, the number of civilian casualties in war climbed from 5 percent at the turn of the twentieth century to more than 90 percent at the end of that century. Additionally, the current war against ISIS has racked up a staggering number of civilian deaths, including children. The days when professional armies fought in contained areas are long gone, having been replaced by drone strikes, neighbors shooting at neighbors from apartment windows, and massacres in rural villages. The viewpoints in this resource examine this byproduct of modern war and explore strategies for reducing civilian casualties.","English",31.7,25.36,"172/.42--dc23","200 pp.","https://greenhavenpublishing.com/978-1-5345-0338-0",{"$f":"Table1[[#This Row],['# of Books]]*Table1[[#This Row],[QTY]]","v":0},{"$f":"Table1[[#This Row],[QTY]]*Table1[[#This Row],[School & Library Price]]","v":0}]
[null,15,34,null,null,"Current Issues","Global Viewpoints","Civilian Casualties in War","978-1-5345-0339-7",{"$f":"HYPERLINK(Table1[[#This Row],[Hyperlink]],\"Weblink\")","v":"Weblink"},"Greenhaven Publishing","eBook",1,"2019","August 2018",null,null,"Edited by","Barbara Krasner ",null,null,null,null,"Z",null,"Grade 10 - 12","Grade 9 - 12","According to UNICEF, the number of civilian casualties in war climbed from 5 percent at the turn of the twentieth century to more than 90 percent at the end of that century. Additionally, the current war against ISIS has racked up a staggering number of civilian deaths, including children. The days when professional armies fought in contained areas are long gone, having been replaced by drone strikes, neighbors shooting at neighbors from apartment windows, and massacres in rural villages. The viewpoints in this resource examine this byproduct of modern war and explore strategies for reducing civilian casualties.","English",46.2,36.96,"172/.42--dc23","200 pp.","https://greenhavenpublishing.com/978-1-5345-0339-7",{"$f":"Table1[[#This Row],['# of Books]]*Table1[[#This Row],[QTY]]","v":0},{"$f":"Table1[[#This Row],[QTY]]*Table1[[#This Row],[School & Library Price]]","v":0}]
[null,15,34,null,null,"Current Issues","Global Viewpoints","Cyberterrorism and Ransomware Attacks","978-1-5345-0340-3",{"$f":"HYPERLINK(Table1[[#This Row],[Hyperlink]],\"Weblink\")","v":"Weblink"},"Greenhaven Publishing","Library Bound Book",1,"2019","August 2018","Library","6.000 X 9.000","Edited by","Gary Wiener",null,null,null,null,"Z",null,"Grade 10 - 12","Grade 9 - 12","In this digital age, it is not only conventional weapons that are used to threaten and harm others. A new and terrifying avenue is cyberspace and ransomware. This malware encrypts a user's data and demands payment in exchange for unlocking the data. Such attacks are becoming more widespread: a 2017 cyber incident attacked more than 45,000 users in countries around the world. This anthology presents a collection of global perspectives on the topic that examines the potential of such attacks and how we can secure ourselves in the future.","English",46.2,36.96,"363.325--dc23","176 pp.","https://greenhavenpublishing.com/978-1-5345-0340-3",{"$f":"Table1[[#This Row],['# of Books]]*Table1[[#This Row],[QTY]]","v":0},{"$f":"Table1[[#This Row],[QTY]]*Table1[[#This Row],[School & Library Price]]","v":0}]
[null,15,34,null,null,"Current Issues","Global Viewpoints","Cyberterrorism and Ransomware Attacks","978-1-5345-0341-0",{"$f":"HYPERLINK(Table1[[#This Row],[Hyperlink]],\"Weblink\")","v":"Weblink"},"Greenhaven Publishing","Paperback Book",1,"2019","August 2018","Paperback","6.000 X 9.000","Edited by","Gary Wiener",null,null,null,null,"Z",null,"Grade 10 - 12","Grade 9 - 12","In this digital age, it is not only conventional weapons that are used to threaten and harm others. A new and terrifying avenue is cyberspace and ransomware. This malware encrypts a user's data and demands payment in exchange for unlocking the data. Such attacks are becoming more widespread: a 2017 cyber incident attacked more than 45,000 users in countries around the world. This anthology presents a collection of global perspectives on the topic that examines the potential of such attacks and how we can secure ourselves in the future.","English",31.7,25.36,"363.325--dc23","176 pp.","https://greenhavenpublishing.com/978-1-5345-0341-0",{"$f":"Table1[[#This Row],['# of Books]]*Table1[[#This Row],[QTY]]","v":0},{"$f":"Table1[[#This Row],[QTY]]*Table1[[#This Row],[School & Library Price]]","v":0}]
[null,15,34,null,null,"Current Issues","Global Viewpoints","Cyberterrorism and Ransomware Attacks","978-1-5345-0342-7",{"$f":"HYPERLINK(Table1[[#This Row],[Hyperlink]],\"Weblink\")","v":"Weblink"},"Greenhaven Publishing","eBook",1,"2019","August 2018",null,null,"Edited by","Gary Wiener",null,null,null,null,"Z",null,"Grade 10 - 12","Grade 9 - 12","In this digital age, it is not only conventional weapons that are used to threaten and harm others. A new and terrifying avenue is cyberspace and ransomware. This malware encrypts a user's data and demands payment in exchange for unlocking the data. Such attacks are becoming more widespread: a 2017 cyber incident attacked more than 45,000 users in countries around the world. This anthology presents a collection of global perspectives on the topic that examines the potential of such attacks and how we can secure ourselves in the future.","English",46.2,36.96,"363.325--dc23","176 pp.","https://greenhavenpublishing.com/978-1-5345-0342-7",{"$f":"Table1[[#This Row],['# of Books]]*Table1[[#This Row],[QTY]]","v":0},{"$f":"Table1[[#This Row],[QTY]]*Table1[[#This Row],[School & Library Price]]","v":0}]
[null,15,34,null,null,"Current Issues","Global Viewpoints","Economic Sanctions","978-1-5345-0343-4",{"$f":"HYPERLINK(Table1[[#This Row],[Hyperlink]],\"Weblink\")","v":"Weblink"},"Greenhaven Publishing","Library Bound Book",1,"2019","August 2018","Library","6.000 X 9.000","Edited by","Kristina Lyn Heitkamp",null,null,null,null,"Z",null,"Grade 10 - 12","Grade 9 - 12","Economic sanctions, the withdrawal of established trade relations, have been used as a nonviolent strategy by governments around the world to varying success. The United States alone has twenty-six sanction programs in place today. Programs have recently shifted toward \"smart\" sanctions, with a goal of eliminating the suffering of civilians. The expert viewpoints in this enlightening resource examine, from an international perspective, whether or not economic sanctions are effective, in what situations they work best, and what other solutions might be more effective.","English",46.2,36.96,"327.1/17--dc23","200 pp.","https://greenhavenpublishing.com/978-1-5345-0343-4",{"$f":"Table1[[#This Row],['# of Books]]*Table1[[#This Row],[QTY]]","v":0},{"$f":"Table1[[#This Row],[QTY]]*Table1[[#This Row],[School & Library Price]]","v":0}]
[null,15,34,null,null,"Current Issues","Global Viewpoints","Economic Sanctions","978-1-5345-0344-1",{"$f":"HYPERLINK(Table1[[#This Row],[Hyperlink]],\"Weblink\")","v":"Weblink"},"Greenhaven Publishing","Paperback Book",1,"2019","August 2018","Paperback","6.000 X 9.000","Edited by","Kristina Lyn Heitkamp",null,null,null,null,"Z",null,"Grade 10 - 12","Grade 9 - 12","Economic sanctions, the withdrawal of established trade relations, have been used as a nonviolent strategy by governments around the world to varying success. The United States alone has twenty-six sanction programs in place today. Programs have recently shifted toward \"smart\" sanctions, with a goal of eliminating the suffering of civilians. The expert viewpoints in this enlightening resource examine, from an international perspective, whether or not economic sanctions are effective, in what situations they work best, and what other solutions might be more effective.","English",31.7,25.36,"327.1/17--dc23","200 pp.","https://greenhavenpublishing.com/978-1-5345-0344-1",{"$f":"Table1[[#This Row],['# of Books]]*Table1[[#This Row],[QTY]]","v":0},{"$f":"Table1[[#This Row],[QTY]]*Table1[[#This Row],[School & Library Price]]","v":0}]
[null,15,34,null,null,"Current Issues","Global Viewpoints","Economic Sanctions","978-1-5345-0345-8",{"$f":"HYPERLINK(Table1[[#This Row],[Hyperlink]],\"Weblink\")","v":"Weblink"},"Greenhaven Publishing","eBook",1,"2019","August 2018",null,null,"Edited by","Kristina Lyn Heitkamp",null,null,null,null,"Z",null,"Grade 10 - 12","Grade 9 - 12","Economic sanctions, the withdrawal of established trade relations, have been used as a nonviolent strategy by governments around the world to varying success. The United States alone has twenty-six sanction programs in place today. Programs have recently shifted toward \"smart\" sanctions, with a goal of eliminating the suffering of civilians. The expert viewpoints in this enlightening resource examine, from an international perspective, whether or not economic sanctions are effective, in what situations they work best, and what other solutions might be more effective.","English",46.2,36.96,"327.1/17--dc23","200 pp.","https://greenhavenpublishing.com/978-1-5345-0345-8",{"$f":"Table1[[#This Row],['# of Books]]*Table1[[#This Row],[QTY]]","v":0},{"$f":"Table1[[#This Row],[QTY]]*Table1[[#This Row],[School & Library Price]]","v":0}]
[null,15,34,null,null,"Current Issues","Global Viewpoints","Geoengineering: Counteracting Climate Change","978-1-5345-0346-5",{"$f":"HYPERLINK(Table1[[#This Row],[Hyperlink]],\"Weblink\")","v":"Weblink"},"Greenhaven Publishing","Library Bound Book",1,"2019","August 2018","Library","6.000 X 9.000","Edited by","Rita Santos",null,null,null,null,"Z","1340L","Grade 10 - 12","Grade 9 - 12","Geoengineering is the deliberate manipulation of the environment in an attempt to counteract the harmful effects of human-influenced climate change. It's intended as a solution, but it also can create unintended consequences. When scientists and political leaders can't even agree on the extent of climate change, it can seem hopeless to think they will come together to work on solutions. This enlightening resource offers perspectives from experts in the field today, making clear why this topic attracts such controversy and what can be done in the future to help our planet.","English",46.2,36.96,"628--dc23","176 pp.","https://greenhavenpublishing.com/978-1-5345-0346-5",{"$f":"Table1[[#This Row],['# of Books]]*Table1[[#This Row],[QTY]]","v":0},{"$f":"Table1[[#This Row],[QTY]]*Table1[[#This Row],[School & Library Price]]","v":0}]
[null,15,34,null,null,"Current Issues","Global Viewpoints","Geoengineering: Counteracting Climate Change","978-1-5345-0347-2",{"$f":"HYPERLINK(Table1[[#This Row],[Hyperlink]],\"Weblink\")","v":"Weblink"},"Greenhaven Publishing","Paperback Book",1,"2019","August 2018","Paperback","6.000 X 9.000","Edited by","Rita Santos",null,null,null,null,"Z","1340L","Grade 10 - 12","Grade 9 - 12","Geoengineering is the deliberate manipulation of the environment in an attempt to counteract the harmful effects of human-influenced climate change. It's intended as a solution, but it also can create unintended consequences. When scientists and political leaders can't even agree on the extent of climate change, it can seem hopeless to think they will come together to work on solutions. This enlightening resource offers perspectives from experts in the field today, making clear why this topic attracts such controversy and what can be done in the future to help our planet.","English",31.7,25.36,"628--dc23","176 pp.","https://greenhavenpublishing.com/978-1-5345-0347-2",{"$f":"Table1[[#This Row],['# of Books]]*Table1[[#This Row],[QTY]]","v":0},{"$f":"Table1[[#This Row],[QTY]]*Table1[[#This Row],[School & Library Price]]","v":0}]
[null,15,34,null,null,"Current Issues","Global Viewpoints","Geoengineering: Counteracting Climate Change","978-1-5345-0348-9",{"$f":"HYPERLINK(Table1[[#This Row],[Hyperlink]],\"Weblink\")","v":"Weblink"},"Greenhaven Publishing","eBook",1,"2019","August 2018",null,null,"Edited by","Rita Santos",null,null,null,null,"Z","1340L","Grade 10 - 12","Grade 9 - 12","Geoengineering is the deliberate manipulation of the environment in an attempt to counteract the harmful effects of human-influenced climate change. It's intended as a solution, but it also can create unintended consequences. When scientists and political leaders can't even agree on the extent of climate change, it can seem hopeless to think they will come together to work on solutions. This enlightening resource offers perspectives from experts in the field today, making clear why this topic attracts such controversy and what can be done in the future to help our planet.","English",46.2,36.96,"628--dc23","176 pp.","https://greenhavenpublishing.com/978-1-5345-0348-9",{"$f":"Table1[[#This Row],['# of Books]]*Table1[[#This Row],[QTY]]","v":0},{"$f":"Table1[[#This Row],[QTY]]*Table1[[#This Row],[School & Library Price]]","v":0}]
[null,15,35,null,null,"Current Issues","Global Viewpoints","Religious Clothing in Public Spaces","978-1-5345-0352-6",{"$f":"HYPERLINK(Table1[[#This Row],[Hyperlink]],\"Weblink\")","v":"Weblink"},"Greenhaven Publishing","Library Bound Book",1,"2019","August 2018","Library","6.000 X 9.000","Edited by","Pete Schauer",null,null,null,null,"Z",null,"Grade 10 - 12","Grade 9 - 12","We live in a global society, but that doesn't mean our attitudes toward other cultures have caught up. Debates about the wearing of religious apparel have raged in countries around the world, including the United States. The diverse viewpoints in this resource address topics such as how tolerance for the wearing of religious clothing differs around the world and whether or not religious clothing should be allowed in public schools. Readers will decide for themselves whether this is an issue of freedom of expression and religion or if it should be viewed as a threat.","English",46.2,36.96,"323.44/2--dc23","136 pp.","https://greenhavenpublishing.com/978-1-5345-0352-6",{"$f":"Table1[[#This Row],['# of Books]]*Table1[[#This Row],[QTY]]","v":0},{"$f":"Table1[[#This Row],[QTY]]*Table1[[#This Row],[School & Library Price]]","v":0}]
[null,15,35,null,null,"Current Issues","Global Viewpoints","Religious Clothing in Public Spaces","978-1-5345-0353-3",{"$f":"HYPERLINK(Table1[[#This Row],[Hyperlink]],\"Weblink\")","v":"Weblink"},"Greenhaven Publishing","Paperback Book",1,"2019","August 2018","Paperback","6.000 X 9.000","Edited by","Pete Schauer",null,null,null,null,"Z",null,"Grade 10 - 12","Grade 9 - 12","We live in a global society, but that doesn't mean our attitudes toward other cultures have caught up. Debates about the wearing of religious apparel have raged in countries around the world, including the United States. The diverse viewpoints in this resource address topics such as how tolerance for the wearing of religious clothing differs around the world and whether or not religious clothing should be allowed in public schools. Readers will decide for themselves whether this is an issue of freedom of expression and religion or if it should be viewed as a threat.","English",31.7,25.36,"323.44/2--dc23","136 pp.","https://greenhavenpublishing.com/978-1-5345-0353-3",{"$f":"Table1[[#This Row],['# of Books]]*Table1[[#This Row],[QTY]]","v":0},{"$f":"Table1[[#This Row],[QTY]]*Table1[[#This Row],[School & Library Price]]","v":0}]
[null,15,35,null,null,"Current Issues","Global Viewpoints","Religious Clothing in Public Spaces","978-1-5345-0354-0",{"$f":"HYPERLINK(Table1[[#This Row],[Hyperlink]],\"Weblink\")","v":"Weblink"},"Greenhaven Publishing","eBook",1,"2019","August 2018",null,null,"Edited by","Pete Schauer",null,null,null,null,"Z",null,"Grade 10 - 12","Grade 9 - 12","We live in a global society, but that doesn't mean our attitudes toward other cultures have caught up. Debates about the wearing of religious apparel have raged in countries around the world, including the United States. The diverse viewpoints in this resource address topics such as how tolerance for the wearing of religious clothing differs around the world and whether or not religious clothing should be allowed in public schools. Readers will decide for themselves whether this is an issue of freedom of expression and religion or if it should be viewed as a threat.","English",46.2,36.96,"323.44/2--dc23","136 pp.","https://greenhavenpublishing.com/978-1-5345-0354-0",{"$f":"Table1[[#This Row],['# of Books]]*Table1[[#This Row],[QTY]]","v":0},{"$f":"Table1[[#This Row],[QTY]]*Table1[[#This Row],[School & Library Price]]","v":0}]
[null,15,34,null,null,"Current Issues","Global Viewpoints","Extreme Weather Events","978-1-5345-0114-0",{"$f":"HYPERLINK(Table1[[#This Row],[Hyperlink]],\"Weblink\")","v":"Weblink"},"Greenhaven Publishing","Library Bound Book",1,"2018","August 2017","Library","6.000 X 9.000","Edited by","Marcia Amidon Lusted",null,null,null,null,"Z","1380L","Grade 10 - 12","Grade 9 - 12","In the wake of every killer hurricane, devastating wild fire, severe drought, or once-in-a-century flooding event, it has become commonplace for scientists, politicians, and ordinary citizens to debate whether or not these severe weather events can be tied directly to climate change and global warming. The scientific consensus generally indicates that we are beginning to see upticks in extreme weather due to warming and the resulting shift in weather patterns. Certain politicians, business interests, and energy executives, however, forcefully reject such connections as unproven and speculative. Where does the truth lie? This anthology collects the strongest viewpoints from across the ideological spectrum and the globe and allows readers to evaluate the arguments and evidence for themselves before forming an educated opinion.","English",46.2,36.96,"551.55--dc23","224 pp.","https://greenhavenpublishing.com/978-1-5345-0114-0",{"$f":"Table1[[#This Row],['# of Books]]*Table1[[#This Row],[QTY]]","v":0},{"$f":"Table1[[#This Row],[QTY]]*Table1[[#This Row],[School & Library Price]]","v":0}]
[null,15,34,null,null,"Current Issues","Global Viewpoints","Extreme Weather Events","978-1-5345-0112-6",{"$f":"HYPERLINK(Table1[[#This Row],[Hyperlink]],\"Weblink\")","v":"Weblink"},"Greenhaven Publishing","Paperback Book",1,"2018","August 2017","Paperback","6.000 X 9.000","Edited by","Marcia Amidon Lusted",null,null,null,null,"Z","1380L","Grade 10 - 12","Grade 9 - 12","In the wake of every killer hurricane, devastating wild fire, severe drought, or once-in-a-century flooding event, it has become commonplace for scientists, politicians, and ordinary citizens to debate whether or not these severe weather events can be tied directly to climate change and global warming. The scientific consensus generally indicates that we are beginning to see upticks in extreme weather due to warming and the resulting shift in weather patterns. Certain politicians, business interests, and energy executives, however, forcefully reject such connections as unproven and speculative. Where does the truth lie? This anthology collects the strongest viewpoints from across the ideological spectrum and the globe and allows readers to evaluate the arguments and evidence for themselves before forming an educated opinion.","English",31.7,25.36,"551.55--dc23","224 pp.","https://greenhavenpublishing.com/978-1-5345-0112-6",{"$f":"Table1[[#This Row],['# of Books]]*Table1[[#This Row],[QTY]]","v":0},{"$f":"Table1[[#This Row],[QTY]]*Table1[[#This Row],[School & Library Price]]","v":0}]
[null,15,34,null,null,"Current Issues","Global Viewpoints","Extreme Weather Events","978-1-5345-0122-5",{"$f":"HYPERLINK(Table1[[#This Row],[Hyperlink]],\"Weblink\")","v":"Weblink"},"Greenhaven Publishing","eBook",1,"2018","August 2017",null,null,"Edited by","Marcia Amidon Lusted",null,null,null,null,"Z","1380L","Grade 10 - 12","Grade 9 - 12","In the wake of every killer hurricane, devastating wild fire, severe drought, or once-in-a-century flooding event, it has become commonplace for scientists, politicians, and ordinary citizens to debate whether or not these severe weather events can be tied directly to climate change and global warming. The scientific consensus generally indicates that we are beginning to see upticks in extreme weather due to warming and the resulting shift in weather patterns. Certain politicians, business interests, and energy executives, however, forcefully reject such connections as unproven and speculative. Where does the truth lie? This anthology collects the strongest viewpoints from across the ideological spectrum and the globe and allows readers to evaluate the arguments and evidence for themselves before forming an educated opinion.","English",46.2,36.96,"551.55--dc23","224 pp.","https://greenhavenpublishing.com/978-1-5345-0122-5",{"$f":"Table1[[#This Row],['# of Books]]*Table1[[#This Row],[QTY]]","v":0},{"$f":"Table1[[#This Row],[QTY]]*Table1[[#This Row],[School & Library Price]]","v":0}]
[null,15,35,null,null,"Current Issues","Global Viewpoints","Hate Crimes","978-1-5345-0110-2",{"$f":"HYPERLINK(Table1[[#This Row],[Hyperlink]],\"Weblink\")","v":"Weblink"},"Greenhaven Publishing","Library Bound Book",1,"2018","August 2017","Library","6.000 X 9.000","Edited by","Barbara Krasner ",null,null,null,null,"Z",null,"Grade 10 - 12","Grade 9 - 12","Few would argue that a violent attack motivated by negative feelings towards the victim’s race, ethnicity, religion, or sexual orientation is a hate crime. But should a hate-motivated crime be punished differently than the same crime committed for a different motive? What if the crime is verbal, a slur or a ranting blog post or a graffiti scrawl? These may be hateful, but are they hate crimes? And how should they be punished? Are hate crimes on the rise, or are media attention and greater sensitivity to the issue making it appear so? These and other questions are at the center of this thought-provoking collection of articles drawn from across the political spectrum and the globe.","English",46.2,36.96,"364.15--dc23","240 pp.","https://greenhavenpublishing.com/978-1-5345-0110-2",{"$f":"Table1[[#This Row],['# of Books]]*Table1[[#This Row],[QTY]]","v":0},{"$f":"Table1[[#This Row],[QTY]]*Table1[[#This Row],[School & Library Price]]","v":0}]
[null,15,35,null,null,"Current Issues","Global Viewpoints","Hate Crimes","978-1-5345-0108-9",{"$f":"HYPERLINK(Table1[[#This Row],[Hyperlink]],\"Weblink\")","v":"Weblink"},"Greenhaven Publishing","Paperback Book",1,"2018","August 2017","Paperback","6.000 X 9.000","Edited by","Barbara Krasner ",null,null,null,null,"Z",null,"Grade 10 - 12","Grade 9 - 12","Few would argue that a violent attack motivated by negative feelings towards the victim’s race, ethnicity, religion, or sexual orientation is a hate crime. But should a hate-motivated crime be punished differently than the same crime committed for a different motive? What if the crime is verbal, a slur or a ranting blog post or a graffiti scrawl? These may be hateful, but are they hate crimes? And how should they be punished? Are hate crimes on the rise, or are media attention and greater sensitivity to the issue making it appear so? These and other questions are at the center of this thought-provoking collection of articles drawn from across the political spectrum and the globe.","English",31.7,25.36,"364.15--dc23","240 pp.","https://greenhavenpublishing.com/978-1-5345-0108-9",{"$f":"Table1[[#This Row],['# of Books]]*Table1[[#This Row],[QTY]]","v":0},{"$f":"Table1[[#This Row],[QTY]]*Table1[[#This Row],[School & Library Price]]","v":0}]
[null,15,35,null,null,"Current Issues","Global Viewpoints","Hate Crimes","978-1-5345-0111-9",{"$f":"HYPERLINK(Table1[[#This Row],[Hyperlink]],\"Weblink\")","v":"Weblink"},"Greenhaven Publishing","eBook",1,"2018","August 2017",null,null,"Edited by","Barbara Krasner ",null,null,null,null,"Z",null,"Grade 10 - 12","Grade 9 - 12","Few would argue that a violent attack motivated by negative feelings towards the victim’s race, ethnicity, religion, or sexual orientation is a hate crime. But should a hate-motivated crime be punished differently than the same crime committed for a different motive? What if the crime is verbal, a slur or a ranting blog post or a graffiti scrawl? These may be hateful, but are they hate crimes? And how should they be punished? Are hate crimes on the rise, or are media attention and greater sensitivity to the issue making it appear so? These and other questions are at the center of this thought-provoking collection of articles drawn from across the political spectrum and the globe.","English",46.2,36.96,"364.15--dc23","240 pp.","https://greenhavenpublishing.com/978-1-5345-0111-9",{"$f":"Table1[[#This Row],['# of Books]]*Table1[[#This Row],[QTY]]","v":0},{"$f":"Table1[[#This Row],[QTY]]*Table1[[#This Row],[School & Library Price]]","v":0}]
[null,15,35,null,null,"Current Issues","Global Viewpoints","Honor Killings","978-1-5345-0133-1",{"$f":"HYPERLINK(Table1[[#This Row],[Hyperlink]],\"Weblink\")","v":"Weblink"},"Greenhaven Publishing","Library Bound Book",1,"2018","August 2017","Library","6.000 X 9.000","Edited by","Lisa Idzikowski",null,null,null,null,"Z",null,"Grade 10 - 12","Grade 9 - 12","Honor killings are acts of vengeance committed by male relatives against female relatives who have brought “dishonor” upon the family. This “dishonor” can include refusal to enter into an arranged marriage, being the victim of sexual assault, seeking a divorce, or having social or professional interactions outside the community. These crimes often go unpunished or lightly punished in cultures in which the practice is enshrined and are often reported as suicides or accidents. Honor killings occur worldwide, including among immigrant communities within Western democracies. The articles in this volume provide multiple perspectives on how best to prevent, prosecute, and punish such crimes, how to safeguard women’s safety and freedom, and how to balance tradition, religion, and community standards against the protection of universal human rights.","English",46.2,36.96,"306.87--dc23","224 pp.","https://greenhavenpublishing.com/978-1-5345-0133-1",{"$f":"Table1[[#This Row],['# of Books]]*Table1[[#This Row],[QTY]]","v":0},{"$f":"Table1[[#This Row],[QTY]]*Table1[[#This Row],[School & Library Price]]","v":0}]
[null,15,35,null,null,"Current Issues","Global Viewpoints","Honor Killings","978-1-5345-0131-7",{"$f":"HYPERLINK(Table1[[#This Row],[Hyperlink]],\"Weblink\")","v":"Weblink"},"Greenhaven Publishing","Paperback Book",1,"2018","August 2017","Paperback","6.000 X 9.000","Edited by","Lisa Idzikowski",null,null,null,null,"Z",null,"Grade 10 - 12","Grade 9 - 12","Honor killings are acts of vengeance committed by male relatives against female relatives who have brought “dishonor” upon the family. This “dishonor” can include refusal to enter into an arranged marriage, being the victim of sexual assault, seeking a divorce, or having social or professional interactions outside the community. These crimes often go unpunished or lightly punished in cultures in which the practice is enshrined and are often reported as suicides or accidents. Honor killings occur worldwide, including among immigrant communities within Western democracies. The articles in this volume provide multiple perspectives on how best to prevent, prosecute, and punish such crimes, how to safeguard women’s safety and freedom, and how to balance tradition, religion, and community standards against the protection of universal human rights.","English",31.7,25.36,"306.87--dc23","224 pp.","https://greenhavenpublishing.com/978-1-5345-0131-7",{"$f":"Table1[[#This Row],['# of Books]]*Table1[[#This Row],[QTY]]","v":0},{"$f":"Table1[[#This Row],[QTY]]*Table1[[#This Row],[School & Library Price]]","v":0}]
[null,15,35,null,null,"Current Issues","Global Viewpoints","Honor Killings","978-1-5345-0134-8",{"$f":"HYPERLINK(Table1[[#This Row],[Hyperlink]],\"Weblink\")","v":"Weblink"},"Greenhaven Publishing","eBook",1,"2018","August 2017",null,null,"Edited by","Lisa Idzikowski",null,null,null,null,"Z",null,"Grade 10 - 12","Grade 9 - 12","Honor killings are acts of vengeance committed by male relatives against female relatives who have brought “dishonor” upon the family. This “dishonor” can include refusal to enter into an arranged marriage, being the victim of sexual assault, seeking a divorce, or having social or professional interactions outside the community. These crimes often go unpunished or lightly punished in cultures in which the practice is enshrined and are often reported as suicides or accidents. Honor killings occur worldwide, including among immigrant communities within Western democracies. The articles in this volume provide multiple perspectives on how best to prevent, prosecute, and punish such crimes, how to safeguard women’s safety and freedom, and how to balance tradition, religion, and community standards against the protection of universal human rights.","English",46.2,36.96,"306.87--dc23","224 pp.","https://greenhavenpublishing.com/978-1-5345-0134-8",{"$f":"Table1[[#This Row],['# of Books]]*Table1[[#This Row],[QTY]]","v":0},{"$f":"Table1[[#This Row],[QTY]]*Table1[[#This Row],[School & Library Price]]","v":0}]
[null,15,35,null,null,"Current Issues","Global Viewpoints","Migrants and Refugees","978-1-5345-0118-8",{"$f":"HYPERLINK(Table1[[#This Row],[Hyperlink]],\"Weblink\")","v":"Weblink"},"Greenhaven Publishing","Library Bound Book",1,"2018","August 2017","Library","6.000 X 9.000","Edited by","M. M. Eboch",null,null,null,null,"Z",null,"Grade 10 - 12","Grade 9 - 12","The images are shocking and upsetting: drowned children washing up on beaches, dozens of dead bodies being pulled out of tractor trailers, a mass of humanity penned up in detention camps and tent cities, anti-immigrant rallies characterized by fearful and hate-filled invective. Yet there are also images of refugees being embraced by ordinary citizens and welcomed into their countries, their communities, even their homes. What to do about a growing and endemic refugee crisis and migrant labor population in an age of globalization, terrorism, and income inequality is a question with no simple answers. This volume presents the widest possible range of opinions from reputable sources across the political spectrum and encouragers readers to consider all viewpoints before formulating their own reasoned and informed perspective.","English",46.2,36.96,"305.9/0691--dc23","272 pp.","https://greenhavenpublishing.com/978-1-5345-0118-8",{"$f":"Table1[[#This Row],['# of Books]]*Table1[[#This Row],[QTY]]","v":0},{"$f":"Table1[[#This Row],[QTY]]*Table1[[#This Row],[School & Library Price]]","v":0}]
[null,15,35,null,null,"Current Issues","Global Viewpoints","Migrants and Refugees","978-1-5345-0116-4",{"$f":"HYPERLINK(Table1[[#This Row],[Hyperlink]],\"Weblink\")","v":"Weblink"},"Greenhaven Publishing","Paperback Book",1,"2018","August 2017","Paperback","6.000 X 9.000","Edited by","M. M. Eboch",null,null,null,null,"Z",null,"Grade 10 - 12","Grade 9 - 12","The images are shocking and upsetting: drowned children washing up on beaches, dozens of dead bodies being pulled out of tractor trailers, a mass of humanity penned up in detention camps and tent cities, anti-immigrant rallies characterized by fearful and hate-filled invective. Yet there are also images of refugees being embraced by ordinary citizens and welcomed into their countries, their communities, even their homes. What to do about a growing and endemic refugee crisis and migrant labor population in an age of globalization, terrorism, and income inequality is a question with no simple answers. This volume presents the widest possible range of opinions from reputable sources across the political spectrum and encouragers readers to consider all viewpoints before formulating their own reasoned and informed perspective.","English",31.7,25.36,"305.9/0691--dc23","272 pp.","https://greenhavenpublishing.com/978-1-5345-0116-4",{"$f":"Table1[[#This Row],['# of Books]]*Table1[[#This Row],[QTY]]","v":0},{"$f":"Table1[[#This Row],[QTY]]*Table1[[#This Row],[School & Library Price]]","v":0}]
[null,15,35,null,null,"Current Issues","Global Viewpoints","Migrants and Refugees","978-1-5345-0119-5",{"$f":"HYPERLINK(Table1[[#This Row],[Hyperlink]],\"Weblink\")","v":"Weblink"},"Greenhaven Publishing","eBook",1,"2018","August 2017",null,null,"Edited by","M. M. Eboch",null,null,null,null,"Z",null,"Grade 10 - 12","Grade 9 - 12","The images are shocking and upsetting: drowned children washing up on beaches, dozens of dead bodies being pulled out of tractor trailers, a mass of humanity penned up in detention camps and tent cities, anti-immigrant rallies characterized by fearful and hate-filled invective. Yet there are also images of refugees being embraced by ordinary citizens and welcomed into their countries, their communities, even their homes. What to do about a growing and endemic refugee crisis and migrant labor population in an age of globalization, terrorism, and income inequality is a question with no simple answers. This volume presents the widest possible range of opinions from reputable sources across the political spectrum and encouragers readers to consider all viewpoints before formulating their own reasoned and informed perspective.","English",46.2,36.96,"305.9/0691--dc23","272 pp.","https://greenhavenpublishing.com/978-1-5345-0119-5",{"$f":"Table1[[#This Row],['# of Books]]*Table1[[#This Row],[QTY]]","v":0},{"$f":"Table1[[#This Row],[QTY]]*Table1[[#This Row],[School & Library Price]]","v":0}]
[null,15,35,null,null,"Current Issues","Global Viewpoints","Revisiting Nuclear Power","978-1-5345-0129-4",{"$f":"HYPERLINK(Table1[[#This Row],[Hyperlink]],\"Weblink\")","v":"Weblink"},"Greenhaven Publishing","Library Bound Book",1,"2018","August 2017","Library","6.000 X 9.000","Edited by","Anne C. Cunningham",null,null,null,null,"Z",null,"Grade 10 - 12","Grade 9 - 12","In an era defined by anxiety over global warming and the search for alternative fuel sources, nuclear power is rarely part of the conversation. It promises limitless power and a drastic reduction in greenhouse gas emissions worldwide. Yet, it is by no means perfectly safe or “clean,” as Three Mile Island, Chernobyl, and Fukushima remind us. Even so, thirty countries are operating 444 reactors, accounting for almost 11 percent of the world’s electricity production. The debate over nuclear energy is a fierce and emotional one, and arguments, agendas, assumptions, and factual information must be scrutinized meticulously and carefully. This volume allows readers to do just that as they begin to form their own opinions on the viability of nuclear power.","English",46.2,36.96,"333.792'4--dc23","256 pp.","https://greenhavenpublishing.com/978-1-5345-0129-4",{"$f":"Table1[[#This Row],['# of Books]]*Table1[[#This Row],[QTY]]","v":0},{"$f":"Table1[[#This Row],[QTY]]*Table1[[#This Row],[School & Library Price]]","v":0}]
[null,15,35,null,null,"Current Issues","Global Viewpoints","Revisiting Nuclear Power","978-1-5345-0127-0",{"$f":"HYPERLINK(Table1[[#This Row],[Hyperlink]],\"Weblink\")","v":"Weblink"},"Greenhaven Publishing","Paperback Book",1,"2018","August 2017","Paperback","6.000 X 9.000","Edited by","Anne C. Cunningham",null,null,null,null,"Z",null,"Grade 10 - 12","Grade 9 - 12","In an era defined by anxiety over global warming and the search for alternative fuel sources, nuclear power is rarely part of the conversation. It promises limitless power and a drastic reduction in greenhouse gas emissions worldwide. Yet, it is by no means perfectly safe or “clean,” as Three Mile Island, Chernobyl, and Fukushima remind us. Even so, thirty countries are operating 444 reactors, accounting for almost 11 percent of the world’s electricity production. The debate over nuclear energy is a fierce and emotional one, and arguments, agendas, assumptions, and factual information must be scrutinized meticulously and carefully. This volume allows readers to do just that as they begin to form their own opinions on the viability of nuclear power.","English",31.7,25.36,"333.792'4--dc23","256 pp.","https://greenhavenpublishing.com/978-1-5345-0127-0",{"$f":"Table1[[#This Row],['# of Books]]*Table1[[#This Row],[QTY]]","v":0},{"$f":"Table1[[#This Row],[QTY]]*Table1[[#This Row],[School & Library Price]]","v":0}]
[null,15,35,null,null,"Current Issues","Global Viewpoints","Revisiting Nuclear Power","978-1-5345-0130-0",{"$f":"HYPERLINK(Table1[[#This Row],[Hyperlink]],\"Weblink\")","v":"Weblink"},"Greenhaven Publishing","eBook",1,"2018","August 2017",null,null,"Edited by","Anne C. Cunningham",null,null,null,null,"Z",null,"Grade 10 - 12","Grade 9 - 12","In an era defined by anxiety over global warming and the search for alternative fuel sources, nuclear power is rarely part of the conversation. It promises limitless power and a drastic reduction in greenhouse gas emissions worldwide. Yet, it is by no means perfectly safe or “clean,” as Three Mile Island, Chernobyl, and Fukushima remind us. Even so, thirty countries are operating 444 reactors, accounting for almost 11 percent of the world’s electricity production. The debate over nuclear energy is a fierce and emotional one, and arguments, agendas, assumptions, and factual information must be scrutinized meticulously and carefully. This volume allows readers to do just that as they begin to form their own opinions on the viability of nuclear power.","English",46.2,36.96,"333.792'4--dc23","256 pp.","https://greenhavenpublishing.com/978-1-5345-0130-0",{"$f":"Table1[[#This Row],['# of Books]]*Table1[[#This Row],[QTY]]","v":0},{"$f":"Table1[[#This Row],[QTY]]*Table1[[#This Row],[School & Library Price]]","v":0}]
[null,15,35,null,null,"Current Issues","Global Viewpoints","Tech Giants and Digital Domination","978-1-5345-0125-6",{"$f":"HYPERLINK(Table1[[#This Row],[Hyperlink]],\"Weblink\")","v":"Weblink"},"Greenhaven Publishing","Library Bound Book",1,"2018","August 2017","Library","6.000 X 9.000","Edited by","Caleb Bissinger",null,null,null,null,"Z","1310L","Grade 10 - 12","Grade 9 - 12","Are tech giants the new robber barons of the digital age? Many governments and ordinary people are increasingly uncomfortable with the monopolistic might a small number of tech companies are amassing, the taxes they are avoiding, the data they are collecting, the privacy they are undermining, and the way they are functioning as “extraterritorial” powers beholden to no state and to no citizen or consumer. All sides of this super-charged debate are represented here, from those of the chieftains of Silicon Valley and EU regulators to FBI counterintelligence agents, scrappy open-source programmers, and ordinary computer users and digital consumers. Readers will understand the digital world we currently inhabit, the limits of its freedoms, and who owns and controls its future.","English",46.2,36.96,"338'.064--dc23","224 pp.","https://greenhavenpublishing.com/978-1-5345-0125-6",{"$f":"Table1[[#This Row],['# of Books]]*Table1[[#This Row],[QTY]]","v":0},{"$f":"Table1[[#This Row],[QTY]]*Table1[[#This Row],[School & Library Price]]","v":0}]
[null,15,35,null,null,"Current Issues","Global Viewpoints","Tech Giants and Digital Domination","978-1-5345-0123-2",{"$f":"HYPERLINK(Table1[[#This Row],[Hyperlink]],\"Weblink\")","v":"Weblink"},"Greenhaven Publishing","Paperback Book",1,"2018","August 2017","Paperback","6.000 X 9.000","Edited by","Caleb Bissinger",null,null,null,null,"Z","1310L","Grade 10 - 12","Grade 9 - 12","Are tech giants the new robber barons of the digital age? Many governments and ordinary people are increasingly uncomfortable with the monopolistic might a small number of tech companies are amassing, the taxes they are avoiding, the data they are collecting, the privacy they are undermining, and the way they are functioning as “extraterritorial” powers beholden to no state and to no citizen or consumer. All sides of this super-charged debate are represented here, from those of the chieftains of Silicon Valley and EU regulators to FBI counterintelligence agents, scrappy open-source programmers, and ordinary computer users and digital consumers. Readers will understand the digital world we currently inhabit, the limits of its freedoms, and who owns and controls its future.","English",31.7,25.36,"338'.064--dc23","224 pp.","https://greenhavenpublishing.com/978-1-5345-0123-2",{"$f":"Table1[[#This Row],['# of Books]]*Table1[[#This Row],[QTY]]","v":0},{"$f":"Table1[[#This Row],[QTY]]*Table1[[#This Row],[School & Library Price]]","v":0}]
[null,15,35,null,null,"Current Issues","Global Viewpoints","Tech Giants and Digital Domination","978-1-5345-0126-3",{"$f":"HYPERLINK(Table1[[#This Row],[Hyperlink]],\"Weblink\")","v":"Weblink"},"Greenhaven Publishing","eBook",1,"2018","August 2017",null,null,"Edited by","Caleb Bissinger",null,null,null,null,"Z","1310L","Grade 10 - 12","Grade 9 - 12","Are tech giants the new robber barons of the digital age? Many governments and ordinary people are increasingly uncomfortable with the monopolistic might a small number of tech companies are amassing, the taxes they are avoiding, the data they are collecting, the privacy they are undermining, and the way they are functioning as “extraterritorial” powers beholden to no state and to no citizen or consumer. All sides of this super-charged debate are represented here, from those of the chieftains of Silicon Valley and EU regulators to FBI counterintelligence agents, scrappy open-source programmers, and ordinary computer users and digital consumers. Readers will understand the digital world we currently inhabit, the limits of its freedoms, and who owns and controls its future.","English",46.2,36.96,"338'.064--dc23","224 pp.","https://greenhavenpublishing.com/978-1-5345-0126-3",{"$f":"Table1[[#This Row],['# of Books]]*Table1[[#This Row],[QTY]]","v":0},{"$f":"Table1[[#This Row],[QTY]]*Table1[[#This Row],[School & Library Price]]","v":0}]
[null,16,null,null,null,"Biographies","People in the News","People in the News: Sets 1 – 4","978-1-5345-6856-3",{"$f":"HYPERLINK(Table1[[#This Row],[Hyperlink]],\"Weblink\")","v":"Weblink"},"Lucent Press","Library Set",23,"2020","January 2020","Library","6.000 X 9.000",null,null,null,null,null,null,null,null,"Grade 7","Grade 7 - 10","The riveting and inspiring stories of Barack Obama, LeBron James, Lady Gaga, and other noteworthy newsmakers hold important lessons for young adults about the value of hard work, growing from failure, and helping others. As readers explore each comprehensive biography, they are given a behind-the-scenes look at what it takes to build a legacy beyond 15 minutes of fame. Through enlightening main text, sidebars filled with fun facts, full-color photographs, and detailed timelines, readers are given the tools to look beyond the headlines and social media posts and appreciate the value of the true story of each person's life. Features include: Meticulously researched texts appeal to both long-time fans of these figures hungry to know more and new fans looking for an accessible introductory overview of their lives. Balanced and objective tone fosters the development of critical thinking skills as readers are encouraged to look for the truth when presented with a celebrity's public persona. Annotated quotes from a variety of trusted sources, including the subjects themselves, enhance the texts and provide starting points for further research.","English",906.2,724.96,null,"104 pp.","https://greenhavenpublishing.com/978-1-5345-6856-3",{"$f":"Table1[[#This Row],['# of Books]]*Table1[[#This Row],[QTY]]","v":0},{"$f":"Table1[[#This Row],[QTY]]*Table1[[#This Row],[School & Library Price]]","v":0}]
[null,16,60,null,null,"Biographies","People in the News","People in the News: Set 4","978-1-5345-6855-6",{"$f":"HYPERLINK(Table1[[#This Row],[Hyperlink]],\"Weblink\")","v":"Weblink"},"Lucent Press","Library Set",5,"2020","January 2020","Library","6.000 X 9.000",null,null,null,null,null,null,null,null,"Grade 7","Grade 7 - 10","Readers take a deep dive behind the headlines in this exciting look into the lives of some of today's most popular newsmakers. Covering a variety of interests from politics and pop music to acting and activism, these biographies appeal to a wide range of readers and feature fascinating facts that encourage young adults to look for the truth when examining a person's public image. These facts are presented through engaging main text, informative sidebars, and helpful timelines. Full-color photographs of some of the world's most famous faces including Barack Obama, Lady Gaga, and Justin Timberlake enhance this reading experience. Features include: Annotated quotes from these famous figures and those who know them best provide a first-person perspective and encourage further research. Comprehensive text fosters the development of critical thinking skills by giving readers a nuanced portrait of the person behind the persona. Detailed references to recent projects and hints at future endeavors provide readers with the most recent information available about each subject.","English",197,157.6,null,"104 pp.","https://greenhavenpublishing.com/978-1-5345-6855-6",{"$f":"Table1[[#This Row],['# of Books]]*Table1[[#This Row],[QTY]]","v":0},{"$f":"Table1[[#This Row],[QTY]]*Table1[[#This Row],[School & Library Price]]","v":0}]
[null,16,60,null,null,"Biographies","People in the News","People in the News (Spring 2020)","978-1-5345-6897-6",{"$f":"HYPERLINK(Table1[[#This Row],[Hyperlink]],\"Weblink\")","v":"Weblink"},"Lucent Press","Single Copy Set",5,"2020","January 2020","Paperback","6.000 X 9.000",null,null,null,null,null,null,null,null,"Grade 7","Grade 7 - 10","Readers take a deep dive behind the headlines in this exciting look into the lives of some of today's most popular newsmakers. Covering a variety of interests from politics and pop music to acting and activism, these biographies appeal to a wide range of readers and feature fascinating facts that encourage young adults to look for the truth when examining a person's public image. These facts are presented through engaging main text, informative sidebars, and helpful timelines. Full-color photographs of some of the world's most famous faces including Barack Obama, Lady Gaga, and Justin Timberlake enhance this reading experience. Features include: Annotated quotes from these famous figures and those who know them best provide a first-person perspective and encourage further research. Comprehensive text fosters the development of critical thinking skills by giving readers a nuanced portrait of the person behind the persona. Detailed references to recent projects and hints at future endeavors provide readers with the most recent information available about each subject.","English",99.95,84.95,null,"104 pp.","https://greenhavenpublishing.com/978-1-5345-6897-6",{"$f":"Table1[[#This Row],['# of Books]]*Table1[[#This Row],[QTY]]","v":0},{"$f":"Table1[[#This Row],[QTY]]*Table1[[#This Row],[School & Library Price]]","v":0}]
[null,16,60,null,null,"Biographies","People in the News","Barack Obama: A Life of Leadership","978-1-5345-6841-9",{"$f":"HYPERLINK(Table1[[#This Row],[Hyperlink]],\"Weblink\")","v":"Weblink"},"Lucent Press","Library Bound Book",1,"2020","January 2020","Library","6.000 X 9.000","Author","Rachael Morlock",null,null,null,null,"Z",null,"Grade 7","Grade 7 - 10","Before Barack Obama became the 44th president of the United States, he was a community organizer, civil rights lawyer, and senator. Readers trace his groundbreaking path to the White House and his unique position as the first African American president as they explore main text enhanced with annotated quotes from Obama and those closest to him. Full-color photographs, sidebars, and a comprehensive timeline chronicle the legacy of this American newsmaker. Much is known about who Obama was before and during his presidency, but what has his life been like since leaving the White House? Curious readers learn the answer.","English",39.4,31.52,"973.932092--dc23","104 pp.","https://greenhavenpublishing.com/978-1-5345-6841-9",{"$f":"Table1[[#This Row],['# of Books]]*Table1[[#This Row],[QTY]]","v":0},{"$f":"Table1[[#This Row],[QTY]]*Table1[[#This Row],[School & Library Price]]","v":0}]
[null,16,60,null,null,"Biographies","People in the News","Barack Obama: A Life of Leadership","978-1-5345-6840-2",{"$f":"HYPERLINK(Table1[[#This Row],[Hyperlink]],\"Weblink\")","v":"Weblink"},"Lucent Press","Paperback Book",1,"2020","January 2020","Paperback","6.000 X 9.000","Author","Rachael Morlock",null,null,null,null,"Z",null,"Grade 7","Grade 7 - 10","Before Barack Obama became the 44th president of the United States, he was a community organizer, civil rights lawyer, and senator. Readers trace his groundbreaking path to the White House and his unique position as the first African American president as they explore main text enhanced with annotated quotes from Obama and those closest to him. Full-color photographs, sidebars, and a comprehensive timeline chronicle the legacy of this American newsmaker. Much is known about who Obama was before and during his presidency, but what has his life been like since leaving the White House? Curious readers learn the answer.","English",19.989999999999998,16.989999999999998,"973.932092--dc23","104 pp.","https://greenhavenpublishing.com/978-1-5345-6840-2",{"$f":"Table1[[#This Row],['# of Books]]*Table1[[#This Row],[QTY]]","v":0},{"$f":"Table1[[#This Row],[QTY]]*Table1[[#This Row],[School & Library Price]]","v":0}]
[null,16,60,null,null,"Biographies","People in the News","Barack Obama: A Life of Leadership","978-1-5345-6842-6",{"$f":"HYPERLINK(Table1[[#This Row],[Hyperlink]],\"Weblink\")","v":"Weblink"},"Lucent Press","eBook",1,"2020","January 2020",null,null,"Author","Rachael Morlock",null,null,null,null,"Z",null,"Grade 7","Grade 7 - 10","Before Barack Obama became the 44th president of the United States, he was a community organizer, civil rights lawyer, and senator. Readers trace his groundbreaking path to the White House and his unique position as the first African American president as they explore main text enhanced with annotated quotes from Obama and those closest to him. Full-color photographs, sidebars, and a comprehensive timeline chronicle the legacy of this American newsmaker. Much is known about who Obama was before and during his presidency, but what has his life been like since leaving the White House? Curious readers learn the answer.","English",39.4,31.52,"973.932092--dc23","104 pp.","https://greenhavenpublishing.com/978-1-5345-6842-6",{"$f":"Table1[[#This Row],['# of Books]]*Table1[[#This Row],[QTY]]","v":0},{"$f":"Table1[[#This Row],[QTY]]*Table1[[#This Row],[School & Library Price]]","v":0}]
[null,16,60,null,null,"Biographies","People in the News","Jennifer Hudson: Singer, Actress, and Voice for Change","978-1-5345-6832-7",{"$f":"HYPERLINK(Table1[[#This Row],[Hyperlink]],\"Weblink\")","v":"Weblink"},"Lucent Press","Library Bound Book",1,"2020","January 2020","Library","6.000 X 9.000","Author","Edna McPhee",null,null,null,null,"Z",null,"Grade 7","Grade 7 - 10","Few celebrities have had a journey like Jennifer Hudson. Although Hudson rose to fame after her seventh-place finish on American Idol, it was her turn as Effie White in the blockbuster film Dreamgirls that put her on the map as a vocal powerhouse. In the years since, Hudson has suffered unimaginable tragedy and achieved dizzying success, both personally and professionally, and become a powerful voice for change. Readers follow the incredible peaks and valleys of Hudson's life with the help of fact-filled sidebars, a detailed timeline, full-color photographs, and annotated quotes from Hudson and those who know her best.","English",39.4,31.52,"782.42164092--dc23","104 pp.","https://greenhavenpublishing.com/978-1-5345-6832-7",{"$f":"Table1[[#This Row],['# of Books]]*Table1[[#This Row],[QTY]]","v":0},{"$f":"Table1[[#This Row],[QTY]]*Table1[[#This Row],[School & Library Price]]","v":0}]
[null,16,60,null,null,"Biographies","People in the News","Jennifer Hudson: Singer, Actress, and Voice for Change","978-1-5345-6831-0",{"$f":"HYPERLINK(Table1[[#This Row],[Hyperlink]],\"Weblink\")","v":"Weblink"},"Lucent Press","Paperback Book",1,"2020","January 2020","Paperback","6.000 X 9.000","Author","Edna McPhee",null,null,null,null,"Z",null,"Grade 7","Grade 7 - 10","Few celebrities have had a journey like Jennifer Hudson. Although Hudson rose to fame after her seventh-place finish on American Idol, it was her turn as Effie White in the blockbuster film Dreamgirls that put her on the map as a vocal powerhouse. In the years since, Hudson has suffered unimaginable tragedy and achieved dizzying success, both personally and professionally, and become a powerful voice for change. Readers follow the incredible peaks and valleys of Hudson's life with the help of fact-filled sidebars, a detailed timeline, full-color photographs, and annotated quotes from Hudson and those who know her best.","English",19.989999999999998,16.989999999999998,"782.42164092--dc23","104 pp.","https://greenhavenpublishing.com/978-1-5345-6831-0",{"$f":"Table1[[#This Row],['# of Books]]*Table1[[#This Row],[QTY]]","v":0},{"$f":"Table1[[#This Row],[QTY]]*Table1[[#This Row],[School & Library Price]]","v":0}]
[null,16,60,null,null,"Biographies","People in the News","Jennifer Hudson: Singer, Actress, and Voice for Change","978-1-5345-6833-4",{"$f":"HYPERLINK(Table1[[#This Row],[Hyperlink]],\"Weblink\")","v":"Weblink"},"Lucent Press","eBook",1,"2020","January 2020",null,null,"Author","Edna McPhee",null,null,null,null,"Z",null,"Grade 7","Grade 7 - 10","Few celebrities have had a journey like Jennifer Hudson. Although Hudson rose to fame after her seventh-place finish on American Idol, it was her turn as Effie White in the blockbuster film Dreamgirls that put her on the map as a vocal powerhouse. In the years since, Hudson has suffered unimaginable tragedy and achieved dizzying success, both personally and professionally, and become a powerful voice for change. Readers follow the incredible peaks and valleys of Hudson's life with the help of fact-filled sidebars, a detailed timeline, full-color photographs, and annotated quotes from Hudson and those who know her best.","English",39.4,31.52,"782.42164092--dc23","104 pp.","https://greenhavenpublishing.com/978-1-5345-6833-4",{"$f":"Table1[[#This Row],['# of Books]]*Table1[[#This Row],[QTY]]","v":0},{"$f":"Table1[[#This Row],[QTY]]*Table1[[#This Row],[School & Library Price]]","v":0}]
[null,16,60,null,null,"Biographies","People in the News","Justin Timberlake: Musical Megastar","978-1-5345-6838-9",{"$f":"HYPERLINK(Table1[[#This Row],[Hyperlink]],\"Weblink\")","v":"Weblink"},"Lucent Press","Library Bound Book",1,"2020","January 2020","Library","6.000 X 9.000","Author","Nicole Horning",null,null,null,null,"Z",null,"Grade 7","Grade 7 - 10","Justin Timberlake is one of the most famous names in pop music. Readers will gain a deeper appreciation for his music by exploring his beginning in The Mickey Mouse Club to his time as a member of the popular boy band *NSYNC and his decision to create music without the rest of *NSYNC. They will also discover the highlights of his successful film career and business ventures. Through detailed main text, annotated quotations, sidebars, and a timeline, Timberlake's professional and personal life is presented to readers in a way that takes them behind the scenes and the beyond the headlines.","English",39.4,31.52,"782.42164092--dc23","104 pp.","https://greenhavenpublishing.com/978-1-5345-6838-9",{"$f":"Table1[[#This Row],['# of Books]]*Table1[[#This Row],[QTY]]","v":0},{"$f":"Table1[[#This Row],[QTY]]*Table1[[#This Row],[School & Library Price]]","v":0}]
[null,16,60,null,null,"Biographies","People in the News","Justin Timberlake: Musical Megastar","978-1-5345-6837-2",{"$f":"HYPERLINK(Table1[[#This Row],[Hyperlink]],\"Weblink\")","v":"Weblink"},"Lucent Press","Paperback Book",1,"2020","January 2020","Paperback","6.000 X 9.000","Author","Nicole Horning",null,null,null,null,"Z",null,"Grade 7","Grade 7 - 10","Justin Timberlake is one of the most famous names in pop music. Readers will gain a deeper appreciation for his music by exploring his beginning in The Mickey Mouse Club to his time as a member of the popular boy band *NSYNC and his decision to create music without the rest of *NSYNC. They will also discover the highlights of his successful film career and business ventures. Through detailed main text, annotated quotations, sidebars, and a timeline, Timberlake's professional and personal life is presented to readers in a way that takes them behind the scenes and the beyond the headlines.","English",19.989999999999998,16.989999999999998,"782.42164092--dc23","104 pp.","https://greenhavenpublishing.com/978-1-5345-6837-2",{"$f":"Table1[[#This Row],['# of Books]]*Table1[[#This Row],[QTY]]","v":0},{"$f":"Table1[[#This Row],[QTY]]*Table1[[#This Row],[School & Library Price]]","v":0}]
[null,16,60,null,null,"Biographies","People in the News","Justin Timberlake: Musical Megastar","978-1-5345-6839-6",{"$f":"HYPERLINK(Table1[[#This Row],[Hyperlink]],\"Weblink\")","v":"Weblink"},"Lucent Press","eBook",1,"2020","January 2020",null,null,"Author","Nicole Horning",null,null,null,null,"Z",null,"Grade 7","Grade 7 - 10","Justin Timberlake is one of the most famous names in pop music. Readers will gain a deeper appreciation for his music by exploring his beginning in The Mickey Mouse Club to his time as a member of the popular boy band *NSYNC and his decision to create music without the rest of *NSYNC. They will also discover the highlights of his successful film career and business ventures. Through detailed main text, annotated quotations, sidebars, and a timeline, Timberlake's professional and personal life is presented to readers in a way that takes them behind the scenes and the beyond the headlines.","English",39.4,31.52,"782.42164092--dc23","104 pp.","https://greenhavenpublishing.com/978-1-5345-6839-6",{"$f":"Table1[[#This Row],['# of Books]]*Table1[[#This Row],[QTY]]","v":0},{"$f":"Table1[[#This Row],[QTY]]*Table1[[#This Row],[School & Library Price]]","v":0}]
[null,16,60,null,null,"Biographies","People in the News","Kelly Clarkson: Music and Television Trailblazer","978-1-5345-6835-8",{"$f":"HYPERLINK(Table1[[#This Row],[Hyperlink]],\"Weblink\")","v":"Weblink"},"Lucent Press","Library Bound Book",1,"2020","January 2020","Library","6.000 X 9.000","Author","Edna McPhee",null,null,null,null,"Z",null,"Grade 7","Grade 7 - 10","Kelly Clarkson may have risen to prominence as a star on a talent show, but she has proven herself to be more than just a reality star. Clarkson was the winner of the first season of American Idol, and she has been living up to that honor ever since. Readers learn about Clarkson's rise to fame, her fight for creative control, and her quest to use her voice as a force for good. Her journey from small-town, Texan girl to superstar is presented with the help of informative sidebars, a comprehensive timeline, annotated quotes, and full-color photographs.","English",39.4,31.52,"782.42164092--dc23","104 pp.","https://greenhavenpublishing.com/978-1-5345-6835-8",{"$f":"Table1[[#This Row],['# of Books]]*Table1[[#This Row],[QTY]]","v":0},{"$f":"Table1[[#This Row],[QTY]]*Table1[[#This Row],[School & Library Price]]","v":0}]
[null,16,60,null,null,"Biographies","People in the News","Kelly Clarkson: Music and Television Trailblazer","978-1-5345-6834-1",{"$f":"HYPERLINK(Table1[[#This Row],[Hyperlink]],\"Weblink\")","v":"Weblink"},"Lucent Press","Paperback Book",1,"2020","January 2020","Paperback","6.000 X 9.000","Author","Edna McPhee",null,null,null,null,"Z",null,"Grade 7","Grade 7 - 10","Kelly Clarkson may have risen to prominence as a star on a talent show, but she has proven herself to be more than just a reality star. Clarkson was the winner of the first season of American Idol, and she has been living up to that honor ever since. Readers learn about Clarkson's rise to fame, her fight for creative control, and her quest to use her voice as a force for good. Her journey from small-town, Texan girl to superstar is presented with the help of informative sidebars, a comprehensive timeline, annotated quotes, and full-color photographs.","English",19.989999999999998,16.989999999999998,"782.42164092--dc23","104 pp.","https://greenhavenpublishing.com/978-1-5345-6834-1",{"$f":"Table1[[#This Row],['# of Books]]*Table1[[#This Row],[QTY]]","v":0},{"$f":"Table1[[#This Row],[QTY]]*Table1[[#This Row],[School & Library Price]]","v":0}]
[null,16,60,null,null,"Biographies","People in the News","Kelly Clarkson: Music and Television Trailblazer","978-1-5345-6836-5",{"$f":"HYPERLINK(Table1[[#This Row],[Hyperlink]],\"Weblink\")","v":"Weblink"},"Lucent Press","eBook",1,"2020","January 2020",null,null,"Author","Edna McPhee",null,null,null,null,"Z",null,"Grade 7","Grade 7 - 10","Kelly Clarkson may have risen to prominence as a star on a talent show, but she has proven herself to be more than just a reality star. Clarkson was the winner of the first season of American Idol, and she has been living up to that honor ever since. Readers learn about Clarkson's rise to fame, her fight for creative control, and her quest to use her voice as a force for good. Her journey from small-town, Texan girl to superstar is presented with the help of informative sidebars, a comprehensive timeline, annotated quotes, and full-color photographs.","English",39.4,31.52,"782.42164092--dc23","104 pp.","https://greenhavenpublishing.com/978-1-5345-6836-5",{"$f":"Table1[[#This Row],['# of Books]]*Table1[[#This Row],[QTY]]","v":0},{"$f":"Table1[[#This Row],[QTY]]*Table1[[#This Row],[School & Library Price]]","v":0}]
[null,16,60,null,null,"Biographies","People in the News","Lady Gaga: Born to Be a Star","978-1-5345-6829-7",{"$f":"HYPERLINK(Table1[[#This Row],[Hyperlink]],\"Weblink\")","v":"Weblink"},"Lucent Press","Library Bound Book",1,"2020","January 2020","Library","6.000 X 9.000","Author","Nicole Horning",null,null,null,null,"Z",null,"Grade 7","Grade 7 - 10","Lady Gaga is an icon to her fans, and many of them look to her for inspiration in their daily lives. How did she become such an important figure in pop culture? Readers will discover the answer to this question as they explore her life from her rise to the top of the pop charts to her leading role in the critically acclaimed film A Star Is Born. Lady Gaga's life, career, and advocacy for mental health awareness are presented to readers with the help of informative sidebars, annotated quotations, and full-color photographs of her most iconic looks.","English",39.4,31.52,"782.42164092--dc23","104 pp.","https://greenhavenpublishing.com/978-1-5345-6829-7",{"$f":"Table1[[#This Row],['# of Books]]*Table1[[#This Row],[QTY]]","v":0},{"$f":"Table1[[#This Row],[QTY]]*Table1[[#This Row],[School & Library Price]]","v":0}]
[null,16,60,null,null,"Biographies","People in the News","Lady Gaga: Born to Be a Star","978-1-5345-6828-0",{"$f":"HYPERLINK(Table1[[#This Row],[Hyperlink]],\"Weblink\")","v":"Weblink"},"Lucent Press","Paperback Book",1,"2020","January 2020","Paperback","6.000 X 9.000","Author","Nicole Horning",null,null,null,null,"Z",null,"Grade 7","Grade 7 - 10","Lady Gaga is an icon to her fans, and many of them look to her for inspiration in their daily lives. How did she become such an important figure in pop culture? Readers will discover the answer to this question as they explore her life from her rise to the top of the pop charts to her leading role in the critically acclaimed film A Star Is Born. Lady Gaga's life, career, and advocacy for mental health awareness are presented to readers with the help of informative sidebars, annotated quotations, and full-color photographs of her most iconic looks.","English",19.989999999999998,16.989999999999998,"782.42164092--dc23","104 pp.","https://greenhavenpublishing.com/978-1-5345-6828-0",{"$f":"Table1[[#This Row],['# of Books]]*Table1[[#This Row],[QTY]]","v":0},{"$f":"Table1[[#This Row],[QTY]]*Table1[[#This Row],[School & Library Price]]","v":0}]
[null,16,60,null,null,"Biographies","People in the News","Lady Gaga: Born to Be a Star","978-1-5345-6830-3",{"$f":"HYPERLINK(Table1[[#This Row],[Hyperlink]],\"Weblink\")","v":"Weblink"},"Lucent Press","eBook",1,"2020","January 2020",null,null,"Author","Nicole Horning",null,null,null,null,"Z",null,"Grade 7","Grade 7 - 10","Lady Gaga is an icon to her fans, and many of them look to her for inspiration in their daily lives. How did she become such an important figure in pop culture? Readers will discover the answer to this question as they explore her life from her rise to the top of the pop charts to her leading role in the critically acclaimed film A Star Is Born. Lady Gaga's life, career, and advocacy for mental health awareness are presented to readers with the help of informative sidebars, annotated quotations, and full-color photographs of her most iconic looks.","English",39.4,31.52,"782.42164092--dc23","104 pp.","https://greenhavenpublishing.com/978-1-5345-6830-3",{"$f":"Table1[[#This Row],['# of Books]]*Table1[[#This Row],[QTY]]","v":0},{"$f":"Table1[[#This Row],[QTY]]*Table1[[#This Row],[School & Library Price]]","v":0}]
[null,null,60,null,null,"Biographies","People in the News","People in the News: Set 3","978-1-5345-6710-8",{"$f":"HYPERLINK(Table1[[#This Row],[Hyperlink]],\"Weblink\")","v":"Weblink"},"Lucent Press","Library Set",6,"2020","August 2019","Library","6.000 X 9.000",null,null,null,null,null,null,null,null,"Grade 7","Grade 7 - 10","The fascinating lives of some of the biggest names in entertainment, technology, and politics unfold for readers as they explore this inside look at today's newsmakers. Each comprehensive biography focuses on presenting the true stories behind news reports, magazine covers, and social media profiles. This is done through detailed main texts and informative sidebars that expand on important and interesting topics. Full-color photographs of each subject including Michelle Obama and Gal Gadot fill the pages. Helpful timelines summarize these inspiring lives in an accessible way. Features include: Annotated quotations that provide first-person perspectives and encourage further research. Balanced text and objective tone foster the development of critical thinking skills. High-interest subjects attract reluctant readers.","English",236.4,189.12,null,"104 pp.","https://greenhavenpublishing.com/978-1-5345-6710-8",{"$f":"Table1[[#This Row],['# of Books]]*Table1[[#This Row],[QTY]]","v":0},{"$f":"Table1[[#This Row],[QTY]]*Table1[[#This Row],[School & Library Price]]","v":0}]
[null,null,60,null,null,"Biographies","People in the News","People in the News (Fall 2019)","978-1-5345-6806-8",{"$f":"HYPERLINK(Table1[[#This Row],[Hyperlink]],\"Weblink\")","v":"Weblink"},"Lucent Press","Single Copy Set",6,"2020","August 2019","Paperback","6.000 X 9.000",null,null,null,null,null,null,null,null,"Grade 7","Grade 7 - 10","The fascinating lives of some of the biggest names in entertainment, technology, and politics unfold for readers as they explore this inside look at today's newsmakers. Each comprehensive biography focuses on presenting the true stories behind news reports, magazine covers, and social media profiles. This is done through detailed main texts and informative sidebars that expand on important and interesting topics. Full-color photographs of each subject including Michelle Obama and Gal Gadot fill the pages. Helpful timelines summarize these inspiring lives in an accessible way. Features include: Annotated quotations that provide first-person perspectives and encourage further research. Balanced text and objective tone foster the development of critical thinking skills. High-interest subjects attract reluctant readers.","English",119.94,101.94,null,"104 pp.","https://greenhavenpublishing.com/978-1-5345-6806-8",{"$f":"Table1[[#This Row],['# of Books]]*Table1[[#This Row],[QTY]]","v":0},{"$f":"Table1[[#This Row],[QTY]]*Table1[[#This Row],[School & Library Price]]","v":0}]
[null,17,60,null,null,"Biographies","People in the News","Beyoncé: The Reign of Queen Bey","978-1-5345-6706-1",{"$f":"HYPERLINK(Table1[[#This Row],[Hyperlink]],\"Weblink\")","v":"Weblink"},"Lucent Press","Library Bound Book",1,"2020","August 2019","Library","6.000 X 9.000","Author","Vanessa Oswald",null,null,null,null,"Z",null,"Grade 7","Grade 7 - 10","She is one of the most iconic performers of her generation. From her early days in Destiny's Child to her career as a highly successful solo artist, she has created numerous hit albums, starred in many films, and performed for legions of passionate fans who often refer to her as Queen Bey. This book examines Beyonce's relationship with her family, her career as a performer and businesswoman, and how she has channeled her fame into activism. Fact-filled sidebars, annotated quotations, and full-color photographs add extra insight to this fascinating biography.","English",39.4,31.52,"782.42164092--dc23","104 pp.","https://greenhavenpublishing.com/978-1-5345-6706-1",{"$f":"Table1[[#This Row],['# of Books]]*Table1[[#This Row],[QTY]]","v":0},{"$f":"Table1[[#This Row],[QTY]]*Table1[[#This Row],[School & Library Price]]","v":0}]
[null,17,60,null,null,"Biographies","People in the News","Beyoncé: The Reign of Queen Bey","978-1-5345-6771-9",{"$f":"HYPERLINK(Table1[[#This Row],[Hyperlink]],\"Weblink\")","v":"Weblink"},"Lucent Press","Paperback Book",1,"2020","August 2019","Paperback","6.000 X 9.000","Author","Vanessa Oswald",null,null,null,null,"Z",null,"Grade 7","Grade 7 - 10","She is one of the most iconic performers of her generation. From her early days in Destiny's Child to her career as a highly successful solo artist, she has created numerous hit albums, starred in many films, and performed for legions of passionate fans who often refer to her as Queen Bey. This book examines Beyonce's relationship with her family, her career as a performer and businesswoman, and how she has channeled her fame into activism. Fact-filled sidebars, annotated quotations, and full-color photographs add extra insight to this fascinating biography.","English",19.989999999999998,16.989999999999998,"782.42164092--dc23","104 pp.","https://greenhavenpublishing.com/978-1-5345-6771-9",{"$f":"Table1[[#This Row],['# of Books]]*Table1[[#This Row],[QTY]]","v":0},{"$f":"Table1[[#This Row],[QTY]]*Table1[[#This Row],[School & Library Price]]","v":0}]
[null,17,60,null,null,"Biographies","People in the News","Beyoncé: The Reign of Queen Bey","978-1-5345-6772-6",{"$f":"HYPERLINK(Table1[[#This Row],[Hyperlink]],\"Weblink\")","v":"Weblink"},"Lucent Press","eBook",1,"2020","August 2019",null,null,"Author","Vanessa Oswald",null,null,null,null,"Z",null,"Grade 7","Grade 7 - 10","She is one of the most iconic performers of her generation. From her early days in Destiny's Child to her career as a highly successful solo artist, she has created numerous hit albums, starred in many films, and performed for legions of passionate fans who often refer to her as Queen Bey. This book examines Beyonce's relationship with her family, her career as a performer and businesswoman, and how she has channeled her fame into activism. Fact-filled sidebars, annotated quotations, and full-color photographs add extra insight to this fascinating biography.","English",39.4,31.52,"782.42164092--dc23","104 pp.","https://greenhavenpublishing.com/978-1-5345-6772-6",{"$f":"Table1[[#This Row],['# of Books]]*Table1[[#This Row],[QTY]]","v":0},{"$f":"Table1[[#This Row],[QTY]]*Table1[[#This Row],[School & Library Price]]","v":0}]
[null,17,60,null,null,"Biographies","People in the News","Gal Gadot: A New Kind of Action Hero","978-1-5345-6709-2",{"$f":"HYPERLINK(Table1[[#This Row],[Hyperlink]],\"Weblink\")","v":"Weblink"},"Lucent Press","Library Bound Book",1,"2020","August 2019","Library","6.000 X 9.000","Author","Vanessa Oswald",null,null,null,null,"Z",null,"Grade 7","Grade 7 - 10","Gal Gadot has become a major star and role model after being cast as the superhero Wonder Woman in a film franchise that has inspired women around the world. The Israeli actress has earned her spot as one of Hollywood's biggest action stars. Readers explore her many fascinating life experiences, from being crowned Miss Israel to her time serving in the Israel Defense Forces. Readers will learn about her early modeling and acting career. Additional fun facts about Gadot are presented through detailed sidebars, while annotated quotations provide a unique perspective on her rise to fame, and full-color photographs create a vibrant learning experience.","English",39.4,31.52,"791.4302/8092--dc23","104 pp.","https://greenhavenpublishing.com/978-1-5345-6709-2",{"$f":"Table1[[#This Row],['# of Books]]*Table1[[#This Row],[QTY]]","v":0},{"$f":"Table1[[#This Row],[QTY]]*Table1[[#This Row],[School & Library Price]]","v":0}]
[null,17,60,null,null,"Biographies","People in the News","Gal Gadot: A New Kind of Action Hero","978-1-5345-6777-1",{"$f":"HYPERLINK(Table1[[#This Row],[Hyperlink]],\"Weblink\")","v":"Weblink"},"Lucent Press","Paperback Book",1,"2020","August 2019","Paperback","6.000 X 9.000","Author","Vanessa Oswald",null,null,null,null,"Z",null,"Grade 7","Grade 7 - 10","Gal Gadot has become a major star and role model after being cast as the superhero Wonder Woman in a film franchise that has inspired women around the world. The Israeli actress has earned her spot as one of Hollywood's biggest action stars. Readers explore her many fascinating life experiences, from being crowned Miss Israel to her time serving in the Israel Defense Forces. Readers will learn about her early modeling and acting career. Additional fun facts about Gadot are presented through detailed sidebars, while annotated quotations provide a unique perspective on her rise to fame, and full-color photographs create a vibrant learning experience.","English",19.989999999999998,16.989999999999998,"791.4302/8092--dc23","104 pp.","https://greenhavenpublishing.com/978-1-5345-6777-1",{"$f":"Table1[[#This Row],['# of Books]]*Table1[[#This Row],[QTY]]","v":0},{"$f":"Table1[[#This Row],[QTY]]*Table1[[#This Row],[School & Library Price]]","v":0}]
[null,17,60,null,null,"Biographies","People in the News","Gal Gadot: A New Kind of Action Hero","978-1-5345-6778-8",{"$f":"HYPERLINK(Table1[[#This Row],[Hyperlink]],\"Weblink\")","v":"Weblink"},"Lucent Press","eBook",1,"2020","August 2019",null,null,"Author","Vanessa Oswald",null,null,null,null,"Z",null,"Grade 7","Grade 7 - 10","Gal Gadot has become a major star and role model after being cast as the superhero Wonder Woman in a film franchise that has inspired women around the world. The Israeli actress has earned her spot as one of Hollywood's biggest action stars. Readers explore her many fascinating life experiences, from being crowned Miss Israel to her time serving in the Israel Defense Forces. Readers will learn about her early modeling and acting career. Additional fun facts about Gadot are presented through detailed sidebars, while annotated quotations provide a unique perspective on her rise to fame, and full-color photographs create a vibrant learning experience.","English",39.4,31.52,"791.4302/8092--dc23","104 pp.","https://greenhavenpublishing.com/978-1-5345-6778-8",{"$f":"Table1[[#This Row],['# of Books]]*Table1[[#This Row],[QTY]]","v":0},{"$f":"Table1[[#This Row],[QTY]]*Table1[[#This Row],[School & Library Price]]","v":0}]
[null,17,60,null,null,"Biographies","People in the News","Mark Zuckerberg: Shaping Social Media","978-1-5345-6707-8",{"$f":"HYPERLINK(Table1[[#This Row],[Hyperlink]],\"Weblink\")","v":"Weblink"},"Lucent Press","Library Bound Book",1,"2020","August 2019","Library","6.000 X 9.000","Author","Therese Harasymiw",null,null,null,null,"Z",null,"Grade 7","Grade 7 - 10","Mark Zuckerberg is perhaps best known as the creator of Facebook, but this tech mogul was working with computers long before the rise of social media. Today, the young CEO lives a relatively quiet life and has pledged to give much of his money to charity. In this captivating exploration of Zuckerberg's career and personal life, readers will find the real story of his inspiring, though and at times controversial rise to fortune and fame. Informational sidebars, full-color photographs, and annotated quotes give readers a behind-the-scenes look into what continuously drives Zuckerberg to achieve success.","English",39.4,31.52,"302.30285--dc23","104 pp.","https://greenhavenpublishing.com/978-1-5345-6707-8",{"$f":"Table1[[#This Row],['# of Books]]*Table1[[#This Row],[QTY]]","v":0},{"$f":"Table1[[#This Row],[QTY]]*Table1[[#This Row],[School & Library Price]]","v":0}]
[null,17,60,null,null,"Biographies","People in the News","Mark Zuckerberg: Shaping Social Media","978-1-5345-6773-3",{"$f":"HYPERLINK(Table1[[#This Row],[Hyperlink]],\"Weblink\")","v":"Weblink"},"Lucent Press","Paperback Book",1,"2020","August 2019","Paperback","6.000 X 9.000","Author","Therese Harasymiw",null,null,null,null,"Z",null,"Grade 7","Grade 7 - 10","Mark Zuckerberg is perhaps best known as the creator of Facebook, but this tech mogul was working with computers long before the rise of social media. Today, the young CEO lives a relatively quiet life and has pledged to give much of his money to charity. In this captivating exploration of Zuckerberg's career and personal life, readers will find the real story of his inspiring, though and at times controversial rise to fortune and fame. Informational sidebars, full-color photographs, and annotated quotes give readers a behind-the-scenes look into what continuously drives Zuckerberg to achieve success.","English",19.989999999999998,16.989999999999998,"302.30285--dc23","104 pp.","https://greenhavenpublishing.com/978-1-5345-6773-3",{"$f":"Table1[[#This Row],['# of Books]]*Table1[[#This Row],[QTY]]","v":0},{"$f":"Table1[[#This Row],[QTY]]*Table1[[#This Row],[School & Library Price]]","v":0}]
[null,17,60,null,null,"Biographies","People in the News","Mark Zuckerberg: Shaping Social Media","978-1-5345-6774-0",{"$f":"HYPERLINK(Table1[[#This Row],[Hyperlink]],\"Weblink\")","v":"Weblink"},"Lucent Press","eBook",1,"2020","August 2019",null,null,"Author","Therese Harasymiw",null,null,null,null,"Z",null,"Grade 7","Grade 7 - 10","Mark Zuckerberg is perhaps best known as the creator of Facebook, but this tech mogul was working with computers long before the rise of social media. Today, the young CEO lives a relatively quiet life and has pledged to give much of his money to charity. In this captivating exploration of Zuckerberg's career and personal life, readers will find the real story of his inspiring, though and at times controversial rise to fortune and fame. Informational sidebars, full-color photographs, and annotated quotes give readers a behind-the-scenes look into what continuously drives Zuckerberg to achieve success.","English",39.4,31.52,"302.30285--dc23","104 pp.","https://greenhavenpublishing.com/978-1-5345-6774-0",{"$f":"Table1[[#This Row],['# of Books]]*Table1[[#This Row],[QTY]]","v":0},{"$f":"Table1[[#This Row],[QTY]]*Table1[[#This Row],[School & Library Price]]","v":0}]
[null,17,60,null,null,"Biographies","People in the News","Michelle Obama: First Lady, Author, and Activist","978-1-5345-6708-5",{"$f":"HYPERLINK(Table1[[#This Row],[Hyperlink]],\"Weblink\")","v":"Weblink"},"Lucent Press","Library Bound Book",1,"2020","August 2019","Library","6.000 X 9.000","Author","Kristen Rajczak Nelson",null,null,null,null,"Z",null,"Grade 7","Grade 7 - 10","In 2011, Michelle Obama said, \"There are still many causes worth sacrificing for, so much history yet to be made.\" Since leaving the White House, she has continued to live by those words. Readers explore the most current examples of her activism, but they also take a look into her past to see how her impressive educational and professional background made her a unique and historic First Lady. Detailed sidebars, vibrant photographs, and annotated quotes allow readers to trace her journey from her childhood in Chicago to her time in the White House and the release of her highly-anticipated memoir.","English",39.4,31.52,"973.932092--dc23","104 pp.","https://greenhavenpublishing.com/978-1-5345-6708-5",{"$f":"Table1[[#This Row],['# of Books]]*Table1[[#This Row],[QTY]]","v":0},{"$f":"Table1[[#This Row],[QTY]]*Table1[[#This Row],[School & Library Price]]","v":0}]
[null,17,60,null,null,"Biographies","People in the News","Michelle Obama: First Lady, Author, and Activist","978-1-5345-6775-7",{"$f":"HYPERLINK(Table1[[#This Row],[Hyperlink]],\"Weblink\")","v":"Weblink"},"Lucent Press","Paperback Book",1,"2020","August 2019","Paperback","6.000 X 9.000","Author","Kristen Rajczak Nelson",null,null,null,null,"Z",null,"Grade 7","Grade 7 - 10","In 2011, Michelle Obama said, \"There are still many causes worth sacrificing for, so much history yet to be made.\" Since leaving the White House, she has continued to live by those words. Readers explore the most current examples of her activism, but they also take a look into her past to see how her impressive educational and professional background made her a unique and historic First Lady. Detailed sidebars, vibrant photographs, and annotated quotes allow readers to trace her journey from her childhood in Chicago to her time in the White House and the release of her highly-anticipated memoir.","English",19.989999999999998,16.989999999999998,"973.932092--dc23","104 pp.","https://greenhavenpublishing.com/978-1-5345-6775-7",{"$f":"Table1[[#This Row],['# of Books]]*Table1[[#This Row],[QTY]]","v":0},{"$f":"Table1[[#This Row],[QTY]]*Table1[[#This Row],[School & Library Price]]","v":0}]
[null,17,60,null,null,"Biographies","People in the News","Michelle Obama: First Lady, Author, and Activist","978-1-5345-6776-4",{"$f":"HYPERLINK(Table1[[#This Row],[Hyperlink]],\"Weblink\")","v":"Weblink"},"Lucent Press","eBook",1,"2020","August 2019",null,null,"Author","Kristen Rajczak Nelson",null,null,null,null,"Z",null,"Grade 7","Grade 7 - 10","In 2011, Michelle Obama said, \"There are still many causes worth sacrificing for, so much history yet to be made.\" Since leaving the White House, she has continued to live by those words. Readers explore the most current examples of her activism, but they also take a look into her past to see how her impressive educational and professional background made her a unique and historic First Lady. Detailed sidebars, vibrant photographs, and annotated quotes allow readers to trace her journey from her childhood in Chicago to her time in the White House and the release of her highly-anticipated memoir.","English",39.4,31.52,"973.932092--dc23","104 pp.","https://greenhavenpublishing.com/978-1-5345-6776-4",{"$f":"Table1[[#This Row],['# of Books]]*Table1[[#This Row],[QTY]]","v":0},{"$f":"Table1[[#This Row],[QTY]]*Table1[[#This Row],[School & Library Price]]","v":0}]
[null,17,60,null,null,"Biographies","People in the News","Prince Harry: Royal Rule-Breaker","978-1-5345-6704-7",{"$f":"HYPERLINK(Table1[[#This Row],[Hyperlink]],\"Weblink\")","v":"Weblink"},"Lucent Press","Library Bound Book",1,"2020","August 2019","Library","6.000 X 9.000","Author","Elizabeth Krajnik",null,null,null,null,"Z",null,"Grade 7","Grade 7 - 10","Prince Harry's life has taken him far from the traditional path many members of the British royal family followed before him. From the death of his mother at a young age and his tumultuous early adult years to his military service and charity work, his journey from precocious prince to activist has inspired many people around the world. Readers explore his life story, including his marriage to American actress Meghan Markle. Detailed main text, fact-filled sidebars, annotated quotes, and vibrant photographs offer a compelling biographical treatment. How did Prince Harry become known as a royal rule-breaker? Readers will enjoy finding the answer.","English",39.4,31.52,"941.086092--dc23","104 pp.","https://greenhavenpublishing.com/978-1-5345-6704-7",{"$f":"Table1[[#This Row],['# of Books]]*Table1[[#This Row],[QTY]]","v":0},{"$f":"Table1[[#This Row],[QTY]]*Table1[[#This Row],[School & Library Price]]","v":0}]
[null,17,60,null,null,"Biographies","People in the News","Prince Harry: Royal Rule-Breaker","978-1-5345-6767-2",{"$f":"HYPERLINK(Table1[[#This Row],[Hyperlink]],\"Weblink\")","v":"Weblink"},"Lucent Press","Paperback Book",1,"2020","August 2019","Paperback","6.000 X 9.000","Author","Elizabeth Krajnik",null,null,null,null,"Z",null,"Grade 7","Grade 7 - 10","Prince Harry's life has taken him far from the traditional path many members of the British royal family followed before him. From the death of his mother at a young age and his tumultuous early adult years to his military service and charity work, his journey from precocious prince to activist has inspired many people around the world. Readers explore his life story, including his marriage to American actress Meghan Markle. Detailed main text, fact-filled sidebars, annotated quotes, and vibrant photographs offer a compelling biographical treatment. How did Prince Harry become known as a royal rule-breaker? Readers will enjoy finding the answer.","English",19.989999999999998,16.989999999999998,"941.086092--dc23","104 pp.","https://greenhavenpublishing.com/978-1-5345-6767-2",{"$f":"Table1[[#This Row],['# of Books]]*Table1[[#This Row],[QTY]]","v":0},{"$f":"Table1[[#This Row],[QTY]]*Table1[[#This Row],[School & Library Price]]","v":0}]
[null,17,60,null,null,"Biographies","People in the News","Prince Harry: Royal Rule-Breaker","978-1-5345-6768-9",{"$f":"HYPERLINK(Table1[[#This Row],[Hyperlink]],\"Weblink\")","v":"Weblink"},"Lucent Press","eBook",1,"2020","August 2019",null,null,"Author","Elizabeth Krajnik",null,null,null,null,"Z",null,"Grade 7","Grade 7 - 10","Prince Harry's life has taken him far from the traditional path many members of the British royal family followed before him. From the death of his mother at a young age and his tumultuous early adult years to his military service and charity work, his journey from precocious prince to activist has inspired many people around the world. Readers explore his life story, including his marriage to American actress Meghan Markle. Detailed main text, fact-filled sidebars, annotated quotes, and vibrant photographs offer a compelling biographical treatment. How did Prince Harry become known as a royal rule-breaker? Readers will enjoy finding the answer.","English",39.4,31.52,"941.086092--dc23","104 pp.","https://greenhavenpublishing.com/978-1-5345-6768-9",{"$f":"Table1[[#This Row],['# of Books]]*Table1[[#This Row],[QTY]]","v":0},{"$f":"Table1[[#This Row],[QTY]]*Table1[[#This Row],[School & Library Price]]","v":0}]
[null,17,60,null,null,"Biographies","People in the News","Robert Downey Jr.: Superhero Superstar","978-1-5345-6705-4",{"$f":"HYPERLINK(Table1[[#This Row],[Hyperlink]],\"Weblink\")","v":"Weblink"},"Lucent Press","Library Bound Book",1,"2020","August 2019","Library","6.000 X 9.000","Author","Nicole Horning",null,null,null,null,"Z",null,"Grade 7","Grade 7 - 10","Robert Downey Jr. is one of the most famous and influential actors in Hollywood. Since 2008, he has been at the center of the Marvel Cinematic Universe, but the road to his role as Iron Man was difficult. Readers discover how he has become an inspiration to those who are struggling with personal demons, especially substance abuse, and how he overcame those struggles to return to the spotlight. Through sidebars, annotated quotations, and full-color photographs, this book allows readers to gain a deeper appreciation for Robert Downey Jr.'s acting skills and personal resilience.","English",39.4,31.52,"791.4302'8092--dc23","104 pp.","https://greenhavenpublishing.com/978-1-5345-6705-4",{"$f":"Table1[[#This Row],['# of Books]]*Table1[[#This Row],[QTY]]","v":0},{"$f":"Table1[[#This Row],[QTY]]*Table1[[#This Row],[School & Library Price]]","v":0}]
[null,17,60,null,null,"Biographies","People in the News","Robert Downey Jr.: Superhero Superstar","978-1-5345-6769-6",{"$f":"HYPERLINK(Table1[[#This Row],[Hyperlink]],\"Weblink\")","v":"Weblink"},"Lucent Press","Paperback Book",1,"2020","August 2019","Paperback","6.000 X 9.000","Author","Nicole Horning",null,null,null,null,"Z",null,"Grade 7","Grade 7 - 10","Robert Downey Jr. is one of the most famous and influential actors in Hollywood. Since 2008, he has been at the center of the Marvel Cinematic Universe, but the road to his role as Iron Man was difficult. Readers discover how he has become an inspiration to those who are struggling with personal demons, especially substance abuse, and how he overcame those struggles to return to the spotlight. Through sidebars, annotated quotations, and full-color photographs, this book allows readers to gain a deeper appreciation for Robert Downey Jr.'s acting skills and personal resilience.","English",19.989999999999998,16.989999999999998,"791.4302'8092--dc23","104 pp.","https://greenhavenpublishing.com/978-1-5345-6769-6",{"$f":"Table1[[#This Row],['# of Books]]*Table1[[#This Row],[QTY]]","v":0},{"$f":"Table1[[#This Row],[QTY]]*Table1[[#This Row],[School & Library Price]]","v":0}]
[null,17,60,null,null,"Biographies","People in the News","Robert Downey Jr.: Superhero Superstar","978-1-5345-6770-2",{"$f":"HYPERLINK(Table1[[#This Row],[Hyperlink]],\"Weblink\")","v":"Weblink"},"Lucent Press","eBook",1,"2020","August 2019",null,null,"Author","Nicole Horning",null,null,null,null,"Z",null,"Grade 7","Grade 7 - 10","Robert Downey Jr. is one of the most famous and influential actors in Hollywood. Since 2008, he has been at the center of the Marvel Cinematic Universe, but the road to his role as Iron Man was difficult. Readers discover how he has become an inspiration to those who are struggling with personal demons, especially substance abuse, and how he overcame those struggles to return to the spotlight. Through sidebars, annotated quotations, and full-color photographs, this book allows readers to gain a deeper appreciation for Robert Downey Jr.'s acting skills and personal resilience.","English",39.4,31.52,"791.4302'8092--dc23","104 pp.","https://greenhavenpublishing.com/978-1-5345-6770-2",{"$f":"Table1[[#This Row],['# of Books]]*Table1[[#This Row],[QTY]]","v":0},{"$f":"Table1[[#This Row],[QTY]]*Table1[[#This Row],[School & Library Price]]","v":0}]
[null,17,61,null,null,"Biographies","People in the News","Dwayne Johnson: The Rock’s Rise to Fame","978-1-5345-6329-2",{"$f":"HYPERLINK(Table1[[#This Row],[Hyperlink]],\"Weblink\")","v":"Weblink"},"Lucent Press","Library Bound Book",1,"2019","August 2018","Library","6.000 X 9.000","Author","Ryan Nagelhout",null,null,null,null,"Z","1100L","Grade 7","Grade 7 - 10","Dwayne Johnson was a successful college football player and a superstar wrestler known as The Rock before becoming one of Hollywood's biggest movie stars. The story behind his rise to fame is sure to captivate readers and inspire them as they explore detailed main text and sidebars that are supplemented with annotated quotes from Johnson and those who know him best. A detailed timeline of his personal life and professional career is also included, along with vibrant photographs from the football field, the wrestling ring, and the red carpet.","English",39.4,31.52,"791.4302/8092--dc23","104 pp.","https://greenhavenpublishing.com/978-1-5345-6329-2",{"$f":"Table1[[#This Row],['# of Books]]*Table1[[#This Row],[QTY]]","v":0},{"$f":"Table1[[#This Row],[QTY]]*Table1[[#This Row],[School & Library Price]]","v":0}]
[null,17,61,null,null,"Biographies","People in the News","Dwayne Johnson: The Rock’s Rise to Fame","978-1-5345-6331-5",{"$f":"HYPERLINK(Table1[[#This Row],[Hyperlink]],\"Weblink\")","v":"Weblink"},"Lucent Press","Paperback Book",1,"2019","August 2018","Paperback","6.000 X 9.000","Author","Ryan Nagelhout",null,null,null,null,"Z","1100L","Grade 7","Grade 7 - 10","Dwayne Johnson was a successful college football player and a superstar wrestler known as The Rock before becoming one of Hollywood's biggest movie stars. The story behind his rise to fame is sure to captivate readers and inspire them as they explore detailed main text and sidebars that are supplemented with annotated quotes from Johnson and those who know him best. A detailed timeline of his personal life and professional career is also included, along with vibrant photographs from the football field, the wrestling ring, and the red carpet.","English",19.989999999999998,16.989999999999998,"791.4302/8092--dc23","104 pp.","https://greenhavenpublishing.com/978-1-5345-6331-5",{"$f":"Table1[[#This Row],['# of Books]]*Table1[[#This Row],[QTY]]","v":0},{"$f":"Table1[[#This Row],[QTY]]*Table1[[#This Row],[School & Library Price]]","v":0}]
[null,17,61,null,null,"Biographies","People in the News","Dwayne Johnson: The Rock’s Rise to Fame","978-1-5345-6330-8",{"$f":"HYPERLINK(Table1[[#This Row],[Hyperlink]],\"Weblink\")","v":"Weblink"},"Lucent Press","eBook",1,"2019","August 2018",null,null,"Author","Ryan Nagelhout",null,null,null,null,"Z","1100L","Grade 7","Grade 7 - 10","Dwayne Johnson was a successful college football player and a superstar wrestler known as The Rock before becoming one of Hollywood's biggest movie stars. The story behind his rise to fame is sure to captivate readers and inspire them as they explore detailed main text and sidebars that are supplemented with annotated quotes from Johnson and those who know him best. A detailed timeline of his personal life and professional career is also included, along with vibrant photographs from the football field, the wrestling ring, and the red carpet.","English",39.4,31.52,"791.4302/8092--dc23","104 pp.","https://greenhavenpublishing.com/978-1-5345-6330-8",{"$f":"Table1[[#This Row],['# of Books]]*Table1[[#This Row],[QTY]]","v":0},{"$f":"Table1[[#This Row],[QTY]]*Table1[[#This Row],[School & Library Price]]","v":0}]
[null,17,61,null,null,"Biographies","People in the News","Ellen DeGeneres: Groundbreaking Television Star","978-1-5345-6332-2",{"$f":"HYPERLINK(Table1[[#This Row],[Hyperlink]],\"Weblink\")","v":"Weblink"},"Lucent Press","Library Bound Book",1,"2019","August 2018","Library","6.000 X 9.000","Author","Sophie Washburne",null,null,null,null,"Z",null,"Grade 7","Grade 7 - 10","Beloved comedian and daytime talk show host Ellen DeGeneres has received much recognition for her work, including numerous Emmy and People's Choice awards. Her groundbreaking choice to be open about her sexuality at a time when being gay was widely condemned and her LGBT+ advocacy work since then also earned her the Presidential Medal of Freedom in 2016. Through detailed main text enhanced by engaging sidebars, full-color photographs, and a thorough timeline, readers will be inspired by Ellen's impact, both on Hollywood and society as a whole.","English",39.4,31.52,"792.702'8092--dc23","104 pp.","https://greenhavenpublishing.com/978-1-5345-6332-2",{"$f":"Table1[[#This Row],['# of Books]]*Table1[[#This Row],[QTY]]","v":0},{"$f":"Table1[[#This Row],[QTY]]*Table1[[#This Row],[School & Library Price]]","v":0}]
[null,17,61,null,null,"Biographies","People in the News","Ellen DeGeneres: Groundbreaking Television Star","978-1-5345-6334-6",{"$f":"HYPERLINK(Table1[[#This Row],[Hyperlink]],\"Weblink\")","v":"Weblink"},"Lucent Press","Paperback Book",1,"2019","August 2018","Paperback","6.000 X 9.000","Author","Sophie Washburne",null,null,null,null,"Z",null,"Grade 7","Grade 7 - 10","Beloved comedian and daytime talk show host Ellen DeGeneres has received much recognition for her work, including numerous Emmy and People's Choice awards. Her groundbreaking choice to be open about her sexuality at a time when being gay was widely condemned and her LGBT+ advocacy work since then also earned her the Presidential Medal of Freedom in 2016. Through detailed main text enhanced by engaging sidebars, full-color photographs, and a thorough timeline, readers will be inspired by Ellen's impact, both on Hollywood and society as a whole.","English",19.989999999999998,16.989999999999998,"792.702'8092--dc23","104 pp.","https://greenhavenpublishing.com/978-1-5345-6334-6",{"$f":"Table1[[#This Row],['# of Books]]*Table1[[#This Row],[QTY]]","v":0},{"$f":"Table1[[#This Row],[QTY]]*Table1[[#This Row],[School & Library Price]]","v":0}]
[null,17,61,null,null,"Biographies","People in the News","Ellen DeGeneres: Groundbreaking Television Star","978-1-5345-6333-9",{"$f":"HYPERLINK(Table1[[#This Row],[Hyperlink]],\"Weblink\")","v":"Weblink"},"Lucent Press","eBook",1,"2019","August 2018",null,null,"Author","Sophie Washburne",null,null,null,null,"Z",null,"Grade 7","Grade 7 - 10","Beloved comedian and daytime talk show host Ellen DeGeneres has received much recognition for her work, including numerous Emmy and People's Choice awards. Her groundbreaking choice to be open about her sexuality at a time when being gay was widely condemned and her LGBT+ advocacy work since then also earned her the Presidential Medal of Freedom in 2016. Through detailed main text enhanced by engaging sidebars, full-color photographs, and a thorough timeline, readers will be inspired by Ellen's impact, both on Hollywood and society as a whole.","English",39.4,31.52,"792.702'8092--dc23","104 pp.","https://greenhavenpublishing.com/978-1-5345-6333-9",{"$f":"Table1[[#This Row],['# of Books]]*Table1[[#This Row],[QTY]]","v":0},{"$f":"Table1[[#This Row],[QTY]]*Table1[[#This Row],[School & Library Price]]","v":0}]
[null,17,62,null,null,"Biographies","People in the News","JAY-Z: Building a Hip-Hop Empire","978-1-5345-6335-3",{"$f":"HYPERLINK(Table1[[#This Row],[Hyperlink]],\"Weblink\")","v":"Weblink"},"Lucent Press","Library Bound Book",1,"2019","August 2018","Library","6.000 X 9.000","Author","Vanessa Oswald",null,null,null,null,"Z","1160L","Grade 7","Grade 7 - 10","Shawn Corey Carter, known to most of the world as JAY-Z, has made a name for himself as one of the most successful artists in hip-hop. Not only has he achieved this success with rapping, but also as an entrepreneur. Having grown up in a housing project in Brooklyn, his story is a tale of struggles and successes. Engaging main text, full-color photographs, and a detailed timeline give readers an inside look into this rap star's exciting life. Annotated quotes from JAY-Z and others provide first-person perspectives on his rise to the top of the worlds of hip-hop and business.","English",39.4,31.52,"782.421649092--dc23","104 pp.","https://greenhavenpublishing.com/978-1-5345-6335-3",{"$f":"Table1[[#This Row],['# of Books]]*Table1[[#This Row],[QTY]]","v":0},{"$f":"Table1[[#This Row],[QTY]]*Table1[[#This Row],[School & Library Price]]","v":0}]
[null,17,62,null,null,"Biographies","People in the News","JAY-Z: Building a Hip-Hop Empire","978-1-5345-6337-7",{"$f":"HYPERLINK(Table1[[#This Row],[Hyperlink]],\"Weblink\")","v":"Weblink"},"Lucent Press","Paperback Book",1,"2019","August 2018","Paperback","6.000 X 9.000","Author","Vanessa Oswald",null,null,null,null,"Z","1160L","Grade 7","Grade 7 - 10","Shawn Corey Carter, known to most of the world as JAY-Z, has made a name for himself as one of the most successful artists in hip-hop. Not only has he achieved this success with rapping, but also as an entrepreneur. Having grown up in a housing project in Brooklyn, his story is a tale of struggles and successes. Engaging main text, full-color photographs, and a detailed timeline give readers an inside look into this rap star's exciting life. Annotated quotes from JAY-Z and others provide first-person perspectives on his rise to the top of the worlds of hip-hop and business.","English",19.989999999999998,16.989999999999998,"782.421649092--dc23","104 pp.","https://greenhavenpublishing.com/978-1-5345-6337-7",{"$f":"Table1[[#This Row],['# of Books]]*Table1[[#This Row],[QTY]]","v":0},{"$f":"Table1[[#This Row],[QTY]]*Table1[[#This Row],[School & Library Price]]","v":0}]
[null,17,62,null,null,"Biographies","People in the News","JAY-Z: Building a Hip-Hop Empire","978-1-5345-6336-0",{"$f":"HYPERLINK(Table1[[#This Row],[Hyperlink]],\"Weblink\")","v":"Weblink"},"Lucent Press","eBook",1,"2019","August 2018",null,null,"Author","Vanessa Oswald",null,null,null,null,"Z","1160L","Grade 7","Grade 7 - 10","Shawn Corey Carter, known to most of the world as JAY-Z, has made a name for himself as one of the most successful artists in hip-hop. Not only has he achieved this success with rapping, but also as an entrepreneur. Having grown up in a housing project in Brooklyn, his story is a tale of struggles and successes. Engaging main text, full-color photographs, and a detailed timeline give readers an inside look into this rap star's exciting life. Annotated quotes from JAY-Z and others provide first-person perspectives on his rise to the top of the worlds of hip-hop and business.","English",39.4,31.52,"782.421649092--dc23","104 pp.","https://greenhavenpublishing.com/978-1-5345-6336-0",{"$f":"Table1[[#This Row],['# of Books]]*Table1[[#This Row],[QTY]]","v":0},{"$f":"Table1[[#This Row],[QTY]]*Table1[[#This Row],[School & Library Price]]","v":0}]
[null,17,62,null,null,"Biographies","People in the News","Katy Perry: Purposeful Pop Icon","978-1-5345-6324-7",{"$f":"HYPERLINK(Table1[[#This Row],[Hyperlink]],\"Weblink\")","v":"Weblink"},"Lucent Press","Library Bound Book",1,"2019","August 2018","Library","6.000 X 9.000","Author","Vanessa Oswald",null,null,null,null,"Z","1120L","Grade 7","Grade 7 - 10","For the past decade, Katy Perry has been a visible part of the pop music scene. However, fans may be surprised to learn that despite the themes of some of Perry's early songs, she grew up in a conservative family. This and other fun facts about Perry's life are presented to readers alongside annotated quotes from the famous singer and those who know her best. With the release of her album Witness, Perry has shifted her focus to songs that explore deeper emotions and issues. Full-color photographs and a detailed timeline give readers a glimpse at the real Katy Perry.","English",39.4,31.52,"782.42164092--dc23","104 pp.","https://greenhavenpublishing.com/978-1-5345-6324-7",{"$f":"Table1[[#This Row],['# of Books]]*Table1[[#This Row],[QTY]]","v":0},{"$f":"Table1[[#This Row],[QTY]]*Table1[[#This Row],[School & Library Price]]","v":0}]
[null,17,62,null,null,"Biographies","People in the News","Katy Perry: Purposeful Pop Icon","978-1-5345-6323-0",{"$f":"HYPERLINK(Table1[[#This Row],[Hyperlink]],\"Weblink\")","v":"Weblink"},"Lucent Press","Paperback Book",1,"2019","August 2018","Paperback","6.000 X 9.000","Author","Vanessa Oswald",null,null,null,null,"Z","1120L","Grade 7","Grade 7 - 10","For the past decade, Katy Perry has been a visible part of the pop music scene. However, fans may be surprised to learn that despite the themes of some of Perry's early songs, she grew up in a conservative family. This and other fun facts about Perry's life are presented to readers alongside annotated quotes from the famous singer and those who know her best. With the release of her album Witness, Perry has shifted her focus to songs that explore deeper emotions and issues. Full-color photographs and a detailed timeline give readers a glimpse at the real Katy Perry.","English",19.989999999999998,16.989999999999998,"782.42164092--dc23","104 pp.","https://greenhavenpublishing.com/978-1-5345-6323-0",{"$f":"Table1[[#This Row],['# of Books]]*Table1[[#This Row],[QTY]]","v":0},{"$f":"Table1[[#This Row],[QTY]]*Table1[[#This Row],[School & Library Price]]","v":0}]
[null,17,62,null,null,"Biographies","People in the News","Katy Perry: Purposeful Pop Icon","978-1-5345-6325-4",{"$f":"HYPERLINK(Table1[[#This Row],[Hyperlink]],\"Weblink\")","v":"Weblink"},"Lucent Press","eBook",1,"2019","August 2018",null,null,"Author","Vanessa Oswald",null,null,null,null,"Z","1120L","Grade 7","Grade 7 - 10","For the past decade, Katy Perry has been a visible part of the pop music scene. However, fans may be surprised to learn that despite the themes of some of Perry's early songs, she grew up in a conservative family. This and other fun facts about Perry's life are presented to readers alongside annotated quotes from the famous singer and those who know her best. With the release of her album Witness, Perry has shifted her focus to songs that explore deeper emotions and issues. Full-color photographs and a detailed timeline give readers a glimpse at the real Katy Perry.","English",39.4,31.52,"782.42164092--dc23","104 pp.","https://greenhavenpublishing.com/978-1-5345-6325-4",{"$f":"Table1[[#This Row],['# of Books]]*Table1[[#This Row],[QTY]]","v":0},{"$f":"Table1[[#This Row],[QTY]]*Table1[[#This Row],[School & Library Price]]","v":0}]
[null,17,62,null,null,"Biographies","People in the News","Lin-Manuel Miranda: From Broadway to the Big Screen","978-1-5345-6338-4",{"$f":"HYPERLINK(Table1[[#This Row],[Hyperlink]],\"Weblink\")","v":"Weblink"},"Lucent Press","Library Bound Book",1,"2019","August 2018","Library","6.000 X 9.000","Author","Kristen Rajczak Nelson",null,null,null,null,"Z","1120L","Grade 7","Grade 7 - 10","Lin-Manuel Miranda is one of the most accomplished entertainers working today. From his Broadway hit Hamilton to Oscar-nominated songs from Moana, Miranda is fast becoming a household name. This volume, featuring annotated quotes, vibrant photographs, sidebars, and a detailed timeline, follows Miranda from his early life in New York to the stage and screen work that has earned him such great acclaim. Including stories from his childhood, the writing process of In the Heights and Hamilton, and his time working on Mary Poppins Returns, this book will spark any reader to take a shot at their dreams.","English",39.4,31.52,"792.02'8092--dc23","104 pp.","https://greenhavenpublishing.com/978-1-5345-6338-4",{"$f":"Table1[[#This Row],['# of Books]]*Table1[[#This Row],[QTY]]","v":0},{"$f":"Table1[[#This Row],[QTY]]*Table1[[#This Row],[School & Library Price]]","v":0}]
[null,17,62,null,null,"Biographies","People in the News","Lin-Manuel Miranda: From Broadway to the Big Screen","978-1-5345-6340-7",{"$f":"HYPERLINK(Table1[[#This Row],[Hyperlink]],\"Weblink\")","v":"Weblink"},"Lucent Press","Paperback Book",1,"2019","August 2018","Paperback","6.000 X 9.000","Author","Kristen Rajczak Nelson",null,null,null,null,"Z","1120L","Grade 7","Grade 7 - 10","Lin-Manuel Miranda is one of the most accomplished entertainers working today. From his Broadway hit Hamilton to Oscar-nominated songs from Moana, Miranda is fast becoming a household name. This volume, featuring annotated quotes, vibrant photographs, sidebars, and a detailed timeline, follows Miranda from his early life in New York to the stage and screen work that has earned him such great acclaim. Including stories from his childhood, the writing process of In the Heights and Hamilton, and his time working on Mary Poppins Returns, this book will spark any reader to take a shot at their dreams.","English",19.989999999999998,16.989999999999998,"792.02'8092--dc23","104 pp.","https://greenhavenpublishing.com/978-1-5345-6340-7",{"$f":"Table1[[#This Row],['# of Books]]*Table1[[#This Row],[QTY]]","v":0},{"$f":"Table1[[#This Row],[QTY]]*Table1[[#This Row],[School & Library Price]]","v":0}]
[null,17,62,null,null,"Biographies","People in the News","Lin-Manuel Miranda: From Broadway to the Big Screen","978-1-5345-6339-1",{"$f":"HYPERLINK(Table1[[#This Row],[Hyperlink]],\"Weblink\")","v":"Weblink"},"Lucent Press","eBook",1,"2019","August 2018",null,null,"Author","Kristen Rajczak Nelson",null,null,null,null,"Z","1120L","Grade 7","Grade 7 - 10","Lin-Manuel Miranda is one of the most accomplished entertainers working today. From his Broadway hit Hamilton to Oscar-nominated songs from Moana, Miranda is fast becoming a household name. This volume, featuring annotated quotes, vibrant photographs, sidebars, and a detailed timeline, follows Miranda from his early life in New York to the stage and screen work that has earned him such great acclaim. Including stories from his childhood, the writing process of In the Heights and Hamilton, and his time working on Mary Poppins Returns, this book will spark any reader to take a shot at their dreams.","English",39.4,31.52,"792.02'8092--dc23","104 pp.","https://greenhavenpublishing.com/978-1-5345-6339-1",{"$f":"Table1[[#This Row],['# of Books]]*Table1[[#This Row],[QTY]]","v":0},{"$f":"Table1[[#This Row],[QTY]]*Table1[[#This Row],[School & Library Price]]","v":0}]
[null,17,63,null,null,"Biographies","People in the News","Stephen Colbert: Late-Night Comedy Leader","978-1-5345-6326-1",{"$f":"HYPERLINK(Table1[[#This Row],[Hyperlink]],\"Weblink\")","v":"Weblink"},"Lucent Press","Library Bound Book",1,"2019","August 2018","Library","6.000 X 9.000","Author","Allison Krumsiek",null,null,null,null,"Z","1200L","Grade 7","Grade 7 - 10","Stephen Colbert became famous through his television show, The Colbert Report, before becoming the host of The Late Show and using his political humor to rise to the top of the late-night ratings. Readers not only learn about Colbert's early life and rise to fame, but also the ways he has made his shows successful. In-depth sidebars augment the informative text to show all the facets of Colbert's personal and professional life. Full-color photographs, a comprehensive timeline, and annotated quotes also enhance this look at one of the leaders of late-night comedy.","English",39.4,31.52,"792.702/8092--dc23","104 pp.","https://greenhavenpublishing.com/978-1-5345-6326-1",{"$f":"Table1[[#This Row],['# of Books]]*Table1[[#This Row],[QTY]]","v":0},{"$f":"Table1[[#This Row],[QTY]]*Table1[[#This Row],[School & Library Price]]","v":0}]
[null,17,63,null,null,"Biographies","People in the News","Stephen Colbert: Late-Night Comedy Leader","978-1-5345-6328-5",{"$f":"HYPERLINK(Table1[[#This Row],[Hyperlink]],\"Weblink\")","v":"Weblink"},"Lucent Press","Paperback Book",1,"2019","August 2018","Paperback","6.000 X 9.000","Author","Allison Krumsiek",null,null,null,null,"Z","1200L","Grade 7","Grade 7 - 10","Stephen Colbert became famous through his television show, The Colbert Report, before becoming the host of The Late Show and using his political humor to rise to the top of the late-night ratings. Readers not only learn about Colbert's early life and rise to fame, but also the ways he has made his shows successful. In-depth sidebars augment the informative text to show all the facets of Colbert's personal and professional life. Full-color photographs, a comprehensive timeline, and annotated quotes also enhance this look at one of the leaders of late-night comedy.","English",19.989999999999998,16.989999999999998,"792.702/8092--dc23","104 pp.","https://greenhavenpublishing.com/978-1-5345-6328-5",{"$f":"Table1[[#This Row],['# of Books]]*Table1[[#This Row],[QTY]]","v":0},{"$f":"Table1[[#This Row],[QTY]]*Table1[[#This Row],[School & Library Price]]","v":0}]
[null,17,63,null,null,"Biographies","People in the News","Stephen Colbert: Late-Night Comedy Leader","978-1-5345-6327-8",{"$f":"HYPERLINK(Table1[[#This Row],[Hyperlink]],\"Weblink\")","v":"Weblink"},"Lucent Press","eBook",1,"2019","August 2018",null,null,"Author","Allison Krumsiek",null,null,null,null,"Z","1200L","Grade 7","Grade 7 - 10","Stephen Colbert became famous through his television show, The Colbert Report, before becoming the host of The Late Show and using his political humor to rise to the top of the late-night ratings. Readers not only learn about Colbert's early life and rise to fame, but also the ways he has made his shows successful. In-depth sidebars augment the informative text to show all the facets of Colbert's personal and professional life. Full-color photographs, a comprehensive timeline, and annotated quotes also enhance this look at one of the leaders of late-night comedy.","English",39.4,31.52,"792.702/8092--dc23","104 pp.","https://greenhavenpublishing.com/978-1-5345-6327-8",{"$f":"Table1[[#This Row],['# of Books]]*Table1[[#This Row],[QTY]]","v":0},{"$f":"Table1[[#This Row],[QTY]]*Table1[[#This Row],[School & Library Price]]","v":0}]
[null,17,61,null,null,"Biographies","People in the News","Elon Musk: Space Entrepreneur","978-1-5345-6035-2",{"$f":"HYPERLINK(Table1[[#This Row],[Hyperlink]],\"Weblink\")","v":"Weblink"},"Lucent Press","Library Bound Book",1,"2017","January 2017","Library","6.000 X 9.000","Author","Ryan Nagelhout",null,null,null,null,"Z","1140L","Grade 7","Grade 7 - 10","Elon Musk has created plans for many futuristic enterprises, including a high-speed transportation system in California, solar power for private residences, and a human colony on Mars! He aims to change the way we live on Earth as well as make it possible to sustain life on other planets. Readers will learn about this influential figure in today’s economy including his early life and the projects he has had a hand in through accessible text and a biographical timeline. Full-color photographs and inspirational quotes from Musk create an engaging reading experience for fans of technology and business.","English",39.4,31.52,"332.1’78--dc23","104 pp.","https://greenhavenpublishing.com/978-1-5345-6035-2",{"$f":"Table1[[#This Row],['# of Books]]*Table1[[#This Row],[QTY]]","v":0},{"$f":"Table1[[#This Row],[QTY]]*Table1[[#This Row],[School & Library Price]]","v":0}]
[null,17,61,null,null,"Biographies","People in the News","Elon Musk: Space Entrepreneur","978-1-5345-6036-9",{"$f":"HYPERLINK(Table1[[#This Row],[Hyperlink]],\"Weblink\")","v":"Weblink"},"Lucent Press","eBook",1,"2017","January 2017",null,null,"Author","Ryan Nagelhout",null,null,null,null,"Z","1140L","Grade 7","Grade 7 - 10","Elon Musk has created plans for many futuristic enterprises, including a high-speed transportation system in California, solar power for private residences, and a human colony on Mars! He aims to change the way we live on Earth as well as make it possible to sustain life on other planets. Readers will learn about this influential figure in today’s economy including his early life and the projects he has had a hand in through accessible text and a biographical timeline. Full-color photographs and inspirational quotes from Musk create an engaging reading experience for fans of technology and business.","English",39.4,31.52,"332.1’78--dc23","104 pp.","https://greenhavenpublishing.com/978-1-5345-6036-9",{"$f":"Table1[[#This Row],['# of Books]]*Table1[[#This Row],[QTY]]","v":0},{"$f":"Table1[[#This Row],[QTY]]*Table1[[#This Row],[School & Library Price]]","v":0}]
[null,17,62,null,null,"Biographies","People in the News","LeBron James: Basketball's King","978-1-5345-6029-1",{"$f":"HYPERLINK(Table1[[#This Row],[Hyperlink]],\"Weblink\")","v":"Weblink"},"Lucent Press","Library Bound Book",1,"2017","January 2017","Library","6.000 X 9.000","Author, Author","Ryan Nagelhout, Anne Wallace Sharp",null,null,null,null,"Z","1130L","Grade 7","Grade 7 - 10","LeBron James overcame adversity to become a superstar athlete while he was still in high school. After joining the NBA, he won multiple championships and awards, and he is widely considered one of the best basketball players in history. Sports fans will be interested to learn about his early life and the challenges he overcame throughout his career. Full-color photographs and a timeline of important dates highlight his rise to success.","English",39.4,31.52,"796.323092--dc23","104 pp.","https://greenhavenpublishing.com/978-1-5345-6029-1",{"$f":"Table1[[#This Row],['# of Books]]*Table1[[#This Row],[QTY]]","v":0},{"$f":"Table1[[#This Row],[QTY]]*Table1[[#This Row],[School & Library Price]]","v":0}]
[null,17,62,null,null,"Biographies","People in the News","LeBron James: Basketball's King","978-1-5345-6030-7",{"$f":"HYPERLINK(Table1[[#This Row],[Hyperlink]],\"Weblink\")","v":"Weblink"},"Lucent Press","eBook",1,"2017","January 2017",null,null,"Author, Author","Ryan Nagelhout, Anne Wallace Sharp",null,null,null,null,"Z","1130L","Grade 7","Grade 7 - 10","LeBron James overcame adversity to become a superstar athlete while he was still in high school. After joining the NBA, he won multiple championships and awards, and he is widely considered one of the best basketball players in history. Sports fans will be interested to learn about his early life and the challenges he overcame throughout his career. Full-color photographs and a timeline of important dates highlight his rise to success.","English",39.4,31.52,"796.323092--dc23","104 pp.","https://greenhavenpublishing.com/978-1-5345-6030-7",{"$f":"Table1[[#This Row],['# of Books]]*Table1[[#This Row],[QTY]]","v":0},{"$f":"Table1[[#This Row],[QTY]]*Table1[[#This Row],[School & Library Price]]","v":0}]
[null,17,63,null,null,"Biographies","People in the News","Serena Williams: Tennis Ace","978-1-5345-6027-7",{"$f":"HYPERLINK(Table1[[#This Row],[Hyperlink]],\"Weblink\")","v":"Weblink"},"Lucent Press","Library Bound Book",1,"2017","January 2017","Library","6.000 X 9.000","Author, Author","Andrew Pina, Michael V. Uschan",null,null,null,null,"Z","1150L","Grade 7","Grade 7 - 10","Many people know that Serena Williams has triumphed on the tennis court, challenging racist and sexist attitudes as she rose to the top of her sport. However, it may surprise readers to discover that she is also a humanitarian, an actress, and a fashion icon. With motivational quotes from Williams and a timeline of her milestones thus far, readers will enjoy learning more about this inspiring woman who is more than just a sports star.","English",39.4,31.52,"796.342092","104 pp.","https://greenhavenpublishing.com/978-1-5345-6027-7",{"$f":"Table1[[#This Row],['# of Books]]*Table1[[#This Row],[QTY]]","v":0},{"$f":"Table1[[#This Row],[QTY]]*Table1[[#This Row],[School & Library Price]]","v":0}]
[null,17,63,null,null,"Biographies","People in the News","Serena Williams: Tennis Ace","978-1-5345-6028-4",{"$f":"HYPERLINK(Table1[[#This Row],[Hyperlink]],\"Weblink\")","v":"Weblink"},"Lucent Press","eBook",1,"2017","January 2017",null,null,"Author, Author","Andrew Pina, Michael V. Uschan",null,null,null,null,"Z","1150L","Grade 7","Grade 7 - 10","Many people know that Serena Williams has triumphed on the tennis court, challenging racist and sexist attitudes as she rose to the top of her sport. However, it may surprise readers to discover that she is also a humanitarian, an actress, and a fashion icon. With motivational quotes from Williams and a timeline of her milestones thus far, readers will enjoy learning more about this inspiring woman who is more than just a sports star.","English",39.4,31.52,"796.342092","104 pp.","https://greenhavenpublishing.com/978-1-5345-6028-4",{"$f":"Table1[[#This Row],['# of Books]]*Table1[[#This Row],[QTY]]","v":0},{"$f":"Table1[[#This Row],[QTY]]*Table1[[#This Row],[School & Library Price]]","v":0}]
[null,17,63,null,null,"Biographies","People in the News","Steve Jobs: Computer Visionary","978-1-5345-6031-4",{"$f":"HYPERLINK(Table1[[#This Row],[Hyperlink]],\"Weblink\")","v":"Weblink"},"Lucent Press","Library Bound Book",1,"2017","January 2017","Library","6.000 X 9.000","Author, Author","Sophie Washburne, Barbara Sheen",null,null,null,null,"Z","1000L","Grade 7","Grade 7 - 10","Steve Jobs is a controversial figure who is regarded with awe by some and disgust by others, but he inarguably changed the faces of technology and entertainment with his involvement in Apple and Pixar. This volume presents both sides of the debate, citing Jobs's proponents and detractors, allowing readers to come to their own conclusions about his actions. Detailed sidebars, a fact-filled timeline, and full-color photographs augment the engaging discussion.","English",39.4,31.52,"338.7'6100416092--dc23","104 pp.","https://greenhavenpublishing.com/978-1-5345-6031-4",{"$f":"Table1[[#This Row],['# of Books]]*Table1[[#This Row],[QTY]]","v":0},{"$f":"Table1[[#This Row],[QTY]]*Table1[[#This Row],[School & Library Price]]","v":0}]
[null,17,63,null,null,"Biographies","People in the News","Steve Jobs: Computer Visionary","978-1-5345-6032-1",{"$f":"HYPERLINK(Table1[[#This Row],[Hyperlink]],\"Weblink\")","v":"Weblink"},"Lucent Press","eBook",1,"2017","January 2017",null,null,"Author, Author","Sophie Washburne, Barbara Sheen",null,null,null,null,"Z","1000L","Grade 7","Grade 7 - 10","Steve Jobs is a controversial figure who is regarded with awe by some and disgust by others, but he inarguably changed the faces of technology and entertainment with his involvement in Apple and Pixar. This volume presents both sides of the debate, citing Jobs's proponents and detractors, allowing readers to come to their own conclusions about his actions. Detailed sidebars, a fact-filled timeline, and full-color photographs augment the engaging discussion.","English",39.4,31.52,"338.7'6100416092--dc23","104 pp.","https://greenhavenpublishing.com/978-1-5345-6032-1",{"$f":"Table1[[#This Row],['# of Books]]*Table1[[#This Row],[QTY]]","v":0},{"$f":"Table1[[#This Row],[QTY]]*Table1[[#This Row],[School & Library Price]]","v":0}]
[null,17,63,null,null,"Biographies","People in the News","Taylor Swift: Superstar Singer","978-1-5345-6025-3",{"$f":"HYPERLINK(Table1[[#This Row],[Hyperlink]],\"Weblink\")","v":"Weblink"},"Lucent Press","Library Bound Book",1,"2017","January 2017","Library","6.000 X 9.000","Author, Author","Katie Kawa, Cherese Cartlidge",null,null,null,null,"Z","1170L","Grade 7","Grade 7 - 10","Taylor Swift has changed her image since she got her start in music, turning from country music sweetheart to pop princess. Best known for her empowering songs about coming of age, Swift has captured the hearts of teens around the world and presents a positive role model for young girls. Full-color photographs, a biographical timeline, and anecdotal sidebars help readers get to know the real Swift.","English",39.4,31.52,"782.421642092","104 pp.","https://greenhavenpublishing.com/978-1-5345-6025-3",{"$f":"Table1[[#This Row],['# of Books]]*Table1[[#This Row],[QTY]]","v":0},{"$f":"Table1[[#This Row],[QTY]]*Table1[[#This Row],[School & Library Price]]","v":0}]
[null,17,63,null,null,"Biographies","People in the News","Taylor Swift: Superstar Singer","978-1-5345-6026-0",{"$f":"HYPERLINK(Table1[[#This Row],[Hyperlink]],\"Weblink\")","v":"Weblink"},"Lucent Press","eBook",1,"2017","January 2017",null,null,"Author, Author","Katie Kawa, Cherese Cartlidge",null,null,null,null,"Z","1170L","Grade 7","Grade 7 - 10","Taylor Swift has changed her image since she got her start in music, turning from country music sweetheart to pop princess. Best known for her empowering songs about coming of age, Swift has captured the hearts of teens around the world and presents a positive role model for young girls. Full-color photographs, a biographical timeline, and anecdotal sidebars help readers get to know the real Swift.","English",39.4,31.52,"782.421642092","104 pp.","https://greenhavenpublishing.com/978-1-5345-6026-0",{"$f":"Table1[[#This Row],['# of Books]]*Table1[[#This Row],[QTY]]","v":0},{"$f":"Table1[[#This Row],[QTY]]*Table1[[#This Row],[School & Library Price]]","v":0}]
[null,17,63,null,null,"Biographies","People in the News","Tina Fey: Queen of Comedy","978-1-5345-6033-8",{"$f":"HYPERLINK(Table1[[#This Row],[Hyperlink]],\"Weblink\")","v":"Weblink"},"Lucent Press","Library Bound Book",1,"2017","January 2017","Library","6.000 X 9.000","Author, Author","Melissa Raé Shofner, Lauri S. Friedman",null,null,null,null,"Z","1170L","Grade 7","Grade 7 - 10","Tina Fey, one of the most prominent women in comedy, is well known for her work on shows such as Saturday Night Live and 30 Rock. As a writer and actress, she has changed the way people see female comedians and altered the “boys club” mentality that characterized the working environment of Saturday Night Live. Readers are presented with fascinating details about Fey’s life, from the childhood experiences that inspired Mean Girls to her rise to stardom. This engaging text is enhanced with full-color photographs, detailed sidebars, and a comprehensive timeline.","English",39.4,31.52,"791.4502’8092","104 pp.","https://greenhavenpublishing.com/978-1-5345-6033-8",{"$f":"Table1[[#This Row],['# of Books]]*Table1[[#This Row],[QTY]]","v":0},{"$f":"Table1[[#This Row],[QTY]]*Table1[[#This Row],[School & Library Price]]","v":0}]
[null,17,63,null,null,"Biographies","People in the News","Tina Fey: Queen of Comedy","978-1-5345-6034-5",{"$f":"HYPERLINK(Table1[[#This Row],[Hyperlink]],\"Weblink\")","v":"Weblink"},"Lucent Press","eBook",1,"2017","January 2017",null,null,"Author, Author","Melissa Raé Shofner, Lauri S. Friedman",null,null,null,null,"Z","1170L","Grade 7","Grade 7 - 10","Tina Fey, one of the most prominent women in comedy, is well known for her work on shows such as Saturday Night Live and 30 Rock. As a writer and actress, she has changed the way people see female comedians and altered the “boys club” mentality that characterized the working environment of Saturday Night Live. Readers are presented with fascinating details about Fey’s life, from the childhood experiences that inspired Mean Girls to her rise to stardom. This engaging text is enhanced with full-color photographs, detailed sidebars, and a comprehensive timeline.","English",39.4,31.52,"791.4502’8092","104 pp.","https://greenhavenpublishing.com/978-1-5345-6034-5",{"$f":"Table1[[#This Row],['# of Books]]*Table1[[#This Row],[QTY]]","v":0},{"$f":"Table1[[#This Row],[QTY]]*Table1[[#This Row],[School & Library Price]]","v":0}]
[null,18,null,null,null,"Current Issues","Hot Topics","Hot Topics: Sets 1 – 7","978-1-5345-6858-7",{"$f":"HYPERLINK(Table1[[#This Row],[Hyperlink]],\"Weblink\")","v":"Weblink"},"Lucent Press","Library Set",40,"2020","January 2020","Library","7.000 X 9.000",null,null,null,null,null,null,null,null,"Grade 7","Grade 7 - 10","Social and political issues such as civil liberties, climate change, and gender equality affect the lives of everyone in the world, but when discussions about these controversial topics become heated, emotions can easily overshadow facts. This comprehensive look at some of today's hottest topics aims to present readers with all the facts about these issues so they can understand the true scope of each problem and form their own opinions about current events. Accessible charts and graphs, discussion questions, and detailed sidebars enhance the informative main narratives, making these complex topics easier for readers to understand. Features include: Carefully selected topics that focus on some of the most pressing concerns of the 21st century. Up-to-date statistics and annotated quotes by experts in related fields help readers back up their opinions with relevant facts. Lists of organizations to contact provide readers with resources for further information, support, or ways to get involved on a local or global level.","English",1615.4,1292.32,null,"104–120 pp.","https://greenhavenpublishing.com/978-1-5345-6858-7",{"$f":"Table1[[#This Row],['# of Books]]*Table1[[#This Row],[QTY]]","v":0},{"$f":"Table1[[#This Row],[QTY]]*Table1[[#This Row],[School & Library Price]]","v":0}]
[null,18,67,null,null,"Current Issues","Hot Topics","Hot Topics: Set 7","978-1-5345-6857-0",{"$f":"HYPERLINK(Table1[[#This Row],[Hyperlink]],\"Weblink\")","v":"Weblink"},"Lucent Press","Library Set",4,"2020","January 2020","Library","7.000 X 9.000",null,null,null,null,null,null,null,null,"Grade 7","Grade 7 - 10","In recent years, young adults have become increasingly active in politics and the fight for social justice, which makes it all the more critical to give them factual information about today's important issues. Having a thorough understanding of topics such as sustainable living, student rights, and violence in sports is the first step toward becoming an informed and active citizen. This engaging overview of current events helps readers develop that understanding through informative narratives that feature annotated quotes from experts. Graphs and charts give readers the most up-to-date data, and full-color photographs show the reality of each issue. Features include: Discussion questions facilitate respectful debates and allow readers to develop their own informed point of view. Carefully chosen sidebars present a more in-depth look at various aspects of each topic. Unbiased narratives present all sides of controversial debates, helping readers learn to understand and respect different points of view.","English",157.6,126.08,null,"104 pp.","https://greenhavenpublishing.com/978-1-5345-6857-0",{"$f":"Table1[[#This Row],['# of Books]]*Table1[[#This Row],[QTY]]","v":0},{"$f":"Table1[[#This Row],[QTY]]*Table1[[#This Row],[School & Library Price]]","v":0}]
[null,18,67,null,null,"Current Issues","Hot Topics","Hot Topics (Spring 2020)","978-1-5345-6890-7",{"$f":"HYPERLINK(Table1[[#This Row],[Hyperlink]],\"Weblink\")","v":"Weblink"},"Lucent Press","Single Copy Set",4,"2020","January 2020","Paperback","7.000 X 9.000",null,null,null,null,null,null,null,null,"Grade 7","Grade 7 - 10","In recent years, young adults have become increasingly active in politics and the fight for social justice, which makes it all the more critical to give them factual information about today's important issues. Having a thorough understanding of topics such as sustainable living, student rights, and violence in sports is the first step toward becoming an informed and active citizen. This engaging overview of current events helps readers develop that understanding through informative narratives that feature annotated quotes from experts. Graphs and charts give readers the most up-to-date data, and full-color photographs show the reality of each issue. Features include: Discussion questions facilitate respectful debates and allow readers to develop their own informed point of view. Carefully chosen sidebars present a more in-depth look at various aspects of each topic. Unbiased narratives present all sides of controversial debates, helping readers learn to understand and respect different points of view.","English",79.959999999999994,67.959999999999994,null,"104 pp.","https://greenhavenpublishing.com/978-1-5345-6890-7",{"$f":"Table1[[#This Row],['# of Books]]*Table1[[#This Row],[QTY]]","v":0},{"$f":"Table1[[#This Row],[QTY]]*Table1[[#This Row],[School & Library Price]]","v":0}]
[null,18,67,null,null,"Current Issues","Hot Topics","Student Rights in a New Age of Activism","978-1-5345-6817-4",{"$f":"HYPERLINK(Table1[[#This Row],[Hyperlink]],\"Weblink\")","v":"Weblink"},"Lucent Press","Library Bound Book",1,"2020","January 2020","Library","7.000 X 9.000","Author","Anna Collins",null,null,null,null,"Z",null,"Grade 7","Grade 7 - 10","In the United States, the rights of people under the age of 18 are a hotly debated and frequently misunderstood topic. Certain rights are protected for students by the U.S. Constitution, but many people are unsure of what those rights are. Some people even believe student rights do not exist. Up-to-date statistics, engaging sidebars, and informative charts supplement this illuminating text, explaining exactly what rights students have and what recourse they have if those rights are violated. Annotated quotes from legal experts and activists provide additional information about the connection between student rights and student activism.","English",39.4,31.52,"344.73'0793--dc23","104 pp.","https://greenhavenpublishing.com/978-1-5345-6817-4",{"$f":"Table1[[#This Row],['# of Books]]*Table1[[#This Row],[QTY]]","v":0},{"$f":"Table1[[#This Row],[QTY]]*Table1[[#This Row],[School & Library Price]]","v":0}]
[null,18,67,null,null,"Current Issues","Hot Topics","Student Rights in a New Age of Activism","978-1-5345-6816-7",{"$f":"HYPERLINK(Table1[[#This Row],[Hyperlink]],\"Weblink\")","v":"Weblink"},"Lucent Press","Paperback Book",1,"2020","January 2020","Paperback","7.000 X 9.000","Author","Anna Collins",null,null,null,null,"Z",null,"Grade 7","Grade 7 - 10","In the United States, the rights of people under the age of 18 are a hotly debated and frequently misunderstood topic. Certain rights are protected for students by the U.S. Constitution, but many people are unsure of what those rights are. Some people even believe student rights do not exist. Up-to-date statistics, engaging sidebars, and informative charts supplement this illuminating text, explaining exactly what rights students have and what recourse they have if those rights are violated. Annotated quotes from legal experts and activists provide additional information about the connection between student rights and student activism.","English",19.989999999999998,16.989999999999998,"344.73'0793--dc23","104 pp.","https://greenhavenpublishing.com/978-1-5345-6816-7",{"$f":"Table1[[#This Row],['# of Books]]*Table1[[#This Row],[QTY]]","v":0},{"$f":"Table1[[#This Row],[QTY]]*Table1[[#This Row],[School & Library Price]]","v":0}]
[null,18,67,null,null,"Current Issues","Hot Topics","Student Rights in a New Age of Activism","978-1-5345-6818-1",{"$f":"HYPERLINK(Table1[[#This Row],[Hyperlink]],\"Weblink\")","v":"Weblink"},"Lucent Press","eBook",1,"2020","January 2020",null,null,"Author","Anna Collins",null,null,null,null,"Z",null,"Grade 7","Grade 7 - 10","In the United States, the rights of people under the age of 18 are a hotly debated and frequently misunderstood topic. Certain rights are protected for students by the U.S. Constitution, but many people are unsure of what those rights are. Some people even believe student rights do not exist. Up-to-date statistics, engaging sidebars, and informative charts supplement this illuminating text, explaining exactly what rights students have and what recourse they have if those rights are violated. Annotated quotes from legal experts and activists provide additional information about the connection between student rights and student activism.","English",39.4,31.52,"344.73'0793--dc23","104 pp.","https://greenhavenpublishing.com/978-1-5345-6818-1",{"$f":"Table1[[#This Row],['# of Books]]*Table1[[#This Row],[QTY]]","v":0},{"$f":"Table1[[#This Row],[QTY]]*Table1[[#This Row],[School & Library Price]]","v":0}]
[null,18,67,null,null,"Current Issues","Hot Topics","Sustainable Living: Going Green to Protect the Planet","978-1-5345-6811-2",{"$f":"HYPERLINK(Table1[[#This Row],[Hyperlink]],\"Weblink\")","v":"Weblink"},"Lucent Press","Library Bound Book",1,"2020","January 2020","Library","7.000 X 9.000","Author","Juliana Burkhart",null,null,null,null,"Z",null,"Grade 7","Grade 7 - 10","As concerns over the environment increase, more people are looking for alternative sources of energy and other ways to \"go green.\" However, the prospect of overhauling their entire lifestyle can be daunting enough to discourage people from making a start, especially when they do not see how their small changes can impact the environment. Enlightening main content, charts, and annotated quotes by experts shed light on the concept of sustainable living, while full-color photographs and informative sidebars show readers realistic changes they can make in their lives to protect the planet.","English",39.4,31.52,"333.79--dc23","104 pp.","https://greenhavenpublishing.com/978-1-5345-6811-2",{"$f":"Table1[[#This Row],['# of Books]]*Table1[[#This Row],[QTY]]","v":0},{"$f":"Table1[[#This Row],[QTY]]*Table1[[#This Row],[School & Library Price]]","v":0}]
[null,18,67,null,null,"Current Issues","Hot Topics","Sustainable Living: Going Green to Protect the Planet","978-1-5345-6810-5",{"$f":"HYPERLINK(Table1[[#This Row],[Hyperlink]],\"Weblink\")","v":"Weblink"},"Lucent Press","Paperback Book",1,"2020","January 2020","Paperback","7.000 X 9.000","Author","Juliana Burkhart",null,null,null,null,"Z",null,"Grade 7","Grade 7 - 10","As concerns over the environment increase, more people are looking for alternative sources of energy and other ways to \"go green.\" However, the prospect of overhauling their entire lifestyle can be daunting enough to discourage people from making a start, especially when they do not see how their small changes can impact the environment. Enlightening main content, charts, and annotated quotes by experts shed light on the concept of sustainable living, while full-color photographs and informative sidebars show readers realistic changes they can make in their lives to protect the planet.","English",19.989999999999998,16.989999999999998,"333.79--dc23","104 pp.","https://greenhavenpublishing.com/978-1-5345-6810-5",{"$f":"Table1[[#This Row],['# of Books]]*Table1[[#This Row],[QTY]]","v":0},{"$f":"Table1[[#This Row],[QTY]]*Table1[[#This Row],[School & Library Price]]","v":0}]
[null,18,67,null,null,"Current Issues","Hot Topics","Sustainable Living: Going Green to Protect the Planet","978-1-5345-6812-9",{"$f":"HYPERLINK(Table1[[#This Row],[Hyperlink]],\"Weblink\")","v":"Weblink"},"Lucent Press","eBook",1,"2020","January 2020",null,null,"Author","Juliana Burkhart",null,null,null,null,"Z",null,"Grade 7","Grade 7 - 10","As concerns over the environment increase, more people are looking for alternative sources of energy and other ways to \"go green.\" However, the prospect of overhauling their entire lifestyle can be daunting enough to discourage people from making a start, especially when they do not see how their small changes can impact the environment. Enlightening main content, charts, and annotated quotes by experts shed light on the concept of sustainable living, while full-color photographs and informative sidebars show readers realistic changes they can make in their lives to protect the planet.","English",39.4,31.52,"333.79--dc23","104 pp.","https://greenhavenpublishing.com/978-1-5345-6812-9",{"$f":"Table1[[#This Row],['# of Books]]*Table1[[#This Row],[QTY]]","v":0},{"$f":"Table1[[#This Row],[QTY]]*Table1[[#This Row],[School & Library Price]]","v":0}]
[null,18,67,null,null,"Current Issues","Hot Topics","Video Games and Esports: The Growing World of Gamers","978-1-5345-6820-4",{"$f":"HYPERLINK(Table1[[#This Row],[Hyperlink]],\"Weblink\")","v":"Weblink"},"Lucent Press","Library Bound Book",1,"2020","January 2020","Library","7.000 X 9.000","Author","Michael Maley",null,null,null,null,"Z",null,"Grade 7","Grade 7 - 10","Just as athletes from the NFL and NBA have gained fame and fortune, professional gamers who compete in esports are attracting loyal fans. Esports encompass any competitive, organized gaming endeavor. This competitive activity is becoming a billion-dollar industry. However, some people still argue that playing video games has many negative effects. The ever-evolving world of video games is explained through engaging text that delves into the details so readers gain a full understanding. Full-color photographs, annotated quotes, sidebars, and informative charts highlight the many debates surrounding the popularity of video games.","English",39.4,31.52,"794.8--dc23","104 pp.","https://greenhavenpublishing.com/978-1-5345-6820-4",{"$f":"Table1[[#This Row],['# of Books]]*Table1[[#This Row],[QTY]]","v":0},{"$f":"Table1[[#This Row],[QTY]]*Table1[[#This Row],[School & Library Price]]","v":0}]
[null,18,67,null,null,"Current Issues","Hot Topics","Video Games and Esports: The Growing World of Gamers","978-1-5345-6819-8",{"$f":"HYPERLINK(Table1[[#This Row],[Hyperlink]],\"Weblink\")","v":"Weblink"},"Lucent Press","Paperback Book",1,"2020","January 2020","Paperback","7.000 X 9.000","Author","Michael Maley",null,null,null,null,"Z",null,"Grade 7","Grade 7 - 10","Just as athletes from the NFL and NBA have gained fame and fortune, professional gamers who compete in esports are attracting loyal fans. Esports encompass any competitive, organized gaming endeavor. This competitive activity is becoming a billion-dollar industry. However, some people still argue that playing video games has many negative effects. The ever-evolving world of video games is explained through engaging text that delves into the details so readers gain a full understanding. Full-color photographs, annotated quotes, sidebars, and informative charts highlight the many debates surrounding the popularity of video games.","English",19.989999999999998,16.989999999999998,"794.8--dc23","104 pp.","https://greenhavenpublishing.com/978-1-5345-6819-8",{"$f":"Table1[[#This Row],['# of Books]]*Table1[[#This Row],[QTY]]","v":0},{"$f":"Table1[[#This Row],[QTY]]*Table1[[#This Row],[School & Library Price]]","v":0}]
[null,18,67,null,null,"Current Issues","Hot Topics","Video Games and Esports: The Growing World of Gamers","978-1-5345-6821-1",{"$f":"HYPERLINK(Table1[[#This Row],[Hyperlink]],\"Weblink\")","v":"Weblink"},"Lucent Press","eBook",1,"2020","January 2020",null,null,"Author","Michael Maley",null,null,null,null,"Z",null,"Grade 7","Grade 7 - 10","Just as athletes from the NFL and NBA have gained fame and fortune, professional gamers who compete in esports are attracting loyal fans. Esports encompass any competitive, organized gaming endeavor. This competitive activity is becoming a billion-dollar industry. However, some people still argue that playing video games has many negative effects. The ever-evolving world of video games is explained through engaging text that delves into the details so readers gain a full understanding. Full-color photographs, annotated quotes, sidebars, and informative charts highlight the many debates surrounding the popularity of video games.","English",39.4,31.52,"794.8--dc23","104 pp.","https://greenhavenpublishing.com/978-1-5345-6821-1",{"$f":"Table1[[#This Row],['# of Books]]*Table1[[#This Row],[QTY]]","v":0},{"$f":"Table1[[#This Row],[QTY]]*Table1[[#This Row],[School & Library Price]]","v":0}]
[null,18,67,null,null,"Current Issues","Hot Topics","Violence and Sports: Dangerous Games","978-1-5345-6814-3",{"$f":"HYPERLINK(Table1[[#This Row],[Hyperlink]],\"Weblink\")","v":"Weblink"},"Lucent Press","Library Bound Book",1,"2020","January 2020","Library","7.000 X 9.000","Author","Tyler Stevenson",null,null,null,null,"Z",null,"Grade 7","Grade 7 - 10","Violence is considered an acceptable and sometimes desirable part of many organized sports. Hard hits are praised in football and hockey, and boxers are idolized for being able to knock out their opponents. What kinds of implications can the normalization of violence have off of the field? Readers are presented with examples of sports-related violence and various theories for why violence among athletes is so prevalent. Presented alongside the unbiased narrative are quotes from athletes and other experts, detailed charts, and engaging sidebars that encourage young adults to think critically about this serious issue.","English",39.4,31.52,"796--dc23","104 pp.","https://greenhavenpublishing.com/978-1-5345-6814-3",{"$f":"Table1[[#This Row],['# of Books]]*Table1[[#This Row],[QTY]]","v":0},{"$f":"Table1[[#This Row],[QTY]]*Table1[[#This Row],[School & Library Price]]","v":0}]
[null,18,67,null,null,"Current Issues","Hot Topics","Violence and Sports: Dangerous Games","978-1-5345-6813-6",{"$f":"HYPERLINK(Table1[[#This Row],[Hyperlink]],\"Weblink\")","v":"Weblink"},"Lucent Press","Paperback Book",1,"2020","January 2020","Paperback","7.000 X 9.000","Author","Tyler Stevenson",null,null,null,null,"Z",null,"Grade 7","Grade 7 - 10","Violence is considered an acceptable and sometimes desirable part of many organized sports. Hard hits are praised in football and hockey, and boxers are idolized for being able to knock out their opponents. What kinds of implications can the normalization of violence have off of the field? Readers are presented with examples of sports-related violence and various theories for why violence among athletes is so prevalent. Presented alongside the unbiased narrative are quotes from athletes and other experts, detailed charts, and engaging sidebars that encourage young adults to think critically about this serious issue.","English",19.989999999999998,16.989999999999998,"796--dc23","104 pp.","https://greenhavenpublishing.com/978-1-5345-6813-6",{"$f":"Table1[[#This Row],['# of Books]]*Table1[[#This Row],[QTY]]","v":0},{"$f":"Table1[[#This Row],[QTY]]*Table1[[#This Row],[School & Library Price]]","v":0}]
[null,18,67,null,null,"Current Issues","Hot Topics","Violence and Sports: Dangerous Games","978-1-5345-6815-0",{"$f":"HYPERLINK(Table1[[#This Row],[Hyperlink]],\"Weblink\")","v":"Weblink"},"Lucent Press","eBook",1,"2020","January 2020",null,null,"Author","Tyler Stevenson",null,null,null,null,"Z",null,"Grade 7","Grade 7 - 10","Violence is considered an acceptable and sometimes desirable part of many organized sports. Hard hits are praised in football and hockey, and boxers are idolized for being able to knock out their opponents. What kinds of implications can the normalization of violence have off of the field? Readers are presented with examples of sports-related violence and various theories for why violence among athletes is so prevalent. Presented alongside the unbiased narrative are quotes from athletes and other experts, detailed charts, and engaging sidebars that encourage young adults to think critically about this serious issue.","English",39.4,31.52,"796--dc23","104 pp.","https://greenhavenpublishing.com/978-1-5345-6815-0",{"$f":"Table1[[#This Row],['# of Books]]*Table1[[#This Row],[QTY]]","v":0},{"$f":"Table1[[#This Row],[QTY]]*Table1[[#This Row],[School & Library Price]]","v":0}]
[null,null,66,null,null,"Current Issues","Hot Topics","Hot Topics: Set 6","978-1-5345-6702-3",{"$f":"HYPERLINK(Table1[[#This Row],[Hyperlink]],\"Weblink\")","v":"Weblink"},"Lucent Press","Library Set",6,"2020","August 2019","Library","7.000 X 9.000",null,null,null,null,null,null,null,null,"Grade 7","Grade 7 - 10","In the 21st century, it seems as if there is much to fear. Topics such as gang violence, terrorism, and the spread of deadly diseases are frequently on people's minds. News sources and social media tend to sensationalize these topics, obscuring facts and causing greater anxiety. As readers discover the truth about these issues and learn what measures can be taken to solve them, they discover that knowledge is powerful in the face of frightening or controversial topics. Engaging sidebars and detailed charts and graphs are presented alongside the well-researched main text to provide accurate information about current events. Features include: Discussion questions that encourage readers to form their own opinions. Annotated quotes from experts and eye-catching quote boxes that provide a first-person perspective and highlight avenues for further research. Lists of organizations to contact for more information provide essential resources for readers looking to become more involved in activism.","English",236.4,189.12,null,"104 pp.","https://greenhavenpublishing.com/978-1-5345-6702-3",{"$f":"Table1[[#This Row],['# of Books]]*Table1[[#This Row],[QTY]]","v":0},{"$f":"Table1[[#This Row],[QTY]]*Table1[[#This Row],[School & Library Price]]","v":0}]
[null,null,66,null,null,"Current Issues","Hot Topics","Hot Topics (Fall 2019)","978-1-5345-6805-1",{"$f":"HYPERLINK(Table1[[#This Row],[Hyperlink]],\"Weblink\")","v":"Weblink"},"Lucent Press","Single Copy Set",6,"2020","August 2019","Paperback","7.000 X 9.000",null,null,null,null,null,null,null,null,"Grade 7","Grade 7 - 10","In the 21st century, it seems as if there is much to fear. Topics such as gang violence, terrorism, and the spread of deadly diseases are frequently on people's minds. News sources and social media tend to sensationalize these topics, obscuring facts and causing greater anxiety. As readers discover the truth about these issues and learn what measures can be taken to solve them, they discover that knowledge is powerful in the face of frightening or controversial topics. Engaging sidebars and detailed charts and graphs are presented alongside the well-researched main text to provide accurate information about current events. Features include: Discussion questions that encourage readers to form their own opinions. Annotated quotes from experts and eye-catching quote boxes that provide a first-person perspective and highlight avenues for further research. Lists of organizations to contact for more information provide essential resources for readers looking to become more involved in activism.","English",119.94,101.94,null,"104 pp.","https://greenhavenpublishing.com/978-1-5345-6805-1",{"$f":"Table1[[#This Row],['# of Books]]*Table1[[#This Row],[QTY]]","v":0},{"$f":"Table1[[#This Row],[QTY]]*Table1[[#This Row],[School & Library Price]]","v":0}]
[null,19,66,null,null,"Current Issues","Hot Topics","Gangs: From the Streets to Social Media","978-1-5345-6697-2",{"$f":"HYPERLINK(Table1[[#This Row],[Hyperlink]],\"Weblink\")","v":"Weblink"},"Lucent Press","Library Bound Book",1,"2020","August 2019","Library","7.000 X 9.000","Author","Anna Collins",null,null,null,null,"Z",null,"Grade 7","Grade 7 - 10","Gangs have both worried and fascinated Americans for many years, but gangs are not a uniquely American problem; they can be found all over the world, from Sweden to Japan. Most of what people learn about gangs through movies and television does not reflect the reality researchers have discovered through firsthand studies of gang life. The detailed main text, informative charts, annotated quotes from experts, and full-color photographs explore this reality and various social factors that allow gangs to arise. With this knowledge, young adults can identify areas where they can make a difference in their own communities.","English",39.4,31.52,"364.106'60973--dc23","104 pp.","https://greenhavenpublishing.com/978-1-5345-6697-2",{"$f":"Table1[[#This Row],['# of Books]]*Table1[[#This Row],[QTY]]","v":0},{"$f":"Table1[[#This Row],[QTY]]*Table1[[#This Row],[School & Library Price]]","v":0}]
[null,19,66,null,null,"Current Issues","Hot Topics","Gangs: From the Streets to Social Media","978-1-5345-6755-9",{"$f":"HYPERLINK(Table1[[#This Row],[Hyperlink]],\"Weblink\")","v":"Weblink"},"Lucent Press","Paperback Book",1,"2020","August 2019","Paperback","7.000 X 9.000","Author","Anna Collins",null,null,null,null,"Z",null,"Grade 7","Grade 7 - 10","Gangs have both worried and fascinated Americans for many years, but gangs are not a uniquely American problem; they can be found all over the world, from Sweden to Japan. Most of what people learn about gangs through movies and television does not reflect the reality researchers have discovered through firsthand studies of gang life. The detailed main text, informative charts, annotated quotes from experts, and full-color photographs explore this reality and various social factors that allow gangs to arise. With this knowledge, young adults can identify areas where they can make a difference in their own communities.","English",19.989999999999998,16.989999999999998,"364.106'60973--dc23","104 pp.","https://greenhavenpublishing.com/978-1-5345-6755-9",{"$f":"Table1[[#This Row],['# of Books]]*Table1[[#This Row],[QTY]]","v":0},{"$f":"Table1[[#This Row],[QTY]]*Table1[[#This Row],[School & Library Price]]","v":0}]
[null,19,66,null,null,"Current Issues","Hot Topics","Gangs: From the Streets to Social Media","978-1-5345-6756-6",{"$f":"HYPERLINK(Table1[[#This Row],[Hyperlink]],\"Weblink\")","v":"Weblink"},"Lucent Press","eBook",1,"2020","August 2019",null,null,"Author","Anna Collins",null,null,null,null,"Z",null,"Grade 7","Grade 7 - 10","Gangs have both worried and fascinated Americans for many years, but gangs are not a uniquely American problem; they can be found all over the world, from Sweden to Japan. Most of what people learn about gangs through movies and television does not reflect the reality researchers have discovered through firsthand studies of gang life. The detailed main text, informative charts, annotated quotes from experts, and full-color photographs explore this reality and various social factors that allow gangs to arise. With this knowledge, young adults can identify areas where they can make a difference in their own communities.","English",39.4,31.52,"364.106'60973--dc23","104 pp.","https://greenhavenpublishing.com/978-1-5345-6756-6",{"$f":"Table1[[#This Row],['# of Books]]*Table1[[#This Row],[QTY]]","v":0},{"$f":"Table1[[#This Row],[QTY]]*Table1[[#This Row],[School & Library Price]]","v":0}]
[null,19,66,null,null,"Current Issues","Hot Topics","Pandemics: Deadly Disease Outbreaks","978-1-5345-6698-9",{"$f":"HYPERLINK(Table1[[#This Row],[Hyperlink]],\"Weblink\")","v":"Weblink"},"Lucent Press","Library Bound Book",1,"2020","August 2019","Library","7.000 X 9.000","Author","Michelle Denton",null,null,null,null,"Z",null,"Grade 7","Grade 7 - 10","As the world becomes more connected, the threat of pandemics becomes more serious, and being informed about fast-spreading illnesses is more important now than ever before. Readers explore global diseases of the past and present, how modern outbreaks are controlled and treated, and how doctors and scientists are working to prevent pandemics in the future. In-depth sidebars, full-color photographs, annotated quotes from medical experts, and discussion questions highlight important topics and encourage readers to expand their critical thinking skills as they learn about public health policy and the social impacts of infectious diseases.","English",39.4,31.52,"614.4--dc23","104 pp.","https://greenhavenpublishing.com/978-1-5345-6698-9",{"$f":"Table1[[#This Row],['# of Books]]*Table1[[#This Row],[QTY]]","v":0},{"$f":"Table1[[#This Row],[QTY]]*Table1[[#This Row],[School & Library Price]]","v":0}]
[null,19,66,null,null,"Current Issues","Hot Topics","Pandemics: Deadly Disease Outbreaks","978-1-5345-6759-7",{"$f":"HYPERLINK(Table1[[#This Row],[Hyperlink]],\"Weblink\")","v":"Weblink"},"Lucent Press","Paperback Book",1,"2020","August 2019","Paperback","7.000 X 9.000","Author","Michelle Denton",null,null,null,null,"Z",null,"Grade 7","Grade 7 - 10","As the world becomes more connected, the threat of pandemics becomes more serious, and being informed about fast-spreading illnesses is more important now than ever before. Readers explore global diseases of the past and present, how modern outbreaks are controlled and treated, and how doctors and scientists are working to prevent pandemics in the future. In-depth sidebars, full-color photographs, annotated quotes from medical experts, and discussion questions highlight important topics and encourage readers to expand their critical thinking skills as they learn about public health policy and the social impacts of infectious diseases.","English",19.989999999999998,16.989999999999998,"614.4--dc23","104 pp.","https://greenhavenpublishing.com/978-1-5345-6759-7",{"$f":"Table1[[#This Row],['# of Books]]*Table1[[#This Row],[QTY]]","v":0},{"$f":"Table1[[#This Row],[QTY]]*Table1[[#This Row],[School & Library Price]]","v":0}]
[null,19,66,null,null,"Current Issues","Hot Topics","Pandemics: Deadly Disease Outbreaks","978-1-5345-6760-3",{"$f":"HYPERLINK(Table1[[#This Row],[Hyperlink]],\"Weblink\")","v":"Weblink"},"Lucent Press","eBook",1,"2020","August 2019",null,null,"Author","Michelle Denton",null,null,null,null,"Z",null,"Grade 7","Grade 7 - 10","As the world becomes more connected, the threat of pandemics becomes more serious, and being informed about fast-spreading illnesses is more important now than ever before. Readers explore global diseases of the past and present, how modern outbreaks are controlled and treated, and how doctors and scientists are working to prevent pandemics in the future. In-depth sidebars, full-color photographs, annotated quotes from medical experts, and discussion questions highlight important topics and encourage readers to expand their critical thinking skills as they learn about public health policy and the social impacts of infectious diseases.","English",39.4,31.52,"614.4--dc23","104 pp.","https://greenhavenpublishing.com/978-1-5345-6760-3",{"$f":"Table1[[#This Row],['# of Books]]*Table1[[#This Row],[QTY]]","v":0},{"$f":"Table1[[#This Row],[QTY]]*Table1[[#This Row],[School & Library Price]]","v":0}]
[null,19,66,null,null,"Current Issues","Hot Topics","Reality Television: Guilty Pleasure or Positive Influence?","978-1-5345-6700-9",{"$f":"HYPERLINK(Table1[[#This Row],[Hyperlink]],\"Weblink\")","v":"Weblink"},"Lucent Press","Library Bound Book",1,"2020","August 2019","Library","7.000 X 9.000","Author","Tyler Stevenson",null,null,null,null,"Z",null,"Grade 7","Grade 7 - 10","Reality television grew to massive popularity in the early 2000s, as the medium exploded into what it is today. It seems as if every channel now has multiple reality programs, broadcasting for hours each day. Readers discover the roots of this genre and the controversies surrounding it. Presented alongside the main text are detailed charts and in-depth sidebars to educate readers about one of the most popular genres in television. The question of whether reality television can ever be more than just a guilty pleasure is also addressed, and readers are prompted through discussion questions to form intelligent opinions about it.","English",39.4,31.52,"791.456--dc23","104 pp.","https://greenhavenpublishing.com/978-1-5345-6700-9",{"$f":"Table1[[#This Row],['# of Books]]*Table1[[#This Row],[QTY]]","v":0},{"$f":"Table1[[#This Row],[QTY]]*Table1[[#This Row],[School & Library Price]]","v":0}]
[null,19,66,null,null,"Current Issues","Hot Topics","Reality Television: Guilty Pleasure or Positive Influence?","978-1-5345-6763-4",{"$f":"HYPERLINK(Table1[[#This Row],[Hyperlink]],\"Weblink\")","v":"Weblink"},"Lucent Press","Paperback Book",1,"2020","August 2019","Paperback","7.000 X 9.000","Author","Tyler Stevenson",null,null,null,null,"Z",null,"Grade 7","Grade 7 - 10","Reality television grew to massive popularity in the early 2000s, as the medium exploded into what it is today. It seems as if every channel now has multiple reality programs, broadcasting for hours each day. Readers discover the roots of this genre and the controversies surrounding it. Presented alongside the main text are detailed charts and in-depth sidebars to educate readers about one of the most popular genres in television. The question of whether reality television can ever be more than just a guilty pleasure is also addressed, and readers are prompted through discussion questions to form intelligent opinions about it.","English",19.989999999999998,16.989999999999998,"791.456--dc23","104 pp.","https://greenhavenpublishing.com/978-1-5345-6763-4",{"$f":"Table1[[#This Row],['# of Books]]*Table1[[#This Row],[QTY]]","v":0},{"$f":"Table1[[#This Row],[QTY]]*Table1[[#This Row],[School & Library Price]]","v":0}]
[null,19,66,null,null,"Current Issues","Hot Topics","Reality Television: Guilty Pleasure or Positive Influence?","978-1-5345-6764-1",{"$f":"HYPERLINK(Table1[[#This Row],[Hyperlink]],\"Weblink\")","v":"Weblink"},"Lucent Press","eBook",1,"2020","August 2019",null,null,"Author","Tyler Stevenson",null,null,null,null,"Z",null,"Grade 7","Grade 7 - 10","Reality television grew to massive popularity in the early 2000s, as the medium exploded into what it is today. It seems as if every channel now has multiple reality programs, broadcasting for hours each day. Readers discover the roots of this genre and the controversies surrounding it. Presented alongside the main text are detailed charts and in-depth sidebars to educate readers about one of the most popular genres in television. The question of whether reality television can ever be more than just a guilty pleasure is also addressed, and readers are prompted through discussion questions to form intelligent opinions about it.","English",39.4,31.52,"791.456--dc23","104 pp.","https://greenhavenpublishing.com/978-1-5345-6764-1",{"$f":"Table1[[#This Row],['# of Books]]*Table1[[#This Row],[QTY]]","v":0},{"$f":"Table1[[#This Row],[QTY]]*Table1[[#This Row],[School & Library Price]]","v":0}]
[null,19,66,null,null,"Current Issues","Hot Topics","The Dangers of Digital Addiction","978-1-5345-6701-6",{"$f":"HYPERLINK(Table1[[#This Row],[Hyperlink]],\"Weblink\")","v":"Weblink"},"Lucent Press","Library Bound Book",1,"2020","August 2019","Library","7.000 X 9.000","Author","Amanda Vink",null,null,null,null,"Z",null,"Grade 7","Grade 7 - 10","Technology has done a lot of good, connecting individuals and ideas. However, technological devices and social media platforms also have the potential to be harmful when they are not used in moderation. When the use of personal digital devices starts interfering with a person's daily life, it becomes a problem. Readers explore the ways in which some people can develop addictive digital habits and whether or not technology hinders their ability to live a healthy lifestyle. Additional information is presented through charts, sidebars, and annotated quotes, and discussion questions prompt readers to consider their own digital behaviors.","English",39.4,31.52,"616.85/84--dc23","104 pp.","https://greenhavenpublishing.com/978-1-5345-6701-6",{"$f":"Table1[[#This Row],['# of Books]]*Table1[[#This Row],[QTY]]","v":0},{"$f":"Table1[[#This Row],[QTY]]*Table1[[#This Row],[School & Library Price]]","v":0}]
[null,19,66,null,null,"Current Issues","Hot Topics","The Dangers of Digital Addiction","978-1-5345-6765-8",{"$f":"HYPERLINK(Table1[[#This Row],[Hyperlink]],\"Weblink\")","v":"Weblink"},"Lucent Press","Paperback Book",1,"2020","August 2019","Paperback","7.000 X 9.000","Author","Amanda Vink",null,null,null,null,"Z",null,"Grade 7","Grade 7 - 10","Technology has done a lot of good, connecting individuals and ideas. However, technological devices and social media platforms also have the potential to be harmful when they are not used in moderation. When the use of personal digital devices starts interfering with a person's daily life, it becomes a problem. Readers explore the ways in which some people can develop addictive digital habits and whether or not technology hinders their ability to live a healthy lifestyle. Additional information is presented through charts, sidebars, and annotated quotes, and discussion questions prompt readers to consider their own digital behaviors.","English",19.989999999999998,16.989999999999998,"616.85/84--dc23","104 pp.","https://greenhavenpublishing.com/978-1-5345-6765-8",{"$f":"Table1[[#This Row],['# of Books]]*Table1[[#This Row],[QTY]]","v":0},{"$f":"Table1[[#This Row],[QTY]]*Table1[[#This Row],[School & Library Price]]","v":0}]
[null,19,66,null,null,"Current Issues","Hot Topics","The Dangers of Digital Addiction","978-1-5345-6766-5",{"$f":"HYPERLINK(Table1[[#This Row],[Hyperlink]],\"Weblink\")","v":"Weblink"},"Lucent Press","eBook",1,"2020","August 2019",null,null,"Author","Amanda Vink",null,null,null,null,"Z",null,"Grade 7","Grade 7 - 10","Technology has done a lot of good, connecting individuals and ideas. However, technological devices and social media platforms also have the potential to be harmful when they are not used in moderation. When the use of personal digital devices starts interfering with a person's daily life, it becomes a problem. Readers explore the ways in which some people can develop addictive digital habits and whether or not technology hinders their ability to live a healthy lifestyle. Additional information is presented through charts, sidebars, and annotated quotes, and discussion questions prompt readers to consider their own digital behaviors.","English",39.4,31.52,"616.85/84--dc23","104 pp.","https://greenhavenpublishing.com/978-1-5345-6766-5",{"$f":"Table1[[#This Row],['# of Books]]*Table1[[#This Row],[QTY]]","v":0},{"$f":"Table1[[#This Row],[QTY]]*Table1[[#This Row],[School & Library Price]]","v":0}]
[null,19,66,null,null,"Current Issues","Hot Topics","The Global Threat of Terrorism","978-1-5345-6696-5",{"$f":"HYPERLINK(Table1[[#This Row],[Hyperlink]],\"Weblink\")","v":"Weblink"},"Lucent Press","Library Bound Book",1,"2020","August 2019","Library","7.000 X 9.000","Author","Jason Brainard",null,null,null,null,"Z",null,"Grade 7","Grade 7 - 10","The international war on terror has been the focus of news reports for decades, but the information presented by the media can be confusing to people with little background on the subject. Readers explore the history of modern terrorism, various definitions of what constitutes terrorism, and key acts of political violence by both foreign and domestic terrorists. Detailed charts, quotes from experts in the study of terrorism, and in-depth sidebars help readers understand this complex issue and form their own opinions of how it can best be addressed, which they can share by answering thought-provoking discussion questions on this topic.","English",39.4,31.52,"363.325--dc23","104 pp.","https://greenhavenpublishing.com/978-1-5345-6696-5",{"$f":"Table1[[#This Row],['# of Books]]*Table1[[#This Row],[QTY]]","v":0},{"$f":"Table1[[#This Row],[QTY]]*Table1[[#This Row],[School & Library Price]]","v":0}]
[null,19,66,null,null,"Current Issues","Hot Topics","The Global Threat of Terrorism","978-1-5345-6757-3",{"$f":"HYPERLINK(Table1[[#This Row],[Hyperlink]],\"Weblink\")","v":"Weblink"},"Lucent Press","Paperback Book",1,"2020","August 2019","Paperback","7.000 X 9.000","Author","Jason Brainard",null,null,null,null,"Z",null,"Grade 7","Grade 7 - 10","The international war on terror has been the focus of news reports for decades, but the information presented by the media can be confusing to people with little background on the subject. Readers explore the history of modern terrorism, various definitions of what constitutes terrorism, and key acts of political violence by both foreign and domestic terrorists. Detailed charts, quotes from experts in the study of terrorism, and in-depth sidebars help readers understand this complex issue and form their own opinions of how it can best be addressed, which they can share by answering thought-provoking discussion questions on this topic.","English",19.989999999999998,16.989999999999998,"363.325--dc23","104 pp.","https://greenhavenpublishing.com/978-1-5345-6757-3",{"$f":"Table1[[#This Row],['# of Books]]*Table1[[#This Row],[QTY]]","v":0},{"$f":"Table1[[#This Row],[QTY]]*Table1[[#This Row],[School & Library Price]]","v":0}]
[null,19,66,null,null,"Current Issues","Hot Topics","The Global Threat of Terrorism","978-1-5345-6758-0",{"$f":"HYPERLINK(Table1[[#This Row],[Hyperlink]],\"Weblink\")","v":"Weblink"},"Lucent Press","eBook",1,"2020","August 2019",null,null,"Author","Jason Brainard",null,null,null,null,"Z",null,"Grade 7","Grade 7 - 10","The international war on terror has been the focus of news reports for decades, but the information presented by the media can be confusing to people with little background on the subject. Readers explore the history of modern terrorism, various definitions of what constitutes terrorism, and key acts of political violence by both foreign and domestic terrorists. Detailed charts, quotes from experts in the study of terrorism, and in-depth sidebars help readers understand this complex issue and form their own opinions of how it can best be addressed, which they can share by answering thought-provoking discussion questions on this topic.","English",39.4,31.52,"363.325--dc23","104 pp.","https://greenhavenpublishing.com/978-1-5345-6758-0",{"$f":"Table1[[#This Row],['# of Books]]*Table1[[#This Row],[QTY]]","v":0},{"$f":"Table1[[#This Row],[QTY]]*Table1[[#This Row],[School & Library Price]]","v":0}]
[null,19,66,null,null,"Current Issues","Hot Topics","The Gun Control Debate: From Classrooms to Congress","978-1-5345-6699-6",{"$f":"HYPERLINK(Table1[[#This Row],[Hyperlink]],\"Weblink\")","v":"Weblink"},"Lucent Press","Library Bound Book",1,"2020","August 2019","Library","7.000 X 9.000","Author","Lianna Tatman",null,null,null,null,"Z",null,"Grade 7","Grade 7 - 10","The recent sharp rise in school shootings in the United States has kept the gun control debate going. However, for many people, it is an emotional topic, making much of the information that people hear in the media or from friends and family members biased in one way or another. Understanding the history of gun laws in America and the realities of both sides of the issue is pivotal. Up-to-date statistics, annotated quotes from experts, and real-world examples contextualize the arguments surrounding this complex issue. This knowledge allows young adults to become informed participants in the gun control debate.","English",39.4,31.52,"363.330973--dc23","104 pp.","https://greenhavenpublishing.com/978-1-5345-6699-6",{"$f":"Table1[[#This Row],['# of Books]]*Table1[[#This Row],[QTY]]","v":0},{"$f":"Table1[[#This Row],[QTY]]*Table1[[#This Row],[School & Library Price]]","v":0}]
[null,19,66,null,null,"Current Issues","Hot Topics","The Gun Control Debate: From Classrooms to Congress","978-1-5345-6761-0",{"$f":"HYPERLINK(Table1[[#This Row],[Hyperlink]],\"Weblink\")","v":"Weblink"},"Lucent Press","Paperback Book",1,"2020","August 2019","Paperback","7.000 X 9.000","Author","Lianna Tatman",null,null,null,null,"Z",null,"Grade 7","Grade 7 - 10","The recent sharp rise in school shootings in the United States has kept the gun control debate going. However, for many people, it is an emotional topic, making much of the information that people hear in the media or from friends and family members biased in one way or another. Understanding the history of gun laws in America and the realities of both sides of the issue is pivotal. Up-to-date statistics, annotated quotes from experts, and real-world examples contextualize the arguments surrounding this complex issue. This knowledge allows young adults to become informed participants in the gun control debate.","English",19.989999999999998,16.989999999999998,"363.330973--dc23","104 pp.","https://greenhavenpublishing.com/978-1-5345-6761-0",{"$f":"Table1[[#This Row],['# of Books]]*Table1[[#This Row],[QTY]]","v":0},{"$f":"Table1[[#This Row],[QTY]]*Table1[[#This Row],[School & Library Price]]","v":0}]
[null,19,66,null,null,"Current Issues","Hot Topics","The Gun Control Debate: From Classrooms to Congress","978-1-5345-6762-7",{"$f":"HYPERLINK(Table1[[#This Row],[Hyperlink]],\"Weblink\")","v":"Weblink"},"Lucent Press","eBook",1,"2020","August 2019",null,null,"Author","Lianna Tatman",null,null,null,null,"Z",null,"Grade 7","Grade 7 - 10","The recent sharp rise in school shootings in the United States has kept the gun control debate going. However, for many people, it is an emotional topic, making much of the information that people hear in the media or from friends and family members biased in one way or another. Understanding the history of gun laws in America and the realities of both sides of the issue is pivotal. Up-to-date statistics, annotated quotes from experts, and real-world examples contextualize the arguments surrounding this complex issue. This knowledge allows young adults to become informed participants in the gun control debate.","English",39.4,31.52,"363.330973--dc23","104 pp.","https://greenhavenpublishing.com/978-1-5345-6762-7",{"$f":"Table1[[#This Row],['# of Books]]*Table1[[#This Row],[QTY]]","v":0},{"$f":"Table1[[#This Row],[QTY]]*Table1[[#This Row],[School & Library Price]]","v":0}]
[null,19,66,null,null,"Current Issues","Hot Topics","Abusive Relationships and Domestic Violence","978-1-5345-6512-8",{"$f":"HYPERLINK(Table1[[#This Row],[Hyperlink]],\"Weblink\")","v":"Weblink"},"Lucent Press","Library Bound Book",1,"2019","January 2019","Library","7.000 X 9.000","Author","Jennifer Lombardo",null,null,null,null,"Z",null,"Grade 7","Grade 7 - 10","Domestic violence often seems clear-cut, but some forms of abuse are not as easy to identify as physical abuse. Emotional abuse leaves no visible marks, although its effect on a person's psyche can be just as devastating. Understanding abuse is the first step toward ending an abusive relationship. Enlightening charts, annotated quotes from experts, and real-world examples help young adults identify abuse in relationships with romantic partners, close friends, or family members. This knowledge gives them the tools they need to break free of an unhealthy relationship or help a loved one do the same.","English",39.4,31.52,"362.82/92--dc23","104 pp.","https://greenhavenpublishing.com/978-1-5345-6512-8",{"$f":"Table1[[#This Row],['# of Books]]*Table1[[#This Row],[QTY]]","v":0},{"$f":"Table1[[#This Row],[QTY]]*Table1[[#This Row],[School & Library Price]]","v":0}]
[null,19,66,null,null,"Current Issues","Hot Topics","Abusive Relationships and Domestic Violence","978-1-5345-6511-1",{"$f":"HYPERLINK(Table1[[#This Row],[Hyperlink]],\"Weblink\")","v":"Weblink"},"Lucent Press","Paperback Book",1,"2019","January 2019","Paperback","7.000 X 9.000","Author","Jennifer Lombardo",null,null,null,null,"Z",null,"Grade 7","Grade 7 - 10","Domestic violence often seems clear-cut, but some forms of abuse are not as easy to identify as physical abuse. Emotional abuse leaves no visible marks, although its effect on a person's psyche can be just as devastating. Understanding abuse is the first step toward ending an abusive relationship. Enlightening charts, annotated quotes from experts, and real-world examples help young adults identify abuse in relationships with romantic partners, close friends, or family members. This knowledge gives them the tools they need to break free of an unhealthy relationship or help a loved one do the same.","English",19.989999999999998,16.989999999999998,"362.82/92--dc23","104 pp.","https://greenhavenpublishing.com/978-1-5345-6511-1",{"$f":"Table1[[#This Row],['# of Books]]*Table1[[#This Row],[QTY]]","v":0},{"$f":"Table1[[#This Row],[QTY]]*Table1[[#This Row],[School & Library Price]]","v":0}]
[null,19,66,null,null,"Current Issues","Hot Topics","Abusive Relationships and Domestic Violence","978-1-5345-6513-5",{"$f":"HYPERLINK(Table1[[#This Row],[Hyperlink]],\"Weblink\")","v":"Weblink"},"Lucent Press","eBook",1,"2019","January 2019",null,null,"Author","Jennifer Lombardo",null,null,null,null,"Z",null,"Grade 7","Grade 7 - 10","Domestic violence often seems clear-cut, but some forms of abuse are not as easy to identify as physical abuse. Emotional abuse leaves no visible marks, although its effect on a person's psyche can be just as devastating. Understanding abuse is the first step toward ending an abusive relationship. Enlightening charts, annotated quotes from experts, and real-world examples help young adults identify abuse in relationships with romantic partners, close friends, or family members. This knowledge gives them the tools they need to break free of an unhealthy relationship or help a loved one do the same.","English",39.4,31.52,"362.82/92--dc23","104 pp.","https://greenhavenpublishing.com/978-1-5345-6513-5",{"$f":"Table1[[#This Row],['# of Books]]*Table1[[#This Row],[QTY]]","v":0},{"$f":"Table1[[#This Row],[QTY]]*Table1[[#This Row],[School & Library Price]]","v":0}]
[null,19,66,null,null,"Current Issues","Hot Topics","Alternative Energy Sources: The End of Fossil Fuels?","978-1-5345-6509-8",{"$f":"HYPERLINK(Table1[[#This Row],[Hyperlink]],\"Weblink\")","v":"Weblink"},"Lucent Press","Library Bound Book",1,"2019","January 2019","Library","7.000 X 9.000","Author","Sophie Washburne",null,null,null,null,"Z",null,"Grade 7","Grade 7 - 10","Climate change and sustainability are important topics in the 21st century. Scientists have long warned that using fossil fuels to heat homes, power vehicles, and keep appliances running has negative effects on the environment, but there are many economic and social issues to consider when switching to alternative energy sources. Readers discover the debates surrounding various forms of alternative energy, the barriers that must be overcome in order to adopt them, and the benefits they can provide. Up-to-date statistics, annotated quotes from experts, full-color photographs, and informative sidebars help young adults form their own opinions about alternative energy sources.","English",39.4,31.52,"333.79/4--dc23","104 pp.","https://greenhavenpublishing.com/978-1-5345-6509-8",{"$f":"Table1[[#This Row],['# of Books]]*Table1[[#This Row],[QTY]]","v":0},{"$f":"Table1[[#This Row],[QTY]]*Table1[[#This Row],[School & Library Price]]","v":0}]
[null,19,66,null,null,"Current Issues","Hot Topics","Alternative Energy Sources: The End of Fossil Fuels?","978-1-5345-6508-1",{"$f":"HYPERLINK(Table1[[#This Row],[Hyperlink]],\"Weblink\")","v":"Weblink"},"Lucent Press","Paperback Book",1,"2019","January 2019","Paperback","7.000 X 9.000","Author","Sophie Washburne",null,null,null,null,"Z",null,"Grade 7","Grade 7 - 10","Climate change and sustainability are important topics in the 21st century. Scientists have long warned that using fossil fuels to heat homes, power vehicles, and keep appliances running has negative effects on the environment, but there are many economic and social issues to consider when switching to alternative energy sources. Readers discover the debates surrounding various forms of alternative energy, the barriers that must be overcome in order to adopt them, and the benefits they can provide. Up-to-date statistics, annotated quotes from experts, full-color photographs, and informative sidebars help young adults form their own opinions about alternative energy sources.","English",19.989999999999998,16.989999999999998,"333.79/4--dc23","104 pp.","https://greenhavenpublishing.com/978-1-5345-6508-1",{"$f":"Table1[[#This Row],['# of Books]]*Table1[[#This Row],[QTY]]","v":0},{"$f":"Table1[[#This Row],[QTY]]*Table1[[#This Row],[School & Library Price]]","v":0}]
[null,19,66,null,null,"Current Issues","Hot Topics","Alternative Energy Sources: The End of Fossil Fuels?","978-1-5345-6510-4",{"$f":"HYPERLINK(Table1[[#This Row],[Hyperlink]],\"Weblink\")","v":"Weblink"},"Lucent Press","eBook",1,"2019","January 2019",null,null,"Author","Sophie Washburne",null,null,null,null,"Z",null,"Grade 7","Grade 7 - 10","Climate change and sustainability are important topics in the 21st century. Scientists have long warned that using fossil fuels to heat homes, power vehicles, and keep appliances running has negative effects on the environment, but there are many economic and social issues to consider when switching to alternative energy sources. Readers discover the debates surrounding various forms of alternative energy, the barriers that must be overcome in order to adopt them, and the benefits they can provide. Up-to-date statistics, annotated quotes from experts, full-color photographs, and informative sidebars help young adults form their own opinions about alternative energy sources.","English",39.4,31.52,"333.79/4--dc23","104 pp.","https://greenhavenpublishing.com/978-1-5345-6510-4",{"$f":"Table1[[#This Row],['# of Books]]*Table1[[#This Row],[QTY]]","v":0},{"$f":"Table1[[#This Row],[QTY]]*Table1[[#This Row],[School & Library Price]]","v":0}]
[null,19,66,null,null,"Current Issues","Hot Topics","Animal Rights: A Complex Debate","978-1-5345-6536-4",{"$f":"HYPERLINK(Table1[[#This Row],[Hyperlink]],\"Weblink\")","v":"Weblink"},"Lucent Press","Library Bound Book",1,"2019","January 2019","Library","7.000 X 9.000","Author","Tyler Stevenson",null,null,null,null,"Z",null,"Grade 7","Grade 7 - 10","Animals have alternately been considered pests, food, workers, test subjects, and, as is becoming increasingly common, companions. This begs the question: What rights should animals have? Through engaging text featuring annotated quotes from experts, readers learn about the changing role of animals and the ensuing changing attitudes of people toward how animals should be treated. Detailed charts, engaging sidebars, and relevant statistics provide an in-depth education regarding the history and ramifications, both legal and societal, of animal rights. Readers are also encouraged to think critically to form an opinion on the actions and tactics of different animal rights organizations.","English",39.4,31.52,"179/.3--dc23","104 pp.","https://greenhavenpublishing.com/978-1-5345-6536-4",{"$f":"Table1[[#This Row],['# of Books]]*Table1[[#This Row],[QTY]]","v":0},{"$f":"Table1[[#This Row],[QTY]]*Table1[[#This Row],[School & Library Price]]","v":0}]
[null,19,66,null,null,"Current Issues","Hot Topics","Animal Rights: A Complex Debate","978-1-5345-6500-5",{"$f":"HYPERLINK(Table1[[#This Row],[Hyperlink]],\"Weblink\")","v":"Weblink"},"Lucent Press","Paperback Book",1,"2019","January 2019","Paperback","7.000 X 9.000","Author","Tyler Stevenson",null,null,null,null,"Z",null,"Grade 7","Grade 7 - 10","Animals have alternately been considered pests, food, workers, test subjects, and, as is becoming increasingly common, companions. This begs the question: What rights should animals have? Through engaging text featuring annotated quotes from experts, readers learn about the changing role of animals and the ensuing changing attitudes of people toward how animals should be treated. Detailed charts, engaging sidebars, and relevant statistics provide an in-depth education regarding the history and ramifications, both legal and societal, of animal rights. Readers are also encouraged to think critically to form an opinion on the actions and tactics of different animal rights organizations.","English",19.989999999999998,16.989999999999998,"179/.3--dc23","104 pp.","https://greenhavenpublishing.com/978-1-5345-6500-5",{"$f":"Table1[[#This Row],['# of Books]]*Table1[[#This Row],[QTY]]","v":0},{"$f":"Table1[[#This Row],[QTY]]*Table1[[#This Row],[School & Library Price]]","v":0}]
[null,19,66,null,null,"Current Issues","Hot Topics","Animal Rights: A Complex Debate","978-1-5345-6501-2",{"$f":"HYPERLINK(Table1[[#This Row],[Hyperlink]],\"Weblink\")","v":"Weblink"},"Lucent Press","eBook",1,"2019","January 2019",null,null,"Author","Tyler Stevenson",null,null,null,null,"Z",null,"Grade 7","Grade 7 - 10","Animals have alternately been considered pests, food, workers, test subjects, and, as is becoming increasingly common, companions. This begs the question: What rights should animals have? Through engaging text featuring annotated quotes from experts, readers learn about the changing role of animals and the ensuing changing attitudes of people toward how animals should be treated. Detailed charts, engaging sidebars, and relevant statistics provide an in-depth education regarding the history and ramifications, both legal and societal, of animal rights. Readers are also encouraged to think critically to form an opinion on the actions and tactics of different animal rights organizations.","English",39.4,31.52,"179/.3--dc23","104 pp.","https://greenhavenpublishing.com/978-1-5345-6501-2",{"$f":"Table1[[#This Row],['# of Books]]*Table1[[#This Row],[QTY]]","v":0},{"$f":"Table1[[#This Row],[QTY]]*Table1[[#This Row],[School & Library Price]]","v":0}]
[null,19,66,null,null,"Current Issues","Hot Topics","Free Speech in the Digital Age","978-1-5345-6506-7",{"$f":"HYPERLINK(Table1[[#This Row],[Hyperlink]],\"Weblink\")","v":"Weblink"},"Lucent Press","Library Bound Book",1,"2019","January 2019","Library","7.000 X 9.000","Author","Michelle Denton",null,null,null,null,"Z",null,"Grade 7","Grade 7 - 10","The internet makes sharing ideas and communicating easy, and it connects individuals and communities like never before. However, with so much power available to the masses, should people be allowed to say whatever they want? Should there be consequences for spreading hate and harassing others online? This volume explores these and other important questions, with full-color photographs, annotated quotes from experts, and detailed sidebars providing a comprehensive review of the many points of view on these issues. Readers learn about free speech in an increasingly globalized and technologically advanced society, as well as their role in creating online culture.","English",39.4,31.52,"342.08/53--dc23","104 pp.","https://greenhavenpublishing.com/978-1-5345-6506-7",{"$f":"Table1[[#This Row],['# of Books]]*Table1[[#This Row],[QTY]]","v":0},{"$f":"Table1[[#This Row],[QTY]]*Table1[[#This Row],[School & Library Price]]","v":0}]
[null,19,66,null,null,"Current Issues","Hot Topics","Free Speech in the Digital Age","978-1-5345-6505-0",{"$f":"HYPERLINK(Table1[[#This Row],[Hyperlink]],\"Weblink\")","v":"Weblink"},"Lucent Press","Paperback Book",1,"2019","January 2019","Paperback","7.000 X 9.000","Author","Michelle Denton",null,null,null,null,"Z",null,"Grade 7","Grade 7 - 10","The internet makes sharing ideas and communicating easy, and it connects individuals and communities like never before. However, with so much power available to the masses, should people be allowed to say whatever they want? Should there be consequences for spreading hate and harassing others online? This volume explores these and other important questions, with full-color photographs, annotated quotes from experts, and detailed sidebars providing a comprehensive review of the many points of view on these issues. Readers learn about free speech in an increasingly globalized and technologically advanced society, as well as their role in creating online culture.","English",19.989999999999998,16.989999999999998,"342.08/53--dc23","104 pp.","https://greenhavenpublishing.com/978-1-5345-6505-0",{"$f":"Table1[[#This Row],['# of Books]]*Table1[[#This Row],[QTY]]","v":0},{"$f":"Table1[[#This Row],[QTY]]*Table1[[#This Row],[School & Library Price]]","v":0}]
[null,19,66,null,null,"Current Issues","Hot Topics","Free Speech in the Digital Age","978-1-5345-6507-4",{"$f":"HYPERLINK(Table1[[#This Row],[Hyperlink]],\"Weblink\")","v":"Weblink"},"Lucent Press","eBook",1,"2019","January 2019",null,null,"Author","Michelle Denton",null,null,null,null,"Z",null,"Grade 7","Grade 7 - 10","The internet makes sharing ideas and communicating easy, and it connects individuals and communities like never before. However, with so much power available to the masses, should people be allowed to say whatever they want? Should there be consequences for spreading hate and harassing others online? This volume explores these and other important questions, with full-color photographs, annotated quotes from experts, and detailed sidebars providing a comprehensive review of the many points of view on these issues. Readers learn about free speech in an increasingly globalized and technologically advanced society, as well as their role in creating online culture.","English",39.4,31.52,"342.08/53--dc23","104 pp.","https://greenhavenpublishing.com/978-1-5345-6507-4",{"$f":"Table1[[#This Row],['# of Books]]*Table1[[#This Row],[QTY]]","v":0},{"$f":"Table1[[#This Row],[QTY]]*Table1[[#This Row],[School & Library Price]]","v":0}]
[null,19,66,null,null,"Current Issues","Hot Topics","Genetic Engineering and Genetically Modified Organisms","978-1-5345-6503-6",{"$f":"HYPERLINK(Table1[[#This Row],[Hyperlink]],\"Weblink\")","v":"Weblink"},"Lucent Press","Library Bound Book",1,"2019","January 2019","Library","7.000 X 9.000","Author","Michelle Denton",null,null,null,null,"Z","1280L","Grade 7","Grade 7 - 10","For years, scientists have been genetically modifying plants and animals to increase their potential as food, and the ethics of this have long been debated. Discussions about genetically modified organisms, GMOs, take place often on social media and in the news. Readers are prepared to take part in these discussions as they learn what genetic engineering is, how it is done, and what the future of GMOs looks like. They are also encouraged to think critically about the pros and cons of modifying genetics. Graphs, full-color photographs, sidebars, and annotated quotes from experts broaden readers' understanding of this controversial topic.","English",39.4,31.52,"576.5--dc23","104 pp.","https://greenhavenpublishing.com/978-1-5345-6503-6",{"$f":"Table1[[#This Row],['# of Books]]*Table1[[#This Row],[QTY]]","v":0},{"$f":"Table1[[#This Row],[QTY]]*Table1[[#This Row],[School & Library Price]]","v":0}]
[null,19,66,null,null,"Current Issues","Hot Topics","Genetic Engineering and Genetically Modified Organisms","978-1-5345-6502-9",{"$f":"HYPERLINK(Table1[[#This Row],[Hyperlink]],\"Weblink\")","v":"Weblink"},"Lucent Press","Paperback Book",1,"2019","January 2019","Paperback","7.000 X 9.000","Author","Michelle Denton",null,null,null,null,"Z","1280L","Grade 7","Grade 7 - 10","For years, scientists have been genetically modifying plants and animals to increase their potential as food, and the ethics of this have long been debated. Discussions about genetically modified organisms, GMOs, take place often on social media and in the news. Readers are prepared to take part in these discussions as they learn what genetic engineering is, how it is done, and what the future of GMOs looks like. They are also encouraged to think critically about the pros and cons of modifying genetics. Graphs, full-color photographs, sidebars, and annotated quotes from experts broaden readers' understanding of this controversial topic.","English",19.989999999999998,16.989999999999998,"576.5--dc23","104 pp.","https://greenhavenpublishing.com/978-1-5345-6502-9",{"$f":"Table1[[#This Row],['# of Books]]*Table1[[#This Row],[QTY]]","v":0},{"$f":"Table1[[#This Row],[QTY]]*Table1[[#This Row],[School & Library Price]]","v":0}]
[null,19,66,null,null,"Current Issues","Hot Topics","Genetic Engineering and Genetically Modified Organisms","978-1-5345-6504-3",{"$f":"HYPERLINK(Table1[[#This Row],[Hyperlink]],\"Weblink\")","v":"Weblink"},"Lucent Press","eBook",1,"2019","January 2019",null,null,"Author","Michelle Denton",null,null,null,null,"Z","1280L","Grade 7","Grade 7 - 10","For years, scientists have been genetically modifying plants and animals to increase their potential as food, and the ethics of this have long been debated. Discussions about genetically modified organisms, GMOs, take place often on social media and in the news. Readers are prepared to take part in these discussions as they learn what genetic engineering is, how it is done, and what the future of GMOs looks like. They are also encouraged to think critically about the pros and cons of modifying genetics. Graphs, full-color photographs, sidebars, and annotated quotes from experts broaden readers' understanding of this controversial topic.","English",39.4,31.52,"576.5--dc23","104 pp.","https://greenhavenpublishing.com/978-1-5345-6504-3",{"$f":"Table1[[#This Row],['# of Books]]*Table1[[#This Row],[QTY]]","v":0},{"$f":"Table1[[#This Row],[QTY]]*Table1[[#This Row],[School & Library Price]]","v":0}]
[null,19,66,null,null,"Current Issues","Hot Topics","Teens and Alcohol: A Dangerous Combination","978-1-5345-6498-5",{"$f":"HYPERLINK(Table1[[#This Row],[Hyperlink]],\"Weblink\")","v":"Weblink"},"Lucent Press","Library Bound Book",1,"2019","January 2019","Library","7.000 X 9.000","Author","Allison Krumsiek",null,null,null,null,"Z",null,"Grade 7","Grade 7 - 10","Although alcohol is a popular substance in the United States, its use can have dangerous consequences, especially for young adults. Underage drinking has been declining in recent years, but it remains a serious problem that needs to be addressed. Readers explore the main issues that surround American youth and alcohol, from the legal fights over the drinking age to the binge drinking epidemic. Detailed main text and sidebars, annotated quotes from experts, and informative graphics help readers understand the consequences of alcohol abuse and the many points of view people have about young adults and alcohol.","English",39.4,31.52,"362.2920835--dc23","104 pp.","https://greenhavenpublishing.com/978-1-5345-6498-5",{"$f":"Table1[[#This Row],['# of Books]]*Table1[[#This Row],[QTY]]","v":0},{"$f":"Table1[[#This Row],[QTY]]*Table1[[#This Row],[School & Library Price]]","v":0}]
[null,19,66,null,null,"Current Issues","Hot Topics","Teens and Alcohol: A Dangerous Combination","978-1-5345-6497-8",{"$f":"HYPERLINK(Table1[[#This Row],[Hyperlink]],\"Weblink\")","v":"Weblink"},"Lucent Press","Paperback Book",1,"2019","January 2019","Paperback","7.000 X 9.000","Author","Allison Krumsiek",null,null,null,null,"Z",null,"Grade 7","Grade 7 - 10","Although alcohol is a popular substance in the United States, its use can have dangerous consequences, especially for young adults. Underage drinking has been declining in recent years, but it remains a serious problem that needs to be addressed. Readers explore the main issues that surround American youth and alcohol, from the legal fights over the drinking age to the binge drinking epidemic. Detailed main text and sidebars, annotated quotes from experts, and informative graphics help readers understand the consequences of alcohol abuse and the many points of view people have about young adults and alcohol.","English",19.989999999999998,16.989999999999998,"362.2920835--dc23","104 pp.","https://greenhavenpublishing.com/978-1-5345-6497-8",{"$f":"Table1[[#This Row],['# of Books]]*Table1[[#This Row],[QTY]]","v":0},{"$f":"Table1[[#This Row],[QTY]]*Table1[[#This Row],[School & Library Price]]","v":0}]
[null,19,66,null,null,"Current Issues","Hot Topics","Teens and Alcohol: A Dangerous Combination","978-1-5345-6499-2",{"$f":"HYPERLINK(Table1[[#This Row],[Hyperlink]],\"Weblink\")","v":"Weblink"},"Lucent Press","eBook",1,"2019","January 2019",null,null,"Author","Allison Krumsiek",null,null,null,null,"Z",null,"Grade 7","Grade 7 - 10","Although alcohol is a popular substance in the United States, its use can have dangerous consequences, especially for young adults. Underage drinking has been declining in recent years, but it remains a serious problem that needs to be addressed. Readers explore the main issues that surround American youth and alcohol, from the legal fights over the drinking age to the binge drinking epidemic. Detailed main text and sidebars, annotated quotes from experts, and informative graphics help readers understand the consequences of alcohol abuse and the many points of view people have about young adults and alcohol.","English",39.4,31.52,"362.2920835--dc23","104 pp.","https://greenhavenpublishing.com/978-1-5345-6499-2",{"$f":"Table1[[#This Row],['# of Books]]*Table1[[#This Row],[QTY]]","v":0},{"$f":"Table1[[#This Row],[QTY]]*Table1[[#This Row],[School & Library Price]]","v":0}]
[null,19,67,null,null,"Current Issues","Hot Topics","Drug Abuse: Inside an American Epidemic","978-1-5345-6350-6",{"$f":"HYPERLINK(Table1[[#This Row],[Hyperlink]],\"Weblink\")","v":"Weblink"},"Lucent Press","Library Bound Book",1,"2019","August 2018","Library","7.000 X 9.000","Author","Nicole Horning",null,null,null,null,"Z",null,"Grade 7","Grade 7 - 10","Drug abuse is not a new phenomenon, but it seems as though the problem has become worse in recent years, especially as prescription opioid and heroin abuse has skyrocketed. Is this an accurate view, or has the media inflated the problem? Which drugs are at the forefront of this current national crisis? Readers discover the answers to these questions and many more as they explore well-researched, unbiased text. Through full-color photographs, detailed sidebars, and annotated quotes from leading experts, this volume discusses the most pressing issues in today's drug abuse epidemic.","English",39.4,31.52,"362.290973--dc23","104 pp.","https://greenhavenpublishing.com/978-1-5345-6350-6",{"$f":"Table1[[#This Row],['# of Books]]*Table1[[#This Row],[QTY]]","v":0},{"$f":"Table1[[#This Row],[QTY]]*Table1[[#This Row],[School & Library Price]]","v":0}]
[null,19,67,null,null,"Current Issues","Hot Topics","Drug Abuse: Inside an American Epidemic","978-1-5345-6352-0",{"$f":"HYPERLINK(Table1[[#This Row],[Hyperlink]],\"Weblink\")","v":"Weblink"},"Lucent Press","Paperback Book",1,"2019","August 2018","Paperback","7.000 X 9.000","Author","Nicole Horning",null,null,null,null,"Z",null,"Grade 7","Grade 7 - 10","Drug abuse is not a new phenomenon, but it seems as though the problem has become worse in recent years, especially as prescription opioid and heroin abuse has skyrocketed. Is this an accurate view, or has the media inflated the problem? Which drugs are at the forefront of this current national crisis? Readers discover the answers to these questions and many more as they explore well-researched, unbiased text. Through full-color photographs, detailed sidebars, and annotated quotes from leading experts, this volume discusses the most pressing issues in today's drug abuse epidemic.","English",19.989999999999998,16.989999999999998,"362.290973--dc23","104 pp.","https://greenhavenpublishing.com/978-1-5345-6352-0",{"$f":"Table1[[#This Row],['# of Books]]*Table1[[#This Row],[QTY]]","v":0},{"$f":"Table1[[#This Row],[QTY]]*Table1[[#This Row],[School & Library Price]]","v":0}]
[null,19,67,null,null,"Current Issues","Hot Topics","Drug Abuse: Inside an American Epidemic","978-1-5345-6351-3",{"$f":"HYPERLINK(Table1[[#This Row],[Hyperlink]],\"Weblink\")","v":"Weblink"},"Lucent Press","eBook",1,"2019","August 2018",null,null,"Author","Nicole Horning",null,null,null,null,"Z",null,"Grade 7","Grade 7 - 10","Drug abuse is not a new phenomenon, but it seems as though the problem has become worse in recent years, especially as prescription opioid and heroin abuse has skyrocketed. Is this an accurate view, or has the media inflated the problem? Which drugs are at the forefront of this current national crisis? Readers discover the answers to these questions and many more as they explore well-researched, unbiased text. Through full-color photographs, detailed sidebars, and annotated quotes from leading experts, this volume discusses the most pressing issues in today's drug abuse epidemic.","English",39.4,31.52,"362.290973--dc23","104 pp.","https://greenhavenpublishing.com/978-1-5345-6351-3",{"$f":"Table1[[#This Row],['# of Books]]*Table1[[#This Row],[QTY]]","v":0},{"$f":"Table1[[#This Row],[QTY]]*Table1[[#This Row],[School & Library Price]]","v":0}]
[null,19,68,null,null,"Current Issues","Hot Topics","Health Care: Limits, Laws, and Lives at Stake","978-1-5345-6347-6",{"$f":"HYPERLINK(Table1[[#This Row],[Hyperlink]],\"Weblink\")","v":"Weblink"},"Lucent Press","Library Bound Book",1,"2019","August 2018","Library","7.000 X 9.000","Author","Tyler Stevenson",null,null,null,null,"Z",null,"Grade 7","Grade 7 - 10","Health care reform has been at the center of political debate during the past decade. Everyone agrees the current system needs changes, but it seems few people can agree on how many changes and what kind. Some believe it simply needs a few small adjustments, while others believe it should be completely scrapped and rebuilt from the ground up. Detailed graphs, full-color photographs, annotated quotes from experts, and enlightening sidebars augment the informative text to present readers with all sides of the issue, helping them form their own opinions and strengthen their critical-thinking skills.","English",39.4,31.52,"362.1/0425--dc23","104 pp.","https://greenhavenpublishing.com/978-1-5345-6347-6",{"$f":"Table1[[#This Row],['# of Books]]*Table1[[#This Row],[QTY]]","v":0},{"$f":"Table1[[#This Row],[QTY]]*Table1[[#This Row],[School & Library Price]]","v":0}]
[null,19,68,null,null,"Current Issues","Hot Topics","Health Care: Limits, Laws, and Lives at Stake","978-1-5345-6349-0",{"$f":"HYPERLINK(Table1[[#This Row],[Hyperlink]],\"Weblink\")","v":"Weblink"},"Lucent Press","Paperback Book",1,"2019","August 2018","Paperback","7.000 X 9.000","Author","Tyler Stevenson",null,null,null,null,"Z",null,"Grade 7","Grade 7 - 10","Health care reform has been at the center of political debate during the past decade. Everyone agrees the current system needs changes, but it seems few people can agree on how many changes and what kind. Some believe it simply needs a few small adjustments, while others believe it should be completely scrapped and rebuilt from the ground up. Detailed graphs, full-color photographs, annotated quotes from experts, and enlightening sidebars augment the informative text to present readers with all sides of the issue, helping them form their own opinions and strengthen their critical-thinking skills.","English",19.989999999999998,16.989999999999998,"362.1/0425--dc23","104 pp.","https://greenhavenpublishing.com/978-1-5345-6349-0",{"$f":"Table1[[#This Row],['# of Books]]*Table1[[#This Row],[QTY]]","v":0},{"$f":"Table1[[#This Row],[QTY]]*Table1[[#This Row],[School & Library Price]]","v":0}]
[null,19,68,null,null,"Current Issues","Hot Topics","Health Care: Limits, Laws, and Lives at Stake","978-1-5345-6348-3",{"$f":"HYPERLINK(Table1[[#This Row],[Hyperlink]],\"Weblink\")","v":"Weblink"},"Lucent Press","eBook",1,"2019","August 2018",null,null,"Author","Tyler Stevenson",null,null,null,null,"Z",null,"Grade 7","Grade 7 - 10","Health care reform has been at the center of political debate during the past decade. Everyone agrees the current system needs changes, but it seems few people can agree on how many changes and what kind. Some believe it simply needs a few small adjustments, while others believe it should be completely scrapped and rebuilt from the ground up. Detailed graphs, full-color photographs, annotated quotes from experts, and enlightening sidebars augment the informative text to present readers with all sides of the issue, helping them form their own opinions and strengthen their critical-thinking skills.","English",39.4,31.52,"362.1/0425--dc23","104 pp.","https://greenhavenpublishing.com/978-1-5345-6348-3",{"$f":"Table1[[#This Row],['# of Books]]*Table1[[#This Row],[QTY]]","v":0},{"$f":"Table1[[#This Row],[QTY]]*Table1[[#This Row],[School & Library Price]]","v":0}]
[null,19,68,null,null,"Current Issues","Hot Topics","Online Activism: Social Change Through Social Media","978-1-5345-6356-8",{"$f":"HYPERLINK(Table1[[#This Row],[Hyperlink]],\"Weblink\")","v":"Weblink"},"Lucent Press","Library Bound Book",1,"2019","August 2018","Library","7.000 X 9.000","Author","Amanda Vink",null,null,null,null,"Z",null,"Grade 7","Grade 7 - 10","The growth of the Internet has changed almost every aspect of society, and social activism is no exception. Circulating petitions and organizing rallies is easier than ever, but so is the illusion of creating change without putting in effort. Readers learn the ways activism has changed in the Internet era. The informative text is supplemented with detailed charts and annotated quotes presenting multiple points of view. By learning more about online activism, young adults can become more informed about how to take a stand on issues they are passionate about.","English",39.4,31.52,"302.23/1--dc23","104 pp.","https://greenhavenpublishing.com/978-1-5345-6356-8",{"$f":"Table1[[#This Row],['# of Books]]*Table1[[#This Row],[QTY]]","v":0},{"$f":"Table1[[#This Row],[QTY]]*Table1[[#This Row],[School & Library Price]]","v":0}]
[null,19,67,null,null,"Current Issues","Hot Topics","Online Activism: Social Change Through Social Media","978-1-5345-6358-2",{"$f":"HYPERLINK(Table1[[#This Row],[Hyperlink]],\"Weblink\")","v":"Weblink"},"Lucent Press","Paperback Book",1,"2019","August 2018","Paperback","7.000 X 9.000","Author","Amanda Vink",null,null,null,null,"Z",null,"Grade 7","Grade 7 - 10","The growth of the Internet has changed almost every aspect of society, and social activism is no exception. Circulating petitions and organizing rallies is easier than ever, but so is the illusion of creating change without putting in effort. Readers learn the ways activism has changed in the Internet era. The informative text is supplemented with detailed charts and annotated quotes presenting multiple points of view. By learning more about online activism, young adults can become more informed about how to take a stand on issues they are passionate about.","English",19.989999999999998,16.989999999999998,"302.23/1--dc23","104 pp.","https://greenhavenpublishing.com/978-1-5345-6358-2",{"$f":"Table1[[#This Row],['# of Books]]*Table1[[#This Row],[QTY]]","v":0},{"$f":"Table1[[#This Row],[QTY]]*Table1[[#This Row],[School & Library Price]]","v":0}]
[null,19,68,null,null,"Current Issues","Hot Topics","Online Activism: Social Change Through Social Media","978-1-5345-6357-5",{"$f":"HYPERLINK(Table1[[#This Row],[Hyperlink]],\"Weblink\")","v":"Weblink"},"Lucent Press","eBook",1,"2019","August 2018",null,null,"Author","Amanda Vink",null,null,null,null,"Z",null,"Grade 7","Grade 7 - 10","The growth of the Internet has changed almost every aspect of society, and social activism is no exception. Circulating petitions and organizing rallies is easier than ever, but so is the illusion of creating change without putting in effort. Readers learn the ways activism has changed in the Internet era. The informative text is supplemented with detailed charts and annotated quotes presenting multiple points of view. By learning more about online activism, young adults can become more informed about how to take a stand on issues they are passionate about.","English",39.4,31.52,"302.23/1--dc23","104 pp.","https://greenhavenpublishing.com/978-1-5345-6357-5",{"$f":"Table1[[#This Row],['# of Books]]*Table1[[#This Row],[QTY]]","v":0},{"$f":"Table1[[#This Row],[QTY]]*Table1[[#This Row],[School & Library Price]]","v":0}]
[null,19,68,null,null,"Current Issues","Hot Topics","Political Corruption and the Abuse of Power","978-1-5345-6341-4",{"$f":"HYPERLINK(Table1[[#This Row],[Hyperlink]],\"Weblink\")","v":"Weblink"},"Lucent Press","Library Bound Book",1,"2019","August 2018","Library","7.000 X 9.000","Author","Sarah Machajewski",null,null,null,null,"Z",null,"Grade 7","Grade 7 - 10","Throughout history, gaining political power has frequently led to unethical behavior. It is difficult for people to resist the temptation to abuse their power. In the worst cases, this has led to political unrest, economic instability, and genocide. Readers learn what political corruption is, how it affects citizens' lives, and what can be done about it. Historical and modern examples are provided to give readers a comprehensive view of this important and timely topic. Informative charts and full-color photographs enhance the engaging text to show young adults the importance of civic engagement and political scrutiny to combat corruption.","English",39.4,31.52,"364.1'323--dc23","104 pp.","https://greenhavenpublishing.com/978-1-5345-6341-4",{"$f":"Table1[[#This Row],['# of Books]]*Table1[[#This Row],[QTY]]","v":0},{"$f":"Table1[[#This Row],[QTY]]*Table1[[#This Row],[School & Library Price]]","v":0}]
[null,19,67,null,null,"Current Issues","Hot Topics","Political Corruption and the Abuse of Power","978-1-5345-6343-8",{"$f":"HYPERLINK(Table1[[#This Row],[Hyperlink]],\"Weblink\")","v":"Weblink"},"Lucent Press","Paperback Book",1,"2019","August 2018","Paperback","7.000 X 9.000","Author","Sarah Machajewski",null,null,null,null,"Z",null,"Grade 7","Grade 7 - 10","Throughout history, gaining political power has frequently led to unethical behavior. It is difficult for people to resist the temptation to abuse their power. In the worst cases, this has led to political unrest, economic instability, and genocide. Readers learn what political corruption is, how it affects citizens' lives, and what can be done about it. Historical and modern examples are provided to give readers a comprehensive view of this important and timely topic. Informative charts and full-color photographs enhance the engaging text to show young adults the importance of civic engagement and political scrutiny to combat corruption.","English",19.989999999999998,16.989999999999998,"364.1'323--dc23","104 pp.","https://greenhavenpublishing.com/978-1-5345-6343-8",{"$f":"Table1[[#This Row],['# of Books]]*Table1[[#This Row],[QTY]]","v":0},{"$f":"Table1[[#This Row],[QTY]]*Table1[[#This Row],[School & Library Price]]","v":0}]
[null,19,68,null,null,"Current Issues","Hot Topics","Political Corruption and the Abuse of Power","978-1-5345-6342-1",{"$f":"HYPERLINK(Table1[[#This Row],[Hyperlink]],\"Weblink\")","v":"Weblink"},"Lucent Press","eBook",1,"2019","August 2018",null,null,"Author","Sarah Machajewski",null,null,null,null,"Z",null,"Grade 7","Grade 7 - 10","Throughout history, gaining political power has frequently led to unethical behavior. It is difficult for people to resist the temptation to abuse their power. In the worst cases, this has led to political unrest, economic instability, and genocide. Readers learn what political corruption is, how it affects citizens' lives, and what can be done about it. Historical and modern examples are provided to give readers a comprehensive view of this important and timely topic. Informative charts and full-color photographs enhance the engaging text to show young adults the importance of civic engagement and political scrutiny to combat corruption.","English",39.4,31.52,"364.1'323--dc23","104 pp.","https://greenhavenpublishing.com/978-1-5345-6342-1",{"$f":"Table1[[#This Row],['# of Books]]*Table1[[#This Row],[QTY]]","v":0},{"$f":"Table1[[#This Row],[QTY]]*Table1[[#This Row],[School & Library Price]]","v":0}]
[null,19,68,null,null,"Current Issues","Hot Topics","Poverty and Economic Inequality","978-1-5345-6353-7",{"$f":"HYPERLINK(Table1[[#This Row],[Hyperlink]],\"Weblink\")","v":"Weblink"},"Lucent Press","Library Bound Book",1,"2019","August 2018","Library","7.000 X 9.000","Author","Meghan Sharif",null,null,null,null,"Z",null,"Grade 7","Grade 7 - 10","Although millions of Americans live below the poverty line, economic inequality is still a frequently misunderstood issue. Myths about poverty that have been thoroughly debunked are still commonly circulated, and this type of misunderstanding leads to poor communication and tension between people of different economic classes. The goal of this volume is to reduce that misunderstanding and present readers with the facts and realities of economic inequality. In-depth sidebars, full-color photographs, and educational graphs present essential information about this complex issue. Annotated quotes are also included to provide first-person perspectives to deepen readers' critical thinking skills.","English",39.4,31.52,"339.4/6--dc23","104 pp.","https://greenhavenpublishing.com/978-1-5345-6353-7",{"$f":"Table1[[#This Row],['# of Books]]*Table1[[#This Row],[QTY]]","v":0},{"$f":"Table1[[#This Row],[QTY]]*Table1[[#This Row],[School & Library Price]]","v":0}]
[null,19,67,null,null,"Current Issues","Hot Topics","Poverty and Economic Inequality","978-1-5345-6355-1",{"$f":"HYPERLINK(Table1[[#This Row],[Hyperlink]],\"Weblink\")","v":"Weblink"},"Lucent Press","Paperback Book",1,"2019","August 2018","Paperback","7.000 X 9.000","Author","Meghan Sharif",null,null,null,null,"Z",null,"Grade 7","Grade 7 - 10","Although millions of Americans live below the poverty line, economic inequality is still a frequently misunderstood issue. Myths about poverty that have been thoroughly debunked are still commonly circulated, and this type of misunderstanding leads to poor communication and tension between people of different economic classes. The goal of this volume is to reduce that misunderstanding and present readers with the facts and realities of economic inequality. In-depth sidebars, full-color photographs, and educational graphs present essential information about this complex issue. Annotated quotes are also included to provide first-person perspectives to deepen readers' critical thinking skills.","English",19.989999999999998,16.989999999999998,"339.4/6--dc23","104 pp.","https://greenhavenpublishing.com/978-1-5345-6355-1",{"$f":"Table1[[#This Row],['# of Books]]*Table1[[#This Row],[QTY]]","v":0},{"$f":"Table1[[#This Row],[QTY]]*Table1[[#This Row],[School & Library Price]]","v":0}]
[null,19,68,null,null,"Current Issues","Hot Topics","Poverty and Economic Inequality","978-1-5345-6354-4",{"$f":"HYPERLINK(Table1[[#This Row],[Hyperlink]],\"Weblink\")","v":"Weblink"},"Lucent Press","eBook",1,"2019","August 2018",null,null,"Author","Meghan Sharif",null,null,null,null,"Z",null,"Grade 7","Grade 7 - 10","Although millions of Americans live below the poverty line, economic inequality is still a frequently misunderstood issue. Myths about poverty that have been thoroughly debunked are still commonly circulated, and this type of misunderstanding leads to poor communication and tension between people of different economic classes. The goal of this volume is to reduce that misunderstanding and present readers with the facts and realities of economic inequality. In-depth sidebars, full-color photographs, and educational graphs present essential information about this complex issue. Annotated quotes are also included to provide first-person perspectives to deepen readers' critical thinking skills.","English",39.4,31.52,"339.4/6--dc23","104 pp.","https://greenhavenpublishing.com/978-1-5345-6354-4",{"$f":"Table1[[#This Row],['# of Books]]*Table1[[#This Row],[QTY]]","v":0},{"$f":"Table1[[#This Row],[QTY]]*Table1[[#This Row],[School & Library Price]]","v":0}]
[null,19,67,null,null,"Current Issues","Hot Topics","The Climate Change Crisis","978-1-5345-6344-5",{"$f":"HYPERLINK(Table1[[#This Row],[Hyperlink]],\"Weblink\")","v":"Weblink"},"Lucent Press","Library Bound Book",1,"2019","August 2018","Library","7.000 X 9.000","Author","Anna Collins",null,null,null,null,"Z",null,"Grade 7","Grade 7 - 10","Scientists have long warned people of the dangers of climate change, so why do some people insist it is not a problem? What can be done to reverse the effects of this dangerous trend? This volume answers these questions and more, highlighting important points with engaging sidebars, full-color photographs, detailed graphs, and annotated quotes by experts. Readers learn how our world is being affected and how they can play a role in minimizing the damage. Climate change is a topic that is often in the news, and readers will be better equipped to understand it thanks to this informative book.","English",39.4,31.52,"304.2/8--dc23","104 pp.","https://greenhavenpublishing.com/978-1-5345-6344-5",{"$f":"Table1[[#This Row],['# of Books]]*Table1[[#This Row],[QTY]]","v":0},{"$f":"Table1[[#This Row],[QTY]]*Table1[[#This Row],[School & Library Price]]","v":0}]
[null,19,67,null,null,"Current Issues","Hot Topics","The Climate Change Crisis","978-1-5345-6346-9",{"$f":"HYPERLINK(Table1[[#This Row],[Hyperlink]],\"Weblink\")","v":"Weblink"},"Lucent Press","Paperback Book",1,"2019","August 2018","Paperback","7.000 X 9.000","Author","Anna Collins",null,null,null,null,"Z",null,"Grade 7","Grade 7 - 10","Scientists have long warned people of the dangers of climate change, so why do some people insist it is not a problem? What can be done to reverse the effects of this dangerous trend? This volume answers these questions and more, highlighting important points with engaging sidebars, full-color photographs, detailed graphs, and annotated quotes by experts. Readers learn how our world is being affected and how they can play a role in minimizing the damage. Climate change is a topic that is often in the news, and readers will be better equipped to understand it thanks to this informative book.","English",19.989999999999998,16.989999999999998,"304.2/8--dc23","104 pp.","https://greenhavenpublishing.com/978-1-5345-6346-9",{"$f":"Table1[[#This Row],['# of Books]]*Table1[[#This Row],[QTY]]","v":0},{"$f":"Table1[[#This Row],[QTY]]*Table1[[#This Row],[School & Library Price]]","v":0}]
[null,19,67,null,null,"Current Issues","Hot Topics","The Climate Change Crisis","978-1-5345-6345-2",{"$f":"HYPERLINK(Table1[[#This Row],[Hyperlink]],\"Weblink\")","v":"Weblink"},"Lucent Press","eBook",1,"2019","August 2018",null,null,"Author","Anna Collins",null,null,null,null,"Z",null,"Grade 7","Grade 7 - 10","Scientists have long warned people of the dangers of climate change, so why do some people insist it is not a problem? What can be done to reverse the effects of this dangerous trend? This volume answers these questions and more, highlighting important points with engaging sidebars, full-color photographs, detailed graphs, and annotated quotes by experts. Readers learn how our world is being affected and how they can play a role in minimizing the damage. Climate change is a topic that is often in the news, and readers will be better equipped to understand it thanks to this informative book.","English",39.4,31.52,"304.2/8--dc23","104 pp.","https://greenhavenpublishing.com/978-1-5345-6345-2",{"$f":"Table1[[#This Row],['# of Books]]*Table1[[#This Row],[QTY]]","v":0},{"$f":"Table1[[#This Row],[QTY]]*Table1[[#This Row],[School & Library Price]]","v":0}]
[null,19,67,null,null,"Current Issues","Hot Topics","Abortion: A Continuing Debate","978-1-5345-6197-7",{"$f":"HYPERLINK(Table1[[#This Row],[Hyperlink]],\"Weblink\")","v":"Weblink"},"Lucent Press","Library Bound Book",1,"2018","January 2018","Library","7.000 X 9.000","Author","Meghan Green",null,null,null,null,"Z",null,"Grade 7","Grade 7 - 10","Should abortion be legal? How late in a pregnancy should a woman be allowed to have an abortion? What impact would outlawing abortion have on women, especially those who live in poverty? Readers learn about these and other abortion concerns. All sides of the debate are discussed to help them form their own opinions. Informative charts and in-depth sidebars highlight important facts about this controversial topic, and a list of discussion questions is included to give them a starting point for further debate and guided thinking about this complex issue.","English",39.4,31.52,"179.7/6--dc23","104 pp.","https://greenhavenpublishing.com/978-1-5345-6197-7",{"$f":"Table1[[#This Row],['# of Books]]*Table1[[#This Row],[QTY]]","v":0},{"$f":"Table1[[#This Row],[QTY]]*Table1[[#This Row],[School & Library Price]]","v":0}]
[null,19,67,null,null,"Current Issues","Hot Topics","Abortion: A Continuing Debate","978-1-5345-6288-2",{"$f":"HYPERLINK(Table1[[#This Row],[Hyperlink]],\"Weblink\")","v":"Weblink"},"Lucent Press","Paperback Book",1,"2018","January 2018","Paperback","7.000 X 9.000","Author","Meghan Green",null,null,null,null,"Z",null,"Grade 7","Grade 7 - 10","Should abortion be legal? How late in a pregnancy should a woman be allowed to have an abortion? What impact would outlawing abortion have on women, especially those who live in poverty? Readers learn about these and other abortion concerns. All sides of the debate are discussed to help them form their own opinions. Informative charts and in-depth sidebars highlight important facts about this controversial topic, and a list of discussion questions is included to give them a starting point for further debate and guided thinking about this complex issue.","English",19.989999999999998,16.989999999999998,"179.7/6--dc23","104 pp.","https://greenhavenpublishing.com/978-1-5345-6288-2",{"$f":"Table1[[#This Row],['# of Books]]*Table1[[#This Row],[QTY]]","v":0},{"$f":"Table1[[#This Row],[QTY]]*Table1[[#This Row],[School & Library Price]]","v":0}]
[null,19,67,null,null,"Current Issues","Hot Topics","Abortion: A Continuing Debate","978-1-5345-6198-4",{"$f":"HYPERLINK(Table1[[#This Row],[Hyperlink]],\"Weblink\")","v":"Weblink"},"Lucent Press","eBook",1,"2018","January 2018",null,null,"Author","Meghan Green",null,null,null,null,"Z",null,"Grade 7","Grade 7 - 10","Should abortion be legal? How late in a pregnancy should a woman be allowed to have an abortion? What impact would outlawing abortion have on women, especially those who live in poverty? Readers learn about these and other abortion concerns. All sides of the debate are discussed to help them form their own opinions. Informative charts and in-depth sidebars highlight important facts about this controversial topic, and a list of discussion questions is included to give them a starting point for further debate and guided thinking about this complex issue.","English",39.4,31.52,"179.7/6--dc23","104 pp.","https://greenhavenpublishing.com/978-1-5345-6198-4",{"$f":"Table1[[#This Row],['# of Books]]*Table1[[#This Row],[QTY]]","v":0},{"$f":"Table1[[#This Row],[QTY]]*Table1[[#This Row],[School & Library Price]]","v":0}]
[null,19,67,null,null,"Current Issues","Hot Topics","Biological Weapons: Using Nature to Kill","978-1-5345-6201-1",{"$f":"HYPERLINK(Table1[[#This Row],[Hyperlink]],\"Weblink\")","v":"Weblink"},"Lucent Press","Library Bound Book",1,"2018","January 2018","Library","7.000 X 9.000","Author","Anna Collins",null,null,null,null,"Z","1300L","Grade 7","Grade 7 - 10","Throughout history, armies have used various kinds of germs to cripple their enemies. International treaties currently outlaw the use of biological weapons, but this does not necessarily mean that none are being developed. Through informative text, augmented by detailed infographics and sidebars, readers learn about the history of biological warfare and ways it can be avoided in the future. Annotated quotes from experts on this topic and discussion questions are also included to give readers a deeper understanding of the many facets of this complex topic.","English",39.4,31.52,"358'.384--dc23","104 pp.","https://greenhavenpublishing.com/978-1-5345-6201-1",{"$f":"Table1[[#This Row],['# of Books]]*Table1[[#This Row],[QTY]]","v":0},{"$f":"Table1[[#This Row],[QTY]]*Table1[[#This Row],[School & Library Price]]","v":0}]
[null,19,67,null,null,"Current Issues","Hot Topics","Biological Weapons: Using Nature to Kill","978-1-5345-6289-9",{"$f":"HYPERLINK(Table1[[#This Row],[Hyperlink]],\"Weblink\")","v":"Weblink"},"Lucent Press","Paperback Book",1,"2018","January 2018","Paperback","7.000 X 9.000","Author","Anna Collins",null,null,null,null,"Z","1300L","Grade 7","Grade 7 - 10","Throughout history, armies have used various kinds of germs to cripple their enemies. International treaties currently outlaw the use of biological weapons, but this does not necessarily mean that none are being developed. Through informative text, augmented by detailed infographics and sidebars, readers learn about the history of biological warfare and ways it can be avoided in the future. Annotated quotes from experts on this topic and discussion questions are also included to give readers a deeper understanding of the many facets of this complex topic.","English",19.989999999999998,16.989999999999998,"358'.384--dc23","104 pp.","https://greenhavenpublishing.com/978-1-5345-6289-9",{"$f":"Table1[[#This Row],['# of Books]]*Table1[[#This Row],[QTY]]","v":0},{"$f":"Table1[[#This Row],[QTY]]*Table1[[#This Row],[School & Library Price]]","v":0}]
[null,19,67,null,null,"Current Issues","Hot Topics","Biological Weapons: Using Nature to Kill","978-1-5345-6202-8",{"$f":"HYPERLINK(Table1[[#This Row],[Hyperlink]],\"Weblink\")","v":"Weblink"},"Lucent Press","eBook",1,"2018","January 2018",null,null,"Author","Anna Collins",null,null,null,null,"Z","1300L","Grade 7","Grade 7 - 10","Throughout history, armies have used various kinds of germs to cripple their enemies. International treaties currently outlaw the use of biological weapons, but this does not necessarily mean that none are being developed. Through informative text, augmented by detailed infographics and sidebars, readers learn about the history of biological warfare and ways it can be avoided in the future. Annotated quotes from experts on this topic and discussion questions are also included to give readers a deeper understanding of the many facets of this complex topic.","English",39.4,31.52,"358'.384--dc23","104 pp.","https://greenhavenpublishing.com/978-1-5345-6202-8",{"$f":"Table1[[#This Row],['# of Books]]*Table1[[#This Row],[QTY]]","v":0},{"$f":"Table1[[#This Row],[QTY]]*Table1[[#This Row],[School & Library Price]]","v":0}]
[null,19,67,null,null,"Current Issues","Hot Topics","Child Abuse: Tragedy and Trauma","978-1-5345-6203-5",{"$f":"HYPERLINK(Table1[[#This Row],[Hyperlink]],\"Weblink\")","v":"Weblink"},"Lucent Press","Library Bound Book",1,"2018","January 2018","Library","7.000 X 9.000","Author","Allison Krumsiek",null,null,null,null,"Z",null,"Grade 7","Grade 7 - 10","Child abuse does not always leave visible marks; sometimes the abuse is emotional or sexual. Often, a child is abused in more than one way. Although abuse is never the victim’s fault, they may feel too guilty or ashamed to tell anyone about it. Therefore, it is important for others to recognize the signs. Through informative text, full-color photographs, discussion questions, and detailed infographics, this volume teaches young adults what abuse looks like and how to get help for themselves or for others if they recognize signs of an abusive situation.","English",39.4,31.52,"362.760973--dc23","104 pp.","https://greenhavenpublishing.com/978-1-5345-6203-5",{"$f":"Table1[[#This Row],['# of Books]]*Table1[[#This Row],[QTY]]","v":0},{"$f":"Table1[[#This Row],[QTY]]*Table1[[#This Row],[School & Library Price]]","v":0}]
[null,19,67,null,null,"Current Issues","Hot Topics","Child Abuse: Tragedy and Trauma","978-1-5345-6290-5",{"$f":"HYPERLINK(Table1[[#This Row],[Hyperlink]],\"Weblink\")","v":"Weblink"},"Lucent Press","Paperback Book",1,"2018","January 2018","Paperback","7.000 X 9.000","Author","Allison Krumsiek",null,null,null,null,"Z",null,"Grade 7","Grade 7 - 10","Child abuse does not always leave visible marks; sometimes the abuse is emotional or sexual. Often, a child is abused in more than one way. Although abuse is never the victim’s fault, they may feel too guilty or ashamed to tell anyone about it. Therefore, it is important for others to recognize the signs. Through informative text, full-color photographs, discussion questions, and detailed infographics, this volume teaches young adults what abuse looks like and how to get help for themselves or for others if they recognize signs of an abusive situation.","English",19.989999999999998,16.989999999999998,"362.760973--dc23","104 pp.","https://greenhavenpublishing.com/978-1-5345-6290-5",{"$f":"Table1[[#This Row],['# of Books]]*Table1[[#This Row],[QTY]]","v":0},{"$f":"Table1[[#This Row],[QTY]]*Table1[[#This Row],[School & Library Price]]","v":0}]
[null,19,67,null,null,"Current Issues","Hot Topics","Child Abuse: Tragedy and Trauma","978-1-5345-6204-2",{"$f":"HYPERLINK(Table1[[#This Row],[Hyperlink]],\"Weblink\")","v":"Weblink"},"Lucent Press","eBook",1,"2018","January 2018",null,null,"Author","Allison Krumsiek",null,null,null,null,"Z",null,"Grade 7","Grade 7 - 10","Child abuse does not always leave visible marks; sometimes the abuse is emotional or sexual. Often, a child is abused in more than one way. Although abuse is never the victim’s fault, they may feel too guilty or ashamed to tell anyone about it. Therefore, it is important for others to recognize the signs. Through informative text, full-color photographs, discussion questions, and detailed infographics, this volume teaches young adults what abuse looks like and how to get help for themselves or for others if they recognize signs of an abusive situation.","English",39.4,31.52,"362.760973--dc23","104 pp.","https://greenhavenpublishing.com/978-1-5345-6204-2",{"$f":"Table1[[#This Row],['# of Books]]*Table1[[#This Row],[QTY]]","v":0},{"$f":"Table1[[#This Row],[QTY]]*Table1[[#This Row],[School & Library Price]]","v":0}]
[null,19,67,null,null,"Current Issues","Hot Topics","Fake News and Media Bias","978-1-5345-6199-1",{"$f":"HYPERLINK(Table1[[#This Row],[Hyperlink]],\"Weblink\")","v":"Weblink"},"Lucent Press","Library Bound Book",1,"2018","January 2018","Library","7.000 X 9.000","Author","Lucian Vance",null,null,null,null,"Z",null,"Grade 7","Grade 7 - 10","Although news outlets are meant to be impartial, they have never been perfectly unbiased. Another layer was added to the ongoing debate over the role of news media after the 2016 U.S. presidential election, when allegations of fake news surfaced. How can people know which news sources to trust? This volume explores the fake news phenomenon and offers readers tips on how to be critical of what they see reported. Full-color photographs, engaging sidebars, and discussion questions enhance the compelling text as it explores this crucial aspect of a democratic society.","English",39.4,31.52,"302.230973--dc23","104 pp.","https://greenhavenpublishing.com/978-1-5345-6199-1",{"$f":"Table1[[#This Row],['# of Books]]*Table1[[#This Row],[QTY]]","v":0},{"$f":"Table1[[#This Row],[QTY]]*Table1[[#This Row],[School & Library Price]]","v":0}]
[null,19,67,null,null,"Current Issues","Hot Topics","Fake News and Media Bias","978-1-5345-6291-2",{"$f":"HYPERLINK(Table1[[#This Row],[Hyperlink]],\"Weblink\")","v":"Weblink"},"Lucent Press","Paperback Book",1,"2018","January 2018","Paperback","7.000 X 9.000","Author","Lucian Vance",null,null,null,null,"Z",null,"Grade 7","Grade 7 - 10","Although news outlets are meant to be impartial, they have never been perfectly unbiased. Another layer was added to the ongoing debate over the role of news media after the 2016 U.S. presidential election, when allegations of fake news surfaced. How can people know which news sources to trust? This volume explores the fake news phenomenon and offers readers tips on how to be critical of what they see reported. Full-color photographs, engaging sidebars, and discussion questions enhance the compelling text as it explores this crucial aspect of a democratic society.","English",19.989999999999998,16.989999999999998,"302.230973--dc23","104 pp.","https://greenhavenpublishing.com/978-1-5345-6291-2",{"$f":"Table1[[#This Row],['# of Books]]*Table1[[#This Row],[QTY]]","v":0},{"$f":"Table1[[#This Row],[QTY]]*Table1[[#This Row],[School & Library Price]]","v":0}]
[null,19,67,null,null,"Current Issues","Hot Topics","Fake News and Media Bias","978-1-5345-6200-4",{"$f":"HYPERLINK(Table1[[#This Row],[Hyperlink]],\"Weblink\")","v":"Weblink"},"Lucent Press","eBook",1,"2018","January 2018",null,null,"Author","Lucian Vance",null,null,null,null,"Z",null,"Grade 7","Grade 7 - 10","Although news outlets are meant to be impartial, they have never been perfectly unbiased. Another layer was added to the ongoing debate over the role of news media after the 2016 U.S. presidential election, when allegations of fake news surfaced. How can people know which news sources to trust? This volume explores the fake news phenomenon and offers readers tips on how to be critical of what they see reported. Full-color photographs, engaging sidebars, and discussion questions enhance the compelling text as it explores this crucial aspect of a democratic society.","English",39.4,31.52,"302.230973--dc23","104 pp.","https://greenhavenpublishing.com/978-1-5345-6200-4",{"$f":"Table1[[#This Row],['# of Books]]*Table1[[#This Row],[QTY]]","v":0},{"$f":"Table1[[#This Row],[QTY]]*Table1[[#This Row],[School & Library Price]]","v":0}]
[null,19,68,null,null,"Current Issues","Hot Topics","Rape Culture: How Can We End It?","978-1-5345-6207-3",{"$f":"HYPERLINK(Table1[[#This Row],[Hyperlink]],\"Weblink\")","v":"Weblink"},"Lucent Press","Library Bound Book",1,"2018","January 2018","Library","7.000 X 9.000","Author","Michelle Denton",null,null,null,null,"Z",null,"Grade 7","Grade 7 - 10","Rape culture is the normalization of sexual assault and degradation of victims. Things such as catcalls and explicit song lyrics may seem harmless, but they contribute to an atmosphere where people, particularly women, are regarded as objects. This makes it easier for rapists to justify their actions to themselves. Readers are introduced to these and other crucial points about this important social issue and the rising level of awareness surrounding it. Relatable text, discussion questions, and informative fact boxes teach young adults what rape culture is and how they can fight it to make society safer for everyone.","English",39.4,31.52,"364.15/320973--dc23","104 pp.","https://greenhavenpublishing.com/978-1-5345-6207-3",{"$f":"Table1[[#This Row],['# of Books]]*Table1[[#This Row],[QTY]]","v":0},{"$f":"Table1[[#This Row],[QTY]]*Table1[[#This Row],[School & Library Price]]","v":0}]
[null,19,67,null,null,"Current Issues","Hot Topics","Rape Culture: How Can We End It?","978-1-5345-6292-9",{"$f":"HYPERLINK(Table1[[#This Row],[Hyperlink]],\"Weblink\")","v":"Weblink"},"Lucent Press","Paperback Book",1,"2018","January 2018","Paperback","7.000 X 9.000","Author","Michelle Denton",null,null,null,null,"Z",null,"Grade 7","Grade 7 - 10","Rape culture is the normalization of sexual assault and degradation of victims. Things such as catcalls and explicit song lyrics may seem harmless, but they contribute to an atmosphere where people, particularly women, are regarded as objects. This makes it easier for rapists to justify their actions to themselves. Readers are introduced to these and other crucial points about this important social issue and the rising level of awareness surrounding it. Relatable text, discussion questions, and informative fact boxes teach young adults what rape culture is and how they can fight it to make society safer for everyone.","English",19.989999999999998,16.989999999999998,"364.15/320973--dc23","104 pp.","https://greenhavenpublishing.com/978-1-5345-6292-9",{"$f":"Table1[[#This Row],['# of Books]]*Table1[[#This Row],[QTY]]","v":0},{"$f":"Table1[[#This Row],[QTY]]*Table1[[#This Row],[School & Library Price]]","v":0}]
[null,19,68,null,null,"Current Issues","Hot Topics","Rape Culture: How Can We End It?","978-1-5345-6208-0",{"$f":"HYPERLINK(Table1[[#This Row],[Hyperlink]],\"Weblink\")","v":"Weblink"},"Lucent Press","eBook",1,"2018","January 2018",null,null,"Author","Michelle Denton",null,null,null,null,"Z",null,"Grade 7","Grade 7 - 10","Rape culture is the normalization of sexual assault and degradation of victims. Things such as catcalls and explicit song lyrics may seem harmless, but they contribute to an atmosphere where people, particularly women, are regarded as objects. This makes it easier for rapists to justify their actions to themselves. Readers are introduced to these and other crucial points about this important social issue and the rising level of awareness surrounding it. Relatable text, discussion questions, and informative fact boxes teach young adults what rape culture is and how they can fight it to make society safer for everyone.","English",39.4,31.52,"364.15/320973--dc23","104 pp.","https://greenhavenpublishing.com/978-1-5345-6208-0",{"$f":"Table1[[#This Row],['# of Books]]*Table1[[#This Row],[QTY]]","v":0},{"$f":"Table1[[#This Row],[QTY]]*Table1[[#This Row],[School & Library Price]]","v":0}]
[null,19,67,null,null,"Current Issues","Hot Topics","The Death Penalty: Just Punishment or Cruel Practice?","978-1-5345-6205-9",{"$f":"HYPERLINK(Table1[[#This Row],[Hyperlink]],\"Weblink\")","v":"Weblink"},"Lucent Press","Library Bound Book",1,"2018","January 2018","Library","7.000 X 9.000","Author","Allison Krumsiek",null,null,null,null,"Z",null,"Grade 7","Grade 7 - 10","When a violent crime is committed, some people believe the only fair punishment is for the perpetrator to be put to death. Others feel that this practice is inhumane and that no one should be deliberately killed, regardless of what he or she may have done. This volume examines the history of the death penalty, the ways it is administered, and the arguments for and against it. Chapter questions encourage discussion among readers, and detailed charts and compelling sidebars enhance readers’ understanding of this hotly debated topic.","English",39.4,31.52,"364.66--dc23","104 pp.","https://greenhavenpublishing.com/978-1-5345-6205-9",{"$f":"Table1[[#This Row],['# of Books]]*Table1[[#This Row],[QTY]]","v":0},{"$f":"Table1[[#This Row],[QTY]]*Table1[[#This Row],[School & Library Price]]","v":0}]
[null,19,67,null,null,"Current Issues","Hot Topics","The Death Penalty: Just Punishment or Cruel Practice?","978-1-5345-6293-6",{"$f":"HYPERLINK(Table1[[#This Row],[Hyperlink]],\"Weblink\")","v":"Weblink"},"Lucent Press","Paperback Book",1,"2018","January 2018","Paperback","7.000 X 9.000","Author","Allison Krumsiek",null,null,null,null,"Z",null,"Grade 7","Grade 7 - 10","When a violent crime is committed, some people believe the only fair punishment is for the perpetrator to be put to death. Others feel that this practice is inhumane and that no one should be deliberately killed, regardless of what he or she may have done. This volume examines the history of the death penalty, the ways it is administered, and the arguments for and against it. Chapter questions encourage discussion among readers, and detailed charts and compelling sidebars enhance readers’ understanding of this hotly debated topic.","English",19.989999999999998,16.989999999999998,"364.66--dc23","104 pp.","https://greenhavenpublishing.com/978-1-5345-6293-6",{"$f":"Table1[[#This Row],['# of Books]]*Table1[[#This Row],[QTY]]","v":0},{"$f":"Table1[[#This Row],[QTY]]*Table1[[#This Row],[School & Library Price]]","v":0}]
[null,19,67,null,null,"Current Issues","Hot Topics","The Death Penalty: Just Punishment or Cruel Practice?","978-1-5345-6206-6",{"$f":"HYPERLINK(Table1[[#This Row],[Hyperlink]],\"Weblink\")","v":"Weblink"},"Lucent Press","eBook",1,"2018","January 2018",null,null,"Author","Allison Krumsiek",null,null,null,null,"Z",null,"Grade 7","Grade 7 - 10","When a violent crime is committed, some people believe the only fair punishment is for the perpetrator to be put to death. Others feel that this practice is inhumane and that no one should be deliberately killed, regardless of what he or she may have done. This volume examines the history of the death penalty, the ways it is administered, and the arguments for and against it. Chapter questions encourage discussion among readers, and detailed charts and compelling sidebars enhance readers’ understanding of this hotly debated topic.","English",39.4,31.52,"364.66--dc23","104 pp.","https://greenhavenpublishing.com/978-1-5345-6206-6",{"$f":"Table1[[#This Row],['# of Books]]*Table1[[#This Row],[QTY]]","v":0},{"$f":"Table1[[#This Row],[QTY]]*Table1[[#This Row],[School & Library Price]]","v":0}]
[null,19,67,null,null,"Current Issues","Hot Topics","Civil Liberties: The Fight for Personal Freedom","978-1-5345-6145-8",{"$f":"HYPERLINK(Table1[[#This Row],[Hyperlink]],\"Weblink\")","v":"Weblink"},"Lucent Press","Library Bound Book",1,"2018","August 2017","Library","7.000 X 9.000","Author","Allison Krumsiek",null,null,null,null,"Z",null,"Grade 7","Grade 7 - 10","Although the civil liberties of American citizens are protected under the Constitution, these rights are often violated by both individuals and the government, and obtaining justice can be a difficult process. Students, in particular, struggle for their legal rights; many people incorrectly assume that these rights can be dictated by school authorities. Through enlightening infographics, sidebars, discussion questions, and quote boxes featuring comments by experts, this volume explores the rights all Americans are entitled to and the fight to protect those rights.","English",39.4,31.52,"342.7308'5--dc23","112 pp.","https://greenhavenpublishing.com/978-1-5345-6145-8",{"$f":"Table1[[#This Row],['# of Books]]*Table1[[#This Row],[QTY]]","v":0},{"$f":"Table1[[#This Row],[QTY]]*Table1[[#This Row],[School & Library Price]]","v":0}]
[null,19,67,null,null,"Current Issues","Hot Topics","Civil Liberties: The Fight for Personal Freedom","978-1-5345-6146-5",{"$f":"HYPERLINK(Table1[[#This Row],[Hyperlink]],\"Weblink\")","v":"Weblink"},"Lucent Press","eBook",1,"2018","August 2017",null,null,"Author","Allison Krumsiek",null,null,null,null,"Z",null,"Grade 7","Grade 7 - 10","Although the civil liberties of American citizens are protected under the Constitution, these rights are often violated by both individuals and the government, and obtaining justice can be a difficult process. Students, in particular, struggle for their legal rights; many people incorrectly assume that these rights can be dictated by school authorities. Through enlightening infographics, sidebars, discussion questions, and quote boxes featuring comments by experts, this volume explores the rights all Americans are entitled to and the fight to protect those rights.","English",39.4,31.52,"342.7308'5--dc23","112 pp.","https://greenhavenpublishing.com/978-1-5345-6146-5",{"$f":"Table1[[#This Row],['# of Books]]*Table1[[#This Row],[QTY]]","v":0},{"$f":"Table1[[#This Row],[QTY]]*Table1[[#This Row],[School & Library Price]]","v":0}]
[null,19,67,null,null,"Current Issues","Hot Topics","Cyber Mobs: Destructive Online Communities","978-1-5345-6153-3",{"$f":"HYPERLINK(Table1[[#This Row],[Hyperlink]],\"Weblink\")","v":"Weblink"},"Lucent Press","Library Bound Book",1,"2018","August 2017","Library","7.000 X 9.000","Author","Allison Krumsiek",null,null,null,null,"Z",null,"Grade 7","Grade 7 - 10","The Internet has made it easier than ever for people to connect, but their interactions are not always friendly. Any perceived fault can cause someone to be attacked by a cyber mob, which is a group of people intent on humiliating someone online. Relatable text addresses this relatively new phenomenon, giving readers information about the rise of cyber mobs, the social and psychological effects on their victims, and ways to combat them. Engaging sidebars provide examples of cyber mob attacks, and a list of resources is provided for anyone who may be experiencing online bullying.","English",39.4,31.52,"302.34'302854678--dc23","104 pp.","https://greenhavenpublishing.com/978-1-5345-6153-3",{"$f":"Table1[[#This Row],['# of Books]]*Table1[[#This Row],[QTY]]","v":0},{"$f":"Table1[[#This Row],[QTY]]*Table1[[#This Row],[School & Library Price]]","v":0}]
[null,19,67,null,null,"Current Issues","Hot Topics","Cyber Mobs: Destructive Online Communities","978-1-5345-6154-0",{"$f":"HYPERLINK(Table1[[#This Row],[Hyperlink]],\"Weblink\")","v":"Weblink"},"Lucent Press","eBook",1,"2018","August 2017",null,null,"Author","Allison Krumsiek",null,null,null,null,"Z",null,"Grade 7","Grade 7 - 10","The Internet has made it easier than ever for people to connect, but their interactions are not always friendly. Any perceived fault can cause someone to be attacked by a cyber mob, which is a group of people intent on humiliating someone online. Relatable text addresses this relatively new phenomenon, giving readers information about the rise of cyber mobs, the social and psychological effects on their victims, and ways to combat them. Engaging sidebars provide examples of cyber mob attacks, and a list of resources is provided for anyone who may be experiencing online bullying.","English",39.4,31.52,"302.34'302854678--dc23","104 pp.","https://greenhavenpublishing.com/978-1-5345-6154-0",{"$f":"Table1[[#This Row],['# of Books]]*Table1[[#This Row],[QTY]]","v":0},{"$f":"Table1[[#This Row],[QTY]]*Table1[[#This Row],[School & Library Price]]","v":0}]
[null,19,67,null,null,"Current Issues","Hot Topics","Hate Crimes: When Intolerance Turns Violent","978-1-5345-6149-6",{"$f":"HYPERLINK(Table1[[#This Row],[Hyperlink]],\"Weblink\")","v":"Weblink"},"Lucent Press","Library Bound Book",1,"2018","August 2017","Library","7.000 X 9.000","Author","Meghan Sharif",null,null,null,null,"Z",null,"Grade 7","Grade 7 - 10","Hate crimes can take many forms. Assaulting someone, vandalizing their property, or simply making them feel threatened are all considered hate crimes when they are motivated by animosity for a particular group. Readers learn that these offenses often take place because the perpetrator has a fundamental misunderstanding or fear of the people in that targeted group. Informative charts and discussion questions for each chapter encourage readers to think critically about the way people’s biases can dictate their behavior in ways that harm others.","English",39.4,31.52,"364.15--dc23","112 pp.","https://greenhavenpublishing.com/978-1-5345-6149-6",{"$f":"Table1[[#This Row],['# of Books]]*Table1[[#This Row],[QTY]]","v":0},{"$f":"Table1[[#This Row],[QTY]]*Table1[[#This Row],[School & Library Price]]","v":0}]
[null,19,67,null,null,"Current Issues","Hot Topics","Hate Crimes: When Intolerance Turns Violent","978-1-5345-6150-2",{"$f":"HYPERLINK(Table1[[#This Row],[Hyperlink]],\"Weblink\")","v":"Weblink"},"Lucent Press","eBook",1,"2018","August 2017",null,null,"Author","Meghan Sharif",null,null,null,null,"Z",null,"Grade 7","Grade 7 - 10","Hate crimes can take many forms. Assaulting someone, vandalizing their property, or simply making them feel threatened are all considered hate crimes when they are motivated by animosity for a particular group. Readers learn that these offenses often take place because the perpetrator has a fundamental misunderstanding or fear of the people in that targeted group. Informative charts and discussion questions for each chapter encourage readers to think critically about the way people’s biases can dictate their behavior in ways that harm others.","English",39.4,31.52,"364.15--dc23","112 pp.","https://greenhavenpublishing.com/978-1-5345-6150-2",{"$f":"Table1[[#This Row],['# of Books]]*Table1[[#This Row],[QTY]]","v":0},{"$f":"Table1[[#This Row],[QTY]]*Table1[[#This Row],[School & Library Price]]","v":0}]
[null,19,68,null,null,"Current Issues","Hot Topics","Immigration Issues in America","978-1-5345-6151-9",{"$f":"HYPERLINK(Table1[[#This Row],[Hyperlink]],\"Weblink\")","v":"Weblink"},"Lucent Press","Library Bound Book",1,"2018","August 2017","Library","7.000 X 9.000","Author","Michelle Denton",null,null,null,null,"Z",null,"Grade 7","Grade 7 - 10","Every wave of immigrants entering the United States has faced prejudice. As each group gradually assimilates into the dominant culture, it becomes easy to forget the anger that was previously directed at them. People always believe that the next group of immigrants poses a more severe threat than the ones that came before them, but readers discover that these fears often prove to be unfounded. Detailed infographics and full-color photographs supplement the informative text’s analysis of the history of immigration, its economic implications, and what immigration policies should be implemented in the future.","English",39.4,31.52,"343.7308'2--dc23","112 pp.","https://greenhavenpublishing.com/978-1-5345-6151-9",{"$f":"Table1[[#This Row],['# of Books]]*Table1[[#This Row],[QTY]]","v":0},{"$f":"Table1[[#This Row],[QTY]]*Table1[[#This Row],[School & Library Price]]","v":0}]
[null,19,68,null,null,"Current Issues","Hot Topics","Immigration Issues in America","978-1-5345-6152-6",{"$f":"HYPERLINK(Table1[[#This Row],[Hyperlink]],\"Weblink\")","v":"Weblink"},"Lucent Press","eBook",1,"2018","August 2017",null,null,"Author","Michelle Denton",null,null,null,null,"Z",null,"Grade 7","Grade 7 - 10","Every wave of immigrants entering the United States has faced prejudice. As each group gradually assimilates into the dominant culture, it becomes easy to forget the anger that was previously directed at them. People always believe that the next group of immigrants poses a more severe threat than the ones that came before them, but readers discover that these fears often prove to be unfounded. Detailed infographics and full-color photographs supplement the informative text’s analysis of the history of immigration, its economic implications, and what immigration policies should be implemented in the future.","English",39.4,31.52,"343.7308'2--dc23","112 pp.","https://greenhavenpublishing.com/978-1-5345-6152-6",{"$f":"Table1[[#This Row],['# of Books]]*Table1[[#This Row],[QTY]]","v":0},{"$f":"Table1[[#This Row],[QTY]]*Table1[[#This Row],[School & Library Price]]","v":0}]
[null,19,68,null,null,"Current Issues","Hot Topics","Obesity: An American Epidemic","978-1-5345-6147-2",{"$f":"HYPERLINK(Table1[[#This Row],[Hyperlink]],\"Weblink\")","v":"Weblink"},"Lucent Press","Library Bound Book",1,"2018","August 2017","Library","7.000 X 9.000","Author","Emily Mahoney",null,null,null,null,"Z","1310L","Grade 7","Grade 7 - 10","Due to economic factors, larger portion sizes in restaurants, and sedentary lifestyles caused by an increase in our use of technology, obesity rates have risen steadily in the last decade. This, in turn, has created a multimillion-dollar diet industry that often preys on people’s desire to lose weight quickly and easily. Through full-color photographs and engaging sidebars, readers will learn about the complex causes of obesity, as well as ways to live a healthier lifestyle. What can be done to reverse this trend? Discussion questions such as this one are waiting for readers to debate.","English",39.4,31.52,"616.3'98--dc23","104 pp.","https://greenhavenpublishing.com/978-1-5345-6147-2",{"$f":"Table1[[#This Row],['# of Books]]*Table1[[#This Row],[QTY]]","v":0},{"$f":"Table1[[#This Row],[QTY]]*Table1[[#This Row],[School & Library Price]]","v":0}]
[null,19,68,null,null,"Current Issues","Hot Topics","Obesity: An American Epidemic","978-1-5345-6148-9",{"$f":"HYPERLINK(Table1[[#This Row],[Hyperlink]],\"Weblink\")","v":"Weblink"},"Lucent Press","eBook",1,"2018","August 2017",null,null,"Author","Emily Mahoney",null,null,null,null,"Z","1310L","Grade 7","Grade 7 - 10","Due to economic factors, larger portion sizes in restaurants, and sedentary lifestyles caused by an increase in our use of technology, obesity rates have risen steadily in the last decade. This, in turn, has created a multimillion-dollar diet industry that often preys on people’s desire to lose weight quickly and easily. Through full-color photographs and engaging sidebars, readers will learn about the complex causes of obesity, as well as ways to live a healthier lifestyle. What can be done to reverse this trend? Discussion questions such as this one are waiting for readers to debate.","English",39.4,31.52,"616.3'98--dc23","104 pp.","https://greenhavenpublishing.com/978-1-5345-6148-9",{"$f":"Table1[[#This Row],['# of Books]]*Table1[[#This Row],[QTY]]","v":0},{"$f":"Table1[[#This Row],[QTY]]*Table1[[#This Row],[School & Library Price]]","v":0}]
[null,19,68,null,null,"Current Issues","Hot Topics","Racism in America: A Long History of Hate","978-1-5345-6143-4",{"$f":"HYPERLINK(Table1[[#This Row],[Hyperlink]],\"Weblink\")","v":"Weblink"},"Lucent Press","Library Bound Book",1,"2018","August 2017","Library","7.000 X 9.000","Author","Meghan Green",null,null,null,null,"Z",null,"Grade 7","Grade 7 - 10","Although racism still exists in the United States, it has generally become more subtle, leading some to deny that it is still a problem. Now that institutional segregation is no longer considered acceptable, some people argue that racism as a whole has been eradicated. Readers discover that this mindset ignores covert, or hidden, racism, which often deals with assumptions: for example, that a black mother does not have a husband or that all Hispanic people are Mexican. In-depth sidebars, discussion questions, and detailed photographs augment the engaging narrative as it discusses the history of American racism and its lasting effects.","English",39.4,31.52,"305.800973--dc23","112 pp.","https://greenhavenpublishing.com/978-1-5345-6143-4",{"$f":"Table1[[#This Row],['# of Books]]*Table1[[#This Row],[QTY]]","v":0},{"$f":"Table1[[#This Row],[QTY]]*Table1[[#This Row],[School & Library Price]]","v":0}]
[null,19,68,null,null,"Current Issues","Hot Topics","Racism in America: A Long History of Hate","978-1-5345-6144-1",{"$f":"HYPERLINK(Table1[[#This Row],[Hyperlink]],\"Weblink\")","v":"Weblink"},"Lucent Press","eBook",1,"2018","August 2017",null,null,"Author","Meghan Green",null,null,null,null,"Z",null,"Grade 7","Grade 7 - 10","Although racism still exists in the United States, it has generally become more subtle, leading some to deny that it is still a problem. Now that institutional segregation is no longer considered acceptable, some people argue that racism as a whole has been eradicated. Readers discover that this mindset ignores covert, or hidden, racism, which often deals with assumptions: for example, that a black mother does not have a husband or that all Hispanic people are Mexican. In-depth sidebars, discussion questions, and detailed photographs augment the engaging narrative as it discusses the history of American racism and its lasting effects.","English",39.4,31.52,"305.800973--dc23","112 pp.","https://greenhavenpublishing.com/978-1-5345-6144-1",{"$f":"Table1[[#This Row],['# of Books]]*Table1[[#This Row],[QTY]]","v":0},{"$f":"Table1[[#This Row],[QTY]]*Table1[[#This Row],[School & Library Price]]","v":0}]
[null,19,67,null,null,"Current Issues","Hot Topics","Body Image and Body Shaming","978-1-5345-6016-1",{"$f":"HYPERLINK(Table1[[#This Row],[Hyperlink]],\"Weblink\")","v":"Weblink"},"Lucent Press","Library Bound Book",1,"2017","January 2017","Library","7.000 X 9.000","Author, Author","Meghan Green, Ronald D. Lankford, Jr.",null,null,null,null,"Z",null,"Grade 7","Grade 7 - 10","Puberty is a critical time for young adults in forming a positive self-image. They are constantly bombarded with images and comments regarding ideal body types from the media, friends, and family. Through charts and full-color photographs, readers gain information about the subjectivity of beauty standards and the importance of being healthy regardless of body type. The material engages readers and allows them to think critically about the stereotypes they are subjected to. A list of websites is included to offer them assistance in dealing with the pressure of conforming to expectations.","English",39.4,31.52,"306.4/​613--dc23","112 pp.","https://greenhavenpublishing.com/978-1-5345-6016-1",{"$f":"Table1[[#This Row],['# of Books]]*Table1[[#This Row],[QTY]]","v":0},{"$f":"Table1[[#This Row],[QTY]]*Table1[[#This Row],[School & Library Price]]","v":0}]
[null,19,67,null,null,"Current Issues","Hot Topics","Body Image and Body Shaming","978-1-5345-6013-0",{"$f":"HYPERLINK(Table1[[#This Row],[Hyperlink]],\"Weblink\")","v":"Weblink"},"Lucent Press","eBook",1,"2017","January 2017",null,null,"Author, Author","Meghan Green, Ronald D. Lankford, Jr.",null,null,null,null,"Z",null,"Grade 7","Grade 7 - 10","Puberty is a critical time for young adults in forming a positive self-image. They are constantly bombarded with images and comments regarding ideal body types from the media, friends, and family. Through charts and full-color photographs, readers gain information about the subjectivity of beauty standards and the importance of being healthy regardless of body type. The material engages readers and allows them to think critically about the stereotypes they are subjected to. A list of websites is included to offer them assistance in dealing with the pressure of conforming to expectations.","English",39.4,31.52,"306.4/​613--dc23","112 pp.","https://greenhavenpublishing.com/978-1-5345-6013-0",{"$f":"Table1[[#This Row],['# of Books]]*Table1[[#This Row],[QTY]]","v":0},{"$f":"Table1[[#This Row],[QTY]]*Table1[[#This Row],[School & Library Price]]","v":0}]
[null,19,67,null,null,"Current Issues","Hot Topics","Dealing with Teen Pregnancy","978-1-5345-6019-2",{"$f":"HYPERLINK(Table1[[#This Row],[Hyperlink]],\"Weblink\")","v":"Weblink"},"Lucent Press","Library Bound Book",1,"2017","January 2017","Library","7.000 X 9.000","Author, Author","Emily Mahoney, Jennifer MacKay",null,null,null,null,"Z",null,"Grade 7","Grade 7 - 10","How big of a concern is teen pregnancy in today’s society? What options do teens have once they get pregnant? This controversial issue is examined in depth, presenting young adults with information from all sides of the debate. Graphs and full-color photographs highlight the discussion of the underlying social factors that are the root causes of teen pregnancy to make readers better informed about these issues. A list of websites gives pregnant teens resources to turn to for support and advice.","English",39.4,31.52,"306.874/3","112 pp.","https://greenhavenpublishing.com/978-1-5345-6019-2",{"$f":"Table1[[#This Row],['# of Books]]*Table1[[#This Row],[QTY]]","v":0},{"$f":"Table1[[#This Row],[QTY]]*Table1[[#This Row],[School & Library Price]]","v":0}]
[null,19,67,null,null,"Current Issues","Hot Topics","Dealing with Teen Pregnancy","978-1-5345-6020-8",{"$f":"HYPERLINK(Table1[[#This Row],[Hyperlink]],\"Weblink\")","v":"Weblink"},"Lucent Press","eBook",1,"2017","January 2017",null,null,"Author, Author","Emily Mahoney, Jennifer MacKay",null,null,null,null,"Z",null,"Grade 7","Grade 7 - 10","How big of a concern is teen pregnancy in today’s society? What options do teens have once they get pregnant? This controversial issue is examined in depth, presenting young adults with information from all sides of the debate. Graphs and full-color photographs highlight the discussion of the underlying social factors that are the root causes of teen pregnancy to make readers better informed about these issues. A list of websites gives pregnant teens resources to turn to for support and advice.","English",39.4,31.52,"306.874/3","112 pp.","https://greenhavenpublishing.com/978-1-5345-6020-8",{"$f":"Table1[[#This Row],['# of Books]]*Table1[[#This Row],[QTY]]","v":0},{"$f":"Table1[[#This Row],[QTY]]*Table1[[#This Row],[School & Library Price]]","v":0}]
[null,19,67,null,null,"Current Issues","Hot Topics","Eating Disorders: When Food Is an Obsession","978-1-5345-6014-7",{"$f":"HYPERLINK(Table1[[#This Row],[Hyperlink]],\"Weblink\")","v":"Weblink"},"Lucent Press","Library Bound Book",1,"2017","January 2017","Library","7.000 X 9.000","Author, Author","Kristen Rajczak Nelson, Toney Allman",null,null,null,null,"Z",null,"Grade 7","Grade 7 - 10","Eating disorders are mental illnesses that have dangerous physical consequences. Young adults are most at risk for developing these disorders. This volume aims to educate readers about the causes and effects of disorders such as anorexia, bulimia, and compulsive eating. Fact boxes highlight the stories of celebrities who struggle with these issues, and full-color photographs show the unglamorous reality of living with an eating disorder. Websites are provided to promote healthy lifestyles as well as give help to readers who are already battling these serious conditions.","English",39.4,31.52,"616.85’26","112 pp.","https://greenhavenpublishing.com/978-1-5345-6014-7",{"$f":"Table1[[#This Row],['# of Books]]*Table1[[#This Row],[QTY]]","v":0},{"$f":"Table1[[#This Row],[QTY]]*Table1[[#This Row],[School & Library Price]]","v":0}]
[null,19,67,null,null,"Current Issues","Hot Topics","Eating Disorders: When Food Is an Obsession","978-1-5345-6015-4",{"$f":"HYPERLINK(Table1[[#This Row],[Hyperlink]],\"Weblink\")","v":"Weblink"},"Lucent Press","eBook",1,"2017","January 2017",null,null,"Author, Author","Kristen Rajczak Nelson, Toney Allman",null,null,null,null,"Z",null,"Grade 7","Grade 7 - 10","Eating disorders are mental illnesses that have dangerous physical consequences. Young adults are most at risk for developing these disorders. This volume aims to educate readers about the causes and effects of disorders such as anorexia, bulimia, and compulsive eating. Fact boxes highlight the stories of celebrities who struggle with these issues, and full-color photographs show the unglamorous reality of living with an eating disorder. Websites are provided to promote healthy lifestyles as well as give help to readers who are already battling these serious conditions.","English",39.4,31.52,"616.85’26","112 pp.","https://greenhavenpublishing.com/978-1-5345-6015-4",{"$f":"Table1[[#This Row],['# of Books]]*Table1[[#This Row],[QTY]]","v":0},{"$f":"Table1[[#This Row],[QTY]]*Table1[[#This Row],[School & Library Price]]","v":0}]
[null,19,67,null,null,"Current Issues","Hot Topics","Gender Identity: The Search for Self","978-1-5345-6023-9",{"$f":"HYPERLINK(Table1[[#This Row],[Hyperlink]],\"Weblink\")","v":"Weblink"},"Lucent Press","Library Bound Book",1,"2017","January 2017","Library","7.000 X 9.000","Author","Kate Light",null,null,null,null,"Z",null,"Grade 7","Grade 7 - 10","As acceptance for the LGBT community grows, our society is coming to understand that many gender identities are not binary. Young adulthood is a critical time for exploring and coming to terms with gender identity. Readers learn about non-binary identities and the issues the community still faces despite the progress that has been made in the 21st century. Fact boxes highlight transgender and non-binary role models in the media, and contact information for LGBT organizations is provided. This volume is an important resource for young adults of all genders and their allied friends and family.","English",39.4,31.52,"305.3--dc23","104 pp.","https://greenhavenpublishing.com/978-1-5345-6023-9",{"$f":"Table1[[#This Row],['# of Books]]*Table1[[#This Row],[QTY]]","v":0},{"$f":"Table1[[#This Row],[QTY]]*Table1[[#This Row],[School & Library Price]]","v":0}]
[null,19,67,null,null,"Current Issues","Hot Topics","Gender Identity: The Search for Self","978-1-5345-6024-6",{"$f":"HYPERLINK(Table1[[#This Row],[Hyperlink]],\"Weblink\")","v":"Weblink"},"Lucent Press","eBook",1,"2017","January 2017",null,null,"Author","Kate Light",null,null,null,null,"Z",null,"Grade 7","Grade 7 - 10","As acceptance for the LGBT community grows, our society is coming to understand that many gender identities are not binary. Young adulthood is a critical time for exploring and coming to terms with gender identity. Readers learn about non-binary identities and the issues the community still faces despite the progress that has been made in the 21st century. Fact boxes highlight transgender and non-binary role models in the media, and contact information for LGBT organizations is provided. This volume is an important resource for young adults of all genders and their allied friends and family.","English",39.4,31.52,"305.3--dc23","104 pp.","https://greenhavenpublishing.com/978-1-5345-6024-6",{"$f":"Table1[[#This Row],['# of Books]]*Table1[[#This Row],[QTY]]","v":0},{"$f":"Table1[[#This Row],[QTY]]*Table1[[#This Row],[School & Library Price]]","v":0}]
[null,19,68,null,null,"Current Issues","Hot Topics","Self-Harm","978-1-5345-6017-8",{"$f":"HYPERLINK(Table1[[#This Row],[Hyperlink]],\"Weblink\")","v":"Weblink"},"Lucent Press","Library Bound Book",1,"2017","January 2017","Library","7.000 X 9.000","Author","Toney Allman",null,null,null,null,"Z",null,"Grade 7","Grade 7 - 10","Self-harm is a problem many young adults struggle with silently. Decreasing the stigma surrounding this phenomenon is key to ending its prevalence. Using charts and full-color photographs, the underlying causes of this dangerous trend are examined, helping readers understand the reasons why they harm themselves and recognize the signs in others. Contact information is provided for organizations that young adults can turn to for emotional support and healthier ways to cope with stress.","English",39.4,31.52,"616.85’82","112 pp.","https://greenhavenpublishing.com/978-1-5345-6017-8",{"$f":"Table1[[#This Row],['# of Books]]*Table1[[#This Row],[QTY]]","v":0},{"$f":"Table1[[#This Row],[QTY]]*Table1[[#This Row],[School & Library Price]]","v":0}]
[null,19,68,null,null,"Current Issues","Hot Topics","Self-Harm","978-1-5345-6018-5",{"$f":"HYPERLINK(Table1[[#This Row],[Hyperlink]],\"Weblink\")","v":"Weblink"},"Lucent Press","eBook",1,"2017","January 2017",null,null,"Author","Toney Allman",null,null,null,null,"Z",null,"Grade 7","Grade 7 - 10","Self-harm is a problem many young adults struggle with silently. Decreasing the stigma surrounding this phenomenon is key to ending its prevalence. Using charts and full-color photographs, the underlying causes of this dangerous trend are examined, helping readers understand the reasons why they harm themselves and recognize the signs in others. Contact information is provided for organizations that young adults can turn to for emotional support and healthier ways to cope with stress.","English",39.4,31.52,"616.85’82","112 pp.","https://greenhavenpublishing.com/978-1-5345-6018-5",{"$f":"Table1[[#This Row],['# of Books]]*Table1[[#This Row],[QTY]]","v":0},{"$f":"Table1[[#This Row],[QTY]]*Table1[[#This Row],[School & Library Price]]","v":0}]
[null,19,68,null,null,"Current Issues","Hot Topics","Social Networking: Staying Safe in the Online World","978-1-5345-6021-5",{"$f":"HYPERLINK(Table1[[#This Row],[Hyperlink]],\"Weblink\")","v":"Weblink"},"Lucent Press","Library Bound Book",1,"2017","January 2017","Library","7.000 X 9.000","Author, Author","Jennifer Lombardo, Carla Mooney",null,null,null,null,"Z","1140L","Grade 7","Grade 7 - 10","Social networking has become an integral part of our lives in this modern society. Nearly every young adult has one or more types of social accounts, making it imperative to inform them about the best ways to protect themselves and their private information. Discussions about online predators and the rights students have on the Internet are highlighted by fact boxes, and a list of dialogue questions encourages conversations among young adults about how to be proactive in protecting themselves online.","English",39.4,31.52,"302.3","120 pp.","https://greenhavenpublishing.com/978-1-5345-6021-5",{"$f":"Table1[[#This Row],['# of Books]]*Table1[[#This Row],[QTY]]","v":0},{"$f":"Table1[[#This Row],[QTY]]*Table1[[#This Row],[School & Library Price]]","v":0}]
[null,19,68,null,null,"Current Issues","Hot Topics","Social Networking: Staying Safe in the Online World","978-1-5345-6022-2",{"$f":"HYPERLINK(Table1[[#This Row],[Hyperlink]],\"Weblink\")","v":"Weblink"},"Lucent Press","eBook",1,"2017","January 2017",null,null,"Author, Author","Jennifer Lombardo, Carla Mooney",null,null,null,null,"Z","1140L","Grade 7","Grade 7 - 10","Social networking has become an integral part of our lives in this modern society. Nearly every young adult has one or more types of social accounts, making it imperative to inform them about the best ways to protect themselves and their private information. Discussions about online predators and the rights students have on the Internet are highlighted by fact boxes, and a list of dialogue questions encourages conversations among young adults about how to be proactive in protecting themselves online.","English",39.4,31.52,"302.3","120 pp.","https://greenhavenpublishing.com/978-1-5345-6022-2",{"$f":"Table1[[#This Row],['# of Books]]*Table1[[#This Row],[QTY]]","v":0},{"$f":"Table1[[#This Row],[QTY]]*Table1[[#This Row],[School & Library Price]]","v":0}]
[null,20,null,null,null,"U.S. History","Lucent Library of Black History","Lucent Library of Black History: Sets 1 – 3","978-1-5345-6860-0",{"$f":"HYPERLINK(Table1[[#This Row],[Hyperlink]],\"Weblink\")","v":"Weblink"},"Lucent Press","Library Set",17,"2020","January 2020","Library","7.000 X 9.000",null,null,null,null,null,null,null,null,"Grade 7","Grade 7 - 10","The stories of African American inventors, political leaders, artists, and activists are often overlooked. However, this comprehensive study of black history from the time of slavery through the present gives those stories the time and attention they deserve. The combination of biographical information, historical overviews, and cultural appreciation ensures that readers with a variety of interests will find topics that appeal to them. The detailed main text presents challenging topics in an age-appropriate way, and sidebars enhance the reading experience. In addition, design elements including timelines and primary source images keep readers engaged with this essential material. Features include: Connections between the past and present are clearly made to help readers think critically about how current social issues are influenced by historical events. Detailed discussions of the contributions of African American women highlight the importance of fighting for equal rights for everyone. Annotated quotes from activists, historians, and important documents allow readers to develop a more personal understanding of black history and provide avenues for further research.","English",669.8,535.84,null,"104 pp.","https://greenhavenpublishing.com/978-1-5345-6860-0",{"$f":"Table1[[#This Row],['# of Books]]*Table1[[#This Row],[QTY]]","v":0},{"$f":"Table1[[#This Row],[QTY]]*Table1[[#This Row],[School & Library Price]]","v":0}]
[null,20,89,null,null,"U.S. History","Lucent Library of Black History","Lucent Library of Black History: Set 3","978-1-5345-6859-4",{"$f":"HYPERLINK(Table1[[#This Row],[Hyperlink]],\"Weblink\")","v":"Weblink"},"Lucent Press","Library Set",5,"2020","January 2020","Library","7.000 X 9.000",null,null,null,null,null,null,null,null,"Grade 7","Grade 7 - 10","Black history is an essential part of American history, and the stories of groundbreaking African American men and women deserve their time in the spotlight. As readers explore the detailed descriptions of the athletes, soldiers, artists, and activists who broke new ground for African Americans, they also see how these stories are more relevant than ever. Meticulously researched text is supplemented with detailed sidebars, helpful timelines, and historical and contemporary images that include primary sources. This essential learning experience expands on social studies curriculum topics to create a vivid picture of the fight for equality in the United States. Features include: Annotated quotes from famous figures, historians, and historical documents add a unique perspective and encourage additional research into each topic. Parallels are drawn between historical events and current social and political issues to show how the past influences the present. Multiple viewpoints are presented on each topic to encourage critical thinking.","English",197,157.6,null,"104 pp.","https://greenhavenpublishing.com/978-1-5345-6859-4",{"$f":"Table1[[#This Row],['# of Books]]*Table1[[#This Row],[QTY]]","v":0},{"$f":"Table1[[#This Row],[QTY]]*Table1[[#This Row],[School & Library Price]]","v":0}]
[null,20,89,null,null,"U.S. History","Lucent Library of Black History","Lucent Library of Black History (Spring 2020)","978-1-5345-6892-1",{"$f":"HYPERLINK(Table1[[#This Row],[Hyperlink]],\"Weblink\")","v":"Weblink"},"Lucent Press","Single Copy Set",5,"2020","January 2020","Paperback","7.000 X 9.000",null,null,null,null,null,null,null,null,"Grade 7","Grade 7 - 10","Black history is an essential part of American history, and the stories of groundbreaking African American men and women deserve their time in the spotlight. As readers explore the detailed descriptions of the athletes, soldiers, artists, and activists who broke new ground for African Americans, they also see how these stories are more relevant than ever. Meticulously researched text is supplemented with detailed sidebars, helpful timelines, and historical and contemporary images that include primary sources. This essential learning experience expands on social studies curriculum topics to create a vivid picture of the fight for equality in the United States. Features include: Annotated quotes from famous figures, historians, and historical documents add a unique perspective and encourage additional research into each topic. Parallels are drawn between historical events and current social and political issues to show how the past influences the present. Multiple viewpoints are presented on each topic to encourage critical thinking.","English",99.95,84.95,null,"104 pp.","https://greenhavenpublishing.com/978-1-5345-6892-1",{"$f":"Table1[[#This Row],['# of Books]]*Table1[[#This Row],[QTY]]","v":0},{"$f":"Table1[[#This Row],[QTY]]*Table1[[#This Row],[School & Library Price]]","v":0}]
[null,20,89,null,null,"U.S. History","Lucent Library of Black History","African Americans in Sports: Groundbreakers and Game Changers","978-1-5345-6847-1",{"$f":"HYPERLINK(Table1[[#This Row],[Hyperlink]],\"Weblink\")","v":"Weblink"},"Lucent Press","Library Bound Book",1,"2020","January 2020","Library","7.000 X 9.000","Author","Tamra B. Orr",null,null,null,null,"Z",null,"Grade 7","Grade 7 - 10","From Jackie Robinson to Venus and Serena Williams, African Americans have used sports to fight for social change. Many of them had to fight against discrimination, and their strength in the face of adversity on the field and off has inspired many people. Their stories are presented to readers through engaging main text that includes annotated quotes from historians, journalists, and the athletes themselves. Compelling photographs, sidebars, and a timeline help readers trace the struggles and successes of African Americans in sports, from the distant past to today's current debates over kneeling during the national anthem.","English",39.4,31.52,"796.092'396073--dc23","104 pp.","https://greenhavenpublishing.com/978-1-5345-6847-1",{"$f":"Table1[[#This Row],['# of Books]]*Table1[[#This Row],[QTY]]","v":0},{"$f":"Table1[[#This Row],[QTY]]*Table1[[#This Row],[School & Library Price]]","v":0}]
[null,20,89,null,null,"U.S. History","Lucent Library of Black History","African Americans in Sports: Groundbreakers and Game Changers","978-1-5345-6846-4",{"$f":"HYPERLINK(Table1[[#This Row],[Hyperlink]],\"Weblink\")","v":"Weblink"},"Lucent Press","Paperback Book",1,"2020","January 2020","Paperback","7.000 X 9.000","Author","Tamra B. Orr",null,null,null,null,"Z",null,"Grade 7","Grade 7 - 10","From Jackie Robinson to Venus and Serena Williams, African Americans have used sports to fight for social change. Many of them had to fight against discrimination, and their strength in the face of adversity on the field and off has inspired many people. Their stories are presented to readers through engaging main text that includes annotated quotes from historians, journalists, and the athletes themselves. Compelling photographs, sidebars, and a timeline help readers trace the struggles and successes of African Americans in sports, from the distant past to today's current debates over kneeling during the national anthem.","English",19.989999999999998,16.989999999999998,"796.092'396073--dc23","104 pp.","https://greenhavenpublishing.com/978-1-5345-6846-4",{"$f":"Table1[[#This Row],['# of Books]]*Table1[[#This Row],[QTY]]","v":0},{"$f":"Table1[[#This Row],[QTY]]*Table1[[#This Row],[School & Library Price]]","v":0}]
[null,20,89,null,null,"U.S. History","Lucent Library of Black History","African Americans in Sports: Groundbreakers and Game Changers","978-1-5345-6848-8",{"$f":"HYPERLINK(Table1[[#This Row],[Hyperlink]],\"Weblink\")","v":"Weblink"},"Lucent Press","eBook",1,"2020","January 2020",null,null,"Author","Tamra B. Orr",null,null,null,null,"Z",null,"Grade 7","Grade 7 - 10","From Jackie Robinson to Venus and Serena Williams, African Americans have used sports to fight for social change. Many of them had to fight against discrimination, and their strength in the face of adversity on the field and off has inspired many people. Their stories are presented to readers through engaging main text that includes annotated quotes from historians, journalists, and the athletes themselves. Compelling photographs, sidebars, and a timeline help readers trace the struggles and successes of African Americans in sports, from the distant past to today's current debates over kneeling during the national anthem.","English",39.4,31.52,"796.092'396073--dc23","104 pp.","https://greenhavenpublishing.com/978-1-5345-6848-8",{"$f":"Table1[[#This Row],['# of Books]]*Table1[[#This Row],[QTY]]","v":0},{"$f":"Table1[[#This Row],[QTY]]*Table1[[#This Row],[School & Library Price]]","v":0}]
[null,20,89,null,null,"U.S. History","Lucent Library of Black History","African Americans in the Armed Forces","978-1-5345-6850-1",{"$f":"HYPERLINK(Table1[[#This Row],[Hyperlink]],\"Weblink\")","v":"Weblink"},"Lucent Press","Library Bound Book",1,"2020","January 2020","Library","7.000 X 9.000","Author","Tamra B. Orr",null,null,null,null,"Z",null,"Grade 7","Grade 7 - 10","African Americans have fought in every major U.S. war, but even as they fought to defend their country, they also had to battle against prejudice simply because of the color of their skin. From the Buffalo Soldiers and Tuskegee Airmen of the past to today's soldiers and officers, African Americans have helped protect a country that has often failed to protect their civil rights. The bravery of these men and women is presented through detailed main text and sidebars that feature annotated quotes. Historical and contemporary images accompany the narrative and a comprehensive timeline of African American military milestones.","English",39.4,31.52,"355.0089/96073--dc23","104 pp.","https://greenhavenpublishing.com/978-1-5345-6850-1",{"$f":"Table1[[#This Row],['# of Books]]*Table1[[#This Row],[QTY]]","v":0},{"$f":"Table1[[#This Row],[QTY]]*Table1[[#This Row],[School & Library Price]]","v":0}]
[null,20,89,null,null,"U.S. History","Lucent Library of Black History","African Americans in the Armed Forces","978-1-5345-6849-5",{"$f":"HYPERLINK(Table1[[#This Row],[Hyperlink]],\"Weblink\")","v":"Weblink"},"Lucent Press","Paperback Book",1,"2020","January 2020","Paperback","7.000 X 9.000","Author","Tamra B. Orr",null,null,null,null,"Z",null,"Grade 7","Grade 7 - 10","African Americans have fought in every major U.S. war, but even as they fought to defend their country, they also had to battle against prejudice simply because of the color of their skin. From the Buffalo Soldiers and Tuskegee Airmen of the past to today's soldiers and officers, African Americans have helped protect a country that has often failed to protect their civil rights. The bravery of these men and women is presented through detailed main text and sidebars that feature annotated quotes. Historical and contemporary images accompany the narrative and a comprehensive timeline of African American military milestones.","English",19.989999999999998,16.989999999999998,"355.0089/96073--dc23","104 pp.","https://greenhavenpublishing.com/978-1-5345-6849-5",{"$f":"Table1[[#This Row],['# of Books]]*Table1[[#This Row],[QTY]]","v":0},{"$f":"Table1[[#This Row],[QTY]]*Table1[[#This Row],[School & Library Price]]","v":0}]
[null,20,89,null,null,"U.S. History","Lucent Library of Black History","African Americans in the Armed Forces","978-1-5345-6851-8",{"$f":"HYPERLINK(Table1[[#This Row],[Hyperlink]],\"Weblink\")","v":"Weblink"},"Lucent Press","eBook",1,"2020","January 2020",null,null,"Author","Tamra B. Orr",null,null,null,null,"Z",null,"Grade 7","Grade 7 - 10","African Americans have fought in every major U.S. war, but even as they fought to defend their country, they also had to battle against prejudice simply because of the color of their skin. From the Buffalo Soldiers and Tuskegee Airmen of the past to today's soldiers and officers, African Americans have helped protect a country that has often failed to protect their civil rights. The bravery of these men and women is presented through detailed main text and sidebars that feature annotated quotes. Historical and contemporary images accompany the narrative and a comprehensive timeline of African American military milestones.","English",39.4,31.52,"355.0089/96073--dc23","104 pp.","https://greenhavenpublishing.com/978-1-5345-6851-8",{"$f":"Table1[[#This Row],['# of Books]]*Table1[[#This Row],[QTY]]","v":0},{"$f":"Table1[[#This Row],[QTY]]*Table1[[#This Row],[School & Library Price]]","v":0}]
[null,20,89,null,null,"U.S. History","Lucent Library of Black History","Justice for All: Landmark Civil Rights Court Cases","978-1-5345-6864-8",{"$f":"HYPERLINK(Table1[[#This Row],[Hyperlink]],\"Weblink\")","v":"Weblink"},"Lucent Press","Library Bound Book",1,"2020","January 2020","Library","7.000 X 9.000","Author","Therese Harasymiw",null,null,null,null,"Z",null,"Grade 7","Grade 7 - 10","Black Americans and their allies have sought to use the U.S. court system as a tool in their fight for civil rights, sometimes successfully and sometimes not. However, certain court decisions, especially those handed down by the U.S. Supreme Court, have led to real change. This comprehensive look at landmark civil rights cases gives readers an understanding of the evolution of the civil rights movement through the lens of legal battles. The detailed sidebars, historical and contemporary images, and annotated quotes also give them the tools to understand the complex issues that are still in the headlines today.","English",39.4,31.52,"342.7308/73--dc23","104 pp.","https://greenhavenpublishing.com/978-1-5345-6864-8",{"$f":"Table1[[#This Row],['# of Books]]*Table1[[#This Row],[QTY]]","v":0},{"$f":"Table1[[#This Row],[QTY]]*Table1[[#This Row],[School & Library Price]]","v":0}]
[null,20,89,null,null,"U.S. History","Lucent Library of Black History","Justice for All: Landmark Civil Rights Court Cases","978-1-5345-6867-9",{"$f":"HYPERLINK(Table1[[#This Row],[Hyperlink]],\"Weblink\")","v":"Weblink"},"Lucent Press","Paperback Book",1,"2020","January 2020","Paperback","7.000 X 9.000","Author","Therese Harasymiw",null,null,null,null,"Z",null,"Grade 7","Grade 7 - 10","Black Americans and their allies have sought to use the U.S. court system as a tool in their fight for civil rights, sometimes successfully and sometimes not. However, certain court decisions, especially those handed down by the U.S. Supreme Court, have led to real change. This comprehensive look at landmark civil rights cases gives readers an understanding of the evolution of the civil rights movement through the lens of legal battles. The detailed sidebars, historical and contemporary images, and annotated quotes also give them the tools to understand the complex issues that are still in the headlines today.","English",19.989999999999998,16.989999999999998,"342.7308/73--dc23","104 pp.","https://greenhavenpublishing.com/978-1-5345-6867-9",{"$f":"Table1[[#This Row],['# of Books]]*Table1[[#This Row],[QTY]]","v":0},{"$f":"Table1[[#This Row],[QTY]]*Table1[[#This Row],[School & Library Price]]","v":0}]
[null,20,89,null,null,"U.S. History","Lucent Library of Black History","Justice for All: Landmark Civil Rights Court Cases","978-1-5345-6861-7",{"$f":"HYPERLINK(Table1[[#This Row],[Hyperlink]],\"Weblink\")","v":"Weblink"},"Lucent Press","eBook",1,"2020","January 2020",null,null,"Author","Therese Harasymiw",null,null,null,null,"Z",null,"Grade 7","Grade 7 - 10","Black Americans and their allies have sought to use the U.S. court system as a tool in their fight for civil rights, sometimes successfully and sometimes not. However, certain court decisions, especially those handed down by the U.S. Supreme Court, have led to real change. This comprehensive look at landmark civil rights cases gives readers an understanding of the evolution of the civil rights movement through the lens of legal battles. The detailed sidebars, historical and contemporary images, and annotated quotes also give them the tools to understand the complex issues that are still in the headlines today.","English",39.4,31.52,"342.7308/73--dc23","104 pp.","https://greenhavenpublishing.com/978-1-5345-6861-7",{"$f":"Table1[[#This Row],['# of Books]]*Table1[[#This Row],[QTY]]","v":0},{"$f":"Table1[[#This Row],[QTY]]*Table1[[#This Row],[School & Library Price]]","v":0}]
[null,20,89,null,null,"U.S. History","Lucent Library of Black History","The Black Arts Movement: Creating a Cultural Identity","978-1-5345-6853-2",{"$f":"HYPERLINK(Table1[[#This Row],[Hyperlink]],\"Weblink\")","v":"Weblink"},"Lucent Press","Library Bound Book",1,"2020","January 2020","Library","7.000 X 9.000","Author","Vanessa Oswald",null,null,null,null,"Z",null,"Grade 7","Grade 7 - 10","The black arts movement was led by African Americans between the 1960s and 1970s, and included artists of all kinds, such as poets, writers, actors, musicians, painters, and dancers. The main goal was to encourage black artists to make art that would tell the meaningful stories of black people and their experiences and struggles throughout history. Readers dive deep into this movement as they explore the main text that features annotated quotes from artists and historians. Sidebars and a timeline provide additional information. Historical images including primary sources give readers an up-close look at this pivotal cultural period.","English",39.4,31.52,"700.89/96073--dc23","104 pp.","https://greenhavenpublishing.com/978-1-5345-6853-2",{"$f":"Table1[[#This Row],['# of Books]]*Table1[[#This Row],[QTY]]","v":0},{"$f":"Table1[[#This Row],[QTY]]*Table1[[#This Row],[School & Library Price]]","v":0}]
[null,20,89,null,null,"U.S. History","Lucent Library of Black History","The Black Arts Movement: Creating a Cultural Identity","978-1-5345-6852-5",{"$f":"HYPERLINK(Table1[[#This Row],[Hyperlink]],\"Weblink\")","v":"Weblink"},"Lucent Press","Paperback Book",1,"2020","January 2020","Paperback","7.000 X 9.000","Author","Vanessa Oswald",null,null,null,null,"Z",null,"Grade 7","Grade 7 - 10","The black arts movement was led by African Americans between the 1960s and 1970s, and included artists of all kinds, such as poets, writers, actors, musicians, painters, and dancers. The main goal was to encourage black artists to make art that would tell the meaningful stories of black people and their experiences and struggles throughout history. Readers dive deep into this movement as they explore the main text that features annotated quotes from artists and historians. Sidebars and a timeline provide additional information. Historical images including primary sources give readers an up-close look at this pivotal cultural period.","English",19.989999999999998,16.989999999999998,"700.89/96073--dc23","104 pp.","https://greenhavenpublishing.com/978-1-5345-6852-5",{"$f":"Table1[[#This Row],['# of Books]]*Table1[[#This Row],[QTY]]","v":0},{"$f":"Table1[[#This Row],[QTY]]*Table1[[#This Row],[School & Library Price]]","v":0}]
[null,20,89,null,null,"U.S. History","Lucent Library of Black History","The Black Arts Movement: Creating a Cultural Identity","978-1-5345-6854-9",{"$f":"HYPERLINK(Table1[[#This Row],[Hyperlink]],\"Weblink\")","v":"Weblink"},"Lucent Press","eBook",1,"2020","January 2020",null,null,"Author","Vanessa Oswald",null,null,null,null,"Z",null,"Grade 7","Grade 7 - 10","The black arts movement was led by African Americans between the 1960s and 1970s, and included artists of all kinds, such as poets, writers, actors, musicians, painters, and dancers. The main goal was to encourage black artists to make art that would tell the meaningful stories of black people and their experiences and struggles throughout history. Readers dive deep into this movement as they explore the main text that features annotated quotes from artists and historians. Sidebars and a timeline provide additional information. Historical images including primary sources give readers an up-close look at this pivotal cultural period.","English",39.4,31.52,"700.89/96073--dc23","104 pp.","https://greenhavenpublishing.com/978-1-5345-6854-9",{"$f":"Table1[[#This Row],['# of Books]]*Table1[[#This Row],[QTY]]","v":0},{"$f":"Table1[[#This Row],[QTY]]*Table1[[#This Row],[School & Library Price]]","v":0}]
[null,20,89,null,null,"U.S. History","Lucent Library of Black History","Unsung Heroes: Women of the Civil Rights Movement","978-1-5345-6865-5",{"$f":"HYPERLINK(Table1[[#This Row],[Hyperlink]],\"Weblink\")","v":"Weblink"},"Lucent Press","Library Bound Book",1,"2020","January 2020","Library","7.000 X 9.000","Author","Jennifer Lombardo",null,null,null,null,"Z",null,"Grade 7","Grade 7 - 10","Many of the most famous faces of the civil rights movement were men, but women played a very large part in the fight for equal rights. Largely ignored by historians as well as by their male contemporaries, it is only relatively recently that the women who helped make the civil rights movement possible have come into the spotlight. Through annotated quotes, historical photographs, and in-depth sidebars, this volume shares the stories of the courageous women who defied the gender stereotypes of their era and fought alongside men to achieve social change on a never-before-seen scale.","English",39.4,31.52,"323.092'2--dc23","104 pp.","https://greenhavenpublishing.com/978-1-5345-6865-5",{"$f":"Table1[[#This Row],['# of Books]]*Table1[[#This Row],[QTY]]","v":0},{"$f":"Table1[[#This Row],[QTY]]*Table1[[#This Row],[School & Library Price]]","v":0}]
[null,20,89,null,null,"U.S. History","Lucent Library of Black History","Unsung Heroes: Women of the Civil Rights Movement","978-1-5345-6868-6",{"$f":"HYPERLINK(Table1[[#This Row],[Hyperlink]],\"Weblink\")","v":"Weblink"},"Lucent Press","Paperback Book",1,"2020","January 2020","Paperback","7.000 X 9.000","Author","Jennifer Lombardo",null,null,null,null,"Z",null,"Grade 7","Grade 7 - 10","Many of the most famous faces of the civil rights movement were men, but women played a very large part in the fight for equal rights. Largely ignored by historians as well as by their male contemporaries, it is only relatively recently that the women who helped make the civil rights movement possible have come into the spotlight. Through annotated quotes, historical photographs, and in-depth sidebars, this volume shares the stories of the courageous women who defied the gender stereotypes of their era and fought alongside men to achieve social change on a never-before-seen scale.","English",19.989999999999998,16.989999999999998,"323.092'2--dc23","104 pp.","https://greenhavenpublishing.com/978-1-5345-6868-6",{"$f":"Table1[[#This Row],['# of Books]]*Table1[[#This Row],[QTY]]","v":0},{"$f":"Table1[[#This Row],[QTY]]*Table1[[#This Row],[School & Library Price]]","v":0}]
[null,20,89,null,null,"U.S. History","Lucent Library of Black History","Unsung Heroes: Women of the Civil Rights Movement","978-1-5345-6862-4",{"$f":"HYPERLINK(Table1[[#This Row],[Hyperlink]],\"Weblink\")","v":"Weblink"},"Lucent Press","eBook",1,"2020","January 2020",null,null,"Author","Jennifer Lombardo",null,null,null,null,"Z",null,"Grade 7","Grade 7 - 10","Many of the most famous faces of the civil rights movement were men, but women played a very large part in the fight for equal rights. Largely ignored by historians as well as by their male contemporaries, it is only relatively recently that the women who helped make the civil rights movement possible have come into the spotlight. Through annotated quotes, historical photographs, and in-depth sidebars, this volume shares the stories of the courageous women who defied the gender stereotypes of their era and fought alongside men to achieve social change on a never-before-seen scale.","English",39.4,31.52,"323.092'2--dc23","104 pp.","https://greenhavenpublishing.com/978-1-5345-6862-4",{"$f":"Table1[[#This Row],['# of Books]]*Table1[[#This Row],[QTY]]","v":0},{"$f":"Table1[[#This Row],[QTY]]*Table1[[#This Row],[School & Library Price]]","v":0}]
[null,21,88,null,null,"U.S. History","Lucent Library of Black History","Freedom By Force: The History of Slave Rebellions","978-1-5345-6235-6",{"$f":"HYPERLINK(Table1[[#This Row],[Hyperlink]],\"Weblink\")","v":"Weblink"},"Lucent Press","Library Bound Book",1,"2018","January 2018","Library","7.000 X 9.000","Author","Therese Harasymiw",null,null,null,null,"Z","1090L","Grade 7","Grade 7 - 10","When people are routinely and systematically oppressed for years, it is only logical that they eventually rise up against their oppressors. For African slaves in North America, these rebellions were largely unsuccessful. Nevertheless, the anger and uprisings that came from people who wanted their freedom and were willing to fight for it are important parts of the story of the fight to end slavery. Readers get a deeper understanding of crucial slave rebellions throughout history through thoroughly researched text, primary sources, and topical photographs.","English",39.4,31.52,"306.3'620973--dc23","104 pp.","https://greenhavenpublishing.com/978-1-5345-6235-6",{"$f":"Table1[[#This Row],['# of Books]]*Table1[[#This Row],[QTY]]","v":0},{"$f":"Table1[[#This Row],[QTY]]*Table1[[#This Row],[School & Library Price]]","v":0}]
[null,21,88,null,null,"U.S. History","Lucent Library of Black History","Freedom By Force: The History of Slave Rebellions","978-1-5345-6294-3",{"$f":"HYPERLINK(Table1[[#This Row],[Hyperlink]],\"Weblink\")","v":"Weblink"},"Lucent Press","Paperback Book",1,"2018","January 2018","Paperback","7.000 X 9.000","Author","Therese Harasymiw",null,null,null,null,"Z","1090L","Grade 7","Grade 7 - 10","When people are routinely and systematically oppressed for years, it is only logical that they eventually rise up against their oppressors. For African slaves in North America, these rebellions were largely unsuccessful. Nevertheless, the anger and uprisings that came from people who wanted their freedom and were willing to fight for it are important parts of the story of the fight to end slavery. Readers get a deeper understanding of crucial slave rebellions throughout history through thoroughly researched text, primary sources, and topical photographs.","English",19.989999999999998,16.989999999999998,"306.3'620973--dc23","104 pp.","https://greenhavenpublishing.com/978-1-5345-6294-3",{"$f":"Table1[[#This Row],['# of Books]]*Table1[[#This Row],[QTY]]","v":0},{"$f":"Table1[[#This Row],[QTY]]*Table1[[#This Row],[School & Library Price]]","v":0}]
[null,21,88,null,null,"U.S. History","Lucent Library of Black History","Freedom By Force: The History of Slave Rebellions","978-1-5345-6236-3",{"$f":"HYPERLINK(Table1[[#This Row],[Hyperlink]],\"Weblink\")","v":"Weblink"},"Lucent Press","eBook",1,"2018","January 2018",null,null,"Author","Therese Harasymiw",null,null,null,null,"Z","1090L","Grade 7","Grade 7 - 10","When people are routinely and systematically oppressed for years, it is only logical that they eventually rise up against their oppressors. For African slaves in North America, these rebellions were largely unsuccessful. Nevertheless, the anger and uprisings that came from people who wanted their freedom and were willing to fight for it are important parts of the story of the fight to end slavery. Readers get a deeper understanding of crucial slave rebellions throughout history through thoroughly researched text, primary sources, and topical photographs.","English",39.4,31.52,"306.3'620973--dc23","104 pp.","https://greenhavenpublishing.com/978-1-5345-6236-3",{"$f":"Table1[[#This Row],['# of Books]]*Table1[[#This Row],[QTY]]","v":0},{"$f":"Table1[[#This Row],[QTY]]*Table1[[#This Row],[School & Library Price]]","v":0}]
[null,21,89,null,null,"U.S. History","Lucent Library of Black History","Hidden No More: African American Women in STEM Careers","978-1-5345-6243-1",{"$f":"HYPERLINK(Table1[[#This Row],[Hyperlink]],\"Weblink\")","v":"Weblink"},"Lucent Press","Library Bound Book",1,"2018","January 2018","Library","7.000 X 9.000","Author","Caroline Kennon",null,null,null,null,"Z","1170L","Grade 7","Grade 7 - 10","In recent years, the stories of black women in scientific and mathematical fields have finally emerged from the shadows of history to inspire new generations of Americans. Through engaging main text filled with quotes from prominent figures, readers understand how black women who pursued careers in science and math helped shape the history of the world and continue to shape its future. Eye-catching photographs make this complex and influential topic easily relatable, while informative sidebars provide a thorough investigation of powerful women in powerful careers.","English",39.4,31.52,"509.2/52--dc23","104 pp.","https://greenhavenpublishing.com/978-1-5345-6243-1",{"$f":"Table1[[#This Row],['# of Books]]*Table1[[#This Row],[QTY]]","v":0},{"$f":"Table1[[#This Row],[QTY]]*Table1[[#This Row],[School & Library Price]]","v":0}]
[null,21,89,null,null,"U.S. History","Lucent Library of Black History","Hidden No More: African American Women in STEM Careers","978-1-5345-6295-0",{"$f":"HYPERLINK(Table1[[#This Row],[Hyperlink]],\"Weblink\")","v":"Weblink"},"Lucent Press","Paperback Book",1,"2018","January 2018","Paperback","7.000 X 9.000","Author","Caroline Kennon",null,null,null,null,"Z","1170L","Grade 7","Grade 7 - 10","In recent years, the stories of black women in scientific and mathematical fields have finally emerged from the shadows of history to inspire new generations of Americans. Through engaging main text filled with quotes from prominent figures, readers understand how black women who pursued careers in science and math helped shape the history of the world and continue to shape its future. Eye-catching photographs make this complex and influential topic easily relatable, while informative sidebars provide a thorough investigation of powerful women in powerful careers.","English",19.989999999999998,16.989999999999998,"509.2/52--dc23","104 pp.","https://greenhavenpublishing.com/978-1-5345-6295-0",{"$f":"Table1[[#This Row],['# of Books]]*Table1[[#This Row],[QTY]]","v":0},{"$f":"Table1[[#This Row],[QTY]]*Table1[[#This Row],[School & Library Price]]","v":0}]
[null,21,89,null,null,"U.S. History","Lucent Library of Black History","Hidden No More: African American Women in STEM Careers","978-1-5345-6244-8",{"$f":"HYPERLINK(Table1[[#This Row],[Hyperlink]],\"Weblink\")","v":"Weblink"},"Lucent Press","eBook",1,"2018","January 2018",null,null,"Author","Caroline Kennon",null,null,null,null,"Z","1170L","Grade 7","Grade 7 - 10","In recent years, the stories of black women in scientific and mathematical fields have finally emerged from the shadows of history to inspire new generations of Americans. Through engaging main text filled with quotes from prominent figures, readers understand how black women who pursued careers in science and math helped shape the history of the world and continue to shape its future. Eye-catching photographs make this complex and influential topic easily relatable, while informative sidebars provide a thorough investigation of powerful women in powerful careers.","English",39.4,31.52,"509.2/52--dc23","104 pp.","https://greenhavenpublishing.com/978-1-5345-6244-8",{"$f":"Table1[[#This Row],['# of Books]]*Table1[[#This Row],[QTY]]","v":0},{"$f":"Table1[[#This Row],[QTY]]*Table1[[#This Row],[School & Library Price]]","v":0}]
[null,21,89,null,null,"U.S. History","Lucent Library of Black History","Marching for Equality: The Journey from Selma to Montgomery","978-1-5345-6241-7",{"$f":"HYPERLINK(Table1[[#This Row],[Hyperlink]],\"Weblink\")","v":"Weblink"},"Lucent Press","Library Bound Book",1,"2018","January 2018","Library","7.000 X 9.000","Author","Vanessa Oswald",null,null,null,null,"Z","1240L","Grade 7","Grade 7 - 10","One of the greatest leaders in American history, Martin Luther King Jr., organized a march from Selma, Alabama, to that state’s capital, Montgomery, in 1965. He and other activists wanted to call attention to the civil rights violations that plagued Alabama, as well as the struggle many African Americans were going through to exercise their right to vote. Readers learn about this important moment in American history through comprehensive text, quotes from civil rights leaders, and powerful photographs from the historic march to Montgomery.","English",39.4,31.52,"323.1196'073--dc23","104 pp.","https://greenhavenpublishing.com/978-1-5345-6241-7",{"$f":"Table1[[#This Row],['# of Books]]*Table1[[#This Row],[QTY]]","v":0},{"$f":"Table1[[#This Row],[QTY]]*Table1[[#This Row],[School & Library Price]]","v":0}]
[null,21,89,null,null,"U.S. History","Lucent Library of Black History","Marching for Equality: The Journey from Selma to Montgomery","978-1-5345-6296-7",{"$f":"HYPERLINK(Table1[[#This Row],[Hyperlink]],\"Weblink\")","v":"Weblink"},"Lucent Press","Paperback Book",1,"2018","January 2018","Paperback","7.000 X 9.000","Author","Vanessa Oswald",null,null,null,null,"Z","1240L","Grade 7","Grade 7 - 10","One of the greatest leaders in American history, Martin Luther King Jr., organized a march from Selma, Alabama, to that state’s capital, Montgomery, in 1965. He and other activists wanted to call attention to the civil rights violations that plagued Alabama, as well as the struggle many African Americans were going through to exercise their right to vote. Readers learn about this important moment in American history through comprehensive text, quotes from civil rights leaders, and powerful photographs from the historic march to Montgomery.","English",19.989999999999998,16.989999999999998,"323.1196'073--dc23","104 pp.","https://greenhavenpublishing.com/978-1-5345-6296-7",{"$f":"Table1[[#This Row],['# of Books]]*Table1[[#This Row],[QTY]]","v":0},{"$f":"Table1[[#This Row],[QTY]]*Table1[[#This Row],[School & Library Price]]","v":0}]
[null,21,89,null,null,"U.S. History","Lucent Library of Black History","Marching for Equality: The Journey from Selma to Montgomery","978-1-5345-6242-4",{"$f":"HYPERLINK(Table1[[#This Row],[Hyperlink]],\"Weblink\")","v":"Weblink"},"Lucent Press","eBook",1,"2018","January 2018",null,null,"Author","Vanessa Oswald",null,null,null,null,"Z","1240L","Grade 7","Grade 7 - 10","One of the greatest leaders in American history, Martin Luther King Jr., organized a march from Selma, Alabama, to that state’s capital, Montgomery, in 1965. He and other activists wanted to call attention to the civil rights violations that plagued Alabama, as well as the struggle many African Americans were going through to exercise their right to vote. Readers learn about this important moment in American history through comprehensive text, quotes from civil rights leaders, and powerful photographs from the historic march to Montgomery.","English",39.4,31.52,"323.1196'073--dc23","104 pp.","https://greenhavenpublishing.com/978-1-5345-6242-4",{"$f":"Table1[[#This Row],['# of Books]]*Table1[[#This Row],[QTY]]","v":0},{"$f":"Table1[[#This Row],[QTY]]*Table1[[#This Row],[School & Library Price]]","v":0}]
[null,21,89,null,null,"U.S. History","Lucent Library of Black History","Reparations for Slavery: The Fight for Compensation","978-1-5345-6233-2",{"$f":"HYPERLINK(Table1[[#This Row],[Hyperlink]],\"Weblink\")","v":"Weblink"},"Lucent Press","Library Bound Book",1,"2018","January 2018","Library","7.000 X 9.000","Author","Sarah Goldy-Brown",null,null,null,null,"Z","1290L","Grade 7","Grade 7 - 10","The enslavement of Africans in America is one of the most shameful aspects of U.S. history. In modern times, some activist groups have called for compensation, also known as reparations, to be made to descendants of slaves. Detailing all the angles of this ongoing debate, this subject is explored through rich main text, engaging sidebars, primary sources, and annotated quotes from influential figures. Readers get a nuanced understanding of the arguments both for and against reparations for slavery, enhancing what they learn in their social studies classes.","English",39.4,31.52,"306.3/620973--dc23","104 pp.","https://greenhavenpublishing.com/978-1-5345-6233-2",{"$f":"Table1[[#This Row],['# of Books]]*Table1[[#This Row],[QTY]]","v":0},{"$f":"Table1[[#This Row],[QTY]]*Table1[[#This Row],[School & Library Price]]","v":0}]
[null,21,89,null,null,"U.S. History","Lucent Library of Black History","Reparations for Slavery: The Fight for Compensation","978-1-5345-6297-4",{"$f":"HYPERLINK(Table1[[#This Row],[Hyperlink]],\"Weblink\")","v":"Weblink"},"Lucent Press","Paperback Book",1,"2018","January 2018","Paperback","7.000 X 9.000","Author","Sarah Goldy-Brown",null,null,null,null,"Z","1290L","Grade 7","Grade 7 - 10","The enslavement of Africans in America is one of the most shameful aspects of U.S. history. In modern times, some activist groups have called for compensation, also known as reparations, to be made to descendants of slaves. Detailing all the angles of this ongoing debate, this subject is explored through rich main text, engaging sidebars, primary sources, and annotated quotes from influential figures. Readers get a nuanced understanding of the arguments both for and against reparations for slavery, enhancing what they learn in their social studies classes.","English",19.989999999999998,16.989999999999998,"306.3/620973--dc23","104 pp.","https://greenhavenpublishing.com/978-1-5345-6297-4",{"$f":"Table1[[#This Row],['# of Books]]*Table1[[#This Row],[QTY]]","v":0},{"$f":"Table1[[#This Row],[QTY]]*Table1[[#This Row],[School & Library Price]]","v":0}]
[null,21,89,null,null,"U.S. History","Lucent Library of Black History","Reparations for Slavery: The Fight for Compensation","978-1-5345-6234-9",{"$f":"HYPERLINK(Table1[[#This Row],[Hyperlink]],\"Weblink\")","v":"Weblink"},"Lucent Press","eBook",1,"2018","January 2018",null,null,"Author","Sarah Goldy-Brown",null,null,null,null,"Z","1290L","Grade 7","Grade 7 - 10","The enslavement of Africans in America is one of the most shameful aspects of U.S. history. In modern times, some activist groups have called for compensation, also known as reparations, to be made to descendants of slaves. Detailing all the angles of this ongoing debate, this subject is explored through rich main text, engaging sidebars, primary sources, and annotated quotes from influential figures. Readers get a nuanced understanding of the arguments both for and against reparations for slavery, enhancing what they learn in their social studies classes.","English",39.4,31.52,"306.3/620973--dc23","104 pp.","https://greenhavenpublishing.com/978-1-5345-6234-9",{"$f":"Table1[[#This Row],['# of Books]]*Table1[[#This Row],[QTY]]","v":0},{"$f":"Table1[[#This Row],[QTY]]*Table1[[#This Row],[School & Library Price]]","v":0}]
[null,21,88,null,null,"U.S. History","Lucent Library of Black History","The Freedom Rides: The Rise of the Civil Rights Movement","978-1-5345-6239-4",{"$f":"HYPERLINK(Table1[[#This Row],[Hyperlink]],\"Weblink\")","v":"Weblink"},"Lucent Press","Library Bound Book",1,"2018","January 2018","Library","7.000 X 9.000","Author","Sarah Machajewski",null,null,null,null,"Z","1120L","Grade 7","Grade 7 - 10","By the middle of the 1900s, African Americans were tired of the discriminatory treatment they had been receiving even after the abolition of slavery nearly 100 years prior. As the American civil rights movement began to grow, a group of courageous activists, called the Freedom Riders, began challenging the segregated status quo. Assisted by engaging fact boxes and a comprehensive text, readers are placed in the middle of the fight for equality. Striking photographs show readers the human aspect of the push, and fight, for greater social equality.","English",39.4,31.52,"323.1196/073--dc23","104 pp.","https://greenhavenpublishing.com/978-1-5345-6239-4",{"$f":"Table1[[#This Row],['# of Books]]*Table1[[#This Row],[QTY]]","v":0},{"$f":"Table1[[#This Row],[QTY]]*Table1[[#This Row],[School & Library Price]]","v":0}]
[null,21,88,null,null,"U.S. History","Lucent Library of Black History","The Freedom Rides: The Rise of the Civil Rights Movement","978-1-5345-6298-1",{"$f":"HYPERLINK(Table1[[#This Row],[Hyperlink]],\"Weblink\")","v":"Weblink"},"Lucent Press","Paperback Book",1,"2018","January 2018","Paperback","7.000 X 9.000","Author","Sarah Machajewski",null,null,null,null,"Z","1120L","Grade 7","Grade 7 - 10","By the middle of the 1900s, African Americans were tired of the discriminatory treatment they had been receiving even after the abolition of slavery nearly 100 years prior. As the American civil rights movement began to grow, a group of courageous activists, called the Freedom Riders, began challenging the segregated status quo. Assisted by engaging fact boxes and a comprehensive text, readers are placed in the middle of the fight for equality. Striking photographs show readers the human aspect of the push, and fight, for greater social equality.","English",19.989999999999998,16.989999999999998,"323.1196/073--dc23","104 pp.","https://greenhavenpublishing.com/978-1-5345-6298-1",{"$f":"Table1[[#This Row],['# of Books]]*Table1[[#This Row],[QTY]]","v":0},{"$f":"Table1[[#This Row],[QTY]]*Table1[[#This Row],[School & Library Price]]","v":0}]
[null,21,88,null,null,"U.S. History","Lucent Library of Black History","The Freedom Rides: The Rise of the Civil Rights Movement","978-1-5345-6240-0",{"$f":"HYPERLINK(Table1[[#This Row],[Hyperlink]],\"Weblink\")","v":"Weblink"},"Lucent Press","eBook",1,"2018","January 2018",null,null,"Author","Sarah Machajewski",null,null,null,null,"Z","1120L","Grade 7","Grade 7 - 10","By the middle of the 1900s, African Americans were tired of the discriminatory treatment they had been receiving even after the abolition of slavery nearly 100 years prior. As the American civil rights movement began to grow, a group of courageous activists, called the Freedom Riders, began challenging the segregated status quo. Assisted by engaging fact boxes and a comprehensive text, readers are placed in the middle of the fight for equality. Striking photographs show readers the human aspect of the push, and fight, for greater social equality.","English",39.4,31.52,"323.1196/073--dc23","104 pp.","https://greenhavenpublishing.com/978-1-5345-6240-0",{"$f":"Table1[[#This Row],['# of Books]]*Table1[[#This Row],[QTY]]","v":0},{"$f":"Table1[[#This Row],[QTY]]*Table1[[#This Row],[School & Library Price]]","v":0}]
[null,21,89,null,null,"U.S. History","Lucent Library of Black History","The Transatlantic Slave Trade: Slavery Comes to the New World","978-1-5345-6237-0",{"$f":"HYPERLINK(Table1[[#This Row],[Hyperlink]],\"Weblink\")","v":"Weblink"},"Lucent Press","Library Bound Book",1,"2018","January 2018","Library","7.000 X 9.000","Author","Siyavush Saidian",null,null,null,null,"Z","1250L","Grade 7","Grade 7 - 10","When European settlers first started their migration to the Western Hemisphere, they found land that was ready for farming. To build this agricultural society, they bought and sold slaves from Africa. Through the detailed text, contemporary and historical images, and informative sidebars, readers get a sense of how complex and dangerous the transatlantic slave trade was in the early years of New World exploration. Powerful quotes from primary sources and scholars bring this painful period in America’s past to life, asking readers to think more critically about history.","English",39.4,31.52,"306.3/62--dc23","104 pp.","https://greenhavenpublishing.com/978-1-5345-6237-0",{"$f":"Table1[[#This Row],['# of Books]]*Table1[[#This Row],[QTY]]","v":0},{"$f":"Table1[[#This Row],[QTY]]*Table1[[#This Row],[School & Library Price]]","v":0}]
[null,21,89,null,null,"U.S. History","Lucent Library of Black History","The Transatlantic Slave Trade: Slavery Comes to the New World","978-1-5345-6299-8",{"$f":"HYPERLINK(Table1[[#This Row],[Hyperlink]],\"Weblink\")","v":"Weblink"},"Lucent Press","Paperback Book",1,"2018","January 2018","Paperback","7.000 X 9.000","Author","Siyavush Saidian",null,null,null,null,"Z","1250L","Grade 7","Grade 7 - 10","When European settlers first started their migration to the Western Hemisphere, they found land that was ready for farming. To build this agricultural society, they bought and sold slaves from Africa. Through the detailed text, contemporary and historical images, and informative sidebars, readers get a sense of how complex and dangerous the transatlantic slave trade was in the early years of New World exploration. Powerful quotes from primary sources and scholars bring this painful period in America’s past to life, asking readers to think more critically about history.","English",19.989999999999998,16.989999999999998,"306.3/62--dc23","104 pp.","https://greenhavenpublishing.com/978-1-5345-6299-8",{"$f":"Table1[[#This Row],['# of Books]]*Table1[[#This Row],[QTY]]","v":0},{"$f":"Table1[[#This Row],[QTY]]*Table1[[#This Row],[School & Library Price]]","v":0}]
[null,21,89,null,null,"U.S. History","Lucent Library of Black History","The Transatlantic Slave Trade: Slavery Comes to the New World","978-1-5345-6238-7",{"$f":"HYPERLINK(Table1[[#This Row],[Hyperlink]],\"Weblink\")","v":"Weblink"},"Lucent Press","eBook",1,"2018","January 2018",null,null,"Author","Siyavush Saidian",null,null,null,null,"Z","1250L","Grade 7","Grade 7 - 10","When European settlers first started their migration to the Western Hemisphere, they found land that was ready for farming. To build this agricultural society, they bought and sold slaves from Africa. Through the detailed text, contemporary and historical images, and informative sidebars, readers get a sense of how complex and dangerous the transatlantic slave trade was in the early years of New World exploration. Powerful quotes from primary sources and scholars bring this painful period in America’s past to life, asking readers to think more critically about history.","English",39.4,31.52,"306.3/62--dc23","104 pp.","https://greenhavenpublishing.com/978-1-5345-6238-7",{"$f":"Table1[[#This Row],['# of Books]]*Table1[[#This Row],[QTY]]","v":0},{"$f":"Table1[[#This Row],[QTY]]*Table1[[#This Row],[School & Library Price]]","v":0}]
[null,21,88,null,null,"U.S. History","Lucent Library of Black History","African American Entrepreneurs: Stories of Success","978-1-5345-6079-6",{"$f":"HYPERLINK(Table1[[#This Row],[Hyperlink]],\"Weblink\")","v":"Weblink"},"Lucent Press","Library Bound Book",1,"2018","August 2017","Library","7.000 X 9.000","Author","Philip Wolny",null,null,null,null,"Z","1190L","Grade 7","Grade 7 - 10","Starting a business is inherently risky, but it has historically been much harder for African Americans due to the systemic racism they face in many different areas. However, many black entrepreneurs have overcome those barriers to create successful businesses, working harder than their white counterparts to achieve similar results. Readers will learn about the history of discrimination against African Americans in the business world and how it has been and still can be combated. Historical and contemporary photographs and a comprehensive timeline shine a spotlight on many African American entrepreneurs who have changed the world.","English",39.4,31.52,"338'.0089'96073--dc23","104 pp.","https://greenhavenpublishing.com/978-1-5345-6079-6",{"$f":"Table1[[#This Row],['# of Books]]*Table1[[#This Row],[QTY]]","v":0},{"$f":"Table1[[#This Row],[QTY]]*Table1[[#This Row],[School & Library Price]]","v":0}]
[null,21,88,null,null,"U.S. History","Lucent Library of Black History","African American Entrepreneurs: Stories of Success","978-1-5345-6080-2",{"$f":"HYPERLINK(Table1[[#This Row],[Hyperlink]],\"Weblink\")","v":"Weblink"},"Lucent Press","eBook",1,"2018","August 2017",null,null,"Author","Philip Wolny",null,null,null,null,"Z","1190L","Grade 7","Grade 7 - 10","Starting a business is inherently risky, but it has historically been much harder for African Americans due to the systemic racism they face in many different areas. However, many black entrepreneurs have overcome those barriers to create successful businesses, working harder than their white counterparts to achieve similar results. Readers will learn about the history of discrimination against African Americans in the business world and how it has been and still can be combated. Historical and contemporary photographs and a comprehensive timeline shine a spotlight on many African American entrepreneurs who have changed the world.","English",39.4,31.52,"338'.0089'96073--dc23","104 pp.","https://greenhavenpublishing.com/978-1-5345-6080-2",{"$f":"Table1[[#This Row],['# of Books]]*Table1[[#This Row],[QTY]]","v":0},{"$f":"Table1[[#This Row],[QTY]]*Table1[[#This Row],[School & Library Price]]","v":0}]
[null,21,88,null,null,"U.S. History","Lucent Library of Black History","African American Inventors: Overcoming Challenges to Change America","978-1-5345-6071-0",{"$f":"HYPERLINK(Table1[[#This Row],[Hyperlink]],\"Weblink\")","v":"Weblink"},"Lucent Press","Library Bound Book",1,"2018","August 2017","Library","7.000 X 9.000","Author","Sophie Washburne",null,null,null,null,"Z","1130L","Grade 7","Grade 7 - 10","Many of the products we use every day were invented by African Americans, although these inventors unfortunately have not often been given credit for their contributions. Readers will take a fascinating look at the black men and women who have helped shape the world as we know it today with their inventions. Engaging text presents a discussion of the lives of prominent black inventors, including the struggles they dealt with in the past and continue to face today. A timeline of important dates, historical and contemporary images, and informative sidebars enhance this frequently overlooked area of history.","English",39.4,31.52,"609.2/396073--dc23","104 pp.","https://greenhavenpublishing.com/978-1-5345-6071-0",{"$f":"Table1[[#This Row],['# of Books]]*Table1[[#This Row],[QTY]]","v":0},{"$f":"Table1[[#This Row],[QTY]]*Table1[[#This Row],[School & Library Price]]","v":0}]
[null,21,88,null,null,"U.S. History","Lucent Library of Black History","African American Inventors: Overcoming Challenges to Change America","978-1-5345-6072-7",{"$f":"HYPERLINK(Table1[[#This Row],[Hyperlink]],\"Weblink\")","v":"Weblink"},"Lucent Press","eBook",1,"2018","August 2017",null,null,"Author","Sophie Washburne",null,null,null,null,"Z","1130L","Grade 7","Grade 7 - 10","Many of the products we use every day were invented by African Americans, although these inventors unfortunately have not often been given credit for their contributions. Readers will take a fascinating look at the black men and women who have helped shape the world as we know it today with their inventions. Engaging text presents a discussion of the lives of prominent black inventors, including the struggles they dealt with in the past and continue to face today. A timeline of important dates, historical and contemporary images, and informative sidebars enhance this frequently overlooked area of history.","English",39.4,31.52,"609.2/396073--dc23","104 pp.","https://greenhavenpublishing.com/978-1-5345-6072-7",{"$f":"Table1[[#This Row],['# of Books]]*Table1[[#This Row],[QTY]]","v":0},{"$f":"Table1[[#This Row],[QTY]]*Table1[[#This Row],[School & Library Price]]","v":0}]
[null,21,88,null,null,"U.S. History","Lucent Library of Black History","African American Literature: Sharing Powerful Stories","978-1-5345-6077-2",{"$f":"HYPERLINK(Table1[[#This Row],[Hyperlink]],\"Weblink\")","v":"Weblink"},"Lucent Press","Library Bound Book",1,"2018","August 2017","Library","7.000 X 9.000","Author","Meghan Sharif",null,null,null,null,"Z","1170L","Grade 7","Grade 7 - 10","Since the 18th century, African Americans have been contributing important works to American literature. However, their writing has been treated differently than those produced by white authors. Readers discover the challenges black authors have faced in having their work published and being taken seriously by critics and readers alike. Engaging sidebars and detailed photographs augment this comprehensive overview of the racism that still persists in the publishing industry.","English",39.4,31.52,"810.9'9287--dc23","104 pp.","https://greenhavenpublishing.com/978-1-5345-6077-2",{"$f":"Table1[[#This Row],['# of Books]]*Table1[[#This Row],[QTY]]","v":0},{"$f":"Table1[[#This Row],[QTY]]*Table1[[#This Row],[School & Library Price]]","v":0}]
[null,21,88,null,null,"U.S. History","Lucent Library of Black History","African American Literature: Sharing Powerful Stories","978-1-5345-6078-9",{"$f":"HYPERLINK(Table1[[#This Row],[Hyperlink]],\"Weblink\")","v":"Weblink"},"Lucent Press","eBook",1,"2018","August 2017",null,null,"Author","Meghan Sharif",null,null,null,null,"Z","1170L","Grade 7","Grade 7 - 10","Since the 18th century, African Americans have been contributing important works to American literature. However, their writing has been treated differently than those produced by white authors. Readers discover the challenges black authors have faced in having their work published and being taken seriously by critics and readers alike. Engaging sidebars and detailed photographs augment this comprehensive overview of the racism that still persists in the publishing industry.","English",39.4,31.52,"810.9'9287--dc23","104 pp.","https://greenhavenpublishing.com/978-1-5345-6078-9",{"$f":"Table1[[#This Row],['# of Books]]*Table1[[#This Row],[QTY]]","v":0},{"$f":"Table1[[#This Row],[QTY]]*Table1[[#This Row],[School & Library Price]]","v":0}]
[null,21,88,null,null,"U.S. History","Lucent Library of Black History","African Americans in Film: Issues of Race in Hollywood","978-1-5345-6081-9",{"$f":"HYPERLINK(Table1[[#This Row],[Hyperlink]],\"Weblink\")","v":"Weblink"},"Lucent Press","Library Bound Book",1,"2018","August 2017","Library","7.000 X 9.000","Author","Camille R. Michaels",null,null,null,null,"Z","1240L","Grade 7","Grade 7 - 10","The whitewashing of roles in films and the lack of representation at awards shows such as the Oscars are only two of the career obstacles African American actors and filmmakers have historically faced. Although blackface is now taboo, racism is still prevalent in Hollywood. Readers explore the causes of the systemic oppression that has made it difficult for African Americans to break into the movie business. Through full-color photographs and primary sources, readers will learn how to become more thoughtful viewers of movies and television.","English",39.4,31.52,"791.43’652996073--dc23","104 pp.","https://greenhavenpublishing.com/978-1-5345-6081-9",{"$f":"Table1[[#This Row],['# of Books]]*Table1[[#This Row],[QTY]]","v":0},{"$f":"Table1[[#This Row],[QTY]]*Table1[[#This Row],[School & Library Price]]","v":0}]
[null,21,88,null,null,"U.S. History","Lucent Library of Black History","African Americans in Film: Issues of Race in Hollywood","978-1-5345-6082-6",{"$f":"HYPERLINK(Table1[[#This Row],[Hyperlink]],\"Weblink\")","v":"Weblink"},"Lucent Press","eBook",1,"2018","August 2017",null,null,"Author","Camille R. Michaels",null,null,null,null,"Z","1240L","Grade 7","Grade 7 - 10","The whitewashing of roles in films and the lack of representation at awards shows such as the Oscars are only two of the career obstacles African American actors and filmmakers have historically faced. Although blackface is now taboo, racism is still prevalent in Hollywood. Readers explore the causes of the systemic oppression that has made it difficult for African Americans to break into the movie business. Through full-color photographs and primary sources, readers will learn how to become more thoughtful viewers of movies and television.","English",39.4,31.52,"791.43’652996073--dc23","104 pp.","https://greenhavenpublishing.com/978-1-5345-6082-6",{"$f":"Table1[[#This Row],['# of Books]]*Table1[[#This Row],[QTY]]","v":0},{"$f":"Table1[[#This Row],[QTY]]*Table1[[#This Row],[School & Library Price]]","v":0}]
[null,21,88,null,null,"U.S. History","Lucent Library of Black History","African Americans in Political Office: From the Civil War to the White House","978-1-5345-6075-8",{"$f":"HYPERLINK(Table1[[#This Row],[Hyperlink]],\"Weblink\")","v":"Weblink"},"Lucent Press","Library Bound Book",1,"2018","August 2017","Library","7.000 X 9.000","Author","Barbara M. Linde",null,null,null,null,"Z","1190L","Grade 7","Grade 7 - 10","Barack Obama made history when he became president in 2008, but his election was made possible partially by the hard work of the many African American politicians who came before him. Even before the abolition of slavery, African Americans held political office, although they have not had an easy time of it. This historical overview of black politicians in the United States enhances classroom learning by bringing to light little-known facts, supported by primary sources and a timeline of important events.","English",39.4,31.52,"973'.0496073--dc23","104 pp.","https://greenhavenpublishing.com/978-1-5345-6075-8",{"$f":"Table1[[#This Row],['# of Books]]*Table1[[#This Row],[QTY]]","v":0},{"$f":"Table1[[#This Row],[QTY]]*Table1[[#This Row],[School & Library Price]]","v":0}]
[null,21,88,null,null,"U.S. History","Lucent Library of Black History","African Americans in Political Office: From the Civil War to the White House","978-1-5345-6076-5",{"$f":"HYPERLINK(Table1[[#This Row],[Hyperlink]],\"Weblink\")","v":"Weblink"},"Lucent Press","eBook",1,"2018","August 2017",null,null,"Author","Barbara M. Linde",null,null,null,null,"Z","1190L","Grade 7","Grade 7 - 10","Barack Obama made history when he became president in 2008, but his election was made possible partially by the hard work of the many African American politicians who came before him. Even before the abolition of slavery, African Americans held political office, although they have not had an easy time of it. This historical overview of black politicians in the United States enhances classroom learning by bringing to light little-known facts, supported by primary sources and a timeline of important events.","English",39.4,31.52,"973'.0496073--dc23","104 pp.","https://greenhavenpublishing.com/978-1-5345-6076-5",{"$f":"Table1[[#This Row],['# of Books]]*Table1[[#This Row],[QTY]]","v":0},{"$f":"Table1[[#This Row],[QTY]]*Table1[[#This Row],[School & Library Price]]","v":0}]
[null,21,89,null,null,"U.S. History","Lucent Library of Black History","The Story of African American Music","978-1-5345-6073-4",{"$f":"HYPERLINK(Table1[[#This Row],[Hyperlink]],\"Weblink\")","v":"Weblink"},"Lucent Press","Library Bound Book",1,"2018","August 2017","Library","7.000 X 9.000","Author","Andrew Pina",null,null,null,null,"Z","1170L","Grade 7","Grade 7 - 10","The influence of African Americans on music in the United States cannot be overstated. A large variety of musical genres owe their beginnings to black musicians. Jazz, rap, funk, rhythm and blues, and even techno have roots in African American culture. This volume chronicles the history of African American music, with spotlights on influential black musicians of the past and present. Historical and contemporary photographs, including primary sources, contribute to an in-depth look at this essential part of American musical history.","English",39.4,31.52,"780.89/96073--dc23","104 pp.","https://greenhavenpublishing.com/978-1-5345-6073-4",{"$f":"Table1[[#This Row],['# of Books]]*Table1[[#This Row],[QTY]]","v":0},{"$f":"Table1[[#This Row],[QTY]]*Table1[[#This Row],[School & Library Price]]","v":0}]
[null,21,89,null,null,"U.S. History","Lucent Library of Black History","The Story of African American Music","978-1-5345-6074-1",{"$f":"HYPERLINK(Table1[[#This Row],[Hyperlink]],\"Weblink\")","v":"Weblink"},"Lucent Press","eBook",1,"2018","August 2017",null,null,"Author","Andrew Pina",null,null,null,null,"Z","1170L","Grade 7","Grade 7 - 10","The influence of African Americans on music in the United States cannot be overstated. A large variety of musical genres owe their beginnings to black musicians. Jazz, rap, funk, rhythm and blues, and even techno have roots in African American culture. This volume chronicles the history of African American music, with spotlights on influential black musicians of the past and present. Historical and contemporary photographs, including primary sources, contribute to an in-depth look at this essential part of American musical history.","English",39.4,31.52,"780.89/96073--dc23","104 pp.","https://greenhavenpublishing.com/978-1-5345-6074-1",{"$f":"Table1[[#This Row],['# of Books]]*Table1[[#This Row],[QTY]]","v":0},{"$f":"Table1[[#This Row],[QTY]]*Table1[[#This Row],[School & Library Price]]","v":0}]
[null,22,null,null,null,"Health & Medicine","Nutrition and Health","Nutrition and Health","978-1-5345-6888-4",{"$f":"HYPERLINK(Table1[[#This Row],[Hyperlink]],\"Weblink\")","v":"Weblink"},"Lucent Press","Library Set",5,"2020","January 2020","Library","7.000 X 9.000",null,null,null,null,null,null,null,null,"Grade 7","Grade 7 - 10","As researchers learn more about the human body, they also learn more about what keeps it healthy. Unfortunately, the realities of daily life can often get in the way of putting this research into practice. For example, increased stress at work or school and the wide availability of junk food can cause people to eat poorly. Misinformation about the safety of vaccines can put lives at risk. Readers learn to take control of their health as they discover the most up-to-date information, supplemented by charts, graphs, sidebars, and annotated quotes from medical experts. Features include: Informative, unbiased texts give young adults the facts they need in order to make smart decisions about their health without causing unnecessary anxiety. Timely, relevant topics, ranging from food safety to eating a balanced vegetarian diet, encourage readers to think critically about health and nutrition issues that are often in the news. Eye-catching fact boxes highlight important details and teach readers to use facts to support their opinions.","English",197,157.6,null,"104 pp.","https://greenhavenpublishing.com/978-1-5345-6888-4",{"$f":"Table1[[#This Row],['# of Books]]*Table1[[#This Row],[QTY]]","v":0},{"$f":"Table1[[#This Row],[QTY]]*Table1[[#This Row],[School & Library Price]]","v":0}]
[null,22,null,null,null,"Health & Medicine","Nutrition and Health","Nutrition and Health","978-1-5345-6895-2",{"$f":"HYPERLINK(Table1[[#This Row],[Hyperlink]],\"Weblink\")","v":"Weblink"},"Lucent Press","Single Copy Set",5,"2020","January 2020","Paperback","7.000 X 9.000",null,null,null,null,null,null,null,null,"Grade 7","Grade 7 - 10","As researchers learn more about the human body, they also learn more about what keeps it healthy. Unfortunately, the realities of daily life can often get in the way of putting this research into practice. For example, increased stress at work or school and the wide availability of junk food can cause people to eat poorly. Misinformation about the safety of vaccines can put lives at risk. Readers learn to take control of their health as they discover the most up-to-date information, supplemented by charts, graphs, sidebars, and annotated quotes from medical experts. Features include: Informative, unbiased texts give young adults the facts they need in order to make smart decisions about their health without causing unnecessary anxiety. Timely, relevant topics, ranging from food safety to eating a balanced vegetarian diet, encourage readers to think critically about health and nutrition issues that are often in the news. Eye-catching fact boxes highlight important details and teach readers to use facts to support their opinions.","English",99.95,84.95,null,"104 pp.","https://greenhavenpublishing.com/978-1-5345-6895-2",{"$f":"Table1[[#This Row],['# of Books]]*Table1[[#This Row],[QTY]]","v":0},{"$f":"Table1[[#This Row],[QTY]]*Table1[[#This Row],[School & Library Price]]","v":0}]
[null,22,null,null,null,"Health & Medicine","Nutrition and Health","Food Allergies: A Growing Problem","978-1-5345-6870-9",{"$f":"HYPERLINK(Table1[[#This Row],[Hyperlink]],\"Weblink\")","v":"Weblink"},"Lucent Press","Library Bound Book",1,"2020","January 2020","Library","7.000 X 9.000","Author","Jason Brainard",null,null,null,null,"Z",null,"Grade 7","Grade 7 - 10","Although food allergies can be dangerous, they do not have to stop someone from living a healthy, active life. Through informative text featuring annotated quotes and full-color photographs, readers learn the definition of a food allergy and the process for diagnosing food allergies. Growing rates of food allergies and the evolution of industrial agriculture are also examined. Engaging fact boxes and in-depth sidebars highlight important concepts and milestones in food allergy research. By discussing the science behind food allergies, this volume works to dispel harmful myths about food allergies and the individuals who live with them.","English",39.4,31.52,"616.97/5--dc23","104 pp.","https://greenhavenpublishing.com/978-1-5345-6870-9",{"$f":"Table1[[#This Row],['# of Books]]*Table1[[#This Row],[QTY]]","v":0},{"$f":"Table1[[#This Row],[QTY]]*Table1[[#This Row],[School & Library Price]]","v":0}]
[null,22,null,null,null,"Health & Medicine","Nutrition and Health","Food Allergies: A Growing Problem","978-1-5345-6876-1",{"$f":"HYPERLINK(Table1[[#This Row],[Hyperlink]],\"Weblink\")","v":"Weblink"},"Lucent Press","Paperback Book",1,"2020","January 2020","Paperback","7.000 X 9.000","Author","Jason Brainard",null,null,null,null,"Z",null,"Grade 7","Grade 7 - 10","Although food allergies can be dangerous, they do not have to stop someone from living a healthy, active life. Through informative text featuring annotated quotes and full-color photographs, readers learn the definition of a food allergy and the process for diagnosing food allergies. Growing rates of food allergies and the evolution of industrial agriculture are also examined. Engaging fact boxes and in-depth sidebars highlight important concepts and milestones in food allergy research. By discussing the science behind food allergies, this volume works to dispel harmful myths about food allergies and the individuals who live with them.","English",19.989999999999998,16.989999999999998,"616.97/5--dc23","104 pp.","https://greenhavenpublishing.com/978-1-5345-6876-1",{"$f":"Table1[[#This Row],['# of Books]]*Table1[[#This Row],[QTY]]","v":0},{"$f":"Table1[[#This Row],[QTY]]*Table1[[#This Row],[School & Library Price]]","v":0}]
[null,22,null,null,null,"Health & Medicine","Nutrition and Health","Food Allergies: A Growing Problem","978-1-5345-6877-8",{"$f":"HYPERLINK(Table1[[#This Row],[Hyperlink]],\"Weblink\")","v":"Weblink"},"Lucent Press","eBook",1,"2020","January 2020",null,null,"Author","Jason Brainard",null,null,null,null,"Z",null,"Grade 7","Grade 7 - 10","Although food allergies can be dangerous, they do not have to stop someone from living a healthy, active life. Through informative text featuring annotated quotes and full-color photographs, readers learn the definition of a food allergy and the process for diagnosing food allergies. Growing rates of food allergies and the evolution of industrial agriculture are also examined. Engaging fact boxes and in-depth sidebars highlight important concepts and milestones in food allergy research. By discussing the science behind food allergies, this volume works to dispel harmful myths about food allergies and the individuals who live with them.","English",39.4,31.52,"616.97/5--dc23","104 pp.","https://greenhavenpublishing.com/978-1-5345-6877-8",{"$f":"Table1[[#This Row],['# of Books]]*Table1[[#This Row],[QTY]]","v":0},{"$f":"Table1[[#This Row],[QTY]]*Table1[[#This Row],[School & Library Price]]","v":0}]
[null,22,null,null,null,"Health & Medicine","Nutrition and Health","Food Safety: Saving Lives","978-1-5345-6871-6",{"$f":"HYPERLINK(Table1[[#This Row],[Hyperlink]],\"Weblink\")","v":"Weblink"},"Lucent Press","Library Bound Book",1,"2020","January 2020","Library","7.000 X 9.000","Author","Juliana Burkhart",null,null,null,null,"Z",null,"Grade 7","Grade 7 - 10","The average consumer often ignores the conditions their food is grown or raised in. Generally, it is only when a deadly outbreak of foodborne illness occurs that people scrutinize the food industry and food safety regulations. Illuminating text, augmented with informative charts and detailed fact boxes, provides a comprehensive guide to the history of food safety laws in the United States. Readers learn about major foodborne diseases and what causes them, as well as what is being done to stop those diseases from spreading. Annotated quotes from experts and full-color photographs enhance this essential reading experience.","English",39.4,31.52,"615.9/540289--dc23","104 pp.","https://greenhavenpublishing.com/978-1-5345-6871-6",{"$f":"Table1[[#This Row],['# of Books]]*Table1[[#This Row],[QTY]]","v":0},{"$f":"Table1[[#This Row],[QTY]]*Table1[[#This Row],[School & Library Price]]","v":0}]
[null,22,null,null,null,"Health & Medicine","Nutrition and Health","Food Safety: Saving Lives","978-1-5345-6886-0",{"$f":"HYPERLINK(Table1[[#This Row],[Hyperlink]],\"Weblink\")","v":"Weblink"},"Lucent Press","Paperback Book",1,"2020","January 2020","Paperback","7.000 X 9.000","Author","Juliana Burkhart",null,null,null,null,"Z",null,"Grade 7","Grade 7 - 10","The average consumer often ignores the conditions their food is grown or raised in. Generally, it is only when a deadly outbreak of foodborne illness occurs that people scrutinize the food industry and food safety regulations. Illuminating text, augmented with informative charts and detailed fact boxes, provides a comprehensive guide to the history of food safety laws in the United States. Readers learn about major foodborne diseases and what causes them, as well as what is being done to stop those diseases from spreading. Annotated quotes from experts and full-color photographs enhance this essential reading experience.","English",19.989999999999998,16.989999999999998,"615.9/540289--dc23","104 pp.","https://greenhavenpublishing.com/978-1-5345-6886-0",{"$f":"Table1[[#This Row],['# of Books]]*Table1[[#This Row],[QTY]]","v":0},{"$f":"Table1[[#This Row],[QTY]]*Table1[[#This Row],[School & Library Price]]","v":0}]
[null,22,null,null,null,"Health & Medicine","Nutrition and Health","Food Safety: Saving Lives","978-1-5345-6882-2",{"$f":"HYPERLINK(Table1[[#This Row],[Hyperlink]],\"Weblink\")","v":"Weblink"},"Lucent Press","eBook",1,"2020","January 2020",null,null,"Author","Juliana Burkhart",null,null,null,null,"Z",null,"Grade 7","Grade 7 - 10","The average consumer often ignores the conditions their food is grown or raised in. Generally, it is only when a deadly outbreak of foodborne illness occurs that people scrutinize the food industry and food safety regulations. Illuminating text, augmented with informative charts and detailed fact boxes, provides a comprehensive guide to the history of food safety laws in the United States. Readers learn about major foodborne diseases and what causes them, as well as what is being done to stop those diseases from spreading. Annotated quotes from experts and full-color photographs enhance this essential reading experience.","English",39.4,31.52,"615.9/540289--dc23","104 pp.","https://greenhavenpublishing.com/978-1-5345-6882-2",{"$f":"Table1[[#This Row],['# of Books]]*Table1[[#This Row],[QTY]]","v":0},{"$f":"Table1[[#This Row],[QTY]]*Table1[[#This Row],[School & Library Price]]","v":0}]
[null,22,null,null,null,"Health & Medicine","Nutrition and Health","Life as a Vegetarian: Eating Without Meat","978-1-5345-6872-3",{"$f":"HYPERLINK(Table1[[#This Row],[Hyperlink]],\"Weblink\")","v":"Weblink"},"Lucent Press","Library Bound Book",1,"2020","January 2020","Library","7.000 X 9.000","Author","Jason Brainard",null,null,null,null,"Z",null,"Grade 7","Grade 7 - 10","In recent years, the purported health and environmental benefits of vegetarianism have convinced many people to eat a plant-based diet. However, experts caution that not all vegetarian foods are inherently healthy. Readers discover this as they explore the history of vegetarianism and nutritional guidelines for living as a healthy vegetarian. Full-color photographs, charts, graphs, and fact boxes are utilized to highlight important concepts, debunked misconceptions, and current scientific studies on nutrition and human health. Along with annotated quotes by experts, these features help young adults learn to think critically about vegetarianism.","English",39.4,31.52,"641.5'636--dc23","104 pp.","https://greenhavenpublishing.com/978-1-5345-6872-3",{"$f":"Table1[[#This Row],['# of Books]]*Table1[[#This Row],[QTY]]","v":0},{"$f":"Table1[[#This Row],[QTY]]*Table1[[#This Row],[School & Library Price]]","v":0}]
[null,22,null,null,null,"Health & Medicine","Nutrition and Health","Life as a Vegetarian: Eating Without Meat","978-1-5345-6885-3",{"$f":"HYPERLINK(Table1[[#This Row],[Hyperlink]],\"Weblink\")","v":"Weblink"},"Lucent Press","Paperback Book",1,"2020","January 2020","Paperback","7.000 X 9.000","Author","Jason Brainard",null,null,null,null,"Z",null,"Grade 7","Grade 7 - 10","In recent years, the purported health and environmental benefits of vegetarianism have convinced many people to eat a plant-based diet. However, experts caution that not all vegetarian foods are inherently healthy. Readers discover this as they explore the history of vegetarianism and nutritional guidelines for living as a healthy vegetarian. Full-color photographs, charts, graphs, and fact boxes are utilized to highlight important concepts, debunked misconceptions, and current scientific studies on nutrition and human health. Along with annotated quotes by experts, these features help young adults learn to think critically about vegetarianism.","English",19.989999999999998,16.989999999999998,"641.5'636--dc23","104 pp.","https://greenhavenpublishing.com/978-1-5345-6885-3",{"$f":"Table1[[#This Row],['# of Books]]*Table1[[#This Row],[QTY]]","v":0},{"$f":"Table1[[#This Row],[QTY]]*Table1[[#This Row],[School & Library Price]]","v":0}]
[null,22,null,null,null,"Health & Medicine","Nutrition and Health","Life as a Vegetarian: Eating Without Meat","978-1-5345-6880-8",{"$f":"HYPERLINK(Table1[[#This Row],[Hyperlink]],\"Weblink\")","v":"Weblink"},"Lucent Press","eBook",1,"2020","January 2020",null,null,"Author","Jason Brainard",null,null,null,null,"Z",null,"Grade 7","Grade 7 - 10","In recent years, the purported health and environmental benefits of vegetarianism have convinced many people to eat a plant-based diet. However, experts caution that not all vegetarian foods are inherently healthy. Readers discover this as they explore the history of vegetarianism and nutritional guidelines for living as a healthy vegetarian. Full-color photographs, charts, graphs, and fact boxes are utilized to highlight important concepts, debunked misconceptions, and current scientific studies on nutrition and human health. Along with annotated quotes by experts, these features help young adults learn to think critically about vegetarianism.","English",39.4,31.52,"641.5'636--dc23","104 pp.","https://greenhavenpublishing.com/978-1-5345-6880-8",{"$f":"Table1[[#This Row],['# of Books]]*Table1[[#This Row],[QTY]]","v":0},{"$f":"Table1[[#This Row],[QTY]]*Table1[[#This Row],[School & Library Price]]","v":0}]
[null,22,null,null,null,"Health & Medicine","Nutrition and Health","Vaccines: The Truth Behind the Debates","978-1-5345-6874-7",{"$f":"HYPERLINK(Table1[[#This Row],[Hyperlink]],\"Weblink\")","v":"Weblink"},"Lucent Press","Library Bound Book",1,"2020","January 2020","Library","7.000 X 9.000","Author","Michelle Harris",null,null,null,null,"Z",null,"Grade 7","Grade 7 - 10","Vaccination has been cited as the most effective method of preventing the spread of infectious disease, and it has been credited with the eradication of such horrendous and potentially lethal illnesses as smallpox and polio. However, in recent years, growing numbers of parents have come to question the wisdom of vaccination, expressing fears over potential side effects on children. This informative text, augmented by in-depth sidebars, annotated quotes from medical experts, detailed graphs, and full-color photographs, explores the history of vaccines and provides a clearer understanding of the debate over the safety and efficacy of immunization programs.","English",39.4,31.52,"615.3'72--dc23","104 pp.","https://greenhavenpublishing.com/978-1-5345-6874-7",{"$f":"Table1[[#This Row],['# of Books]]*Table1[[#This Row],[QTY]]","v":0},{"$f":"Table1[[#This Row],[QTY]]*Table1[[#This Row],[School & Library Price]]","v":0}]
[null,22,null,null,null,"Health & Medicine","Nutrition and Health","Vaccines: The Truth Behind the Debates","978-1-5345-6883-9",{"$f":"HYPERLINK(Table1[[#This Row],[Hyperlink]],\"Weblink\")","v":"Weblink"},"Lucent Press","Paperback Book",1,"2020","January 2020","Paperback","7.000 X 9.000","Author","Michelle Harris",null,null,null,null,"Z",null,"Grade 7","Grade 7 - 10","Vaccination has been cited as the most effective method of preventing the spread of infectious disease, and it has been credited with the eradication of such horrendous and potentially lethal illnesses as smallpox and polio. However, in recent years, growing numbers of parents have come to question the wisdom of vaccination, expressing fears over potential side effects on children. This informative text, augmented by in-depth sidebars, annotated quotes from medical experts, detailed graphs, and full-color photographs, explores the history of vaccines and provides a clearer understanding of the debate over the safety and efficacy of immunization programs.","English",19.989999999999998,16.989999999999998,"615.3'72--dc23","104 pp.","https://greenhavenpublishing.com/978-1-5345-6883-9",{"$f":"Table1[[#This Row],['# of Books]]*Table1[[#This Row],[QTY]]","v":0},{"$f":"Table1[[#This Row],[QTY]]*Table1[[#This Row],[School & Library Price]]","v":0}]
[null,22,null,null,null,"Health & Medicine","Nutrition and Health","Vaccines: The Truth Behind the Debates","978-1-5345-6878-5",{"$f":"HYPERLINK(Table1[[#This Row],[Hyperlink]],\"Weblink\")","v":"Weblink"},"Lucent Press","eBook",1,"2020","January 2020",null,null,"Author","Michelle Harris",null,null,null,null,"Z",null,"Grade 7","Grade 7 - 10","Vaccination has been cited as the most effective method of preventing the spread of infectious disease, and it has been credited with the eradication of such horrendous and potentially lethal illnesses as smallpox and polio. However, in recent years, growing numbers of parents have come to question the wisdom of vaccination, expressing fears over potential side effects on children. This informative text, augmented by in-depth sidebars, annotated quotes from medical experts, detailed graphs, and full-color photographs, explores the history of vaccines and provides a clearer understanding of the debate over the safety and efficacy of immunization programs.","English",39.4,31.52,"615.3'72--dc23","104 pp.","https://greenhavenpublishing.com/978-1-5345-6878-5",{"$f":"Table1[[#This Row],['# of Books]]*Table1[[#This Row],[QTY]]","v":0},{"$f":"Table1[[#This Row],[QTY]]*Table1[[#This Row],[School & Library Price]]","v":0}]
[null,22,null,null,null,"Health & Medicine","Nutrition and Health","We Are What We Eat: Understanding Diet and Disease","978-1-5345-6875-4",{"$f":"HYPERLINK(Table1[[#This Row],[Hyperlink]],\"Weblink\")","v":"Weblink"},"Lucent Press","Library Bound Book",1,"2020","January 2020","Library","7.000 X 9.000","Author","Holly Brown",null,null,null,null,"Z",null,"Grade 7","Grade 7 - 10","A large part of a person's day often involves deciding what and where to eat, so it is important to understand what food can do to the body. As readers learn the benefits of nutrients they get from certain foods, they are able to better understand the ways in which a balanced meal can provide protection from disease. They also learn the connection between an unhealthy diet and dangerous diseases. The engaging narrative, supplemented with detailed charts, fact boxes, annotated quotes, and in-depth sidebars, encourages readers to live a healthy life.","English",39.4,31.52,"613.2--dc23","104 pp.","https://greenhavenpublishing.com/978-1-5345-6875-4",{"$f":"Table1[[#This Row],['# of Books]]*Table1[[#This Row],[QTY]]","v":0},{"$f":"Table1[[#This Row],[QTY]]*Table1[[#This Row],[School & Library Price]]","v":0}]
[null,22,null,null,null,"Health & Medicine","Nutrition and Health","We Are What We Eat: Understanding Diet and Disease","978-1-5345-6884-6",{"$f":"HYPERLINK(Table1[[#This Row],[Hyperlink]],\"Weblink\")","v":"Weblink"},"Lucent Press","Paperback Book",1,"2020","January 2020","Paperback","7.000 X 9.000","Author","Holly Brown",null,null,null,null,"Z",null,"Grade 7","Grade 7 - 10","A large part of a person's day often involves deciding what and where to eat, so it is important to understand what food can do to the body. As readers learn the benefits of nutrients they get from certain foods, they are able to better understand the ways in which a balanced meal can provide protection from disease. They also learn the connection between an unhealthy diet and dangerous diseases. The engaging narrative, supplemented with detailed charts, fact boxes, annotated quotes, and in-depth sidebars, encourages readers to live a healthy life.","English",19.989999999999998,16.989999999999998,"613.2--dc23","104 pp.","https://greenhavenpublishing.com/978-1-5345-6884-6",{"$f":"Table1[[#This Row],['# of Books]]*Table1[[#This Row],[QTY]]","v":0},{"$f":"Table1[[#This Row],[QTY]]*Table1[[#This Row],[School & Library Price]]","v":0}]
[null,22,null,null,null,"Health & Medicine","Nutrition and Health","We Are What We Eat: Understanding Diet and Disease","978-1-5345-6879-2",{"$f":"HYPERLINK(Table1[[#This Row],[Hyperlink]],\"Weblink\")","v":"Weblink"},"Lucent Press","eBook",1,"2020","January 2020",null,null,"Author","Holly Brown",null,null,null,null,"Z",null,"Grade 7","Grade 7 - 10","A large part of a person's day often involves deciding what and where to eat, so it is important to understand what food can do to the body. As readers learn the benefits of nutrients they get from certain foods, they are able to better understand the ways in which a balanced meal can provide protection from disease. They also learn the connection between an unhealthy diet and dangerous diseases. The engaging narrative, supplemented with detailed charts, fact boxes, annotated quotes, and in-depth sidebars, encourages readers to live a healthy life.","English",39.4,31.52,"613.2--dc23","104 pp.","https://greenhavenpublishing.com/978-1-5345-6879-2",{"$f":"Table1[[#This Row],['# of Books]]*Table1[[#This Row],[QTY]]","v":0},{"$f":"Table1[[#This Row],[QTY]]*Table1[[#This Row],[School & Library Price]]","v":0}]
[null,null,null,3,3,"Animals","Where Animals Live","Where Animals Live","978-1-5345-2381-4",{"$f":"HYPERLINK(Table1[[#This Row],[Hyperlink]],\"Weblink\")","v":"Weblink"},"KidHaven Publishing","Library Set",6,"2018","January 2018","Library","8.500 X 8.500",null,null,null,null,null,null,null,null,"Grade 1 - 2","Grade K - 3","Animals make their homes in diverse habitats around the world; in dry deserts, lush rain forests, tall mountains, and even in the depths of the ocean. Readers get an up-close look at these and other habitats and the animals that can be found in them. Important science topics are explained using accessible language. Fun facts are presented alongside vibrant, full-color photographs of amazing animals and the beautiful places they inhabit. Readers are sure to enjoy taking a detailed journey around the world to discover the many places animals can live.","English",147.6,118.08,null,"24 pp.","https://greenhavenpublishing.com/978-1-5345-2381-4",{"$f":"Table1[[#This Row],['# of Books]]*Table1[[#This Row],[QTY]]","v":0},{"$f":"Table1[[#This Row],[QTY]]*Table1[[#This Row],[School & Library Price]]","v":0}]
[null,null,null,3,3,"Animals","Where Animals Live","Animals in the Arctic","978-1-5345-2380-7",{"$f":"HYPERLINK(Table1[[#This Row],[Hyperlink]],\"Weblink\")","v":"Weblink"},"KidHaven Publishing","Library Bound Book",1,"2018","January 2018","Library","8.500 X 8.500","Author","John Wood","3.8","0.5",null,null,"I",null,"Grade 1 - 2","Grade K - 3","The Arctic is home to many different animal species. These animals make their habitats in this region’s chilly climate, which can sometimes be difficult to survive in because of the subzero temperatures and scarce amount of food. This accessible text provides readers with fun facts about life in the Arctic, along with eye-catching, full-color photographs. Animal lovers will be captivated by the creatures that call this extreme environment home, and their Arctic adventure will introduce them to essential science concepts, including the adaptations these animals developed to survive in the coldest places on Earth.","English",24.6,19.68,"591.9989--dc23","24 pp.","https://greenhavenpublishing.com/978-1-5345-2380-7",{"$f":"Table1[[#This Row],['# of Books]]*Table1[[#This Row],[QTY]]","v":0},{"$f":"Table1[[#This Row],[QTY]]*Table1[[#This Row],[School & Library Price]]","v":0}]
[null,null,null,3,3,"Animals","Where Animals Live","Animals in the Arctic","978-1-5345-2382-1",{"$f":"HYPERLINK(Table1[[#This Row],[Hyperlink]],\"Weblink\")","v":"Weblink"},"KidHaven Publishing","eBook",1,"2018","January 2018",null,null,"Author","John Wood","3.8","0.5",null,null,"I",null,"Grade 1 - 2","Grade K - 3","The Arctic is home to many different animal species. These animals make their habitats in this region’s chilly climate, which can sometimes be difficult to survive in because of the subzero temperatures and scarce amount of food. This accessible text provides readers with fun facts about life in the Arctic, along with eye-catching, full-color photographs. Animal lovers will be captivated by the creatures that call this extreme environment home, and their Arctic adventure will introduce them to essential science concepts, including the adaptations these animals developed to survive in the coldest places on Earth.","English",24.6,19.68,"591.9989--dc23","24 pp.","https://greenhavenpublishing.com/978-1-5345-2382-1",{"$f":"Table1[[#This Row],['# of Books]]*Table1[[#This Row],[QTY]]","v":0},{"$f":"Table1[[#This Row],[QTY]]*Table1[[#This Row],[School & Library Price]]","v":0}]
[null,null,null,3,3,"Animals","Where Animals Live","Animals in the Desert","978-1-5345-2363-0",{"$f":"HYPERLINK(Table1[[#This Row],[Hyperlink]],\"Weblink\")","v":"Weblink"},"KidHaven Publishing","Library Bound Book",1,"2018","January 2018","Library","8.500 X 8.500","Author","John Wood","4.1","0.5",null,null,"I",null,"Grade 1 - 2","Grade K - 3","The desert is home to many different animal species. These animals make their habitats in this dry climate, which can sometimes be difficult to survive in because of the hot temperatures and scarce food sources. Fun facts about desert animals are presented through age-appropriate text, which covers common science curriculum topics such as animal adaptations and biomes. Vibrant, full-color photographs provide readers with examples of what desert animals look like and how they appear in their natural habitats.","English",24.6,19.68,"591.754--dc23","24 pp.","https://greenhavenpublishing.com/978-1-5345-2363-0",{"$f":"Table1[[#This Row],['# of Books]]*Table1[[#This Row],[QTY]]","v":0},{"$f":"Table1[[#This Row],[QTY]]*Table1[[#This Row],[School & Library Price]]","v":0}]
[null,null,null,3,3,"Animals","Where Animals Live","Animals in the Desert","978-1-5345-2364-7",{"$f":"HYPERLINK(Table1[[#This Row],[Hyperlink]],\"Weblink\")","v":"Weblink"},"KidHaven Publishing","eBook",1,"2018","January 2018",null,null,"Author","John Wood","4.1","0.5",null,null,"I",null,"Grade 1 - 2","Grade K - 3","The desert is home to many different animal species. These animals make their habitats in this dry climate, which can sometimes be difficult to survive in because of the hot temperatures and scarce food sources. Fun facts about desert animals are presented through age-appropriate text, which covers common science curriculum topics such as animal adaptations and biomes. Vibrant, full-color photographs provide readers with examples of what desert animals look like and how they appear in their natural habitats.","English",24.6,19.68,"591.754--dc23","24 pp.","https://greenhavenpublishing.com/978-1-5345-2364-7",{"$f":"Table1[[#This Row],['# of Books]]*Table1[[#This Row],[QTY]]","v":0},{"$f":"Table1[[#This Row],[QTY]]*Table1[[#This Row],[School & Library Price]]","v":0}]
[null,null,null,3,3,"Animals","Where Animals Live","Animals in the Forest","978-1-5345-2366-1",{"$f":"HYPERLINK(Table1[[#This Row],[Hyperlink]],\"Weblink\")","v":"Weblink"},"KidHaven Publishing","Library Bound Book",1,"2018","January 2018","Library","8.500 X 8.500","Author","John Wood","3.7","0.5",null,null,"I",null,"Grade 1 - 2","Grade K - 3","Readers learn about the various animal species that live in the forest through this enlightening text. They discover what these animals eat, how they survive in the wild, and where they build their homes. This accessible and age-appropriate text captures what it’s like being an animal living in the forest and also supports elementary science curriculum topics, including habitats and adaptations. In addition, full-color photographs of these animals in their natural habitats provide readers with a clear and creative visual element. This text is sure to captivate students looking to expand their understanding of creatures living in the forest.","English",24.6,19.68,"591.73--dc23","24 pp.","https://greenhavenpublishing.com/978-1-5345-2366-1",{"$f":"Table1[[#This Row],['# of Books]]*Table1[[#This Row],[QTY]]","v":0},{"$f":"Table1[[#This Row],[QTY]]*Table1[[#This Row],[School & Library Price]]","v":0}]
[null,null,null,3,3,"Animals","Where Animals Live","Animals in the Forest","978-1-5345-2367-8",{"$f":"HYPERLINK(Table1[[#This Row],[Hyperlink]],\"Weblink\")","v":"Weblink"},"KidHaven Publishing","eBook",1,"2018","January 2018",null,null,"Author","John Wood","3.7","0.5",null,null,"I",null,"Grade 1 - 2","Grade K - 3","Readers learn about the various animal species that live in the forest through this enlightening text. They discover what these animals eat, how they survive in the wild, and where they build their homes. This accessible and age-appropriate text captures what it’s like being an animal living in the forest and also supports elementary science curriculum topics, including habitats and adaptations. In addition, full-color photographs of these animals in their natural habitats provide readers with a clear and creative visual element. This text is sure to captivate students looking to expand their understanding of creatures living in the forest.","English",24.6,19.68,"591.73--dc23","24 pp.","https://greenhavenpublishing.com/978-1-5345-2367-8",{"$f":"Table1[[#This Row],['# of Books]]*Table1[[#This Row],[QTY]]","v":0},{"$f":"Table1[[#This Row],[QTY]]*Table1[[#This Row],[School & Library Price]]","v":0}]
[null,null,null,3,3,"Animals","Where Animals Live","Animals in the Mountains","978-1-5345-2369-2",{"$f":"HYPERLINK(Table1[[#This Row],[Hyperlink]],\"Weblink\")","v":"Weblink"},"KidHaven Publishing","Library Bound Book",1,"2018","January 2018","Library","8.500 X 8.500","Author","John Wood","3.9","0.5",null,null,"I",null,"Grade 1 - 2","Grade K - 3","What do animals that live in the mountains eat? How do they escape from their predators? Where do they sleep at night? These questions and more are answered in this compelling text that aligns with common curriculum science topics such as biodiversity and ecology. Several animal species live in the mountains and face challenges that consistently test their survival instincts. Striking, full-color photographs support the text and add a creative visual component for readers as they deepen their knowledge of mountain habitats and the animals that live in them.","English",24.6,19.68,"591.74'6--dc23","24 pp.","https://greenhavenpublishing.com/978-1-5345-2369-2",{"$f":"Table1[[#This Row],['# of Books]]*Table1[[#This Row],[QTY]]","v":0},{"$f":"Table1[[#This Row],[QTY]]*Table1[[#This Row],[School & Library Price]]","v":0}]
[null,null,null,3,3,"Animals","Where Animals Live","Animals in the Mountains","978-1-5345-2370-8",{"$f":"HYPERLINK(Table1[[#This Row],[Hyperlink]],\"Weblink\")","v":"Weblink"},"KidHaven Publishing","eBook",1,"2018","January 2018",null,null,"Author","John Wood","3.9","0.5",null,null,"I",null,"Grade 1 - 2","Grade K - 3","What do animals that live in the mountains eat? How do they escape from their predators? Where do they sleep at night? These questions and more are answered in this compelling text that aligns with common curriculum science topics such as biodiversity and ecology. Several animal species live in the mountains and face challenges that consistently test their survival instincts. Striking, full-color photographs support the text and add a creative visual component for readers as they deepen their knowledge of mountain habitats and the animals that live in them.","English",24.6,19.68,"591.74'6--dc23","24 pp.","https://greenhavenpublishing.com/978-1-5345-2370-8",{"$f":"Table1[[#This Row],['# of Books]]*Table1[[#This Row],[QTY]]","v":0},{"$f":"Table1[[#This Row],[QTY]]*Table1[[#This Row],[School & Library Price]]","v":0}]
[null,null,null,3,3,"Animals","Where Animals Live","Animals in the Ocean","978-1-5345-2372-2",{"$f":"HYPERLINK(Table1[[#This Row],[Hyperlink]],\"Weblink\")","v":"Weblink"},"KidHaven Publishing","Library Bound Book",1,"2018","January 2018","Library","8.500 X 8.500","Author","John Wood","3.8","0.5",null,null,"I",null,"Grade 1 - 2","Grade K - 3","Readers will enjoy learning about marine life as they explore engaging text covering common science curriculum areas, such as ocean habitats and ecology. Where do marine animals catch and kill their prey? How do they stay safe and avoid predators? What animals have ventured to the deepest depths of the sea? Questions such as these are answered in the main text, which is accompanied by bold, full-color photographs. This is sure to be an educational and entertaining adventure for readers into the lives of animals in the ocean.","English",24.6,19.68,"591.77--dc23","24 pp.","https://greenhavenpublishing.com/978-1-5345-2372-2",{"$f":"Table1[[#This Row],['# of Books]]*Table1[[#This Row],[QTY]]","v":0},{"$f":"Table1[[#This Row],[QTY]]*Table1[[#This Row],[School & Library Price]]","v":0}]
[null,null,null,3,3,"Animals","Where Animals Live","Animals in the Ocean","978-1-5345-2373-9",{"$f":"HYPERLINK(Table1[[#This Row],[Hyperlink]],\"Weblink\")","v":"Weblink"},"KidHaven Publishing","eBook",1,"2018","January 2018",null,null,"Author","John Wood","3.8","0.5",null,null,"I",null,"Grade 1 - 2","Grade K - 3","Readers will enjoy learning about marine life as they explore engaging text covering common science curriculum areas, such as ocean habitats and ecology. Where do marine animals catch and kill their prey? How do they stay safe and avoid predators? What animals have ventured to the deepest depths of the sea? Questions such as these are answered in the main text, which is accompanied by bold, full-color photographs. This is sure to be an educational and entertaining adventure for readers into the lives of animals in the ocean.","English",24.6,19.68,"591.77--dc23","24 pp.","https://greenhavenpublishing.com/978-1-5345-2373-9",{"$f":"Table1[[#This Row],['# of Books]]*Table1[[#This Row],[QTY]]","v":0},{"$f":"Table1[[#This Row],[QTY]]*Table1[[#This Row],[School & Library Price]]","v":0}]
[null,null,null,3,3,"Animals","Where Animals Live","Animals in the Rain Forest","978-1-5345-2375-3",{"$f":"HYPERLINK(Table1[[#This Row],[Hyperlink]],\"Weblink\")","v":"Weblink"},"KidHaven Publishing","Library Bound Book",1,"2018","January 2018","Library","8.500 X 8.500","Author","John Wood","3.9","0.5",null,null,"I",null,"Grade 1 - 2","Grade K - 3","A wide variety of animals can be found in the rain forest. Through captivating, age-appropriate text, readers learn many interesting facts about these animals and the environment they call home. Vibrant, full-color photographs enhance the reading experience as young readers expand their knowledge of rain forest animals. Why do so many animals live in the rain forest, and what is happening to them as rain forests continue to shrink? These questions and more are answered in accessible ways, through text that supports elementary science curriculum topics, including ecology, adaptations, and biodiversity.","English",24.6,19.68,"591.734--dc23","24 pp.","https://greenhavenpublishing.com/978-1-5345-2375-3",{"$f":"Table1[[#This Row],['# of Books]]*Table1[[#This Row],[QTY]]","v":0},{"$f":"Table1[[#This Row],[QTY]]*Table1[[#This Row],[School & Library Price]]","v":0}]
[null,null,null,3,3,"Animals","Where Animals Live","Animals in the Rain Forest","978-1-5345-2376-0",{"$f":"HYPERLINK(Table1[[#This Row],[Hyperlink]],\"Weblink\")","v":"Weblink"},"KidHaven Publishing","eBook",1,"2018","January 2018",null,null,"Author","John Wood","3.9","0.5",null,null,"I",null,"Grade 1 - 2","Grade K - 3","A wide variety of animals can be found in the rain forest. Through captivating, age-appropriate text, readers learn many interesting facts about these animals and the environment they call home. Vibrant, full-color photographs enhance the reading experience as young readers expand their knowledge of rain forest animals. Why do so many animals live in the rain forest, and what is happening to them as rain forests continue to shrink? These questions and more are answered in accessible ways, through text that supports elementary science curriculum topics, including ecology, adaptations, and biodiversity.","English",24.6,19.68,"591.734--dc23","24 pp.","https://greenhavenpublishing.com/978-1-5345-2376-0",{"$f":"Table1[[#This Row],['# of Books]]*Table1[[#This Row],[QTY]]","v":0},{"$f":"Table1[[#This Row],[QTY]]*Table1[[#This Row],[School & Library Price]]","v":0}]
[null,null,null,4,4,"Animals","All About Dinosaurs","All About Dinosaurs: Sets 1 – 2","978-1-5345-2379-1",{"$f":"HYPERLINK(Table1[[#This Row],[Hyperlink]],\"Weblink\")","v":"Weblink"},"KidHaven Publishing","Library Set",8,"2018","January 2018","Library","8.500 X 8.500",null,null,null,null,null,null,null,null,"Grade 2","Grade 1 - 3","Tyrannosaurus rex, Triceratops, and Stegosaurus are just some of the popular dinosaurs readers will learn more about as they discover fun facts about prehistoric creatures and their habitats. Important information about dinosaurs is presented using clear, accessible language, helping young learners understand scientific concepts. Fun fact boxes are included to give readers additional sources of information. As readers explore this popular curriculum topic, they become immersed in the world of the dinosaurs through detailed, colorful illustrations. This engrossing, engaging reading experience will appeal to even the most reluctant readers.","English",196.8,157.44,null,"24 pp.","https://greenhavenpublishing.com/978-1-5345-2379-1",{"$f":"Table1[[#This Row],['# of Books]]*Table1[[#This Row],[QTY]]","v":0},{"$f":"Table1[[#This Row],[QTY]]*Table1[[#This Row],[School & Library Price]]","v":0}]
[null,null,null,4,4,"Animals","All About Dinosaurs","Parasaurolophus","978-1-5345-2352-4",{"$f":"HYPERLINK(Table1[[#This Row],[Hyperlink]],\"Weblink\")","v":"Weblink"},"KidHaven Publishing","Library Bound Book",1,"2018","January 2018","Library","8.500 X 8.500","Author","Mike Clark","4","0.5",null,null,"K",null,"Grade 2","Grade 1 - 3","Parasaurolophus is known for the trumpet-shaped crest on its head, which makes a low sound similar to the one elephants or whales make when communicating among their species. Readers learn this and other interesting facts about this dinosaur, such as what it ate, the places it called home, and how it survived among predators. This compelling material is presented through an age-appropriate text to enhance students’ knowledge of these prehistoric creatures. Readers uncover additional information in captivating fact boxes, colorful illustrations, and well-organized diagrams. This text keeps readers entertained while also aligning with a fundamental science curriculum topic.","English",24.6,19.68,"567.914--dc23","24 pp.","https://greenhavenpublishing.com/978-1-5345-2352-4",{"$f":"Table1[[#This Row],['# of Books]]*Table1[[#This Row],[QTY]]","v":0},{"$f":"Table1[[#This Row],[QTY]]*Table1[[#This Row],[School & Library Price]]","v":0}]
[null,null,null,4,4,"Animals","All About Dinosaurs","Parasaurolophus","978-1-5345-2353-1",{"$f":"HYPERLINK(Table1[[#This Row],[Hyperlink]],\"Weblink\")","v":"Weblink"},"KidHaven Publishing","eBook",1,"2018","January 2018",null,null,"Author","Mike Clark","4","0.5",null,null,"K",null,"Grade 2","Grade 1 - 3","Parasaurolophus is known for the trumpet-shaped crest on its head, which makes a low sound similar to the one elephants or whales make when communicating among their species. Readers learn this and other interesting facts about this dinosaur, such as what it ate, the places it called home, and how it survived among predators. This compelling material is presented through an age-appropriate text to enhance students’ knowledge of these prehistoric creatures. Readers uncover additional information in captivating fact boxes, colorful illustrations, and well-organized diagrams. This text keeps readers entertained while also aligning with a fundamental science curriculum topic.","English",24.6,19.68,"567.914--dc23","24 pp.","https://greenhavenpublishing.com/978-1-5345-2353-1",{"$f":"Table1[[#This Row],['# of Books]]*Table1[[#This Row],[QTY]]","v":0},{"$f":"Table1[[#This Row],[QTY]]*Table1[[#This Row],[School & Library Price]]","v":0}]
[null,null,null,4,4,"Animals","All About Dinosaurs","Spinosaurus","978-1-5345-2355-5",{"$f":"HYPERLINK(Table1[[#This Row],[Hyperlink]],\"Weblink\")","v":"Weblink"},"KidHaven Publishing","Library Bound Book",1,"2018","January 2018","Library","8.500 X 8.500","Author","Mike Clark","4.4","0.5",null,null,"K",null,"Grade 2","Grade 1 - 3","The Spinosaurus, with its huge sail on its back, is the largest known carnivorous dinosaur. Early readers learn interesting facts such as these through the informative main text about these prehistoric creatures. In addition, eye-catching fact boxes and detailed diagrams are included throughout the text to provide extra insight about this popular science curriculum topic. Vibrant computer-generated illustrations help readers visualize what this dinosaur looked like and its surroundings. What did a Spinosaurus eat? How did it catch its prey? These answers are waiting to be discovered in the text.","English",24.6,19.68,"567.912--dc23","24 pp.","https://greenhavenpublishing.com/978-1-5345-2355-5",{"$f":"Table1[[#This Row],['# of Books]]*Table1[[#This Row],[QTY]]","v":0},{"$f":"Table1[[#This Row],[QTY]]*Table1[[#This Row],[School & Library Price]]","v":0}]
[null,null,null,4,4,"Animals","All About Dinosaurs","Spinosaurus","978-1-5345-2356-2",{"$f":"HYPERLINK(Table1[[#This Row],[Hyperlink]],\"Weblink\")","v":"Weblink"},"KidHaven Publishing","eBook",1,"2018","January 2018",null,null,"Author","Mike Clark","4.4","0.5",null,null,"K",null,"Grade 2","Grade 1 - 3","The Spinosaurus, with its huge sail on its back, is the largest known carnivorous dinosaur. Early readers learn interesting facts such as these through the informative main text about these prehistoric creatures. In addition, eye-catching fact boxes and detailed diagrams are included throughout the text to provide extra insight about this popular science curriculum topic. Vibrant computer-generated illustrations help readers visualize what this dinosaur looked like and its surroundings. What did a Spinosaurus eat? How did it catch its prey? These answers are waiting to be discovered in the text.","English",24.6,19.68,"567.912--dc23","24 pp.","https://greenhavenpublishing.com/978-1-5345-2356-2",{"$f":"Table1[[#This Row],['# of Books]]*Table1[[#This Row],[QTY]]","v":0},{"$f":"Table1[[#This Row],[QTY]]*Table1[[#This Row],[School & Library Price]]","v":0}]
[null,null,null,4,4,"Animals","All About Dinosaurs","Stegosaurus","978-1-5345-2358-6",{"$f":"HYPERLINK(Table1[[#This Row],[Hyperlink]],\"Weblink\")","v":"Weblink"},"KidHaven Publishing","Library Bound Book",1,"2018","January 2018","Library","8.500 X 8.500","Author","Mike Clark","4.5","0.5",null,null,"K",null,"Grade 2","Grade 1 - 3","How did Stegosaurus get its name? What did it eat? Where did it live? Readers find these answers and much more thanks to age-appropriate text about a high-interest topic and common part of elementary science curricula. Colorful illustrations present examples of what this plant-eating dinosaur looked like with its spiked tail and plated back. These plates are said to have had many possible uses, such as defending against predators or attracting mates. Other fun facts are packed into this accessible text with additional fact boxes and diagrams for readers who want to become Stegosaurus experts.","English",24.6,19.68,"567.915'3--dc23","24 pp.","https://greenhavenpublishing.com/978-1-5345-2358-6",{"$f":"Table1[[#This Row],['# of Books]]*Table1[[#This Row],[QTY]]","v":0},{"$f":"Table1[[#This Row],[QTY]]*Table1[[#This Row],[School & Library Price]]","v":0}]
[null,null,null,4,4,"Animals","All About Dinosaurs","Stegosaurus","978-1-5345-2359-3",{"$f":"HYPERLINK(Table1[[#This Row],[Hyperlink]],\"Weblink\")","v":"Weblink"},"KidHaven Publishing","eBook",1,"2018","January 2018",null,null,"Author","Mike Clark","4.5","0.5",null,null,"K",null,"Grade 2","Grade 1 - 3","How did Stegosaurus get its name? What did it eat? Where did it live? Readers find these answers and much more thanks to age-appropriate text about a high-interest topic and common part of elementary science curricula. Colorful illustrations present examples of what this plant-eating dinosaur looked like with its spiked tail and plated back. These plates are said to have had many possible uses, such as defending against predators or attracting mates. Other fun facts are packed into this accessible text with additional fact boxes and diagrams for readers who want to become Stegosaurus experts.","English",24.6,19.68,"567.915'3--dc23","24 pp.","https://greenhavenpublishing.com/978-1-5345-2359-3",{"$f":"Table1[[#This Row],['# of Books]]*Table1[[#This Row],[QTY]]","v":0},{"$f":"Table1[[#This Row],[QTY]]*Table1[[#This Row],[School & Library Price]]","v":0}]
[null,null,null,4,4,"Animals","All About Dinosaurs","Velociraptor","978-1-5345-2360-9",{"$f":"HYPERLINK(Table1[[#This Row],[Hyperlink]],\"Weblink\")","v":"Weblink"},"KidHaven Publishing","Library Bound Book",1,"2018","January 2018","Library","8.500 X 8.500","Author","Mike Clark","4.5","0.5",null,null,"K",null,"Grade 2","Grade 1 - 3","The Velociraptor is one of the most popular dinosaurs for young readers to learn about. In this captivating text, readers learn about the similarities this dinosaur shares with birds. These dinosaurs had hollow bones and tended to nests of eggs, although they were not known to fly. These and other fascinating facts about the Velociraptor are included in the age-appropriate main text that supports a major science curriculum topic. Additional information is included in well-organized fact boxes and detailed diagrams. Colorful computer-generated illustrations of the Velociraptor add a creative visual element for readers looking to expand their knowledge of dinosaurs.","English",24.6,19.68,"567.912--dc23","24 pp.","https://greenhavenpublishing.com/978-1-5345-2360-9",{"$f":"Table1[[#This Row],['# of Books]]*Table1[[#This Row],[QTY]]","v":0},{"$f":"Table1[[#This Row],[QTY]]*Table1[[#This Row],[School & Library Price]]","v":0}]
[null,null,null,4,4,"Animals","All About Dinosaurs","Velociraptor","978-1-5345-2361-6",{"$f":"HYPERLINK(Table1[[#This Row],[Hyperlink]],\"Weblink\")","v":"Weblink"},"KidHaven Publishing","eBook",1,"2018","January 2018",null,null,"Author","Mike Clark","4.5","0.5",null,null,"K",null,"Grade 2","Grade 1 - 3","The Velociraptor is one of the most popular dinosaurs for young readers to learn about. In this captivating text, readers learn about the similarities this dinosaur shares with birds. These dinosaurs had hollow bones and tended to nests of eggs, although they were not known to fly. These and other fascinating facts about the Velociraptor are included in the age-appropriate main text that supports a major science curriculum topic. Additional information is included in well-organized fact boxes and detailed diagrams. Colorful computer-generated illustrations of the Velociraptor add a creative visual element for readers looking to expand their knowledge of dinosaurs.","English",24.6,19.68,"567.912--dc23","24 pp.","https://greenhavenpublishing.com/978-1-5345-2361-6",{"$f":"Table1[[#This Row],['# of Books]]*Table1[[#This Row],[QTY]]","v":0},{"$f":"Table1[[#This Row],[QTY]]*Table1[[#This Row],[School & Library Price]]","v":0}]
[null,null,null,4,4,"Animals","All About Dinosaurs","Diplodocus","978-1-5345-2173-5",{"$f":"HYPERLINK(Table1[[#This Row],[Hyperlink]],\"Weblink\")","v":"Weblink"},"KidHaven Publishing","Library Bound Book",1,"2018","August 2017","Library","8.500 X 8.500","Author","Amy Allatson","4.3","0.5",null,null,"K",null,"Grade 2","Grade 1 - 3","Diplodocus was one of the longest dinosaurs to walk the earth during prehistoric times. Readers learn many fun facts about this giant kind of dinosaur, including how it behaved, what it ate, and what it looked like. This essential information is presented through accessible main text designed to enhance a common curriculum topic. Readers discover additional information in eye-catching fact boxes and clearly labeled diagrams. Computer-generated illustrations of these dinosaurs keep readers entertained as they learn.","English",24.6,19.68,"567.913--dc23","24 pp.","https://greenhavenpublishing.com/978-1-5345-2173-5",{"$f":"Table1[[#This Row],['# of Books]]*Table1[[#This Row],[QTY]]","v":0},{"$f":"Table1[[#This Row],[QTY]]*Table1[[#This Row],[School & Library Price]]","v":0}]
[null,null,null,4,4,"Animals","All About Dinosaurs","Diplodocus","978-1-5345-2169-8",{"$f":"HYPERLINK(Table1[[#This Row],[Hyperlink]],\"Weblink\")","v":"Weblink"},"KidHaven Publishing","eBook",1,"2018","August 2017",null,null,"Author","Amy Allatson","4.3","0.5",null,null,"K",null,"Grade 2","Grade 1 - 3","Diplodocus was one of the longest dinosaurs to walk the earth during prehistoric times. Readers learn many fun facts about this giant kind of dinosaur, including how it behaved, what it ate, and what it looked like. This essential information is presented through accessible main text designed to enhance a common curriculum topic. Readers discover additional information in eye-catching fact boxes and clearly labeled diagrams. Computer-generated illustrations of these dinosaurs keep readers entertained as they learn.","English",24.6,19.68,"567.913--dc23","24 pp.","https://greenhavenpublishing.com/978-1-5345-2169-8",{"$f":"Table1[[#This Row],['# of Books]]*Table1[[#This Row],[QTY]]","v":0},{"$f":"Table1[[#This Row],[QTY]]*Table1[[#This Row],[School & Library Price]]","v":0}]
[null,null,null,4,4,"Animals","All About Dinosaurs","Pterodactyl","978-1-5345-2175-9",{"$f":"HYPERLINK(Table1[[#This Row],[Hyperlink]],\"Weblink\")","v":"Weblink"},"KidHaven Publishing","Library Bound Book",1,"2018","August 2017","Library","8.500 X 8.500","Author","Amy Allatson","3.8","0.5",null,null,"K",null,"Grade 2","Grade 1 - 3","A pterodactyl is a popular prehistoric creature because it was able to fly. Although it is not a dinosaur, it is commonly grouped with dinosaurs because of their many shared characteristics. Readers take a closer look at pterodactyls through clear main text, fun fact boxes, and helpful diagrams. As they read, they discover important information about pterodactyls’ behavior, appearance, and habitat. These fun facts help support elementary curriculum topics. Colorful computer-generated images fill each page, helping readers immerse themselves in a prehistoric world. This is sure to be a reading adventure early learners will want to experience again and again.","English",24.6,19.68,"567.918--dc23","24 pp.","https://greenhavenpublishing.com/978-1-5345-2175-9",{"$f":"Table1[[#This Row],['# of Books]]*Table1[[#This Row],[QTY]]","v":0},{"$f":"Table1[[#This Row],[QTY]]*Table1[[#This Row],[School & Library Price]]","v":0}]
[null,null,null,4,4,"Animals","All About Dinosaurs","Pterodactyl","978-1-5345-2171-1",{"$f":"HYPERLINK(Table1[[#This Row],[Hyperlink]],\"Weblink\")","v":"Weblink"},"KidHaven Publishing","eBook",1,"2018","August 2017",null,null,"Author","Amy Allatson","3.8","0.5",null,null,"K",null,"Grade 2","Grade 1 - 3","A pterodactyl is a popular prehistoric creature because it was able to fly. Although it is not a dinosaur, it is commonly grouped with dinosaurs because of their many shared characteristics. Readers take a closer look at pterodactyls through clear main text, fun fact boxes, and helpful diagrams. As they read, they discover important information about pterodactyls’ behavior, appearance, and habitat. These fun facts help support elementary curriculum topics. Colorful computer-generated images fill each page, helping readers immerse themselves in a prehistoric world. This is sure to be a reading adventure early learners will want to experience again and again.","English",24.6,19.68,"567.918--dc23","24 pp.","https://greenhavenpublishing.com/978-1-5345-2171-1",{"$f":"Table1[[#This Row],['# of Books]]*Table1[[#This Row],[QTY]]","v":0},{"$f":"Table1[[#This Row],[QTY]]*Table1[[#This Row],[School & Library Price]]","v":0}]
[null,null,null,4,4,"Animals","All About Dinosaurs","Triceratops","978-1-5345-2176-6",{"$f":"HYPERLINK(Table1[[#This Row],[Hyperlink]],\"Weblink\")","v":"Weblink"},"KidHaven Publishing","Library Bound Book",1,"2018","August 2017","Library","8.500 X 8.500","Author","Amy Allatson","4.3","0.5",null,null,"K",null,"Grade 2","Grade 1 - 3","What did a Triceratops eat? How did it get its name? What kind of habitat did it live in? Readers find the answers to these questions and many more as they explore the exciting world of the Triceratops. Vibrant computer-generated images take readers back in time, helping them visualize these popular dinosaurs and their surroundings. These detailed images accompany simple, accessible text filled with fun facts about a common curriculum topic. Informative fact boxes and diagrams provide additional information for readers who want to become Triceratops experts.","English",24.6,19.68,"567.915’8--dc23","24 pp.","https://greenhavenpublishing.com/978-1-5345-2176-6",{"$f":"Table1[[#This Row],['# of Books]]*Table1[[#This Row],[QTY]]","v":0},{"$f":"Table1[[#This Row],[QTY]]*Table1[[#This Row],[School & Library Price]]","v":0}]
[null,null,null,4,4,"Animals","All About Dinosaurs","Triceratops","978-1-5345-2172-8",{"$f":"HYPERLINK(Table1[[#This Row],[Hyperlink]],\"Weblink\")","v":"Weblink"},"KidHaven Publishing","eBook",1,"2018","August 2017",null,null,"Author","Amy Allatson","4.3","0.5",null,null,"K",null,"Grade 2","Grade 1 - 3","What did a Triceratops eat? How did it get its name? What kind of habitat did it live in? Readers find the answers to these questions and many more as they explore the exciting world of the Triceratops. Vibrant computer-generated images take readers back in time, helping them visualize these popular dinosaurs and their surroundings. These detailed images accompany simple, accessible text filled with fun facts about a common curriculum topic. Informative fact boxes and diagrams provide additional information for readers who want to become Triceratops experts.","English",24.6,19.68,"567.915’8--dc23","24 pp.","https://greenhavenpublishing.com/978-1-5345-2172-8",{"$f":"Table1[[#This Row],['# of Books]]*Table1[[#This Row],[QTY]]","v":0},{"$f":"Table1[[#This Row],[QTY]]*Table1[[#This Row],[School & Library Price]]","v":0}]
[null,null,null,4,4,"Animals","All About Dinosaurs","Tyrannosaurus Rex","978-1-5345-2174-2",{"$f":"HYPERLINK(Table1[[#This Row],[Hyperlink]],\"Weblink\")","v":"Weblink"},"KidHaven Publishing","Library Bound Book",1,"2018","August 2017","Library","8.500 X 8.500","Author","Amy Allatson","4.5","0.5",null,null,"K",null,"Grade 2","Grade 1 - 3","Readers enjoy learning about dinosaurs, and Tyrannosaurus rex is one of the most popular dinosaurs for early learners to read about. Readers explore the fascinating details of what life may have been like for a Tyrannosaurus rex, with beautiful computer-generated images to help them visualize these creatures and the world they inhabited. Age-appropriate text allows them to explore this high-interest topic and common part of elementary curricula on their own. The main text is supported by fact boxes and detailed diagrams. How did Tyrannosaurus rex catch and kill its prey? The answer is waiting for readers to discover!","English",24.6,19.68,"567.912’9--dc23","24 pp.","https://greenhavenpublishing.com/978-1-5345-2174-2",{"$f":"Table1[[#This Row],['# of Books]]*Table1[[#This Row],[QTY]]","v":0},{"$f":"Table1[[#This Row],[QTY]]*Table1[[#This Row],[School & Library Price]]","v":0}]
[null,null,null,4,4,"Animals","All About Dinosaurs","Tyrannosaurus Rex","978-1-5345-2170-4",{"$f":"HYPERLINK(Table1[[#This Row],[Hyperlink]],\"Weblink\")","v":"Weblink"},"KidHaven Publishing","eBook",1,"2018","August 2017",null,null,"Author","Amy Allatson","4.5","0.5",null,null,"K",null,"Grade 2","Grade 1 - 3","Readers enjoy learning about dinosaurs, and Tyrannosaurus rex is one of the most popular dinosaurs for early learners to read about. Readers explore the fascinating details of what life may have been like for a Tyrannosaurus rex, with beautiful computer-generated images to help them visualize these creatures and the world they inhabited. Age-appropriate text allows them to explore this high-interest topic and common part of elementary curricula on their own. The main text is supported by fact boxes and detailed diagrams. How did Tyrannosaurus rex catch and kill its prey? The answer is waiting for readers to discover!","English",24.6,19.68,"567.912’9--dc23","24 pp.","https://greenhavenpublishing.com/978-1-5345-2170-4",{"$f":"Table1[[#This Row],['# of Books]]*Table1[[#This Row],[QTY]]","v":0},{"$f":"Table1[[#This Row],[QTY]]*Table1[[#This Row],[School & Library Price]]","v":0}]
[null,null,null,5,5,"Animals","Animals of the Tundra","Animals of the Tundra","978-1-5345-2209-1",{"$f":"HYPERLINK(Table1[[#This Row],[Hyperlink]],\"Weblink\")","v":"Weblink"},"KidHaven Publishing","Library Set",4,"2018","August 2017","Library","7.000 X 7.000",null,null,null,null,null,null,null,null,"Grade 1 - 2","Grade 1 - 3","The tundra is a treeless plain that is cold all year and often snowy. In such a harsh environment, it is amazing that some animals not only survive, but thrive. Animals that live in the tundra, such as wolves, owls, foxes, and caribou, are spotlighted with amazing facts about their habitats, diets, and behaviors. Among other fascinating information, readers discover the adaptations these incredible animals have developed over time that allow them to live in such an unwelcoming ecosystem. This informative, accessible text is presented alongside detailed, full-color photographs.","English",98.4,78.72,null,"24 pp.","https://greenhavenpublishing.com/978-1-5345-2209-1",{"$f":"Table1[[#This Row],['# of Books]]*Table1[[#This Row],[QTY]]","v":0},{"$f":"Table1[[#This Row],[QTY]]*Table1[[#This Row],[School & Library Price]]","v":0}]
[null,null,null,5,5,"Animals","Animals of the Tundra","Arctic Foxes of the Tundra","978-1-5345-2224-4",{"$f":"HYPERLINK(Table1[[#This Row],[Hyperlink]],\"Weblink\")","v":"Weblink"},"KidHaven Publishing","Library Bound Book",1,"2018","August 2017","Library","7.000 X 7.000","Author","Joyce Jeffries","3.9","0.5",null,null,"G",null,"Grade 1 - 2","Grade 1 - 3","Arctic foxes have developed special adaptations that help them survive in the unwelcoming tundra. In the winter, their fur is white; in the summer, when the snow melts, they grow gray or brown fur. The furry bottoms of their feet and their large tails keep them warm all year round. Readers will enjoy discovering these and other facts about this marvelous animal. These facts enhance readers’ understanding of common science curriculum topics. Stunning photographs enhance the accessible text in a way that is sure to captivate young readers.","English",24.6,19.68,"599.776'4--dc23","24 pp.","https://greenhavenpublishing.com/978-1-5345-2224-4",{"$f":"Table1[[#This Row],['# of Books]]*Table1[[#This Row],[QTY]]","v":0},{"$f":"Table1[[#This Row],[QTY]]*Table1[[#This Row],[School & Library Price]]","v":0}]
[null,null,null,5,5,"Animals","Animals of the Tundra","Arctic Foxes of the Tundra","978-1-5345-2220-6",{"$f":"HYPERLINK(Table1[[#This Row],[Hyperlink]],\"Weblink\")","v":"Weblink"},"KidHaven Publishing","eBook",1,"2018","August 2017",null,null,"Author","Joyce Jeffries","3.9","0.5",null,null,"G",null,"Grade 1 - 2","Grade 1 - 3","Arctic foxes have developed special adaptations that help them survive in the unwelcoming tundra. In the winter, their fur is white; in the summer, when the snow melts, they grow gray or brown fur. The furry bottoms of their feet and their large tails keep them warm all year round. Readers will enjoy discovering these and other facts about this marvelous animal. These facts enhance readers’ understanding of common science curriculum topics. Stunning photographs enhance the accessible text in a way that is sure to captivate young readers.","English",24.6,19.68,"599.776'4--dc23","24 pp.","https://greenhavenpublishing.com/978-1-5345-2220-6",{"$f":"Table1[[#This Row],['# of Books]]*Table1[[#This Row],[QTY]]","v":0},{"$f":"Table1[[#This Row],[QTY]]*Table1[[#This Row],[School & Library Price]]","v":0}]
[null,null,null,5,5,"Animals","Animals of the Tundra","Arctic Wolves of the Tundra","978-1-5345-2225-1",{"$f":"HYPERLINK(Table1[[#This Row],[Hyperlink]],\"Weblink\")","v":"Weblink"},"KidHaven Publishing","Library Bound Book",1,"2018","August 2017","Library","7.000 X 7.000","Author","Nick Christopher","3.7","0.5",null,null,"H",null,"Grade 1 - 2","Grade 1 - 3","The tundra is very cold and difficult for animals to survive in. The ones who live there have developed special adaptations to help them stay warm and find food. For example, arctic wolves often have white fur to help them blend in with the snow, so they can sneak up on their prey. Readers learn this and many other fun facts about these powerful predators. Full-color photographs beautifully illustrate this informative text, which is designed to adhere to common science curriculum standards.","English",24.6,19.68,"599.776’4--dc23","24 pp.","https://greenhavenpublishing.com/978-1-5345-2225-1",{"$f":"Table1[[#This Row],['# of Books]]*Table1[[#This Row],[QTY]]","v":0},{"$f":"Table1[[#This Row],[QTY]]*Table1[[#This Row],[School & Library Price]]","v":0}]
[null,null,null,5,5,"Animals","Animals of the Tundra","Arctic Wolves of the Tundra","978-1-5345-2222-0",{"$f":"HYPERLINK(Table1[[#This Row],[Hyperlink]],\"Weblink\")","v":"Weblink"},"KidHaven Publishing","eBook",1,"2018","August 2017",null,null,"Author","Nick Christopher","3.7","0.5",null,null,"H",null,"Grade 1 - 2","Grade 1 - 3","The tundra is very cold and difficult for animals to survive in. The ones who live there have developed special adaptations to help them stay warm and find food. For example, arctic wolves often have white fur to help them blend in with the snow, so they can sneak up on their prey. Readers learn this and many other fun facts about these powerful predators. Full-color photographs beautifully illustrate this informative text, which is designed to adhere to common science curriculum standards.","English",24.6,19.68,"599.776’4--dc23","24 pp.","https://greenhavenpublishing.com/978-1-5345-2222-0",{"$f":"Table1[[#This Row],['# of Books]]*Table1[[#This Row],[QTY]]","v":0},{"$f":"Table1[[#This Row],[QTY]]*Table1[[#This Row],[School & Library Price]]","v":0}]
[null,null,null,5,5,"Animals","Animals of the Tundra","Caribou of the Tundra","978-1-5345-2223-7",{"$f":"HYPERLINK(Table1[[#This Row],[Hyperlink]],\"Weblink\")","v":"Weblink"},"KidHaven Publishing","Library Bound Book",1,"2018","August 2017","Library","7.000 X 7.000","Author","Amy B. Rogers","3.6","0.5",null,null,"H",null,"Grade 1 - 2","Grade 1 - 3","Caribou, which are also known as wild reindeer, live in the cold, snowy tundra, where food is scarce. Their specially shaped hoofs help them walk on snow and dig for the food underneath it. What do caribou eat? How do they avoid dangerous predators? Readers will find the answers to these and other questions in this engaging text, which supports basic elementary science curricula. Full-color photographs of caribou in their natural habitat make readers feel as if they are on their own expedition to the frozen tundra.","English",24.6,19.68,"599.65'8--dc23","24 pp.","https://greenhavenpublishing.com/978-1-5345-2223-7",{"$f":"Table1[[#This Row],['# of Books]]*Table1[[#This Row],[QTY]]","v":0},{"$f":"Table1[[#This Row],[QTY]]*Table1[[#This Row],[School & Library Price]]","v":0}]
[null,null,null,5,5,"Animals","Animals of the Tundra","Caribou of the Tundra","978-1-5345-2219-0",{"$f":"HYPERLINK(Table1[[#This Row],[Hyperlink]],\"Weblink\")","v":"Weblink"},"KidHaven Publishing","eBook",1,"2018","August 2017",null,null,"Author","Amy B. Rogers","3.6","0.5",null,null,"H",null,"Grade 1 - 2","Grade 1 - 3","Caribou, which are also known as wild reindeer, live in the cold, snowy tundra, where food is scarce. Their specially shaped hoofs help them walk on snow and dig for the food underneath it. What do caribou eat? How do they avoid dangerous predators? Readers will find the answers to these and other questions in this engaging text, which supports basic elementary science curricula. Full-color photographs of caribou in their natural habitat make readers feel as if they are on their own expedition to the frozen tundra.","English",24.6,19.68,"599.65'8--dc23","24 pp.","https://greenhavenpublishing.com/978-1-5345-2219-0",{"$f":"Table1[[#This Row],['# of Books]]*Table1[[#This Row],[QTY]]","v":0},{"$f":"Table1[[#This Row],[QTY]]*Table1[[#This Row],[School & Library Price]]","v":0}]
[null,null,null,5,5,"Animals","Animals of the Tundra","Snowy Owls of the Tundra","978-1-5345-2226-8",{"$f":"HYPERLINK(Table1[[#This Row],[Hyperlink]],\"Weblink\")","v":"Weblink"},"KidHaven Publishing","Library Bound Book",1,"2018","August 2017","Library","7.000 X 7.000","Author","Riley Lawrence","4","0.5",null,null,"H",null,"Grade 1 - 2","Grade 1 - 3","Unlike other owls, snowy owls have feathers that cover their legs and feet to keep them warm in the freezing tundra. They have sharp beaks and claws to help them catch lemmings, mice, and rabbits. Readers learn about the lives of these fascinating birds through engaging text and striking photographs. They explore common elementary science curriculum topics, including predator-prey relationships and adaptations, in an accessible, exciting way.","English",24.6,19.68,"598.9’7--dc23","24 pp.","https://greenhavenpublishing.com/978-1-5345-2226-8",{"$f":"Table1[[#This Row],['# of Books]]*Table1[[#This Row],[QTY]]","v":0},{"$f":"Table1[[#This Row],[QTY]]*Table1[[#This Row],[School & Library Price]]","v":0}]
[null,null,null,5,5,"Animals","Animals of the Tundra","Snowy Owls of the Tundra","978-1-5345-2221-3",{"$f":"HYPERLINK(Table1[[#This Row],[Hyperlink]],\"Weblink\")","v":"Weblink"},"KidHaven Publishing","eBook",1,"2018","August 2017",null,null,"Author","Riley Lawrence","4","0.5",null,null,"H",null,"Grade 1 - 2","Grade 1 - 3","Unlike other owls, snowy owls have feathers that cover their legs and feet to keep them warm in the freezing tundra. They have sharp beaks and claws to help them catch lemmings, mice, and rabbits. Readers learn about the lives of these fascinating birds through engaging text and striking photographs. They explore common elementary science curriculum topics, including predator-prey relationships and adaptations, in an accessible, exciting way.","English",24.6,19.68,"598.9’7--dc23","24 pp.","https://greenhavenpublishing.com/978-1-5345-2221-3",{"$f":"Table1[[#This Row],['# of Books]]*Table1[[#This Row],[QTY]]","v":0},{"$f":"Table1[[#This Row],[QTY]]*Table1[[#This Row],[School & Library Price]]","v":0}]
[null,null,null,6,null,"Animals","Me and My Pet","Me and My Pet","978-1-5345-3385-1",{"$f":"HYPERLINK(Table1[[#This Row],[Hyperlink]],\"Weblink\")","v":"Weblink"},"KidHaven Publishing","Library Set",8,"2020","January 2020","Library","8.500 X 8.500",null,null,null,null,null,null,null,null,"Grade 2","Grade 2 - 4","Taking care of a pet is a lot of work, but it can also be a lot of fun. There are many types of pets to choose from, such as dogs, cats, fish, birds, and even snakes. As readers explore helpful guides to these animals, they also learn that having a pet is a big responsibility and commitment. They discover how to make sure their pets are getting the food and water they need, as well as plenty of fun tips for playing with their pets. Vibrant, full-color photographs of these adorable pets fill each page to delight and educate readers. Features include: Colorful and cute design engages young animal lovers. Informative texts teach readers responsibility and the value of caring for another living thing. High-interest topic and age-appropriate narratives appeal to developing readers.","English",196.8,157.44,null,"24 pp.","https://greenhavenpublishing.com/978-1-5345-3385-1",{"$f":"Table1[[#This Row],['# of Books]]*Table1[[#This Row],[QTY]]","v":0},{"$f":"Table1[[#This Row],[QTY]]*Table1[[#This Row],[School & Library Price]]","v":0}]
[null,null,null,6,null,"Animals","Me and My Pet","My Bird","978-1-5345-3331-8",{"$f":"HYPERLINK(Table1[[#This Row],[Hyperlink]],\"Weblink\")","v":"Weblink"},"KidHaven Publishing","Library Bound Book",1,"2020","January 2020","Library","8.500 X 8.500","Author","William Anthony",null,null,null,null,"J",null,"Grade 2","Grade 2 - 4","There are thousands of species of birds in the world. Many of them live in the wild, but many people also keep birds as pets. Some birds kept as pets include parrots, cockatiels, finches, doves, and lovebirds. Through this accessible and age-appropriate narrative, readers learn how to take on the responsibility of being an owner of a pet bird. They discover what birds eat, how to play with them, and many other aspects of caring for a bird.","English",24.6,19.68,"636.6'8--dc23","24 pp.","https://greenhavenpublishing.com/978-1-5345-3331-8",{"$f":"Table1[[#This Row],['# of Books]]*Table1[[#This Row],[QTY]]","v":0},{"$f":"Table1[[#This Row],[QTY]]*Table1[[#This Row],[School & Library Price]]","v":0}]
[null,null,null,6,null,"Animals","Me and My Pet","My Bird","978-1-5345-3332-5",{"$f":"HYPERLINK(Table1[[#This Row],[Hyperlink]],\"Weblink\")","v":"Weblink"},"KidHaven Publishing","eBook",1,"2020","January 2020",null,null,"Author","William Anthony",null,null,null,null,"J",null,"Grade 2","Grade 2 - 4","There are thousands of species of birds in the world. Many of them live in the wild, but many people also keep birds as pets. Some birds kept as pets include parrots, cockatiels, finches, doves, and lovebirds. Through this accessible and age-appropriate narrative, readers learn how to take on the responsibility of being an owner of a pet bird. They discover what birds eat, how to play with them, and many other aspects of caring for a bird.","English",24.6,19.68,"636.6'8--dc23","24 pp.","https://greenhavenpublishing.com/978-1-5345-3332-5",{"$f":"Table1[[#This Row],['# of Books]]*Table1[[#This Row],[QTY]]","v":0},{"$f":"Table1[[#This Row],[QTY]]*Table1[[#This Row],[School & Library Price]]","v":0}]
[null,null,null,6,null,"Animals","Me and My Pet","My Cat","978-1-5345-3335-6",{"$f":"HYPERLINK(Table1[[#This Row],[Hyperlink]],\"Weblink\")","v":"Weblink"},"KidHaven Publishing","Library Bound Book",1,"2020","January 2020","Library","8.500 X 8.500","Author","William Anthony",null,null,null,null,"J",null,"Grade 2","Grade 2 - 4","Cats are beloved members of many people's families. Some people adopt cats when they are kittens, while others adopt them when they are older. Both young and old feline friends need love and care. This age-appropriate guide teaches readers how to take care of a cat and the level of commitment it requires. They are given tips, such as how to feed and play with their cat. In addition to the engaging main text, readers discover new vocabulary through the informative glossary and will be delighted by cute and colorful photographs of kittens and cats.","English",24.6,19.68,"636.8--dc23","24 pp.","https://greenhavenpublishing.com/978-1-5345-3335-6",{"$f":"Table1[[#This Row],['# of Books]]*Table1[[#This Row],[QTY]]","v":0},{"$f":"Table1[[#This Row],[QTY]]*Table1[[#This Row],[School & Library Price]]","v":0}]
[null,null,null,6,null,"Animals","Me and My Pet","My Cat","978-1-5345-3336-3",{"$f":"HYPERLINK(Table1[[#This Row],[Hyperlink]],\"Weblink\")","v":"Weblink"},"KidHaven Publishing","eBook",1,"2020","January 2020",null,null,"Author","William Anthony",null,null,null,null,"J",null,"Grade 2","Grade 2 - 4","Cats are beloved members of many people's families. Some people adopt cats when they are kittens, while others adopt them when they are older. Both young and old feline friends need love and care. This age-appropriate guide teaches readers how to take care of a cat and the level of commitment it requires. They are given tips, such as how to feed and play with their cat. In addition to the engaging main text, readers discover new vocabulary through the informative glossary and will be delighted by cute and colorful photographs of kittens and cats.","English",24.6,19.68,"636.8--dc23","24 pp.","https://greenhavenpublishing.com/978-1-5345-3336-3",{"$f":"Table1[[#This Row],['# of Books]]*Table1[[#This Row],[QTY]]","v":0},{"$f":"Table1[[#This Row],[QTY]]*Table1[[#This Row],[School & Library Price]]","v":0}]
[null,null,null,6,null,"Animals","Me and My Pet","My Dog","978-1-5345-3339-4",{"$f":"HYPERLINK(Table1[[#This Row],[Hyperlink]],\"Weblink\")","v":"Weblink"},"KidHaven Publishing","Library Bound Book",1,"2020","January 2020","Library","8.500 X 8.500","Author","William Anthony",null,null,null,null,"J",null,"Grade 2","Grade 2 - 4","Many kids own or want to own a dog. Young readers learn what it takes to care for a dog of their own in this helpful guide that presents a high-interest topic in a deeply engaging way. They are given tips on how to make sure their dog is getting enough food and water, what kinds of toys dogs like to play with, and how to make sure a dog is getting enough exercise. Adorable photographs of puppies and dogs fill each page, keeping readers engaged as they learn about developing a sense of responsibility through caring for a pet.","English",24.6,19.68,"636.7--dc23","24 pp.","https://greenhavenpublishing.com/978-1-5345-3339-4",{"$f":"Table1[[#This Row],['# of Books]]*Table1[[#This Row],[QTY]]","v":0},{"$f":"Table1[[#This Row],[QTY]]*Table1[[#This Row],[School & Library Price]]","v":0}]
[null,null,null,6,null,"Animals","Me and My Pet","My Dog","978-1-5345-3340-0",{"$f":"HYPERLINK(Table1[[#This Row],[Hyperlink]],\"Weblink\")","v":"Weblink"},"KidHaven Publishing","eBook",1,"2020","January 2020",null,null,"Author","William Anthony",null,null,null,null,"J",null,"Grade 2","Grade 2 - 4","Many kids own or want to own a dog. Young readers learn what it takes to care for a dog of their own in this helpful guide that presents a high-interest topic in a deeply engaging way. They are given tips on how to make sure their dog is getting enough food and water, what kinds of toys dogs like to play with, and how to make sure a dog is getting enough exercise. Adorable photographs of puppies and dogs fill each page, keeping readers engaged as they learn about developing a sense of responsibility through caring for a pet.","English",24.6,19.68,"636.7--dc23","24 pp.","https://greenhavenpublishing.com/978-1-5345-3340-0",{"$f":"Table1[[#This Row],['# of Books]]*Table1[[#This Row],[QTY]]","v":0},{"$f":"Table1[[#This Row],[QTY]]*Table1[[#This Row],[School & Library Price]]","v":0}]
[null,null,null,6,null,"Animals","Me and My Pet","My Fish","978-1-5345-3343-1",{"$f":"HYPERLINK(Table1[[#This Row],[Hyperlink]],\"Weblink\")","v":"Weblink"},"KidHaven Publishing","Library Bound Book",1,"2020","January 2020","Library","8.500 X 8.500","Author","William Anthony",null,null,null,null,"J",null,"Grade 2","Grade 2 - 4","Fish make great pets, especially for children with allergies to fur and dander. Goldfish, guppies, mollies, zebrafish, and other kinds of fish are found in homes around the world. How do you take care of a pet fish? Readers discover the answer as they learn how to feed their fish and clean their fishbowls or tanks. In addition to the informative narrative, a glossary helps readers develop strong vocabulary skills. This exciting topic is enhanced through the inclusion of stunning, full-color photographs of fish on every page.","English",24.6,19.68,"636--dc23","24 pp.","https://greenhavenpublishing.com/978-1-5345-3343-1",{"$f":"Table1[[#This Row],['# of Books]]*Table1[[#This Row],[QTY]]","v":0},{"$f":"Table1[[#This Row],[QTY]]*Table1[[#This Row],[School & Library Price]]","v":0}]
[null,null,null,6,null,"Animals","Me and My Pet","My Fish","978-1-5345-3344-8",{"$f":"HYPERLINK(Table1[[#This Row],[Hyperlink]],\"Weblink\")","v":"Weblink"},"KidHaven Publishing","eBook",1,"2020","January 2020",null,null,"Author","William Anthony",null,null,null,null,"J",null,"Grade 2","Grade 2 - 4","Fish make great pets, especially for children with allergies to fur and dander. Goldfish, guppies, mollies, zebrafish, and other kinds of fish are found in homes around the world. How do you take care of a pet fish? Readers discover the answer as they learn how to feed their fish and clean their fishbowls or tanks. In addition to the informative narrative, a glossary helps readers develop strong vocabulary skills. This exciting topic is enhanced through the inclusion of stunning, full-color photographs of fish on every page.","English",24.6,19.68,"636--dc23","24 pp.","https://greenhavenpublishing.com/978-1-5345-3344-8",{"$f":"Table1[[#This Row],['# of Books]]*Table1[[#This Row],[QTY]]","v":0},{"$f":"Table1[[#This Row],[QTY]]*Table1[[#This Row],[School & Library Price]]","v":0}]
[null,null,null,7,null,"Animals","Me and My Pet","My Guinea Pig","978-1-5345-3347-9",{"$f":"HYPERLINK(Table1[[#This Row],[Hyperlink]],\"Weblink\")","v":"Weblink"},"KidHaven Publishing","Library Bound Book",1,"2020","January 2020","Library","8.500 X 8.500","Author","William Anthony",null,null,null,null,"J",null,"Grade 2","Grade 2 - 4","Readers learn fun facts about these adorable animals as they explore this accessible and age-appropriate guide to caring for guinea pigs. They learn what kind of food they like to eat, how to feed them, how to clean their cage, and other useful information. Additional features include vibrant, full-color photographs of these animals and a helpful glossary of new words for readers to discover. As readers deepen their understanding of what it means to be a responsible pet owner, they also enhance their knowledge of animals.","English",24.6,19.68,"636.935'92--dc23","24 pp.","https://greenhavenpublishing.com/978-1-5345-3347-9",{"$f":"Table1[[#This Row],['# of Books]]*Table1[[#This Row],[QTY]]","v":0},{"$f":"Table1[[#This Row],[QTY]]*Table1[[#This Row],[School & Library Price]]","v":0}]
[null,null,null,7,null,"Animals","Me and My Pet","My Guinea Pig","978-1-5345-3348-6",{"$f":"HYPERLINK(Table1[[#This Row],[Hyperlink]],\"Weblink\")","v":"Weblink"},"KidHaven Publishing","eBook",1,"2020","January 2020",null,null,"Author","William Anthony",null,null,null,null,"J",null,"Grade 2","Grade 2 - 4","Readers learn fun facts about these adorable animals as they explore this accessible and age-appropriate guide to caring for guinea pigs. They learn what kind of food they like to eat, how to feed them, how to clean their cage, and other useful information. Additional features include vibrant, full-color photographs of these animals and a helpful glossary of new words for readers to discover. As readers deepen their understanding of what it means to be a responsible pet owner, they also enhance their knowledge of animals.","English",24.6,19.68,"636.935'92--dc23","24 pp.","https://greenhavenpublishing.com/978-1-5345-3348-6",{"$f":"Table1[[#This Row],['# of Books]]*Table1[[#This Row],[QTY]]","v":0},{"$f":"Table1[[#This Row],[QTY]]*Table1[[#This Row],[School & Library Price]]","v":0}]
[null,null,null,7,null,"Animals","Me and My Pet","My Hamster","978-1-5345-3351-6",{"$f":"HYPERLINK(Table1[[#This Row],[Hyperlink]],\"Weblink\")","v":"Weblink"},"KidHaven Publishing","Library Bound Book",1,"2020","January 2020","Library","8.500 X 8.500","Author","William Anthony",null,null,null,null,"J",null,"Grade 2","Grade 2 - 4","Taking care of a hamster is a big responsibility, but it can also be a lot of fun. Young readers learn about the hard work that goes into taking care of a pet. They receive age-appropriate tips on how to feed their hamster and clean its cage, among other important jobs they can do themselves. In addition, a helpful glossary builds young readers' vocabulary skills, and bright, full-color photographs of these cute creatures will appeal to young animal lovers.","English",24.6,19.68,"636.935'6--dc23","24 pp.","https://greenhavenpublishing.com/978-1-5345-3351-6",{"$f":"Table1[[#This Row],['# of Books]]*Table1[[#This Row],[QTY]]","v":0},{"$f":"Table1[[#This Row],[QTY]]*Table1[[#This Row],[School & Library Price]]","v":0}]
[null,null,null,7,null,"Animals","Me and My Pet","My Hamster","978-1-5345-3352-3",{"$f":"HYPERLINK(Table1[[#This Row],[Hyperlink]],\"Weblink\")","v":"Weblink"},"KidHaven Publishing","eBook",1,"2020","January 2020",null,null,"Author","William Anthony",null,null,null,null,"J",null,"Grade 2","Grade 2 - 4","Taking care of a hamster is a big responsibility, but it can also be a lot of fun. Young readers learn about the hard work that goes into taking care of a pet. They receive age-appropriate tips on how to feed their hamster and clean its cage, among other important jobs they can do themselves. In addition, a helpful glossary builds young readers' vocabulary skills, and bright, full-color photographs of these cute creatures will appeal to young animal lovers.","English",24.6,19.68,"636.935'6--dc23","24 pp.","https://greenhavenpublishing.com/978-1-5345-3352-3",{"$f":"Table1[[#This Row],['# of Books]]*Table1[[#This Row],[QTY]]","v":0},{"$f":"Table1[[#This Row],[QTY]]*Table1[[#This Row],[School & Library Price]]","v":0}]
[null,null,null,7,null,"Animals","Me and My Pet","My Rabbit","978-1-5345-3355-4",{"$f":"HYPERLINK(Table1[[#This Row],[Hyperlink]],\"Weblink\")","v":"Weblink"},"KidHaven Publishing","Library Bound Book",1,"2020","January 2020","Library","8.500 X 8.500","Author","William Anthony",null,null,null,null,"J",null,"Grade 2","Grade 2 - 4","Many people have rabbits as pets. These cute animals make great companions, but having a rabbit for a pet is a big responsibility. With this accessible and age-appropriate guide to pet care, young readers learn tips on how to take care of a rabbit. They discover how much food and water to give their rabbit and how to clean its living space. A helpful glossary gives readers the tools to strengthen their vocabulary skills as they explore this high-interest topic. Full-color photographs of these furry friends appeal to developing readers, encouraging exploration of the text.","English",24.6,19.68,"636.9'322--dc23","24 pp.","https://greenhavenpublishing.com/978-1-5345-3355-4",{"$f":"Table1[[#This Row],['# of Books]]*Table1[[#This Row],[QTY]]","v":0},{"$f":"Table1[[#This Row],[QTY]]*Table1[[#This Row],[School & Library Price]]","v":0}]
[null,null,null,7,null,"Animals","Me and My Pet","My Rabbit","978-1-5345-3356-1",{"$f":"HYPERLINK(Table1[[#This Row],[Hyperlink]],\"Weblink\")","v":"Weblink"},"KidHaven Publishing","eBook",1,"2020","January 2020",null,null,"Author","William Anthony",null,null,null,null,"J",null,"Grade 2","Grade 2 - 4","Many people have rabbits as pets. These cute animals make great companions, but having a rabbit for a pet is a big responsibility. With this accessible and age-appropriate guide to pet care, young readers learn tips on how to take care of a rabbit. They discover how much food and water to give their rabbit and how to clean its living space. A helpful glossary gives readers the tools to strengthen their vocabulary skills as they explore this high-interest topic. Full-color photographs of these furry friends appeal to developing readers, encouraging exploration of the text.","English",24.6,19.68,"636.9'322--dc23","24 pp.","https://greenhavenpublishing.com/978-1-5345-3356-1",{"$f":"Table1[[#This Row],['# of Books]]*Table1[[#This Row],[QTY]]","v":0},{"$f":"Table1[[#This Row],[QTY]]*Table1[[#This Row],[School & Library Price]]","v":0}]
[null,null,null,7,null,"Animals","Me and My Pet","My Snake","978-1-5345-3359-2",{"$f":"HYPERLINK(Table1[[#This Row],[Hyperlink]],\"Weblink\")","v":"Weblink"},"KidHaven Publishing","Library Bound Book",1,"2020","January 2020","Library","8.500 X 8.500","Author","William Anthony",null,null,null,null,"J",null,"Grade 2","Grade 2 - 4","Some people are afraid of snakes, but other people fondly adore them as pets. Young readers learn about the food, water, living space, and other things pet snakes need to be healthy and happy. Having a snake as a pet may seem intimidating, but this helpful narrative prepares readers by showing them how to safely own a pet snake. Readers who already have a pet snake will find the examples and captivating, full-color photographs fun and relatable.","English",24.6,19.68,"636--dc23","24 pp.","https://greenhavenpublishing.com/978-1-5345-3359-2",{"$f":"Table1[[#This Row],['# of Books]]*Table1[[#This Row],[QTY]]","v":0},{"$f":"Table1[[#This Row],[QTY]]*Table1[[#This Row],[School & Library Price]]","v":0}]
[null,null,null,7,null,"Animals","Me and My Pet","My Snake","978-1-5345-3360-8",{"$f":"HYPERLINK(Table1[[#This Row],[Hyperlink]],\"Weblink\")","v":"Weblink"},"KidHaven Publishing","eBook",1,"2020","January 2020",null,null,"Author","William Anthony",null,null,null,null,"J",null,"Grade 2","Grade 2 - 4","Some people are afraid of snakes, but other people fondly adore them as pets. Young readers learn about the food, water, living space, and other things pet snakes need to be healthy and happy. Having a snake as a pet may seem intimidating, but this helpful narrative prepares readers by showing them how to safely own a pet snake. Readers who already have a pet snake will find the examples and captivating, full-color photographs fun and relatable.","English",24.6,19.68,"636--dc23","24 pp.","https://greenhavenpublishing.com/978-1-5345-3360-8",{"$f":"Table1[[#This Row],['# of Books]]*Table1[[#This Row],[QTY]]","v":0},{"$f":"Table1[[#This Row],[QTY]]*Table1[[#This Row],[School & Library Price]]","v":0}]
[null,null,null,8,null,"Animals","Teeth to Tail","Teeth to Tail","978-1-5345-3393-6",{"$f":"HYPERLINK(Table1[[#This Row],[Hyperlink]],\"Weblink\")","v":"Weblink"},"KidHaven Publishing","Library Set",4,"2020","January 2020","Library","8.500 X 8.500",null,null,null,null,null,null,null,null,"Grade 2","Grade 2 - 5","Sharks are some of the most fascinating fish in the ocean. Some people are afraid of these creatures, but readers learn about a variety of sharks, such as great white sharks, hammerhead sharks, tiger sharks, and whale sharks, putting the focus on facts rather than fear. Stimulating narratives are paired with engaging fact boxes, helpful glossaries, and eye-catching, full-color photographs that make it appear as if these sharks are swimming off of the page. Readers will thoroughly enjoy this introduction to the exciting world of sharks. Features include: Essential science curriculum topics, such as animal habitats and adaptations, are presented in a creative way. Clean and accessible design appeals to young animal lovers and budding marine biologists. Subject encourages a deeper appreciation for marine life and a stronger understanding of biodiversity.","English",98.4,78.72,null,"24 pp.","https://greenhavenpublishing.com/978-1-5345-3393-6",{"$f":"Table1[[#This Row],['# of Books]]*Table1[[#This Row],[QTY]]","v":0},{"$f":"Table1[[#This Row],[QTY]]*Table1[[#This Row],[School & Library Price]]","v":0}]
[null,null,null,8,null,"Animals","Teeth to Tail","Great White Shark","978-1-5345-3299-1",{"$f":"HYPERLINK(Table1[[#This Row],[Hyperlink]],\"Weblink\")","v":"Weblink"},"KidHaven Publishing","Library Bound Book",1,"2020","January 2020","Library","8.500 X 8.500","Author","Robin Twiddy",null,null,null,null,"K",null,"Grade 2","Grade 2 - 5","Great white sharks are some of the most captivating creatures of the sea. These sharks can be scary, but this engaging book helps young readers focus on fun facts rather than fears. While young readers gain a deeper appreciation for marine life and a stronger understanding of science concepts, they also discover vibrant, full-color photographs of these impressive sharks. Informative fact boxes help them gain additional insight. It is not a good idea to get too close to a great white shark, but this exciting reading experience provides a safe, up-close look that animal lovers are sure to enjoy.","English",24.6,19.68,"597.3'3--dc23","24 pp.","https://greenhavenpublishing.com/978-1-5345-3299-1",{"$f":"Table1[[#This Row],['# of Books]]*Table1[[#This Row],[QTY]]","v":0},{"$f":"Table1[[#This Row],[QTY]]*Table1[[#This Row],[School & Library Price]]","v":0}]
[null,null,null,8,null,"Animals","Teeth to Tail","Great White Shark","978-1-5345-3300-4",{"$f":"HYPERLINK(Table1[[#This Row],[Hyperlink]],\"Weblink\")","v":"Weblink"},"KidHaven Publishing","eBook",1,"2020","January 2020",null,null,"Author","Robin Twiddy",null,null,null,null,"K",null,"Grade 2","Grade 2 - 5","Great white sharks are some of the most captivating creatures of the sea. These sharks can be scary, but this engaging book helps young readers focus on fun facts rather than fears. While young readers gain a deeper appreciation for marine life and a stronger understanding of science concepts, they also discover vibrant, full-color photographs of these impressive sharks. Informative fact boxes help them gain additional insight. It is not a good idea to get too close to a great white shark, but this exciting reading experience provides a safe, up-close look that animal lovers are sure to enjoy.","English",24.6,19.68,"597.3'3--dc23","24 pp.","https://greenhavenpublishing.com/978-1-5345-3300-4",{"$f":"Table1[[#This Row],['# of Books]]*Table1[[#This Row],[QTY]]","v":0},{"$f":"Table1[[#This Row],[QTY]]*Table1[[#This Row],[School & Library Price]]","v":0}]
[null,null,null,8,null,"Animals","Teeth to Tail","Hammerhead Shark","978-1-5345-3303-5",{"$f":"HYPERLINK(Table1[[#This Row],[Hyperlink]],\"Weblink\")","v":"Weblink"},"KidHaven Publishing","Library Bound Book",1,"2020","January 2020","Library","8.500 X 8.500","Author","Robin Twiddy",null,null,null,null,"K",null,"Grade 2","Grade 2 - 5","Have you ever wondered why hammerhead sharks have such unique heads? Readers discover the answer as they dive into this engaging text, which is filled with intriguing facts that will stimulate the minds of young animal lovers and budding marine biologists. They gain deeper insight on essential science curriculum topics and are encouraged to learn more about marine life. Fact boxes and bright, full-color photographs enhance their reading experience and provide a detailed look at one of the coolest creatures in the sea.","English",24.6,19.68,"597.3'3--dc23","24 pp.","https://greenhavenpublishing.com/978-1-5345-3303-5",{"$f":"Table1[[#This Row],['# of Books]]*Table1[[#This Row],[QTY]]","v":0},{"$f":"Table1[[#This Row],[QTY]]*Table1[[#This Row],[School & Library Price]]","v":0}]
[null,null,null,8,null,"Animals","Teeth to Tail","Hammerhead Shark","978-1-5345-3304-2",{"$f":"HYPERLINK(Table1[[#This Row],[Hyperlink]],\"Weblink\")","v":"Weblink"},"KidHaven Publishing","eBook",1,"2020","January 2020",null,null,"Author","Robin Twiddy",null,null,null,null,"K",null,"Grade 2","Grade 2 - 5","Have you ever wondered why hammerhead sharks have such unique heads? Readers discover the answer as they dive into this engaging text, which is filled with intriguing facts that will stimulate the minds of young animal lovers and budding marine biologists. They gain deeper insight on essential science curriculum topics and are encouraged to learn more about marine life. Fact boxes and bright, full-color photographs enhance their reading experience and provide a detailed look at one of the coolest creatures in the sea.","English",24.6,19.68,"597.3'3--dc23","24 pp.","https://greenhavenpublishing.com/978-1-5345-3304-2",{"$f":"Table1[[#This Row],['# of Books]]*Table1[[#This Row],[QTY]]","v":0},{"$f":"Table1[[#This Row],[QTY]]*Table1[[#This Row],[School & Library Price]]","v":0}]
[null,null,null,8,null,"Animals","Teeth to Tail","Tiger Shark","978-1-5345-3307-3",{"$f":"HYPERLINK(Table1[[#This Row],[Hyperlink]],\"Weblink\")","v":"Weblink"},"KidHaven Publishing","Library Bound Book",1,"2020","January 2020","Library","8.500 X 8.500","Author","Robin Twiddy",null,null,null,null,"K",null,"Grade 2","Grade 2 - 5","There are many different types of sharks that live in the ocean, one of which is the tiger shark. These sharks get their name from their tiger-like, dark stripes on their bodies. Young readers will learn about the habitats and adaptations of these sea creatures through exploring an accessible and fact-filled narrative. Fact boxes are included to help them gain a better understanding of how tiger sharks live and how their lives connect to beginner biology concepts. Eye-catching, full-color photographs of these amazing animals fill the pages, creating a unique learning experience animal lovers won't soon forget.","English",24.6,19.68,"597.3'3--dc23","24 pp.","https://greenhavenpublishing.com/978-1-5345-3307-3",{"$f":"Table1[[#This Row],['# of Books]]*Table1[[#This Row],[QTY]]","v":0},{"$f":"Table1[[#This Row],[QTY]]*Table1[[#This Row],[School & Library Price]]","v":0}]
[null,null,null,8,null,"Animals","Teeth to Tail","Tiger Shark","978-1-5345-3308-0",{"$f":"HYPERLINK(Table1[[#This Row],[Hyperlink]],\"Weblink\")","v":"Weblink"},"KidHaven Publishing","eBook",1,"2020","January 2020",null,null,"Author","Robin Twiddy",null,null,null,null,"K",null,"Grade 2","Grade 2 - 5","There are many different types of sharks that live in the ocean, one of which is the tiger shark. These sharks get their name from their tiger-like, dark stripes on their bodies. Young readers will learn about the habitats and adaptations of these sea creatures through exploring an accessible and fact-filled narrative. Fact boxes are included to help them gain a better understanding of how tiger sharks live and how their lives connect to beginner biology concepts. Eye-catching, full-color photographs of these amazing animals fill the pages, creating a unique learning experience animal lovers won't soon forget.","English",24.6,19.68,"597.3'3--dc23","24 pp.","https://greenhavenpublishing.com/978-1-5345-3308-0",{"$f":"Table1[[#This Row],['# of Books]]*Table1[[#This Row],[QTY]]","v":0},{"$f":"Table1[[#This Row],[QTY]]*Table1[[#This Row],[School & Library Price]]","v":0}]
[null,null,null,8,null,"Animals","Teeth to Tail","Whale Shark","978-1-5345-3311-0",{"$f":"HYPERLINK(Table1[[#This Row],[Hyperlink]],\"Weblink\")","v":"Weblink"},"KidHaven Publishing","Library Bound Book",1,"2020","January 2020","Library","8.500 X 8.500","Author","Robin Twiddy",null,null,null,null,"K",null,"Grade 2","Grade 2 - 5","Some people are afraid of sharks because of their big sharp teeth. Whale sharks, which are the largest known fish on the planet, do not use their teeth to eat. Instead, they are filter-feeders who feed on plankton. Young readers will discover this and other interesting facts through exploring a detailed narrative and fun fact boxes. This exciting learning experience enhances readers' knowledge of essential science curriculum topics, such as adaptations and marine ecosystems. Creative design elements that excite readers include full-color photographs of massive whale sharks in their natural habitats.","English",24.6,19.68,"597.3'3--dc23","24 pp.","https://greenhavenpublishing.com/978-1-5345-3311-0",{"$f":"Table1[[#This Row],['# of Books]]*Table1[[#This Row],[QTY]]","v":0},{"$f":"Table1[[#This Row],[QTY]]*Table1[[#This Row],[School & Library Price]]","v":0}]
[null,null,null,8,null,"Animals","Teeth to Tail","Whale Shark","978-1-5345-3312-7",{"$f":"HYPERLINK(Table1[[#This Row],[Hyperlink]],\"Weblink\")","v":"Weblink"},"KidHaven Publishing","eBook",1,"2020","January 2020",null,null,"Author","Robin Twiddy",null,null,null,null,"K",null,"Grade 2","Grade 2 - 5","Some people are afraid of sharks because of their big sharp teeth. Whale sharks, which are the largest known fish on the planet, do not use their teeth to eat. Instead, they are filter-feeders who feed on plankton. Young readers will discover this and other interesting facts through exploring a detailed narrative and fun fact boxes. This exciting learning experience enhances readers' knowledge of essential science curriculum topics, such as adaptations and marine ecosystems. Creative design elements that excite readers include full-color photographs of massive whale sharks in their natural habitats.","English",24.6,19.68,"597.3'3--dc23","24 pp.","https://greenhavenpublishing.com/978-1-5345-3312-7",{"$f":"Table1[[#This Row],['# of Books]]*Table1[[#This Row],[QTY]]","v":0},{"$f":"Table1[[#This Row],[QTY]]*Table1[[#This Row],[School & Library Price]]","v":0}]
[null,null,null,9,null,"Animals","Tiny Things, Big Impacts","Tiny Things, Big Impacts","978-1-5345-3397-4",{"$f":"HYPERLINK(Table1[[#This Row],[Hyperlink]],\"Weblink\")","v":"Weblink"},"KidHaven Publishing","Library Set",4,"2020","January 2020","Library","8.500 X 11.00",null,null,null,null,null,null,null,null,"Grade 3 - 4","Grade 3 - 5","Sometimes the smallest organisms can have the biggest impact on their surroundings. Readers discover this by looking into the lives of bees, plankton, spiders, and worms. While they may be tiny, these organisms play valuable roles in their environments. The main texts present this basic science curriculum topic in a way that is easily understandable and engaging for readers. Fun fact boxes, detailed glossaries, and vibrant, full-color photographs draw readers into this fascinating topic. Readers are sure to enjoy getting an up-close look at some of the world's smallest living things. Features include: Carefully chosen topics encourage young readers to broaden their understanding of biodiversity. Creative design elements appeal to visual learners. Age-appropriate narratives help young readers see the value in creatures they may have previously thought of as gross or scary, such as bees and spiders.","English",109,87.2,null,"32 pp.","https://greenhavenpublishing.com/978-1-5345-3397-4",{"$f":"Table1[[#This Row],['# of Books]]*Table1[[#This Row],[QTY]]","v":0},{"$f":"Table1[[#This Row],[QTY]]*Table1[[#This Row],[School & Library Price]]","v":0}]
[null,null,null,9,null,"Animals","Tiny Things, Big Impacts","Bees","978-1-5345-3283-0",{"$f":"HYPERLINK(Table1[[#This Row],[Hyperlink]],\"Weblink\")","v":"Weblink"},"KidHaven Publishing","Library Bound Book",1,"2020","January 2020","Library","8.500 X 11.00","Author","John Wood",null,null,null,null,"O",null,"Grade 3 - 4","Grade 3 - 5","Some people are afraid of bees, but bees are actually very important parts of ecosystems around the world. Readers learn about these small, buzzing insects and their valuable roles in the environments around them with this stimulating science guide. The accessible narrative discusses basic science curriculum topics and encourages an appreciation for all living things. Readers gain extra insight into this fascinating subject through fun fact boxes and vibrant, full-color photographs that make the bees appear as if they are buzzing off each page!","English",27.25,21.8,"595.79'9--dc23","32 pp.","https://greenhavenpublishing.com/978-1-5345-3283-0",{"$f":"Table1[[#This Row],['# of Books]]*Table1[[#This Row],[QTY]]","v":0},{"$f":"Table1[[#This Row],[QTY]]*Table1[[#This Row],[School & Library Price]]","v":0}]
[null,null,null,9,null,"Animals","Tiny Things, Big Impacts","Bees","978-1-5345-3284-7",{"$f":"HYPERLINK(Table1[[#This Row],[Hyperlink]],\"Weblink\")","v":"Weblink"},"KidHaven Publishing","eBook",1,"2020","January 2020",null,null,"Author","John Wood",null,null,null,null,"O",null,"Grade 3 - 4","Grade 3 - 5","Some people are afraid of bees, but bees are actually very important parts of ecosystems around the world. Readers learn about these small, buzzing insects and their valuable roles in the environments around them with this stimulating science guide. The accessible narrative discusses basic science curriculum topics and encourages an appreciation for all living things. Readers gain extra insight into this fascinating subject through fun fact boxes and vibrant, full-color photographs that make the bees appear as if they are buzzing off each page!","English",27.25,21.8,"595.79'9--dc23","32 pp.","https://greenhavenpublishing.com/978-1-5345-3284-7",{"$f":"Table1[[#This Row],['# of Books]]*Table1[[#This Row],[QTY]]","v":0},{"$f":"Table1[[#This Row],[QTY]]*Table1[[#This Row],[School & Library Price]]","v":0}]
[null,null,null,9,null,"Animals","Tiny Things, Big Impacts","Plankton","978-1-5345-3287-8",{"$f":"HYPERLINK(Table1[[#This Row],[Hyperlink]],\"Weblink\")","v":"Weblink"},"KidHaven Publishing","Library Bound Book",1,"2020","January 2020","Library","8.500 X 11.00","Author","John Wood",null,null,null,null,"O",null,"Grade 3 - 4","Grade 3 - 5","Plankton are microscopic organisms living in large bodies of water. They are a major food source for several kinds of sea creatures, and although they are tiny, they have a major impact on many other living things. Accessible explanations of marine life, food chains, and other essential science curriculum topics enhance readers' knowledge of the natural world and the part every living thing plays in it. Additional features, such as fact boxes and full-color photographs deepen readers' understanding of these tiny yet hugely important creatures.","English",27.25,21.8,"578.76--dc23","32 pp.","https://greenhavenpublishing.com/978-1-5345-3287-8",{"$f":"Table1[[#This Row],['# of Books]]*Table1[[#This Row],[QTY]]","v":0},{"$f":"Table1[[#This Row],[QTY]]*Table1[[#This Row],[School & Library Price]]","v":0}]
[null,null,null,9,null,"Animals","Tiny Things, Big Impacts","Plankton","978-1-5345-3288-5",{"$f":"HYPERLINK(Table1[[#This Row],[Hyperlink]],\"Weblink\")","v":"Weblink"},"KidHaven Publishing","eBook",1,"2020","January 2020",null,null,"Author","John Wood",null,null,null,null,"O",null,"Grade 3 - 4","Grade 3 - 5","Plankton are microscopic organisms living in large bodies of water. They are a major food source for several kinds of sea creatures, and although they are tiny, they have a major impact on many other living things. Accessible explanations of marine life, food chains, and other essential science curriculum topics enhance readers' knowledge of the natural world and the part every living thing plays in it. Additional features, such as fact boxes and full-color photographs deepen readers' understanding of these tiny yet hugely important creatures.","English",27.25,21.8,"578.76--dc23","32 pp.","https://greenhavenpublishing.com/978-1-5345-3288-5",{"$f":"Table1[[#This Row],['# of Books]]*Table1[[#This Row],[QTY]]","v":0},{"$f":"Table1[[#This Row],[QTY]]*Table1[[#This Row],[School & Library Price]]","v":0}]
[null,null,null,9,null,"Animals","Tiny Things, Big Impacts","Spiders","978-1-5345-3291-5",{"$f":"HYPERLINK(Table1[[#This Row],[Hyperlink]],\"Weblink\")","v":"Weblink"},"KidHaven Publishing","Library Bound Book",1,"2020","January 2020","Library","8.500 X 11.00","Author","John Wood",null,null,null,null,"O",null,"Grade 3 - 4","Grade 3 - 5","When you see a spider, does it scare you? Many people are afraid of spiders, but what they may not know is how valuable spiders are to the environment. These tiny creatures are important because they eat many other insects that can be harmful to humans, animals, and other crops. This engaging and age-appropriate text gives readers the tools to see that most spiders are helpful. Fun-filled fact boxes and striking, full-color photographs add excitement to this guide that presents basic science curriculum topics such as ecosystems and food chains.","English",27.25,21.8,"595.4'4--dc23","32 pp.","https://greenhavenpublishing.com/978-1-5345-3291-5",{"$f":"Table1[[#This Row],['# of Books]]*Table1[[#This Row],[QTY]]","v":0},{"$f":"Table1[[#This Row],[QTY]]*Table1[[#This Row],[School & Library Price]]","v":0}]
[null,null,null,9,null,"Animals","Tiny Things, Big Impacts","Spiders","978-1-5345-3292-2",{"$f":"HYPERLINK(Table1[[#This Row],[Hyperlink]],\"Weblink\")","v":"Weblink"},"KidHaven Publishing","eBook",1,"2020","January 2020",null,null,"Author","John Wood",null,null,null,null,"O",null,"Grade 3 - 4","Grade 3 - 5","When you see a spider, does it scare you? Many people are afraid of spiders, but what they may not know is how valuable spiders are to the environment. These tiny creatures are important because they eat many other insects that can be harmful to humans, animals, and other crops. This engaging and age-appropriate text gives readers the tools to see that most spiders are helpful. Fun-filled fact boxes and striking, full-color photographs add excitement to this guide that presents basic science curriculum topics such as ecosystems and food chains.","English",27.25,21.8,"595.4'4--dc23","32 pp.","https://greenhavenpublishing.com/978-1-5345-3292-2",{"$f":"Table1[[#This Row],['# of Books]]*Table1[[#This Row],[QTY]]","v":0},{"$f":"Table1[[#This Row],[QTY]]*Table1[[#This Row],[School & Library Price]]","v":0}]
[null,null,null,9,null,"Animals","Tiny Things, Big Impacts","Worms","978-1-5345-3295-3",{"$f":"HYPERLINK(Table1[[#This Row],[Hyperlink]],\"Weblink\")","v":"Weblink"},"KidHaven Publishing","Library Bound Book",1,"2020","January 2020","Library","8.500 X 11.00","Author","John Wood",null,null,null,null,"O",null,"Grade 3 - 4","Grade 3 - 5","Worms are small organisms that have a valuable role in their surrounding environments. Readers learn about all the important ways in which worms contribute to their ecosystems, proving that no creature is too small to make a difference. Creative design elements, including eye-catching fact boxes and colorful photographs, draw readers in to the weird and wonderful world of worms. As readers explore essential science curriculum topics, such as ecosystems and food chains, they also learn fun facts about creatures they see often but most likely know little about.","English",27.25,21.8,"592'.3--dc23","32 pp.","https://greenhavenpublishing.com/978-1-5345-3295-3",{"$f":"Table1[[#This Row],['# of Books]]*Table1[[#This Row],[QTY]]","v":0},{"$f":"Table1[[#This Row],[QTY]]*Table1[[#This Row],[School & Library Price]]","v":0}]
[null,null,null,9,null,"Animals","Tiny Things, Big Impacts","Worms","978-1-5345-3296-0",{"$f":"HYPERLINK(Table1[[#This Row],[Hyperlink]],\"Weblink\")","v":"Weblink"},"KidHaven Publishing","eBook",1,"2020","January 2020",null,null,"Author","John Wood",null,null,null,null,"O",null,"Grade 3 - 4","Grade 3 - 5","Worms are small organisms that have a valuable role in their surrounding environments. Readers learn about all the important ways in which worms contribute to their ecosystems, proving that no creature is too small to make a difference. Creative design elements, including eye-catching fact boxes and colorful photographs, draw readers in to the weird and wonderful world of worms. As readers explore essential science curriculum topics, such as ecosystems and food chains, they also learn fun facts about creatures they see often but most likely know little about.","English",27.25,21.8,"592'.3--dc23","32 pp.","https://greenhavenpublishing.com/978-1-5345-3296-0",{"$f":"Table1[[#This Row],['# of Books]]*Table1[[#This Row],[QTY]]","v":0},{"$f":"Table1[[#This Row],[QTY]]*Table1[[#This Row],[School & Library Price]]","v":0}]
[null,null,null,10,6,"Animals","Animal Classification","Animal Classification: Sets 1 – 2","978-1-5345-3041-6",{"$f":"HYPERLINK(Table1[[#This Row],[Hyperlink]],\"Weblink\")","v":"Weblink"},"KidHaven Publishing","Library Set",12,"2020","August 2019","Library","8.500 X 11.00",null,null,null,null,null,null,null,null,"Grade 3 - 4","Grade 3 - 5","Young readers discover a diverse variety of animals, from mammals to mollusks, as they learn numerous fun facts with each turn of the page. They learn where these different creatures can be found on Earth, what they eat, and other common characteristics. This essential science curriculum topic is presented using age-appropriate, accessible language. In addition, the eye-catching, full-color photographs, informational graphic organizers, enlightening fact boxes, and useful glossaries offer readers extra insight into this fascinating topic. Animal lovers will enjoy learning new and exciting facts that expand their knowledge of familiar and exotic creatures. Features include: Accessible texts provide an engaging introduction to basic biology concepts. Essential information about various groups of animals allows readers to compare and contrast living things with ease. Immersive design encourages readers to get information from a variety of sources, including charts, photographs, and diagrams.","English",327,261.60000000000002,null,"32 pp.","https://greenhavenpublishing.com/978-1-5345-3041-6",{"$f":"Table1[[#This Row],['# of Books]]*Table1[[#This Row],[QTY]]","v":0},{"$f":"Table1[[#This Row],[QTY]]*Table1[[#This Row],[School & Library Price]]","v":0}]
[null,null,null,null,6,"Animals","Animal Classification","Animal Classification: Set 2","978-1-5345-3040-9",{"$f":"HYPERLINK(Table1[[#This Row],[Hyperlink]],\"Weblink\")","v":"Weblink"},"KidHaven Publishing","Library Set",6,"2020","August 2019","Library","8.500 X 11.00",null,null,null,null,null,null,null,null,"Grade 3 - 4","Grade 3 - 5","Readers will learn about the diversity of the animal kingdom as they discover essential information about a wide variety of living things. Marsupials, mollusks, arachnids, crustaceans, echinoderms, and protozoa are explored in depth, giving young readers an introduction to creatures they might not be familiar with. Basic biology concepts are introduced through the age-appropriate main texts. Eager animal lovers will expand their knowledge of this fascinating topic through supplementary content, such as engaging fact boxes and detailed diagrams. Bright, full-color photographs show these amazing animals in incredible detail. Features include: Creative focus on unique creatures provides an exciting take on an essential science curriculum topic. Fun facts about obscure species encourage readers to learn more about animals beyond those that are considered the most popular, broadening their understanding of the natural world. Impressive design elements that help readers learn to get information from different visual sources, such as charts and diagrams.","English",163.5,130.80000000000001,null,"32 pp.","https://greenhavenpublishing.com/978-1-5345-3040-9",{"$f":"Table1[[#This Row],['# of Books]]*Table1[[#This Row],[QTY]]","v":0},{"$f":"Table1[[#This Row],[QTY]]*Table1[[#This Row],[School & Library Price]]","v":0}]
[null,null,null,10,7,"Animals","Animal Classification","Amphibians","978-1-5345-2004-2",{"$f":"HYPERLINK(Table1[[#This Row],[Hyperlink]],\"Weblink\")","v":"Weblink"},"KidHaven Publishing","Library Bound Book",1,"2017","January 2017","Library","8.500 X 11.00","Author","Charlie Ogden",null,null,null,null,"P","1110L","Grade 3 - 4","Grade 3 - 5","What makes a frog an amphibian and not a reptile or a mammal? Readers discover the answer to this important question as they learn to classify animals based on common characteristics. This essential science curriculum topic is presented in an engaging way, through fun facts about amphibians and the characteristics that separate them from other animals. Eye-catching fact boxes and helpful graphic organizers, including detailed diagrams provide additional information. Readers also find vibrant photographs of amazing amphibians in their natural habitats with each turn of the page.","English",27.25,21.8,"597.8--dc23","32 pp.","https://greenhavenpublishing.com/978-1-5345-2004-2",{"$f":"Table1[[#This Row],['# of Books]]*Table1[[#This Row],[QTY]]","v":0},{"$f":"Table1[[#This Row],[QTY]]*Table1[[#This Row],[School & Library Price]]","v":0}]
[null,null,null,10,7,"Animals","Animal Classification","Amphibians","978-1-5345-2005-9",{"$f":"HYPERLINK(Table1[[#This Row],[Hyperlink]],\"Weblink\")","v":"Weblink"},"KidHaven Publishing","eBook",1,"2017","January 2017",null,null,"Author","Charlie Ogden",null,null,null,null,"P","1110L","Grade 3 - 4","Grade 3 - 5","What makes a frog an amphibian and not a reptile or a mammal? Readers discover the answer to this important question as they learn to classify animals based on common characteristics. This essential science curriculum topic is presented in an engaging way, through fun facts about amphibians and the characteristics that separate them from other animals. Eye-catching fact boxes and helpful graphic organizers, including detailed diagrams provide additional information. Readers also find vibrant photographs of amazing amphibians in their natural habitats with each turn of the page.","English",27.25,21.8,"597.8--dc23","32 pp.","https://greenhavenpublishing.com/978-1-5345-2005-9",{"$f":"Table1[[#This Row],['# of Books]]*Table1[[#This Row],[QTY]]","v":0},{"$f":"Table1[[#This Row],[QTY]]*Table1[[#This Row],[School & Library Price]]","v":0}]
[null,null,null,10,6,"Animals","Animal Classification","Arachnids","978-1-5345-3029-4",{"$f":"HYPERLINK(Table1[[#This Row],[Hyperlink]],\"Weblink\")","v":"Weblink"},"KidHaven Publishing","Library Bound Book",1,"2020","August 2019","Library","8.500 X 11.00","Author","Joanna Brundle",null,null,null,null,"P",null,"Grade 3 - 4","Grade 3 - 5","While some people are afraid of spiders and scorpions, others are fascinated by these cool creatures, which are both part of the arachnid family. Readers broaden their knowledge of essential early biology concepts through captivating, well-researched, and accessible main text that is also age-appropriate. They learn about the habitats, life cycles, and eating habits of the creepy crawly creatures known scientifically as arachnids. In addition to stimulating fact boxes, more information is provided in detailed graphic organizers, informational diagrams, a helpful glossary, and bright, full-color photographs.","English",27.25,21.8,"595.4'03--dc23","32 pp.","https://greenhavenpublishing.com/978-1-5345-3029-4",{"$f":"Table1[[#This Row],['# of Books]]*Table1[[#This Row],[QTY]]","v":0},{"$f":"Table1[[#This Row],[QTY]]*Table1[[#This Row],[School & Library Price]]","v":0}]
[null,null,null,10,6,"Animals","Animal Classification","Arachnids","978-1-5345-3052-2",{"$f":"HYPERLINK(Table1[[#This Row],[Hyperlink]],\"Weblink\")","v":"Weblink"},"KidHaven Publishing","eBook",1,"2020","August 2019",null,null,"Author","Joanna Brundle",null,null,null,null,"P",null,"Grade 3 - 4","Grade 3 - 5","While some people are afraid of spiders and scorpions, others are fascinated by these cool creatures, which are both part of the arachnid family. Readers broaden their knowledge of essential early biology concepts through captivating, well-researched, and accessible main text that is also age-appropriate. They learn about the habitats, life cycles, and eating habits of the creepy crawly creatures known scientifically as arachnids. In addition to stimulating fact boxes, more information is provided in detailed graphic organizers, informational diagrams, a helpful glossary, and bright, full-color photographs.","English",27.25,21.8,"595.4'03--dc23","32 pp.","https://greenhavenpublishing.com/978-1-5345-3052-2",{"$f":"Table1[[#This Row],['# of Books]]*Table1[[#This Row],[QTY]]","v":0},{"$f":"Table1[[#This Row],[QTY]]*Table1[[#This Row],[School & Library Price]]","v":0}]
[null,null,null,10,7,"Animals","Animal Classification","Birds","978-1-5345-2007-3",{"$f":"HYPERLINK(Table1[[#This Row],[Hyperlink]],\"Weblink\")","v":"Weblink"},"KidHaven Publishing","Library Bound Book",1,"2017","January 2017","Library","8.500 X 11.00","Author","Charlie Ogden",null,null,null,null,"P","970L","Grade 3 - 4","Grade 3 - 5","Some of the most unique animals on the planet are classified as birds. As readers explore this amazing animal group, they discover fun facts about a wide variety of birds. They also learn the essential scientific skill of classifying animals by common characteristics. Important information is presented to readers through engaging text, fact boxes, and detailed graphic organizers such as diagrams. Colorful photographs of familiar and exotic birds seem to fly off the page, creating a memorable learning experience that enhances common science curriculum topics.","English",27.25,21.8,"598--dc23","32 pp.","https://greenhavenpublishing.com/978-1-5345-2007-3",{"$f":"Table1[[#This Row],['# of Books]]*Table1[[#This Row],[QTY]]","v":0},{"$f":"Table1[[#This Row],[QTY]]*Table1[[#This Row],[School & Library Price]]","v":0}]
[null,null,null,10,7,"Animals","Animal Classification","Birds","978-1-5345-2008-0",{"$f":"HYPERLINK(Table1[[#This Row],[Hyperlink]],\"Weblink\")","v":"Weblink"},"KidHaven Publishing","eBook",1,"2017","January 2017",null,null,"Author","Charlie Ogden",null,null,null,null,"P","970L","Grade 3 - 4","Grade 3 - 5","Some of the most unique animals on the planet are classified as birds. As readers explore this amazing animal group, they discover fun facts about a wide variety of birds. They also learn the essential scientific skill of classifying animals by common characteristics. Important information is presented to readers through engaging text, fact boxes, and detailed graphic organizers such as diagrams. Colorful photographs of familiar and exotic birds seem to fly off the page, creating a memorable learning experience that enhances common science curriculum topics.","English",27.25,21.8,"598--dc23","32 pp.","https://greenhavenpublishing.com/978-1-5345-2008-0",{"$f":"Table1[[#This Row],['# of Books]]*Table1[[#This Row],[QTY]]","v":0},{"$f":"Table1[[#This Row],[QTY]]*Table1[[#This Row],[School & Library Price]]","v":0}]
[null,null,null,10,6,"Animals","Animal Classification","Crustaceans","978-1-5345-3028-7",{"$f":"HYPERLINK(Table1[[#This Row],[Hyperlink]],\"Weblink\")","v":"Weblink"},"KidHaven Publishing","Library Bound Book",1,"2020","August 2019","Library","8.500 X 11.00","Author","Joanna Brundle",null,null,null,null,"P",null,"Grade 3 - 4","Grade 3 - 5","There are several different types of creatures that live in the sea, including crustaceans. These amazing animals include crabs, lobsters, and shrimp. Through age-appropriate and accessible main text, readers learn about different crustacean habitats, how they reproduce, their eating habits, and life cycles. Animal lovers are presented with engaging facts that expand their knowledge of this fun biology topic. A detailed glossary, informational graphic organizers, helpful diagrams, and vibrant, full-color photographs enhance this learning experience for readers eager to learn about these fascinating creatures.","English",27.25,21.8,"595.3'03--dc23","32 pp.","https://greenhavenpublishing.com/978-1-5345-3028-7",{"$f":"Table1[[#This Row],['# of Books]]*Table1[[#This Row],[QTY]]","v":0},{"$f":"Table1[[#This Row],[QTY]]*Table1[[#This Row],[School & Library Price]]","v":0}]
[null,null,null,10,6,"Animals","Animal Classification","Crustaceans","978-1-5345-3049-2",{"$f":"HYPERLINK(Table1[[#This Row],[Hyperlink]],\"Weblink\")","v":"Weblink"},"KidHaven Publishing","eBook",1,"2020","August 2019",null,null,"Author","Joanna Brundle",null,null,null,null,"P",null,"Grade 3 - 4","Grade 3 - 5","There are several different types of creatures that live in the sea, including crustaceans. These amazing animals include crabs, lobsters, and shrimp. Through age-appropriate and accessible main text, readers learn about different crustacean habitats, how they reproduce, their eating habits, and life cycles. Animal lovers are presented with engaging facts that expand their knowledge of this fun biology topic. A detailed glossary, informational graphic organizers, helpful diagrams, and vibrant, full-color photographs enhance this learning experience for readers eager to learn about these fascinating creatures.","English",27.25,21.8,"595.3'03--dc23","32 pp.","https://greenhavenpublishing.com/978-1-5345-3049-2",{"$f":"Table1[[#This Row],['# of Books]]*Table1[[#This Row],[QTY]]","v":0},{"$f":"Table1[[#This Row],[QTY]]*Table1[[#This Row],[School & Library Price]]","v":0}]
[null,null,null,10,6,"Animals","Animal Classification","Echinoderms","978-1-5345-3030-0",{"$f":"HYPERLINK(Table1[[#This Row],[Hyperlink]],\"Weblink\")","v":"Weblink"},"KidHaven Publishing","Library Bound Book",1,"2020","August 2019","Library","8.500 X 11.00","Author","Joanna Brundle",null,null,null,null,"P",null,"Grade 3 - 4","Grade 3 - 5","There are many kinds of marine creatures living in the sea, many of which may be unfamiliar to young readers. This age-appropriate, accessible main text puts the focus on echinoderms, which include starfish, sea cucumbers, and sea urchins. Readers learn about the different life cycles, habitats, eating habits, and behaviors of these interesting sea creatures. Colorful and creative design elements draw readers in, giving them a detailed look at these unique organisms. Fun fact boxes, useful graphic organizers, and a detailed glossary provide additional information that supplements basic science curriculum topics.","English",27.25,21.8,"593.9--dc23","32 pp.","https://greenhavenpublishing.com/978-1-5345-3030-0",{"$f":"Table1[[#This Row],['# of Books]]*Table1[[#This Row],[QTY]]","v":0},{"$f":"Table1[[#This Row],[QTY]]*Table1[[#This Row],[School & Library Price]]","v":0}]
[null,null,null,10,6,"Animals","Animal Classification","Echinoderms","978-1-5345-3051-5",{"$f":"HYPERLINK(Table1[[#This Row],[Hyperlink]],\"Weblink\")","v":"Weblink"},"KidHaven Publishing","eBook",1,"2020","August 2019",null,null,"Author","Joanna Brundle",null,null,null,null,"P",null,"Grade 3 - 4","Grade 3 - 5","There are many kinds of marine creatures living in the sea, many of which may be unfamiliar to young readers. This age-appropriate, accessible main text puts the focus on echinoderms, which include starfish, sea cucumbers, and sea urchins. Readers learn about the different life cycles, habitats, eating habits, and behaviors of these interesting sea creatures. Colorful and creative design elements draw readers in, giving them a detailed look at these unique organisms. Fun fact boxes, useful graphic organizers, and a detailed glossary provide additional information that supplements basic science curriculum topics.","English",27.25,21.8,"593.9--dc23","32 pp.","https://greenhavenpublishing.com/978-1-5345-3051-5",{"$f":"Table1[[#This Row],['# of Books]]*Table1[[#This Row],[QTY]]","v":0},{"$f":"Table1[[#This Row],[QTY]]*Table1[[#This Row],[School & Library Price]]","v":0}]
[null,null,null,10,7,"Animals","Animal Classification","Fish","978-1-5345-2011-0",{"$f":"HYPERLINK(Table1[[#This Row],[Hyperlink]],\"Weblink\")","v":"Weblink"},"KidHaven Publishing","Library Bound Book",1,"2017","January 2017","Library","8.500 X 11.00","Author","Steffi Cavell-Clarke",null,null,null,null,"P","940L","Grade 3 - 4","Grade 3 - 5","Readers travel to the depths of the ocean as they learn fascinating facts about what makes fish different from other animals. As readers develop their ability to classify animals based on shared characteristics, they also learn about fish life cycles, habitats, and other common science curriculum topics. Fact boxes filled with exciting information and detailed diagrams and other graphic organizers present readers with additional information about these cool creatures. Vivid photographs give readers an up-close view of some of the world’s most interesting fish species, creating a reading experience they won’t soon forget!","English",27.25,21.8,"597","32 pp.","https://greenhavenpublishing.com/978-1-5345-2011-0",{"$f":"Table1[[#This Row],['# of Books]]*Table1[[#This Row],[QTY]]","v":0},{"$f":"Table1[[#This Row],[QTY]]*Table1[[#This Row],[School & Library Price]]","v":0}]
[null,null,null,10,7,"Animals","Animal Classification","Fish","978-1-5345-2012-7",{"$f":"HYPERLINK(Table1[[#This Row],[Hyperlink]],\"Weblink\")","v":"Weblink"},"KidHaven Publishing","eBook",1,"2017","January 2017",null,null,"Author","Steffi Cavell-Clarke",null,null,null,null,"P","940L","Grade 3 - 4","Grade 3 - 5","Readers travel to the depths of the ocean as they learn fascinating facts about what makes fish different from other animals. As readers develop their ability to classify animals based on shared characteristics, they also learn about fish life cycles, habitats, and other common science curriculum topics. Fact boxes filled with exciting information and detailed diagrams and other graphic organizers present readers with additional information about these cool creatures. Vivid photographs give readers an up-close view of some of the world’s most interesting fish species, creating a reading experience they won’t soon forget!","English",27.25,21.8,"597","32 pp.","https://greenhavenpublishing.com/978-1-5345-2012-7",{"$f":"Table1[[#This Row],['# of Books]]*Table1[[#This Row],[QTY]]","v":0},{"$f":"Table1[[#This Row],[QTY]]*Table1[[#This Row],[School & Library Price]]","v":0}]
[null,null,null,11,7,"Animals","Animal Classification","Insects","978-1-5345-2015-8",{"$f":"HYPERLINK(Table1[[#This Row],[Hyperlink]],\"Weblink\")","v":"Weblink"},"KidHaven Publishing","Library Bound Book",1,"2017","January 2017","Library","8.500 X 11.00","Author","Charlie Ogden",null,null,null,null,"P","1050L","Grade 3 - 4","Grade 3 - 5","Insects can be very different, but they all have some important characteristics in common. Readers discover that these shared characteristics are what help scientists classify certain creatures as insects. As readers explore the basics of animal classification, they also discover freaky and fun facts about a variety of insects. These facts are presented alongside colorful photographs showing insects in amazing detail. Readers obtain additional insect information from helpful fact boxes, as well as clear diagrams and other graphic organizers. Focusing on these creepy and cool creatures makes learning basic science curriculum topics fun!","English",27.25,21.8,"595.4’4","32 pp.","https://greenhavenpublishing.com/978-1-5345-2015-8",{"$f":"Table1[[#This Row],['# of Books]]*Table1[[#This Row],[QTY]]","v":0},{"$f":"Table1[[#This Row],[QTY]]*Table1[[#This Row],[School & Library Price]]","v":0}]
[null,null,null,11,7,"Animals","Animal Classification","Insects","978-1-5345-2016-5",{"$f":"HYPERLINK(Table1[[#This Row],[Hyperlink]],\"Weblink\")","v":"Weblink"},"KidHaven Publishing","eBook",1,"2017","January 2017",null,null,"Author","Charlie Ogden",null,null,null,null,"P","1050L","Grade 3 - 4","Grade 3 - 5","Insects can be very different, but they all have some important characteristics in common. Readers discover that these shared characteristics are what help scientists classify certain creatures as insects. As readers explore the basics of animal classification, they also discover freaky and fun facts about a variety of insects. These facts are presented alongside colorful photographs showing insects in amazing detail. Readers obtain additional insect information from helpful fact boxes, as well as clear diagrams and other graphic organizers. Focusing on these creepy and cool creatures makes learning basic science curriculum topics fun!","English",27.25,21.8,"595.4’4","32 pp.","https://greenhavenpublishing.com/978-1-5345-2016-5",{"$f":"Table1[[#This Row],['# of Books]]*Table1[[#This Row],[QTY]]","v":0},{"$f":"Table1[[#This Row],[QTY]]*Table1[[#This Row],[School & Library Price]]","v":0}]
[null,null,null,11,7,"Animals","Animal Classification","Mammals","978-1-5345-2019-6",{"$f":"HYPERLINK(Table1[[#This Row],[Hyperlink]],\"Weblink\")","v":"Weblink"},"KidHaven Publishing","Library Bound Book",1,"2017","January 2017","Library","8.500 X 11.00","Author","Charlie Ogden",null,null,null,null,"P","1030L","Grade 3 - 4","Grade 3 - 5","Lions, elephants, and people may seem very different, and they are in many ways. However, they are also similar in enough ways to classify them all as mammals. Readers learn what common characteristics these and other mammals share as they develop their animal classification skills. Through accessible text, fact boxes, and detailed graphic organizers, readers discover amazing things about some of the world’s most impressive and unusual mammals. Vibrant, full-color photographs of these amazing animals add to the engaging reading experience, making common science curriculum topics feel fresh and fun for readers.","English",27.25,21.8,"599","32 pp.","https://greenhavenpublishing.com/978-1-5345-2019-6",{"$f":"Table1[[#This Row],['# of Books]]*Table1[[#This Row],[QTY]]","v":0},{"$f":"Table1[[#This Row],[QTY]]*Table1[[#This Row],[School & Library Price]]","v":0}]
[null,null,null,11,7,"Animals","Animal Classification","Mammals","978-1-5345-2020-2",{"$f":"HYPERLINK(Table1[[#This Row],[Hyperlink]],\"Weblink\")","v":"Weblink"},"KidHaven Publishing","eBook",1,"2017","January 2017",null,null,"Author","Charlie Ogden",null,null,null,null,"P","1030L","Grade 3 - 4","Grade 3 - 5","Lions, elephants, and people may seem very different, and they are in many ways. However, they are also similar in enough ways to classify them all as mammals. Readers learn what common characteristics these and other mammals share as they develop their animal classification skills. Through accessible text, fact boxes, and detailed graphic organizers, readers discover amazing things about some of the world’s most impressive and unusual mammals. Vibrant, full-color photographs of these amazing animals add to the engaging reading experience, making common science curriculum topics feel fresh and fun for readers.","English",27.25,21.8,"599","32 pp.","https://greenhavenpublishing.com/978-1-5345-2020-2",{"$f":"Table1[[#This Row],['# of Books]]*Table1[[#This Row],[QTY]]","v":0},{"$f":"Table1[[#This Row],[QTY]]*Table1[[#This Row],[School & Library Price]]","v":0}]
[null,null,null,11,6,"Animals","Animal Classification","Marsupials","978-1-5345-3026-3",{"$f":"HYPERLINK(Table1[[#This Row],[Hyperlink]],\"Weblink\")","v":"Weblink"},"KidHaven Publishing","Library Bound Book",1,"2020","August 2019","Library","8.500 X 11.00","Author","Madeline Tyler",null,null,null,null,"P",null,"Grade 3 - 4","Grade 3 - 5","Do kangaroos really carry their babies in pouches? Do koalas really sleep in trees? The answers to these questions are included in this interesting narrative introducing readers to various kinds of marsupials, such as kangaroos, koalas, and possums. They will learn about the types of habitats these mammals live in, their life cycles, and eating habits. Stimulating fact boxes, informational diagrams, useful graphic organizers, a helpful glossary, and eye-catching, full-color photographs enhance this essential science curriculum topic. Animal lovers will thoroughly enjoy this book while also being able to use it as a valuable learning resource.","English",27.25,21.8,"599.2--dc23","32 pp.","https://greenhavenpublishing.com/978-1-5345-3026-3",{"$f":"Table1[[#This Row],['# of Books]]*Table1[[#This Row],[QTY]]","v":0},{"$f":"Table1[[#This Row],[QTY]]*Table1[[#This Row],[School & Library Price]]","v":0}]
[null,null,null,11,6,"Animals","Animal Classification","Marsupials","978-1-5345-3048-5",{"$f":"HYPERLINK(Table1[[#This Row],[Hyperlink]],\"Weblink\")","v":"Weblink"},"KidHaven Publishing","eBook",1,"2020","August 2019",null,null,"Author","Madeline Tyler",null,null,null,null,"P",null,"Grade 3 - 4","Grade 3 - 5","Do kangaroos really carry their babies in pouches? Do koalas really sleep in trees? The answers to these questions are included in this interesting narrative introducing readers to various kinds of marsupials, such as kangaroos, koalas, and possums. They will learn about the types of habitats these mammals live in, their life cycles, and eating habits. Stimulating fact boxes, informational diagrams, useful graphic organizers, a helpful glossary, and eye-catching, full-color photographs enhance this essential science curriculum topic. Animal lovers will thoroughly enjoy this book while also being able to use it as a valuable learning resource.","English",27.25,21.8,"599.2--dc23","32 pp.","https://greenhavenpublishing.com/978-1-5345-3048-5",{"$f":"Table1[[#This Row],['# of Books]]*Table1[[#This Row],[QTY]]","v":0},{"$f":"Table1[[#This Row],[QTY]]*Table1[[#This Row],[School & Library Price]]","v":0}]
[null,null,null,11,6,"Animals","Animal Classification","Mollusks","978-1-5345-3027-0",{"$f":"HYPERLINK(Table1[[#This Row],[Hyperlink]],\"Weblink\")","v":"Weblink"},"KidHaven Publishing","Library Bound Book",1,"2020","August 2019","Library","8.500 X 11.00","Author","Madeline Tyler",null,null,null,null,"P",null,"Grade 3 - 4","Grade 3 - 5","Readers interested in expanding their knowledge of the animal world are introduced to the different types of mollusks in this accessible and engaging text that complements science curriculum topics. Basic facts about these fascinating sea creatures, which include snails, clams, mussels, squid, and octopi, are explored as readers learn about their nutrition needs, reproductive stages, and their life cycles. Creative design elements give readers a better idea of exactly what each kind of mollusk looks like. Helpful graphic organizers and fun fact boxes also add extra insight into this subject.","English",27.25,21.8,"594.147'7--dc23","32 pp.","https://greenhavenpublishing.com/978-1-5345-3027-0",{"$f":"Table1[[#This Row],['# of Books]]*Table1[[#This Row],[QTY]]","v":0},{"$f":"Table1[[#This Row],[QTY]]*Table1[[#This Row],[School & Library Price]]","v":0}]
[null,null,null,11,6,"Animals","Animal Classification","Mollusks","978-1-5345-3050-8",{"$f":"HYPERLINK(Table1[[#This Row],[Hyperlink]],\"Weblink\")","v":"Weblink"},"KidHaven Publishing","eBook",1,"2020","August 2019",null,null,"Author","Madeline Tyler",null,null,null,null,"P",null,"Grade 3 - 4","Grade 3 - 5","Readers interested in expanding their knowledge of the animal world are introduced to the different types of mollusks in this accessible and engaging text that complements science curriculum topics. Basic facts about these fascinating sea creatures, which include snails, clams, mussels, squid, and octopi, are explored as readers learn about their nutrition needs, reproductive stages, and their life cycles. Creative design elements give readers a better idea of exactly what each kind of mollusk looks like. Helpful graphic organizers and fun fact boxes also add extra insight into this subject.","English",27.25,21.8,"594.147'7--dc23","32 pp.","https://greenhavenpublishing.com/978-1-5345-3050-8",{"$f":"Table1[[#This Row],['# of Books]]*Table1[[#This Row],[QTY]]","v":0},{"$f":"Table1[[#This Row],[QTY]]*Table1[[#This Row],[School & Library Price]]","v":0}]
[null,null,null,11,6,"Animals","Animal Classification","Protozoa","978-1-5345-3031-7",{"$f":"HYPERLINK(Table1[[#This Row],[Hyperlink]],\"Weblink\")","v":"Weblink"},"KidHaven Publishing","Library Bound Book",1,"2020","August 2019","Library","8.500 X 11.00","Author","Joanna Brundle",null,null,null,null,"P",null,"Grade 3 - 4","Grade 3 - 5","Many mammals, insects, and other animals are easily recognizable. However, there are other creatures that are less well known, such as protozoa, which are single-celled living things that are neither plants nor animals. These tiny organisms can only be seen by looking through a microscope. They live in various habitats and even inside animals. This age-appropriate and well-researched text simplifies this complex biology topic to make it more easily understandable for young readers. Detailed graphic organizers, informational diagrams, engaging fact boxes, and vibrant, full-color photographs enhance this essential science curriculum topic.","English",27.25,21.8,"579--dc23","32 pp.","https://greenhavenpublishing.com/978-1-5345-3031-7",{"$f":"Table1[[#This Row],['# of Books]]*Table1[[#This Row],[QTY]]","v":0},{"$f":"Table1[[#This Row],[QTY]]*Table1[[#This Row],[School & Library Price]]","v":0}]
[null,null,null,11,6,"Animals","Animal Classification","Protozoa","978-1-5345-3047-8",{"$f":"HYPERLINK(Table1[[#This Row],[Hyperlink]],\"Weblink\")","v":"Weblink"},"KidHaven Publishing","eBook",1,"2020","August 2019",null,null,"Author","Joanna Brundle",null,null,null,null,"P",null,"Grade 3 - 4","Grade 3 - 5","Many mammals, insects, and other animals are easily recognizable. However, there are other creatures that are less well known, such as protozoa, which are single-celled living things that are neither plants nor animals. These tiny organisms can only be seen by looking through a microscope. They live in various habitats and even inside animals. This age-appropriate and well-researched text simplifies this complex biology topic to make it more easily understandable for young readers. Detailed graphic organizers, informational diagrams, engaging fact boxes, and vibrant, full-color photographs enhance this essential science curriculum topic.","English",27.25,21.8,"579--dc23","32 pp.","https://greenhavenpublishing.com/978-1-5345-3047-8",{"$f":"Table1[[#This Row],['# of Books]]*Table1[[#This Row],[QTY]]","v":0},{"$f":"Table1[[#This Row],[QTY]]*Table1[[#This Row],[School & Library Price]]","v":0}]
[null,null,null,11,7,"Animals","Animal Classification","Reptiles","978-1-5345-2023-3",{"$f":"HYPERLINK(Table1[[#This Row],[Hyperlink]],\"Weblink\")","v":"Weblink"},"KidHaven Publishing","Library Bound Book",1,"2017","January 2017","Library","8.500 X 11.00","Author","Steffi Cavell-Clarke",null,null,null,null,"P","1000L","Grade 3 - 4","Grade 3 - 5","Alligators, crocodiles, and lizards are all amazing animals, and they are also all reptiles. Why are these cool creatures classified as reptiles and not amphibians, fish, or birds? Readers find the answer as they learn fascinating facts about what makes reptiles unique. The engaging main text is enhanced by eye-catching fact boxes and vibrant, full-color photographs of reptiles in their natural habitats. Readers also obtain information from helpful graphic organizers, including accessible diagrams. As readers explore a variety of valuable science curriculum topics and scientific skills, they are introduced to some of the most exotic reptiles on Earth.","English",27.25,21.8,"597.9--dc23","32 pp.","https://greenhavenpublishing.com/978-1-5345-2023-3",{"$f":"Table1[[#This Row],['# of Books]]*Table1[[#This Row],[QTY]]","v":0},{"$f":"Table1[[#This Row],[QTY]]*Table1[[#This Row],[School & Library Price]]","v":0}]
[null,null,null,11,7,"Animals","Animal Classification","Reptiles","978-1-5345-2024-0",{"$f":"HYPERLINK(Table1[[#This Row],[Hyperlink]],\"Weblink\")","v":"Weblink"},"KidHaven Publishing","eBook",1,"2017","January 2017",null,null,"Author","Steffi Cavell-Clarke",null,null,null,null,"P","1000L","Grade 3 - 4","Grade 3 - 5","Alligators, crocodiles, and lizards are all amazing animals, and they are also all reptiles. Why are these cool creatures classified as reptiles and not amphibians, fish, or birds? Readers find the answer as they learn fascinating facts about what makes reptiles unique. The engaging main text is enhanced by eye-catching fact boxes and vibrant, full-color photographs of reptiles in their natural habitats. Readers also obtain information from helpful graphic organizers, including accessible diagrams. As readers explore a variety of valuable science curriculum topics and scientific skills, they are introduced to some of the most exotic reptiles on Earth.","English",27.25,21.8,"597.9--dc23","32 pp.","https://greenhavenpublishing.com/978-1-5345-2024-0",{"$f":"Table1[[#This Row],['# of Books]]*Table1[[#This Row],[QTY]]","v":0},{"$f":"Table1[[#This Row],[QTY]]*Table1[[#This Row],[School & Library Price]]","v":0}]
[null,null,null,12,null,"Current Issues","Points of View","Points of View: Sets 1 – 7","978-1-5345-3489-6",{"$f":"HYPERLINK(Table1[[#This Row],[Hyperlink]],\"Weblink\")","v":"Weblink"},"KidHaven Publishing","Library Set",42,"2021","August 2020","Library","8.500 X 8.500",null,null,null,null,null,null,null,null,"Grade 3","Grade 3 - 5","In a culture that is growing increasingly polarized, respectful debate often falls by the wayside. Through an alternating format of arguments and counterarguments, readers learn this skill as they are exposed to all sides of today's most hotly contested issues, including vaccines, gun control, and vegetarianism. Fact boxes highlight important statistics, while graphic organizers arrange information in a way that is easy for young readers to absorb. These elements augment the objective main narratives to create a foundation for children to form their own opinions while still understanding and respecting the opposite point of view. Features include: Background information that provides context for each issue, enhancing critical thinking skills. Balanced narratives encourage objectivity and respect. Colorful design and bright, full-color photographs appeal to visual learners.","English",1033.2,826.56,null,"24 pp.","https://greenhavenpublishing.com/978-1-5345-3489-6",{"$f":"Table1[[#This Row],['# of Books]]*Table1[[#This Row],[QTY]]","v":0},{"$f":"Table1[[#This Row],[QTY]]*Table1[[#This Row],[School & Library Price]]","v":0}]
[null,null,null,12,null,"Current Issues","Points of View","Points of View: Set 7","978-1-5345-3488-9",{"$f":"HYPERLINK(Table1[[#This Row],[Hyperlink]],\"Weblink\")","v":"Weblink"},"KidHaven Publishing","Library Set",6,"2021","August 2020","Library","8.500 X 8.500",null,null,null,null,null,null,null,null,"Grade 3","Grade 3 - 5","From a very young age, children hear the opinions of the adults around them, but they need the proper tools to develop their own points of view about important issues. As readers discover the facts surrounding important debates, they learn to think critically about current events and other important topics. Through objective text and graphic organizers, debates such as whether the Electoral College is necessary and what to do regarding gun control are explained in a way children can grasp. Full-color photographs provide visual context to help children better understand how these issues affect their own lives. Features include: Neutral language that presents both sides of debates without judgment. Covers a wide range of crucial topics, including social media and immigration policy, to help young readers think critically about important issues. Up-to-date statistics presented in eye-catching fact boxes teach readers to back up their points of view with relevant data.","English",147.6,118.08,null,"24 pp.","https://greenhavenpublishing.com/978-1-5345-3488-9",{"$f":"Table1[[#This Row],['# of Books]]*Table1[[#This Row],[QTY]]","v":0},{"$f":"Table1[[#This Row],[QTY]]*Table1[[#This Row],[School & Library Price]]","v":0}]
[null,null,null,12,null,"Current Issues","Points of View","Is It Important to Buy American Goods?","978-1-5345-3434-6",{"$f":"HYPERLINK(Table1[[#This Row],[Hyperlink]],\"Weblink\")","v":"Weblink"},"KidHaven Publishing","Library Bound Book",1,"2021","August 2020","Library","8.500 X 8.500","Author","Donna Reynolds",null,null,null,null,"N",null,"Grade 3","Grade 3 - 5","Some people believe Americans should make an effort to buy goods made in the United States. Others think that it doesn't matter where something is made. Thanks to allowances, many children are consumers in their own right. They should strive to make ethical decisions about where their money is spent. Through alternating viewpoints, complemented by fact boxes and a graphic organizer, this objective narrative explores both sides of the argument so readers can develop their own intelligent opinions and make informed choices about how they spend their money.","English",24.6,19.68,"339.4/70973--dc23","24 pp.","https://greenhavenpublishing.com/978-1-5345-3434-6",{"$f":"Table1[[#This Row],['# of Books]]*Table1[[#This Row],[QTY]]","v":0},{"$f":"Table1[[#This Row],[QTY]]*Table1[[#This Row],[School & Library Price]]","v":0}]
[null,null,null,12,null,"Current Issues","Points of View","Is It Important to Buy American Goods?","978-1-5345-3435-3",{"$f":"HYPERLINK(Table1[[#This Row],[Hyperlink]],\"Weblink\")","v":"Weblink"},"KidHaven Publishing","eBook",1,"2021","August 2020",null,null,"Author","Donna Reynolds",null,null,null,null,"N",null,"Grade 3","Grade 3 - 5","Some people believe Americans should make an effort to buy goods made in the United States. Others think that it doesn't matter where something is made. Thanks to allowances, many children are consumers in their own right. They should strive to make ethical decisions about where their money is spent. Through alternating viewpoints, complemented by fact boxes and a graphic organizer, this objective narrative explores both sides of the argument so readers can develop their own intelligent opinions and make informed choices about how they spend their money.","English",24.6,19.68,"339.4/70973--dc23","24 pp.","https://greenhavenpublishing.com/978-1-5345-3435-3",{"$f":"Table1[[#This Row],['# of Books]]*Table1[[#This Row],[QTY]]","v":0},{"$f":"Table1[[#This Row],[QTY]]*Table1[[#This Row],[School & Library Price]]","v":0}]
[null,null,null,12,null,"Current Issues","Points of View","Is Social Media Helpful or Harmful?","978-1-5345-3418-6",{"$f":"HYPERLINK(Table1[[#This Row],[Hyperlink]],\"Weblink\")","v":"Weblink"},"KidHaven Publishing","Library Bound Book",1,"2021","August 2020","Library","8.500 X 8.500","Author","Jennifer Lombardo",null,null,null,null,"N",null,"Grade 3","Grade 3 - 5","Social media is pervasive in today's culture. It is nearly impossible to avoid it completely. Opinions are divided on whether this has made life better or worse. Young people today are the first generations to grow up with this new form of communication and entertainment. Will it be helpful or harmful to them? Augmented by full-color photographs and informative fact boxes, this engaging narrative explores this question so readers understand both sides of the issue. This is a key element of being able to form intelligent opinions, helping your readers make informed decisions about their social media use.","English",24.6,19.68,"302.23'1--dc23","24 pp.","https://greenhavenpublishing.com/978-1-5345-3418-6",{"$f":"Table1[[#This Row],['# of Books]]*Table1[[#This Row],[QTY]]","v":0},{"$f":"Table1[[#This Row],[QTY]]*Table1[[#This Row],[School & Library Price]]","v":0}]
[null,null,null,12,null,"Current Issues","Points of View","Is Social Media Helpful or Harmful?","978-1-5345-3419-3",{"$f":"HYPERLINK(Table1[[#This Row],[Hyperlink]],\"Weblink\")","v":"Weblink"},"KidHaven Publishing","eBook",1,"2021","August 2020",null,null,"Author","Jennifer Lombardo",null,null,null,null,"N",null,"Grade 3","Grade 3 - 5","Social media is pervasive in today's culture. It is nearly impossible to avoid it completely. Opinions are divided on whether this has made life better or worse. Young people today are the first generations to grow up with this new form of communication and entertainment. Will it be helpful or harmful to them? Augmented by full-color photographs and informative fact boxes, this engaging narrative explores this question so readers understand both sides of the issue. This is a key element of being able to form intelligent opinions, helping your readers make informed decisions about their social media use.","English",24.6,19.68,"302.23'1--dc23","24 pp.","https://greenhavenpublishing.com/978-1-5345-3419-3",{"$f":"Table1[[#This Row],['# of Books]]*Table1[[#This Row],[QTY]]","v":0},{"$f":"Table1[[#This Row],[QTY]]*Table1[[#This Row],[School & Library Price]]","v":0}]
[null,null,null,12,null,"Current Issues","Points of View","Is the Electoral College Necessary?","978-1-5345-3426-1",{"$f":"HYPERLINK(Table1[[#This Row],[Hyperlink]],\"Weblink\")","v":"Weblink"},"KidHaven Publishing","Library Bound Book",1,"2021","August 2020","Library","8.500 X 8.500","Author","Meghan Green",null,null,null,null,"N",null,"Grade 3","Grade 3 - 5","Every four years, presidential elections renew the longstanding debate about whether the Electoral College is a beneficial or detrimental part of the voting process. Some people believe the popular vote should be sufficient. Others fear this would result in a president being elected without a clear majority. Understanding how the Electoral College works and formulating an opinion about it is a key part of becoming an informed voter. With the help of full-color photographs and informative fact boxes, this volume allows the next generation of voters to form and support their own opinions about this prominent system.","English",24.6,19.68,"324.6/3--dc23","24 pp.","https://greenhavenpublishing.com/978-1-5345-3426-1",{"$f":"Table1[[#This Row],['# of Books]]*Table1[[#This Row],[QTY]]","v":0},{"$f":"Table1[[#This Row],[QTY]]*Table1[[#This Row],[School & Library Price]]","v":0}]
[null,null,null,12,null,"Current Issues","Points of View","Is the Electoral College Necessary?","978-1-5345-3427-8",{"$f":"HYPERLINK(Table1[[#This Row],[Hyperlink]],\"Weblink\")","v":"Weblink"},"KidHaven Publishing","eBook",1,"2021","August 2020",null,null,"Author","Meghan Green",null,null,null,null,"N",null,"Grade 3","Grade 3 - 5","Every four years, presidential elections renew the longstanding debate about whether the Electoral College is a beneficial or detrimental part of the voting process. Some people believe the popular vote should be sufficient. Others fear this would result in a president being elected without a clear majority. Understanding how the Electoral College works and formulating an opinion about it is a key part of becoming an informed voter. With the help of full-color photographs and informative fact boxes, this volume allows the next generation of voters to form and support their own opinions about this prominent system.","English",24.6,19.68,"324.6/3--dc23","24 pp.","https://greenhavenpublishing.com/978-1-5345-3427-8",{"$f":"Table1[[#This Row],['# of Books]]*Table1[[#This Row],[QTY]]","v":0},{"$f":"Table1[[#This Row],[QTY]]*Table1[[#This Row],[School & Library Price]]","v":0}]
[null,null,null,12,null,"Current Issues","Points of View","Should Gun Control Laws Be Stronger?","978-1-5345-3438-4",{"$f":"HYPERLINK(Table1[[#This Row],[Hyperlink]],\"Weblink\")","v":"Weblink"},"KidHaven Publishing","Library Bound Book",1,"2021","August 2020","Library","8.500 X 8.500","Author","Judy Thorpe",null,null,null,null,"N",null,"Grade 3","Grade 3 - 5","With the tragic rise in school shootings in recent decades, gun control is increasingly becoming a matter on which children are qualified to weigh in. However, without an understanding of what gun control measures are being proposed and debated, it is impossible to formulate an informed opinion. Full-color photographs and engaging fact boxes augment this informative narrative, which provides readers with a deeper understanding of why the gun control debate is so divisive. A list of resources provides a starting point for readers to gain additional insight as they form their own intelligent opinions on gun control laws.","English",24.6,19.68,"363.330973--dc23","24 pp.","https://greenhavenpublishing.com/978-1-5345-3438-4",{"$f":"Table1[[#This Row],['# of Books]]*Table1[[#This Row],[QTY]]","v":0},{"$f":"Table1[[#This Row],[QTY]]*Table1[[#This Row],[School & Library Price]]","v":0}]
[null,null,null,12,null,"Current Issues","Points of View","Should Gun Control Laws Be Stronger?","978-1-5345-3439-1",{"$f":"HYPERLINK(Table1[[#This Row],[Hyperlink]],\"Weblink\")","v":"Weblink"},"KidHaven Publishing","eBook",1,"2021","August 2020",null,null,"Author","Judy Thorpe",null,null,null,null,"N",null,"Grade 3","Grade 3 - 5","With the tragic rise in school shootings in recent decades, gun control is increasingly becoming a matter on which children are qualified to weigh in. However, without an understanding of what gun control measures are being proposed and debated, it is impossible to formulate an informed opinion. Full-color photographs and engaging fact boxes augment this informative narrative, which provides readers with a deeper understanding of why the gun control debate is so divisive. A list of resources provides a starting point for readers to gain additional insight as they form their own intelligent opinions on gun control laws.","English",24.6,19.68,"363.330973--dc23","24 pp.","https://greenhavenpublishing.com/978-1-5345-3439-1",{"$f":"Table1[[#This Row],['# of Books]]*Table1[[#This Row],[QTY]]","v":0},{"$f":"Table1[[#This Row],[QTY]]*Table1[[#This Row],[School & Library Price]]","v":0}]
[null,null,null,12,null,"Current Issues","Points of View","Should Student-Athletes Be Paid?","978-1-5345-3422-3",{"$f":"HYPERLINK(Table1[[#This Row],[Hyperlink]],\"Weblink\")","v":"Weblink"},"KidHaven Publishing","Library Bound Book",1,"2021","August 2020","Library","8.500 X 8.500","Author","Anna Collins",null,null,null,null,"N",null,"Grade 3","Grade 3 - 5","Most people agree that student-athletes work hard at their sports and their studies, but opinions differ about whether they should be paid. Is playing a sport just like any other job, or is it an extracurricular activity? Do athletes deserve monetary compensation for putting their bodies on the line, or is a scholarship reward enough? These and other issues are explored through alternating viewpoints and fact boxes. A list of resources gives readers a starting point for further research. By gaining a deeper understanding of both sides, young student-athletes can decide for themselves whether they should be paid.","English",24.6,19.68,"796.04/3--dc23","24 pp.","https://greenhavenpublishing.com/978-1-5345-3422-3",{"$f":"Table1[[#This Row],['# of Books]]*Table1[[#This Row],[QTY]]","v":0},{"$f":"Table1[[#This Row],[QTY]]*Table1[[#This Row],[School & Library Price]]","v":0}]
[null,null,null,12,null,"Current Issues","Points of View","Should Student-Athletes Be Paid?","978-1-5345-3423-0",{"$f":"HYPERLINK(Table1[[#This Row],[Hyperlink]],\"Weblink\")","v":"Weblink"},"KidHaven Publishing","eBook",1,"2021","August 2020",null,null,"Author","Anna Collins",null,null,null,null,"N",null,"Grade 3","Grade 3 - 5","Most people agree that student-athletes work hard at their sports and their studies, but opinions differ about whether they should be paid. Is playing a sport just like any other job, or is it an extracurricular activity? Do athletes deserve monetary compensation for putting their bodies on the line, or is a scholarship reward enough? These and other issues are explored through alternating viewpoints and fact boxes. A list of resources gives readers a starting point for further research. By gaining a deeper understanding of both sides, young student-athletes can decide for themselves whether they should be paid.","English",24.6,19.68,"796.04/3--dc23","24 pp.","https://greenhavenpublishing.com/978-1-5345-3423-0",{"$f":"Table1[[#This Row],['# of Books]]*Table1[[#This Row],[QTY]]","v":0},{"$f":"Table1[[#This Row],[QTY]]*Table1[[#This Row],[School & Library Price]]","v":0}]
[null,null,null,12,null,"Current Issues","Points of View","Should the United States Have Open Borders?","978-1-5345-3430-8",{"$f":"HYPERLINK(Table1[[#This Row],[Hyperlink]],\"Weblink\")","v":"Weblink"},"KidHaven Publishing","Library Bound Book",1,"2021","August 2020","Library","8.500 X 8.500","Author","Amy Holt",null,null,null,null,"N",null,"Grade 3","Grade 3 - 5","As immigration becomes an increasingly important and controversial issue, it is important for everyone living in the United States to understand the opinions surrounding it. What does it mean for a country to have open borders? Should the United States adopt this policy or a different one? Readers learn the basics of immigration with this engaging volume that presents both sides of the debate surrounding border security and open borders. Intriguing fact boxes and striking photographs enhance the informative text, giving readers a foundation upon which to build their own intelligent views on this crucial topic.","English",24.6,19.68,"325.73--dc23","24 pp.","https://greenhavenpublishing.com/978-1-5345-3430-8",{"$f":"Table1[[#This Row],['# of Books]]*Table1[[#This Row],[QTY]]","v":0},{"$f":"Table1[[#This Row],[QTY]]*Table1[[#This Row],[School & Library Price]]","v":0}]
[null,null,null,12,null,"Current Issues","Points of View","Should the United States Have Open Borders?","978-1-5345-3431-5",{"$f":"HYPERLINK(Table1[[#This Row],[Hyperlink]],\"Weblink\")","v":"Weblink"},"KidHaven Publishing","eBook",1,"2021","August 2020",null,null,"Author","Amy Holt",null,null,null,null,"N",null,"Grade 3","Grade 3 - 5","As immigration becomes an increasingly important and controversial issue, it is important for everyone living in the United States to understand the opinions surrounding it. What does it mean for a country to have open borders? Should the United States adopt this policy or a different one? Readers learn the basics of immigration with this engaging volume that presents both sides of the debate surrounding border security and open borders. Intriguing fact boxes and striking photographs enhance the informative text, giving readers a foundation upon which to build their own intelligent views on this crucial topic.","English",24.6,19.68,"325.73--dc23","24 pp.","https://greenhavenpublishing.com/978-1-5345-3431-5",{"$f":"Table1[[#This Row],['# of Books]]*Table1[[#This Row],[QTY]]","v":0},{"$f":"Table1[[#This Row],[QTY]]*Table1[[#This Row],[School & Library Price]]","v":0}]
[null,null,null,null,9,"Current Issues","Points of View","Points of View: Sets 1 – 6","978-1-5345-3216-8",{"$f":"HYPERLINK(Table1[[#This Row],[Hyperlink]],\"Weblink\")","v":"Weblink"},"KidHaven Publishing","Library Set",36,"2020","January 2020","Library","8.500 X 8.500",null,null,null,null,null,null,null,null,"Grade 3","Grade 3 - 5","Learning to understand and respect people with different points of view is an important part of growing up. Readers are introduced to this essential life skill as they explore the different opinions people have on issues such as the voting age, health care, climate change, and school lunches. As readers explore the objective main text and fact boxes, they are challenged to form their own educated opinions and to explore why others might think differently. Full-color photographs and graphic organizers add eye-catching visual elements to this crucial critical thinking exercise. Features include: Balanced text alternates between opposing points of view to immerse readers in respectful debates before encouraging them to discuss their own points of view. Relevant background information and statistics are presented to help readers support their opinions with facts. Age-appropriate tone reinforces values such as respect and independent thinking.","English",885.6,708.48,null,"24 pp.","https://greenhavenpublishing.com/978-1-5345-3216-8",{"$f":"Table1[[#This Row],['# of Books]]*Table1[[#This Row],[QTY]]","v":0},{"$f":"Table1[[#This Row],[QTY]]*Table1[[#This Row],[School & Library Price]]","v":0}]
[null,null,null,12,9,"Current Issues","Points of View","Points of View: Set 6","978-1-5345-3215-1",{"$f":"HYPERLINK(Table1[[#This Row],[Hyperlink]],\"Weblink\")","v":"Weblink"},"KidHaven Publishing","Library Set",6,"2020","January 2020","Library","8.500 X 8.500",null,null,null,null,null,null,null,null,"Grade 3","Grade 3 - 5","Is television bad for kids? Should plastic bags be banned? These and other challenging questions are presented to readers in an accessible way to help them understand the debates that often affect their lives. The objective text devotes equal time to arguments on different sides of important debates, and full-color photographs and graphic organizers enhance this essential critical thinking exercise. Fact boxes are also included to provide readers with statistics and other data that can be used to support their opinions. These tools help readers develop their own informed point of view and inspire age-appropriate debates and discussions. Features include: Balanced tone encourages readers to respect different viewpoints. Topics cover a wide range of issues, including vaccines, climate change, and bullying, to help young readers think critically about current events. Alternating format offers arguments and counterarguments with each turn of the page, allowing readers to learn the basics of respectful debating.","English",147.6,118.08,null,"24 pp.","https://greenhavenpublishing.com/978-1-5345-3215-1",{"$f":"Table1[[#This Row],['# of Books]]*Table1[[#This Row],[QTY]]","v":0},{"$f":"Table1[[#This Row],[QTY]]*Table1[[#This Row],[School & Library Price]]","v":0}]
[null,null,null,13,9,"Current Issues","Points of View","Are Humans Causing Climate Change?","978-1-5345-3196-3",{"$f":"HYPERLINK(Table1[[#This Row],[Hyperlink]],\"Weblink\")","v":"Weblink"},"KidHaven Publishing","Library Bound Book",1,"2020","January 2020","Library","8.500 X 8.500","Author","Naomi Osborne",null,null,null,null,"N",null,"Grade 3","Grade 3 - 5","The topic of climate change often inspires very strong feelings, and it can sometimes be difficult to sort through the feelings to find the facts. That's exactly what readers are able to do in this helpful guide to this important debate. Balanced, unbiased text and fact boxes filled with relevant data and statistics help readers develop an intelligent opinion about climate change, and they're also encouraged to examine why others might hold an opposing viewpoint. With the help of an engaging graphic organizer and full-color photographs, readers are able to sharpen their critical thinking skills and their science knowledge.","English",24.6,19.68,"363.738'74--dc23","24 pp.","https://greenhavenpublishing.com/978-1-5345-3196-3",{"$f":"Table1[[#This Row],['# of Books]]*Table1[[#This Row],[QTY]]","v":0},{"$f":"Table1[[#This Row],[QTY]]*Table1[[#This Row],[School & Library Price]]","v":0}]
[null,null,null,13,9,"Current Issues","Points of View","Are Humans Causing Climate Change?","978-1-5345-3202-1",{"$f":"HYPERLINK(Table1[[#This Row],[Hyperlink]],\"Weblink\")","v":"Weblink"},"KidHaven Publishing","eBook",1,"2020","January 2020",null,null,"Author","Naomi Osborne",null,null,null,null,"N",null,"Grade 3","Grade 3 - 5","The topic of climate change often inspires very strong feelings, and it can sometimes be difficult to sort through the feelings to find the facts. That's exactly what readers are able to do in this helpful guide to this important debate. Balanced, unbiased text and fact boxes filled with relevant data and statistics help readers develop an intelligent opinion about climate change, and they're also encouraged to examine why others might hold an opposing viewpoint. With the help of an engaging graphic organizer and full-color photographs, readers are able to sharpen their critical thinking skills and their science knowledge.","English",24.6,19.68,"363.738'74--dc23","24 pp.","https://greenhavenpublishing.com/978-1-5345-3202-1",{"$f":"Table1[[#This Row],['# of Books]]*Table1[[#This Row],[QTY]]","v":0},{"$f":"Table1[[#This Row],[QTY]]*Table1[[#This Row],[School & Library Price]]","v":0}]
[null,null,null,13,9,"Current Issues","Points of View","Is Television Bad for Kids?","978-1-5345-3192-5",{"$f":"HYPERLINK(Table1[[#This Row],[Hyperlink]],\"Weblink\")","v":"Weblink"},"KidHaven Publishing","Library Bound Book",1,"2020","January 2020","Library","8.500 X 8.500","Author","Katie Kawa",null,null,null,null,"N",null,"Grade 3","Grade 3 - 5","Is television bad for kids? This question has been asked by parents, scientists, and more ever since television sets first entered people's homes, and different people have come up with different answers. As readers are challenged to form their own opinions about the effects of television on young people like them, they strengthen their critical thinking skills and learn to respect a variety of viewpoints. The unbiased main narrative is presented alongside fact boxes that help readers find relevant data to back up their opinions. In addition, a comprehensive graphic organizer and full-color photographs enhance the reading experience.","English",24.6,19.68,"302.23/45083--dc23","24 pp.","https://greenhavenpublishing.com/978-1-5345-3192-5",{"$f":"Table1[[#This Row],['# of Books]]*Table1[[#This Row],[QTY]]","v":0},{"$f":"Table1[[#This Row],[QTY]]*Table1[[#This Row],[School & Library Price]]","v":0}]
[null,null,null,13,9,"Current Issues","Points of View","Is Television Bad for Kids?","978-1-5345-3198-7",{"$f":"HYPERLINK(Table1[[#This Row],[Hyperlink]],\"Weblink\")","v":"Weblink"},"KidHaven Publishing","eBook",1,"2020","January 2020",null,null,"Author","Katie Kawa",null,null,null,null,"N",null,"Grade 3","Grade 3 - 5","Is television bad for kids? This question has been asked by parents, scientists, and more ever since television sets first entered people's homes, and different people have come up with different answers. As readers are challenged to form their own opinions about the effects of television on young people like them, they strengthen their critical thinking skills and learn to respect a variety of viewpoints. The unbiased main narrative is presented alongside fact boxes that help readers find relevant data to back up their opinions. In addition, a comprehensive graphic organizer and full-color photographs enhance the reading experience.","English",24.6,19.68,"302.23/45083--dc23","24 pp.","https://greenhavenpublishing.com/978-1-5345-3198-7",{"$f":"Table1[[#This Row],['# of Books]]*Table1[[#This Row],[QTY]]","v":0},{"$f":"Table1[[#This Row],[QTY]]*Table1[[#This Row],[School & Library Price]]","v":0}]
[null,null,null,13,9,"Current Issues","Points of View","Should All Children Get Vaccines?","978-1-5345-3191-8",{"$f":"HYPERLINK(Table1[[#This Row],[Hyperlink]],\"Weblink\")","v":"Weblink"},"KidHaven Publishing","Library Bound Book",1,"2020","January 2020","Library","8.500 X 8.500","Author","Naomi Osborne",null,null,null,null,"N",null,"Grade 3","Grade 3 - 5","The vaccination debate has made headlines across the United States in recent years, but news outlets often sensationalize this important health topic, leaving people with more questions than answers. As readers explore the arguments used by people on both sides of this debate, they also learn essential information about health and science through age-appropriate explanations and helpful fact boxes. Eye-catching design elements including full-color photographs and a detailed graphic organizer keep readers engaged as they learn to think critically about issues that affect them and learn to support their opinions with facts.","English",24.6,19.68,"615.3'72--dc23","24 pp.","https://greenhavenpublishing.com/978-1-5345-3191-8",{"$f":"Table1[[#This Row],['# of Books]]*Table1[[#This Row],[QTY]]","v":0},{"$f":"Table1[[#This Row],[QTY]]*Table1[[#This Row],[School & Library Price]]","v":0}]
[null,null,null,13,9,"Current Issues","Points of View","Should All Children Get Vaccines?","978-1-5345-3197-0",{"$f":"HYPERLINK(Table1[[#This Row],[Hyperlink]],\"Weblink\")","v":"Weblink"},"KidHaven Publishing","eBook",1,"2020","January 2020",null,null,"Author","Naomi Osborne",null,null,null,null,"N",null,"Grade 3","Grade 3 - 5","The vaccination debate has made headlines across the United States in recent years, but news outlets often sensationalize this important health topic, leaving people with more questions than answers. As readers explore the arguments used by people on both sides of this debate, they also learn essential information about health and science through age-appropriate explanations and helpful fact boxes. Eye-catching design elements including full-color photographs and a detailed graphic organizer keep readers engaged as they learn to think critically about issues that affect them and learn to support their opinions with facts.","English",24.6,19.68,"615.3'72--dc23","24 pp.","https://greenhavenpublishing.com/978-1-5345-3197-0",{"$f":"Table1[[#This Row],['# of Books]]*Table1[[#This Row],[QTY]]","v":0},{"$f":"Table1[[#This Row],[QTY]]*Table1[[#This Row],[School & Library Price]]","v":0}]
[null,null,null,13,9,"Current Issues","Points of View","Should Bullying Be a Crime?","978-1-5345-3195-6",{"$f":"HYPERLINK(Table1[[#This Row],[Hyperlink]],\"Weblink\")","v":"Weblink"},"KidHaven Publishing","Library Bound Book",1,"2020","January 2020","Library","8.500 X 8.500","Author","Emma Jones",null,null,null,null,"N",null,"Grade 3","Grade 3 - 5","Bullying is a serious problem, and some people believe it should be considered a crime. However, others believe that takes things too far. These different viewpoints can affect antibullying policies, so it's important for readers to understand why people hold these opposing points of view. As readers explore this debate in depth, they're aided by accessible text, eye-catching fact boxes, and a detailed graphic organizer. Full-color photographs help readers register this important issue, which directly affects them. As readers sharpen their critical thinking skills by exploring a controversial issue, they're encouraged to develop their own informed opinions about bullying.","English",24.6,19.68,"302.34'3--dc23","24 pp.","https://greenhavenpublishing.com/978-1-5345-3195-6",{"$f":"Table1[[#This Row],['# of Books]]*Table1[[#This Row],[QTY]]","v":0},{"$f":"Table1[[#This Row],[QTY]]*Table1[[#This Row],[School & Library Price]]","v":0}]
[null,null,null,13,9,"Current Issues","Points of View","Should Bullying Be a Crime?","978-1-5345-3201-4",{"$f":"HYPERLINK(Table1[[#This Row],[Hyperlink]],\"Weblink\")","v":"Weblink"},"KidHaven Publishing","eBook",1,"2020","January 2020",null,null,"Author","Emma Jones",null,null,null,null,"N",null,"Grade 3","Grade 3 - 5","Bullying is a serious problem, and some people believe it should be considered a crime. However, others believe that takes things too far. These different viewpoints can affect antibullying policies, so it's important for readers to understand why people hold these opposing points of view. As readers explore this debate in depth, they're aided by accessible text, eye-catching fact boxes, and a detailed graphic organizer. Full-color photographs help readers register this important issue, which directly affects them. As readers sharpen their critical thinking skills by exploring a controversial issue, they're encouraged to develop their own informed opinions about bullying.","English",24.6,19.68,"302.34'3--dc23","24 pp.","https://greenhavenpublishing.com/978-1-5345-3201-4",{"$f":"Table1[[#This Row],['# of Books]]*Table1[[#This Row],[QTY]]","v":0},{"$f":"Table1[[#This Row],[QTY]]*Table1[[#This Row],[School & Library Price]]","v":0}]
[null,null,null,13,9,"Current Issues","Points of View","Should Kids Get an Allowance?","978-1-5345-3193-2",{"$f":"HYPERLINK(Table1[[#This Row],[Hyperlink]],\"Weblink\")","v":"Weblink"},"KidHaven Publishing","Library Bound Book",1,"2020","January 2020","Library","8.500 X 8.500","Author","Sophie Washburne",null,null,null,null,"N",null,"Grade 3","Grade 3 - 5","Both kids and adults often have strong feelings about children being given an allowance. Before young people take a side, it's important for them to learn the basic arguments and facts on both sides of this debate. They're able to do this with the help of balanced text that carefully presents opposing viewpoints and fact boxes that highlight information that can support an informed opinion. Featuring a detailed graphic organizer that summarizes this debate in an accessible way and vibrant, full-color photographs, this is an essential critical thinking exercise for young readers.","English",24.6,19.68,"332.0240083--dc23","24 pp.","https://greenhavenpublishing.com/978-1-5345-3193-2",{"$f":"Table1[[#This Row],['# of Books]]*Table1[[#This Row],[QTY]]","v":0},{"$f":"Table1[[#This Row],[QTY]]*Table1[[#This Row],[School & Library Price]]","v":0}]
[null,null,null,13,9,"Current Issues","Points of View","Should Kids Get an Allowance?","978-1-5345-3199-4",{"$f":"HYPERLINK(Table1[[#This Row],[Hyperlink]],\"Weblink\")","v":"Weblink"},"KidHaven Publishing","eBook",1,"2020","January 2020",null,null,"Author","Sophie Washburne",null,null,null,null,"N",null,"Grade 3","Grade 3 - 5","Both kids and adults often have strong feelings about children being given an allowance. Before young people take a side, it's important for them to learn the basic arguments and facts on both sides of this debate. They're able to do this with the help of balanced text that carefully presents opposing viewpoints and fact boxes that highlight information that can support an informed opinion. Featuring a detailed graphic organizer that summarizes this debate in an accessible way and vibrant, full-color photographs, this is an essential critical thinking exercise for young readers.","English",24.6,19.68,"332.0240083--dc23","24 pp.","https://greenhavenpublishing.com/978-1-5345-3199-4",{"$f":"Table1[[#This Row],['# of Books]]*Table1[[#This Row],[QTY]]","v":0},{"$f":"Table1[[#This Row],[QTY]]*Table1[[#This Row],[School & Library Price]]","v":0}]
[null,null,null,13,9,"Current Issues","Points of View","Should Plastic Bags Be Banned?","978-1-5345-3194-9",{"$f":"HYPERLINK(Table1[[#This Row],[Hyperlink]],\"Weblink\")","v":"Weblink"},"KidHaven Publishing","Library Bound Book",1,"2020","January 2020","Library","8.500 X 8.500","Author","Jennifer Lombardo",null,null,null,null,"N",null,"Grade 3","Grade 3 - 5","Plastic bags are being banned in many places, but is this the right thing to do? Readers will be able to answer this question for themselves in an informed way after they explore the environmental, economic, and legal sides to the debate surrounding plastic bag bans. The enlightening main text is presented alongside full-color photographs. A detailed graphic organizer allows readers to compare different viewpoints. Fact boxes help readers support their opinions with relevant, age-appropriate data and statistics. These fun features work together to create a critical thinking exercise that educates readers about current events.","English",24.6,19.68,"363.7--dc23","24 pp.","https://greenhavenpublishing.com/978-1-5345-3194-9",{"$f":"Table1[[#This Row],['# of Books]]*Table1[[#This Row],[QTY]]","v":0},{"$f":"Table1[[#This Row],[QTY]]*Table1[[#This Row],[School & Library Price]]","v":0}]
[null,null,null,13,9,"Current Issues","Points of View","Should Plastic Bags Be Banned?","978-1-5345-3200-7",{"$f":"HYPERLINK(Table1[[#This Row],[Hyperlink]],\"Weblink\")","v":"Weblink"},"KidHaven Publishing","eBook",1,"2020","January 2020",null,null,"Author","Jennifer Lombardo",null,null,null,null,"N",null,"Grade 3","Grade 3 - 5","Plastic bags are being banned in many places, but is this the right thing to do? Readers will be able to answer this question for themselves in an informed way after they explore the environmental, economic, and legal sides to the debate surrounding plastic bag bans. The enlightening main text is presented alongside full-color photographs. A detailed graphic organizer allows readers to compare different viewpoints. Fact boxes help readers support their opinions with relevant, age-appropriate data and statistics. These fun features work together to create a critical thinking exercise that educates readers about current events.","English",24.6,19.68,"363.7--dc23","24 pp.","https://greenhavenpublishing.com/978-1-5345-3200-7",{"$f":"Table1[[#This Row],['# of Books]]*Table1[[#This Row],[QTY]]","v":0},{"$f":"Table1[[#This Row],[QTY]]*Table1[[#This Row],[School & Library Price]]","v":0}]
[null,null,null,null,8,"Current Issues","Points of View","Points of View: Set 5","978-1-5345-6726-9",{"$f":"HYPERLINK(Table1[[#This Row],[Hyperlink]],\"Weblink\")","v":"Weblink"},"KidHaven Publishing","Library Set",6,"2020","August 2019","Library","8.500 X 8.500",null,null,null,null,null,null,null,null,"Grade 3","Grade 3 - 5","Should sixteen year-olds be allowed to vote? Is the news trustworthy? Does the school day start too early? These questions are on the minds of many people, and they're at the center of many discussions that affect us all. As readers explore both sides of debates surrounding issues such as health care and education, they learn to form their own opinions through the use of age-appropriate texts, relatable photographs, and graphic organizers. Informative fact boxes allow readers to practice backing up their points of view with relevant data and statistics. Features include: Helps readers develop essential critical thinking skills. Presents opposing points of view with each turn of the page, allowing readers to become immersed in a respectful, fact-driven debate. Objective tone facilitates discussion and challenges readers about their own biases.","English",147.6,118.08,null,"24 pp.","https://greenhavenpublishing.com/978-1-5345-6726-9",{"$f":"Table1[[#This Row],['# of Books]]*Table1[[#This Row],[QTY]]","v":0},{"$f":"Table1[[#This Row],[QTY]]*Table1[[#This Row],[School & Library Price]]","v":0}]
[null,null,null,14,8,"Current Issues","Points of View","Should Boys and Girls Go to Separate Schools?","978-1-5345-6721-4",{"$f":"HYPERLINK(Table1[[#This Row],[Hyperlink]],\"Weblink\")","v":"Weblink"},"KidHaven Publishing","Library Bound Book",1,"2020","August 2019","Library","8.500 X 8.500","Author","Amy B. Rogers",null,null,null,null,"N",null,"Grade 3","Grade 3 - 5","Some people strongly believe boys and girls should go to separate schools. Others believe this separation isn't good for students. People on each side of this debate use different facts to support their point of view. Readers discover these facts and how they're used to support opinions in this engaging critical thinking exercise. As the main text encourages respect for other opinions, fact boxes, graphic organizers, and vibrant photographs provide additional information and exciting visual elements. Gender equality is an important issue, and this look at gender and education provides an accessible introduction to this topic for elementary readers.","English",24.6,19.68,"371.822--dc23","24 pp.","https://greenhavenpublishing.com/978-1-5345-6721-4",{"$f":"Table1[[#This Row],['# of Books]]*Table1[[#This Row],[QTY]]","v":0},{"$f":"Table1[[#This Row],[QTY]]*Table1[[#This Row],[School & Library Price]]","v":0}]
[null,null,null,14,8,"Current Issues","Points of View","Should Boys and Girls Go to Separate Schools?","978-1-5345-2993-9",{"$f":"HYPERLINK(Table1[[#This Row],[Hyperlink]],\"Weblink\")","v":"Weblink"},"KidHaven Publishing","eBook",1,"2020","August 2019",null,null,"Author","Amy B. Rogers",null,null,null,null,"N",null,"Grade 3","Grade 3 - 5","Some people strongly believe boys and girls should go to separate schools. Others believe this separation isn't good for students. People on each side of this debate use different facts to support their point of view. Readers discover these facts and how they're used to support opinions in this engaging critical thinking exercise. As the main text encourages respect for other opinions, fact boxes, graphic organizers, and vibrant photographs provide additional information and exciting visual elements. Gender equality is an important issue, and this look at gender and education provides an accessible introduction to this topic for elementary readers.","English",24.6,19.68,"371.822--dc23","24 pp.","https://greenhavenpublishing.com/978-1-5345-2993-9",{"$f":"Table1[[#This Row],['# of Books]]*Table1[[#This Row],[QTY]]","v":0},{"$f":"Table1[[#This Row],[QTY]]*Table1[[#This Row],[School & Library Price]]","v":0}]
[null,null,null,14,8,"Current Issues","Points of View","Should Every Community Have a Library?","978-1-5345-6724-5",{"$f":"HYPERLINK(Table1[[#This Row],[Hyperlink]],\"Weblink\")","v":"Weblink"},"KidHaven Publishing","Library Bound Book",1,"2020","August 2019","Library","8.500 X 8.500","Author","Mary Austen",null,null,null,null,"N",null,"Grade 3","Grade 3 - 5","Libraries are an important part of many communities, but some people have argued that they're not as necessary as they once were. Budget cuts and the rise of the internet have led some to question the need for libraries. As readers explore this point of view, they also find compelling reasons why many still consider a library in every community a necessity. These reasons are presented through accessible main text that is enhanced by fact boxes, full-color photographs, and a detailed graphic organizer. This critical thinking exercise promotes a love of reading and respect for other opinions.","English",24.6,19.68,"027--dc23","24 pp.","https://greenhavenpublishing.com/978-1-5345-6724-5",{"$f":"Table1[[#This Row],['# of Books]]*Table1[[#This Row],[QTY]]","v":0},{"$f":"Table1[[#This Row],[QTY]]*Table1[[#This Row],[School & Library Price]]","v":0}]
[null,null,null,14,8,"Current Issues","Points of View","Should Every Community Have a Library?","978-1-5345-6729-0",{"$f":"HYPERLINK(Table1[[#This Row],[Hyperlink]],\"Weblink\")","v":"Weblink"},"KidHaven Publishing","eBook",1,"2020","August 2019",null,null,"Author","Mary Austen",null,null,null,null,"N",null,"Grade 3","Grade 3 - 5","Libraries are an important part of many communities, but some people have argued that they're not as necessary as they once were. Budget cuts and the rise of the internet have led some to question the need for libraries. As readers explore this point of view, they also find compelling reasons why many still consider a library in every community a necessity. These reasons are presented through accessible main text that is enhanced by fact boxes, full-color photographs, and a detailed graphic organizer. This critical thinking exercise promotes a love of reading and respect for other opinions.","English",24.6,19.68,"027--dc23","24 pp.","https://greenhavenpublishing.com/978-1-5345-6729-0",{"$f":"Table1[[#This Row],['# of Books]]*Table1[[#This Row],[QTY]]","v":0},{"$f":"Table1[[#This Row],[QTY]]*Table1[[#This Row],[School & Library Price]]","v":0}]
[null,null,null,14,8,"Current Issues","Points of View","Should the Government Pay for Health Care?","978-1-5345-6725-2",{"$f":"HYPERLINK(Table1[[#This Row],[Hyperlink]],\"Weblink\")","v":"Weblink"},"KidHaven Publishing","Library Bound Book",1,"2020","August 2019","Library","8.500 X 8.500","Author","Robert M. Hamilton",null,null,null,null,"N",null,"Grade 3","Grade 3 - 5","What is universal health care, and why do people have such strong feelings about it? As readers discover the answers to these questions, they strengthen their critical thinking skills. The objective main text asks readers to form their own opinions about health care and who should pay for it. Fact boxes provide readers with statistics to back up their opinion, no matter what side of the debate it falls on. With a detailed graphic organizer and full-color photographs filling the pages, this creative look at current events is sure to help inform the next generation of active citizens.","English",24.6,19.68,"362.10973--dc23","24 pp.","https://greenhavenpublishing.com/978-1-5345-6725-2",{"$f":"Table1[[#This Row],['# of Books]]*Table1[[#This Row],[QTY]]","v":0},{"$f":"Table1[[#This Row],[QTY]]*Table1[[#This Row],[School & Library Price]]","v":0}]
[null,null,null,14,8,"Current Issues","Points of View","Should the Government Pay for Health Care?","978-1-5345-6730-6",{"$f":"HYPERLINK(Table1[[#This Row],[Hyperlink]],\"Weblink\")","v":"Weblink"},"KidHaven Publishing","eBook",1,"2020","August 2019",null,null,"Author","Robert M. Hamilton",null,null,null,null,"N",null,"Grade 3","Grade 3 - 5","What is universal health care, and why do people have such strong feelings about it? As readers discover the answers to these questions, they strengthen their critical thinking skills. The objective main text asks readers to form their own opinions about health care and who should pay for it. Fact boxes provide readers with statistics to back up their opinion, no matter what side of the debate it falls on. With a detailed graphic organizer and full-color photographs filling the pages, this creative look at current events is sure to help inform the next generation of active citizens.","English",24.6,19.68,"362.10973--dc23","24 pp.","https://greenhavenpublishing.com/978-1-5345-6730-6",{"$f":"Table1[[#This Row],['# of Books]]*Table1[[#This Row],[QTY]]","v":0},{"$f":"Table1[[#This Row],[QTY]]*Table1[[#This Row],[School & Library Price]]","v":0}]
[null,null,null,14,8,"Current Issues","Points of View","Should the School Day Start Later?","978-1-5345-6720-7",{"$f":"HYPERLINK(Table1[[#This Row],[Hyperlink]],\"Weblink\")","v":"Weblink"},"KidHaven Publishing","Library Bound Book",1,"2020","August 2019","Library","8.500 X 8.500","Author","Riley Lawrence",null,null,null,null,"N",null,"Grade 3","Grade 3 - 5","Debates over what time to start the school day are happening in many communities. Because this decision affects students, it's helpful for them to understand the arguments used on both sides and to form their own opinion about this issue. They're able to do so after exploring this debate through accessible main text, eye-catching fact boxes, and a detailed graphic organizer. Relatable full-color photographs enhance this crucial critical thinking exercise. Is there a scientific reason why teenagers hate waking up early for school? The answer is waiting for readers to discover.","English",24.6,19.68,"370--dc23","24 pp.","https://greenhavenpublishing.com/978-1-5345-6720-7",{"$f":"Table1[[#This Row],['# of Books]]*Table1[[#This Row],[QTY]]","v":0},{"$f":"Table1[[#This Row],[QTY]]*Table1[[#This Row],[School & Library Price]]","v":0}]
[null,null,null,14,8,"Current Issues","Points of View","Should the School Day Start Later?","978-1-5345-2991-5",{"$f":"HYPERLINK(Table1[[#This Row],[Hyperlink]],\"Weblink\")","v":"Weblink"},"KidHaven Publishing","eBook",1,"2020","August 2019",null,null,"Author","Riley Lawrence",null,null,null,null,"N",null,"Grade 3","Grade 3 - 5","Debates over what time to start the school day are happening in many communities. Because this decision affects students, it's helpful for them to understand the arguments used on both sides and to form their own opinion about this issue. They're able to do so after exploring this debate through accessible main text, eye-catching fact boxes, and a detailed graphic organizer. Relatable full-color photographs enhance this crucial critical thinking exercise. Is there a scientific reason why teenagers hate waking up early for school? The answer is waiting for readers to discover.","English",24.6,19.68,"370--dc23","24 pp.","https://greenhavenpublishing.com/978-1-5345-2991-5",{"$f":"Table1[[#This Row],['# of Books]]*Table1[[#This Row],[QTY]]","v":0},{"$f":"Table1[[#This Row],[QTY]]*Table1[[#This Row],[School & Library Price]]","v":0}]
[null,null,null,14,8,"Current Issues","Points of View","Should the Voting Age Be Lowered?","978-1-5345-6722-1",{"$f":"HYPERLINK(Table1[[#This Row],[Hyperlink]],\"Weblink\")","v":"Weblink"},"KidHaven Publishing","Library Bound Book",1,"2020","August 2019","Library","8.500 X 8.500","Author","Leslie Beckett",null,null,null,null,"N",null,"Grade 3","Grade 3 - 5","As young people are becoming louder voices for change, the idea of lowering the voting age has been brought up more often. While some people believe this would encourage teenagers to become more active citizens, others believe there are good reasons to keep the voting age at 18. As readers explore both sides of this debate, they learn essential facts to form and back up their own informed opinion on this topic, which has real implications for their future. Fact boxes, graphic organizers, and full-color photographs enhance the objective main text, creating a reading experience that enhances critical thinking skills.","English",24.6,19.68,"324.6/208350973--dc23","24 pp.","https://greenhavenpublishing.com/978-1-5345-6722-1",{"$f":"Table1[[#This Row],['# of Books]]*Table1[[#This Row],[QTY]]","v":0},{"$f":"Table1[[#This Row],[QTY]]*Table1[[#This Row],[School & Library Price]]","v":0}]
[null,null,null,14,8,"Current Issues","Points of View","Should the Voting Age Be Lowered?","978-1-5345-6727-6",{"$f":"HYPERLINK(Table1[[#This Row],[Hyperlink]],\"Weblink\")","v":"Weblink"},"KidHaven Publishing","eBook",1,"2020","August 2019",null,null,"Author","Leslie Beckett",null,null,null,null,"N",null,"Grade 3","Grade 3 - 5","As young people are becoming louder voices for change, the idea of lowering the voting age has been brought up more often. While some people believe this would encourage teenagers to become more active citizens, others believe there are good reasons to keep the voting age at 18. As readers explore both sides of this debate, they learn essential facts to form and back up their own informed opinion on this topic, which has real implications for their future. Fact boxes, graphic organizers, and full-color photographs enhance the objective main text, creating a reading experience that enhances critical thinking skills.","English",24.6,19.68,"324.6/208350973--dc23","24 pp.","https://greenhavenpublishing.com/978-1-5345-6727-6",{"$f":"Table1[[#This Row],['# of Books]]*Table1[[#This Row],[QTY]]","v":0},{"$f":"Table1[[#This Row],[QTY]]*Table1[[#This Row],[School & Library Price]]","v":0}]
[null,null,null,14,8,"Current Issues","Points of View","Should We Trust the News?","978-1-5345-6723-8",{"$f":"HYPERLINK(Table1[[#This Row],[Hyperlink]],\"Weblink\")","v":"Weblink"},"KidHaven Publishing","Library Bound Book",1,"2020","August 2019","Library","8.500 X 8.500","Author","Katie Kawa",null,null,null,null,"N",null,"Grade 3","Grade 3 - 5","\"Fake news\" is a term used by politicians and on social media. It can be difficult to know what news sources to trust, or if any can be trusted. The question of whether or not we should trust the news is at the center of this critical thinking exercise, which is also an accessible introduction to media literacy. As the informative main text details each side of this debate, fact boxes present statistics readers can use to back up their point of view. In addition, a helpful graphic organizer and full-color photographs act as engaging visual learning tools.","English",24.6,19.68,"302.23--dc23","24 pp.","https://greenhavenpublishing.com/978-1-5345-6723-8",{"$f":"Table1[[#This Row],['# of Books]]*Table1[[#This Row],[QTY]]","v":0},{"$f":"Table1[[#This Row],[QTY]]*Table1[[#This Row],[School & Library Price]]","v":0}]
[null,null,null,13,8,"Current Issues","Points of View","Are Students Given Too Much Homework?","978-1-5345-2779-9",{"$f":"HYPERLINK(Table1[[#This Row],[Hyperlink]],\"Weblink\")","v":"Weblink"},"KidHaven Publishing","Library Bound Book",1,"2019","January 2019","Library","8.500 X 8.500","Author","Katie Kawa",null,null,null,null,"N",null,"Grade 3","Grade 3 - 5","Students have always complained about the amount of homework they've been given, but informed debates about homework and its impact on students' lives and mental health have become more common in recent years. Readers are encouraged to understand both sides of the debate and to form their own opinion as they explore informative main text and fact boxes featuring relevant statistics. A detailed graphic organizer and full-color photographs work with the unbiased text to create a relatable reading experience that challenges readers to strengthen their critical-thinking skills as they study different ways to view a topic that directly affects them.","English",24.6,19.68,"371.3028'1--dc23","24 pp.","https://greenhavenpublishing.com/978-1-5345-2779-9",{"$f":"Table1[[#This Row],['# of Books]]*Table1[[#This Row],[QTY]]","v":0},{"$f":"Table1[[#This Row],[QTY]]*Table1[[#This Row],[School & Library Price]]","v":0}]
[null,null,null,13,8,"Current Issues","Points of View","Are Students Given Too Much Homework?","978-1-5345-2780-5",{"$f":"HYPERLINK(Table1[[#This Row],[Hyperlink]],\"Weblink\")","v":"Weblink"},"KidHaven Publishing","eBook",1,"2019","January 2019",null,null,"Author","Katie Kawa",null,null,null,null,"N",null,"Grade 3","Grade 3 - 5","Students have always complained about the amount of homework they've been given, but informed debates about homework and its impact on students' lives and mental health have become more common in recent years. Readers are encouraged to understand both sides of the debate and to form their own opinion as they explore informative main text and fact boxes featuring relevant statistics. A detailed graphic organizer and full-color photographs work with the unbiased text to create a relatable reading experience that challenges readers to strengthen their critical-thinking skills as they study different ways to view a topic that directly affects them.","English",24.6,19.68,"371.3028'1--dc23","24 pp.","https://greenhavenpublishing.com/978-1-5345-2780-5",{"$f":"Table1[[#This Row],['# of Books]]*Table1[[#This Row],[QTY]]","v":0},{"$f":"Table1[[#This Row],[QTY]]*Table1[[#This Row],[School & Library Price]]","v":0}]
[null,null,null,13,8,"Current Issues","Points of View","Do Kids Need Recess?","978-1-5345-2787-4",{"$f":"HYPERLINK(Table1[[#This Row],[Hyperlink]],\"Weblink\")","v":"Weblink"},"KidHaven Publishing","Library Bound Book",1,"2019","January 2019","Library","8.500 X 8.500","Author","Amy B. Rogers",null,null,null,null,"N",null,"Grade 3","Grade 3 - 5","Many young students enjoy recess, but some schools have started to phase out this period of playtime in favor of test preparation and more time in the classroom. Is this helping or harming children? Readers learn how to answer that question for themselves in an informed way with the help of balanced text that shows both sides of this debate. Fact boxes provide additional statistics and other essential information, while a helpful graphic organizer presents a creative way to develop critical-thinking skills. Relatable full-color photographs create a deeper sense of engagement as readers learn to respect other points of view.","English",24.6,19.68,"371.2'42--dc23","24 pp.","https://greenhavenpublishing.com/978-1-5345-2787-4",{"$f":"Table1[[#This Row],['# of Books]]*Table1[[#This Row],[QTY]]","v":0},{"$f":"Table1[[#This Row],[QTY]]*Table1[[#This Row],[School & Library Price]]","v":0}]
[null,null,null,13,8,"Current Issues","Points of View","Do Kids Need Recess?","978-1-5345-2788-1",{"$f":"HYPERLINK(Table1[[#This Row],[Hyperlink]],\"Weblink\")","v":"Weblink"},"KidHaven Publishing","eBook",1,"2019","January 2019",null,null,"Author","Amy B. Rogers",null,null,null,null,"N",null,"Grade 3","Grade 3 - 5","Many young students enjoy recess, but some schools have started to phase out this period of playtime in favor of test preparation and more time in the classroom. Is this helping or harming children? Readers learn how to answer that question for themselves in an informed way with the help of balanced text that shows both sides of this debate. Fact boxes provide additional statistics and other essential information, while a helpful graphic organizer presents a creative way to develop critical-thinking skills. Relatable full-color photographs create a deeper sense of engagement as readers learn to respect other points of view.","English",24.6,19.68,"371.2'42--dc23","24 pp.","https://greenhavenpublishing.com/978-1-5345-2788-1",{"$f":"Table1[[#This Row],['# of Books]]*Table1[[#This Row],[QTY]]","v":0},{"$f":"Table1[[#This Row],[QTY]]*Table1[[#This Row],[School & Library Price]]","v":0}]
[null,null,null,13,8,"Current Issues","Points of View","Should a College Education Be Free?","978-1-5345-2783-6",{"$f":"HYPERLINK(Table1[[#This Row],[Hyperlink]],\"Weblink\")","v":"Weblink"},"KidHaven Publishing","Library Bound Book",1,"2019","January 2019","Library","8.500 X 8.500","Author","Robert M. Hamilton",null,null,null,null,"N",null,"Grade 3","Grade 3 - 5","Some politicians have gained fame in recent years for promoting the idea that a college education should be free. Is this a good idea? How could it be achieved? Readers discover different approaches to the concept of a free college education through fact-filled main text supplemented with full-color photographs that allows them to develop their own informed opinion on this issue, which could impact their future. Fact boxes and a helpful graphic organizer provide additional information to help readers understand people on both sides of the debate over the cost of a college education.","English",24.6,19.68,"378.3'8--dc23","24 pp.","https://greenhavenpublishing.com/978-1-5345-2783-6",{"$f":"Table1[[#This Row],['# of Books]]*Table1[[#This Row],[QTY]]","v":0},{"$f":"Table1[[#This Row],[QTY]]*Table1[[#This Row],[School & Library Price]]","v":0}]
[null,null,null,13,8,"Current Issues","Points of View","Should a College Education Be Free?","978-1-5345-2784-3",{"$f":"HYPERLINK(Table1[[#This Row],[Hyperlink]],\"Weblink\")","v":"Weblink"},"KidHaven Publishing","eBook",1,"2019","January 2019",null,null,"Author","Robert M. Hamilton",null,null,null,null,"N",null,"Grade 3","Grade 3 - 5","Some politicians have gained fame in recent years for promoting the idea that a college education should be free. Is this a good idea? How could it be achieved? Readers discover different approaches to the concept of a free college education through fact-filled main text supplemented with full-color photographs that allows them to develop their own informed opinion on this issue, which could impact their future. Fact boxes and a helpful graphic organizer provide additional information to help readers understand people on both sides of the debate over the cost of a college education.","English",24.6,19.68,"378.3'8--dc23","24 pp.","https://greenhavenpublishing.com/978-1-5345-2784-3",{"$f":"Table1[[#This Row],['# of Books]]*Table1[[#This Row],[QTY]]","v":0},{"$f":"Table1[[#This Row],[QTY]]*Table1[[#This Row],[School & Library Price]]","v":0}]
[null,null,null,14,8,"Current Issues","Points of View","Should Animal Testing Be Banned?","978-1-5345-2791-1",{"$f":"HYPERLINK(Table1[[#This Row],[Hyperlink]],\"Weblink\")","v":"Weblink"},"KidHaven Publishing","Library Bound Book",1,"2019","January 2019","Library","8.500 X 8.500","Author","Riley Lawrence",null,null,null,null,"N",null,"Grade 3","Grade 3 - 5","Animal testing is a controversial practice, and many people have strong feelings about it. Understanding both sides of the debate about animal testing is crucial for the development of an informed opinion about this issue. Through unbiased main text and fact boxes, readers are presented with information and statistics used by those who support and oppose animal testing, and they are encouraged to use what they learn to decide where they stand. This critical-thinking exercise is enhanced through the use of full-color photographs and a well-designed graphic organizer.","English",24.6,19.68,"179/.4--dc23","24 pp.","https://greenhavenpublishing.com/978-1-5345-2791-1",{"$f":"Table1[[#This Row],['# of Books]]*Table1[[#This Row],[QTY]]","v":0},{"$f":"Table1[[#This Row],[QTY]]*Table1[[#This Row],[School & Library Price]]","v":0}]
[null,null,null,14,8,"Current Issues","Points of View","Should Animal Testing Be Banned?","978-1-5345-2792-8",{"$f":"HYPERLINK(Table1[[#This Row],[Hyperlink]],\"Weblink\")","v":"Weblink"},"KidHaven Publishing","eBook",1,"2019","January 2019",null,null,"Author","Riley Lawrence",null,null,null,null,"N",null,"Grade 3","Grade 3 - 5","Animal testing is a controversial practice, and many people have strong feelings about it. Understanding both sides of the debate about animal testing is crucial for the development of an informed opinion about this issue. Through unbiased main text and fact boxes, readers are presented with information and statistics used by those who support and oppose animal testing, and they are encouraged to use what they learn to decide where they stand. This critical-thinking exercise is enhanced through the use of full-color photographs and a well-designed graphic organizer.","English",24.6,19.68,"179/.4--dc23","24 pp.","https://greenhavenpublishing.com/978-1-5345-2792-8",{"$f":"Table1[[#This Row],['# of Books]]*Table1[[#This Row],[QTY]]","v":0},{"$f":"Table1[[#This Row],[QTY]]*Table1[[#This Row],[School & Library Price]]","v":0}]
[null,null,null,14,8,"Current Issues","Points of View","Should Cell Phones Be Allowed in Classrooms?","978-1-5345-2775-1",{"$f":"HYPERLINK(Table1[[#This Row],[Hyperlink]],\"Weblink\")","v":"Weblink"},"KidHaven Publishing","Library Bound Book",1,"2019","January 2019","Library","8.500 X 8.500","Author","Lorraine Harrison",null,null,null,null,"N",null,"Grade 3","Grade 3 - 5","Many young people have their own cell phones, and they use them to connect with family and friends and to easily find information. This can pose a problem in schools, as cell phones become a distraction or a tool used to cheat on tests and quizzes. Many people have strong opinions on cell phone use in schools, and this debate opens up important questions about students' rights. Readers are introduced to this debate through balanced text and a graphic organizer that clearly present the arguments on both sides. Fact boxes and full-color photographs enhance this crucial critical-thinking exercise.","English",24.6,19.68,"371.33--dc23","24 pp.","https://greenhavenpublishing.com/978-1-5345-2775-1",{"$f":"Table1[[#This Row],['# of Books]]*Table1[[#This Row],[QTY]]","v":0},{"$f":"Table1[[#This Row],[QTY]]*Table1[[#This Row],[School & Library Price]]","v":0}]
[null,null,null,14,8,"Current Issues","Points of View","Should Cell Phones Be Allowed in Classrooms?","978-1-5345-2776-8",{"$f":"HYPERLINK(Table1[[#This Row],[Hyperlink]],\"Weblink\")","v":"Weblink"},"KidHaven Publishing","eBook",1,"2019","January 2019",null,null,"Author","Lorraine Harrison",null,null,null,null,"N",null,"Grade 3","Grade 3 - 5","Many young people have their own cell phones, and they use them to connect with family and friends and to easily find information. This can pose a problem in schools, as cell phones become a distraction or a tool used to cheat on tests and quizzes. Many people have strong opinions on cell phone use in schools, and this debate opens up important questions about students' rights. Readers are introduced to this debate through balanced text and a graphic organizer that clearly present the arguments on both sides. Fact boxes and full-color photographs enhance this crucial critical-thinking exercise.","English",24.6,19.68,"371.33--dc23","24 pp.","https://greenhavenpublishing.com/978-1-5345-2776-8",{"$f":"Table1[[#This Row],['# of Books]]*Table1[[#This Row],[QTY]]","v":0},{"$f":"Table1[[#This Row],[QTY]]*Table1[[#This Row],[School & Library Price]]","v":0}]
[null,null,null,14,8,"Current Issues","Points of View","Should Citizens Be Required to Vote?","978-1-5345-2771-3",{"$f":"HYPERLINK(Table1[[#This Row],[Hyperlink]],\"Weblink\")","v":"Weblink"},"KidHaven Publishing","Library Bound Book",1,"2019","January 2019","Library","8.500 X 8.500","Author","Leslie Beckett",null,null,null,null,"N",null,"Grade 3","Grade 3 - 5","In some countries, citizens are required to vote in elections, but in the United States, citizens are free to choose not to vote. This had led to low voter turnout in many elections, and some people think making voting mandatory for American citizens would help the democratic process. Why do they believe this, and why do others strongly disagree with them? Readers explore these opposing points of view through unbiased main text, fact boxes, vibrant photographs, and a helpful graphic organizer. This creative look at democracy around the world encourages the development of informed opinions and critical-thinking skills.","English",24.6,19.68,"323.60973--dc23","24 pp.","https://greenhavenpublishing.com/978-1-5345-2771-3",{"$f":"Table1[[#This Row],['# of Books]]*Table1[[#This Row],[QTY]]","v":0},{"$f":"Table1[[#This Row],[QTY]]*Table1[[#This Row],[School & Library Price]]","v":0}]
[null,null,null,14,8,"Current Issues","Points of View","Should Citizens Be Required to Vote?","978-1-5345-2772-0",{"$f":"HYPERLINK(Table1[[#This Row],[Hyperlink]],\"Weblink\")","v":"Weblink"},"KidHaven Publishing","eBook",1,"2019","January 2019",null,null,"Author","Leslie Beckett",null,null,null,null,"N",null,"Grade 3","Grade 3 - 5","In some countries, citizens are required to vote in elections, but in the United States, citizens are free to choose not to vote. This had led to low voter turnout in many elections, and some people think making voting mandatory for American citizens would help the democratic process. Why do they believe this, and why do others strongly disagree with them? Readers explore these opposing points of view through unbiased main text, fact boxes, vibrant photographs, and a helpful graphic organizer. This creative look at democracy around the world encourages the development of informed opinions and critical-thinking skills.","English",24.6,19.68,"323.60973--dc23","24 pp.","https://greenhavenpublishing.com/978-1-5345-2772-0",{"$f":"Table1[[#This Row],['# of Books]]*Table1[[#This Row],[QTY]]","v":0},{"$f":"Table1[[#This Row],[QTY]]*Table1[[#This Row],[School & Library Price]]","v":0}]
[null,null,null,13,9,"Current Issues","Points of View","Are Some Sports Too Dangerous for Kids?","978-1-5345-2559-7",{"$f":"HYPERLINK(Table1[[#This Row],[Hyperlink]],\"Weblink\")","v":"Weblink"},"KidHaven Publishing","Library Bound Book",1,"2019","August 2018","Library","8.500 X 8.500","Author","Amy B. Rogers","5.8","0.5",null,null,"N",null,"Grade 3","Grade 3 - 5","Sports are fun, but they can be dangerous, too. As more information becomes available about concussions and other injuries, many people have wondered if certain sports, such as football, are too dangerous for kids to play. People often have strong opinions about this topic, and readers are introduced to these opinions in a way that enhances their critical-thinking skills. The facts readers need to develop their own informed opinion are included in the thoroughly researched main text and accompanying fact boxes. A graphic organizer and full-color photographs help readers visualize the many parts of this complex issue.","English",24.6,19.68,"796.028/9--dc23","24 pp.","https://greenhavenpublishing.com/978-1-5345-2559-7",{"$f":"Table1[[#This Row],['# of Books]]*Table1[[#This Row],[QTY]]","v":0},{"$f":"Table1[[#This Row],[QTY]]*Table1[[#This Row],[School & Library Price]]","v":0}]
[null,null,null,13,9,"Current Issues","Points of View","Are Some Sports Too Dangerous for Kids?","978-1-5345-2562-7",{"$f":"HYPERLINK(Table1[[#This Row],[Hyperlink]],\"Weblink\")","v":"Weblink"},"KidHaven Publishing","eBook",1,"2019","August 2018",null,null,"Author","Amy B. Rogers","5.8","0.5",null,null,"N",null,"Grade 3","Grade 3 - 5","Sports are fun, but they can be dangerous, too. As more information becomes available about concussions and other injuries, many people have wondered if certain sports, such as football, are too dangerous for kids to play. People often have strong opinions about this topic, and readers are introduced to these opinions in a way that enhances their critical-thinking skills. The facts readers need to develop their own informed opinion are included in the thoroughly researched main text and accompanying fact boxes. A graphic organizer and full-color photographs help readers visualize the many parts of this complex issue.","English",24.6,19.68,"796.028/9--dc23","24 pp.","https://greenhavenpublishing.com/978-1-5345-2562-7",{"$f":"Table1[[#This Row],['# of Books]]*Table1[[#This Row],[QTY]]","v":0},{"$f":"Table1[[#This Row],[QTY]]*Table1[[#This Row],[School & Library Price]]","v":0}]
[null,null,null,13,9,"Current Issues","Points of View","Do Music and Art Classes Matter?","978-1-5345-2567-2",{"$f":"HYPERLINK(Table1[[#This Row],[Hyperlink]],\"Weblink\")","v":"Weblink"},"KidHaven Publishing","Library Bound Book",1,"2019","August 2018","Library","8.500 X 8.500","Author","Robert M. Hamilton","5.7","0.5",null,null,"N",null,"Grade 3","Grade 3 - 5","When schools need to cut their budgets, music and art classes are often some of the first things to go. Why do some people feel these classes are unnecessary? Why do others feel they're essential? These two questions are at the heart of what readers will find as they explore this essential education debate. The engaging text challenges them to understand why people have different points of view and to form their own point of view using facts, which they find in accessible fact boxes. With graphic organizers and colorful photographs filling the pages, readers will enjoy this critical-thinking exercise.","English",24.6,19.68,"700--dc23","24 pp.","https://greenhavenpublishing.com/978-1-5345-2567-2",{"$f":"Table1[[#This Row],['# of Books]]*Table1[[#This Row],[QTY]]","v":0},{"$f":"Table1[[#This Row],[QTY]]*Table1[[#This Row],[School & Library Price]]","v":0}]
[null,null,null,13,9,"Current Issues","Points of View","Do Music and Art Classes Matter?","978-1-5345-2570-2",{"$f":"HYPERLINK(Table1[[#This Row],[Hyperlink]],\"Weblink\")","v":"Weblink"},"KidHaven Publishing","eBook",1,"2019","August 2018",null,null,"Author","Robert M. Hamilton","5.7","0.5",null,null,"N",null,"Grade 3","Grade 3 - 5","When schools need to cut their budgets, music and art classes are often some of the first things to go. Why do some people feel these classes are unnecessary? Why do others feel they're essential? These two questions are at the heart of what readers will find as they explore this essential education debate. The engaging text challenges them to understand why people have different points of view and to form their own point of view using facts, which they find in accessible fact boxes. With graphic organizers and colorful photographs filling the pages, readers will enjoy this critical-thinking exercise.","English",24.6,19.68,"700--dc23","24 pp.","https://greenhavenpublishing.com/978-1-5345-2570-2",{"$f":"Table1[[#This Row],['# of Books]]*Table1[[#This Row],[QTY]]","v":0},{"$f":"Table1[[#This Row],[QTY]]*Table1[[#This Row],[School & Library Price]]","v":0}]
[null,null,null,13,9,"Current Issues","Points of View","Does Technology Make People Lazy?","978-1-5345-2563-4",{"$f":"HYPERLINK(Table1[[#This Row],[Hyperlink]],\"Weblink\")","v":"Weblink"},"KidHaven Publishing","Library Bound Book",1,"2019","August 2018","Library","8.500 X 8.500","Author","Katie Kawa","5.5","0.5",null,null,"N",null,"Grade 3","Grade 3 - 5","Technology has made life easier for people around the world, but is that necessarily a good thing? Some people believe technology has made people lazier, but others believe it actually makes people more productive. Readers deepen their understanding of this debate through detailed main text, concise fact boxes, a helpful graphic organizer, and relatable photographs. As they read, they're asked to challenge their own beliefs and develop their own informed opinion that they can back up with relevant facts. This reading experience engages critical-thinking skills and encourages a healthy respect for opposing viewpoints.","English",24.6,19.68,"303.48'3--dc23","24 pp.","https://greenhavenpublishing.com/978-1-5345-2563-4",{"$f":"Table1[[#This Row],['# of Books]]*Table1[[#This Row],[QTY]]","v":0},{"$f":"Table1[[#This Row],[QTY]]*Table1[[#This Row],[School & Library Price]]","v":0}]
[null,null,null,13,9,"Current Issues","Points of View","Does Technology Make People Lazy?","978-1-5345-2566-5",{"$f":"HYPERLINK(Table1[[#This Row],[Hyperlink]],\"Weblink\")","v":"Weblink"},"KidHaven Publishing","eBook",1,"2019","August 2018",null,null,"Author","Katie Kawa","5.5","0.5",null,null,"N",null,"Grade 3","Grade 3 - 5","Technology has made life easier for people around the world, but is that necessarily a good thing? Some people believe technology has made people lazier, but others believe it actually makes people more productive. Readers deepen their understanding of this debate through detailed main text, concise fact boxes, a helpful graphic organizer, and relatable photographs. As they read, they're asked to challenge their own beliefs and develop their own informed opinion that they can back up with relevant facts. This reading experience engages critical-thinking skills and encourages a healthy respect for opposing viewpoints.","English",24.6,19.68,"303.48'3--dc23","24 pp.","https://greenhavenpublishing.com/978-1-5345-2566-5",{"$f":"Table1[[#This Row],['# of Books]]*Table1[[#This Row],[QTY]]","v":0},{"$f":"Table1[[#This Row],[QTY]]*Table1[[#This Row],[School & Library Price]]","v":0}]
[null,null,null,13,9,"Current Issues","Points of View","Is It Our Job to Protect the Environment?","978-1-5345-2571-9",{"$f":"HYPERLINK(Table1[[#This Row],[Hyperlink]],\"Weblink\")","v":"Weblink"},"KidHaven Publishing","Library Bound Book",1,"2019","August 2018","Library","8.500 X 8.500","Author","David Anthony","5.5","0.5",null,null,"N",null,"Grade 3","Grade 3 - 5","Many people believe humans have a responsibility to take care of the planet. However, other people believe it isn't their job to protect the environment. Readers discover the facts behind these two opposing points of view and how those points of view determine people's actions. Along the way, they examine their own opinion on this topic, which aligns with common science curricula, and learn to use facts to back up their opinion. Fact boxes, graphic organizers, and vibrant photographs come together to create an eye-catching design that enhances this exploration of critical-thinking skills.","English",24.6,19.68,"363.7--dc23","24 pp.","https://greenhavenpublishing.com/978-1-5345-2571-9",{"$f":"Table1[[#This Row],['# of Books]]*Table1[[#This Row],[QTY]]","v":0},{"$f":"Table1[[#This Row],[QTY]]*Table1[[#This Row],[School & Library Price]]","v":0}]
[null,null,null,13,9,"Current Issues","Points of View","Is It Our Job to Protect the Environment?","978-1-5345-2574-0",{"$f":"HYPERLINK(Table1[[#This Row],[Hyperlink]],\"Weblink\")","v":"Weblink"},"KidHaven Publishing","eBook",1,"2019","August 2018",null,null,"Author","David Anthony","5.5","0.5",null,null,"N",null,"Grade 3","Grade 3 - 5","Many people believe humans have a responsibility to take care of the planet. However, other people believe it isn't their job to protect the environment. Readers discover the facts behind these two opposing points of view and how those points of view determine people's actions. Along the way, they examine their own opinion on this topic, which aligns with common science curricula, and learn to use facts to back up their opinion. Fact boxes, graphic organizers, and vibrant photographs come together to create an eye-catching design that enhances this exploration of critical-thinking skills.","English",24.6,19.68,"363.7--dc23","24 pp.","https://greenhavenpublishing.com/978-1-5345-2574-0",{"$f":"Table1[[#This Row],['# of Books]]*Table1[[#This Row],[QTY]]","v":0},{"$f":"Table1[[#This Row],[QTY]]*Table1[[#This Row],[School & Library Price]]","v":0}]
[null,null,null,13,9,"Current Issues","Points of View","Is It Wrong to Eat Meat?","978-1-5345-2575-7",{"$f":"HYPERLINK(Table1[[#This Row],[Hyperlink]],\"Weblink\")","v":"Weblink"},"KidHaven Publishing","Library Bound Book",1,"2019","August 2018","Library","8.500 X 8.500","Author","Kate Rogers","5","0.5",null,null,"N",null,"Grade 3","Grade 3 - 5","Why do some people choose not to eat meat? Is it wrong to eat an animal that was once alive? These questions are complex and challenge young people's critical-thinking skills, and they form the backbone of this inside look at the debates surrounding vegetarianism, veganism, and eating meat. As readers explore this topic through engaging main text, accessible fact boxes, a detailed graphic organizer, and colorful photographs, they're introduced to different points of view and the facts used to support these differing viewpoints. This teaches young readers the importance of understanding differing perspectives and using facts to inform an opinion.","English",24.6,19.68,"338.1'76--dc23","24 pp.","https://greenhavenpublishing.com/978-1-5345-2575-7",{"$f":"Table1[[#This Row],['# of Books]]*Table1[[#This Row],[QTY]]","v":0},{"$f":"Table1[[#This Row],[QTY]]*Table1[[#This Row],[School & Library Price]]","v":0}]
[null,null,null,13,9,"Current Issues","Points of View","Is It Wrong to Eat Meat?","978-1-5345-2578-8",{"$f":"HYPERLINK(Table1[[#This Row],[Hyperlink]],\"Weblink\")","v":"Weblink"},"KidHaven Publishing","eBook",1,"2019","August 2018",null,null,"Author","Kate Rogers","5","0.5",null,null,"N",null,"Grade 3","Grade 3 - 5","Why do some people choose not to eat meat? Is it wrong to eat an animal that was once alive? These questions are complex and challenge young people's critical-thinking skills, and they form the backbone of this inside look at the debates surrounding vegetarianism, veganism, and eating meat. As readers explore this topic through engaging main text, accessible fact boxes, a detailed graphic organizer, and colorful photographs, they're introduced to different points of view and the facts used to support these differing viewpoints. This teaches young readers the importance of understanding differing perspectives and using facts to inform an opinion.","English",24.6,19.68,"338.1'76--dc23","24 pp.","https://greenhavenpublishing.com/978-1-5345-2578-8",{"$f":"Table1[[#This Row],['# of Books]]*Table1[[#This Row],[QTY]]","v":0},{"$f":"Table1[[#This Row],[QTY]]*Table1[[#This Row],[School & Library Price]]","v":0}]
[null,null,null,13,9,"Current Issues","Points of View","Are Video Games Too Violent?","978-1-5345-2425-5",{"$f":"HYPERLINK(Table1[[#This Row],[Hyperlink]],\"Weblink\")","v":"Weblink"},"KidHaven Publishing","Library Bound Book",1,"2018","January 2018","Library","8.500 X 8.500","Author","Nick Christopher","5.8","0.5",null,null,"N",null,"Grade 3","Grade 3 - 5","Violence in the media is a major topic of debate, and video games are often at the center of these debates. Are they too violent? Does playing a violent video game have any impact on a young person becoming violent themselves? Readers are encouraged to form their own answers to these challenging questions and to back them up with facts from the enlightening text. A detailed graphic organizer, vivid photographs, and helpful fact boxes are also included to guide readers as they explore the many facets of this controversial issue.","English",24.6,19.68,"794.8--dc23","24 pp.","https://greenhavenpublishing.com/978-1-5345-2425-5",{"$f":"Table1[[#This Row],['# of Books]]*Table1[[#This Row],[QTY]]","v":0},{"$f":"Table1[[#This Row],[QTY]]*Table1[[#This Row],[School & Library Price]]","v":0}]
[null,null,null,13,9,"Current Issues","Points of View","Are Video Games Too Violent?","978-1-5345-2426-2",{"$f":"HYPERLINK(Table1[[#This Row],[Hyperlink]],\"Weblink\")","v":"Weblink"},"KidHaven Publishing","eBook",1,"2018","January 2018",null,null,"Author","Nick Christopher","5.8","0.5",null,null,"N",null,"Grade 3","Grade 3 - 5","Violence in the media is a major topic of debate, and video games are often at the center of these debates. Are they too violent? Does playing a violent video game have any impact on a young person becoming violent themselves? Readers are encouraged to form their own answers to these challenging questions and to back them up with facts from the enlightening text. A detailed graphic organizer, vivid photographs, and helpful fact boxes are also included to guide readers as they explore the many facets of this controversial issue.","English",24.6,19.68,"794.8--dc23","24 pp.","https://greenhavenpublishing.com/978-1-5345-2426-2",{"$f":"Table1[[#This Row],['# of Books]]*Table1[[#This Row],[QTY]]","v":0},{"$f":"Table1[[#This Row],[QTY]]*Table1[[#This Row],[School & Library Price]]","v":0}]
[null,null,null,13,9,"Current Issues","Points of View","Does Voting Matter?","978-1-5345-2429-3",{"$f":"HYPERLINK(Table1[[#This Row],[Hyperlink]],\"Weblink\")","v":"Weblink"},"KidHaven Publishing","Library Bound Book",1,"2018","January 2018","Library","8.500 X 8.500","Author","Leslie Beckett","5.8","0.5","30",null,"N","1010L","Grade 3","Grade 3 - 5","Society can be cynical at times, and this can lead to apathy. One example of this is the question of whether or not a person’s individual vote in an election actually matters. Readers are exposed to the different points of view about this hot-button topic, and they learn to develop their own viewpoint about the democratic process and to back it up with relevant facts. They discover those facts in the engaging main text, eye-catching fact boxes, and helpful graphic organizers. Colorful, relatable photographs also help readers see how this debate is reflected in the world around them.","English",24.6,19.68,"323.60973--dc23","24 pp.","https://greenhavenpublishing.com/978-1-5345-2429-3",{"$f":"Table1[[#This Row],['# of Books]]*Table1[[#This Row],[QTY]]","v":0},{"$f":"Table1[[#This Row],[QTY]]*Table1[[#This Row],[School & Library Price]]","v":0}]
[null,null,null,13,9,"Current Issues","Points of View","Does Voting Matter?","978-1-5345-2430-9",{"$f":"HYPERLINK(Table1[[#This Row],[Hyperlink]],\"Weblink\")","v":"Weblink"},"KidHaven Publishing","eBook",1,"2018","January 2018",null,null,"Author","Leslie Beckett","5.8","0.5","30",null,"N","1010L","Grade 3","Grade 3 - 5","Society can be cynical at times, and this can lead to apathy. One example of this is the question of whether or not a person’s individual vote in an election actually matters. Readers are exposed to the different points of view about this hot-button topic, and they learn to develop their own viewpoint about the democratic process and to back it up with relevant facts. They discover those facts in the engaging main text, eye-catching fact boxes, and helpful graphic organizers. Colorful, relatable photographs also help readers see how this debate is reflected in the world around them.","English",24.6,19.68,"323.60973--dc23","24 pp.","https://greenhavenpublishing.com/978-1-5345-2430-9",{"$f":"Table1[[#This Row],['# of Books]]*Table1[[#This Row],[QTY]]","v":0},{"$f":"Table1[[#This Row],[QTY]]*Table1[[#This Row],[School & Library Price]]","v":0}]
[null,null,null,13,9,"Current Issues","Points of View","Is It Wrong to Ban Books?","978-1-5345-2427-9",{"$f":"HYPERLINK(Table1[[#This Row],[Hyperlink]],\"Weblink\")","v":"Weblink"},"KidHaven Publishing","Library Bound Book",1,"2018","January 2018","Library","8.500 X 8.500","Author","Mary Austen","5.5","0.5",null,null,"N",null,"Grade 3","Grade 3 - 5","When people discuss the idea of banning books, they are also discussing much broader concepts, including censorship, basic freedoms, and the power of religious and political institutions. These challenging topics are presented in accessible ways as readers explore the debate surrounding banned books. As they immerse themselves in many viewpoints surrounding this debate through engaging text, fact boxes, vibrant photographs, and graphic organizers, they discover the importance of developing an informed, independent opinion about issues that affect their lives.","English",24.6,19.68,"344.7305/31--dc23","24 pp.","https://greenhavenpublishing.com/978-1-5345-2427-9",{"$f":"Table1[[#This Row],['# of Books]]*Table1[[#This Row],[QTY]]","v":0},{"$f":"Table1[[#This Row],[QTY]]*Table1[[#This Row],[School & Library Price]]","v":0}]
[null,null,null,13,9,"Current Issues","Points of View","Is It Wrong to Ban Books?","978-1-5345-2428-6",{"$f":"HYPERLINK(Table1[[#This Row],[Hyperlink]],\"Weblink\")","v":"Weblink"},"KidHaven Publishing","eBook",1,"2018","January 2018",null,null,"Author","Mary Austen","5.5","0.5",null,null,"N",null,"Grade 3","Grade 3 - 5","When people discuss the idea of banning books, they are also discussing much broader concepts, including censorship, basic freedoms, and the power of religious and political institutions. These challenging topics are presented in accessible ways as readers explore the debate surrounding banned books. As they immerse themselves in many viewpoints surrounding this debate through engaging text, fact boxes, vibrant photographs, and graphic organizers, they discover the importance of developing an informed, independent opinion about issues that affect their lives.","English",24.6,19.68,"344.7305/31--dc23","24 pp.","https://greenhavenpublishing.com/978-1-5345-2428-6",{"$f":"Table1[[#This Row],['# of Books]]*Table1[[#This Row],[QTY]]","v":0},{"$f":"Table1[[#This Row],[QTY]]*Table1[[#This Row],[School & Library Price]]","v":0}]
[null,null,null,13,9,"Current Issues","Points of View","Are School Uniforms Good for Students?","978-1-5345-2342-5",{"$f":"HYPERLINK(Table1[[#This Row],[Hyperlink]],\"Weblink\")","v":"Weblink"},"KidHaven Publishing","Library Bound Book",1,"2018","August 2017","Library","8.500 X 8.500","Author","Katie Kawa",null,null,null,null,"N","960L","Grade 3","Grade 3 - 5","Some students wear uniforms to school each day. Others do not wear uniforms. Is one approach better than the other? Readers are immersed in the debate surrounding school uniforms through the use of informative text that presents multiple points of view. Eye-catching fact boxes, detailed graphic organizers, and full-color photographs enhance this engaging reading experience. Readers are encouraged to keep an open mind and developed an informed opinion as they explore the many sides of an issue that would directly affect them.","English",24.6,19.68,"371.5'1--dc23","24 pp.","https://greenhavenpublishing.com/978-1-5345-2342-5",{"$f":"Table1[[#This Row],['# of Books]]*Table1[[#This Row],[QTY]]","v":0},{"$f":"Table1[[#This Row],[QTY]]*Table1[[#This Row],[School & Library Price]]","v":0}]
[null,null,null,13,9,"Current Issues","Points of View","Are School Uniforms Good for Students?","978-1-5345-2343-2",{"$f":"HYPERLINK(Table1[[#This Row],[Hyperlink]],\"Weblink\")","v":"Weblink"},"KidHaven Publishing","eBook",1,"2018","August 2017",null,null,"Author","Katie Kawa",null,null,null,null,"N","960L","Grade 3","Grade 3 - 5","Some students wear uniforms to school each day. Others do not wear uniforms. Is one approach better than the other? Readers are immersed in the debate surrounding school uniforms through the use of informative text that presents multiple points of view. Eye-catching fact boxes, detailed graphic organizers, and full-color photographs enhance this engaging reading experience. Readers are encouraged to keep an open mind and developed an informed opinion as they explore the many sides of an issue that would directly affect them.","English",24.6,19.68,"371.5'1--dc23","24 pp.","https://greenhavenpublishing.com/978-1-5345-2343-2",{"$f":"Table1[[#This Row],['# of Books]]*Table1[[#This Row],[QTY]]","v":0},{"$f":"Table1[[#This Row],[QTY]]*Table1[[#This Row],[School & Library Price]]","v":0}]
[null,null,null,14,8,"Current Issues","Points of View","Should We Trust the News?","978-1-5345-2996-0",{"$f":"HYPERLINK(Table1[[#This Row],[Hyperlink]],\"Weblink\")","v":"Weblink"},"KidHaven Publishing","eBook",1,"2020","August 2019",null,null,"Author","Katie Kawa",null,null,null,null,"N",null,"Grade 3","Grade 3 - 5","\"Fake news\" is a term used by politicians and on social media. It can be difficult to know what news sources to trust, or if any can be trusted. The question of whether or not we should trust the news is at the center of this critical thinking exercise, which is also an accessible introduction to media literacy. As the informative main text details each side of this debate, fact boxes present statistics readers can use to back up their point of view. In addition, a helpful graphic organizer and full-color photographs act as engaging visual learning tools.","English",24.6,19.68,"302.23--dc23","24 pp.","https://greenhavenpublishing.com/978-1-5345-2996-0",{"$f":"Table1[[#This Row],['# of Books]]*Table1[[#This Row],[QTY]]","v":0},{"$f":"Table1[[#This Row],[QTY]]*Table1[[#This Row],[School & Library Price]]","v":0}]
[null,null,null,14,9,"Current Issues","Points of View","Should Students Go to School All Year Round?","978-1-5345-2555-9",{"$f":"HYPERLINK(Table1[[#This Row],[Hyperlink]],\"Weblink\")","v":"Weblink"},"KidHaven Publishing","Library Bound Book",1,"2019","August 2018","Library","8.500 X 8.500","Author","Elizabeth Morgan","5.1","0.5",null,null,"N",null,"Grade 3","Grade 3 - 5","In some parts of the world, students go to school all year. Is this a good idea? Readers ask themselves this question as they explore different arguments for and against year-round schooling. As they discover these different points of view, they learn the importance of respecting other opinions. The informative main text is supplemented by fact boxes, which readers can use to develop their own informed opinion on this topic. Full-color photographs and a helpful graphic organizer enhance the reading experience, keeping young readers engaged as they develop essential critical-thinking skills.","English",24.6,19.68,"371.2'36--dc23","24 pp.","https://greenhavenpublishing.com/978-1-5345-2555-9",{"$f":"Table1[[#This Row],['# of Books]]*Table1[[#This Row],[QTY]]","v":0},{"$f":"Table1[[#This Row],[QTY]]*Table1[[#This Row],[School & Library Price]]","v":0}]
[null,null,null,14,9,"Current Issues","Points of View","Should Students Go to School All Year Round?","978-1-5345-2558-0",{"$f":"HYPERLINK(Table1[[#This Row],[Hyperlink]],\"Weblink\")","v":"Weblink"},"KidHaven Publishing","eBook",1,"2019","August 2018",null,null,"Author","Elizabeth Morgan","5.1","0.5",null,null,"N",null,"Grade 3","Grade 3 - 5","In some parts of the world, students go to school all year. Is this a good idea? Readers ask themselves this question as they explore different arguments for and against year-round schooling. As they discover these different points of view, they learn the importance of respecting other opinions. The informative main text is supplemented by fact boxes, which readers can use to develop their own informed opinion on this topic. Full-color photographs and a helpful graphic organizer enhance the reading experience, keeping young readers engaged as they develop essential critical-thinking skills.","English",24.6,19.68,"371.2'36--dc23","24 pp.","https://greenhavenpublishing.com/978-1-5345-2558-0",{"$f":"Table1[[#This Row],['# of Books]]*Table1[[#This Row],[QTY]]","v":0},{"$f":"Table1[[#This Row],[QTY]]*Table1[[#This Row],[School & Library Price]]","v":0}]
[null,null,null,14,9,"Current Issues","Points of View","Should Girls Play Sports with Boys?","978-1-5345-2421-7",{"$f":"HYPERLINK(Table1[[#This Row],[Hyperlink]],\"Weblink\")","v":"Weblink"},"KidHaven Publishing","Library Bound Book",1,"2018","January 2018","Library","8.500 X 8.500","Author","Amy B. Rogers","4.9","0.5",null,null,"N",null,"Grade 3","Grade 3 - 5","Why do boys and girls often play on separate sports teams? Some might argue that biological differences play a part in separating genders on the athletic field. Others might say that sexist mindsets are the main reason for the division of genders in sports. These points of view, along with others, are presented to readers through informative, engaging main text, fact boxes, and graphic organizers. As readers study these different perspectives on the same issue, they develop their own informed opinions and gain a deeper understanding of gender and its role in everyday life.","English",24.6,19.68,"344.73'099--dc23","24 pp.","https://greenhavenpublishing.com/978-1-5345-2421-7",{"$f":"Table1[[#This Row],['# of Books]]*Table1[[#This Row],[QTY]]","v":0},{"$f":"Table1[[#This Row],[QTY]]*Table1[[#This Row],[School & Library Price]]","v":0}]
[null,null,null,14,9,"Current Issues","Points of View","Should Girls Play Sports with Boys?","978-1-5345-2422-4",{"$f":"HYPERLINK(Table1[[#This Row],[Hyperlink]],\"Weblink\")","v":"Weblink"},"KidHaven Publishing","eBook",1,"2018","January 2018",null,null,"Author","Amy B. Rogers","4.9","0.5",null,null,"N",null,"Grade 3","Grade 3 - 5","Why do boys and girls often play on separate sports teams? Some might argue that biological differences play a part in separating genders on the athletic field. Others might say that sexist mindsets are the main reason for the division of genders in sports. These points of view, along with others, are presented to readers through informative, engaging main text, fact boxes, and graphic organizers. As readers study these different perspectives on the same issue, they develop their own informed opinions and gain a deeper understanding of gender and its role in everyday life.","English",24.6,19.68,"344.73'099--dc23","24 pp.","https://greenhavenpublishing.com/978-1-5345-2422-4",{"$f":"Table1[[#This Row],['# of Books]]*Table1[[#This Row],[QTY]]","v":0},{"$f":"Table1[[#This Row],[QTY]]*Table1[[#This Row],[School & Library Price]]","v":0}]
[null,null,null,14,9,"Current Issues","Points of View","Should Junk Food Be Banned in Schools?","978-1-5345-2419-4",{"$f":"HYPERLINK(Table1[[#This Row],[Hyperlink]],\"Weblink\")","v":"Weblink"},"KidHaven Publishing","Library Bound Book",1,"2018","January 2018","Library","8.500 X 8.500","Author","Riley Lawrence","5.5","0.5",null,null,"N",null,"Grade 3","Grade 3 - 5","The debate over junk food in schools brings up important points about childhood obesity, public health, and personal choice. All these issues are addressed as readers view arguments both for and against banning junk food in school cafeterias. The balanced, fact-filled text encourages readers to develop their own informed opinions about this issue that directly affects their lives. Colorful photographs, a detailed graphic organizer, and additional fact boxes enhance the main text to give readers a comprehensive understanding of this ongoing debate.","English",24.6,19.68,"371.7'160973--dc23","24 pp.","https://greenhavenpublishing.com/978-1-5345-2419-4",{"$f":"Table1[[#This Row],['# of Books]]*Table1[[#This Row],[QTY]]","v":0},{"$f":"Table1[[#This Row],[QTY]]*Table1[[#This Row],[School & Library Price]]","v":0}]
[null,null,null,14,9,"Current Issues","Points of View","Should Junk Food Be Banned in Schools?","978-1-5345-2420-0",{"$f":"HYPERLINK(Table1[[#This Row],[Hyperlink]],\"Weblink\")","v":"Weblink"},"KidHaven Publishing","eBook",1,"2018","January 2018",null,null,"Author","Riley Lawrence","5.5","0.5",null,null,"N",null,"Grade 3","Grade 3 - 5","The debate over junk food in schools brings up important points about childhood obesity, public health, and personal choice. All these issues are addressed as readers view arguments both for and against banning junk food in school cafeterias. The balanced, fact-filled text encourages readers to develop their own informed opinions about this issue that directly affects their lives. Colorful photographs, a detailed graphic organizer, and additional fact boxes enhance the main text to give readers a comprehensive understanding of this ongoing debate.","English",24.6,19.68,"371.7'160973--dc23","24 pp.","https://greenhavenpublishing.com/978-1-5345-2420-0",{"$f":"Table1[[#This Row],['# of Books]]*Table1[[#This Row],[QTY]]","v":0},{"$f":"Table1[[#This Row],[QTY]]*Table1[[#This Row],[School & Library Price]]","v":0}]
[null,null,null,14,9,"Current Issues","Points of View","Who Should See What You're Doing Online?","978-1-5345-2423-1",{"$f":"HYPERLINK(Table1[[#This Row],[Hyperlink]],\"Weblink\")","v":"Weblink"},"KidHaven Publishing","Library Bound Book",1,"2018","January 2018","Library","8.500 X 8.500","Author","Emma Jones","5.8","0.5",null,null,"N",null,"Grade 3","Grade 3 - 5","Privacy has always been a major concern for young people, and with the rise of laptops, tablets, and smartphones, it is much easier for them to hide what they're doing from adults. However, there are still ways for parents, teachers, and even the government to see what young people are doing online. Is this ethical? Is it necessary? These questions and more are posed as readers explore the complex issue of privacy in the digital age. Balanced main text, informative fact boxes, and visual elements such as photographs and graphic organizers give readers a comprehensive understanding of this topical issue.","English",24.6,19.68,"004.67'8--dc23","24 pp.","https://greenhavenpublishing.com/978-1-5345-2423-1",{"$f":"Table1[[#This Row],['# of Books]]*Table1[[#This Row],[QTY]]","v":0},{"$f":"Table1[[#This Row],[QTY]]*Table1[[#This Row],[School & Library Price]]","v":0}]
[null,null,null,14,9,"Current Issues","Points of View","Who Should See What You're Doing Online?","978-1-5345-2424-8",{"$f":"HYPERLINK(Table1[[#This Row],[Hyperlink]],\"Weblink\")","v":"Weblink"},"KidHaven Publishing","eBook",1,"2018","January 2018",null,null,"Author","Emma Jones","5.8","0.5",null,null,"N",null,"Grade 3","Grade 3 - 5","Privacy has always been a major concern for young people, and with the rise of laptops, tablets, and smartphones, it is much easier for them to hide what they're doing from adults. However, there are still ways for parents, teachers, and even the government to see what young people are doing online. Is this ethical? Is it necessary? These questions and more are posed as readers explore the complex issue of privacy in the digital age. Balanced main text, informative fact boxes, and visual elements such as photographs and graphic organizers give readers a comprehensive understanding of this topical issue.","English",24.6,19.68,"004.67'8--dc23","24 pp.","https://greenhavenpublishing.com/978-1-5345-2424-8",{"$f":"Table1[[#This Row],['# of Books]]*Table1[[#This Row],[QTY]]","v":0},{"$f":"Table1[[#This Row],[QTY]]*Table1[[#This Row],[School & Library Price]]","v":0}]
[null,null,null,14,9,"Current Issues","Points of View","Should School Lunches Be Free?","978-1-5345-2334-0",{"$f":"HYPERLINK(Table1[[#This Row],[Hyperlink]],\"Weblink\")","v":"Weblink"},"KidHaven Publishing","Library Bound Book",1,"2018","August 2017","Library","8.500 X 8.500","Author","David Anthony",null,null,null,null,"N",null,"Grade 3","Grade 3 - 5","School lunches should be free for all students. Some people might strongly agree with this statement, while others might strongly disagree. In order to engage in a debate about this topic that affects readers' everyday lives, readers first need to understand both sides. They are able to do this with the help of balanced main text, fact boxes, and graphic organizers. Different points of view are clearly presented to readers, who are encouraged to think critically about an issue that would impact them and their families. This valuable reading experience is enhanced through the use of colorful photographs.","English",24.6,19.68,"371.7'16--dc23","24 pp.","https://greenhavenpublishing.com/978-1-5345-2334-0",{"$f":"Table1[[#This Row],['# of Books]]*Table1[[#This Row],[QTY]]","v":0},{"$f":"Table1[[#This Row],[QTY]]*Table1[[#This Row],[School & Library Price]]","v":0}]
[null,null,null,14,9,"Current Issues","Points of View","Should School Lunches Be Free?","978-1-5345-2335-7",{"$f":"HYPERLINK(Table1[[#This Row],[Hyperlink]],\"Weblink\")","v":"Weblink"},"KidHaven Publishing","eBook",1,"2018","August 2017",null,null,"Author","David Anthony",null,null,null,null,"N",null,"Grade 3","Grade 3 - 5","School lunches should be free for all students. Some people might strongly agree with this statement, while others might strongly disagree. In order to engage in a debate about this topic that affects readers' everyday lives, readers first need to understand both sides. They are able to do this with the help of balanced main text, fact boxes, and graphic organizers. Different points of view are clearly presented to readers, who are encouraged to think critically about an issue that would impact them and their families. This valuable reading experience is enhanced through the use of colorful photographs.","English",24.6,19.68,"371.7'16--dc23","24 pp.","https://greenhavenpublishing.com/978-1-5345-2335-7",{"$f":"Table1[[#This Row],['# of Books]]*Table1[[#This Row],[QTY]]","v":0},{"$f":"Table1[[#This Row],[QTY]]*Table1[[#This Row],[School & Library Price]]","v":0}]
[null,null,null,14,9,"Current Issues","Points of View","Should Students Have to Take Tests?","978-1-5345-2346-3",{"$f":"HYPERLINK(Table1[[#This Row],[Hyperlink]],\"Weblink\")","v":"Weblink"},"KidHaven Publishing","Library Bound Book",1,"2018","August 2017","Library","8.500 X 8.500","Author","Robert M. Hamilton ",null,null,null,null,"N",null,"Grade 3","Grade 3 - 5","Most students would gladly stop taking tests, but is that really the best thing for them? Through enlightening main text, detailed fact boxes, colorful photographs, and helpful graphic organizers, readers are presented with opposing points of view on the importance of testing students. Readers are encouraged to use the information they discover to form their own opinions and back those opinions up with relevant facts. By exposing readers to multiple points of view, this text instills in them an appreciation for respectful debate and vital critical thinking skills.","English",24.6,19.68,"371.26--dc23","24 pp.","https://greenhavenpublishing.com/978-1-5345-2346-3",{"$f":"Table1[[#This Row],['# of Books]]*Table1[[#This Row],[QTY]]","v":0},{"$f":"Table1[[#This Row],[QTY]]*Table1[[#This Row],[School & Library Price]]","v":0}]
[null,null,null,14,9,"Current Issues","Points of View","Should Students Have to Take Tests?","978-1-5345-2347-0",{"$f":"HYPERLINK(Table1[[#This Row],[Hyperlink]],\"Weblink\")","v":"Weblink"},"KidHaven Publishing","eBook",1,"2018","August 2017",null,null,"Author","Robert M. Hamilton ",null,null,null,null,"N",null,"Grade 3","Grade 3 - 5","Most students would gladly stop taking tests, but is that really the best thing for them? Through enlightening main text, detailed fact boxes, colorful photographs, and helpful graphic organizers, readers are presented with opposing points of view on the importance of testing students. Readers are encouraged to use the information they discover to form their own opinions and back those opinions up with relevant facts. By exposing readers to multiple points of view, this text instills in them an appreciation for respectful debate and vital critical thinking skills.","English",24.6,19.68,"371.26--dc23","24 pp.","https://greenhavenpublishing.com/978-1-5345-2347-0",{"$f":"Table1[[#This Row],['# of Books]]*Table1[[#This Row],[QTY]]","v":0},{"$f":"Table1[[#This Row],[QTY]]*Table1[[#This Row],[School & Library Price]]","v":0}]
[null,null,null,14,9,"Current Issues","Points of View","Should We Keep Animals in Zoos?","978-1-5345-2327-2",{"$f":"HYPERLINK(Table1[[#This Row],[Hyperlink]],\"Weblink\")","v":"Weblink"},"KidHaven Publishing","Library Bound Book",1,"2018","August 2017","Library","8.500 X 8.500","Author","Nick Christopher",null,null,null,null,"N",null,"Grade 3","Grade 3 - 5","Are zoos ethical? There is not one right answer to this challenging question. Readers discover the different arguments that can be made in favor of and against zoos. These different points of view are presented with relevant facts to support them, encouraging readers to understand the different sides of the debate surrounding zoos. Clear main text, eye-catching fact boxes, and detailed graphic organizers help readers make their own informed opinion. Full-color photographs are included to enhance a reading experience that sharpens essential critical thinking skills and encourages readers to approach controversial topics with an open mind.","English",24.6,19.68,"590.74--dc23","24 pp.","https://greenhavenpublishing.com/978-1-5345-2327-2",{"$f":"Table1[[#This Row],['# of Books]]*Table1[[#This Row],[QTY]]","v":0},{"$f":"Table1[[#This Row],[QTY]]*Table1[[#This Row],[School & Library Price]]","v":0}]
[null,null,null,14,9,"Current Issues","Points of View","Should We Keep Animals in Zoos?","978-1-5345-2328-9",{"$f":"HYPERLINK(Table1[[#This Row],[Hyperlink]],\"Weblink\")","v":"Weblink"},"KidHaven Publishing","eBook",1,"2018","August 2017",null,null,"Author","Nick Christopher",null,null,null,null,"N",null,"Grade 3","Grade 3 - 5","Are zoos ethical? There is not one right answer to this challenging question. Readers discover the different arguments that can be made in favor of and against zoos. These different points of view are presented with relevant facts to support them, encouraging readers to understand the different sides of the debate surrounding zoos. Clear main text, eye-catching fact boxes, and detailed graphic organizers help readers make their own informed opinion. Full-color photographs are included to enhance a reading experience that sharpens essential critical thinking skills and encourages readers to approach controversial topics with an open mind.","English",24.6,19.68,"590.74--dc23","24 pp.","https://greenhavenpublishing.com/978-1-5345-2328-9",{"$f":"Table1[[#This Row],['# of Books]]*Table1[[#This Row],[QTY]]","v":0},{"$f":"Table1[[#This Row],[QTY]]*Table1[[#This Row],[School & Library Price]]","v":0}]
[null,null,null,14,9,"Current Issues","Points of View","Should We Pay for Water?","978-1-5345-2330-2",{"$f":"HYPERLINK(Table1[[#This Row],[Hyperlink]],\"Weblink\")","v":"Weblink"},"KidHaven Publishing","Library Bound Book",1,"2018","August 2017","Library","8.500 X 8.500","Author","Robert M. Hamilton ",null,null,null,null,"N",null,"Grade 3","Grade 3 - 5","Water is a natural resource we need to survive. Knowing this, is it right that we have to pay for it? Readers explore the different ways this challenging question can be answered, developing strong critical thinking skills as they evaluate arguments for and against paying for water. Essential facts needed to understand each point of view are presented through age-appropriate text, informative fact boxes, and clear graphic organizers. Vivid photographs keep readers engaged as they learn the information necessary to develop their own informed opinion and to respect the opinions of others when discussing this important issue.","English",24.6,19.68,"333.91--dc23","24 pp.","https://greenhavenpublishing.com/978-1-5345-2330-2",{"$f":"Table1[[#This Row],['# of Books]]*Table1[[#This Row],[QTY]]","v":0},{"$f":"Table1[[#This Row],[QTY]]*Table1[[#This Row],[School & Library Price]]","v":0}]
[null,null,null,14,9,"Current Issues","Points of View","Should We Pay for Water?","978-1-5345-2331-9",{"$f":"HYPERLINK(Table1[[#This Row],[Hyperlink]],\"Weblink\")","v":"Weblink"},"KidHaven Publishing","eBook",1,"2018","August 2017",null,null,"Author","Robert M. Hamilton ",null,null,null,null,"N",null,"Grade 3","Grade 3 - 5","Water is a natural resource we need to survive. Knowing this, is it right that we have to pay for it? Readers explore the different ways this challenging question can be answered, developing strong critical thinking skills as they evaluate arguments for and against paying for water. Essential facts needed to understand each point of view are presented through age-appropriate text, informative fact boxes, and clear graphic organizers. Vivid photographs keep readers engaged as they learn the information necessary to develop their own informed opinion and to respect the opinions of others when discussing this important issue.","English",24.6,19.68,"333.91--dc23","24 pp.","https://greenhavenpublishing.com/978-1-5345-2331-9",{"$f":"Table1[[#This Row],['# of Books]]*Table1[[#This Row],[QTY]]","v":0},{"$f":"Table1[[#This Row],[QTY]]*Table1[[#This Row],[School & Library Price]]","v":0}]
[null,null,null,14,9,"Current Issues","Points of View","Why Are Some People Homeless?","978-1-5345-2338-8",{"$f":"HYPERLINK(Table1[[#This Row],[Hyperlink]],\"Weblink\")","v":"Weblink"},"KidHaven Publishing","Library Bound Book",1,"2018","August 2017","Library","8.500 X 8.500","Author","Emma Jones",null,null,null,null,"N","930L","Grade 3","Grade 3 - 5","Homelessness is a problem that affects millions of people around the world. When discussing important issues such as homelessness, it is important to understand the pertinent facts in order to form a solid argument. Readers are presented with those pertinent facts through enlightening main text and helpful text features, including fact boxes and graphic organizers. Full-color photographs accompany this vital information. People approach social issues such as homelessness from different points of view, and readers are introduced to new perspectives as they enhance their own critical thinking skills.","English",24.6,19.68,"362.5'92--dc23","24 pp.","https://greenhavenpublishing.com/978-1-5345-2338-8",{"$f":"Table1[[#This Row],['# of Books]]*Table1[[#This Row],[QTY]]","v":0},{"$f":"Table1[[#This Row],[QTY]]*Table1[[#This Row],[School & Library Price]]","v":0}]
[null,null,null,14,9,"Current Issues","Points of View","Why Are Some People Homeless?","978-1-5345-2339-5",{"$f":"HYPERLINK(Table1[[#This Row],[Hyperlink]],\"Weblink\")","v":"Weblink"},"KidHaven Publishing","eBook",1,"2018","August 2017",null,null,"Author","Emma Jones",null,null,null,null,"N","930L","Grade 3","Grade 3 - 5","Homelessness is a problem that affects millions of people around the world. When discussing important issues such as homelessness, it is important to understand the pertinent facts in order to form a solid argument. Readers are presented with those pertinent facts through enlightening main text and helpful text features, including fact boxes and graphic organizers. Full-color photographs accompany this vital information. People approach social issues such as homelessness from different points of view, and readers are introduced to new perspectives as they enhance their own critical thinking skills.","English",24.6,19.68,"362.5'92--dc23","24 pp.","https://greenhavenpublishing.com/978-1-5345-2339-5",{"$f":"Table1[[#This Row],['# of Books]]*Table1[[#This Row],[QTY]]","v":0},{"$f":"Table1[[#This Row],[QTY]]*Table1[[#This Row],[School & Library Price]]","v":0}]
[null,null,null,15,11,"Current Issues","What's the Issue?","What's the Issue?: Sets 1 – 5","978-1-5345-3224-3",{"$f":"HYPERLINK(Table1[[#This Row],[Hyperlink]],\"Weblink\")","v":"Weblink"},"KidHaven Publishing","Library Set",30,"2020","January 2020","Library","8.500 X 8.500",null,null,null,null,null,null,null,null,"Grade 3","Grade 3 - 5","The next generation of active citizens will find themselves immersed in topics as varied as gender identity, climate change, and human rights as they explore accessible guides to important global issues. Language and examples young people can understand are presented alongside engaging visual elements such as fact boxes, full-color photographs, and graphic organizers. This creates an exciting reading experience that fosters the development of critical thinking skills and an informed worldview. With each turn of the page, readers are encouraged to learn more about the world around them and how they can make it a better place. Features include: Balanced and objective texts include relevant facts and statistics to help readers develop intelligent opinions about current events. Lists of age-appropriate actions encourage activism and empathy so that young people can get involved with issues they care about. Historical and civics content is included to help readers connect current events to what they've learned in the classroom.","English",738,590.4,null,"24 pp.","https://greenhavenpublishing.com/978-1-5345-3224-3",{"$f":"Table1[[#This Row],['# of Books]]*Table1[[#This Row],[QTY]]","v":0},{"$f":"Table1[[#This Row],[QTY]]*Table1[[#This Row],[School & Library Price]]","v":0}]
[null,null,null,15,11,"Current Issues","What's the Issue?","What's the Issue?: Set 5","978-1-5345-3223-6",{"$f":"HYPERLINK(Table1[[#This Row],[Hyperlink]],\"Weblink\")","v":"Weblink"},"KidHaven Publishing","Library Set",6,"2020","January 2020","Library","8.500 X 8.500",null,null,null,null,null,null,null,null,"Grade 3","Grade 3 - 5","Issues such as environmental conservation, gender identity, student rights, and nationalism affect people of all ages, so young people must be given the tools to understand these and other current events topics. These tools include age-appropriate examples, informative fact boxes, helpful graphic organizers, and full-color photographs. This accessible exploration of important issues presents a balanced overview of controversial topics and avoids scare tactics, favoring facts over fear. Armed with the knowledge they need to think for themselves about the world around them, readers are inspired to do their part to make it a better place. Features include: Different viewpoints on each issue are included to encourage critical thinking about current events. Informative main texts include connections between current events and a variety of curriculum topics. Suggestions for ways young people can confront these issues in their community support age-appropriate activism.","English",147.6,118.08,null,"24 pp.","https://greenhavenpublishing.com/978-1-5345-3223-6",{"$f":"Table1[[#This Row],['# of Books]]*Table1[[#This Row],[QTY]]","v":0},{"$f":"Table1[[#This Row],[QTY]]*Table1[[#This Row],[School & Library Price]]","v":0}]
[null,null,null,15,11,"Current Issues","What's the Issue?","What Are Student Rights?","978-1-5345-3219-9",{"$f":"HYPERLINK(Table1[[#This Row],[Hyperlink]],\"Weblink\")","v":"Weblink"},"KidHaven Publishing","Library Bound Book",1,"2020","January 2020","Library","8.500 X 8.500","Author","Amy B. Rogers",null,null,null,null,"N",null,"Grade 3","Grade 3 - 5","What rights do students have, and how do they differ from the rights of adults? Readers are challenged to think deeply and critically about these questions as they explore their rights as students. The informative main text provides essential historical context and explains legal rulings in accessible language. Fact boxes and graphic organizers enhance readers' knowledge of this important topic. Full-color photographs provide relatable examples of students exercising their rights. This helpful introduction to student rights encourages activism, informed citizenship, and a deeper understanding of the relationship between rights and responsibilities.","English",24.6,19.68,"344.73'0793--dc23","24 pp.","https://greenhavenpublishing.com/978-1-5345-3219-9",{"$f":"Table1[[#This Row],['# of Books]]*Table1[[#This Row],[QTY]]","v":0},{"$f":"Table1[[#This Row],[QTY]]*Table1[[#This Row],[School & Library Price]]","v":0}]
[null,null,null,15,11,"Current Issues","What's the Issue?","What Are Student Rights?","978-1-5345-3228-1",{"$f":"HYPERLINK(Table1[[#This Row],[Hyperlink]],\"Weblink\")","v":"Weblink"},"KidHaven Publishing","eBook",1,"2020","January 2020",null,null,"Author","Amy B. Rogers",null,null,null,null,"N",null,"Grade 3","Grade 3 - 5","What rights do students have, and how do they differ from the rights of adults? Readers are challenged to think deeply and critically about these questions as they explore their rights as students. The informative main text provides essential historical context and explains legal rulings in accessible language. Fact boxes and graphic organizers enhance readers' knowledge of this important topic. Full-color photographs provide relatable examples of students exercising their rights. This helpful introduction to student rights encourages activism, informed citizenship, and a deeper understanding of the relationship between rights and responsibilities.","English",24.6,19.68,"344.73'0793--dc23","24 pp.","https://greenhavenpublishing.com/978-1-5345-3228-1",{"$f":"Table1[[#This Row],['# of Books]]*Table1[[#This Row],[QTY]]","v":0},{"$f":"Table1[[#This Row],[QTY]]*Table1[[#This Row],[School & Library Price]]","v":0}]
[null,null,null,15,11,"Current Issues","What's the Issue?","What Are Trade Wars?","978-1-5345-3222-9",{"$f":"HYPERLINK(Table1[[#This Row],[Hyperlink]],\"Weblink\")","v":"Weblink"},"KidHaven Publishing","Library Bound Book",1,"2020","January 2020","Library","8.500 X 8.500","Author","Sophie Washburne",null,null,null,null,"N",null,"Grade 3","Grade 3 - 5","Trade wars affect everyone from world leaders to young people shopping at the mall. Because of this, it's important for people to have a basic understanding of why trade wars happen and how ordinary citizens can deal with their effects. Readers develop this understanding as they explore this age-appropriate and unbiased introduction to the concept of trade wars. Featuring historical examples that supplement social studies curricula and modern examples that encourage critical thinking about current events, this helpful guide enhances readers' understanding of basic economics. Fact boxes, graphic organizers, and full-color photographs make this an engaging reading experience.","English",24.6,19.68,"382'.73--dc23","24 pp.","https://greenhavenpublishing.com/978-1-5345-3222-9",{"$f":"Table1[[#This Row],['# of Books]]*Table1[[#This Row],[QTY]]","v":0},{"$f":"Table1[[#This Row],[QTY]]*Table1[[#This Row],[School & Library Price]]","v":0}]
[null,null,null,15,11,"Current Issues","What's the Issue?","What Are Trade Wars?","978-1-5345-3225-0",{"$f":"HYPERLINK(Table1[[#This Row],[Hyperlink]],\"Weblink\")","v":"Weblink"},"KidHaven Publishing","eBook",1,"2020","January 2020",null,null,"Author","Sophie Washburne",null,null,null,null,"N",null,"Grade 3","Grade 3 - 5","Trade wars affect everyone from world leaders to young people shopping at the mall. Because of this, it's important for people to have a basic understanding of why trade wars happen and how ordinary citizens can deal with their effects. Readers develop this understanding as they explore this age-appropriate and unbiased introduction to the concept of trade wars. Featuring historical examples that supplement social studies curricula and modern examples that encourage critical thinking about current events, this helpful guide enhances readers' understanding of basic economics. Fact boxes, graphic organizers, and full-color photographs make this an engaging reading experience.","English",24.6,19.68,"382'.73--dc23","24 pp.","https://greenhavenpublishing.com/978-1-5345-3225-0",{"$f":"Table1[[#This Row],['# of Books]]*Table1[[#This Row],[QTY]]","v":0},{"$f":"Table1[[#This Row],[QTY]]*Table1[[#This Row],[School & Library Price]]","v":0}]
[null,null,null,15,11,"Current Issues","What's the Issue?","What's Fracking?","978-1-5345-3217-5",{"$f":"HYPERLINK(Table1[[#This Row],[Hyperlink]],\"Weblink\")","v":"Weblink"},"KidHaven Publishing","Library Bound Book",1,"2020","January 2020","Library","8.500 X 8.500","Author","David Anthony",null,null,null,null,"N",null,"Grade 3","Grade 3 - 5","The practice of hydraulic fracturing has become a prominent issue as countries such as the United States strive for energy independence. What is fracking, and why is it such a controversial topic? Readers discover the answers to these questions and more through balanced text that presents multiple viewpoints about fracking. Fact boxes and graphic organizers provide additional information, and full-color photographs help readers better understand how fracking works and its effects on the environment. As readers explore this current events issue, they're also introduced to important information about natural resources, fossil fuels, and alternative energy sources.","English",24.6,19.68,"622/.338--dc23","24 pp.","https://greenhavenpublishing.com/978-1-5345-3217-5",{"$f":"Table1[[#This Row],['# of Books]]*Table1[[#This Row],[QTY]]","v":0},{"$f":"Table1[[#This Row],[QTY]]*Table1[[#This Row],[School & Library Price]]","v":0}]
[null,null,null,15,11,"Current Issues","What's the Issue?","What's Fracking?","978-1-5345-3230-4",{"$f":"HYPERLINK(Table1[[#This Row],[Hyperlink]],\"Weblink\")","v":"Weblink"},"KidHaven Publishing","eBook",1,"2020","January 2020",null,null,"Author","David Anthony",null,null,null,null,"N",null,"Grade 3","Grade 3 - 5","The practice of hydraulic fracturing has become a prominent issue as countries such as the United States strive for energy independence. What is fracking, and why is it such a controversial topic? Readers discover the answers to these questions and more through balanced text that presents multiple viewpoints about fracking. Fact boxes and graphic organizers provide additional information, and full-color photographs help readers better understand how fracking works and its effects on the environment. As readers explore this current events issue, they're also introduced to important information about natural resources, fossil fuels, and alternative energy sources.","English",24.6,19.68,"622/.338--dc23","24 pp.","https://greenhavenpublishing.com/978-1-5345-3230-4",{"$f":"Table1[[#This Row],['# of Books]]*Table1[[#This Row],[QTY]]","v":0},{"$f":"Table1[[#This Row],[QTY]]*Table1[[#This Row],[School & Library Price]]","v":0}]
[null,null,null,15,11,"Current Issues","What's the Issue?","What's Gender Identity?","978-1-5345-3218-2",{"$f":"HYPERLINK(Table1[[#This Row],[Hyperlink]],\"Weblink\")","v":"Weblink"},"KidHaven Publishing","Library Bound Book",1,"2020","January 2020","Library","8.500 X 8.500","Author","Katie Kawa",null,null,null,null,"N",null,"Grade 3","Grade 3 - 5","Gender identity is a concept that young people are talking about in increasingly open ways, and they need resources to help them better understand this complex topic. This sensitive and age-appropriate overview of gender identity features helpful definitions and explanations, an introduction to the use of preferred pronouns, and tips for talking to both peers and adults about this topic. Fact boxes and graphic organizers supplement the carefully researched main text, and full-color photographs make this topic more accessible and relatable for young readers. As they explore the informative narrative, they're encouraged to develop empathy and an appreciation for diversity.","English",24.6,19.68,"305.3--dc23","24 pp.","https://greenhavenpublishing.com/978-1-5345-3218-2",{"$f":"Table1[[#This Row],['# of Books]]*Table1[[#This Row],[QTY]]","v":0},{"$f":"Table1[[#This Row],[QTY]]*Table1[[#This Row],[School & Library Price]]","v":0}]
[null,null,null,15,11,"Current Issues","What's the Issue?","What's Gender Identity?","978-1-5345-3229-8",{"$f":"HYPERLINK(Table1[[#This Row],[Hyperlink]],\"Weblink\")","v":"Weblink"},"KidHaven Publishing","eBook",1,"2020","January 2020",null,null,"Author","Katie Kawa",null,null,null,null,"N",null,"Grade 3","Grade 3 - 5","Gender identity is a concept that young people are talking about in increasingly open ways, and they need resources to help them better understand this complex topic. This sensitive and age-appropriate overview of gender identity features helpful definitions and explanations, an introduction to the use of preferred pronouns, and tips for talking to both peers and adults about this topic. Fact boxes and graphic organizers supplement the carefully researched main text, and full-color photographs make this topic more accessible and relatable for young readers. As they explore the informative narrative, they're encouraged to develop empathy and an appreciation for diversity.","English",24.6,19.68,"305.3--dc23","24 pp.","https://greenhavenpublishing.com/978-1-5345-3229-8",{"$f":"Table1[[#This Row],['# of Books]]*Table1[[#This Row],[QTY]]","v":0},{"$f":"Table1[[#This Row],[QTY]]*Table1[[#This Row],[School & Library Price]]","v":0}]
[null,null,null,15,11,"Current Issues","What's the Issue?","What's Hacking?","978-1-5345-3221-2",{"$f":"HYPERLINK(Table1[[#This Row],[Hyperlink]],\"Weblink\")","v":"Weblink"},"KidHaven Publishing","Library Bound Book",1,"2020","January 2020","Library","8.500 X 8.500","Author","Daniel Donato",null,null,null,null,"N",null,"Grade 3","Grade 3 - 5","Hacking is a major problem for individuals and governments around the world. Hackers can steal private citizens' identities, release government secrets, and even try to influence elections. However, many people are working to stop hackers and to protect information. Readers develop a strong understanding of hacking and the efforts to combat it through informative text that focuses on facts rather than fear. Graphic organizers, fact boxes, and full-color photographs provide additional information and examples. This accessible introduction to an important issue enhances critical thinking skills and gives young people tips to better protect themselves online.","English",24.6,19.68,"364.16'8--dc23","24 pp.","https://greenhavenpublishing.com/978-1-5345-3221-2",{"$f":"Table1[[#This Row],['# of Books]]*Table1[[#This Row],[QTY]]","v":0},{"$f":"Table1[[#This Row],[QTY]]*Table1[[#This Row],[School & Library Price]]","v":0}]
[null,null,null,15,11,"Current Issues","What's the Issue?","What's Hacking?","978-1-5345-3226-7",{"$f":"HYPERLINK(Table1[[#This Row],[Hyperlink]],\"Weblink\")","v":"Weblink"},"KidHaven Publishing","eBook",1,"2020","January 2020",null,null,"Author","Daniel Donato",null,null,null,null,"N",null,"Grade 3","Grade 3 - 5","Hacking is a major problem for individuals and governments around the world. Hackers can steal private citizens' identities, release government secrets, and even try to influence elections. However, many people are working to stop hackers and to protect information. Readers develop a strong understanding of hacking and the efforts to combat it through informative text that focuses on facts rather than fear. Graphic organizers, fact boxes, and full-color photographs provide additional information and examples. This accessible introduction to an important issue enhances critical thinking skills and gives young people tips to better protect themselves online.","English",24.6,19.68,"364.16'8--dc23","24 pp.","https://greenhavenpublishing.com/978-1-5345-3226-7",{"$f":"Table1[[#This Row],['# of Books]]*Table1[[#This Row],[QTY]]","v":0},{"$f":"Table1[[#This Row],[QTY]]*Table1[[#This Row],[School & Library Price]]","v":0}]
[null,null,null,15,11,"Current Issues","What's the Issue?","What's Nationalism?","978-1-5345-3220-5",{"$f":"HYPERLINK(Table1[[#This Row],[Hyperlink]],\"Weblink\")","v":"Weblink"},"KidHaven Publishing","Library Bound Book",1,"2020","January 2020","Library","8.500 X 8.500","Author","Joyce Jeffries",null,null,null,null,"N",null,"Grade 3","Grade 3 - 5","The concept of nationalism is often in the news, and it can be challenging to understand why it often leads to heated debates. However, it's important for people to think critically about nationalism and its effects. Readers are encouraged to do this as they explore historical and up-to-date examples of nationalism through accessible text and detailed fact boxes. Graphic organizers provide additional information and avenues for further engagement, and full-color photographs enhance this learning experience. As readers explore this divisive concept, they're able to connect what they've learned in social studies classes to current events.","English",24.6,19.68,"320.54--dc23","24 pp.","https://greenhavenpublishing.com/978-1-5345-3220-5",{"$f":"Table1[[#This Row],['# of Books]]*Table1[[#This Row],[QTY]]","v":0},{"$f":"Table1[[#This Row],[QTY]]*Table1[[#This Row],[School & Library Price]]","v":0}]
[null,null,null,15,11,"Current Issues","What's the Issue?","What's Nationalism?","978-1-5345-3227-4",{"$f":"HYPERLINK(Table1[[#This Row],[Hyperlink]],\"Weblink\")","v":"Weblink"},"KidHaven Publishing","eBook",1,"2020","January 2020",null,null,"Author","Joyce Jeffries",null,null,null,null,"N",null,"Grade 3","Grade 3 - 5","The concept of nationalism is often in the news, and it can be challenging to understand why it often leads to heated debates. However, it's important for people to think critically about nationalism and its effects. Readers are encouraged to do this as they explore historical and up-to-date examples of nationalism through accessible text and detailed fact boxes. Graphic organizers provide additional information and avenues for further engagement, and full-color photographs enhance this learning experience. As readers explore this divisive concept, they're able to connect what they've learned in social studies classes to current events.","English",24.6,19.68,"320.54--dc23","24 pp.","https://greenhavenpublishing.com/978-1-5345-3227-4",{"$f":"Table1[[#This Row],['# of Books]]*Table1[[#This Row],[QTY]]","v":0},{"$f":"Table1[[#This Row],[QTY]]*Table1[[#This Row],[School & Library Price]]","v":0}]
[null,null,null,null,10,"Current Issues","What's the Issue?","What's the Issue?: Set 4","978-1-5345-3004-1",{"$f":"HYPERLINK(Table1[[#This Row],[Hyperlink]],\"Weblink\")","v":"Weblink"},"KidHaven Publishing","Library Set",6,"2020","August 2019","Library","8.500 X 8.500",null,null,null,null,null,null,null,null,"Grade 3","Grade 3 - 5","The news often features reports about natural disasters, stories about activism can be seen on social media feeds, and adults sometimes complain about taxes. For many young people, though, these and other important issues can seem inaccessible. However, when these topics are presented using age-appropriate photographs and language students understand, they can inspire young people to become more informed and active citizens. As readers explore these accessible examinations of current global concerns, they develop a better understanding of the world around them and what they can do to make it a better place. Features include: Relevant data and statistics are presented in fact boxes to encourage readers to use facts to support their opinions. Graphic organizers of achievable lists of actions help young people get involved with causes. A variety of viewpoints on each topic help readers develop critical thinking skills.","English",147.6,118.08,null,"24 pp.","https://greenhavenpublishing.com/978-1-5345-3004-1",{"$f":"Table1[[#This Row],['# of Books]]*Table1[[#This Row],[QTY]]","v":0},{"$f":"Table1[[#This Row],[QTY]]*Table1[[#This Row],[School & Library Price]]","v":0}]
[null,null,null,15,10,"Current Issues","What's the Issue?","What Are Human Rights?","978-1-5345-6737-5",{"$f":"HYPERLINK(Table1[[#This Row],[Hyperlink]],\"Weblink\")","v":"Weblink"},"KidHaven Publishing","Library Bound Book",1,"2020","August 2019","Library","8.500 X 8.500","Author","Amy B. Rogers",null,null,null,null,"N",null,"Grade 3","Grade 3 - 5","What are human rights? This is a complex question, and the way people answer it affects government policies, laws, and even wars around the world. Readers are introduced to the concept of human rights in an accessible way that features concrete statistics presented in fact boxes and full-color photographs that depict this issue in a global setting. Graphic organizers provide additional information as well as ideas for how young people can respect the rights of others and support the work of human rights organizations around the world.","English",24.6,19.68,"323--dc23","24 pp.","https://greenhavenpublishing.com/978-1-5345-6737-5",{"$f":"Table1[[#This Row],['# of Books]]*Table1[[#This Row],[QTY]]","v":0},{"$f":"Table1[[#This Row],[QTY]]*Table1[[#This Row],[School & Library Price]]","v":0}]
[null,null,null,15,10,"Current Issues","What's the Issue?","What Are Human Rights?","978-1-5345-3002-7",{"$f":"HYPERLINK(Table1[[#This Row],[Hyperlink]],\"Weblink\")","v":"Weblink"},"KidHaven Publishing","eBook",1,"2020","August 2019",null,null,"Author","Amy B. Rogers",null,null,null,null,"N",null,"Grade 3","Grade 3 - 5","What are human rights? This is a complex question, and the way people answer it affects government policies, laws, and even wars around the world. Readers are introduced to the concept of human rights in an accessible way that features concrete statistics presented in fact boxes and full-color photographs that depict this issue in a global setting. Graphic organizers provide additional information as well as ideas for how young people can respect the rights of others and support the work of human rights organizations around the world.","English",24.6,19.68,"323--dc23","24 pp.","https://greenhavenpublishing.com/978-1-5345-3002-7",{"$f":"Table1[[#This Row],['# of Books]]*Table1[[#This Row],[QTY]]","v":0},{"$f":"Table1[[#This Row],[QTY]]*Table1[[#This Row],[School & Library Price]]","v":0}]
[null,null,null,15,10,"Current Issues","What's the Issue?","What Are Natural Disasters?","978-1-5345-6734-4",{"$f":"HYPERLINK(Table1[[#This Row],[Hyperlink]],\"Weblink\")","v":"Weblink"},"KidHaven Publishing","Library Bound Book",1,"2020","August 2019","Library","8.500 X 8.500","Author","Joyce Jeffries",null,null,null,null,"N",null,"Grade 3","Grade 3 - 5","When natural disasters such as hurricanes and wildfires strike, it can be frightening, not just for people living through the event, but also for young people watching coverage on television or social media. By giving elementary readers objective information presented in a sensitive way, this guide to natural disasters aims to empower young people to protect themselves and help others. Additional information is presented through fact boxes and graphic organizers, and full-color photographs present natural disasters and their aftermath in an age-appropriate way. How can young people play a part in disaster relief? They'll find the answer inside.","English",24.6,19.68,"363.34--dc23","24 pp.","https://greenhavenpublishing.com/978-1-5345-6734-4",{"$f":"Table1[[#This Row],['# of Books]]*Table1[[#This Row],[QTY]]","v":0},{"$f":"Table1[[#This Row],[QTY]]*Table1[[#This Row],[School & Library Price]]","v":0}]
[null,null,null,15,10,"Current Issues","What's the Issue?","What Are Natural Disasters?","978-1-5345-6735-1",{"$f":"HYPERLINK(Table1[[#This Row],[Hyperlink]],\"Weblink\")","v":"Weblink"},"KidHaven Publishing","eBook",1,"2020","August 2019",null,null,"Author","Joyce Jeffries",null,null,null,null,"N",null,"Grade 3","Grade 3 - 5","When natural disasters such as hurricanes and wildfires strike, it can be frightening, not just for people living through the event, but also for young people watching coverage on television or social media. By giving elementary readers objective information presented in a sensitive way, this guide to natural disasters aims to empower young people to protect themselves and help others. Additional information is presented through fact boxes and graphic organizers, and full-color photographs present natural disasters and their aftermath in an age-appropriate way. How can young people play a part in disaster relief? They'll find the answer inside.","English",24.6,19.68,"363.34--dc23","24 pp.","https://greenhavenpublishing.com/978-1-5345-6735-1",{"$f":"Table1[[#This Row],['# of Books]]*Table1[[#This Row],[QTY]]","v":0},{"$f":"Table1[[#This Row],[QTY]]*Table1[[#This Row],[School & Library Price]]","v":0}]
[null,null,null,15,10,"Current Issues","What's the Issue?","What Are Taxes?","978-1-5345-6731-3",{"$f":"HYPERLINK(Table1[[#This Row],[Hyperlink]],\"Weblink\")","v":"Weblink"},"KidHaven Publishing","Library Bound Book",1,"2020","August 2019","Library","8.500 X 8.500","Author","Joseph Stanley",null,null,null,null,"N",null,"Grade 3","Grade 3 - 5","Young people often hear adults complaining about taxes at home and on the news, but the facts about taxes aren't always easy for them to understand. However, this guide to an essential civics topic introduces elementary readers to the basic facts about taxes: what they are, what they're used for, and who pays them. Helpful graphic organizers, eye-catching fact boxes, and full-color photographs complement the informative narrative. Even though it may be many years before readers have to start paying their own taxes, it is never too early to learn about this important part of life.","English",24.6,19.68,"336.200973--dc23","24 pp.","https://greenhavenpublishing.com/978-1-5345-6731-3",{"$f":"Table1[[#This Row],['# of Books]]*Table1[[#This Row],[QTY]]","v":0},{"$f":"Table1[[#This Row],[QTY]]*Table1[[#This Row],[School & Library Price]]","v":0}]
[null,null,null,15,10,"Current Issues","What's the Issue?","What Are Taxes?","978-1-5345-6732-0",{"$f":"HYPERLINK(Table1[[#This Row],[Hyperlink]],\"Weblink\")","v":"Weblink"},"KidHaven Publishing","eBook",1,"2020","August 2019",null,null,"Author","Joseph Stanley",null,null,null,null,"N",null,"Grade 3","Grade 3 - 5","Young people often hear adults complaining about taxes at home and on the news, but the facts about taxes aren't always easy for them to understand. However, this guide to an essential civics topic introduces elementary readers to the basic facts about taxes: what they are, what they're used for, and who pays them. Helpful graphic organizers, eye-catching fact boxes, and full-color photographs complement the informative narrative. Even though it may be many years before readers have to start paying their own taxes, it is never too early to learn about this important part of life.","English",24.6,19.68,"336.200973--dc23","24 pp.","https://greenhavenpublishing.com/978-1-5345-6732-0",{"$f":"Table1[[#This Row],['# of Books]]*Table1[[#This Row],[QTY]]","v":0},{"$f":"Table1[[#This Row],[QTY]]*Table1[[#This Row],[School & Library Price]]","v":0}]
[null,null,null,15,10,"Current Issues","What's the Issue?","What's Activism?","978-1-5345-6741-2",{"$f":"HYPERLINK(Table1[[#This Row],[Hyperlink]],\"Weblink\")","v":"Weblink"},"KidHaven Publishing","Library Bound Book",1,"2020","August 2019","Library","8.500 X 8.500","Author","Leslie Beckett",null,null,null,null,"N",null,"Grade 3","Grade 3 - 5","Activism is ageless; you're never too young to try to make the world a better place. That's the lesson readers take away from this accessible guide to activism. Realistic ideas for making a difference and making your voice heard are included in both the main text and detailed graphic organizers. Fact boxes and full-color photographs are also included to enhance the reading experience. Examples of famous activists from the past and present are included to give readers role models, but they're also encouraged to find their own path to age-appropriate activism.","English",24.6,19.68,"320.083--dc23","24 pp.","https://greenhavenpublishing.com/978-1-5345-6741-2",{"$f":"Table1[[#This Row],['# of Books]]*Table1[[#This Row],[QTY]]","v":0},{"$f":"Table1[[#This Row],[QTY]]*Table1[[#This Row],[School & Library Price]]","v":0}]
[null,null,null,15,10,"Current Issues","What's the Issue?","What's Activism?","978-1-5345-6742-9",{"$f":"HYPERLINK(Table1[[#This Row],[Hyperlink]],\"Weblink\")","v":"Weblink"},"KidHaven Publishing","eBook",1,"2020","August 2019",null,null,"Author","Leslie Beckett",null,null,null,null,"N",null,"Grade 3","Grade 3 - 5","Activism is ageless; you're never too young to try to make the world a better place. That's the lesson readers take away from this accessible guide to activism. Realistic ideas for making a difference and making your voice heard are included in both the main text and detailed graphic organizers. Fact boxes and full-color photographs are also included to enhance the reading experience. Examples of famous activists from the past and present are included to give readers role models, but they're also encouraged to find their own path to age-appropriate activism.","English",24.6,19.68,"320.083--dc23","24 pp.","https://greenhavenpublishing.com/978-1-5345-6742-9",{"$f":"Table1[[#This Row],['# of Books]]*Table1[[#This Row],[QTY]]","v":0},{"$f":"Table1[[#This Row],[QTY]]*Table1[[#This Row],[School & Library Price]]","v":0}]
[null,null,null,15,10,"Current Issues","What's the Issue?","What's Freedom of the Press?","978-1-5345-6738-2",{"$f":"HYPERLINK(Table1[[#This Row],[Hyperlink]],\"Weblink\")","v":"Weblink"},"KidHaven Publishing","Library Bound Book",1,"2020","August 2019","Library","8.500 X 8.500","Author","Katie Kawa",null,null,null,null,"N",null,"Grade 3","Grade 3 - 5","Freedom of the press is an issue that's often in the spotlight. Some people believe it's an essential part of a democracy, while others believe the press has too much freedom. Before readers can join in this debate about the press and the factors threatening its freedom, they need to know the facts about this topic. Facts are presented using accessible language and fact boxes that simplify complicated data and statistics. Readers deepen their understanding of this important civics and media literacy topic through relevant photographs and graphic organizers that encourage the development of critical thinking skills.","English",24.6,19.68,"323.445--dc23","24 pp.","https://greenhavenpublishing.com/978-1-5345-6738-2",{"$f":"Table1[[#This Row],['# of Books]]*Table1[[#This Row],[QTY]]","v":0},{"$f":"Table1[[#This Row],[QTY]]*Table1[[#This Row],[School & Library Price]]","v":0}]
[null,null,null,15,10,"Current Issues","What's the Issue?","What's Freedom of the Press?","978-1-5345-6739-9",{"$f":"HYPERLINK(Table1[[#This Row],[Hyperlink]],\"Weblink\")","v":"Weblink"},"KidHaven Publishing","eBook",1,"2020","August 2019",null,null,"Author","Katie Kawa",null,null,null,null,"N",null,"Grade 3","Grade 3 - 5","Freedom of the press is an issue that's often in the spotlight. Some people believe it's an essential part of a democracy, while others believe the press has too much freedom. Before readers can join in this debate about the press and the factors threatening its freedom, they need to know the facts about this topic. Facts are presented using accessible language and fact boxes that simplify complicated data and statistics. Readers deepen their understanding of this important civics and media literacy topic through relevant photographs and graphic organizers that encourage the development of critical thinking skills.","English",24.6,19.68,"323.445--dc23","24 pp.","https://greenhavenpublishing.com/978-1-5345-6739-9",{"$f":"Table1[[#This Row],['# of Books]]*Table1[[#This Row],[QTY]]","v":0},{"$f":"Table1[[#This Row],[QTY]]*Table1[[#This Row],[School & Library Price]]","v":0}]
[null,null,null,15,10,"Current Issues","What's the Issue?","Who Are Veterans?","978-1-5345-2999-1",{"$f":"HYPERLINK(Table1[[#This Row],[Hyperlink]],\"Weblink\")","v":"Weblink"},"KidHaven Publishing","Library Bound Book",1,"2020","August 2019","Library","8.500 X 8.500","Author","Emma Jones",null,null,null,null,"N",null,"Grade 3","Grade 3 - 5","Many brave men and women have served their country in the armed forces. Although these veterans are often praised as heroes, life isn't always easy for them when they return home. Veterans' issues, such as education, employment, mental health, and homelessness are important issues for all Americans to understand. As readers discover the truth about these issues through age-appropriate main text, full-color photographs, graphic organizers, and fact boxes, they also discover the ways they can show veterans they're thankful for their service. This sensitive text also provides support for readers with a veteran in their family.","English",24.6,19.68,"305.9/06970973--dc23","24 pp.","https://greenhavenpublishing.com/978-1-5345-2999-1",{"$f":"Table1[[#This Row],['# of Books]]*Table1[[#This Row],[QTY]]","v":0},{"$f":"Table1[[#This Row],[QTY]]*Table1[[#This Row],[School & Library Price]]","v":0}]
[null,null,null,15,10,"Current Issues","What's the Issue?","Who Are Veterans?","978-1-5345-3000-3",{"$f":"HYPERLINK(Table1[[#This Row],[Hyperlink]],\"Weblink\")","v":"Weblink"},"KidHaven Publishing","eBook",1,"2020","August 2019",null,null,"Author","Emma Jones",null,null,null,null,"N",null,"Grade 3","Grade 3 - 5","Many brave men and women have served their country in the armed forces. Although these veterans are often praised as heroes, life isn't always easy for them when they return home. Veterans' issues, such as education, employment, mental health, and homelessness are important issues for all Americans to understand. As readers discover the truth about these issues through age-appropriate main text, full-color photographs, graphic organizers, and fact boxes, they also discover the ways they can show veterans they're thankful for their service. This sensitive text also provides support for readers with a veteran in their family.","English",24.6,19.68,"305.9/06970973--dc23","24 pp.","https://greenhavenpublishing.com/978-1-5345-3000-3",{"$f":"Table1[[#This Row],['# of Books]]*Table1[[#This Row],[QTY]]","v":0},{"$f":"Table1[[#This Row],[QTY]]*Table1[[#This Row],[School & Library Price]]","v":0}]
[null,null,null,15,10,"Current Issues","What's the Issue?","What Are Political Parties?","978-1-5345-2815-4",{"$f":"HYPERLINK(Table1[[#This Row],[Hyperlink]],\"Weblink\")","v":"Weblink"},"KidHaven Publishing","Library Bound Book",1,"2019","January 2019","Library","8.500 X 8.500","Author","Joyce Jeffries","6.1","0.5",null,null,"N",null,"Grade 3","Grade 3 - 5","Division along political party lines has become an issue that concerns many in the United States, but it is not a new problem. As readers explore the history and current landscape of political parties, they learn the reasons why political parties formed, what different parties stand for, and what can bring people from different parties together. The detailed main text, which is enhanced by fun fact boxes and full-color photographs, supports social studies curriculum topics. A detailed graphic organizer encourages young people to look beyond political differences and to embrace ways to become active citizens.","English",24.6,19.68,"324.273--dc23","24 pp.","https://greenhavenpublishing.com/978-1-5345-2815-4",{"$f":"Table1[[#This Row],['# of Books]]*Table1[[#This Row],[QTY]]","v":0},{"$f":"Table1[[#This Row],[QTY]]*Table1[[#This Row],[School & Library Price]]","v":0}]
[null,null,null,15,10,"Current Issues","What's the Issue?","What’s Border Security?","978-1-5345-2807-9",{"$f":"HYPERLINK(Table1[[#This Row],[Hyperlink]],\"Weblink\")","v":"Weblink"},"KidHaven Publishing","eBook",1,"2019","January 2019",null,null,"Author","Emma Jones",null,null,null,null,"N",null,"Grade 3","Grade 3 - 5","Border security is a topic that's often talked about by politicians, on the news, and on social media, but what does it mean? Readers discover the answer as they explore the heated debates surrounding this controversial issue. The unbiased main text enhances critical-thinking skills by encouraging readers to understand the many different points of view people have about border security. Full-color photographs and fact boxes create a unique and informative reading experience, and a helpful graphic organizer makes this crucial current events topic feel more accessible to young readers.","English",24.6,19.68,"363.28'502373--dc23","24 pp.","https://greenhavenpublishing.com/978-1-5345-2807-9",{"$f":"Table1[[#This Row],['# of Books]]*Table1[[#This Row],[QTY]]","v":0},{"$f":"Table1[[#This Row],[QTY]]*Table1[[#This Row],[School & Library Price]]","v":0}]
[null,null,null,15,10,"Current Issues","What's the Issue?","What’s Freedom of Religion?","978-1-5345-2795-9",{"$f":"HYPERLINK(Table1[[#This Row],[Hyperlink]],\"Weblink\")","v":"Weblink"},"KidHaven Publishing","Library Bound Book",1,"2019","January 2019","Library","8.500 X 8.500","Author","Joseph Stanley","6.3","0.5",null,null,"N",null,"Grade 3","Grade 3 - 5","Freedom of religion is an important part of life in the United States. What does religious freedom actually entail, and why is it a controversial issue? Readers explore the answers to these questions as they learn about the history of religious freedom in the United States and how it compares to other countries. The fact-filled main text addresses this sensitive issue in an unbiased way, and full-color photographs encourage readers to appreciate religious diversity. Eye-catching fact boxes provide additional information about this current events topic, and a graphic organizer provides examples of how to practice tolerance.","English",24.6,19.68,"342.7308'53--dc23","24 pp.","https://greenhavenpublishing.com/978-1-5345-2795-9",{"$f":"Table1[[#This Row],['# of Books]]*Table1[[#This Row],[QTY]]","v":0},{"$f":"Table1[[#This Row],[QTY]]*Table1[[#This Row],[School & Library Price]]","v":0}]
[null,null,null,15,10,"Current Issues","What's the Issue?","What’s Freedom of Religion?","978-1-5345-2808-6",{"$f":"HYPERLINK(Table1[[#This Row],[Hyperlink]],\"Weblink\")","v":"Weblink"},"KidHaven Publishing","eBook",1,"2019","January 2019",null,null,"Author","Joseph Stanley","6.3","0.5",null,null,"N",null,"Grade 3","Grade 3 - 5","Freedom of religion is an important part of life in the United States. What does religious freedom actually entail, and why is it a controversial issue? Readers explore the answers to these questions as they learn about the history of religious freedom in the United States and how it compares to other countries. The fact-filled main text addresses this sensitive issue in an unbiased way, and full-color photographs encourage readers to appreciate religious diversity. Eye-catching fact boxes provide additional information about this current events topic, and a graphic organizer provides examples of how to practice tolerance.","English",24.6,19.68,"342.7308'53--dc23","24 pp.","https://greenhavenpublishing.com/978-1-5345-2808-6",{"$f":"Table1[[#This Row],['# of Books]]*Table1[[#This Row],[QTY]]","v":0},{"$f":"Table1[[#This Row],[QTY]]*Table1[[#This Row],[School & Library Price]]","v":0}]
[null,null,null,15,11,"Current Issues","What's the Issue?","What’s Free Speech?","978-1-5345-2599-3",{"$f":"HYPERLINK(Table1[[#This Row],[Hyperlink]],\"Weblink\")","v":"Weblink"},"KidHaven Publishing","Library Bound Book",1,"2019","August 2018","Library","8.500 X 8.500","Author","Katie Kawa",null,null,null,null,"N",null,"Grade 3","Grade 3 - 5","Some people believe free speech means you can say whatever you want and no one can get mad at you or punish you for it. Readers learn this isn't exactly the truth as they explore one of the most important aspects of any free society. The concept of free speech and what it means has been debated for centuries, and as readers take a closer look at all sides of this debate, they sharpen their critical-thinking skills. Fact boxes, colorful photographs, and detailed graphic organizers enhance the main text to give readers a stronger understanding of this essential civics concept.","English",24.6,19.68,"342.7308/53--dc23","24 pp.","https://greenhavenpublishing.com/978-1-5345-2599-3",{"$f":"Table1[[#This Row],['# of Books]]*Table1[[#This Row],[QTY]]","v":0},{"$f":"Table1[[#This Row],[QTY]]*Table1[[#This Row],[School & Library Price]]","v":0}]
[null,null,null,15,11,"Current Issues","What's the Issue?","What’s Universal Health Care?","978-1-5345-2598-6",{"$f":"HYPERLINK(Table1[[#This Row],[Hyperlink]],\"Weblink\")","v":"Weblink"},"KidHaven Publishing","eBook",1,"2019","August 2018",null,null,"Author","Lorraine Harrison",null,null,null,null,"N",null,"Grade 3","Grade 3 - 5","Health care is a complicated topic that many adults struggle to understand. However, young readers need to know the facts about an issue that directly affects them now and will continue to directly affect them throughout their lives. This volume was designed to give young readers a basic understanding of the concept of universal health care and why people support and oppose it. Readers are presented with concise, unbiased information about both sides of the universal health care debate. The accessible main text is accompanied by informative fact boxes, graphic organizers, and full-color photographs.","English",24.6,19.68,"368.3'8'00973--dc23","24 pp.","https://greenhavenpublishing.com/978-1-5345-2598-6",{"$f":"Table1[[#This Row],['# of Books]]*Table1[[#This Row],[QTY]]","v":0},{"$f":"Table1[[#This Row],[QTY]]*Table1[[#This Row],[School & Library Price]]","v":0}]
[null,null,null,15,11,"Current Issues","What's the Issue?","What's Climate Change?","978-1-5345-2432-3",{"$f":"HYPERLINK(Table1[[#This Row],[Hyperlink]],\"Weblink\")","v":"Weblink"},"KidHaven Publishing","eBook",1,"2018","January 2018",null,null,"Author","Robert M. Hamilton ","5.1","0.5",null,null,"N","940L","Grade 3","Grade 3 - 5","Climate change is an issue that affects all living things on Earth, but the specifics of the issue are often spoken and written about using complex scientific language, making it difficult for young people to fully grasp why it is such a critical problem. When presented in an accessible way, however, readers are able to gain a deeper understanding of the causes and effects of climate change, as well as why they should care about this issue. Striking, full-color photographs, detailed fact boxes, and informative graphic organizers help readers as they explore this hot topic.","English",24.6,19.68,"363.738/74--dc23","24 pp.","https://greenhavenpublishing.com/978-1-5345-2432-3",{"$f":"Table1[[#This Row],['# of Books]]*Table1[[#This Row],[QTY]]","v":0},{"$f":"Table1[[#This Row],[QTY]]*Table1[[#This Row],[School & Library Price]]","v":0}]
[null,null,null,15,11,"Current Issues","What's the Issue?","What's Racism?","978-1-5345-2437-8",{"$f":"HYPERLINK(Table1[[#This Row],[Hyperlink]],\"Weblink\")","v":"Weblink"},"KidHaven Publishing","Library Bound Book",1,"2018","January 2018","Library","8.500 X 8.500","Author","Amy B. Rogers","5.9","0.5",null,null,"N",null,"Grade 3","Grade 3 - 5","Racism is a difficult issue to face, but people must confront it if they hope to move beyond it. Confronting challenging social issues such as racism often begins with education. As readers discover the roots of racism in America and how it still isolates people from one another, they learn what their generation can do to combat racism create a more inclusive society. This sensitive topic is presented in an age-appropriate an informative way, using fact boxes, graphic organizers, and full-color photographs enhance the reading experience.","English",24.6,19.68,"305.800973--dc23","24 pp.","https://greenhavenpublishing.com/978-1-5345-2437-8",{"$f":"Table1[[#This Row],['# of Books]]*Table1[[#This Row],[QTY]]","v":0},{"$f":"Table1[[#This Row],[QTY]]*Table1[[#This Row],[School & Library Price]]","v":0}]
[null,null,null,15,11,"Current Issues","What's the Issue?","What’s Gun Control?","978-1-5345-2442-2",{"$f":"HYPERLINK(Table1[[#This Row],[Hyperlink]],\"Weblink\")","v":"Weblink"},"KidHaven Publishing","eBook",1,"2018","January 2018",null,null,"Author","Kate Rogers","6","0.5",null,null,"N",null,"Grade 3","Grade 3 - 5","Gun control is a popular topic of debate on news programs and online, but these debates are sensationalized and often do not fully explain the issue and the points of view of people on both sides of it. Readers are given a clearer picture of what gun control means and why people support and oppose it through fact-filled text and relevant, full-color photographs. Fact boxes and graphic organizers supply readers with additional details to help them develop their own informed opinion on this topic and understand those whose opinion differs from theirs.","English",24.6,19.68,"323.4'3--dc23","24 pp.","https://greenhavenpublishing.com/978-1-5345-2442-2",{"$f":"Table1[[#This Row],['# of Books]]*Table1[[#This Row],[QTY]]","v":0},{"$f":"Table1[[#This Row],[QTY]]*Table1[[#This Row],[School & Library Price]]","v":0}]
[null,null,null,16,null,"Biographies","People Who Make a Difference","People Who Make a Difference: Set 1","978-1-5345-3492-6",{"$f":"HYPERLINK(Table1[[#This Row],[Hyperlink]],\"Weblink\")","v":"Weblink"},"KidHaven Publishing","Library Set",6,"2021","August 2020","Library","8.500 X 8.500",null,null,null,null,null,null,null,null,"Grade 3","Grade 3 - 5","Anyone can use his or her unique talents to make a difference in the world. This is the lesson readers are shown through engaging and empowering stories about the lives of some of today's biggest stars and famous names including Lady Gaga, Lin-Manuel Miranda, Megan Rapinoe, and Alexandria Ocasio-Cortez. The accessible biographical narratives are supplemented with timelines, graphic organizers, and vibrant photographs of these men and women in action. Your readers will be inspired to think about how to follow in impressive footsteps by using their own strengths and skills to help people. Features include: Carefully selected variety of subjects includes athletes, musicians, actors, politicians, and technology innovators to appeal to a wide range of readers. Quote boxes highlight empowering messages from each subject. Suggestions are included for age-appropriate ways that readers can use their passions and skills to make a difference.","English",147.6,118.08,null,"24 pp.","https://greenhavenpublishing.com/978-1-5345-3492-6",{"$f":"Table1[[#This Row],['# of Books]]*Table1[[#This Row],[QTY]]","v":0},{"$f":"Table1[[#This Row],[QTY]]*Table1[[#This Row],[School & Library Price]]","v":0}]
[null,null,null,16,null,"Biographies","People Who Make a Difference","Elon Musk: Making a Difference Through Technology","978-1-5345-3482-7",{"$f":"HYPERLINK(Table1[[#This Row],[Hyperlink]],\"Weblink\")","v":"Weblink"},"KidHaven Publishing","Library Bound Book",1,"2021","August 2020","Library","8.500 X 8.500","Author","Katie Kawa",null,null,null,null,"O",null,"Grade 3","Grade 3 - 5","Technology can change the world in important ways, and Elon Musk is an innovator whose ideas are already making a difference in the lives of many people. From space travel to electric cars, Musk's many technological advancements are highlighted in this accessible look at his life and work. As readers explore fascinating biographical text, informative quotes, and full-color photographs, they will be inspired to think about technology topics in a new way. By viewing STEM subjects through a biographical lens, readers are able to see how they can someday apply what they learn in science class to the world around them.","English",24.6,19.68,"338.092--dc23","24 pp.","https://greenhavenpublishing.com/978-1-5345-3482-7",{"$f":"Table1[[#This Row],['# of Books]]*Table1[[#This Row],[QTY]]","v":0},{"$f":"Table1[[#This Row],[QTY]]*Table1[[#This Row],[School & Library Price]]","v":0}]
[null,null,null,16,null,"Biographies","People Who Make a Difference","Lady Gaga: Making a Difference as a Musician","978-1-5345-3478-0",{"$f":"HYPERLINK(Table1[[#This Row],[Hyperlink]],\"Weblink\")","v":"Weblink"},"KidHaven Publishing","Library Bound Book",1,"2021","August 2020","Library","8.500 X 8.500","Author","Katie Kawa",null,null,null,null,"O",null,"Grade 3","Grade 3 - 5","From the earliest days of her career, Lady Gaga has used her music to inspire people to love themselves for who they are. Your readers will discover the years of bullying that pushed Lady Gaga to become a force for positivity and inclusivity in show business. They'll see how musicians can create songs that really do make a difference in people's lives. The insightful biographical text and quotes from Lady Gaga highlight the ways she's used her fame to speak out about body positivity, the LGBTQ community, mental health, and bullying prevention.","English",24.6,19.68,"782.42164092--dc23","24 pp.","https://greenhavenpublishing.com/978-1-5345-3478-0",{"$f":"Table1[[#This Row],['# of Books]]*Table1[[#This Row],[QTY]]","v":0},{"$f":"Table1[[#This Row],[QTY]]*Table1[[#This Row],[School & Library Price]]","v":0}]
[null,null,null,16,null,"Biographies","People Who Make a Difference","Megan Rapinoe: Making a Difference as an Athlete","978-1-5345-3475-9",{"$f":"HYPERLINK(Table1[[#This Row],[Hyperlink]],\"Weblink\")","v":"Weblink"},"KidHaven Publishing","eBook",1,"2021","August 2020",null,null,"Author","Katie Kawa",null,null,null,null,"O",null,"Grade 3","Grade 3 - 5","Athletes inspire people both on and off the field, and Megan Rapinoe understands her responsibility to use her fame and visibility to push for positive changes in her sport and in the world as a whole. Young sports fans will be captivated by stories of Rapinoe's soccer stardom, but as they learn about her game-winning goals, they'll also learn about her advocacy for equal pay, racial equality, and LGBTQ+ rights. These topics are presented in an age-appropriate way, with the help of Rapinoe's own words highlighted in quote boxes and bright photographs of this superstar in action.","English",24.6,19.68,"796.3340922--dc23","24 pp.","https://greenhavenpublishing.com/978-1-5345-3475-9",{"$f":"Table1[[#This Row],['# of Books]]*Table1[[#This Row],[QTY]]","v":0},{"$f":"Table1[[#This Row],[QTY]]*Table1[[#This Row],[School & Library Price]]","v":0}]
[null,null,null,17,null,"Health and Medicine","The KidHaven Health Library","What Happens When Someone Has ADHD?","978-1-5345-3254-0",{"$f":"HYPERLINK(Table1[[#This Row],[Hyperlink]],\"Weblink\")","v":"Weblink"},"KidHaven Publishing","eBook",1,"2020","January 2020",null,null,"Author","Katie Kawa",null,null,null,null,"R",null,"Grade 4","Grade 3 - 5","Attention-deficit/hyperactivity disorder or ADHD is a relatively common disorder, but many misconceptions about it still exist. Readers discover the truth about ADHD as they explore this fact-filled guide. Information about causes, symptoms, and treatment is presented in a way that simplifies medical jargon, and sidebars, diagrams, and graphic organizers further explain science concepts. Along with relatable, full-color photographs, these engaging elements work together to help readers better understand ADHD, which is crucial for readers living with this disorder. This knowledge also helps readers support family members or friends with ADHD.","English",27.25,21.8,"618.92'8589--dc23","32 pp.","https://greenhavenpublishing.com/978-1-5345-3254-0",{"$f":"Table1[[#This Row],['# of Books]]*Table1[[#This Row],[QTY]]","v":0},{"$f":"Table1[[#This Row],[QTY]]*Table1[[#This Row],[School & Library Price]]","v":0}]
[null,null,null,17,null,"Health and Medicine","The KidHaven Health Library","What Happens When Someone Has Asthma?","978-1-5345-3247-2",{"$f":"HYPERLINK(Table1[[#This Row],[Hyperlink]],\"Weblink\")","v":"Weblink"},"KidHaven Publishing","Library Bound Book",1,"2020","January 2020","Library","8.500 X 11.00","Author","Katie Kawa",null,null,null,null,"R",null,"Grade 4","Grade 3 - 5","An asthma attack can be a frightening thing to experience or to witness, but knowing the facts about asthma can help people prepare themselves as thoroughly as possible. These facts include detailed information about what causes asthma and what can be done to treat it, which readers learn through exploring detailed main text, sidebars, and graphic organizers. Diagrams and full-color photographs help readers visualize the biological processes affected by asthma. Readers discover that people with asthma can still lead active and exciting lives, which helps to erase the stigma surrounding this medical condition.","English",27.25,21.8,"618.92/238--dc23","32 pp.","https://greenhavenpublishing.com/978-1-5345-3247-2",{"$f":"Table1[[#This Row],['# of Books]]*Table1[[#This Row],[QTY]]","v":0},{"$f":"Table1[[#This Row],[QTY]]*Table1[[#This Row],[School & Library Price]]","v":0}]
[null,null,null,17,null,"Health and Medicine","The KidHaven Health Library","What Happens When Someone Has Asthma?","978-1-5345-3251-9",{"$f":"HYPERLINK(Table1[[#This Row],[Hyperlink]],\"Weblink\")","v":"Weblink"},"KidHaven Publishing","eBook",1,"2020","January 2020",null,null,"Author","Katie Kawa",null,null,null,null,"R",null,"Grade 4","Grade 3 - 5","An asthma attack can be a frightening thing to experience or to witness, but knowing the facts about asthma can help people prepare themselves as thoroughly as possible. These facts include detailed information about what causes asthma and what can be done to treat it, which readers learn through exploring detailed main text, sidebars, and graphic organizers. Diagrams and full-color photographs help readers visualize the biological processes affected by asthma. Readers discover that people with asthma can still lead active and exciting lives, which helps to erase the stigma surrounding this medical condition.","English",27.25,21.8,"618.92/238--dc23","32 pp.","https://greenhavenpublishing.com/978-1-5345-3251-9",{"$f":"Table1[[#This Row],['# of Books]]*Table1[[#This Row],[QTY]]","v":0},{"$f":"Table1[[#This Row],[QTY]]*Table1[[#This Row],[School & Library Price]]","v":0}]
[null,null,null,17,null,"Health and Medicine","The KidHaven Health Library","What Happens When Someone Has Depression?","978-1-5345-3255-7",{"$f":"HYPERLINK(Table1[[#This Row],[Hyperlink]],\"Weblink\")","v":"Weblink"},"KidHaven Publishing","eBook",1,"2020","January 2020",null,null,"Author","Katie Kawa",null,null,null,null,"R",null,"Grade 4","Grade 3 - 5","Depression affects many people, and it can be confusing and sometimes scary for a young person to see a family member or friend suffering from it, or to find themselves struggling with symptoms of depression. However, knowing the facts about this mental illness can empower them to provide support for others and to take charge of their own health. They discover these facts through age-appropriate text and sidebars that provide scientific information, relatable examples, and advice. Graphic organizers, diagrams, and full-color photographs work with the text to give readers an empathetic and educational overview of this important mental health topic.","English",27.25,21.8,"616.85/27--dc23","32 pp.","https://greenhavenpublishing.com/978-1-5345-3255-7",{"$f":"Table1[[#This Row],['# of Books]]*Table1[[#This Row],[QTY]]","v":0},{"$f":"Table1[[#This Row],[QTY]]*Table1[[#This Row],[School & Library Price]]","v":0}]
[null,null,null,18,null,"Health and Medicine","Human Body Helpers","Using an Auto-Injector","978-1-5345-3542-8",{"$f":"HYPERLINK(Table1[[#This Row],[Hyperlink]],\"Weblink\")","v":"Weblink"},"KidHaven Publishing","Library Bound Book",1,"2021","August 2020","Library","8.500 X 8.500","Author","Harriet Brundle",null,null,null,null,"M",null,"Grade 2 - 3","Grade 2 - 4","Some people have allergic reactions to certain foods and substances, and these reactions can be serious and scary. However, help is on the way when someone uses an auto-injector. Your readers will learn about the importance of auto-injectors and how they help people who suffer an allergic reaction known as anaphylaxis. This subject matter, which can seem frightening to some, is presented in a lighthearted way that favors facts over fear. Charming illustrations are presented of auto-injectors and parts of the body serving as helpful characters that guide readers through this informative reading experience.","English",24.6,19.68,"615'.6--dc23","24 pp.","https://greenhavenpublishing.com/978-1-5345-3542-8",{"$f":"Table1[[#This Row],['# of Books]]*Table1[[#This Row],[QTY]]","v":0},{"$f":"Table1[[#This Row],[QTY]]*Table1[[#This Row],[School & Library Price]]","v":0}]
[null,null,null,18,null,"Health and Medicine","Human Body Helpers","Using Insulin","978-1-5345-3551-0",{"$f":"HYPERLINK(Table1[[#This Row],[Hyperlink]],\"Weblink\")","v":"Weblink"},"KidHaven Publishing","eBook",1,"2021","August 2020",null,null,"Author","Harriet Brundle",null,null,null,null,"M",null,"Grade 2 - 3","Grade 2 - 4","Some people have diabetes, which causes their bodies to have trouble making or using insulin. How can people with diabetes get the insulin they need? Readers find the answer with this relatable and engaging look at life with diabetes. They will discover how visiting the doctor is important when your body is not functioning properly. Charming illustrations and colorful characters enhance the reading experience and present information in a relatable and creative way. Informative fact boxes and a detailed glossary provide extra insight into this essential health topic that affects many families.","English",24.6,19.68,"616.4'62--dc23","24 pp.","https://greenhavenpublishing.com/978-1-5345-3551-0",{"$f":"Table1[[#This Row],['# of Books]]*Table1[[#This Row],[QTY]]","v":0},{"$f":"Table1[[#This Row],[QTY]]*Table1[[#This Row],[School & Library Price]]","v":0}]
[null,null,null,18,null,"Health and Medicine","Human Body Helpers","Wearing a Colostomy Bag","978-1-5345-3558-9",{"$f":"HYPERLINK(Table1[[#This Row],[Hyperlink]],\"Weblink\")","v":"Weblink"},"KidHaven Publishing","Library Bound Book",1,"2021","August 2020","Library","8.500 X 8.500","Author","Harriet Brundle",null,null,null,null,"M",null,"Grade 2 - 3","Grade 2 - 4","Wearing a colostomy bag may seem like a difficult thing to talk about, but with the support of charming illustrated characters and simple text, this health topic is made accessible for young readers. It is especially perfect for those looking for resources about their own use of a colostomy bag. The helpful main text gives readers the facts needed to be respectful and informed about this health topic. Readers discover the importance of colostomy bags, why people need them, and how they are used. Fact boxes and a glossary provide supplementary information. Colorful illustrations make this an enjoyable learning experience.","English",24.6,19.68,"617.5'547--dc23","24 pp.","https://greenhavenpublishing.com/978-1-5345-3558-9",{"$f":"Table1[[#This Row],['# of Books]]*Table1[[#This Row],[QTY]]","v":0},{"$f":"Table1[[#This Row],[QTY]]*Table1[[#This Row],[School & Library Price]]","v":0}]
[null,null,null,19,22,"Health and Medicine","Human Body Helpers","Using a Wheelchair","978-1-5345-2958-8",{"$f":"HYPERLINK(Table1[[#This Row],[Hyperlink]],\"Weblink\")","v":"Weblink"},"KidHaven Publishing","eBook",1,"2019","January 2019",null,null,"Author","Harriet Brundle","4.2","0.5",null,null,"M",null,"Grade 2 - 3","Grade 2 - 4","Colorful illustrated characters serve as friendly guides in this exploration of what life is like for someone who uses a wheelchair. The age-appropriate text encourages readers to develop empathy for people with disabilities and people who have been injured and need the use of a wheelchair. The text also serves as an important resource for young people who use a wheelchair and want to understand more about how the device works. Educational fact boxes and a detailed glossary of important terms provide additional understanding to help young learners grasp the science and technology behind this topic.","English",24.6,19.68,"617'.033--dc23","24 pp.","https://greenhavenpublishing.com/978-1-5345-2958-8",{"$f":"Table1[[#This Row],['# of Books]]*Table1[[#This Row],[QTY]]","v":0},{"$f":"Table1[[#This Row],[QTY]]*Table1[[#This Row],[School & Library Price]]","v":0}]
[null,null,null,19,22,"Health and Medicine","Human Body Helpers","Wearing Braces","978-1-5345-2945-8",{"$f":"HYPERLINK(Table1[[#This Row],[Hyperlink]],\"Weblink\")","v":"Weblink"},"KidHaven Publishing","Library Bound Book",1,"2019","January 2019","Library","8.500 X 8.500","Author","Harriet Brundle","4.5","0.5",null,null,"M",null,"Grade 2 - 3","Grade 2 - 4","Why do some people wear braces? How do braces work? Questions such as these are answered in this accessible text, which explains this common part of growing up in a creative way. It resonates with those who already wear braces and prepares those who may be nervous about having to wear braces. Illustrated characters, such as \"Millie Molar\" and \"Bertie Bracket\" are fun and friendly faces used to explain the basics of braces and encourage empathy toward those who wear them. In addition, informative fact boxes and a detailed glossary enhance understanding of the science and technology of braces.","English",24.6,19.68,"617.643--dc23","24 pp.","https://greenhavenpublishing.com/978-1-5345-2945-8",{"$f":"Table1[[#This Row],['# of Books]]*Table1[[#This Row],[QTY]]","v":0},{"$f":"Table1[[#This Row],[QTY]]*Table1[[#This Row],[School & Library Price]]","v":0}]
[null,null,null,20,null,"Health and Medicine","Under Your Skin","Cells","978-1-5345-3586-2",{"$f":"HYPERLINK(Table1[[#This Row],[Hyperlink]],\"Weblink\")","v":"Weblink"},"KidHaven Publishing","Library Bound Book",1,"2021","August 2020","Library","8.500 X 11.00","Author","John Wood",null,null,null,null,"T",null,"Grade 4 - 5","Grade 4 - 6","How many cells are in the human body? Questions like this are answered in this engaging look at cells. Readers learn that they are the building blocks of the human body. They'll go on an adventure with Dr. Seymour Skinless, who travels under the skin to investigate how our bodies work. Dr. Seymour Skinless explains how cells function, the structure of cells, and many useful facts on this essential science curriculum topic. Stimulating fact boxes, a thorough glossary, eye-catching illustrations and diagrams, and full-color photographs add to this exciting trip inside the human body.","English",27.25,21.8,"571.6--dc23","32 pp.","https://greenhavenpublishing.com/978-1-5345-3586-2",{"$f":"Table1[[#This Row],['# of Books]]*Table1[[#This Row],[QTY]]","v":0},{"$f":"Table1[[#This Row],[QTY]]*Table1[[#This Row],[School & Library Price]]","v":0}]
[null,null,null,20,null,"Health and Medicine","Under Your Skin","Cells","978-1-5345-3587-9",{"$f":"HYPERLINK(Table1[[#This Row],[Hyperlink]],\"Weblink\")","v":"Weblink"},"KidHaven Publishing","eBook",1,"2021","August 2020",null,null,"Author","John Wood",null,null,null,null,"T",null,"Grade 4 - 5","Grade 4 - 6","How many cells are in the human body? Questions like this are answered in this engaging look at cells. Readers learn that they are the building blocks of the human body. They'll go on an adventure with Dr. Seymour Skinless, who travels under the skin to investigate how our bodies work. Dr. Seymour Skinless explains how cells function, the structure of cells, and many useful facts on this essential science curriculum topic. Stimulating fact boxes, a thorough glossary, eye-catching illustrations and diagrams, and full-color photographs add to this exciting trip inside the human body.","English",27.25,21.8,"571.6--dc23","32 pp.","https://greenhavenpublishing.com/978-1-5345-3587-9",{"$f":"Table1[[#This Row],['# of Books]]*Table1[[#This Row],[QTY]]","v":0},{"$f":"Table1[[#This Row],[QTY]]*Table1[[#This Row],[School & Library Price]]","v":0}]
[null,null,null,20,null,"Health and Medicine","Under Your Skin","The Skeleton","978-1-5345-3598-5",{"$f":"HYPERLINK(Table1[[#This Row],[Hyperlink]],\"Weblink\")","v":"Weblink"},"KidHaven Publishing","Library Bound Book",1,"2021","August 2020","Library","8.500 X 11.00","Author, Author","John Wood, Harriet Brundle",null,null,null,null,"T",null,"Grade 4 - 5","Grade 4 - 6","Dr. Seymour Skinless takes readers on an adventure under the skin in this exciting look at the skeletal system. Through comprehensive main text, readers are presented with interesting facts on the different types of bones in our bodies, what bones are made of, and how they help us to move. Additional information is relayed through eye-catching fact boxes, a thorough glossary full of helpful terms, and detailed diagrams. Charming illustrations and vivid, full-color photographs add an exciting visual component to this introduction on a basic science curriculum topic.","English",27.25,21.8,"612.7'51--dc23","32 pp.","https://greenhavenpublishing.com/978-1-5345-3598-5",{"$f":"Table1[[#This Row],['# of Books]]*Table1[[#This Row],[QTY]]","v":0},{"$f":"Table1[[#This Row],[QTY]]*Table1[[#This Row],[School & Library Price]]","v":0}]
[null,null,null,21,13,"Guidance","A Kid's Guide to Feelings","Feeling Afraid","978-1-5345-2686-0",{"$f":"HYPERLINK(Table1[[#This Row],[Hyperlink]],\"Weblink\")","v":"Weblink"},"KidHaven Publishing","eBook",1,"2019","August 2018",null,null,"Author","Kirsty Holmes",null,null,null,null,"H",null,"Grade 1 - 2","Grade K - 2","Young readers explore the complex feeling of fear in this age-appropriate and accessible volume. They meet the colorful character Agent Afraid, who displays fearful emotions throughout the relatable main text. Readers are able to connect with the material easily and pinpoint things that cause their own feelings of fear. Through recognizing these feelings, they also learn ways to navigate them to help them feel safe and secure. The dazzling comic book style, cute illustrations, and full-color photographs engage readers as they learn more about this challenging emotion and how to handle feelings of fear and anxiety in a healthy way.","English",24.6,19.68,"155.4'1246--dc23","24 pp.","https://greenhavenpublishing.com/978-1-5345-2686-0",{"$f":"Table1[[#This Row],['# of Books]]*Table1[[#This Row],[QTY]]","v":0},{"$f":"Table1[[#This Row],[QTY]]*Table1[[#This Row],[School & Library Price]]","v":0}]
[null,null,null,21,13,"Guidance","A Kid's Guide to Feelings","Feeling Happy","978-1-5345-2679-2",{"$f":"HYPERLINK(Table1[[#This Row],[Hyperlink]],\"Weblink\")","v":"Weblink"},"KidHaven Publishing","Library Bound Book",1,"2019","August 2018","Library","8.500 X 8.500","Author","Kirsty Holmes",null,null,null,null,"H",null,"Grade 1 - 2","Grade K - 2","This fun-filled and age-appropriate book explores the ways in which we experience happiness. Young readers are introduced to the colorfully charismatic character Captain Cheerful, who exhibits happiness throughout the main text. The compelling comic book style, illustrations, and appealing, full-color photographs draw readers in, allowing them to relate more easily to this essential subject matter. They are also encouraged through the simple and accessible text to explore what causes emotional responses and how to embrace them with positivity. Readers are sure to have a smile on their face after engaging with this joyful text.","English",24.6,19.68,"152.4'2--dc23","24 pp.","https://greenhavenpublishing.com/978-1-5345-2679-2",{"$f":"Table1[[#This Row],['# of Books]]*Table1[[#This Row],[QTY]]","v":0},{"$f":"Table1[[#This Row],[QTY]]*Table1[[#This Row],[School & Library Price]]","v":0}]
[null,null,null,21,13,"Guidance","A Kid's Guide to Feelings","Feeling Happy","978-1-5345-2682-2",{"$f":"HYPERLINK(Table1[[#This Row],[Hyperlink]],\"Weblink\")","v":"Weblink"},"KidHaven Publishing","eBook",1,"2019","August 2018",null,null,"Author","Kirsty Holmes",null,null,null,null,"H",null,"Grade 1 - 2","Grade K - 2","This fun-filled and age-appropriate book explores the ways in which we experience happiness. Young readers are introduced to the colorfully charismatic character Captain Cheerful, who exhibits happiness throughout the main text. The compelling comic book style, illustrations, and appealing, full-color photographs draw readers in, allowing them to relate more easily to this essential subject matter. They are also encouraged through the simple and accessible text to explore what causes emotional responses and how to embrace them with positivity. Readers are sure to have a smile on their face after engaging with this joyful text.","English",24.6,19.68,"152.4'2--dc23","24 pp.","https://greenhavenpublishing.com/978-1-5345-2682-2",{"$f":"Table1[[#This Row],['# of Books]]*Table1[[#This Row],[QTY]]","v":0},{"$f":"Table1[[#This Row],[QTY]]*Table1[[#This Row],[School & Library Price]]","v":0}]
[null,null,null,21,13,"Guidance","A Kid's Guide to Feelings","Feeling Mad","978-1-5345-2671-6",{"$f":"HYPERLINK(Table1[[#This Row],[Hyperlink]],\"Weblink\")","v":"Weblink"},"KidHaven Publishing","Library Bound Book",1,"2019","August 2018","Library","8.500 X 8.500","Author","Kirsty Holmes",null,null,null,null,"H",null,"Grade 1 - 2","Grade K - 2","Young readers are introduced to healthy ways to deal with anger in this engaging book, which explores the feelings one gets when they get mad. They meet a colorful character named Raging Raccoon, who helps them understand this emotion. Through the engaging main text, eye-catching comic book design, and full-color photographs and illustrations, they learn what causes anger and how to properly approach dealing with those feelings. This important subject matter encourages kids to be in touch with their feelings, to express them in a healthy and functional way, and not to suppress them.","English",24.6,19.68,"152.4'7--dc23","24 pp.","https://greenhavenpublishing.com/978-1-5345-2671-6",{"$f":"Table1[[#This Row],['# of Books]]*Table1[[#This Row],[QTY]]","v":0},{"$f":"Table1[[#This Row],[QTY]]*Table1[[#This Row],[School & Library Price]]","v":0}]
[null,null,null,22,12,"Guidance","Topics to Talk About","Coping with a Disability","978-1-5345-2667-9",{"$f":"HYPERLINK(Table1[[#This Row],[Hyperlink]],\"Weblink\")","v":"Weblink"},"KidHaven Publishing","Library Bound Book",1,"2019","August 2018","Library","8.500 X 8.500","Author","Holly Duhig","3.5","0.5",null,null,"K",null,"Grade 2 - 3","Grade 2 - 4","Coping with a disability impacts life for many people, from the person with the disability to their friends and family. Readers are introduced to the struggles that may come with having a disability and how people with disabilities handle these possible hardships. They also learn it is important to have patience, respect, and compassion toward those with disabilities. The concise main text is enhanced by helpful fact boxes, and vibrant, full-color photographs presented in a scrapbook-style design. Readers who have a disability or who know someone who does will find relatable guidance with each turn of the page.","English",24.6,19.68,"613.087--dc23","24 pp.","https://greenhavenpublishing.com/978-1-5345-2667-9",{"$f":"Table1[[#This Row],['# of Books]]*Table1[[#This Row],[QTY]]","v":0},{"$f":"Table1[[#This Row],[QTY]]*Table1[[#This Row],[School & Library Price]]","v":0}]
[null,null,null,22,12,"Guidance","Topics to Talk About","Dealing with Bullying","978-1-5345-2663-1",{"$f":"HYPERLINK(Table1[[#This Row],[Hyperlink]],\"Weblink\")","v":"Weblink"},"KidHaven Publishing","Library Bound Book",1,"2019","August 2018","Library","8.500 X 8.500","Author","Holly Duhig","3.5","0.5",null,null,"K",null,"Grade 2 - 3","Grade 2 - 4","What does it feel like to be bullied? If you're being bullied, who can you talk to, and what can you do to make the situation better? Using a relatable, scrapbook-style format, this volume helps readers answer these and other common questions about dealing with bullying. The accessible text sheds light on the dangers of bullying and how these social issues affect everyone involved. Full-color photographs and fact boxes make this text guide readers through this sensitive examination of a difficult struggle that many young readers face.","English",24.6,19.68,"302.34'3--dc23","24 pp.","https://greenhavenpublishing.com/978-1-5345-2663-1",{"$f":"Table1[[#This Row],['# of Books]]*Table1[[#This Row],[QTY]]","v":0},{"$f":"Table1[[#This Row],[QTY]]*Table1[[#This Row],[School & Library Price]]","v":0}]
[null,null,null,22,12,"Guidance","Topics to Talk About","Living with Mom, Living with Dad","978-1-5345-2654-9",{"$f":"HYPERLINK(Table1[[#This Row],[Hyperlink]],\"Weblink\")","v":"Weblink"},"KidHaven Publishing","eBook",1,"2019","August 2018",null,null,"Author","Holly Duhig","3.3","0.5",null,null,"K",null,"Grade 2 - 3","Grade 2 - 4","Through accessible and relatable text, readers are exposed to what it's like to live with a single parent. Topics such as single parenting, separation, and divorce must be handled with care, and this volume addresses these issues with sensitivity and compassion. Readers expand their knowledge of social issues and are made aware of how to handle possible changes in a family dynamic. Full-color photographs, scrapbook-inspired design elements, and fact boxes provide extra insight into this topic. For readers looking for advice on living with a single parent or looking to better understand different family situations, this is an essential volume.","English",24.6,19.68,"306.89--dc23","24 pp.","https://greenhavenpublishing.com/978-1-5345-2654-9",{"$f":"Table1[[#This Row],['# of Books]]*Table1[[#This Row],[QTY]]","v":0},{"$f":"Table1[[#This Row],[QTY]]*Table1[[#This Row],[School & Library Price]]","v":0}]
[null,null,null,22,12,"Guidance","Topics to Talk About","Stepparents","978-1-5345-2659-4",{"$f":"HYPERLINK(Table1[[#This Row],[Hyperlink]],\"Weblink\")","v":"Weblink"},"KidHaven Publishing","Library Bound Book",1,"2019","August 2018","Library","8.500 X 8.500","Author","Holly Duhig","3.2","0.5",null,null,"K",null,"Grade 2 - 3","Grade 2 - 4","When parents get divorced or lose a spouse, eventually, they may get remarried, and the people they marry can become stepparents. Young readers learn about how to accept a new person who comes into their life after another parent's departure in this simple and compassionate text. This volume touches on all the changes that may occur in a child's life during the transitional period of welcoming a stepparent and approaches it with sensitivity and care. This important subject is enhanced through an age-appropriate glossary, helpful fact boxes, scrapbook-inspired design elements, and vibrant, full-color photographs.","English",24.6,19.68,"306.874'7--dc23","24 pp.","https://greenhavenpublishing.com/978-1-5345-2659-4",{"$f":"Table1[[#This Row],['# of Books]]*Table1[[#This Row],[QTY]]","v":0},{"$f":"Table1[[#This Row],[QTY]]*Table1[[#This Row],[School & Library Price]]","v":0}]
[null,null,null,23,14,"Math","First Math","Measuring","978-1-5345-2191-9",{"$f":"HYPERLINK(Table1[[#This Row],[Hyperlink]],\"Weblink\")","v":"Weblink"},"KidHaven Publishing","Library Bound Book",1,"2018","August 2017","Library","11.00 X 8.500","Author","Joanna Brundle",null,null,null,null,"A","520L","Grade K","Grade Pre-K - 1","Measuring is a challenging math skill, but it is also an important one. Early learners are introduced to basic measurement concepts that they can explore on their own or with an adult. Simple, clear text explains different units of measurement, supporting essential math curriculum topics. Familiar examples presented with full-color photographs help readers understand how to apply what they have learned in the world around them. Young readers will become measuring masters in no time thanks to these engaging and relatable examples.","English",24.6,19.68,"530.8--dc23","24 pp.","https://greenhavenpublishing.com/978-1-5345-2191-9",{"$f":"Table1[[#This Row],['# of Books]]*Table1[[#This Row],[QTY]]","v":0},{"$f":"Table1[[#This Row],[QTY]]*Table1[[#This Row],[School & Library Price]]","v":0}]
[null,null,null,23,14,"Math","First Math","Shapes","978-1-5345-2186-5",{"$f":"HYPERLINK(Table1[[#This Row],[Hyperlink]],\"Weblink\")","v":"Weblink"},"KidHaven Publishing","eBook",1,"2018","August 2017",null,null,"Author","Joanna Brundle",null,null,null,null,"A","350L","Grade K","Grade Pre-K - 1","Geometry is an essential math concept, and it is important for early learners to develop an understanding of it from a young age. Through age-appropriate and achievable text, young readers are introduced to basic shapes and familiar real-world examples of those shapes. Early learners can explore this text independently or with the help of an adult. They will also be captivated by the vibrant, full-color photographs they will find with each turn of the page.","English",24.6,19.68,"516.15--dc23","24 pp.","https://greenhavenpublishing.com/978-1-5345-2186-5",{"$f":"Table1[[#This Row],['# of Books]]*Table1[[#This Row],[QTY]]","v":0},{"$f":"Table1[[#This Row],[QTY]]*Table1[[#This Row],[School & Library Price]]","v":0}]
[null,null,null,24,15,"Science and Technology","First Science","Electricity","978-1-5345-2385-2",{"$f":"HYPERLINK(Table1[[#This Row],[Hyperlink]],\"Weblink\")","v":"Weblink"},"KidHaven Publishing","eBook",1,"2018","January 2018",null,null,"Author","Steffi Cavell-Clarke",null,null,null,null,"F",null,"Grade 1","Grade K - 2","Why does light appear after you flick on a light switch? Where does electricity come from? Questions such as these are answered in this age-appropriate and educational book all about electricity, which is a common part of elementary science curricula. This engaging text explains basic scientific concepts to young readers to teach them about how electricity works, where it comes from, and how we use it in our everyday lives. Vibrant, full-color photographs and simple diagrams provide additional, relatable information to expand readers’ knowledge of this electrifying topic.","English",24.6,19.68,"537--dc23","24 pp.","https://greenhavenpublishing.com/978-1-5345-2385-2",{"$f":"Table1[[#This Row],['# of Books]]*Table1[[#This Row],[QTY]]","v":0},{"$f":"Table1[[#This Row],[QTY]]*Table1[[#This Row],[School & Library Price]]","v":0}]
[null,null,null,24,15,"Science and Technology","First Science","Hot and Cold","978-1-5345-2463-7",{"$f":"HYPERLINK(Table1[[#This Row],[Hyperlink]],\"Weblink\")","v":"Weblink"},"KidHaven Publishing","eBook",1,"2018","January 2018",null,null,"Author","Steffi Cavell-Clarke",null,null,null,null,"F","500L","Grade 1","Grade K - 2","Young readers are introduced to the basic science concept of temperature and how to properly identify things that are hot and cold in this age-appropriate text. Fun facts, striking, full-color photographs, and diagrams provide insight into this essential elementary science curriculum topic. This accessible reading experience is sure to make early learners even more curious about the world around them, and it encourages them to experiment safely with the everyday objects to see science in action.","English",24.6,19.68,"536'.5--dc23","24 pp.","https://greenhavenpublishing.com/978-1-5345-2463-7",{"$f":"Table1[[#This Row],['# of Books]]*Table1[[#This Row],[QTY]]","v":0},{"$f":"Table1[[#This Row],[QTY]]*Table1[[#This Row],[School & Library Price]]","v":0}]
[null,null,null,24,15,"Science and Technology","First Science","Light","978-1-5345-2074-5",{"$f":"HYPERLINK(Table1[[#This Row],[Hyperlink]],\"Weblink\")","v":"Weblink"},"KidHaven Publishing","Library Bound Book",1,"2017","January 2017","Library","8.500 X 8.500","Author","Steffi Cavell-Clarke","2.4","0.5","12",null,"F","530L","Grade 1","Grade K - 2","Young readers discover what light is and where it comes from as they explore this essential early science concept through age-appropriate text and images. The basic ideas behind the science of light are explained to early learners using accessible language and relatable examples. Readers are also presented with simple diagrams designed to enhance their knowledge of this elementary science curriculum topic. Colorful photographs are also included on each page, making this first science lesson a fun and memorable one!","English",24.6,19.68,"535","24 pp.","https://greenhavenpublishing.com/978-1-5345-2074-5",{"$f":"Table1[[#This Row],['# of Books]]*Table1[[#This Row],[QTY]]","v":0},{"$f":"Table1[[#This Row],[QTY]]*Table1[[#This Row],[School & Library Price]]","v":0}]
[null,null,null,24,15,"Science and Technology","First Science","Pushes and Pulls","978-1-5345-2083-7",{"$f":"HYPERLINK(Table1[[#This Row],[Hyperlink]],\"Weblink\")","v":"Weblink"},"KidHaven Publishing","eBook",1,"2017","January 2017",null,null,"Author","Steffi Cavell-Clarke","2.8","0.5",null,null,"F","550L","Grade 1","Grade K - 2","Pushing against a wall and pulling on a rope are examples of forces at work in the world around us. This age-appropriate way of discussing forces allows young readers to explore beginner physics using language and examples they can easily understand. The simple, accessible text and colorful diagrams present a basic science curriculum topic to early learners in a fresh and fun way. Vibrant photographs of young people experimenting with forces encourage aspiring scientists to keep learning more about this topic long after they turn the last page.","English",24.6,19.68,"531’.6","24 pp.","https://greenhavenpublishing.com/978-1-5345-2083-7",{"$f":"Table1[[#This Row],['# of Books]]*Table1[[#This Row],[QTY]]","v":0},{"$f":"Table1[[#This Row],[QTY]]*Table1[[#This Row],[School & Library Price]]","v":0}]
[null,null,null,24,15,"Science and Technology","First Science","Sound","978-1-5345-2086-8",{"$f":"HYPERLINK(Table1[[#This Row],[Hyperlink]],\"Weblink\")","v":"Weblink"},"KidHaven Publishing","Library Bound Book",1,"2017","January 2017","Library","8.500 X 8.500","Author","Steffi Cavell-Clarke","2.5","0.5",null,null,"F","510L","Grade 1","Grade K - 2","The science of sound can seem abstract and complicated to early learners. However, young readers will develop a strong understanding of this important science curriculum topic through the use of accessible text and detailed images. Age-appropriate content is explained using simple language and concrete examples, helping young readers understand where sounds come from and why we can hear them. This beginner science concept is further explained through helpful diagrams. Young readers will be captivated by this engaging approach to science that features vibrant, full-color photographs on each page.","English",24.6,19.68,"534","24 pp.","https://greenhavenpublishing.com/978-1-5345-2086-8",{"$f":"Table1[[#This Row],['# of Books]]*Table1[[#This Row],[QTY]]","v":0},{"$f":"Table1[[#This Row],[QTY]]*Table1[[#This Row],[School & Library Price]]","v":0}]
[null,null,null,25,16,"Science and Technology","Journey Through Our Solar System","Exploring Earth","978-1-5345-2274-9",{"$f":"HYPERLINK(Table1[[#This Row],[Hyperlink]],\"Weblink\")","v":"Weblink"},"KidHaven Publishing","Library Bound Book",1,"2018","August 2017","Library","7.000 X 7.000","Author","Mary Austen","3.5","0.5",null,null,"I",null,"Grade 1 - 2","Grade 1 - 3","Earth is the planet we know the most about because it’s our home, but we’re always learning more. Every day we find out something new about the animals that live in the oceans, the plants that grow in the forests, and what’s inside Earth’s crust. Readers will enjoy taking a closer look at some of the most fascinating things about the planet we call home, expanding their knowledge of common science curriculum topics. Through vivid photographs and clearly labeled diagrams, they will learn even more about our fascinating planet.","English",24.6,19.68,"525--dc23","24 pp.","https://greenhavenpublishing.com/978-1-5345-2274-9",{"$f":"Table1[[#This Row],['# of Books]]*Table1[[#This Row],[QTY]]","v":0},{"$f":"Table1[[#This Row],[QTY]]*Table1[[#This Row],[School & Library Price]]","v":0}]
[null,null,null,25,16,"Science and Technology","Journey Through Our Solar System","Exploring Mars","978-1-5345-2270-1",{"$f":"HYPERLINK(Table1[[#This Row],[Hyperlink]],\"Weblink\")","v":"Weblink"},"KidHaven Publishing","Library Bound Book",1,"2018","August 2017","Library","7.000 X 7.000","Author","Nick Christopher","3.4","0.5",null,null,"I",null,"Grade 1 - 2","Grade 1 - 3","Scientists have spent a lot of time exploring Mars, so it’s one of the planets we know the most about. They believe it used to look a lot like Earth, with oceans and lakes on its surface. Today, it’s cold and rocky. Through clear diagrams and vivid photographs, readers explore the surface of Mars. Fun facts that supplement this common science curriculum topic allow readers to feel like space explorers, learning exciting new things about the Red Planet.","English",24.6,19.68,"523.43--dc23","24 pp.","https://greenhavenpublishing.com/978-1-5345-2270-1",{"$f":"Table1[[#This Row],['# of Books]]*Table1[[#This Row],[QTY]]","v":0},{"$f":"Table1[[#This Row],[QTY]]*Table1[[#This Row],[School & Library Price]]","v":0}]
[null,null,null,25,16,"Science and Technology","Journey Through Our Solar System","Exploring Neptune","978-1-5345-2260-2",{"$f":"HYPERLINK(Table1[[#This Row],[Hyperlink]],\"Weblink\")","v":"Weblink"},"KidHaven Publishing","eBook",1,"2018","August 2017",null,null,"Author","Emma Jones","3.5","0.5",null,null,"I",null,"Grade 1 - 2","Grade 1 - 3","Neptune and Uranus are sometimes called \"sister planets\" because they are so similar. However, Neptune has stronger winds and more storms than Uranus, and it is not quite as cold. Readers will enjoy learning about what makes Neptune unique in this captivating volume. Detailed diagrams and impressive photographs help students visualize the fun facts they're taking in with each turn of the page, making this familiar part of science curricula feel exciting.","English",24.6,19.68,"523.48--dc23","24 pp.","https://greenhavenpublishing.com/978-1-5345-2260-2",{"$f":"Table1[[#This Row],['# of Books]]*Table1[[#This Row],[QTY]]","v":0},{"$f":"Table1[[#This Row],[QTY]]*Table1[[#This Row],[School & Library Price]]","v":0}]
[null,null,null,25,16,"Science and Technology","Journey Through Our Solar System","Exploring Pluto and Other Dwarf Planets","978-1-5345-2280-0",{"$f":"HYPERLINK(Table1[[#This Row],[Hyperlink]],\"Weblink\")","v":"Weblink"},"KidHaven Publishing","Library Bound Book",1,"2018","August 2017","Library","7.000 X 7.000","Author","Riley Lawrence","3.8","0.5",null,null,"I",null,"Grade 1 - 2","Grade 1 - 3","Pluto is too big to be an asteroid and too small to be a planet, so scientists call it a dwarf planet. It’s so far away from the sun that it gets no warmth at all, so it’s covered in a thick layer of ice. Readers learn fun facts such as these as they explore the world of our solar system’s dwarf planets. Informative diagrams, full-color photographs, and accessible text help readers discover more about Pluto and the other dwarf planets in our solar system.","English",24.6,19.68,"523.48'2--dc23","24 pp.","https://greenhavenpublishing.com/978-1-5345-2280-0",{"$f":"Table1[[#This Row],['# of Books]]*Table1[[#This Row],[QTY]]","v":0},{"$f":"Table1[[#This Row],[QTY]]*Table1[[#This Row],[School & Library Price]]","v":0}]
[null,null,null,25,16,"Science and Technology","Journey Through Our Solar System","Exploring the Moon","978-1-5345-2267-1",{"$f":"HYPERLINK(Table1[[#This Row],[Hyperlink]],\"Weblink\")","v":"Weblink"},"KidHaven Publishing","eBook",1,"2018","August 2017",null,null,"Author","Richard Alexander","3.2","0.5",null,null,"I","590L","Grade 1 - 2","Grade 1 - 3","Without our moon, Earth would be a very different place. Readers discover fun facts about our closest neighbor, including the way it controls the ocean tides and how long it took astronauts to get there. People have always been captivated by the idea of exploring the moon, and readers will enjoy exploring these interesting facts and stunning pictures, which support important science curriculum topics.","English",24.6,19.68,"523.3--dc23","24 pp.","https://greenhavenpublishing.com/978-1-5345-2267-1",{"$f":"Table1[[#This Row],['# of Books]]*Table1[[#This Row],[QTY]]","v":0},{"$f":"Table1[[#This Row],[QTY]]*Table1[[#This Row],[School & Library Price]]","v":0}]
[null,null,null,25,16,"Science and Technology","Journey Through Our Solar System","Exploring Venus","978-1-5345-2273-2",{"$f":"HYPERLINK(Table1[[#This Row],[Hyperlink]],\"Weblink\")","v":"Weblink"},"KidHaven Publishing","Library Bound Book",1,"2018","August 2017","Library","7.000 X 7.000","Author","Leslie Beckett","3.7","0.5",null,null,"I",null,"Grade 1 - 2","Grade 1 - 3","Venus is the planet closest to us on Earth; in fact, it’s so close that it can be seen in the sky without a telescope! It looks just like a very bright star. This rocky planet is covered in clouds, but they’re not like the clouds in Earth’s atmosphere. They’re full of poisonous gases! What else makes Venus interesting? Readers will find out as they discover fascinating facts about Venus through text that supports common science curriculum topics. Readers are also presented with detailed images in the form of helpful diagrams and stunning photographs of space.","English",24.6,19.68,"523.42--dc23","24 pp.","https://greenhavenpublishing.com/978-1-5345-2273-2",{"$f":"Table1[[#This Row],['# of Books]]*Table1[[#This Row],[QTY]]","v":0},{"$f":"Table1[[#This Row],[QTY]]*Table1[[#This Row],[School & Library Price]]","v":0}]
[null,null,null,26,17,"Science and Technology","Learn About Plants!","Learn About Plants!","978-1-5345-2200-8",{"$f":"HYPERLINK(Table1[[#This Row],[Hyperlink]],\"Weblink\")","v":"Weblink"},"KidHaven Publishing","Library Set",5,"2018","August 2017","Library","8.500 X 8.500",null,null,null,null,null,null,null,null,"Grade 2","Grade 1 - 3","Do all plants have flowers? How do seeds become plants? Why do plants need roots? Readers discover the answers to these and many more common questions as they explore the vibrant world of plants and their unique parts. Informative text guides readers as they learn important facts about stems, leaves, flowers, and other parts of a plant. The text is closely aligned with the vivid, full-color photographs that fill each page. Readers are sure to enjoy this colorful and creative introduction to an essential elementary biology topic.\n","English",123,98.4,null,"24 pp.","https://greenhavenpublishing.com/978-1-5345-2200-8",{"$f":"Table1[[#This Row],['# of Books]]*Table1[[#This Row],[QTY]]","v":0},{"$f":"Table1[[#This Row],[QTY]]*Table1[[#This Row],[School & Library Price]]","v":0}]
[null,null,null,26,17,"Science and Technology","Learn About Plants!","Leaves","978-1-5345-2242-8",{"$f":"HYPERLINK(Table1[[#This Row],[Hyperlink]],\"Weblink\")","v":"Weblink"},"KidHaven Publishing","Library Bound Book",1,"2018","August 2017","Library","8.500 X 8.500","Author","Steffi Cavell-Clarke","2.5","0.5",null,null,"J","550L","Grade 2","Grade 1 - 3","Plants don’t eat like people do, but they still need food to live and grow. They make their own food using their leaves. Readers explore the process by which leaves create food for plants through accessible text geared toward early learners. They will enjoy learning fun facts about leaves and discovering detailed diagrams of this vital part of a plant. Vivid, full-color photographs and a charming design appeal to young readers. This engaging look at a basic science curriculum topic is sure to keep readers entertained as they learn.","English",24.6,19.68,"581.4’8--dc23","24 pp.","https://greenhavenpublishing.com/978-1-5345-2242-8",{"$f":"Table1[[#This Row],['# of Books]]*Table1[[#This Row],[QTY]]","v":0},{"$f":"Table1[[#This Row],[QTY]]*Table1[[#This Row],[School & Library Price]]","v":0}]
[null,null,null,26,17,"Science and Technology","Learn About Plants!","Seeds","978-1-5345-2236-7",{"$f":"HYPERLINK(Table1[[#This Row],[Hyperlink]],\"Weblink\")","v":"Weblink"},"KidHaven Publishing","eBook",1,"2018","August 2017",null,null,"Author","Steffi Cavell-Clarke","2.7","0.5",null,null,"J","540L","Grade 2","Grade 1 - 3","Plants grow from seeds, so understanding basic facts about seeds helps readers understand the life cycle of a plant. Life cycles are just one of the important science curriculum topics readers explore as they turn each colorful page. Accessible text is accompanied by detailed photographs and diagrams of seeds and the plants they become. After reading, students will be eager to plant seeds of their own to see the lessons they’ve learned about plants in action.","English",24.6,19.68,"581.4’67--dc23","24 pp.","https://greenhavenpublishing.com/978-1-5345-2236-7",{"$f":"Table1[[#This Row],['# of Books]]*Table1[[#This Row],[QTY]]","v":0},{"$f":"Table1[[#This Row],[QTY]]*Table1[[#This Row],[School & Library Price]]","v":0}]
[null,null,null,27,18,"Science and Technology","Life Cycles","Life Cycle of a Butterfly","978-1-5345-2734-8",{"$f":"HYPERLINK(Table1[[#This Row],[Hyperlink]],\"Weblink\")","v":"Weblink"},"KidHaven Publishing","eBook",1,"2019","August 2018",null,null,"Author","Kirsty Holmes","4.2","0.5",null,null,"J",null,"Grade 1 - 2","Grade 1 - 3","How long does it take for a caterpillar to transform into a butterfly? What happens inside a cocoon? Questions such as these and more are answered in this exciting book about the life cycle of a butterfly, which addresses current science curriculum topics. The simple text is supplemented with vibrant, full-color photographs, helpful fact boxes, and informative diagrams to give readers a strong understanding of this essential elementary topic. The life cycle of a butterfly is a popular life cycle to study, and this book presents this familiar topic in a creative and fresh way.","English",24.6,19.68,"595.789--dc23","24 pp.","https://greenhavenpublishing.com/978-1-5345-2734-8",{"$f":"Table1[[#This Row],['# of Books]]*Table1[[#This Row],[QTY]]","v":0},{"$f":"Table1[[#This Row],[QTY]]*Table1[[#This Row],[School & Library Price]]","v":0}]
[null,null,null,27,18,"Science and Technology","Life Cycles","Life Cycle of a Honeybee","978-1-5345-2727-0",{"$f":"HYPERLINK(Table1[[#This Row],[Hyperlink]],\"Weblink\")","v":"Weblink"},"KidHaven Publishing","Library Bound Book",1,"2019","August 2018","Library","8.500 X 8.500","Author","Kirsty Holmes","3.8","0.5",null,null,"J",null,"Grade 1 - 2","Grade 1 - 3","Young readers are exposed to the life cycle of a honeybee in this charming and engaging book. In reading this age-appropriate and accessible main text, they will gain essential knowledge of current science curriculum topics and develop a deeper appreciation for the world of living things around them. Informative fact boxes, instructional diagrams, and eye-catching photographs provide extra insight and present this familiar elementary topic in a fresh and creative light for young readers. Bees are an important part of the natural world, and readers are sure to enjoy discovering fun facts about their life cycle.","English",24.6,19.68,"595.79'9--dc23","24 pp.","https://greenhavenpublishing.com/978-1-5345-2727-0",{"$f":"Table1[[#This Row],['# of Books]]*Table1[[#This Row],[QTY]]","v":0},{"$f":"Table1[[#This Row],[QTY]]*Table1[[#This Row],[School & Library Price]]","v":0}]
[null,null,null,27,18,"Science and Technology","Life Cycles","Life Cycle of a Shark","978-1-5345-2642-6",{"$f":"HYPERLINK(Table1[[#This Row],[Hyperlink]],\"Weblink\")","v":"Weblink"},"KidHaven Publishing","eBook",1,"2019","August 2018",null,null,"Author","Kirsty Holmes","3.7","0.5",null,null,"J",null,"Grade 1 - 2","Grade 1 - 3","Sharks are fascinating sea creatures. These cool and complex living things are a species of fish with a unique life cycle. In this accessible and engaging volume, young readers will learn about the life cycle of a shark and how it compares and contrasts with the life cycles of other animals living in oceans around the world. As they deepen their knowledge of the natural world and of these popular predators, they also expand their understanding of essential science curriculum concepts. In addition to the informative main text, useful fact boxes, instructional diagrams, and vibrant photographs enhance the reading experience.","English",24.6,19.68,"597.3--dc23","24 pp.","https://greenhavenpublishing.com/978-1-5345-2642-6",{"$f":"Table1[[#This Row],['# of Books]]*Table1[[#This Row],[QTY]]","v":0},{"$f":"Table1[[#This Row],[QTY]]*Table1[[#This Row],[School & Library Price]]","v":0}]
[null,null,null,27,18,"Science and Technology","Life Cycles","Life Cycle of a Tree","978-1-5345-2646-4",{"$f":"HYPERLINK(Table1[[#This Row],[Hyperlink]],\"Weblink\")","v":"Weblink"},"KidHaven Publishing","eBook",1,"2019","August 2018",null,null,"Author","Kirsty Holmes","3.8","0.5",null,null,"J",null,"Grade 1 - 2","Grade 1 - 3","How fast do trees grow? How do trees begin their lives? Do all trees have the same life cycle? These questions and more are answered in this accessible look at the life cycle of a tree. Young readers will be exposed to the various stages of plant growth and development in this volume, which touches upon critical science curriculum topics. They will also gain a deeper appreciation for other living things and environmental concerns. Vivid, full-color photographs, accessible diagrams, and useful fact boxes add depth to readers' understanding of this important topic.","English",24.6,19.68,"582.16--dc23","24 pp.","https://greenhavenpublishing.com/978-1-5345-2646-4",{"$f":"Table1[[#This Row],['# of Books]]*Table1[[#This Row],[QTY]]","v":0},{"$f":"Table1[[#This Row],[QTY]]*Table1[[#This Row],[School & Library Price]]","v":0}]
[null,null,null,28,19,"Science and Technology","Forest Explorer","Forest Creatures","978-1-5345-2862-8",{"$f":"HYPERLINK(Table1[[#This Row],[Hyperlink]],\"Weblink\")","v":"Weblink"},"KidHaven Publishing","eBook",1,"2019","January 2019",null,null,"Author","Robin Twiddy",null,null,null,null,"K",null,"Grade 2","Grade 1 - 3","How many different kinds of creatures live in the forest? Where do they make their homes within the forest? What kinds of things do they eat? Questions such as these are answered in this age-appropriate text about the biodiversity that exists in forests. This common science curriculum topic is clearly communicated to help inform young readers about this common biome and all the living creatures within it. Helpful fact boxes, a detailed glossary, and eye-catching, full-color photographs add extra insight into this educational and engaging topic, which is sure to spark an interest in nature and conservation.","English",24.6,19.68,"591.73--dc23","24 pp.","https://greenhavenpublishing.com/978-1-5345-2862-8",{"$f":"Table1[[#This Row],['# of Books]]*Table1[[#This Row],[QTY]]","v":0},{"$f":"Table1[[#This Row],[QTY]]*Table1[[#This Row],[School & Library Price]]","v":0}]
[null,null,null,28,19,"Science and Technology","Forest Explorer","Rocks, Sticks, and the Forest Floor","978-1-5345-2869-7",{"$f":"HYPERLINK(Table1[[#This Row],[Hyperlink]],\"Weblink\")","v":"Weblink"},"KidHaven Publishing","Library Bound Book",1,"2019","January 2019","Library","8.500 X 8.500","Author","Robin Twiddy",null,null,null,null,"K",null,"Grade 2","Grade 1 - 3","The forest floor is its own amazing ecosystem with much to explore! What kinds of rocks are found in the forest? How are sticks used by animals and insects? Questions such as these are answered as readers explore the hidden world of the forest floor. Through age-appropriate text, common science curriculum topics are made accessible to young readers. Budding forest explorers are aided by helpful fact boxes, a detailed glossary, and full-color photographs that show the details of an exciting ecosystem found right under their feet.","English",24.6,19.68,"577.3--dc23","24 pp.","https://greenhavenpublishing.com/978-1-5345-2869-7",{"$f":"Table1[[#This Row],['# of Books]]*Table1[[#This Row],[QTY]]","v":0},{"$f":"Table1[[#This Row],[QTY]]*Table1[[#This Row],[School & Library Price]]","v":0}]
[null,null,null,28,19,"Science and Technology","Forest Explorer","Rocks, Sticks, and the Forest Floor","978-1-5345-2870-3",{"$f":"HYPERLINK(Table1[[#This Row],[Hyperlink]],\"Weblink\")","v":"Weblink"},"KidHaven Publishing","eBook",1,"2019","January 2019",null,null,"Author","Robin Twiddy",null,null,null,null,"K",null,"Grade 2","Grade 1 - 3","The forest floor is its own amazing ecosystem with much to explore! What kinds of rocks are found in the forest? How are sticks used by animals and insects? Questions such as these are answered as readers explore the hidden world of the forest floor. Through age-appropriate text, common science curriculum topics are made accessible to young readers. Budding forest explorers are aided by helpful fact boxes, a detailed glossary, and full-color photographs that show the details of an exciting ecosystem found right under their feet.","English",24.6,19.68,"577.3--dc23","24 pp.","https://greenhavenpublishing.com/978-1-5345-2870-3",{"$f":"Table1[[#This Row],['# of Books]]*Table1[[#This Row],[QTY]]","v":0},{"$f":"Table1[[#This Row],[QTY]]*Table1[[#This Row],[School & Library Price]]","v":0}]
[null,null,null,28,19,"Science and Technology","Forest Explorer","Water and Soil","978-1-5345-2877-2",{"$f":"HYPERLINK(Table1[[#This Row],[Hyperlink]],\"Weblink\")","v":"Weblink"},"KidHaven Publishing","Library Bound Book",1,"2019","January 2019","Library","8.500 X 8.500","Author","Robin Twiddy",null,null,null,null,"K",null,"Grade 2","Grade 1 - 3","Water and soil serve as important parts of the natural world, and without them, forests would cease to exist. How do these two essential parts of nature work together to keep animals and plants alive in forests? This elementary science curriculum topic is explained through age-appropriate, accessible text, which highlights the importance of water and soil and how they help maintain the biodiversity of forests. A detailed glossary and informative fact boxes provide readers with more scientific background on these two common parts of ecosystems, and full-color photographs show forest environments in exciting detail.","English",24.6,19.68,"428.1--dc23","24 pp.","https://greenhavenpublishing.com/978-1-5345-2877-2",{"$f":"Table1[[#This Row],['# of Books]]*Table1[[#This Row],[QTY]]","v":0},{"$f":"Table1[[#This Row],[QTY]]*Table1[[#This Row],[School & Library Price]]","v":0}]
[null,null,null,29,null,"Science and Technology","Food Webs","Desert Food Webs","978-1-5345-3512-1",{"$f":"HYPERLINK(Table1[[#This Row],[Hyperlink]],\"Weblink\")","v":"Weblink"},"KidHaven Publishing","eBook",1,"2021","January 2021",null,null,"Author","William Anthony",null,null,null,null,"K",null,"Grade 2","Grade 2 - 4","Young readers will discover many different animals that live in the desert through this engaging look at desert food webs. The creative approach and conversational tone presents the various members of desert food webs to readers as colorful characters with their own unique voices. These characters provide readers with facts about their place in the desert ecosystem. Readers learn about the relationships between predators and prey, in addition to other basic science curriculum topics. Helpful graphic organizers add extra facts about these animals. Vibrant, full-color photographs encourage readers to dive deeper into the exciting world of desert food webs.","English",24.6,19.68,"577.54--dc23","24 pp.","https://greenhavenpublishing.com/978-1-5345-3512-1",{"$f":"Table1[[#This Row],['# of Books]]*Table1[[#This Row],[QTY]]","v":0},{"$f":"Table1[[#This Row],[QTY]]*Table1[[#This Row],[School & Library Price]]","v":0}]
[null,null,null,29,null,"Science and Technology","Food Webs","Mountain Food Webs","978-1-5345-3526-8",{"$f":"HYPERLINK(Table1[[#This Row],[Hyperlink]],\"Weblink\")","v":"Weblink"},"KidHaven Publishing","Library Bound Book",1,"2021","January 2021","Library","8.500 X 8.500","Author","William Anthony",null,null,null,null,"K",null,"Grade 2","Grade 2 - 4","There are numerous food webs linking different animals that live in the mountains to one another. Some animals are predators and others are prey, and understanding this kind of animal relationship is an essential part of early science curricula. In addition to learning interesting facts related to this basic science curriculum topic, readers discover additional information about various mountain animals. The captivating, full-color photographs, vibrant food webs, graphic organizers help readers visualize this topic. The engaging tone presents information in a conversational and charming way that readers will enjoy.","English",24.6,19.68,"577.5'3--dc23","24 pp.","https://greenhavenpublishing.com/978-1-5345-3526-8",{"$f":"Table1[[#This Row],['# of Books]]*Table1[[#This Row],[QTY]]","v":0},{"$f":"Table1[[#This Row],[QTY]]*Table1[[#This Row],[School & Library Price]]","v":0}]
[null,null,null,29,null,"Science and Technology","Food Webs","Mountain Food Webs","978-1-5345-3527-5",{"$f":"HYPERLINK(Table1[[#This Row],[Hyperlink]],\"Weblink\")","v":"Weblink"},"KidHaven Publishing","eBook",1,"2021","January 2021",null,null,"Author","William Anthony",null,null,null,null,"K",null,"Grade 2","Grade 2 - 4","There are numerous food webs linking different animals that live in the mountains to one another. Some animals are predators and others are prey, and understanding this kind of animal relationship is an essential part of early science curricula. In addition to learning interesting facts related to this basic science curriculum topic, readers discover additional information about various mountain animals. The captivating, full-color photographs, vibrant food webs, graphic organizers help readers visualize this topic. The engaging tone presents information in a conversational and charming way that readers will enjoy.","English",24.6,19.68,"577.5'3--dc23","24 pp.","https://greenhavenpublishing.com/978-1-5345-3527-5",{"$f":"Table1[[#This Row],['# of Books]]*Table1[[#This Row],[QTY]]","v":0},{"$f":"Table1[[#This Row],[QTY]]*Table1[[#This Row],[School & Library Price]]","v":0}]
[null,null,null,30,null,"Science and Technology","Under the Microscope","Under the Microscope","978-1-5345-3401-8",{"$f":"HYPERLINK(Table1[[#This Row],[Hyperlink]],\"Weblink\")","v":"Weblink"},"KidHaven Publishing","Library Set",4,"2020","January 2020","Library","8.500 X 8.500",null,null,null,null,null,null,null,null,"Grade 2","Grade 2 - 5","Microscopes are scientific instruments often used to look at very small organisms, such as bacteria, fungi, and parasites, as well as viruses. While many people are aware of the dangerous forms of these organisms and viruses, there are helpful kinds too. Readers get an up-close look at what they can find under the microscope, enhancing their science knowledge in the process. In addition to the accessible and age-appropriate narratives, eye-catching fact boxes, detailed glossaries, and bright, full-color photographs help readers find the fun in this essential science curriculum topic. Features include: Engaging design and fresh spin on a familiar science concept introduce readers to the important skill of using a microscope in a creative way. Encourages young readers to think critically about nature as they examine the benefits and dangers of microscopic creatures. Relatable texts helps readers see how science is an active part of the world around them.","English",98.4,78.72,null,"24 pp.","https://greenhavenpublishing.com/978-1-5345-3401-8",{"$f":"Table1[[#This Row],['# of Books]]*Table1[[#This Row],[QTY]]","v":0},{"$f":"Table1[[#This Row],[QTY]]*Table1[[#This Row],[School & Library Price]]","v":0}]
[null,null,null,30,null,"Science and Technology","Under the Microscope","Fungi in Our World","978-1-5345-3319-6",{"$f":"HYPERLINK(Table1[[#This Row],[Hyperlink]],\"Weblink\")","v":"Weblink"},"KidHaven Publishing","Library Bound Book",1,"2020","January 2020","Library","8.500 X 8.500","Author","John Wood",null,null,null,null,"K",null,"Grade 2","Grade 2 - 5","Fungi play an important part in our world. Some fungi are mushrooms that can be cooked into delicious meals, but others are poisonous. It's important to be able to tell them apart before eating them. Readers gain this valuable knowledge as they explore what fungi look like to the human eye and under the microscope. The engaging and educational text broadens their understanding of essential science curriculum topics. Informative fact boxes and eye-catching, full-color photographs enhance this fascinating exploration of fungi that budding scientists are sure to love.","English",24.6,19.68,"579.5--dc23","24 pp.","https://greenhavenpublishing.com/978-1-5345-3319-6",{"$f":"Table1[[#This Row],['# of Books]]*Table1[[#This Row],[QTY]]","v":0},{"$f":"Table1[[#This Row],[QTY]]*Table1[[#This Row],[School & Library Price]]","v":0}]
[null,null,null,31,null,"Science and Technology","Play Smart","Play Smart","978-1-5345-3604-3",{"$f":"HYPERLINK(Table1[[#This Row],[Hyperlink]],\"Weblink\")","v":"Weblink"},"KidHaven Publishing","Library Set",6,"2021","January 2021","Library","8.000 X 10.00",null,null,null,null,null,null,null,null,"Grade 2 - 3","Grade 2 - 5","Professional athletes make shooting hoops, throwing a baseball, or hitting a hockey puck while gliding on ice look easy. What is wrapped up in those smooth moves is practice, dedication, skill, and sensational science. Readers will learn about the science behind several sports with this high-interest look at common curriculum topics. Through the detailed narratives, they will learn about the physics at play in specific sports and how science helps athletes perform. Thorough diagrams, helpful fact boxes, useful graphic organizers, and full-color photographs make it seem like readers are part of the action as they learn how basic science lessons can help them become sports superstars. Features include: Encourages struggling readers to become more interested in science curriculum topics. Detailed diagrams that help simplify science concepts so they are easier to understand. Readers learn tips for how to use science concepts to maximize their athletic performance.","English",147.6,118.08,null,"24 pp.","https://greenhavenpublishing.com/978-1-5345-3604-3",{"$f":"Table1[[#This Row],['# of Books]]*Table1[[#This Row],[QTY]]","v":0},{"$f":"Table1[[#This Row],[QTY]]*Table1[[#This Row],[School & Library Price]]","v":0}]
[null,null,null,31,null,"Science and Technology","Play Smart","The Science of Baseball","978-1-5345-3562-6",{"$f":"HYPERLINK(Table1[[#This Row],[Hyperlink]],\"Weblink\")","v":"Weblink"},"KidHaven Publishing","Library Bound Book",1,"2021","January 2021","Library","8.000 X 10.00","Author","William Anthony",null,null,null,null,"M",null,"Grade 2 - 3","Grade 2 - 5","Readers learn about the science behind throwing the perfect curveball in this exciting look at baseball. They'll discover how momentum is used by players when throwing a baseball and hitting a baseball with a bat. These examples of science in action, along with many others, are presented alongside helpful diagrams. Informative fact boxes, graphic organizers, and a detailed glossary add extra insight into this high-interest topic. Vibrant, full-color photographs help readers visualize the science of playing baseball and add an exciting element to this guide on basic physics concepts.","English",24.6,19.68,"796.357--dc23","24 pp.","https://greenhavenpublishing.com/978-1-5345-3562-6",{"$f":"Table1[[#This Row],['# of Books]]*Table1[[#This Row],[QTY]]","v":0},{"$f":"Table1[[#This Row],[QTY]]*Table1[[#This Row],[School & Library Price]]","v":0}]
[null,null,null,31,null,"Science and Technology","Play Smart","The Science of Ice Hockey","978-1-5345-3571-8",{"$f":"HYPERLINK(Table1[[#This Row],[Hyperlink]],\"Weblink\")","v":"Weblink"},"KidHaven Publishing","eBook",1,"2021","January 2021",null,null,"Author","Emilie Dufresne",null,null,null,null,"M",null,"Grade 2 - 3","Grade 2 - 5","Readers learn how to pass the puck to teammates and shoot a slap shot with this fun and fact-filled guide to the science of ice hockey. There are many scientific forces at work in the game of hockey, such as momentum and gravity. The basics of ice hockey and how science makes certain plays possible are presented throughout this accessible text. Helpful diagrams and graphic organizers display these concepts in a comprehensible way, while the detailed glossary gives explanations of scientific language. Captivating, full-color photographs will thrill young sports fans and budding scientists.","English",24.6,19.68,"796.962--dc23","24 pp.","https://greenhavenpublishing.com/978-1-5345-3571-8",{"$f":"Table1[[#This Row],['# of Books]]*Table1[[#This Row],[QTY]]","v":0},{"$f":"Table1[[#This Row],[QTY]]*Table1[[#This Row],[School & Library Price]]","v":0}]
[null,null,null,31,null,"Science and Technology","Play Smart","The Science of Track and Field","978-1-5345-3582-4",{"$f":"HYPERLINK(Table1[[#This Row],[Hyperlink]],\"Weblink\")","v":"Weblink"},"KidHaven Publishing","Library Bound Book",1,"2021","January 2021","Library","8.000 X 10.00","Author","Emilie Dufresne",null,null,null,null,"M",null,"Grade 2 - 3","Grade 2 - 5","There are many events in track and field, such as running, jumping over hurdles, and throwing the discus. The science behind these activities is explained in this high-interest guide. Supporting the engaging and educational narrative are diagrams that display concepts such as runners' starting angles, which help them prepare to execute a sprint. Momentum and gravity are explained in the context of these activities. Helpful fact boxes, graphic organizers, and full-color photographs supply extra information. Readers will understand how science can be applied in the real world.","English",24.6,19.68,"796.42--dc23","24 pp.","https://greenhavenpublishing.com/978-1-5345-3582-4",{"$f":"Table1[[#This Row],['# of Books]]*Table1[[#This Row],[QTY]]","v":0},{"$f":"Table1[[#This Row],[QTY]]*Table1[[#This Row],[School & Library Price]]","v":0}]
[null,null,null,32,20,"Science and Technology","Environmental Issues","Agriculture and Land Use","978-1-5345-3032-4",{"$f":"HYPERLINK(Table1[[#This Row],[Hyperlink]],\"Weblink\")","v":"Weblink"},"KidHaven Publishing","Library Bound Book",1,"2020","August 2019","Library","8.500 X 8.500","Author","Emilie Dufresne",null,null,null,null,"L",null,"Grade 2 - 3","Grade 2 - 4","Feeding the growing population is causing serious problems for the environment. However, people still need to eat. How can people strike a balance between using the land for food and protecting the planet? This accessible and age-appropriate main text provides essential information about this problem and potential solutions. Detailed fact boxes, a helpful glossary, and vibrant, full-color photographs add extra insight into this crucial topic that allows readers to connect what they've learned about in science classes with issues that are currently in the news.","English",24.6,19.68,"630--dc23","24 pp.","https://greenhavenpublishing.com/978-1-5345-3032-4",{"$f":"Table1[[#This Row],['# of Books]]*Table1[[#This Row],[QTY]]","v":0},{"$f":"Table1[[#This Row],[QTY]]*Table1[[#This Row],[School & Library Price]]","v":0}]
[null,null,null,32,20,"Science and Technology","Environmental Issues","Agriculture and Land Use","978-1-5345-3059-1",{"$f":"HYPERLINK(Table1[[#This Row],[Hyperlink]],\"Weblink\")","v":"Weblink"},"KidHaven Publishing","eBook",1,"2020","August 2019",null,null,"Author","Emilie Dufresne",null,null,null,null,"L",null,"Grade 2 - 3","Grade 2 - 4","Feeding the growing population is causing serious problems for the environment. However, people still need to eat. How can people strike a balance between using the land for food and protecting the planet? This accessible and age-appropriate main text provides essential information about this problem and potential solutions. Detailed fact boxes, a helpful glossary, and vibrant, full-color photographs add extra insight into this crucial topic that allows readers to connect what they've learned about in science classes with issues that are currently in the news.","English",24.6,19.68,"630--dc23","24 pp.","https://greenhavenpublishing.com/978-1-5345-3059-1",{"$f":"Table1[[#This Row],['# of Books]]*Table1[[#This Row],[QTY]]","v":0},{"$f":"Table1[[#This Row],[QTY]]*Table1[[#This Row],[School & Library Price]]","v":0}]
[null,null,null,32,20,"Science and Technology","Environmental Issues","Fossil Fuels","978-1-5345-3035-5",{"$f":"HYPERLINK(Table1[[#This Row],[Hyperlink]],\"Weblink\")","v":"Weblink"},"KidHaven Publishing","Library Bound Book",1,"2020","August 2019","Library","8.500 X 8.500","Author","Emilie Dufresne",null,null,null,null,"L",null,"Grade 2 - 3","Grade 2 - 4","Readers discover essential facts about the environment as they expand their knowledge of fossil fuels such as coal, oil, and natural gas. As the human population grows and technology advances, more energy is needed to power different products, such as cars, machines, and household appliances. The use of excessive fossil fuels is detrimental for the environment, whereas using renewable energy sources, such as sunlight, wind, and geothermal heat causes less destruction to the natural world. Readers learn these and other important facts with the help of a compelling, fact-filled narrative, detailed glossary, fact boxes, and creative design elements.","English",24.6,19.68,"333.8'2--dc23","24 pp.","https://greenhavenpublishing.com/978-1-5345-3035-5",{"$f":"Table1[[#This Row],['# of Books]]*Table1[[#This Row],[QTY]]","v":0},{"$f":"Table1[[#This Row],[QTY]]*Table1[[#This Row],[School & Library Price]]","v":0}]
[null,null,null,32,21,"Science and Technology","Environmental Issues","Animals in Danger","978-1-5345-2044-8",{"$f":"HYPERLINK(Table1[[#This Row],[Hyperlink]],\"Weblink\")","v":"Weblink"},"KidHaven Publishing","eBook",1,"2017","January 2017",null,null,"Author","Gemma McMullen","4.9","0.5",null,null,"L","860L","Grade 2 - 3","Grade 2 - 4","How does human behavior affect animals, and what can we do to help animals that are endangered? Readers find the answers to these and other important questions about protecting animals as they learn about this topical environmental issue. Accessible, age-appropriate text gives young readers a clear sense of why animals are currently in danger and what can be done to help them. Fun fact boxes provide additional information about animals and their habitats, and colorful photographs fill each page. The captivating presentation of such an important ecological topic is sure to inspire early learners, especially young animal lovers.","English",24.6,19.68,"333.95’42--dc23","24 pp.","https://greenhavenpublishing.com/978-1-5345-2044-8",{"$f":"Table1[[#This Row],['# of Books]]*Table1[[#This Row],[QTY]]","v":0},{"$f":"Table1[[#This Row],[QTY]]*Table1[[#This Row],[School & Library Price]]","v":0}]
[null,null,null,33,20,"Science and Technology","Environmental Issues","Sustainable Living","978-1-5345-3039-3",{"$f":"HYPERLINK(Table1[[#This Row],[Hyperlink]],\"Weblink\")","v":"Weblink"},"KidHaven Publishing","Library Bound Book",1,"2020","August 2019","Library","8.500 X 8.500","Author","Harriet Brundle",null,null,null,null,"L",null,"Grade 2 - 3","Grade 2 - 4","What is sustainable living, and how does it benefit our environment? These questions and more are answered in this volume about living an environmentally friendly life. Young readers will learn how to think critically about their own carbon footprint. They'll be inspired to use and re-use recycled materials, and choose renewable energy sources instead of fossil fuels. Interesting fact boxes, a detailed glossary, and bright, full-color photographs provide additional information about this essential environmental topic. Young readers who are passionate about environmental conservation will enjoy this engaging resource.","English",24.6,19.68,"333.79--dc23","24 pp.","https://greenhavenpublishing.com/978-1-5345-3039-3",{"$f":"Table1[[#This Row],['# of Books]]*Table1[[#This Row],[QTY]]","v":0},{"$f":"Table1[[#This Row],[QTY]]*Table1[[#This Row],[School & Library Price]]","v":0}]
[null,null,null,33,21,"Science and Technology","Environmental Issues","Polluting Our World","978-1-5345-2047-9",{"$f":"HYPERLINK(Table1[[#This Row],[Hyperlink]],\"Weblink\")","v":"Weblink"},"KidHaven Publishing","Library Bound Book",1,"2017","January 2017","Library","8.500 X 8.500","Author","Gemma McMullen","4.9","0.5",null,null,"L","890L","Grade 2 - 3","Grade 2 - 4","Oil spills can spread for hundreds of miles in water. Animals can die if they ingest litter. These are just two of the many ways pollution can damage the environment. Readers discover the dangers of pollution, as well as some of the ways people, including your readers, can do their part to clean up the planet. This essential environmental lesson is presented in clear language geared toward early learners. Additional information is highlighted in fact boxes. Vivid photographs provide a closer look at the harm pollution can do, as well as the beauty of the natural world we must protect.","English",24.6,19.68,"363.73--dc23","24 pp.","https://greenhavenpublishing.com/978-1-5345-2047-9",{"$f":"Table1[[#This Row],['# of Books]]*Table1[[#This Row],[QTY]]","v":0},{"$f":"Table1[[#This Row],[QTY]]*Table1[[#This Row],[School & Library Price]]","v":0}]
[null,null,null,33,21,"Science and Technology","Environmental Issues","Recycling Materials","978-1-5345-2052-3",{"$f":"HYPERLINK(Table1[[#This Row],[Hyperlink]],\"Weblink\")","v":"Weblink"},"KidHaven Publishing","eBook",1,"2017","January 2017",null,null,"Author","Gemma McMullen","4.3","0.5",null,null,"L","640L","Grade 2 - 3","Grade 2 - 4","Recycling is an easy way to help protect the planet. Young readers learn the basics of recycling, including what materials are most commonly recycled and how the process of recycling works. This valuable information is presented through age-appropriate text, including eye-catching fact boxes. Full-color photographs keep readers engaged as they explore this essential environmental concern. Early learners will become budding environmentalists, discovering for themselves how they can do their part to help the environment, one trip to the recycling bin at a time.","English",24.6,19.68,"363.72'82--dc23","24 pp.","https://greenhavenpublishing.com/978-1-5345-2052-3",{"$f":"Table1[[#This Row],['# of Books]]*Table1[[#This Row],[QTY]]","v":0},{"$f":"Table1[[#This Row],[QTY]]*Table1[[#This Row],[School & Library Price]]","v":0}]
[null,null,null,34,23,"Science and Technology","Making Things Work","Axles and Wheels","978-1-5345-2942-7",{"$f":"HYPERLINK(Table1[[#This Row],[Hyperlink]],\"Weblink\")","v":"Weblink"},"KidHaven Publishing","eBook",1,"2019","January 2019",null,null,"Author","Robin Twiddy","3.5","0.5",null,null,"L",null,"Grade 2 - 3","Grade 2 - 4","What is an axle, and how does it work with a wheel? Readers are introduced to this STEM concept through clear and accessible main text, which encourages curiosity. The workings of a wheel and axle is an essential physical science curriculum topic, and it is presented to readers in a creative and relatable way that is meant to appeal to budding scientists and mechanics while also engaging developing readers. In addition, helpful diagrams, informative fact boxes, and vibrant, full-color photographs enhance this exciting reading experience.","English",24.6,19.68,"621.8--dc23","24 pp.","https://greenhavenpublishing.com/978-1-5345-2942-7",{"$f":"Table1[[#This Row],['# of Books]]*Table1[[#This Row],[QTY]]","v":0},{"$f":"Table1[[#This Row],[QTY]]*Table1[[#This Row],[School & Library Price]]","v":0}]
[null,null,null,34,23,"Science and Technology","Making Things Work","Levers and Pulleys","978-1-5345-2933-5",{"$f":"HYPERLINK(Table1[[#This Row],[Hyperlink]],\"Weblink\")","v":"Weblink"},"KidHaven Publishing","Library Bound Book",1,"2019","January 2019","Library","8.500 X 8.500","Author","Alex Brinded","4.2","0.5",null,null,"L",null,"Grade 2 - 3","Grade 2 - 4","What kinds of everyday objects use levers? What do pulleys do? Questions such as these are answered in this age-appropriate text about the science behind levers and pulleys, which is a essential physical science concept. Fact boxes, informative diagrams, and vivid, full-color photographs add extra insight, appealing to budding scientists who are curious about machines and the parts that make them function. Readers are exposed to STEM topics in a fun and relatable way as they are encouraged to see science in action in their everyday lives.","English",24.6,19.68,"621.8--dc23","24 pp.","https://greenhavenpublishing.com/978-1-5345-2933-5",{"$f":"Table1[[#This Row],['# of Books]]*Table1[[#This Row],[QTY]]","v":0},{"$f":"Table1[[#This Row],[QTY]]*Table1[[#This Row],[School & Library Price]]","v":0}]
[null,null,null,34,23,"Science and Technology","Making Things Work","Levers and Pulleys","978-1-5345-2934-2",{"$f":"HYPERLINK(Table1[[#This Row],[Hyperlink]],\"Weblink\")","v":"Weblink"},"KidHaven Publishing","eBook",1,"2019","January 2019",null,null,"Author","Alex Brinded","4.2","0.5",null,null,"L",null,"Grade 2 - 3","Grade 2 - 4","What kinds of everyday objects use levers? What do pulleys do? Questions such as these are answered in this age-appropriate text about the science behind levers and pulleys, which is a essential physical science concept. Fact boxes, informative diagrams, and vivid, full-color photographs add extra insight, appealing to budding scientists who are curious about machines and the parts that make them function. Readers are exposed to STEM topics in a fun and relatable way as they are encouraged to see science in action in their everyday lives.","English",24.6,19.68,"621.8--dc23","24 pp.","https://greenhavenpublishing.com/978-1-5345-2934-2",{"$f":"Table1[[#This Row],['# of Books]]*Table1[[#This Row],[QTY]]","v":0},{"$f":"Table1[[#This Row],[QTY]]*Table1[[#This Row],[School & Library Price]]","v":0}]
[null,null,null,34,23,"Science and Technology","Making Things Work","Switches and Circuits","978-1-5345-2926-7",{"$f":"HYPERLINK(Table1[[#This Row],[Hyperlink]],\"Weblink\")","v":"Weblink"},"KidHaven Publishing","eBook",1,"2019","January 2019",null,null,"Author","Alex Brinded","4.7","0.5",null,null,"L",null,"Grade 2 - 3","Grade 2 - 4","What are switches used for on specific machines? Why are circuits needed to power certain devices? Questions such as these are answered as readers explore the science behind switches and circuits. Readers are given basic examples of these devices, along with simple scientific explanations of how they work. The well-researched text, detailed diagrams, and helpful fact boxes contribute to making this common science curriculum topic easily understandable for young learners. The vibrant, full-color photographs also give sharp visual depictions of the STEM concepts mentioned in the text.","English",24.6,19.68,"621.319'2--dc23","24 pp.","https://greenhavenpublishing.com/978-1-5345-2926-7",{"$f":"Table1[[#This Row],['# of Books]]*Table1[[#This Row],[QTY]]","v":0},{"$f":"Table1[[#This Row],[QTY]]*Table1[[#This Row],[School & Library Price]]","v":0}]
[null,null,null,35,24,"Science and Technology","A Closer Look at Living Things","Bug Body Parts","978-1-5345-2064-6",{"$f":"HYPERLINK(Table1[[#This Row],[Hyperlink]],\"Weblink\")","v":"Weblink"},"KidHaven Publishing","eBook",1,"2017","January 2017",null,null,"Author","Steffi Cavell-Clarke","3.6","0.5",null,null,"K",null,"Grade 2","Grade 2 - 4","Young readers get an exciting, up-close look at bug bodies as they learn essential beginner biology topics in a fun and fresh way. They discover the many ways a bug’s body parts work together through the use of age-appropriate text and simple diagrams designed with early learners in mind. Vivid photographs show the body parts of the world’s coolest and creepiest bugs in amazing detail. This creative approach to a common part of science curricula is sure to keep young readers engaged as they learn big things about some of the world’s tiniest creatures.","English",24.6,19.68,"595.7","24 pp.","https://greenhavenpublishing.com/978-1-5345-2064-6",{"$f":"Table1[[#This Row],['# of Books]]*Table1[[#This Row],[QTY]]","v":0},{"$f":"Table1[[#This Row],[QTY]]*Table1[[#This Row],[School & Library Price]]","v":0}]
[null,null,null,36,25,"Science and Technology","Computers and Coding","Computers and Coding","978-1-5345-2736-2",{"$f":"HYPERLINK(Table1[[#This Row],[Hyperlink]],\"Weblink\")","v":"Weblink"},"KidHaven Publishing","Library Set",6,"2019","August 2018","Library","8.500 X 8.500",null,null,null,null,null,null,null,null,"Grade 2 - 3","Grade 2 - 4","Readers are introduced to the engaging world of computer technology in this set. A wide range of basic computer topics presented in an age-appropriate way expands their knowledge of how computers work, how to stay safe online, coding, digital technology, databases, and computer languages. This series simplifies subjects related to computers that may otherwise seem complex, and defines them in a way that's more easily understandable for young readers. In addition to the concise main text, there are informative diagrams, helpful fact boxes, instructional graphic organizers, and colorful illustrations, which provide extra insight. Features include: Topics cover a variety of essential computer skills and concepts, which are important parts of elementary curricula and important life skills in the digital age. Simple text informs young readers without overwhelming them with complicated computer terminology. Eye-catching design includes labeled diagrams to help visual learners.","English",147.6,118.08,null,"24 pp.","https://greenhavenpublishing.com/978-1-5345-2736-2",{"$f":"Table1[[#This Row],['# of Books]]*Table1[[#This Row],[QTY]]","v":0},{"$f":"Table1[[#This Row],[QTY]]*Table1[[#This Row],[School & Library Price]]","v":0}]
[null,null,null,36,25,"Science and Technology","Computers and Coding","How Computers Work","978-1-5345-2707-2",{"$f":"HYPERLINK(Table1[[#This Row],[Hyperlink]],\"Weblink\")","v":"Weblink"},"KidHaven Publishing","Library Bound Book",1,"2019","August 2018","Library","8.500 X 8.500","Author, Author","Steffi Cavell-Clarke, Thomas Welch",null,null,null,null,"L",null,"Grade 2 - 3","Grade 2 - 4","How many different parts does a computer have? Where do computers get their power? Questions such as these and more answered in this engaging book about how computers function. Readers learn about crucial computer skills and concepts within this concise text, which is necessary in today's technological landscape. Colorful illustrations, instructional diagrams, informative fact boxes, and helpful graphic organizers are included to provide extra insight and enrich readers' understanding of this essential topic. Basic facts are presented in a creative way that's sure to keep readers entertained as they learn.","English",24.6,19.68,"004--dc23","24 pp.","https://greenhavenpublishing.com/978-1-5345-2707-2",{"$f":"Table1[[#This Row],['# of Books]]*Table1[[#This Row],[QTY]]","v":0},{"$f":"Table1[[#This Row],[QTY]]*Table1[[#This Row],[School & Library Price]]","v":0}]
[null,null,null,36,25,"Science and Technology","Computers and Coding","Using Digital Technology","978-1-5345-2718-8",{"$f":"HYPERLINK(Table1[[#This Row],[Hyperlink]],\"Weblink\")","v":"Weblink"},"KidHaven Publishing","eBook",1,"2019","August 2018",null,null,"Author, Author","Steffi Cavell-Clarke, Thomas Welch",null,null,null,null,"L",null,"Grade 2 - 3","Grade 2 - 4","How many different kinds of digital devices are there? What can you use digital technology to do? Questions such as these and more can be answered in this age-appropriate book on the use of digital technology. Readers are introduced to the numerous types of digital devices people use every day, such as smartphones, laptops, cameras, tablets, apps, and more. In learning about these devices, they learn how STEM concepts are applied in the world around them. Instructional graphic organizers, helpful fact boxes, and colorful illustrations are provided alongside focused text to make this exciting subject accessible for young readers.","English",24.6,19.68,"004.67'8--dc23","24 pp.","https://greenhavenpublishing.com/978-1-5345-2718-8",{"$f":"Table1[[#This Row],['# of Books]]*Table1[[#This Row],[QTY]]","v":0},{"$f":"Table1[[#This Row],[QTY]]*Table1[[#This Row],[School & Library Price]]","v":0}]
[null,null,null,36,25,"Science and Technology","Computers and Coding","Why Are There Different Computer Languages?","978-1-5345-2723-2",{"$f":"HYPERLINK(Table1[[#This Row],[Hyperlink]],\"Weblink\")","v":"Weblink"},"KidHaven Publishing","Library Bound Book",1,"2019","August 2018","Library","8.500 X 8.500","Author","Kirsty Holmes",null,null,null,null,"L",null,"Grade 2 - 3","Grade 2 - 4","A computer is a complex piece of technology that has its own languages. Readers learn about these multiple languages in this informative and engaging text, which clearly explains select programming languages, such as Python and Scratch. Readers enrich their knowledge of essential computer skills and concepts in a way that's easily understandable. In addition to the age-appropriate text, creative illustrations, useful fact boxes, instructional graphic organizers, and educational diagrams are included to provide further depth to the text. Readers will find themselves captivated by the charming design as they are introduced to a foundational computer science concept.","English",24.6,19.68,"005.26'2--dc23","24 pp.","https://greenhavenpublishing.com/978-1-5345-2723-2",{"$f":"Table1[[#This Row],['# of Books]]*Table1[[#This Row],[QTY]]","v":0},{"$f":"Table1[[#This Row],[QTY]]*Table1[[#This Row],[School & Library Price]]","v":0}]
[null,null,null,37,26,"Science and Technology","The Glittering World of Gems","Awesome Opals","978-1-5345-2300-5",{"$f":"HYPERLINK(Table1[[#This Row],[Hyperlink]],\"Weblink\")","v":"Weblink"},"KidHaven Publishing","eBook",1,"2018","August 2017",null,null,"Author","Joyce Jeffries","4.7","0.5",null,null,"M",null,"Grade 2 - 3","Grade 2 - 5","Opals emit a rainbow of colors, which makes them perfect gems to place in stunning pieces of jewelry. How do opals go from raw stones to beautiful gems? Readers discover the answer to this question as they learn the steps that must be taken and the technology that is used to find, cut, and polish opals. Clear main text and informative fact boxes help readers become experts on opals. Colorful photographs of these gems are sure to keep readers engaged as they learn.","English",24.6,19.68,"553.8'73--dc23","24 pp.","https://greenhavenpublishing.com/978-1-5345-2300-5",{"$f":"Table1[[#This Row],['# of Books]]*Table1[[#This Row],[QTY]]","v":0},{"$f":"Table1[[#This Row],[QTY]]*Table1[[#This Row],[School & Library Price]]","v":0}]
[null,null,null,37,26,"Science and Technology","The Glittering World of Gems","Dazzling Diamonds","978-1-5345-2305-0",{"$f":"HYPERLINK(Table1[[#This Row],[Hyperlink]],\"Weblink\")","v":"Weblink"},"KidHaven Publishing","Library Bound Book",1,"2018","August 2017","Library","8.500 X 8.500","Author","Lorraine Harrison","5.1","0.5",null,null,"N",null,"Grade 2 - 3","Grade 2 - 5","How are diamonds formed? Where do they come from? The answers to these questions and more can be found in this exciting look at a popular gemstone. The science and technology involved in creating a sparkling gem from an uncut diamond is fully explored, giving readers an in-depth look at how diamond rings, bracelets, necklaces, and more are made. Fun fact boxes highlight additional information, and striking photographs illustrate the beauty of these natural jewels.","English",24.6,19.68,"553.8’2--dc23","24 pp.","https://greenhavenpublishing.com/978-1-5345-2305-0",{"$f":"Table1[[#This Row],['# of Books]]*Table1[[#This Row],[QTY]]","v":0},{"$f":"Table1[[#This Row],[QTY]]*Table1[[#This Row],[School & Library Price]]","v":0}]
[null,null,null,37,26,"Science and Technology","The Glittering World of Gems","Radiant Rubies","978-1-5345-2301-2",{"$f":"HYPERLINK(Table1[[#This Row],[Hyperlink]],\"Weblink\")","v":"Weblink"},"KidHaven Publishing","eBook",1,"2018","August 2017",null,null,"Author","Joseph Stanley","4.9","0.5",null,null,"N",null,"Grade 2 - 3","Grade 2 - 5","Rubies have many different uses. They have been used in beautiful jewelry, ancient armor, and even lasers! How do people get these useful and beautiful gems? Readers explore the intricate process of mining for rubies, cutting these gems, and polishing them until they look their best. These steps are explained through clear, accessible text. Fun fact boxes provide additional information about rubies. With each turn of the page, readers encounter beautiful, full-color photographs of these radiant gems.","English",24.6,19.68,"553.8'4--dc23","24 pp.","https://greenhavenpublishing.com/978-1-5345-2301-2",{"$f":"Table1[[#This Row],['# of Books]]*Table1[[#This Row],[QTY]]","v":0},{"$f":"Table1[[#This Row],[QTY]]*Table1[[#This Row],[School & Library Price]]","v":0}]
[null,null,null,38,null,"Science and Technology","Parts of a Plant","A Look at Flowers","978-1-5345-3364-6",{"$f":"HYPERLINK(Table1[[#This Row],[Hyperlink]],\"Weblink\")","v":"Weblink"},"KidHaven Publishing","eBook",1,"2020","January 2020",null,null,"Author","Lindsey Lowe",null,null,null,null,"N",null,"Grade 3","Grade 3 - 5","Readers discover a world of stunning flowers in this engaging examination of plant parts. They learn about the different functions of flowers and how they can be used for food, medicine, and other important things. Fun activities and recipes using flowers are included with step-by-step instructions. Eye-catching, full-color photographs make it appear as if the flowers are sprouting off of each page, reminding young readers that science can be beautiful and fun. This creative approach to biology encourages an appreciation for science in the world around us.","English",24.6,19.68,"582.13--dc23","24 pp.","https://greenhavenpublishing.com/978-1-5345-3364-6",{"$f":"Table1[[#This Row],['# of Books]]*Table1[[#This Row],[QTY]]","v":0},{"$f":"Table1[[#This Row],[QTY]]*Table1[[#This Row],[School & Library Price]]","v":0}]
[null,null,null,38,null,"Science and Technology","Parts of a Plant","A Look at Roots","978-1-5345-3375-2",{"$f":"HYPERLINK(Table1[[#This Row],[Hyperlink]],\"Weblink\")","v":"Weblink"},"KidHaven Publishing","Library Bound Book",1,"2020","January 2020","Library","8.500 X 8.500","Author","Lindsey Lowe",null,null,null,null,"N",null,"Grade 3","Grade 3 - 5","Some of the vegetables we eat are actually roots. What are these root vegetables, and how do roots contribute to the functioning of people and plants beyond the kitchen? Readers discover the answers to these questions and more through the informative and accessible main narrative. Additional fun features include recipes and hands-on activities, which allow readers to get creative with science curriculum topics. Bold, full-color photographs give readers a detailed look at the vast underground world of roots. This engaging reading experience encourages readers to see plants in a fresh way.","English",24.6,19.68,"581.4'98--dc23","24 pp.","https://greenhavenpublishing.com/978-1-5345-3375-2",{"$f":"Table1[[#This Row],['# of Books]]*Table1[[#This Row],[QTY]]","v":0},{"$f":"Table1[[#This Row],[QTY]]*Table1[[#This Row],[School & Library Price]]","v":0}]
[null,null,null,38,null,"Science and Technology","Parts of a Plant","A Look at Seeds and Beans","978-1-5345-3379-0",{"$f":"HYPERLINK(Table1[[#This Row],[Hyperlink]],\"Weblink\")","v":"Weblink"},"KidHaven Publishing","Library Bound Book",1,"2020","January 2020","Library","8.500 X 8.500","Author","Lindsey Lowe",null,null,null,null,"N",null,"Grade 3","Grade 3 - 5","Once seeds are planted, they eventually grow into a plant. One special kind of seed, which humans often eat, is a bean. In this informative and age-appropriate guide to life science, readers gain knowledge of how seeds and beans are used by humans for food, medicine, and other important things. They also learn how to use seeds and beans themselves with recipes and activities presented through step-by-step instructions, allowing them to experience science in a hands-on way. Vibrant, full-color photographs help readers visualize different kinds of seeds and beans, how they're spread, and how they develop into plants.","English",24.6,19.68,"581.4'67--dc23","24 pp.","https://greenhavenpublishing.com/978-1-5345-3379-0",{"$f":"Table1[[#This Row],['# of Books]]*Table1[[#This Row],[QTY]]","v":0},{"$f":"Table1[[#This Row],[QTY]]*Table1[[#This Row],[School & Library Price]]","v":0}]
[null,null,null,38,null,"Science and Technology","Parts of a Plant","A Look at Stems and Shoots","978-1-5345-3384-4",{"$f":"HYPERLINK(Table1[[#This Row],[Hyperlink]],\"Weblink\")","v":"Weblink"},"KidHaven Publishing","eBook",1,"2020","January 2020",null,null,"Author","Lindsey Lowe",null,null,null,null,"N",null,"Grade 3","Grade 3 - 5","Stems and shoots are essential parts of plants. Readers learn how stems and shoots contribute to the growth and functioning of every plant as they explore this creative look at beginner biology concepts. They also gain appreciation for science in the kitchen through recipes with step-by-step instructions. Additional hands-on activities strengthen readers' knowledge of this basic science curriculum topic while also encouraging readers to have fun with science. Creative design elements including colorful photographs make this topic appealing for visual learners and young nature lovers.","English",24.6,19.68,"581.4'95--dc23","24 pp.","https://greenhavenpublishing.com/978-1-5345-3384-4",{"$f":"Table1[[#This Row],['# of Books]]*Table1[[#This Row],[QTY]]","v":0},{"$f":"Table1[[#This Row],[QTY]]*Table1[[#This Row],[School & Library Price]]","v":0}]
[null,null,null,39,27,"Science and Technology","Science in Action","Forces","978-1-5345-3082-9",{"$f":"HYPERLINK(Table1[[#This Row],[Hyperlink]],\"Weblink\")","v":"Weblink"},"KidHaven Publishing","eBook",1,"2020","August 2019",null,null,"Author","Joanna Brundle",null,null,null,null,"S",null,"Grade 4 - 5","Grade 3 - 5","Help your readers discover the powerful science behind force. Various forces, such as gravitational force and applied force, explain how and why objects move the way they do. Through informative and concise main text, readers expand their knowledge of this essential science curriculum topic. Creative, full-color design elements, useful sidebars, thought-provoking fact boxes, and a helpful glossary add extra insight to give readers a better understanding of how force is applied to the world around us.","English",27.25,21.8,"530--dc23","32 pp.","https://greenhavenpublishing.com/978-1-5345-3082-9",{"$f":"Table1[[#This Row],['# of Books]]*Table1[[#This Row],[QTY]]","v":0},{"$f":"Table1[[#This Row],[QTY]]*Table1[[#This Row],[School & Library Price]]","v":0}]
[null,null,null,39,27,"Science and Technology","Science in Action","Magnetism","978-1-5345-3018-8",{"$f":"HYPERLINK(Table1[[#This Row],[Hyperlink]],\"Weblink\")","v":"Weblink"},"KidHaven Publishing","Library Bound Book",1,"2020","August 2019","Library","8.500 X 11.00","Author","Joanna Brundle",null,null,null,null,"S",null,"Grade 4 - 5","Grade 3 - 5","From an early age, children are often fascinated by magnets on their refrigerator or in toys they play with. However, do they know how those magnets actually work? They will after reading this volume. Readers expand their knowledge of magnets as they learn how magnets work and what magnets can be used for in everyday life. The accessible and age-appropriate main text is presented alongside extra features, such as detailed sidebars, informative fact boxes, a comprehensive glossary, and bold, full-color photographs. These elements work together to create an exciting reading and learning experience.","English",27.25,21.8,"538--dc23","32 pp.","https://greenhavenpublishing.com/978-1-5345-3018-8",{"$f":"Table1[[#This Row],['# of Books]]*Table1[[#This Row],[QTY]]","v":0},{"$f":"Table1[[#This Row],[QTY]]*Table1[[#This Row],[School & Library Price]]","v":0}]
[null,null,null,39,27,"Science and Technology","Science in Action","Magnetism","978-1-5345-3080-5",{"$f":"HYPERLINK(Table1[[#This Row],[Hyperlink]],\"Weblink\")","v":"Weblink"},"KidHaven Publishing","eBook",1,"2020","August 2019",null,null,"Author","Joanna Brundle",null,null,null,null,"S",null,"Grade 4 - 5","Grade 3 - 5","From an early age, children are often fascinated by magnets on their refrigerator or in toys they play with. However, do they know how those magnets actually work? They will after reading this volume. Readers expand their knowledge of magnets as they learn how magnets work and what magnets can be used for in everyday life. The accessible and age-appropriate main text is presented alongside extra features, such as detailed sidebars, informative fact boxes, a comprehensive glossary, and bold, full-color photographs. These elements work together to create an exciting reading and learning experience.","English",27.25,21.8,"538--dc23","32 pp.","https://greenhavenpublishing.com/978-1-5345-3080-5",{"$f":"Table1[[#This Row],['# of Books]]*Table1[[#This Row],[QTY]]","v":0},{"$f":"Table1[[#This Row],[QTY]]*Table1[[#This Row],[School & Library Price]]","v":0}]
[null,null,null,39,27,"Science and Technology","Science in Action","Sound","978-1-5345-3076-8",{"$f":"HYPERLINK(Table1[[#This Row],[Hyperlink]],\"Weblink\")","v":"Weblink"},"KidHaven Publishing","eBook",1,"2020","August 2019",null,null,"Author","Joanna Brundle",null,null,null,null,"S",null,"Grade 4 - 5","Grade 3 - 5","Readers explore the science of sound in this engaging and accessible text. What makes a sound higher or lower, or louder or softer? How do our ears register sounds? These questions and more are answered in this fun and fresh take on a common science curriculum topic. Informative sidebars, detailed fact boxes, a useful glossary, and eye-catching, full-color photographs spark readers, interest in this essential physical science concept. Relatable examples help readers understand how the science of sound is in action all around us.","English",27.25,21.8,"534--dc23","32 pp.","https://greenhavenpublishing.com/978-1-5345-3076-8",{"$f":"Table1[[#This Row],['# of Books]]*Table1[[#This Row],[QTY]]","v":0},{"$f":"Table1[[#This Row],[QTY]]*Table1[[#This Row],[School & Library Price]]","v":0}]
[null,null,null,40,28,"Science and Technology","Transforming Earth's Geography","Erosion and Sinkholes","978-1-5345-2893-2",{"$f":"HYPERLINK(Table1[[#This Row],[Hyperlink]],\"Weblink\")","v":"Weblink"},"KidHaven Publishing","Library Bound Book",1,"2019","January 2019","Library","8.500 X 11.00","Author","Joanna Brundle","6.2","1",null,null,"T",null,"Grade 4 - 5","Grade 3 - 6","What parts of the environment are affected by erosion? Where do sinkholes most typically form? Questions such as these are answered in this thrilling look at natural processes that shape and reshape earth's geography. Readers will discover how erosion and sinkholes affect plants, animals, and the human population through well-researched main text, which touches on common earth science curriculum topics. Informational fact boxes provide extra insight into this interesting subject, and exciting design elements include accessible diagrams and full-color photographs of the aftermath of these dangerous parts of the natural world.","English",27.25,21.8,"551.3'02--dc23","32 pp.","https://greenhavenpublishing.com/978-1-5345-2893-2",{"$f":"Table1[[#This Row],['# of Books]]*Table1[[#This Row],[QTY]]","v":0},{"$f":"Table1[[#This Row],[QTY]]*Table1[[#This Row],[School & Library Price]]","v":0}]
[null,null,null,40,28,"Science and Technology","Transforming Earth's Geography","Famine and Drought","978-1-5345-2413-2",{"$f":"HYPERLINK(Table1[[#This Row],[Hyperlink]],\"Weblink\")","v":"Weblink"},"KidHaven Publishing","eBook",1,"2018","January 2018",null,null,"Author","Joanna Brundle","6.1","0.5",null,null,"T","1000L","Grade 4 - 5","Grade 3 - 6","Readers are introduced to the perils of famine and drought and the lasting effects they have on Earth’s geography and human population. This captivating text brings forth how famine and drought happen, what measures are taken to avoid them, and how they have impacted different parts of the world. Additional information is provided through enlightening fact boxes and simple diagrams to enhance readers’ knowledge of these crucial subjects. Illuminating, full-color photographs are also included in this educational and age-appropriate text, which supports common science curriculum topics.","English",27.25,21.8,"363.8--dc23","32 pp.","https://greenhavenpublishing.com/978-1-5345-2413-2",{"$f":"Table1[[#This Row],['# of Books]]*Table1[[#This Row],[QTY]]","v":0},{"$f":"Table1[[#This Row],[QTY]]*Table1[[#This Row],[School & Library Price]]","v":0}]
[null,null,null,40,28,"Science and Technology","Transforming Earth's Geography","Hurricanes and Tornadoes","978-1-5345-2414-9",{"$f":"HYPERLINK(Table1[[#This Row],[Hyperlink]],\"Weblink\")","v":"Weblink"},"KidHaven Publishing","Library Bound Book",1,"2018","January 2018","Library","8.500 X 11.00","Author","Joanna Brundle","6.4","1",null,null,"T",null,"Grade 4 - 5","Grade 3 - 6","What is it like getting caught in a hurricane or a tornado? How does Earth’s geography recover after enduring such disastrous weather? Questions such as these are answered in this engaging text that supports common areas of science curricula. Scenarios involving getting caught in dangerous weather are described, giving readers a glimpse of what it’s like to experience a hurricane or tornado. The text is supplemented with informative fact boxes, well-organized diagrams, and breathtaking, full-color photographs. This is sure to be a thrilling read for those interested in extreme weather and the destruction it causes.","English",27.25,21.8,"551.55'2--dc23","32 pp.","https://greenhavenpublishing.com/978-1-5345-2414-9",{"$f":"Table1[[#This Row],['# of Books]]*Table1[[#This Row],[QTY]]","v":0},{"$f":"Table1[[#This Row],[QTY]]*Table1[[#This Row],[School & Library Price]]","v":0}]
[null,null,null,41,28,"Science and Technology","Transforming Earth's Geography","Tsunamis and Floods","978-1-5345-2902-1",{"$f":"HYPERLINK(Table1[[#This Row],[Hyperlink]],\"Weblink\")","v":"Weblink"},"KidHaven Publishing","eBook",1,"2019","January 2019",null,null,"Author","Joanna Brundle","6.2","1",null,null,"T",null,"Grade 4 - 5","Grade 3 - 6","The destruction caused by tsunamis and floods not only affects Earth's geography, but also the people, plants, and animals present in the areas directly affected. Why do these natural disasters happen, and how can areas recover from them? These questions are explored through well-researched main text to clearly provide young people with scientific facts about natural disasters. Bold and exciting design elements, such as intense photographs and detailed diagrams, make readers feel as if they are experiencing these events firsthand. Informative fact boxes provide additional information to give readers a deeper understanding of this common science curriculum topic.","English",27.25,21.8,"551.46'37--dc23","32 pp.","https://greenhavenpublishing.com/978-1-5345-2902-1",{"$f":"Table1[[#This Row],['# of Books]]*Table1[[#This Row],[QTY]]","v":0},{"$f":"Table1[[#This Row],[QTY]]*Table1[[#This Row],[School & Library Price]]","v":0}]
[null,null,null,42,29,"Science and Technology","Climate Change: Our Impact on Earth","Climate Change: Our Impact on Earth","978-1-5345-2451-4",{"$f":"HYPERLINK(Table1[[#This Row],[Hyperlink]],\"Weblink\")","v":"Weblink"},"KidHaven Publishing","Library Set",4,"2018","January 2018","Library","8.500 X 11.00",null,null,null,null,null,null,null,null,"Grade 5","Grade 4 - 6","Climate change is an important issue that impacts everyone on Earth. Readers discover basic facts about climate change, including the effect people have had on the planet. These facts are presented through accessible, engaging language and a creative, original design. Full-color photographs fill each page, enhancing the reading experience. As readers explore this topic, they are introduced to the ways that humans have contributed to climate change through pollution and habitat destruction, but they are also introduced to the ways humans are using renewable energy sources and other methods to fight against climate change. Features include: Topic is relevant to today's current events and encourages readers to better understand things they hear on the news or issues they see discussed online. Text supports common science curriculum topics, including habitats, energy sources, weather, and ecology. Innovative design helps draw readers in and holds their interest.","English",109,87.2,null,"32 pp.","https://greenhavenpublishing.com/978-1-5345-2451-4",{"$f":"Table1[[#This Row],['# of Books]]*Table1[[#This Row],[QTY]]","v":0},{"$f":"Table1[[#This Row],[QTY]]*Table1[[#This Row],[School & Library Price]]","v":0}]
[null,null,null,42,29,"Science and Technology","Climate Change: Our Impact on Earth","Pollution","978-1-5345-2446-0",{"$f":"HYPERLINK(Table1[[#This Row],[Hyperlink]],\"Weblink\")","v":"Weblink"},"KidHaven Publishing","eBook",1,"2018","January 2018",null,null,"Author","Harriet Brundle",null,null,null,null,"U","1060L","Grade 5","Grade 4 - 6","The dangers of pollution cannot be ignored. Most of us know what it’s like to breathe in fresh air, but what if our air was filled with contaminants? Air pollution is just one type of pollution readers learn about as they explore this essential ecological topic. Other forms of pollution include noise, heat, and light. Through main text that supports current science curricula, readers are informed about the different kinds of pollution, how pollution and climate change are linked, and how young people can reduce pollution in their daily lives. The text is supplemented with vibrant, full-color photographs.","English",27.25,21.8,"363.73--dc23","32 pp.","https://greenhavenpublishing.com/978-1-5345-2446-0",{"$f":"Table1[[#This Row],['# of Books]]*Table1[[#This Row],[QTY]]","v":0},{"$f":"Table1[[#This Row],[QTY]]*Table1[[#This Row],[School & Library Price]]","v":0}]
[null,null,null,42,29,"Science and Technology","Climate Change: Our Impact on Earth","Renewable Energy","978-1-5345-2447-7",{"$f":"HYPERLINK(Table1[[#This Row],[Hyperlink]],\"Weblink\")","v":"Weblink"},"KidHaven Publishing","Library Bound Book",1,"2018","January 2018","Library","8.500 X 11.00","Author","Harriet Brundle",null,null,null,null,"U",null,"Grade 5","Grade 4 - 6","What is renewable energy? Why is using it good for the earth? Questions such as these are answered in this stimulating text supporting an essential elementary science curriculum topic. Young readers learn renewable energy is generated from renewable natural resources, including sunlight, wind, rain, tides, and geothermal heat. This accessible text also delves into how young people can make simple changes in their lives to help fight climate change by using forms of renewable energy. Full-color photographs alongside the text give readers a clear understanding of what renewable energy is and what it looks like in the world around us.","English",27.25,21.8,"333.79'4--dc23","32 pp.","https://greenhavenpublishing.com/978-1-5345-2447-7",{"$f":"Table1[[#This Row],['# of Books]]*Table1[[#This Row],[QTY]]","v":0},{"$f":"Table1[[#This Row],[QTY]]*Table1[[#This Row],[School & Library Price]]","v":0}]
[null,null,null,43,30,"Social Studies","Jobs in Our Community","Doctors on the Job","978-1-5345-2139-1",{"$f":"HYPERLINK(Table1[[#This Row],[Hyperlink]],\"Weblink\")","v":"Weblink"},"KidHaven Publishing","Library Bound Book",1,"2017","January 2017","Library","7.625 X 7.125","Author","Lorraine Harrison",null,null,null,null,"E","410L","Grade 1","Grade K - 2","Doctors have an important job to do, they help us stay healthy. Young readers discover the different things these community helpers do through simple text and colorful photographs of doctors at work. The close correlation between the pictures and text allows young readers to develop their reading comprehension skills while learning about a popular career. Vocabulary development is also aided by a detailed picture glossary. Readers will enjoy learning fun facts about this cool career, enhancing their understanding of a common elementary curriculum topic.","English",24.6,19.68,"610.69/5--dc23","24 pp.","https://greenhavenpublishing.com/978-1-5345-2139-1",{"$f":"Table1[[#This Row],['# of Books]]*Table1[[#This Row],[QTY]]","v":0},{"$f":"Table1[[#This Row],[QTY]]*Table1[[#This Row],[School & Library Price]]","v":0}]
[null,null,null,43,30,"Social Studies","Jobs in Our Community","Librarians on the Job","978-1-5345-2158-2",{"$f":"HYPERLINK(Table1[[#This Row],[Hyperlink]],\"Weblink\")","v":"Weblink"},"KidHaven Publishing","eBook",1,"2017","January 2017",null,null,"Author","Mary Austen",null,null,null,null,"E","420L","Grade 1","Grade K - 2","A library is a popular part of a community, and the people who work there are important community helpers. Young readers learn about the many ways librarians help people through clear, age-appropriate text. The facts they learn about librarians and libraries enhance their understanding of common curriculum topics about careers, community helpers, and places in the community. These facts are presented alongside full-color photographs of librarians at work. The close relationship between the pictures and text helps foster strong reading comprehension skills, and a picture glossary aids in vocabulary development.","English",24.6,19.68,"020.92","24 pp.","https://greenhavenpublishing.com/978-1-5345-2158-2",{"$f":"Table1[[#This Row],['# of Books]]*Table1[[#This Row],[QTY]]","v":0},{"$f":"Table1[[#This Row],[QTY]]*Table1[[#This Row],[School & Library Price]]","v":0}]
[null,null,null,43,30,"Social Studies","Jobs in Our Community","Police Officers on the Job","978-1-5345-2156-8",{"$f":"HYPERLINK(Table1[[#This Row],[Hyperlink]],\"Weblink\")","v":"Weblink"},"KidHaven Publishing","eBook",1,"2017","January 2017",null,null,"Author","Kate Rogers",null,null,null,null,"E","440L","Grade 1","Grade K - 2","Police officers are brave community helpers. Young readers explore the basics of a police officer’s job through simple, clear text that supports common curriculum topics. Readers also discover vibrant photographs of these helpful men and women on the job. These photographs closely relate to the corresponding text to help early learners strengthen their reading comprehension skills. Readers can also use the helpful picture glossary to understand unfamiliar terms and build their vocabulary. This exciting career is sure to interest many young readers!","English",24.6,19.68,"363.2","24 pp.","https://greenhavenpublishing.com/978-1-5345-2156-8",{"$f":"Table1[[#This Row],['# of Books]]*Table1[[#This Row],[QTY]]","v":0},{"$f":"Table1[[#This Row],[QTY]]*Table1[[#This Row],[School & Library Price]]","v":0}]
[null,null,null,43,30,"Social Studies","Jobs in Our Community","Veterinarians on the Job","978-1-5345-2151-3",{"$f":"HYPERLINK(Table1[[#This Row],[Hyperlink]],\"Weblink\")","v":"Weblink"},"KidHaven Publishing","Library Bound Book",1,"2017","January 2017","Library","7.625 X 7.125","Author","Anne Forest",null,null,null,null,"E","370L","Grade 1","Grade K - 2","People see doctors when they don’t feel well, but who takes care of animals when they’re sick or hurt? Veterinarians help animals stay healthy, and readers discover fun facts about this cool career with each turn of the page. This exciting information supports common curriculum topics for early learners, and it encourages young readers to think about careers. The accessible text and detailed picture glossary help readers build their vocabulary. Reading comprehension skills are also supported through the close relationship between the photographs and text.","English",24.6,19.68,"636.089092","24 pp.","https://greenhavenpublishing.com/978-1-5345-2151-3",{"$f":"Table1[[#This Row],['# of Books]]*Table1[[#This Row],[QTY]]","v":0},{"$f":"Table1[[#This Row],[QTY]]*Table1[[#This Row],[School & Library Price]]","v":0}]
[null,null,null,44,31,"Social Studies","World Adventures","England","978-1-5345-2611-2",{"$f":"HYPERLINK(Table1[[#This Row],[Hyperlink]],\"Weblink\")","v":"Weblink"},"KidHaven Publishing","Library Bound Book",1,"2019","August 2018","Library","8.500 X 8.500","Author","Steffi Cavell-Clarke",null,null,null,null,"H",null,"Grade 1 - 2","Grade K - 3","Stonehenge and the Tower of London are two of the most popular landmarks in England. Attractions such as these are explored in this exciting new text designed to expose readers to everyday life in this European country. Some of the topics covered in the main text, which align with current social studies curricula, include famous landmarks, geography, traditions, and weather. Captivating, full-color photographs, informative fact boxes and maps, and a detailed glossary provide additional information on the subject and help readers visualize what it's like to live in England.","English",24.6,19.68,"942--dc23","24 pp.","https://greenhavenpublishing.com/978-1-5345-2611-2",{"$f":"Table1[[#This Row],['# of Books]]*Table1[[#This Row],[QTY]]","v":0},{"$f":"Table1[[#This Row],[QTY]]*Table1[[#This Row],[School & Library Price]]","v":0}]
[null,null,null,44,31,"Social Studies","World Adventures","South Korea","978-1-5345-2622-8",{"$f":"HYPERLINK(Table1[[#This Row],[Hyperlink]],\"Weblink\")","v":"Weblink"},"KidHaven Publishing","eBook",1,"2019","August 2018",null,null,"Author","Harriet Brundle",null,null,null,null,"H",null,"Grade 1 - 2","Grade K - 3","In South Korea, what languages do they speak? What's the biggest city in South Korea? What foods do South Koreans eat? Questions such as these and more are answered in this detailed text about this Asian country. The accessible main text, which aligns with essential elementary social studies curriculum topics, exposes readers to the famous landmarks, geography, weather, cultures, and traditions of South Korea. Informative fact boxes and maps, stunning, full-color photographs, and a detailed glossary also provide readers with additional knowledge of what life is like in this exciting country.","English",24.6,19.68,"951.95--dc23","24 pp.","https://greenhavenpublishing.com/978-1-5345-2622-8",{"$f":"Table1[[#This Row],['# of Books]]*Table1[[#This Row],[QTY]]","v":0},{"$f":"Table1[[#This Row],[QTY]]*Table1[[#This Row],[School & Library Price]]","v":0}]
[null,null,null,44,31,"Social Studies","World Adventures","Australia","978-1-5345-2406-4",{"$f":"HYPERLINK(Table1[[#This Row],[Hyperlink]],\"Weblink\")","v":"Weblink"},"KidHaven Publishing","Library Bound Book",1,"2018","January 2018","Library","8.500 X 8.500","Author","Steffi Cavell-Clarke","3.4","0.5",null,null,"H",null,"Grade 1 - 2","Grade K - 3","Are there kangaroos in Australia? Is Australia surrounded by water? What’s the Great Barrier Reef? Questions such as these are answered in this compelling text about the country of Australia. This accessible main text, which aligns with current social studies curricula, deepens readers’ understanding of this country’s geography, landmarks, and rich culture. Additional information is presented in enlightening fact boxes and maps. Bold, full-color photographs also help young learners visualize what everyday life looks like in Australia.","English",24.6,19.68,"994--dc23","24 pp.","https://greenhavenpublishing.com/978-1-5345-2406-4",{"$f":"Table1[[#This Row],['# of Books]]*Table1[[#This Row],[QTY]]","v":0},{"$f":"Table1[[#This Row],[QTY]]*Table1[[#This Row],[School & Library Price]]","v":0}]
[null,null,null,44,31,"Social Studies","World Adventures","China","978-1-5345-2404-0",{"$f":"HYPERLINK(Table1[[#This Row],[Hyperlink]],\"Weblink\")","v":"Weblink"},"KidHaven Publishing","eBook",1,"2018","January 2018",null,null,"Author","Steffi Cavell-Clarke","3.7","0.5",null,null,"H",null,"Grade 1 - 2","Grade K - 3","The Great Wall of China and Mount Everest are two of China’s most popular landmarks. Attractions such as these are explored in this captivating text designed to expose readers to everyday life in this Asian country. The main text, which supports common social studies curriculum topics and encourages a deeper appreciation of different cultures, touches upon the country’s geography, weather, food, and other interesting aspects of China’s culture. Educational fact boxes, maps, and striking, full-color photographs are included to provide additional information and enhance readers’ knowledge of China.","English",24.6,19.68,"951--dc23","24 pp.","https://greenhavenpublishing.com/978-1-5345-2404-0",{"$f":"Table1[[#This Row],['# of Books]]*Table1[[#This Row],[QTY]]","v":0},{"$f":"Table1[[#This Row],[QTY]]*Table1[[#This Row],[School & Library Price]]","v":0}]
[null,null,null,44,31,"Social Studies","World Adventures","Egypt","978-1-5345-2400-2",{"$f":"HYPERLINK(Table1[[#This Row],[Hyperlink]],\"Weblink\")","v":"Weblink"},"KidHaven Publishing","eBook",1,"2018","January 2018",null,null,"Author","Steffi Cavell-Clarke","3.4","0.5",null,null,"H",null,"Grade 1 - 2","Grade K - 3","As a country known for its pyramids, pharaohs, and ancient treasures, Egypt is a place filled with exciting history. However, modern life in Egypt is also worth studying. In this accessible text, which aligns with essential social studies curriculum topics, readers get a closer look at Egypt’s geography, landmarks, weather, and unique culture. Informative fact boxes and maps offer added insight into what everyday life is like for people living in Egypt today. Readers are also able to view historical Egyptian landmarks, such as the pyramids, and scenes of contemporary Egyptian life in stunning, full-color photographs.","English",24.6,19.68,"962--dc23","24 pp.","https://greenhavenpublishing.com/978-1-5345-2400-2",{"$f":"Table1[[#This Row],['# of Books]]*Table1[[#This Row],[QTY]]","v":0},{"$f":"Table1[[#This Row],[QTY]]*Table1[[#This Row],[School & Library Price]]","v":0}]
[null,null,null,44,31,"Social Studies","World Adventures","Mexico","978-1-5345-2459-0",{"$f":"HYPERLINK(Table1[[#This Row],[Hyperlink]],\"Weblink\")","v":"Weblink"},"KidHaven Publishing","Library Bound Book",1,"2018","January 2018","Library","8.500 X 8.500","Author","Steffi Cavell-Clarke","3.4","0.5",null,null,"H",null,"Grade 1 - 2","Grade K - 3","Readers are transported to Mexico to learn about the country’s geography, landmarks, weather, clothing, food, and rich culture in this engaging text aligned with common social studies curriculum topics. The age-appropriate main text encourages young learners to appreciate diversity and have respect for all cultures. Informative fact boxes, maps, and bold, full-color photographs are included to help enhance readers’ knowledge about this North American country and what everyday life is like there.","English",24.6,19.68,"972--dc23","24 pp.","https://greenhavenpublishing.com/978-1-5345-2459-0",{"$f":"Table1[[#This Row],['# of Books]]*Table1[[#This Row],[QTY]]","v":0},{"$f":"Table1[[#This Row],[QTY]]*Table1[[#This Row],[School & Library Price]]","v":0}]
[null,null,null,45,32,"Social Studies","A Look at Life Around the World","Families","978-1-5345-2833-8",{"$f":"HYPERLINK(Table1[[#This Row],[Hyperlink]],\"Weblink\")","v":"Weblink"},"KidHaven Publishing","Library Bound Book",1,"2019","January 2019","Library","8.500 X 8.500","Author","Joanna Brundle","4.8","0.5",null,null,"J",null,"Grade 2","Grade 1 - 3","Families living in different countries have unique cultural traditions and customs setting them apart based on what area of the world they live in. Readers expand their knowledge of the many family dynamics that can be seen around the world and how family members from various nations interact in their everyday lives. In addition to the well-researched and age-appropriate text, engaging fact boxes, a helpful glossary, and vibrant, full-color photographs provide extra insight into this essential elementary curriculum topic. Readers develop a more global point of view as they compare and contrast their own families with families around the world.","English",24.6,19.68,"306.85--dc23","24 pp.","https://greenhavenpublishing.com/978-1-5345-2833-8",{"$f":"Table1[[#This Row],['# of Books]]*Table1[[#This Row],[QTY]]","v":0},{"$f":"Table1[[#This Row],[QTY]]*Table1[[#This Row],[School & Library Price]]","v":0}]
[null,null,null,45,32,"Social Studies","A Look at Life Around the World","Families","978-1-5345-2834-5",{"$f":"HYPERLINK(Table1[[#This Row],[Hyperlink]],\"Weblink\")","v":"Weblink"},"KidHaven Publishing","eBook",1,"2019","January 2019",null,null,"Author","Joanna Brundle","4.8","0.5",null,null,"J",null,"Grade 2","Grade 1 - 3","Families living in different countries have unique cultural traditions and customs setting them apart based on what area of the world they live in. Readers expand their knowledge of the many family dynamics that can be seen around the world and how family members from various nations interact in their everyday lives. In addition to the well-researched and age-appropriate text, engaging fact boxes, a helpful glossary, and vibrant, full-color photographs provide extra insight into this essential elementary curriculum topic. Readers develop a more global point of view as they compare and contrast their own families with families around the world.","English",24.6,19.68,"306.85--dc23","24 pp.","https://greenhavenpublishing.com/978-1-5345-2834-5",{"$f":"Table1[[#This Row],['# of Books]]*Table1[[#This Row],[QTY]]","v":0},{"$f":"Table1[[#This Row],[QTY]]*Table1[[#This Row],[School & Library Price]]","v":0}]
[null,null,null,45,32,"Social Studies","A Look at Life Around the World","Play","978-1-5345-2841-3",{"$f":"HYPERLINK(Table1[[#This Row],[Hyperlink]],\"Weblink\")","v":"Weblink"},"KidHaven Publishing","Library Bound Book",1,"2019","January 2019","Library","8.500 X 8.500","Author","Joanna Brundle","4.2","0.5",null,null,"J",null,"Grade 2","Grade 1 - 3","All children love to play. How does playtime differ for children from different countries? How is it the same? Readers are exposed to a wide range of interesting sports and games played in various countries around the world. Learning about these activities enhances knowledge of other cultures and encourages readers to appreciate differences but also look for common ground. This relevant critical-thinking exercise also complements elementary curricula and is enhanced by fact boxes and relatable, full-color photographs of children at play around the world.","English",24.6,19.68,"790.1--dc23","24 pp.","https://greenhavenpublishing.com/978-1-5345-2841-3",{"$f":"Table1[[#This Row],['# of Books]]*Table1[[#This Row],[QTY]]","v":0},{"$f":"Table1[[#This Row],[QTY]]*Table1[[#This Row],[School & Library Price]]","v":0}]
[null,null,null,46,33,"Social Studies","Cooking Your Way Through American History","Cooking Your Way Through American History","978-1-5345-2121-6",{"$f":"HYPERLINK(Table1[[#This Row],[Hyperlink]],\"Weblink\")","v":"Weblink"},"KidHaven Publishing","Library Set",6,"2017","January 2017","Library","8.500 X 8.500",null,null,null,null,null,null,null,null,"Grade 3","Grade 2 - 5","Readers discover a valuable link between the classroom and the kitchen as they learn about the foods made and eaten during important times in American history. Informative and engaging narratives present a fresh take on popular historical periods, from early Native American history through the Civil War. Readers explore the relationship between food and culture, geography, social class, the economy, and war. The reading experience is enhanced by recipes from each time period and a colorful combination of contemporary and historical images. This hands-on approach to history helps readers bring a taste of the past to the present. Features include: Recipes have simple lists of ingredients and detailed step-by-step instructions. Creative presentation of common social studies curriculum topics encourages readers to have fun while learning about history.","English",163.5,130.80000000000001,null,"24 pp.","https://greenhavenpublishing.com/978-1-5345-2121-6",{"$f":"Table1[[#This Row],['# of Books]]*Table1[[#This Row],[QTY]]","v":0},{"$f":"Table1[[#This Row],[QTY]]*Table1[[#This Row],[School & Library Price]]","v":0}]
[null,null,null,46,33,"Social Studies","Cooking Your Way Through American History","Recipes of the Civil War","978-1-5345-2090-5",{"$f":"HYPERLINK(Table1[[#This Row],[Hyperlink]],\"Weblink\")","v":"Weblink"},"KidHaven Publishing","Library Bound Book",1,"2017","January 2017","Library","8.500 X 8.500","Author","Amy B. Rogers",null,null,null,null,"N","910L","Grade 3","Grade 2 - 5","Readers will enjoy making sweet potato pie, praline sauce, and other foods eaten during the Civil War as they learn about this important time in American history. Each recipe features step-by-step instructions presented in a clear way. Historical context is provided in the form of a captivating, fact-filled narrative about life during the Civil War. The accessible text is focused on food in this era, providing readers with a fresh perspective on a common social studies curriculum topic. Historical and contemporary images including primary sources add an exciting visual component to this reading experience.","English",27.25,21.8,"641.5973--dc23","24 pp.","https://greenhavenpublishing.com/978-1-5345-2090-5",{"$f":"Table1[[#This Row],['# of Books]]*Table1[[#This Row],[QTY]]","v":0},{"$f":"Table1[[#This Row],[QTY]]*Table1[[#This Row],[School & Library Price]]","v":0}]
[null,null,null,46,33,"Social Studies","Cooking Your Way Through American History","Recipes of the Civil War","978-1-5345-2091-2",{"$f":"HYPERLINK(Table1[[#This Row],[Hyperlink]],\"Weblink\")","v":"Weblink"},"KidHaven Publishing","eBook",1,"2017","January 2017",null,null,"Author","Amy B. Rogers",null,null,null,null,"N","910L","Grade 3","Grade 2 - 5","Readers will enjoy making sweet potato pie, praline sauce, and other foods eaten during the Civil War as they learn about this important time in American history. Each recipe features step-by-step instructions presented in a clear way. Historical context is provided in the form of a captivating, fact-filled narrative about life during the Civil War. The accessible text is focused on food in this era, providing readers with a fresh perspective on a common social studies curriculum topic. Historical and contemporary images including primary sources add an exciting visual component to this reading experience.","English",27.25,21.8,"641.5973--dc23","24 pp.","https://greenhavenpublishing.com/978-1-5345-2091-2",{"$f":"Table1[[#This Row],['# of Books]]*Table1[[#This Row],[QTY]]","v":0},{"$f":"Table1[[#This Row],[QTY]]*Table1[[#This Row],[School & Library Price]]","v":0}]
[null,null,null,46,33,"Social Studies","Cooking Your Way Through American History","Recipes of the Westward Expansion","978-1-5345-2102-5",{"$f":"HYPERLINK(Table1[[#This Row],[Hyperlink]],\"Weblink\")","v":"Weblink"},"KidHaven Publishing","Library Bound Book",1,"2017","January 2017","Library","8.500 X 8.500","Author","Katie Kawa",null,null,null,null,"N","810L","Grade 3","Grade 2 - 5","As Americans began to move west, many things changed, including the foods they ate and how they prepared their meals. An engaging narrative presents readers with fascinating facts about this crucial period of growth in the United States, with a unique emphasis on food. Detailed images, including primary sources, aid in setting the scene. Readers are then encouraged to bring a taste of this time to the present by making some of the foods they read about. These detailed recipes work with the text to create a history lesson readers won’t soon forget.","English",27.25,21.8,"641.5’0973’09034--dc23","24 pp.","https://greenhavenpublishing.com/978-1-5345-2102-5",{"$f":"Table1[[#This Row],['# of Books]]*Table1[[#This Row],[QTY]]","v":0},{"$f":"Table1[[#This Row],[QTY]]*Table1[[#This Row],[School & Library Price]]","v":0}]
[null,null,null,47,34,"Social Studies","Maps and Mapping","Mapping Money and Trade","978-1-5345-3023-2",{"$f":"HYPERLINK(Table1[[#This Row],[Hyperlink]],\"Weblink\")","v":"Weblink"},"KidHaven Publishing","Library Bound Book",1,"2020","August 2019","Library","8.500 X 11.00","Author","Madeline Tyler",null,null,null,null,"R",null,"Grade 4","Grade 3 - 5","Learning how to read all different kinds of maps is a valuable skill. There are maps that depict different natural landforms, groups of people, weather patterns, and towns and cities. Money and trade can also be shown on maps. Readers gain knowledge about economics through this creative look at maps that deal with these concepts. Concise text makes this subject easy to understand. The detailed glossary, helpful fact boxes, useful diagrams and graphic organizers, and bright, full-color examples of maps enhance this reading experience.","English",27.25,21.8,"382'.09--dc23","32 pp.","https://greenhavenpublishing.com/978-1-5345-3023-2",{"$f":"Table1[[#This Row],['# of Books]]*Table1[[#This Row],[QTY]]","v":0},{"$f":"Table1[[#This Row],[QTY]]*Table1[[#This Row],[School & Library Price]]","v":0}]
[null,null,null,47,34,"Social Studies","Maps and Mapping","Mapping Physical Geography","978-1-5345-3021-8",{"$f":"HYPERLINK(Table1[[#This Row],[Hyperlink]],\"Weblink\")","v":"Weblink"},"KidHaven Publishing","Library Bound Book",1,"2020","August 2019","Library","8.500 X 11.00","Author","Alex Brinded",null,null,null,null,"R",null,"Grade 4","Grade 3 - 5","Physical geography is a common feature shown on maps, and it's important for readers to know how to interpret maps that depict the natural world around them. From the informational main text, they gain knowledge of what various symbols mean on a map and how to both read and create maps that show physical geography. Eye-catching design elements and colorful map examples enhance this learning experience for readers. Fun fact boxes, detailed graphic organizers, useful diagrams, and a helpful glossary also add extra insight into this topic that reflects aspects of both social studies and science curricula.","English",27.25,21.8,"551.43'2--dc23","32 pp.","https://greenhavenpublishing.com/978-1-5345-3021-8",{"$f":"Table1[[#This Row],['# of Books]]*Table1[[#This Row],[QTY]]","v":0},{"$f":"Table1[[#This Row],[QTY]]*Table1[[#This Row],[School & Library Price]]","v":0}]
[null,null,null,47,34,"Social Studies","Maps and Mapping","Mapping Physical Geography","978-1-5345-3104-8",{"$f":"HYPERLINK(Table1[[#This Row],[Hyperlink]],\"Weblink\")","v":"Weblink"},"KidHaven Publishing","eBook",1,"2020","August 2019",null,null,"Author","Alex Brinded",null,null,null,null,"R",null,"Grade 4","Grade 3 - 5","Physical geography is a common feature shown on maps, and it's important for readers to know how to interpret maps that depict the natural world around them. From the informational main text, they gain knowledge of what various symbols mean on a map and how to both read and create maps that show physical geography. Eye-catching design elements and colorful map examples enhance this learning experience for readers. Fun fact boxes, detailed graphic organizers, useful diagrams, and a helpful glossary also add extra insight into this topic that reflects aspects of both social studies and science curricula.","English",27.25,21.8,"551.43'2--dc23","32 pp.","https://greenhavenpublishing.com/978-1-5345-3104-8",{"$f":"Table1[[#This Row],['# of Books]]*Table1[[#This Row],[QTY]]","v":0},{"$f":"Table1[[#This Row],[QTY]]*Table1[[#This Row],[School & Library Price]]","v":0}]
[null,null,null,48,35,"Social Studies","Unlocking Ancient Civilizations","Unlocking Ancient Civilizations: Sets 1 – 2","978-1-5345-2962-5",{"$f":"HYPERLINK(Table1[[#This Row],[Hyperlink]],\"Weblink\")","v":"Weblink"},"KidHaven Publishing","Library Set",8,"2019","January 2019","Library","8.500 X 11.00",null,null,null,null,null,null,null,null,"Grade 4 - 5","Grade 4 - 6","Readers are introduced to the ancient civilizations that shaped the world as we know it today as they explore this fresh and fact-filled look at history. Through age-appropriate text, they are transported to many destinations around the world to learn about the culture, customs, and traditions of various civilizations of the past. Some of these civilizations include the ancient Greeks, Romans, Egyptians, Maya, Incas, and Mesopotamians. In addition, readers gain more insight through detailed fact boxes, engaging sidebars, and bright, full-color photographs. Features include: Detailed timelines present a creative way to look at the most important events in ancient history. Colorful maps help readers develop essential geography skills. Detailed text enhances social studies curriculum topics and fosters a deeper appreciation for history.","English",218,174.4,null,"32 pp.","https://greenhavenpublishing.com/978-1-5345-2962-5",{"$f":"Table1[[#This Row],['# of Books]]*Table1[[#This Row],[QTY]]","v":0},{"$f":"Table1[[#This Row],[QTY]]*Table1[[#This Row],[School & Library Price]]","v":0}]
[null,null,null,48,35,"Social Studies","Unlocking Ancient Civilizations","The Ancient Maya","978-1-5345-2906-9",{"$f":"HYPERLINK(Table1[[#This Row],[Hyperlink]],\"Weblink\")","v":"Weblink"},"KidHaven Publishing","eBook",1,"2019","January 2019",null,null,"Author","Madeline Tyler",null,null,null,null,"R",null,"Grade 4 - 5","Grade 4 - 6","How were the daily lives of the ancient Maya different from our daily lives today? What problems did they face as an early civilization in the Americas? Questions such as these are answered as readers examine the ancient Maya through a close study of their history, lifestyle, and traditions. Through well-researched main text, readers are able to compare and contrast this ancient culture with modern civilizations. In addition, accessible maps, informational fact boxes, interesting sidebars, a helpful timeline, and vibrant full-color photographs are included to further explain this essential social studies curriculum topic.","English",27.25,21.8,"972.81--dc23","32 pp.","https://greenhavenpublishing.com/978-1-5345-2906-9",{"$f":"Table1[[#This Row],['# of Books]]*Table1[[#This Row],[QTY]]","v":0},{"$f":"Table1[[#This Row],[QTY]]*Table1[[#This Row],[School & Library Price]]","v":0}]
[null,null,null,49,35,"Social Studies","Unlocking Ancient Civilizations","Ancient Mesopotamia","978-1-5345-2913-7",{"$f":"HYPERLINK(Table1[[#This Row],[Hyperlink]],\"Weblink\")","v":"Weblink"},"KidHaven Publishing","Library Bound Book",1,"2019","January 2019","Library","8.500 X 11.00","Author","Madeline Tyler",null,null,null,null,"R",null,"Grade 4 - 5","Grade 4 - 6","Where was Mesopotamia located? What did ancient Mesopotamian society look like? What did the people who lived there do for fun? As readers discover the answers to these and other questions about ancient Mesopotamia, they are encouraged to see the similarities and differences between this civilization and others of the past and present. The well-researched main text exposes young people to a different culture, which is further highlighted in fact boxes and sidebars. This essential social studies curriculum topic is presented in an engaging way through exciting design elements, including timelines, maps, and historical and contemporary images.","English",27.25,21.8,"935--dc23","32 pp.","https://greenhavenpublishing.com/978-1-5345-2913-7",{"$f":"Table1[[#This Row],['# of Books]]*Table1[[#This Row],[QTY]]","v":0},{"$f":"Table1[[#This Row],[QTY]]*Table1[[#This Row],[School & Library Price]]","v":0}]
[null,null,null,49,35,"Social Studies","Unlocking Ancient Civilizations","The Indus Valley","978-1-5345-2918-2",{"$f":"HYPERLINK(Table1[[#This Row],[Hyperlink]],\"Weblink\")","v":"Weblink"},"KidHaven Publishing","eBook",1,"2019","January 2019",null,null,"Author","Madeline Tyler",null,null,null,null,"R",null,"Grade 4 - 5","Grade 4 - 6","Readers take an exciting journey to the Indus Valley as they explore the ancient civilization that arose in this fascinating place. Through detailed main text, fact boxes, and sidebars, this common social studies curriculum topic is presented in a way that highlights the traditional customs of this group of people and their contributions to the modern world. Accessible maps, a helpful timeline, and vibrant photographs help to expand the knowledge of young people fascinated by ancient cultures and to encourage an appreciation for diversity in the past and present.","English",27.25,21.8,"934--dc23","32 pp.","https://greenhavenpublishing.com/978-1-5345-2918-2",{"$f":"Table1[[#This Row],['# of Books]]*Table1[[#This Row],[QTY]]","v":0},{"$f":"Table1[[#This Row],[QTY]]*Table1[[#This Row],[School & Library Price]]","v":0}]
[null,null,null,49,35,"Social Studies","Unlocking Ancient Civilizations","Ancient Rome","978-1-5345-2036-3",{"$f":"HYPERLINK(Table1[[#This Row],[Hyperlink]],\"Weblink\")","v":"Weblink"},"KidHaven Publishing","eBook",1,"2017","January 2017",null,null,"Author","George Cottrell",null,null,"44",null,"R","980L","Grade 4 - 5","Grade 4 - 6","The ancient Romans developed a civilization unlike any other. Readers discover what made ancient Rome so unique and how its influence can still be felt in the world today. The exciting text and eye-catching design enhance social studies curricula in an engaging way. Readers will want to learn even more about this fascinating civilization, which is presented to them through clear main text, informative sidebars, fun fact boxes, and colorful maps. Vibrant photographs give readers a strong visual sense of what life was like in ancient Rome and what remnants of this great civilization can still be seen today.","English",27.25,21.8,"937","32 pp.","https://greenhavenpublishing.com/978-1-5345-2036-3",{"$f":"Table1[[#This Row],['# of Books]]*Table1[[#This Row],[QTY]]","v":0},{"$f":"Table1[[#This Row],[QTY]]*Table1[[#This Row],[School & Library Price]]","v":0}]
[null,null,null,50,36,"Sports","Play Like a Girl","Basketball","978-1-5345-3092-8",{"$f":"HYPERLINK(Table1[[#This Row],[Hyperlink]],\"Weblink\")","v":"Weblink"},"KidHaven Publishing","eBook",1,"2020","August 2019",null,null,"Author","Emilie Dufresne",null,null,null,null,"O",null,"Grade 3 - 4","Grade 2 - 5","There has been a rise in young female athletes showing an interest in playing particular sports, such as basketball. This comprehensive guide, created specifically for them, presents the basic rules of the sport, different positions on the court, safety tips, and other beneficial information to help them become a successful team player. This age-appropriate and accessible text also promotes acceptance of female athletes among both boys and girls. Helpful diagrams, a thorough glossary, detailed graphic organizers, and bright, full-color photographs enhance this fun topic for avid sports fans.","English",27.25,21.8,"796.323--dc23","32 pp.","https://greenhavenpublishing.com/978-1-5345-3092-8",{"$f":"Table1[[#This Row],['# of Books]]*Table1[[#This Row],[QTY]]","v":0},{"$f":"Table1[[#This Row],[QTY]]*Table1[[#This Row],[School & Library Price]]","v":0}]
[null,null,null,50,36,"Sports","Play Like a Girl","Tennis","978-1-5345-3011-9",{"$f":"HYPERLINK(Table1[[#This Row],[Hyperlink]],\"Weblink\")","v":"Weblink"},"KidHaven Publishing","Library Bound Book",1,"2020","August 2019","Library","8.500 X 11.00","Author","Emilie Dufresne",null,null,null,null,"O",null,"Grade 3 - 4","Grade 2 - 5","Female tennis players such as Serena Williams have inspired many girls to learn more about this exciting sport. This guide allows them to do exactly that. With each turn of the page, they learn how the sport is played, how to stay safe on the court, and other fun facts about tennis. The age-appropriate main text allows them to discover how playing tennis promotes an active and healthy lifestyle and encourages the development of self-esteem. In addition, a detailed glossary, accessible graphic organizers, engaging fact boxes, and vibrant, full-color photographs provide extra insight into the fast-paced world of tennis.","English",27.25,21.8,"796.342--dc23","32 pp.","https://greenhavenpublishing.com/978-1-5345-3011-9",{"$f":"Table1[[#This Row],['# of Books]]*Table1[[#This Row],[QTY]]","v":0},{"$f":"Table1[[#This Row],[QTY]]*Table1[[#This Row],[School & Library Price]]","v":0}]
[null,null,null,50,36,"Sports","Play Like a Girl","Tennis","978-1-5345-3096-6",{"$f":"HYPERLINK(Table1[[#This Row],[Hyperlink]],\"Weblink\")","v":"Weblink"},"KidHaven Publishing","eBook",1,"2020","August 2019",null,null,"Author","Emilie Dufresne",null,null,null,null,"O",null,"Grade 3 - 4","Grade 2 - 5","Female tennis players such as Serena Williams have inspired many girls to learn more about this exciting sport. This guide allows them to do exactly that. With each turn of the page, they learn how the sport is played, how to stay safe on the court, and other fun facts about tennis. The age-appropriate main text allows them to discover how playing tennis promotes an active and healthy lifestyle and encourages the development of self-esteem. In addition, a detailed glossary, accessible graphic organizers, engaging fact boxes, and vibrant, full-color photographs provide extra insight into the fast-paced world of tennis.","English",27.25,21.8,"796.342--dc23","32 pp.","https://greenhavenpublishing.com/978-1-5345-3096-6",{"$f":"Table1[[#This Row],['# of Books]]*Table1[[#This Row],[QTY]]","v":0},{"$f":"Table1[[#This Row],[QTY]]*Table1[[#This Row],[School & Library Price]]","v":0}]
[null,null,59,null,null,"Biographies","Writers Who Changed the World","Writers Who Changed the World","978-1-5345-6600-2",{"$f":"HYPERLINK(Table1[[#This Row],[Hyperlink]],\"Weblink\")","v":"Weblink"},"Lucent Press","Library Set",6,"2020","August 2019","Library","7.250 X 9.250",null,null,null,null,null,null,null,null,"Grade 6 - 7","Grade 6 - 8","Great writers don't just write about the world around them; they change it. The power of the pen is clearly presented through this in-depth exploration of the lives and masterpieces of some of history's most influential writers, from Charles Dickens to Anne Frank. This exciting look at literary history includes timelines, graphic organizers, and a vibrant design that features both historical and contemporary images. It can serve as an engaging supplement to the study of great works of literature such as Pride and Prejudice and Of Mice and Men. This set is also a fun independent reading experience for literature lovers. Features include: Guided analysis of each writer's most famous works to help readers develop the ability to closely read and analyze informational texts. Historical context that encourages readers to understand the link between history and literature. This content supports common social studies curriculum topics, such as the Industrial Revolution and the civil rights movement. Biographical information inspires readers to think critically about how writers shape their message to influence their audience.","English",209.7,167.7,null,"64 pp.","https://greenhavenpublishing.com/978-1-5345-6600-2",{"$f":"Table1[[#This Row],['# of Books]]*Table1[[#This Row],[QTY]]","v":0},{"$f":"Table1[[#This Row],[QTY]]*Table1[[#This Row],[School & Library Price]]","v":0}]
[null,null,59,null,null,"Biographies","Writers Who Changed the World","Alice Walker","978-1-5345-6583-8",{"$f":"HYPERLINK(Table1[[#This Row],[Hyperlink]],\"Weblink\")","v":"Weblink"},"Lucent Press","eBook",1,"2020","August 2019",null,null,"Author","Anita Croy",null,null,null,null,"X",null,"Grade 6 - 7","Grade 6 - 8","Alice Walker's The Color Purple was awarded the Pulitzer Prize and is considered one of the most influential works of modern African American fiction. Readers discover the lasting impact of this novel and Walker's other works as they explore this captivating guide to the life of a literary giant. Historical and biographical context is presented through informative main text, engaging sidebars, and design elements that include timelines and primary source images. Readers are then able to use this context to analyze Walker's work, which is introduced to them in an accessible way that strengthens essential language arts skills.","English",34.950000000000003,27.95,"813'.54--dc23","64 pp.","https://greenhavenpublishing.com/978-1-5345-6583-8",{"$f":"Table1[[#This Row],['# of Books]]*Table1[[#This Row],[QTY]]","v":0},{"$f":"Table1[[#This Row],[QTY]]*Table1[[#This Row],[School & Library Price]]","v":0}]
[null,null,59,null,null,"Biographies","Writers Who Changed the World","Charles Dickens","978-1-5345-6587-6",{"$f":"HYPERLINK(Table1[[#This Row],[Hyperlink]],\"Weblink\")","v":"Weblink"},"Lucent Press","Paperback Book",1,"2020","August 2019","Paperback","7.250 X 9.250","Author","Anita Croy",null,null,null,null,"X",null,"Grade 6 - 7","Grade 6 - 8","Charles Dickens often wrote about the social problems of 19th-century England, such as child labor, poverty, and crime. By shedding a light on these issues through popular works of literature, he helped create change. Readers explore this connection between history, social issues, and literature as they examine the details of Dickens's life and literary career through engaging main text, fact-filled sidebars, graphic organizers, and historical images. Readers are also given a close look at one of Dickens's most famous works, Oliver Twist. They are encouraged to think critically about how his words may have changed the world.","English",15.28,12.99,"823.8--dc23","64 pp.","https://greenhavenpublishing.com/978-1-5345-6587-6",{"$f":"Table1[[#This Row],['# of Books]]*Table1[[#This Row],[QTY]]","v":0},{"$f":"Table1[[#This Row],[QTY]]*Table1[[#This Row],[School & Library Price]]","v":0}]
[null,null,59,null,null,"Biographies","Writers Who Changed the World","Charles Dickens","978-1-5345-6589-0",{"$f":"HYPERLINK(Table1[[#This Row],[Hyperlink]],\"Weblink\")","v":"Weblink"},"Lucent Press","eBook",1,"2020","August 2019",null,null,"Author","Anita Croy",null,null,null,null,"X",null,"Grade 6 - 7","Grade 6 - 8","Charles Dickens often wrote about the social problems of 19th-century England, such as child labor, poverty, and crime. By shedding a light on these issues through popular works of literature, he helped create change. Readers explore this connection between history, social issues, and literature as they examine the details of Dickens's life and literary career through engaging main text, fact-filled sidebars, graphic organizers, and historical images. Readers are also given a close look at one of Dickens's most famous works, Oliver Twist. They are encouraged to think critically about how his words may have changed the world.","English",34.950000000000003,27.95,"823.8--dc23","64 pp.","https://greenhavenpublishing.com/978-1-5345-6589-0",{"$f":"Table1[[#This Row],['# of Books]]*Table1[[#This Row],[QTY]]","v":0},{"$f":"Table1[[#This Row],[QTY]]*Table1[[#This Row],[School & Library Price]]","v":0}]
[null,null,59,null,null,"Biographies","Writers Who Changed the World","Jane Austen","978-1-5345-6584-5",{"$f":"HYPERLINK(Table1[[#This Row],[Hyperlink]],\"Weblink\")","v":"Weblink"},"Lucent Press","Paperback Book",1,"2020","August 2019","Paperback","7.250 X 9.250","Author","Anita Croy",null,null,null,null,"X",null,"Grade 6 - 7","Grade 6 - 8","Jane Austen's novels have inspired readers for centuries, and modern adaptations continue to captivate audiences today. While all of Austen's works have legions of fans, she's best known as the author of one of literature's great love stories: Pride and Prejudice. However, this novel is far more than a romance, and readers discover this as they're introduced to the sharp social commentary Austen presented in her writing. Complete with primary sources, graphic organizers, and detailed sidebars, this inside look at Austen's life is sure to inspire the next generation of fans.","English",15.28,12.99,"823'.7--dc23","64 pp.","https://greenhavenpublishing.com/978-1-5345-6584-5",{"$f":"Table1[[#This Row],['# of Books]]*Table1[[#This Row],[QTY]]","v":0},{"$f":"Table1[[#This Row],[QTY]]*Table1[[#This Row],[School & Library Price]]","v":0}]
[null,null,59,null,null,"Biographies","Writers Who Changed the World","John Steinbeck","978-1-5345-6593-7",{"$f":"HYPERLINK(Table1[[#This Row],[Hyperlink]],\"Weblink\")","v":"Weblink"},"Lucent Press","Paperback Book",1,"2020","August 2019","Paperback","7.250 X 9.250","Author","Anita Croy",null,null,null,null,"X",null,"Grade 6 - 7","Grade 6 - 8","John Steinbeck's novels, including The Grapes of Wrath and East of Eden, have been read by students around the world, and they often provide a strong starting point for learning about the devastating effects of the Great Depression. This connection between history and literature is waiting for readers to discover as they take in the fascinating details of Steinbeck's life and closely examine one of his most famous works, Of Mice and Men. Featuring enlightening sidebars, primary source images, and graphic organizers such as detailed timelines, this reading experience is sure to captivate young literature lovers.","English",15.28,12.99,"813'.52--dc23","64 pp.","https://greenhavenpublishing.com/978-1-5345-6593-7",{"$f":"Table1[[#This Row],['# of Books]]*Table1[[#This Row],[QTY]]","v":0},{"$f":"Table1[[#This Row],[QTY]]*Table1[[#This Row],[School & Library Price]]","v":0}]
[null,null,65,null,null,"Current Issues","What's Your Viewpoint?","Border Security: Are Immigrants Still Welcome in the United States?","978-1-5345-6562-3",{"$f":"HYPERLINK(Table1[[#This Row],[Hyperlink]],\"Weblink\")","v":"Weblink"},"Lucent Press","eBook",1,"2020","August 2019",null,null,"Author","Anita Croy",null,null,null,null,"V",null,"Grade 6","Grade 5 - 8","Border security issues have received increased coverage in recent years. Readers are given the tools to take part in the debates surrounding this hot topic. They'll explore the basic facts about border security and varying viewpoints that people have about border security policies, from the construction of a wall between the United States and Mexico to the treatment of undocumented immigrants. The informative main text is paired with full-color photographs and graphic organizers. Sidebars highlight opposing views of border security, and discussion questions to help readers develop their own informed opinions about this controversial issue.","English",33.6,26.88,"363.28'502373--dc23","48 pp.","https://greenhavenpublishing.com/978-1-5345-6562-3",{"$f":"Table1[[#This Row],['# of Books]]*Table1[[#This Row],[QTY]]","v":0},{"$f":"Table1[[#This Row],[QTY]]*Table1[[#This Row],[School & Library Price]]","v":0}]
[null,null,65,null,null,"Current Issues","What's Your Viewpoint?","Health Care: Should It Be Universal?","978-1-5345-6567-8",{"$f":"HYPERLINK(Table1[[#This Row],[Hyperlink]],\"Weblink\")","v":"Weblink"},"Lucent Press","Library Bound Book",1,"2020","August 2019","Library","7.250 X 9.250","Author","Anita Croy",null,null,null,null,"V",null,"Grade 6","Grade 5 - 8","Is universal health care a good idea? Has the Affordable Care Act been a success or a failure? These questions can be answered many different ways. Readers are introduced to the variety of views on health care as they take a deep dive into this crucial current events topic. The narrative encourages readers to become more informed citizens, and sidebars that present expert viewpoints help them gain a deeper understanding of the health care debate. Readers are also inspired to take part in this debate through discussion questions that deepen their critical thinking skills.","English",33.6,26.88,"344.7304'1--dc23","48 pp.","https://greenhavenpublishing.com/978-1-5345-6567-8",{"$f":"Table1[[#This Row],['# of Books]]*Table1[[#This Row],[QTY]]","v":0},{"$f":"Table1[[#This Row],[QTY]]*Table1[[#This Row],[School & Library Price]]","v":0}]
[null,null,65,null,null,"Current Issues","What's Your Viewpoint?","Presidential Power: How Far Does Executive Power Go?","978-1-5345-6571-5",{"$f":"HYPERLINK(Table1[[#This Row],[Hyperlink]],\"Weblink\")","v":"Weblink"},"Lucent Press","eBook",1,"2020","August 2019",null,null,"Author","Anita Croy",null,null,null,null,"V",null,"Grade 6","Grade 5 - 8","The ability to have free and open debates about the government is an essential part of a healthy democracy. Readers are encouraged to find their own voice in these debates as they're introduced to the varying viewpoints surrounding the issue of presidential power. The main text helps readers back up their point of view with facts, and sidebars highlight the views of experts on this controversial issue. Discussion questions help readers strengthen their point of view, and exciting visual elements, including full-color photographs and graphic organizers enhance this essential critical thinking exercise.","English",33.6,26.88,"352.23'50973--dc23","48 pp.","https://greenhavenpublishing.com/978-1-5345-6571-5",{"$f":"Table1[[#This Row],['# of Books]]*Table1[[#This Row],[QTY]]","v":0},{"$f":"Table1[[#This Row],[QTY]]*Table1[[#This Row],[School & Library Price]]","v":0}]
[null,null,65,null,null,"Current Issues","What's Your Viewpoint?","The Arms Race: Will Anyone Win the Weapons Race?","978-1-5345-6572-2",{"$f":"HYPERLINK(Table1[[#This Row],[Hyperlink]],\"Weblink\")","v":"Weblink"},"Lucent Press","Paperback Book",1,"2020","August 2019","Paperback","7.250 X 9.250","Author","Anita Croy",null,null,null,null,"V",null,"Grade 6","Grade 5 - 8","Arms races are often associated with the Cold War, but they're still a reality around the world today. Issues such as military aggression and nuclear weapons are complex, but they're presented to readers in an accessible way. A fact-filled main text, engaging full-color photographs, and helpful graphic organizers richly present details about the arms race. Readers are challenged to think for themselves about international arms races as they explore discussion questions and are asked to compare and contrast the viewpoints of experts. Although news stories about weapons and wars might seem frightening to young people, this volume stresses the importance of facts over fearmongering.","English",14.05,11.95,"355.02'17--dc23","48 pp.","https://greenhavenpublishing.com/978-1-5345-6572-2",{"$f":"Table1[[#This Row],['# of Books]]*Table1[[#This Row],[QTY]]","v":0},{"$f":"Table1[[#This Row],[QTY]]*Table1[[#This Row],[School & Library Price]]","v":0}]
[null,null,65,null,null,"Current Issues","What's Your Viewpoint?","Trade Wars: Can Anyone Win the Fight for Trade?","978-1-5345-6565-4",{"$f":"HYPERLINK(Table1[[#This Row],[Hyperlink]],\"Weblink\")","v":"Weblink"},"Lucent Press","eBook",1,"2020","August 2019",null,null,"Author","Anita Croy",null,null,null,null,"V",null,"Grade 6","Grade 5 - 8","President Donald Trump has said that trade wars can be good and are easy to win, but not everyone shares his viewpoint. Readers explore the facts and opinions surrounding the topic of trade wars, including what they are, who they affect, and how they can benefit or harm economies. The accessible main text introduces this complicated issue in a way that's easy for readers to understand, and full-color photographs and graphic organizers keep them engaged as they learn. Sidebars present expert views on trade wars, and discussion questions challenge readers to think critically about this issue.","English",33.6,26.88,"382'.3--dc23","48 pp.","https://greenhavenpublishing.com/978-1-5345-6565-4",{"$f":"Table1[[#This Row],['# of Books]]*Table1[[#This Row],[QTY]]","v":0},{"$f":"Table1[[#This Row],[QTY]]*Table1[[#This Row],[School & Library Price]]","v":0}]
[null,null,72,null,null,"Science and Technology","Earth's Innovators","Earth's Innovators","978-1-5345-6598-2",{"$f":"HYPERLINK(Table1[[#This Row],[Hyperlink]],\"Weblink\")","v":"Weblink"},"Lucent Press","Library Set",6,"2020","August 2019","Library","7.250 X 9.250",null,null,null,null,null,null,null,null,"Grade 6","Grade 5 - 8","Climate change, hunger, natural disasters, and other problems people are facing today call for new ideas. Luckily, innovators around the world are working hard to improve all areas of life, from transportation to medicine. As readers explore this exciting look at the people and inventions poised to shape our future, they're sure to become inspired to find their own creative solutions to problems both big and small. Real-world examples of new technology and fresh ways of thinking are presented through fact-filled main text, eye-catching sidebars, and vivid full-color photographs of people hard at work building a better world. Features include: Supports STEM curricula and encourages an interest in science, technology, engineering, and math. Detailed case studies introduce readers to STEM role models. Engaging tone empowers readers to become problem solvers.","English",201.6,161.28,null,"48 pp.","https://greenhavenpublishing.com/978-1-5345-6598-2",{"$f":"Table1[[#This Row],['# of Books]]*Table1[[#This Row],[QTY]]","v":0},{"$f":"Table1[[#This Row],[QTY]]*Table1[[#This Row],[School & Library Price]]","v":0}]
[null,null,72,null,null,"Science and Technology","Earth's Innovators","Innovators Challenging Climate Change","978-1-5345-6558-6",{"$f":"HYPERLINK(Table1[[#This Row],[Hyperlink]],\"Weblink\")","v":"Weblink"},"Lucent Press","Library Bound Book",1,"2020","August 2019","Library","7.250 X 9.250","Author","Robyn Hardyman",null,null,null,null,"W",null,"Grade 6","Grade 5 - 8","Climate change is one of the biggest problems facing the world today, but scientists, engineers, and other innovators are using their STEM skills to challenge this global crisis. From the technological advances being used to reduce greenhouse gas emissions to the scientific knowledge being applied to build energy-efficient homes, each exciting innovation is explained to readers. The narrative offers accessible language and facts that complement science curriculum topics. Engaging sidebars and full-color photographs add to this essential reading experience, which will inspire young innovators to develop their own ideas for protecting the planet.","English",33.6,26.88,"551.6--dc23","48 pp.","https://greenhavenpublishing.com/978-1-5345-6558-6",{"$f":"Table1[[#This Row],['# of Books]]*Table1[[#This Row],[QTY]]","v":0},{"$f":"Table1[[#This Row],[QTY]]*Table1[[#This Row],[School & Library Price]]","v":0}]
[null,null,72,null,null,"Science and Technology","Earth's Innovators","Innovators Dealing with Natural Disasters","978-1-5345-6550-0",{"$f":"HYPERLINK(Table1[[#This Row],[Hyperlink]],\"Weblink\")","v":"Weblink"},"Lucent Press","eBook",1,"2020","August 2019",null,null,"Author","Robyn Hardyman",null,null,null,null,"W",null,"Grade 6","Grade 5 - 8","Hurricanes, wildfires, and other natural disasters can seem unstoppable, destroying anything in their way. However, people around the world are working hard to come up with new ways to prepare for and recover from natural disasters. Readers discover the amazing stories behind these innovators and the ways they're using science, technology, engineering, and math skills to save lives. The main text, which supports essential STEM curriculum topics, is accompanied by detailed sidebars and vivid full-color photographs. The inspiring tone encourages the next generation of innovators to come up with their own creative solutions to the problem of natural disasters.","English",33.6,26.88,"363.34--dc23","48 pp.","https://greenhavenpublishing.com/978-1-5345-6550-0",{"$f":"Table1[[#This Row],['# of Books]]*Table1[[#This Row],[QTY]]","v":0},{"$f":"Table1[[#This Row],[QTY]]*Table1[[#This Row],[School & Library Price]]","v":0}]
[null,null,72,null,null,"Science and Technology","Earth's Innovators","Innovators Improving Transportation","978-1-5345-6551-7",{"$f":"HYPERLINK(Table1[[#This Row],[Hyperlink]],\"Weblink\")","v":"Weblink"},"Lucent Press","Paperback Book",1,"2020","August 2019","Paperback","7.250 X 9.250","Author","Robyn Hardyman",null,null,null,null,"W",null,"Grade 6","Grade 5 - 8","People often complain about transportation; congested highways, inefficient mass transit systems, and environmental damage. Some innovators have taken those complaints and turned them into inspiration. These men and women are using science, technology, engineering, and math to improve transportation for both people and the environment. As readers discover the creative ways innovators are changing how we get from place to place, they also learn about the application of STEM in the world beyond the classroom. Featuring engaging main text, detailed sidebars, and vibrant photographs, this reading experience enhances the development of problem-solving skills in a creative and exciting way.","English",14.05,11.95,"629.04--dc23","48 pp.","https://greenhavenpublishing.com/978-1-5345-6551-7",{"$f":"Table1[[#This Row],['# of Books]]*Table1[[#This Row],[QTY]]","v":0},{"$f":"Table1[[#This Row],[QTY]]*Table1[[#This Row],[School & Library Price]]","v":0}]
[null,null,72,null,null,"Science and Technology","Earth's Innovators","Innovators Tackling the Energy Crisis","978-1-5345-6546-3",{"$f":"HYPERLINK(Table1[[#This Row],[Hyperlink]],\"Weblink\")","v":"Weblink"},"Lucent Press","Library Bound Book",1,"2020","August 2019","Library","7.250 X 9.250","Author","Robyn Hardyman",null,null,null,null,"W",null,"Grade 6","Grade 5 - 8","Did you know that an engineering professor invented a scanner that can find ways to improve a building's energy efficiency? Readers discover this and other fun facts as they explore the many ways people around the world are using their STEM knowledge to tackle the global energy crisis. The engaging main text, fact-filled sidebars, and full-color photographs supplement science curriculum topics and help readers connect those curriculum topics to current events issues such as climate change. Readers will also be inspired to find their own ways to deal with the growing demand for energy around the world.","English",33.6,26.88,"628--dc23","48 pp.","https://greenhavenpublishing.com/978-1-5345-6546-3",{"$f":"Table1[[#This Row],['# of Books]]*Table1[[#This Row],[QTY]]","v":0},{"$f":"Table1[[#This Row],[QTY]]*Table1[[#This Row],[School & Library Price]]","v":0}]
[null,null,null,null,null,"Health & Medicine","Diseases and Disorders","Diseases and Disorders: Sets 1 – 5","978-1-5345-6695-8",{"$f":"HYPERLINK(Table1[[#This Row],[Hyperlink]],\"Weblink\")","v":"Weblink"},"Lucent Press","Library Set",30,"2020","August 2019","Library","6.000 X 9.000",null,null,null,null,null,null,null,null,"Grade 7","Grade 7 - 10","Physical health problems such as a broken arm or the flu have visible symptoms, but disorders that affect the brain are generally invisible. This contributes to persistent myths and misinformation about learning disorders, eating disorders, mood disorders, and other mental health issues. Readers develop a better understanding of mental and physical health problems through relevant statistics, informative sidebars, detailed photographs, and up-to-date charts and diagrams. With this information, readers are better equipped to assess their own health and support people they know who are dealing with various diseases and disorders. Features include: Carefully selected topics focus on health concerns that affect young adults and their families. Annotated quotes give readers important facts as well as personal details about living with illnesses that people often do not understand. Lists of organizations to contact for more information provide readers with additional resources.","English",1197,957.6,null,"104–112 pp.","https://greenhavenpublishing.com/978-1-5345-6695-8",{"$f":"Table1[[#This Row],['# of Books]]*Table1[[#This Row],[QTY]]","v":0},{"$f":"Table1[[#This Row],[QTY]]*Table1[[#This Row],[School & Library Price]]","v":0}]
[null,null,69,null,null,"Health & Medicine","Diseases and Disorders","Anorexia and Bulimia: Dangerous Eating Disorders","978-1-5345-6750-4",{"$f":"HYPERLINK(Table1[[#This Row],[Hyperlink]],\"Weblink\")","v":"Weblink"},"Lucent Press","eBook",1,"2020","August 2019",null,null,"Author","Kristen Rajczak Nelson",null,null,null,null,"Z",null,"Grade 7","Grade 7 - 10","It's confusing and scary when someone seems to be choosing not to eat, but what's at work inside them is more than a decision. Eating disorders are serious mental health conditions, and those with anorexia and bulimia need help and compassion, not tough love. Annotated quotes, engaging graphic elements, and sidebars help readers learn about the many causes and symptoms of these eating disorders, as well as the medical issues they can cause. Treatment outcomes are also covered, along with anecdotes of hope from those who have survived. Help your readers understand these two most deadly eating disorders, and provide those struggling with these disorders positive guidance for a better life.","English",39.9,31.92,"616.85/262--dc23","104 pp.","https://greenhavenpublishing.com/978-1-5345-6750-4",{"$f":"Table1[[#This Row],['# of Books]]*Table1[[#This Row],[QTY]]","v":0},{"$f":"Table1[[#This Row],[QTY]]*Table1[[#This Row],[School & Library Price]]","v":0}]
[null,null,69,null,null,"Health & Medicine","Diseases and Disorders","Living with Learning Disabilities and Disorders","978-1-5345-6747-4",{"$f":"HYPERLINK(Table1[[#This Row],[Hyperlink]],\"Weblink\")","v":"Weblink"},"Lucent Press","Paperback Book",1,"2020","August 2019","Paperback","6.000 X 9.000","Author","Peter Kogler",null,null,null,null,"Z",null,"Grade 7","Grade 7 - 10","Although learning disabilities are believed to affect a significant number of children, not all of those children receive an actual diagnosis. While school officials, teachers, and parents continue to improve education for these children, the general public still has misconceptions about learning disabilities and how to help those affected by them. This detailed look at learning disabilities aims to educate readers through relatable text and engaging sidebars. Annotated quotes from experts, up-to-date statistics, and new technologies are explored, as well as the causes of and common misconceptions about life with dyslexia, dyscalculia, dyspraxia, and more.","English",19.989999999999998,16.989999999999998,"371.9--dc23","104 pp.","https://greenhavenpublishing.com/978-1-5345-6747-4",{"$f":"Table1[[#This Row],['# of Books]]*Table1[[#This Row],[QTY]]","v":0},{"$f":"Table1[[#This Row],[QTY]]*Table1[[#This Row],[School & Library Price]]","v":0}]
[null,null,69,null,null,"Health & Medicine","Diseases and Disorders","Living with Learning Disabilities and Disorders","978-1-5345-6748-1",{"$f":"HYPERLINK(Table1[[#This Row],[Hyperlink]],\"Weblink\")","v":"Weblink"},"Lucent Press","eBook",1,"2020","August 2019",null,null,"Author","Peter Kogler",null,null,null,null,"Z",null,"Grade 7","Grade 7 - 10","Although learning disabilities are believed to affect a significant number of children, not all of those children receive an actual diagnosis. While school officials, teachers, and parents continue to improve education for these children, the general public still has misconceptions about learning disabilities and how to help those affected by them. This detailed look at learning disabilities aims to educate readers through relatable text and engaging sidebars. Annotated quotes from experts, up-to-date statistics, and new technologies are explored, as well as the causes of and common misconceptions about life with dyslexia, dyscalculia, dyspraxia, and more.","English",39.9,31.92,"371.9--dc23","104 pp.","https://greenhavenpublishing.com/978-1-5345-6748-1",{"$f":"Table1[[#This Row],['# of Books]]*Table1[[#This Row],[QTY]]","v":0},{"$f":"Table1[[#This Row],[QTY]]*Table1[[#This Row],[School & Library Price]]","v":0}]
[null,null,69,null,null,"Health & Medicine","Diseases and Disorders","Sleep Disorders: What Keeps People Up at Night?","978-1-5345-6692-7",{"$f":"HYPERLINK(Table1[[#This Row],[Hyperlink]],\"Weblink\")","v":"Weblink"},"Lucent Press","Library Bound Book",1,"2020","August 2019","Library","6.000 X 9.000","Author","Simon Pierce",null,null,null,null,"Z",null,"Grade 7","Grade 7 - 10","Although medical experts know people need sleep to remain healthy, many of the mechanics of sleep remain a mystery, which can make it difficult to diagnose and treat sleep disorders. Through informative main text, annotated quotes, detailed charts, and engaging sidebars, readers learn about these difficulties as well as the realities of living with sleep disorders such as insomnia and narcolepsy. A list of organizations to contact for further resources and support is also available for readers who want to go more in-depth into a particular disorder that they or a loved one may be suffering from.","English",39.9,31.92,"616.8/498--dc23","104 pp.","https://greenhavenpublishing.com/978-1-5345-6692-7",{"$f":"Table1[[#This Row],['# of Books]]*Table1[[#This Row],[QTY]]","v":0},{"$f":"Table1[[#This Row],[QTY]]*Table1[[#This Row],[School & Library Price]]","v":0}]
[null,null,69,null,null,"Health & Medicine","Diseases and Disorders","Understanding Personality Disorders","978-1-5345-6744-3",{"$f":"HYPERLINK(Table1[[#This Row],[Hyperlink]],\"Weblink\")","v":"Weblink"},"Lucent Press","eBook",1,"2020","August 2019",null,null,"Author","Christine Krolewicz",null,null,null,null,"Z",null,"Grade 7","Grade 7 - 10","Personality disorders are so widely misunderstood that most people who live with them never receive help. This book explores the age-old question of \"What is 'normal'?\" to help young adults understand where the line is drawn between healthy and disordered personalities. Mental health experts' current understanding of personality disorders, including causes and treatments, is explained in this engaging text, supplemented with informative sidebars and full-color photographs. Readers will develop an understanding of what it is like to live with a personality disorder or be close to someone who does, gaining a sense of hope as they read.","English",39.9,31.92,"616.85/81--dc23","104 pp.","https://greenhavenpublishing.com/978-1-5345-6744-3",{"$f":"Table1[[#This Row],['# of Books]]*Table1[[#This Row],[QTY]]","v":0},{"$f":"Table1[[#This Row],[QTY]]*Table1[[#This Row],[School & Library Price]]","v":0}]
[null,null,70,null,null,"Health & Medicine","Diseases and Disorders","Anxiety and Panic Disorders","978-1-5345-6120-5",{"$f":"HYPERLINK(Table1[[#This Row],[Hyperlink]],\"Weblink\")","v":"Weblink"},"Lucent Press","eBook",1,"2018","August 2017",null,null,"Author","Jennifer Lombardo",null,null,null,null,"Z",null,"Grade 7","Grade 7 - 10","Everyone experiences anxious feelings in stressful situations, such as before a big test or when giving a speech. However, anxiety disorders are characterized by fear or worry that is disproportionate to the situation and difficult to control. It is sometimes accompanied by panic disorder, which causes panic attacks that often have no apparent trigger. Readers will learn about the different types of these very common disorders, with a focus on how to recognize and treat them, as well as the science behind them. Helpful infographics and informative sidebars clarify these often misunderstood disorders.","English",39.9,31.92,"616.85/22--dc23","112 pp.","https://greenhavenpublishing.com/978-1-5345-6120-5",{"$f":"Table1[[#This Row],['# of Books]]*Table1[[#This Row],[QTY]]","v":0},{"$f":"Table1[[#This Row],[QTY]]*Table1[[#This Row],[School & Library Price]]","v":0}]
[null,null,69,null,null,"Health & Medicine","Diseases and Disorders","Asthma: The Struggle to Breathe","978-1-5345-6492-3",{"$f":"HYPERLINK(Table1[[#This Row],[Hyperlink]],\"Weblink\")","v":"Weblink"},"Lucent Press","Library Bound Book",1,"2019","January 2019","Library","6.000 X 9.000","Author","Peter Kogler",null,null,null,null,"Z",null,"Grade 7","Grade 7 - 10","Asthma is a long-lasting, incurable disease that affects over 300 million people, and that number continues to grow. As readers explore the science and current research behind asthma, they learn about the dangers of this disease and how everyday things in our world can greatly affect asthmatics. Readers also discover the tremendous economic costs of this disease, as well as identify the symptoms of asthma attacks. Sidebars throughout the book provide additional insight, and full-color graphs, charts, and photographs provide readers with a better understanding of the important information being presented to them.","English",39.9,31.92,"616.2/38--dc23","104 pp.","https://greenhavenpublishing.com/978-1-5345-6492-3",{"$f":"Table1[[#This Row],['# of Books]]*Table1[[#This Row],[QTY]]","v":0},{"$f":"Table1[[#This Row],[QTY]]*Table1[[#This Row],[School & Library Price]]","v":0}]
[null,null,69,null,null,"Health & Medicine","Diseases and Disorders","Bipolar Disorder: Dealing with Mania and Depression","978-1-5345-6486-2",{"$f":"HYPERLINK(Table1[[#This Row],[Hyperlink]],\"Weblink\")","v":"Weblink"},"Lucent Press","Library Bound Book",1,"2019","January 2019","Library","6.000 X 9.000","Author","Rachael Rothman-Kerr",null,null,null,null,"Z","1340L","Grade 7","Grade 7 - 10","Bipolar disorder causes extreme behavioral and mood swings. These changes from the highs known as mania to the lows of depression are the reasons why it was often called manic depression in the past. Readers discover this and other essential information about this disorder as they explore its symptoms, causes, and treatments. Through detailed sidebars, quotes from experts, and full-color photographs, readers gain a deeper understanding of bipolar disorder as well as how to support loved ones who face its unique challenges. Readers are given the tools to confront the stigma around bipolar disorder with knowledge and empathy.","English",39.9,31.92,"616.89/5--dc23","104 pp.","https://greenhavenpublishing.com/978-1-5345-6486-2",{"$f":"Table1[[#This Row],['# of Books]]*Table1[[#This Row],[QTY]]","v":0},{"$f":"Table1[[#This Row],[QTY]]*Table1[[#This Row],[School & Library Price]]","v":0}]
[null,null,70,null,null,"Health & Medicine","Diseases and Disorders","Breast Cancer: Risks, Detection, and Treatment","978-1-5345-6190-8",{"$f":"HYPERLINK(Table1[[#This Row],[Hyperlink]],\"Weblink\")","v":"Weblink"},"Lucent Press","eBook",1,"2018","January 2018",null,null,"Author","Michelle Denton",null,null,null,null,"Z",null,"Grade 7","Grade 7 - 10","Cancer is a frightening word, but within the last decade, more research has led to better detection and treatment of breast cancer. Since both men and women are at risk for developing breast cancer, it is important for all young adults to learn about practices such as self-exams that may lead to early detection. This information is presented along with full-color photographs and informative charts to help readers better understand this disease that affects so many people.","English",39.9,31.92,"616.99/449--dc23","104 pp.","https://greenhavenpublishing.com/978-1-5345-6190-8",{"$f":"Table1[[#This Row],['# of Books]]*Table1[[#This Row],[QTY]]","v":0},{"$f":"Table1[[#This Row],[QTY]]*Table1[[#This Row],[School & Library Price]]","v":0}]
[null,null,70,null,null,"Health & Medicine","Diseases and Disorders","Chronic Pain: An Invisible Illness","978-1-5345-6196-0",{"$f":"HYPERLINK(Table1[[#This Row],[Hyperlink]],\"Weblink\")","v":"Weblink"},"Lucent Press","Library Bound Book",1,"2018","January 2018","Library","6.000 X 9.000","Author","Kelly Gurnett",null,null,null,null,"Z","1220L","Grade 7","Grade 7 - 10","Everyone has experienced pain at one point or another, but disorders such as fibromyalgia and multiple sclerosis cause severe, long-term pain that can greatly limit a person's everyday activities. Because the cause of this pain is not visible, many people do not fully understand these disorders. This volume dispels the myths surrounding chronic pain to give readers a better understanding of the daily struggles people who suffer from it face. Informative sidebars and detailed infographics help young adults learn how to support a loved one who is dealing with an invisible illness or cope with their own chronic pain diagnosis.","English",39.9,31.92,"618.92'044--dc23","104 pp.","https://greenhavenpublishing.com/978-1-5345-6196-0",{"$f":"Table1[[#This Row],['# of Books]]*Table1[[#This Row],[QTY]]","v":0},{"$f":"Table1[[#This Row],[QTY]]*Table1[[#This Row],[School & Library Price]]","v":0}]
[null,null,70,null,null,"Health & Medicine","Diseases and Disorders","Chronic Pain: An Invisible Illness","978-1-5345-6284-4",{"$f":"HYPERLINK(Table1[[#This Row],[Hyperlink]],\"Weblink\")","v":"Weblink"},"Lucent Press","Paperback Book",1,"2018","January 2018","Paperback","6.000 X 9.000","Author","Kelly Gurnett",null,null,null,null,"Z","1220L","Grade 7","Grade 7 - 10","Everyone has experienced pain at one point or another, but disorders such as fibromyalgia and multiple sclerosis cause severe, long-term pain that can greatly limit a person's everyday activities. Because the cause of this pain is not visible, many people do not fully understand these disorders. This volume dispels the myths surrounding chronic pain to give readers a better understanding of the daily struggles people who suffer from it face. Informative sidebars and detailed infographics help young adults learn how to support a loved one who is dealing with an invisible illness or cope with their own chronic pain diagnosis.","English",19.989999999999998,16.989999999999998,"618.92'044--dc23","104 pp.","https://greenhavenpublishing.com/978-1-5345-6284-4",{"$f":"Table1[[#This Row],['# of Books]]*Table1[[#This Row],[QTY]]","v":0},{"$f":"Table1[[#This Row],[QTY]]*Table1[[#This Row],[School & Library Price]]","v":0}]
[null,null,70,null,null,"Health & Medicine","Diseases and Disorders","Diabetes: Diagnosis and Management","978-1-5345-6285-1",{"$f":"HYPERLINK(Table1[[#This Row],[Hyperlink]],\"Weblink\")","v":"Weblink"},"Lucent Press","Paperback Book",1,"2018","January 2018","Paperback","6.000 X 9.000","Author","Emily Mahoney",null,null,null,null,"Z","1190L","Grade 7","Grade 7 - 10","Both type 1 and type 2 diabetes are dangerous if left unchecked, but with early diagnosis and careful management, people can live long, healthy lives without complications from the disease. Learning about the symptoms is key to detecting diabetes before it becomes a problem, and readers discover those symptoms as they explore this important topic. Enlightening sidebars and full-color photographs enhance the engaging text, and quotes from medical experts give readers factual, up-to-date information about this treatable disease.","English",19.989999999999998,16.989999999999998,"616.4/62--dc23","104 pp.","https://greenhavenpublishing.com/978-1-5345-6285-1",{"$f":"Table1[[#This Row],['# of Books]]*Table1[[#This Row],[QTY]]","v":0},{"$f":"Table1[[#This Row],[QTY]]*Table1[[#This Row],[School & Library Price]]","v":0}]
[null,null,70,null,null,"Health & Medicine","Diseases and Disorders","HPV: Prevention and Treatment","978-1-5345-6370-4",{"$f":"HYPERLINK(Table1[[#This Row],[Hyperlink]],\"Weblink\")","v":"Weblink"},"Lucent Press","Library Bound Book",1,"2019","August 2018","Library","6.000 X 9.000","Author","Michelle Harris",null,null,null,null,"Z",null,"Grade 7","Grade 7 - 10","Although human papillomavirus, or HPV, is the most common sexually transmitted disease, many people are unaware of the effects it can have. Its symptoms are generally mild compared to other diseases, and many times, no symptoms are present, leading to the mistaken belief that HPV is not serious. However, it can cause several types of cancer in both men and women, so knowledge of how to prevent and treat it is crucial. Through informative sidebars, annotated quotes from medical experts, and detailed graphs, readers learn the true risks of this disease and what precautions they can take to protect themselves.","English",39.9,31.92,"614.5/81--dc23","104 pp.","https://greenhavenpublishing.com/978-1-5345-6370-4",{"$f":"Table1[[#This Row],['# of Books]]*Table1[[#This Row],[QTY]]","v":0},{"$f":"Table1[[#This Row],[QTY]]*Table1[[#This Row],[School & Library Price]]","v":0}]
[null,null,71,null,null,"Health & Medicine","Diseases and Disorders","Living with ADHD","978-1-5345-6459-6",{"$f":"HYPERLINK(Table1[[#This Row],[Hyperlink]],\"Weblink\")","v":"Weblink"},"Lucent Press","Library Bound Book",1,"2019","August 2018","Library","6.000 X 9.000","Author","Nicole Horning",null,null,null,null,"Z","1210L","Grade 7","Grade 7 - 10","Attention deficit hyperactivity disorder, or ADHD, is the source of much controversy. Some people feel it is over-diagnosed today, while others believe it was under-diagnosed in the past. Similarly, disagreements about treatment methods, especially whether or not a child should be given medication for it, have been ongoing for years. Sometimes these arguments are fueled by misinformation, and those who are affected by ADHD may have difficulty making their voices heard. Through full-color photographs, engaging sidebars, and quotes from experts in the field, this volume explores all sides of the issue, helping readers form their own opinions.","English",39.9,31.92,"618.92'8589--dc23","104 pp.","https://greenhavenpublishing.com/978-1-5345-6459-6",{"$f":"Table1[[#This Row],['# of Books]]*Table1[[#This Row],[QTY]]","v":0},{"$f":"Table1[[#This Row],[QTY]]*Table1[[#This Row],[School & Library Price]]","v":0}]
[null,null,71,null,null,"Health & Medicine","Diseases and Disorders","Living with ADHD","978-1-5345-6368-1",{"$f":"HYPERLINK(Table1[[#This Row],[Hyperlink]],\"Weblink\")","v":"Weblink"},"Lucent Press","eBook",1,"2019","August 2018",null,null,"Author","Nicole Horning",null,null,null,null,"Z","1210L","Grade 7","Grade 7 - 10","Attention deficit hyperactivity disorder, or ADHD, is the source of much controversy. Some people feel it is over-diagnosed today, while others believe it was under-diagnosed in the past. Similarly, disagreements about treatment methods, especially whether or not a child should be given medication for it, have been ongoing for years. Sometimes these arguments are fueled by misinformation, and those who are affected by ADHD may have difficulty making their voices heard. Through full-color photographs, engaging sidebars, and quotes from experts in the field, this volume explores all sides of the issue, helping readers form their own opinions.","English",39.9,31.92,"618.92'8589--dc23","104 pp.","https://greenhavenpublishing.com/978-1-5345-6368-1",{"$f":"Table1[[#This Row],['# of Books]]*Table1[[#This Row],[QTY]]","v":0},{"$f":"Table1[[#This Row],[QTY]]*Table1[[#This Row],[School & Library Price]]","v":0}]
[null,null,71,null,null,"Health & Medicine","Diseases and Disorders","Lyme Disease: When Ticks Make You Sick","978-1-5345-6364-3",{"$f":"HYPERLINK(Table1[[#This Row],[Hyperlink]],\"Weblink\")","v":"Weblink"},"Lucent Press","Paperback Book",1,"2019","August 2018","Paperback","6.000 X 9.000","Author","Raymond J. Lampke",null,null,null,null,"Z","1300L","Grade 7","Grade 7 - 10","Lyme disease is not often discussed, which means the general public knows little about it. Many people are aware that it can be passed from ticks to humans, but questions remain. What are the symptoms? Is it contagious? Can it be treated? What are the best prevention methods? These questions and more are answered in this engaging book, with text that is enhanced with full-color photographs, annotated quotes, and informative sidebars. By fully informing themselves about this disease, readers will know the steps to take if they encounter it as well as how to support a loved one who contracts Lyme disease.","English",19.989999999999998,16.989999999999998,"616.9'246--dc23","104 pp.","https://greenhavenpublishing.com/978-1-5345-6364-3",{"$f":"Table1[[#This Row],['# of Books]]*Table1[[#This Row],[QTY]]","v":0},{"$f":"Table1[[#This Row],[QTY]]*Table1[[#This Row],[School & Library Price]]","v":0}]
[null,null,71,null,null,"Health & Medicine","Diseases and Disorders","Migraines: Managing Severe Headaches","978-1-5345-6361-2",{"$f":"HYPERLINK(Table1[[#This Row],[Hyperlink]],\"Weblink\")","v":"Weblink"},"Lucent Press","Paperback Book",1,"2019","August 2018","Paperback","6.000 X 9.000","Author","Jennifer Lombardo",null,null,null,null,"Z","1170L","Grade 7","Grade 7 - 10","Everyone will experience headaches in their life, but for some people, headaches are more frequent and severe than for others. These headaches, called migraines, cause severe pain and can have negative effects on a person's life. Readers learn the symptoms of and treatments for migraines as well as what doctors currently know about their cause. Detailed charts, annotated quotes from experts, and in-depth sidebars give young adults the most up-to-date information about these debilitating headaches to help them manage their own migraines and better understand those who suffer from them.","English",19.989999999999998,16.989999999999998,"616.8/4912--dc23","104 pp.","https://greenhavenpublishing.com/978-1-5345-6361-2",{"$f":"Table1[[#This Row],['# of Books]]*Table1[[#This Row],[QTY]]","v":0},{"$f":"Table1[[#This Row],[QTY]]*Table1[[#This Row],[School & Library Price]]","v":0}]
[null,null,71,null,null,"Health & Medicine","Diseases and Disorders","PTSD: Causes and Care","978-1-5345-6365-0",{"$f":"HYPERLINK(Table1[[#This Row],[Hyperlink]],\"Weblink\")","v":"Weblink"},"Lucent Press","Library Bound Book",1,"2019","August 2018","Library","6.000 X 9.000","Author","Simon Pierce",null,null,null,null,"Z","1270L","Grade 7","Grade 7 - 10","Post-traumatic stress disorder, or PTSD, has long been misunderstood, even by medical and psychological professionals. Formerly called shell-shock, it was considered a disorder that exclusively affected soldiers. Today, this myth persists, and many people are still unaware that any traumatic event can be the catalyst for PTSD. Understanding the facts about this disorder helps young adults learn the best way to interact with a loved one who has it or learn whether their own symptoms warrant seeking further help. Annotated quotes from medical experts, detailed graphs, and full-color photographs show readers this disorder from all sides.","English",39.9,31.92,"616.85/21--dc23","104 pp.","https://greenhavenpublishing.com/978-1-5345-6365-0",{"$f":"Table1[[#This Row],['# of Books]]*Table1[[#This Row],[QTY]]","v":0},{"$f":"Table1[[#This Row],[QTY]]*Table1[[#This Row],[School & Library Price]]","v":0}]
[null,null,71,null,null,"Health & Medicine","Diseases and Disorders","PTSD: Causes and Care","978-1-5345-6367-4",{"$f":"HYPERLINK(Table1[[#This Row],[Hyperlink]],\"Weblink\")","v":"Weblink"},"Lucent Press","Paperback Book",1,"2019","August 2018","Paperback","6.000 X 9.000","Author","Simon Pierce",null,null,null,null,"Z","1270L","Grade 7","Grade 7 - 10","Post-traumatic stress disorder, or PTSD, has long been misunderstood, even by medical and psychological professionals. Formerly called shell-shock, it was considered a disorder that exclusively affected soldiers. Today, this myth persists, and many people are still unaware that any traumatic event can be the catalyst for PTSD. Understanding the facts about this disorder helps young adults learn the best way to interact with a loved one who has it or learn whether their own symptoms warrant seeking further help. Annotated quotes from medical experts, detailed graphs, and full-color photographs show readers this disorder from all sides.","English",19.989999999999998,16.989999999999998,"616.85/21--dc23","104 pp.","https://greenhavenpublishing.com/978-1-5345-6367-4",{"$f":"Table1[[#This Row],['# of Books]]*Table1[[#This Row],[QTY]]","v":0},{"$f":"Table1[[#This Row],[QTY]]*Table1[[#This Row],[School & Library Price]]","v":0}]
[null,null,69,null,null,"Health & Medicine","Diseases and Disorders","Schizophrenia: When Reality Becomes Distorted","978-1-5345-6496-1",{"$f":"HYPERLINK(Table1[[#This Row],[Hyperlink]],\"Weblink\")","v":"Weblink"},"Lucent Press","eBook",1,"2019","January 2019",null,null,"Author","Michelle Harris",null,null,null,null,"Z","1350L","Grade 7","Grade 7 - 10","Schizophrenia affects a person's ability to think clearly and distinguish between reality and imagination. Historically, those suffering with the condition were treated poorly. However, scientific discoveries regarding the chemistry and structure of the brain, as well as recent advancements in medication and therapeutic treatments for the disease, have allowed many who suffer from schizophrenia to lead rewarding and meaningful lives. The informative text, augmented by in-depth sidebars, quotes from medical experts, detailed graphs, and full-color photographs, offers readers a clearer understanding of this often misunderstood condition and provides helpful resources to aid people with schizophrenia and their loved ones.","English",39.9,31.92,"616.89/8--dc23","104 pp.","https://greenhavenpublishing.com/978-1-5345-6496-1",{"$f":"Table1[[#This Row],['# of Books]]*Table1[[#This Row],[QTY]]","v":0},{"$f":"Table1[[#This Row],[QTY]]*Table1[[#This Row],[School & Library Price]]","v":0}]
[null,null,69,null,null,"Health & Medicine","Diseases and Disorders","Skin Conditions: From Acne to Eczema","978-1-5345-6479-4",{"$f":"HYPERLINK(Table1[[#This Row],[Hyperlink]],\"Weblink\")","v":"Weblink"},"Lucent Press","Paperback Book",1,"2019","January 2019","Paperback","6.000 X 9.000","Author","Donna Reynolds",null,null,null,null,"Z","1180L","Grade 7","Grade 7 - 10","Skin conditions such as acne, warts, eczema, and rosacea can be embarrassing and frustrating for people to deal with. Treatments are available for many of these conditions, but while waiting for a condition to be diagnosed or treated, it can be difficult for someone to maintain self-confidence. The informative text, supplemented with engaging sidebars and annotated quotes by medical experts, gives readers essential facts about the causes and treatments of common skin conditions. Readers can use this knowledge to take control of their own health, better understand their changing body, and offer support to others dealing with these problems.","English",19.989999999999998,16.989999999999998,"617.4'77--dc23","104 pp.","https://greenhavenpublishing.com/978-1-5345-6479-4",{"$f":"Table1[[#This Row],['# of Books]]*Table1[[#This Row],[QTY]]","v":0},{"$f":"Table1[[#This Row],[QTY]]*Table1[[#This Row],[School & Library Price]]","v":0}]
[null,null,71,null,null,"Health & Medicine","Diseases and Disorders","The Zika Virus","978-1-5345-6130-4",{"$f":"HYPERLINK(Table1[[#This Row],[Hyperlink]],\"Weblink\")","v":"Weblink"},"Lucent Press","eBook",1,"2018","August 2017",null,null,"Author","Michelle Denton",null,null,null,null,"Z","1370L","Grade 7","Grade 7 - 10","Although the Zika virus was identified in the late 1940s, a mass outbreak did not occur until recently. Because most of the world is not immune to this virus, it spreads very quickly. Readers discover the history of the Zika virus, facts about its recent spread, the symptoms of the disease, and ways people can protect themselves against it. Full-color photographs and engaging sidebars augment this detailed discussion of a disease that is still mysterious to much of the general public.","English",39.9,31.92,"614.5'885--dc23","104 pp.","https://greenhavenpublishing.com/978-1-5345-6130-4",{"$f":"Table1[[#This Row],['# of Books]]*Table1[[#This Row],[QTY]]","v":0},{"$f":"Table1[[#This Row],[QTY]]*Table1[[#This Row],[School & Library Price]]","v":0}]
[null,null,null,null,null,"World History","World History","World History: Sets 1 – 4","978-1-5345-6719-1",{"$f":"HYPERLINK(Table1[[#This Row],[Hyperlink]],\"Weblink\")","v":"Weblink"},"Lucent Press","Library Set",24,"2020","August 2019","Library","7.000 X 9.000",null,null,null,null,null,null,null,null,"Grade 7","Grade 7 - 10","The study of history is much more than memorizing names and dates. It's the exploration of exciting stories of discovery, adventure, and conflict that shaped the world we live in today. Readers uncover these stories as they learn about a variety of historical events and eras from ancient Egypt and India to modern North Korea and Russia. Through well-researched main texts, detailed sidebars, primary source images, and comprehensive timelines, they gain a deeper understanding of the causes and effects of major historical moments, including World War I, the moon landing, and the rise of ISIS. Features include: Annotated quotations from historians, official documents, and historical figures. Balanced, age-appropriate approach presents controversial topics in a way that encourages critical thinking. Supplements many areas of social studies curricula.","English",957.6,766.08,null,"104 pp.","https://greenhavenpublishing.com/978-1-5345-6719-1",{"$f":"Table1[[#This Row],['# of Books]]*Table1[[#This Row],[QTY]]","v":0},{"$f":"Table1[[#This Row],[QTY]]*Table1[[#This Row],[School & Library Price]]","v":0}]
[null,null,74,null,null,"World History","World History","North Korea: A Closer Look at the Secret State","978-1-5345-6790-0",{"$f":"HYPERLINK(Table1[[#This Row],[Hyperlink]],\"Weblink\")","v":"Weblink"},"Lucent Press","eBook",1,"2020","August 2019",null,null,"Author","Eleanor Bradshaw",null,null,null,null,"Z",null,"Grade 7","Grade 7 - 10","North Korea strictly limits contact between its citizens and the outside world. Rare occasions, such as the North Korean Mass Games, offer a glimpse of what's often called the secret state. The country typically broadcasts an image of a strong and unified people, but what is the daily reality of life in North Korea? In this look at a major current events topic, state propaganda, defector's accounts, and other annotated quotes highlight conflicting reports. The country's political, economic, and military history is presented through detailed main text, fascinating sidebars, and historical and contemporary images.","English",39.9,31.92,"951.93--dc23","104 pp.","https://greenhavenpublishing.com/978-1-5345-6790-0",{"$f":"Table1[[#This Row],['# of Books]]*Table1[[#This Row],[QTY]]","v":0},{"$f":"Table1[[#This Row],[QTY]]*Table1[[#This Row],[School & Library Price]]","v":0}]
[null,null,74,null,null,"World History","World History","The British Monarchy: The Changing Role of the Royal Family","978-1-5345-6781-8",{"$f":"HYPERLINK(Table1[[#This Row],[Hyperlink]],\"Weblink\")","v":"Weblink"},"Lucent Press","Paperback Book",1,"2020","August 2019","Paperback","7.000 X 9.000","Author","Nicole Horning",null,null,null,null,"Z",null,"Grade 7","Grade 7 - 10","The British monarchy has long been a subject of fascination for many people. Television shows and films have been created to tell the history of influential, long-reigning monarchs such as Queen Elizabeth II, and royal weddings are televised worldwide. This engaging look at British history examines past and present monarchs, how marriages such as the one between Prince Harry and Meghan Markle broke tradition, and the controversy over whether or not Britain needs a monarchy. Through sidebars, annotated quotations, maps, and full-color photographs, readers will gain a deeper understanding of this popular historical topic.","English",19.989999999999998,16.989999999999998,"941.009'9--dc23","104 pp.","https://greenhavenpublishing.com/978-1-5345-6781-8",{"$f":"Table1[[#This Row],['# of Books]]*Table1[[#This Row],[QTY]]","v":0},{"$f":"Table1[[#This Row],[QTY]]*Table1[[#This Row],[School & Library Price]]","v":0}]
[null,null,74,null,null,"World History","World History","The Information Revolution: Transforming the World Through Technology","978-1-5345-6786-3",{"$f":"HYPERLINK(Table1[[#This Row],[Hyperlink]],\"Weblink\")","v":"Weblink"},"Lucent Press","eBook",1,"2020","August 2019",null,null,"Author","Tamra B. Orr",null,null,null,null,"Z",null,"Grade 7","Grade 7 - 10","Young people growing up today don't know a life without social media, smartphones, and other internet-driven technology. However, it wasn't that long ago that computers were still the size of an entire room. As it became easier and cheaper to quickly share information through computer technology, an Information Revolution began taking place. As readers explore this revolution through accessible main text, informative sidebars, and annotated quotes, they discover the people and inventions that created the digital world they know today. Historical and contemporary images give readers a deeper sense of how the ideas of the past have shaped their present.","English",39.9,31.92,"004--dc23","104 pp.","https://greenhavenpublishing.com/978-1-5345-6786-3",{"$f":"Table1[[#This Row],['# of Books]]*Table1[[#This Row],[QTY]]","v":0},{"$f":"Table1[[#This Row],[QTY]]*Table1[[#This Row],[School & Library Price]]","v":0}]
[null,null,74,null,null,"World History","World History","The Israeli-Palestinian Conflict: The Struggle for Middle East Peace","978-1-5345-6716-0",{"$f":"HYPERLINK(Table1[[#This Row],[Hyperlink]],\"Weblink\")","v":"Weblink"},"Lucent Press","Library Bound Book",1,"2020","August 2019","Library","7.000 X 9.000","Author","Tamra B. Orr",null,null,null,null,"Z",null,"Grade 7","Grade 7 - 10","Peace in the Middle East has been a focus for politicians and activists for many years, but deadly conflicts still ravage this region. At the center of this struggle is the Israeli-Palestinian conflict, which has deep historical roots. These roots are presented through objective main text filled with annotated quotes from historians and people who have been affected by this conflict. Featuring sidebars and images from both the past and present, this comprehensive look at a region in constant conflict gives young people a stronger sense of how current events connect to what they've learned in history classes.","English",39.9,31.92,"956.9405/5--dc23","104 pp.","https://greenhavenpublishing.com/978-1-5345-6716-0",{"$f":"Table1[[#This Row],['# of Books]]*Table1[[#This Row],[QTY]]","v":0},{"$f":"Table1[[#This Row],[QTY]]*Table1[[#This Row],[School & Library Price]]","v":0}]
[null,null,74,null,null,"World History","World History","The Vietnam War: A Controversial Conflict","978-1-5345-6784-9",{"$f":"HYPERLINK(Table1[[#This Row],[Hyperlink]],\"Weblink\")","v":"Weblink"},"Lucent Press","eBook",1,"2020","August 2019",null,null,"Author","Tamra B. Orr",null,null,null,null,"Z",null,"Grade 7","Grade 7 - 10","For many Americans, the Vietnam War was particularly painful because, for the first time, the battles and bombs, the danger and death, and the POWs and protesters were all right in front of them on television. This international conflict had a lasting impact on the entire world, and readers discover both the roots and the reach of the Vietnam War as they explore objective main text, fascinating sidebars, and annotated quotes from those with firsthand knowledge of this controversial conflict. Maps and photographs from the front lines help young readers gain a deeper understanding of this major historical event.","English",39.9,31.92,"959.704/3--dc23","104 pp.","https://greenhavenpublishing.com/978-1-5345-6784-9",{"$f":"Table1[[#This Row],['# of Books]]*Table1[[#This Row],[QTY]]","v":0},{"$f":"Table1[[#This Row],[QTY]]*Table1[[#This Row],[School & Library Price]]","v":0}]
[null,null,75,null,null,"World History","World History","Genghis Khan: Creating the Mongol Empire","978-1-5345-6307-0",{"$f":"HYPERLINK(Table1[[#This Row],[Hyperlink]],\"Weblink\")","v":"Weblink"},"Lucent Press","Paperback Book",1,"2018","January 2018","Paperback","7.000 X 9.000","Author","Barbara M. Linde",null,null,null,null,"Z","1210L","Grade 7","Grade 7 - 10","Throughout history, there have been few conquerors more prominent than Genghis Khan, the first ruler of what would become the Mongol Empire. Readers learn about the humble beginnings of his life, as he rose from anonymity to become one of the most famous rulers in history. They also explore his life as he handled the challenges of leading an empire of millions. Through comprehensive text, informative sidebars, historical images, and vibrant photographs, readers are given the opportunity to explore the world of 13th-century Asia, enhancing their knowledge of this common social studies curriculum topic.","English",19.989999999999998,16.989999999999998,"950/.21092--dc23","104 pp.","https://greenhavenpublishing.com/978-1-5345-6307-0",{"$f":"Table1[[#This Row],['# of Books]]*Table1[[#This Row],[QTY]]","v":0},{"$f":"Table1[[#This Row],[QTY]]*Table1[[#This Row],[School & Library Price]]","v":0}]
[null,null,75,null,null,"World History","World History","India in Ancient Times","978-1-5345-6308-7",{"$f":"HYPERLINK(Table1[[#This Row],[Hyperlink]],\"Weblink\")","v":"Weblink"},"Lucent Press","Paperback Book",1,"2018","January 2018","Paperback","7.000 X 9.000","Author","Cecilia Jennings",null,null,null,null,"Z","1230L","Grade 7","Grade 7 - 10","The history and culture of ancient India is rich and complex. However, most history classes only touch on the most prominent aspects of ancient Indian culture, such as Hinduism. Readers experience the full breadth of this ancient society through detailed text, insightful quotes from historians, and fascinating sidebars. Vivid photographs and historical images are included to enhance the reading experience. From the lives of powerful historical figures to the stories of mythological heroes, ancient India comes to life in a way that strongly supplements standard social studies curricula.","English",19.989999999999998,16.989999999999998,"934--dc23","104 pp.","https://greenhavenpublishing.com/978-1-5345-6308-7",{"$f":"Table1[[#This Row],['# of Books]]*Table1[[#This Row],[QTY]]","v":0},{"$f":"Table1[[#This Row],[QTY]]*Table1[[#This Row],[School & Library Price]]","v":0}]
[null,null,76,null,null,"World History","World History","Piracy: From the High Seas to the Digital Age","978-1-5345-6382-7",{"$f":"HYPERLINK(Table1[[#This Row],[Hyperlink]],\"Weblink\")","v":"Weblink"},"Lucent Press","Library Bound Book",1,"2019","August 2018","Library","7.000 X 9.000","Author","Jennifer Lombardo",null,null,null,null,"Z","1220L","Grade 7","Grade 7 - 10","When most people think of pirates, they think of buccaneers sailing the seas in search of treasure. However, piracy has changed over time, and many of today's most fearsome pirates work behind computer screens. Readers will be captivated by this exciting look at the history of piracy, from the legendary Blackbeard to the pirates who still hijack ships today, as well as the kinds of piracy unique to the digital age. Their reading experience is heightened through the use of relevant primary sources, annotated quotes, detailed sidebars, and a thoroughly researched timeline of piracy.","English",39.9,31.92,"509--dc23","104 pp.","https://greenhavenpublishing.com/978-1-5345-6382-7",{"$f":"Table1[[#This Row],['# of Books]]*Table1[[#This Row],[QTY]]","v":0},{"$f":"Table1[[#This Row],[QTY]]*Table1[[#This Row],[School & Library Price]]","v":0}]
[null,null,76,null,null,"World History","World History","Refugees Throughout History: Searching for Safety","978-1-5345-6392-6",{"$f":"HYPERLINK(Table1[[#This Row],[Hyperlink]],\"Weblink\")","v":"Weblink"},"Lucent Press","eBook",1,"2019","August 2018",null,null,"Author","Gary Wiener",null,null,null,null,"Z",null,"Grade 7","Grade 7 - 10","Refugees search for safety in new countries after they are forced to leave home, but some people are afraid of them and treat them poorly in the countries they escape to. Learning about the history of refugees increases readers' sense of empathy for those who have been left with no choice but to flee their homes. This sensitive topic is addressed through fact-filled main text and sidebars, annotated quotes, primary sources, and a thorough timeline. Refugee issues are often in the news, and this volume presents readers with the facts they need to think critically about this topic.","English",39.9,31.92,"305.9'06914--dc23","104 pp.","https://greenhavenpublishing.com/978-1-5345-6392-6",{"$f":"Table1[[#This Row],['# of Books]]*Table1[[#This Row],[QTY]]","v":0},{"$f":"Table1[[#This Row],[QTY]]*Table1[[#This Row],[School & Library Price]]","v":0}]
[null,null,76,null,null,"World History","World History","Television: The Small Box That Changed the World","978-1-5345-6381-0",{"$f":"HYPERLINK(Table1[[#This Row],[Hyperlink]],\"Weblink\")","v":"Weblink"},"Lucent Press","Paperback Book",1,"2019","August 2018","Paperback","7.000 X 9.000","Author","Katie Kawa",null,null,null,null,"Z","1260L","Grade 7","Grade 7 - 10","It is sometimes said that we are living in a Golden Age of television. What does that mean, and how did we get there? Readers find the answers as they trace the history of television, from its invention to the current age of \"Peak TV.\" This fascinating story is presented to readers through informative main text, annotated quotations, detailed sidebars, primary sources, and a comprehensive timeline. Television has changed nearly every aspect of life in many countries, and readers are sure to be excited by this fun and fact-filled look at how history and television have influenced each other.","English",19.989999999999998,16.989999999999998,"621.388--dc23","104 pp.","https://greenhavenpublishing.com/978-1-5345-6381-0",{"$f":"Table1[[#This Row],['# of Books]]*Table1[[#This Row],[QTY]]","v":0},{"$f":"Table1[[#This Row],[QTY]]*Table1[[#This Row],[School & Library Price]]","v":0}]
[null,null,75,null,null,"World History","World History","The French Revolution: The Power of the People","978-1-5345-6052-9",{"$f":"HYPERLINK(Table1[[#This Row],[Hyperlink]],\"Weblink\")","v":"Weblink"},"Lucent Press","eBook",1,"2017","January 2017",null,null,"Author","Karen Diane Haywood ",null,null,null,null,"Z","1190L","Grade 7","Grade 7 - 10","Economic inequality and abuse of power by the reigning government were two major factors in the outbreak of the French Revolution. The French peasants’ anger about these issues was so great that they turned to extreme violence, killing anyone who voiced dissent with the revolutionary cause. Informative sidebars and primary sources are presented alongside the engaging main text to help illustrate the danger of allowing social and economic disparity to remain unaddressed by governing bodies. A fact-filled timeline highlights key events before, during, and after the revolution.","English",39.9,31.92,"944.04","104 pp.","https://greenhavenpublishing.com/978-1-5345-6052-9",{"$f":"Table1[[#This Row],['# of Books]]*Table1[[#This Row],[QTY]]","v":0},{"$f":"Table1[[#This Row],[QTY]]*Table1[[#This Row],[School & Library Price]]","v":0}]
[null,null,75,null,null,"World History","World History","The Horrors of Auschwitz","978-1-5345-6054-3",{"$f":"HYPERLINK(Table1[[#This Row],[Hyperlink]],\"Weblink\")","v":"Weblink"},"Lucent Press","Library Bound Book",1,"2017","January 2017","Library","7.000 X 9.000","Author, Author","Jennifer Lombardo, David Robson",null,null,null,null,"Z","1150L","Grade 7","Grade 7 - 10","The Nazi campaign against Jewish people living in their territories began slowly, with the gradual erosion of their rights to own property, hold a job, or marry non-Jews. These indignities intensified over time, eventually culminating in the establishment of work camps, also known as concentration or death camps such as Auschwitz. Full-color photographs, a detailed timeline, and excerpts from primary sources offer an in-depth look at the Nazis’ rise to power, allowing readers to think critically about the warning signs of a society on the brink of crisis.","English",39.9,31.92,"940.53/1853862","104 pp.","https://greenhavenpublishing.com/978-1-5345-6054-3",{"$f":"Table1[[#This Row],['# of Books]]*Table1[[#This Row],[QTY]]","v":0},{"$f":"Table1[[#This Row],[QTY]]*Table1[[#This Row],[School & Library Price]]","v":0}]
[null,null,76,null,null,"World History","World History","The Mysterious Maya Civilization","978-1-5345-6186-1",{"$f":"HYPERLINK(Table1[[#This Row],[Hyperlink]],\"Weblink\")","v":"Weblink"},"Lucent Press","Library Bound Book",1,"2018","January 2018","Library","7.000 X 9.000","Author","Emily Mahoney",null,null,null,null,"Z",null,"Grade 7","Grade 7 - 10","Though Mayan culture has existed for more than 3,500 years, researchers and historians have only recently started unlocking some of the mysteries behind this Central American society. Thoroughly researched text guides readers through the gripping history of the Maya, including a detailed description of Maya culture. The main text is supplemented with engaging sidebars, full-color photographs, historical images, and expert, annotated analysis from leading scholars.","English",39.9,31.92,"972.81/016--dc23","104 pp.","https://greenhavenpublishing.com/978-1-5345-6186-1",{"$f":"Table1[[#This Row],['# of Books]]*Table1[[#This Row],[QTY]]","v":0},{"$f":"Table1[[#This Row],[QTY]]*Table1[[#This Row],[School & Library Price]]","v":0}]
[null,null,76,null,null,"World History","World History","The Rise and Fall of the Aztec Empire","978-1-5345-6183-0",{"$f":"HYPERLINK(Table1[[#This Row],[Hyperlink]],\"Weblink\")","v":"Weblink"},"Lucent Press","eBook",1,"2018","January 2018",null,null,"Author","Joan Stoltman",null,null,null,null,"Z",null,"Grade 7","Grade 7 - 10","Students are taught that the Aztecs were destroyed by Hernán Cortéz, the conqueror of Mexico. However, there is much to learn about who the Aztec people were before they were conquered. The native Mexicans were part of a rich and vibrant culture that spanned hundreds of years. To understand this complicated society, readers are provided with an engaging main text and colorful photographs and historical images. Informative sidebars throughout detail the long history, and sudden defeat, of the Aztec Empire.","English",39.9,31.92,"972--dc23","104 pp.","https://greenhavenpublishing.com/978-1-5345-6183-0",{"$f":"Table1[[#This Row],['# of Books]]*Table1[[#This Row],[QTY]]","v":0},{"$f":"Table1[[#This Row],[QTY]]*Table1[[#This Row],[School & Library Price]]","v":0}]
[null,null,76,null,null,"World History","World History","The Scientific Revolution: How Science and Technology Shaped the World","978-1-5345-6389-6",{"$f":"HYPERLINK(Table1[[#This Row],[Hyperlink]],\"Weblink\")","v":"Weblink"},"Lucent Press","eBook",1,"2019","August 2018",null,null,"Author","Caroline Kennon",null,null,null,null,"Z","1210L","Grade 7","Grade 7 - 10","The Scientific Revolution is known as the time period when modern science was born. Without the people who made discoveries, theories, and inventions during this time, the world as we know it today would not exist. Readers are introduced to the figures, discoveries, and events that defined the Scientific Revolution through annotated quotes from historians and historical documents, primary sources, fact-filled sidebars, and a detailed timeline. As readers explore this essential social studies topic, they also learn the important connections that can be made between history and STEM, broadening their view of each topic.","English",39.9,31.92,"509--dc23","104 pp.","https://greenhavenpublishing.com/978-1-5345-6389-6",{"$f":"Table1[[#This Row],['# of Books]]*Table1[[#This Row],[QTY]]","v":0},{"$f":"Table1[[#This Row],[QTY]]*Table1[[#This Row],[School & Library Price]]","v":0}]
[null,null,76,null,null,"World History","World History","The United States and Russia: A Cold and Complex History","978-1-5345-6245-5",{"$f":"HYPERLINK(Table1[[#This Row],[Hyperlink]],\"Weblink\")","v":"Weblink"},"Lucent Press","Library Bound Book",1,"2018","January 2018","Library","7.000 X 9.000","Author","Gary Wiener",null,null,null,null,"Z","1250L","Grade 7","Grade 7 - 10","After the U.S.S.R. formed, the United States found itself in a rivalry that has persisted for nearly a century. Readers are introduced to the complex history between the United States and Russia, which, for many years, was a conflict between democracy and communism. However, after the dissolution of the U.S.S.R., the relationship between the two countries remains strained, and readers also explore the reasons for this continued tension. Quotes from powerful leaders of both countries, striking photographs, and thoroughly researched text help readers understand why these two competing nations have maintained a cold relationship for so many years.","English",39.9,31.92,"327.73047086--dc23","104 pp.","https://greenhavenpublishing.com/978-1-5345-6245-5",{"$f":"Table1[[#This Row],['# of Books]]*Table1[[#This Row],[QTY]]","v":0},{"$f":"Table1[[#This Row],[QTY]]*Table1[[#This Row],[School & Library Price]]","v":0}]
[null,null,76,null,null,"World History","World History","World War I and the Rise of Global Conflict","978-1-5345-6058-1",{"$f":"HYPERLINK(Table1[[#This Row],[Hyperlink]],\"Weblink\")","v":"Weblink"},"Lucent Press","Library Bound Book",1,"2017","January 2017","Library","7.000 X 9.000","Author, Author","Elizabeth Morgan, Robert Green",null,null,null,null,"Z","1190L","Grade 7","Grade 7 - 10","World War I forever changed how nations engage in warfare. Airplanes, tanks, and submarines were used on a larger scale than ever before. This volume examines the root causes of World War I, which escalated from a small political incident into a massive global crisis. It also details the impact of this war in its immediate aftermath and in the decades that followed. Readers will be engaged by the accessible text, which is enhanced with historical photographs, primary sources, and in-depth sidebars.","English",39.9,31.92,"940.4","104 pp.","https://greenhavenpublishing.com/978-1-5345-6058-1",{"$f":"Table1[[#This Row],['# of Books]]*Table1[[#This Row],[QTY]]","v":0},{"$f":"Table1[[#This Row],[QTY]]*Table1[[#This Row],[School & Library Price]]","v":0}]
[null,null,7,null,null,"Current Issues","Opposing Viewpoints","Abortion","978-0-7377-6940-1",{"$f":"HYPERLINK(Table1[[#This Row],[Hyperlink]],\"Weblink\")","v":"Weblink"},"Greenhaven Publishing","Paperback Book",1,"2014","January 2014","Paperback","6.000 X 9.000","Edited by","Noël Merino",null,null,null,null,"Z",null,"Grade 10 - 12","Grade 9 - 12","Abortion has been a procedure that dates back to ancient times, laws regarding abortion are found as early as 1075 B.C. This volume explores both sides of the debate on the moral and social issues surrounding abortion. Is it immoral? Does it violate human rights? Can it be a form of genocide? Restrictions on abortion rights, such as parental consent laws and banning late-term abortions, are also discussed, as well as the impact of abortion on society and on women's physical and emotional health.","English",33.799999999999997,27.04,"362.1988/8","192 pp.","https://greenhavenpublishing.com/978-0-7377-6940-1",{"$f":"Table1[[#This Row],['# of Books]]*Table1[[#This Row],[QTY]]","v":0},{"$f":"Table1[[#This Row],[QTY]]*Table1[[#This Row],[School & Library Price]]","v":0}]
[null,null,7,null,null,"Current Issues","Opposing Viewpoints","Advertising","978-0-7377-4751-5",{"$f":"HYPERLINK(Table1[[#This Row],[Hyperlink]],\"Weblink\")","v":"Weblink"},"Greenhaven Publishing","Library Bound Book",1,"2010","January 2010","Library","6.000 X 9.000","Edited by","Roman Espejo",null,null,null,null,"Z",null,"Grade 10 - 12","Grade 9 - 12","While some people may say advertising is dead, it's predicted that it will support over twenty three million jobs in the U.S. by 2019. That's far from dead. This compelling collection of essays helps readers understand various issues relating to advertising. Chapters address the impact of sexism in advertising and cause marketing, and the potential for exploitation of children. Readers will evaluate the rise in both spending and negativity in political ads and the potential for reform. Essays also examine the future of advertising with the use of new outlets like the internet and product placement.","English",48.8,39.04,"659.1","208 pp.","https://greenhavenpublishing.com/978-0-7377-4751-5",{"$f":"Table1[[#This Row],['# of Books]]*Table1[[#This Row],[QTY]]","v":0},{"$f":"Table1[[#This Row],[QTY]]*Table1[[#This Row],[School & Library Price]]","v":0}]
[null,null,7,null,null,"Current Issues","Opposing Viewpoints","Advertising","978-0-7377-4752-2",{"$f":"HYPERLINK(Table1[[#This Row],[Hyperlink]],\"Weblink\")","v":"Weblink"},"Greenhaven Publishing","Paperback Book",1,"2010","January 2010","Paperback","6.000 X 9.000","Edited by","Roman Espejo",null,null,null,null,"Z",null,"Grade 10 - 12","Grade 9 - 12","While some people may say advertising is dead, it's predicted that it will support over twenty three million jobs in the U.S. by 2019. That's far from dead. This compelling collection of essays helps readers understand various issues relating to advertising. Chapters address the impact of sexism in advertising and cause marketing, and the potential for exploitation of children. Readers will evaluate the rise in both spending and negativity in political ads and the potential for reform. Essays also examine the future of advertising with the use of new outlets like the internet and product placement.","English",33.799999999999997,27.04,"659.1","208 pp.","https://greenhavenpublishing.com/978-0-7377-4752-2",{"$f":"Table1[[#This Row],['# of Books]]*Table1[[#This Row],[QTY]]","v":0},{"$f":"Table1[[#This Row],[QTY]]*Table1[[#This Row],[School & Library Price]]","v":0}]
[null,null,7,null,null,"Current Issues","Opposing Viewpoints","The Aging Population","978-0-7377-6943-2",{"$f":"HYPERLINK(Table1[[#This Row],[Hyperlink]],\"Weblink\")","v":"Weblink"},"Greenhaven Publishing","Library Bound Book",1,"2014","January 2014","Library","6.000 X 9.000","Edited by","Margaret Haerens",null,null,null,null,"Z",null,"Grade 10 - 12","Grade 9 - 12","Through this volume, your readers will evaluate many viewpoints surrounding the aging population, which promotes issue awareness as well as critical thinking. Readers will examine numerous impacts of the aging population, including the economic consequences of an aging population, the social and legal issues of an aging population, social security, and the medical challenges that face an aging population. The viewpoints are selected from a wide range of highly respected and hard-to-find sources and publications. Essay sources include the World Health Organization, the Committee on the Long Run Macroeconomic Effects of the Aging U.S. Population National Research Council, the Center on Budget and Policy Priorities, and the Los Angeles Times.\n\n","English",48.8,39.04,"305.26","256 pp.","https://greenhavenpublishing.com/978-0-7377-6943-2",{"$f":"Table1[[#This Row],['# of Books]]*Table1[[#This Row],[QTY]]","v":0},{"$f":"Table1[[#This Row],[QTY]]*Table1[[#This Row],[School & Library Price]]","v":0}]
[null,null,7,null,null,"Current Issues","Opposing Viewpoints","AIDS","978-0-7377-5705-7",{"$f":"HYPERLINK(Table1[[#This Row],[Hyperlink]],\"Weblink\")","v":"Weblink"},"Greenhaven Publishing","Library Bound Book",1,"2012","January 2012","Library","6.000 X 9.000","Edited by","Roman Espejo",null,null,null,null,"Z",null,"Grade 10 - 12","Grade 9 - 12","This edition addresses the topic of AIDS. Through a balanced collection of articles from a variety of sources, readers will explore the status of the global AIDS epidemic, the causes of AIDS, and suggestions for controlling the spread of the AIDS virus. Readers will evaluate the viability of various treatment options. Essay sources include the AIDS Community Research Initiative of America, Microbicide Trials Network, Avert, and the Associated Press.","English",48.8,39.04,"616.97/92","208 pp.","https://greenhavenpublishing.com/978-0-7377-5705-7",{"$f":"Table1[[#This Row],['# of Books]]*Table1[[#This Row],[QTY]]","v":0},{"$f":"Table1[[#This Row],[QTY]]*Table1[[#This Row],[School & Library Price]]","v":0}]
[null,null,7,null,null,"Current Issues","Opposing Viewpoints","Alternative Lending","978-0-7377-4754-6",{"$f":"HYPERLINK(Table1[[#This Row],[Hyperlink]],\"Weblink\")","v":"Weblink"},"Greenhaven Publishing","Paperback Book",1,"2010","January 2010","Paperback","6.000 X 9.000","Edited by","Amanda Hiber",null,null,null,null,"Z",null,"Grade 10 - 12","Grade 9 - 12","This volume explores how alternative lending compares to traditional lending, the relative risks of both, and if traditional lending should be made more accessible. A series of essays are arranged in a pro versus con debate across four compelling chapters. Discussions look at the benefits and costs of payday lending and peer-to-peer lending is an effective alternative, as well as the potential and limitations of global microlending for bringing borrowers out of poverty. Essay sources include William J. Clinton, Arnold Schwarzenegger, Susan F. Feiner, Drucilla K. Barker, The Economist, and the Center for Responsible Lending.","English",33.799999999999997,27.04,"332.2","208 pp.","https://greenhavenpublishing.com/978-0-7377-4754-6",{"$f":"Table1[[#This Row],['# of Books]]*Table1[[#This Row],[QTY]]","v":0},{"$f":"Table1[[#This Row],[QTY]]*Table1[[#This Row],[School & Library Price]]","v":0}]
[null,null,7,null,null,"Current Issues","Opposing Viewpoints","Alternative Medicine","978-0-7377-5438-4",{"$f":"HYPERLINK(Table1[[#This Row],[Hyperlink]],\"Weblink\")","v":"Weblink"},"Greenhaven Publishing","Library Bound Book",1,"2012","January 2012","Library","6.000 X 9.000","Edited by, Edited by","Lynn M. Zott, David M. Haugen",null,null,null,null,"Z",null,"Grade 10 - 12","Grade 9 - 12","One of the wonderful aspects of modern medicine is that it can offer absoluteness when it comes to the mysteries of ailments; \"Take two of these pills and you'll be right as rain.\" Humans are slowly understanding however, that along side conventional medicine, there is a lot of room for effective, alternative therapies. Give your readers a must-have collection on this issue. Across four chapters, readers will evaluate whether alternative medicine works, why it is becoming so popular, whether it can exist at peace with modern medicine, and whether the government should research and regulate it. Because readers are presented with a variety of viewpoints, this book is also a great resource for report-writing and research. Superb essays sources include the National Center for Complementary and Alternative Medicine, The Office of Senator Dick Durbin, Donald Berwick, Dana Ullman, and Todd Runestad.","English",48.8,39.04,"610--dc22","264 pp.","https://greenhavenpublishing.com/978-0-7377-5438-4",{"$f":"Table1[[#This Row],['# of Books]]*Table1[[#This Row],[QTY]]","v":0},{"$f":"Table1[[#This Row],[QTY]]*Table1[[#This Row],[School & Library Price]]","v":0}]
[null,null,7,null,null,"Current Issues","Opposing Viewpoints","America's Prisons","978-0-7377-7537-2",{"$f":"HYPERLINK(Table1[[#This Row],[Hyperlink]],\"Weblink\")","v":"Weblink"},"Greenhaven Publishing","Paperback Book",1,"2016","January 2016","Paperback","6.000 X 9.000","Edited by","Jack Lasky",null,null,null,null,"Z",null,"Grade 10 - 12","Grade 9 - 12","What problems do America's prisons face? Who is in America's prisons? Are prisoners treated humanely? Do prison alternatives work? Providing uncomplicated answers to these complicated questions is no easy task. This collection of pro versus con essays offers the solution; there are many sides to every story and it's best to take a look at all before forming a well-rounded opinion. Readers will evaluate divergent viewpoints from sources such as Margaret Dooley-Sammuli, David M. Reutter, Morris B. Hoffman, Jakub Wrzesniewski, and Megan Quattlebaum.","English",33.799999999999997,27.04,"365/.973","208 pp.","https://greenhavenpublishing.com/978-0-7377-7537-2",{"$f":"Table1[[#This Row],['# of Books]]*Table1[[#This Row],[QTY]]","v":0},{"$f":"Table1[[#This Row],[QTY]]*Table1[[#This Row],[School & Library Price]]","v":0}]
[null,null,7,null,null,"Current Issues","Opposing Viewpoints","Anti-Semitism","978-0-7377-6947-0",{"$f":"HYPERLINK(Table1[[#This Row],[Hyperlink]],\"Weblink\")","v":"Weblink"},"Greenhaven Publishing","Library Bound Book",1,"2014","January 2014","Library","6.000 X 9.000","Edited by","Noah Berlatsky",null,null,null,null,"Z",null,"Grade 10 - 12","Grade 9 - 12","Between January and November 2017, there were more than 140 bomb threats phoned and e-mailed to Jewish community institutions, including day schools and synagogues. What stirs such abominable hatred of innocent children and religious worshippers, and larger, hatred an entire people? Give your readers a balanced, thought-provoking study of anti-Semitism. Editor Noah Berlatsky has compiled several pro versus con essays that debate this topic across four chapters. Readers will evaluate which social factors contribute to anti-Semitism, what the relationship is between other religions and anti-Semitism, if opposition to Israeli policy linked to it, and which political groups are linked to it. Readers will activated their critical thinking skills in order to form intelligent opinions. Essayists include Soeren Kern, Andrew Bostom, Raphael Shore, Richard Cohen, and Constantin Wagner.","English",48.8,39.04,"305.892/4","208 pp.","https://greenhavenpublishing.com/978-0-7377-6947-0",{"$f":"Table1[[#This Row],['# of Books]]*Table1[[#This Row],[QTY]]","v":0},{"$f":"Table1[[#This Row],[QTY]]*Table1[[#This Row],[School & Library Price]]","v":0}]
[null,null,7,null,null,"Current Issues","Opposing Viewpoints","Antibiotics","978-0-7377-5209-0",{"$f":"HYPERLINK(Table1[[#This Row],[Hyperlink]],\"Weblink\")","v":"Weblink"},"Greenhaven Publishing","Library Bound Book",1,"2011","January 2011","Library","6.000 X 9.000","Edited by","Noah Berlatsky",null,null,null,null,"Z",null,"Grade 10 - 12","Grade 9 - 12","Antibiotics or antibacterials can cure what ails us, so what's the big controversy? One of the most compelling reasons for controversy is that bacteria adapt to this medication and come back even stronger. Another reason is that our bodies have good bacteria, which antibiotics can kill, causing problems in areas that we're not even trying to treat. Give your readers a fascinating look into the controversies of antibiotics. Essays are arranged in a pro versus con sequence, so that readers can benefit from more than one intelligent viewpoint per topic. Across four chapters, readers will evaluate the issues that arise with use, whether it should be used in agriculture, how they should be used across different diseases, and what the dangers of use really are. Superb essay sources include the U.S. Food and Drug Administration, Humane Society of the United States, Pew Charitable Trusts, Ohio Pork Producers Council, and the National Cancer Institute.","English",48.8,39.04,"615/.329","224 pp.","https://greenhavenpublishing.com/978-0-7377-5209-0",{"$f":"Table1[[#This Row],['# of Books]]*Table1[[#This Row],[QTY]]","v":0},{"$f":"Table1[[#This Row],[QTY]]*Table1[[#This Row],[School & Library Price]]","v":0}]
[null,null,7,null,null,"Current Issues","Opposing Viewpoints","The Arab Spring","978-0-7377-6043-9",{"$f":"HYPERLINK(Table1[[#This Row],[Hyperlink]],\"Weblink\")","v":"Weblink"},"Greenhaven Publishing","Paperback Book",1,"2013","January 2013","Paperback","6.000 X 9.000","Edited by, Edited by","Margaret Haerens, Lynn M. Zott",null,null,null,null,"Z",null,"Grade 10 - 12","Grade 9 - 12","This essential volume offers insight on an often under-covered event; the Arab Spring. It was the revolutionary wave of demonstrations and protests occurring in the Arab world that began in late 2010. Essays collected here carefully debate several issues, organized across four chapters under four main themes. Readers will evaluate the causes, how the international community should respond, how the United States should respond, and the social and political impact of the Arab Spring. Essay sources include Barack Obama, Rami G. Khouri, Richard Javad Heydarian, Rebecca Winthrop, and The Economist.","English",33.799999999999997,27.04,"909/.097492708312","224 pp.","https://greenhavenpublishing.com/978-0-7377-6043-9",{"$f":"Table1[[#This Row],['# of Books]]*Table1[[#This Row],[QTY]]","v":0},{"$f":"Table1[[#This Row],[QTY]]*Table1[[#This Row],[School & Library Price]]","v":0}]
[null,null,7,null,null,"Current Issues","Opposing Viewpoints","Atheism","978-0-7377-4192-6",{"$f":"HYPERLINK(Table1[[#This Row],[Hyperlink]],\"Weblink\")","v":"Weblink"},"Greenhaven Publishing","Library Bound Book",1,"2009","January 2009","Library","6.000 X 9.000","Edited by","Beth Rosenthal",null,null,null,null,"Z",null,"Grade 10 - 12","Grade 9 - 12","Atheists, because of the nature of what they believe in, or don't believe in, rarely make the news. They are rarely seen as outspoken figures tossing their hat into the ring of political, social, religious, or scientific discourse. The Pew Research Center has found that about half of Americans say they would be less likely to support an atheist candidate for president, which is curious because many people believe in the separation of Church and State. Provide your readers with some other curious debatable topics about Atheism. Essays are provided in a pro versus con format, and are selected from highly respected sources and publications. Across four chapters, readers will think critically about the state of Atheism, what its impact on society is, what are major concerns, and what the future may hold.","English",48.8,39.04,"211/.8","232 pp.","https://greenhavenpublishing.com/978-0-7377-4192-6",{"$f":"Table1[[#This Row],['# of Books]]*Table1[[#This Row],[QTY]]","v":0},{"$f":"Table1[[#This Row],[QTY]]*Table1[[#This Row],[School & Library Price]]","v":0}]
[null,null,7,null,null,"Current Issues","Opposing Viewpoints","Bankruptcy","978-0-7377-7245-6",{"$f":"HYPERLINK(Table1[[#This Row],[Hyperlink]],\"Weblink\")","v":"Weblink"},"Greenhaven Publishing","Paperback Book",1,"2015","January 2015","Paperback","6.000 X 9.000","Edited by","Noah Berlatsky",null,null,null,null,"Z",null,"Grade 10 - 12","Grade 9 - 12","Individuals, small mom-and-pop shops, corporations, and even cities file for bankruptcy. It becomes an answer to circumvent complete ruin, but is it really the answer? This essential guide presents readers with a sequence of essays that debate subtopics of bankruptcy. Is it wrong to file for bankruptcy? How should different types of debt be dealt with in bankruptcy? What are issues facing cities that declare bankruptcy? When are government bailouts preferable to bankruptcy? These four questions are answered by sources such as James Kwak, Sarah Kliff, Joe Fulwiler, and Ariana Eunjung Cha.","English",33.799999999999997,27.04,"332.7/50973","176 pp.","https://greenhavenpublishing.com/978-0-7377-7245-6",{"$f":"Table1[[#This Row],['# of Books]]*Table1[[#This Row],[QTY]]","v":0},{"$f":"Table1[[#This Row],[QTY]]*Table1[[#This Row],[School & Library Price]]","v":0}]
[null,null,7,null,null,"Current Issues","Opposing Viewpoints","Bioterrorism","978-0-7377-6474-1",{"$f":"HYPERLINK(Table1[[#This Row],[Hyperlink]],\"Weblink\")","v":"Weblink"},"Greenhaven Publishing","Library Bound Book",1,"2013","January 2013","Library","6.000 X 9.000","Edited by","Roman Espejo",null,null,null,null,"Z",null,"Grade 10 - 12","Grade 9 - 12","Across four chapters, four main questions about bioterrorism are answered through lively debates provided by several articles and essays. How great is the threat of bioterrorism? What are the issues associated with biodefense research? How should the United states prepare for and protect against bioterrorism? What anti-bioterrorism policies should the United States have? Stellar essay sources include The Scientists Working Group on Biological and Chemical Weapons, U.S. Department of Homeland Security, Biological Weapons Prevention Project, Newsweek, and the Fred Hutchinson Cancer Research Center.","English",48.8,39.04,"363.325/30973","232 pp.","https://greenhavenpublishing.com/978-0-7377-6474-1",{"$f":"Table1[[#This Row],['# of Books]]*Table1[[#This Row],[QTY]]","v":0},{"$f":"Table1[[#This Row],[QTY]]*Table1[[#This Row],[School & Library Price]]","v":0}]
[null,null,7,null,null,"Current Issues","Opposing Viewpoints","Bioterrorism","978-0-7377-6475-8",{"$f":"HYPERLINK(Table1[[#This Row],[Hyperlink]],\"Weblink\")","v":"Weblink"},"Greenhaven Publishing","Paperback Book",1,"2013","January 2013","Paperback","6.000 X 9.000","Edited by","Roman Espejo",null,null,null,null,"Z",null,"Grade 10 - 12","Grade 9 - 12","Across four chapters, four main questions about bioterrorism are answered through lively debates provided by several articles and essays. How great is the threat of bioterrorism? What are the issues associated with biodefense research? How should the United states prepare for and protect against bioterrorism? What anti-bioterrorism policies should the United States have? Stellar essay sources include The Scientists Working Group on Biological and Chemical Weapons, U.S. Department of Homeland Security, Biological Weapons Prevention Project, Newsweek, and the Fred Hutchinson Cancer Research Center.","English",33.799999999999997,27.04,"363.325/30973","232 pp.","https://greenhavenpublishing.com/978-0-7377-6475-8",{"$f":"Table1[[#This Row],['# of Books]]*Table1[[#This Row],[QTY]]","v":0},{"$f":"Table1[[#This Row],[QTY]]*Table1[[#This Row],[School & Library Price]]","v":0}]
[null,null,7,null,null,"Current Issues","Opposing Viewpoints","Breast Cancer","978-0-7377-7551-8",{"$f":"HYPERLINK(Table1[[#This Row],[Hyperlink]],\"Weblink\")","v":"Weblink"},"Greenhaven Publishing","Paperback Book",1,"2016","January 2016","Paperback","6.000 X 9.000","Edited by","Dedria Bryfonski",null,null,null,null,"Z",null,"Grade 10 - 12","Grade 9 - 12","One in eight women in the U.S. will be diagnosed with breast cancer in her lifetime. This essential guide introduces core concepts about breast cancer, and debates subtopics through essays that present more than one viewpoint. Across four chapters, this book analyzes whether annual mammograms save lives, whether preventive mastectomies save lives, whether abortion increases the risk of breast cancer, and whether breast cancer awareness has become commercialized and exploitive. Essay sources include Karuna Jaggar, Shalmali Pal, Lisa Newman, Colleen Joy McCullough, and the Dana-Farber Cancer Institute.","English",33.799999999999997,27.04,"616.99/449","200 pp.","https://greenhavenpublishing.com/978-0-7377-7551-8",{"$f":"Table1[[#This Row],['# of Books]]*Table1[[#This Row],[QTY]]","v":0},{"$f":"Table1[[#This Row],[QTY]]*Table1[[#This Row],[School & Library Price]]","v":0}]
[null,null,8,null,null,"Current Issues","Opposing Viewpoints","Cars in America","978-0-7377-4759-1",{"$f":"HYPERLINK(Table1[[#This Row],[Hyperlink]],\"Weblink\")","v":"Weblink"},"Greenhaven Publishing","Library Bound Book",1,"2010","January 2010","Library","6.000 X 9.000","Edited by","Roman Espejo",null,null,null,null,"Z",null,"Grade 10 - 12","Grade 9 - 12","The United States has more cars than any other country in the world, at 300 million units. Young teens start dreaming of their first cars early, and adults fondly remember their first cars. This volume provides an extensive survey of the impact of cars on our world. How have they impacted the American way of life? How can driving be made safer? What will the future car industry look like? Can the U.S. possibly keep up with consumption and meet future transportation needs? These questions are answered for readers from more than one intelligent viewpoint, allowing them to think critically about what they're learning. Infographics, illustrations, charts, graphs, and sidebars support the essays.","English",48.8,39.04,"388.3/210973","184 pp.","https://greenhavenpublishing.com/978-0-7377-4759-1",{"$f":"Table1[[#This Row],['# of Books]]*Table1[[#This Row],[QTY]]","v":0},{"$f":"Table1[[#This Row],[QTY]]*Table1[[#This Row],[School & Library Price]]","v":0}]
[null,null,8,null,null,"Current Issues","Opposing Viewpoints","Celebrity Culture","978-0-7377-7247-0",{"$f":"HYPERLINK(Table1[[#This Row],[Hyperlink]],\"Weblink\")","v":"Weblink"},"Greenhaven Publishing","Paperback Book",1,"2015","January 2015","Paperback","6.000 X 9.000","Edited by","Noah Berlatsky",null,null,null,null,"Z",null,"Grade 10 - 12","Grade 9 - 12","Editor Noah Berlatsky has selected viewpoints from a wide range of highly respected sources and publications in order to provide readers with a complete picture of celebrity culture. Readers will evaluate essays that answer four main questions: Is celebrity culture harmful? Is celebrity activism beneficial? How does celebrity culture affect particular groups? Is celebrity culture changing?","English",33.799999999999997,27.04,"306","208 pp.","https://greenhavenpublishing.com/978-0-7377-7247-0",{"$f":"Table1[[#This Row],['# of Books]]*Table1[[#This Row],[QTY]]","v":0},{"$f":"Table1[[#This Row],[QTY]]*Table1[[#This Row],[School & Library Price]]","v":0}]
[null,null,8,null,null,"Current Issues","Opposing Viewpoints","Charter Schools","978-0-7377-5442-1",{"$f":"HYPERLINK(Table1[[#This Row],[Hyperlink]],\"Weblink\")","v":"Weblink"},"Greenhaven Publishing","Library Bound Book",1,"2012","January 2012","Library","6.000 X 9.000","Edited by, Edited by","Margaret Haerens, Lynn M. Zott",null,null,null,null,"Z",null,"Grade 10 - 12","Grade 9 - 12","Present your readers with a collection of essays examining charter schools, including their strengths and weaknesses, pros and cons, and what can be done to improve them. Essayist Diane Ravitch states that the success of charter schools is a myth while Ben Adams argues that charter schools are superior to public schools. Katherine Mangu-Ward claims that online charters are innovative and effective while Carol Pogash reports that they are expensive and problematic. Subtopics are evenly debated, allowing readers to form their own intelligent opinions.","English",48.8,39.04,"371.050973","248 pp.","https://greenhavenpublishing.com/978-0-7377-5442-1",{"$f":"Table1[[#This Row],['# of Books]]*Table1[[#This Row],[QTY]]","v":0},{"$f":"Table1[[#This Row],[QTY]]*Table1[[#This Row],[School & Library Price]]","v":0}]
[null,null,8,null,null,"Current Issues","Opposing Viewpoints","Chemicals","978-0-7377-7249-4",{"$f":"HYPERLINK(Table1[[#This Row],[Hyperlink]],\"Weblink\")","v":"Weblink"},"Greenhaven Publishing","Paperback Book",1,"2015","January 2015","Paperback","6.000 X 9.000","Edited by","Margaret Haerens",null,null,null,null,"Z",null,"Grade 10 - 12","Grade 9 - 12","A simple cigarette contains over 7,000 chemicals, many of them deadly, and yet this addictive device is still a part of daily life for many people. Humans are responsible for finding, making, and manufacturing millions of chemicals, but when do we take responsibility for the harm they cause? Provide your readers with this compelling survey of the issues relating to our chemicals. Chapter one explains the threats that chemicals post to the environment and public health. Chapter two discusses what causes dangerous levels of toxic exposure. Chapter three examines how chemicals are endangering the water and food supply. Chapter four calls to question what the government should do to protect Americans from toxic chemicals. Sources include the Harvard Health Letter, Sonia Shah, Sandy Dechert, and Linda Sharps.","English",33.799999999999997,27.04,"363.738/4","240 pp.","https://greenhavenpublishing.com/978-0-7377-7249-4",{"$f":"Table1[[#This Row],['# of Books]]*Table1[[#This Row],[QTY]]","v":0},{"$f":"Table1[[#This Row],[QTY]]*Table1[[#This Row],[School & Library Price]]","v":0}]
[null,null,8,null,null,"Current Issues","Opposing Viewpoints","Child Custody","978-0-7377-5218-2",{"$f":"HYPERLINK(Table1[[#This Row],[Hyperlink]],\"Weblink\")","v":"Weblink"},"Greenhaven Publishing","Paperback Book",1,"2011","January 2011","Paperback","6.000 X 9.000","Edited by","Dedria Bryfonski",null,null,null,null,"Z",null,"Grade 10 - 12","Grade 9 - 12","This must-have volume explores topics relating to child custody by presenting varied expert opinions that examine many of the different aspects that comprise these issues. Selected articles discuss many aspects relating to the legal terms which are used to describe the legal relationship between a parent and his or her child. It includes coverage on the right of the parent to make decisions for the child, and the parent's duty to care for the child. Child custody decisions that have to be made in cases such as divorce, and when a child cannot be looked after by either parent and has to be put into foster care or adoption are also explored. Viewpoints are selected from a wide range of highly respected and often hard-to-find sources and publications.","English",33.799999999999997,27.04,"346.7301/73","240 pp.","https://greenhavenpublishing.com/978-0-7377-5218-2",{"$f":"Table1[[#This Row],['# of Books]]*Table1[[#This Row],[QTY]]","v":0},{"$f":"Table1[[#This Row],[QTY]]*Table1[[#This Row],[School & Library Price]]","v":0}]
[null,null,8,null,null,"Current Issues","Opposing Viewpoints","China","978-0-7377-4765-2",{"$f":"HYPERLINK(Table1[[#This Row],[Hyperlink]],\"Weblink\")","v":"Weblink"},"Greenhaven Publishing","Library Bound Book",1,"2010","January 2010","Library","6.000 X 9.000","Edited by","Noah Berlatsky",null,null,null,null,"Z",null,"Grade 10 - 12","Grade 9 - 12","China has emerged as a global giant while maintaining traditional Chinese beliefs and values. A strong national identity doesn't always land well with other governments and institutions. Editor Noah Berlatsky has thoughtfully compiled several essays that tackle the topic of China in its new role as a world leader. In chapter one, readers will explore the statuses of human rights and Democracy in China. Chapter two discusses economic challenges. Chapter three focuses on whether China is a military threat or not. Chapter four addresses whether China is protecting the environment. Essay sources include Amnesty International, Ying Ma, Ming Wan, Wei Jingsheng, Xiaohui (Anne) Wu, and Juli S. Kim.","English",48.8,39.04,"951.06","216 pp.","https://greenhavenpublishing.com/978-0-7377-4765-2",{"$f":"Table1[[#This Row],['# of Books]]*Table1[[#This Row],[QTY]]","v":0},{"$f":"Table1[[#This Row],[QTY]]*Table1[[#This Row],[School & Library Price]]","v":0}]
[null,null,8,null,null,"Current Issues","Opposing Viewpoints","China","978-0-7377-4766-9",{"$f":"HYPERLINK(Table1[[#This Row],[Hyperlink]],\"Weblink\")","v":"Weblink"},"Greenhaven Publishing","Paperback Book",1,"2010","January 2010","Paperback","6.000 X 9.000","Edited by","Noah Berlatsky",null,null,null,null,"Z",null,"Grade 10 - 12","Grade 9 - 12","China has emerged as a global giant while maintaining traditional Chinese beliefs and values. A strong national identity doesn't always land well with other governments and institutions. Editor Noah Berlatsky has thoughtfully compiled several essays that tackle the topic of China in its new role as a world leader. In chapter one, readers will explore the statuses of human rights and Democracy in China. Chapter two discusses economic challenges. Chapter three focuses on whether China is a military threat or not. Chapter four addresses whether China is protecting the environment. Essay sources include Amnesty International, Ying Ma, Ming Wan, Wei Jingsheng, Xiaohui (Anne) Wu, and Juli S. Kim.","English",33.799999999999997,27.04,"951.06","216 pp.","https://greenhavenpublishing.com/978-0-7377-4766-9",{"$f":"Table1[[#This Row],['# of Books]]*Table1[[#This Row],[QTY]]","v":0},{"$f":"Table1[[#This Row],[QTY]]*Table1[[#This Row],[School & Library Price]]","v":0}]
[null,null,8,null,null,"Current Issues","Opposing Viewpoints","Cloning","978-0-7377-5713-2",{"$f":"HYPERLINK(Table1[[#This Row],[Hyperlink]],\"Weblink\")","v":"Weblink"},"Greenhaven Publishing","Library Bound Book",1,"2012","January 2012","Library","6.000 X 9.000","Edited by","Jacqueline Langwith",null,null,null,null,"Z",null,"Grade 10 - 12","Grade 9 - 12","Fifty years ago, cloning was a sci-fi concept. Now, it is a reality, including people having the option of cloning the family pet so that some of it can live on. Give your readers an exhaustive study of the core concepts of cloning. What are the ethical and moral issues surrounding research cloning, reproductive cloning, and animal cloning? How can it be regulated? Several essays support multiple sides of the answers to these questions. Readers benefit from sources such as the Right to Life of Michigan Education Fund, Joyce C. Havstad, Humane Society of the United State, Biotechnology Industry Organization, and the Association of American Universities.","English",48.8,39.04,"176/.22","240 pp.","https://greenhavenpublishing.com/978-0-7377-5713-2",{"$f":"Table1[[#This Row],['# of Books]]*Table1[[#This Row],[QTY]]","v":0},{"$f":"Table1[[#This Row],[QTY]]*Table1[[#This Row],[School & Library Price]]","v":0}]
[null,null,8,null,null,"Current Issues","Opposing Viewpoints","Community Policing","978-0-7377-6952-4",{"$f":"HYPERLINK(Table1[[#This Row],[Hyperlink]],\"Weblink\")","v":"Weblink"},"Greenhaven Publishing","Paperback Book",1,"2014","January 2014","Paperback","6.000 X 9.000","Edited by","Roman Espejo",null,null,null,null,"Z",null,"Grade 10 - 12","Grade 9 - 12","The practice of community policing allows police officers to become familiar with a community. The goal is that the community members see the officers as a local, friendly, helpful resources and their presence will deter crime. This collection of essays guides readers through this topic and its controversies. Is community policing effective? Do neighborhood watch groups increase safety? Can social media enhance community policing efforts? Do stand your ground laws put people at risk? These and several other questions are debated and answered for your readers.","English",33.799999999999997,27.04,"363.2/3","216 pp.","https://greenhavenpublishing.com/978-0-7377-6952-4",{"$f":"Table1[[#This Row],['# of Books]]*Table1[[#This Row],[QTY]]","v":0},{"$f":"Table1[[#This Row],[QTY]]*Table1[[#This Row],[School & Library Price]]","v":0}]
[null,null,8,null,null,"Current Issues","Opposing Viewpoints","Conflict Resolution","978-0-7377-3993-0",{"$f":"HYPERLINK(Table1[[#This Row],[Hyperlink]],\"Weblink\")","v":"Weblink"},"Greenhaven Publishing","Paperback Book",1,"2008","January 2008","Paperback","6.000 X 9.000","Edited by","Tom Lansford",null,null,null,null,"Z",null,"Grade 10 - 12","Grade 9 - 12","Conflict resolution is simply managing and resolving conflict in a positive way, however, depending on the situation, it is no simple task. This thoughtful and helpful collection of essays introduces readers to the subtopics of conflict resolution. How should conflict resolution be taught? Is conflict resolution a good alternative to legal action? Are conflict resolution strategies the best way to solve environmental problems? What methods are effective in resolving international conflicts? These four main questions are debated across this book so that readers benefit from more than one intelligent viewpoint while forming their own opinions.","English",33.799999999999997,27.04,"303.6/9","232 pp.","https://greenhavenpublishing.com/978-0-7377-3993-0",{"$f":"Table1[[#This Row],['# of Books]]*Table1[[#This Row],[QTY]]","v":0},{"$f":"Table1[[#This Row],[QTY]]*Table1[[#This Row],[School & Library Price]]","v":0}]
[null,null,8,null,null,"Current Issues","Opposing Viewpoints","Consumerism","978-0-7377-4506-1",{"$f":"HYPERLINK(Table1[[#This Row],[Hyperlink]],\"Weblink\")","v":"Weblink"},"Greenhaven Publishing","Library Bound Book",1,"2010","January 2010","Library","6.000 X 9.000","Edited by","Roman Espejo",null,null,null,null,"Z",null,"Grade 10 - 12","Grade 9 - 12","Editor Roman Espejo has compiled several essays across four chapters that debate essential topics relating to consumerism. Readers will evaluate the impact of consumerism in chapter one. Chapter two asks and answers what facilitates consumerism. Chapter three analyzes whether it's a problem and chapter four debates if it should be rejected. Essay sources include Knowledge at Wharton, Michael J. Foster, Karen Sternheimer, and the Christian Science Monitor.","English",48.8,39.04,"339.4/7","232 pp.","https://greenhavenpublishing.com/978-0-7377-4506-1",{"$f":"Table1[[#This Row],['# of Books]]*Table1[[#This Row],[QTY]]","v":0},{"$f":"Table1[[#This Row],[QTY]]*Table1[[#This Row],[School & Library Price]]","v":0}]
[null,null,8,null,null,"Current Issues","Opposing Viewpoints","Corporate Social Responsibility","978-0-7377-6653-0",{"$f":"HYPERLINK(Table1[[#This Row],[Hyperlink]],\"Weblink\")","v":"Weblink"},"Greenhaven Publishing","Paperback Book",1,"2014","January 2014","Paperback","6.000 X 9.000","Edited by, Edited by","Lynn M. Zott, Margaret Haerens",null,null,null,null,"Z",null,"Grade 10 - 12","Grade 9 - 12","Editors Margaret Haerens and Lynn M. Zott have compiled several essays that debate issues relating to corporate social responsibility. Chapter one debates whether corporations should practice social responsibility. Chapter two addresses effective goals of social responsibility strategies. Chapter three focuses on related economical issues, and chapter four analyzes whether corporations should be responsible for health insurance coverage. Essay sources include Rose Schreiber, Aneel Karnani, Andrew W. Markley, and​ Mal Warwick.","English",33.799999999999997,27.04,"658.4/08","224 pp.","https://greenhavenpublishing.com/978-0-7377-6653-0",{"$f":"Table1[[#This Row],['# of Books]]*Table1[[#This Row],[QTY]]","v":0},{"$f":"Table1[[#This Row],[QTY]]*Table1[[#This Row],[School & Library Price]]","v":0}]
[null,null,8,null,null,"Current Issues","Opposing Viewpoints","Criminal Justice","978-0-7377-6306-5",{"$f":"HYPERLINK(Table1[[#This Row],[Hyperlink]],\"Weblink\")","v":"Weblink"},"Greenhaven Publishing","Library Bound Book",1,"2013","January 2013","Library","6.000 X 9.000","Edited by","Noël Merino",null,null,null,null,"Z",null,"Grade 10 - 12","Grade 9 - 12","This essential volume presents viewpoints that are selected from a wide range of highly respected sources and publications. Readers will evaluate whether the criminal justice system needs reform, and consider the state of the incarceration system in the United States. They will analyze whether sentencing laws should be reformed. Readers will also consider which rights should be a part of the criminal justice system.","English",48.8,39.04,"364.973","232 pp.","https://greenhavenpublishing.com/978-0-7377-6306-5",{"$f":"Table1[[#This Row],['# of Books]]*Table1[[#This Row],[QTY]]","v":0},{"$f":"Table1[[#This Row],[QTY]]*Table1[[#This Row],[School & Library Price]]","v":0}]
[null,null,8,null,null,"Current Issues","Opposing Viewpoints","Cults","978-0-7377-3995-4",{"$f":"HYPERLINK(Table1[[#This Row],[Hyperlink]],\"Weblink\")","v":"Weblink"},"Greenhaven Publishing","Paperback Book",1,"2013","January 2013","Paperback","6.000 X 9.000","Edited by","Roman Espejo",null,null,null,null,"Z",null,"Grade 10 - 12","Grade 9 - 12","This volume explores the topics relating to cults, usually referring to a new religious movement or other group whose beliefs or practices are considered non-traditional or unorthodox. It presents varied expert opinions that examine many of the different aspects that comprise this topic. The viewpoints are selected from a wide range of sources and publications, which allows the reader to activate higher-level critical thinking and reading skills. Across four chapters, readers will examine the true definition of cults, whether they're a serious threat, why people join cults to begin with, and how cult members can be helped. Because this collection contains so many essays, it is also a terrific resource for report-writing and research.","English",33.799999999999997,27.04,"200","224 pp.","https://greenhavenpublishing.com/978-0-7377-3995-4",{"$f":"Table1[[#This Row],['# of Books]]*Table1[[#This Row],[QTY]]","v":0},{"$f":"Table1[[#This Row],[QTY]]*Table1[[#This Row],[School & Library Price]]","v":0}]
[null,null,8,null,null,"Current Issues","Opposing Viewpoints","Culture Wars","978-0-7377-3755-4",{"$f":"HYPERLINK(Table1[[#This Row],[Hyperlink]],\"Weblink\")","v":"Weblink"},"Greenhaven Publishing","Library Bound Book",1,"2008","January 2008","Library","6.000 X 9.000","Edited by","Mitchell Young",null,null,null,null,"Z",null,"Grade 10 - 12","Grade 9 - 12","Culture war is the conflict between traditionalist or conservative values and social democracy, progressive, or social liberal values in the Western world, and other countries. This collection of essays presents various topics relating to culture wars. How does the culture war affect politics in the United States? Is there a culture war between believers and humanists? Is the culture war going global? Is the culture war a matter of economics? These four questions are answered across four chapters of compelling pro versus con essays, providing readers with crucially needed balanced viewpoints.","English",48.8,39.04,"306.0973/09049","216 pp.","https://greenhavenpublishing.com/978-0-7377-3755-4",{"$f":"Table1[[#This Row],['# of Books]]*Table1[[#This Row],[QTY]]","v":0},{"$f":"Table1[[#This Row],[QTY]]*Table1[[#This Row],[School & Library Price]]","v":0}]
[null,null,8,null,null,"Current Issues","Opposing Viewpoints","Cyber Crime","978-0-7377-6312-6",{"$f":"HYPERLINK(Table1[[#This Row],[Hyperlink]],\"Weblink\")","v":"Weblink"},"Greenhaven Publishing","Library Bound Book",1,"2013","January 2013","Library","6.000 X 9.000","Edited by","Louise I. Gerdes",null,null,null,null,"Z",null,"Grade 10 - 12","Grade 9 - 12","This volume explores the topic of the cybercrime and crime involving computers and computer networks by presenting varied expert opinions that examine many of the different aspects that surround this issue. The editors and authors investigate topics such as the seriousness of cybercrime, how criminals use computer resources to commit cybercrime, if the use of electronic computer technologies such as WikiLeaks, social media, e-mail, and podcasts for various forms of activism can be considered a crime. Readers will evaluate what measures and laws will be prevent crimes being committed via computers in the future. The viewpoints are selected from a wide range of highly respected and often hard-to-find sources and publications. This allows your readers to activate higher-level critical thinking and reading skills. Essay sources include the Wall Street Journal, Kim Hone-McMahan, Debbie Wasserman Schultz, and Sid Kirchheimer.","English",48.8,39.04,"364.16/8","248 pp.","https://greenhavenpublishing.com/978-0-7377-6312-6",{"$f":"Table1[[#This Row],['# of Books]]*Table1[[#This Row],[QTY]]","v":0},{"$f":"Table1[[#This Row],[QTY]]*Table1[[#This Row],[School & Library Price]]","v":0}]
[null,null,8,null,null,"Current Issues","Opposing Viewpoints","Democracy","978-0-7377-5718-7",{"$f":"HYPERLINK(Table1[[#This Row],[Hyperlink]],\"Weblink\")","v":"Weblink"},"Greenhaven Publishing","Paperback Book",1,"2012","January 2012","Paperback","6.000 X 9.000","Edited by, Edited by","David M. Haugen, Susan Musser",null,null,null,null,"Z",null,"Grade 10 - 12","Grade 9 - 12","This crucial volume examines the democratic political system. Through a balanced collection of articles and essays from a variety of sources, this book explores the state of democracy worldwide. Readers will evaluate the question of whether or not there can be democracy in the Middle East. Essays also debate what can be done to improve United States democracy, and the role of the United States in fostering democracy worldwide.","English",33.799999999999997,27.04,"321.8--dc23","280 pp.","https://greenhavenpublishing.com/978-0-7377-5718-7",{"$f":"Table1[[#This Row],['# of Books]]*Table1[[#This Row],[QTY]]","v":0},{"$f":"Table1[[#This Row],[QTY]]*Table1[[#This Row],[School & Library Price]]","v":0}]
[null,null,8,null,null,"Current Issues","Opposing Viewpoints","Dictatorships","978-0-7377-6314-0",{"$f":"HYPERLINK(Table1[[#This Row],[Hyperlink]],\"Weblink\")","v":"Weblink"},"Greenhaven Publishing","Library Bound Book",1,"2013","January 2013","Library","6.000 X 9.000","Edited by","Tom Lansford",null,null,null,null,"Z",null,"Grade 10 - 12","Grade 9 - 12","Can dictatorships be a good form of government? Are select dictatorships becoming democracies? Are select democracies becoming dictatorships? What does the future hold for Middle Eastern governments? These four queries are addressed across four chapters of pro versus con essays that debate each topic. The viewpoints are selected from a wide range of highly respected and often hard-to-find sources and publications. Readers are exposed to many sides of a debate, which promotes issue awareness as well as critical thinking. Essay sources include Sishuwa Sishuwa, Angel Rabasa, Sholto Byrnes, Uri Friedman, and The Economist.","English",48.8,39.04,"321.9","224 pp.","https://greenhavenpublishing.com/978-0-7377-6314-0",{"$f":"Table1[[#This Row],['# of Books]]*Table1[[#This Row],[QTY]]","v":0},{"$f":"Table1[[#This Row],[QTY]]*Table1[[#This Row],[School & Library Price]]","v":0}]
[null,null,8,null,null,"Current Issues","Opposing Viewpoints","Dictatorships","978-0-7377-6315-7",{"$f":"HYPERLINK(Table1[[#This Row],[Hyperlink]],\"Weblink\")","v":"Weblink"},"Greenhaven Publishing","Paperback Book",1,"2013","January 2013","Paperback","6.000 X 9.000","Edited by","Tom Lansford",null,null,null,null,"Z",null,"Grade 10 - 12","Grade 9 - 12","Can dictatorships be a good form of government? Are select dictatorships becoming democracies? Are select democracies becoming dictatorships? What does the future hold for Middle Eastern governments? These four queries are addressed across four chapters of pro versus con essays that debate each topic. The viewpoints are selected from a wide range of highly respected and often hard-to-find sources and publications. Readers are exposed to many sides of a debate, which promotes issue awareness as well as critical thinking. Essay sources include Sishuwa Sishuwa, Angel Rabasa, Sholto Byrnes, Uri Friedman, and The Economist.","English",33.799999999999997,27.04,"321.9","224 pp.","https://greenhavenpublishing.com/978-0-7377-6315-7",{"$f":"Table1[[#This Row],['# of Books]]*Table1[[#This Row],[QTY]]","v":0},{"$f":"Table1[[#This Row],[QTY]]*Table1[[#This Row],[School & Library Price]]","v":0}]
[null,null,9,null,null,"Current Issues","Opposing Viewpoints","Divorce","978-0-7377-4204-6",{"$f":"HYPERLINK(Table1[[#This Row],[Hyperlink]],\"Weblink\")","v":"Weblink"},"Greenhaven Publishing","Library Bound Book",1,"2009","January 2009","Library","6.000 X 9.000","Edited by","Mike Wilson",null,null,null,null,"Z",null,"Grade 10 - 12","Grade 9 - 12","With America's divorce rate being over fifty percent, one must wonder whether it is a serious problem. Readers will evaluate that very question in chapter one of this collection of essays. Across three more chapters, your readers will evaluate whether it can be prevented, whether divorce laws work, and whether the negative effects of divorce be minimized. This book is also a great resource for report-writing and research. Essay sources include the Administration for Families and Children, Gail Rosenblum, Donna Olmstead, and Katherine Shaw Spaht.","English",48.8,39.04,"306.89","200 pp.","https://greenhavenpublishing.com/978-0-7377-4204-6",{"$f":"Table1[[#This Row],['# of Books]]*Table1[[#This Row],[QTY]]","v":0},{"$f":"Table1[[#This Row],[QTY]]*Table1[[#This Row],[School & Library Price]]","v":0}]
[null,null,9,null,null,"Current Issues","Opposing Viewpoints","Domestic Violence","978-0-7377-5719-4",{"$f":"HYPERLINK(Table1[[#This Row],[Hyperlink]],\"Weblink\")","v":"Weblink"},"Greenhaven Publishing","Library Bound Book",1,"2012","January 2012","Library","6.000 X 9.000","Edited by","Louise I. Gerdes",null,null,null,null,"Z",null,"Grade 10 - 12","Grade 9 - 12","Editor Louise I. Gerdes has thoughtful collected a series of essays that tackle the tough topic of domestic violence. Essays are sequence in a pro versus con format so that readers are presented with more than one intelligent viewpoint on every issue. Across four chapters, readers will evaluate the seriousness of domestic violence, what factors cause it, whether teen dating violence is a serious problem, and whether economic downturns amplify problems that can lead to domestic violence. Essay sources include the National Coalition for Child Protection Reform, American College of Obstetricians and Gynecologists, Information Week, and the National Child Abuse Coalition.","English",48.8,39.04,"362.82/92","240 pp.","https://greenhavenpublishing.com/978-0-7377-5719-4",{"$f":"Table1[[#This Row],['# of Books]]*Table1[[#This Row],[QTY]]","v":0},{"$f":"Table1[[#This Row],[QTY]]*Table1[[#This Row],[School & Library Price]]","v":0}]
[null,null,9,null,null,"Current Issues","Opposing Viewpoints","Doping","978-0-7377-6319-5",{"$f":"HYPERLINK(Table1[[#This Row],[Hyperlink]],\"Weblink\")","v":"Weblink"},"Greenhaven Publishing","Paperback Book",1,"2014","January 2014","Paperback","6.000 X 9.000","Edited by","Margaret Haerens",null,null,null,null,"Z",null,"Grade 10 - 12","Grade 9 - 12","Why do athletes dope? Should doping be banned? What are the effects of doping on sports? How should doping athletes be treated? The four questions are debated by a series of pro versus con essays in this book. The viewpoints are selected from a wide range of highly respected and often hard-to-find sources and publications. Readers are exposed to many sides of each debate, which promotes issue awareness as well as critical thinking. Essay sources include John Stossel, Ellis Cashmore, Kate Henne, and Bennett Foddy.","English",33.799999999999997,27.04,"617.1/027","200 pp.","https://greenhavenpublishing.com/978-0-7377-6319-5",{"$f":"Table1[[#This Row],['# of Books]]*Table1[[#This Row],[QTY]]","v":0},{"$f":"Table1[[#This Row],[QTY]]*Table1[[#This Row],[School & Library Price]]","v":0}]
[null,null,9,null,null,"Current Issues","Opposing Viewpoints","Eating Disorders","978-0-7377-5723-1",{"$f":"HYPERLINK(Table1[[#This Row],[Hyperlink]],\"Weblink\")","v":"Weblink"},"Greenhaven Publishing","Library Bound Book",1,"2012","January 2012","Library","6.000 X 9.000","Edited by","Roman Espejo",null,null,null,null,"Z",null,"Grade 10 - 12","Grade 9 - 12","The Senate Committee on Health, Education, Labor and Pensions essay found in this book states that eating disorders are a growing threat to public health. Essayist Malcolm Evans presents readers with the opposite view that the threat of eating disorders is distorted. The Royal College of Psychiatrists states that pro-ana websites should be regulated, while essayist Adam Thierer argues they should not be. Several issues like these are debated for readers across four chapters. Readers will evaluate the seriousness of eating disorders, possible causes, the relationship between the Internet and eating disorders, and whether treatment is effective.","English",48.8,39.04,"616.85/26","232 pp.","https://greenhavenpublishing.com/978-0-7377-5723-1",{"$f":"Table1[[#This Row],['# of Books]]*Table1[[#This Row],[QTY]]","v":0},{"$f":"Table1[[#This Row],[QTY]]*Table1[[#This Row],[School & Library Price]]","v":0}]
[null,null,9,null,null,"Current Issues","Opposing Viewpoints","Education","978-0-7377-6433-8",{"$f":"HYPERLINK(Table1[[#This Row],[Hyperlink]],\"Weblink\")","v":"Weblink"},"Greenhaven Publishing","Paperback Book",1,"2014","January 2014","Paperback","6.000 X 9.000","Edited by","Noël Merino",null,null,null,null,"Z",null,"Grade 10 - 12","Grade 9 - 12","Across four chapters, readers will evaluate the state of education in America, whether school alternatives are a good idea, if religion and religious ideas should be part of public education, and how the education system should be improved. Each chapter provides a sequence of essays that debate these topics and their subtopics. Readers are exposed to many sides of a debate, which promotes issue awareness as well as critical thinking. Essayists include Amanda Ripley, Heather Weaver, Neal McCluskey, Satoshi Kanazawa, the National Education Association, and Americans United for Separation of Church and State.","English",33.799999999999997,27.04,"370","224 pp.","https://greenhavenpublishing.com/978-0-7377-6433-8",{"$f":"Table1[[#This Row],['# of Books]]*Table1[[#This Row],[QTY]]","v":0},{"$f":"Table1[[#This Row],[QTY]]*Table1[[#This Row],[School & Library Price]]","v":0}]
[null,null,9,null,null,"Current Issues","Opposing Viewpoints","Endangered Oceans","978-0-7377-6052-1",{"$f":"HYPERLINK(Table1[[#This Row],[Hyperlink]],\"Weblink\")","v":"Weblink"},"Greenhaven Publishing","Library Bound Book",1,"2014","January 2014","Library","6.000 X 9.000","Edited by, Edited by","Helga Schier, Lynn M. Zott",null,null,null,null,"Z",null,"Grade 10 - 12","Grade 9 - 12","The incredible natural world around us is amazing. An equally amazing world exists beneath the sea. As we can see changes in our world due to our carbon footprint and other reasons, the same impact is felt in the oceanic world. This must-have collection of essays discusses the topic of Earth's endangered oceans. Through the use of carefully selected articles, pulled from a variety of sources, this text addresses what threatens the world's oceans, what ocean policies are best, and what strategies would best promote sustainable fishing. Readers will also evaluate what impact human activities have on marine life. Highly respected sources include the Natural Resources Defense Council, National Oceanic and Atmospheric Administration, Food and Water Watch, Ocean Conservancy, CompassOnline, and the Natural Resources Defense Council.","English",48.8,39.04,"577.7","232 pp.","https://greenhavenpublishing.com/978-0-7377-6052-1",{"$f":"Table1[[#This Row],['# of Books]]*Table1[[#This Row],[QTY]]","v":0},{"$f":"Table1[[#This Row],[QTY]]*Table1[[#This Row],[School & Library Price]]","v":0}]
[null,null,9,null,null,"Current Issues","Opposing Viewpoints","Energy Alternatives","978-0-7377-7258-6",{"$f":"HYPERLINK(Table1[[#This Row],[Hyperlink]],\"Weblink\")","v":"Weblink"},"Greenhaven Publishing","Library Bound Book",1,"2015","January 2015","Library","6.000 X 9.000","Edited by","Sylvia Engdahl",null,null,null,null,"Z",null,"Grade 10 - 12","Grade 9 - 12","This collection of pro versus con essays examines whether or not alternative energy sources can replace fossil fuels and if the benefits of wind power outweigh its disadvantages. This volume also debates the practicality of utility-scale solar power as a practical alternative energy source as well as the advantages and disadvantages of alternative energy in general. Essayists include Steven Cohen, Eric McLamb, Robert Bryce, Erin Ailworth, ​and Noreen Moustafa.\n","English",48.8,39.04,"333.79/4","224 pp.","https://greenhavenpublishing.com/978-0-7377-7258-6",{"$f":"Table1[[#This Row],['# of Books]]*Table1[[#This Row],[QTY]]","v":0},{"$f":"Table1[[#This Row],[QTY]]*Table1[[#This Row],[School & Library Price]]","v":0}]
[null,null,9,null,null,"Current Issues","Opposing Viewpoints","Energy Alternatives","978-0-7377-7259-3",{"$f":"HYPERLINK(Table1[[#This Row],[Hyperlink]],\"Weblink\")","v":"Weblink"},"Greenhaven Publishing","Paperback Book",1,"2015","January 2015","Paperback","6.000 X 9.000","Edited by","Sylvia Engdahl",null,null,null,null,"Z",null,"Grade 10 - 12","Grade 9 - 12","This collection of pro versus con essays examines whether or not alternative energy sources can replace fossil fuels and if the benefits of wind power outweigh its disadvantages. This volume also debates the practicality of utility-scale solar power as a practical alternative energy source as well as the advantages and disadvantages of alternative energy in general. Essayists include Steven Cohen, Eric McLamb, Robert Bryce, Erin Ailworth, ​and Noreen Moustafa.\n","English",33.799999999999997,27.04,"333.79/4","224 pp.","https://greenhavenpublishing.com/978-0-7377-7259-3",{"$f":"Table1[[#This Row],['# of Books]]*Table1[[#This Row],[QTY]]","v":0},{"$f":"Table1[[#This Row],[QTY]]*Table1[[#This Row],[School & Library Price]]","v":0}]
[null,null,9,null,null,"Current Issues","Opposing Viewpoints","The European Union","978-0-7377-3998-5",{"$f":"HYPERLINK(Table1[[#This Row],[Hyperlink]],\"Weblink\")","v":"Weblink"},"Greenhaven Publishing","Library Bound Book",1,"2008","January 2008","Library","6.000 X 9.000","Edited by","Noël Merino",null,null,null,null,"Z",null,"Grade 10 - 12","Grade 9 - 12","Introduce readers to the controversies and details of the European Union, whose purpose is to promote greater social, political, and economic harmony among the nations of Western Europe. Essays are provided in a pro versus con format across several issues. Within four chapters, readers will evaluate what the E.U. members want for themselves, what countries should be members, whether the E.U. is succeeding globally, and what it should do about its diverse nationalities and languages. Essay sources include The Economist, European Commission, and Investor's Business Daily.","English",48.8,39.04,"341.242/​2","200 pp.","https://greenhavenpublishing.com/978-0-7377-3998-5",{"$f":"Table1[[#This Row],['# of Books]]*Table1[[#This Row],[QTY]]","v":0},{"$f":"Table1[[#This Row],[QTY]]*Table1[[#This Row],[School & Library Price]]","v":0}]
[null,null,9,null,null,"Current Issues","Opposing Viewpoints","Extremism","978-0-7377-4965-6",{"$f":"HYPERLINK(Table1[[#This Row],[Hyperlink]],\"Weblink\")","v":"Weblink"},"Greenhaven Publishing","Paperback Book",1,"2011","January 2011","Paperback","6.000 X 9.000","Edited by","Laurie Willis",null,null,null,null,"Z",null,"Grade 10 - 12","Grade 9 - 12","Editor Laurie Willis helps readers to examine religious extremism and its impact on world events. She has compiled several viewpoint essays that provide readers with facts, but also opinions. By reading more than one intelligent viewpoint on each topic, readers will activate their critical thinking skills. Readers will evaluate Islamic extremism and its relation to terrorism, and take a look at religious extremism in the United States. They will explore how it can be countered and prevented. Essay sources include Samir Khalil Samir, Fareed Zakaria, Azeem Ibrahim, Carol Sarler, and Neil J. Kressel.","English",33.799999999999997,27.04,"303.48/4","208 pp.","https://greenhavenpublishing.com/978-0-7377-4965-6",{"$f":"Table1[[#This Row],['# of Books]]*Table1[[#This Row],[QTY]]","v":0},{"$f":"Table1[[#This Row],[QTY]]*Table1[[#This Row],[School & Library Price]]","v":0}]
[null,null,9,null,null,"Current Issues","Opposing Viewpoints","The Fashion Industry","978-0-7377-4512-2",{"$f":"HYPERLINK(Table1[[#This Row],[Hyperlink]],\"Weblink\")","v":"Weblink"},"Greenhaven Publishing","Library Bound Book",1,"2010","January 2010","Library","6.000 X 9.000","Edited by","Roman Espejo",null,null,null,null,"Z",null,"Grade 10 - 12","Grade 9 - 12","This collection of essays explores the issues and influence of the fashion industry, including lack of ethnic and size diversity in the design room and on the catwalk. Examines the impact of merchandise knockoffs on revenue, branding, and overall quality, as well as poverty and abuse in the \"new\" sweatshops. Discusses the relationship between eating disorders and the \"Size Zero\" fashion culture, and looks at \"green\" design as part of the fashion industry's future.","English",48.8,39.04,"338.4/774692","216 pp.","https://greenhavenpublishing.com/978-0-7377-4512-2",{"$f":"Table1[[#This Row],['# of Books]]*Table1[[#This Row],[QTY]]","v":0},{"$f":"Table1[[#This Row],[QTY]]*Table1[[#This Row],[School & Library Price]]","v":0}]
[null,null,9,null,null,"Current Issues","Opposing Viewpoints","The Federal Budget","978-0-7377-4769-0",{"$f":"HYPERLINK(Table1[[#This Row],[Hyperlink]],\"Weblink\")","v":"Weblink"},"Greenhaven Publishing","Library Bound Book",1,"2010","January 2010","Library","6.000 X 9.000","Edited by","Amanda Hiber",null,null,null,null,"Z",null,"Grade 10 - 12","Grade 9 - 12","This volume explores the effectiveness of the current federal budget process and potential areas for reform, including earmarks, supplemental appropriations, and PAYGO. It offers viewpoints on how best to raise federal revenues as well as how, and on what, they should be spent. It also examines the impact federal budget deficits have on the U.S. economy. The essays are in a pro versus con format, giving readers a balanced view.","English",48.8,39.04,"336.73--dc22","240 pp.","https://greenhavenpublishing.com/978-0-7377-4769-0",{"$f":"Table1[[#This Row],['# of Books]]*Table1[[#This Row],[QTY]]","v":0},{"$f":"Table1[[#This Row],[QTY]]*Table1[[#This Row],[School & Library Price]]","v":0}]
[null,null,9,null,null,"Current Issues","Opposing Viewpoints","For-Profit Education","978-0-7377-5837-5",{"$f":"HYPERLINK(Table1[[#This Row],[Hyperlink]],\"Weblink\")","v":"Weblink"},"Greenhaven Publishing","Paperback Book",1,"2012","January 2012","Paperback","6.000 X 9.000","Edited by","Mitchell Young",null,null,null,null,"Z",null,"Grade 10 - 12","Grade 9 - 12","This volume explores the topics relating to for-profit education. It presents varied expert opinions that examine many of the different aspects that comprise these issues. By evaluating divergent viewpoints, readers will activate their higher-level critical thinking and reading skills. Across four chapters, readers will examine whether for-profit education meets the needs of children, whether it meets the need of college students, whether it is a viable business model, and what the future may hold for American for-profit education. Essayists include Frederick M. Hess, Katherine Mangu-Ward, Brian Darling, Constance Gustke, and The Economist.","English",33.799999999999997,27.04,"378.73","224 pp.","https://greenhavenpublishing.com/978-0-7377-5837-5",{"$f":"Table1[[#This Row],['# of Books]]*Table1[[#This Row],[QTY]]","v":0},{"$f":"Table1[[#This Row],[QTY]]*Table1[[#This Row],[School & Library Price]]","v":0}]
[null,null,9,null,null,"Current Issues","Opposing Viewpoints","Gangs","978-0-7377-4366-1",{"$f":"HYPERLINK(Table1[[#This Row],[Hyperlink]],\"Weblink\")","v":"Weblink"},"Greenhaven Publishing","Library Bound Book",1,"2009","January 2009","Library","6.000 X 9.000","Edited by","Adela Soliz",null,null,null,null,"Z",null,"Grade 10 - 12","Grade 9 - 12","This book provides a compendium of viewpoints, both pro and con, on several issues relating to the prevalence of gangs in American society. Across four chapters, readers will evaluate whether gangs are widespread, what factors may drive people into gangs, what steps to prevention should be, and what the impact of gangs on society is. Essayist Eloisa Ruano Gonzalez explains that girl gang memberships is on the rise, while Joan Smith debates that this is exaggerated. Nicholas V. Lampson claims that gangs often traffic in drugs, while Trevor Bennett and Katy Holloway emphatically state that not all gang members are involved in drugs. By presenting your readers with divergent viewpoints about these and other gang-related topics, you are activating their critical-thinking skills to develop their own well-rounded opinions.\n\n","English",48.8,39.04,"364.106/6/0973","216 pp.","https://greenhavenpublishing.com/978-0-7377-4366-1",{"$f":"Table1[[#This Row],['# of Books]]*Table1[[#This Row],[QTY]]","v":0},{"$f":"Table1[[#This Row],[QTY]]*Table1[[#This Row],[School & Library Price]]","v":0}]
[null,null,10,null,null,"Current Issues","Opposing Viewpoints","Gateway Drugs","978-0-7377-4003-5",{"$f":"HYPERLINK(Table1[[#This Row],[Hyperlink]],\"Weblink\")","v":"Weblink"},"Greenhaven Publishing","Paperback Book",1,"2008","January 2008","Paperback","6.000 X 9.000","Edited by","Noël Merino",null,null,null,null,"Z",null,"Grade 10 - 12","Grade 9 - 12","This book provides several viewpoints that debate four essential questions relating to gateway drugs. Do certain drugs have a gateway effect? Are gateway drugs harmful? What is the relationship between gateway drugs and other drugs? What should society do about gateway drugs? Readers will garner information from for-or-against essays as each topic is explained. Essay sources include the Office of National Drug Control Policy, The National Center on Addiction and Substance Abuse at Columbia University, Rosie Boycott, and Joseph A. Califano, Jr.","English",33.799999999999997,27.04,"362.29","200 pp.","https://greenhavenpublishing.com/978-0-7377-4003-5",{"$f":"Table1[[#This Row],['# of Books]]*Table1[[#This Row],[QTY]]","v":0},{"$f":"Table1[[#This Row],[QTY]]*Table1[[#This Row],[School & Library Price]]","v":0}]
[null,null,10,null,null,"Current Issues","Opposing Viewpoints","Gay Parenting","978-0-7377-6422-2",{"$f":"HYPERLINK(Table1[[#This Row],[Hyperlink]],\"Weblink\")","v":"Weblink"},"Greenhaven Publishing","Library Bound Book",1,"2013","January 2013","Library","6.000 X 9.000","Edited by","Beth Rosenthal",null,null,null,null,"Z",null,"Grade 10 - 12","Grade 9 - 12","Editor Beth Rosenthal has arranged several compelling essays in a for-or-against sequence that provides readers with multiple perspectives about gay parenting. Readers will explore the impact of gay parenting on children, and the impact of gay families on society. They will evaluate what methods of parenthood should be available to same-sex partners. They will also examine the laws should regulate gay parenting. Essay sources include LifeSiteNews.com, Abbie Goldberg, Rich Mkhondo, and Sara Butler Nardo.","English",48.8,39.04,"306.874086/64","248 pp.","https://greenhavenpublishing.com/978-0-7377-6422-2",{"$f":"Table1[[#This Row],['# of Books]]*Table1[[#This Row],[QTY]]","v":0},{"$f":"Table1[[#This Row],[QTY]]*Table1[[#This Row],[School & Library Price]]","v":0}]
[null,null,10,null,null,"Current Issues","Opposing Viewpoints","Gendercide","978-0-7377-7004-9",{"$f":"HYPERLINK(Table1[[#This Row],[Hyperlink]],\"Weblink\")","v":"Weblink"},"Greenhaven Publishing","Library Bound Book",1,"2014","January 2014","Library","6.000 X 9.000","Edited by","Noah Berlatsky",null,null,null,null,"Z",null,"Grade 10 - 12","Grade 9 - 12","According to a U.N. estimate, up to 200 million women are missing in the world today due to gendercide. Gendercide is the systematic killing of members of a specific gender. The horrific idea, that if a baby will be a certain sex, it should be aborted or killed right after birth, is not a mere idea but a reality. This book tackles this overwhelmingly tough topic. Issues are debated from multiple viewpoints, provided by high-respected sources. Readers will evaluate the relationship between sex-selection abortion and gendercide, and the relationship between gender-related violence and genocide. Readers will also examine the stories of those who are the target of gendercide.","English",48.8,39.04,"305.3","224 pp.","https://greenhavenpublishing.com/978-0-7377-7004-9",{"$f":"Table1[[#This Row],['# of Books]]*Table1[[#This Row],[QTY]]","v":0},{"$f":"Table1[[#This Row],[QTY]]*Table1[[#This Row],[School & Library Price]]","v":0}]
[null,null,10,null,null,"Current Issues","Opposing Viewpoints","Genetic Engineering","978-0-7377-6425-3",{"$f":"HYPERLINK(Table1[[#This Row],[Hyperlink]],\"Weblink\")","v":"Weblink"},"Greenhaven Publishing","Paperback Book",1,"2013","January 2013","Paperback","6.000 X 9.000","Edited by","Noël Merino",null,null,null,null,"Z",null,"Grade 10 - 12","Grade 9 - 12","This timely volume explores the controversial subject of genetic engineering, by placing expert opinions in a unique pro versus con format. The viewpoints are selected from a wide range of highly respected sources and publications. By choosing from such diverse sources and including both popular and unpopular views, readers are exposed to many sides of a debate, which promotes issue awareness as well as critical thinking. Readers will evaluate the benefits and risks of genetic engineering, and the environmental impact of genetic engineering. They will explore the pros and cons of regulation of genetic engineering. Stellar essay sources include Barack Obama, Union of Concerned Scientists, Chuck Norris, and S. Matthew Liao.","English",33.799999999999997,27.04,"576.5","232 pp.","https://greenhavenpublishing.com/978-0-7377-6425-3",{"$f":"Table1[[#This Row],['# of Books]]*Table1[[#This Row],[QTY]]","v":0},{"$f":"Table1[[#This Row],[QTY]]*Table1[[#This Row],[School & Library Price]]","v":0}]
[null,null,10,null,null,"Current Issues","Opposing Viewpoints","Global Warming","978-0-7377-4631-0",{"$f":"HYPERLINK(Table1[[#This Row],[Hyperlink]],\"Weblink\")","v":"Weblink"},"Greenhaven Publishing","Library Bound Book",1,"2010","January 2010","Library","6.000 X 9.000","Edited by, Edited by, Edited by","David M. Haugen, Susan Musser, Kacy Lovelace",null,null,null,null,"Z",null,"Grade 10 - 12","Grade 9 - 12","This assembly of essays examines whether global warming is a real phenomenon or a myth, addressing possible causes like carbon dioxide, deforestation, melting permafrost, and livestock agriculture. Readers will evaluate the effects of global warming on the polar ice caps, polar bears, and human health. They'll consider some proposed strategies to mitigate the impact. Essay sources include Ralph Nader, Toby Heaps, Marisa Miller Wolfson, Michael Reagan, and Kassie Siegel.","English",48.8,39.04,"363.738/74","256 pp.","https://greenhavenpublishing.com/978-0-7377-4631-0",{"$f":"Table1[[#This Row],['# of Books]]*Table1[[#This Row],[QTY]]","v":0},{"$f":"Table1[[#This Row],[QTY]]*Table1[[#This Row],[School & Library Price]]","v":0}]
[null,null,10,null,null,"Current Issues","Opposing Viewpoints","Global Warming","978-0-7377-4632-7",{"$f":"HYPERLINK(Table1[[#This Row],[Hyperlink]],\"Weblink\")","v":"Weblink"},"Greenhaven Publishing","Paperback Book",1,"2010","January 2010","Paperback","6.000 X 9.000","Edited by, Edited by, Edited by","David M. Haugen, Susan Musser, Kacy Lovelace",null,null,null,null,"Z",null,"Grade 10 - 12","Grade 9 - 12","This assembly of essays examines whether global warming is a real phenomenon or a myth, addressing possible causes like carbon dioxide, deforestation, melting permafrost, and livestock agriculture. Readers will evaluate the effects of global warming on the polar ice caps, polar bears, and human health. They'll consider some proposed strategies to mitigate the impact. Essay sources include Ralph Nader, Toby Heaps, Marisa Miller Wolfson, Michael Reagan, and Kassie Siegel.","English",33.799999999999997,27.04,"363.738/74","256 pp.","https://greenhavenpublishing.com/978-0-7377-4632-7",{"$f":"Table1[[#This Row],['# of Books]]*Table1[[#This Row],[QTY]]","v":0},{"$f":"Table1[[#This Row],[QTY]]*Table1[[#This Row],[School & Library Price]]","v":0}]
[null,null,10,null,null,"Current Issues","Opposing Viewpoints","Gun Violence","978-0-7377-7268-5",{"$f":"HYPERLINK(Table1[[#This Row],[Hyperlink]],\"Weblink\")","v":"Weblink"},"Greenhaven Publishing","Library Bound Book",1,"2015","January 2015","Library","6.000 X 9.000","Edited by","Noël Merino",null,null,null,null,"Z",null,"Grade 10 - 12","Grade 9 - 12","This assembly of essays explores how the purchasing of firearms, background checks, and current firearm regulation are affecting the rate of gun related violence. Other topics include whether or not gun violence is on the rise and if there is cause for concern. This volume points to recent tragedies and statistical information to supplement varied and passionate viewpoints. Readers will use their critical thinking skills to develop their own intelligent viewpoints. Stellar essay sources include Mayors Against Illegal Guns, Ann Coulter, Dewey G. Cornell, Dave Kopel, and Moms Demand Action for Gun Sense in America.","English",48.8,39.04,"364.150973","208 pp.","https://greenhavenpublishing.com/978-0-7377-7268-5",{"$f":"Table1[[#This Row],['# of Books]]*Table1[[#This Row],[QTY]]","v":0},{"$f":"Table1[[#This Row],[QTY]]*Table1[[#This Row],[School & Library Price]]","v":0}]
[null,null,10,null,null,"Current Issues","Opposing Viewpoints","Hacking and Hackers","978-0-7377-6657-8",{"$f":"HYPERLINK(Table1[[#This Row],[Hyperlink]],\"Weblink\")","v":"Weblink"},"Greenhaven Publishing","Paperback Book",1,"2014","January 2014","Paperback","6.000 X 9.000","Edited by, Edited by","Margaret Haerens, Lynn M. Zott",null,null,null,null,"Z",null,"Grade 10 - 12","Grade 9 - 12","This hard-hitting collection of essays explores various issues related to hacking and hackers. Each essay is either for-or-against the issues being discussed. Readers are exposed to many sides of each debate, which promotes issue awareness as well as critical thinking. Four chapters debate these leading questions: What is the most effective way to combat hacking? Is hacktivism a serious threat? What is the significance of WikiLeaks? What is the role of government in hacking? Provide your readers with the opportunity to develop informed opinions about these questions.","English",33.799999999999997,27.04,"364.16/8","216 pp.","https://greenhavenpublishing.com/978-0-7377-6657-8",{"$f":"Table1[[#This Row],['# of Books]]*Table1[[#This Row],[QTY]]","v":0},{"$f":"Table1[[#This Row],[QTY]]*Table1[[#This Row],[School & Library Price]]","v":0}]
[null,null,10,null,null,"Current Issues","Opposing Viewpoints","High School Alternative Program","978-0-7377-7271-5",{"$f":"HYPERLINK(Table1[[#This Row],[Hyperlink]],\"Weblink\")","v":"Weblink"},"Greenhaven Publishing","Paperback Book",1,"2015","January 2015","Paperback","6.000 X 9.000","Edited by","Noah Berlatsky",null,null,null,null,"Z",null,"Grade 10 - 12","Grade 9 - 12","This fascinating volume of essays examines whether or not alternative programs can help at-risk and special needs students, what alternatives there are to those who do not obtain a high school diploma, whether or not Charter and Magnet schools are good alternatives to high school, and if online learning is a good alternative for high school students. Essay sources include the National Association of the Deaf, Glenn Harlan Reynolds, Nirvi Shah, Genevieve Siegel-Hawley, and Erica Frankenberg.","English",33.799999999999997,27.04,"371.04","232 pp.","https://greenhavenpublishing.com/978-0-7377-7271-5",{"$f":"Table1[[#This Row],['# of Books]]*Table1[[#This Row],[QTY]]","v":0},{"$f":"Table1[[#This Row],[QTY]]*Table1[[#This Row],[School & Library Price]]","v":0}]
[null,null,10,null,null,"Current Issues","Opposing Viewpoints","Homelessness","978-0-7377-5939-6",{"$f":"HYPERLINK(Table1[[#This Row],[Hyperlink]],\"Weblink\")","v":"Weblink"},"Greenhaven Publishing","Library Bound Book",1,"2012","January 2012","Library","6.000 X 9.000","Edited by","Tamara Thompson",null,null,null,null,"Z",null,"Grade 10 - 12","Grade 9 - 12","This essential resources discusses issues related to homelessness. Through a balanced collection of articles from a variety of sources, this book explores the seriousness of America's homeless problem, and factors that contribute to homelessness, such as the recession, mental illness, substance abuse, and domestic violence. Readers will evaluate housing policies, like vouchers and Housing First programs, that may benefit the homeless, and the government's role in addressing homelessness.","English",48.8,39.04,"362.5/920973","248 pp.","https://greenhavenpublishing.com/978-0-7377-5939-6",{"$f":"Table1[[#This Row],['# of Books]]*Table1[[#This Row],[QTY]]","v":0},{"$f":"Table1[[#This Row],[QTY]]*Table1[[#This Row],[School & Library Price]]","v":0}]
[null,null,10,null,null,"Current Issues","Opposing Viewpoints","Homosexuality","978-0-7377-6325-6",{"$f":"HYPERLINK(Table1[[#This Row],[Hyperlink]],\"Weblink\")","v":"Weblink"},"Greenhaven Publishing","Paperback Book",1,"2013","January 2013","Paperback","6.000 X 9.000","Edited by, Edited by","David M. Haugen, Susan Musser",null,null,null,null,"Z",null,"Grade 10 - 12","Grade 9 - 12","This book explores the controversy around homosexuality, covering the basis of homosexuality, same-sex marriage, and adoption. It places expert opinions in a unique pro versus con format. The viewpoints are selected from a wide range of highly respected sources and publications. By choosing from diverse sources and including both popular and unpopular views, readers are exposed to many sides of a debate, which promotes issue awareness as well as critical thinking.","English",33.799999999999997,27.04,"306.76/6","256 pp.","https://greenhavenpublishing.com/978-0-7377-6325-6",{"$f":"Table1[[#This Row],['# of Books]]*Table1[[#This Row],[QTY]]","v":0},{"$f":"Table1[[#This Row],[QTY]]*Table1[[#This Row],[School & Library Price]]","v":0}]
[null,null,10,null,null,"Current Issues","Opposing Viewpoints","Illegal Immigration","978-0-7377-7272-2",{"$f":"HYPERLINK(Table1[[#This Row],[Hyperlink]],\"Weblink\")","v":"Weblink"},"Greenhaven Publishing","Library Bound Book",1,"2015","January 2015","Library","6.000 X 9.000","Edited by","Noël Merino",null,null,null,null,"Z",null,"Grade 10 - 12","Grade 9 - 12","This volume debates the issue of illegal immigration. Readers analyze such topics as whether illegal immigration impacts the United States, how effective are policies to stop illegal immigration, are immigrants treated justly, and how U.S. immigration policy should be reformed. Essay sources include the Federation for American Immigration Reform, The Heritage Foundation Immigration and Border Security Reform Task Force, Eric Posner, Jessica M. Vaughan, Mark Krikorian, and Francisco Rivera-Batiz.","English",48.8,39.04,"325","216 pp.","https://greenhavenpublishing.com/978-0-7377-7272-2",{"$f":"Table1[[#This Row],['# of Books]]*Table1[[#This Row],[QTY]]","v":0},{"$f":"Table1[[#This Row],[QTY]]*Table1[[#This Row],[School & Library Price]]","v":0}]
[null,null,10,null,null,"Current Issues","Opposing Viewpoints","Immigration","978-0-7377-4523-8",{"$f":"HYPERLINK(Table1[[#This Row],[Hyperlink]],\"Weblink\")","v":"Weblink"},"Greenhaven Publishing","Paperback Book",1,"2009","January 2009","Paperback","6.000 X 9.000","Edited by, Edited by, Edited by","David M. Haugen, Susan Musser, Kacy Lovelace",null,null,null,null,"Z",null,"Grade 10 - 12","Grade 9 - 12","How does immigration affect the United States? How should the United States contend with its nonnative speakers? How should the United States deter illegal immigration? Does immigration threaten national security? These four queries are debated across the chapters of this book, within essays that are in a pro versus con sequence Readers will evaluate more than one perspective, allowing them to form a more balanced opinion. Essay sources include Donald J. Boudreaux, Shikha Dalmia,​ Margaret Adams, Vin Suprynowicz, Jessica M. Vaughan, Jan C. Ting.\n\n","English",33.799999999999997,27.04,"304.8/73","248 pp.","https://greenhavenpublishing.com/978-0-7377-4523-8",{"$f":"Table1[[#This Row],['# of Books]]*Table1[[#This Row],[QTY]]","v":0},{"$f":"Table1[[#This Row],[QTY]]*Table1[[#This Row],[School & Library Price]]","v":0}]
[null,null,10,null,null,"Current Issues","Opposing Viewpoints","The Impact of the Tech Giants","978-0-7377-7523-5",{"$f":"HYPERLINK(Table1[[#This Row],[Hyperlink]],\"Weblink\")","v":"Weblink"},"Greenhaven Publishing","Paperback Book",1,"2016","January 2016","Paperback","6.000 X 9.000","Edited by","Jack Lasky",null,null,null,null,"Z",null,"Grade 10 - 12","Grade 9 - 12","For decades, computer and technology companies have been the largest and most successful players in a global market. This volume examines the rise of the tech giants, and their effects worldwide. Readers will evaluate a sequence of essays in pro versus con format, that debate such topics as whether cloud computing is safe, whether tech products are overpriced, whether delivery drones are a good idea, and whether tech giants are environmentally friendly.","English",33.799999999999997,27.04,"338.4/760973","248 pp.","https://greenhavenpublishing.com/978-0-7377-7523-5",{"$f":"Table1[[#This Row],['# of Books]]*Table1[[#This Row],[QTY]]","v":0},{"$f":"Table1[[#This Row],[QTY]]*Table1[[#This Row],[School & Library Price]]","v":0}]
[null,null,10,null,null,"Current Issues","Opposing Viewpoints","Inflation","978-0-7377-6426-0",{"$f":"HYPERLINK(Table1[[#This Row],[Hyperlink]],\"Weblink\")","v":"Weblink"},"Greenhaven Publishing","Library Bound Book",1,"2013","January 2013","Library","6.000 X 9.000","Edited by","Noah Berlatsky",null,null,null,null,"Z",null,"Grade 10 - 12","Grade 9 - 12","This collection of essays explores the causes of inflation, whether inflation is dangerous, and what inflationary conditions pose the biggest threat to the economy. Essays are arranged in a for-or-against sequence so that readers benefit from more than one viewpoint. Essay sources include the Board of Governors of the Federal Reserve System, Shai Oster, Ha-Joon Chang, Karen H. Johnson, Oxford Analytical, and The Economist.","English",48.8,39.04,"332.4/1","176 pp.","https://greenhavenpublishing.com/978-0-7377-6426-0",{"$f":"Table1[[#This Row],['# of Books]]*Table1[[#This Row],[QTY]]","v":0},{"$f":"Table1[[#This Row],[QTY]]*Table1[[#This Row],[School & Library Price]]","v":0}]
[null,null,10,null,null,"Current Issues","Opposing Viewpoints","The Internet","978-0-7377-7555-6",{"$f":"HYPERLINK(Table1[[#This Row],[Hyperlink]],\"Weblink\")","v":"Weblink"},"Greenhaven Publishing","Paperback Book",1,"2016","January 2016","Paperback","6.000 X 9.000","Edited by","Jack Lasky",null,null,null,null,"Z",null,"Grade 10 - 12","Grade 9 - 12","The Internet is an amazing tool, but it has its controversies. Across four chapters, readers will evaluate how the internet should be governed, how it impacts the world, its challenges, and whether it can be dangerous. Essays are in a pro versus con sequence, allowing readers to explore both sides of the various debates.","English",33.799999999999997,27.04,"004.67/8","176 pp.","https://greenhavenpublishing.com/978-0-7377-7555-6",{"$f":"Table1[[#This Row],['# of Books]]*Table1[[#This Row],[QTY]]","v":0},{"$f":"Table1[[#This Row],[QTY]]*Table1[[#This Row],[School & Library Price]]","v":0}]
[null,null,11,null,null,"Current Issues","Opposing Viewpoints","Interventions","978-0-7377-6000-2",{"$f":"HYPERLINK(Table1[[#This Row],[Hyperlink]],\"Weblink\")","v":"Weblink"},"Greenhaven Publishing","Library Bound Book",1,"2012","January 2012","Library","6.000 X 9.000","Edited by","Susan C. Hunnicutt",null,null,null,null,"Z",null,"Grade 10 - 12","Grade 9 - 12","This book offers a comprehensive look at issues related to interventions. Through a balanced collection of articles from a variety of sources, readers will examine whether or not substance abuse remains a serious problem, whether interventions are effective and necessary, and who should be involved in substance abuse interventions. This book also discusses the popularity and implications of televising interventions.","English",48.8,39.04,"616.86/06","184 pp.","https://greenhavenpublishing.com/978-0-7377-6000-2",{"$f":"Table1[[#This Row],['# of Books]]*Table1[[#This Row],[QTY]]","v":0},{"$f":"Table1[[#This Row],[QTY]]*Table1[[#This Row],[School & Library Price]]","v":0}]
[null,null,11,null,null,"Current Issues","Opposing Viewpoints","Interventions","978-0-7377-6001-9",{"$f":"HYPERLINK(Table1[[#This Row],[Hyperlink]],\"Weblink\")","v":"Weblink"},"Greenhaven Publishing","Paperback Book",1,"2012","January 2012","Paperback","6.000 X 9.000","Edited by","Susan C. Hunnicutt",null,null,null,null,"Z",null,"Grade 10 - 12","Grade 9 - 12","This book offers a comprehensive look at issues related to interventions. Through a balanced collection of articles from a variety of sources, readers will examine whether or not substance abuse remains a serious problem, whether interventions are effective and necessary, and who should be involved in substance abuse interventions. This book also discusses the popularity and implications of televising interventions.","English",33.799999999999997,27.04,"616.86/06","184 pp.","https://greenhavenpublishing.com/978-0-7377-6001-9",{"$f":"Table1[[#This Row],['# of Books]]*Table1[[#This Row],[QTY]]","v":0},{"$f":"Table1[[#This Row],[QTY]]*Table1[[#This Row],[School & Library Price]]","v":0}]
[null,null,11,null,null,"Current Issues","Opposing Viewpoints","Iraq","978-0-7377-4525-2",{"$f":"HYPERLINK(Table1[[#This Row],[Hyperlink]],\"Weblink\")","v":"Weblink"},"Greenhaven Publishing","Paperback Book",1,"2009","January 2009","Paperback","6.000 X 9.000","Edited by, Edited by, Edited by","David M. Haugen, Susan Musser, Kacy Lovelace",null,null,null,null,"Z",null,"Grade 10 - 12","Grade 9 - 12","The U.S. is embroiled in complicated international politics with Iraq, including Donald Trump naming Iraq as one of the countries placed under a travel ban. This collection of essays presents several different viewpoints to various controversies relating to Iraq. It allows readers to juxtapose ideas and ferret through details to develop their own intelligent opinions. Topics include whether Iraq has a capable new government, whether police forces are reliable, and whether Iraq should be partitioned. Readers will evaluate whether the U.S. should withdraw its troops, and whether foreign occupation of Iraq is terrorism. Essay sources include George W. Bush, Joel Brinkley, Raheem Salman, Reidar Visser, and Mohammed Fadhil.","English",33.799999999999997,27.04,"956.7044/3","192 pp.","https://greenhavenpublishing.com/978-0-7377-4525-2",{"$f":"Table1[[#This Row],['# of Books]]*Table1[[#This Row],[QTY]]","v":0},{"$f":"Table1[[#This Row],[QTY]]*Table1[[#This Row],[School & Library Price]]","v":0}]
[null,null,11,null,null,"Current Issues","Opposing Viewpoints","Israel","978-0-7377-4974-8",{"$f":"HYPERLINK(Table1[[#This Row],[Hyperlink]],\"Weblink\")","v":"Weblink"},"Greenhaven Publishing","Library Bound Book",1,"2011","January 2011","Library","6.000 X 9.000","Edited by","Myra Immell",null,null,null,null,"Z",null,"Grade 10 - 12","Grade 9 - 12","An estimated 1 million notes are left in the Kotel each year, and cleaned out before Pesach and Rosh Hashanah. Israel is a place that is rich in faith and culture, but it does not exist without controversy. This thought-provoking collection of essays guides readers into various concepts and issues relating to Israel. Across four chapters, readers are asked to evaluate whether it should exist, what the key issues are of the Israeli-Palestinian conflict, whether peace is possible, and what the U.S. policy toward Israel should be. Stellar essay sources include Benjamin Netanyahu, King Abdullah II of Jordan, Middle East Quarterly, Charles Krauthammer, and Yehuda Avner.","English",48.8,39.04,"956.04","200 pp.","https://greenhavenpublishing.com/978-0-7377-4974-8",{"$f":"Table1[[#This Row],['# of Books]]*Table1[[#This Row],[QTY]]","v":0},{"$f":"Table1[[#This Row],[QTY]]*Table1[[#This Row],[School & Library Price]]","v":0}]
[null,null,11,null,null,"Current Issues","Opposing Viewpoints","Journalism","978-0-7377-6956-2",{"$f":"HYPERLINK(Table1[[#This Row],[Hyperlink]],\"Weblink\")","v":"Weblink"},"Greenhaven Publishing","Paperback Book",1,"2014","January 2014","Paperback","6.000 X 9.000","Edited by","Roman Espejo",null,null,null,null,"Z",null,"Grade 10 - 12","Grade 9 - 12","This volume discusses the changing face of journalism. The Internet has revolutionized the way we view media, and this text explores the ethical issues facing journalism today, how journalism should be practiced and journalists be protected, and the future of journalism in a rapidly evolving global Internet age. The viewpoints are selected from a wide range of highly respected sources and publications. Readers are exposed to many sides of each debate, which promotes issue awareness as well as critical thinking.","English",33.799999999999997,27.04,"070.909/05","248 pp.","https://greenhavenpublishing.com/978-0-7377-6956-2",{"$f":"Table1[[#This Row],['# of Books]]*Table1[[#This Row],[QTY]]","v":0},{"$f":"Table1[[#This Row],[QTY]]*Table1[[#This Row],[School & Library Price]]","v":0}]
[null,null,11,null,null,"Current Issues","Opposing Viewpoints","Judicial Activism","978-0-7377-5729-3",{"$f":"HYPERLINK(Table1[[#This Row],[Hyperlink]],\"Weblink\")","v":"Weblink"},"Greenhaven Publishing","Library Bound Book",1,"2012","January 2012","Library","6.000 X 9.000","Edited by","Noah Berlatsky",null,null,null,null,"Z",null,"Grade 10 - 12","Grade 9 - 12","This book answers four compelling queries about judicial activism: Is it harmful? How has it affected particular issues? What is its relationship with public opinion? Is judicial activism an issue in other countries? Essays are assembled so that they present more than one viewpoint for each topic discussed. Essayist Kermit Roosevelt claims judicial activism is not a useful concept while Dahlia Lithwick states the opposite is true. Pakistan Press International states that judicial activism is needed in Pakistan, while Amir Mir states that this may lead to military intervention. Your readers will be intrigued by this collection of essays.","English",48.8,39.04,"347.73/12","208 pp.","https://greenhavenpublishing.com/978-0-7377-5729-3",{"$f":"Table1[[#This Row],['# of Books]]*Table1[[#This Row],[QTY]]","v":0},{"$f":"Table1[[#This Row],[QTY]]*Table1[[#This Row],[School & Library Price]]","v":0}]
[null,null,11,null,null,"Current Issues","Opposing Viewpoints","Legal System","978-0-7377-3757-8",{"$f":"HYPERLINK(Table1[[#This Row],[Hyperlink]],\"Weblink\")","v":"Weblink"},"Greenhaven Publishing","Library Bound Book",1,"2008","January 2008","Library","6.000 X 9.000","Edited by","Clare Hanrahan",null,null,null,null,"Z",null,"Grade 10 - 12","Grade 9 - 12","Our legal system was founded on principles from a long time ago, but the nation's forefathers were able to build a system that could grow through time. As new facets of life emerge, the legal system must wrap itself around any related issues. This collection of essays debates several issues relating to our legal system. Presented in a pro versus con format, readers navigate through each essay and counter essay to evaluate what they're learning. Four chapters debate whether the legal system is in jeopardy, whether the jury system works, whether the criminal justice system is fair, and what role the media should play in the system.","English",48.8,39.04,"347.73","240 pp.","https://greenhavenpublishing.com/978-0-7377-3757-8",{"$f":"Table1[[#This Row],['# of Books]]*Table1[[#This Row],[QTY]]","v":0},{"$f":"Table1[[#This Row],[QTY]]*Table1[[#This Row],[School & Library Price]]","v":0}]
[null,null,11,null,null,"Current Issues","Opposing Viewpoints","The Legalization of Marijuana","978-0-7377-7557-0",{"$f":"HYPERLINK(Table1[[#This Row],[Hyperlink]],\"Weblink\")","v":"Weblink"},"Greenhaven Publishing","Paperback Book",1,"2016","January 2016","Paperback","6.000 X 9.000","Edited by","Noël Merino",null,null,null,null,"Z",null,"Grade 10 - 12","Grade 9 - 12","The national debate over the legalization of marijuana is heating up as states begin to legalize its use for medicinal and recreational purposes. This volume deepens the discussion on marijuana; should it be legal or not? Does it help or harm users? Should medicinal use only be allowed? Answers to these questions will be debated for years to come, but this collection of essays, in a pro versus con sequence, will help readers make up their own minds now.","English",33.799999999999997,27.04,"364.1/77","240 pp.","https://greenhavenpublishing.com/978-0-7377-7557-0",{"$f":"Table1[[#This Row],['# of Books]]*Table1[[#This Row],[QTY]]","v":0},{"$f":"Table1[[#This Row],[QTY]]*Table1[[#This Row],[School & Library Price]]","v":0}]
[null,null,11,null,null,"Current Issues","Opposing Viewpoints","Marijuana","978-0-7377-5733-0",{"$f":"HYPERLINK(Table1[[#This Row],[Hyperlink]],\"Weblink\")","v":"Weblink"},"Greenhaven Publishing","Library Bound Book",1,"2012","January 2012","Library","6.000 X 9.000","Edited by","Noah Berlatsky",null,null,null,null,"Z",null,"Grade 10 - 12","Grade 9 - 12","Editor Noah Berlatsky has compiled a series of essays in which authors debate various issues relating to marijuana. Readers will evaluate whether marijuana is addictive and is linked to harder drugs, whether medical marijuana can help in the treatment of pain, and whether recreational use of marijuana should be legalized.","English",48.8,39.04,"362.29/50973","224 pp.","https://greenhavenpublishing.com/978-0-7377-5733-0",{"$f":"Table1[[#This Row],['# of Books]]*Table1[[#This Row],[QTY]]","v":0},{"$f":"Table1[[#This Row],[QTY]]*Table1[[#This Row],[School & Library Price]]","v":0}]
[null,null,11,null,null,"Current Issues","Opposing Viewpoints","Marijuana","978-0-7377-5734-7",{"$f":"HYPERLINK(Table1[[#This Row],[Hyperlink]],\"Weblink\")","v":"Weblink"},"Greenhaven Publishing","Paperback Book",1,"2012","January 2012","Paperback","6.000 X 9.000","Edited by","Noah Berlatsky",null,null,null,null,"Z",null,"Grade 10 - 12","Grade 9 - 12","Editor Noah Berlatsky has compiled a series of essays in which authors debate various issues relating to marijuana. Readers will evaluate whether marijuana is addictive and is linked to harder drugs, whether medical marijuana can help in the treatment of pain, and whether recreational use of marijuana should be legalized.","English",33.799999999999997,27.04,"362.29/50973","224 pp.","https://greenhavenpublishing.com/978-0-7377-5734-7",{"$f":"Table1[[#This Row],['# of Books]]*Table1[[#This Row],[QTY]]","v":0},{"$f":"Table1[[#This Row],[QTY]]*Table1[[#This Row],[School & Library Price]]","v":0}]
[null,null,11,null,null,"Current Issues","Opposing Viewpoints","Medical Marijuana","978-0-7377-6056-9",{"$f":"HYPERLINK(Table1[[#This Row],[Hyperlink]],\"Weblink\")","v":"Weblink"},"Greenhaven Publishing","Library Bound Book",1,"2013","January 2013","Library","6.000 X 9.000","Edited by, Edited by","Margaret Haerens, Lynn M. Zott",null,null,null,null,"Z",null,"Grade 10 - 12","Grade 9 - 12","The legality of medical marijuana continues to provoke controversy and face challenges. This book addresses the various facets of the debate, including whether medical marijuana should be legal, and if medical marijuana is good for society. Readers will explore how access to medical marijuana should be managed, and the legal rights of patients using medical marijuana, in terms of such issues as driving, gun rights, and employment.","English",48.8,39.04,"615.7/8270973","224 pp.","https://greenhavenpublishing.com/978-0-7377-6056-9",{"$f":"Table1[[#This Row],['# of Books]]*Table1[[#This Row],[QTY]]","v":0},{"$f":"Table1[[#This Row],[QTY]]*Table1[[#This Row],[School & Library Price]]","v":0}]
[null,null,11,null,null,"Current Issues","Opposing Viewpoints","Medical Testing","978-0-7377-6959-3",{"$f":"HYPERLINK(Table1[[#This Row],[Hyperlink]],\"Weblink\")","v":"Weblink"},"Greenhaven Publishing","Library Bound Book",1,"2014","January 2014","Library","6.000 X 9.000","Edited by","Noël Merino",null,null,null,null,"Z",null,"Grade 10 - 12","Grade 9 - 12","This thought-provoking book examines concerns regarding the testing of new medicine, how medical testing on humans and animals should be regulated, concerns about diagnostic medical tests, and concerns about genetic testing. Essays are sequenced in a pro versus con format, providing more than one viewpoint. The viewpoints are selected from a wide range of highly respected sources and publications. Essay sources include the National Cancer Institute, National Institutes of Health, Presidential Commission for the Study of Bioethical Issues, People for the Ethical Treatment of Animals, and Americans for Medical Progress.","English",48.8,39.04,"615.1072/4","224 pp.","https://greenhavenpublishing.com/978-0-7377-6959-3",{"$f":"Table1[[#This Row],['# of Books]]*Table1[[#This Row],[QTY]]","v":0},{"$f":"Table1[[#This Row],[QTY]]*Table1[[#This Row],[School & Library Price]]","v":0}]
[null,null,11,null,null,"Current Issues","Opposing Viewpoints","Mental Illness","978-0-7377-7513-6",{"$f":"HYPERLINK(Table1[[#This Row],[Hyperlink]],\"Weblink\")","v":"Weblink"},"Greenhaven Publishing","Paperback Book",1,"2016","January 2016","Paperback","6.000 X 9.000","Edited by","Noah Berlatsky",null,null,null,null,"Z",null,"Grade 10 - 12","Grade 9 - 12","What causes mental illness? How should mental illness be treated? Is involuntary treatment for the mentally ill ethical? What are the issues surrounding violence and the mentally ill? These four queries are supported and debated by a fascinating collection of primary sources and essays. Viewpoints and counterpoints are provided so that readers can evaluate more than one perspective. Essay sources include Rachel V. Israeli, Margarita Tartakovsky, E. Fuller Torrey, and Sam Vaknin.","English",33.799999999999997,27.04,"616.89","224 pp.","https://greenhavenpublishing.com/978-0-7377-7513-6",{"$f":"Table1[[#This Row],['# of Books]]*Table1[[#This Row],[QTY]]","v":0},{"$f":"Table1[[#This Row],[QTY]]*Table1[[#This Row],[School & Library Price]]","v":0}]
[null,null,11,null,null,"Current Issues","Opposing Viewpoints","Mexico","978-0-7377-5737-8",{"$f":"HYPERLINK(Table1[[#This Row],[Hyperlink]],\"Weblink\")","v":"Weblink"},"Greenhaven Publishing","Library Bound Book",1,"2012","January 2012","Library","6.000 X 9.000","Edited by, Edited by","David M. Haugen, Susan Musser",null,null,null,null,"Z",null,"Grade 10 - 12","Grade 9 - 12","This book provides a collection of essays discussing Mexico, highlighting its instability, economy, common border, and foreign relations with the United States. Essays are arranged in a pro versus con sequence, so readers are navigated through the issues while benefiting from more than one viewpoint. Are Mexican drug cartels destabilizing democracy in Mexico? Does N.A.F.T.A. hurt the Mexican economy? Will a U.S. border fence deter illegal immigration? Can the U.S. do anything to help Mexico? These questions and more are answered through thoughtful points and counterpoints.","English",48.8,39.04,"306.0972/09051","264 pp.","https://greenhavenpublishing.com/978-0-7377-5737-8",{"$f":"Table1[[#This Row],['# of Books]]*Table1[[#This Row],[QTY]]","v":0},{"$f":"Table1[[#This Row],[QTY]]*Table1[[#This Row],[School & Library Price]]","v":0}]
[null,null,11,null,null,"Current Issues","Opposing Viewpoints","The Middle East","978-0-7377-4533-7",{"$f":"HYPERLINK(Table1[[#This Row],[Hyperlink]],\"Weblink\")","v":"Weblink"},"Greenhaven Publishing","Paperback Book",1,"2009","January 2009","Paperback","6.000 X 9.000","Edited by, Edited by, Edited by","David M. Haugen, Susan Musser, Kacy Lovelace",null,null,null,null,"Z",null,"Grade 10 - 12","Grade 9 - 12","Undoubtedly true, the Middle East is a complicated place, with complicated politics, relations, and peoples. Three series editors have carefully compiled amazing essays that explore various issues related to the Middle East, so that readers can evaluate the facts and form their own opinions. Across four chapters, readers will explore how the United States should be involved, whether peace negotiations are possible, whether Iran is a threat as a nuclear power, and which areas are or are not breeding terrorists.","English",33.799999999999997,27.04,"327.73056","264 pp.","https://greenhavenpublishing.com/978-0-7377-4533-7",{"$f":"Table1[[#This Row],['# of Books]]*Table1[[#This Row],[QTY]]","v":0},{"$f":"Table1[[#This Row],[QTY]]*Table1[[#This Row],[School & Library Price]]","v":0}]
[null,null,12,null,null,"Current Issues","Opposing Viewpoints","Militias","978-0-7377-5739-2",{"$f":"HYPERLINK(Table1[[#This Row],[Hyperlink]],\"Weblink\")","v":"Weblink"},"Greenhaven Publishing","Library Bound Book",1,"2012","January 2012","Library","6.000 X 9.000","Edited by","Noah Berlatsky",null,null,null,null,"Z",null,"Grade 10 - 12","Grade 9 - 12","This must-have book focuses on the topic of militias. It includes a balanced selection of articles on whether or not militias pose a danger, and it examines the groups and organizations linked to the militia movement, such as the NRA, Libertarians, and the Tea Party. Readers will explore the relationship between the militia movement and constitutional militias, and the relationship between Christianity and militias. Essay sources include The Army National Guard, Artemis Gordon Glidden, Sarah Posner, Julie Ingersoll, and Robert H. Churchill.","English",48.8,39.04,"303.48/4","240 pp.","https://greenhavenpublishing.com/978-0-7377-5739-2",{"$f":"Table1[[#This Row],['# of Books]]*Table1[[#This Row],[QTY]]","v":0},{"$f":"Table1[[#This Row],[QTY]]*Table1[[#This Row],[School & Library Price]]","v":0}]
[null,null,12,null,null,"Current Issues","Opposing Viewpoints","The Millennial Generation","978-0-7377-6326-3",{"$f":"HYPERLINK(Table1[[#This Row],[Hyperlink]],\"Weblink\")","v":"Weblink"},"Greenhaven Publishing","Library Bound Book",1,"2013","January 2013","Library","6.000 X 9.000","Edited by, Edited by","David M. Haugen, Susan Musser",null,null,null,null,"Z",null,"Grade 10 - 12","Grade 9 - 12","This volume explores topics relating to the millennial generation, also known as Generation Y, which typically refers to people with birth dates from the late 1970s to the early 2000s. Readers are presented with varied expert opinions that provide a for-or-against sequence of information for the reader to analyze. Across four chapters, essays debate whether this generation is narcissistic, whether they are motivated and well educated, what social factors are shaping them, and what sort of impact they will have on the future.","English",48.8,39.04,"305.235","216 pp.","https://greenhavenpublishing.com/978-0-7377-6326-3",{"$f":"Table1[[#This Row],['# of Books]]*Table1[[#This Row],[QTY]]","v":0},{"$f":"Table1[[#This Row],[QTY]]*Table1[[#This Row],[School & Library Price]]","v":0}]
[null,null,12,null,null,"Current Issues","Opposing Viewpoints","The Minimum Wage","978-0-7377-5742-2",{"$f":"HYPERLINK(Table1[[#This Row],[Hyperlink]],\"Weblink\")","v":"Weblink"},"Greenhaven Publishing","Paperback Book",1,"2012","January 2012","Paperback","6.000 X 9.000","Edited by","Noah Berlatsky",null,null,null,null,"Z",null,"Grade 10 - 12","Grade 9 - 12","Articles collected in this edition discuss the minimum wage in a sequence of pro versus con viewpoints. This book includes a balanced selection of articles that address the impact of the minimum wage on workers, businesses, and the overall economy. Included articles also discuss how the minimum wage impacts immigration in the United States, and a variety issues related to the minimum wage in other countries, including Canada, China and Egypt.","English",33.799999999999997,27.04,"331.2/30973","216 pp.","https://greenhavenpublishing.com/978-0-7377-5742-2",{"$f":"Table1[[#This Row],['# of Books]]*Table1[[#This Row],[QTY]]","v":0},{"$f":"Table1[[#This Row],[QTY]]*Table1[[#This Row],[School & Library Price]]","v":0}]
[null,null,12,null,null,"Current Issues","Opposing Viewpoints","Nanotechnology","978-0-7377-6961-6",{"$f":"HYPERLINK(Table1[[#This Row],[Hyperlink]],\"Weblink\")","v":"Weblink"},"Greenhaven Publishing","Library Bound Book",1,"2014","January 2014","Library","6.000 X 9.000","Edited by","Noah Berlatsky",null,null,null,null,"Z",null,"Grade 10 - 12","Grade 9 - 12","This book addresses various issues related to nanotechnology. Readers will analyze the relationship between public perception and nanotechnology, and how nanotechnology will affect health, the environment, and international relations. The viewpoints are selected from a wide range of highly respected sources and publications. Essays are arranged in a for-or-against format, which allows readers to activate their critical thinking skills while learning new information. Essayists include Susanna Priest, Ian Illuminato, Miguel Esteban, Christian Webersik, David Leary, and Dexter Thompson-Pomeroy.","English",48.8,39.04,"620/.5","232 pp.","https://greenhavenpublishing.com/978-0-7377-6961-6",{"$f":"Table1[[#This Row],['# of Books]]*Table1[[#This Row],[QTY]]","v":0},{"$f":"Table1[[#This Row],[QTY]]*Table1[[#This Row],[School & Library Price]]","v":0}]
[null,null,12,null,null,"Current Issues","Opposing Viewpoints","Nation-Building","978-0-7377-3895-7",{"$f":"HYPERLINK(Table1[[#This Row],[Hyperlink]],\"Weblink\")","v":"Weblink"},"Greenhaven Publishing","Paperback Book",1,"2008","January 2008","Paperback","6.000 X 9.000","Edited by","Michael Logan",null,null,null,null,"Z",null,"Grade 10 - 12","Grade 9 - 12","Political theorists have long debated about the impact of nation-building, or setting up an established governing entity in areas where factions rule. This exciting book peels back the complicated layers for readers, exposing them to several viewpoint regarding the controversies of nation-building. Across four chapters, readers will examine whether nation-building is justified, whether it can combat terrorism, whether nation-building in Iraq will work, and whether nation-building can succeed in the 21st century world.","English",33.799999999999997,27.04,"355.02/8","288 pp.","https://greenhavenpublishing.com/978-0-7377-3895-7",{"$f":"Table1[[#This Row],['# of Books]]*Table1[[#This Row],[QTY]]","v":0},{"$f":"Table1[[#This Row],[QTY]]*Table1[[#This Row],[School & Library Price]]","v":0}]
[null,null,12,null,null,"Current Issues","Opposing Viewpoints","Native Americans","978-0-7377-5444-5",{"$f":"HYPERLINK(Table1[[#This Row],[Hyperlink]],\"Weblink\")","v":"Weblink"},"Greenhaven Publishing","Library Bound Book",1,"2012","January 2012","Library","6.000 X 9.000","Edited by, Edited by","Lynn M. Zott, Mitchell Young",null,null,null,null,"Z",null,"Grade 10 - 12","Grade 9 - 12","During the 1800s, tens of thousands of American Indians were removed or forced from their lands by the American government. Several tribes and cultural strengths were washed away. Fortunately, Native America peoples still exist today, though they are still a disenfranchised culture. This essential volume explores issues related to Native Americans, including key conflicts that still exist between the United States and tribal governments. Topics covered include the impact of discrimination on Native American culture, the current economic factors of concern to Native Americans, and how disputes over natural resources and cultural artifacts affect Native Americans.","English",48.8,39.04,"970.004/97","240 pp.","https://greenhavenpublishing.com/978-0-7377-5444-5",{"$f":"Table1[[#This Row],['# of Books]]*Table1[[#This Row],[QTY]]","v":0},{"$f":"Table1[[#This Row],[QTY]]*Table1[[#This Row],[School & Library Price]]","v":0}]
[null,null,12,null,null,"Current Issues","Opposing Viewpoints","Natural Disasters","978-0-7377-6061-3",{"$f":"HYPERLINK(Table1[[#This Row],[Hyperlink]],\"Weblink\")","v":"Weblink"},"Greenhaven Publishing","Paperback Book",1,"2013","January 2013","Paperback","6.000 X 9.000","Edited by, Edited by","Margaret Haerens, Lynn M. Zott",null,null,null,null,"Z",null,"Grade 10 - 12","Grade 9 - 12","This fascinating volume explores the topic of natural disasters by presenting varied expert opinions that examine many of the different aspects that surround this issue. The essays investigate topics such as the factors leading to the frequency of natural disasters, controversies surrounding disaster relief efforts, the government's role in natural disaster relief, and the media's coverage of natural disasters.","English",33.799999999999997,27.04,"363.34","240 pp.","https://greenhavenpublishing.com/978-0-7377-6061-3",{"$f":"Table1[[#This Row],['# of Books]]*Table1[[#This Row],[QTY]]","v":0},{"$f":"Table1[[#This Row],[QTY]]*Table1[[#This Row],[School & Library Price]]","v":0}]
[null,null,12,null,null,"Current Issues","Opposing Viewpoints","Natural Gas","978-0-7377-7277-7",{"$f":"HYPERLINK(Table1[[#This Row],[Hyperlink]],\"Weblink\")","v":"Weblink"},"Greenhaven Publishing","Paperback Book",1,"2015","January 2015","Paperback","6.000 X 9.000","Edited by","Dedria Bryfonski",null,null,null,null,"Z",null,"Grade 10 - 12","Grade 9 - 12","This collection of essays debate several issues relating to natural gas. Readers will examine the potential benefits and dangers of Fracking, whether or not the United states needs more gas pipeline capacity, if the United States should export natural gas, and the risk and value of permitting offshore drilling. Essay sources include the U.S. House of Representatives Natural Resources Committee Democratic Staff, James Herron, Alexis Flynn, and Sara Kent. Readers will activate their critical thinking skills as they evaluate two or more viewpoints to each topic discussed.","English",33.799999999999997,27.04,"333.8/2330973","264 pp.","https://greenhavenpublishing.com/978-0-7377-7277-7",{"$f":"Table1[[#This Row],['# of Books]]*Table1[[#This Row],[QTY]]","v":0},{"$f":"Table1[[#This Row],[QTY]]*Table1[[#This Row],[School & Library Price]]","v":0}]
[null,null,12,null,null,"Current Issues","Opposing Viewpoints","North and South Korea","978-0-7377-6963-0",{"$f":"HYPERLINK(Table1[[#This Row],[Hyperlink]],\"Weblink\")","v":"Weblink"},"Greenhaven Publishing","Library Bound Book",1,"2014","January 2014","Library","6.000 X 9.000","Edited by","Noah Berlatsky",null,null,null,null,"Z",null,"Grade 10 - 12","Grade 9 - 12","Readers will explore issues related to North Korea and South Korea. Through a balanced collection of articles from a variety of sources, this book explores the relationship between the Koreas, and the relationship between the Koreas and the world. Readers will evaluate whether North Korea presents a serious threat to the world, and what human rights issues exist in North Korea and South Korea. The viewpoints are selected from a wide range of highly respected sources and publications. Readers are exposed to many sides of a debate, which promotes issue awareness as well as critical thinking.\n","English",48.8,39.04,"951.904","216 pp.","https://greenhavenpublishing.com/978-0-7377-6963-0",{"$f":"Table1[[#This Row],['# of Books]]*Table1[[#This Row],[QTY]]","v":0},{"$f":"Table1[[#This Row],[QTY]]*Table1[[#This Row],[School & Library Price]]","v":0}]
[null,null,12,null,null,"Current Issues","Opposing Viewpoints","Nuclear Power","978-0-7377-6063-7",{"$f":"HYPERLINK(Table1[[#This Row],[Hyperlink]],\"Weblink\")","v":"Weblink"},"Greenhaven Publishing","Paperback Book",1,"2013","January 2013","Paperback","6.000 X 9.000","Edited by, Edited by","Lynn M. Zott, Helga Schier",null,null,null,null,"Z",null,"Grade 10 - 12","Grade 9 - 12","This volume explores how the risks of nuclear power can be managed, including risks from natural disasters and terrorist groups, whether nuclear power is good for the environment, and if nuclear power is an economical source of energy. Fantastic essay sources include the World Nuclear Association, Union of Concerned Scientists, Natural Resources Defense Council, and the Nuclear Energy Institute.","English",33.799999999999997,27.04,"333.7924","256 pp.","https://greenhavenpublishing.com/978-0-7377-6063-7",{"$f":"Table1[[#This Row],['# of Books]]*Table1[[#This Row],[QTY]]","v":0},{"$f":"Table1[[#This Row],[QTY]]*Table1[[#This Row],[School & Library Price]]","v":0}]
[null,null,12,null,null,"Current Issues","Opposing Viewpoints","Nutrition","978-0-7377-5751-4",{"$f":"HYPERLINK(Table1[[#This Row],[Hyperlink]],\"Weblink\")","v":"Weblink"},"Greenhaven Publishing","Library Bound Book",1,"2012","January 2012","Library","6.000 X 9.000","Edited by, Edited by","David M. Haugen, Susan Musser",null,null,null,null,"Z",null,"Grade 10 - 12","Grade 9 - 12","This collection of essays are arranged in a for-or-against sequence, which provides readers with a balanced understanding of issues relating to nutrition. Across four chapters, readers will explore how nutrition has changed from modern food production, what should be done to improve nutrition, what influence societal factors have on it, and what personal nutrition and dietary choices impact health.","English",48.8,39.04,"613.20973","240 pp.","https://greenhavenpublishing.com/978-0-7377-5751-4",{"$f":"Table1[[#This Row],['# of Books]]*Table1[[#This Row],[QTY]]","v":0},{"$f":"Table1[[#This Row],[QTY]]*Table1[[#This Row],[School & Library Price]]","v":0}]
[null,null,12,null,null,"Current Issues","Opposing Viewpoints","Offshore Drilling","978-0-7377-4780-5",{"$f":"HYPERLINK(Table1[[#This Row],[Hyperlink]],\"Weblink\")","v":"Weblink"},"Greenhaven Publishing","Paperback Book",1,"2010","January 2010","Paperback","6.000 X 9.000","Edited by","Margaret Haerens",null,null,null,null,"Z",null,"Grade 10 - 12","Grade 9 - 12","The current U.S. oil consumption is 21 million barrels per day; we are heavily reliant on offshore drilling to keep up with our consumption. This essential volume poses questions and provides answers from both sides of each debate. Readers hear pro versus con facts and figures, and are able to use critical thinking skills to form their own views. Essays debate the benefits, consequences, and government policies of offshore drilling. Fantastic essay sources include the Natural Resources Defense Council, Oceana, Newt Gingrich, and Humberto Fontova.","English",33.799999999999997,27.04,"333.8/232","248 pp.","https://greenhavenpublishing.com/978-0-7377-4780-5",{"$f":"Table1[[#This Row],['# of Books]]*Table1[[#This Row],[QTY]]","v":0},{"$f":"Table1[[#This Row],[QTY]]*Table1[[#This Row],[School & Library Price]]","v":0}]
[null,null,12,null,null,"Current Issues","Opposing Viewpoints","Organ Donation","978-0-7377-6333-1",{"$f":"HYPERLINK(Table1[[#This Row],[Hyperlink]],\"Weblink\")","v":"Weblink"},"Greenhaven Publishing","Paperback Book",1,"2013","January 2013","Paperback","6.000 X 9.000","Edited by","Laura K. Egendorf",null,null,null,null,"Z",null,"Grade 10 - 12","Grade 9 - 12","This volume addresses controversial questions regarding the issue of organ donation, including body parts as property, selling organs, and the need to increase donations. The viewpoints are selected from a wide range of highly respected publications. They are arranged in a pro versus con format to provide a balanced study. Readers are exposed to many sides of a debate, which promotes issue awareness as well as critical thinking. Essay sources include The Economist, St. Louis Post-Dispatch, and the United States Government Accountability Office.","English",33.799999999999997,27.04,"362.17/83","184 pp.","https://greenhavenpublishing.com/978-0-7377-6333-1",{"$f":"Table1[[#This Row],['# of Books]]*Table1[[#This Row],[QTY]]","v":0},{"$f":"Table1[[#This Row],[QTY]]*Table1[[#This Row],[School & Library Price]]","v":0}]
[null,null,12,null,null,"Current Issues","Opposing Viewpoints","Pacifism","978-0-7377-5229-8",{"$f":"HYPERLINK(Table1[[#This Row],[Hyperlink]],\"Weblink\")","v":"Weblink"},"Greenhaven Publishing","Library Bound Book",1,"2011","January 2011","Library","6.000 X 9.000","Edited by","Noah Berlatsky",null,null,null,null,"Z",null,"Grade 10 - 12","Grade 9 - 12","This volume explores the topics relating to pacifism by presenting varied expert opinions that examine many of the different aspects that comprise these issues. The selected articles discuss many aspects relating to people who do not think war or violence is a good way to stop a fight or to get ahead of someone, especially in terms of war and the military. The viewpoints are selected from a wide range of highly respected sources and publications. This allows your readers to attain the higher-level critical thinking and reading skills that are essential in a culture of diverse and contradictory opinions.","English",48.8,39.04,"303.6/6--dc23","232 pp.","https://greenhavenpublishing.com/978-0-7377-5229-8",{"$f":"Table1[[#This Row],['# of Books]]*Table1[[#This Row],[QTY]]","v":0},{"$f":"Table1[[#This Row],[QTY]]*Table1[[#This Row],[School & Library Price]]","v":0}]
[null,null,12,null,null,"Current Issues","Opposing Viewpoints","Pacifism","978-0-7377-5230-4",{"$f":"HYPERLINK(Table1[[#This Row],[Hyperlink]],\"Weblink\")","v":"Weblink"},"Greenhaven Publishing","Paperback Book",1,"2011","January 2011","Paperback","6.000 X 9.000","Edited by","Noah Berlatsky",null,null,null,null,"Z",null,"Grade 10 - 12","Grade 9 - 12","This volume explores the topics relating to pacifism by presenting varied expert opinions that examine many of the different aspects that comprise these issues. The selected articles discuss many aspects relating to people who do not think war or violence is a good way to stop a fight or to get ahead of someone, especially in terms of war and the military. The viewpoints are selected from a wide range of highly respected sources and publications. This allows your readers to attain the higher-level critical thinking and reading skills that are essential in a culture of diverse and contradictory opinions.","English",33.799999999999997,27.04,"303.6/6--dc23","232 pp.","https://greenhavenpublishing.com/978-0-7377-5230-4",{"$f":"Table1[[#This Row],['# of Books]]*Table1[[#This Row],[QTY]]","v":0},{"$f":"Table1[[#This Row],[QTY]]*Table1[[#This Row],[School & Library Price]]","v":0}]
[null,null,12,null,null,"Current Issues","Opposing Viewpoints","Paranormal Phenomena","978-0-7377-6334-8",{"$f":"HYPERLINK(Table1[[#This Row],[Hyperlink]],\"Weblink\")","v":"Weblink"},"Greenhaven Publishing","Library Bound Book",1,"2013","January 2013","Library","6.000 X 9.000","Edited by","Roman Espejo",null,null,null,null,"Z",null,"Grade 10 - 12","Grade 9 - 12","This volume explores the topic of paranormal phenomena by presenting varied expert opinions that examine many of the different aspects that surround this issue. The essays investigate topics such as the existence of ghosts, psychic abilities, reincarnation, and extraterrestrial spacecraft. Scientists, parapsychologists, theologians, and others consider whether research and study of the paranormal is scientifically viable. The viewpoints are selected from a wide range of highly respected sources and publications. It allows the reader to attain the higher-level critical thinking and reading skills that are essential in a culture of diverse and contradictory opinions.","English",48.8,39.04,"130","192 pp.","https://greenhavenpublishing.com/978-0-7377-6334-8",{"$f":"Table1[[#This Row],['# of Books]]*Table1[[#This Row],[QTY]]","v":0},{"$f":"Table1[[#This Row],[QTY]]*Table1[[#This Row],[School & Library Price]]","v":0}]
[null,null,12,null,null,"Current Issues","Opposing Viewpoints","Performance-Enhancing Drugs","978-0-7377-7281-4",{"$f":"HYPERLINK(Table1[[#This Row],[Hyperlink]],\"Weblink\")","v":"Weblink"},"Greenhaven Publishing","Paperback Book",1,"2015","January 2015","Paperback","6.000 X 9.000","Edited by","Roman Espejo",null,null,null,null,"Z",null,"Grade 10 - 12","Grade 9 - 12","Pulling from a wide range of highly respected sources and publications, this collection of essays tackles the topic of performance-enhancing drugs. Readers take a look at whether or not the use of performance-enhancing drugs should be accepted, how dangerous these drugs can be, and the effectiveness of drug testing. This volume also discusses the future of performance-enhancing drugs.","English",33.799999999999997,27.04,"362.29/088796","208 pp.","https://greenhavenpublishing.com/978-0-7377-7281-4",{"$f":"Table1[[#This Row],['# of Books]]*Table1[[#This Row],[QTY]]","v":0},{"$f":"Table1[[#This Row],[QTY]]*Table1[[#This Row],[School & Library Price]]","v":0}]
[null,null,12,null,null,"Current Issues","Opposing Viewpoints","The Pharmaceutical Industry","978-0-7377-5754-5",{"$f":"HYPERLINK(Table1[[#This Row],[Hyperlink]],\"Weblink\")","v":"Weblink"},"Greenhaven Publishing","Paperback Book",1,"2012","January 2012","Paperback","6.000 X 9.000","Edited by","Roman Espejo",null,null,null,null,"Z",null,"Grade 10 - 12","Grade 9 - 12","The pharmaceutical industry is big, big business. Editor Roman Espejo has compiled several essays and presented them in a pro versus con sequence across four main provocative topics. Readers will evaluate for themselves whether pharmaceutical research is safe and unbiased, whether drugs are regulated appropriately, whether pharmaceutical marketing practices are ethical, and whether the cost of prescription drugs in America is appropriate. With the ever-expanding field of medications, young readers need the balanced understanding that this book provides, in order to be smart health consumers.","English",33.799999999999997,27.04,"338.4/76151","192 pp.","https://greenhavenpublishing.com/978-0-7377-5754-5",{"$f":"Table1[[#This Row],['# of Books]]*Table1[[#This Row],[QTY]]","v":0},{"$f":"Table1[[#This Row],[QTY]]*Table1[[#This Row],[School & Library Price]]","v":0}]
[null,null,13,null,null,"Current Issues","Opposing Viewpoints","Political Campaigns","978-0-7377-4540-5",{"$f":"HYPERLINK(Table1[[#This Row],[Hyperlink]],\"Weblink\")","v":"Weblink"},"Greenhaven Publishing","Library Bound Book",1,"2010","January 2010","Library","6.000 X 9.000","Edited by","Louise I. Gerdes",null,null,null,null,"Z",null,"Grade 10 - 12","Grade 9 - 12","This collection of essays explores the current status of campaign finance reform in the United States, including strategies that promote fair political campaigns such as public funding, spending caps, and media regulation. Readers will examine efforts to prevent partisan political redistricting, and look at recent influential developments like small-donor fundraising and use of the internet in campaigns. Essay sources include Thomas E. Mann, John G. Geer, Janette Kenner Muir, and Sarah O'Leary.","English",48.8,39.04,"324.70973","248 pp.","https://greenhavenpublishing.com/978-0-7377-4540-5",{"$f":"Table1[[#This Row],['# of Books]]*Table1[[#This Row],[QTY]]","v":0},{"$f":"Table1[[#This Row],[QTY]]*Table1[[#This Row],[School & Library Price]]","v":0}]
[null,null,13,null,null,"Current Issues","Opposing Viewpoints","Popular Culture","978-0-7377-4981-6",{"$f":"HYPERLINK(Table1[[#This Row],[Hyperlink]],\"Weblink\")","v":"Weblink"},"Greenhaven Publishing","Paperback Book",1,"2011","January 2011","Paperback","6.000 X 9.000","Edited by, Edited by","David M. Haugen, Susan Musser",null,null,null,null,"Z",null,"Grade 10 - 12","Grade 9 - 12","Editors David M. Haugen and Susan Musser have compiled several fascinating essays that explore the value of popular culture. Can it make people smarter? Is blogging journalism? Does reality TV have merit? Is Twitter a catalyst for change? This book provides the answers as it looks at the relationship between the Internet and pop culture, the effect on society of the violence prevalent in pop culture, and the impact of America's pop culture on other parts of the world.","English",33.799999999999997,27.04,"306","192 pp.","https://greenhavenpublishing.com/978-0-7377-4981-6",{"$f":"Table1[[#This Row],['# of Books]]*Table1[[#This Row],[QTY]]","v":0},{"$f":"Table1[[#This Row],[QTY]]*Table1[[#This Row],[School & Library Price]]","v":0}]
[null,null,13,null,null,"Current Issues","Opposing Viewpoints","Prescription Drug Abuse","978-0-7377-6066-8",{"$f":"HYPERLINK(Table1[[#This Row],[Hyperlink]],\"Weblink\")","v":"Weblink"},"Greenhaven Publishing","Library Bound Book",1,"2013","January 2013","Library","6.000 X 9.000","Edited by, Edited by","Lynn M. Zott, Margaret Haerens",null,null,null,null,"Z",null,"Grade 10 - 12","Grade 9 - 12","During the year 2017, news sources reported that America is in an opioid-abuse crisis. Prescription drug abuse is dangerous and is not a light matter. The information in this volume provides insight into the impact and consequences of the prescription drug abuse problem in the United States, the causes of prescription drug addiction, and proposed and existing government policies that are hotly debated in the ongoing effort to effectively confront the prescription drug abuse problem in this country. Varied expert opinions that examine many of the different aspects that surround this issue are presented so that readers can form intelligent, balanced, and healthy opinions about prescription drugs.","English",48.8,39.04,"362.29/9","256 pp.","https://greenhavenpublishing.com/978-0-7377-6066-8",{"$f":"Table1[[#This Row],['# of Books]]*Table1[[#This Row],[QTY]]","v":0},{"$f":"Table1[[#This Row],[QTY]]*Table1[[#This Row],[School & Library Price]]","v":0}]
[null,null,13,null,null,"Current Issues","Opposing Viewpoints","Privacy","978-0-7377-7283-8",{"$f":"HYPERLINK(Table1[[#This Row],[Hyperlink]],\"Weblink\")","v":"Weblink"},"Greenhaven Publishing","Paperback Book",1,"2015","January 2015","Paperback","6.000 X 9.000","Edited by","Noël Merino",null,null,null,null,"Z",null,"Grade 10 - 12","Grade 9 - 12","This essential book discusses if technological developments threaten privacy. Essays ask if security measures infringe on privacy rights, and if medical privacy is adequately protected. The final chapter explores how privacy should be protected. The essays and works are arranged in a pro versus con format, so that readers can benefit from more than one viewpoint while analyzing each controversy and establishing their own opinions on the right to and protection of privacy.","English",33.799999999999997,27.04,"323.44/​8","184 pp.","https://greenhavenpublishing.com/978-0-7377-7283-8",{"$f":"Table1[[#This Row],['# of Books]]*Table1[[#This Row],[QTY]]","v":0},{"$f":"Table1[[#This Row],[QTY]]*Table1[[#This Row],[School & Library Price]]","v":0}]
[null,null,13,null,null,"Current Issues","Opposing Viewpoints","Public Shaming","978-1-5345-0023-5",{"$f":"HYPERLINK(Table1[[#This Row],[Hyperlink]],\"Weblink\")","v":"Weblink"},"Greenhaven Publishing","Library Bound Book",1,"2017","January 2017","Library","6.000 X 9.000","Edited by","Anne C. Cunningham",null,null,null,null,"Z",null,"Grade 10 - 12","Grade 9 - 12","Embarrassing others to correct their behavior is nothing new; stockades and tarring and feathering were favored methods in colonial America, after all. But today, individuals and the media can point out egregious behavior via social media and reach a wide audience. There are countless examples of people who have lost their jobs and received physical threats because of shaming that went viral. Did the punishment fit the crime? Through a multitude of viewpoints and examples, readers will examine the value of public shaming: Is it an effective disciplinary tool or simply a way for people to feel morally superior?","English",48.8,39.04,"303.3'8--dc23","188 pp.","https://greenhavenpublishing.com/978-1-5345-0023-5",{"$f":"Table1[[#This Row],['# of Books]]*Table1[[#This Row],[QTY]]","v":0},{"$f":"Table1[[#This Row],[QTY]]*Table1[[#This Row],[School & Library Price]]","v":0}]
[null,null,13,null,null,"Current Issues","Opposing Viewpoints","Race in America","978-1-5345-0022-8",{"$f":"HYPERLINK(Table1[[#This Row],[Hyperlink]],\"Weblink\")","v":"Weblink"},"Greenhaven Publishing","Library Bound Book",1,"2017","January 2017","Library","6.000 X 9.000","Edited by","Susan Henneberg",null,null,null,null,"Z",null,"Grade 10 - 12","Grade 9 - 12","Many Americans believe they're living in a post-racial society, pointing to the election of Barack Obama to the presidency as evidence. Others believe that, despite the advances achieved by the civil rights movement, people of color are treated as second-class citizens. Is race overemphasized in America? Have government programs and policies done enough to level the playing field? Can the United States, a country that lives by the credo that all men are created equal, ever overcome its legacy of racism? Readers of this multifaceted anthology will be given the tools to form their own opinions about these complex issues.","English",48.8,39.04,"305.800973--dc23","208 pp.","https://greenhavenpublishing.com/978-1-5345-0022-8",{"$f":"Table1[[#This Row],['# of Books]]*Table1[[#This Row],[QTY]]","v":0},{"$f":"Table1[[#This Row],[QTY]]*Table1[[#This Row],[School & Library Price]]","v":0}]
[null,null,13,null,null,"Current Issues","Opposing Viewpoints","Reforming Wall Street","978-0-7377-5236-6",{"$f":"HYPERLINK(Table1[[#This Row],[Hyperlink]],\"Weblink\")","v":"Weblink"},"Greenhaven Publishing","Paperback Book",1,"2011","January 2011","Paperback","6.000 X 9.000","Edited by, Edited by","David M. Haugen, Susan Musser",null,null,null,null,"Z",null,"Grade 10 - 12","Grade 9 - 12","In 2013, the average daily trading value was approximately 169 billion dollars at the New York Stock Exchange. Wall Street is very powerful, and very big business. Unfair, illegal, and dangerous practices can cripple entire economic systems, which is why several intelligent people call for a reform of Wall Street. This collection of essays peels back the layers of this complicated entity, debating several topics so that readers can evaluate more than one viewpoint. Readers will examine the causes of the global financial crisis of 2008-2009, and evaluate whether Wall Street needs financial reform. They will also examine whether financial reform legislation would be effective in the future.","English",33.799999999999997,27.04,"332.0973","216 pp.","https://greenhavenpublishing.com/978-0-7377-5236-6",{"$f":"Table1[[#This Row],['# of Books]]*Table1[[#This Row],[QTY]]","v":0},{"$f":"Table1[[#This Row],[QTY]]*Table1[[#This Row],[School & Library Price]]","v":0}]
[null,null,13,null,null,"Current Issues","Opposing Viewpoints","Religion in America","978-0-7377-4988-5",{"$f":"HYPERLINK(Table1[[#This Row],[Hyperlink]],\"Weblink\")","v":"Weblink"},"Greenhaven Publishing","Library Bound Book",1,"2011","January 2011","Library","6.000 X 9.000","Edited by, Edited by","David M. Haugen, Susan Musser",null,null,null,null,"Z",null,"Grade 10 - 12","Grade 9 - 12","This volume explores the topics relating to religion in the United States by presenting varied expert opinions that examine many of the different aspects that comprise these topics. Is America a religious nation? What effect does religion have on American society? What should be done to accommodate religious freedom? What values should religious Americans support? These four questions are explored with answers from varying viewpoints, so that readers can develop their own well-informed opinions on each topic.","English",48.8,39.04,"200.973","240 pp.","https://greenhavenpublishing.com/978-0-7377-4988-5",{"$f":"Table1[[#This Row],['# of Books]]*Table1[[#This Row],[QTY]]","v":0},{"$f":"Table1[[#This Row],[QTY]]*Table1[[#This Row],[School & Library Price]]","v":0}]
[null,null,13,null,null,"Current Issues","Opposing Viewpoints","Religion in America","978-0-7377-4989-2",{"$f":"HYPERLINK(Table1[[#This Row],[Hyperlink]],\"Weblink\")","v":"Weblink"},"Greenhaven Publishing","Paperback Book",1,"2011","January 2011","Paperback","6.000 X 9.000","Edited by, Edited by","David M. Haugen, Susan Musser",null,null,null,null,"Z",null,"Grade 10 - 12","Grade 9 - 12","This volume explores the topics relating to religion in the United States by presenting varied expert opinions that examine many of the different aspects that comprise these topics. Is America a religious nation? What effect does religion have on American society? What should be done to accommodate religious freedom? What values should religious Americans support? These four questions are explored with answers from varying viewpoints, so that readers can develop their own well-informed opinions on each topic.","English",33.799999999999997,27.04,"200.973","240 pp.","https://greenhavenpublishing.com/978-0-7377-4989-2",{"$f":"Table1[[#This Row],['# of Books]]*Table1[[#This Row],[QTY]]","v":0},{"$f":"Table1[[#This Row],[QTY]]*Table1[[#This Row],[School & Library Price]]","v":0}]
[null,null,13,null,null,"Current Issues","Opposing Viewpoints","Reparations","978-1-5345-0025-9",{"$f":"HYPERLINK(Table1[[#This Row],[Hyperlink]],\"Weblink\")","v":"Weblink"},"Greenhaven Publishing","Library Bound Book",1,"2017","January 2017","Library","6.000 X 9.000","Edited by","Anne C. Cunningham",null,null,null,null,"Z",null,"Grade 10 - 12","Grade 9 - 12","Should descendants of slaves be compensated for the suffering their ancestors endured? Should the losing side in a war be forced to pay the victor? When modern-day states confront long-ago atrocities, is acknowledgement and an apology enough? This fascinating examination of reparations offers opinions by leading experts on such past injustices as the Holocaust, the slave trade, the Armenian genocide, the forced relocation of Native Americans, and the Imperial Japanese Army’s comfort women. An asset to any library, Reparations takes on the very uncomfortable issue of how governments and individuals can reckon with sins of the past.","English",48.8,39.04,"305.896’073--dc23","200 pp.","https://greenhavenpublishing.com/978-1-5345-0025-9",{"$f":"Table1[[#This Row],['# of Books]]*Table1[[#This Row],[QTY]]","v":0},{"$f":"Table1[[#This Row],[QTY]]*Table1[[#This Row],[School & Library Price]]","v":0}]
[null,null,13,null,null,"Current Issues","Opposing Viewpoints","Resurgent Diseases","978-0-7377-4228-2",{"$f":"HYPERLINK(Table1[[#This Row],[Hyperlink]],\"Weblink\")","v":"Weblink"},"Greenhaven Publishing","Library Bound Book",1,"2009","January 2009","Library","6.000 X 9.000","Edited by","Karen Miller",null,null,null,null,"Z",null,"Grade 10 - 12","Grade 9 - 12","This fascinating book is a collection of articles, speeches, excerpts, and other material that present a variety of opinions on the subject of infectious diseases. What causes disease resurgence? How should society respond to resurgent diseases? How can resurgent diseases be controlled? How can disease resurgence be reduced? These four main questions are debated by divergent sources, allowing readers a comprehensive and broad understanding of these issues.","English",48.8,39.04,"362.196/​9","208 pp.","https://greenhavenpublishing.com/978-0-7377-4228-2",{"$f":"Table1[[#This Row],['# of Books]]*Table1[[#This Row],[QTY]]","v":0},{"$f":"Table1[[#This Row],[QTY]]*Table1[[#This Row],[School & Library Price]]","v":0}]
[null,null,13,null,null,"Current Issues","Opposing Viewpoints","Russia","978-0-7377-6970-8",{"$f":"HYPERLINK(Table1[[#This Row],[Hyperlink]],\"Weblink\")","v":"Weblink"},"Greenhaven Publishing","Paperback Book",1,"2014","January 2014","Paperback","6.000 X 9.000","Edited by, Edited by","David M. Haugen, Susan Musser",null,null,null,null,"Z",null,"Grade 10 - 12","Grade 9 - 12","This vital volume explores Russia's role in international politics, and whether Russia is moving toward a democracy. Readers will analyze the relationship the West should foster with Russia, and how Russian culture is changing. The viewpoints are selected from a wide range of highly respected and often hard-to-find sources and publications. By choosing from such diverse sources including both popular and unpopular views, readers are exposed to many sides of a debate, which promotes issue awareness as well as critical thinking.","English",33.799999999999997,27.04,"947.086","272 pp.","https://greenhavenpublishing.com/978-0-7377-6970-8",{"$f":"Table1[[#This Row],['# of Books]]*Table1[[#This Row],[QTY]]","v":0},{"$f":"Table1[[#This Row],[QTY]]*Table1[[#This Row],[School & Library Price]]","v":0}]
[null,null,13,null,null,"Current Issues","Opposing Viewpoints","School Funding","978-0-7377-5436-0",{"$f":"HYPERLINK(Table1[[#This Row],[Hyperlink]],\"Weblink\")","v":"Weblink"},"Greenhaven Publishing","Library Bound Book",1,"2012","January 2012","Library","6.000 X 9.000","Edited by","Lynn M. Zott",null,null,null,null,"Z",null,"Grade 10 - 12","Grade 9 - 12","While U.S. education spending is on the high side among developed nations, unfortunately our rate of child poverty far exceeds almost all other countries included in such comparisons. This volume tackles the tough controversies surrounding school funding. Readers will evaluate key issues, including how funds should be allocated, and whether several funding initiatives have been effective. Articles are arranged in a pro versus con sequence, so that readers are provided with various viewpoints in order to form their own intelligent opinions. Sources include the Targeted News Service and The Daily Collegian.","English",48.8,39.04,"379.1/​10973","224 pp.","https://greenhavenpublishing.com/978-0-7377-5436-0",{"$f":"Table1[[#This Row],['# of Books]]*Table1[[#This Row],[QTY]]","v":0},{"$f":"Table1[[#This Row],[QTY]]*Table1[[#This Row],[School & Library Price]]","v":0}]
[null,null,13,null,null,"Current Issues","Opposing Viewpoints","School Safety","978-0-7377-7527-3",{"$f":"HYPERLINK(Table1[[#This Row],[Hyperlink]],\"Weblink\")","v":"Weblink"},"Greenhaven Publishing","Paperback Book",1,"2016","January 2016","Paperback","6.000 X 9.000","Edited by","Noah Berlatsky",null,null,null,null,"Z",null,"Grade 10 - 12","Grade 9 - 12","Across four compelling chapters, readers will evaluate whether schools are safe, whether better gun policies can help, whether security measures make school more safe, and how health care interacts with student safety. Essays are sequenced in a pro versus con format to present readers with divergent views. Essayists include Selwyn Duke, Kristina Chew, Nell Gluckman, Kelly McBride, Cleopatra Andreadis, and Denise Martinez-Ramundo.","English",33.799999999999997,27.04,"363.11/​9371","216 pp.","https://greenhavenpublishing.com/978-0-7377-7527-3",{"$f":"Table1[[#This Row],['# of Books]]*Table1[[#This Row],[QTY]]","v":0},{"$f":"Table1[[#This Row],[QTY]]*Table1[[#This Row],[School & Library Price]]","v":0}]
[null,null,13,null,null,"Current Issues","Opposing Viewpoints","Self-Mutilation","978-0-7377-3828-5",{"$f":"HYPERLINK(Table1[[#This Row],[Hyperlink]],\"Weblink\")","v":"Weblink"},"Greenhaven Publishing","Library Bound Book",1,"2008","January 2008","Library","6.000 X 9.000","Edited by","Mary E. Williams",null,null,null,null,"Z",null,"Grade 10 - 12","Grade 9 - 12","Each year, 1 in 5 females and 1 in 7 males engage in self injury. This self injury is often a coping mechanism for far more serious issues. Enable your readers to engage in a necessary debate about this topic. The essays collected here are provided in a pro versus con sequence, so that readers can evaluate more than one side to every topic. Across four chapters, readers will examine whether self-mutilation is a serious problem, whether body modification falls within mutilation, what triggers self-mutilation, and what should be done to reduce self-mutilating behavior. Essay sources include Teen Vogue, LifeSIGNS, and the Cornell University Family Life Development Center.","English",48.8,39.04,"616.85/​82","232 pp.","https://greenhavenpublishing.com/978-0-7377-3828-5",{"$f":"Table1[[#This Row],['# of Books]]*Table1[[#This Row],[QTY]]","v":0},{"$f":"Table1[[#This Row],[QTY]]*Table1[[#This Row],[School & Library Price]]","v":0}]
[null,null,13,null,null,"Current Issues","Opposing Viewpoints","Sexually Transmitted Diseases","978-0-7377-5237-3",{"$f":"HYPERLINK(Table1[[#This Row],[Hyperlink]],\"Weblink\")","v":"Weblink"},"Greenhaven Publishing","Library Bound Book",1,"2011","January 2011","Library","6.000 X 9.000","Edited by","Roman Espejo",null,null,null,null,"Z",null,"Grade 10 - 12","Grade 9 - 12","In the United States, nearly 20 million cases of new STD infections are reported each year, and fifty percent of new infections occur in young people from ages 15 to 24. This subject is unfortunately a very common reality of your teen readers, so give them a balanced, informative survey of several issues relating to STDs. Across four chapters of collected essays, readers will evaluate whether STDs are a serious problem, whether sex education is effective, whether the U.S. Global AIDS Policy is effective, and whether mandatory HIV testing would save lives. Essay sources include the United States President's Emergency Plan for AIDS Relief and the Centers for Disease Control and Prevention.","English",48.8,39.04,"362.196/​951","240 pp.","https://greenhavenpublishing.com/978-0-7377-5237-3",{"$f":"Table1[[#This Row],['# of Books]]*Table1[[#This Row],[QTY]]","v":0},{"$f":"Table1[[#This Row],[QTY]]*Table1[[#This Row],[School & Library Price]]","v":0}]
[null,null,13,null,null,"Current Issues","Opposing Viewpoints","Sexually Transmitted Diseases","978-0-7377-5238-0",{"$f":"HYPERLINK(Table1[[#This Row],[Hyperlink]],\"Weblink\")","v":"Weblink"},"Greenhaven Publishing","Paperback Book",1,"2011","January 2011","Paperback","6.000 X 9.000","Edited by","Roman Espejo",null,null,null,null,"Z",null,"Grade 10 - 12","Grade 9 - 12","In the United States, nearly 20 million cases of new STD infections are reported each year, and fifty percent of new infections occur in young people from ages 15 to 24. This subject is unfortunately a very common reality of your teen readers, so give them a balanced, informative survey of several issues relating to STDs. Across four chapters of collected essays, readers will evaluate whether STDs are a serious problem, whether sex education is effective, whether the U.S. Global AIDS Policy is effective, and whether mandatory HIV testing would save lives. Essay sources include the United States President's Emergency Plan for AIDS Relief and the Centers for Disease Control and Prevention.","English",33.799999999999997,27.04,"362.196/​951","240 pp.","https://greenhavenpublishing.com/978-0-7377-5238-0",{"$f":"Table1[[#This Row],['# of Books]]*Table1[[#This Row],[QTY]]","v":0},{"$f":"Table1[[#This Row],[QTY]]*Table1[[#This Row],[School & Library Price]]","v":0}]
[null,null,14,null,null,"Current Issues","Opposing Viewpoints","Smartphones","978-0-7377-6342-3",{"$f":"HYPERLINK(Table1[[#This Row],[Hyperlink]],\"Weblink\")","v":"Weblink"},"Greenhaven Publishing","Library Bound Book",1,"2013","January 2013","Library","6.000 X 9.000","Edited by","Roman Espejo",null,null,null,null,"Z",null,"Grade 10 - 12","Grade 9 - 12","This essential volume discusses smartphone ownership including the benefits and privacy risks. The viewpoints are selected from a wide range of highly respected and often hard-to-find sources and publications. Readers are exposed to many sides of a debate, which promotes issue awareness as well as critical thinking. Across four chapters, essays debate the benefits of smartphones, who really owns and uses them, whether they have privacy risks, and what the future may bring. Essay sources include Debra Littlejohn Shinder, Brian X. Chen, Jamilah King, Yukari Iwatani Kane, and The Economist.\n","English",48.8,39.04,"004.167","208 pp.","https://greenhavenpublishing.com/978-0-7377-6342-3",{"$f":"Table1[[#This Row],['# of Books]]*Table1[[#This Row],[QTY]]","v":0},{"$f":"Table1[[#This Row],[QTY]]*Table1[[#This Row],[School & Library Price]]","v":0}]
[null,null,14,null,null,"Current Issues","Opposing Viewpoints","Social Security","978-0-7377-4857-4",{"$f":"HYPERLINK(Table1[[#This Row],[Hyperlink]],\"Weblink\")","v":"Weblink"},"Greenhaven Publishing","Paperback Book",1,"2010","January 2010","Paperback","6.000 X 9.000","Edited by","Mitchell Young",null,null,null,null,"Z",null,"Grade 10 - 12","Grade 9 - 12","This collection of essays compiled by Mitchell Young explores whether or not a crisis exists within the social security system and the role played by politics, demographics, and private pensions. This book examines proposals for reforming the social security system, and the impact of the current system on different social groups. It also looks at pension systems in other countries, including Great Britain and Chile.","English",33.799999999999997,27.04,"368.4/​300973","224 pp.","https://greenhavenpublishing.com/978-0-7377-4857-4",{"$f":"Table1[[#This Row],['# of Books]]*Table1[[#This Row],[QTY]]","v":0},{"$f":"Table1[[#This Row],[QTY]]*Table1[[#This Row],[School & Library Price]]","v":0}]
[null,null,14,null,null,"Current Issues","Opposing Viewpoints","Sports and Athletes","978-0-7377-4543-6",{"$f":"HYPERLINK(Table1[[#This Row],[Hyperlink]],\"Weblink\")","v":"Weblink"},"Greenhaven Publishing","Paperback Book",1,"2009","January 2009","Paperback","6.000 X 9.000","Edited by","Christine Watkins",null,null,null,null,"Z",null,"Grade 10 - 12","Grade 9 - 12","This collection of essays that are sequenced in a for-or-against format will give readers quite a lot to think about relating to the world of sports and athletes. Across four chapters, readers will examine whether sports benefit children, whether college sports should be reformed, if there is equality in sports, and whether drug use is a problem in sports. Essay sources include TeensHealth, Institute of Higher Education, University of Georgia, and Brady Delander. Is Title IX unfair to men's sports? Is testing student athletes for drugs appropriate? Can sports benefit children with disabilities? Help your readers find the answers with this book.","English",33.799999999999997,27.04,"796","232 pp.","https://greenhavenpublishing.com/978-0-7377-4543-6",{"$f":"Table1[[#This Row],['# of Books]]*Table1[[#This Row],[QTY]]","v":0},{"$f":"Table1[[#This Row],[QTY]]*Table1[[#This Row],[School & Library Price]]","v":0}]
[null,null,14,null,null,"Current Issues","Opposing Viewpoints","Stem Cells","978-0-7377-5759-0",{"$f":"HYPERLINK(Table1[[#This Row],[Hyperlink]],\"Weblink\")","v":"Weblink"},"Greenhaven Publishing","Library Bound Book",1,"2012","January 2012","Library","6.000 X 9.000","Edited by","Jacqueline Langwith",null,null,null,null,"Z",null,"Grade 10 - 12","Grade 9 - 12","Editor Jacqueline Langwith compiled a series of compelling essays in a for-or-against sequence that debate the controversies relating to stem cells. Across four chapters, readers will evaluate the therapeutic potential of stem cell treatments, whether it is moral, what kind of embryos should be used for embryonic research, and what role the government should play. Essay sources include Christian Life Resources, Jean Peduzzi Nelson, Arthur L. Caplan, Pasquale Patrizio, and Laura Bothwell.","English",48.8,39.04,"616/​.0277","240 pp.","https://greenhavenpublishing.com/978-0-7377-5759-0",{"$f":"Table1[[#This Row],['# of Books]]*Table1[[#This Row],[QTY]]","v":0},{"$f":"Table1[[#This Row],[QTY]]*Table1[[#This Row],[School & Library Price]]","v":0}]
[null,null,14,null,null,"Current Issues","Opposing Viewpoints","Student Life","978-0-7377-4991-5",{"$f":"HYPERLINK(Table1[[#This Row],[Hyperlink]],\"Weblink\")","v":"Weblink"},"Greenhaven Publishing","Paperback Book",1,"2011","January 2011","Paperback","6.000 X 9.000","Edited by","Karen Miller",null,null,null,null,"Z",null,"Grade 10 - 12","Grade 9 - 12","This volume explores the topic of student life by presenting varied expert opinions that examine many of the different aspects that surround this issue. The viewpoints allow your readers to attain the higher-level critical thinking and reading skills that are essential in a culture of diverse and contradictory opinions. Essay topics that are debated include whether college drinking is a serious problem, whether the college \"hookup\" is exaggerated, and whether universities need to provide better access to sexual health information and services. Other topics include Title IX, Greek letter organizations, and binge drinking.\n\n","English",33.799999999999997,27.04,"378.1/​98--dc23","216 pp.","https://greenhavenpublishing.com/978-0-7377-4991-5",{"$f":"Table1[[#This Row],['# of Books]]*Table1[[#This Row],[QTY]]","v":0},{"$f":"Table1[[#This Row],[QTY]]*Table1[[#This Row],[School & Library Price]]","v":0}]
[null,null,14,null,null,"Current Issues","Opposing Viewpoints","The Taliban","978-0-7377-5239-7",{"$f":"HYPERLINK(Table1[[#This Row],[Hyperlink]],\"Weblink\")","v":"Weblink"},"Greenhaven Publishing","Library Bound Book",1,"2011","January 2011","Library","6.000 X 9.000","Edited by","Noah Berlatsky",null,null,null,null,"Z",null,"Grade 10 - 12","Grade 9 - 12","Editor Noah Berlatsky has carefully and thoughtfully compiled a collection of opposing viewpoints on the Taliban. Reading more than one opinion on this highly-controversial topic will help your readers think critically and seek balanced world views. Across four chapters, readers will evaluate who the Taliban are, how the United States should deal with the Taliban, what its relationship with Pakistan is, and what the Taliban's relationships are with other nations. Essay sources include Barack Obama, Kimberly Kagan, Husain Haqqani, and Pratap Chatterjee.","English",48.8,39.04,"958.104/​6","232 pp.","https://greenhavenpublishing.com/978-0-7377-5239-7",{"$f":"Table1[[#This Row],['# of Books]]*Table1[[#This Row],[QTY]]","v":0},{"$f":"Table1[[#This Row],[QTY]]*Table1[[#This Row],[School & Library Price]]","v":0}]
[null,null,14,null,null,"Current Issues","Opposing Viewpoints","Teachers and Ethics","978-0-7377-7533-4",{"$f":"HYPERLINK(Table1[[#This Row],[Hyperlink]],\"Weblink\")","v":"Weblink"},"Greenhaven Publishing","Paperback Book",1,"2016","January 2016","Paperback","6.000 X 9.000","Edited by","Noah Berlatsky",null,null,null,null,"Z",null,"Grade 10 - 12","Grade 9 - 12","Editor Noah Berlatsky has compiled several essays into a pro versus con sequence that explain issues relating to teachers and ethics. Readers will evaluate the ethical issues surrounding teachers and unions, and the ethical issues around teachers' working conditions. They will analyze ethical issues surrounding testing, and consider the ethical issues for teachers outside the classroom.","English",33.799999999999997,27.04,"370.71/1","232 pp.","https://greenhavenpublishing.com/978-0-7377-7533-4",{"$f":"Table1[[#This Row],['# of Books]]*Table1[[#This Row],[QTY]]","v":0},{"$f":"Table1[[#This Row],[QTY]]*Table1[[#This Row],[School & Library Price]]","v":0}]
[null,null,14,null,null,"Current Issues","Opposing Viewpoints","Teen Dating","978-0-7377-6345-4",{"$f":"HYPERLINK(Table1[[#This Row],[Hyperlink]],\"Weblink\")","v":"Weblink"},"Greenhaven Publishing","Paperback Book",1,"2013","January 2013","Paperback","6.000 X 9.000","Edited by","Louise I. Gerdes",null,null,null,null,"Z",null,"Grade 10 - 12","Grade 9 - 12","Editor Louise I. Gerdes has compiled compelling essays that will allow readers to take a deep, thoughtful look at teen dating. The viewpoints are selected from a wide range of highly respected and often hard-to-find sources and publications. Readers are exposed to many sides of a debate, which promotes issue awareness as well as critical thinking. Readers will evaluate whether teen dating violence is a serious problem, whether virginity pacts are effective, and whether media and technology have an impact on teen dating.","English",33.799999999999997,27.04,"306.73","224 pp.","https://greenhavenpublishing.com/978-0-7377-6345-4",{"$f":"Table1[[#This Row],['# of Books]]*Table1[[#This Row],[QTY]]","v":0},{"$f":"Table1[[#This Row],[QTY]]*Table1[[#This Row],[School & Library Price]]","v":0}]
[null,null,14,null,null,"Current Issues","Opposing Viewpoints","Teenage Sexuality","978-0-7377-5763-7",{"$f":"HYPERLINK(Table1[[#This Row],[Hyperlink]],\"Weblink\")","v":"Weblink"},"Greenhaven Publishing","Library Bound Book",1,"2012","January 2012","Library","6.000 X 9.000","Edited by","Aarti D. Stephens",null,null,null,null,"Z",null,"Grade 10 - 12","Grade 9 - 12","This must-have volume explores issues related to the controversial subject of teenage sexuality, through a collection of balanced articles from a variety of sources. Articles contained in this book examine several topics, including the major factors that influence teenage sexuality, including parents and peers. Readers will evaluate significant teen sexuality issues, the role of society in teaching teens about sex, and society's response to teenage sexual activity.","English",48.8,39.04,"306.708350973","248 pp.","https://greenhavenpublishing.com/978-0-7377-5763-7",{"$f":"Table1[[#This Row],['# of Books]]*Table1[[#This Row],[QTY]]","v":0},{"$f":"Table1[[#This Row],[QTY]]*Table1[[#This Row],[School & Library Price]]","v":0}]
[null,null,14,null,null,"Current Issues","Opposing Viewpoints","Television","978-0-7377-5244-1",{"$f":"HYPERLINK(Table1[[#This Row],[Hyperlink]],\"Weblink\")","v":"Weblink"},"Greenhaven Publishing","Paperback Book",1,"2011","January 2011","Paperback","6.000 X 9.000","Edited by","Margaret Haerens",null,null,null,null,"Z",null,"Grade 10 - 12","Grade 9 - 12","This volume explores the topics relating to television by presenting varied expert opinions that examine many of the different aspects that comprise these topics. The selected articles are selected from a wide range of highly respected and often hard-to-find sources and publications. Across four chapters, readers will evaluate what values television promotes, the meaning of reality television, how television advertising impacts society, and whether television should be regulated. Essay sources include BusinessWeek, PR Newswire, and John D. Rockefeller IV.","English",33.799999999999997,27.04,"302.2/​345","216 pp.","https://greenhavenpublishing.com/978-0-7377-5244-1",{"$f":"Table1[[#This Row],['# of Books]]*Table1[[#This Row],[QTY]]","v":0},{"$f":"Table1[[#This Row],[QTY]]*Table1[[#This Row],[School & Library Price]]","v":0}]
[null,null,14,null,null,"Current Issues","Opposing Viewpoints","Tobacco and Smoking","978-0-7377-7294-4",{"$f":"HYPERLINK(Table1[[#This Row],[Hyperlink]],\"Weblink\")","v":"Weblink"},"Greenhaven Publishing","Library Bound Book",1,"2015","January 2015","Library","6.000 X 9.000","Edited by","Roman Espejo",null,null,null,null,"Z",null,"Grade 10 - 12","Grade 9 - 12","Editor Roman Espejo has compiled a sequence of essays that present for-or-against viewpoints about tobacco and smoking. Readers will explore the questions of whether or not smoking is a serious problem, how tobacco use can be reduced, how smoking alternatives should be regulated, and how the media affects the choice to smoke or not to smoke.","English",48.8,39.04,"362.29/​6","248 pp.","https://greenhavenpublishing.com/978-0-7377-7294-4",{"$f":"Table1[[#This Row],['# of Books]]*Table1[[#This Row],[QTY]]","v":0},{"$f":"Table1[[#This Row],[QTY]]*Table1[[#This Row],[School & Library Price]]","v":0}]
[null,null,14,null,null,"Current Issues","Opposing Viewpoints","Tobacco and Smoking","978-0-7377-7295-1",{"$f":"HYPERLINK(Table1[[#This Row],[Hyperlink]],\"Weblink\")","v":"Weblink"},"Greenhaven Publishing","Paperback Book",1,"2015","January 2015","Paperback","6.000 X 9.000","Edited by","Roman Espejo",null,null,null,null,"Z",null,"Grade 10 - 12","Grade 9 - 12","Editor Roman Espejo has compiled a sequence of essays that present for-or-against viewpoints about tobacco and smoking. Readers will explore the questions of whether or not smoking is a serious problem, how tobacco use can be reduced, how smoking alternatives should be regulated, and how the media affects the choice to smoke or not to smoke.","English",33.799999999999997,27.04,"362.29/​6","248 pp.","https://greenhavenpublishing.com/978-0-7377-7295-1",{"$f":"Table1[[#This Row],['# of Books]]*Table1[[#This Row],[QTY]]","v":0},{"$f":"Table1[[#This Row],[QTY]]*Table1[[#This Row],[School & Library Price]]","v":0}]
[null,null,14,null,null,"Current Issues","Opposing Viewpoints","U.S. Airport Security","978-0-7377-6041-5",{"$f":"HYPERLINK(Table1[[#This Row],[Hyperlink]],\"Weblink\")","v":"Weblink"},"Greenhaven Publishing","Paperback Book",1,"2013","January 2013","Paperback","6.000 X 9.000","Edited by, Edited by","Margaret Haerens, Lynn M. Zott",null,null,null,null,"Z",null,"Grade 10 - 12","Grade 9 - 12","This volume discusses airport security in the United States. Readers are exposed to many sides of a debate, which promotes issue awareness as well as critical thinking. Across four chapters, essays debate whether airport security works, whether passenger screen policies are effective, and whether profiling should be part of the process. Readers will also evaluate the ongoing issues impacting airport security.","English",33.799999999999997,27.04,"363.28/​76","232 pp.","https://greenhavenpublishing.com/978-0-7377-6041-5",{"$f":"Table1[[#This Row],['# of Books]]*Table1[[#This Row],[QTY]]","v":0},{"$f":"Table1[[#This Row],[QTY]]*Table1[[#This Row],[School & Library Price]]","v":0}]
[null,null,14,null,null,"Current Issues","Opposing Viewpoints","U.S. Foreign Policy","978-0-7377-7296-8",{"$f":"HYPERLINK(Table1[[#This Row],[Hyperlink]],\"Weblink\")","v":"Weblink"},"Greenhaven Publishing","Library Bound Book",1,"2015","January 2015","Library","6.000 X 9.000","Edited by","Noël Merino",null,null,null,null,"Z",null,"Grade 10 - 12","Grade 9 - 12","This volume examines some of the criticisms of current U.S. foreign policies, if foreign military interventions and U.S. economic policies abroad are good for the United States, and what considerations should guide the future of U.S. foreign policy.","English",48.8,39.04,"327.73","224 pp.","https://greenhavenpublishing.com/978-0-7377-7296-8",{"$f":"Table1[[#This Row],['# of Books]]*Table1[[#This Row],[QTY]]","v":0},{"$f":"Table1[[#This Row],[QTY]]*Table1[[#This Row],[School & Library Price]]","v":0}]
[null,null,14,null,null,"Current Issues","Opposing Viewpoints","The U.S. Latino Community","978-0-7377-5228-1",{"$f":"HYPERLINK(Table1[[#This Row],[Hyperlink]],\"Weblink\")","v":"Weblink"},"Greenhaven Publishing","Paperback Book",1,"2011","January 2011","Paperback","6.000 X 9.000","Edited by","Margaret Haerens",null,null,null,null,"Z",null,"Grade 10 - 12","Grade 9 - 12","Help readers attain the higher-level critical thinking and reading skills that are essential in a culture of diverse and contradictory opinions. This volume holds a collection of opposing essays across four chapters, over issues relating to the U.S. Latino Community. Readers will evaluate how the community is perceived, what immigration attitudes and polices affect the community, the political power that the community may hold, and the social issues that impact the U.S. Latino community.","English",33.799999999999997,27.04,"973/​.0468","184 pp.","https://greenhavenpublishing.com/978-0-7377-5228-1",{"$f":"Table1[[#This Row],['# of Books]]*Table1[[#This Row],[QTY]]","v":0},{"$f":"Table1[[#This Row],[QTY]]*Table1[[#This Row],[School & Library Price]]","v":0}]
[null,null,14,null,null,"Current Issues","Opposing Viewpoints","The U.S. Libertarian Movement","978-0-7377-7534-1",{"$f":"HYPERLINK(Table1[[#This Row],[Hyperlink]],\"Weblink\")","v":"Weblink"},"Greenhaven Publishing","Library Bound Book",1,"2016","January 2016","Library","6.000 X 9.000","Edited by","Michael Ruth",null,null,null,null,"Z",null,"Grade 10 - 12","Grade 9 - 12","This volume contains several for-or-against essays compiled by Michael Ruth, that examine the U.S. Libertarian Movement. Readers will evaluate a Libertarian's place in contemporary America, the economics of American Libertarians, the Libertarian stance on social issues, and how Libertarians view other American issues.","English",48.8,39.04,"320.51/​2","208 pp.","https://greenhavenpublishing.com/978-0-7377-7534-1",{"$f":"Table1[[#This Row],['# of Books]]*Table1[[#This Row],[QTY]]","v":0},{"$f":"Table1[[#This Row],[QTY]]*Table1[[#This Row],[School & Library Price]]","v":0}]
[null,null,15,null,null,"Current Issues","Opposing Viewpoints","The U.S. Supreme Court","978-0-7377-4545-0",{"$f":"HYPERLINK(Table1[[#This Row],[Hyperlink]],\"Weblink\")","v":"Weblink"},"Greenhaven Publishing","Paperback Book",1,"2010","January 2010","Paperback","6.000 X 9.000","Edited by","Margaret Haerens",null,null,null,null,"Z",null,"Grade 10 - 12","Grade 9 - 12","Editor Margaret Haerens compiled several fascinating essays that take opposing views over issues relating to the Supreme Court. Readers will evaluate whether the Supreme Court is an effective check on the Executive branch. One essay states that the Supreme Court should not decide the rights of enemy combatants while another essay states it is a matter for judicial review. One essay examines what some conservative justices have done for political reasons while another essay states that liberals exercise too much control over the U.S. judiciary. Sodomy laws are debated, as is the role of religion, and Roe versus Wade. Readers will evaluate term limits for the justices, and the role of each justice's political ideology. Foreign court decisions are also evaluated, giving your readers a truly deep and well-balanced view.","English",33.799999999999997,27.04,"347.73/​26--dc22","240 pp.","https://greenhavenpublishing.com/978-0-7377-4545-0",{"$f":"Table1[[#This Row],['# of Books]]*Table1[[#This Row],[QTY]]","v":0},{"$f":"Table1[[#This Row],[QTY]]*Table1[[#This Row],[School & Library Price]]","v":0}]
[null,null,15,null,null,"Current Issues","Opposing Viewpoints","The United Nations","978-0-7377-4841-3",{"$f":"HYPERLINK(Table1[[#This Row],[Hyperlink]],\"Weblink\")","v":"Weblink"},"Greenhaven Publishing","Library Bound Book",1,"2011","January 2011","Library","6.000 X 9.000","Edited by","Laura K. Egendorf",null,null,null,null,"Z",null,"Grade 10 - 12","Grade 9 - 12","The tasks set before the U.N. are not small; to promote international co-operation and to create and maintain international order. The organization has its supporters and its detractors, as well as several lively debates surrounding it. This volume provides a sequence of essays over four chapters that provides your readers with a balanced debate on the issues. Topics debated are whether the U.N. is effective, whether it is impartial towards the Middle East, whether America should support the U.N., and what the future may hold for the U.N.","English",48.8,39.04,"341.23","216 pp.","https://greenhavenpublishing.com/978-0-7377-4841-3",{"$f":"Table1[[#This Row],['# of Books]]*Table1[[#This Row],[QTY]]","v":0},{"$f":"Table1[[#This Row],[QTY]]*Table1[[#This Row],[School & Library Price]]","v":0}]
[null,null,15,null,null,"Current Issues","Opposing Viewpoints","Urban Agriculture","978-0-7377-5446-9",{"$f":"HYPERLINK(Table1[[#This Row],[Hyperlink]],\"Weblink\")","v":"Weblink"},"Greenhaven Publishing","Library Bound Book",1,"2012","January 2012","Library","6.000 X 9.000","Edited by, Edited by","Nancy Dziedzic, Lynn M. Zott",null,null,null,null,"Z",null,"Grade 10 - 12","Grade 9 - 12","This fascinating edition includes a variety of for-or-against viewpoints on urban agriculture. Essays include discussing urban agriculture as a viable solution to food insecurities, the economic sustainability of urban agriculture, the impact of urban agriculture on specific groups, such as women in developing countries, and the future of urban farming.","English",48.8,39.04,"635.977","248 pp.","https://greenhavenpublishing.com/978-0-7377-5446-9",{"$f":"Table1[[#This Row],['# of Books]]*Table1[[#This Row],[QTY]]","v":0},{"$f":"Table1[[#This Row],[QTY]]*Table1[[#This Row],[School & Library Price]]","v":0}]
[null,null,15,null,null,"Current Issues","Opposing Viewpoints","Urban Agriculture","978-0-7377-5447-6",{"$f":"HYPERLINK(Table1[[#This Row],[Hyperlink]],\"Weblink\")","v":"Weblink"},"Greenhaven Publishing","Paperback Book",1,"2012","January 2012","Paperback","6.000 X 9.000","Edited by, Edited by","Nancy Dziedzic, Lynn M. Zott",null,null,null,null,"Z",null,"Grade 10 - 12","Grade 9 - 12","This fascinating edition includes a variety of for-or-against viewpoints on urban agriculture. Essays include discussing urban agriculture as a viable solution to food insecurities, the economic sustainability of urban agriculture, the impact of urban agriculture on specific groups, such as women in developing countries, and the future of urban farming.","English",33.799999999999997,27.04,"635.977","248 pp.","https://greenhavenpublishing.com/978-0-7377-5447-6",{"$f":"Table1[[#This Row],['# of Books]]*Table1[[#This Row],[QTY]]","v":0},{"$f":"Table1[[#This Row],[QTY]]*Table1[[#This Row],[School & Library Price]]","v":0}]
[null,null,15,null,null,"Current Issues","Opposing Viewpoints","Video Games","978-0-7377-4510-8",{"$f":"HYPERLINK(Table1[[#This Row],[Hyperlink]],\"Weblink\")","v":"Weblink"},"Greenhaven Publishing","Library Bound Book",1,"2010","January 2010","Library","6.000 X 9.000","Edited by","Laurie Willis",null,null,null,null,"Z",null,"Grade 10 - 12","Grade 9 - 12","Editor Laurie Willis has compiled a fascinating collection of essays that offer varying perspectives on issues related to video games. Across four chapters, readers will evaluate what impact video games have on children and teens, how they affect society, whether or not they promote violence, and how they should be regulated.","English",48.8,39.04,"794.8","240 pp.","https://greenhavenpublishing.com/978-0-7377-4510-8",{"$f":"Table1[[#This Row],['# of Books]]*Table1[[#This Row],[QTY]]","v":0},{"$f":"Table1[[#This Row],[QTY]]*Table1[[#This Row],[School & Library Price]]","v":0}]
[null,null,15,null,null,"Current Issues","Opposing Viewpoints","Virtual Reality","978-1-5345-0030-3",{"$f":"HYPERLINK(Table1[[#This Row],[Hyperlink]],\"Weblink\")","v":"Weblink"},"Greenhaven Publishing","Paperback Book",1,"2017","January 2017","Paperback","6.000 X 9.000","Edited by","Susan Henneberg",null,null,null,null,"Z",null,"Grade 10 - 12","Grade 9 - 12","Virtual reality might seem like the stuff of science fiction, but it has been in use in various forms since the 1950s. The technology is being developed for use in education, professional and military training, therapy, entertainment, and design. But is a simulated world a better world? Experts caution that virtual reality could be physically and emotionally debilitating. They predict that society could go into decline. Is this simply fear of progress, or is it something to take seriously? Readers will learn the hot-button issues associated with virtual reality and whether we should be excited or afraid of this incredible technology.","English",33.799999999999997,27.04,"006.8--dc23","200 pp.","https://greenhavenpublishing.com/978-1-5345-0030-3",{"$f":"Table1[[#This Row],['# of Books]]*Table1[[#This Row],[QTY]]","v":0},{"$f":"Table1[[#This Row],[QTY]]*Table1[[#This Row],[School & Library Price]]","v":0}]
[null,null,15,null,null,"Current Issues","Opposing Viewpoints","War Crimes","978-0-7377-4996-0",{"$f":"HYPERLINK(Table1[[#This Row],[Hyperlink]],\"Weblink\")","v":"Weblink"},"Greenhaven Publishing","Library Bound Book",1,"2011","January 2011","Library","6.000 X 9.000","Edited by","Margaret Haerens",null,null,null,null,"Z",null,"Grade 10 - 12","Grade 9 - 12","This volume explores the topics relating to war crimes by presenting varied expert opinions that examine many of the different aspects that comprise these issues. The viewpoints are selected from a wide range of highly respected and often hard-to-find sources and publications. This collection on war crimes allows the reader to attain the higher-level critical thinking and reading skills that are essential in a culture of diverse and contradictory opinions. Readers will evaluate who can be considered war criminals, how the U.S. should address war crimes, the I.C.C, and what governments and individuals should be tried for war crimes.","English",48.8,39.04,"341.6/​9","216 pp.","https://greenhavenpublishing.com/978-0-7377-4996-0",{"$f":"Table1[[#This Row],['# of Books]]*Table1[[#This Row],[QTY]]","v":0},{"$f":"Table1[[#This Row],[QTY]]*Table1[[#This Row],[School & Library Price]]","v":0}]
[null,null,15,null,null,"Current Issues","Opposing Viewpoints","Water","978-0-7377-4546-7",{"$f":"HYPERLINK(Table1[[#This Row],[Hyperlink]],\"Weblink\")","v":"Weblink"},"Greenhaven Publishing","Library Bound Book",1,"2010","January 2010","Library","6.000 X 9.000","Edited by","Jacqueline Langwith",null,null,null,null,"Z",null,"Grade 10 - 12","Grade 9 - 12","Editor Jacqueline Langwith has compiled some startling and fascinating essays to address several issues related to water as a resource. Two essays debate whether armed conflicts will arise over future water scarcity. Another set of essays debate water privatization. The American Farmland Trust argues against a view that agriculture threatens water quality. Several other topics will truly fascinate your readers, giving them two sides to every issue, allowing them to form a well balanced, well researched opinion.","English",48.8,39.04,"363.6/​1","264 pp.","https://greenhavenpublishing.com/978-0-7377-4546-7",{"$f":"Table1[[#This Row],['# of Books]]*Table1[[#This Row],[QTY]]","v":0},{"$f":"Table1[[#This Row],[QTY]]*Table1[[#This Row],[School & Library Price]]","v":0}]
[null,null,15,null,null,"Current Issues","Opposing Viewpoints","The Wealth Gap","978-1-5345-0034-1",{"$f":"HYPERLINK(Table1[[#This Row],[Hyperlink]],\"Weblink\")","v":"Weblink"},"Greenhaven Publishing","Paperback Book",1,"2017","January 2017","Paperback","6.000 X 9.000","Edited by","Susan Henneberg",null,null,null,null,"Z",null,"Grade 10 - 12","Grade 9 - 12","Depending on whom you ask, the gap between rich and poor in the United States is widening. Is income inequality in America a cause for concern, or is it, as some experts assert, necessary for a functioning society? What is the government’s responsibility in attaining a more equitable distribution of wealth? This well-balanced anthology tackles big questions like “Is the American dream still attainable?” and “How should income inequality be addressed?” with articles from a variety of viewpoints that will help readers understand how we got to this point, what can be done to change things, and potential effects on our future.","English",33.799999999999997,27.04,"331.2’1530973--dc23","216 pp.","https://greenhavenpublishing.com/978-1-5345-0034-1",{"$f":"Table1[[#This Row],['# of Books]]*Table1[[#This Row],[QTY]]","v":0},{"$f":"Table1[[#This Row],[QTY]]*Table1[[#This Row],[School & Library Price]]","v":0}]
[null,null,15,null,null,"Current Issues","Opposing Viewpoints","White-Collar Crime","978-0-7377-4548-1",{"$f":"HYPERLINK(Table1[[#This Row],[Hyperlink]],\"Weblink\")","v":"Weblink"},"Greenhaven Publishing","Library Bound Book",1,"2009","January 2009","Library","6.000 X 9.000","Edited by","Kelly Wand",null,null,null,null,"Z",null,"Grade 10 - 12","Grade 9 - 12","Like all the other books in the Opposing Viewpoints series, this volume gives the power of knowledge and debate to the reader. Editor Kelly Wand explains what white-collar crime is, then gives the readers several opposing essays to consider about some highly-controversial views. Are corporations over-regulated? Are these crimes committed by inherently dishonest people? Are business schools creating white-collar criminals by failing to teach ethics? Are those found guilty actually repaying their debts or skating off? Readers will analyze the sides of these questions. An essay by Noam Chomsky will spur critical thinking, as he states that a criminal corporate elite is running the government and the media.\n\n","English",48.8,39.04,"364.16/​8","288 pp.","https://greenhavenpublishing.com/978-0-7377-4548-1",{"$f":"Table1[[#This Row],['# of Books]]*Table1[[#This Row],[QTY]]","v":0},{"$f":"Table1[[#This Row],[QTY]]*Table1[[#This Row],[School & Library Price]]","v":0}]
[null,null,15,null,null,"Current Issues","Opposing Viewpoints","Work and Family","978-0-7377-5770-5",{"$f":"HYPERLINK(Table1[[#This Row],[Hyperlink]],\"Weblink\")","v":"Weblink"},"Greenhaven Publishing","Paperback Book",1,"2012","January 2012","Paperback","6.000 X 9.000","Edited by","Mitchell Young",null,null,null,null,"Z",null,"Grade 10 - 12","Grade 9 - 12","Through a balanced collection of articles from a variety of sources, this volume discusses issues related to work and the American family. Articles in this text explores how women balance work and family, how men balance work and family, the impact of government policies on the work and family balance, and how a lack of work effects families.","English",33.799999999999997,27.04,"306.3/​6","192 pp.","https://greenhavenpublishing.com/978-0-7377-5770-5",{"$f":"Table1[[#This Row],['# of Books]]*Table1[[#This Row],[QTY]]","v":0},{"$f":"Table1[[#This Row],[QTY]]*Table1[[#This Row],[School & Library Price]]","v":0}]
[null,null,15,null,null,"Current Issues","Opposing Viewpoints","Working Women","978-0-7377-7302-6",{"$f":"HYPERLINK(Table1[[#This Row],[Hyperlink]],\"Weblink\")","v":"Weblink"},"Greenhaven Publishing","Library Bound Book",1,"2015","January 2015","Library","6.000 X 9.000","Edited by","Noah Berlatsky",null,null,null,null,"Z",null,"Grade 10 - 12","Grade 9 - 12","This collection of articles present pro and con viewpoints on working women. It examines whether women experience discrimination at work, how motherhood affects working women, whether the Lean In movement helps working women, and how workplace harassment affects working women.","English",48.8,39.04,"331.4","192 pp.","https://greenhavenpublishing.com/978-0-7377-7302-6",{"$f":"Table1[[#This Row],['# of Books]]*Table1[[#This Row],[QTY]]","v":0},{"$f":"Table1[[#This Row],[QTY]]*Table1[[#This Row],[School & Library Price]]","v":0}]
[null,null,15,null,null,"Current Issues","Opposing Viewpoints","The World Trade Organization","978-0-7377-4785-0",{"$f":"HYPERLINK(Table1[[#This Row],[Hyperlink]],\"Weblink\")","v":"Weblink"},"Greenhaven Publishing","Library Bound Book",1,"2010","January 2010","Library","6.000 X 9.000","Edited by","Margaret Haerens",null,null,null,null,"Z",null,"Grade 10 - 12","Grade 9 - 12","Editor Margaret Haerens has compiled a number of for-or-against essays that explore issues relating to the World Trade Organization (W.T.O.). Readers will explore the mission of the World Trade Organization and its role in the global economy, the promotion of human rights, the establishment of food safety and security, and the environment. This book also examines the relationship of the United States to the W.T.O., and looks at the importance of the W.T.O. to U.S. interests.","English",48.8,39.04,"382/.92","248 pp.","https://greenhavenpublishing.com/978-0-7377-4785-0",{"$f":"Table1[[#This Row],['# of Books]]*Table1[[#This Row],[QTY]]","v":0},{"$f":"Table1[[#This Row],[QTY]]*Table1[[#This Row],[School & Library Price]]","v":0}]
[null,null,17,null,null,"Current Issues","Introducing Issues with Opposing Viewpoints","Afghanistan","978-0-7377-4729-4",{"$f":"HYPERLINK(Table1[[#This Row],[Hyperlink]],\"Weblink\")","v":"Weblink"},"Greenhaven Publishing","Library Bound Book",1,"2010","January 2010","Library","6.500 X 9.500","Edited by","Lauri S. Friedman",null,null,null,null,"Z",null,"Grade 7 - 10","Grade 7 - 11","This assembly of essays explores the current progress of the war in Afghanistan. Readers will evaluate challenges like the presence of the Taliban, and the likelihood of democracy succeeding in the region. Essays explore the status of women, corruption, and the future choices for the United States' involvement. Compelling essay sources include Barack Obama, John Hutton, Sandy Shanks, Yifat Susskind, and Malalai Joya.","English",42,33.6,"958.104/7","144 pp.","https://greenhavenpublishing.com/978-0-7377-4729-4",{"$f":"Table1[[#This Row],['# of Books]]*Table1[[#This Row],[QTY]]","v":0},{"$f":"Table1[[#This Row],[QTY]]*Table1[[#This Row],[School & Library Price]]","v":0}]
[null,null,17,null,null,"Current Issues","Introducing Issues with Opposing Viewpoints","Autism","978-0-7377-6920-3",{"$f":"HYPERLINK(Table1[[#This Row],[Hyperlink]],\"Weblink\")","v":"Weblink"},"Greenhaven Publishing","Library Bound Book",1,"2014","January 2014","Library","6.500 X 9.500","Edited by","Lauri S. Scherer",null,null,null,null,"Z",null,"Grade 7 - 10","Grade 7 - 11","This collection of essays will serve as a fantastic primer to the subject of Autism. Essays explore the issues surrounding autism by placing opinions from a wide range of sources in a pro versus ​con format, featuring articles that express various perspectives on this topic. Because readers are presented with a variety of viewpoints, this book is also a great resource for report-writing and research. Across three chapters, readers will evaluate what causes it, whether it is a serious problem, and how it can be reduced, treated, or cured. Stellar essay sources include the Pesticide Action Network North America, Penn State, PRWeb, and the Centers for Disease Control and Prevention. ","English",42,33.6,"618.92/85882","136 pp.","https://greenhavenpublishing.com/978-0-7377-6920-3",{"$f":"Table1[[#This Row],['# of Books]]*Table1[[#This Row],[QTY]]","v":0},{"$f":"Table1[[#This Row],[QTY]]*Table1[[#This Row],[School & Library Price]]","v":0}]
[null,null,17,null,null,"Current Issues","Introducing Issues with Opposing Viewpoints","Bankruptcy","978-0-7377-4852-9",{"$f":"HYPERLINK(Table1[[#This Row],[Hyperlink]],\"Weblink\")","v":"Weblink"},"Greenhaven Publishing","Library Bound Book",1,"2010","January 2010","Library","6.500 X 9.500","Edited by","Jill Hamilton",null,null,null,null,"Z",null,"Grade 7 - 10","Grade 7 - 11","This collection of essays helps readers understand the issue of bankruptcy. Chapter one examines what factors lead to bankruptcy. Chapter two evaluates whether bankruptcy can be beneficial. Chapter three asks whether bankruptcy laws should be reformed. Essay sources include Mark S. Zuckerberg, Liz Pulliam Weston, Tim Kane, Philip Brewer, and the Physicians for a National Health Plan.","English",42,33.6,"332.7/5","144 pp.","https://greenhavenpublishing.com/978-0-7377-4852-9",{"$f":"Table1[[#This Row],['# of Books]]*Table1[[#This Row],[QTY]]","v":0},{"$f":"Table1[[#This Row],[QTY]]*Table1[[#This Row],[School & Library Price]]","v":0}]
[null,null,17,null,null,"Current Issues","Introducing Issues with Opposing Viewpoints","Civil Liberties","978-0-7377-4732-4",{"$f":"HYPERLINK(Table1[[#This Row],[Hyperlink]],\"Weblink\")","v":"Weblink"},"Greenhaven Publishing","Library Bound Book",1,"2010","January 2010","Library","6.500 X 9.500","Edited by","Lauri S. Friedman",null,null,null,null,"Z",null,"Grade 7 - 10","Grade 7 - 11","Editor Lauri S. Friedman has compiled several essays that debate topics relating to civil liberties. Across three chapters, essays answer what the state of civil liberties is in the U.S., how civil liberties should be handled during the War on Terror, and whether limits should be placed on free speech. Readers will be treated to the words and writings of Barak Obama, George W. Bush, and Kim Taipale, among other notable sources.","English",42,33.6,"323.0973","144 pp.","https://greenhavenpublishing.com/978-0-7377-4732-4",{"$f":"Table1[[#This Row],['# of Books]]*Table1[[#This Row],[QTY]]","v":0},{"$f":"Table1[[#This Row],[QTY]]*Table1[[#This Row],[School & Library Price]]","v":0}]
[null,null,17,null,null,"Current Issues","Introducing Issues with Opposing Viewpoints","Depression","978-0-7377-6921-0",{"$f":"HYPERLINK(Table1[[#This Row],[Hyperlink]],\"Weblink\")","v":"Weblink"},"Greenhaven Publishing","Library Bound Book",1,"2014","January 2014","Library","6.500 X 9.500","Edited by","David M. Haugen",null,null,null,null,"Z",null,"Grade 7 - 10","Grade 7 - 11","Use this collection of essays to help readers understand various issues relating to depression. Across three chapters, readers will evaluate the seriousness of depression, the causes, and what treatments should be used to address depression. Essays are arranged in a pro versus con format so that readers benefit from more than one intelligent opinion on each topic. This volume provides useful charts, graphs, and engaging fact boxes that provide at-a-glance information and questions that focus on vocabulary and reading comprehension. Further research is encouraged through annotated bibliographies, websites, and organizations to contact.","English",42,33.6,"616.85/27","144 pp.","https://greenhavenpublishing.com/978-0-7377-6921-0",{"$f":"Table1[[#This Row],['# of Books]]*Table1[[#This Row],[QTY]]","v":0},{"$f":"Table1[[#This Row],[QTY]]*Table1[[#This Row],[School & Library Price]]","v":0}]
[null,null,17,null,null,"Current Issues","Introducing Issues with Opposing Viewpoints","The Election Process","978-0-7377-6276-1",{"$f":"HYPERLINK(Table1[[#This Row],[Hyperlink]],\"Weblink\")","v":"Weblink"},"Greenhaven Publishing","Library Bound Book",1,"2013","January 2013","Library","6.500 X 9.500","Edited by","Noël Merino",null,null,null,null,"Z",null,"Grade 7 - 10","Grade 7 - 11","Across three chapters, readers will evaluate several sides to the debate of whether the election process is fair, whether money impacts the election process, and how the process can be improved. Essay sources include the NAACP Legal Defense and Educational Fund, Barack Obama, and the National Association for the Advancement of Colored People.","English",42,33.6,"324.60973","136 pp.","https://greenhavenpublishing.com/978-0-7377-6276-1",{"$f":"Table1[[#This Row],['# of Books]]*Table1[[#This Row],[QTY]]","v":0},{"$f":"Table1[[#This Row],[QTY]]*Table1[[#This Row],[School & Library Price]]","v":0}]
[null,null,17,null,null,"Current Issues","Introducing Issues with Opposing Viewpoints","Endangered Species","978-0-7377-5676-0",{"$f":"HYPERLINK(Table1[[#This Row],[Hyperlink]],\"Weblink\")","v":"Weblink"},"Greenhaven Publishing","Library Bound Book",1,"2012","January 2012","Library","6.500 X 9.500","Edited by","Lauri S. Friedman",null,null,null,null,"Z",null,"Grade 7 - 10","Grade 7 - 11","When the International Council for Local Environmental Initiatives tells us that climate change is a significant threat to plant and animal species, are we going to do something about it? It's difficult to say when even Presidential platforms argue that climate change is pure fiction. To any reasoning, answer-seeking individual, the writing is on the wall. Our impact on earth has accelerated the natural rate of extinction from one to five species per year to 1,000 times over the natural rate. Dozens of species are going extinct per day. This must-have volume sets aside the hype to provide readers with intelligent viewpoints on engendered species and what's causing it. Readers will use critical thinking skills to form intelligent, necessary opinions. Essay sources include Agence France-Presse, P.R. Newswire, National Wildlife Federation, and the International Council for Local Environmental Initiatives.","English",42,33.6,"333.95/22","136 pp.","https://greenhavenpublishing.com/978-0-7377-5676-0",{"$f":"Table1[[#This Row],['# of Books]]*Table1[[#This Row],[QTY]]","v":0},{"$f":"Table1[[#This Row],[QTY]]*Table1[[#This Row],[School & Library Price]]","v":0}]
[null,null,17,null,null,"Current Issues","Introducing Issues with Opposing Viewpoints","Food Safety","978-0-7377-5678-4",{"$f":"HYPERLINK(Table1[[#This Row],[Hyperlink]],\"Weblink\")","v":"Weblink"},"Greenhaven Publishing","Library Bound Book",1,"2012","January 2012","Library","6.500 X 9.500","Edited by","Noël Merino",null,null,null,null,"Z",null,"Grade 7 - 10","Grade 7 - 11","Does the current U.S. system ensure food safety? Are new food technologies safe? Are certain foods unsafe to eat? These three questions are answered through a collection of essays the represent divergent opinions on each topic. Readers will think critically in order to form their own intelligent viewpoints. Essay sources include the American Meat Institute, Food and Water Watch, and the Institute for Responsible Technology.","English",42,33.6,"363.19/20973","144 pp.","https://greenhavenpublishing.com/978-0-7377-5678-4",{"$f":"Table1[[#This Row],['# of Books]]*Table1[[#This Row],[QTY]]","v":0},{"$f":"Table1[[#This Row],[QTY]]*Table1[[#This Row],[School & Library Price]]","v":0}]
[null,null,17,null,null,"Current Issues","Introducing Issues with Opposing Viewpoints","Global Warming","978-0-7377-5681-4",{"$f":"HYPERLINK(Table1[[#This Row],[Hyperlink]],\"Weblink\")","v":"Weblink"},"Greenhaven Publishing","Library Bound Book",1,"2012","January 2012","Library","6.500 X 9.500","Edited by","Lauri S. Scherer",null,null,null,null,"Z",null,"Grade 7 - 10","Grade 7 - 11","This edition examines the issue of global warming by placing opinions from a wide range of sources in a pro versus ​con format. Readers explore whether or not global warming is actually occurring, and the potential threats posed by global warming, such as crop failure and extreme weather. Opinion essays also debate proposed ways to prevent or minimize global warming. Top-notch essay sources include the National Academy of Sciences, Environment New Jersey Research and​ Policy Center, Bryan Appleyard, and Anne Jolis.","English",42,33.6,"363.738/74","144 pp.","https://greenhavenpublishing.com/978-0-7377-5681-4",{"$f":"Table1[[#This Row],['# of Books]]*Table1[[#This Row],[QTY]]","v":0},{"$f":"Table1[[#This Row],[QTY]]*Table1[[#This Row],[School & Library Price]]","v":0}]
[null,null,18,null,null,"Current Issues","Introducing Issues with Opposing Viewpoints","Islam","978-0-7377-5682-1",{"$f":"HYPERLINK(Table1[[#This Row],[Hyperlink]],\"Weblink\")","v":"Weblink"},"Greenhaven Publishing","Library Bound Book",1,"2012","January 2012","Library","6.500 X 9.500","Edited by","Lauri S. Scherer",null,null,null,null,"Z",null,"Grade 7 - 10","Grade 7 - 11","This must-have book introduces readers to a variety of issues related to Islam. Various essays and articles explore whether or not Islam is a peaceful religion, whether Islam is compatible with democracy, whether Islam oppresses women, and the status of Islam and Muslims in the United States. Essay sources include Imam Mohammad Shamsi Ali, Rabbi Marc Schneier, The Islamic Center for Peace, and The Center for Security Policy.","English",42,33.6,"297","144 pp.","https://greenhavenpublishing.com/978-0-7377-5682-1",{"$f":"Table1[[#This Row],['# of Books]]*Table1[[#This Row],[QTY]]","v":0},{"$f":"Table1[[#This Row],[QTY]]*Table1[[#This Row],[School & Library Price]]","v":0}]
[null,null,18,null,null,"Current Issues","Introducing Issues with Opposing Viewpoints","Labor Unions","978-0-7377-6030-9",{"$f":"HYPERLINK(Table1[[#This Row],[Hyperlink]],\"Weblink\")","v":"Weblink"},"Greenhaven Publishing","Library Bound Book",1,"2012","January 2012","Library","6.500 X 9.500","Edited by","Noël Merino",null,null,null,null,"Z",null,"Grade 7 - 10","Grade 7 - 11","This volume explores many aspects of labor unions in the United States. Topics include the current status of labor unions, how the public views labor unions, the role of government in regulating labor unions, and the future of United States labor unions. Across three chapters, readers will be navigated through divergent viewpoints, which will allow them to develop informed opinions. Essay sources include the AFL-CIO, Lee E. Ohanian, Peyton R. Miller, and Garrett Keizer.","English",42,33.6,"331.880973","144 pp.","https://greenhavenpublishing.com/978-0-7377-6030-9",{"$f":"Table1[[#This Row],['# of Books]]*Table1[[#This Row],[QTY]]","v":0},{"$f":"Table1[[#This Row],[QTY]]*Table1[[#This Row],[School & Library Price]]","v":0}]
[null,null,18,null,null,"Current Issues","Introducing Issues with Opposing Viewpoints","Oceans","978-0-7377-5200-7",{"$f":"HYPERLINK(Table1[[#This Row],[Hyperlink]],\"Weblink\")","v":"Weblink"},"Greenhaven Publishing","Library Bound Book",1,"2011","January 2011","Library","6.500 X 9.500","Edited by","Lauri S. Friedman",null,null,null,null,"Z",null,"Grade 7 - 10","Grade 7 - 11","This book explores the issues surrounding various ocean species by placing opinions from a wide range of sources in a pro versus con format. It features articles that express various perspectives on this topic. Full-color photographs, charts, graphs, and illustrations supplement the text. Across three chapters, readers will evaluate whether the oceans are changing, what the most significant threats to the oceans are, and how we should protect the oceans. Essay sources include the Natural Resources Defense Council, International Fund for Animal Welfare, and the Coastal Alliance for Aquaculture Reform.","English",42,33.6,"551.46","144 pp.","https://greenhavenpublishing.com/978-0-7377-5200-7",{"$f":"Table1[[#This Row],['# of Books]]*Table1[[#This Row],[QTY]]","v":0},{"$f":"Table1[[#This Row],[QTY]]*Table1[[#This Row],[School & Library Price]]","v":0}]
[null,null,18,null,null,"Current Issues","Introducing Issues with Opposing Viewpoints","Rap Music","978-0-7377-6496-3",{"$f":"HYPERLINK(Table1[[#This Row],[Hyperlink]],\"Weblink\")","v":"Weblink"},"Greenhaven Publishing","Library Bound Book",1,"2013","January 2013","Library","6.500 X 9.500","Edited by","Noah Berlatsky",null,null,null,null,"Z",null,"Grade 7 - 10","Grade 7 - 11","Editor Noah Berlatsky has compiled several interesting essays that look at various debates relating to Rap music. Does Rap music promote violence? Is Rap music harmful to women? What is the political effect of Rap music? A for-or-against essay debates each of these questions, giving readers a broad understanding of underlying controversies.","English",42,33.6,"782.421649","200 pp.","https://greenhavenpublishing.com/978-0-7377-6496-3",{"$f":"Table1[[#This Row],['# of Books]]*Table1[[#This Row],[QTY]]","v":0},{"$f":"Table1[[#This Row],[QTY]]*Table1[[#This Row],[School & Library Price]]","v":0}]
[null,null,18,null,null,"Current Issues","Introducing Issues with Opposing Viewpoints","Sexually Transmitted Diseases","978-0-7377-6928-9",{"$f":"HYPERLINK(Table1[[#This Row],[Hyperlink]],\"Weblink\")","v":"Weblink"},"Greenhaven Publishing","Library Bound Book",1,"2014","January 2014","Library","6.500 X 9.500","Edited by, Edited by, Edited by","David M. Haugen, Michael Chaney, Susan Musser",null,null,null,null,"Z",null,"Grade 7 - 10","Grade 7 - 11","Utterly shocking but true, one in four teens has an STD. It is essential that children are fully educated about STDs so that they can make wise decisions about their own health and future. This collection of essays explores many aspects of sexually transmitted diseases. Across three chapters, readers will evaluate what contributes to the spread of STDs, what education programs address the spread of STDs, and whether government regulation would reduce infection rates. Do virginity pledges work? Does binge drinking increase a woman's risk of contracting an STD? Would mandatory testing reduce infection rates? Give your readers a book that answers these questions and more for them.","English",42,33.6,"616.95/1","136 pp.","https://greenhavenpublishing.com/978-0-7377-6928-9",{"$f":"Table1[[#This Row],['# of Books]]*Table1[[#This Row],[QTY]]","v":0},{"$f":"Table1[[#This Row],[QTY]]*Table1[[#This Row],[School & Library Price]]","v":0}]
[null,null,18,null,null,"Current Issues","Introducing Issues with Opposing Viewpoints","Smoking","978-0-7377-5101-7",{"$f":"HYPERLINK(Table1[[#This Row],[Hyperlink]],\"Weblink\")","v":"Weblink"},"Greenhaven Publishing","Library Bound Book",1,"2011","January 2011","Library","6.500 X 9.500","Edited by","Noël Merino",null,null,null,null,"Z",null,"Grade 7 - 10","Grade 7 - 11","This collection of essays examines the issues surrounding smoking by placing opinions from a wide range of sources in a pro versus con format. Readers will evaluate articles that express various perspectives on this topic. Across three chapters, essays debate if smoking is a serious problem, what legal restrictions should be placed on smoking, and what kind of social policies should be used to reduce smoking.","English",42,33.6,"362.29/​6","144 pp.","https://greenhavenpublishing.com/978-0-7377-5101-7",{"$f":"Table1[[#This Row],['# of Books]]*Table1[[#This Row],[QTY]]","v":0},{"$f":"Table1[[#This Row],[QTY]]*Table1[[#This Row],[School & Library Price]]","v":0}]
[null,null,18,null,null,"Current Issues","Introducing Issues with Opposing Viewpoints","Synthetic Drugs","978-0-7377-6929-6",{"$f":"HYPERLINK(Table1[[#This Row],[Hyperlink]],\"Weblink\")","v":"Weblink"},"Greenhaven Publishing","Library Bound Book",1,"2014","January 2014","Library","6.500 X 9.500","Edited by","Mary E. Williams",null,null,null,null,"Z",null,"Grade 7 - 10","Grade 7 - 11","This book explores many aspects of synthetic drugs, including whether synthetic drug abuse is a serious problem, what the best way to prevent synthetic drug abuse is, and whether some synthetic drugs should be used therapeutically. Essay sources include the U.S. Drug Enforcement Administration, Scripps Research Institute, Office of National Drug Control Policy, and Drug Policy Alliance. Can Ecstasy harm the brain? Is synthetic Marijuana dangerous? Is outlawing drugs counterproductive? Readers will decide for themselves.","English",42,33.6,"362.29/​9","136 pp.","https://greenhavenpublishing.com/978-0-7377-6929-6",{"$f":"Table1[[#This Row],['# of Books]]*Table1[[#This Row],[QTY]]","v":0},{"$f":"Table1[[#This Row],[QTY]]*Table1[[#This Row],[School & Library Price]]","v":0}]
[null,null,18,null,null,"Current Issues","Introducing Issues with Opposing Viewpoints","Torture","978-0-7377-5203-8",{"$f":"HYPERLINK(Table1[[#This Row],[Hyperlink]],\"Weblink\")","v":"Weblink"},"Greenhaven Publishing","Library Bound Book",1,"2011","January 2011","Library","6.500 X 9.500","Edited by","Lauri S. Friedman",null,null,null,null,"Z",null,"Grade 7 - 10","Grade 7 - 11","Young readers will be allowed a chance to think critically about the topic of torture. Essays are assembled in a for-or-against sequence across three chapters as they debate whether torture is ever justified, what qualifies as torture, and what the U.S. policy on torture should be.","English",42,33.6,"364.6/​7","152 pp.","https://greenhavenpublishing.com/978-0-7377-5203-8",{"$f":"Table1[[#This Row],['# of Books]]*Table1[[#This Row],[QTY]]","v":0},{"$f":"Table1[[#This Row],[QTY]]*Table1[[#This Row],[School & Library Price]]","v":0}]
[null,null,20,null,null,"Current Issues","At Issue","Adaptation and Climate Change","978-0-7377-6142-9",{"$f":"HYPERLINK(Table1[[#This Row],[Hyperlink]],\"Weblink\")","v":"Weblink"},"Greenhaven Publishing","Paperback Book",1,"2013","January 2013","Paperback","6.000 X 9.000","Edited by","Roman Espejo",null,null,null,null,"Z",null,"Grade 10 - 12","Grade 9 - 12","Is climate change overstated? Is adaptation or mitigation a better approach to climate change? What is the impact of climate change on the world so far? This book tackles these important questions through presenting a diversity of viewpoints. Topics such as the relocation of populations, the impact of climate change on animal and plant species, the question of food and water security, and the role of business on climate change policy are discussed at length to provide readers with foundational knowledge they will not get elsewhere.","English",27.8,22.24,"577.2/​2","136 pp.","https://greenhavenpublishing.com/978-0-7377-6142-9",{"$f":"Table1[[#This Row],['# of Books]]*Table1[[#This Row],[QTY]]","v":0},{"$f":"Table1[[#This Row],[QTY]]*Table1[[#This Row],[School & Library Price]]","v":0}]
[null,null,20,null,null,"Current Issues","At Issue","Affirmative Action","978-0-7377-4278-7",{"$f":"HYPERLINK(Table1[[#This Row],[Hyperlink]],\"Weblink\")","v":"Weblink"},"Greenhaven Publishing","Library Bound Book",1,"2009","January 2009","Library","6.000 X 9.000","Edited by","Paul G. Connors",null,null,null,null,"Z",null,"Grade 10 - 12","Grade 9 - 12","Affirmative action has been a source of controversy in American politics since its establishment in 1961; it remains to this day a subject that is continuously complicated by various socio-economic and political perspectives. This necessary edition, with contributions from educators, politicians, and students, presents readers with a spectrum of diverse viewpoints that cover topics such as affirmative action in sports, minority press coverage of affirmative action, and affirmative action as a part of American identity.","English",39.4,31.52,"331.13/​30973","136 pp.","https://greenhavenpublishing.com/978-0-7377-4278-7",{"$f":"Table1[[#This Row],['# of Books]]*Table1[[#This Row],[QTY]]","v":0},{"$f":"Table1[[#This Row],[QTY]]*Table1[[#This Row],[School & Library Price]]","v":0}]
[null,null,20,null,null,"Current Issues","At Issue","Age of Consent","978-0-7377-6816-9",{"$f":"HYPERLINK(Table1[[#This Row],[Hyperlink]],\"Weblink\")","v":"Weblink"},"Greenhaven Publishing","Library Bound Book",1,"2013","January 2013","Library","6.000 X 9.000","Edited by","Christine Watkins",null,null,null,null,"Z",null,"Grade 10 - 12","Grade 9 - 12","In the United States, each state determines the age at which a person can legally have sex. Age of Consent laws exist to prevent exploitation of young people, but these policies often spark debate because of their breadth and ambiguity. Many people may wonder if these policies are too protective in some cases and too punitive in others. This book offers a variety of perspectives on the effectiveness and impact of age of consent laws, allowing readers to gain an insight into a broad and challenging dialogue. Topics such as sexual offender registries, contraception without parental consent, and consensual teen sex are discussed.","English",39.4,31.52,"306.70835","120 pp.","https://greenhavenpublishing.com/978-0-7377-6816-9",{"$f":"Table1[[#This Row],['# of Books]]*Table1[[#This Row],[QTY]]","v":0},{"$f":"Table1[[#This Row],[QTY]]*Table1[[#This Row],[School & Library Price]]","v":0}]
[null,null,20,null,null,"Current Issues","At Issue","Alcohol Abuse","978-0-7377-5542-8",{"$f":"HYPERLINK(Table1[[#This Row],[Hyperlink]],\"Weblink\")","v":"Weblink"},"Greenhaven Publishing","Library Bound Book",1,"2012","January 2012","Library","6.000 X 9.000","Edited by","Christine Watkins",null,null,null,null,"Z",null,"Grade 10 - 12","Grade 9 - 12","This book offers readers a comprehensive look at the issues surrounding alcohol abuse. Readers will learn about the impact of alcohol consumption on health, the state of underage drinking and the effectiveness of a legalized drinking age, whether or not alcoholism can be considered a disease, the effectiveness of step programs in addressing alcohol abuse, and the long-term effects of alcoholic parents on their children. Diversified viewpoints on the topic at hand support critical thinking and a deep understanding of this health and social issue. ","English",39.4,31.52,"362.292/​0973","144 pp.","https://greenhavenpublishing.com/978-0-7377-5542-8",{"$f":"Table1[[#This Row],['# of Books]]*Table1[[#This Row],[QTY]]","v":0},{"$f":"Table1[[#This Row],[QTY]]*Table1[[#This Row],[School & Library Price]]","v":0}]
[null,null,20,null,null,"Current Issues","At Issue","The American Housing Crisis","978-0-7377-6819-0",{"$f":"HYPERLINK(Table1[[#This Row],[Hyperlink]],\"Weblink\")","v":"Weblink"},"Greenhaven Publishing","Paperback Book",1,"2014","January 2014","Paperback","6.000 X 9.000","Edited by","Louise I. Gerdes",null,null,null,null,"Z",null,"Grade 10 - 12","Grade 9 - 12","This book explores the seriousness of the American housing crisis, the impacts, causes and solutions. Readers will learn about the threat to families and neighborhoods, homeownership as a wealth-building strategy, lending reform, and mortgage interest deduction. Includes primary and secondary sources from a variety of perspectives; eyewitnesses, scientific journals, government officials, and many others.","English",27.8,22.24,"363.50973","104 pp.","https://greenhavenpublishing.com/978-0-7377-6819-0",{"$f":"Table1[[#This Row],['# of Books]]*Table1[[#This Row],[QTY]]","v":0},{"$f":"Table1[[#This Row],[QTY]]*Table1[[#This Row],[School & Library Price]]","v":0}]
[null,null,20,null,null,"Current Issues","At Issue","Animal Experimentation","978-0-7377-6143-6",{"$f":"HYPERLINK(Table1[[#This Row],[Hyperlink]],\"Weblink\")","v":"Weblink"},"Greenhaven Publishing","Library Bound Book",1,"2013","January 2013","Library","6.000 X 9.000","Edited by","Susan C. Hunnicutt",null,null,null,null,"Z",null,"Grade 10 - 12","Grade 9 - 12","Few issues are more laden with emotion and controversy than the question of whether apes, and chimpanzees in particular, should continue to be used as subjects in biomedical research. This volume examines issues related to animal experimentation. Topics of discussion include whether medical progress depends on animal research, whether rats and mice are important for Cancer research, whether new technologies can replace testing all together, and whether the Animal Welfare Act protects animals from abuse in scientific research.","English",39.4,31.52,"179/​.4","112 pp.","https://greenhavenpublishing.com/978-0-7377-6143-6",{"$f":"Table1[[#This Row],['# of Books]]*Table1[[#This Row],[QTY]]","v":0},{"$f":"Table1[[#This Row],[QTY]]*Table1[[#This Row],[School & Library Price]]","v":0}]
[null,null,20,null,null,"Current Issues","At Issue","Are Abortion Rights Threatened?","978-0-7377-6146-7",{"$f":"HYPERLINK(Table1[[#This Row],[Hyperlink]],\"Weblink\")","v":"Weblink"},"Greenhaven Publishing","Paperback Book",1,"2013","January 2013","Paperback","6.000 X 9.000","Edited by","Tamara L. Roleff",null,null,null,null,"Z",null,"Grade 10 - 12","Grade 9 - 12","Supporting Social Studies curriculum, this book discusses one of America's most controversial civil rights issues: abortion. Readers will explore the many questions this topic engenders, such as whether abortion should be banned; whether teens must notify their parents prior to having an abortion; whether women undergoing abortions should be required to have an ultrasound; and whether doctors may refuse to perform abortions if it violates their spiritual and moral beliefs.","English",27.8,22.24,"363.460973","136 pp.","https://greenhavenpublishing.com/978-0-7377-6146-7",{"$f":"Table1[[#This Row],['# of Books]]*Table1[[#This Row],[QTY]]","v":0},{"$f":"Table1[[#This Row],[QTY]]*Table1[[#This Row],[School & Library Price]]","v":0}]
[null,null,20,null,null,"Current Issues","At Issue","Are America's Wealthy Too Powerful?","978-0-7377-5087-4",{"$f":"HYPERLINK(Table1[[#This Row],[Hyperlink]],\"Weblink\")","v":"Weblink"},"Greenhaven Publishing","Library Bound Book",1,"2011","January 2011","Library","6.000 X 9.000","Edited by","Ronald D. Lankford, Jr.",null,null,null,null,"Z",null,"Grade 10 - 12","Grade 9 - 12","One of the core principles of American democracy is the belief that any citizen, regardless of economic or social status, has the ability to shape his or her government. Yet, the debate over money, politics, influence, and fairness has been ongoing since the founding of the United States. This comprehensive edition presents a variety of perspectives about this perennial controversy in America.","English",39.4,31.52,"305.5/​2340973","112 pp.","https://greenhavenpublishing.com/978-0-7377-5087-4",{"$f":"Table1[[#This Row],['# of Books]]*Table1[[#This Row],[QTY]]","v":0},{"$f":"Table1[[#This Row],[QTY]]*Table1[[#This Row],[School & Library Price]]","v":0}]
[null,null,20,null,null,"Current Issues","At Issue","Are Athletes Good Role Models?","978-0-7377-6821-3",{"$f":"HYPERLINK(Table1[[#This Row],[Hyperlink]],\"Weblink\")","v":"Weblink"},"Greenhaven Publishing","Paperback Book",1,"2014","January 2014","Paperback","6.000 X 9.000","Edited by","Thomas Riggs",null,null,null,null,"Z",null,"Grade 10 - 12","Grade 9 - 12","Do marketers need to adopt a stricter moral clause to police athlete behavior? To what degree do sports scandals reflect culture at large? How can athletes lead in combating homophobia? The informative edition tackles these questions and debates surrounding athletes as role models. Readers are offered a diverse set of perspectives on the topic through a variety of essays and articles.","English",27.8,22.24,"306.4/​83","96 pp.","https://greenhavenpublishing.com/978-0-7377-6821-3",{"$f":"Table1[[#This Row],['# of Books]]*Table1[[#This Row],[QTY]]","v":0},{"$f":"Table1[[#This Row],[QTY]]*Table1[[#This Row],[School & Library Price]]","v":0}]
[null,null,20,null,null,"Current Issues","At Issue","Are Athletes Good Role Models?","978-0-7377-7620-1",{"$f":"HYPERLINK(Table1[[#This Row],[Hyperlink]],\"Weblink\")","v":"Weblink"},"Greenhaven Publishing","eBook",1,"2014","January 2014",null,null,"Edited by","Thomas Riggs",null,null,null,null,"Z",null,"Grade 10 - 12","Grade 9 - 12","Do marketers need to adopt a stricter moral clause to police athlete behavior? To what degree do sports scandals reflect culture at large? How can athletes lead in combating homophobia? The informative edition tackles these questions and debates surrounding athletes as role models. Readers are offered a diverse set of perspectives on the topic through a variety of essays and articles.","English",39.4,31.52,"306.4/​83","96 pp.","https://greenhavenpublishing.com/978-0-7377-7620-1",{"$f":"Table1[[#This Row],['# of Books]]*Table1[[#This Row],[QTY]]","v":0},{"$f":"Table1[[#This Row],[QTY]]*Table1[[#This Row],[School & Library Price]]","v":0}]
[null,null,20,null,null,"Current Issues","At Issue","Are Government Bailouts Effective?","978-0-7377-6179-5",{"$f":"HYPERLINK(Table1[[#This Row],[Hyperlink]],\"Weblink\")","v":"Weblink"},"Greenhaven Publishing","Library Bound Book",1,"2013","January 2013","Library","6.000 X 9.000","Edited by","Louise I. Gerdes",null,null,null,null,"Z",null,"Grade 10 - 12","Grade 9 - 12","When an entire sector of the economy is about to enter bankruptcy, are those multibillion dollar, government-issued parachutes made of gold or of necessity? Does a bailout constitute a win or a loss for the country? Should big businesses be disciplined if they endanger the economy? In this anthology, experts analyze these economic questions, interpreting the facts and myths surrounding government bailouts. Essays written by Thomas Frank, Clara Jeffery, Fareed Zakaria, and Joseph E. Stiglitz.","English",39.4,31.52,"338.973/​02","128 pp.","https://greenhavenpublishing.com/978-0-7377-6179-5",{"$f":"Table1[[#This Row],['# of Books]]*Table1[[#This Row],[QTY]]","v":0},{"$f":"Table1[[#This Row],[QTY]]*Table1[[#This Row],[School & Library Price]]","v":0}]
[null,null,20,null,null,"Current Issues","At Issue","Are Mass Extinctions Inevitable?","978-0-7377-5548-0",{"$f":"HYPERLINK(Table1[[#This Row],[Hyperlink]],\"Weblink\")","v":"Weblink"},"Greenhaven Publishing","Library Bound Book",1,"2012","January 2012","Library","6.000 X 9.000","Edited by","Noah Berlatsky",null,null,null,null,"Z",null,"Grade 10 - 12","Grade 9 - 12","We know that dinosaurs once walked the Earth in great numbers, and that they all eventually died. What happened to them? This pattern has happened to other species, but is it inevitable, or do we have the power to change the course of events? Is changing habitat a factor? With temperatures and ocean levels rising, and desertification replacing lush forests, will there be any humans in a hundred years? Supporting key Social Studies standards and curriculum, this anthology takes a hard look at the factors contributing to extinctions of plants and animals, with arguments from diverse perspectives.","English",39.4,31.52,"576.8/​4","120 pp.","https://greenhavenpublishing.com/978-0-7377-5548-0",{"$f":"Table1[[#This Row],['# of Books]]*Table1[[#This Row],[QTY]]","v":0},{"$f":"Table1[[#This Row],[QTY]]*Table1[[#This Row],[School & Library Price]]","v":0}]
[null,null,20,null,null,"Current Issues","At Issue","Are Natural Disasters Increasing?","978-0-7377-7622-5",{"$f":"HYPERLINK(Table1[[#This Row],[Hyperlink]],\"Weblink\")","v":"Weblink"},"Greenhaven Publishing","eBook",1,"2014","January 2014",null,null,"Edited by","Roman Espejo",null,null,null,null,"Z",null,"Grade 10 - 12","Grade 9 - 12","Contemporary movies and television programs often depict the world as we know it displaced, awash in ocean tides or broken into pieces by devastating earthquakes. The climate data coming through news outlets can seem to reinforce this fatalistic view, with earth warming records hitting new levels year after year. While it can seem like natural disasters are increasingly affecting our world, is there data to support this perception or is this view of events mediated by panicked activists and the media? This anthology explores key ideas and opinions regarding discussions about natural disasters, including subjects such as the frequency and severity of natural disasters, poor infrastructure, human activity, and the economic costs of natural disasters.","English",39.4,31.52,"363.34","104 pp.","https://greenhavenpublishing.com/978-0-7377-7622-5",{"$f":"Table1[[#This Row],['# of Books]]*Table1[[#This Row],[QTY]]","v":0},{"$f":"Table1[[#This Row],[QTY]]*Table1[[#This Row],[School & Library Price]]","v":0}]
[null,null,20,null,null,"Current Issues","At Issue","Are Newspapers Becoming Extinct?","978-0-7377-5143-7",{"$f":"HYPERLINK(Table1[[#This Row],[Hyperlink]],\"Weblink\")","v":"Weblink"},"Greenhaven Publishing","Library Bound Book",1,"2011","January 2011","Library","6.000 X 9.000","Edited by","Jennifer Dorman",null,null,null,null,"Z",null,"Grade 10 - 12","Grade 9 - 12","Are newspapers dying if they don't turn a profit, even if people read them in overwhelming numbers? In an increasingly digital world, where does the hard-copy newspaper fit in? Media experts weigh in on these questions and others relevant to the future of printed news. Essay selections from sources include Jill Abramson, Olivia Schenk, and Michael Skube.","English",39.4,31.52,"070.5/​722","96 pp.","https://greenhavenpublishing.com/978-0-7377-5143-7",{"$f":"Table1[[#This Row],['# of Books]]*Table1[[#This Row],[QTY]]","v":0},{"$f":"Table1[[#This Row],[QTY]]*Table1[[#This Row],[School & Library Price]]","v":0}]
[null,null,20,null,null,"Current Issues","At Issue","Are Privacy Rights Being Violated?","978-0-7377-4869-7",{"$f":"HYPERLINK(Table1[[#This Row],[Hyperlink]],\"Weblink\")","v":"Weblink"},"Greenhaven Publishing","Paperback Book",1,"2010","January 2010","Paperback","6.000 X 9.000","Edited by, Edited by","Ronald D. Lankford, Jr., Stefan Kiesbye",null,null,null,null,"Z",null,"Grade 10 - 12","Grade 9 - 12","Increasingly, technology has pushed us to revisit, redefine, and change the way we talk about and view privacy, often leaving many readers to wonder if current laws infringe upon or protect our civil rights. Supporting Social Studies curriculum, this relevant edition pushes these questions even further by asking readers to use a series of diverse essays to make assessments and form opinions on various privacy right issues. Topics such as privacy in the workplace, centrally-located information sites, and privacy within the bounds of law enforcement are discussed.","English",27.8,22.24,"323.44/​80973","112 pp.","https://greenhavenpublishing.com/978-0-7377-4869-7",{"$f":"Table1[[#This Row],['# of Books]]*Table1[[#This Row],[QTY]]","v":0},{"$f":"Table1[[#This Row],[QTY]]*Table1[[#This Row],[School & Library Price]]","v":0}]
[null,null,20,null,null,"Current Issues","At Issue","Are Textbooks Biased?","978-0-7377-5551-0",{"$f":"HYPERLINK(Table1[[#This Row],[Hyperlink]],\"Weblink\")","v":"Weblink"},"Greenhaven Publishing","Paperback Book",1,"2012","January 2012","Paperback","6.000 X 9.000","Edited by","Noah Berlatsky",null,null,null,null,"Z",null,"Grade 10 - 12","Grade 9 - 12","Supporting key Social Studies curriculum, this edition asks readers to evaluate and analyze a critical topic, textbook bias. A diverse set of viewpoints gives students the opportunity to practice inquiry and expand their worldviews as they navigate questions such as: what role does and can ideological bias play in an educational context, how does a textbook explore controversial subjects without revealing or endorsing a specific bias, and should textbooks censor certain sensitive topics? This book presents the many ways that facts are interpreted through ideological bias. Topics include sex education, evolution, curriculum choice, bias for or against Islam and women in textbooks, and ethnocentrism in educational texts.","English",27.8,22.24,"371.3/​2","128 pp.","https://greenhavenpublishing.com/978-0-7377-5551-0",{"$f":"Table1[[#This Row],['# of Books]]*Table1[[#This Row],[QTY]]","v":0},{"$f":"Table1[[#This Row],[QTY]]*Table1[[#This Row],[School & Library Price]]","v":0}]
[null,null,20,null,null,"Current Issues","At Issue","Are Women Paid Fairly?","978-0-7377-6154-2",{"$f":"HYPERLINK(Table1[[#This Row],[Hyperlink]],\"Weblink\")","v":"Weblink"},"Greenhaven Publishing","Paperback Book",1,"2013","January 2013","Paperback","6.000 X 9.000","Edited by","Jennifer Dorman",null,null,null,null,"Z",null,"Grade 10 - 12","Grade 9 - 12","Why does the gender of the worker factor into financial compensation? Why are some forms of labor quantified but others, such as domestic work, not? What impact does union membership have on the wage gap? This anthology interrogates the conflicts at the heart of these questions, and others, from diverse points of view. Students gain insight into the patterns of discrimination at every level of employment. Two essays hotly debate the role of the C.E.O. in setting standards; with one essay finding that executives with daughters pay their female employees higher wages than those without. The other essay states that regardless, this will not close the gender gap.","English",27.8,22.24,"331.4/​2153","104 pp.","https://greenhavenpublishing.com/978-0-7377-6154-2",{"$f":"Table1[[#This Row],['# of Books]]*Table1[[#This Row],[QTY]]","v":0},{"$f":"Table1[[#This Row],[QTY]]*Table1[[#This Row],[School & Library Price]]","v":0}]
[null,null,20,null,null,"Current Issues","At Issue","Assimilation","978-0-7377-4640-2",{"$f":"HYPERLINK(Table1[[#This Row],[Hyperlink]],\"Weblink\")","v":"Weblink"},"Greenhaven Publishing","Library Bound Book",1,"2010","January 2010","Library","6.000 X 9.000","Edited by","Kelly Barth",null,null,null,null,"Z",null,"Grade 10 - 12","Grade 9 - 12","Does one have to speak English to be an American? Or follow a particular religion? Many students learn in school that America is the world's melting pot, yet this belies long-established attempts by many communities to retain aspects of life from original countries. Racial and ethnic identity sometimes conflict with established national narratives, leading some students to wonder how the most diverse country in history can also define itself so narrowly? This volume analyzes assimilation in the United States from contrasting viewpoints. Readers will learn the relevant questions and key ideas driving perceptions of assimilation, such as the role of immigration policies in creating assimilation, the implications of adopting dual-language and dual-citizenship programs, and the importance of pushing businesses to market to a diverse society.","English",39.4,31.52,"305.9/​069120973","112 pp.","https://greenhavenpublishing.com/978-0-7377-4640-2",{"$f":"Table1[[#This Row],['# of Books]]*Table1[[#This Row],[QTY]]","v":0},{"$f":"Table1[[#This Row],[QTY]]*Table1[[#This Row],[School & Library Price]]","v":0}]
[null,null,20,null,null,"Current Issues","At Issue","Bilingual Education","978-0-7377-7392-7",{"$f":"HYPERLINK(Table1[[#This Row],[Hyperlink]],\"Weblink\")","v":"Weblink"},"Greenhaven Publishing","Library Bound Book",1,"2016","January 2016","Library","6.000 X 9.000","Edited by","Noël Merino",null,null,null,null,"Z",null,"Grade 10 - 12","Grade 9 - 12","This informative edition explores debates related to bilingual education. It covers the successes and failures of bilingual education. It examines the popularity of dual-language learning programs, and how they can help close the learning gap for immigrant students. It covers some failures of a bilingual education programs. It covers language immersion, and gradual immersion for immigrants.","English",39.4,31.52,"370.117/​50973","96 pp.","https://greenhavenpublishing.com/978-0-7377-7392-7",{"$f":"Table1[[#This Row],['# of Books]]*Table1[[#This Row],[QTY]]","v":0},{"$f":"Table1[[#This Row],[QTY]]*Table1[[#This Row],[School & Library Price]]","v":0}]
[null,null,20,null,null,"Current Issues","At Issue","Biodiversity","978-0-7377-4677-8",{"$f":"HYPERLINK(Table1[[#This Row],[Hyperlink]],\"Weblink\")","v":"Weblink"},"Greenhaven Publishing","Library Bound Book",1,"2010","January 2010","Library","6.000 X 9.000","Edited by","Louise I. Gerdes",null,null,null,null,"Z",null,"Grade 10 - 12","Grade 9 - 12","Life on Earth consists of many millions of distinct biological species. This volume offers a variety of perspectives on the importance of this biodiversity to the environment and humanity. It explores the impact of global warming on biodiversity, the significance of mass species extinction, genetic science and its relationship to biodiversity, and the best ways to increase biodiversity.","English",39.4,31.52,"333.95/​16","120 pp.","https://greenhavenpublishing.com/978-0-7377-4677-8",{"$f":"Table1[[#This Row],['# of Books]]*Table1[[#This Row],[QTY]]","v":0},{"$f":"Table1[[#This Row],[QTY]]*Table1[[#This Row],[School & Library Price]]","v":0}]
[null,null,20,null,null,"Current Issues","At Issue","Biological and Chemical Weapons","978-0-7377-7154-1",{"$f":"HYPERLINK(Table1[[#This Row],[Hyperlink]],\"Weblink\")","v":"Weblink"},"Greenhaven Publishing","Paperback Book",1,"2015","January 2015","Paperback","6.000 X 9.000","Edited by","Amy Francis",null,null,null,null,"Z",null,"Grade 10 - 12","Grade 9 - 12","This comprehensive volume explores the threat of biological and chemical weapons to the United States and elsewhere. It examines types of biological weapons and chemical agents, funding for the development of these weapons, and the role of legal intervention. Readers will examine whether the U.S. food supply is vulnerable, whether countries need to eliminate their own stockpiles, and whether these weapons are morally worse than conventional weapons.","English",27.8,22.24,"358/​.3482","120 pp.","https://greenhavenpublishing.com/978-0-7377-7154-1",{"$f":"Table1[[#This Row],['# of Books]]*Table1[[#This Row],[QTY]]","v":0},{"$f":"Table1[[#This Row],[QTY]]*Table1[[#This Row],[School & Library Price]]","v":0}]
[null,null,20,null,null,"Current Issues","At Issue","Bitcoin","978-0-7377-7314-9",{"$f":"HYPERLINK(Table1[[#This Row],[Hyperlink]],\"Weblink\")","v":"Weblink"},"Greenhaven Publishing","Library Bound Book",1,"2015","January 2015","Library","6.000 X 9.000","Edited by","Noah Berlatsky",null,null,null,null,"Z",null,"Grade 10 - 12","Grade 9 - 12","Bitcoin is a type of decentralized digital currency accepted by many vendors as a legitimate form of payment for goods and services. While its use has been normalized by many organizations, nonprofits, and payment service providers, this cryptocurrency has also drawn criticism due to the relative ease with which it could be used as an instrument for criminal activity. Editor Noah Berlatsky has compiled a collection of essays that discuss Bitcoin and other cryptocurrencies. Discussion includes whether the currency should be banned, whether it should be regulated, whether it favors the wealthy over the poor, and whether it is a real currency.\n\n","English",39.4,31.52,"332.4","96 pp.","https://greenhavenpublishing.com/978-0-7377-7314-9",{"$f":"Table1[[#This Row],['# of Books]]*Table1[[#This Row],[QTY]]","v":0},{"$f":"Table1[[#This Row],[QTY]]*Table1[[#This Row],[School & Library Price]]","v":0}]
[null,null,21,null,null,"Current Issues","At Issue","Bulimia","978-0-7377-3674-8",{"$f":"HYPERLINK(Table1[[#This Row],[Hyperlink]],\"Weblink\")","v":"Weblink"},"Greenhaven Publishing","Paperback Book",1,"2008","January 2008","Paperback","6.000 X 9.000","Edited by","Adriane Ruggiero",null,null,null,null,"Z",null,"Grade 10 - 12","Grade 9 - 12","Editor Adriane Ruggiero has assembled twelve essays that offer varying perspectives on bulimia. Readers are encouraged to learn more about the complexities behind this eating disorder and are offered resources such as help organizations, and a bibliography for further research. Issues discussed include: the connection between shame and bulimia; the contributions of athletics to bulimia; the success rate of antidepressants as treatment; how the Internet factors in, and involuntary hospitalization.","English",27.8,22.24,"616.85/​263","104 pp.","https://greenhavenpublishing.com/978-0-7377-3674-8",{"$f":"Table1[[#This Row],['# of Books]]*Table1[[#This Row],[QTY]]","v":0},{"$f":"Table1[[#This Row],[QTY]]*Table1[[#This Row],[School & Library Price]]","v":0}]
[null,null,21,null,null,"Current Issues","At Issue","Caffeine","978-0-7377-7625-6",{"$f":"HYPERLINK(Table1[[#This Row],[Hyperlink]],\"Weblink\")","v":"Weblink"},"Greenhaven Publishing","eBook",1,"2016","January 2016",null,null,"Edited by","Amy Francis",null,null,null,null,"Z",null,"Grade 10 - 12","Grade 9 - 12","Caffeine consumption has become commonplace amongst young adults in recent years, with many teens, up to 80 percent, eagerly reaching for coffee or energy drinks on a regular basis. Caffeinated substances are legal, widely used by society, and often touted as having health benefits, yet many teenagers fail to realize that caffeine is also a drug. When misused it can lead to dependency or abuse. This informative anthology examines the various degrees of caffeine use, outlining a variety of perspectives on topics such as caffeine and cognitive performance, caffeine as an addictive substance, and the complexities of caffeine regulation.","English",39.4,31.52,"613.8/​4","216 pp.","https://greenhavenpublishing.com/978-0-7377-7625-6",{"$f":"Table1[[#This Row],['# of Books]]*Table1[[#This Row],[QTY]]","v":0},{"$f":"Table1[[#This Row],[QTY]]*Table1[[#This Row],[School & Library Price]]","v":0}]
[null,null,21,null,null,"Current Issues","At Issue","Can Celebrities Change the World?","978-0-7377-4088-2",{"$f":"HYPERLINK(Table1[[#This Row],[Hyperlink]],\"Weblink\")","v":"Weblink"},"Greenhaven Publishing","Library Bound Book",1,"2009","January 2009","Library","6.000 X 9.000","Edited by","Roman Espejo",null,null,null,null,"Z",null,"Grade 10 - 12","Grade 9 - 12","This comprehensive book offers readers a collection of eleven essays that discuss various viewpoints about the influence of celebrities. Readers will learn about the impact of celebrity activism on domestic and international affairs, philanthropic motivations, and status as role models. Two of the essays hotly debate whether celebrities should be role models for women.","English",39.4,31.52,"303.48/​4","104 pp.","https://greenhavenpublishing.com/978-0-7377-4088-2",{"$f":"Table1[[#This Row],['# of Books]]*Table1[[#This Row],[QTY]]","v":0},{"$f":"Table1[[#This Row],[QTY]]*Table1[[#This Row],[School & Library Price]]","v":0}]
[null,null,21,null,null,"Current Issues","At Issue","Can Celebrities Change the World?","978-0-7377-4089-9",{"$f":"HYPERLINK(Table1[[#This Row],[Hyperlink]],\"Weblink\")","v":"Weblink"},"Greenhaven Publishing","Paperback Book",1,"2009","January 2009","Paperback","6.000 X 9.000","Edited by","Roman Espejo",null,null,null,null,"Z",null,"Grade 10 - 12","Grade 9 - 12","This comprehensive book offers readers a collection of eleven essays that discuss various viewpoints about the influence of celebrities. Readers will learn about the impact of celebrity activism on domestic and international affairs, philanthropic motivations, and status as role models. Two of the essays hotly debate whether celebrities should be role models for women.","English",27.8,22.24,"303.48/​4","104 pp.","https://greenhavenpublishing.com/978-0-7377-4089-9",{"$f":"Table1[[#This Row],['# of Books]]*Table1[[#This Row],[QTY]]","v":0},{"$f":"Table1[[#This Row],[QTY]]*Table1[[#This Row],[School & Library Price]]","v":0}]
[null,null,21,null,null,"Current Issues","At Issue","Can Glacier and Icemelt Be Reversed?","978-0-7377-6826-8",{"$f":"HYPERLINK(Table1[[#This Row],[Hyperlink]],\"Weblink\")","v":"Weblink"},"Greenhaven Publishing","Library Bound Book",1,"2014","January 2014","Library","6.000 X 9.000","Edited by","Roman Espejo",null,null,null,null,"Z",null,"Grade 10 - 12","Grade 9 - 12","This book explores many issues related to the reversal of glaciers and ice melt, including: reducing soot as it relates to glaciers, media reporting of ice melt, the rate ice sheets are melting, Antarctica and melting, and permafrost warming. Includes primary and secondary sources from a variety of perspectives; eyewitnesses, scientific journals, government officials, and many others.","English",39.4,31.52,"551.31","120 pp.","https://greenhavenpublishing.com/978-0-7377-6826-8",{"$f":"Table1[[#This Row],['# of Books]]*Table1[[#This Row],[QTY]]","v":0},{"$f":"Table1[[#This Row],[QTY]]*Table1[[#This Row],[School & Library Price]]","v":0}]
[null,null,21,null,null,"Current Issues","At Issue","Cancer","978-0-7377-5559-6",{"$f":"HYPERLINK(Table1[[#This Row],[Hyperlink]],\"Weblink\")","v":"Weblink"},"Greenhaven Publishing","Paperback Book",1,"2012","January 2012","Paperback","6.000 X 9.000","Edited by","Jacqueline Langwith",null,null,null,null,"Z",null,"Grade 10 - 12","Grade 9 - 12","Assembled here are eleven detailed essays on humankind's current understanding of Cancer. Readers will see both sides to each issue raised in order to sharpen critical thinking skills. Readers learn whether our genes and our modern environment cause any of the Cancers. They will evaluate whether mammograms save lives, and the role that Vitamin D plays in cancer reduction. An essay on how Artificial Intelligence will find cures for cancer will engage readers.","English",27.8,22.24,"616.99/​405","104 pp.","https://greenhavenpublishing.com/978-0-7377-5559-6",{"$f":"Table1[[#This Row],['# of Books]]*Table1[[#This Row],[QTY]]","v":0},{"$f":"Table1[[#This Row],[QTY]]*Table1[[#This Row],[School & Library Price]]","v":0}]
[null,null,21,null,null,"Current Issues","At Issue","Cell Phones and Driving","978-0-7377-7156-5",{"$f":"HYPERLINK(Table1[[#This Row],[Hyperlink]],\"Weblink\")","v":"Weblink"},"Greenhaven Publishing","Paperback Book",1,"2015","January 2015","Paperback","6.000 X 9.000","Edited by","Roman Espejo",null,null,null,null,"Z",null,"Grade 10 - 12","Grade 9 - 12","Editor Roman Espejo has compiled eleven essays that present both sides to the lively debate about cell phones and driving. Provide your teen drivers with the essential facts about this topic. Essays debate whether cell phone use while driving should be banned, whether hands-free technology is helping or hurting the issue, and whether new technology can be developed to reduce distracted driving.","English",27.8,22.24,"363.12/​51","88 pp.","https://greenhavenpublishing.com/978-0-7377-7156-5",{"$f":"Table1[[#This Row],['# of Books]]*Table1[[#This Row],[QTY]]","v":0},{"$f":"Table1[[#This Row],[QTY]]*Table1[[#This Row],[School & Library Price]]","v":0}]
[null,null,21,null,null,"Current Issues","At Issue","Cell Phones in Schools","978-0-7377-6155-9",{"$f":"HYPERLINK(Table1[[#This Row],[Hyperlink]],\"Weblink\")","v":"Weblink"},"Greenhaven Publishing","Library Bound Book",1,"2014","January 2014","Library","6.000 X 9.000","Edited by","Roman Espejo",null,null,null,null,"Z",null,"Grade 10 - 12","Grade 9 - 12","When parents allow their children and teens to have cell phones, it does lend a sense of security. This sense of security compromises a number of other areas, however. Bullying is just one of the issues raised when cell phones are welcomed at schools. From creating a distraction in the classroom to improving academic performance, these devices polarize educators and administrators. Editor Roman Espejo assembled fourteen hard-hitting essays that will give readers a full understanding on this topic.","English",39.4,31.52,"302.23083","88 pp.","https://greenhavenpublishing.com/978-0-7377-6155-9",{"$f":"Table1[[#This Row],['# of Books]]*Table1[[#This Row],[QTY]]","v":0},{"$f":"Table1[[#This Row],[QTY]]*Table1[[#This Row],[School & Library Price]]","v":0}]
[null,null,21,null,null,"Current Issues","At Issue","Child Pornography","978-0-7377-6158-0",{"$f":"HYPERLINK(Table1[[#This Row],[Hyperlink]],\"Weblink\")","v":"Weblink"},"Greenhaven Publishing","Paperback Book",1,"2013","January 2013","Paperback","6.000 X 9.000","Edited by","Stefan Kiesbye",null,null,null,null,"Z",null,"Grade 10 - 12","Grade 9 - 12","The Child Pornography Prevention Act of 1966 was the first federal law enacted to ban the virtual exploitation and sexual abuse of children. However, with the expanse of technology, new challenges arise in combatting these abuses. Editor Stefan Kiesbye assembled fourteen essays that explore the various difficulties internet services, the IT industry, law enforcement, and legislation face in tackling and ending child pornography.","English",27.8,22.24,"364.1/​74083","104 pp.","https://greenhavenpublishing.com/978-0-7377-6158-0",{"$f":"Table1[[#This Row],['# of Books]]*Table1[[#This Row],[QTY]]","v":0},{"$f":"Table1[[#This Row],[QTY]]*Table1[[#This Row],[School & Library Price]]","v":0}]
[null,null,21,null,null,"Current Issues","At Issue","The Children of Undocumented Immigrants","978-0-7377-6160-3",{"$f":"HYPERLINK(Table1[[#This Row],[Hyperlink]],\"Weblink\")","v":"Weblink"},"Greenhaven Publishing","Paperback Book",1,"2013","August 2013","Paperback","6.000 X 9.000","Edited by, Edited by","David M. Haugen, Susan Musser",null,null,null,null,null,null,"Grade 10 - 12","Grade 9 - 12","The Migration Policy Institute released a fact sheet in 2016, stating that children born in the U.S. of a parent or parents who are undocumented immigrants, are placed at a severe disadvantage in life. This data was collected from 5.1 million children who are living with an unauthorized immigrant parent. Researchers found that these children are likely not to be enrolled in preschool, are likely to be held in a socioeconomic level that keeps them from developing and gaining access to resources, and are likely to fail in English proficiency that is necessary to move ahead in life. Place on top of that, the stress that their parent might be deported at any minute. These children are at risk, without a doubt. While U.S. policies on immigration and border control are hotly debated, this volume makes sure that we don't forget what's really at stake, the future of our young. Your readers are given the full breadth of perspectives on this topic, through eyewitness accounts, governmental views, scientific analysis, and newspaper accounts. Important details are pulled out from the text and presented in italicized font so that readers can track the facts, and refer to them for research and report writing. Most important of all, by reading balanced and well-researched entries, students will be able to form intelligent opinions on this pressing issue.","English",27.8,22.24,"305.23/0973--dc23","104 pp.","https://greenhavenpublishing.com/978-0-7377-6160-3",{"$f":"Table1[[#This Row],['# of Books]]*Table1[[#This Row],[QTY]]","v":0},{"$f":"Table1[[#This Row],[QTY]]*Table1[[#This Row],[School & Library Price]]","v":0}]
[null,null,21,null,null,"Current Issues","At Issue","Club Drugs","978-1-5345-0250-5",{"$f":"HYPERLINK(Table1[[#This Row],[Hyperlink]],\"Weblink\")","v":"Weblink"},"Greenhaven Publishing","eBook",1,"2013","January 2013",null,null,"Edited by","Christine Watkins",null,null,null,null,"Z",null,"Grade 10 - 12","Grade 9 - 12","LSD, MDMA, Ketamine, the number of drugs used to enhance the experience of clubs, music festivals, or social gatherings seems to grow year after year. Despite the immense danger of these drugs, they continue to be used recreationally by many young adults. This necessary edition joins the voices of organizations such as the Office on Women's Health, Case Western Reserve University School of Medicine, and Frontline in order to present readers with a comprehensive understanding of club drug use.","English",39.4,31.52,"362.29/​9","120 pp.","https://greenhavenpublishing.com/978-1-5345-0250-5",{"$f":"Table1[[#This Row],['# of Books]]*Table1[[#This Row],[QTY]]","v":0},{"$f":"Table1[[#This Row],[QTY]]*Table1[[#This Row],[School & Library Price]]","v":0}]
[null,null,21,null,null,"Current Issues","At Issue","Concealed Weapons","978-0-7377-5147-5",{"$f":"HYPERLINK(Table1[[#This Row],[Hyperlink]],\"Weblink\")","v":"Weblink"},"Greenhaven Publishing","Library Bound Book",1,"2011","January 2011","Library","6.000 X 9.000","Edited by","Kacy Lovelace",null,null,null,null,"Z",null,"Grade 10 - 12","Grade 9 - 12","This book examines issues related to concealed weapons. Readers are presented with articles discussing the legal issues surrounding carrying concealed weapons, including whether permitting them endangers public safety or infringes on freedom, whether permits should be required, and where weapons should be allowed. ","English",39.4,31.52,"344.730533","112 pp.","https://greenhavenpublishing.com/978-0-7377-5147-5",{"$f":"Table1[[#This Row],['# of Books]]*Table1[[#This Row],[QTY]]","v":0},{"$f":"Table1[[#This Row],[QTY]]*Table1[[#This Row],[School & Library Price]]","v":0}]
[null,null,21,null,null,"Current Issues","At Issue","Corporate Corruption","978-0-7377-7365-1",{"$f":"HYPERLINK(Table1[[#This Row],[Hyperlink]],\"Weblink\")","v":"Weblink"},"Greenhaven Publishing","Paperback Book",1,"2016","January 2016","Paperback","6.000 X 9.000","Edited by","Sarah Armstrong",null,null,null,null,"Z",null,"Grade 10 - 12","Grade 9 - 12","Twelve detailed essays were assembled by editor Sarah Armstrong, to help students obtain a balanced understanding of corporate corruption. Students will read whether global efforts against corruption are working, whether corporate profiteering is a source of environmental violence, and whether corporate rights work against the individual's rights.","English",27.8,22.24,"364.16/​8","104 pp.","https://greenhavenpublishing.com/978-0-7377-7365-1",{"$f":"Table1[[#This Row],['# of Books]]*Table1[[#This Row],[QTY]]","v":0},{"$f":"Table1[[#This Row],[QTY]]*Table1[[#This Row],[School & Library Price]]","v":0}]
[null,null,21,null,null,"Current Issues","At Issue","Designer Babies","978-0-7377-6164-1",{"$f":"HYPERLINK(Table1[[#This Row],[Hyperlink]],\"Weblink\")","v":"Weblink"},"Greenhaven Publishing","Paperback Book",1,"2013","January 2013","Paperback","6.000 X 9.000","Edited by","Clay Farris Naff",null,null,null,null,"Z",null,"Grade 10 - 12","Grade 9 - 12","The growing field of reproductive technology has changed the way many medical professionals and prospective parents think about conceiving. Procedures such as in vitro fertilization and frozen embryo transfer have given thousands of people more agency over their reproductive paths, but these new innovations have also ushered in ethical and moral debates. Among the most controversial is the topic of genetically modified embryos also known to some as \"designer babies.\" This comprehensive anthology urges students and readers to enter the arena of debate in order to learn more about the various complexities of this subject.","English",27.8,22.24,"616.6/​9206","112 pp.","https://greenhavenpublishing.com/978-0-7377-6164-1",{"$f":"Table1[[#This Row],['# of Books]]*Table1[[#This Row],[QTY]]","v":0},{"$f":"Table1[[#This Row],[QTY]]*Table1[[#This Row],[School & Library Price]]","v":0}]
[null,null,21,null,null,"Current Issues","At Issue","Distracted Driving","978-0-7377-5566-4",{"$f":"HYPERLINK(Table1[[#This Row],[Hyperlink]],\"Weblink\")","v":"Weblink"},"Greenhaven Publishing","Library Bound Book",1,"2012","January 2012","Library","6.000 X 9.000","Edited by","Stefan Kiesbye",null,null,null,null,"Z",null,"Grade 10 - 12","Grade 9 - 12","This book examines the topic of distracted driving by presenting memorable essays that will hopefully leave an impression on young drivers. Readers explore the seriousness of the distracted driving problem in the United States, the impact of cell phone use and texting on driving effectiveness, and other potential driving distractions, such as pets, children, navigation systems, and eating.","English",39.4,31.52,"363.12/​51","96 pp.","https://greenhavenpublishing.com/978-0-7377-5566-4",{"$f":"Table1[[#This Row],['# of Books]]*Table1[[#This Row],[QTY]]","v":0},{"$f":"Table1[[#This Row],[QTY]]*Table1[[#This Row],[School & Library Price]]","v":0}]
[null,null,21,null,null,"Current Issues","At Issue","Distracted Driving","978-0-7377-5567-1",{"$f":"HYPERLINK(Table1[[#This Row],[Hyperlink]],\"Weblink\")","v":"Weblink"},"Greenhaven Publishing","Paperback Book",1,"2012","January 2012","Paperback","6.000 X 9.000","Edited by","Stefan Kiesbye",null,null,null,null,"Z",null,"Grade 10 - 12","Grade 9 - 12","This book examines the topic of distracted driving by presenting memorable essays that will hopefully leave an impression on young drivers. Readers explore the seriousness of the distracted driving problem in the United States, the impact of cell phone use and texting on driving effectiveness, and other potential driving distractions, such as pets, children, navigation systems, and eating.","English",27.8,22.24,"363.12/​51","96 pp.","https://greenhavenpublishing.com/978-0-7377-5567-1",{"$f":"Table1[[#This Row],['# of Books]]*Table1[[#This Row],[QTY]]","v":0},{"$f":"Table1[[#This Row],[QTY]]*Table1[[#This Row],[School & Library Price]]","v":0}]
[null,null,21,null,null,"Current Issues","At Issue","DNA Databases","978-0-7377-5890-0",{"$f":"HYPERLINK(Table1[[#This Row],[Hyperlink]],\"Weblink\")","v":"Weblink"},"Greenhaven Publishing","Library Bound Book",1,"2012","January 2012","Library","6.000 X 9.000","Edited by","Stefan Kiesbye",null,null,null,null,"Z",null,"Grade 10 - 12","Grade 9 - 12","What are the benefits and burdens of DNA databases? Is there potential for abuse and error? Can they help solve crimes or will they contribute to targeted profiling? Can DNA databases help in the fight against animal cruelty? Supporting Social Studies curriculum, this edition asks readers to examine the complicated topic of DNA databases. Readers are presented with a wealth of opposing perspectives on the topic, with sources including the ASPCA, the Associated Press, Emily Ramshaw, and Richard Hurst.","English",39.4,31.52,"614/​.12","104 pp.","https://greenhavenpublishing.com/978-0-7377-5890-0",{"$f":"Table1[[#This Row],['# of Books]]*Table1[[#This Row],[QTY]]","v":0},{"$f":"Table1[[#This Row],[QTY]]*Table1[[#This Row],[School & Library Price]]","v":0}]
[null,null,21,null,null,"Current Issues","At Issue","Do Cell Phones Cause Cancer?","978-0-7377-6167-2",{"$f":"HYPERLINK(Table1[[#This Row],[Hyperlink]],\"Weblink\")","v":"Weblink"},"Greenhaven Publishing","Library Bound Book",1,"2013","January 2013","Library","6.000 X 9.000","Edited by","Clay Farris Naff",null,null,null,null,"Z",null,"Grade 10 - 12","Grade 9 - 12","The cell phone boom was exciting, but no sooner than cell phones were seemingly everywhere there was talk of the devices causing Cancer. It still isn't clear whether they do or not. This book posits essays across from each other, debating this issue. Readers will learn whether cell phones present carcinogenic hazards, what studies on animals have shown and if results are reliable, and the impact of ordinances on use, such as the San Francisco Mandatory Ordinance.","English",39.4,31.52,"612/​.014481","104 pp.","https://greenhavenpublishing.com/978-0-7377-6167-2",{"$f":"Table1[[#This Row],['# of Books]]*Table1[[#This Row],[QTY]]","v":0},{"$f":"Table1[[#This Row],[QTY]]*Table1[[#This Row],[School & Library Price]]","v":0}]
[null,null,22,null,null,"Current Issues","At Issue","Do Infectious Diseases Pose a Threat?","978-0-7377-6831-2",{"$f":"HYPERLINK(Table1[[#This Row],[Hyperlink]],\"Weblink\")","v":"Weblink"},"Greenhaven Publishing","Paperback Book",1,"2014","January 2014","Paperback","6.000 X 9.000","Edited by","Roman Espejo",null,null,null,null,"Z",null,"Grade 10 - 12","Grade 9 - 12","This book explores the issue of infectious diseases, including the role of drug resistance and environmental destruction; whether infectious diseases threaten national security; whether fears of an influenza pandemic are overblown; and the role of vaccines.","English",27.8,22.24,"362.1969","104 pp.","https://greenhavenpublishing.com/978-0-7377-6831-2",{"$f":"Table1[[#This Row],['# of Books]]*Table1[[#This Row],[QTY]]","v":0},{"$f":"Table1[[#This Row],[QTY]]*Table1[[#This Row],[School & Library Price]]","v":0}]
[null,null,22,null,null,"Current Issues","At Issue","Do Religious Groups in America Experience Discrimination?","978-0-7377-3399-0",{"$f":"HYPERLINK(Table1[[#This Row],[Hyperlink]],\"Weblink\")","v":"Weblink"},"Greenhaven Publishing","Library Bound Book",1,"2007","January 2007","Library","6.000 X 9.000","Edited by","Janel D. Ginn",null,null,null,null,"Z",null,"Grade 10 - 12","Grade 9 - 12","Supporting Social Studies curriculum, this comprehensive anthology collects an array of voices on the subject of religious discrimination in America. Topics such as Christians in school, anti-Semitism on campus, the role of religion in education, Islamic women and feminism, homosexuality in the Episcopal Church, and Hare Krishnas are discussed at length. The pro/con format encourages readers to form educated opinions through text analysis and inquiry.","English",39.4,31.52,"305.60973","136 pp.","https://greenhavenpublishing.com/978-0-7377-3399-0",{"$f":"Table1[[#This Row],['# of Books]]*Table1[[#This Row],[QTY]]","v":0},{"$f":"Table1[[#This Row],[QTY]]*Table1[[#This Row],[School & Library Price]]","v":0}]
[null,null,22,null,null,"Current Issues","At Issue","Do Students Have Too Much Homework?","978-0-7377-5893-1",{"$f":"HYPERLINK(Table1[[#This Row],[Hyperlink]],\"Weblink\")","v":"Weblink"},"Greenhaven Publishing","Paperback Book",1,"2012","January 2012","Paperback","6.000 X 9.000","Edited by","Judeen Bartos",null,null,null,null,"Z",null,"Grade 10 - 12","Grade 9 - 12","This collection of essays will get your students revved up, about homework. Debates between the essays include whether college students study less now than in the past, whether the family unit is strained from too much homework, whether life lessons are more important than school lessons, and whether increased homework correlates to improved performance. A discussion of selected global homework practices is also included.","English",27.8,22.24,"371.30281","112 pp.","https://greenhavenpublishing.com/978-0-7377-5893-1",{"$f":"Table1[[#This Row],['# of Books]]*Table1[[#This Row],[QTY]]","v":0},{"$f":"Table1[[#This Row],[QTY]]*Table1[[#This Row],[School & Library Price]]","v":0}]
[null,null,22,null,null,"Current Issues","At Issue","Does Capital Punishment Deter Crime?","978-0-7377-3675-5",{"$f":"HYPERLINK(Table1[[#This Row],[Hyperlink]],\"Weblink\")","v":"Weblink"},"Greenhaven Publishing","Library Bound Book",1,"2008","January 2008","Library","6.000 X 9.000","Edited by","Amy Marcaccio Keyzer",null,null,null,null,"Z",null,"Grade 10 - 12","Grade 9 - 12","The saying \"an eye for an eye\" has been interpreted many different ways, including to excuse the intentions of revenge. Capital punishment is posted in the strength of this saying, meaning if you take a life, you don't deserve to keep your life. Yet states are wildly divided on whether to instate it or not. This informative book presents essays on the effectiveness of capital punishment as a deterrent to crime, examining the issue from differing points of view. It includes discussion of related topics such as: the death penalty as a form of terrorism control; the role of the death penalty in community protection, whether the death penalty actually saves lives.","English",39.4,31.52,"364.660973","112 pp.","https://greenhavenpublishing.com/978-0-7377-3675-5",{"$f":"Table1[[#This Row],['# of Books]]*Table1[[#This Row],[QTY]]","v":0},{"$f":"Table1[[#This Row],[QTY]]*Table1[[#This Row],[School & Library Price]]","v":0}]
[null,null,22,null,null,"Current Issues","At Issue","Does the Internet Increase Anxiety?","978-0-7377-7382-8",{"$f":"HYPERLINK(Table1[[#This Row],[Hyperlink]],\"Weblink\")","v":"Weblink"},"Greenhaven Publishing","Library Bound Book",1,"2016","January 2016","Library","6.000 X 9.000","Edited by","Tamara Thompson",null,null,null,null,"Z",null,"Grade 10 - 12","Grade 9 - 12","This book explores the new phenomena of anxiety surrounding the Internet, which has developed with the explosion of social media use. Mobile-devise separation anxiety, digital overload, and activity tracking are a selection of topics discussed.","English",39.4,31.52,"303.48/33","104 pp.","https://greenhavenpublishing.com/978-0-7377-7382-8",{"$f":"Table1[[#This Row],['# of Books]]*Table1[[#This Row],[QTY]]","v":0},{"$f":"Table1[[#This Row],[QTY]]*Table1[[#This Row],[School & Library Price]]","v":0}]
[null,null,22,null,null,"Current Issues","At Issue","Does the Internet Increase Anxiety?","978-0-7377-7383-5",{"$f":"HYPERLINK(Table1[[#This Row],[Hyperlink]],\"Weblink\")","v":"Weblink"},"Greenhaven Publishing","Paperback Book",1,"2016","January 2016","Paperback","6.000 X 9.000","Edited by","Tamara Thompson",null,null,null,null,"Z",null,"Grade 10 - 12","Grade 9 - 12","This book explores the new phenomena of anxiety surrounding the Internet, which has developed with the explosion of social media use. Mobile-devise separation anxiety, digital overload, and activity tracking are a selection of topics discussed.","English",27.8,22.24,"303.48/33","104 pp.","https://greenhavenpublishing.com/978-0-7377-7383-5",{"$f":"Table1[[#This Row],['# of Books]]*Table1[[#This Row],[QTY]]","v":0},{"$f":"Table1[[#This Row],[QTY]]*Table1[[#This Row],[School & Library Price]]","v":0}]
[null,null,22,null,null,"Current Issues","At Issue","Does the U.S. Two-Party System Still Work?","978-0-7377-4645-7",{"$f":"HYPERLINK(Table1[[#This Row],[Hyperlink]],\"Weblink\")","v":"Weblink"},"Greenhaven Publishing","Paperback Book",1,"2010","January 2010","Paperback","6.000 X 9.000","Edited by","Noah Berlatsky",null,null,null,null,"Z",null,"Grade 10 - 12","Grade 9 - 12","The increasing volatility in American politics often leads many people to wonder if the two-party system is still a viable, and healthy, part of the political process. Directly supporting key Social Studies curriculum and political science studies, this informative anthology tackles the many questions related to the two-party system in America. Readers are presented with essays and articles that expand upon topics such as third-party campaigns, the electoral college, and gerrymandering. ","English",27.8,22.24,"324.273","104 pp.","https://greenhavenpublishing.com/978-0-7377-4645-7",{"$f":"Table1[[#This Row],['# of Books]]*Table1[[#This Row],[QTY]]","v":0},{"$f":"Table1[[#This Row],[QTY]]*Table1[[#This Row],[School & Library Price]]","v":0}]
[null,null,22,null,null,"Current Issues","At Issue","Domestic Surveillance","978-0-7377-7632-4",{"$f":"HYPERLINK(Table1[[#This Row],[Hyperlink]],\"Weblink\")","v":"Weblink"},"Greenhaven Publishing","eBook",1,"2015","January 2015",null,null,"Edited by","Tamara Thompson",null,null,null,null,"Z",null,"Grade 10 - 12","Grade 9 - 12","Readers explore the worth of domestic surveillance and how it impacts the country. This volume also looks at the ethics of the National Security Agency as well as whether or not domestic surveillance needs more oversight. Fifteen different essays provide debate on both sides of every issues, allowing readers to sharpen their critical thinking skills.","English",39.4,31.52,"327.1273","136 pp.","https://greenhavenpublishing.com/978-0-7377-7632-4",{"$f":"Table1[[#This Row],['# of Books]]*Table1[[#This Row],[QTY]]","v":0},{"$f":"Table1[[#This Row],[QTY]]*Table1[[#This Row],[School & Library Price]]","v":0}]
[null,null,22,null,null,"Current Issues","At Issue","Domestic Terrorism","978-1-5345-0011-2",{"$f":"HYPERLINK(Table1[[#This Row],[Hyperlink]],\"Weblink\")","v":"Weblink"},"Greenhaven Publishing","eBook",1,"2017","January 2017",null,null,"Edited by","Elizabeth Schmermund",null,null,null,null,"Z",null,"Grade 10 - 12","Grade 9 - 12","What constitutes domestic terrorism? The answer is actually more complicated than most of us would think. Readers of this informative anthology will progress through a range of articles offering diverse viewpoints about the Patriot Act, the differences in perception of white Christian violent extremists and those of other races and religions, why some environmental and animal activists are considered terrorists, the growing problem of \"paper terrorism,\" and what can lead homegrown terrorists to lash out against a country that has given them so much opportunity.","English",39.4,31.52,"371.7'82--dc23","176 pp.","https://greenhavenpublishing.com/978-1-5345-0011-2",{"$f":"Table1[[#This Row],['# of Books]]*Table1[[#This Row],[QTY]]","v":0},{"$f":"Table1[[#This Row],[QTY]]*Table1[[#This Row],[School & Library Price]]","v":0}]
[null,null,22,null,null,"Current Issues","At Issue","Drones","978-0-7377-6833-6",{"$f":"HYPERLINK(Table1[[#This Row],[Hyperlink]],\"Weblink\")","v":"Weblink"},"Greenhaven Publishing","Paperback Book",1,"2014","January 2014","Paperback","6.000 X 9.000","Edited by","Louise I. Gerdes",null,null,null,null,"Z",null,"Grade 10 - 12","Grade 9 - 12","This book debates the use of drones in fighting terrorism, in conducting war in general, in assisting border security, and in carrying out domestic surveillance. Drones, as well, may be an effective environmental protection tool. Readers are given balanced essays on both sides of the aisle, from a variety of sources including America Magazine, Ramesh Thakur, Hussain Nadim, Mary Ellen O'Connell, and Denis D. Gray.","English",27.8,22.24,"358.4","128 pp.","https://greenhavenpublishing.com/978-0-7377-6833-6",{"$f":"Table1[[#This Row],['# of Books]]*Table1[[#This Row],[QTY]]","v":0},{"$f":"Table1[[#This Row],[QTY]]*Table1[[#This Row],[School & Library Price]]","v":0}]
[null,null,22,null,null,"Current Issues","At Issue","The Energy Crisis","978-0-7377-4679-2",{"$f":"HYPERLINK(Table1[[#This Row],[Hyperlink]],\"Weblink\")","v":"Weblink"},"Greenhaven Publishing","Library Bound Book",1,"2010","January 2010","Library","6.000 X 9.000","Edited by","Lisa Krueger",null,null,null,null,"Z",null,"Grade 10 - 12","Grade 9 - 12","What is the plan if the world runs out of oil? Our infrastructure and everyday lives depend on a steady supply of oil, but oil is a finite resource. Will drilling in the Arctic alleviate our dependence on foreign oil? This anthology looks at the consequences of our use of oil from a public policy, environmental, and foreign policy perspective. Readers learn about the key ideas that underpin hot-button stories in the news and learn about solutions such as alternative sources of fuel.","English",39.4,31.52,"333.79","112 pp.","https://greenhavenpublishing.com/978-0-7377-4679-2",{"$f":"Table1[[#This Row],['# of Books]]*Table1[[#This Row],[QTY]]","v":0},{"$f":"Table1[[#This Row],[QTY]]*Table1[[#This Row],[School & Library Price]]","v":0}]
[null,null,22,null,null,"Current Issues","At Issue","Ethanol","978-0-7377-4414-9",{"$f":"HYPERLINK(Table1[[#This Row],[Hyperlink]],\"Weblink\")","v":"Weblink"},"Greenhaven Publishing","Library Bound Book",1,"2009","January 2009","Library","6.000 X 9.000","Edited by, Edited by","Suzanne Dewsbury, Ian M. Dewsbury",null,null,null,null,"Z",null,"Grade 10 - 12","Grade 9 - 12","This book presents a series of essays that debate various topics about ethanol, such as the politics of ethanol production; government subsidies as they relate to corn-based ethanol production; and the relationship between ethanol and the retail price of food. Includes primary and secondary sources and essays from The Economist, Ethanol Across America, the American Coalition for Ethanol, Kiran Bhat, and Elizabeth Svoboda.","English",39.4,31.52,"333.95/​39","128 pp.","https://greenhavenpublishing.com/978-0-7377-4414-9",{"$f":"Table1[[#This Row],['# of Books]]*Table1[[#This Row],[QTY]]","v":0},{"$f":"Table1[[#This Row],[QTY]]*Table1[[#This Row],[School & Library Price]]","v":0}]
[null,null,22,null,null,"Current Issues","At Issue","The Ethics of Medical Testing","978-0-7377-5903-7",{"$f":"HYPERLINK(Table1[[#This Row],[Hyperlink]],\"Weblink\")","v":"Weblink"},"Greenhaven Publishing","Paperback Book",1,"2012","January 2012","Paperback","6.000 X 9.000","Edited by","Tamara Thompson",null,null,null,null,"Z",null,"Grade 10 - 12","Grade 9 - 12","This investigative volume examines issues related to the ethics of medical testing. Readers will see both sides, for or against medical testing and why. Experts analyze what works and what does not, and present solid arguments for whether it is ethically sound or not. Includes primary and secondary sources from a variety of perspectives; eyewitnesses, scientific journals, government officials, and many others.","English",27.8,22.24,"174.2/​8","136 pp.","https://greenhavenpublishing.com/978-0-7377-5903-7",{"$f":"Table1[[#This Row],['# of Books]]*Table1[[#This Row],[QTY]]","v":0},{"$f":"Table1[[#This Row],[QTY]]*Table1[[#This Row],[School & Library Price]]","v":0}]
[null,null,22,null,null,"Current Issues","At Issue","Extending the Human Lifespan","978-0-7377-6836-7",{"$f":"HYPERLINK(Table1[[#This Row],[Hyperlink]],\"Weblink\")","v":"Weblink"},"Greenhaven Publishing","Library Bound Book",1,"2013","January 2013","Library","6.000 X 9.000","Edited by","Tamara Thompson",null,null,null,null,"Z",null,"Grade 10 - 12","Grade 9 - 12","Extending the human lifespan is good news for millions of people in their elder years, but is it wise of us to push our boundaries of medical science to do so? This collection of essays debates the topic, allowing readers to think critically and form informed opinions. Essays include whether aging is a disease that Science can cure, whether life extension is ethical, and whether living longer would actually make us 'less human.'","English",39.4,31.52,"613.2","128 pp.","https://greenhavenpublishing.com/978-0-7377-6836-7",{"$f":"Table1[[#This Row],['# of Books]]*Table1[[#This Row],[QTY]]","v":0},{"$f":"Table1[[#This Row],[QTY]]*Table1[[#This Row],[School & Library Price]]","v":0}]
[null,null,22,null,null,"Current Issues","At Issue","Fast Food","978-0-7377-7633-1",{"$f":"HYPERLINK(Table1[[#This Row],[Hyperlink]],\"Weblink\")","v":"Weblink"},"Greenhaven Publishing","eBook",1,"2015","January 2015",null,null,"Edited by","Tamara Thompson",null,null,null,null,"Z",null,"Grade 10 - 12","Grade 9 - 12","It makes our lives easier, but it also has been proven to be a terribly unhealthy choice. This collection of essays debates fast food. Readers are given both sides to an assertion, allowing them multiple perspectives and a chance to decide for themselves. Essays include what fast food's impact is on our planet, whether marketing should target children, the impact of requiring caloric labels, and if there are benefits to the globalization of fast food.","English",39.4,31.52,"642/​.1/​0973","120 pp.","https://greenhavenpublishing.com/978-0-7377-7633-1",{"$f":"Table1[[#This Row],['# of Books]]*Table1[[#This Row],[QTY]]","v":0},{"$f":"Table1[[#This Row],[QTY]]*Table1[[#This Row],[School & Library Price]]","v":0}]
[null,null,22,null,null,"Current Issues","At Issue","Food Safety","978-0-7377-5149-9",{"$f":"HYPERLINK(Table1[[#This Row],[Hyperlink]],\"Weblink\")","v":"Weblink"},"Greenhaven Publishing","Library Bound Book",1,"2011","January 2011","Library","6.000 X 9.000","Edited by","Judeen Bartos",null,null,null,null,"Z",null,"Grade 10 - 12","Grade 9 - 12","What you put into your body can kill you. This seems obvious for poisonous things, but what if something in your dinner, when not cooked thoroughly, could prove deadly? Food safety has drastically improved in recent decades, but people still get sick from food unnecessarily. Is further food regulation needed? Are local farmers being overregulated? Should imported food receive increased scrutiny? Do genetically modified foods cause allergic responses? This anthology explores these issues related to food safety in America. Includes primary and secondary sources from a variety of perspectives including contributions from the Agricultural Biotechnology Council and Food and Water Watch.","English",39.4,31.52,"363.19/​2","104 pp.","https://greenhavenpublishing.com/978-0-7377-5149-9",{"$f":"Table1[[#This Row],['# of Books]]*Table1[[#This Row],[QTY]]","v":0},{"$f":"Table1[[#This Row],[QTY]]*Table1[[#This Row],[School & Library Price]]","v":0}]
[null,null,22,null,null,"Current Issues","At Issue","Foreign Oil Dependence","978-0-7377-7368-2",{"$f":"HYPERLINK(Table1[[#This Row],[Hyperlink]],\"Weblink\")","v":"Weblink"},"Greenhaven Publishing","Library Bound Book",1,"2016","January 2016","Library","6.000 X 9.000","Edited by","Noah Berlatsky",null,null,null,null,"Z",null,"Grade 10 - 12","Grade 9 - 12","This anthology explores the issue of the United States' dependence on oil. Can the country attain energy independence? Does the dependence on foreign oil weaken the economy? Is dependence on foreign oil a security threat? Can the United States transition from oil if it must, or is the country too deeply invested? This book gives evidence to both sides of these questions. Features previously published content from sources such as Jordan Weissman, Anne Korin, Pew Charitable Trusts, and the National Corn Growers Association.","English",39.4,31.52,"338.2/​72820973","88 pp.","https://greenhavenpublishing.com/978-0-7377-7368-2",{"$f":"Table1[[#This Row],['# of Books]]*Table1[[#This Row],[QTY]]","v":0},{"$f":"Table1[[#This Row],[QTY]]*Table1[[#This Row],[School & Library Price]]","v":0}]
[null,null,22,null,null,"Current Issues","At Issue","Foreign Oil Dependence","978-0-7377-7369-9",{"$f":"HYPERLINK(Table1[[#This Row],[Hyperlink]],\"Weblink\")","v":"Weblink"},"Greenhaven Publishing","Paperback Book",1,"2016","January 2016","Paperback","6.000 X 9.000","Edited by","Noah Berlatsky",null,null,null,null,"Z",null,"Grade 10 - 12","Grade 9 - 12","This anthology explores the issue of the United States' dependence on oil. Can the country attain energy independence? Does the dependence on foreign oil weaken the economy? Is dependence on foreign oil a security threat? Can the United States transition from oil if it must, or is the country too deeply invested? This book gives evidence to both sides of these questions. Features previously published content from sources such as Jordan Weissman, Anne Korin, Pew Charitable Trusts, and the National Corn Growers Association.","English",27.8,22.24,"338.2/​72820973","88 pp.","https://greenhavenpublishing.com/978-0-7377-7369-9",{"$f":"Table1[[#This Row],['# of Books]]*Table1[[#This Row],[QTY]]","v":0},{"$f":"Table1[[#This Row],[QTY]]*Table1[[#This Row],[School & Library Price]]","v":0}]
[null,null,22,null,null,"Current Issues","At Issue","Fracking","978-0-7377-6510-6",{"$f":"HYPERLINK(Table1[[#This Row],[Hyperlink]],\"Weblink\")","v":"Weblink"},"Greenhaven Publishing","Paperback Book",1,"2013","January 2013","Paperback","6.000 X 9.000","Edited by","Tamara Thompson",null,null,null,null,"Z",null,"Grade 10 - 12","Grade 9 - 12","This anthology of essays provides a wide range of viewpoints about fracking, providing in-depth discussions by leading advocates, a quick grounding in the issues, and it offers a challenge to critical thinking skills. Essays debate whether hydraulic fracturing can be done responsibly, whether fracking pollutes the air, and whether the chemicals used in fracking should no longer be held secret from the public.","English",27.8,22.24,"363.738/​4","112 pp.","https://greenhavenpublishing.com/978-0-7377-6510-6",{"$f":"Table1[[#This Row],['# of Books]]*Table1[[#This Row],[QTY]]","v":0},{"$f":"Table1[[#This Row],[QTY]]*Table1[[#This Row],[School & Library Price]]","v":0}]
[null,null,22,null,null,"Current Issues","At Issue","Gender Politics","978-1-5345-0013-6",{"$f":"HYPERLINK(Table1[[#This Row],[Hyperlink]],\"Weblink\")","v":"Weblink"},"Greenhaven Publishing","eBook",1,"2017","January 2017",null,null,"Edited by","Susan Henneberg",null,null,null,null,"Z",null,"Grade 10 - 12","Grade 9 - 12","It is somewhat astounding that a gender gap continues to exist today in the United States and worldwide. Girls and women face educational roadblocks, economic disparity, threats to their health and safety, and biased laws. How can such treatment of the world’s mothers, sisters, wives, and daughters be permitted? This enlightening anthology presents a range of diverse viewpoints about the gender divide between men and women. Readers will learn the effects that culture and gender constructs have on this gap, and why it is an issue that concerns both women and men.","English",39.4,31.52,"305.3--dc23","120 pp.","https://greenhavenpublishing.com/978-1-5345-0013-6",{"$f":"Table1[[#This Row],['# of Books]]*Table1[[#This Row],[QTY]]","v":0},{"$f":"Table1[[#This Row],[QTY]]*Table1[[#This Row],[School & Library Price]]","v":0}]
[null,null,23,null,null,"Current Issues","At Issue","Green Cities","978-0-7377-5151-2",{"$f":"HYPERLINK(Table1[[#This Row],[Hyperlink]],\"Weblink\")","v":"Weblink"},"Greenhaven Publishing","Library Bound Book",1,"2011","January 2011","Library","6.000 X 9.000","Edited by","Ronald D. Lankford, Jr.",null,null,null,null,"Z",null,"Grade 10 - 12","Grade 9 - 12","Enhancing critical thinking skills, this book is an excellent research tool to help readers understand current thinking around green cities. Debating essays include whether cities are more sustainable than suburbs, whether transportation must be green in order for a city to be considered green, and whether urban architecture is practical and efficient.","English",39.4,31.52,"307.76","112 pp.","https://greenhavenpublishing.com/978-0-7377-5151-2",{"$f":"Table1[[#This Row],['# of Books]]*Table1[[#This Row],[QTY]]","v":0},{"$f":"Table1[[#This Row],[QTY]]*Table1[[#This Row],[School & Library Price]]","v":0}]
[null,null,23,null,null,"Current Issues","At Issue","Green Cities","978-0-7377-5152-9",{"$f":"HYPERLINK(Table1[[#This Row],[Hyperlink]],\"Weblink\")","v":"Weblink"},"Greenhaven Publishing","Paperback Book",1,"2011","January 2011","Paperback","6.000 X 9.000","Edited by","Ronald D. Lankford, Jr.",null,null,null,null,"Z",null,"Grade 10 - 12","Grade 9 - 12","Enhancing critical thinking skills, this book is an excellent research tool to help readers understand current thinking around green cities. Debating essays include whether cities are more sustainable than suburbs, whether transportation must be green in order for a city to be considered green, and whether urban architecture is practical and efficient.","English",27.8,22.24,"307.76","112 pp.","https://greenhavenpublishing.com/978-0-7377-5152-9",{"$f":"Table1[[#This Row],['# of Books]]*Table1[[#This Row],[QTY]]","v":0},{"$f":"Table1[[#This Row],[QTY]]*Table1[[#This Row],[School & Library Price]]","v":0}]
[null,null,23,null,null,"Current Issues","At Issue","The H1N1 Flu","978-0-7377-5090-4",{"$f":"HYPERLINK(Table1[[#This Row],[Hyperlink]],\"Weblink\")","v":"Weblink"},"Greenhaven Publishing","Paperback Book",1,"2010","January 2010","Paperback","6.000 X 9.000","Edited by","Noah Berlatsky",null,null,null,null,"Z",null,"Grade 10 - 12","Grade 9 - 12","H1N1 or Swine Flu caused a great panic within the medical community as well as in the public eye. While the mortality rate remained quite low, H1N1 does raise questions for the medical community. Do we rely too heavily on antibiotics? Are viruses becoming immune to our battery of antibiotics? What would we do if a super contagious virus could not be treated? This anthology interrogates these difficult questions and others. Readers will learn about the latest medical and policy ideas regarding viral pandemics and preventing their spread.","English",27.8,22.24,"614.5/​18","112 pp.","https://greenhavenpublishing.com/978-0-7377-5090-4",{"$f":"Table1[[#This Row],['# of Books]]*Table1[[#This Row],[QTY]]","v":0},{"$f":"Table1[[#This Row],[QTY]]*Table1[[#This Row],[School & Library Price]]","v":0}]
[null,null,23,null,null,"Current Issues","At Issue","Health Care Legislation","978-0-7377-5576-3",{"$f":"HYPERLINK(Table1[[#This Row],[Hyperlink]],\"Weblink\")","v":"Weblink"},"Greenhaven Publishing","Library Bound Book",1,"2012","January 2012","Library","6.000 X 9.000","Edited by, Edited by","David M. Haugen, Susan Musser",null,null,null,null,"Z",null,"Grade 10 - 12","Grade 9 - 12","This book offers readers a variety of articles that address the controversies surrounding American health care legislation. The book explores the impact of the 2010 health care reform law and the Individual Mandate Clause, the role of the states in determining health care reform, the usefulness of an Independent Payment Advisory Board, and how health care legislation relates to job creation.","English",39.4,31.52,"344.7302/​2","120 pp.","https://greenhavenpublishing.com/978-0-7377-5576-3",{"$f":"Table1[[#This Row],['# of Books]]*Table1[[#This Row],[QTY]]","v":0},{"$f":"Table1[[#This Row],[QTY]]*Table1[[#This Row],[School & Library Price]]","v":0}]
[null,null,23,null,null,"Current Issues","At Issue","Heroin","978-0-7377-2716-6",{"$f":"HYPERLINK(Table1[[#This Row],[Hyperlink]],\"Weblink\")","v":"Weblink"},"Greenhaven Publishing","Paperback Book",1,"2007","January 2007","Paperback","6.000 X 9.000","Edited by","Stuart A. Kallen",null,null,null,null,"Z",null,"Grade 10 - 12","Grade 9 - 12","One of the most addictive drugs in history, rates of heroin addiction have fallen over the past decade, but many people from all walks of life still live with painful addictions to it. What can be done to help someone who becomes dependent? This anthology examines topics surrounding heroin, includes primary and secondary sources from diverse and conflicting perspectives: eyewitnesses, scientific journals, government officials, and many others. Readers will gain insight into the challenges facing heroin users and some solutions in the form of treatment.","English",27.8,22.24,"362.29/​3","112 pp.","https://greenhavenpublishing.com/978-0-7377-2716-6",{"$f":"Table1[[#This Row],['# of Books]]*Table1[[#This Row],[QTY]]","v":0},{"$f":"Table1[[#This Row],[QTY]]*Table1[[#This Row],[School & Library Price]]","v":0}]
[null,null,23,null,null,"Current Issues","At Issue","High School Dropouts","978-0-7377-6182-5",{"$f":"HYPERLINK(Table1[[#This Row],[Hyperlink]],\"Weblink\")","v":"Weblink"},"Greenhaven Publishing","Paperback Book",1,"2013","January 2013","Paperback","6.000 X 9.000","Edited by","Judeen Bartos",null,null,null,null,"Z",null,"Grade 10 - 12","Grade 9 - 12","Why do some students drop out of high school? The reasons are often more complex than one might imagine. This anthology analyzes the issues related to high school dropouts. Essays include primary and secondary sources from a variety of perspectives: eyewitnesses, scientific journals, government officials, and many others. Readers will gain a more complete picture of the many challenges facing adolescents that are inevitable factors in the decision to drop out of school.","English",27.8,22.24,"371.2/​9130973","104 pp.","https://greenhavenpublishing.com/978-0-7377-6182-5",{"$f":"Table1[[#This Row],['# of Books]]*Table1[[#This Row],[QTY]]","v":0},{"$f":"Table1[[#This Row],[QTY]]*Table1[[#This Row],[School & Library Price]]","v":0}]
[null,null,23,null,null,"Current Issues","At Issue","How Can the Poor Be Helped?","978-0-7377-5155-0",{"$f":"HYPERLINK(Table1[[#This Row],[Hyperlink]],\"Weblink\")","v":"Weblink"},"Greenhaven Publishing","Library Bound Book",1,"2011","January 2011","Library","6.000 X 9.000","Edited by","Jennifer Dorman",null,null,null,null,"Z",null,"Grade 10 - 12","Grade 9 - 12","Have welfare reforms been successful in helping America's poor? Are government programs out of touch with modern poverty? Does marriage reduce or complicate poverty? Will raising the minimum wage have a positive impact on closing the wage gap? Supporting Social Studies curriculum, this informative edition tackles the many facets of poverty in America. Readers are presented with a number of essays on the various concerns related to the subject matter. Includes primary and secondary sources from a variety of perspectives; eyewitnesses, scientific journals, government officials, and many others.","English",39.4,31.52,"362.5","112 pp.","https://greenhavenpublishing.com/978-0-7377-5155-0",{"$f":"Table1[[#This Row],['# of Books]]*Table1[[#This Row],[QTY]]","v":0},{"$f":"Table1[[#This Row],[QTY]]*Table1[[#This Row],[School & Library Price]]","v":0}]
[null,null,23,null,null,"Current Issues","At Issue","How Should Obesity Be Treated?","978-0-7377-4423-1",{"$f":"HYPERLINK(Table1[[#This Row],[Hyperlink]],\"Weblink\")","v":"Weblink"},"Greenhaven Publishing","Paperback Book",1,"2009","January 2009","Paperback","6.000 X 9.000","Edited by","Stefan Kiesbye",null,null,null,null,"Z",null,"Grade 10 - 12","Grade 9 - 12","Is staying active the key to weight loss and maintenance? Should the government play a role in food regulation in order to combat childhood obesity? Should education play a greater role in informing students about health and dietary habits? Features from the New York Post, the Weight-Control information Network, and Men's Health Advisor weigh in on the various aspects surrounding obesity. Readers are presented with a diverse series of opinions on the public health issue. ","English",27.8,22.24,"616.3/​98","112 pp.","https://greenhavenpublishing.com/978-0-7377-4423-1",{"$f":"Table1[[#This Row],['# of Books]]*Table1[[#This Row],[QTY]]","v":0},{"$f":"Table1[[#This Row],[QTY]]*Table1[[#This Row],[School & Library Price]]","v":0}]
[null,null,23,null,null,"Current Issues","At Issue","How Should the U.S. Proceed in Iraq?","978-0-7377-4056-1",{"$f":"HYPERLINK(Table1[[#This Row],[Hyperlink]],\"Weblink\")","v":"Weblink"},"Greenhaven Publishing","Library Bound Book",1,"2008","January 2008","Library","6.000 X 9.000","Edited by","William Dudley",null,null,null,null,"Z",null,"Grade 10 - 12","Grade 9 - 12","The United States has been involved in Iraq since 2003. Understanding when our mission in Iraq is finished has been a complex process that seems to have no concrete end. This anthology discusses relevant aspects of our involvement such as disengagement, post-war reconstruction, internal security, and military relations. Readers gain deeper context of current events with the essays in this book, which are readily accessible and interpret America's involvement in Iraq through contrasting viewpoints.","English",39.4,31.52,"956","120 pp.","https://greenhavenpublishing.com/978-0-7377-4056-1",{"$f":"Table1[[#This Row],['# of Books]]*Table1[[#This Row],[QTY]]","v":0},{"$f":"Table1[[#This Row],[QTY]]*Table1[[#This Row],[School & Library Price]]","v":0}]
[null,null,23,null,null,"Current Issues","At Issue","How Should the U.S. Proceed in Iraq?","978-0-7377-4057-8",{"$f":"HYPERLINK(Table1[[#This Row],[Hyperlink]],\"Weblink\")","v":"Weblink"},"Greenhaven Publishing","Paperback Book",1,"2008","January 2008","Paperback","6.000 X 9.000","Edited by","William Dudley",null,null,null,null,"Z",null,"Grade 10 - 12","Grade 9 - 12","The United States has been involved in Iraq since 2003. Understanding when our mission in Iraq is finished has been a complex process that seems to have no concrete end. This anthology discusses relevant aspects of our involvement such as disengagement, post-war reconstruction, internal security, and military relations. Readers gain deeper context of current events with the essays in this book, which are readily accessible and interpret America's involvement in Iraq through contrasting viewpoints.","English",27.8,22.24,"956","120 pp.","https://greenhavenpublishing.com/978-0-7377-4057-8",{"$f":"Table1[[#This Row],['# of Books]]*Table1[[#This Row],[QTY]]","v":0},{"$f":"Table1[[#This Row],[QTY]]*Table1[[#This Row],[School & Library Price]]","v":0}]
[null,null,23,null,null,"Current Issues","At Issue","Human Embryo Experimentation","978-0-7377-5580-0",{"$f":"HYPERLINK(Table1[[#This Row],[Hyperlink]],\"Weblink\")","v":"Weblink"},"Greenhaven Publishing","Library Bound Book",1,"2011","January 2011","Library","6.000 X 9.000","Edited by","Christine Watkins",null,null,null,null,"Z",null,"Grade 10 - 12","Grade 9 - 12","Essays discuss the legal and moral aspects of stem cell research, debating whether it is necessary, ethical, and should be federally funded.","English",39.4,31.52,"616/​.02774","120 pp.","https://greenhavenpublishing.com/978-0-7377-5580-0",{"$f":"Table1[[#This Row],['# of Books]]*Table1[[#This Row],[QTY]]","v":0},{"$f":"Table1[[#This Row],[QTY]]*Table1[[#This Row],[School & Library Price]]","v":0}]
[null,null,23,null,null,"Current Issues","At Issue","Hurricane Katrina","978-0-7377-4883-3",{"$f":"HYPERLINK(Table1[[#This Row],[Hyperlink]],\"Weblink\")","v":"Weblink"},"Greenhaven Publishing","Paperback Book",1,"2010","January 2010","Paperback","6.000 X 9.000","Edited by, Edited by","Diane Andrews Henningfeld, David M. Haugen",null,null,null,null,"Z",null,"Grade 10 - 12","Grade 9 - 12","Will global warming produce more Katrina-like storms? Have mental health services improved in New Orleans since Hurricane Katrina? Is the Mississippi coast prepared for another hurricane of this magnitude? Editor Diane Andrews Henningfeld collects a diversified pool of voices and unites these varying perspectives in this anthology about Hurricane Katrina. Features viewpoints from the Louisiana Department of Health and Hospital, and the Office of the White House Press Secretary. ","English",27.8,22.24,"976/.044","152 pp.","https://greenhavenpublishing.com/978-0-7377-4883-3",{"$f":"Table1[[#This Row],['# of Books]]*Table1[[#This Row],[QTY]]","v":0},{"$f":"Table1[[#This Row],[QTY]]*Table1[[#This Row],[School & Library Price]]","v":0}]
[null,null,23,null,null,"Current Issues","At Issue","Identity Theft","978-0-7377-5583-1",{"$f":"HYPERLINK(Table1[[#This Row],[Hyperlink]],\"Weblink\")","v":"Weblink"},"Greenhaven Publishing","Paperback Book",1,"2012","January 2012","Paperback","6.000 X 9.000","Edited by","Stefan Kiesbye",null,null,null,null,"Z",null,"Grade 10 - 12","Grade 9 - 12","Technology has made our lives easier in many ways, but it has also created avenues for individuals to take advantage of us. This anthology provides a collection of essays that looks at both sides of identity theft. Essays include whether it has been exaggerated, whether it's linked to illegal immigrants, why insured individuals are susceptible as are home equity loan applicants. Readers will be given a thorough foundation in understanding this issue.","English",27.8,22.24,"364.16/​33","112 pp.","https://greenhavenpublishing.com/978-0-7377-5583-1",{"$f":"Table1[[#This Row],['# of Books]]*Table1[[#This Row],[QTY]]","v":0},{"$f":"Table1[[#This Row],[QTY]]*Table1[[#This Row],[School & Library Price]]","v":0}]
[null,null,23,null,null,"Current Issues","At Issue","Immigration Reform","978-0-7377-7402-3",{"$f":"HYPERLINK(Table1[[#This Row],[Hyperlink]],\"Weblink\")","v":"Weblink"},"Greenhaven Publishing","Library Bound Book",1,"2016","January 2016","Library","6.000 X 9.000","Edited by","Noël Merino",null,null,null,null,"Z",null,"Grade 10 - 12","Grade 9 - 12","Despite the United States' history as a melting pot, debate has increased of late regarding people crossing the borders illegally into the country. This volume explores all sides of this issue, including whether or not amnesty and a path to citizenship are viable aspects of immigration reform, and who should decide these issues.","English",39.4,31.52,"325.73","120 pp.","https://greenhavenpublishing.com/978-0-7377-7402-3",{"$f":"Table1[[#This Row],['# of Books]]*Table1[[#This Row],[QTY]]","v":0},{"$f":"Table1[[#This Row],[QTY]]*Table1[[#This Row],[School & Library Price]]","v":0}]
[null,null,23,null,null,"Current Issues","At Issue","Invasive Species","978-0-7377-7387-3",{"$f":"HYPERLINK(Table1[[#This Row],[Hyperlink]],\"Weblink\")","v":"Weblink"},"Greenhaven Publishing","Paperback Book",1,"2016","January 2016","Paperback","6.000 X 9.000","Edited by","Noah Berlatsky",null,null,null,null,"Z",null,"Grade 10 - 12","Grade 9 - 12","Zebra mussels, purple loosestrife, and killer bees; invasive species are infiltrating our water, land, and skies, disrupting our delicate ecosystems. This book examines ways these invaders harm, or help, the environment, and what to do about them.","English",27.8,22.24,"344.04/​6","96 pp.","https://greenhavenpublishing.com/978-0-7377-7387-3",{"$f":"Table1[[#This Row],['# of Books]]*Table1[[#This Row],[QTY]]","v":0},{"$f":"Table1[[#This Row],[QTY]]*Table1[[#This Row],[School & Library Price]]","v":0}]
[null,null,23,null,null,"Current Issues","At Issue","Is Childhood Becoming Too Sexualized?","978-0-7377-4885-7",{"$f":"HYPERLINK(Table1[[#This Row],[Hyperlink]],\"Weblink\")","v":"Weblink"},"Greenhaven Publishing","Paperback Book",1,"2010","January 2010","Paperback","6.000 X 9.000","Edited by, Edited by","Olivia Ferguson, Hayley Mitchell Haugen",null,null,null,null,"Z",null,"Grade 10 - 12","Grade 9 - 12","Does American culture reward girls for eroticism? Is physical aggression encouraged in boys a form of sexualization? Do legislators do enough to protect children from sexual exploitation? This thoughtful anthology analyzes the various perspectives regarding the sexualization of children in America.","English",27.8,22.24,"306.7083","120 pp.","https://greenhavenpublishing.com/978-0-7377-4885-7",{"$f":"Table1[[#This Row],['# of Books]]*Table1[[#This Row],[QTY]]","v":0},{"$f":"Table1[[#This Row],[QTY]]*Table1[[#This Row],[School & Library Price]]","v":0}]
[null,null,23,null,null,"Current Issues","At Issue","Is Global Warming a Threat?","978-0-7377-3687-8",{"$f":"HYPERLINK(Table1[[#This Row],[Hyperlink]],\"Weblink\")","v":"Weblink"},"Greenhaven Publishing","Library Bound Book",1,"2008","January 2008","Library","6.000 X 9.000","Edited by, Edited by","David M. Haugen, Susan Musser",null,null,null,null,"Z",null,"Grade 10 - 12","Grade 9 - 12","Conversations about the effects of global warming dominate our media and political discussions. This comprehensive anthology tackles the various issues surrounding this increasingly worrisome reality, offering readers a variety of perspectives. Debating essays include whether it is caused by human activity, and whether it is actually beneficial. Includes primary and secondary sources from a variety of perspectives; eyewitnesses, scientific journals, government officials, and many others.","English",39.4,31.52,"363.738/​74","104 pp.","https://greenhavenpublishing.com/978-0-7377-3687-8",{"$f":"Table1[[#This Row],['# of Books]]*Table1[[#This Row],[QTY]]","v":0},{"$f":"Table1[[#This Row],[QTY]]*Table1[[#This Row],[School & Library Price]]","v":0}]
[null,null,23,null,null,"Current Issues","At Issue","Is Global Warming a Threat?","978-0-7377-3688-5",{"$f":"HYPERLINK(Table1[[#This Row],[Hyperlink]],\"Weblink\")","v":"Weblink"},"Greenhaven Publishing","Paperback Book",1,"2008","January 2008","Paperback","6.000 X 9.000","Edited by, Edited by","David M. Haugen, Susan Musser",null,null,null,null,"Z",null,"Grade 10 - 12","Grade 9 - 12","Conversations about the effects of global warming dominate our media and political discussions. This comprehensive anthology tackles the various issues surrounding this increasingly worrisome reality, offering readers a variety of perspectives. Debating essays include whether it is caused by human activity, and whether it is actually beneficial. Includes primary and secondary sources from a variety of perspectives; eyewitnesses, scientific journals, government officials, and many others.","English",27.8,22.24,"363.738/​74","104 pp.","https://greenhavenpublishing.com/978-0-7377-3688-5",{"$f":"Table1[[#This Row],['# of Books]]*Table1[[#This Row],[QTY]]","v":0},{"$f":"Table1[[#This Row],[QTY]]*Table1[[#This Row],[School & Library Price]]","v":0}]
[null,null,23,null,null,"Current Issues","At Issue","Is Organic Food Better?","978-0-7377-5157-4",{"$f":"HYPERLINK(Table1[[#This Row],[Hyperlink]],\"Weblink\")","v":"Weblink"},"Greenhaven Publishing","Library Bound Book",1,"2011","January 2011","Library","6.000 X 9.000","Edited by","Ronald D. Lankford, Jr.",null,null,null,null,"Z",null,"Grade 10 - 12","Grade 9 - 12","Essays debate certain controversial issues concerning organic food, covering such topics as whether organic fertilizers are more hazardous than pesticides, whether organic food is worth the extra expense, and the role of large companies in the organic food movement.","English",39.4,31.52,"641.3/​02","120 pp.","https://greenhavenpublishing.com/978-0-7377-5157-4",{"$f":"Table1[[#This Row],['# of Books]]*Table1[[#This Row],[QTY]]","v":0},{"$f":"Table1[[#This Row],[QTY]]*Table1[[#This Row],[School & Library Price]]","v":0}]
[null,null,24,null,null,"Current Issues","At Issue","Is Poverty a Serious Threat?","978-0-7377-2725-8",{"$f":"HYPERLINK(Table1[[#This Row],[Hyperlink]],\"Weblink\")","v":"Weblink"},"Greenhaven Publishing","Library Bound Book",1,"2006","January 2006","Library","6.000 X 9.000","Edited by","Mercedes Muñoz",null,null,null,null,"Z",null,"Grade 10 - 12","Grade 9 - 12","In both the United States and throughout the world, income inequality persists. The authors in this anthology debate the extent of domestic and global poverty and how best to define poverty. Includes primary and secondary sources from a variety of perspectives; eyewitnesses, scientific journals, government officials, and many others.","English",39.4,31.52,"362.50973","120 pp.","https://greenhavenpublishing.com/978-0-7377-2725-8",{"$f":"Table1[[#This Row],['# of Books]]*Table1[[#This Row],[QTY]]","v":0},{"$f":"Table1[[#This Row],[QTY]]*Table1[[#This Row],[School & Library Price]]","v":0}]
[null,null,24,null,null,"Current Issues","At Issue","Is Selling Body Parts Ethical?","978-0-7377-6190-0",{"$f":"HYPERLINK(Table1[[#This Row],[Hyperlink]],\"Weblink\")","v":"Weblink"},"Greenhaven Publishing","Paperback Book",1,"2013","January 2013","Paperback","6.000 X 9.000","Edited by","Christine Watkins",null,null,null,null,"Z",null,"Grade 10 - 12","Grade 9 - 12","Receiving a critical organ can save your life, but sometimes these organs are harvested from living people, who might be donating them for financial reasons. Does this kind of practice constitute exploitation of the economically disadvantaged? Does the system of selling and using body parts undermine humanity? This book explores the ethics of selling body parts, whether selling body parts benefits or exploits the poor, and the state of organ trafficking in other countries. Philosophical questions are interpreted through real life events and examples. Readers gain knowledge of how organ markets operate and affect different regions of the world through easily-accessible essays.","English",27.8,22.24,"174.2/​97954","120 pp.","https://greenhavenpublishing.com/978-0-7377-6190-0",{"$f":"Table1[[#This Row],['# of Books]]*Table1[[#This Row],[QTY]]","v":0},{"$f":"Table1[[#This Row],[QTY]]*Table1[[#This Row],[School & Library Price]]","v":0}]
[null,null,24,null,null,"Current Issues","At Issue","Is Socialism Harmful?","978-0-7377-5584-8",{"$f":"HYPERLINK(Table1[[#This Row],[Hyperlink]],\"Weblink\")","v":"Weblink"},"Greenhaven Publishing","Library Bound Book",1,"2011","January 2011","Library","6.000 X 9.000","Edited by","Ronald D. Lankford, Jr.",null,null,null,null,"Z",null,"Grade 10 - 12","Grade 9 - 12","Socialism seeks to promote the welfare of the greatest number of people by eliminating social and economic inequalities. This notion, however, conflicts with many established customs in the United States. An economy with reduced opportunities for competition would mean that entrepreneurs would have fewer ways of making money. However, entrepreneurs exploit inequalities that exist by commodifying basic needs. Is it morally acceptable to provide health care coverage to some people and not others? Or is health care a right that ought to be tied to citizenship? Is the military a socialist organization? Is education a right or a commodity? Is society better off when its basic needs are taken care of? Does competition create jobs and offer the best services? Does the market know best what people need and can pay? Supporting key Social Studies curriculum, this anthology looks at the difficult questions of socialism in the United States from conflicting perspectives. Readers will benefit from the conversations in this book that interrogate relevant ideas and facts. ","English",39.4,31.52,"335.0973","120 pp.","https://greenhavenpublishing.com/978-0-7377-5584-8",{"$f":"Table1[[#This Row],['# of Books]]*Table1[[#This Row],[QTY]]","v":0},{"$f":"Table1[[#This Row],[QTY]]*Table1[[#This Row],[School & Library Price]]","v":0}]
[null,null,24,null,null,"Current Issues","At Issue","Is the American Dream a Myth?","978-0-7377-3494-2",{"$f":"HYPERLINK(Table1[[#This Row],[Hyperlink]],\"Weblink\")","v":"Weblink"},"Greenhaven Publishing","Paperback Book",1,"2006","January 2006","Paperback","6.000 X 9.000","Edited by","Kate Burns",null,null,null,null,"Z",null,"Grade 10 - 12","Grade 9 - 12","With college debts levels skyrocketing and a tough job market, many young people are putting off home ownership and are unable to enter the middle class. Is the economy killing jobs? Is it geared against young workers? Is immigration helping or hurting the American Dream? Does Affirmative Action ensure equal access to the American Dream? This anthology interrogates these questions from diverse angles, grounding abstract policy arguments in real life events. Gain greater insight into the state of the American Dream in the new century and how it might still be attainable. Features previously published material from figures such as Barack Obama, Rupert Murdoch, and Laurie A. Johnson. ","English",27.8,22.24,"306.0973/​090511","112 pp.","https://greenhavenpublishing.com/978-0-7377-3494-2",{"$f":"Table1[[#This Row],['# of Books]]*Table1[[#This Row],[QTY]]","v":0},{"$f":"Table1[[#This Row],[QTY]]*Table1[[#This Row],[School & Library Price]]","v":0}]
[null,null,24,null,null,"Current Issues","At Issue","Is the Western Diet Making the World Sick?","978-0-7377-6191-7",{"$f":"HYPERLINK(Table1[[#This Row],[Hyperlink]],\"Weblink\")","v":"Weblink"},"Greenhaven Publishing","Library Bound Book",1,"2013","January 2013","Library","6.000 X 9.000","Edited by","Susan C. Hunnicutt",null,null,null,null,"Z",null,"Grade 10 - 12","Grade 9 - 12","With globalization, the Western diet, and particularly the American diet, is rapidly overtaking local diets around the world. Due to a reliance on sugars and fats, this diet has created major health problems for previously healthy populations. Diabetes, obesity, and heart disease are just a few directly-related maladies. This anthology looks at the key facts and ideas underpinning this phenomenon. Experts weigh in on the effects and consequences of the Western diet.","English",39.4,31.52,"613.2","104 pp.","https://greenhavenpublishing.com/978-0-7377-6191-7",{"$f":"Table1[[#This Row],['# of Books]]*Table1[[#This Row],[QTY]]","v":0},{"$f":"Table1[[#This Row],[QTY]]*Table1[[#This Row],[School & Library Price]]","v":0}]
[null,null,24,null,null,"Current Issues","At Issue","Is There a New Cold War?","978-0-7377-4659-4",{"$f":"HYPERLINK(Table1[[#This Row],[Hyperlink]],\"Weblink\")","v":"Weblink"},"Greenhaven Publishing","Library Bound Book",1,"2010","January 2010","Library","6.000 X 9.000","Edited by","Stefan Kiesbye",null,null,null,null,"Z",null,"Grade 10 - 12","Grade 9 - 12","Does Russian aggression today mean the same thing it did during the Cold War? With tensions in Europe and the Middle East on the rise because of Russia's military incursions in these regions, many are wondering if the United States is reliving a prolonged period of chess with its old adversary. What has changed since the 1990s? Will Africa or the Arctic be the new staging ground for conflict? Is China the new opponent, rather than Russia? This anthology looks at the complex geopolitical landscape that has emerged from the ashes of the Cold War. Experts provide nuanced analyses of real life political and social issues that appear to be driving Russia, China, and the United States toward conflict. Readers will gain valuable context to rapidly changing news events.","English",39.4,31.52,"327.47073","144 pp.","https://greenhavenpublishing.com/978-0-7377-4659-4",{"$f":"Table1[[#This Row],['# of Books]]*Table1[[#This Row],[QTY]]","v":0},{"$f":"Table1[[#This Row],[QTY]]*Table1[[#This Row],[School & Library Price]]","v":0}]
[null,null,24,null,null,"Current Issues","At Issue","Islam in America","978-0-7377-2728-9",{"$f":"HYPERLINK(Table1[[#This Row],[Hyperlink]],\"Weblink\")","v":"Weblink"},"Greenhaven Publishing","Paperback Book",1,"2006","January 2006","Paperback","6.000 X 9.000","Edited by","Laura K. Egendorf",null,null,null,null,"Z",null,"Grade 10 - 12","Grade 9 - 12","Muslims have lived in the United States for more than a century. In the wake of the September 11th terrorist attacks and American foreign policy, a better understanding of Islam in America is needed. The contributors to this book analyze various issues concerning American Muslims, such as their political views and the prejudice that they experience.","English",27.8,22.24,"297/.0973","112 pp.","https://greenhavenpublishing.com/978-0-7377-2728-9",{"$f":"Table1[[#This Row],['# of Books]]*Table1[[#This Row],[QTY]]","v":0},{"$f":"Table1[[#This Row],[QTY]]*Table1[[#This Row],[School & Library Price]]","v":0}]
[null,null,24,null,null,"Current Issues","At Issue","Location Based Social Networking","978-0-7377-6842-8",{"$f":"HYPERLINK(Table1[[#This Row],[Hyperlink]],\"Weblink\")","v":"Weblink"},"Greenhaven Publishing","Library Bound Book",1,"2014","January 2014","Library","6.000 X 9.000","Edited by","Roman Espejo",null,null,null,null,"Z",null,"Grade 10 - 12","Grade 9 - 12","Technology allows us to play games that take us to real world locations, to pick up tokens or points in a game. The game can see where we are, it uses our location as part of the interaction. We can take photographs that instantly share our location at share sites where anyone can see where we are. This timely volume explores the popularity of location-based social networking; privacy issues concerning location-based social networking, services, and geofencing; and the effectiveness of location-based services.","English",39.4,31.52,"006.7/54","96 pp.","https://greenhavenpublishing.com/978-0-7377-6842-8",{"$f":"Table1[[#This Row],['# of Books]]*Table1[[#This Row],[QTY]]","v":0},{"$f":"Table1[[#This Row],[QTY]]*Table1[[#This Row],[School & Library Price]]","v":0}]
[null,null,24,null,null,"Current Issues","At Issue","Marijuana","978-0-7377-4432-3",{"$f":"HYPERLINK(Table1[[#This Row],[Hyperlink]],\"Weblink\")","v":"Weblink"},"Greenhaven Publishing","Library Bound Book",1,"2009","January 2009","Library","6.000 X 9.000","Edited by","Arthur Gillard",null,null,null,null,"Z",null,"Grade 10 - 12","Grade 9 - 12","Few topics are as divisive as drug use in America. With select states legalizing recreational and medical marijuana, many readers may be wondering about the current nuances in the views on marijuana. The extensive edition tackles the topic from a series of varying perspectives, allowing readers to analyze and assess this controversial issue.","English",39.4,31.52,"362.29/​5","128 pp.","https://greenhavenpublishing.com/978-0-7377-4432-3",{"$f":"Table1[[#This Row],['# of Books]]*Table1[[#This Row],[QTY]]","v":0},{"$f":"Table1[[#This Row],[QTY]]*Table1[[#This Row],[School & Library Price]]","v":0}]
[null,null,24,null,null,"Current Issues","At Issue","Mental Illness and Criminal Behavior","978-0-7377-4434-7",{"$f":"HYPERLINK(Table1[[#This Row],[Hyperlink]],\"Weblink\")","v":"Weblink"},"Greenhaven Publishing","Library Bound Book",1,"2009","January 2009","Library","6.000 X 9.000","Edited by","Shannon Fiack",null,null,null,null,"Z",null,"Grade 10 - 12","Grade 9 - 12","One of the essays in this book offers a very logical 'starting off point' to the connection between mental illness and criminal behavior. It says that they cannot be compared as there are far too many varying definitions of either. Another essay asserts that criminals know right from wrong, regardless of mental illness. Another essay discusses the differences and efficacy in psychiatric hospitals and prisons. The ten essays in this volume will have your readers enraptured, as they explore well researched sources presenting them with both sides to the topics of mental illness and crime.","English",39.4,31.52,"364.2/​4","104 pp.","https://greenhavenpublishing.com/978-0-7377-4434-7",{"$f":"Table1[[#This Row],['# of Books]]*Table1[[#This Row],[QTY]]","v":0},{"$f":"Table1[[#This Row],[QTY]]*Table1[[#This Row],[School & Library Price]]","v":0}]
[null,null,24,null,null,"Current Issues","At Issue","Mexico's Drug War","978-0-7377-6845-9",{"$f":"HYPERLINK(Table1[[#This Row],[Hyperlink]],\"Weblink\")","v":"Weblink"},"Greenhaven Publishing","Paperback Book",1,"2014","January 2014","Paperback","6.000 X 9.000","Edited by","Margaret Haerens",null,null,null,null,"Z",null,"Grade 10 - 12","Grade 9 - 12","This book examines Mexico's drug war from many angles, exploring the causes, the government and military responses, and the impact of Central American and U.S. drug policy on Mexico. Includes primary and secondary sources from a variety of perspectives; eyewitnesses, scientific journals, government officials, and many others.","English",27.8,22.24,"363.450972","120 pp.","https://greenhavenpublishing.com/978-0-7377-6845-9",{"$f":"Table1[[#This Row],['# of Books]]*Table1[[#This Row],[QTY]]","v":0},{"$f":"Table1[[#This Row],[QTY]]*Table1[[#This Row],[School & Library Price]]","v":0}]
[null,null,24,null,null,"Current Issues","At Issue","Migrant Workers","978-0-7377-7178-7",{"$f":"HYPERLINK(Table1[[#This Row],[Hyperlink]],\"Weblink\")","v":"Weblink"},"Greenhaven Publishing","Paperback Book",1,"2015","January 2015","Paperback","6.000 X 9.000","Edited by","Roman Espejo",null,null,null,null,"Z",null,"Grade 10 - 12","Grade 9 - 12","This book looks at the impact of migrant workers on the low-skilled American workers. It examines the ethical use of migrant workers and how immigration reform will impact them. Readers will learn from well researched essays supporting both sides of the story, allowing them to draw their own conclusions.","English",27.8,22.24,"331.5/440973","128 pp.","https://greenhavenpublishing.com/978-0-7377-7178-7",{"$f":"Table1[[#This Row],['# of Books]]*Table1[[#This Row],[QTY]]","v":0},{"$f":"Table1[[#This Row],[QTY]]*Table1[[#This Row],[School & Library Price]]","v":0}]
[null,null,24,null,null,"Current Issues","At Issue","Minorities and the Law","978-0-7377-7180-0",{"$f":"HYPERLINK(Table1[[#This Row],[Hyperlink]],\"Weblink\")","v":"Weblink"},"Greenhaven Publishing","Paperback Book",1,"2015","January 2015","Paperback","6.000 X 9.000","Edited by","Noël Merino",null,null,null,null,"Z",null,"Grade 10 - 12","Grade 9 - 12","This evenly balanced volume examines issues surrounding minorities and the law, including affirmative action, voter ID laws, and racial profiling. Readers are given two perspectives on the same topic, supporting Social Studies curriculum as well as being a great resource for report-writing and researching.","English",27.8,22.24,"323.11","120 pp.","https://greenhavenpublishing.com/978-0-7377-7180-0",{"$f":"Table1[[#This Row],['# of Books]]*Table1[[#This Row],[QTY]]","v":0},{"$f":"Table1[[#This Row],[QTY]]*Table1[[#This Row],[School & Library Price]]","v":0}]
[null,null,24,null,null,"Current Issues","At Issue","Negative Campaigning","978-0-7377-6847-3",{"$f":"HYPERLINK(Table1[[#This Row],[Hyperlink]],\"Weblink\")","v":"Weblink"},"Greenhaven Publishing","Paperback Book",1,"2014","January 2014","Paperback","6.000 X 9.000","Edited by","Margaret Haerens",null,null,null,null,"Z",null,"Grade 10 - 12","Grade 9 - 12","This interesting and timely volume explores the effectiveness of negative campaign ads, whether or not negative campaigning has value, the effectiveness of fact-checking, and what fuels negative campaigning. Includes primary and secondary sources from a variety of perspectives; eyewitnesses, scientific journals, government officials, and many others.","English",27.8,22.24,"324.7/30973","104 pp.","https://greenhavenpublishing.com/978-0-7377-6847-3",{"$f":"Table1[[#This Row],['# of Books]]*Table1[[#This Row],[QTY]]","v":0},{"$f":"Table1[[#This Row],[QTY]]*Table1[[#This Row],[School & Library Price]]","v":0}]
[null,null,24,null,null,"Current Issues","At Issue","Negative Campaigning","978-0-7377-7646-1",{"$f":"HYPERLINK(Table1[[#This Row],[Hyperlink]],\"Weblink\")","v":"Weblink"},"Greenhaven Publishing","eBook",1,"2014","January 2014",null,null,"Edited by","Margaret Haerens",null,null,null,null,"Z",null,"Grade 10 - 12","Grade 9 - 12","This interesting and timely volume explores the effectiveness of negative campaign ads, whether or not negative campaigning has value, the effectiveness of fact-checking, and what fuels negative campaigning. Includes primary and secondary sources from a variety of perspectives; eyewitnesses, scientific journals, government officials, and many others.","English",39.4,31.52,"324.7/30973","104 pp.","https://greenhavenpublishing.com/978-0-7377-7646-1",{"$f":"Table1[[#This Row],['# of Books]]*Table1[[#This Row],[QTY]]","v":0},{"$f":"Table1[[#This Row],[QTY]]*Table1[[#This Row],[School & Library Price]]","v":0}]
[null,null,24,null,null,"Current Issues","At Issue","The Occupy Movement","978-0-7377-6486-4",{"$f":"HYPERLINK(Table1[[#This Row],[Hyperlink]],\"Weblink\")","v":"Weblink"},"Greenhaven Publishing","Library Bound Book",1,"2013","January 2013","Library","6.000 X 9.000","Edited by","Stefan Kiesbye",null,null,null,null,"Z",null,"Grade 10 - 12","Grade 9 - 12","This timely volume explores the origins of the Occupy Movement and the goals of the Occupy Movement. Includes primary and secondary sources from a variety of perspectives; eyewitnesses, scientific journals, government officials, and many others.","English",39.4,31.52,"339.20973","128 pp.","https://greenhavenpublishing.com/978-0-7377-6486-4",{"$f":"Table1[[#This Row],['# of Books]]*Table1[[#This Row],[QTY]]","v":0},{"$f":"Table1[[#This Row],[QTY]]*Table1[[#This Row],[School & Library Price]]","v":0}]
[null,null,24,null,null,"Current Issues","At Issue","The Olympics","978-0-7377-7658-4",{"$f":"HYPERLINK(Table1[[#This Row],[Hyperlink]],\"Weblink\")","v":"Weblink"},"Greenhaven Publishing","eBook",1,"2016","January 2016",null,null,"Edited by","Noah Berlatsky",null,null,null,null,"Z","1240L","Grade 10 - 12","Grade 9 - 12","This edition explores issues related to the Olympics. It covers benefits and harms from hosting the Olympics. It examines the issues of drugs and doping in the Olympics. Readers will learn about often unseen sides to the massive event, including the environmental, political, and sex trafficking issues as they relate to the Olympics.","English",39.4,31.52,"796.48","88 pp.","https://greenhavenpublishing.com/978-0-7377-7658-4",{"$f":"Table1[[#This Row],['# of Books]]*Table1[[#This Row],[QTY]]","v":0},{"$f":"Table1[[#This Row],[QTY]]*Table1[[#This Row],[School & Library Price]]","v":0}]
[null,null,24,null,null,"Current Issues","At Issue","Organic Food","978-0-7377-7647-8",{"$f":"HYPERLINK(Table1[[#This Row],[Hyperlink]],\"Weblink\")","v":"Weblink"},"Greenhaven Publishing","eBook",1,"2015","January 2015",null,null,"Edited by","Amy Francis",null,null,null,null,"Z",null,"Grade 10 - 12","Grade 9 - 12","This book positions topics about organic food in a pro and con format, so that readers can gain insight to both sides of the story. They will read about the nutritional aspect, cost, and availability of organic food, along with questions about GMOs and the harmfulness of pesticides. Source of the articles include Farmworker Justice, The New York Post, and several subject-matter experts and essayists.","English",39.4,31.52,"641.3/02","120 pp.","https://greenhavenpublishing.com/978-0-7377-7647-8",{"$f":"Table1[[#This Row],['# of Books]]*Table1[[#This Row],[QTY]]","v":0},{"$f":"Table1[[#This Row],[QTY]]*Table1[[#This Row],[School & Library Price]]","v":0}]
[null,null,24,null,null,"Current Issues","At Issue","Pandemics","978-0-7377-5588-6",{"$f":"HYPERLINK(Table1[[#This Row],[Hyperlink]],\"Weblink\")","v":"Weblink"},"Greenhaven Publishing","Library Bound Book",1,"2012","January 2012","Library","6.000 X 9.000","Edited by","Jacqueline Langwith",null,null,null,null,"Z",null,"Grade 10 - 12","Grade 9 - 12","The 1918 flu pandemic infected 500 million people worldwide and resulted in the deaths of 50 to 100 million people. While this is unusual for communicable diseases, it is always a possibility. How does something as small as a virus spread across such a vast region and infect so many people? What is the relationship between viruses and antibiotics. What is to be done if another flu pandemic takes place? Or something even more deadly? This anthology examines issues related to pandemics. Includes primary and secondary sources from a variety of perspectives; eyewitnesses, scientific journals, government officials, and many others. Readers will gain insight into the science behind pandemics.","English",39.4,31.52,"614.4","104 pp.","https://greenhavenpublishing.com/978-0-7377-5588-6",{"$f":"Table1[[#This Row],['# of Books]]*Table1[[#This Row],[QTY]]","v":0},{"$f":"Table1[[#This Row],[QTY]]*Table1[[#This Row],[School & Library Price]]","v":0}]
[null,null,24,null,null,"Current Issues","At Issue","Piracy on the High Seas","978-0-7377-6849-7",{"$f":"HYPERLINK(Table1[[#This Row],[Hyperlink]],\"Weblink\")","v":"Weblink"},"Greenhaven Publishing","Paperback Book",1,"2014","January 2014","Paperback","6.000 X 9.000","Edited by","Debra A. Miller",null,null,null,null,"Z",null,"Grade 10 - 12","Grade 9 - 12","What factors motivate modern day pirates? Are pirates the same as terrorists? Should international navies or local fleets handle pirates? Does aid help prevent piracy, or does it have no effect? This anthology explores the ongoing problem of modern-day piracy. Rising in prevalence at the turn of the 21st century, pirates attacked commercial ships in Southeast Asia and off the coast of Somalia. Readers will learn about the complexities of nautical law, the conflicts on land that engender piracy at sea, and how governments are dealing with forces unaligned to any nation.","English",27.8,22.24,"364.16/​4","104 pp.","https://greenhavenpublishing.com/978-0-7377-6849-7",{"$f":"Table1[[#This Row],['# of Books]]*Table1[[#This Row],[QTY]]","v":0},{"$f":"Table1[[#This Row],[QTY]]*Table1[[#This Row],[School & Library Price]]","v":0}]
[null,null,24,null,null,"Current Issues","At Issue","Political Activism","978-0-7377-3881-0",{"$f":"HYPERLINK(Table1[[#This Row],[Hyperlink]],\"Weblink\")","v":"Weblink"},"Greenhaven Publishing","Paperback Book",1,"2008","January 2008","Paperback","6.000 X 9.000","Edited by","Tom Lansford",null,null,null,null,"Z",null,"Grade 10 - 12","Grade 9 - 12","What impact has activism had in the United States? Does protesting change the course of public policy, or is the impact more abstract? Do activists who employ violence do more harm than good for their causes? Is activism more effective as a grassroots movement, or when it works with local governments? This book engages these questions from conflicting perspectives. Readers will benefit from seeing the key ideas and facts at play in the debate from multiple angles. The future of democracy depends on people having a say in decision making. Understanding democracy means understanding when to assist and when to resist. ","English",27.8,22.24,"322.40973","136 pp.","https://greenhavenpublishing.com/978-0-7377-3881-0",{"$f":"Table1[[#This Row],['# of Books]]*Table1[[#This Row],[QTY]]","v":0},{"$f":"Table1[[#This Row],[QTY]]*Table1[[#This Row],[School & Library Price]]","v":0}]
[null,null,24,null,null,"Current Issues","At Issue","Political Scandals","978-0-7377-3764-6",{"$f":"HYPERLINK(Table1[[#This Row],[Hyperlink]],\"Weblink\")","v":"Weblink"},"Greenhaven Publishing","Paperback Book",1,"2008","January 2008","Paperback","6.000 X 9.000","Edited by","Randy Scherer",null,null,null,null,"Z",null,"Grade 10 - 12","Grade 9 - 12","Have political scandals positively influenced voter turnout? To what degree do they erode the public's trust in the political system? What kind of efforts can be made to prevent them? This relevant anthology tackles the thorny issue of political scandals, zooming in on the various ways these events affect our politics, our perceptions, and our world.","English",27.8,22.24,"364.1/​3230973","112 pp.","https://greenhavenpublishing.com/978-0-7377-3764-6",{"$f":"Table1[[#This Row],['# of Books]]*Table1[[#This Row],[QTY]]","v":0},{"$f":"Table1[[#This Row],[QTY]]*Table1[[#This Row],[School & Library Price]]","v":0}]
[null,null,25,null,null,"Current Issues","At Issue","Poverty in America","978-0-7377-7183-1",{"$f":"HYPERLINK(Table1[[#This Row],[Hyperlink]],\"Weblink\")","v":"Weblink"},"Greenhaven Publishing","Library Bound Book",1,"2015","January 2015","Library","6.000 X 9.000","Edited by","Tamara Thompson",null,null,null,null,"Z",null,"Grade 10 - 12","Grade 9 - 12","An estimated 43.1 million Americans live in poverty. While the government strives to have resources for citizens troubled by poverty, many Americans feel there is not enough being done. This edition explores issues related to poverty in America. Article topics include whether or not poverty is a growing problem in the United Sates, its causes, and ways to reduce poverty for Americans.","English",39.4,31.52,"362.50973","144 pp.","https://greenhavenpublishing.com/978-0-7377-7183-1",{"$f":"Table1[[#This Row],['# of Books]]*Table1[[#This Row],[QTY]]","v":0},{"$f":"Table1[[#This Row],[QTY]]*Table1[[#This Row],[School & Library Price]]","v":0}]
[null,null,25,null,null,"Current Issues","At Issue","Private Character in the Public Eye","978-0-7377-2735-7",{"$f":"HYPERLINK(Table1[[#This Row],[Hyperlink]],\"Weblink\")","v":"Weblink"},"Greenhaven Publishing","Library Bound Book",1,"2007","January 2007","Library","6.000 X 9.000","Edited by","Allen Gaborro",null,null,null,null,"Z",null,"Grade 10 - 12","Grade 9 - 12","Is a public servant's private life necessary to citizens to know and scrutinize? This anthology looks at the relationship between public and private life, and how the one might affect the other. Readers will learn about issues relevant to current discussions about ethics in politics. ","English",39.4,31.52,"323.44/8","112 pp.","https://greenhavenpublishing.com/978-0-7377-2735-7",{"$f":"Table1[[#This Row],['# of Books]]*Table1[[#This Row],[QTY]]","v":0},{"$f":"Table1[[#This Row],[QTY]]*Table1[[#This Row],[School & Library Price]]","v":0}]
[null,null,25,null,null,"Current Issues","At Issue","Reality T.V.","978-0-7377-6196-2",{"$f":"HYPERLINK(Table1[[#This Row],[Hyperlink]],\"Weblink\")","v":"Weblink"},"Greenhaven Publishing","Paperback Book",1,"2013","January 2013","Paperback","6.000 X 9.000","Edited by","Thomas Riggs",null,null,null,null,"Z",null,"Grade 10 - 12","Grade 9 - 12","While it was a novelty less than a decade ago, the roster of the most talked-about-people today includes dozens of reality television stars. They know no limits to self-promotion, with constant posts to social media about themselves. The majority of the young public can't get enough of reality T.V. and its \"stars.\" This book explores the place of reality television in society.","English",27.8,22.24,"791.45/​6","112 pp.","https://greenhavenpublishing.com/978-0-7377-6196-2",{"$f":"Table1[[#This Row],['# of Books]]*Table1[[#This Row],[QTY]]","v":0},{"$f":"Table1[[#This Row],[QTY]]*Table1[[#This Row],[School & Library Price]]","v":0}]
[null,null,25,null,null,"Current Issues","At Issue","The Right to Die","978-0-7377-6850-3",{"$f":"HYPERLINK(Table1[[#This Row],[Hyperlink]],\"Weblink\")","v":"Weblink"},"Greenhaven Publishing","Library Bound Book",1,"2014","January 2014","Library","6.000 X 9.000","Edited by","Tamara Thompson",null,null,null,null,"Z",null,"Grade 10 - 12","Grade 9 - 12","We all die, but should we have the ability to choose when? Death is part of life, but not everyone agrees on the details. What if you have painful, terminal illness? Is it okay to seek suicide if a doctor assists? Do you have a right to end your own life? Is doing so a violation of God's or a greater power's plan? This anthology engages this dilemma from diverse perspectives, grounding abstract and moral discussions in real-life events such as Oregon's right-to-die law. Students will analyze the various facets of this controversial subject with decisive interpretations from religion, medicine, law, and philosophy.","English",39.4,31.52,"179.7","104 pp.","https://greenhavenpublishing.com/978-0-7377-6850-3",{"$f":"Table1[[#This Row],['# of Books]]*Table1[[#This Row],[QTY]]","v":0},{"$f":"Table1[[#This Row],[QTY]]*Table1[[#This Row],[School & Library Price]]","v":0}]
[null,null,25,null,null,"Current Issues","At Issue","The Rising Cost of College","978-0-7377-4444-6",{"$f":"HYPERLINK(Table1[[#This Row],[Hyperlink]],\"Weblink\")","v":"Weblink"},"Greenhaven Publishing","Library Bound Book",1,"2009","January 2009","Library","6.000 X 9.000","Edited by","Ronald D. Lankford, Jr.",null,null,null,null,"Z",null,"Grade 10 - 12","Grade 9 - 12","College tuition is higher now than at any point in history, and current and former students are accruing record amounts of debt, over a trillion dollars, by some estimates. How can something as essential as education cost so much? Is education a right or is it a privilege? Supporting Social Studies curriculum, this anthology analyzes the patterns of tuition from conflicting points of view. Should students be responsible for paying their way through college, or does the community share the load and benefits of higher education? Readers will learn about the varied factors and key ideas catalyzing the rising cost of college and some novel solutions to the problem.","English",39.4,31.52,"378.3/​80973","112 pp.","https://greenhavenpublishing.com/978-0-7377-4444-6",{"$f":"Table1[[#This Row],['# of Books]]*Table1[[#This Row],[QTY]]","v":0},{"$f":"Table1[[#This Row],[QTY]]*Table1[[#This Row],[School & Library Price]]","v":0}]
[null,null,25,null,null,"Current Issues","At Issue","Road Rage","978-0-7377-6197-9",{"$f":"HYPERLINK(Table1[[#This Row],[Hyperlink]],\"Weblink\")","v":"Weblink"},"Greenhaven Publishing","Library Bound Book",1,"2014","January 2014","Library","6.000 X 9.000","Edited by","Amy Francis",null,null,null,null,"Z",null,"Grade 10 - 12","Grade 9 - 12","With more cars on the road and an increase in distracted driving, road rage is growing in prevalence. This volume examines possible causes, such as left-lane laws, hypermiling, impaired driving, and even mental illness.","English",39.4,31.52,"363.12/​51","104 pp.","https://greenhavenpublishing.com/978-0-7377-6197-9",{"$f":"Table1[[#This Row],['# of Books]]*Table1[[#This Row],[QTY]]","v":0},{"$f":"Table1[[#This Row],[QTY]]*Table1[[#This Row],[School & Library Price]]","v":0}]
[null,null,25,null,null,"Current Issues","At Issue","Senior Citizens and Driving","978-0-7377-4054-7",{"$f":"HYPERLINK(Table1[[#This Row],[Hyperlink]],\"Weblink\")","v":"Weblink"},"Greenhaven Publishing","Library Bound Book",1,"2008","January 2008","Library","6.000 X 9.000","Edited by","Tamara Thompson",null,null,null,null,"Z",null,"Grade 10 - 12","Grade 9 - 12","Given the decline in eyesight and reflexes that come with age, should seniors drive? Do these factors lead to less safety for other drivers on the road? What can seniors do to prevent isolation when they stop driving? Should seniors be screened more thoroughly than ordinary drivers? Should society balance safety concerns with the needs of seniors? This anthology looks at these issues from diverse perspectives. Readers learn about key ideas in the debate over public policy regarding driving and the place of seniors in the United States.","English",39.4,31.52,"363.12/​50846","104 pp.","https://greenhavenpublishing.com/978-0-7377-4054-7",{"$f":"Table1[[#This Row],['# of Books]]*Table1[[#This Row],[QTY]]","v":0},{"$f":"Table1[[#This Row],[QTY]]*Table1[[#This Row],[School & Library Price]]","v":0}]
[null,null,25,null,null,"Current Issues","At Issue","Sexual Assault and the Military","978-0-7377-7187-9",{"$f":"HYPERLINK(Table1[[#This Row],[Hyperlink]],\"Weblink\")","v":"Weblink"},"Greenhaven Publishing","Library Bound Book",1,"2015","January 2015","Library","6.000 X 9.000","Edited by","Noah Berlatsky",null,null,null,null,"Z",null,"Grade 10 - 12","Grade 9 - 12","According to Protect Our Defenders, sexual assault in the military is rampant. In the year 2014 alone, 20,300 service people were sexually assaulted within ranks, and these weren't just female victims; over half were males. This volume explores the issue of sexual assault in the military, touching on topics such as if sexual assault in the military is a longstanding problem. It examines if the epidemic was spurred by the inclusion of women in more areas of the military. Readers will get a balanced view of this pervasive and sensitive topic.","English",39.4,31.52,"364.15/32088355","128 pp.","https://greenhavenpublishing.com/978-0-7377-7187-9",{"$f":"Table1[[#This Row],['# of Books]]*Table1[[#This Row],[QTY]]","v":0},{"$f":"Table1[[#This Row],[QTY]]*Table1[[#This Row],[School & Library Price]]","v":0}]
[null,null,25,null,null,"Current Issues","At Issue","Sexual Assault and the Military","978-0-7377-7188-6",{"$f":"HYPERLINK(Table1[[#This Row],[Hyperlink]],\"Weblink\")","v":"Weblink"},"Greenhaven Publishing","Paperback Book",1,"2015","January 2015","Paperback","6.000 X 9.000","Edited by","Noah Berlatsky",null,null,null,null,"Z",null,"Grade 10 - 12","Grade 9 - 12","According to Protect Our Defenders, sexual assault in the military is rampant. In the year 2014 alone, 20,300 service people were sexually assaulted within ranks, and these weren't just female victims; over half were males. This volume explores the issue of sexual assault in the military, touching on topics such as if sexual assault in the military is a longstanding problem. It examines if the epidemic was spurred by the inclusion of women in more areas of the military. Readers will get a balanced view of this pervasive and sensitive topic.","English",27.8,22.24,"364.15/32088355","128 pp.","https://greenhavenpublishing.com/978-0-7377-7188-6",{"$f":"Table1[[#This Row],['# of Books]]*Table1[[#This Row],[QTY]]","v":0},{"$f":"Table1[[#This Row],[QTY]]*Table1[[#This Row],[School & Library Price]]","v":0}]
[null,null,25,null,null,"Current Issues","At Issue","Should Cameras Be Allowed in Courtrooms?","978-0-7377-3929-9",{"$f":"HYPERLINK(Table1[[#This Row],[Hyperlink]],\"Weblink\")","v":"Weblink"},"Greenhaven Publishing","Paperback Book",1,"2008","January 2008","Paperback","6.000 X 9.000","Edited by","Amanda Hiber",null,null,null,null,"Z",null,"Grade 10 - 12","Grade 9 - 12","This book discusses whether cameras should be allowed in courtrooms. A diverse collection of viewpoints presents readers with opportunities for analysis and inquiry. Questions such as whether cameras should be allowed in criminal courts, whether they should be allowed in the Supreme Court, and whether the use of cameras would lead to a more educated public allow students to form an educated opinion on this often contentious subject.","English",27.8,22.24,"347.73/​12","112 pp.","https://greenhavenpublishing.com/978-0-7377-3929-9",{"$f":"Table1[[#This Row],['# of Books]]*Table1[[#This Row],[QTY]]","v":0},{"$f":"Table1[[#This Row],[QTY]]*Table1[[#This Row],[School & Library Price]]","v":0}]
[null,null,25,null,null,"Current Issues","At Issue","Should Drilling Be Permitted in the Arctic National Wildlife Refuge?","978-0-7377-6200-6",{"$f":"HYPERLINK(Table1[[#This Row],[Hyperlink]],\"Weblink\")","v":"Weblink"},"Greenhaven Publishing","Paperback Book",1,"2013","January 2013","Paperback","6.000 X 9.000","Edited by","Tamara Thompson",null,null,null,null,"Z",null,"Grade 10 - 12","Grade 9 - 12","The Arctic National Wildlife refuge is one of the last intact landscapes in America, and home to 37 species of land mammals, 8 marine mammals, 42 fish species, and more than 200 migratory bird species. President Bush once said that America is addicted to oil. The same is true for other countries. While we do not seek out alternative resources, our addiction and need is ever-present. This book examines issues related to drilling in the Arctic National Wildlife Refuge. Oil related activities such as seismic testing, and aircraft and vehicle noise can drive local species into ruin. This book looks at both sides, providing students with a balanced understanding of the need for oil and what prices there are to be paid in the pursuit of obtaining it. Includes primary and secondary sources from a variety of perspectives; eyewitnesses, scientific journals, government officials, and many others.","English",27.8,22.24,"333.95/​416097987","112 pp.","https://greenhavenpublishing.com/978-0-7377-6200-6",{"$f":"Table1[[#This Row],['# of Books]]*Table1[[#This Row],[QTY]]","v":0},{"$f":"Table1[[#This Row],[QTY]]*Table1[[#This Row],[School & Library Price]]","v":0}]
[null,null,25,null,null,"Current Issues","At Issue","Should Juveniles Be Given Life Without Parole?","978-0-7377-5165-9",{"$f":"HYPERLINK(Table1[[#This Row],[Hyperlink]],\"Weblink\")","v":"Weblink"},"Greenhaven Publishing","Library Bound Book",1,"2011","January 2011","Library","6.000 X 9.000","Edited by","Olivia Ferguson",null,null,null,null,"Z",null,"Grade 10 - 12","Grade 9 - 12","Is the legal system disproportionately unfair to juveniles? Should cases be considered individually when sentencing juveniles? Is the justice system prejudiced against juveniles of color? The many factors that go into the discussion of life without parole are considered in this informative anthology. Readers are presented with opposing views in context, allowing for a complete understanding of the issue at hand.","English",39.4,31.52,"365/​.6/​08350973","104 pp.","https://greenhavenpublishing.com/978-0-7377-5165-9",{"$f":"Table1[[#This Row],['# of Books]]*Table1[[#This Row],[QTY]]","v":0},{"$f":"Table1[[#This Row],[QTY]]*Table1[[#This Row],[School & Library Price]]","v":0}]
[null,null,25,null,null,"Current Issues","At Issue","Should Juveniles Be Given Life Without Parole?","978-0-7377-5166-6",{"$f":"HYPERLINK(Table1[[#This Row],[Hyperlink]],\"Weblink\")","v":"Weblink"},"Greenhaven Publishing","Paperback Book",1,"2011","January 2011","Paperback","6.000 X 9.000","Edited by","Olivia Ferguson",null,null,null,null,"Z",null,"Grade 10 - 12","Grade 9 - 12","Is the legal system disproportionately unfair to juveniles? Should cases be considered individually when sentencing juveniles? Is the justice system prejudiced against juveniles of color? The many factors that go into the discussion of life without parole are considered in this informative anthology. Readers are presented with opposing views in context, allowing for a complete understanding of the issue at hand.","English",27.8,22.24,"365/​.6/​08350973","104 pp.","https://greenhavenpublishing.com/978-0-7377-5166-6",{"$f":"Table1[[#This Row],['# of Books]]*Table1[[#This Row],[QTY]]","v":0},{"$f":"Table1[[#This Row],[QTY]]*Table1[[#This Row],[School & Library Price]]","v":0}]
[null,null,25,null,null,"Current Issues","At Issue","Should Parents Be Allowed to Choose the Gender of Their Children?","978-0-7377-5594-7",{"$f":"HYPERLINK(Table1[[#This Row],[Hyperlink]],\"Weblink\")","v":"Weblink"},"Greenhaven Publishing","Library Bound Book",1,"2012","January 2012","Library","6.000 X 9.000","Edited by","Tamara Thompson",null,null,null,null,"Z",null,"Grade 10 - 12","Grade 9 - 12","This edition explores the ethical issues related to sex selection. Selected articles are written from differing viewpoints and cover a variety of topics, including the potential for gender discrimination, the dangers posed by trait-based eugenics, reported occurrences of \"gendercide\" in China and India, and issues related to sex selective abortion.","English",39.4,31.52,"174.2/​8","96 pp.","https://greenhavenpublishing.com/978-0-7377-5594-7",{"$f":"Table1[[#This Row],['# of Books]]*Table1[[#This Row],[QTY]]","v":0},{"$f":"Table1[[#This Row],[QTY]]*Table1[[#This Row],[School & Library Price]]","v":0}]
[null,null,25,null,null,"Current Issues","At Issue","Should Religious Symbols Be Allowed on Public Land?","978-0-7377-5168-0",{"$f":"HYPERLINK(Table1[[#This Row],[Hyperlink]],\"Weblink\")","v":"Weblink"},"Greenhaven Publishing","Paperback Book",1,"2011","January 2011","Paperback","6.000 X 9.000","Edited by","Louise I. Gerdes",null,null,null,null,"Z",null,"Grade 10 - 12","Grade 9 - 12","If a public space is open to one religion, shouldn't it be open to all? Did the founders of our nation intend to forbid religious symbols on public land? What is the establishment clause, and should its existence permit the alteration of historic memorials? Supporting Social Studies curriculum, this informational anthology captures the spirited debate regarding religious symbols and public land, offering readers a variety of perspectives on the topic.","English",27.8,22.24,"342.7308/​52","136 pp.","https://greenhavenpublishing.com/978-0-7377-5168-0",{"$f":"Table1[[#This Row],['# of Books]]*Table1[[#This Row],[QTY]]","v":0},{"$f":"Table1[[#This Row],[QTY]]*Table1[[#This Row],[School & Library Price]]","v":0}]
[null,null,25,null,null,"Current Issues","At Issue","Should the Federal Income Tax Be Eliminated?","978-0-7377-6202-0",{"$f":"HYPERLINK(Table1[[#This Row],[Hyperlink]],\"Weblink\")","v":"Weblink"},"Greenhaven Publishing","Paperback Book",1,"2014","January 2014","Paperback","6.000 X 9.000","Edited by","David M. Haugen",null,null,null,null,"Z",null,"Grade 10 - 12","Grade 9 - 12","Income tax is a key source of funds that the government uses to fund its activities and serve the public, but to what end does it really serve our needs? It is all being utilized properly? Is it absolutely necessary? This book explores issues related to eliminating the federal income tax including, the adoption of a flat tax; the adoption of a tax based on consumption; and corporate income taxes. Includes primary and secondary sources from a variety of perspectives; eyewitnesses, scientific journals, government officials, and many others.","English",27.8,22.24,"336.24/150973","96 pp.","https://greenhavenpublishing.com/978-0-7377-6202-0",{"$f":"Table1[[#This Row],['# of Books]]*Table1[[#This Row],[QTY]]","v":0},{"$f":"Table1[[#This Row],[QTY]]*Table1[[#This Row],[School & Library Price]]","v":0}]
[null,null,25,null,null,"Current Issues","At Issue","Should the Government Fund Embryonic Stem Cell Research?","978-0-7377-4438-5",{"$f":"HYPERLINK(Table1[[#This Row],[Hyperlink]],\"Weblink\")","v":"Weblink"},"Greenhaven Publishing","Library Bound Book",1,"2009","January 2009","Library","6.000 X 9.000","Edited by","Amy Francis",null,null,null,null,"Z",null,"Grade 10 - 12","Grade 9 - 12","Is public funding problematic for stem cell research? Should the government play a larger role in funding and overseeing stem cell research? Are a majority of American misinformed about stem cell research? This informative edition supports Social Studies curriculum as it tackles these questions to give readers a diversified view of the many stakes and debates taking place surrounding this topic. Includes primary and secondary sources from a variety of perspectives; eyewitnesses, scientific journals, government officials, and many others.","English",39.4,31.52,"174.2","120 pp.","https://greenhavenpublishing.com/978-0-7377-4438-5",{"$f":"Table1[[#This Row],['# of Books]]*Table1[[#This Row],[QTY]]","v":0},{"$f":"Table1[[#This Row],[QTY]]*Table1[[#This Row],[School & Library Price]]","v":0}]
[null,null,26,null,null,"Current Issues","At Issue","Should the Internet Be Free?","978-0-7377-4688-4",{"$f":"HYPERLINK(Table1[[#This Row],[Hyperlink]],\"Weblink\")","v":"Weblink"},"Greenhaven Publishing","Paperback Book",1,"2010","January 2010","Paperback","6.000 X 9.000","Edited by","Roman Espejo",null,null,null,null,"Z",null,"Grade 10 - 12","Grade 9 - 12","This comprehensive edition explores the issues regarding the cost of the Internet, including the availability of broadband access, tiered Internet access, and Internet availability for minorities. Readers will evaluate both sides of the idea that the Internet should be a free resource for all to access. Includes primary and secondary sources from a variety of perspectives; eyewitnesses, scientific journals, government officials, and many others.","English",27.8,22.24,"004.67/8","128 pp.","https://greenhavenpublishing.com/978-0-7377-4688-4",{"$f":"Table1[[#This Row],['# of Books]]*Table1[[#This Row],[QTY]]","v":0},{"$f":"Table1[[#This Row],[QTY]]*Table1[[#This Row],[School & Library Price]]","v":0}]
[null,null,26,null,null,"Current Issues","At Issue","Should the U.S. Close Its Borders?","978-0-7377-4690-7",{"$f":"HYPERLINK(Table1[[#This Row],[Hyperlink]],\"Weblink\")","v":"Weblink"},"Greenhaven Publishing","Paperback Book",1,"2014","January 2014","Paperback","6.000 X 9.000","Edited by","Louise I. Gerdes",null,null,null,null,null,null,"Grade 10 - 12","Grade 9 - 12","The Statue of Liberty is a global symbol, forever tied to the poem by Emma Lazarus, in which Lady Liberty beckons and welcomes all who seek freedom from oppression. While the feelings behind this sentiment are obvious, the politics around whether a country can take in unlimited numbers of persons are not. Now more than ever, America's politics on border and immigration control are being hotly debated. This volume gathers eyewitness accounts, governmental views, scientific analysis, and newspaper accounts about border control so that your readers can seek answers in one source. Readers will learn about the impact of increased border control and enforcement, and they will decide for themselves whether it is effective. Pull quotes, of the most important facts, are placed throughout the texts to help readers track the most salient things to consider in crafting their opinion or research.","English",27.8,22.24,"363.28/50973--dc23","152 pp.","https://greenhavenpublishing.com/978-0-7377-4690-7",{"$f":"Table1[[#This Row],['# of Books]]*Table1[[#This Row],[QTY]]","v":0},{"$f":"Table1[[#This Row],[QTY]]*Table1[[#This Row],[School & Library Price]]","v":0}]
[null,null,26,null,null,"Current Issues","At Issue","Should the U.S. Do Business with China?","978-0-7377-4113-1",{"$f":"HYPERLINK(Table1[[#This Row],[Hyperlink]],\"Weblink\")","v":"Weblink"},"Greenhaven Publishing","Paperback Book",1,"2009","January 2009","Paperback","6.000 X 9.000","Edited by","Laura K. Egendorf",null,null,null,null,"Z",null,"Grade 10 - 12","Grade 9 - 12","Should the United States have relations with a country that offers few protections for workers? Why do U.S. companies do business in China under these conditions? Why do they support the Chinese government's restrictions on free speech if this is anathema to the American way? Could economic engagement push China toward democracy? This anthology interprets these and other relevant questions from conflicting perspectives. Readers will learn about the key ideas and debates regarding trade and labor policy with China. Discussions are grounded in real life events. As China becomes more a part of policy planning for the U.S., it is critical to understand our relationship to labor in this region.","English",27.8,22.24,"337.73051","128 pp.","https://greenhavenpublishing.com/978-0-7377-4113-1",{"$f":"Table1[[#This Row],['# of Books]]*Table1[[#This Row],[QTY]]","v":0},{"$f":"Table1[[#This Row],[QTY]]*Table1[[#This Row],[School & Library Price]]","v":0}]
[null,null,26,null,null,"Current Issues","At Issue","Should the U.S. Reduce Its Consumption?","978-0-7377-4895-6",{"$f":"HYPERLINK(Table1[[#This Row],[Hyperlink]],\"Weblink\")","v":"Weblink"},"Greenhaven Publishing","Paperback Book",1,"2011","January 2011","Paperback","6.000 X 9.000","Edited by, Edited by","David M. Haugen, Susan Musser",null,null,null,null,"Z",null,"Grade 10 - 12","Grade 9 - 12","Do Americans eat too much? Do we waste too much food? How much are we embracing sustainability? This comprehensive edition explores the various topics that complicate consumption in the United States. Features a series of essays from diverse viewpoints, an extensive bibliography, and an annotated lists of relevant organizations to contact offer a gateway to future research.","English",27.8,22.24,"339.4/​70973","120 pp.","https://greenhavenpublishing.com/978-0-7377-4895-6",{"$f":"Table1[[#This Row],['# of Books]]*Table1[[#This Row],[QTY]]","v":0},{"$f":"Table1[[#This Row],[QTY]]*Table1[[#This Row],[School & Library Price]]","v":0}]
[null,null,26,null,null,"Current Issues","At Issue","Should the Voting Age Be Lowered?","978-0-7377-3936-7",{"$f":"HYPERLINK(Table1[[#This Row],[Hyperlink]],\"Weblink\")","v":"Weblink"},"Greenhaven Publishing","Library Bound Book",1,"2008","January 2008","Library","6.000 X 9.000","Edited by","Ronald D. Lankford, Jr.",null,null,null,null,"Z",null,"Grade 10 - 12","Grade 9 - 12","Already once lowered to the age of 18, an ongoing debate is that we should lower the voting age to 16. This informative resource explores topics related to voting and age. Directly supporting key Social Studies curriculum and political science studies, readers are presented with a diverse set of viewpoints on voting in America, where it has been and where it may go.","English",39.4,31.52,"324.6/​2","120 pp.","https://greenhavenpublishing.com/978-0-7377-3936-7",{"$f":"Table1[[#This Row],['# of Books]]*Table1[[#This Row],[QTY]]","v":0},{"$f":"Table1[[#This Row],[QTY]]*Table1[[#This Row],[School & Library Price]]","v":0}]
[null,null,26,null,null,"Current Issues","At Issue","Should Vaccinations Be Mandatory?","978-0-7377-6863-3",{"$f":"HYPERLINK(Table1[[#This Row],[Hyperlink]],\"Weblink\")","v":"Weblink"},"Greenhaven Publishing","Paperback Book",1,"2014","January 2014","Paperback","6.000 X 9.000","Edited by","Roman Espejo",null,null,null,null,"Z",null,"Grade 10 - 12","Grade 9 - 12","Vaccines are meant to help us, but there are contrary ideas as to whether vaccines are the best alternative. Supporters say that vaccines prevent deadly and serious diseases including rubella, diphtheria, smallpox, polio, and whooping cough. People against vaccination believe that children's immune systems can deal with most infections naturally. They point out that injecting questionable vaccine ingredients into a child may cause side effects, including seizures, paralysis, and death. This book examines the importance of childhood vaccinations for public health, weighing concerns about the risks of vaccines against the consequences of not vaccinating. It explores the issue of mandating vaccinations in the context of personal and religious freedom, and discusses the likelihood that the HPV vaccine will encourage early sexual activity.","English",27.8,22.24,"614.4/​7","128 pp.","https://greenhavenpublishing.com/978-0-7377-6863-3",{"$f":"Table1[[#This Row],['# of Books]]*Table1[[#This Row],[QTY]]","v":0},{"$f":"Table1[[#This Row],[QTY]]*Table1[[#This Row],[School & Library Price]]","v":0}]
[null,null,26,null,null,"Current Issues","At Issue","Solar Storms","978-0-7377-6206-8",{"$f":"HYPERLINK(Table1[[#This Row],[Hyperlink]],\"Weblink\")","v":"Weblink"},"Greenhaven Publishing","Paperback Book",1,"2013","January 2013","Paperback","6.000 X 9.000","Edited by","Tamara Thompson",null,null,null,null,"Z",null,"Grade 10 - 12","Grade 9 - 12","When solar storms take place, charged particles are sent hurtling through space, and if they collide with Earth, large-scale geomagnetic storms can result. This book presents a range of views about the extent and type of damage that could result from solar storms. Some scientists and commentators assert that solar storms could wreak socioeconomic havoc on a global scale, cause nuclear meltdowns, affect global warming, and alter human health. Others suggest that the dire warnings are overstated. Proposed warning systems and other protective measures are also addressed.","English",27.8,22.24,"523.7/​5","104 pp.","https://greenhavenpublishing.com/978-0-7377-6206-8",{"$f":"Table1[[#This Row],['# of Books]]*Table1[[#This Row],[QTY]]","v":0},{"$f":"Table1[[#This Row],[QTY]]*Table1[[#This Row],[School & Library Price]]","v":0}]
[null,null,26,null,null,"Current Issues","At Issue","Space Exploration","978-0-7377-5596-1",{"$f":"HYPERLINK(Table1[[#This Row],[Hyperlink]],\"Weblink\")","v":"Weblink"},"Greenhaven Publishing","Library Bound Book",1,"2011","January 2011","Library","6.000 X 9.000","Edited by","David M. Haugen",null,null,null,null,"Z",null,"Grade 10 - 12","Grade 9 - 12","Within the past twenty years, the space shuttle has launched 3 million pounds of cargo, transported more than 600 passengers and pilots, and logged more than 366 million miles. What began as a space race, space exploration is now a global effort, to search space and understand all its resources. This book comprehensively explains all the sides to space exploration. It includes primary and secondary sources from a variety of perspectives; eyewitnesses, scientific journals, government officials, and many others.","English",39.4,31.52,"629.4","120 pp.","https://greenhavenpublishing.com/978-0-7377-5596-1",{"$f":"Table1[[#This Row],['# of Books]]*Table1[[#This Row],[QTY]]","v":0},{"$f":"Table1[[#This Row],[QTY]]*Table1[[#This Row],[School & Library Price]]","v":0}]
[null,null,26,null,null,"Current Issues","At Issue","Student Loans","978-0-7377-7410-8",{"$f":"HYPERLINK(Table1[[#This Row],[Hyperlink]],\"Weblink\")","v":"Weblink"},"Greenhaven Publishing","Library Bound Book",1,"2016","January 2016","Library","6.000 X 9.000","Edited by","Noël Merino",null,null,null,null,"Z",null,"Grade 10 - 12","Grade 9 - 12","It is very common for young people to have educational loans in order to obtain certification or degrees. This guidebook investigates student loans, how increasing loan debt has gotten out of hand, and what students should do about it. Government and private loans, repayment solutions, and the economic impact of the student loan bubble are discussed.","English",39.4,31.52,"378.3/62","88 pp.","https://greenhavenpublishing.com/978-0-7377-7410-8",{"$f":"Table1[[#This Row],['# of Books]]*Table1[[#This Row],[QTY]]","v":0},{"$f":"Table1[[#This Row],[QTY]]*Table1[[#This Row],[School & Library Price]]","v":0}]
[null,null,26,null,null,"Current Issues","At Issue","Super PACs","978-0-7377-7655-3",{"$f":"HYPERLINK(Table1[[#This Row],[Hyperlink]],\"Weblink\")","v":"Weblink"},"Greenhaven Publishing","eBook",1,"2014","January 2014",null,null,"Edited by","Louise I. Gerdes",null,null,null,null,"Z",null,"Grade 10 - 12","Grade 9 - 12","The passage of Citizens United by the Supreme Court in 2010 sparked a renewed debate about campaign spending by large political action committees, or Super PACs. Its ruling said that it is okay for corporations and labor unions to spend as much as they want in advertising and other methods to convince people to vote for or against a candidate. This book provides a wide range of opinions on the issue. Includes primary and secondary sources from a variety of perspectives; eyewitnesses, scientific journals, government officials, and many others.","English",39.4,31.52,"324/​.40973","112 pp.","https://greenhavenpublishing.com/978-0-7377-7655-3",{"$f":"Table1[[#This Row],['# of Books]]*Table1[[#This Row],[QTY]]","v":0},{"$f":"Table1[[#This Row],[QTY]]*Table1[[#This Row],[School & Library Price]]","v":0}]
[null,null,26,null,null,"Current Issues","At Issue","Superfoods","978-0-7377-7413-9",{"$f":"HYPERLINK(Table1[[#This Row],[Hyperlink]],\"Weblink\")","v":"Weblink"},"Greenhaven Publishing","Paperback Book",1,"2016","January 2016","Paperback","6.000 X 9.000","Edited by","Roman Espejo",null,null,null,null,"Z",null,"Grade 10 - 12","Grade 9 - 12","We are what we eat. What does eating superfoods do for us? Superfoods are nutrient-rich foods considered to be especially beneficial for health and well-being. They are rich in antioxidants, polyphenols, vitamins, and minerals. Eating them may reduce the risk of chronic disease and prolong life. Readers will be intrigued to learn that people who eat more superfoods are healthier and thinner than those who don't. This book examines various superfoods like kale and quinoa. It also discusses the impact that superfoods may have on the environment. It examines juicing and health, creating smart young readers who will make smart choices about their nutrition.","English",27.8,22.24,"613.2","104 pp.","https://greenhavenpublishing.com/978-0-7377-7413-9",{"$f":"Table1[[#This Row],['# of Books]]*Table1[[#This Row],[QTY]]","v":0},{"$f":"Table1[[#This Row],[QTY]]*Table1[[#This Row],[School & Library Price]]","v":0}]
[null,null,26,null,null,"Current Issues","At Issue","Superfoods","978-0-7377-7657-7",{"$f":"HYPERLINK(Table1[[#This Row],[Hyperlink]],\"Weblink\")","v":"Weblink"},"Greenhaven Publishing","eBook",1,"2016","January 2016",null,null,"Edited by","Roman Espejo",null,null,null,null,"Z",null,"Grade 10 - 12","Grade 9 - 12","We are what we eat. What does eating superfoods do for us? Superfoods are nutrient-rich foods considered to be especially beneficial for health and well-being. They are rich in antioxidants, polyphenols, vitamins, and minerals. Eating them may reduce the risk of chronic disease and prolong life. Readers will be intrigued to learn that people who eat more superfoods are healthier and thinner than those who don't. This book examines various superfoods like kale and quinoa. It also discusses the impact that superfoods may have on the environment. It examines juicing and health, creating smart young readers who will make smart choices about their nutrition.","English",39.4,31.52,"613.2","104 pp.","https://greenhavenpublishing.com/978-0-7377-7657-7",{"$f":"Table1[[#This Row],['# of Books]]*Table1[[#This Row],[QTY]]","v":0},{"$f":"Table1[[#This Row],[QTY]]*Table1[[#This Row],[School & Library Price]]","v":0}]
[null,null,26,null,null,"Current Issues","At Issue","Teen Residential Treatment Programs","978-0-7377-6150-4",{"$f":"HYPERLINK(Table1[[#This Row],[Hyperlink]],\"Weblink\")","v":"Weblink"},"Greenhaven Publishing","Paperback Book",1,"2013","January 2013","Paperback","6.000 X 9.000","Edited by","Judeen Bartos",null,null,null,null,"Z",null,"Grade 10 - 12","Grade 9 - 12","Some troubled teens may be fortunate enough to avoid incarceration or hospitalization for their actions, by being assigned to a residential treatment program. Programs like these offer a range of services, including drug and alcohol treatment, confidence building, military-style discipline, and psychological counseling. They address a variety of addiction, behavioral, and emotional problems that have led to some teens making the wrong choices in their lives. This volume examines this alternative, its benefits and its weak points. Includes primary and secondary sources from a variety of perspectives; eyewitnesses, scientific journals, government officials, and many others.","English",27.8,22.24,"362.74","104 pp.","https://greenhavenpublishing.com/978-0-7377-6150-4",{"$f":"Table1[[#This Row],['# of Books]]*Table1[[#This Row],[QTY]]","v":0},{"$f":"Table1[[#This Row],[QTY]]*Table1[[#This Row],[School & Library Price]]","v":0}]
[null,null,26,null,null,"Current Issues","At Issue","Teen Smoking","978-0-7377-6866-4",{"$f":"HYPERLINK(Table1[[#This Row],[Hyperlink]],\"Weblink\")","v":"Weblink"},"Greenhaven Publishing","Library Bound Book",1,"2014","January 2014","Library","6.000 X 9.000","Edited by","Roman Espejo",null,null,null,null,"Z",null,"Grade 10 - 12","Grade 9 - 12","How effective are school cessation programs at reducing teen smoking? What role do parents play in influencing their teens not to smoke? How large of a problem is smoking amongst teen girls? This informative edition tackles the topic of teen smoking through a series of diverse perspectives. Includes primary and secondary sources from a variety of perspectives; eyewitnesses, scientific journals, government officials, and many others.","English",39.4,31.52,"362.29/60835","104 pp.","https://greenhavenpublishing.com/978-0-7377-6866-4",{"$f":"Table1[[#This Row],['# of Books]]*Table1[[#This Row],[QTY]]","v":0},{"$f":"Table1[[#This Row],[QTY]]*Table1[[#This Row],[School & Library Price]]","v":0}]
[null,null,26,null,null,"Current Issues","At Issue","Transgender People","978-0-7377-7192-3",{"$f":"HYPERLINK(Table1[[#This Row],[Hyperlink]],\"Weblink\")","v":"Weblink"},"Greenhaven Publishing","Paperback Book",1,"2015","January 2015","Paperback","6.000 X 9.000","Edited by","Tamara Thompson",null,null,null,null,"Z",null,"Grade 10 - 12","Grade 9 - 12","This book examines the growing transgender rights movement and the issues surrounding the transgender community. Discussion of topics related to increased legal protection, military service, and the many ethical as well as financial issues surrounding health care. It includes primary and secondary sources from a variety of perspectives; eyewitnesses, scientific journals, government officials, and many others. An extensive bibliography and annotated list of relevant organizations to contact offer a gateway to future research.","English",27.8,22.24,"306.76/​8","152 pp.","https://greenhavenpublishing.com/978-0-7377-7192-3",{"$f":"Table1[[#This Row],['# of Books]]*Table1[[#This Row],[QTY]]","v":0},{"$f":"Table1[[#This Row],[QTY]]*Table1[[#This Row],[School & Library Price]]","v":0}]
[null,null,26,null,null,"Current Issues","At Issue","Transgender People","978-0-7377-7661-4",{"$f":"HYPERLINK(Table1[[#This Row],[Hyperlink]],\"Weblink\")","v":"Weblink"},"Greenhaven Publishing","eBook",1,"2015","January 2015",null,null,"Edited by","Tamara Thompson",null,null,null,null,"Z",null,"Grade 10 - 12","Grade 9 - 12","This book examines the growing transgender rights movement and the issues surrounding the transgender community. Discussion of topics related to increased legal protection, military service, and the many ethical as well as financial issues surrounding health care. It includes primary and secondary sources from a variety of perspectives; eyewitnesses, scientific journals, government officials, and many others. An extensive bibliography and annotated list of relevant organizations to contact offer a gateway to future research.","English",39.4,31.52,"306.76/​8","152 pp.","https://greenhavenpublishing.com/978-0-7377-7661-4",{"$f":"Table1[[#This Row],['# of Books]]*Table1[[#This Row],[QTY]]","v":0},{"$f":"Table1[[#This Row],[QTY]]*Table1[[#This Row],[School & Library Price]]","v":0}]
[null,null,26,null,null,"Current Issues","At Issue","U.S. Military Deployment","978-0-7377-5373-8",{"$f":"HYPERLINK(Table1[[#This Row],[Hyperlink]],\"Weblink\")","v":"Weblink"},"Greenhaven Publishing","Library Bound Book",1,"2010","January 2010","Library","6.000 X 9.000","Edited by","Noël Merino",null,null,null,null,"Z",null,"Grade 10 - 12","Grade 9 - 12","The U.S. Military is deployed in over 150 countries worldwide. How this deployment is viewed varies widely and wildly, many people divided within American and outside of it as to whether U.S. deployment is helpful or harmful. This volume gives readers both sides of the story, and includes primary and secondary sources from a variety of perspectives; eyewitnesses, scientific journals, government officials, and many others. An extensive bibliography and annotated list of relevant organizations to contact offer a gateway to future research.","English",39.4,31.52,"355.4/​73","136 pp.","https://greenhavenpublishing.com/978-0-7377-5373-8",{"$f":"Table1[[#This Row],['# of Books]]*Table1[[#This Row],[QTY]]","v":0},{"$f":"Table1[[#This Row],[QTY]]*Table1[[#This Row],[School & Library Price]]","v":0}]
[null,null,26,null,null,"Current Issues","At Issue","The United Nations","978-0-7377-3695-3",{"$f":"HYPERLINK(Table1[[#This Row],[Hyperlink]],\"Weblink\")","v":"Weblink"},"Greenhaven Publishing","Library Bound Book",1,"2007","January 2007","Library","6.000 X 9.000","Edited by","Susan C. Hunnicutt",null,null,null,null,"Z",null,"Grade 10 - 12","Grade 9 - 12","The UN is vast, diverse organization that seeks to prevent not just armed conflicts, but famine, poverty, violence against women and marginalized communities, and environmental degradation. Readers will learn about the complicated relationships that governments have with the UN, and why some, such as the United States, sometimes defy the UN to achieve their goals. This anthology of collected viewpoints helps to paint a complete picture of this complex organization and the nuances of its functioning in our modern world.","English",39.4,31.52,"341.23","112 pp.","https://greenhavenpublishing.com/978-0-7377-3695-3",{"$f":"Table1[[#This Row],['# of Books]]*Table1[[#This Row],[QTY]]","v":0},{"$f":"Table1[[#This Row],[QTY]]*Table1[[#This Row],[School & Library Price]]","v":0}]
[null,null,26,null,null,"Current Issues","At Issue","Urban Farming","978-0-7377-6868-8",{"$f":"HYPERLINK(Table1[[#This Row],[Hyperlink]],\"Weblink\")","v":"Weblink"},"Greenhaven Publishing","Library Bound Book",1,"2014","January 2014","Library","6.000 X 9.000","Edited by","Tamara Thompson",null,null,null,null,"Z",null,"Grade 10 - 12","Grade 9 - 12","This edition includes a variety of articles on urban agriculture. Articles discuss urban agriculture as a viable solution to food insecurities; the economic sustainability of urban agriculture; the impact of urban agriculture on specific groups, such as women in developing countries; and the future of urban farming. Includes primary and secondary sources from a variety of perspectives; eyewitnesses, scientific journals, government officials, and many others.","English",39.4,31.52,"635.09173/​2","120 pp.","https://greenhavenpublishing.com/978-0-7377-6868-8",{"$f":"Table1[[#This Row],['# of Books]]*Table1[[#This Row],[QTY]]","v":0},{"$f":"Table1[[#This Row],[QTY]]*Table1[[#This Row],[School & Library Price]]","v":0}]
[null,null,26,null,null,"Current Issues","At Issue","Urban Farming","978-0-7377-6869-5",{"$f":"HYPERLINK(Table1[[#This Row],[Hyperlink]],\"Weblink\")","v":"Weblink"},"Greenhaven Publishing","Paperback Book",1,"2014","January 2014","Paperback","6.000 X 9.000","Edited by","Tamara Thompson",null,null,null,null,"Z",null,"Grade 10 - 12","Grade 9 - 12","This edition includes a variety of articles on urban agriculture. Articles discuss urban agriculture as a viable solution to food insecurities; the economic sustainability of urban agriculture; the impact of urban agriculture on specific groups, such as women in developing countries; and the future of urban farming. Includes primary and secondary sources from a variety of perspectives; eyewitnesses, scientific journals, government officials, and many others.","English",27.8,22.24,"635.09173/​2","120 pp.","https://greenhavenpublishing.com/978-0-7377-6869-5",{"$f":"Table1[[#This Row],['# of Books]]*Table1[[#This Row],[QTY]]","v":0},{"$f":"Table1[[#This Row],[QTY]]*Table1[[#This Row],[School & Library Price]]","v":0}]
[null,null,26,null,null,"Current Issues","At Issue","Video Games","978-0-7377-3698-4",{"$f":"HYPERLINK(Table1[[#This Row],[Hyperlink]],\"Weblink\")","v":"Weblink"},"Greenhaven Publishing","Paperback Book",1,"2008","January 2008","Paperback","6.000 X 9.000","Edited by","David M. Haugen",null,null,null,null,"Z",null,"Grade 10 - 12","Grade 9 - 12","Supporting key learning and comprehension concepts, this anthology contains eleven essays that offer varying perspectives on issues related to video games, including the positive and negative effects of playing video games. Readers will learn about violent video games and antisocial behavior, as well as about the artistic and emotional satisfaction gained from video games. Provides contact information for organizations and a bibliography.","English",27.8,22.24,"794.8","104 pp.","https://greenhavenpublishing.com/978-0-7377-3698-4",{"$f":"Table1[[#This Row],['# of Books]]*Table1[[#This Row],[QTY]]","v":0},{"$f":"Table1[[#This Row],[QTY]]*Table1[[#This Row],[School & Library Price]]","v":0}]
[null,null,27,null,null,"Current Issues","At Issue","Violent Video Games","978-1-5345-0254-3",{"$f":"HYPERLINK(Table1[[#This Row],[Hyperlink]],\"Weblink\")","v":"Weblink"},"Greenhaven Publishing","eBook",1,"2015","August 2015",null,null,"Edited by","Roman Espejo",null,null,null,null,null,null,"Grade 10 - 12","Grade 9 - 12","While organizations such as the American Psychological Association release statements that research supports a link between violent video game use and an increase in aggressive behavior, independent studies (such as one by Whitney DeCamp), show little or no relationship between the two. Those who believe that there are no significant links, caution researchers to avoid compiling evidence 'in a vacuum.' This sets the stage for a very hot debate, especially amongst any of your readers who love violent video games. A variety of narratives are compiled through eyewitness accounts, governmental views, scientific analysis, and newspaper accounts, so readers can decide for themselves how they feel about this issue. Important facts are pulled out from the main text and highlighted so that readers can isolate details for their research or report writing.","English",39.4,31.52,"794.8083--dc23","104 pp.","https://greenhavenpublishing.com/978-1-5345-0254-3",{"$f":"Table1[[#This Row],['# of Books]]*Table1[[#This Row],[QTY]]","v":0},{"$f":"Table1[[#This Row],[QTY]]*Table1[[#This Row],[School & Library Price]]","v":0}]
[null,null,27,null,null,"Current Issues","At Issue","Voter Fraud","978-0-7377-7664-5",{"$f":"HYPERLINK(Table1[[#This Row],[Hyperlink]],\"Weblink\")","v":"Weblink"},"Greenhaven Publishing","eBook",1,"2016","January 2016",null,null,"Edited by","Sarah Armstrong",null,null,null,null,"Z",null,"Grade 10 - 12","Grade 9 - 12","During the 2016 Presidential election, there were repeated allegations made about voter fraud, by the winning candidate. Semi-annual studies by the Brennan Center for Justice of NYU conclusively demonstrate however, that most allegations of fraud turn out to be baseless. Issues relating to false numbers are more often the result of mistakes made by voters and election officials than intentional foul play. Nevertheless, voter fraud can occur. This edition examines issues related to election processes and the problem of fraud. It includes primary and secondary sources from a variety of perspectives; eyewitnesses, scientific journals, government officials, and many others.","English",39.4,31.52,"324.6/60973","120 pp.","https://greenhavenpublishing.com/978-0-7377-7664-5",{"$f":"Table1[[#This Row],['# of Books]]*Table1[[#This Row],[QTY]]","v":0},{"$f":"Table1[[#This Row],[QTY]]*Table1[[#This Row],[School & Library Price]]","v":0}]
[null,null,27,null,null,"Current Issues","At Issue","Wave and Tidal Power","978-0-7377-4901-4",{"$f":"HYPERLINK(Table1[[#This Row],[Hyperlink]],\"Weblink\")","v":"Weblink"},"Greenhaven Publishing","Paperback Book",1,"2011","January 2011","Paperback","6.000 X 9.000","Edited by","Louise I. Gerdes",null,null,null,null,"Z",null,"Grade 10 - 12","Grade 9 - 12","Tidal power and its possibilities have been under consideration for more than half a century. Studies have shown the feasibility of several locations in the United States where tidal energy could be generated, and yet tidal generators were not built. One major concern is that the technology can kill marine life, and prevent biological productivity anywhere near the generator. This anthology looks at the science and issues behind wave and tidal power through a collection of for-or-against essays by today's authorities.","English",27.8,22.24,"621.31/​2134","120 pp.","https://greenhavenpublishing.com/978-0-7377-4901-4",{"$f":"Table1[[#This Row],['# of Books]]*Table1[[#This Row],[QTY]]","v":0},{"$f":"Table1[[#This Row],[QTY]]*Table1[[#This Row],[School & Library Price]]","v":0}]
[null,null,27,null,null,"Current Issues","At Issue","The Wealth Divide","978-0-7377-7660-7",{"$f":"HYPERLINK(Table1[[#This Row],[Hyperlink]],\"Weblink\")","v":"Weblink"},"Greenhaven Publishing","eBook",1,"2015","January 2015",null,null,"Edited by","Noël Merino",null,null,null,null,"Z",null,"Grade 10 - 12","Grade 9 - 12","Many economists argue that the Great Recession and the Occupy movement are just two symptoms of a deep issue in the United States: wealth is concentrated in fewer and fewer hands. Are these economists right? Should wealth be distributed equally? Should it be distributed at all? Why do patterns of wealth seem to fall along racial and ethnic lines? Is taxation of the rich to help the poor ethical? Experts analyze these issues and more from diverse perspectives, offering nuanced interpretations of the problems and novel solutions. Writers include Jonathan Rauch, Robert A. Levy, and Thomas Sowell.","English",39.4,31.52,"339.2/​20973","104 pp.","https://greenhavenpublishing.com/978-0-7377-7660-7",{"$f":"Table1[[#This Row],['# of Books]]*Table1[[#This Row],[QTY]]","v":0},{"$f":"Table1[[#This Row],[QTY]]*Table1[[#This Row],[School & Library Price]]","v":0}]
[null,null,27,null,null,"Current Issues","At Issue","What Are the Jobs of the Future?","978-0-7377-7199-2",{"$f":"HYPERLINK(Table1[[#This Row],[Hyperlink]],\"Weblink\")","v":"Weblink"},"Greenhaven Publishing","Library Bound Book",1,"2015","August 2015","Library","6.000 X 9.000","Edited by","Roman Espejo",null,null,null,null,null,null,"Grade 10 - 12","Grade 9 - 12","The rise of robot automation in the automobile manufacturing industry struck fear into many a laborer's heart, as it was equated with human job and career loss. A Ball State University 2015 study found 88 percent of U.S. job loss was due to robots or homegrown factors to reduce factories' need for human labor. The International Federation of Robotics, however reported that between 2010 and 2015, the U.S. automotive sector installed 135,000 robots, but hired 230,000 human employees. So while technology advances, will it replace us in our current jobs, or create new ones for us? Is Data Scientist the most promising job of the future, or is that all techno-hype? Are our office environments going to be replaced by the off-site work-at-home or freelance model? This book compiles essays and works from eyewitness accounts, governmental views, scientific analysis, and newspapers to give your readers the forecast of jobs to come. Salient facts are pulled out from the text and repeated, making it easy for students to compile details for research and report writing.","English",39.4,31.52,"331.702--dc23","120 pp.","https://greenhavenpublishing.com/978-0-7377-7199-2",{"$f":"Table1[[#This Row],['# of Books]]*Table1[[#This Row],[QTY]]","v":0},{"$f":"Table1[[#This Row],[QTY]]*Table1[[#This Row],[School & Library Price]]","v":0}]
[null,null,27,null,null,"Current Issues","At Issue","What Is Humanity's Greatest Challenge?","978-0-7377-4314-2",{"$f":"HYPERLINK(Table1[[#This Row],[Hyperlink]],\"Weblink\")","v":"Weblink"},"Greenhaven Publishing","Library Bound Book",1,"2010","January 2010","Library","6.000 X 9.000","Edited by","Roman Espejo",null,null,null,null,"Z",null,"Grade 10 - 12","Grade 9 - 12","Humanity faces grave challenges in this century such as nuclear proliferation, global hunger, overpopulation, the finite supply of oil, and global warming, just to name a few. This anthology thoroughly analyzes these subjects by presenting contrasting perspectives. Readers gain a more comprehensive understanding of the key ideas and stakes in each of these topics. Discussions are grounded in real life events.","English",39.4,31.52,"306.09/​045","112 pp.","https://greenhavenpublishing.com/978-0-7377-4314-2",{"$f":"Table1[[#This Row],['# of Books]]*Table1[[#This Row],[QTY]]","v":0},{"$f":"Table1[[#This Row],[QTY]]*Table1[[#This Row],[School & Library Price]]","v":0}]
[null,null,27,null,null,"Current Issues","At Issue","What Is Humanity's Greatest Challenge?","978-0-7377-4313-5",{"$f":"HYPERLINK(Table1[[#This Row],[Hyperlink]],\"Weblink\")","v":"Weblink"},"Greenhaven Publishing","Paperback Book",1,"2010","January 2010","Paperback","6.000 X 9.000","Edited by","Roman Espejo",null,null,null,null,"Z",null,"Grade 10 - 12","Grade 9 - 12","Humanity faces grave challenges in this century such as nuclear proliferation, global hunger, overpopulation, the finite supply of oil, and global warming, just to name a few. This anthology thoroughly analyzes these subjects by presenting contrasting perspectives. Readers gain a more comprehensive understanding of the key ideas and stakes in each of these topics. Discussions are grounded in real life events.","English",27.8,22.24,"306.09/​045","112 pp.","https://greenhavenpublishing.com/978-0-7377-4313-5",{"$f":"Table1[[#This Row],['# of Books]]*Table1[[#This Row],[QTY]]","v":0},{"$f":"Table1[[#This Row],[QTY]]*Table1[[#This Row],[School & Library Price]]","v":0}]
[null,null,27,null,null,"Current Issues","At Issue","What Is the Future of the U.S. Economy?","978-0-7377-6213-6",{"$f":"HYPERLINK(Table1[[#This Row],[Hyperlink]],\"Weblink\")","v":"Weblink"},"Greenhaven Publishing","Library Bound Book",1,"2013","January 2013","Library","6.000 X 9.000","Edited by","Ronald D. Lankford, Jr.",null,null,null,null,"Z",null,"Grade 10 - 12","Grade 9 - 12","The economy of the United States is one of the largest and strongest in the world. Yet several factors may render the economy hamstrung in competition as we move toward the future. This anthology takes a hard look at the state of the economy and analyzes what is in store for workers and work in the 21st century. Readers will learn to contextualize current events in a broader perspective.","English",39.4,31.52,"330.973","152 pp.","https://greenhavenpublishing.com/978-0-7377-6213-6",{"$f":"Table1[[#This Row],['# of Books]]*Table1[[#This Row],[QTY]]","v":0},{"$f":"Table1[[#This Row],[QTY]]*Table1[[#This Row],[School & Library Price]]","v":0}]
[null,null,27,null,null,"Current Issues","At Issue","What Is the Impact of Automation?","978-0-7377-3945-9",{"$f":"HYPERLINK(Table1[[#This Row],[Hyperlink]],\"Weblink\")","v":"Weblink"},"Greenhaven Publishing","Paperback Book",1,"2008","January 2008","Paperback","6.000 X 9.000","Edited by","Roman Espejo",null,null,null,null,"Z",null,"Grade 10 - 12","Grade 9 - 12","Technology is meant to help make things easier by eliminating steps or whole tasks altogether. In practice this leads to some problematic consequences. When people lose their jobs to robots which are able to do them faster and more precisely, it saves an employer time and money, but it also means that someone's skills and livelihood are obsolete. On the other hand, automation is a positive element to various groups. Can smart houses help the elderly to live comfortably? Will it make agriculture more efficient? This anthology interprets the benefits and drawbacks of automation from contrasting perspectives. Readers will expand their understanding of key ideas regarding automation and the future of how we work and live.","English",27.8,22.24,"338/​.064","120 pp.","https://greenhavenpublishing.com/978-0-7377-3945-9",{"$f":"Table1[[#This Row],['# of Books]]*Table1[[#This Row],[QTY]]","v":0},{"$f":"Table1[[#This Row],[QTY]]*Table1[[#This Row],[School & Library Price]]","v":0}]
[null,null,27,null,null,"Current Issues","At Issue","What Is the Impact of E-Waste?","978-0-7377-5606-7",{"$f":"HYPERLINK(Table1[[#This Row],[Hyperlink]],\"Weblink\")","v":"Weblink"},"Greenhaven Publishing","Library Bound Book",1,"2011","January 2011","Library","6.000 X 9.000","Edited by","Tamara Thompson",null,null,null,null,"Z",null,"Grade 10 - 12","Grade 9 - 12","E-waste defines a whole group of electronics that make our lives easier, but that we are tossing out or replacing at the largest rates in history. New phones, computers, microwaves, speakers, all kinds of new gadgets have us standing in line to buy, and figuring out how to dispose of the old. Electronic waste is dangerous, but also invisible to many Americans. This anthology looks at the issue from conflicting points of view. With our future increasingly electronic, a critical grasp of problems and solutions regarding e-waste is necessary for all young people. Topics of discussion include: the disposing of cell phones; prison recycling programs; and loopholes in recycling laws.","English",39.4,31.52,"363.72/​88","120 pp.","https://greenhavenpublishing.com/978-0-7377-5606-7",{"$f":"Table1[[#This Row],['# of Books]]*Table1[[#This Row],[QTY]]","v":0},{"$f":"Table1[[#This Row],[QTY]]*Table1[[#This Row],[School & Library Price]]","v":0}]
[null,null,27,null,null,"Current Issues","At Issue","What Is the Impact of E-Waste?","978-0-7377-5607-4",{"$f":"HYPERLINK(Table1[[#This Row],[Hyperlink]],\"Weblink\")","v":"Weblink"},"Greenhaven Publishing","Paperback Book",1,"2011","January 2011","Paperback","6.000 X 9.000","Edited by","Tamara Thompson",null,null,null,null,"Z",null,"Grade 10 - 12","Grade 9 - 12","E-waste defines a whole group of electronics that make our lives easier, but that we are tossing out or replacing at the largest rates in history. New phones, computers, microwaves, speakers, all kinds of new gadgets have us standing in line to buy, and figuring out how to dispose of the old. Electronic waste is dangerous, but also invisible to many Americans. This anthology looks at the issue from conflicting points of view. With our future increasingly electronic, a critical grasp of problems and solutions regarding e-waste is necessary for all young people. Topics of discussion include: the disposing of cell phones; prison recycling programs; and loopholes in recycling laws.","English",27.8,22.24,"363.72/​88","120 pp.","https://greenhavenpublishing.com/978-0-7377-5607-4",{"$f":"Table1[[#This Row],['# of Books]]*Table1[[#This Row],[QTY]]","v":0},{"$f":"Table1[[#This Row],[QTY]]*Table1[[#This Row],[School & Library Price]]","v":0}]
[null,null,27,null,null,"Current Issues","At Issue","What Is the Impact of Green Practices?","978-0-7377-7667-6",{"$f":"HYPERLINK(Table1[[#This Row],[Hyperlink]],\"Weblink\")","v":"Weblink"},"Greenhaven Publishing","eBook",1,"2016","January 2016",null,null,"Edited by","Tamara Thompson",null,null,null,null,"Z",null,"Grade 10 - 12","Grade 9 - 12","Consumers have long been encouraged to reduce, reuse, and recycle, but environmental awareness has come a long way since the first Earth Day in 1970. Blue trash bins are everywhere the eye can see, and consumers know they have places to put certain materials to make a helpful impact on waste management. People are reminded in stores, restaurants, and other places that they can reuse items, or reduce waste by using items sparingly. This book examines what effect, if any, practicing the \"three R's\" has had on the planet, giving readers both sides of the topic.","English",39.4,31.52,"363.7","112 pp.","https://greenhavenpublishing.com/978-0-7377-7667-6",{"$f":"Table1[[#This Row],['# of Books]]*Table1[[#This Row],[QTY]]","v":0},{"$f":"Table1[[#This Row],[QTY]]*Table1[[#This Row],[School & Library Price]]","v":0}]
[null,null,27,null,null,"Current Issues","At Issue","What Is the Impact of Twitter?","978-0-7377-6216-7",{"$f":"HYPERLINK(Table1[[#This Row],[Hyperlink]],\"Weblink\")","v":"Weblink"},"Greenhaven Publishing","Paperback Book",1,"2013","August 2013","Paperback","6.000 X 9.000","Edited by","Roman Espejo",null,null,null,null,null,null,"Grade 10 - 12","Grade 9 - 12","Will History tell the story that Donald Trump's success in his road to the White House was stimulated by his frequent use of Twitter? How is Twitter changing the political landscape? How has the use of a communication tool, limited to 140 characters or less, become a globally recognized dispenser of news, facts, alternative facts, and a moral compass for our society? This book compiles compelling essays and works from eyewitness accounts, governmental views, scientific analysis, and newspapers to give your readers the big picture about Twitter and its importance. Readers will be given both sides, for and against, on topics such as whether Twitter should be used for news reporting, whether the psychology behind it is healthy, and whether it will become profitable. Facts that are salient to both sides of the story are copied from the text and highlighted so readers can use them for report writing, research, or forming opinions based on relevant information.","English",27.8,22.24,"302.30285--dc23","104 pp.","https://greenhavenpublishing.com/978-0-7377-6216-7",{"$f":"Table1[[#This Row],['# of Books]]*Table1[[#This Row],[QTY]]","v":0},{"$f":"Table1[[#This Row],[QTY]]*Table1[[#This Row],[School & Library Price]]","v":0}]
[null,null,27,null,null,"Current Issues","At Issue","What Limits Should Be Placed on Presidential Powers?","978-0-7377-3630-4",{"$f":"HYPERLINK(Table1[[#This Row],[Hyperlink]],\"Weblink\")","v":"Weblink"},"Greenhaven Publishing","Paperback Book",1,"2007","January 2007","Paperback","6.000 X 9.000","Edited by","Tamara L. Roleff",null,null,null,null,"Z",null,"Grade 10 - 12","Grade 9 - 12","Supporting Social Studies curriculum, this informative anthology tackles the question of presidential influence. No one has more power than the President of the United States, who is commander of the largest military and economy in history. The Constitution argues that the government should promote the general welfare, but how much power should we vest in a single person? The power to create wars, influence social discourse, and shape the economy has a practical impact on Americans and how Americans are viewed. A president whose interests promote the few while impoverishing the many, or who turns a blind eye to suffering, cannot be stopped if no limits on his or her power are in place. This anthology takes up the question of limits to presidential power from diverse viewpoints. Experts weigh the benefits and drawbacks to imposing limits.","English",27.8,22.24,"342.73/​06","120 pp.","https://greenhavenpublishing.com/978-0-7377-3630-4",{"$f":"Table1[[#This Row],['# of Books]]*Table1[[#This Row],[QTY]]","v":0},{"$f":"Table1[[#This Row],[QTY]]*Table1[[#This Row],[School & Library Price]]","v":0}]
[null,null,27,null,null,"Current Issues","At Issue","What Motivates Suicide Bombers?","978-0-7377-4448-4",{"$f":"HYPERLINK(Table1[[#This Row],[Hyperlink]],\"Weblink\")","v":"Weblink"},"Greenhaven Publishing","Library Bound Book",1,"2010","January 2010","Library","6.000 X 9.000","Edited by","Roman Espejo",null,null,null,null,"Z",null,"Grade 10 - 12","Grade 9 - 12","The act of a suicide bomber, one who causes devastation while taking one's own life for a pre-determined reason, is a very complicated, powerful act. At its crux is the idea of the martyr and the individual's relationship to that idea. This anthology analyzes the topic of suicide bombers. Does foreign occupation motivate bombers? What strategic objectives underlie this practice? Readers gain insight into the political and social implications of suicide bombing. Discussions are grounded in real events.","English",39.4,31.52,"363.325/​11","120 pp.","https://greenhavenpublishing.com/978-0-7377-4448-4",{"$f":"Table1[[#This Row],['# of Books]]*Table1[[#This Row],[QTY]]","v":0},{"$f":"Table1[[#This Row],[QTY]]*Table1[[#This Row],[School & Library Price]]","v":0}]
[null,null,27,null,null,"Current Issues","At Issue","What Role Should the U.S. Play in the Middle East?","978-0-7377-4451-4",{"$f":"HYPERLINK(Table1[[#This Row],[Hyperlink]],\"Weblink\")","v":"Weblink"},"Greenhaven Publishing","Paperback Book",1,"2009","January 2009","Paperback","6.000 X 9.000","Edited by","Noah Berlatsky",null,null,null,null,"Z",null,"Grade 10 - 12","Grade 9 - 12","The United States seems enmeshed in the Middle East permanently, with the reason for involvement changing year after year. However, this is not the only way to look at U.S. involvement. This anthology interrogates this question and others from diverse and conflicting perspectives, helping readers to understand the key issues and ideas underpinning U.S. policy in the Middle East. This reading and analysis ties into Social Studies curriculum.","English",27.8,22.24,"327.73056","120 pp.","https://greenhavenpublishing.com/978-0-7377-4451-4",{"$f":"Table1[[#This Row],['# of Books]]*Table1[[#This Row],[QTY]]","v":0},{"$f":"Table1[[#This Row],[QTY]]*Table1[[#This Row],[School & Library Price]]","v":0}]
[null,null,27,null,null,"Current Issues","At Issue","White Supremacy Groups","978-0-7377-3700-4",{"$f":"HYPERLINK(Table1[[#This Row],[Hyperlink]],\"Weblink\")","v":"Weblink"},"Greenhaven Publishing","Paperback Book",1,"2008","January 2008","Paperback","6.000 X 9.000","Edited by","Mitchell Young",null,null,null,null,"Z",null,"Grade 10 - 12","Grade 9 - 12","Is white supremacy a response to a lack of group identity? What are the drivers of xenophobia? What role do women play in supremacy groups? This anthology offers arguments from conflicting perspectives, taking into account real events in the U.S. and elsewhere. Readers will learn about the key ideas and issues fueling these groups.","English",27.8,22.24,"320.5/​6","120 pp.","https://greenhavenpublishing.com/978-0-7377-3700-4",{"$f":"Table1[[#This Row],['# of Books]]*Table1[[#This Row],[QTY]]","v":0},{"$f":"Table1[[#This Row],[QTY]]*Table1[[#This Row],[School & Library Price]]","v":0}]
[null,null,27,null,null,"Current Issues","At Issue","Why is Autism on Rise?","978-0-7377-6871-8",{"$f":"HYPERLINK(Table1[[#This Row],[Hyperlink]],\"Weblink\")","v":"Weblink"},"Greenhaven Publishing","Paperback Book",1,"2014","January 2014","Paperback","6.000 X 9.000","Edited by","Clay Farris Naff",null,null,null,null,"Z",null,"Grade 10 - 12","Grade 9 - 12","This book explores possible causes for the recent rise in autism. It looks at improved diagnostics of autism, vitamin deficiencies, and different environmental and behavioral reasons that could lead to autism. Includes primary and secondary sources from a variety of perspectives; eyewitnesses, scientific journals, government officials, and many others.","English",27.8,22.24,"616.85/882","104 pp.","https://greenhavenpublishing.com/978-0-7377-6871-8",{"$f":"Table1[[#This Row],['# of Books]]*Table1[[#This Row],[QTY]]","v":0},{"$f":"Table1[[#This Row],[QTY]]*Table1[[#This Row],[School & Library Price]]","v":0}]
[null,null,27,null,null,"Current Issues","At Issue","WikiLeaks","978-0-7377-6220-4",{"$f":"HYPERLINK(Table1[[#This Row],[Hyperlink]],\"Weblink\")","v":"Weblink"},"Greenhaven Publishing","Paperback Book",1,"2013","January 2013","Paperback","6.000 X 9.000","Edited by","Tamara Thompson",null,null,null,null,"Z",null,"Grade 10 - 12","Grade 9 - 12","WikiLeaks has played a prominent role in contemporary politics as a watchdog, or, for others, as a threat to national security. Is it okay to reveal things the government thinks should be kept away from the public? Is preserving national security ethical if the secrets violate human rights? Does government secrecy create an atmosphere of impunity for those in power? Experts analyze these questions in this comprehensive book. Topics include freedom of the press, freedom of speech, and government transparency.","English",27.8,22.24,"025.06/​3","120 pp.","https://greenhavenpublishing.com/978-0-7377-6220-4",{"$f":"Table1[[#This Row],['# of Books]]*Table1[[#This Row],[QTY]]","v":0},{"$f":"Table1[[#This Row],[QTY]]*Table1[[#This Row],[School & Library Price]]","v":0}]
[null,null,27,null,null,"Current Issues","At Issue","Wind Farms","978-0-7377-7669-0",{"$f":"HYPERLINK(Table1[[#This Row],[Hyperlink]],\"Weblink\")","v":"Weblink"},"Greenhaven Publishing","eBook",1,"2015","January 2015",null,null,"Edited by","Amy Francis",null,null,null,null,"Z",null,"Grade 10 - 12","Grade 9 - 12","Supporting key learning concepts and critical thinking, this book explores top topics related to the future of wind energy. It examines the impact wind farms have on the environment, the effects of carbon emissions, and government funding and investments in regard to wind energy.","English",39.4,31.52,"333.9/​2","96 pp.","https://greenhavenpublishing.com/978-0-7377-7669-0",{"$f":"Table1[[#This Row],['# of Books]]*Table1[[#This Row],[QTY]]","v":0},{"$f":"Table1[[#This Row],[QTY]]*Table1[[#This Row],[School & Library Price]]","v":0}]
[null,null,29,null,null,"Current Issues","Current Controversies","Abortion","978-0-7377-7205-0",{"$f":"HYPERLINK(Table1[[#This Row],[Hyperlink]],\"Weblink\")","v":"Weblink"},"Greenhaven Publishing","Library Bound Book",1,"2015","January 2015","Library","6.000 X 9.000","Edited by","Tamara Thompson",null,null,null,null,"Z",null,"Grade 10 - 12","Grade 9 - 12","Nearly half of all pregnancies among U.S. women are unintended, and about four in ten of these are terminated by abortion. The writings in this anthology have been selected to introduce the reader to the broadest possible spectrum of viewpoints on the abortion debate. A question-and-response format prompts readers to examine complex issues from multiple angles. Students are encouraged to see the validity of divergent opinions, so that they may understand the debate inclusively. Fact boxes are included to summarize important information for researchers.","English",46.4,37.119999999999997,"362.1988/​80973","232 pp.","https://greenhavenpublishing.com/978-0-7377-7205-0",{"$f":"Table1[[#This Row],['# of Books]]*Table1[[#This Row],[QTY]]","v":0},{"$f":"Table1[[#This Row],[QTY]]*Table1[[#This Row],[School & Library Price]]","v":0}]
[null,null,29,null,null,"Current Issues","Current Controversies","Aid to Africa","978-0-7377-4316-6",{"$f":"HYPERLINK(Table1[[#This Row],[Hyperlink]],\"Weblink\")","v":"Weblink"},"Greenhaven Publishing","Library Bound Book",1,"2009","January 2009","Library","6.000 X 9.000","Edited by","Debra A. Miller",null,null,null,null,"Z",null,"Grade 10 - 12","Grade 9 - 12","Over the past 100 years, foreign aid structures that began with European colonialism have become tied to shifting economic and political interests, as well as a growing humanitarian movement. This volume includes a collection of essays that analyze the value of supplying to aid African Countries. A question-and-response format prompts readers to examine complex issues from multiple viewpoints. Students are encouraged to see the validity of divergent opinions, so that they may understand the issue inclusively. Fact boxes are included to summarize important information for researchers.","English",46.4,37.119999999999997,"338.91096","160 pp.","https://greenhavenpublishing.com/978-0-7377-4316-6",{"$f":"Table1[[#This Row],['# of Books]]*Table1[[#This Row],[QTY]]","v":0},{"$f":"Table1[[#This Row],[QTY]]*Table1[[#This Row],[School & Library Price]]","v":0}]
[null,null,29,null,null,"Current Issues","Current Controversies","Alternative Therapies","978-0-7377-5611-1",{"$f":"HYPERLINK(Table1[[#This Row],[Hyperlink]],\"Weblink\")","v":"Weblink"},"Greenhaven Publishing","Paperback Book",1,"2012","January 2012","Paperback","6.000 X 9.000","Edited by","Sylvia Engdahl",null,null,null,null,"Z",null,"Grade 10 - 12","Grade 9 - 12","More Americans are turning to complementary and alternative medicine, including those who have trouble meeting the cost of conventional care. This anthology provides a collection of essays that present differing viewpoints. Taken together, they offer a diverse array of views on alternative therapies. A question-and-response format prompts readers to examine complex issues from multiple angles. Students are encouraged to see the validity of divergent opinions, so that they may understand the topic inclusively. Fact boxes are included to summarize important information for researchers.","English",32,25.6,"615.5/​35","232 pp.","https://greenhavenpublishing.com/978-0-7377-5611-1",{"$f":"Table1[[#This Row],['# of Books]]*Table1[[#This Row],[QTY]]","v":0},{"$f":"Table1[[#This Row],[QTY]]*Table1[[#This Row],[School & Library Price]]","v":0}]
[null,null,29,null,null,"Current Issues","Current Controversies","Anger Management","978-0-7377-4131-5",{"$f":"HYPERLINK(Table1[[#This Row],[Hyperlink]],\"Weblink\")","v":"Weblink"},"Greenhaven Publishing","Paperback Book",1,"2009","January 2009","Paperback","6.000 X 9.000","Edited by","Lisa Krueger",null,null,null,null,"Z",null,"Grade 10 - 12","Grade 9 - 12","The essays in this anthology provide contrasting views on the value of the burgeoning anger management industry. A question-and-response format prompts readers to examine complex issues from multiple angles, such as whether or not anger is dangerous, or whether it can be a motivator. By evaluating and understanding divergent opinions, students can attain a balanced knowledge of the topic. Important facts, perfect for report writing, are dispersed throughout in boxed insets.","English",32,25.6,"152.4/​7","176 pp.","https://greenhavenpublishing.com/978-0-7377-4131-5",{"$f":"Table1[[#This Row],['# of Books]]*Table1[[#This Row],[QTY]]","v":0},{"$f":"Table1[[#This Row],[QTY]]*Table1[[#This Row],[School & Library Price]]","v":0}]
[null,null,29,null,null,"Current Issues","Current Controversies","The Arms Trade","978-0-7377-4317-3",{"$f":"HYPERLINK(Table1[[#This Row],[Hyperlink]],\"Weblink\")","v":"Weblink"},"Greenhaven Publishing","Paperback Book",1,"2009","January 2009","Paperback","6.000 X 9.000","Edited by","Noël Merino",null,null,null,null,"Z",null,"Grade 10 - 12","Grade 9 - 12","In all parts of the world, the ready availability of weapons and ammunition has led to human suffering, political repression, crime and terror among civilian populations. This anthology contains a diverse collection of essays that present opposing viewpoints, examining the issues including analysis of several countries that are involved in the arms trade. Taken together, they offer a wide array of views on the arms trade. Disparate viewpoints are encapsulated with the use of a question-and-response format. Students are encouraged to weigh the merits of divergent opinions, so that they may understand the subject inclusively. Important facts, perfect for report writing, are dispersed throughout.","English",32,25.6,"382/​.456234","232 pp.","https://greenhavenpublishing.com/978-0-7377-4317-3",{"$f":"Table1[[#This Row],['# of Books]]*Table1[[#This Row],[QTY]]","v":0},{"$f":"Table1[[#This Row],[QTY]]*Table1[[#This Row],[School & Library Price]]","v":0}]
[null,null,29,null,null,"Current Issues","Current Controversies","Blogs","978-0-7377-3954-1",{"$f":"HYPERLINK(Table1[[#This Row],[Hyperlink]],\"Weblink\")","v":"Weblink"},"Greenhaven Publishing","Library Bound Book",1,"2008","January 2008","Library","6.000 X 9.000","Edited by","Sylvia Engdahl",null,null,null,null,"Z",null,"Grade 10 - 12","Grade 9 - 12","Over 6 million people are currently publishing blogs on blogging websites, and another 12 million write blogs using their social networks. The writings in this anthology have been selected to introduce the reader to a broad array of viewpoints on blogs. Students are encouraged to see the validity of differing opinions, so that they may understand the topic inclusively. Readers will evaluate whether blogs influence politics, and whether employers can restrict an employees right to free speech in creating blog content.","English",46.4,37.119999999999997,"302.23/​1","224 pp.","https://greenhavenpublishing.com/978-0-7377-3954-1",{"$f":"Table1[[#This Row],['# of Books]]*Table1[[#This Row],[QTY]]","v":0},{"$f":"Table1[[#This Row],[QTY]]*Table1[[#This Row],[School & Library Price]]","v":0}]
[null,null,29,null,null,"Current Issues","Current Controversies","Blogs","978-0-7377-3955-8",{"$f":"HYPERLINK(Table1[[#This Row],[Hyperlink]],\"Weblink\")","v":"Weblink"},"Greenhaven Publishing","Paperback Book",1,"2008","January 2008","Paperback","6.000 X 9.000","Edited by","Sylvia Engdahl",null,null,null,null,"Z",null,"Grade 10 - 12","Grade 9 - 12","Over 6 million people are currently publishing blogs on blogging websites, and another 12 million write blogs using their social networks. The writings in this anthology have been selected to introduce the reader to a broad array of viewpoints on blogs. Students are encouraged to see the validity of differing opinions, so that they may understand the topic inclusively. Readers will evaluate whether blogs influence politics, and whether employers can restrict an employees right to free speech in creating blog content.","English",32,25.6,"302.23/​1","224 pp.","https://greenhavenpublishing.com/978-0-7377-3955-8",{"$f":"Table1[[#This Row],['# of Books]]*Table1[[#This Row],[QTY]]","v":0},{"$f":"Table1[[#This Row],[QTY]]*Table1[[#This Row],[School & Library Price]]","v":0}]
[null,null,29,null,null,"Current Issues","Current Controversies","Capital Punishment","978-0-7377-3712-7",{"$f":"HYPERLINK(Table1[[#This Row],[Hyperlink]],\"Weblink\")","v":"Weblink"},"Greenhaven Publishing","Paperback Book",1,"2008","January 2008","Paperback","6.000 X 9.000","Edited by","Paul G. Connors",null,null,null,null,"Z",null,"Grade 10 - 12","Grade 9 - 12","Six states have abolished the death penalty since 2007. This volume includes essays that offer divergent views on capital punishment. Students are encouraged to see the validity of differing opinions on topics such as the ethics and effectiveness of capital punishment, so that they may understand the issue inclusively. Fact boxes are included to summarize important information for researchers.","English",32,25.6,"345.73/​0773","224 pp.","https://greenhavenpublishing.com/978-0-7377-3712-7",{"$f":"Table1[[#This Row],['# of Books]]*Table1[[#This Row],[QTY]]","v":0},{"$f":"Table1[[#This Row],[QTY]]*Table1[[#This Row],[School & Library Price]]","v":0}]
[null,null,29,null,null,"Current Issues","Current Controversies","Carbon Offsets","978-0-7377-4455-2",{"$f":"HYPERLINK(Table1[[#This Row],[Hyperlink]],\"Weblink\")","v":"Weblink"},"Greenhaven Publishing","Paperback Book",1,"2009","January 2009","Paperback","6.000 X 9.000","Edited by","Debra A. Miller",null,null,null,null,"Z",null,"Grade 10 - 12","Grade 9 - 12","The concept of carbon offsetting emerged from the Kyoto protocol, which was passed by the UN in 1997. This anthology provides a collection of essays that offer a diverse array of views on the value and effectiveness of carbon offset programs. A question-and-response format prompts readers to examine complex issues from multiple angles. Students are encouraged to see the validity of divergent opinions, so that they may understand the topic inclusively. Fact boxes are included to summarize important information for researchers.","English",32,25.6,"363.738/​74","224 pp.","https://greenhavenpublishing.com/978-0-7377-4455-2",{"$f":"Table1[[#This Row],['# of Books]]*Table1[[#This Row],[QTY]]","v":0},{"$f":"Table1[[#This Row],[QTY]]*Table1[[#This Row],[School & Library Price]]","v":0}]
[null,null,29,null,null,"Current Issues","Current Controversies","Consumer Debt","978-0-7377-4701-0",{"$f":"HYPERLINK(Table1[[#This Row],[Hyperlink]],\"Weblink\")","v":"Weblink"},"Greenhaven Publishing","Library Bound Book",1,"2010","January 2010","Library","6.000 X 9.000","Edited by","Joseph Tardiff",null,null,null,null,"Z",null,"Grade 10 - 12","Grade 9 - 12","The total debt held by American households reached a record in early 2017. It is vital that your students understand the intricacies of consumer debt. Readers will explore the relationship between consumer debt and the economy, and the positive and negative impacts of credit card use on consumers. Do credit cards provide for convenient, secure financial transactions, or entrap low-to-middle income consumers with high interest rates and fees? Editor Joseph Tardiff looks at the practices of predatory lenders and debt collection agencies and assesses bankruptcy as an option for handling too much personal debt.","English",46.4,37.119999999999997,"332.7/​43","264 pp.","https://greenhavenpublishing.com/978-0-7377-4701-0",{"$f":"Table1[[#This Row],['# of Books]]*Table1[[#This Row],[QTY]]","v":0},{"$f":"Table1[[#This Row],[QTY]]*Table1[[#This Row],[School & Library Price]]","v":0}]
[null,null,29,null,null,"Current Issues","Current Controversies","Consumer Debt","978-0-7377-4702-7",{"$f":"HYPERLINK(Table1[[#This Row],[Hyperlink]],\"Weblink\")","v":"Weblink"},"Greenhaven Publishing","Paperback Book",1,"2010","January 2010","Paperback","6.000 X 9.000","Edited by","Joseph Tardiff",null,null,null,null,"Z",null,"Grade 10 - 12","Grade 9 - 12","The total debt held by American households reached a record in early 2017. It is vital that your students understand the intricacies of consumer debt. Readers will explore the relationship between consumer debt and the economy, and the positive and negative impacts of credit card use on consumers. Do credit cards provide for convenient, secure financial transactions, or entrap low-to-middle income consumers with high interest rates and fees? Editor Joseph Tardiff looks at the practices of predatory lenders and debt collection agencies and assesses bankruptcy as an option for handling too much personal debt.","English",32,25.6,"332.7/​43","264 pp.","https://greenhavenpublishing.com/978-0-7377-4702-7",{"$f":"Table1[[#This Row],['# of Books]]*Table1[[#This Row],[QTY]]","v":0},{"$f":"Table1[[#This Row],[QTY]]*Table1[[#This Row],[School & Library Price]]","v":0}]
[null,null,29,null,null,"Current Issues","Current Controversies","Darfur","978-0-7377-4457-6",{"$f":"HYPERLINK(Table1[[#This Row],[Hyperlink]],\"Weblink\")","v":"Weblink"},"Greenhaven Publishing","Paperback Book",1,"2009","January 2009","Paperback","6.000 X 9.000","Edited by","Debra A. Miller",null,null,null,null,"Z",null,"Grade 10 - 12","Grade 9 - 12","The writings in this anthology have been chosen to introduce your readers to the broadest possible spectrum of views on the crisis in Darfur. Disparate opinions are encapsulated into a question-and-response format. By analyzing contrasting viewpoints, readers can attain a complete and balanced knowledge of the subject, as well as develop critical thinking skills. Readers will analyze a variety of topics, including whether the crisis stems from early colonial policies, whether global warming is the root of the crisis, whether China is contributing to it, and what should be done to bring peace to Darfur.","English",32,25.6,"962.404/​3--dc22","216 pp.","https://greenhavenpublishing.com/978-0-7377-4457-6",{"$f":"Table1[[#This Row],['# of Books]]*Table1[[#This Row],[QTY]]","v":0},{"$f":"Table1[[#This Row],[QTY]]*Table1[[#This Row],[School & Library Price]]","v":0}]
[null,null,29,null,null,"Current Issues","Current Controversies","Death Penalty","978-0-7377-7213-5",{"$f":"HYPERLINK(Table1[[#This Row],[Hyperlink]],\"Weblink\")","v":"Weblink"},"Greenhaven Publishing","Library Bound Book",1,"2015","January 2015","Library","6.000 X 9.000","Edited by","Noël Merino",null,null,null,null,"Z",null,"Grade 10 - 12","Grade 9 - 12","The use of the death penalty has been declining in recent years, and in 2016 the number of executions in the U.S. hit a 25-year low. This anthology provides a collection of essays that present a diverse array of views on the death penalty. Divergent viewpoints are summarized in a question-and-response format, allowing for complete comprehension. By evaluating contrasting opinions, readers can attain a complete and balanced knowledge of the subject. Fact boxes are included to summarize important information for researchers.","English",46.4,37.119999999999997,"364.660973","160 pp.","https://greenhavenpublishing.com/978-0-7377-7213-5",{"$f":"Table1[[#This Row],['# of Books]]*Table1[[#This Row],[QTY]]","v":0},{"$f":"Table1[[#This Row],[QTY]]*Table1[[#This Row],[School & Library Price]]","v":0}]
[null,null,29,null,null,"Current Issues","Current Controversies","Domestic Surveillance","978-0-7377-7434-4",{"$f":"HYPERLINK(Table1[[#This Row],[Hyperlink]],\"Weblink\")","v":"Weblink"},"Greenhaven Publishing","Library Bound Book",1,"2016","January 2016","Library","6.000 X 9.000","Edited by","Noël Merino",null,null,null,null,"Z",null,"Grade 10 - 12","Grade 9 - 12","The Patriot Act dramatically expanded the government's ability to gather surveillance on American citizens. This anthology contains a diverse collection of essays that present opposing viewpoints on domestic surveillance. Disparate viewpoints are encapsulated with the use of a question-and-response format. Students are encouraged to weigh the merits of divergent opinions, so that they may understand the topic inclusively. Constitutional implications and national security are among the topics discussed.","English",46.4,37.119999999999997,"363.325/​163/​0973","176 pp.","https://greenhavenpublishing.com/978-0-7377-7434-4",{"$f":"Table1[[#This Row],['# of Books]]*Table1[[#This Row],[QTY]]","v":0},{"$f":"Table1[[#This Row],[QTY]]*Table1[[#This Row],[School & Library Price]]","v":0}]
[null,null,29,null,null,"Current Issues","Current Controversies","Domestic Surveillance","978-0-7377-7435-1",{"$f":"HYPERLINK(Table1[[#This Row],[Hyperlink]],\"Weblink\")","v":"Weblink"},"Greenhaven Publishing","Paperback Book",1,"2016","January 2016","Paperback","6.000 X 9.000","Edited by","Noël Merino",null,null,null,null,"Z",null,"Grade 10 - 12","Grade 9 - 12","The Patriot Act dramatically expanded the government's ability to gather surveillance on American citizens. This anthology contains a diverse collection of essays that present opposing viewpoints on domestic surveillance. Disparate viewpoints are encapsulated with the use of a question-and-response format. Students are encouraged to weigh the merits of divergent opinions, so that they may understand the topic inclusively. Constitutional implications and national security are among the topics discussed.","English",32,25.6,"363.325/​163/​0973","176 pp.","https://greenhavenpublishing.com/978-0-7377-7435-1",{"$f":"Table1[[#This Row],['# of Books]]*Table1[[#This Row],[QTY]]","v":0},{"$f":"Table1[[#This Row],[QTY]]*Table1[[#This Row],[School & Library Price]]","v":0}]
[null,null,29,null,null,"Current Issues","Current Controversies","Drones","978-0-7377-7675-1",{"$f":"HYPERLINK(Table1[[#This Row],[Hyperlink]],\"Weblink\")","v":"Weblink"},"Greenhaven Publishing","eBook",1,"2016","January 2016",null,null,"Edited by","Tamara Thompson",null,null,null,null,"Z",null,"Grade 10 - 12","Grade 9 - 12","Readers will explore the issues surrounding drones, including why drones are controversial, how drone technology has outpaced regulation, whether or not domestic law enforcement agencies should be allowed to use drones, and if commercial drone use should be allowed.","English",46.4,37.119999999999997,"358.4/​183","208 pp.","https://greenhavenpublishing.com/978-0-7377-7675-1",{"$f":"Table1[[#This Row],['# of Books]]*Table1[[#This Row],[QTY]]","v":0},{"$f":"Table1[[#This Row],[QTY]]*Table1[[#This Row],[School & Library Price]]","v":0}]
[null,null,29,null,null,"Current Issues","Current Controversies","Drug Legalization","978-0-7377-7216-6",{"$f":"HYPERLINK(Table1[[#This Row],[Hyperlink]],\"Weblink\")","v":"Weblink"},"Greenhaven Publishing","Paperback Book",1,"2015","January 2015","Paperback","6.000 X 9.000","Edited by","Noël Merino",null,null,null,null,"Z",null,"Grade 10 - 12","Grade 9 - 12","This anthology is composed of primary sources written by many of the foremost authorities on drug legalization. Leading conservative, liberal, and centrist views are represented, introducing your readers to the broadest possible spectrum of opinions on the topic. Each chapter asks a pertinent question about the topic, and the viewpoints that follow are grouped into “yes” and “no” categories. This unique approach provides readers with a concise view of divergent opinions on each topic. Contains extensive book and periodical bibliographies and a list of organizations to contact are also included. Provide your readers with this invaluable resource, so they can understand the debate over drug legalization from all angles.","English",32,25.6,"362.29/​156","192 pp.","https://greenhavenpublishing.com/978-0-7377-7216-6",{"$f":"Table1[[#This Row],['# of Books]]*Table1[[#This Row],[QTY]]","v":0},{"$f":"Table1[[#This Row],[QTY]]*Table1[[#This Row],[School & Library Price]]","v":0}]
[null,null,30,null,null,"Current Issues","Current Controversies","E-Books","978-0-7377-6224-2",{"$f":"HYPERLINK(Table1[[#This Row],[Hyperlink]],\"Weblink\")","v":"Weblink"},"Greenhaven Publishing","Paperback Book",1,"2013","January 2013","Paperback","6.000 X 9.000","Edited by","Debra A. Miller",null,null,null,null,"Z",null,"Grade 10 - 12","Grade 9 - 12","Though various sources have reported a decline in e-book sales for traditional publishers in 2015 compared to 2014, no one has come up with a clear reason for the drop. The primary source writings in this anthology have been selected to provide your readers with a broad spectrum of viewpoints on e-books. These essays offer expert opinions on the inherent value of e-books vs. print books. Students are encouraged to see the validity of divergent opinions, so that they may understand the debate inclusively. An important question about the topic is presented in each chapter, and viewpoints are organized based on their response. Fact boxes summarize important information for researchers, and an extensive bibliography is included.","English",32,25.6,"070.5/​73","160 pp.","https://greenhavenpublishing.com/978-0-7377-6224-2",{"$f":"Table1[[#This Row],['# of Books]]*Table1[[#This Row],[QTY]]","v":0},{"$f":"Table1[[#This Row],[QTY]]*Table1[[#This Row],[School & Library Price]]","v":0}]
[null,null,30,null,null,"Current Issues","Current Controversies","Espionage and Intelligence","978-0-7377-5616-6",{"$f":"HYPERLINK(Table1[[#This Row],[Hyperlink]],\"Weblink\")","v":"Weblink"},"Greenhaven Publishing","Library Bound Book",1,"2012","January 2012","Library","6.000 X 9.000","Edited by","Sylvia Engdahl",null,null,null,null,"Z",null,"Grade 10 - 12","Grade 9 - 12","Readers will explore issues related to United States espionage and intelligence-gathering, including the question of whether or not intelligence gathering is necessary in today's world, the impact of intelligence gathering on the American population, the role of technology in espionage and intelligence-gathering activities, and the prosecution of government leakers under the Espionage Act.","English",46.4,37.119999999999997,"327.1273","224 pp.","https://greenhavenpublishing.com/978-0-7377-5616-6",{"$f":"Table1[[#This Row],['# of Books]]*Table1[[#This Row],[QTY]]","v":0},{"$f":"Table1[[#This Row],[QTY]]*Table1[[#This Row],[School & Library Price]]","v":0}]
[null,null,30,null,null,"Current Issues","Current Controversies","Factory Farming","978-0-7377-6872-5",{"$f":"HYPERLINK(Table1[[#This Row],[Hyperlink]],\"Weblink\")","v":"Weblink"},"Greenhaven Publishing","Library Bound Book",1,"2013","January 2013","Library","6.000 X 9.000","Edited by","Debra A. Miller",null,null,null,null,"Z",null,"Grade 10 - 12","Grade 9 - 12","Editor Debra A. Miller debates various facets of factory farming including, the necessity of large scale farming; the ethics of factory farming; the impact of factory farming on human health and the environment; and the future of factory farming. This unique approach provides students with a concise view of divergent opinions on factory farming.","English",46.4,37.119999999999997,"636/​.01","152 pp.","https://greenhavenpublishing.com/978-0-7377-6872-5",{"$f":"Table1[[#This Row],['# of Books]]*Table1[[#This Row],[QTY]]","v":0},{"$f":"Table1[[#This Row],[QTY]]*Table1[[#This Row],[School & Library Price]]","v":0}]
[null,null,30,null,null,"Current Issues","Current Controversies","Federal Elections","978-0-7377-4706-5",{"$f":"HYPERLINK(Table1[[#This Row],[Hyperlink]],\"Weblink\")","v":"Weblink"},"Greenhaven Publishing","Paperback Book",1,"2010","January 2010","Paperback","6.000 X 9.000","Edited by","Debra A. Miller",null,null,null,null,"Z",null,"Grade 10 - 12","Grade 9 - 12","In 2015, the leader of the Federal Election Commission, the agency charged with regulating how political money is raised and spent, said she had largely given up hope of reining in abuses in the 2016 presidential campaign. Chairwoman Ann M. Ravel, summarized her frustrations during an interview. \"I never want to give up, but I'm not under any illusions. People think the F.E.C. is dysfunctional. It's worse than dysfunctional.\" The writings in this anthology have been selected to introduce your readers to a wide array of viewpoints on the efficacy of the U.S. federal election system. Written by foremost authorities, these essays offer divergent views on issues surrounding the election process. Each chapter asks a relevant question about the topic, and the viewpoints that follow are grouped into \"yes\" and \"no\" categories. This format provides readers with a concise view of different opinions on each topic.","English",32,25.6,"324.60973","224 pp.","https://greenhavenpublishing.com/978-0-7377-4706-5",{"$f":"Table1[[#This Row],['# of Books]]*Table1[[#This Row],[QTY]]","v":0},{"$f":"Table1[[#This Row],[QTY]]*Table1[[#This Row],[School & Library Price]]","v":0}]
[null,null,30,null,null,"Current Issues","Current Controversies","Gangs","978-0-7377-7677-5",{"$f":"HYPERLINK(Table1[[#This Row],[Hyperlink]],\"Weblink\")","v":"Weblink"},"Greenhaven Publishing","eBook",1,"2015","January 2015",null,null,"Edited by","Noah Berlatsky",null,null,null,null,"Z",null,"Grade 10 - 12","Grade 9 - 12","The primary source writings in this anthology have been selected to provide your readers with a broad spectrum of viewpoints on gangs and gang violence. Readers will evaluate the causes of gang formation and gang violence, and whether the number of gangs and gang violence is increasing in the United States. An important question about the topic is presented in each chapter, and viewpoints are organized based on their response. Fact boxes summarize important information for researchers, and an extensive bibliography is included.","English",46.4,37.119999999999997,"364.106/​60973","240 pp.","https://greenhavenpublishing.com/978-0-7377-7677-5",{"$f":"Table1[[#This Row],['# of Books]]*Table1[[#This Row],[QTY]]","v":0},{"$f":"Table1[[#This Row],[QTY]]*Table1[[#This Row],[School & Library Price]]","v":0}]
[null,null,30,null,null,"Current Issues","Current Controversies","Gasoline","978-0-7377-6227-3",{"$f":"HYPERLINK(Table1[[#This Row],[Hyperlink]],\"Weblink\")","v":"Weblink"},"Greenhaven Publishing","Library Bound Book",1,"2012","January 2012","Library","6.000 X 9.000","Edited by","Debra A. Miller",null,null,null,null,"Z",null,"Grade 10 - 12","Grade 9 - 12","The editor of this anthology has collected a group of expertly-written essays that provide a broad spectrum of views on gasoline use. The writings represent leading conservative, liberal, and centrist views of issues such as oil dependence, gas prices, public transportation spending, and the development of alternative energy sources. Students are encouraged to see the validity of divergent opinions, so that they may understand the topics inclusively.","English",46.4,37.119999999999997,"338.4/​3665538270973","184 pp.","https://greenhavenpublishing.com/978-0-7377-6227-3",{"$f":"Table1[[#This Row],['# of Books]]*Table1[[#This Row],[QTY]]","v":0},{"$f":"Table1[[#This Row],[QTY]]*Table1[[#This Row],[School & Library Price]]","v":0}]
[null,null,30,null,null,"Current Issues","Current Controversies","Genetic Engineering","978-1-5345-0038-9",{"$f":"HYPERLINK(Table1[[#This Row],[Hyperlink]],\"Weblink\")","v":"Weblink"},"Greenhaven Publishing","Paperback Book",1,"2017","January 2017","Paperback","6.000 X 9.000","Edited by","Susan Henneberg",null,null,null,null,"Z","1310L","Grade 10 - 12","Grade 9 - 12","As scientists continue to make genetic breakthroughs, society inches ever closer to confronting the stuff horror movies are made of. Cloning a mourned pet is simply strange, but the thought of human cloning is terrifying. Manipulating genes to reduce genetic disease is encouraging only until we consider the ethical implications of potentially creating a master race. Genetically engineering crops and animals can address many problems like disease, climate change, and world hunger, but altering the environment could have catastrophic results for Earth. Articles presenting these issues from persuasive points of view help readers understanding the controversies surrounding genetic engineering today.","English",32,25.6,"323.44'802854678--dc23","168 pp.","https://greenhavenpublishing.com/978-1-5345-0038-9",{"$f":"Table1[[#This Row],['# of Books]]*Table1[[#This Row],[QTY]]","v":0},{"$f":"Table1[[#This Row],[QTY]]*Table1[[#This Row],[School & Library Price]]","v":0}]
[null,null,30,null,null,"Current Issues","Current Controversies","The Global Impact of Social Media","978-0-7377-5620-3",{"$f":"HYPERLINK(Table1[[#This Row],[Hyperlink]],\"Weblink\")","v":"Weblink"},"Greenhaven Publishing","Library Bound Book",1,"2012","January 2012","Library","6.000 X 9.000","Edited by","Dedria Bryfonski",null,null,null,null,"Z",null,"Grade 10 - 12","Grade 9 - 12","The primary source writings in this anthology have been selected to provide your readers with a broad range of viewpoints on the global impact of social media. The essays in this anthology provide contrasting views on important issues. Students are encouraged to see the validity of divergent opinions, so that they may understand the debate inclusively. An important question about the topic is presented in each chapter, such as \"What impact do social media have on politics?\" The viewpoints that follow are organized based on their response to each question. Fact boxes summarize important information for researchers, and an extensive bibliography is included.","English",46.4,37.119999999999997,"303.48/​2028567","200 pp.","https://greenhavenpublishing.com/978-0-7377-5620-3",{"$f":"Table1[[#This Row],['# of Books]]*Table1[[#This Row],[QTY]]","v":0},{"$f":"Table1[[#This Row],[QTY]]*Table1[[#This Row],[School & Library Price]]","v":0}]
[null,null,30,null,null,"Current Issues","Current Controversies","The Green Movement","978-0-7377-4914-4",{"$f":"HYPERLINK(Table1[[#This Row],[Hyperlink]],\"Weblink\")","v":"Weblink"},"Greenhaven Publishing","Paperback Book",1,"2010","January 2010","Paperback","6.000 X 9.000","Edited by","Debra A. Miller",null,null,null,null,"Z",null,"Grade 10 - 12","Grade 9 - 12","While green living is often hailed as being completely beneficial for the Earth and its inhabitants, there are certain disadvantages to going green that are frequently glossed over, such as cost, legislation, economics, and time. The writing in this anthology present a diverse array of views on the green movement. Disparate viewpoints are encapsulated with the use of a question-and-response format so that readers may understand topics inclusively. Important facts, perfect for report writing, are dispersed throughout.","English",32,25.6,"333.72","224 pp.","https://greenhavenpublishing.com/978-0-7377-4914-4",{"$f":"Table1[[#This Row],['# of Books]]*Table1[[#This Row],[QTY]]","v":0},{"$f":"Table1[[#This Row],[QTY]]*Table1[[#This Row],[School & Library Price]]","v":0}]
[null,null,30,null,null,"Current Issues","Current Controversies","Guns and Violence","978-0-7377-4320-3",{"$f":"HYPERLINK(Table1[[#This Row],[Hyperlink]],\"Weblink\")","v":"Weblink"},"Greenhaven Publishing","Library Bound Book",1,"2009","January 2009","Library","6.000 X 9.000","Edited by","Debra A. Miller",null,null,null,null,"Z",null,"Grade 10 - 12","Grade 9 - 12","Every day on average, 48 children and teens in America are shot in murders, assaults, suicides and suicide attempts, unintentional shootings, and police interventions. This anthology contains a diverse collection of essays about guns and gun violence. Taken together, they offer a wide array of views on the issues surrounding the topic. Disparate viewpoints of complex issues are encapsulated in each chapter with the use of a question-and-response format. Students are encouraged to see the validity of divergent opinions, so that they may understand the topic inclusively. Important facts, perfect for report writing, are dispersed throughout in eye-catching boxed insets.","English",46.4,37.119999999999997,"363.33/​0973","176 pp.","https://greenhavenpublishing.com/978-0-7377-4320-3",{"$f":"Table1[[#This Row],['# of Books]]*Table1[[#This Row],[QTY]]","v":0},{"$f":"Table1[[#This Row],[QTY]]*Table1[[#This Row],[School & Library Price]]","v":0}]
[null,null,30,null,null,"Current Issues","Current Controversies","Homeland Security","978-0-7377-4139-1",{"$f":"HYPERLINK(Table1[[#This Row],[Hyperlink]],\"Weblink\")","v":"Weblink"},"Greenhaven Publishing","Paperback Book",1,"2009","January 2009","Paperback","6.000 X 9.000","Edited by","Debra A. Miller",null,null,null,null,"Z",null,"Grade 10 - 12","Grade 9 - 12","The U.S. Department of Homeland Security was created in response to the September 11 attacks on the World Trade Center and the Pentagon. Editor Debra A. Miller has collected a group of primary source writings that provide a broad spectrum of views on homeland security. Students are encouraged to see the validity of divergent opinions, so that they may understand topics inclusively. The writings in each chapter are organized into a question-and-response format, allowing readers to easily summarize different viewpoints. Contains extensive book and periodical bibliographies.","English",32,25.6,"363.325/​15610973","216 pp.","https://greenhavenpublishing.com/978-0-7377-4139-1",{"$f":"Table1[[#This Row],['# of Books]]*Table1[[#This Row],[QTY]]","v":0},{"$f":"Table1[[#This Row],[QTY]]*Table1[[#This Row],[School & Library Price]]","v":0}]
[null,null,30,null,null,"Current Issues","Current Controversies","Homosexuality","978-0-7377-3721-9",{"$f":"HYPERLINK(Table1[[#This Row],[Hyperlink]],\"Weblink\")","v":"Weblink"},"Greenhaven Publishing","Library Bound Book",1,"2008","January 2008","Library","6.000 X 9.000","Edited by","Paul G. Connors",null,null,null,null,"Z",null,"Grade 10 - 12","Grade 9 - 12","This anthology contains a diverse collection of essays on topics relating to homosexuality, written by respected authorities in the field. Taken together they offer a vast array of views on issues such as gay marriage, homophobia, homosexual clergy, and government involvement. Disparate viewpoints of complex issues are encapsulated in each chapter with the use of a question-and-response format. Students are encouraged to see the validity of divergent opinions, so that they may understand the topic inclusively. Important facts, perfect for report writing, are dispersed throughout in eye-catching boxed insets.","English",46.4,37.119999999999997,"306.76/6","240 pp.","https://greenhavenpublishing.com/978-0-7377-3721-9",{"$f":"Table1[[#This Row],['# of Books]]*Table1[[#This Row],[QTY]]","v":0},{"$f":"Table1[[#This Row],[QTY]]*Table1[[#This Row],[School & Library Price]]","v":0}]
[null,null,30,null,null,"Current Issues","Current Controversies","Illegal Immigration","978-0-7377-5624-1",{"$f":"HYPERLINK(Table1[[#This Row],[Hyperlink]],\"Weblink\")","v":"Weblink"},"Greenhaven Publishing","Library Bound Book",1,"2012","January 2012","Library","6.000 X 9.000","Edited by","Noël Merino",null,null,null,null,"Z",null,"Grade 10 - 12","Grade 9 - 12","This volume gathers speeches, articles, and newspaper columns that present conflicting points of view about aspects of illegal immigration. Readers will evaluate if it a serious problem, whether it harms the country, whether illegal immigrants are treated fairly, and what action the government should take.","English",46.4,37.119999999999997,"325.73","192 pp.","https://greenhavenpublishing.com/978-0-7377-5624-1",{"$f":"Table1[[#This Row],['# of Books]]*Table1[[#This Row],[QTY]]","v":0},{"$f":"Table1[[#This Row],[QTY]]*Table1[[#This Row],[School & Library Price]]","v":0}]
[null,null,30,null,null,"Current Issues","Current Controversies","Illegal Immigration","978-0-7377-5625-8",{"$f":"HYPERLINK(Table1[[#This Row],[Hyperlink]],\"Weblink\")","v":"Weblink"},"Greenhaven Publishing","Paperback Book",1,"2012","January 2012","Paperback","6.000 X 9.000","Edited by","Noël Merino",null,null,null,null,"Z",null,"Grade 10 - 12","Grade 9 - 12","This volume gathers speeches, articles, and newspaper columns that present conflicting points of view about aspects of illegal immigration. Readers will evaluate if it a serious problem, whether it harms the country, whether illegal immigrants are treated fairly, and what action the government should take.","English",32,25.6,"325.73","192 pp.","https://greenhavenpublishing.com/978-0-7377-5625-8",{"$f":"Table1[[#This Row],['# of Books]]*Table1[[#This Row],[QTY]]","v":0},{"$f":"Table1[[#This Row],[QTY]]*Table1[[#This Row],[School & Library Price]]","v":0}]
[null,null,30,null,null,"Current Issues","Current Controversies","Importing from China","978-0-7377-6234-1",{"$f":"HYPERLINK(Table1[[#This Row],[Hyperlink]],\"Weblink\")","v":"Weblink"},"Greenhaven Publishing","Paperback Book",1,"2012","January 2012","Paperback","6.000 X 9.000","Edited by","Debra A. Miller",null,null,null,null,"Z",null,"Grade 10 - 12","Grade 9 - 12","China is America's largest trading partner. Goods imports from China totaled 462.8 billion dollars in 2016. This anthology explores issues related to importing from China. It contains a diverse collection of essays, written by leading authorities in their respective fields. Taken together, they offer a wide array of views on issues such as the trade deficit and the safety of Chinese products. Disparate viewpoints of complex issues are encapsulated in each chapter with the use of a question-and-response format. Readers will analyze whether trade with China benefits the United States, whether imports from China are safe, whether the U.S./China trade deficit threatens the U.S. economy, and whether the U.S. should toughen trade policies with China.","English",32,25.6,"382/​.50973","208 pp.","https://greenhavenpublishing.com/978-0-7377-6234-1",{"$f":"Table1[[#This Row],['# of Books]]*Table1[[#This Row],[QTY]]","v":0},{"$f":"Table1[[#This Row],[QTY]]*Table1[[#This Row],[School & Library Price]]","v":0}]
[null,null,30,null,null,"Current Issues","Current Controversies","The Iranian Green Movement","978-0-7377-5626-5",{"$f":"HYPERLINK(Table1[[#This Row],[Hyperlink]],\"Weblink\")","v":"Weblink"},"Greenhaven Publishing","Library Bound Book",1,"2012","January 2012","Library","6.000 X 9.000","Edited by","Debra A. Miller",null,null,null,null,"Z",null,"Grade 10 - 12","Grade 9 - 12","The Green Movement protests were a major event in Iran's modern political history. The question-and-response format of this anthology prompts readers to examine topics relating to the Iranian green movement from multiple angles. Readers are encouraged to see the validity of divergent opinions. Topics such as whether the movement is revolutionary, whether it is a civil rights movement, the impact of protests in Tunisia and Egypt, and the future of reform in Iran are discussed. Fact boxes are included to summarize important information for researchers.","English",46.4,37.119999999999997,"333.720955","168 pp.","https://greenhavenpublishing.com/978-0-7377-5626-5",{"$f":"Table1[[#This Row],['# of Books]]*Table1[[#This Row],[QTY]]","v":0},{"$f":"Table1[[#This Row],[QTY]]*Table1[[#This Row],[School & Library Price]]","v":0}]
[null,null,30,null,null,"Current Issues","Current Controversies","Jobs in America","978-0-7377-5183-3",{"$f":"HYPERLINK(Table1[[#This Row],[Hyperlink]],\"Weblink\")","v":"Weblink"},"Greenhaven Publishing","Library Bound Book",1,"2011","January 2011","Library","6.000 X 9.000","Edited by","Debra A. Miller",null,null,null,null,"Z",null,"Grade 10 - 12","Grade 9 - 12","Since the turn of the millennium, the labor-force participation rate, or the share of American civilians over the age of 16 who are working or looking for a job, has dropped dramatically. Editor Debra A. Miller has chosen the primary source writings in this book to provide your readers with a broad array of views on current issues in the U.S. labor force. Written by respected experts in their fields, these essays present differing opinions on topics such as the best ways to create job growth and the importance of green jobs. Different viewpoints are organized into a question-and-response format in each chapter, allowing readers to easily summarize them. Contains extensive book and periodical bibliographies.","English",46.4,37.119999999999997,"331.13/​70470973","200 pp.","https://greenhavenpublishing.com/978-0-7377-5183-3",{"$f":"Table1[[#This Row],['# of Books]]*Table1[[#This Row],[QTY]]","v":0},{"$f":"Table1[[#This Row],[QTY]]*Table1[[#This Row],[School & Library Price]]","v":0}]
[null,null,30,null,null,"Current Issues","Current Controversies","Jobs in America","978-0-7377-5184-0",{"$f":"HYPERLINK(Table1[[#This Row],[Hyperlink]],\"Weblink\")","v":"Weblink"},"Greenhaven Publishing","Paperback Book",1,"2011","January 2011","Paperback","6.000 X 9.000","Edited by","Debra A. Miller",null,null,null,null,"Z",null,"Grade 10 - 12","Grade 9 - 12","Since the turn of the millennium, the labor-force participation rate, or the share of American civilians over the age of 16 who are working or looking for a job, has dropped dramatically. Editor Debra A. Miller has chosen the primary source writings in this book to provide your readers with a broad array of views on current issues in the U.S. labor force. Written by respected experts in their fields, these essays present differing opinions on topics such as the best ways to create job growth and the importance of green jobs. Different viewpoints are organized into a question-and-response format in each chapter, allowing readers to easily summarize them. Contains extensive book and periodical bibliographies.","English",32,25.6,"331.13/​70470973","200 pp.","https://greenhavenpublishing.com/978-0-7377-5184-0",{"$f":"Table1[[#This Row],['# of Books]]*Table1[[#This Row],[QTY]]","v":0},{"$f":"Table1[[#This Row],[QTY]]*Table1[[#This Row],[School & Library Price]]","v":0}]
[null,null,31,null,null,"Current Issues","Current Controversies","Media Ethics","978-0-7377-6238-9",{"$f":"HYPERLINK(Table1[[#This Row],[Hyperlink]],\"Weblink\")","v":"Weblink"},"Greenhaven Publishing","Paperback Book",1,"2013","January 2013","Paperback","6.000 X 9.000","Edited by","Noël Merino",null,null,null,null,"Z",null,"Grade 10 - 12","Grade 9 - 12","This book explores issues related to Media Ethics, including a summary of current media ethics issues, the issue of whether telling the truth should take precedence over ethics, how far journalists should go to avoid compromising objectivity, and the effect of new technologies on media ethics.","English",32,25.6,"174/​.907","200 pp.","https://greenhavenpublishing.com/978-0-7377-6238-9",{"$f":"Table1[[#This Row],['# of Books]]*Table1[[#This Row],[QTY]]","v":0},{"$f":"Table1[[#This Row],[QTY]]*Table1[[#This Row],[School & Library Price]]","v":0}]
[null,null,31,null,null,"Current Issues","Current Controversies","Medicare","978-0-7377-6239-6",{"$f":"HYPERLINK(Table1[[#This Row],[Hyperlink]],\"Weblink\")","v":"Weblink"},"Greenhaven Publishing","Library Bound Book",1,"2013","January 2013","Library","6.000 X 9.000","Edited by","Debra A. Miller",null,null,null,null,"Z",null,"Grade 10 - 12","Grade 9 - 12","The population of Medicare-eligible people began growing rapidly in 2011, when the first of the baby boomers reached age 65. By the year 2030, when the youngest boomers have reached age 65, Medicare enrollment will nearly double to an estimated 80 million. The primary source writings in this anthology have been selected to provide your readers with a broad spectrum of viewpoints on Medicare-related issues. Students are encouraged to see the validity of divergent opinions, so that they may understand issues inclusively. An important question about Medicare, such as \"Are Doctors Dropping Out of Medicare?\" is presented in each chapter, and the viewpoints that follow are organized based on their response to the question. Fact boxes summarize important information for researchers, and an extensive bibliography is included.","English",46.4,37.119999999999997,"368.4/​2","176 pp.","https://greenhavenpublishing.com/978-0-7377-6239-6",{"$f":"Table1[[#This Row],['# of Books]]*Table1[[#This Row],[QTY]]","v":0},{"$f":"Table1[[#This Row],[QTY]]*Table1[[#This Row],[School & Library Price]]","v":0}]
[null,null,31,null,null,"Current Issues","Current Controversies","Military Families","978-0-7377-6879-4",{"$f":"HYPERLINK(Table1[[#This Row],[Hyperlink]],\"Weblink\")","v":"Weblink"},"Greenhaven Publishing","Paperback Book",1,"2014","January 2014","Paperback","6.000 X 9.000","Edited by","Sylvia Engdahl",null,null,null,null,"Z",null,"Grade 10 - 12","Grade 9 - 12","Since 2001, nearly 3 million children have had to cope with the deployment of a parent. This volume introduces the reader to a broad spectrum of expert viewpoints on issues faced by military families. Disparate viewpoints are encapsulated in each chapter with the use of a question-and-response format. By evaluating contrasting viewpoints on topics, readers can attain a complete and balanced knowledge of the issues. Important facts, perfect for report writing, are dispersed throughout in eye-catching boxed insets, and an extensive bibliography is included.","English",32,25.6,"355.1/​20973","216 pp.","https://greenhavenpublishing.com/978-0-7377-6879-4",{"$f":"Table1[[#This Row],['# of Books]]*Table1[[#This Row],[QTY]]","v":0},{"$f":"Table1[[#This Row],[QTY]]*Table1[[#This Row],[School & Library Price]]","v":0}]
[null,null,31,null,null,"Current Issues","Current Controversies","Mobile Apps","978-0-7377-6891-6",{"$f":"HYPERLINK(Table1[[#This Row],[Hyperlink]],\"Weblink\")","v":"Weblink"},"Greenhaven Publishing","Paperback Book",1,"2014","January 2014","Paperback","6.000 X 9.000","Edited by","Sylvia Engdahl",null,null,null,null,"Z",null,"Grade 10 - 12","Grade 9 - 12","The average smartphone user in the U.S. spends 5 hours a day on their smartphone, and 85 percent of that time is spent using apps. This anthology provides your readers with a complete overview of the issues raised by the growing use of mobile apps. It contains a diverse collection of writings by foremost authorities in the field, which express contrasting viewpoints on the topics discussed in each chapter. Each chapter presents an important question, such as \"Should Controversial Mobile Apps Be Taken off the Market?\" and the opinions that follow are grouped into \"yes\" and \"no\" categories. By evaluating contrasting opinions, readers can attain an objective knowledge of the subject. Fact boxes are included to summarize important information for researchers.","English",32,25.6,"005.3","160 pp.","https://greenhavenpublishing.com/978-0-7377-6891-6",{"$f":"Table1[[#This Row],['# of Books]]*Table1[[#This Row],[QTY]]","v":0},{"$f":"Table1[[#This Row],[QTY]]*Table1[[#This Row],[School & Library Price]]","v":0}]
[null,null,31,null,null,"Current Issues","Current Controversies","Nuclear Armament","978-0-7377-6113-9",{"$f":"HYPERLINK(Table1[[#This Row],[Hyperlink]],\"Weblink\")","v":"Weblink"},"Greenhaven Publishing","Library Bound Book",1,"2011","January 2011","Library","6.000 X 9.000","Edited by","Debra A. Miller",null,null,null,null,"Z",null,"Grade 10 - 12","Grade 9 - 12","Nine countries together possess around 15,000 nuclear weapons. This anthology contains primary source writings by many of the foremost authorities on nuclear armament. Conservative, liberal, and centrist views are represented, introducing your readers to the broadest possible spectrum of opinions on issues relating to the topic. Each chapter asks a pertinent question about the topic, and the viewpoints that follow are grouped into “yes” and “no” categories. This unique approach provides readers with a concise view of divergent opinions on each topic. Contains an extensive book and periodical bibliography.","English",46.4,37.119999999999997,"355.8/​25119","192 pp.","https://greenhavenpublishing.com/978-0-7377-6113-9",{"$f":"Table1[[#This Row],['# of Books]]*Table1[[#This Row],[QTY]]","v":0},{"$f":"Table1[[#This Row],[QTY]]*Table1[[#This Row],[School & Library Price]]","v":0}]
[null,null,31,null,null,"Current Issues","Current Controversies","Oil","978-0-7377-4920-5",{"$f":"HYPERLINK(Table1[[#This Row],[Hyperlink]],\"Weblink\")","v":"Weblink"},"Greenhaven Publishing","Paperback Book",1,"2010","January 2010","Paperback","6.000 X 9.000","Edited by","Debra A. Miller",null,null,null,null,"Z",null,"Grade 10 - 12","Grade 9 - 12","The U.S. consumes more oil than any other country, 1.85 billion barrels per day. This anthology contains a diverse collection of essays about oil production and consumption. Taken together, they offer a complete array of important conservative, liberal, and centrist views on issues relating to petroleum reserves, the petroleum industry, and energy consumption. Disparate viewpoints of complex issues are encapsulated in each chapter with the use of a question-and-response format. Important facts, perfect for report writing, are dispersed throughout in eye-catching boxed insets.","English",32,25.6,"333.8/​232","224 pp.","https://greenhavenpublishing.com/978-0-7377-4920-5",{"$f":"Table1[[#This Row],['# of Books]]*Table1[[#This Row],[QTY]]","v":0},{"$f":"Table1[[#This Row],[QTY]]*Table1[[#This Row],[School & Library Price]]","v":0}]
[null,null,31,null,null,"Current Issues","Current Controversies","Pakistan","978-0-7377-6241-9",{"$f":"HYPERLINK(Table1[[#This Row],[Hyperlink]],\"Weblink\")","v":"Weblink"},"Greenhaven Publishing","Library Bound Book",1,"2013","January 2013","Library","6.000 X 9.000","Edited by","Debra A. Miller",null,null,null,null,"Z",null,"Grade 10 - 12","Grade 9 - 12","This anthology examines issues related to Pakistan, such as whether religious extremism is increasing there, its nuclear arsenal, the Pakistan-Indian conflict, and U.S. involvement. The book is composed of a wide spectrum of primary sources written by many of the foremost authorities in their respective fields. This unique approach provides students with a concise view of divergent opinions on each topic. Important facts, perfect for report writing, are dispersed throughout in eye-catching boxed insets.","English",46.4,37.119999999999997,"954.9105","184 pp.","https://greenhavenpublishing.com/978-0-7377-6241-9",{"$f":"Table1[[#This Row],['# of Books]]*Table1[[#This Row],[QTY]]","v":0},{"$f":"Table1[[#This Row],[QTY]]*Table1[[#This Row],[School & Library Price]]","v":0}]
[null,null,31,null,null,"Current Issues","Current Controversies","Pakistan","978-0-7377-6242-6",{"$f":"HYPERLINK(Table1[[#This Row],[Hyperlink]],\"Weblink\")","v":"Weblink"},"Greenhaven Publishing","Paperback Book",1,"2013","January 2013","Paperback","6.000 X 9.000","Edited by","Debra A. Miller",null,null,null,null,"Z",null,"Grade 10 - 12","Grade 9 - 12","This anthology examines issues related to Pakistan, such as whether religious extremism is increasing there, its nuclear arsenal, the Pakistan-Indian conflict, and U.S. involvement. The book is composed of a wide spectrum of primary sources written by many of the foremost authorities in their respective fields. This unique approach provides students with a concise view of divergent opinions on each topic. Important facts, perfect for report writing, are dispersed throughout in eye-catching boxed insets.","English",32,25.6,"954.9105","184 pp.","https://greenhavenpublishing.com/978-0-7377-6242-6",{"$f":"Table1[[#This Row],['# of Books]]*Table1[[#This Row],[QTY]]","v":0},{"$f":"Table1[[#This Row],[QTY]]*Table1[[#This Row],[School & Library Price]]","v":0}]
[null,null,31,null,null,"Current Issues","Current Controversies","Pesticides","978-0-7377-6883-1",{"$f":"HYPERLINK(Table1[[#This Row],[Hyperlink]],\"Weblink\")","v":"Weblink"},"Greenhaven Publishing","Paperback Book",1,"2014","January 2014","Paperback","6.000 X 9.000","Edited by","Debra A. Miller",null,null,null,null,"Z",null,"Grade 10 - 12","Grade 9 - 12","The use of pesticides increases food production, but also has the potential to create serious health problems for people and damage the environment. This collection of essays explores a variety of issues related to pesticides, including whether they negatively affect human health, and how they interact with the environment. It contains a diverse collection of writings representing contrasting views of the issues. Each chapter presents an important question about the subject such and the opinions that follow are grouped into \"yes\" and \"no\" categories. By evaluating contrasting opinions, readers can attain an objective knowledge of the subject. Fact boxes are included to summarize important information for researchers.","English",32,25.6,"363.738/​498","200 pp.","https://greenhavenpublishing.com/978-0-7377-6883-1",{"$f":"Table1[[#This Row],['# of Books]]*Table1[[#This Row],[QTY]]","v":0},{"$f":"Table1[[#This Row],[QTY]]*Table1[[#This Row],[School & Library Price]]","v":0}]
[null,null,31,null,null,"Current Issues","Current Controversies","Politics and Religion","978-0-7377-6885-5",{"$f":"HYPERLINK(Table1[[#This Row],[Hyperlink]],\"Weblink\")","v":"Weblink"},"Greenhaven Publishing","Paperback Book",1,"2013","January 2013","Paperback","6.000 X 9.000","Edited by","Debra A. Miller",null,null,null,null,"Z",null,"Grade 10 - 12","Grade 9 - 12","The writings in this anthology have been selected to introduce your readers to a wide array of viewpoints on politics and religion. Written by foremost authorities in this field, these essays express a broad spectrum of views on issues such the influence of religion on politics and government interference in religion. Each chapter asks a relevant question about the topic, and the viewpoints that follow are grouped into “yes” and “no” categories. This format provides readers with a concise view of different opinions on each topic.","English",32,25.6,"322/​.1","176 pp.","https://greenhavenpublishing.com/978-0-7377-6885-5",{"$f":"Table1[[#This Row],['# of Books]]*Table1[[#This Row],[QTY]]","v":0},{"$f":"Table1[[#This Row],[QTY]]*Table1[[#This Row],[School & Library Price]]","v":0}]
[null,null,31,null,null,"Current Issues","Current Controversies","Prescription Drugs","978-0-7377-6888-6",{"$f":"HYPERLINK(Table1[[#This Row],[Hyperlink]],\"Weblink\")","v":"Weblink"},"Greenhaven Publishing","Library Bound Book",1,"2014","January 2014","Library","6.000 X 9.000","Edited by","Sylvia Engdahl",null,null,null,null,"Z",null,"Grade 10 - 12","Grade 9 - 12","This collection of essays explores issues relating to prescription drugs, including whether people are taking too many prescription drugs, prescription drug prices, prescription drug abuse, other problems related to prescription drugs. The wide spectrum of primary sources written by many of the foremost authorities in their respective fields provides students with a concise view of divergent opinions on prescription drugs.","English",46.4,37.119999999999997,"615.1","200 pp.","https://greenhavenpublishing.com/978-0-7377-6888-6",{"$f":"Table1[[#This Row],['# of Books]]*Table1[[#This Row],[QTY]]","v":0},{"$f":"Table1[[#This Row],[QTY]]*Table1[[#This Row],[School & Library Price]]","v":0}]
[null,null,31,null,null,"Current Issues","Current Controversies","Prescription Drugs","978-0-7377-6889-3",{"$f":"HYPERLINK(Table1[[#This Row],[Hyperlink]],\"Weblink\")","v":"Weblink"},"Greenhaven Publishing","Paperback Book",1,"2014","January 2014","Paperback","6.000 X 9.000","Edited by","Sylvia Engdahl",null,null,null,null,"Z",null,"Grade 10 - 12","Grade 9 - 12","This collection of essays explores issues relating to prescription drugs, including whether people are taking too many prescription drugs, prescription drug prices, prescription drug abuse, other problems related to prescription drugs. The wide spectrum of primary sources written by many of the foremost authorities in their respective fields provides students with a concise view of divergent opinions on prescription drugs.","English",32,25.6,"615.1","200 pp.","https://greenhavenpublishing.com/978-0-7377-6889-3",{"$f":"Table1[[#This Row],['# of Books]]*Table1[[#This Row],[QTY]]","v":0},{"$f":"Table1[[#This Row],[QTY]]*Table1[[#This Row],[School & Library Price]]","v":0}]
[null,null,32,null,null,"Current Issues","Current Controversies","Privacy and Security in the Digital Age","978-1-5345-0006-8",{"$f":"HYPERLINK(Table1[[#This Row],[Hyperlink]],\"Weblink\")","v":"Weblink"},"Greenhaven Publishing","eBook",1,"2017","January 2017",null,null,"Edited by","Anne C. Cunningham",null,null,null,null,"Z",null,"Grade 10 - 12","Grade 9 - 12","The digital age has enhanced our lives in such profound ways that it’s difficult to imagine how we ever coped without computers, the internet, and smartphone cameras. But along with the obvious improvements that technology offers come threats to our personal freedoms. Readers of this enlightening anthology will be faced with complicated dilemmas from a variety of informed viewpoints: Does the government have the right to monitor its citizens? Should consumers have expectations of privacy? Does video surveillance make us safer in our communities? Is security more important than liberty?","English",46.4,37.119999999999997,"323.3’264--dc23","176 pp.","https://greenhavenpublishing.com/978-1-5345-0006-8",{"$f":"Table1[[#This Row],['# of Books]]*Table1[[#This Row],[QTY]]","v":0},{"$f":"Table1[[#This Row],[QTY]]*Table1[[#This Row],[School & Library Price]]","v":0}]
[null,null,32,null,null,"Current Issues","Current Controversies","Racial Profiling","978-0-7377-7680-5",{"$f":"HYPERLINK(Table1[[#This Row],[Hyperlink]],\"Weblink\")","v":"Weblink"},"Greenhaven Publishing","eBook",1,"2015","January 2015",null,null,"Edited by","Noël Merino",null,null,null,null,"Z",null,"Grade 10 - 12","Grade 9 - 12","The writings in this anthology have been selected to introduce your readers to a wide array of viewpoints on the use of racial profiling in law enforcement. Written by foremost authorities in the field, these essays express leading liberal, conservative, and centrist views. Each chapter asks a relevant question about the topic, and the viewpoints that follow are grouped into “yes” and “no” categories. Questions debated in this book are whether racial profiling is a problem, whether Arab Muslims should be profiled in the War on Terror, what the causes and consequences of racial profiling are, and what should be done about it.","English",46.4,37.119999999999997,"363.2/​3089","184 pp.","https://greenhavenpublishing.com/978-0-7377-7680-5",{"$f":"Table1[[#This Row],['# of Books]]*Table1[[#This Row],[QTY]]","v":0},{"$f":"Table1[[#This Row],[QTY]]*Table1[[#This Row],[School & Library Price]]","v":0}]
[null,null,32,null,null,"Current Issues","Current Controversies","Rap and Hip-Hop","978-0-7377-6244-0",{"$f":"HYPERLINK(Table1[[#This Row],[Hyperlink]],\"Weblink\")","v":"Weblink"},"Greenhaven Publishing","Paperback Book",1,"2013","January 2013","Paperback","6.000 X 9.000","Edited by","Tamara Thompson",null,null,null,null,"Z",null,"Grade 10 - 12","Grade 9 - 12","This anthology contains a diverse collection of essays on rap and hip hop. Multiple viewpoints of issues are encapsulated in each chapter with the use of a question-and-response format. By evaluating contrasting viewpoints on topics, readers can attain a complete and balanced knowledge of the issues. Important facts, perfect for report writing, are dispersed throughout in eye-catching boxed insets, and an extensive bibliography is included.","English",32,25.6,"782.421649","168 pp.","https://greenhavenpublishing.com/978-0-7377-6244-0",{"$f":"Table1[[#This Row],['# of Books]]*Table1[[#This Row],[QTY]]","v":0},{"$f":"Table1[[#This Row],[QTY]]*Table1[[#This Row],[School & Library Price]]","v":0}]
[null,null,32,null,null,"Current Issues","Current Controversies","Rap Music and Culture","978-0-7377-3964-0",{"$f":"HYPERLINK(Table1[[#This Row],[Hyperlink]],\"Weblink\")","v":"Weblink"},"Greenhaven Publishing","Library Bound Book",1,"2008","January 2008","Library","6.000 X 9.000","Edited by","Kate Burns",null,null,null,null,"Z",null,"Grade 10 - 12","Grade 9 - 12","The primary source writings in this anthology have been selected to provide your readers with a broad range of viewpoints on rap music and culture. Students are encouraged to see the validity of divergent opinions, so that they may understand the topics of discussion inclusively. An important question about the topic is presented in each chapter, such as \"Does rap culture perpetuate violence?\" and the viewpoints that follow are organized based on their response to the question. Fact boxes summarize important information for researchers, and an extensive bibliography is included.","English",46.4,37.119999999999997,"306.4/​84249","192 pp.","https://greenhavenpublishing.com/978-0-7377-3964-0",{"$f":"Table1[[#This Row],['# of Books]]*Table1[[#This Row],[QTY]]","v":0},{"$f":"Table1[[#This Row],[QTY]]*Table1[[#This Row],[School & Library Price]]","v":0}]
[null,null,32,null,null,"Current Issues","Current Controversies","Same-Sex Marriage","978-0-7377-7220-3",{"$f":"HYPERLINK(Table1[[#This Row],[Hyperlink]],\"Weblink\")","v":"Weblink"},"Greenhaven Publishing","Paperback Book",1,"2015","January 2015","Paperback","6.000 X 9.000","Edited by","Tamara Thompson",null,null,null,null,"Z",null,"Grade 10 - 12","Grade 9 - 12","On June 26, 2015, the U.S. Supreme Court ruled by a 5 to 4 vote that the Constitution guarantees a right to same-sex marriage. This anthology provides your readers with a complete overview of the debate about same-sex marriage. It contains a diverse collection of writings representing leading conservative, liberal, and centrist views of the issues surrounding the topic. Each chapter presents an important question about the subject, and the opinions that follow are grouped into \"yes\" and \"no\" categories. By evaluating contrasting opinions, readers can attain an objective knowledge.","English",32,25.6,"306.84/​8","264 pp.","https://greenhavenpublishing.com/978-0-7377-7220-3",{"$f":"Table1[[#This Row],['# of Books]]*Table1[[#This Row],[QTY]]","v":0},{"$f":"Table1[[#This Row],[QTY]]*Table1[[#This Row],[School & Library Price]]","v":0}]
[null,null,32,null,null,"Current Issues","Current Controversies","Sex Offenders and Public Policy","978-0-7377-3798-1",{"$f":"HYPERLINK(Table1[[#This Row],[Hyperlink]],\"Weblink\")","v":"Weblink"},"Greenhaven Publishing","Paperback Book",1,"2008","January 2008","Paperback","6.000 X 9.000","Edited by","Lynn M. Zott",null,null,null,null,"Z",null,"Grade 10 - 12","Grade 9 - 12","Crime policy and the science of correcting criminal behavior is very complicated. This volume includes a collection of essays that analyze the efficacy of current sex offender policies. A question-and-response format prompts readers to examine complex topics from multiple viewpoints. Students are encouraged to see the validity of divergent opinions, so that they may understand issues inclusively. Essay topics include what the best defense is against sexual predators, whether treatment is effective, whether GPS tracking promotes panic, and whether the state of limitations should be reformed to bring justice to perpetrators. ","English",32,25.6,"364.153","232 pp.","https://greenhavenpublishing.com/978-0-7377-3798-1",{"$f":"Table1[[#This Row],['# of Books]]*Table1[[#This Row],[QTY]]","v":0},{"$f":"Table1[[#This Row],[QTY]]*Table1[[#This Row],[School & Library Price]]","v":0}]
[null,null,32,null,null,"Current Issues","Current Controversies","The Tea Party Movement","978-0-7377-5636-4",{"$f":"HYPERLINK(Table1[[#This Row],[Hyperlink]],\"Weblink\")","v":"Weblink"},"Greenhaven Publishing","Library Bound Book",1,"2012","January 2012","Library","6.000 X 9.000","Edited by","Debra A. Miller",null,null,null,null,"Z",null,"Grade 10 - 12","Grade 9 - 12","The writings in this anthology have been selected to introduce your readers to a wide array of viewpoints on the tea party movement. Written by foremost authorities in the field, these essays express leading liberal, conservative, and centrist views. Each chapter asks a relevant question about the topic, and the viewpoints that follow are grouped into “yes” and “no” categories. Essays debate such topics as whether the Tea Party is legitimate, whether it's funded by corporations, whether race is a motivator behind Tea Party activism, whether it will last, and whether it can cause political chaos.","English",46.4,37.119999999999997,"320.520973","192 pp.","https://greenhavenpublishing.com/978-0-7377-5636-4",{"$f":"Table1[[#This Row],['# of Books]]*Table1[[#This Row],[QTY]]","v":0},{"$f":"Table1[[#This Row],[QTY]]*Table1[[#This Row],[School & Library Price]]","v":0}]
[null,null,32,null,null,"Current Issues","Current Controversies","Teens and Privacy","978-0-7377-5133-8",{"$f":"HYPERLINK(Table1[[#This Row],[Hyperlink]],\"Weblink\")","v":"Weblink"},"Greenhaven Publishing","Library Bound Book",1,"2011","January 2011","Library","6.000 X 9.000","Edited by","Noël Merino",null,null,null,null,"Z",null,"Grade 10 - 12","Grade 9 - 12","Your teen readers will definitely form a solid, intelligent opinion on their rights after reading this collection of essays. Taken together, they offer a diverse array of views on teens and privacy. A question-and-response format prompts readers to examine complex topics from multiple angles. Essays debate such questions as, \"Should teens have privacy rights respected at school?\" and \"Should teens have privacy in receiving medical care?\" Students are encouraged to see the validity of divergent opinions, so that they may understand issues inclusively. Fact boxes are included to summarize important information for researchers.","English",46.4,37.119999999999997,"323.44/​8/​0835","192 pp.","https://greenhavenpublishing.com/978-0-7377-5133-8",{"$f":"Table1[[#This Row],['# of Books]]*Table1[[#This Row],[QTY]]","v":0},{"$f":"Table1[[#This Row],[QTY]]*Table1[[#This Row],[School & Library Price]]","v":0}]
[null,null,32,null,null,"Current Issues","Current Controversies","The U.S. Economy","978-0-7377-4712-6",{"$f":"HYPERLINK(Table1[[#This Row],[Hyperlink]],\"Weblink\")","v":"Weblink"},"Greenhaven Publishing","Paperback Book",1,"2010","January 2010","Paperback","6.000 X 9.000","Edited by","Debra A. Miller",null,null,null,null,"Z",null,"Grade 10 - 12","Grade 9 - 12","This volume explores the issues confronting the U.S. economy, including crises in the housing market and bank solvency, and a precarious world economy. Essays look at the severity of the problem, how the government's anti-recession policies are working, and whether the economic free fall is slowing down. Also discusses the potential threat to Americans posed by the growing deficit, and ideas for stabilizing the economy in the future.","English",32,25.6,"330.973","192 pp.","https://greenhavenpublishing.com/978-0-7377-4712-6",{"$f":"Table1[[#This Row],['# of Books]]*Table1[[#This Row],[QTY]]","v":0},{"$f":"Table1[[#This Row],[QTY]]*Table1[[#This Row],[School & Library Price]]","v":0}]
[null,null,32,null,null,"Current Issues","Current Controversies","Urban Sprawl","978-0-7377-6247-1",{"$f":"HYPERLINK(Table1[[#This Row],[Hyperlink]],\"Weblink\")","v":"Weblink"},"Greenhaven Publishing","Library Bound Book",1,"2014","January 2014","Library","6.000 X 9.000","Edited by","Noël Merino",null,null,null,null,"Z",null,"Grade 10 - 12","Grade 9 - 12","This collection of essays explores current issues related to urban sprawl including, whether urban sprawl is a problem in the U.S., the impact of sprawl on the environment, the impact of sprawl on the economy; and how sprawl should be managed. Each chapter presents an important question about the subject, and the opinions that follow are grouped into \"yes\" and \"no\" categories. By evaluating contrasting opinions, readers can attain an objective knowledge of the subject.","English",46.4,37.119999999999997,"307.76","224 pp.","https://greenhavenpublishing.com/978-0-7377-6247-1",{"$f":"Table1[[#This Row],['# of Books]]*Table1[[#This Row],[QTY]]","v":0},{"$f":"Table1[[#This Row],[QTY]]*Table1[[#This Row],[School & Library Price]]","v":0}]
[null,null,32,null,null,"Current Issues","Current Controversies","Vegetarianism","978-0-7377-7228-9",{"$f":"HYPERLINK(Table1[[#This Row],[Hyperlink]],\"Weblink\")","v":"Weblink"},"Greenhaven Publishing","Paperback Book",1,"2015","January 2015","Paperback","6.000 X 9.000","Edited by","Amy Francis",null,null,null,null,"Z",null,"Grade 10 - 12","Grade 9 - 12","This collection of essays explores such questions surrounding eating a plant-based diet including if meat-based diets are necessarily bad for the planet, the moral and spiritual implications of vegetarianism, and whether the diet is actually beneficial for health. The essays in each chapter are organized into a question-and response format, allowing readers to easily summarize different viewpoints.","English",32,25.6,"613.2/​6","232 pp.","https://greenhavenpublishing.com/978-0-7377-7228-9",{"$f":"Table1[[#This Row],['# of Books]]*Table1[[#This Row],[QTY]]","v":0},{"$f":"Table1[[#This Row],[QTY]]*Table1[[#This Row],[School & Library Price]]","v":0}]
[null,null,32,null,null,"Current Issues","Current Controversies","Vegetarianism","978-0-7377-7683-6",{"$f":"HYPERLINK(Table1[[#This Row],[Hyperlink]],\"Weblink\")","v":"Weblink"},"Greenhaven Publishing","eBook",1,"2015","January 2015",null,null,"Edited by","Amy Francis",null,null,null,null,"Z",null,"Grade 10 - 12","Grade 9 - 12","This collection of essays explores such questions surrounding eating a plant-based diet including if meat-based diets are necessarily bad for the planet, the moral and spiritual implications of vegetarianism, and whether the diet is actually beneficial for health. The essays in each chapter are organized into a question-and response format, allowing readers to easily summarize different viewpoints.","English",46.4,37.119999999999997,"613.2/​6","232 pp.","https://greenhavenpublishing.com/978-0-7377-7683-6",{"$f":"Table1[[#This Row],['# of Books]]*Table1[[#This Row],[QTY]]","v":0},{"$f":"Table1[[#This Row],[QTY]]*Table1[[#This Row],[School & Library Price]]","v":0}]
[null,null,32,null,null,"Current Issues","Current Controversies","Violence in the Media","978-0-7377-3300-6",{"$f":"HYPERLINK(Table1[[#This Row],[Hyperlink]],\"Weblink\")","v":"Weblink"},"Greenhaven Publishing","Paperback Book",1,"2014","January 2014","Paperback","6.000 X 9.000","Edited by","Dedria Bryfonski",null,null,null,null,"Z",null,"Grade 10 - 12","Grade 9 - 12","This anthology explores issues related to violence in the media including violence in music and videos, exposure to violence in television and movies, violent video games, how society should respond to violence in the media. Disparate viewpoints are encapsulated with the use of a question-and-response format. Students are encouraged to weigh the merits of divergent opinions, so that they may understand the subject inclusively. Important facts, perfect for report writing, are dispersed throughout.","English",32,25.6,"303.6","184 pp.","https://greenhavenpublishing.com/978-0-7377-3300-6",{"$f":"Table1[[#This Row],['# of Books]]*Table1[[#This Row],[QTY]]","v":0},{"$f":"Table1[[#This Row],[QTY]]*Table1[[#This Row],[School & Library Price]]","v":0}]
[null,null,32,null,null,"Current Issues","Current Controversies","Women in Politics","978-0-7377-6250-1",{"$f":"HYPERLINK(Table1[[#This Row],[Hyperlink]],\"Weblink\")","v":"Weblink"},"Greenhaven Publishing","Paperback Book",1,"2013","January 2013","Paperback","6.000 X 9.000","Edited by","Debra A. Miller",null,null,null,null,"Z",null,"Grade 10 - 12","Grade 9 - 12","This volume explores issues related to women in politics, including whether women have made gains in U.S. politics, the status of women in world politics, whether women's participation in politics improves politics and how women can be encouraged to participate in politics. Each chapter asks a relevant question about the topic, and the viewpoints that follow are grouped into “yes” and “no” categories. This format provides readers with a concise view of different opinions on each topic. Contains an extensive bibliography.","English",32,25.6,"320.73082","168 pp.","https://greenhavenpublishing.com/978-0-7377-6250-1",{"$f":"Table1[[#This Row],['# of Books]]*Table1[[#This Row],[QTY]]","v":0},{"$f":"Table1[[#This Row],[QTY]]*Table1[[#This Row],[School & Library Price]]","v":0}]
[null,null,34,null,null,"Current Issues","Global Viewpoints","Abortion","978-0-7377-5467-4",{"$f":"HYPERLINK(Table1[[#This Row],[Hyperlink]],\"Weblink\")","v":"Weblink"},"Greenhaven Publishing","eBook",1,"2010","January 2010",null,null,"Edited by","Noah Berlatsky",null,null,null,null,"Z",null,"Grade 10 - 12","Grade 9 - 12","Abortions have been conducted across several cultures, since ancient times, earlier than 1075 B.C. This globally-conscious volume explores attitudes, policies and laws regarding abortion around the world. Chapters explain the stance of each of the world's major religions on abortion, as well as the impact of civil laws prohibiting abortion in several countries. Also discussed is the practice of sex selection using abortion or developing technologies, and the value of sex education in reducing abortion rates.","English",50.82,40.659999999999997,"362.19/​888","256 pp.","https://greenhavenpublishing.com/978-0-7377-5467-4",{"$f":"Table1[[#This Row],['# of Books]]*Table1[[#This Row],[QTY]]","v":0},{"$f":"Table1[[#This Row],[QTY]]*Table1[[#This Row],[School & Library Price]]","v":0}]
[null,null,34,null,null,"Current Issues","Global Viewpoints","Adoption","978-0-7377-6259-4",{"$f":"HYPERLINK(Table1[[#This Row],[Hyperlink]],\"Weblink\")","v":"Weblink"},"Greenhaven Publishing","Library Bound Book",1,"2013","January 2013","Library","6.000 X 9.000","Edited by","Diane Andrews Henningfeld",null,null,null,null,"Z",null,"Grade 10 - 12","Grade 9 - 12","Editor Diane Andrews Henningfeld takes your readers on a tour of various cultures' views on adoption. Essays explore global trends in adoption, addressing such topics as transnational adoption and celebrity adoption. Readers will explore corruption, legal and social issues faced by same-sex adoptive parent, and the role of gender, race, and ethnicity in adoption. Essays examine the rights of adoptive parents, birth parents, and adoptees. Primary sources, including speeches and government documents, join essays from international magazines and news sources for a truly panoramic view. Helpful features include an annotated table of contents, a world map and country index, bibliography, and subject index.","English",46.2,36.96,"362.734","248 pp.","https://greenhavenpublishing.com/978-0-7377-6259-4",{"$f":"Table1[[#This Row],['# of Books]]*Table1[[#This Row],[QTY]]","v":0},{"$f":"Table1[[#This Row],[QTY]]*Table1[[#This Row],[School & Library Price]]","v":0}]
[null,null,34,null,null,"Current Issues","Global Viewpoints","Aging","978-0-7377-7019-3",{"$f":"HYPERLINK(Table1[[#This Row],[Hyperlink]],\"Weblink\")","v":"Weblink"},"Greenhaven Publishing","eBook",1,"2014","January 2014",null,null,"Edited by","Noah Berlatsky",null,null,null,null,"Z",null,"Grade 10 - 12","Grade 9 - 12","One of the sharpest criticisms within and outside of Hollywood is that it provides no strong, beautiful, inspirational parts for aging female actors. They merely disappear while aging male actors get action hero and older Lothario parts. This collection of essays leaves the controversies of Hollywood ageism and sexism behind to look at other cultures and how they treat the aging. Readers will examine the effect of aging populations within other societies. They will evaluate policy solutions and attitudes. They will also learn about health issues in relation to aging. Readers will learn from Europe, China, Japan and several other cultures about their viewpoints on aging.","English",50.82,40.659999999999997,"305.26","208 pp.","https://greenhavenpublishing.com/978-0-7377-7019-3",{"$f":"Table1[[#This Row],['# of Books]]*Table1[[#This Row],[QTY]]","v":0},{"$f":"Table1[[#This Row],[QTY]]*Table1[[#This Row],[School & Library Price]]","v":0}]
[null,null,34,null,null,"Current Issues","Global Viewpoints","Alcohol","978-0-7377-5643-2",{"$f":"HYPERLINK(Table1[[#This Row],[Hyperlink]],\"Weblink\")","v":"Weblink"},"Greenhaven Publishing","Paperback Book",1,"2012","January 2012","Paperback","6.000 X 9.000","Edited by","Margaret Haerens",null,null,null,null,"Z",null,"Grade 10 - 12","Grade 9 - 12","This collection of essays helps readers to examine the issue of alcohol from a variety of international perspectives. Topics covered include global trends in alcohol consumption, abuse issues in various countries, including Australia, Yemen, Kenya and Russia, and strategies to curb alcohol abuse. Readers will examine the relationship between religion and alcohol around the globe, and alcohol culture and tradition. Essay sources include the World Health Organization, Associated Press, Lee Ho-jeong, Fazile Zahir, Irene Mwivano, and Alfred de Montesquiou.","English",31.7,25.36,"362.292","200 pp.","https://greenhavenpublishing.com/978-0-7377-5643-2",{"$f":"Table1[[#This Row],['# of Books]]*Table1[[#This Row],[QTY]]","v":0},{"$f":"Table1[[#This Row],[QTY]]*Table1[[#This Row],[School & Library Price]]","v":0}]
[null,null,34,null,null,"Current Issues","Global Viewpoints","Animal Welfare","978-0-7377-6009-5",{"$f":"HYPERLINK(Table1[[#This Row],[Hyperlink]],\"Weblink\")","v":"Weblink"},"Greenhaven Publishing","eBook",1,"2011","January 2011",null,null,"Edited by","Christina Fisanick",null,null,null,null,"Z",null,"Grade 10 - 12","Grade 9 - 12","In Hinduism, cows are sacred, respected, and treated as a motherly giving animal. The thought of eating them or using their skin for accessories is sickening. So many cultures across the globe have their own understandings of animal welfare. This fantastic collection of essays shares international beliefs about animals and animal welfare. Essays includes speeches, government documents, and articles from international magazines and news sources. Readers will explore global perspectives about cultural and religious views on animal rights. They will evaluate animal welfare in relation to biomedical research. Essays examine the world food industry. The last chapter covers animal ownership and welfare in various cultures.","English",50.82,40.659999999999997,"179/​.3","232 pp.","https://greenhavenpublishing.com/978-0-7377-6009-5",{"$f":"Table1[[#This Row],['# of Books]]*Table1[[#This Row],[QTY]]","v":0},{"$f":"Table1[[#This Row],[QTY]]*Table1[[#This Row],[School & Library Price]]","v":0}]
[null,null,34,null,null,"Current Issues","Global Viewpoints","The Arab-Israeli Conflict","978-0-7377-5644-9",{"$f":"HYPERLINK(Table1[[#This Row],[Hyperlink]],\"Weblink\")","v":"Weblink"},"Greenhaven Publishing","Library Bound Book",1,"2012","January 2012","Library","6.000 X 9.000","Edited by","Noah Berlatsky",null,null,null,null,"Z",null,"Grade 10 - 12","Grade 9 - 12","This edition explores the Arab-Israeli conflict, and provides readers with a global perspective, rather than a localized understanding. Articles included explore the regional issues impacting the conflict, and Israel's history with the Gaza Strip. Readers will learn about various issues related to settlements on the West Bank, including whether Israel's settlement efforts should cease, and whether the Fayyad Plan is feasible. They will also examine the role of the international community. Essay sources include the Agence France-Presse, Carnegie Endowment for International Peace, International Federation for Human Rights, and Amnesty International.","English",46.2,36.96,"956.05/​4","232 pp.","https://greenhavenpublishing.com/978-0-7377-5644-9",{"$f":"Table1[[#This Row],['# of Books]]*Table1[[#This Row],[QTY]]","v":0},{"$f":"Table1[[#This Row],[QTY]]*Table1[[#This Row],[School & Library Price]]","v":0}]
[null,null,34,null,null,"Current Issues","Global Viewpoints","Birth Control","978-0-7377-7029-2",{"$f":"HYPERLINK(Table1[[#This Row],[Hyperlink]],\"Weblink\")","v":"Weblink"},"Greenhaven Publishing","eBook",1,"2014","January 2014",null,null,"Edited by","Margaret Haerens",null,null,null,null,"Z",null,"Grade 10 - 12","Grade 9 - 12","Present your readers with a collection of essays that examines the issue of birth control from a variety of international perspectives. Readers will travel to China, Iran, Madagascar, Nigeria, Canada, Senegal, India, Afghanistan, Japan, the Philippines, and other places to understand new perspectives on birth control. Readers will learn about population growth, politics, social and religious factors, and the economics of birth control access. Essay sources include Martha Campbell, Tania Branigan, Palash R. Ghosh, Jing Zhang, and Raul Irani.","English",50.82,40.659999999999997,"363.9/60973","216 pp.","https://greenhavenpublishing.com/978-0-7377-7029-2",{"$f":"Table1[[#This Row],['# of Books]]*Table1[[#This Row],[QTY]]","v":0},{"$f":"Table1[[#This Row],[QTY]]*Table1[[#This Row],[School & Library Price]]","v":0}]
[null,null,34,null,null,"Current Issues","Global Viewpoints","Capitalism","978-0-7377-6515-1",{"$f":"HYPERLINK(Table1[[#This Row],[Hyperlink]],\"Weblink\")","v":"Weblink"},"Greenhaven Publishing","eBook",1,"2012","January 2012",null,null,"Edited by","Noël Merino",null,null,null,null,"Z",null,"Grade 10 - 12","Grade 9 - 12","This volume takes readers across the globe to examine the topic of capitalism, including coverage of places such as France, Germany, Russia, China, India, and Africa. Readers will evaluate the role of capitalism in the global financial crisis, and its interplay with Democracy. Readers will also learn about social welfare spending. Illustrations, maps, charts, graphs, and sidebars support the text.","English",50.82,40.659999999999997,"330.12/​2","256 pp.","https://greenhavenpublishing.com/978-0-7377-6515-1",{"$f":"Table1[[#This Row],['# of Books]]*Table1[[#This Row],[QTY]]","v":0},{"$f":"Table1[[#This Row],[QTY]]*Table1[[#This Row],[School & Library Price]]","v":0}]
[null,null,34,null,null,"Current Issues","Global Viewpoints","Child Labor","978-0-7377-4906-9",{"$f":"HYPERLINK(Table1[[#This Row],[Hyperlink]],\"Weblink\")","v":"Weblink"},"Greenhaven Publishing","eBook",1,"2009","January 2009",null,null,"Edited by","Gary Wiener",null,null,null,null,"Z",null,"Grade 10 - 12","Grade 9 - 12","Present your readers with a truly global review of the issue of child labor. Essays are collected from highly respected international sources, sharing viewpoints from places such as Bolivia, West Africa, South Asia, Bangladesh, Uzbekistan, Ireland, and Brazil. Readers will learn about children who work in coal mines, the sex trade, agriculture, and other industries. Essential essays share information regarding the responsibility of corporations to stop child labor. Essay sources include The Anti-Slavery Society, Global March Against Child Labour, The Child Workers in Asia Foundation, International Labour Organization, and the Coalition to Stop the Use of Child Soldiers.","English",50.82,40.659999999999997,"331.3/​1","272 pp.","https://greenhavenpublishing.com/978-0-7377-4906-9",{"$f":"Table1[[#This Row],['# of Books]]*Table1[[#This Row],[QTY]]","v":0},{"$f":"Table1[[#This Row],[QTY]]*Table1[[#This Row],[School & Library Price]]","v":0}]
[null,null,34,null,null,"Current Issues","Global Viewpoints","Child Soldiers","978-0-7377-4840-6",{"$f":"HYPERLINK(Table1[[#This Row],[Hyperlink]],\"Weblink\")","v":"Weblink"},"Greenhaven Publishing","Paperback Book",1,"2010","January 2010","Paperback","6.000 X 9.000","Edited by","Candice L. Mancini",null,null,null,null,"Z",null,"Grade 10 - 12","Grade 9 - 12","One of the harshest realities in human society is that young people are fighting in wars for their family, beliefs, and countries. This essential volume helps your readers understand the existence of child soldiers from a global perspective. Essayist Jeffrey Gettleman explains that in Mozambique, children are exploited as the perfect weapon. P.W. Singer asserts that threats and promises entice children to war. Helen Murphy informs readers that Colombia's child soldiers join rebels to escape poverty. Other essays highlight personal stories of former child soldiers from Uganda, Cambodia, Sierra Leone, and the Democratic Republic of the Congo.","English",31.7,25.36,"355.3083","216 pp.","https://greenhavenpublishing.com/978-0-7377-4840-6",{"$f":"Table1[[#This Row],['# of Books]]*Table1[[#This Row],[QTY]]","v":0},{"$f":"Table1[[#This Row],[QTY]]*Table1[[#This Row],[School & Library Price]]","v":0}]
[null,null,34,null,null,"Current Issues","Global Viewpoints","Climate Change","978-0-7377-4157-5",{"$f":"HYPERLINK(Table1[[#This Row],[Hyperlink]],\"Weblink\")","v":"Weblink"},"Greenhaven Publishing","Paperback Book",1,"2009","January 2009","Paperback","6.000 X 9.000","Edited by, Edited by","Adrienne Wilmoth Lerner, Chiara St. Pierre",null,null,null,null,"Z",null,"Grade 10 - 12","Grade 9 - 12","This critical, crucial volume explores the politics and effects of global climate change. The first chapter presents essays from global resources that discuss the debate of climate change; is it real? One essay asserts that the United States is failing to address the very real existence of climate change. Chapter two discuses the impact of global climate change. Readers will learn about South America's Amazon basin and its loss of species and habitats. Chapter three discusses developing nations and climate change. Chapter four helps readers evaluate what is being done to combat climate change. Stellar essay sources include RoyalSociety.org, United States House of Representatives, Committee on Oversight and Government Reform, United Nations Office for the Coordination of Humanitarian Affairs, Intergovernmental Panel on Climate Change: Working Group II, and the United Nations Environment Programme.","English",31.7,25.36,"363.738/​74","240 pp.","https://greenhavenpublishing.com/978-0-7377-4157-5",{"$f":"Table1[[#This Row],['# of Books]]*Table1[[#This Row],[QTY]]","v":0},{"$f":"Table1[[#This Row],[QTY]]*Table1[[#This Row],[School & Library Price]]","v":0}]
[null,null,34,null,null,"Current Issues","Global Viewpoints","Cybercrime","978-0-7377-6907-4",{"$f":"HYPERLINK(Table1[[#This Row],[Hyperlink]],\"Weblink\")","v":"Weblink"},"Greenhaven Publishing","Paperback Book",1,"2014","January 2014","Paperback","6.000 X 9.000","Edited by","Noah Berlatsky",null,null,null,null,"Z",null,"Grade 10 - 12","Grade 9 - 12","This concise volume takes care of two major issues at once; providing readers with a more worldwide view than American-centric information, and educating readers about cybercrime. This volume of essays from international sources explores the vulnerability of countries and people to cybercrime. Readers will explore cybercrime law worldwide, and take a look at the role of organized crime in cybercrime. They will also take a deep dive into cyber espionage and cyber terrorism. Countries and cultures that readers will learn about include South Africa, Singapore, Pakistan, China, Canada, Thailand, Australia, Russia, and the United Kingdom.","English",31.7,25.36,"364.16/8","216 pp.","https://greenhavenpublishing.com/978-0-7377-6907-4",{"$f":"Table1[[#This Row],['# of Books]]*Table1[[#This Row],[QTY]]","v":0},{"$f":"Table1[[#This Row],[QTY]]*Table1[[#This Row],[School & Library Price]]","v":0}]
[null,null,34,null,null,"Current Issues","Global Viewpoints","Democracy","978-0-7377-4715-7",{"$f":"HYPERLINK(Table1[[#This Row],[Hyperlink]],\"Weblink\")","v":"Weblink"},"Greenhaven Publishing","Library Bound Book",1,"2011","January 2011","Library","6.000 X 9.000","Edited by","Tom Lansford",null,null,null,null,"Z",null,"Grade 10 - 12","Grade 9 - 12","By illuminating the complexities and interrelations of the global community, this excellent resource helps students and other researchers enhance their global awareness on the topic of democracy. Readers will explore the relationship between democracy and government in several countries, including Spain, South Korea, Columbia and Ghana, as well as the relationship between democracy and equality. What is the role of activist groups in promoting democracy in Central and Eastern Europe? Can international pressure force Burma to democratize? Does the United States actively promote democracy in the developing world? This collection of essays provides the answers to these questions and more. Readers will also look at the impact of economics, including taxes and wealth distribution, on democratic growth.","English",46.2,36.96,"321.8--dc23","240 pp.","https://greenhavenpublishing.com/978-0-7377-4715-7",{"$f":"Table1[[#This Row],['# of Books]]*Table1[[#This Row],[QTY]]","v":0},{"$f":"Table1[[#This Row],[QTY]]*Table1[[#This Row],[School & Library Price]]","v":0}]
[null,null,34,null,null,"Current Issues","Global Viewpoints","Democracy","978-0-7377-4716-4",{"$f":"HYPERLINK(Table1[[#This Row],[Hyperlink]],\"Weblink\")","v":"Weblink"},"Greenhaven Publishing","Paperback Book",1,"2011","January 2011","Paperback","6.000 X 9.000","Edited by","Tom Lansford",null,null,null,null,"Z",null,"Grade 10 - 12","Grade 9 - 12","By illuminating the complexities and interrelations of the global community, this excellent resource helps students and other researchers enhance their global awareness on the topic of democracy. Readers will explore the relationship between democracy and government in several countries, including Spain, South Korea, Columbia and Ghana, as well as the relationship between democracy and equality. What is the role of activist groups in promoting democracy in Central and Eastern Europe? Can international pressure force Burma to democratize? Does the United States actively promote democracy in the developing world? This collection of essays provides the answers to these questions and more. Readers will also look at the impact of economics, including taxes and wealth distribution, on democratic growth.","English",31.7,25.36,"321.8--dc23","240 pp.","https://greenhavenpublishing.com/978-0-7377-4716-4",{"$f":"Table1[[#This Row],['# of Books]]*Table1[[#This Row],[QTY]]","v":0},{"$f":"Table1[[#This Row],[QTY]]*Table1[[#This Row],[School & Library Price]]","v":0}]
[null,null,34,null,null,"Current Issues","Global Viewpoints","Disasters","978-0-7377-7021-6",{"$f":"HYPERLINK(Table1[[#This Row],[Hyperlink]],\"Weblink\")","v":"Weblink"},"Greenhaven Publishing","eBook",1,"2014","January 2014",null,null,"Edited by","Diane Andrews Henningfeld",null,null,null,null,"Z",null,"Grade 10 - 12","Grade 9 - 12","There is no place on Earth that is disaster-proof. We can build special structures, but we cannot control the nature and power of a disaster. This must-have book takes readers around the world to learn about disasters from international points of view. Readers will evaluate the causes of disasters, and the relationships between disasters and social issues, politics, and preparedness. Readers will learn about responses to aftermaths as well. Viewpoints are shared from such cultures and places as Africa, China, England, Haiti, Brazil, Japan, and Rwanda.","English",50.82,40.659999999999997,"363.34","264 pp.","https://greenhavenpublishing.com/978-0-7377-7021-6",{"$f":"Table1[[#This Row],['# of Books]]*Table1[[#This Row],[QTY]]","v":0},{"$f":"Table1[[#This Row],[QTY]]*Table1[[#This Row],[School & Library Price]]","v":0}]
[null,null,34,null,null,"Current Issues","Global Viewpoints","Drugs","978-0-7377-4153-7",{"$f":"HYPERLINK(Table1[[#This Row],[Hyperlink]],\"Weblink\")","v":"Weblink"},"Greenhaven Publishing","Paperback Book",1,"2009","January 2009","Paperback","6.000 X 9.000","Edited by","Maria Tenaglia-Webster",null,null,null,null,"Z",null,"Grade 10 - 12","Grade 9 - 12","Editor Maria Tenaglia-Webster has selected a compelling range of essays that introduce global perspectives about drugs. By examining various issues about drugs from a variety of international perspectives, readers will broaden their current understanding and opinions. Topics include the war on drugs, the Afghan poppy war, prohibition, meth labs, addiction to qat, D.N.A. damage from aerial spray eradication, and safe-injection programs. Readers will learn from such cultures and places as Columbia, Yemen, the United Kingdom, Mexico, Afghanistan, the Netherlands, Canada, and Australia. Essay sources include the Drug Reform Coordination Network, Transnational Institute, Transform Drug Policy Foundation, Drug Policy Alliance, and the U.S. Drug Enforcement Administration.","English",31.7,25.36,"362.29","264 pp.","https://greenhavenpublishing.com/978-0-7377-4153-7",{"$f":"Table1[[#This Row],['# of Books]]*Table1[[#This Row],[QTY]]","v":0},{"$f":"Table1[[#This Row],[QTY]]*Table1[[#This Row],[School & Library Price]]","v":0}]
[null,null,34,null,null,"Current Issues","Global Viewpoints","Education","978-0-7377-5648-7",{"$f":"HYPERLINK(Table1[[#This Row],[Hyperlink]],\"Weblink\")","v":"Weblink"},"Greenhaven Publishing","Library Bound Book",1,"2012","January 2012","Library","6.000 X 9.000","Edited by","Diane Andrews Henningfeld",null,null,null,null,"Z",null,"Grade 10 - 12","Grade 9 - 12","This internationally focused volume treats readers to a look at education from several non-American viewpoints. Readers will evaluate barriers to education, education reform, education and technology, and education's relationship with religion. Cultures and places examined include the Czech Republic, Scotland, England, Thailand, Australia, Russia, Nigeria, and Pakistan. This volume can also be used for report-writing and research. Superb essay sources include the Organisation for Economic Co-operation and Development, AsiaPulse News, Amnesty International, Isaac Echezonam Anyira, Dugald Jellie, and Michael Bowker.","English",46.2,36.96,"370/​.9","248 pp.","https://greenhavenpublishing.com/978-0-7377-5648-7",{"$f":"Table1[[#This Row],['# of Books]]*Table1[[#This Row],[QTY]]","v":0},{"$f":"Table1[[#This Row],[QTY]]*Table1[[#This Row],[School & Library Price]]","v":0}]
[null,null,34,null,null,"Current Issues","Global Viewpoints","Education","978-0-7377-5649-4",{"$f":"HYPERLINK(Table1[[#This Row],[Hyperlink]],\"Weblink\")","v":"Weblink"},"Greenhaven Publishing","Paperback Book",1,"2012","January 2012","Paperback","6.000 X 9.000","Edited by","Diane Andrews Henningfeld",null,null,null,null,"Z",null,"Grade 10 - 12","Grade 9 - 12","This internationally focused volume treats readers to a look at education from several non-American viewpoints. Readers will evaluate barriers to education, education reform, education and technology, and education's relationship with religion. Cultures and places examined include the Czech Republic, Scotland, England, Thailand, Australia, Russia, Nigeria, and Pakistan. This volume can also be used for report-writing and research. Superb essay sources include the Organisation for Economic Co-operation and Development, AsiaPulse News, Amnesty International, Isaac Echezonam Anyira, Dugald Jellie, and Michael Bowker.","English",31.7,25.36,"370/​.9","248 pp.","https://greenhavenpublishing.com/978-0-7377-5649-4",{"$f":"Table1[[#This Row],['# of Books]]*Table1[[#This Row],[QTY]]","v":0},{"$f":"Table1[[#This Row],[QTY]]*Table1[[#This Row],[School & Library Price]]","v":0}]
[null,null,34,null,null,"Current Issues","Global Viewpoints","Extremism","978-0-7377-6909-8",{"$f":"HYPERLINK(Table1[[#This Row],[Hyperlink]],\"Weblink\")","v":"Weblink"},"Greenhaven Publishing","Paperback Book",1,"2014","January 2014","Paperback","6.000 X 9.000","Edited by","Noël Merino",null,null,null,null,"Z",null,"Grade 10 - 12","Grade 9 - 12","This must-have volume explores extremism around the world. Essays share details of this topic from many countries and cultures, so the viewpoints are a panorama of beliefs outside of American-centric. Readers will learn about the causes of extremism, extremism and religion, and dealing with extremism. Primary sources, including speeches and government documents, join essays from international magazines and news sources. Places explored include Tunisia, Indonesia, Africa, Egypt, Germany, Norway, Israel, Pakistan, the United Kingdom, and Europe.","English",31.7,25.36,"303.48/4","240 pp.","https://greenhavenpublishing.com/978-0-7377-6909-8",{"$f":"Table1[[#This Row],['# of Books]]*Table1[[#This Row],[QTY]]","v":0},{"$f":"Table1[[#This Row],[QTY]]*Table1[[#This Row],[School & Library Price]]","v":0}]
[null,null,34,null,null,"Current Issues","Global Viewpoints","Family Violence","978-0-7377-5651-7",{"$f":"HYPERLINK(Table1[[#This Row],[Hyperlink]],\"Weblink\")","v":"Weblink"},"Greenhaven Publishing","Paperback Book",1,"2012","January 2012","Paperback","6.000 X 9.000","Edited by","Diane Andrews Henningfeld",null,null,null,null,"Z",null,"Grade 10 - 12","Grade 9 - 12","Boys who witness domestic violence are two times as likely to abuse their own partners and children when they become adults. Abuse, whether conducted by a man or a woman, touches every family on some level. Whether a mild disagreement took a wrong turn, or a young child witness her guardians striking one another, family violence leaves a lasting, powerful imprint. This guidebook shows readers that family abuse is a global issue, by presenting several internationally sourced essays. While the U.S. receives some coverage, readers will learn about the topic of violence in places such as Ireland, Australia, Tanzania, Vietnam, Scotland, Japan, Uganda, and Pakistan. This global survey will help readers to develop their own strong, intelligent opinions. Essay sources include The Economist, General Statistics Office of Vietnam, The World Health Organization, and Weill Medical College of Cornell University.","English",31.7,25.36,"362.82/​92","248 pp.","https://greenhavenpublishing.com/978-0-7377-5651-7",{"$f":"Table1[[#This Row],['# of Books]]*Table1[[#This Row],[QTY]]","v":0},{"$f":"Table1[[#This Row],[QTY]]*Table1[[#This Row],[School & Library Price]]","v":0}]
[null,null,34,null,null,"Current Issues","Global Viewpoints","Food","978-0-7377-4723-2",{"$f":"HYPERLINK(Table1[[#This Row],[Hyperlink]],\"Weblink\")","v":"Weblink"},"Greenhaven Publishing","Library Bound Book",1,"2010","January 2010","Library","6.000 X 9.000","Edited by","Christina Fisanick",null,null,null,null,"Z",null,"Grade 10 - 12","Grade 9 - 12","This volume focuses on food around the world: its safety, scarcity, security, and significance in the world economy. Chapters address the need for international food safety standards and current efforts and vulnerabilities. Readers will evaluate the dependence on fossil fuels to produce and ship food, and learn about concerns for the world's fisheries. Threats of food shortages in Africa and Asia is analyzed, and the economic impact of free trade, fair trade, and the local food movement is explained. Essay sources include Integrated Regional Information Networks, International Water Management Institute, Maggie Airriess, Richard Heinberg, and Tang Yuankai.","English",46.2,36.96,"363.8","256 pp.","https://greenhavenpublishing.com/978-0-7377-4723-2",{"$f":"Table1[[#This Row],['# of Books]]*Table1[[#This Row],[QTY]]","v":0},{"$f":"Table1[[#This Row],[QTY]]*Table1[[#This Row],[School & Library Price]]","v":0}]
[null,null,34,null,null,"Current Issues","Global Viewpoints","Food","978-0-7377-4724-9",{"$f":"HYPERLINK(Table1[[#This Row],[Hyperlink]],\"Weblink\")","v":"Weblink"},"Greenhaven Publishing","Paperback Book",1,"2010","January 2010","Paperback","6.000 X 9.000","Edited by","Christina Fisanick",null,null,null,null,"Z",null,"Grade 10 - 12","Grade 9 - 12","This volume focuses on food around the world: its safety, scarcity, security, and significance in the world economy. Chapters address the need for international food safety standards and current efforts and vulnerabilities. Readers will evaluate the dependence on fossil fuels to produce and ship food, and learn about concerns for the world's fisheries. Threats of food shortages in Africa and Asia is analyzed, and the economic impact of free trade, fair trade, and the local food movement is explained. Essay sources include Integrated Regional Information Networks, International Water Management Institute, Maggie Airriess, Richard Heinberg, and Tang Yuankai.","English",31.7,25.36,"363.8","256 pp.","https://greenhavenpublishing.com/978-0-7377-4724-9",{"$f":"Table1[[#This Row],['# of Books]]*Table1[[#This Row],[QTY]]","v":0},{"$f":"Table1[[#This Row],[QTY]]*Table1[[#This Row],[School & Library Price]]","v":0}]
[null,null,34,null,null,"Current Issues","Global Viewpoints","Garbage and Recycling","978-0-7377-5871-9",{"$f":"HYPERLINK(Table1[[#This Row],[Hyperlink]],\"Weblink\")","v":"Weblink"},"Greenhaven Publishing","eBook",1,"2011","January 2011",null,null,"Edited by","Candice L. Mancini",null,null,null,null,"Z",null,"Grade 10 - 12","Grade 9 - 12","Editor Candice L. Mancini uses a series of thought-provoking essays to take readers across the globe, exploring international issues relating to garbage and recycling. Is E-waste dangerous in India? Is the Nile being ruined by pollution? Is Serbia doing enough to focus on their waste problems? Is Bangladesh's capital swimming in waste? How is China turning trash into art? Readers will explore these questions. They will learn whether Mexico City is running out of places to dump waste and whether the U.S. has a serious issue with plastic bags. Other cultures explored include Canada, Japan, Australia, Spain, the Philippines, and Sweden. One final treat for readers is they'll explore garbage and recycling in space.","English",50.82,40.659999999999997,"363.72/​8","232 pp.","https://greenhavenpublishing.com/978-0-7377-5871-9",{"$f":"Table1[[#This Row],['# of Books]]*Table1[[#This Row],[QTY]]","v":0},{"$f":"Table1[[#This Row],[QTY]]*Table1[[#This Row],[School & Library Price]]","v":0}]
[null,null,34,null,null,"Current Issues","Global Viewpoints","Genetic Engineering","978-0-7377-6674-5",{"$f":"HYPERLINK(Table1[[#This Row],[Hyperlink]],\"Weblink\")","v":"Weblink"},"Greenhaven Publishing","eBook",1,"2013","January 2013",null,null,"Edited by","Noah Berlatsky",null,null,null,null,"Z",null,"Grade 10 - 12","Grade 9 - 12","This globe-trekking volume explores issues related to genetic engineering in various cultures, including India, Canada, China, Japan, Kenya, Australia, Malaysia, Ireland, and America. Across four chapters of essays, readers will evaluate genetic engineering and its relationship to crops, disease, animals, and humans. Superb essay sources include the Consumers Association of Penang, The Economist, Oxford Journals, and the International Coalition for Animal Welfare.","English",50.82,40.659999999999997,"660.6/​5","232 pp.","https://greenhavenpublishing.com/978-0-7377-6674-5",{"$f":"Table1[[#This Row],['# of Books]]*Table1[[#This Row],[QTY]]","v":0},{"$f":"Table1[[#This Row],[QTY]]*Table1[[#This Row],[School & Library Price]]","v":0}]
[null,null,34,null,null,"Current Issues","Global Viewpoints","Genocide","978-0-7377-6612-7",{"$f":"HYPERLINK(Table1[[#This Row],[Hyperlink]],\"Weblink\")","v":"Weblink"},"Greenhaven Publishing","eBook",1,"2012","January 2012",null,null,"Edited by","Margaret Haerens",null,null,null,null,"Z",null,"Grade 10 - 12","Grade 9 - 12","Genocide is the intentional destruction of a national, racial, religious, or ethnic group, whether in wartime or peace. In 1948, the United Nations adopted the Convention on the Prevention and Punishment of Genocide, and yet this crime is still prolifically conducted by various regimes. Articles and essays included in this must-have volume explore issues related to recognizing, analyzing, and defining global genocide. Topics covered include differing international views of what constitutes genocide. Readers will learn about contemporary examples of genocide from countries such as the Congo, Sri Lanka, North Korea, and the Sudan. Expert sources help readers to understand the means of preventing and prosecuting genocide. Readers will also analyze the legacy of genocide.","English",50.82,40.659999999999997,"364.15/​1","224 pp.","https://greenhavenpublishing.com/978-0-7377-6612-7",{"$f":"Table1[[#This Row],['# of Books]]*Table1[[#This Row],[QTY]]","v":0},{"$f":"Table1[[#This Row],[QTY]]*Table1[[#This Row],[School & Library Price]]","v":0}]
[null,null,35,null,null,"Current Issues","Global Viewpoints","The Global Financial Crisis","978-0-7377-4725-6",{"$f":"HYPERLINK(Table1[[#This Row],[Hyperlink]],\"Weblink\")","v":"Weblink"},"Greenhaven Publishing","Library Bound Book",1,"2010","January 2010","Library","6.000 X 9.000","Edited by","Noah Berlatsky",null,null,null,null,"Z",null,"Grade 10 - 12","Grade 9 - 12","This book explores possible causes of the global economic crisis, including lack of banking regulation, greed of financial institutions, decisions of the Federal Reserve, and the abandonment of the gold standard. Examines the differing impacts of the crisis on wealthy nations and developing nations, and why some nations are weathering the crisis better than others. Discusses potential solutions to the crisis, such as regulatory reform and lowering restrictions on trade.","English",46.2,36.96,"330.9","264 pp.","https://greenhavenpublishing.com/978-0-7377-4725-6",{"$f":"Table1[[#This Row],['# of Books]]*Table1[[#This Row],[QTY]]","v":0},{"$f":"Table1[[#This Row],[QTY]]*Table1[[#This Row],[School & Library Price]]","v":0}]
[null,null,35,null,null,"Current Issues","Global Viewpoints","Health Care","978-0-7377-5654-8",{"$f":"HYPERLINK(Table1[[#This Row],[Hyperlink]],\"Weblink\")","v":"Weblink"},"Greenhaven Publishing","Library Bound Book",1,"2012","January 2012","Library","6.000 X 9.000","Edited by","Noël Merino",null,null,null,null,"Z",null,"Grade 10 - 12","Grade 9 - 12","This edition discusses international health care topics. It presents a collection of several intelligent essays that explore how health care quality and access to health care services vary from country to country, including the United States, France, Cuba, and Germany. Readers will evaluate the costs of health care, and how diseases challenge health care globally.","English",46.2,36.96,"362.1","232 pp.","https://greenhavenpublishing.com/978-0-7377-5654-8",{"$f":"Table1[[#This Row],['# of Books]]*Table1[[#This Row],[QTY]]","v":0},{"$f":"Table1[[#This Row],[QTY]]*Table1[[#This Row],[School & Library Price]]","v":0}]
[null,null,35,null,null,"Current Issues","Global Viewpoints","Homosexuality","978-0-7377-5191-8",{"$f":"HYPERLINK(Table1[[#This Row],[Hyperlink]],\"Weblink\")","v":"Weblink"},"Greenhaven Publishing","Library Bound Book",1,"2011","January 2011","Library","6.000 X 9.000","Edited by","Noah Berlatsky",null,null,null,null,"Z",null,"Grade 10 - 12","Grade 9 - 12","This must-have anthology delivers contemporary perspectives on homosexuality, with the majority of the material reflecting stances of countries other than the United States. Primary sources, including speeches and government documents, join essays from international magazines and news sources for a truly panoramic view. Across four chapters, readers will evaluate homosexuality and its relationship to religion, attitudes, the law, and the family. Helpful features include an annotated table of contents, a world map and country index, a bibliography and a subject index.","English",46.2,36.96,"306.766","224 pp.","https://greenhavenpublishing.com/978-0-7377-5191-8",{"$f":"Table1[[#This Row],['# of Books]]*Table1[[#This Row],[QTY]]","v":0},{"$f":"Table1[[#This Row],[QTY]]*Table1[[#This Row],[School & Library Price]]","v":0}]
[null,null,35,null,null,"Current Issues","Global Viewpoints","Human Rights","978-0-7377-5194-9",{"$f":"HYPERLINK(Table1[[#This Row],[Hyperlink]],\"Weblink\")","v":"Weblink"},"Greenhaven Publishing","Paperback Book",1,"2011","January 2011","Paperback","6.000 X 9.000","Edited by","Margaret Haerens",null,null,null,null,"Z",null,"Grade 10 - 12","Grade 9 - 12","As technology makes the world more accessible, it is increasingly important to develop a wide perspective on crucial issues of global significance. This essential volume takes a look at human rights throughout the world. Readers will evaluate whether certain countries or cultures are falling short on human rights, including the European Unions, Bangladesh, Tibet, Israel, America, and China. They will read about whether certain policies are effective or failing in places like Britain, Myanmar, Turkmenistan, Uzbekistan, and Korea. Treatment of women and children is also explored in places such as Haiti and Saudi Arabia.","English",31.7,25.36,"323","248 pp.","https://greenhavenpublishing.com/978-0-7377-5194-9",{"$f":"Table1[[#This Row],['# of Books]]*Table1[[#This Row],[QTY]]","v":0},{"$f":"Table1[[#This Row],[QTY]]*Table1[[#This Row],[School & Library Price]]","v":0}]
[null,null,35,null,null,"Current Issues","Global Viewpoints","Human Rights","978-0-7377-6025-5",{"$f":"HYPERLINK(Table1[[#This Row],[Hyperlink]],\"Weblink\")","v":"Weblink"},"Greenhaven Publishing","eBook",1,"2011","January 2011",null,null,"Edited by","Margaret Haerens",null,null,null,null,"Z",null,"Grade 10 - 12","Grade 9 - 12","As technology makes the world more accessible, it is increasingly important to develop a wide perspective on crucial issues of global significance. This essential volume takes a look at human rights throughout the world. Readers will evaluate whether certain countries or cultures are falling short on human rights, including the European Unions, Bangladesh, Tibet, Israel, America, and China. They will read about whether certain policies are effective or failing in places like Britain, Myanmar, Turkmenistan, Uzbekistan, and Korea. Treatment of women and children is also explored in places such as Haiti and Saudi Arabia.","English",50.82,40.659999999999997,"323","248 pp.","https://greenhavenpublishing.com/978-0-7377-6025-5",{"$f":"Table1[[#This Row],['# of Books]]*Table1[[#This Row],[QTY]]","v":0},{"$f":"Table1[[#This Row],[QTY]]*Table1[[#This Row],[School & Library Price]]","v":0}]
[null,null,35,null,null,"Current Issues","Global Viewpoints","Imprisonment","978-0-7377-4718-8",{"$f":"HYPERLINK(Table1[[#This Row],[Hyperlink]],\"Weblink\")","v":"Weblink"},"Greenhaven Publishing","Paperback Book",1,"2010","January 2010","Paperback","6.000 X 9.000","Edited by","Noah Berlatsky",null,null,null,null,"Z",null,"Grade 10 - 12","Grade 9 - 12","This book explores the main purposes of imprisonment around the world, including punishment, deterrence, rehabilitation, and public safety. It looks at the role of sentencing: Do life sentences violate human rights? How are juvenile offenders treated? Are mandatory sentences effective? Readers will examine the treatment of prisoners and prison conditions like overcrowding, gang activity, sexual abuse and disease, as well as the unique plight of political and religious prisoners. Essay sources include the Council of Europe, Catholic Bishops of New Zealand, House of Commons Home Affairs Committee, Just Detention International, and Human Rights Watch.","English",31.7,25.36,"365","240 pp.","https://greenhavenpublishing.com/978-0-7377-4718-8",{"$f":"Table1[[#This Row],['# of Books]]*Table1[[#This Row],[QTY]]","v":0},{"$f":"Table1[[#This Row],[QTY]]*Table1[[#This Row],[School & Library Price]]","v":0}]
[null,null,35,null,null,"Current Issues","Global Viewpoints","The Internet","978-0-7377-4935-9",{"$f":"HYPERLINK(Table1[[#This Row],[Hyperlink]],\"Weblink\")","v":"Weblink"},"Greenhaven Publishing","Library Bound Book",1,"2010","January 2010","Library","6.000 X 9.000","Edited by","Gary Wiener",null,null,null,null,"Z",null,"Grade 10 - 12","Grade 9 - 12","Give your readers a truly global perspective about the Internet. Essays from international sources offer a panoramic view. Readers will take a look at the Internet in China, Bangladesh, Africa, Canada, Iran, England, Japan, Cuba, Europe, Australia, and Russia. They will evaluate the kind of tool it is, what it can be used for, and what it shouldn't. They will also learn about cyberwar.","English",46.2,36.96,"303.48/​33","272 pp.","https://greenhavenpublishing.com/978-0-7377-4935-9",{"$f":"Table1[[#This Row],['# of Books]]*Table1[[#This Row],[QTY]]","v":0},{"$f":"Table1[[#This Row],[QTY]]*Table1[[#This Row],[School & Library Price]]","v":0}]
[null,null,35,null,null,"Current Issues","Global Viewpoints","Marriage","978-0-7377-4160-5",{"$f":"HYPERLINK(Table1[[#This Row],[Hyperlink]],\"Weblink\")","v":"Weblink"},"Greenhaven Publishing","Library Bound Book",1,"2009","January 2009","Library","6.000 X 9.000","Edited by","Alicia Cafferty Lerner",null,null,null,null,"Z",null,"Grade 10 - 12","Grade 9 - 12","The several essays compiled by editor Alicia Cafferty Lerner will help your readers develop a world view about marriage. This book provides analysis on the institution of marriage in different global locations, cultures, and social climates. One chapter covers human rights abuses, with a look into such cultures as Niger, Malawi, India, and Germany. Another chapter explains arranged, child, and polygamy marriages, with cultural coverage including Australia, Bangladesh, and Kenya. Same-sex marriages are explored across Canada, South Africa, Aruba, and America. Marriage in relation to money and sex is also explored, taking a look at such places as Ireland, Pakistan, Japan, and Uganda.","English",46.2,36.96,"306.8109","224 pp.","https://greenhavenpublishing.com/978-0-7377-4160-5",{"$f":"Table1[[#This Row],['# of Books]]*Table1[[#This Row],[QTY]]","v":0},{"$f":"Table1[[#This Row],[QTY]]*Table1[[#This Row],[School & Library Price]]","v":0}]
[null,null,35,null,null,"Current Issues","Global Viewpoints","Marriage","978-0-7377-4161-2",{"$f":"HYPERLINK(Table1[[#This Row],[Hyperlink]],\"Weblink\")","v":"Weblink"},"Greenhaven Publishing","Paperback Book",1,"2009","January 2009","Paperback","6.000 X 9.000","Edited by","Alicia Cafferty Lerner",null,null,null,null,"Z",null,"Grade 10 - 12","Grade 9 - 12","The several essays compiled by editor Alicia Cafferty Lerner will help your readers develop a world view about marriage. This book provides analysis on the institution of marriage in different global locations, cultures, and social climates. One chapter covers human rights abuses, with a look into such cultures as Niger, Malawi, India, and Germany. Another chapter explains arranged, child, and polygamy marriages, with cultural coverage including Australia, Bangladesh, and Kenya. Same-sex marriages are explored across Canada, South Africa, Aruba, and America. Marriage in relation to money and sex is also explored, taking a look at such places as Ireland, Pakistan, Japan, and Uganda.","English",31.7,25.36,"306.8109","224 pp.","https://greenhavenpublishing.com/978-0-7377-4161-2",{"$f":"Table1[[#This Row],['# of Books]]*Table1[[#This Row],[QTY]]","v":0},{"$f":"Table1[[#This Row],[QTY]]*Table1[[#This Row],[School & Library Price]]","v":0}]
[null,null,35,null,null,"Current Issues","Global Viewpoints","Mental Illness","978-0-7377-6444-4",{"$f":"HYPERLINK(Table1[[#This Row],[Hyperlink]],\"Weblink\")","v":"Weblink"},"Greenhaven Publishing","Paperback Book",1,"2013","January 2013","Paperback","6.000 X 9.000","Edited by","Noah Berlatsky",null,null,null,null,"Z",null,"Grade 10 - 12","Grade 9 - 12","This book explores mental illness and its relationships to trauma, human rights, substance abuse, and treatment. Primary sources and essays from international magazines and news sources offer a truly panoramic view. Essay sources include Human Rights Watch, Canadian Mental Health Association, Alcohol Action Ireland, and The Daily Mirror. Helpful features include an annotated table of contents, a world map and country index, bibliography, and subject index.","English",31.7,25.36,"616.89","256 pp.","https://greenhavenpublishing.com/978-0-7377-6444-4",{"$f":"Table1[[#This Row],['# of Books]]*Table1[[#This Row],[QTY]]","v":0},{"$f":"Table1[[#This Row],[QTY]]*Table1[[#This Row],[School & Library Price]]","v":0}]
[null,null,35,null,null,"Current Issues","Global Viewpoints","Mixed Marriage","978-0-7377-6442-0",{"$f":"HYPERLINK(Table1[[#This Row],[Hyperlink]],\"Weblink\")","v":"Weblink"},"Greenhaven Publishing","Paperback Book",1,"2014","January 2014","Paperback","6.000 X 9.000","Edited by","Margaret Haerens",null,null,null,null,"Z",null,"Grade 10 - 12","Grade 9 - 12","This essential volume examines the institution of mixed marriages in different global locations, cultures, and social climates. Readers will explore the trends of mixed marriage, the factors that influence the prevalence of mixed marriage, barriers to mixed marriage, and some consequences of mixed marriage. Essays cycle through several world locations, exposing readers to culturally based issues or stories of mixed marriage. England, Canada, Malaysia, Japan, Ireland, India, Bosnia, Serbia, Russia, and United Arab Emirates are just a few of the locations that essays explore.","English",31.7,25.36,"306.84/6","232 pp.","https://greenhavenpublishing.com/978-0-7377-6442-0",{"$f":"Table1[[#This Row],['# of Books]]*Table1[[#This Row],[QTY]]","v":0},{"$f":"Table1[[#This Row],[QTY]]*Table1[[#This Row],[School & Library Price]]","v":0}]
[null,null,35,null,null,"Current Issues","Global Viewpoints","Oil","978-0-7377-4719-5",{"$f":"HYPERLINK(Table1[[#This Row],[Hyperlink]],\"Weblink\")","v":"Weblink"},"Greenhaven Publishing","Library Bound Book",1,"2010","January 2010","Library","6.000 X 9.000","Edited by","Margaret Haerens",null,null,null,null,"Z",null,"Grade 10 - 12","Grade 9 - 12","This volume focuses on the global oil outlook, offering perspectives from a diverse range of international sources. Readers will explore the impact of oil supplies and pricing on individual countries like Germany and Venezuela. This book examines oil's impact on the environment with examples from China, Japan, and Canada. Readers will explore the relationship between global politics and oil, including countries in Africa and the Middle East, and the benefits and pitfalls of drilling for new oil reserves.","English",46.2,36.96,"333.8/232","224 pp.","https://greenhavenpublishing.com/978-0-7377-4719-5",{"$f":"Table1[[#This Row],['# of Books]]*Table1[[#This Row],[QTY]]","v":0},{"$f":"Table1[[#This Row],[QTY]]*Table1[[#This Row],[School & Library Price]]","v":0}]
[null,null,35,null,null,"Current Issues","Global Viewpoints","Oil","978-0-7377-4720-1",{"$f":"HYPERLINK(Table1[[#This Row],[Hyperlink]],\"Weblink\")","v":"Weblink"},"Greenhaven Publishing","Paperback Book",1,"2010","January 2010","Paperback","6.000 X 9.000","Edited by","Margaret Haerens",null,null,null,null,"Z",null,"Grade 10 - 12","Grade 9 - 12","This volume focuses on the global oil outlook, offering perspectives from a diverse range of international sources. Readers will explore the impact of oil supplies and pricing on individual countries like Germany and Venezuela. This book examines oil's impact on the environment with examples from China, Japan, and Canada. Readers will explore the relationship between global politics and oil, including countries in Africa and the Middle East, and the benefits and pitfalls of drilling for new oil reserves.","English",31.7,25.36,"333.8/232","224 pp.","https://greenhavenpublishing.com/978-0-7377-4720-1",{"$f":"Table1[[#This Row],['# of Books]]*Table1[[#This Row],[QTY]]","v":0},{"$f":"Table1[[#This Row],[QTY]]*Table1[[#This Row],[School & Library Price]]","v":0}]
[null,null,35,null,null,"Current Issues","Global Viewpoints","Popular Culture","978-0-7377-5119-2",{"$f":"HYPERLINK(Table1[[#This Row],[Hyperlink]],\"Weblink\")","v":"Weblink"},"Greenhaven Publishing","Paperback Book",1,"2011","January 2011","Paperback","6.000 X 9.000","Edited by","Noah Berlatsky",null,null,null,null,"Z",null,"Grade 10 - 12","Grade 9 - 12","This edition delivers contemporary perspectives on popular culture, with the majority of the material reflecting stances of countries other than the United States. Readers are offered a truly panoramic view. Essays are arranged in a thoughtful sequence that guides readers through several sides to each topic covered. Does television create obesity? Should manga depicting child pornography illegal? Could China benefit from stronger intellectual property laws? Essays answer these and other questions about pop culture. Helpful features include an annotated table of contents, a world map and country index, a bibliography, and subject index.","English",31.7,25.36,"306","224 pp.","https://greenhavenpublishing.com/978-0-7377-5119-2",{"$f":"Table1[[#This Row],['# of Books]]*Table1[[#This Row],[QTY]]","v":0},{"$f":"Table1[[#This Row],[QTY]]*Table1[[#This Row],[School & Library Price]]","v":0}]
[null,null,35,null,null,"Current Issues","Global Viewpoints","Poverty","978-0-7377-6567-0",{"$f":"HYPERLINK(Table1[[#This Row],[Hyperlink]],\"Weblink\")","v":"Weblink"},"Greenhaven Publishing","eBook",1,"2012","January 2012",null,null,"Edited by","Noël Merino",null,null,null,null,"Z",null,"Grade 10 - 12","Grade 9 - 12","Articles included in volume explore the issue of poverty around the world, as well as the impact of the global recession on poverty-related issues. Topics covered include poverty's rise and decline in specific countries, such as China, South Asia, Latin America, and the United States. Readers will explore the causes of poverty around the world, and the efforts to end poverty, from foreign aid to rapid growth.","English",50.82,40.659999999999997,"339.4/​6","256 pp.","https://greenhavenpublishing.com/978-0-7377-6567-0",{"$f":"Table1[[#This Row],['# of Books]]*Table1[[#This Row],[QTY]]","v":0},{"$f":"Table1[[#This Row],[QTY]]*Table1[[#This Row],[School & Library Price]]","v":0}]
[null,null,35,null,null,"Current Issues","Global Viewpoints","Religion","978-0-7377-4722-5",{"$f":"HYPERLINK(Table1[[#This Row],[Hyperlink]],\"Weblink\")","v":"Weblink"},"Greenhaven Publishing","Paperback Book",1,"2010","January 2010","Paperback","6.000 X 9.000","Edited by","Diane Andrews Henningfeld",null,null,null,null,"Z","1340L","Grade 10 - 12","Grade 9 - 12","This must-have volume explores current trends in religion around the world, such as the spread of Pentecostal Christianity, a religious revival in China, growth of Buddhism in New Zealand, and U.S. efforts toward Jewish-Muslim understanding. Readers will learn about religion in relation to science, education, and politics. This book also discusses violence and religious practice, including China's oppression of Tibetan Buddhists, and religious strife in Northern Ireland. Stirring essays sources include His Holiness the 14th Dalai Lama, the World Council of Churches, Christian Conference of Asia, and South Asian Councils of Churches.","English",31.7,25.36,"200.9","248 pp.","https://greenhavenpublishing.com/978-0-7377-4722-5",{"$f":"Table1[[#This Row],['# of Books]]*Table1[[#This Row],[QTY]]","v":0},{"$f":"Table1[[#This Row],[QTY]]*Table1[[#This Row],[School & Library Price]]","v":0}]
[null,null,35,null,null,"Current Issues","Global Viewpoints","Religion","978-0-7377-5126-0",{"$f":"HYPERLINK(Table1[[#This Row],[Hyperlink]],\"Weblink\")","v":"Weblink"},"Greenhaven Publishing","eBook",1,"2010","January 2010",null,null,"Edited by","Diane Andrews Henningfeld",null,null,null,null,"Z","1340L","Grade 10 - 12","Grade 9 - 12","This must-have volume explores current trends in religion around the world, such as the spread of Pentecostal Christianity, a religious revival in China, growth of Buddhism in New Zealand, and U.S. efforts toward Jewish-Muslim understanding. Readers will learn about religion in relation to science, education, and politics. This book also discusses violence and religious practice, including China's oppression of Tibetan Buddhists, and religious strife in Northern Ireland. Stirring essays sources include His Holiness the 14th Dalai Lama, the World Council of Churches, Christian Conference of Asia, and South Asian Councils of Churches.","English",50.82,40.659999999999997,"200.9","248 pp.","https://greenhavenpublishing.com/978-0-7377-5126-0",{"$f":"Table1[[#This Row],['# of Books]]*Table1[[#This Row],[QTY]]","v":0},{"$f":"Table1[[#This Row],[QTY]]*Table1[[#This Row],[School & Library Price]]","v":0}]
[null,null,35,null,null,"Current Issues","Global Viewpoints","Slavery","978-0-7377-4473-6",{"$f":"HYPERLINK(Table1[[#This Row],[Hyperlink]],\"Weblink\")","v":"Weblink"},"Greenhaven Publishing","Paperback Book",1,"2009","January 2009","Paperback","6.000 X 9.000","Edited by","Maria Tenaglia-Webster",null,null,null,null,"Z",null,"Grade 10 - 12","Grade 9 - 12","As technology makes the world more accessible, it is increasingly important to develop a wide perspective on social issues as well as political, environmental, and health issues of global significance. This book provides a truly global perspective on the topic of slavery. Primary sources, including speeches and government documents, join essays from international sources to offer a truly panoramic view. Readers will examine the legacy of slavery, what it is like in modern times, the global problem of sex slavery, and the unfortunate but very real existence of child slavery. Essay sources include the U.S. Department of State and the Integrated Regional Information Network. Essayists include Deep Kisor Datta-Ray, Norimitsu Onishi, Barbara Gunnell, Rosemary Regello, and C. Nana Derby.","English",31.7,25.36,"306.3/​62","232 pp.","https://greenhavenpublishing.com/978-0-7377-4473-6",{"$f":"Table1[[#This Row],['# of Books]]*Table1[[#This Row],[QTY]]","v":0},{"$f":"Table1[[#This Row],[QTY]]*Table1[[#This Row],[School & Library Price]]","v":0}]
[null,null,35,null,null,"Current Issues","Global Viewpoints","Social Networking","978-0-7377-6270-9",{"$f":"HYPERLINK(Table1[[#This Row],[Hyperlink]],\"Weblink\")","v":"Weblink"},"Greenhaven Publishing","Library Bound Book",1,"2013","January 2013","Library","6.000 X 9.000","Edited by","Noah Berlatsky",null,null,null,null,"Z",null,"Grade 10 - 12","Grade 9 - 12","This book explores the popularity and use of social networking worldwide, which for twenty-first century standards, is essential to understand. Readers will evaluate how social networking is used in different cultures, and whether social networking has an impact on democratic movements and what that impact may be. They will explore social networking and access to information/censorship. Primary sources, including speeches and government documents, join essays from international sources for a truly panoramic view. Helpful features include an annotated table of contents, a world map and country index, a bibliography, and a subject index.","English",46.2,36.96,"302.3","184 pp.","https://greenhavenpublishing.com/978-0-7377-6270-9",{"$f":"Table1[[#This Row],['# of Books]]*Table1[[#This Row],[QTY]]","v":0},{"$f":"Table1[[#This Row],[QTY]]*Table1[[#This Row],[School & Library Price]]","v":0}]
[null,null,35,null,null,"Current Issues","Global Viewpoints","Suicide","978-0-7377-5665-4",{"$f":"HYPERLINK(Table1[[#This Row],[Hyperlink]],\"Weblink\")","v":"Weblink"},"Greenhaven Publishing","Paperback Book",1,"2012","January 2012","Paperback","6.000 X 9.000","Edited by","Margaret Haerens",null,null,null,null,"Z",null,"Grade 10 - 12","Grade 9 - 12","As technology makes the world more accessible, it is increasingly important to develop a wide perspective on social issues as well as political, environmental, and health issues of global significance. This must-have volume tackles the tough issue of suicide. Readers will learn about global suicide trends, policies that address suicide, and consider the political, social, and economic factors that contribute to suicide. The last chapter discusses suicide as an act of terrorism. Primary sources, including speeches and government documents, join essays from international sources for a truly panoramic view.","English",31.7,25.36,"362.28","232 pp.","https://greenhavenpublishing.com/978-0-7377-5665-4",{"$f":"Table1[[#This Row],['# of Books]]*Table1[[#This Row],[QTY]]","v":0},{"$f":"Table1[[#This Row],[QTY]]*Table1[[#This Row],[School & Library Price]]","v":0}]
[null,null,35,null,null,"Current Issues","Global Viewpoints","Suicide","978-0-7377-6123-8",{"$f":"HYPERLINK(Table1[[#This Row],[Hyperlink]],\"Weblink\")","v":"Weblink"},"Greenhaven Publishing","eBook",1,"2012","January 2012",null,null,"Edited by","Margaret Haerens",null,null,null,null,"Z",null,"Grade 10 - 12","Grade 9 - 12","As technology makes the world more accessible, it is increasingly important to develop a wide perspective on social issues as well as political, environmental, and health issues of global significance. This must-have volume tackles the tough issue of suicide. Readers will learn about global suicide trends, policies that address suicide, and consider the political, social, and economic factors that contribute to suicide. The last chapter discusses suicide as an act of terrorism. Primary sources, including speeches and government documents, join essays from international sources for a truly panoramic view.","English",50.82,40.659999999999997,"362.28","232 pp.","https://greenhavenpublishing.com/978-0-7377-6123-8",{"$f":"Table1[[#This Row],['# of Books]]*Table1[[#This Row],[QTY]]","v":0},{"$f":"Table1[[#This Row],[QTY]]*Table1[[#This Row],[School & Library Price]]","v":0}]
[null,null,35,null,null,"Current Issues","Global Viewpoints","The War in Iraq","978-0-7377-4163-6",{"$f":"HYPERLINK(Table1[[#This Row],[Hyperlink]],\"Weblink\")","v":"Weblink"},"Greenhaven Publishing","Paperback Book",1,"2009","January 2009","Paperback","6.000 X 9.000","Edited by","Tom Lansford",null,null,null,null,"Z",null,"Grade 10 - 12","Grade 9 - 12","This volume doesn't delve exclusively into the American view of Iraq, rather, it provides a variety of international perspectives surrounding the War in Iraq. Primary sources, including speeches and government documents, join essays from international magazines and news sources for a truly panoramic view. Four chapters cover the Iraq War in relation to international relations, the Arab-Israeli conflict, international terrorism, and democracy.","English",31.7,25.36,"956.7044/​3","248 pp.","https://greenhavenpublishing.com/978-0-7377-4163-6",{"$f":"Table1[[#This Row],['# of Books]]*Table1[[#This Row],[QTY]]","v":0},{"$f":"Table1[[#This Row],[QTY]]*Table1[[#This Row],[School & Library Price]]","v":0}]
[null,null,35,null,null,"Current Issues","Global Viewpoints","Water","978-0-7377-5666-1",{"$f":"HYPERLINK(Table1[[#This Row],[Hyperlink]],\"Weblink\")","v":"Weblink"},"Greenhaven Publishing","Library Bound Book",1,"2012","January 2012","Library","6.000 X 9.000","Edited by","Noah Berlatsky",null,null,null,null,"Z",null,"Grade 10 - 12","Grade 9 - 12","This striking volume delivers contemporary perspectives on water as a resource, with the majority of the material reflecting stances of countries other than the United States. Essays are assembled across four chapters that explain the state of our oceans, how we are managing water scarcity, how various cultures are trying to access safe water, and hydropower. Contributors include the HM Government, Department of Energy and Climate Change, The Economist, Integrated Regional Information Networks News, Zhou Jigang, Peng Guangcan, Kieran R. Hickey, and Mae-Wan Ho.","English",46.2,36.96,"363.6/​1","224 pp.","https://greenhavenpublishing.com/978-0-7377-5666-1",{"$f":"Table1[[#This Row],['# of Books]]*Table1[[#This Row],[QTY]]","v":0},{"$f":"Table1[[#This Row],[QTY]]*Table1[[#This Row],[School & Library Price]]","v":0}]
[null,null,35,null,null,"Current Issues","Global Viewpoints","Women's Rights","978-0-7377-5342-4",{"$f":"HYPERLINK(Table1[[#This Row],[Hyperlink]],\"Weblink\")","v":"Weblink"},"Greenhaven Publishing","eBook",1,"2010","January 2010",null,null,"Edited by","Louise Hawker",null,null,null,null,"Z",null,"Grade 10 - 12","Grade 9 - 12","This volume focuses on the global fight for women's rights, offering perspectives from a diverse range of international sources. Essays explore women's legal rights and access to the political process, and women's reproductive rights, with examples from Indonesia, Denmark, Peru, Iran, and China. Readers will examine religion and women's social rights, and current economic issues and opportunities for women in India, Cameroon, Russia, South Africa, and Thailand.","English",50.82,40.659999999999997,"305.42","216 pp.","https://greenhavenpublishing.com/978-0-7377-5342-4",{"$f":"Table1[[#This Row],['# of Books]]*Table1[[#This Row],[QTY]]","v":0},{"$f":"Table1[[#This Row],[QTY]]*Table1[[#This Row],[School & Library Price]]","v":0}]
[null,null,35,null,null,"Current Issues","Global Viewpoints","Workers' Rights","978-0-7377-5669-2",{"$f":"HYPERLINK(Table1[[#This Row],[Hyperlink]],\"Weblink\")","v":"Weblink"},"Greenhaven Publishing","Paperback Book",1,"2012","January 2012","Paperback","6.000 X 9.000","Edited by","Noah Berlatsky",null,null,null,null,"Z",null,"Grade 10 - 12","Grade 9 - 12","Editor Noah Berlatsky has compiled several compelling essays relating to workers' rights. Readers will examine labor regulations worldwide, in countries such as Brazil, India, Greece, and the United States. Topics covered include unions and collective bargaining, issues related to workplace discrimination in selected countries and regions such as Asia and Nigeria, and the use of migrant and slave labor.","English",31.7,25.36,"331.01/​1","240 pp.","https://greenhavenpublishing.com/978-0-7377-5669-2",{"$f":"Table1[[#This Row],['# of Books]]*Table1[[#This Row],[QTY]]","v":0},{"$f":"Table1[[#This Row],[QTY]]*Table1[[#This Row],[School & Library Price]]","v":0}]
[null,null,36,null,null,"Current Issues","Confronting Global Warming","Energy Production and Alternative Energy","978-0-7377-5473-5",{"$f":"HYPERLINK(Table1[[#This Row],[Hyperlink]],\"Weblink\")","v":"Weblink"},"Greenhaven Publishing","eBook",1,"2011","January 2011",null,null,"Author","Debra A. Miller",null,null,null,null,"Z",null,"Grade 10 - 12","Grade 10 - 12","This essential volume helps readers explore in detail the range of current and impending challenges that energy production and resources face as a result of global warming. Readers will examine these issues from a variety of expert perspectives, highlighting key future challenges, and addressing the pros and cons of potential solutions. After a thorough introduction on energy and global warming, our reliance on fossils fuels is explained. Fascinating topics such as reinventing transportation energy and achieving a clean-energy economy are richly explored.","English",48.73,38.979999999999997,"333.79/​4","136 pp.","https://greenhavenpublishing.com/978-0-7377-5473-5",{"$f":"Table1[[#This Row],['# of Books]]*Table1[[#This Row],[QTY]]","v":0},{"$f":"Table1[[#This Row],[QTY]]*Table1[[#This Row],[School & Library Price]]","v":0}]
[null,null,36,null,null,"Current Issues","Confronting Global Warming","Health and Disease","978-0-7377-4858-1",{"$f":"HYPERLINK(Table1[[#This Row],[Hyperlink]],\"Weblink\")","v":"Weblink"},"Greenhaven Publishing","Library Bound Book",1,"2011","January 2011","Library","6.000 X 9.000","Author","Diane Andrews Henningfeld",null,null,null,null,"Z",null,"Grade 10 - 12","Grade 10 - 12","This essential and fascinating book explores the effects of global warming on human health. Readers will study the impacts of extreme cold snaps, and issues arising from aridity. They will evaluate the health dangers posed by hurricanes and floods. They will learn about diminished air capacity from smog, pollution, the ozone, and aero-allergens. This book also compellingly presents details about global warming and infectious disease, plus food security and food safety.","English",44.3,35.44,"363.738/​74","144 pp.","https://greenhavenpublishing.com/978-0-7377-4858-1",{"$f":"Table1[[#This Row],['# of Books]]*Table1[[#This Row],[QTY]]","v":0},{"$f":"Table1[[#This Row],[QTY]]*Table1[[#This Row],[School & Library Price]]","v":0}]
[null,null,36,null,null,"Current Issues","Confronting Global Warming","Population, Resources, and Conflict","978-0-7377-5476-6",{"$f":"HYPERLINK(Table1[[#This Row],[Hyperlink]],\"Weblink\")","v":"Weblink"},"Greenhaven Publishing","eBook",1,"2011","January 2011",null,null,"Author, Consultant editor","Jacqueline Langwith, Michael E. Mann",null,null,null,null,"Z",null,"Grade 10 - 12","Grade 10 - 12","Compelling essays, informative sidebars, and detailed maps help readers to explore the range of current and impending challenges that the planet faces as a result of global warming. Readers will explore population, resources, and conflict from a variety of expert perspectives. Readers will study the link between population dynamics and resources. They will assess the population's impact on climate change. Vulnerable populations are explained. The last chapter conveys the essential goal, which is how we should reduce the harmful human imprint on the natural world.","English",48.73,38.979999999999997,"363.738/​74","136 pp.","https://greenhavenpublishing.com/978-0-7377-5476-6",{"$f":"Table1[[#This Row],['# of Books]]*Table1[[#This Row],[QTY]]","v":0},{"$f":"Table1[[#This Row],[QTY]]*Table1[[#This Row],[School & Library Price]]","v":0}]
[null,null,36,null,null,"Current Issues","Confronting Global Warming","The Role of Industry","978-0-7377-5176-5",{"$f":"HYPERLINK(Table1[[#This Row],[Hyperlink]],\"Weblink\")","v":"Weblink"},"Greenhaven Publishing","Library Bound Book",1,"2011","January 2011","Library","6.000 X 9.000","Author","Tom Streissguth",null,null,null,null,"Z",null,"Grade 10 - 12","Grade 10 - 12","Help your readers understand and confront the role of big industry in global warming. This volume expertly discusses the effects of emissions on the climate. Readers will learn about the Montreal and Kyoto Protocols. They will analyze the future of coal and nuclear alternatives. Carbon trading is explained. Readers will appreciate the discussion on Green Industry as well. Author Tom Streissguth has consulted the works of leading experts in the field to present accurate, unbiased information and to explore all sides.","English",44.3,35.44,"363.738/​741","168 pp.","https://greenhavenpublishing.com/978-0-7377-5176-5",{"$f":"Table1[[#This Row],['# of Books]]*Table1[[#This Row],[QTY]]","v":0},{"$f":"Table1[[#This Row],[QTY]]*Table1[[#This Row],[School & Library Price]]","v":0}]
[null,null,36,null,null,"Current Issues","Confronting Global Warming","Water and Ice","978-0-7377-4861-1",{"$f":"HYPERLINK(Table1[[#This Row],[Hyperlink]],\"Weblink\")","v":"Weblink"},"Greenhaven Publishing","Library Bound Book",1,"2011","January 2011","Library","6.000 X 9.000","Author","Noah Berlatsky",null,null,null,null,"Z",null,"Grade 10 - 12","Grade 10 - 12","Author Noah Berlatsky confronts the issue of water and ice in relation to challenges facing our planet. He examines these issues from a variety of expert perspectives, highlights key future challenges, and addresses the pros and cons of potential solutions. Readers will understand the relevance of rising sea levels, the interplay of rainfall, hurricanes, and drought, and become well informed about the water supply.","English",44.3,35.44,"551.45/​8","128 pp.","https://greenhavenpublishing.com/978-0-7377-4861-1",{"$f":"Table1[[#This Row],['# of Books]]*Table1[[#This Row],[QTY]]","v":0},{"$f":"Table1[[#This Row],[QTY]]*Table1[[#This Row],[School & Library Price]]","v":0}]
[null,null,37,null,null,"Current Issues","Issues on Trial","Disability Rights","978-0-7377-4488-0",{"$f":"HYPERLINK(Table1[[#This Row],[Hyperlink]],\"Weblink\")","v":"Weblink"},"Greenhaven Publishing","Library Bound Book",1,"2009","January 2009","Library","6.000 X 9.000","Edited by","Uma Kukathas",null,null,null,null,"Z",null,"Grade 10 - 12","Grade 10 - 12","Do something.org has found that of today's 20 year-olds, just over 1 in 4 will become disabled before they retire. This topic will touch your reader's life at some point. This book presents a different kind of examination of disability. It examines four major court cases that have shaped our experience of the rights of the disabled. Readers are introduced to each case through background information, discussion on the ruling, and majority and dissenting opinions. Further essays explain the impact that each case has had on society. The first case covers restricting the rights of \"manifestly unfit\" peoples to reproduce. The second case covers defining free and appropriate education for children of all abilities. Affirming the rights of disabled people to participate in community life is covered in the third case. The fourth case covers ensuring equal access to public places. This book meets the academic demand for reliable information tied to law and social sciences.","English",48.3,38.64,"342.7308/7","208 pp.","https://greenhavenpublishing.com/978-0-7377-4488-0",{"$f":"Table1[[#This Row],['# of Books]]*Table1[[#This Row],[QTY]]","v":0},{"$f":"Table1[[#This Row],[QTY]]*Table1[[#This Row],[School & Library Price]]","v":0}]
[null,null,37,null,null,"Current Issues","Issues on Trial","Marriage","978-0-7377-4490-3",{"$f":"HYPERLINK(Table1[[#This Row],[Hyperlink]],\"Weblink\")","v":"Weblink"},"Greenhaven Publishing","Library Bound Book",1,"2009","January 2009","Library","6.000 X 9.000","Edited by","Noël Merino",null,null,null,null,"Z",null,"Grade 10 - 12","Grade 10 - 12","This guidebook presents extracts and analysis of four major court decisions that have shaped the issue of marriage. The cases cover such issues as polygamy, the right to marital privacy, interracial marriage, and same-sex marriage. Each decision is explained, and majority and dissenting opinions are explained. Legal experts and other professionals then present readers with an analysis of each case's ramifications and long-lasting impact.","English",48.3,38.64,"346.7301/6","200 pp.","https://greenhavenpublishing.com/978-0-7377-4490-3",{"$f":"Table1[[#This Row],['# of Books]]*Table1[[#This Row],[QTY]]","v":0},{"$f":"Table1[[#This Row],[QTY]]*Table1[[#This Row],[School & Library Price]]","v":0}]
[null,null,37,null,null,"Current Issues","Issues on Trial","Medical Rights","978-0-7377-4179-7",{"$f":"HYPERLINK(Table1[[#This Row],[Hyperlink]],\"Weblink\")","v":"Weblink"},"Greenhaven Publishing","Library Bound Book",1,"2009","January 2009","Library","6.000 X 9.000","Edited by","Sylvia Engdahl",null,null,null,null,"Z",null,"Grade 10 - 12","Grade 10 - 12","This book presents and analyzes four major court cases that have shaped the issue of medical rights. Readers will be introduced to the case and decision, then read majority and dissenting opinions. Legal experts and other professionals then provide analysis on the impact of each decision. Chapter one covers denying adults the right to refuse and comply with public health laws. Chapter two covers affirming the right of competent adults to refuse medical treatment. Chapter three explains the right of mentally ill defendants to refuse medication. Chapter four covers the right of terminally ill persons to use experimental drugs. Outstanding essay sources include William Rehnquist, John Marshall Harlan, Wendy K. Mariner, S. Elizabeth Wilborn Malloy, and Judith Ann Wilson Rogers.\n\n","English",48.3,38.64,"344.7304/1","216 pp.","https://greenhavenpublishing.com/978-0-7377-4179-7",{"$f":"Table1[[#This Row],['# of Books]]*Table1[[#This Row],[QTY]]","v":0},{"$f":"Table1[[#This Row],[QTY]]*Table1[[#This Row],[School & Library Price]]","v":0}]
[null,null,37,null,null,"Current Issues","Issues on Trial","Right to Private Property","978-0-7377-4345-6",{"$f":"HYPERLINK(Table1[[#This Row],[Hyperlink]],\"Weblink\")","v":"Weblink"},"Greenhaven Publishing","Library Bound Book",1,"2009","January 2009","Library","6.000 X 9.000","Edited by","Sylvia Engdahl",null,null,null,null,"Z",null,"Grade 10 - 12","Grade 10 - 12","Editor Sylvia Engdahl provides readers with a legally-focused study of private property. She examines how the courts have helped to shape our rights to property through their rulings. Each chapter presents and explains a landmark case, then explains the majority and dissenting opinions. Readers then learn of the decision's lasting impact from legal experts.","English",48.3,38.64,"343.73/​0252","208 pp.","https://greenhavenpublishing.com/978-0-7377-4345-6",{"$f":"Table1[[#This Row],['# of Books]]*Table1[[#This Row],[QTY]]","v":0},{"$f":"Table1[[#This Row],[QTY]]*Table1[[#This Row],[School & Library Price]]","v":0}]
[null,null,37,null,null,"Current Issues","Issues on Trial","The War on Drugs","978-0-7377-4346-3",{"$f":"HYPERLINK(Table1[[#This Row],[Hyperlink]],\"Weblink\")","v":"Weblink"},"Greenhaven Publishing","Library Bound Book",1,"2009","January 2009","Library","6.000 X 9.000","Edited by","Sylvia Engdahl",null,null,null,null,"Z",null,"Grade 10 - 12","Grade 10 - 12","This volume focuses on how the courts and government have helped to shape the War on Drugs through their rulings and rules. Across four chapters, major cases are presented along with the Court's decision and dissenting opinion. Essays further elaborate on both sides of the rulings. Readers will evaluate whether the drug testing of government employees is unconstitutional, whether civil forfeiture and criminal punishment for the same offense is legal, whether drug testing of extracurricular activity participants is legal, and whether the Federal Government can prohibit the medical use of marijuana.","English",48.3,38.64,"345.73/​0277","208 pp.","https://greenhavenpublishing.com/978-0-7377-4346-3",{"$f":"Table1[[#This Row],['# of Books]]*Table1[[#This Row],[QTY]]","v":0},{"$f":"Table1[[#This Row],[QTY]]*Table1[[#This Row],[School & Library Price]]","v":0}]
[null,null,38,null,null,"Current Issues","Issues that Concern You","Activism","978-0-7377-5043-0",{"$f":"HYPERLINK(Table1[[#This Row],[Hyperlink]],\"Weblink\")","v":"Weblink"},"Greenhaven Publishing","eBook",1,"2010","January 2010",null,null,"Edited by","Jill Hamilton",null,null,null,null,"Z",null,"Grade 7 - 10","Grade 7 - 11","This inspirational collection of personal accounts and essay presents multiple sides to activism. Essayist Ralph Nader tells your readers that activism is a civic duty. Stop Cal Vivisection discusses what tactics are necessary in animal rights activism. Ross Clark informs readers that celebrity activists divert attention from real issues. Counterpoints are offered to provide a balanced experience. Your readers will think critically about where their own opinions fall in the debates.","English",46.2,36.96,"323.3/52","120 pp.","https://greenhavenpublishing.com/978-0-7377-5043-0",{"$f":"Table1[[#This Row],['# of Books]]*Table1[[#This Row],[QTY]]","v":0},{"$f":"Table1[[#This Row],[QTY]]*Table1[[#This Row],[School & Library Price]]","v":0}]
[null,null,38,null,null,"Current Issues","Issues that Concern You","Adoption","978-0-7377-5688-3",{"$f":"HYPERLINK(Table1[[#This Row],[Hyperlink]],\"Weblink\")","v":"Weblink"},"Greenhaven Publishing","Library Bound Book",1,"2012","January 2012","Library","7.000 X 9.000","Edited by","Laurie Willis",null,null,null,null,"Z",null,"Grade 7 - 10","Grade 7 - 11","This compelling collection of personal narratives and articles explores the topic of adoption. The included articles address open adoption, issues specific to adopted children, and transracial adoptions and diversity. Readers will learn about the challenges faced by gay and lesbian adoptive parents, and challenges faced by adopted children from other countries and cultures. The essays present diversity of opinion on each topic, including both conservative and liberal points of view in an even balance.","English",42,33.6,"362.7340973","104 pp.","https://greenhavenpublishing.com/978-0-7377-5688-3",{"$f":"Table1[[#This Row],['# of Books]]*Table1[[#This Row],[QTY]]","v":0},{"$f":"Table1[[#This Row],[QTY]]*Table1[[#This Row],[School & Library Price]]","v":0}]
[null,null,38,null,null,"Current Issues","Issues that Concern You","Alternative Energy","978-0-7377-5138-3",{"$f":"HYPERLINK(Table1[[#This Row],[Hyperlink]],\"Weblink\")","v":"Weblink"},"Greenhaven Publishing","eBook",1,"2010","January 2010",null,null,"Edited by","Peggy Daniels Becker",null,null,null,null,"Z",null,"Grade 7 - 10","Grade 7 - 11","This assembly of essays and articles explores various topics surrounding alternative energy. Readers are presented with diversity of opinion on each topic, including both conservative and liberal points of view in an even balance. Topics include biofuels, nuclear energy, and hydrogen fuel cells, as well as solar, wind, wave, and geothermal power. An array of statistics that illuminate public attitudes about alternative energy is also presented.","English",46.2,36.96,"333.79/​4","136 pp.","https://greenhavenpublishing.com/978-0-7377-5138-3",{"$f":"Table1[[#This Row],['# of Books]]*Table1[[#This Row],[QTY]]","v":0},{"$f":"Table1[[#This Row],[QTY]]*Table1[[#This Row],[School & Library Price]]","v":0}]
[null,null,38,null,null,"Current Issues","Issues that Concern You","Body Piercing and Tattoos","978-0-7377-7238-8",{"$f":"HYPERLINK(Table1[[#This Row],[Hyperlink]],\"Weblink\")","v":"Weblink"},"Greenhaven Publishing","Library Bound Book",1,"2015","January 2015","Library","7.000 X 9.000","Edited by","Hester Furey",null,null,null,null,"Z",null,"Grade 7 - 10","Grade 7 - 11","Body piercing and tattoos have become a popular way for individuals to express themselves. Give readers something to think about as they may be considering self expression in these ways. Readers will evaluate the real meanings behind getting tattoos and piercings, what risks are involved, and how to avoid making mistakes in efforts to be trendy. Essay sources include the U.S. Food and Drug Administration, Reef Karim, Silvia Cardona-Tapia, and Rebecca Lawrence.","English",42,33.6,"391.6/​5","104 pp.","https://greenhavenpublishing.com/978-0-7377-7238-8",{"$f":"Table1[[#This Row],['# of Books]]*Table1[[#This Row],[QTY]]","v":0},{"$f":"Table1[[#This Row],[QTY]]*Table1[[#This Row],[School & Library Price]]","v":0}]
[null,null,38,null,null,"Current Issues","Issues that Concern You","Career and Technical Education","978-0-7377-7044-5",{"$f":"HYPERLINK(Table1[[#This Row],[Hyperlink]],\"Weblink\")","v":"Weblink"},"Greenhaven Publishing","eBook",1,"2014","January 2014",null,null,"Edited by","Cynthia A. Bily",null,null,null,null,"Z",null,"Grade 7 - 10","Grade 7 - 11","Editor Cynthia A. Bily has compiled sixteen compelling essays that explore the issues surrounding career and technical education. Readers will evaluate several issues, including whether low-income and minority students are being squeezed out of higher education and whether the government should increase support for community colleges. Essay sources include the National Association of State Directors of Career Technical Education Consortium, Barack Obama, and Dana Goldstein.","English",46.2,36.96,"370.113","136 pp.","https://greenhavenpublishing.com/978-0-7377-7044-5",{"$f":"Table1[[#This Row],['# of Books]]*Table1[[#This Row],[QTY]]","v":0},{"$f":"Table1[[#This Row],[QTY]]*Table1[[#This Row],[School & Library Price]]","v":0}]
[null,null,38,null,null,"Current Issues","Issues that Concern You","Censorship","978-0-7377-5275-5",{"$f":"HYPERLINK(Table1[[#This Row],[Hyperlink]],\"Weblink\")","v":"Weblink"},"Greenhaven Publishing","eBook",1,"2010","January 2010",null,null,"Edited by","Ronald D. Lankford, Jr.",null,null,null,null,"Z",null,"Grade 7 - 10","Grade 7 - 11","Readers will explore the issues surrounding censorship through this collection of essays that present diversity of opinion, including both conservative and liberal points of view in an even balance. Readers will evaluate the role of parents and the government in censorship. They will evaluate talk radio, Hollywood, the Internet, television, and publishing in relation to censorship practices. Essay sources include Brian Jennings, Elliot Schrage, Nick Gillespie, Jesse Walker, and the Parents Television Council.","English",46.2,36.96,"363.310973","128 pp.","https://greenhavenpublishing.com/978-0-7377-5275-5",{"$f":"Table1[[#This Row],['# of Books]]*Table1[[#This Row],[QTY]]","v":0},{"$f":"Table1[[#This Row],[QTY]]*Table1[[#This Row],[School & Library Price]]","v":0}]
[null,null,38,null,null,"Current Issues","Issues that Concern You","Choosing a College","978-0-7377-5691-3",{"$f":"HYPERLINK(Table1[[#This Row],[Hyperlink]],\"Weblink\")","v":"Weblink"},"Greenhaven Publishing","Library Bound Book",1,"2012","January 2012","Library","7.000 X 9.000","Edited by","Norah Piehl",null,null,null,null,"Z",null,"Grade 7 - 10","Grade 7 - 11","More than ten compelling essays debate the issues surrounding choosing a college. Readers will evaluate topics such as whether paid admission consultants are useful, and whether students should consider taking a year off between high school and college. Essay sources include the Philadelphia Inquirer Editorial Staff, Natalia Maldonado, Peter Vartanian, and Julia Reischel.","English",42,33.6,"378.1/​98/​0973","128 pp.","https://greenhavenpublishing.com/978-0-7377-5691-3",{"$f":"Table1[[#This Row],['# of Books]]*Table1[[#This Row],[QTY]]","v":0},{"$f":"Table1[[#This Row],[QTY]]*Table1[[#This Row],[School & Library Price]]","v":0}]
[null,null,38,null,null,"Current Issues","Issues that Concern You","The College Admissions Process","978-1-5345-0281-9",{"$f":"HYPERLINK(Table1[[#This Row],[Hyperlink]],\"Weblink\")","v":"Weblink"},"Greenhaven Publishing","Paperback Book",1,"2018","January 2018","Paperback","7.000 X 9.000","Edited by","Marcia Amidon Lusted",null,null,null,null,"Z",null,"Grade 7 - 10","Grade 7 - 12","Applications, personal essays, campus visits, and those dreaded SATs and ACTs, the process of applying to, and getting into, college is almost as complicated as higher education itself. In this anthology, readers will get an in-depth look at the admission process, including viewpoints about the fairness and relevance of standardized test scores, the importance of volunteer and extracurricular activities, and how to market oneself as an ideal candidate for admission. Choosing a college is one of life's most important decisions, and readers of this resource will be presented with valuable information.","English",28.3,22.64,"378.1/61--dc23","112 pp.","https://greenhavenpublishing.com/978-1-5345-0281-9",{"$f":"Table1[[#This Row],['# of Books]]*Table1[[#This Row],[QTY]]","v":0},{"$f":"Table1[[#This Row],[QTY]]*Table1[[#This Row],[School & Library Price]]","v":0}]
[null,null,39,null,null,"Current Issues","Issues that Concern You","Cults","978-0-7377-6777-3",{"$f":"HYPERLINK(Table1[[#This Row],[Hyperlink]],\"Weblink\")","v":"Weblink"},"Greenhaven Publishing","eBook",1,"2013","January 2013",null,null,"Edited by","Norah Piehl",null,null,null,null,"Z",null,"Grade 7 - 10","Grade 7 - 11","This assembly of essays explores issues related to cults, including the differences between new religious movements and cults, how ordinary activities and organizations can become cult-like, and whether or not the government should interfere with cults. The essays presents diversity of opinion on the topic, including both conservative and liberal points of view in an even balance. Readers will explore how respected organizations can deteriorate into cults. They will look at how law enforcement reacts to religious sects. Another essay analyzes whether Falun Gong is a movement, uprising, or cult. Essay sources include Mitch Horowitz, Arian Campo-Flores, Hugh B. Urban, and Catherine Elton.","English",46.2,36.96,"209","128 pp.","https://greenhavenpublishing.com/978-0-7377-6777-3",{"$f":"Table1[[#This Row],['# of Books]]*Table1[[#This Row],[QTY]]","v":0},{"$f":"Table1[[#This Row],[QTY]]*Table1[[#This Row],[School & Library Price]]","v":0}]
[null,null,39,null,null,"Current Issues","Issues that Concern You","Cyberbullying","978-0-7377-5692-0",{"$f":"HYPERLINK(Table1[[#This Row],[Hyperlink]],\"Weblink\")","v":"Weblink"},"Greenhaven Publishing","Library Bound Book",1,"2012","January 2012","Library","7.000 X 9.000","Edited by","Tamara L. Roleff",null,null,null,null,"Z",null,"Grade 7 - 10","Grade 7 - 11","This must-have collection of essays explores issues related to cyberbullying. Through articles from a variety of sources, the book addresses whether or not cyberbullying is a serious problem, the impact of cyberbullying, the effectiveness of criminalizing cyberbullying, and the role of schools and parents in addressing cyberbullying incidents. Because readers are presented with a variety of viewpoints, this book is also a great resource for report-writing and research. Essay sources include Beverly Flaxington, Berin Szoka, Michelle Obama, and Barack Obama.","English",42,33.6,"302.34/302854678","104 pp.","https://greenhavenpublishing.com/978-0-7377-5692-0",{"$f":"Table1[[#This Row],['# of Books]]*Table1[[#This Row],[QTY]]","v":0},{"$f":"Table1[[#This Row],[QTY]]*Table1[[#This Row],[School & Library Price]]","v":0}]
[null,null,39,null,null,"Current Issues","Issues that Concern You","Dating","978-0-7377-6288-4",{"$f":"HYPERLINK(Table1[[#This Row],[Hyperlink]],\"Weblink\")","v":"Weblink"},"Greenhaven Publishing","Library Bound Book",1,"2014","January 2014","Library","7.000 X 9.000","Edited by","Lauri S. Scherer",null,null,null,null,"Z",null,"Grade 7 - 10","Grade 7 - 11","Do kids ask each other out to the movies anymore? Do dating websites yield good relationships? Should student-teacher dating be illegal? Is America's hook-up culture sexist? This collection of personal accounts and essays helps readers navigate the controversies relating to dating. Readers will learn about teens and dating violence and date rape. Several other issues like these are debated by sources such as the American Psychological Association, Aaron Foley, Tina deVaron, Rebecca Kling, and Glenn T. Stanton.","English",42,33.6,"306.73","128 pp.","https://greenhavenpublishing.com/978-0-7377-6288-4",{"$f":"Table1[[#This Row],['# of Books]]*Table1[[#This Row],[QTY]]","v":0},{"$f":"Table1[[#This Row],[QTY]]*Table1[[#This Row],[School & Library Price]]","v":0}]
[null,null,39,null,null,"Current Issues","Issues that Concern You","Dieting","978-0-7377-7047-6",{"$f":"HYPERLINK(Table1[[#This Row],[Hyperlink]],\"Weblink\")","v":"Weblink"},"Greenhaven Publishing","eBook",1,"2014","January 2014",null,null,"Edited by","Arthur Gillard",null,null,null,null,"Z",null,"Grade 7 - 10","Grade 7 - 11","A person merely needs to watch television for a few hours before they've viewed several diet and weight management solutions. Our society is filled with diet fads and messages that we need to control our weight. This volume addresses dieting for young readers. Essays and articles explain the effectiveness of dieting, effectiveness of willpower, yo-yo dieting, and eating mindfully. Readers will evaluate what it means to be healthy at any weight, and the government's role in combating obesity and the obesity epidemic.","English",46.2,36.96,"613.2","112 pp.","https://greenhavenpublishing.com/978-0-7377-7047-6",{"$f":"Table1[[#This Row],['# of Books]]*Table1[[#This Row],[QTY]]","v":0},{"$f":"Table1[[#This Row],[QTY]]*Table1[[#This Row],[School & Library Price]]","v":0}]
[null,null,39,null,null,"Current Issues","Issues that Concern You","Downloading Music","978-0-7377-3646-5",{"$f":"HYPERLINK(Table1[[#This Row],[Hyperlink]],\"Weblink\")","v":"Weblink"},"Greenhaven Publishing","Library Bound Book",1,"2007","January 2008","Library","7.000 X 9.000","Edited by","Linda Aksomitis",null,null,null,null,"Z",null,"Grade 7 - 10","Grade 7 - 11","This essential volume takes a critical look at downloading music, who it impacts, and how. In addition, this book contains several appendixes to help your readers understand and explore the topic. Stellar essay sources, which are perfect for report-writing, include The Canadian Recording Industry Association, Musicunited.org, and the International Federation of the Phonographic Industry.","English",42,33.6,"384.3--dc22","112 pp.","https://greenhavenpublishing.com/978-0-7377-3646-5",{"$f":"Table1[[#This Row],['# of Books]]*Table1[[#This Row],[QTY]]","v":0},{"$f":"Table1[[#This Row],[QTY]]*Table1[[#This Row],[School & Library Price]]","v":0}]
[null,null,39,null,null,"Current Issues","Issues that Concern You","Downloading Music","978-0-7377-4821-5",{"$f":"HYPERLINK(Table1[[#This Row],[Hyperlink]],\"Weblink\")","v":"Weblink"},"Greenhaven Publishing","eBook",1,"2007","January 2008",null,null,"Edited by","Linda Aksomitis",null,null,null,null,"Z",null,"Grade 7 - 10","Grade 7 - 11","This essential volume takes a critical look at downloading music, who it impacts, and how. In addition, this book contains several appendixes to help your readers understand and explore the topic. Stellar essay sources, which are perfect for report-writing, include The Canadian Recording Industry Association, Musicunited.org, and the International Federation of the Phonographic Industry.","English",46.2,36.96,"384.3--dc22","112 pp.","https://greenhavenpublishing.com/978-0-7377-4821-5",{"$f":"Table1[[#This Row],['# of Books]]*Table1[[#This Row],[QTY]]","v":0},{"$f":"Table1[[#This Row],[QTY]]*Table1[[#This Row],[School & Library Price]]","v":0}]
[null,null,39,null,null,"Current Issues","Issues that Concern You","Drug Abuse","978-0-7377-6290-7",{"$f":"HYPERLINK(Table1[[#This Row],[Hyperlink]],\"Weblink\")","v":"Weblink"},"Greenhaven Publishing","Library Bound Book",1,"2013","January 2013","Library","7.000 X 9.000","Edited by","Arthur Gillard",null,null,null,null,"Z",null,"Grade 7 - 10","Grade 7 - 11","This volume presents readings from a variety of perspectives that allow readers to better understand and navigate the topic of drug abuse. Both conservative and liberal points of view are provided in an even balance. Readers will evaluate drug abuse causes, the impact of the war on drugs, the effectiveness of rehabilitation programs, and whether drugs should be legalized. They will learn about varying methods of preventing drug abuse. Stellar sources include Dr. Harold Koplewicz, The Economist, Northbound Academy, John Stossel, Genevieve Pham-Kanter, and Jane Bianchi.\n","English",42,33.6,"362.290835/0973","208 pp.","https://greenhavenpublishing.com/978-0-7377-6290-7",{"$f":"Table1[[#This Row],['# of Books]]*Table1[[#This Row],[QTY]]","v":0},{"$f":"Table1[[#This Row],[QTY]]*Table1[[#This Row],[School & Library Price]]","v":0}]
[null,null,39,null,null,"Current Issues","Issues that Concern You","Drunk Driving","978-0-7377-6780-3",{"$f":"HYPERLINK(Table1[[#This Row],[Hyperlink]],\"Weblink\")","v":"Weblink"},"Greenhaven Publishing","eBook",1,"2013","January 2013",null,null,"Edited by","Amanda Hiber",null,null,null,null,"Z",null,"Grade 7 - 10","Grade 7 - 11","This essential volume tackles the issues surrounding drunk driving. Readers are presented with a diversity of opinion on each issue, including both conservative and liberal points of view in an even balance. Readers will examine the effectiveness of drunk driving laws, and the use of anonymous tiplines. They will evaluate drunk driving among undocumented immigrants, and whether sobriety check points are effective. This collection of essays also examines ignition interlock devices, and the minimum legal drinking age. Essay sources include the Milwaukee Journal Sentinel and Texas Transportation Institute.","English",46.2,36.96,"363.12/5140973","120 pp.","https://greenhavenpublishing.com/978-0-7377-6780-3",{"$f":"Table1[[#This Row],['# of Books]]*Table1[[#This Row],[QTY]]","v":0},{"$f":"Table1[[#This Row],[QTY]]*Table1[[#This Row],[School & Library Price]]","v":0}]
[null,null,39,null,null,"Current Issues","Issues that Concern You","Electronic Devices in Schools","978-0-7377-6781-0",{"$f":"HYPERLINK(Table1[[#This Row],[Hyperlink]],\"Weblink\")","v":"Weblink"},"Greenhaven Publishing","eBook",1,"2013","January 2013",null,null,"Edited by","Laurie Willis",null,null,null,null,"Z",null,"Grade 7 - 10","Grade 7 - 11","This collection of personal accounts and essays explores issues related to electronic devices in schools. Readers will evaluate the advantages and disadvantages of using cell phones, iPods, laptops, and tablets in the classroom. Are programs in which students bring laptops from home for use in school a good idea? Are school policies involving cell phones fair? Should texting be part of classroom learning? Answers to these questions and many more are provided in this book.","English",46.2,36.96,"371.33","104 pp.","https://greenhavenpublishing.com/978-0-7377-6781-0",{"$f":"Table1[[#This Row],['# of Books]]*Table1[[#This Row],[QTY]]","v":0},{"$f":"Table1[[#This Row],[QTY]]*Table1[[#This Row],[School & Library Price]]","v":0}]
[null,null,39,null,null,"Current Issues","Issues that Concern You","Endangered Species","978-0-7377-4953-3",{"$f":"HYPERLINK(Table1[[#This Row],[Hyperlink]],\"Weblink\")","v":"Weblink"},"Greenhaven Publishing","Library Bound Book",1,"2010","January 2010","Library","7.000 X 9.000","Edited by","Cynthia A. Bily",null,null,null,null,"Z",null,"Grade 7 - 10","Grade 7 - 11","An endangered species is one whose numbers are so small that it is at risk of extinction. Extinction is a natural phenomenon; with a natural background rate of about one to five species going extinct per year. The astonishing and sad fact is that we are now losing species at 1,000 to 10,000 times the background rate. There are things we can all do now to help slow this unnatural rate of extinction. Give your readers a powerful collection of essays that explain key issues relating to endangered species. Are private property owners the best protectors of wildlife? Does the Polar bear need federal protection? Are the oceans' fish in serious decline? Answers are provided to these and other important questions.","English",42,33.6,"333.95/​22","128 pp.","https://greenhavenpublishing.com/978-0-7377-4953-3",{"$f":"Table1[[#This Row],['# of Books]]*Table1[[#This Row],[QTY]]","v":0},{"$f":"Table1[[#This Row],[QTY]]*Table1[[#This Row],[School & Library Price]]","v":0}]
[null,null,39,null,null,"Current Issues","Issues that Concern You","Exercise and Fitness","978-0-7377-6782-7",{"$f":"HYPERLINK(Table1[[#This Row],[Hyperlink]],\"Weblink\")","v":"Weblink"},"Greenhaven Publishing","eBook",1,"2013","January 2013",null,null,"Edited by","Laurie Willis",null,null,null,null,"Z",null,"Grade 7 - 10","Grade 7 - 11","Today's high-tech world is truly awesome, but it comes with a price. Children now spend more than seven and a half hours a day in front of a screen, be it a tablet, P.C., smart phone, or television. If we are supposed to exercise one hour a day to keep up with health standards, that isn't happening. Young readers need to know that exercise really can keep them healthy, help them age well, and help them avoid many diseases. This collection of essays will inspire readers to take an interest in their own health, and to develop intelligent, balanced opinions on exercise and fitness. Readers will learn about the actions that can be taken by families, schools, and communities to improve fitness levels and nutrition and to reduce obesity.","English",46.2,36.96,"613.7042","120 pp.","https://greenhavenpublishing.com/978-0-7377-6782-7",{"$f":"Table1[[#This Row],['# of Books]]*Table1[[#This Row],[QTY]]","v":0},{"$f":"Table1[[#This Row],[QTY]]*Table1[[#This Row],[School & Library Price]]","v":0}]
[null,null,39,null,null,"Current Issues","Issues that Concern You","Girls and Sports","978-0-7377-5693-7",{"$f":"HYPERLINK(Table1[[#This Row],[Hyperlink]],\"Weblink\")","v":"Weblink"},"Greenhaven Publishing","Library Bound Book",1,"2012","January 2012","Library","7.000 X 9.000","Edited by","Laura K. Egendorf",null,null,null,null,"Z",null,"Grade 7 - 10","Grade 7 - 11","This must-have book explores issues related to girls and sports through a collection of personal accounts and factual articles. Using a variety of sources, this book explores whether or not sports are good for girls' health, and how girls are coached differently than boys. Readers will evaluate the impact of Title IX, and the effect of sex segregation in boys and girls sports. Essay sources include the American Association of Cheerleading Coaches and Administrators, Women's Sports Foundation, Margaret C. Duncan, Michael Sokolove, and Sarah Gibbard Cook.","English",42,33.6,"796.082","120 pp.","https://greenhavenpublishing.com/978-0-7377-5693-7",{"$f":"Table1[[#This Row],['# of Books]]*Table1[[#This Row],[QTY]]","v":0},{"$f":"Table1[[#This Row],[QTY]]*Table1[[#This Row],[School & Library Price]]","v":0}]
[null,null,39,null,null,"Current Issues","Issues that Concern You","Going Green","978-0-7377-5519-0",{"$f":"HYPERLINK(Table1[[#This Row],[Hyperlink]],\"Weblink\")","v":"Weblink"},"Greenhaven Publishing","eBook",1,"2011","January 2011",null,null,"Edited by","Peggy Daniels Becker",null,null,null,null,"Z",null,"Grade 7 - 10","Grade 7 - 11","Help your readers richly explore the history of the green movement, and evaluate whether or not going green makes a difference. This book presents diversity of opinion on the topic, including both conservative and liberal points of view in an even balance. Readers will examine the benefits of reuse and recycling, the impact of local food purchasing on the environment, and the influence of \"green\" advertising. Essay sources include Roberta Kwok, Sarah Fenske, Jeffrey Hollender, and Jim Fedako.","English",46.2,36.96,"640","112 pp.","https://greenhavenpublishing.com/978-0-7377-5519-0",{"$f":"Table1[[#This Row],['# of Books]]*Table1[[#This Row],[QTY]]","v":0},{"$f":"Table1[[#This Row],[QTY]]*Table1[[#This Row],[School & Library Price]]","v":0}]
[null,null,39,null,null,"Current Issues","Issues that Concern You","Gun Violence","978-0-7377-6678-3",{"$f":"HYPERLINK(Table1[[#This Row],[Hyperlink]],\"Weblink\")","v":"Weblink"},"Greenhaven Publishing","eBook",1,"2013","January 2013",null,null,"Edited by","Lauri S. Scherer",null,null,null,null,"Z",null,"Grade 7 - 10","Grade 7 - 11","This must-have volume explores issues related to gun violence, including the threat of gun violence for particular groups, such as women, children, and African Americans. Readers will evaluate the impact of gun control laws on gun violence, and the pros and cons of restrictions on guns in places such as bars, churches, and schools. This assembly of essays is also a terrific resource for report-writing and research. Sources include the Violence Policy Center, U.S.A. Today, Washington Times, and the Archdiocese of Milwaukee.\n\n","English",46.2,36.96,"363.330973","128 pp.","https://greenhavenpublishing.com/978-0-7377-6678-3",{"$f":"Table1[[#This Row],['# of Books]]*Table1[[#This Row],[QTY]]","v":0},{"$f":"Table1[[#This Row],[QTY]]*Table1[[#This Row],[School & Library Price]]","v":0}]
[null,null,39,null,null,"Current Issues","Issues that Concern You","Homeschooling","978-0-7377-6296-9",{"$f":"HYPERLINK(Table1[[#This Row],[Hyperlink]],\"Weblink\")","v":"Weblink"},"Greenhaven Publishing","Library Bound Book",1,"2013","January 2013","Library","7.000 X 9.000","Edited by","Heidi Watkins",null,null,null,null,"Z",null,"Grade 7 - 10","Grade 7 - 11","This thought-provoking book explores issues and trends related to the growing practice of homeschooling. Readers will examine whether homeschooling produces positive academic outcomes, whether homeschooling supports or violates progressive values, and whether Christian homeschooling limits or expands children's' options. Essay sources include The Old Schoolhouse Magazine, Kathryn Joyce, Conor Friedersdorf, and Alexandra Jacobs.","English",42,33.6,"371.04/2","104 pp.","https://greenhavenpublishing.com/978-0-7377-6296-9",{"$f":"Table1[[#This Row],['# of Books]]*Table1[[#This Row],[QTY]]","v":0},{"$f":"Table1[[#This Row],[QTY]]*Table1[[#This Row],[School & Library Price]]","v":0}]
[null,null,39,null,null,"Current Issues","Issues that Concern You","Internet Safety","978-0-7377-4837-6",{"$f":"HYPERLINK(Table1[[#This Row],[Hyperlink]],\"Weblink\")","v":"Weblink"},"Greenhaven Publishing","eBook",1,"2008","January 2008",null,null,"Edited by, Edited by","Hayley Mitchell Haugen, Susan Musser",null,null,null,null,"Z",null,"Grade 7 - 10","Grade 7 - 11","This volume discusses the issue of safety on the Internet, including if social networking websites are safe for teens, what measures can be taken to avoid online predators, and the effects of cyberbullying. Essay sources include John McCain, Deborah Bach, David Finkelhor, and Tara Anderson.","English",46.2,36.96,"302.23/​1","120 pp.","https://greenhavenpublishing.com/978-0-7377-4837-6",{"$f":"Table1[[#This Row],['# of Books]]*Table1[[#This Row],[QTY]]","v":0},{"$f":"Table1[[#This Row],[QTY]]*Table1[[#This Row],[School & Library Price]]","v":0}]
[null,null,39,null,null,"Current Issues","Issues that Concern You","Medical Marijuana","978-0-7377-7049-0",{"$f":"HYPERLINK(Table1[[#This Row],[Hyperlink]],\"Weblink\")","v":"Weblink"},"Greenhaven Publishing","eBook",1,"2014","January 2014",null,null,"Edited by","Arthur Gillard",null,null,null,null,"Z",null,"Grade 7 - 10","Grade 7 - 11","Medical marijuana is a popular topic for debate. This volume covers the contentious nature of medical marijuana. Readers will evaluate the medicinal nature of it, teenage use, and federal regulation of medical marijuana. Colorful photographs, charts, graphs, tables and editorial images reinforce text and present more data, that is excellent for research and report writing.","English",46.2,36.96,"615.3/​2345","104 pp.","https://greenhavenpublishing.com/978-0-7377-7049-0",{"$f":"Table1[[#This Row],['# of Books]]*Table1[[#This Row],[QTY]]","v":0},{"$f":"Table1[[#This Row],[QTY]]*Table1[[#This Row],[School & Library Price]]","v":0}]
[null,null,39,null,null,"Current Issues","Issues that Concern You","Mental Illness","978-0-7377-4348-7",{"$f":"HYPERLINK(Table1[[#This Row],[Hyperlink]],\"Weblink\")","v":"Weblink"},"Greenhaven Publishing","Library Bound Book",1,"2009","January 2009","Library","7.000 X 9.000","Edited by","Lorraine Savage",null,null,null,null,"Z",null,"Grade 7 - 10","Grade 7 - 11","This volume explores the issues surrounding mental illness. Readers are presented with diversity of opinion on this topic, including both conservative and liberal points of view in an even balance. Readers will learn about the causes and diagnosis of mental disorders. They will evaluate effective treatment methods. Readers will also learn about a woman who survives with schizophrenia, and another who lives with bipolar disorder.","English",42,33.6,"616.89","112 pp.","https://greenhavenpublishing.com/978-0-7377-4348-7",{"$f":"Table1[[#This Row],['# of Books]]*Table1[[#This Row],[QTY]]","v":0},{"$f":"Table1[[#This Row],[QTY]]*Table1[[#This Row],[School & Library Price]]","v":0}]
[null,null,39,null,null,"Current Issues","Issues that Concern You","Obesity","978-0-7377-6298-3",{"$f":"HYPERLINK(Table1[[#This Row],[Hyperlink]],\"Weblink\")","v":"Weblink"},"Greenhaven Publishing","Library Bound Book",1,"2013","January 2013","Library","7.000 X 9.000","Edited by","Lauri S. Scherer",null,null,null,null,"Z",null,"Grade 7 - 10","Grade 7 - 11","About one in five school-aged children has obesity. It is essential that young people understand what this condition is, and how to avoid it. This book explores issues related to obesity. Readers will explore how widespread obesity is and what causes it. They will evaluate if junk food and soda should be taxed to reduce obesity, and if healthier school lunches can reduce obesity. Colorful photographs, charts, graphs, tables and editorial cartoons reinforce text and present data.","English",42,33.6,"616.3/​9","120 pp.","https://greenhavenpublishing.com/978-0-7377-6298-3",{"$f":"Table1[[#This Row],['# of Books]]*Table1[[#This Row],[QTY]]","v":0},{"$f":"Table1[[#This Row],[QTY]]*Table1[[#This Row],[School & Library Price]]","v":0}]
[null,null,40,null,null,"Current Issues","Issues that Concern You","Peer Pressure","978-0-7377-4596-2",{"$f":"HYPERLINK(Table1[[#This Row],[Hyperlink]],\"Weblink\")","v":"Weblink"},"Greenhaven Publishing","eBook",1,"2009","January 2009",null,null,"Edited by","Lorraine Savage",null,null,null,null,"Z",null,"Grade 7 - 10","Grade 7 - 11","This must-have volume explores the issues surrounding peer pressure. It presents diversity of opinion on the topic, including both conservative and liberal points of view in an even balance. The sequences of essays guides readers through topics such as brain development, eating and exercise, popularity, parents, individuality, drugs and alcohol, and teacher influence in relation to peer pressure. Do sturdier brain networks help children resist peer pressure? Can organized activities deter negative peer pressure? Readers find answers to questions like these in this guidebook.","English",46.2,36.96,"303.3/​2709835","96 pp.","https://greenhavenpublishing.com/978-0-7377-4596-2",{"$f":"Table1[[#This Row],['# of Books]]*Table1[[#This Row],[QTY]]","v":0},{"$f":"Table1[[#This Row],[QTY]]*Table1[[#This Row],[School & Library Price]]","v":0}]
[null,null,40,null,null,"Current Issues","Issues that Concern You","Prejudice","978-0-7377-4600-6",{"$f":"HYPERLINK(Table1[[#This Row],[Hyperlink]],\"Weblink\")","v":"Weblink"},"Greenhaven Publishing","eBook",1,"2009","January 2009",null,null,"Edited by","Crystal McCage",null,null,null,null,"Z",null,"Grade 7 - 10","Grade 7 - 11","Is a ban on gay marriage prejudice? Is America more sexist than racist? Is legislation needed to help fight violence that is based on prejudice? These are among a few of the questions that are answered in this book's collection of essays. This book presents diversity of opinion on each topic, including both conservative and liberal points of view in an even balance. Readers will evaluate for themselves whether or not they agree with the answers that they find.","English",46.2,36.96,"303.3/​85","112 pp.","https://greenhavenpublishing.com/978-0-7377-4600-6",{"$f":"Table1[[#This Row],['# of Books]]*Table1[[#This Row],[QTY]]","v":0},{"$f":"Table1[[#This Row],[QTY]]*Table1[[#This Row],[School & Library Price]]","v":0}]
[null,null,40,null,null,"Current Issues","Issues that Concern You","Privacy","978-0-7377-5697-5",{"$f":"HYPERLINK(Table1[[#This Row],[Hyperlink]],\"Weblink\")","v":"Weblink"},"Greenhaven Publishing","Library Bound Book",1,"2011","January 2011","Library","7.000 X 9.000","Edited by","Tamara L. Roleff",null,null,null,null,"Z",null,"Grade 7 - 10","Grade 7 - 11","This essential volume considers the importance of privacy in the digital and post-9/11 era. Essays are presented that represent divergent viewpoints. Viewpoints debate the extent to which privacy is necessary, which measures most effectively protect privacy, and how best to balance privacy with national security and other critical issues. Facebook, full-body scanners, I.D. cards, and the constitution are among the topics. Essay sources include Janet Napolitano, Tim O'Reilly, Jeffrey Rosen, Mark Scholosberg, and Nicole A. Ozer.","English",42,33.6,"323.44/​8/​0973","112 pp.","https://greenhavenpublishing.com/978-0-7377-5697-5",{"$f":"Table1[[#This Row],['# of Books]]*Table1[[#This Row],[QTY]]","v":0},{"$f":"Table1[[#This Row],[QTY]]*Table1[[#This Row],[School & Library Price]]","v":0}]
[null,null,40,null,null,"Current Issues","Issues that Concern You","School Violence","978-0-7377-4186-5",{"$f":"HYPERLINK(Table1[[#This Row],[Hyperlink]],\"Weblink\")","v":"Weblink"},"Greenhaven Publishing","Library Bound Book",1,"2009","January 2009","Library","7.000 X 9.000","Edited by","Peggy Daniels",null,null,null,null,"Z",null,"Grade 7 - 10","Grade 7 - 11","In just one year, between 2010 and 2011, violent school threats increased by 158 percent. This shocking statistic speaks to the unfortunate truth of your readers; their school world contains elements of violence. This volume will help readers to understand this issues, from several different perspectives. Essayists debate the issues, allowing readers to form their own intelligent opinions through critical reasoning. Some of the debates include whether the No Child Left Behind Act discourages reporting of violent, and whether school violence can be prevented. Do guns increase the risk of school violence? Readers will find out while examining the causes of school violence, prevention of school violence, and measures schools take to create a safe environment for students.","English",42,33.6,"371.7/​820973","128 pp.","https://greenhavenpublishing.com/978-0-7377-4186-5",{"$f":"Table1[[#This Row],['# of Books]]*Table1[[#This Row],[QTY]]","v":0},{"$f":"Table1[[#This Row],[QTY]]*Table1[[#This Row],[School & Library Price]]","v":0}]
[null,null,40,null,null,"Current Issues","Issues that Concern You","Sexting","978-0-7377-6786-5",{"$f":"HYPERLINK(Table1[[#This Row],[Hyperlink]],\"Weblink\")","v":"Weblink"},"Greenhaven Publishing","eBook",1,"2013","January 2013",null,null,"Edited by","Lauri S. Scherer",null,null,null,null,"Z",null,"Grade 7 - 10","Grade 7 - 11","It is essential that your teens understand that sending or receiving a sexually suggestive text or image under the age of 18 is considered child pornography and can result in criminal charges. With 40 percent of the female teens taking part in sexting are doing it as a joke, this joke can end up with dire consequences. Give your readers an essential guidebook into the details and dangers of sexting. This collection of essays presents a diversity of opinion on the topic, including both conservative and liberal points of view in an even balance. Readers will evaluate such topics as whether sexting is a valid form of self-expression, whether America's sex-crazed culture promotes sexting, and whether parents and adults are overreacting to sexting.","English",46.2,36.96,"306.70285","128 pp.","https://greenhavenpublishing.com/978-0-7377-6786-5",{"$f":"Table1[[#This Row],['# of Books]]*Table1[[#This Row],[QTY]]","v":0},{"$f":"Table1[[#This Row],[QTY]]*Table1[[#This Row],[School & Library Price]]","v":0}]
[null,null,40,null,null,"Current Issues","Issues that Concern You","Smoking","978-0-7377-2420-2",{"$f":"HYPERLINK(Table1[[#This Row],[Hyperlink]],\"Weblink\")","v":"Weblink"},"Greenhaven Publishing","Library Bound Book",1,"2008","January 2008","Library","7.000 X 9.000","Edited by","Laura K. Egendorf",null,null,null,null,"Z",null,"Grade 7 - 10","Grade 7 - 11","This essential volume helps readers address their thoughts and questions in relation to smoking. It examines the effect of smoking on health, how advertising and movies contribute to adolescent smoking, and government policies regarding cigarette advertising and taxes. Essays are provided in a pro versus con format so that readers are given multiple perspectives on the issues. This allows them to activate their critical thinking skills while examining this important topic.","English",42,33.6,"362.29/​6/​0973","136 pp.","https://greenhavenpublishing.com/978-0-7377-2420-2",{"$f":"Table1[[#This Row],['# of Books]]*Table1[[#This Row],[QTY]]","v":0},{"$f":"Table1[[#This Row],[QTY]]*Table1[[#This Row],[School & Library Price]]","v":0}]
[null,null,40,null,null,"Current Issues","Issues that Concern You","Smoking","978-0-7377-4826-0",{"$f":"HYPERLINK(Table1[[#This Row],[Hyperlink]],\"Weblink\")","v":"Weblink"},"Greenhaven Publishing","eBook",1,"2008","January 2008",null,null,"Edited by","Laura K. Egendorf",null,null,null,null,"Z",null,"Grade 7 - 10","Grade 7 - 11","This essential volume helps readers address their thoughts and questions in relation to smoking. It examines the effect of smoking on health, how advertising and movies contribute to adolescent smoking, and government policies regarding cigarette advertising and taxes. Essays are provided in a pro versus con format so that readers are given multiple perspectives on the issues. This allows them to activate their critical thinking skills while examining this important topic.","English",46.2,36.96,"362.29/​6/​0973","136 pp.","https://greenhavenpublishing.com/978-0-7377-4826-0",{"$f":"Table1[[#This Row],['# of Books]]*Table1[[#This Row],[QTY]]","v":0},{"$f":"Table1[[#This Row],[QTY]]*Table1[[#This Row],[School & Library Price]]","v":0}]
[null,null,40,null,null,"Current Issues","Issues that Concern You","Student Loans and the Cost of College","978-1-5345-0221-5",{"$f":"HYPERLINK(Table1[[#This Row],[Hyperlink]],\"Weblink\")","v":"Weblink"},"Greenhaven Publishing","Library Bound Book",1,"2018","January 2018","Library","7.000 X 9.000","Edited by","Paula Johanson",null,null,null,null,"Z",null,"Grade 7 - 10","Grade 7 - 12","Getting into college is one giant hurdle to clear, and paying for it is quite another. This book breaks down the expenses associated with higher education, the various payment options available for students, including student loans, need-based scholarships, and merit-based scholarships, and what other avenues may exist for families to ensure that costs associated with tuition, room, and board stay reasonable. Concerns about \"paying off\" student loans, interest rates, and timelines are also addressed in this informative collection.","English",42,33.6,"371.2/240973--dc23","112 pp.","https://greenhavenpublishing.com/978-1-5345-0221-5",{"$f":"Table1[[#This Row],['# of Books]]*Table1[[#This Row],[QTY]]","v":0},{"$f":"Table1[[#This Row],[QTY]]*Table1[[#This Row],[School & Library Price]]","v":0}]
[null,null,40,null,null,"Current Issues","Issues that Concern You","Student Rights","978-1-5345-0280-2",{"$f":"HYPERLINK(Table1[[#This Row],[Hyperlink]],\"Weblink\")","v":"Weblink"},"Greenhaven Publishing","Paperback Book",1,"2018","January 2018","Paperback","7.000 X 9.000","Edited by","Avery Elizabeth Hurt",null,null,null,null,"Z",null,"Grade 7 - 10","Grade 7 - 12","Does freedom of assembly apply to a high-school junior organizing a protest against the school administration? Does disrespecting a teacher fall under freedom of speech? The diverse perspectives in this collection explore the concept of student rights and tackle what civil and constitutional rights are covered when you're in an educational environment. Readers can expect discussions of relevant court cases and instances of student-led activism, as well as a focus on protected sources for student reporters.","English",28.3,22.64,"344.73/0793--dc23","112 pp.","https://greenhavenpublishing.com/978-1-5345-0280-2",{"$f":"Table1[[#This Row],['# of Books]]*Table1[[#This Row],[QTY]]","v":0},{"$f":"Table1[[#This Row],[QTY]]*Table1[[#This Row],[School & Library Price]]","v":0}]
[null,null,40,null,null,"Current Issues","Issues that Concern You","Teen Parenting","978-0-7377-5700-2",{"$f":"HYPERLINK(Table1[[#This Row],[Hyperlink]],\"Weblink\")","v":"Weblink"},"Greenhaven Publishing","Library Bound Book",1,"2012","January 2012","Library","7.000 X 9.000","Edited by","Laurie Willis",null,null,null,null,"Z",null,"Grade 7 - 10","Grade 7 - 11","Help your readers to explore the issues surrounding teen parenting. The pro versus con format of the essays in this book presents diversity of opinion on the topic, including both conservative and liberal points of view in an even balance. Readers will evaluate several issues, such as whether the children of teen parents are disadvantaged, whether babies of teen fathers have greater health challenges, and whether teen parenting TV shows are realistic. Your readers will be able to make wise choices after learning these facts.","English",42,33.6,"306.85/​6","96 pp.","https://greenhavenpublishing.com/978-0-7377-5700-2",{"$f":"Table1[[#This Row],['# of Books]]*Table1[[#This Row],[QTY]]","v":0},{"$f":"Table1[[#This Row],[QTY]]*Table1[[#This Row],[School & Library Price]]","v":0}]
[null,null,40,null,null,"Current Issues","Issues that Concern You","Teen Parenting","978-0-7377-6461-1",{"$f":"HYPERLINK(Table1[[#This Row],[Hyperlink]],\"Weblink\")","v":"Weblink"},"Greenhaven Publishing","eBook",1,"2012","January 2012",null,null,"Edited by","Laurie Willis",null,null,null,null,"Z",null,"Grade 7 - 10","Grade 7 - 11","Help your readers to explore the issues surrounding teen parenting. The pro versus con format of the essays in this book presents diversity of opinion on the topic, including both conservative and liberal points of view in an even balance. Readers will evaluate several issues, such as whether the children of teen parents are disadvantaged, whether babies of teen fathers have greater health challenges, and whether teen parenting TV shows are realistic. Your readers will be able to make wise choices after learning these facts.","English",46.2,36.96,"306.85/​6","96 pp.","https://greenhavenpublishing.com/978-0-7377-6461-1",{"$f":"Table1[[#This Row],['# of Books]]*Table1[[#This Row],[QTY]]","v":0},{"$f":"Table1[[#This Row],[QTY]]*Table1[[#This Row],[School & Library Price]]","v":0}]
[null,null,40,null,null,"Current Issues","Issues that Concern You","Teens and Employment","978-0-7377-7241-8",{"$f":"HYPERLINK(Table1[[#This Row],[Hyperlink]],\"Weblink\")","v":"Weblink"},"Greenhaven Publishing","Library Bound Book",1,"2015","January 2015","Library","7.000 X 9.000","Edited by","Julia Garbus",null,null,null,null,"Z",null,"Grade 7 - 10","Grade 7 - 11","This volume examines the positive and negative effects of teens and jobs. It explores wages, the benefits of job experience, and time management. Readers will evaluate whether unpaid internships are beneficial, whether young actors need more legal protection, and whether many teens are sexually harassed at work. They will also evaluate whether millennials have unrealistic job expectations.","English",42,33.6,"331.3/​470973","96 pp.","https://greenhavenpublishing.com/978-0-7377-7241-8",{"$f":"Table1[[#This Row],['# of Books]]*Table1[[#This Row],[QTY]]","v":0},{"$f":"Table1[[#This Row],[QTY]]*Table1[[#This Row],[School & Library Price]]","v":0}]
[null,null,40,null,null,"Current Issues","Issues that Concern You","Underage Drinking","978-0-7377-6300-3",{"$f":"HYPERLINK(Table1[[#This Row],[Hyperlink]],\"Weblink\")","v":"Weblink"},"Greenhaven Publishing","Library Bound Book",1,"2013","January 2013","Library","7.000 X 9.000","Edited by","Lauri S. Scherer",null,null,null,null,"Z",null,"Grade 7 - 10","Grade 7 - 11","Editor Lauri S. Scherer has compiled a collection of essays that helps readers understand underage drinking as a perennial topic for debate. This volume covers the contentious nature of several issues, including lowering or eliminating the drinking age, parents drinking with their teens, and a variety of solutions for eliminating underage drinking on college campuses. Colorful photographs, charts, graphs, tables, and editorial cartoons reinforce the narrative and present data.","English",42,33.6,"362.2920835/​0973","120 pp.","https://greenhavenpublishing.com/978-0-7377-6300-3",{"$f":"Table1[[#This Row],['# of Books]]*Table1[[#This Row],[QTY]]","v":0},{"$f":"Table1[[#This Row],[QTY]]*Table1[[#This Row],[School & Library Price]]","v":0}]
[null,null,40,null,null,"Current Issues","Issues that Concern You","Vegetarianism","978-0-7377-6936-4",{"$f":"HYPERLINK(Table1[[#This Row],[Hyperlink]],\"Weblink\")","v":"Weblink"},"Greenhaven Publishing","Library Bound Book",1,"2014","January 2014","Library","7.000 X 9.000","Edited by","Arthur Gillard",null,null,null,null,"Z",null,"Grade 7 - 10","Grade 7 - 11","This volume provides an in-depth understanding of the topic of vegetarianism by presenting multiple sides to several concepts. After an overview of vegetarianism, readers will evaluate several debates, including whether humans are natural vegetarians, whether a plant-based diet is healthier, whether there is a moral justification for eating animals, and whether vegetarianism is bad for the environment. An essay by Brittany Estes-Garcia helps make the topic personal, by providing a description of the experience of being a vegan and vegetarian in high school.","English",42,33.6,"641.5/​636","104 pp.","https://greenhavenpublishing.com/978-0-7377-6936-4",{"$f":"Table1[[#This Row],['# of Books]]*Table1[[#This Row],[QTY]]","v":0},{"$f":"Table1[[#This Row],[QTY]]*Table1[[#This Row],[School & Library Price]]","v":0}]
[null,null,40,null,null,"Current Issues","Issues that Concern You","War","978-0-7377-6573-1",{"$f":"HYPERLINK(Table1[[#This Row],[Hyperlink]],\"Weblink\")","v":"Weblink"},"Greenhaven Publishing","eBook",1,"2012","January 2012",null,null,"Edited by","Arthur Gillard",null,null,null,null,"Z",null,"Grade 7 - 10","Grade 7 - 11","Readers are given a thorough and fascinating look at the concept of war. Topics covered include the nature and costs of war, remote-control and cyberwarfare, climate change impact as a catalyst for war, and the toll that post-traumatic stress takes on soldiers. Readers will evaluate the War on Terror, and the war in Afghanistan.","English",46.2,36.96,"355.02","128 pp.","https://greenhavenpublishing.com/978-0-7377-6573-1",{"$f":"Table1[[#This Row],['# of Books]]*Table1[[#This Row],[QTY]]","v":0},{"$f":"Table1[[#This Row],[QTY]]*Table1[[#This Row],[School & Library Price]]","v":0}]
[null,null,40,null,null,"Current Issues","Issues that Concern You","Zero Tolerance Policies in Schools","978-0-7377-4189-6",{"$f":"HYPERLINK(Table1[[#This Row],[Hyperlink]],\"Weblink\")","v":"Weblink"},"Greenhaven Publishing","Library Bound Book",1,"2009","January 2009","Library","7.000 X 9.000","Edited by","Peggy Daniels",null,null,null,null,"Z",null,"Grade 7 - 10","Grade 7 - 11","This compelling volume helps students analyze zero tolerance policies in U.S. public schools, as authors debate the effectiveness and fairness of such policies. Readers will form their own well researched opinion by evaluating each viewpoint offered, ranging in topics such as whether zero tolerance creates risks, whether it harms teachers, whether it treats students and criminals, and most importantly, whether it violates a student's rights.","English",42,33.6,"371.50973","160 pp.","https://greenhavenpublishing.com/978-0-7377-4189-6",{"$f":"Table1[[#This Row],['# of Books]]*Table1[[#This Row],[QTY]]","v":0},{"$f":"Table1[[#This Row],[QTY]]*Table1[[#This Row],[School & Library Price]]","v":0}]
[null,null,41,null,null,"Current Issues","Viewpoints on Modern World History","The Armenian Genocide","978-1-5345-0120-1",{"$f":"HYPERLINK(Table1[[#This Row],[Hyperlink]],\"Weblink\")","v":"Weblink"},"Greenhaven Publishing","Library Bound Book",1,"2018","January 2018","Library","6.000 X 9.000","Edited by","Paula Johanson",null,null,null,null,"Z",null,"Grade 10 - 12","Grade 9 - 12","The systematic extermination of about 1.5 million Armenians by the Ottoman government during and after World War I inspired the formulation of a new term that would come to haunt the modern \"civilized\" world, which was genocide. It was a harbinger of other genocides that would deeply scar and stain the twentieth century. To this day, Turkey denies the genocide, instead claiming that the victims died of starvation or the violence of isolated gangs or the unintended effects of legitimate deportation. These ongoing denials and evasions have generated enormous debate, criticism, and controversy, all of which is laid out here for readers to sift through and analyze, and within which they can pursue and locate the facts.","English",47.8,38.24,"956.6/20154--dc23","216 pp.","https://greenhavenpublishing.com/978-1-5345-0120-1",{"$f":"Table1[[#This Row],['# of Books]]*Table1[[#This Row],[QTY]]","v":0},{"$f":"Table1[[#This Row],[QTY]]*Table1[[#This Row],[School & Library Price]]","v":0}]
[null,null,41,null,null,"Current Issues","Viewpoints on Modern World History","Brexit","978-1-5345-0142-3",{"$f":"HYPERLINK(Table1[[#This Row],[Hyperlink]],\"Weblink\")","v":"Weblink"},"Greenhaven Publishing","eBook",1,"2018","January 2018",null,null,"Edited by","Caleb Bissinger",null,null,null,null,"Z","1330L","Grade 10 - 12","Grade 9 - 12","In June 2016, Great Britain shocked the world, and itself, by voting in favor of pulling out of the European Union. Far from settling a long simmering and increasingly contentious debate within the UK and Europe, the aftermath of the \"Brexit\" vote sowed only more confusion, uncertainty, and angry debate about the economic, political, and even moral consequences of turning away from Europe and adopting a more protectionist, nationalist stance. That there was no clear plan for moving ahead with an EU exit in the wake of the vote only stoked greater anger and outrage. The debate and arguments rage on and are fully represented in this comprehensive volume, as the future of the UK and Europe hang in the balance.","English",47.8,38.24,"341.242/230941--dc23","208 pp.","https://greenhavenpublishing.com/978-1-5345-0142-3",{"$f":"Table1[[#This Row],['# of Books]]*Table1[[#This Row],[QTY]]","v":0},{"$f":"Table1[[#This Row],[QTY]]*Table1[[#This Row],[School & Library Price]]","v":0}]
[null,null,41,null,null,"Current Issues","Viewpoints on Modern World History","U.S.-Iran Relations","978-1-5345-0135-5",{"$f":"HYPERLINK(Table1[[#This Row],[Hyperlink]],\"Weblink\")","v":"Weblink"},"Greenhaven Publishing","Library Bound Book",1,"2018","January 2018","Library","6.000 X 9.000","Edited by","Avery Elizabeth Hurt",null,null,null,null,"Z","1430L","Grade 10 - 12","Grade 9 - 12","The modern history of U.S.-Iran relations is a collection of iconic images: the Shah in regal glory on his throne; the Shah fleeing his country; the rapturous welcome of Ayatollah Khomeini; the parading of blindfolded American hostages; the burning wreckage of American rescue helicopters; Oliver North testifying on the Iran-Contra scandal; the volatile defiance of Mahmoud Ahmadinejad; the hope of the Green Movement; and the persistent gloom of Ali Khameini. Yet behind these images are decades worth of diplomatic efforts, policy statements, official speeches, and passionate opinion pieces written by politicians, policymakers, human rights activists, and engaged citizens. Readers who examine these disparate viewpoints will gain a deep understanding of the vital, urgent, strategic importance of this long fraught relationship.","English",47.8,38.24,"327.73055--dc23","160 pp.","https://greenhavenpublishing.com/978-1-5345-0135-5",{"$f":"Table1[[#This Row],['# of Books]]*Table1[[#This Row],[QTY]]","v":0},{"$f":"Table1[[#This Row],[QTY]]*Table1[[#This Row],[School & Library Price]]","v":0}]
[null,null,42,null,null,"Current Issues","Social Issues Firsthand","Addiction","978-0-7377-2494-3",{"$f":"HYPERLINK(Table1[[#This Row],[Hyperlink]],\"Weblink\")","v":"Weblink"},"Greenhaven Publishing","Library Bound Book",1,"2008","January 2008","Library","6.000 X 9.000","Edited by","Wyatt Schaefer",null,null,null,null,"Z",null,"Grade 10 - 12","Grade 10 - 12","Illuminating the often-neglected human side of society's pressing problems, this must-have collection of essays broadens and balances readers' exposure to the topic of addiction. Each essay is a personal narrative written by individuals with first-hand experience in addiction, sharing the facts on a personal level. Readers will hear a celebrity discuss his addition. They will learn about an addict who moved from alcohol to crack. A dad tells his story about living in fear for his son's life. Another essayist describes the challenges of loving a drunk. These personal stories will leave a lasting impression on your readers, allowing them to form intelligent opinions.","English",38.299999999999997,30.64,"362.29","128 pp.","https://greenhavenpublishing.com/978-0-7377-2494-3",{"$f":"Table1[[#This Row],['# of Books]]*Table1[[#This Row],[QTY]]","v":0},{"$f":"Table1[[#This Row],[QTY]]*Table1[[#This Row],[School & Library Price]]","v":0}]
[null,null,42,null,null,"Current Issues","Social Issues Firsthand","Bullying","978-0-7377-3833-9",{"$f":"HYPERLINK(Table1[[#This Row],[Hyperlink]],\"Weblink\")","v":"Weblink"},"Greenhaven Publishing","Library Bound Book",1,"2009","January 2009","Library","6.000 X 9.000","Edited by, Edited by","Norah Piehl, Adela Soliz",null,null,null,null,"Z",null,"Grade 10 - 12","Grade 10 - 12","This must-have volume helps readers understand bullying through several personal and compelling essays. Readers learn about victims, perpetrators, teasing, why someone chooses to bully, and how teachers can be bullied too. Survivors share their stories as well.","English",38.299999999999997,30.64,"302.3","112 pp.","https://greenhavenpublishing.com/978-0-7377-3833-9",{"$f":"Table1[[#This Row],['# of Books]]*Table1[[#This Row],[QTY]]","v":0},{"$f":"Table1[[#This Row],[QTY]]*Table1[[#This Row],[School & Library Price]]","v":0}]
[null,null,42,null,null,"Current Issues","Social Issues Firsthand","Cults","978-0-7377-4030-1",{"$f":"HYPERLINK(Table1[[#This Row],[Hyperlink]],\"Weblink\")","v":"Weblink"},"Greenhaven Publishing","Library Bound Book",1,"2008","January 2008","Library","6.000 X 9.000","Edited by","Doreen Piano",null,null,null,null,"Z",null,"Grade 10 - 12","Grade 10 - 12","Human beings often have a need for belonging. Where this need isn't satisfied, we find it. Cults offer a place to belong, but they also offer problems. This compelling collection of first-person narratives provides readers with true insight into the world of cults. Readers will hear about the kind of individuals who join cults and why. They will hear about what it's like to be born into a cult, and what it's like trying to leave one. The last chapter shares enthralling stories about the dangers of cults. Jim Guerra describes for readers what it was like to see his family for the first time in six years. Give your readers a new perspective into cults.","English",38.299999999999997,30.64,"209","184 pp.","https://greenhavenpublishing.com/978-0-7377-4030-1",{"$f":"Table1[[#This Row],['# of Books]]*Table1[[#This Row],[QTY]]","v":0},{"$f":"Table1[[#This Row],[QTY]]*Table1[[#This Row],[School & Library Price]]","v":0}]
[null,null,42,null,null,"Current Issues","Social Issues Firsthand","Depression","978-0-7377-3836-0",{"$f":"HYPERLINK(Table1[[#This Row],[Hyperlink]],\"Weblink\")","v":"Weblink"},"Greenhaven Publishing","Library Bound Book",1,"2008","January 2008","Library","6.000 X 9.000","Edited by","Laurie Willis",null,null,null,null,"Z",null,"Grade 10 - 12","Grade 10 - 12","More than 3 millions cases of depression are diagnosed in America each year. This condition will impact the lives of your readers, either personally or through someone they know. Give readers a compelling, fascinating examination of depression through first-hand, personal accounts from those who have been impacted by it. Personal essays describe what it is like when depression strikes for the first time. Another essay describes depression feels better when you're with others who understand. One essayist describes the relationship between depression and race. Readers will hear from a person who confronted a coworker about his illness. After reading these and other compelling narratives, readers will have a whole new understanding about depression.","English",38.299999999999997,30.64,"616.85/​27","152 pp.","https://greenhavenpublishing.com/978-0-7377-3836-0",{"$f":"Table1[[#This Row],['# of Books]]*Table1[[#This Row],[QTY]]","v":0},{"$f":"Table1[[#This Row],[QTY]]*Table1[[#This Row],[School & Library Price]]","v":0}]
[null,null,42,null,null,"Current Issues","Social Issues Firsthand","Eating Disorders","978-0-7377-4252-7",{"$f":"HYPERLINK(Table1[[#This Row],[Hyperlink]],\"Weblink\")","v":"Weblink"},"Greenhaven Publishing","Library Bound Book",1,"2009","January 2009","Library","6.000 X 9.000","Edited by","Norah Piehl",null,null,null,null,"Z",null,"Grade 10 - 12","Grade 10 - 12","In this digital age, young kids are highly impressionable about looks. Reality stars seemingly snap perfect party pics that trend within seconds. With a body-conscious society, it's easy for someone less secure in their personal strengths to develop eating disorders. There are also mental disorders associated with it. This incredible collection of personal narratives describes the causes, consequences, and treatment of anorexia, bulimia, and compulsive eating. One essay shares the story of a promising and aspiring ballet dancer, who developed anorexia as a teenager. Another essayist, who gained national fame after losing half her body weight, relates how food addiction and compulsive eating are not easily overcome. Another essay comes from a nurse practitioner and health educator who discusses her dual roles as professional and parent as her daughter undergoes treatment for an eating disorder. Give your readers a most factual and compelling look at eating disorders.","English",38.299999999999997,30.64,"616.85/​26","104 pp.","https://greenhavenpublishing.com/978-0-7377-4252-7",{"$f":"Table1[[#This Row],['# of Books]]*Table1[[#This Row],[QTY]]","v":0},{"$f":"Table1[[#This Row],[QTY]]*Table1[[#This Row],[School & Library Price]]","v":0}]
[null,null,42,null,null,"Current Issues","Social Issues Firsthand","Infertility","978-0-7377-3839-1",{"$f":"HYPERLINK(Table1[[#This Row],[Hyperlink]],\"Weblink\")","v":"Weblink"},"Greenhaven Publishing","Library Bound Book",1,"2008","January 2008","Library","6.000 X 9.000","Edited by","Norah Piehl",null,null,null,null,"Z",null,"Grade 10 - 12","Grade 10 - 12","Editor Norah Piehl has sourced several compelling first hand narratives to help readers explore the topic of infertility. By reading the words of people intimately affected by this condition, readers will make informed intelligent opinions that include the very human side of life. Personal narratives explain infertility's effects on the Self and the family. Some essays describe experiences with high-tech solutions. Further essays describe other options, such as adoption, surrogacy, and childlessness. ","English",38.299999999999997,30.64,"616.692","120 pp.","https://greenhavenpublishing.com/978-0-7377-3839-1",{"$f":"Table1[[#This Row],['# of Books]]*Table1[[#This Row],[QTY]]","v":0},{"$f":"Table1[[#This Row],[QTY]]*Table1[[#This Row],[School & Library Price]]","v":0}]
[null,null,43,null,null,"Current Issues","Social Issues Firsthand","People with Disabilities","978-0-7377-4798-0",{"$f":"HYPERLINK(Table1[[#This Row],[Hyperlink]],\"Weblink\")","v":"Weblink"},"Greenhaven Publishing","Library Bound Book",1,"2011","January 2011","Library","6.000 X 9.000","Edited by","Hayley Mitchell Haugen",null,null,null,null,"Z",null,"Grade 10 - 12","Grade 10 - 12","This volume provides an overview the rights of people with disabilities in the United States, a chronology of important events, an annotated bibliography, and other resources for conducting further research. The author illuminates this often-neglected human side of these problems by presenting a collection of personal narratives of people who have had personal experience with physical and mental disabilities as participants, witnesses, or involved professionals.","English",38.299999999999997,30.64,"362.4","112 pp.","https://greenhavenpublishing.com/978-0-7377-4798-0",{"$f":"Table1[[#This Row],['# of Books]]*Table1[[#This Row],[QTY]]","v":0},{"$f":"Table1[[#This Row],[QTY]]*Table1[[#This Row],[School & Library Price]]","v":0}]
[null,null,43,null,null,"Current Issues","Social Issues Firsthand","Prostitution","978-0-7377-4136-0",{"$f":"HYPERLINK(Table1[[#This Row],[Hyperlink]],\"Weblink\")","v":"Weblink"},"Greenhaven Publishing","Library Bound Book",1,"2008","January 2008","Library","6.000 X 9.000","Edited by","Ronald D. Lankford, Jr.",null,null,null,null,"Z",null,"Grade 10 - 12","Grade 10 - 12","One of the best ways to understand complicated topics is to hear moving stories from people impacted by those topics. Editor Ronald D. Lankford, Jr. has compiled several thought-provoking and telling essays that tackle the topic of prostitution. Lisa Carver describes what life was like as a teenage prostitute. David Henry Sterry describes life as a Hollywood prostitute. Shelly Lubben shares what life is like when a former prostitute finds God. Teri Goodson addresses the uneasy relationship between prostitutes and feminists. These and more essays will help your readers analyze beliefs, opinions, and their own values in relation to prostitution.","English",38.299999999999997,30.64,"363.4/4--dc22","144 pp.","https://greenhavenpublishing.com/978-0-7377-4136-0",{"$f":"Table1[[#This Row],['# of Books]]*Table1[[#This Row],[QTY]]","v":0},{"$f":"Table1[[#This Row],[QTY]]*Table1[[#This Row],[School & Library Price]]","v":0}]
[null,null,43,null,null,"Current Issues","Social Issues Firsthand","Underage Drinking","978-0-7377-4799-7",{"$f":"HYPERLINK(Table1[[#This Row],[Hyperlink]],\"Weblink\")","v":"Weblink"},"Greenhaven Publishing","Library Bound Book",1,"2010","January 2010","Library","6.000 X 9.000","Edited by","Norah Piehl",null,null,null,null,"Z",null,"Grade 10 - 12","Grade 10 - 12","This volume provides a collection of personal narratives on the impact of underage drinking on families and the relationships between parents and children. It includes perspectives on the problems and challenges of the culture of drinking on college campuses, and accounts of regrets and resolutions growing out of drinking problems.","English",38.299999999999997,30.64,"362.2920835/​0973","120 pp.","https://greenhavenpublishing.com/978-0-7377-4799-7",{"$f":"Table1[[#This Row],['# of Books]]*Table1[[#This Row],[QTY]]","v":0},{"$f":"Table1[[#This Row],[QTY]]*Table1[[#This Row],[School & Library Price]]","v":0}]
[null,null,44,null,null,"Current Issues","Teen Rights and Freedoms","Abortion","978-0-7377-6810-7",{"$f":"HYPERLINK(Table1[[#This Row],[Hyperlink]],\"Weblink\")","v":"Weblink"},"Greenhaven Publishing","eBook",1,"2013","January 2013",null,null,"Edited by","Noël Merino",null,null,null,null,"Z",null,"Grade 10 - 12","Grade 10 - 12","Readers will analyze a number of issues relating to abortion and their rights, through a carefully selected collection of essays. Topics include the federal decriminalization of abortion and state laws concerning abortion, parental consent and involvement laws for minors seeking abortion, and public and personal opinion of abortion. Essays are drawn from a diverse selection of primary and secondary sources including journals, newspapers, position papers, and government documents, with particular emphasis on Supreme Court and other court decisions.","English",46.2,36.96,"342.7308/4","176 pp.","https://greenhavenpublishing.com/978-0-7377-6810-7",{"$f":"Table1[[#This Row],['# of Books]]*Table1[[#This Row],[QTY]]","v":0},{"$f":"Table1[[#This Row],[QTY]]*Table1[[#This Row],[School & Library Price]]","v":0}]
[null,null,44,null,null,"Current Issues","Teen Rights and Freedoms","Alcohol","978-0-7377-6811-4",{"$f":"HYPERLINK(Table1[[#This Row],[Hyperlink]],\"Weblink\")","v":"Weblink"},"Greenhaven Publishing","eBook",1,"2013","January 2013",null,null,"Edited by","Roman Espejo",null,null,null,null,"Z",null,"Grade 10 - 12","Grade 10 - 12","Whether adults realize it or not, the world we portray shows children and teens that alcohol is an important part of enjoying life. It is only natural during the years a teen is exerting rights and seeking independence, that they'd want to try what we inundate them with in messaging as a good time. This fact of life is what leads us to the controversial, contentious, and never-ending debate on teen rights and alcohol. This collection of essays analyzes many issues related to alcohol, including the national minimum drinking age, the liability of adult hosts of social gatherings where minors are served alcohol, the prospect of a graduated alcohol licensing system that would loosen restrictions for people aged 18 to 20, and the growing trend of mandatory alcohol testing at high school dances.","English",46.2,36.96,"362.2920835/​0973","168 pp.","https://greenhavenpublishing.com/978-0-7377-6811-4",{"$f":"Table1[[#This Row],['# of Books]]*Table1[[#This Row],[QTY]]","v":0},{"$f":"Table1[[#This Row],[QTY]]*Table1[[#This Row],[School & Library Price]]","v":0}]
[null,null,44,null,null,"Current Issues","Teen Rights and Freedoms","Bullying","978-0-7377-6399-7",{"$f":"HYPERLINK(Table1[[#This Row],[Hyperlink]],\"Weblink\")","v":"Weblink"},"Greenhaven Publishing","Library Bound Book",1,"2014","January 2014","Library","6.000 X 9.000","Edited by","David M. Haugen",null,null,null,null,"Z",null,"Grade 10 - 12","Grade 10 - 12","This collection of essays examines bullying in schools and the schools reaction within the United States, focusing on the scope of the problem, current state and federal legislation on the issue, different approaches schools have taken, and the most affected populations. A touching, personal narrative essay from a mother who urges that parents must take action to stop bullying and why is included.","English",42,33.6,"344.73/0793","184 pp.","https://greenhavenpublishing.com/978-0-7377-6399-7",{"$f":"Table1[[#This Row],['# of Books]]*Table1[[#This Row],[QTY]]","v":0},{"$f":"Table1[[#This Row],[QTY]]*Table1[[#This Row],[School & Library Price]]","v":0}]
[null,null,44,null,null,"Current Issues","Teen Rights and Freedoms","Disabilities","978-0-7377-7073-5",{"$f":"HYPERLINK(Table1[[#This Row],[Hyperlink]],\"Weblink\")","v":"Weblink"},"Greenhaven Publishing","eBook",1,"2014","January 2014",null,null,"Edited by, Edited by","David M. Haugen, Susan Musser",null,null,null,null,"Z",null,"Grade 10 - 12","Grade 10 - 12","This volume explores real and perceived teen rights related to disabilities, including the impact of the Individuals with Disabilities Education Act, the Americans with Disabilities Act, and other legislation covering students and adults with disabilities. The definitions of the minimum levels of care, rights regarding community versus institution-based living, and students' rights to education regardless of disability are discussed.","English",46.2,36.96,"323.3","200 pp.","https://greenhavenpublishing.com/978-0-7377-7073-5",{"$f":"Table1[[#This Row],['# of Books]]*Table1[[#This Row],[QTY]]","v":0},{"$f":"Table1[[#This Row],[QTY]]*Table1[[#This Row],[School & Library Price]]","v":0}]
[null,null,44,null,null,"Current Issues","Teen Rights and Freedoms","Driving","978-0-7377-6997-5",{"$f":"HYPERLINK(Table1[[#This Row],[Hyperlink]],\"Weblink\")","v":"Weblink"},"Greenhaven Publishing","Library Bound Book",1,"2015","January 2015","Library","6.000 X 9.000","Edited by","Sylvia Engdahl",null,null,null,null,"Z",null,"Grade 10 - 12","Grade 10 - 12","For both adults and teens, driving is a privilege, not a right. In recent years more stringent regulations have come into play regarding teen driving. Graduated licensing, questions about the age at which teens should begin driving, and concerns arising from technology are examined in this volume. Material is drawn from a diverse selection of primary and secondary sources with particular emphasis on Supreme Court and other court decisions.","English",42,33.6,"363.12/508350973","120 pp.","https://greenhavenpublishing.com/978-0-7377-6997-5",{"$f":"Table1[[#This Row],['# of Books]]*Table1[[#This Row],[QTY]]","v":0},{"$f":"Table1[[#This Row],[QTY]]*Table1[[#This Row],[School & Library Price]]","v":0}]
[null,null,44,null,null,"Current Issues","Teen Rights and Freedoms","Electronic Devices","978-0-7377-6607-3",{"$f":"HYPERLINK(Table1[[#This Row],[Hyperlink]],\"Weblink\")","v":"Weblink"},"Greenhaven Publishing","eBook",1,"2012","January 2012",null,null,"Edited by","Sylvia Engdahl",null,null,null,null,"Z",null,"Grade 10 - 12","Grade 10 - 12","Editor Sylvia Engdahl has completed no small task in compiling a collection of essays that tackle an array of issues relating to electronic devices and teen rights. The use of electronic devices in the home, school, and life is prolific to a distracting degree. Issues covered here include whether or not wireless devices improve teen lives; the impact of excessive video gaming; the use of cell phones in school; dangers related to texting; tracking teens via parental G.P.S. devices; and digital music piracy.","English",46.2,36.96,"303.48/33","160 pp.","https://greenhavenpublishing.com/978-0-7377-6607-3",{"$f":"Table1[[#This Row],['# of Books]]*Table1[[#This Row],[QTY]]","v":0},{"$f":"Table1[[#This Row],[QTY]]*Table1[[#This Row],[School & Library Price]]","v":0}]
[null,null,44,null,null,"Current Issues","Teen Rights and Freedoms","Health Care","978-0-7377-7000-1",{"$f":"HYPERLINK(Table1[[#This Row],[Hyperlink]],\"Weblink\")","v":"Weblink"},"Greenhaven Publishing","Library Bound Book",1,"2015","January 2015","Library","6.000 X 9.000","Edited by","Noël Merino",null,null,null,null,"Z",null,"Grade 10 - 12","Grade 10 - 12","Our teen years are about gaining independence from our parents, and this includes the point at which we learn to care for ourselves, and seek healthcare when we need it. This volume helps readers understand the real and perceived teen rights related to health care, such as the level at which minors should be involved in their own health-care decisions, abortion rights, and the role religion plays in health care. One compelling essay is a parent's explanation of why she denied medical treatment for her teen.","English",42,33.6,"344.7304/1","144 pp.","https://greenhavenpublishing.com/978-0-7377-7000-1",{"$f":"Table1[[#This Row],['# of Books]]*Table1[[#This Row],[QTY]]","v":0},{"$f":"Table1[[#This Row],[QTY]]*Table1[[#This Row],[School & Library Price]]","v":0}]
[null,null,44,null,null,"Current Issues","Teen Rights and Freedoms","The Internet","978-0-7377-5829-0",{"$f":"HYPERLINK(Table1[[#This Row],[Hyperlink]],\"Weblink\")","v":"Weblink"},"Greenhaven Publishing","Library Bound Book",1,"2012","January 2012","Library","6.000 X 9.000","Edited by","Cynthia A. Bily",null,null,null,null,"Z",null,"Grade 10 - 12","Grade 10 - 12","Editor Cynthia A. Bily has compiled a slew of essays that cover a variety of topics, including the legal issues of teen internet use; balancing First Amendment rights with safety; court cases related to the Communications Decency Act of 1996; the role of schools in off-campus internet activity; downloading music illegally; and cyberbullying.","English",42,33.6,"343.7309/944","168 pp.","https://greenhavenpublishing.com/978-0-7377-5829-0",{"$f":"Table1[[#This Row],['# of Books]]*Table1[[#This Row],[QTY]]","v":0},{"$f":"Table1[[#This Row],[QTY]]*Table1[[#This Row],[School & Library Price]]","v":0}]
[null,null,44,null,null,"Current Issues","Teen Rights and Freedoms","Labor and Employment","978-0-7377-6681-3",{"$f":"HYPERLINK(Table1[[#This Row],[Hyperlink]],\"Weblink\")","v":"Weblink"},"Greenhaven Publishing","eBook",1,"2013","January 2013",null,null,"Edited by, Edited by","David M. Haugen, Susan Musser",null,null,null,null,"Z",null,"Grade 10 - 12","Grade 10 - 12","The first jobs that teenagers get are truly important, as the responsibilities and wages from these jobs mark the beginning of independence. This collection of essays debates the real and perceived teen rights related to labor and employment. Readers will consider child labor regulations, work as it relates to school, the and lowering and increasing the minimum wage. A chapter is included on rights of children and teens on reality T.V. shows.","English",46.2,36.96,"344.7301/31","152 pp.","https://greenhavenpublishing.com/978-0-7377-6681-3",{"$f":"Table1[[#This Row],['# of Books]]*Table1[[#This Row],[QTY]]","v":0},{"$f":"Table1[[#This Row],[QTY]]*Table1[[#This Row],[School & Library Price]]","v":0}]
[null,null,44,null,null,"Current Issues","Teen Rights and Freedoms","Religion","978-0-7377-5831-3",{"$f":"HYPERLINK(Table1[[#This Row],[Hyperlink]],\"Weblink\")","v":"Weblink"},"Greenhaven Publishing","Library Bound Book",1,"2012","January 2012","Library","6.000 X 9.000","Edited by","Noël Merino",null,null,null,null,"Z",null,"Grade 10 - 12","Grade 10 - 12","More than 10 essays present the various sides to the topics of teen rights and religion. Freedom of speech and freedom of religion are often in conflict, but these essays help teens wade through the debate, including whether prayer should be allowed at school, whether mandated attendance is against freedom of religion, and whether the Supreme Court has gone too far in limiting a teen's right to religious speech.","English",42,33.6,"344.73/​0796","168 pp.","https://greenhavenpublishing.com/978-0-7377-5831-3",{"$f":"Table1[[#This Row],['# of Books]]*Table1[[#This Row],[QTY]]","v":0},{"$f":"Table1[[#This Row],[QTY]]*Table1[[#This Row],[School & Library Price]]","v":0}]
[null,null,44,null,null,"Current Issues","Teen Rights and Freedoms","Religion","978-0-7377-6514-4",{"$f":"HYPERLINK(Table1[[#This Row],[Hyperlink]],\"Weblink\")","v":"Weblink"},"Greenhaven Publishing","eBook",1,"2012","January 2012",null,null,"Edited by","Noël Merino",null,null,null,null,"Z",null,"Grade 10 - 12","Grade 10 - 12","More than 10 essays present the various sides to the topics of teen rights and religion. Freedom of speech and freedom of religion are often in conflict, but these essays help teens wade through the debate, including whether prayer should be allowed at school, whether mandated attendance is against freedom of religion, and whether the Supreme Court has gone too far in limiting a teen's right to religious speech.","English",46.2,36.96,"344.73/​0796","168 pp.","https://greenhavenpublishing.com/978-0-7377-6514-4",{"$f":"Table1[[#This Row],['# of Books]]*Table1[[#This Row],[QTY]]","v":0},{"$f":"Table1[[#This Row],[QTY]]*Table1[[#This Row],[School & Library Price]]","v":0}]
[null,null,44,null,null,"Current Issues","Teen Rights and Freedoms","Sex","978-0-7377-6404-8",{"$f":"HYPERLINK(Table1[[#This Row],[Hyperlink]],\"Weblink\")","v":"Weblink"},"Greenhaven Publishing","Library Bound Book",1,"2013","January 2013","Library","6.000 X 9.000","Edited by, Edited by","David M. Haugen, Susan Musser",null,null,null,null,"Z",null,"Grade 10 - 12","Grade 10 - 12","The very inevitable topic of sex makes its way into our daily lives, whether we want it to or not, and now, it's starting at younger ages than ever before. This very important volume provides primary and secondary source essays that help the reader wade through several issues relating to sex and law. Readers evaluate the age of consent, and the perceived and real rights to birth control, abortion, and the role of parental consent with both. Sexting and other techno-based topics are also evaluated.","English",42,33.6,"342.7308","160 pp.","https://greenhavenpublishing.com/978-0-7377-6404-8",{"$f":"Table1[[#This Row],['# of Books]]*Table1[[#This Row],[QTY]]","v":0},{"$f":"Table1[[#This Row],[QTY]]*Table1[[#This Row],[School & Library Price]]","v":0}]
[null,null,44,null,null,"Current Issues","Teen Rights and Freedoms","Tobacco and Smoking","978-0-7377-6405-5",{"$f":"HYPERLINK(Table1[[#This Row],[Hyperlink]],\"Weblink\")","v":"Weblink"},"Greenhaven Publishing","Library Bound Book",1,"2014","January 2014","Library","6.000 X 9.000","Edited by","Roman Espejo",null,null,null,null,"Z",null,"Grade 10 - 12","Grade 10 - 12","Smoking is a hot button subject, especially when movies, T.V. and online shows, ads, and celebrities are shown partaking in long, dramatic drags from cigarettes and other smoking devices. While you need to be 18 years old to smoke legally in the U.S., when lead characters of a younger are seen smoking, the double messages abound. This volume carefully explores real and perceived teen rights related to tobacco and smoking. Readers will learn whether or not smoking is a right for teens, and examine the question of whether or not tobacco companies are targeting teens. They will also evaluate the impact of tobacco advertising on their age group.","English",42,33.6,"362.29/​6","168 pp.","https://greenhavenpublishing.com/978-0-7377-6405-5",{"$f":"Table1[[#This Row],['# of Books]]*Table1[[#This Row],[QTY]]","v":0},{"$f":"Table1[[#This Row],[QTY]]*Table1[[#This Row],[School & Library Price]]","v":0}]
[null,null,45,null,null,"Arts & Humanities","Social Issues in Literature","The American Dream in John Steinbeck's Of Mice and Men","978-0-7377-4849-9",{"$f":"HYPERLINK(Table1[[#This Row],[Hyperlink]],\"Weblink\")","v":"Weblink"},"Greenhaven Publishing","Paperback Book",1,"2010","January 2010","Paperback","6.000 X 9.000","Edited by","Hayley Mitchell Haugen",null,null,null,null,"Z",null,"Grade 10 - 12","Grade 10 - 12","Before breaking out as a novelist, John Steinbeck supported himself as a ranch-hand and farm laborer in California, where he witnessed the poverty and conditions that workers toiled under in the fields. Drawing inspiration from his experiences, Steinbeck went on to pen Of Mice and Men, a tale of two field workers determined to survive the brutal conditions of their lot in hopes of owning their own farm. Since its publication, Of Mice and Men has become a critical text in the American canon of fiction for its ability to critically examine the American dream and American reality. This book offers an in-depth examination of the John Steinbeck's interpretation of the American Dream, as well as contemporary perspectives on this issue. Discussions include the dangerous and addictive side of seeking personal wealth, immigration and the American Dream, and whether what constitutes the American Dream has changed over time.","English",32,25.6,"813/.52","160 pp.","https://greenhavenpublishing.com/978-0-7377-4849-9",{"$f":"Table1[[#This Row],['# of Books]]*Table1[[#This Row],[QTY]]","v":0},{"$f":"Table1[[#This Row],[QTY]]*Table1[[#This Row],[School & Library Price]]","v":0}]
[null,null,45,null,null,"Arts & Humanities","Social Issues in Literature","Bioethics in Aldous Huxley's Brave New World","978-0-7377-4807-9",{"$f":"HYPERLINK(Table1[[#This Row],[Hyperlink]],\"Weblink\")","v":"Weblink"},"Greenhaven Publishing","Library Bound Book",1,"2010","January 2010","Library","6.000 X 9.000","Edited by","Dedria Bryfonski",null,null,null,null,"Z",null,"Grade 10 - 12","Grade 10 - 12","In his novel Brave New World, writer Aldous Huxley extends the intersection of community and science to a dystopian conclusion: an entire world built upon the principles of Henry Ford's automobile assembly lines. This volume offers an in-depth examination of bioethics as presented in Aldous Huxley's novel Brave New World, as well as contemporary perspectives on this issue. Essay topics include the misuse of science for power gains, the balance of good and evil inherent in certain scientific endeavors, the ethics of \"designer babies,\" the promotion and restriction of stem cell research, and the relationship between genetic science and civil liberties. ","English",46.4,37.119999999999997,"823/.912","168 pp.","https://greenhavenpublishing.com/978-0-7377-4807-9",{"$f":"Table1[[#This Row],['# of Books]]*Table1[[#This Row],[QTY]]","v":0},{"$f":"Table1[[#This Row],[QTY]]*Table1[[#This Row],[School & Library Price]]","v":0}]
[null,null,45,null,null,"Arts & Humanities","Social Issues in Literature","Censorship in Ray Bradbury's Fahrenheit 451","978-0-7377-5289-2",{"$f":"HYPERLINK(Table1[[#This Row],[Hyperlink]],\"Weblink\")","v":"Weblink"},"Greenhaven Publishing","Paperback Book",1,"2011","January 2011","Paperback","6.000 X 9.000","Edited by","Candice L. Mancini",null,null,null,null,"Z","1320L","Grade 10 - 12","Grade 10 - 12","Responding to a time of unparalleled censorship, from the McCarthy trials, to book burning festivals in Nazi Germany, to the millions of poets and writers imprisoned or executed by the Soviet government, Ray Bradbury's Fahrenheit 451 offers a vision of the world in which the elimination of challenging ideas tears away at the fabric of free speech and society. This compelling edition offers readers a collection of eighteen essays that contextualize and expand upon the theme of censorship in Fahrenheit 451. The book includes an interview with Bradbury and also covers the author's life and work. Other discussions include contemporary perspectives on censorship, a discussion of when governments might need to restrict ideas, what we risk when we censor the internet, and the importance of libraries and access to books.","English",32,25.6,"813/.54","160 pp.","https://greenhavenpublishing.com/978-0-7377-5289-2",{"$f":"Table1[[#This Row],['# of Books]]*Table1[[#This Row],[QTY]]","v":0},{"$f":"Table1[[#This Row],[QTY]]*Table1[[#This Row],[School & Library Price]]","v":0}]
[null,null,45,null,null,"Arts & Humanities","Social Issues in Literature","Class Conflict in Charles Dickens' A Tale of Two Cities","978-0-7377-6975-3",{"$f":"HYPERLINK(Table1[[#This Row],[Hyperlink]],\"Weblink\")","v":"Weblink"},"Greenhaven Publishing","Paperback Book",1,"2014","January 2014","Paperback","6.000 X 9.000","Edited by","Dedria Bryfonski",null,null,null,null,"Z","1350L","Grade 10 - 12","Grade 10 - 12","When a French doctor is imprisoned for eighteen years, he is released and united with his daughter, whom he has never met. The story of their life in London, and the conflict between her husband and the people who imprisoned her father, bring back ghosts from the past. Charles Dickens' A Tale of Two Cities is known for its opening sentence, but the novel raises questions that explore income inequality, globalization, and the fate of civil rights when a government dissolves, topics we still grapple with today. This volume explores the life and work of Charles Dickens, focusing particularly on the theme of class conflict in the novel, and includes viewpoints on class conflict and income inequality in the present day, including the role that technology plays in increasing income inequality and class conflict, and the generational nature of class conflict.","English",32,25.6,"823/.8","208 pp.","https://greenhavenpublishing.com/978-0-7377-6975-3",{"$f":"Table1[[#This Row],['# of Books]]*Table1[[#This Row],[QTY]]","v":0},{"$f":"Table1[[#This Row],[QTY]]*Table1[[#This Row],[School & Library Price]]","v":0}]
[null,null,45,null,null,"Arts & Humanities","Social Issues in Literature","Colonialism in Joseph Conrad's Heart of Darkness","978-0-7377-5804-7",{"$f":"HYPERLINK(Table1[[#This Row],[Hyperlink]],\"Weblink\")","v":"Weblink"},"Greenhaven Publishing","Paperback Book",1,"2012","January 2012","Paperback","6.000 X 9.000","Edited by","Claudia Durst Johnson",null,null,null,null,"Z","1370L","Grade 10 - 12","Grade 10 - 12","This compelling volume examines Joseph Conrad's life and writings, with a specific look at key ideas related to Heart of Darkness. The text discusses a variety of topics, including the evil pettiness behind colonial bureaucracy; facing colonialism's racial divide; the relationship between Victorian ethics, new science, and colonialism; and modern views of colonialism, including colonialism in North African countries and multinational corporate abuse in India.","English",32,25.6,"823/.912","168 pp.","https://greenhavenpublishing.com/978-0-7377-5804-7",{"$f":"Table1[[#This Row],['# of Books]]*Table1[[#This Row],[QTY]]","v":0},{"$f":"Table1[[#This Row],[QTY]]*Table1[[#This Row],[School & Library Price]]","v":0}]
[null,null,45,null,null,"Arts & Humanities","Social Issues in Literature","Colonialism in Joseph Conrad's Heart of Darkness","978-0-7377-6564-9",{"$f":"HYPERLINK(Table1[[#This Row],[Hyperlink]],\"Weblink\")","v":"Weblink"},"Greenhaven Publishing","eBook",1,"2012","January 2012",null,null,"Edited by","Claudia Durst Johnson",null,null,null,null,"Z","1370L","Grade 10 - 12","Grade 10 - 12","This compelling volume examines Joseph Conrad's life and writings, with a specific look at key ideas related to Heart of Darkness. The text discusses a variety of topics, including the evil pettiness behind colonial bureaucracy; facing colonialism's racial divide; the relationship between Victorian ethics, new science, and colonialism; and modern views of colonialism, including colonialism in North African countries and multinational corporate abuse in India.","English",51.04,40.83,"823/.912","168 pp.","https://greenhavenpublishing.com/978-0-7377-6564-9",{"$f":"Table1[[#This Row],['# of Books]]*Table1[[#This Row],[QTY]]","v":0},{"$f":"Table1[[#This Row],[QTY]]*Table1[[#This Row],[School & Library Price]]","v":0}]
[null,null,45,null,null,"Arts & Humanities","Social Issues in Literature","Coming of Age in Sue Monk Kidd's The Secret Life of Bees","978-0-7377-6384-3",{"$f":"HYPERLINK(Table1[[#This Row],[Hyperlink]],\"Weblink\")","v":"Weblink"},"Greenhaven Publishing","Paperback Book",1,"2013","January 2013","Paperback","6.000 X 9.000","Edited by","Dedria Bryfonski",null,null,null,null,"Z","1290L","Grade 10 - 12","Grade 10 - 12","This volume explores the life and work of Sue Monk Kidd, focusing particularly on the coming of age theme in her novel The Secret Life of Bees. The book presents readers with a collection of essays that address topics such as community as a place for transformation, Lily's development at the expense of black individualism, and the role of social consciousness and spirituality. Modern perspectives on adolescence are also presented, allowing readers to make important connections between the text and the concerns of today's world.","English",32,25.6,"813/.6","136 pp.","https://greenhavenpublishing.com/978-0-7377-6384-3",{"$f":"Table1[[#This Row],['# of Books]]*Table1[[#This Row],[QTY]]","v":0},{"$f":"Table1[[#This Row],[QTY]]*Table1[[#This Row],[School & Library Price]]","v":0}]
[null,null,45,null,null,"Arts & Humanities","Social Issues in Literature","Death and Dying in the Poetry of Emily Dickinson","978-0-7377-6376-8",{"$f":"HYPERLINK(Table1[[#This Row],[Hyperlink]],\"Weblink\")","v":"Weblink"},"Greenhaven Publishing","Paperback Book",1,"2013","January 2013","Paperback","6.000 X 9.000","Edited by","Claudia Durst Johnson",null,null,null,null,"Z",null,"Grade 10 - 12","Grade 10 - 12","This compelling volume explores the poetry of Emily Dickinson through the lens of death and dying, offering readers a set of essays that present varied perspectives on Dickinson's work and poetic themes. The book also provides a biographical sketch of Dickinson's life, work, and her experiences/attitudes toward death during her lifetime, as well as a collection of thought on contemporary issues related to death, such as grief and death with dignity.","English",32,25.6,"811/.4","176 pp.","https://greenhavenpublishing.com/978-0-7377-6376-8",{"$f":"Table1[[#This Row],['# of Books]]*Table1[[#This Row],[QTY]]","v":0},{"$f":"Table1[[#This Row],[QTY]]*Table1[[#This Row],[School & Library Price]]","v":0}]
[null,null,45,null,null,"Arts & Humanities","Social Issues in Literature","Democracy in the Poetry of Walt Whitman","978-0-7377-6377-5",{"$f":"HYPERLINK(Table1[[#This Row],[Hyperlink]],\"Weblink\")","v":"Weblink"},"Greenhaven Publishing","Library Bound Book",1,"2013","January 2013","Library","6.000 X 9.000","Edited by","Thomas Riggs",null,null,null,null,"Z","1390L","Grade 10 - 12","Grade 10 - 12","This informative edition explores Walt Whitman's poetry through the lens of democracy. Chapters include an examination of Whitman's life and influences, a look at key ideas related to democracy in Whitman's poetry, and a series of essays that explore topics such as Whitman's views of democratic comradeship, the role of bonds between men, Whitman's approach to patriotism, and Whitman's contradictory views on slavery and race. Readers are also presented with contemporary perspectives on democracy, such as the importance of an informed electorate and the impact of American individualism on contemporary politics.","English",46.4,37.119999999999997,"811/.3","208 pp.","https://greenhavenpublishing.com/978-0-7377-6377-5",{"$f":"Table1[[#This Row],['# of Books]]*Table1[[#This Row],[QTY]]","v":0},{"$f":"Table1[[#This Row],[QTY]]*Table1[[#This Row],[School & Library Price]]","v":0}]
[null,null,45,null,null,"Arts & Humanities","Social Issues in Literature","Democracy in the Poetry of Walt Whitman","978-0-7377-6378-2",{"$f":"HYPERLINK(Table1[[#This Row],[Hyperlink]],\"Weblink\")","v":"Weblink"},"Greenhaven Publishing","Paperback Book",1,"2013","January 2013","Paperback","6.000 X 9.000","Edited by","Thomas Riggs",null,null,null,null,"Z","1390L","Grade 10 - 12","Grade 10 - 12","This informative edition explores Walt Whitman's poetry through the lens of democracy. Chapters include an examination of Whitman's life and influences, a look at key ideas related to democracy in Whitman's poetry, and a series of essays that explore topics such as Whitman's views of democratic comradeship, the role of bonds between men, Whitman's approach to patriotism, and Whitman's contradictory views on slavery and race. Readers are also presented with contemporary perspectives on democracy, such as the importance of an informed electorate and the impact of American individualism on contemporary politics.","English",32,25.6,"811/.3","208 pp.","https://greenhavenpublishing.com/978-0-7377-6378-2",{"$f":"Table1[[#This Row],['# of Books]]*Table1[[#This Row],[QTY]]","v":0},{"$f":"Table1[[#This Row],[QTY]]*Table1[[#This Row],[School & Library Price]]","v":0}]
[null,null,45,null,null,"Arts & Humanities","Social Issues in Literature","The Environment in Rachel Carson's Silent Spring","978-0-7377-5815-3",{"$f":"HYPERLINK(Table1[[#This Row],[Hyperlink]],\"Weblink\")","v":"Weblink"},"Greenhaven Publishing","Library Bound Book",1,"2012","January 2012","Library","6.000 X 9.000","Edited by","Gary Wiener",null,null,null,null,"Z",null,"Grade 10 - 12","Grade 10 - 12","A foundational text in the conservation movement, Rachel Carson's Silent Spring challenged prevailing ideas of the health of the environment by showing that pesticides affected organisms other than their targets, such as humans and birds. The book also accused chemical companies and federal officials of complacency in regulating pesticides. Despite challenges from the chemical industry, the book reversed pesticide policy, leading to a ban on DDT for agricultural use. This compelling volume offers an in-depth analysis of the life, works, and importance of Rachel Carson. Critical essays focus on how the book put human impact at the center of environmental policy, how some felt that Carson exaggerated her claims, and how environmentalism stands in the way of human progress. The book also offers readers contemporary perspectives on environmental disasters.","English",46.4,37.119999999999997,"363.738/498","208 pp.","https://greenhavenpublishing.com/978-0-7377-5815-3",{"$f":"Table1[[#This Row],['# of Books]]*Table1[[#This Row],[QTY]]","v":0},{"$f":"Table1[[#This Row],[QTY]]*Table1[[#This Row],[School & Library Price]]","v":0}]
[null,null,45,null,null,"Arts & Humanities","Social Issues in Literature","Family Dysfunction in Tennessee Williams' The Glass Menagerie","978-0-7377-6804-6",{"$f":"HYPERLINK(Table1[[#This Row],[Hyperlink]],\"Weblink\")","v":"Weblink"},"Greenhaven Publishing","eBook",1,"2013","January 2013",null,null,"Edited by","Dedria Bryfonski",null,null,null,null,"Z","1230L","Grade 10 - 12","Grade 10 - 12","Tennessee Williams' 1944 play The Glass Menagerie centers around a family of three, Tom, Laura, and Amanda Wingfield, exploring what it means to share a household with people whose individual psychological eccentricities threaten to overwhelm the whole. Told retroactively in the format of a memory play, the protagonist, Tom, an aspiring poet by night and warehouse worker by night, introduces the audience to the conditions which led him to abandon his family in pursuit of his independence. This informative edition explores the themes of family dysfunction in Tennessee Williams's The Glass Menagerie, providing readers with a critical look at the intersection of literature and sociology. The book includes an examination of Williams' life and influences and takes a hard look at key ideas related to the play, such as the role of guilt in family relationships and the breakdown of the American dream. Readers are also offered contemporary perspectives on family dysfunction through the discussion of toxic or overbearing parents and the effects of alcoholism on families.","English",51.04,40.83,"812/.54","176 pp.","https://greenhavenpublishing.com/978-0-7377-6804-6",{"$f":"Table1[[#This Row],['# of Books]]*Table1[[#This Row],[QTY]]","v":0},{"$f":"Table1[[#This Row],[QTY]]*Table1[[#This Row],[School & Library Price]]","v":0}]
[null,null,45,null,null,"Arts & Humanities","Social Issues in Literature","The Food Industry in Eric Schlosser's Fast Food Nation","978-0-7377-6382-9",{"$f":"HYPERLINK(Table1[[#This Row],[Hyperlink]],\"Weblink\")","v":"Weblink"},"Greenhaven Publishing","Paperback Book",1,"2013","January 2013","Paperback","6.000 X 9.000","Edited by, Edited by","David M. Haugen, Susan Musser",null,null,null,null,"Z","1350L","Grade 10 - 12","Grade 10 - 12","This informative volume explores Eric Schlosser's Fast Food Nation through the lens of the food industry. Coverage includes: an examination of Schlosser's life as an investigative journalist; Schlosser's view of the food industry as demonstrated in his book; how investigative journalism can be viewed as literature; how Fast Food Nation has changed people's perspectives and actions; criticisms of Fast Food Nation and its message; and contemporary perspectives on the food industry with commentary on topics such as food regulations and movements.","English",32,25.6,"642/.50973","168 pp.","https://greenhavenpublishing.com/978-0-7377-6382-9",{"$f":"Table1[[#This Row],['# of Books]]*Table1[[#This Row],[QTY]]","v":0},{"$f":"Table1[[#This Row],[QTY]]*Table1[[#This Row],[School & Library Price]]","v":0}]
[null,null,45,null,null,"Arts & Humanities","Social Issues in Literature","Gender in Lorraine Hansberry's A Raisin in the Sun","978-0-7377-5022-5",{"$f":"HYPERLINK(Table1[[#This Row],[Hyperlink]],\"Weblink\")","v":"Weblink"},"Greenhaven Publishing","Library Bound Book",1,"2011","January 2011","Library","6.000 X 9.000","Edited by","Gary Wiener",null,null,null,null,"Z","1320L","Grade 10 - 12","Grade 10 - 12","The landmark play A Raisin in the Sun takes its title from a Langston Hughes poem which poses the questions \"What happens to a dream deferred? Does it dry up like a raisin in the sun?\" Focusing on a working-class African-American family in Chicago who save enough to purchase either a business in a black neighborhood or a house in a white neighborhood, the plays exposes issues of racism and gender as the women of the family make important decisions that push against both racial and gender lines. This volume discusses gender in the play, looking at how the female characters fight both racism and male chauvinism, how the play is dominated by strong female characters, and how characters resist the stereotype of the emasculating female. The book also presents contemporary perspectives on race and feminism in the twenty-first century. Contributors include Barbara Ehrenreich, Jewelle L. Gomez, and Sharon Friedman.","English",46.4,37.119999999999997,"812/.54","200 pp.","https://greenhavenpublishing.com/978-0-7377-5022-5",{"$f":"Table1[[#This Row],['# of Books]]*Table1[[#This Row],[QTY]]","v":0},{"$f":"Table1[[#This Row],[QTY]]*Table1[[#This Row],[School & Library Price]]","v":0}]
[null,null,45,null,null,"Arts & Humanities","Social Issues in Literature","Genocide in Anne Frank's The Diary of a Young Girl","978-0-7377-5448-3",{"$f":"HYPERLINK(Table1[[#This Row],[Hyperlink]],\"Weblink\")","v":"Weblink"},"Greenhaven Publishing","Library Bound Book",1,"2012","January 2012","Library","6.000 X 9.000","Edited by","Louise Hawker",null,null,null,null,"Z","1290L","Grade 10 - 12","Grade 10 - 12","This informative edition examines the important literary work of writer Anne Frank, whose meticulous diaries, which were kept and updated during her time in hiding, remain a haunting and necessary reminder of the ravaging effects of hatred. Readers are provided with a biographical sketch of Anne Frank, a series of essays that tackle the significance of her diaries as Holocaust documents, and a collection of modern thought on genocide in the twenty-first century.","English",46.4,37.119999999999997,"940.53/18092","160 pp.","https://greenhavenpublishing.com/978-0-7377-5448-3",{"$f":"Table1[[#This Row],['# of Books]]*Table1[[#This Row],[QTY]]","v":0},{"$f":"Table1[[#This Row],[QTY]]*Table1[[#This Row],[School & Library Price]]","v":0}]
[null,null,46,null,null,"Arts & Humanities","Social Issues in Literature","Patriarchy in Sandra Cisneros' The House on Mango Street","978-0-7377-4800-0",{"$f":"HYPERLINK(Table1[[#This Row],[Hyperlink]],\"Weblink\")","v":"Weblink"},"Greenhaven Publishing","Library Bound Book",1,"2010","January 2010","Library","6.000 X 9.000","Edited by","Claudia Durst Johnson",null,null,null,null,"Z",null,"Grade 10 - 12","Grade 10 - 12","This compelling book offers an in-depth examination of patriarchy as presented in Sandra Cisneros's novel The House on Mango Street, as well as contemporary perspectives on this issue. Discussions include how the protagonist's female gender affects reaction to the book's coming-of-age message, how themes of oppression and marginalization play out among the characters, and what Esperanza's personality says about her relationships to males in the novel.","English",46.4,37.119999999999997,"813/.54","184 pp.","https://greenhavenpublishing.com/978-0-7377-4800-0",{"$f":"Table1[[#This Row],['# of Books]]*Table1[[#This Row],[QTY]]","v":0},{"$f":"Table1[[#This Row],[QTY]]*Table1[[#This Row],[School & Library Price]]","v":0}]
[null,null,46,null,null,"Arts & Humanities","Social Issues in Literature","Poverty in John Steinbeck's The Pearl","978-0-7377-5808-5",{"$f":"HYPERLINK(Table1[[#This Row],[Hyperlink]],\"Weblink\")","v":"Weblink"},"Greenhaven Publishing","Paperback Book",1,"2012","January 2012","Paperback","6.000 X 9.000","Edited by","Louise Hawker",null,null,null,null,"Z","1280L","Grade 10 - 12","Grade 10 - 12","This informative volume examines John Steinbeck's life and work, with a specific look at key ideas related to The Pearl. The book discusses a variety of topics, including whether Kino chooses enslavement to wealth in order to escape poverty, and whether the townspeople have a parasitic relationship with the poor. The book also explores contemporary perspectives on poverty, such as the changing views of the term \"culture of poverty\" and the relationship between Western materialism and spiritual depression.","English",32,25.6,"813/.52","144 pp.","https://greenhavenpublishing.com/978-0-7377-5808-5",{"$f":"Table1[[#This Row],['# of Books]]*Table1[[#This Row],[QTY]]","v":0},{"$f":"Table1[[#This Row],[QTY]]*Table1[[#This Row],[School & Library Price]]","v":0}]
[null,null,46,null,null,"Arts & Humanities","Social Issues in Literature","Poverty in John Steinbeck's The Pearl","978-0-7377-6491-8",{"$f":"HYPERLINK(Table1[[#This Row],[Hyperlink]],\"Weblink\")","v":"Weblink"},"Greenhaven Publishing","eBook",1,"2012","January 2012",null,null,"Edited by","Louise Hawker",null,null,null,null,"Z","1280L","Grade 10 - 12","Grade 10 - 12","This informative volume examines John Steinbeck's life and work, with a specific look at key ideas related to The Pearl. The book discusses a variety of topics, including whether Kino chooses enslavement to wealth in order to escape poverty, and whether the townspeople have a parasitic relationship with the poor. The book also explores contemporary perspectives on poverty, such as the changing views of the term \"culture of poverty\" and the relationship between Western materialism and spiritual depression.","English",51.04,40.83,"813/.52","144 pp.","https://greenhavenpublishing.com/978-0-7377-6491-8",{"$f":"Table1[[#This Row],['# of Books]]*Table1[[#This Row],[QTY]]","v":0},{"$f":"Table1[[#This Row],[QTY]]*Table1[[#This Row],[School & Library Price]]","v":0}]
[null,null,46,null,null,"Arts & Humanities","Social Issues in Literature","Race in Ralph Ellison's Invisible Man","978-0-7377-6463-5",{"$f":"HYPERLINK(Table1[[#This Row],[Hyperlink]],\"Weblink\")","v":"Weblink"},"Greenhaven Publishing","eBook",1,"2012","January 2012",null,null,"Edited by","Hayley Mitchell Haugen",null,null,null,null,"Z",null,"Grade 10 - 12","Grade 10 - 12","Addressing topics such as black nationalism, racism, and identity, Ralph Ellison's Invisible Man, first published in 1952, has become a primary text in the discussion of racial politics and black identity in America. This compelling edition examines Ellison's Invisible Man through the lens of race, providing readers with a series of essays that expand upon topics such as black radicalism, racial justice, and sexual taboo, as it relates to the novel. The text also features contemporary perspectives on race, urging readers to link the themes of the text to the issues of the present.","English",51.04,40.83,"305.800973","168 pp.","https://greenhavenpublishing.com/978-0-7377-6463-5",{"$f":"Table1[[#This Row],['# of Books]]*Table1[[#This Row],[QTY]]","v":0},{"$f":"Table1[[#This Row],[QTY]]*Table1[[#This Row],[School & Library Price]]","v":0}]
[null,null,46,null,null,"Arts & Humanities","Social Issues in Literature","Race in The Poetry of Langston Hughes","978-0-7377-7063-6",{"$f":"HYPERLINK(Table1[[#This Row],[Hyperlink]],\"Weblink\")","v":"Weblink"},"Greenhaven Publishing","eBook",1,"2014","January 2014",null,null,"Edited by","Claudia Durst Johnson",null,null,null,null,"Z","1290L","Grade 10 - 12","Grade 10 - 12","This informative edition explores the poetry of Langston Hughes through the lens of race. Coverage includes an examination of Hughes's life and influences; a look at key ideas related to race in Hughes's poetry, including the influence of African-American music, the use of poetry to address racial problems, and the politics of Hughes's anti-lynching poems; and contemporary perspectives on race, such as the decline of civil rights reform and the role of hip-hop in shaping black music.","English",51.04,40.83,"818/.5209","168 pp.","https://greenhavenpublishing.com/978-0-7377-7063-6",{"$f":"Table1[[#This Row],['# of Books]]*Table1[[#This Row],[QTY]]","v":0},{"$f":"Table1[[#This Row],[QTY]]*Table1[[#This Row],[School & Library Price]]","v":0}]
[null,null,46,null,null,"Arts & Humanities","Social Issues in Literature","Racism in Harper Lee's To Kill a Mockingbird","978-0-7377-3904-6",{"$f":"HYPERLINK(Table1[[#This Row],[Hyperlink]],\"Weblink\")","v":"Weblink"},"Greenhaven Publishing","Paperback Book",1,"2008","January 2008","Paperback","6.000 X 9.000","Edited by","Candice L. Mancini",null,null,null,null,"Z",null,"Grade 10 - 12","Grade 10 - 12","Harper Lee's Pulitzer Prize-winning novel To Kill a Mockingbird is taught in classrooms nationwide and is widely hailed as one of literature's most compelling depictions of racism in the South. This informative edition presents essays that examine racism and other related issues in To Kill a Mockingbird, discussing such topics as new and old Southern values, and the connection between class, gender, and racial prejudice. Modern perspectives on race issues are presented as well, allowing the reader to create a link between the themes of the text and the realities of today's world.","English",32,25.6,"813/​.54","216 pp.","https://greenhavenpublishing.com/978-0-7377-3904-6",{"$f":"Table1[[#This Row],['# of Books]]*Table1[[#This Row],[QTY]]","v":0},{"$f":"Table1[[#This Row],[QTY]]*Table1[[#This Row],[School & Library Price]]","v":0}]
[null,null,46,null,null,"Arts & Humanities","Social Issues in Literature","Racism in Maya Angelou's I Know Why The Caged Bird Sings","978-0-7377-3901-5",{"$f":"HYPERLINK(Table1[[#This Row],[Hyperlink]],\"Weblink\")","v":"Weblink"},"Greenhaven Publishing","Library Bound Book",1,"2008","January 2008","Library","6.000 X 9.000","Edited by","Claudia Durst Johnson",null,null,null,null,"Z",null,"Grade 10 - 12","Grade 10 - 12","One of the most influential works in the canon of black American literature, Maya Angelou's autobiographical work I Know Why the Caged Bird Sings offers readers a frank and inspirational personal portrait of what it means to overcome and move past personal trauma and racism. This compelling edition provides readers with an in-depth biography of the author and presents a series of essays that discuss racism as it relates to Angelou's work. Topics include race and gender, humor and folklore, and death and rebirth. Modern perspectives on the issue of racism are presented as well, allowing readers to connect the themes of the text to the world of today.\n","English",46.4,37.119999999999997,"818/.5409","152 pp.","https://greenhavenpublishing.com/978-0-7377-3901-5",{"$f":"Table1[[#This Row],['# of Books]]*Table1[[#This Row],[QTY]]","v":0},{"$f":"Table1[[#This Row],[QTY]]*Table1[[#This Row],[School & Library Price]]","v":0}]
[null,null,46,null,null,"Arts & Humanities","Social Issues in Literature","Sexuality in the Comedies of William Shakespeare","978-0-7377-6983-8",{"$f":"HYPERLINK(Table1[[#This Row],[Hyperlink]],\"Weblink\")","v":"Weblink"},"Greenhaven Publishing","Paperback Book",1,"2014","January 2014","Paperback","6.000 X 9.000","Edited by","Stephen P. Thompson",null,null,null,null,"Z",null,"Grade 10 - 12","Grade 10 - 12","This fascinating edition examines the comedies of playwright William Shakespeare through the lens of sexuality. Essays explore topics such as the ambiguity of Shakespeare's sonnets, Renaissance attitudes toward sexuality, themes of misogyny in Taming of the Shrew, and sexual anxiety in Much Ado About Nothing. Modern perspectives on sexuality and courtship are also presented, covering subjects such as social media and dating, modern mythology about the differences between genders, and a decline in American romantic comedies.","English",32,25.6,"822.3/3","160 pp.","https://greenhavenpublishing.com/978-0-7377-6983-8",{"$f":"Table1[[#This Row],['# of Books]]*Table1[[#This Row],[QTY]]","v":0},{"$f":"Table1[[#This Row],[QTY]]*Table1[[#This Row],[School & Library Price]]","v":0}]
[null,null,46,null,null,"Arts & Humanities","Social Issues in Literature","Sexuality in William Shakespeare's A Midsummer Night's Dream","978-0-7377-7064-3",{"$f":"HYPERLINK(Table1[[#This Row],[Hyperlink]],\"Weblink\")","v":"Weblink"},"Greenhaven Publishing","eBook",1,"2014","January 2014",null,null,"Edited by","Gary Wiener",null,null,null,null,"Z",null,"Grade 10 - 12","Grade 10 - 12","This informative volume explores William Shakespeare's A Midsummer Night's Dream through the lens of sexuality. The book examines Shakespeare's life and influences and offers readers a series of essays for consideration on topics related to sexuality, such as the notions of the war between the sexes, taboo sexuality, and the marginalization of women's sexuality. The text also offers readers contemporary perspectives on topics related to sexuality, such as adolescent sexuality, the categorizing of people into sexual classifications, and sex education.","English",51.04,40.83,"822.3/​3","200 pp.","https://greenhavenpublishing.com/978-0-7377-7064-3",{"$f":"Table1[[#This Row],['# of Books]]*Table1[[#This Row],[QTY]]","v":0},{"$f":"Table1[[#This Row],[QTY]]*Table1[[#This Row],[School & Library Price]]","v":0}]
[null,null,46,null,null,"Arts & Humanities","Social Issues in Literature","Slavery in Toni Morrison's Beloved","978-0-7377-6390-4",{"$f":"HYPERLINK(Table1[[#This Row],[Hyperlink]],\"Weblink\")","v":"Weblink"},"Greenhaven Publishing","Paperback Book",1,"2012","January 2012","Paperback","6.000 X 9.000","Edited by","Dedria Bryfonski",null,null,null,null,"Z","1320L","Grade 10 - 12","Grade 10 - 12","This compelling volume explores Toni Morrison's classic novel through the lens of slavery. The book examines Morrison's life and influences and takes a critical look at key ideas related to slavery in Beloved, such as the role of slavery in both the forging and destruction of an African-American identity, the impact of slavery on family relationships, and the psychological trauma caused by slavery. Contemporary perspectives on the subject of slavery are presented as well, touching upon topics such as the global problem of human trafficking and the role of multinational corporations in modern day slavery.","English",32,25.6,"813/​.54","192 pp.","https://greenhavenpublishing.com/978-0-7377-6390-4",{"$f":"Table1[[#This Row],['# of Books]]*Table1[[#This Row],[QTY]]","v":0},{"$f":"Table1[[#This Row],[QTY]]*Table1[[#This Row],[School & Library Price]]","v":0}]
[null,null,46,null,null,"Arts & Humanities","Social Issues in Literature","Slavery in Toni Morrison's Beloved","978-0-7377-6637-0",{"$f":"HYPERLINK(Table1[[#This Row],[Hyperlink]],\"Weblink\")","v":"Weblink"},"Greenhaven Publishing","eBook",1,"2012","January 2012",null,null,"Edited by","Dedria Bryfonski",null,null,null,null,"Z","1320L","Grade 10 - 12","Grade 10 - 12","This compelling volume explores Toni Morrison's classic novel through the lens of slavery. The book examines Morrison's life and influences and takes a critical look at key ideas related to slavery in Beloved, such as the role of slavery in both the forging and destruction of an African-American identity, the impact of slavery on family relationships, and the psychological trauma caused by slavery. Contemporary perspectives on the subject of slavery are presented as well, touching upon topics such as the global problem of human trafficking and the role of multinational corporations in modern day slavery.","English",51.04,40.83,"813/​.54","192 pp.","https://greenhavenpublishing.com/978-0-7377-6637-0",{"$f":"Table1[[#This Row],['# of Books]]*Table1[[#This Row],[QTY]]","v":0},{"$f":"Table1[[#This Row],[QTY]]*Table1[[#This Row],[School & Library Price]]","v":0}]
[null,null,46,null,null,"Arts & Humanities","Social Issues in Literature","Teen Issues in S.E. Hinton's The Outsiders","978-0-7377-6615-8",{"$f":"HYPERLINK(Table1[[#This Row],[Hyperlink]],\"Weblink\")","v":"Weblink"},"Greenhaven Publishing","eBook",1,"2012","January 2012",null,null,"Edited by","David Erik Nelson",null,null,null,null,"Z","1240L","Grade 10 - 12","Grade 10 - 12","This critical volume explores S.E. Hinton's classic novel The Outsiders through the lens of teen issues. The text discusses a variety of topics, including Hinton's life and influences, whether the novel offers an overly romanticized view of teen life, and whether social bonds are important for economically disadvantaged teens. The book also explores contemporary perspectives on teen issues, such as a look at modern teen class divisions and the relationship between parenting, masculinity, and teen violence.","English",51.04,40.83,"813/​.54","160 pp.","https://greenhavenpublishing.com/978-0-7377-6615-8",{"$f":"Table1[[#This Row],['# of Books]]*Table1[[#This Row],[QTY]]","v":0},{"$f":"Table1[[#This Row],[QTY]]*Table1[[#This Row],[School & Library Price]]","v":0}]
[null,null,46,null,null,"Arts & Humanities","Social Issues in Literature","Violence in Anthony Burgess' Clockwork Orange","978-0-7377-7067-4",{"$f":"HYPERLINK(Table1[[#This Row],[Hyperlink]],\"Weblink\")","v":"Weblink"},"Greenhaven Publishing","eBook",1,"2014","January 2014",null,null,"Edited by","Dedria Bryfonski",null,null,null,null,"Z","1310L","Grade 10 - 12","Grade 10 - 12","Anthony Burgess' A Clockwork Orange has become a cult classic among fans of dystopian fiction. The 1962 novel, which utilizes extreme violence as a method of questioning free will, received mixed reviews upon publication, with some critics praising the book and others condemning it. This informative volume explores the life and work of Anthony Burgess, focusing on themes of human nature, violence, and freedom of choice through the lens of A Clockwork Orange. Contemporary issues including gang violence and violence against women are also discussed.","English",51.04,40.83,"823/.914","200 pp.","https://greenhavenpublishing.com/978-0-7377-7067-4",{"$f":"Table1[[#This Row],['# of Books]]*Table1[[#This Row],[QTY]]","v":0},{"$f":"Table1[[#This Row],[QTY]]*Table1[[#This Row],[School & Library Price]]","v":0}]
[null,null,46,null,null,"Arts & Humanities","Social Issues in Literature","Violence in William Golding's Lord of the Flies","978-0-7377-4619-8",{"$f":"HYPERLINK(Table1[[#This Row],[Hyperlink]],\"Weblink\")","v":"Weblink"},"Greenhaven Publishing","Paperback Book",1,"2009","January 2009","Paperback","6.000 X 9.000","Edited by","Dedria Bryfonski",null,null,null,null,"Z",null,"Grade 10 - 12","Grade 10 - 12","Stranded on a tropical island, a group of boys attempt to govern themselves but instead give into chaos and savagery. William Golding's 1954 novel, Lord of the Flies, utilizes the theme of violence to showcase the conflicts surrounding power. This compelling edition presents readers with a collection of essays that examine topics such as puberty, innate corruption, and class conflict as it relates to the theme of violence and power. Contemporary perspectives on violence are also discussed, examining topics such as the recruitment of young men to war and the effects of peer alienation.","English",32,25.6,"823/​.914","208 pp.","https://greenhavenpublishing.com/978-0-7377-4619-8",{"$f":"Table1[[#This Row],['# of Books]]*Table1[[#This Row],[QTY]]","v":0},{"$f":"Table1[[#This Row],[QTY]]*Table1[[#This Row],[School & Library Price]]","v":0}]
[null,null,46,null,null,"Arts & Humanities","Social Issues in Literature","War in Erich Maria Remarque's All Quiet on the Western Front","978-0-7377-6392-8",{"$f":"HYPERLINK(Table1[[#This Row],[Hyperlink]],\"Weblink\")","v":"Weblink"},"Greenhaven Publishing","Paperback Book",1,"2013","January 2013","Paperback","6.000 X 9.000","Edited by","Noah Berlatsky",null,null,null,null,"Z","1230L","Grade 10 - 12","Grade 10 - 12","A veteran of World War I, Erich Maria Remarque found himself in a unique position to render the experience of war, both its internal and external ravages, in an intimate and realistic way. Responding directly to the then-nameless trauma many veterans and soldiers experienced in their lives, Remarque's novel is often hailed as pacifist work, though it often defies classification as a result of its undeniable loyalty to simple storytelling. This compelling volume explores the life and work of Erich Maria Remarque and expands upon the theme of war present in his classic novel. Readers are presented with a diverse set of essays that provide a wide range of perspectives on questions such as whether war results in a loss of innocence, and whether the book offers critiques of modern warfare. This edition also touches upon current perspectives related to war and peace, allowing readers to connect the events of the text to the issues of today's world.","English",32,25.6,"833/​.912","136 pp.","https://greenhavenpublishing.com/978-0-7377-6392-8",{"$f":"Table1[[#This Row],['# of Books]]*Table1[[#This Row],[QTY]]","v":0},{"$f":"Table1[[#This Row],[QTY]]*Table1[[#This Row],[School & Library Price]]","v":0}]
[null,null,46,null,null,"Arts & Humanities","Social Issues in Literature","War in Ernest Hemingway's A Farewell to Arms","978-0-7377-6396-6",{"$f":"HYPERLINK(Table1[[#This Row],[Hyperlink]],\"Weblink\")","v":"Weblink"},"Greenhaven Publishing","Paperback Book",1,"2014","January 2014","Paperback","6.000 X 9.000","Edited by, Edited by","David M. Haugen, Susan Musser",null,null,null,null,"Z","1370L","Grade 10 - 12","Grade 10 - 12","This critical volume explores the life and work of Ernest Hemingway, focusing particularly on the themes of war in his novel A Farewell to Arms. Readers are presented with a series of essays which lend context and expand upon the themes of the book, including viewpoints on the reasons for, and the aftereffects of, war. Contemporary perspectives on PTSD, foreign policy, and military spending allow readers to further connect the events of the book to the issues of today's world.\n","English",32,25.6,"813/.52","208 pp.","https://greenhavenpublishing.com/978-0-7377-6396-6",{"$f":"Table1[[#This Row],['# of Books]]*Table1[[#This Row],[QTY]]","v":0},{"$f":"Table1[[#This Row],[QTY]]*Table1[[#This Row],[School & Library Price]]","v":0}]
[null,null,46,null,null,"Arts & Humanities","Social Issues in Literature","War in John Knowles's A Separate Peace","978-0-7377-5268-7",{"$f":"HYPERLINK(Table1[[#This Row],[Hyperlink]],\"Weblink\")","v":"Weblink"},"Greenhaven Publishing","Library Bound Book",1,"2011","January 2011","Library","6.000 X 9.000","Edited by","Dedria Bryfonski",null,null,null,null,"Z","1300L","Grade 10 - 12","Grade 10 - 12","This compelling volume explores the complexities of adolescent friendship in John Knowles's A Separate Place. Essays discuss the life of John Knowles, the role of personal experience in fiction, how the novel explores the roots of war, as well as contemporary perspectives on how war in Afghanistan is increasing bullying among children, and how sports bring joy despite the realities of war.","English",46.4,37.119999999999997,"813/​.54","176 pp.","https://greenhavenpublishing.com/978-0-7377-5268-7",{"$f":"Table1[[#This Row],['# of Books]]*Table1[[#This Row],[QTY]]","v":0},{"$f":"Table1[[#This Row],[QTY]]*Table1[[#This Row],[School & Library Price]]","v":0}]
[null,null,46,null,null,"Arts & Humanities","Social Issues in Literature","War in Stephen Crane's The Red Badge of Courage","978-0-7377-4850-5",{"$f":"HYPERLINK(Table1[[#This Row],[Hyperlink]],\"Weblink\")","v":"Weblink"},"Greenhaven Publishing","Library Bound Book",1,"2010","January 2010","Library","6.000 X 9.000","Edited by, Edited by","David M. Haugen, Susan Musser",null,null,null,null,"Z",null,"Grade 10 - 12","Grade 10 - 12","This book offers an in-depth examination of war as presented in Stephen Crane's novel The Red Badge of Courage, as well as contemporary perspectives on this issue. Discussions include the impact of combat trauma during the Civil War, the relationship between the Industrial Age and army combatants, the main character's motivations in going to war, and war as both a cultural construct and as part of human nature.","English",46.4,37.119999999999997,"813/​.4","184 pp.","https://greenhavenpublishing.com/978-0-7377-4850-5",{"$f":"Table1[[#This Row],['# of Books]]*Table1[[#This Row],[QTY]]","v":0},{"$f":"Table1[[#This Row],[QTY]]*Table1[[#This Row],[School & Library Price]]","v":0}]
[null,null,46,null,null,"Arts & Humanities","Social Issues in Literature","War in Stephen Crane's The Red Badge of Courage","978-0-7377-4851-2",{"$f":"HYPERLINK(Table1[[#This Row],[Hyperlink]],\"Weblink\")","v":"Weblink"},"Greenhaven Publishing","Paperback Book",1,"2010","January 2010","Paperback","6.000 X 9.000","Edited by, Edited by","David M. Haugen, Susan Musser",null,null,null,null,"Z",null,"Grade 10 - 12","Grade 10 - 12","This book offers an in-depth examination of war as presented in Stephen Crane's novel The Red Badge of Courage, as well as contemporary perspectives on this issue. Discussions include the impact of combat trauma during the Civil War, the relationship between the Industrial Age and army combatants, the main character's motivations in going to war, and war as both a cultural construct and as part of human nature.","English",32,25.6,"813/​.4","184 pp.","https://greenhavenpublishing.com/978-0-7377-4851-2",{"$f":"Table1[[#This Row],['# of Books]]*Table1[[#This Row],[QTY]]","v":0},{"$f":"Table1[[#This Row],[QTY]]*Table1[[#This Row],[School & Library Price]]","v":0}]
[null,null,46,null,null,"Arts & Humanities","Social Issues in Literature","Wildness in Jack London's The Call of The Wild","978-0-7377-6992-0",{"$f":"HYPERLINK(Table1[[#This Row],[Hyperlink]],\"Weblink\")","v":"Weblink"},"Greenhaven Publishing","Library Bound Book",1,"2014","January 2014","Library","6.000 X 9.000","Edited by","Gary Wiener",null,null,null,null,"Z","1290L","Grade 10 - 12","Grade 10 - 12","Jack London's The Call of the Wild became an immediate literary sensation upon publication, selling out its first print run and gaining critical acclaim nationwide. The popular adventure story follows Buck, a sled dog, whose transformation from a domestic pet to the Alpha male of a pack demonstrates defining American themes such as survival, determination, cunning, and loyalty. This informative volume explores the life and work of Jack London, with a focus on the nature-based themes of pastoralism and wildness within The Call of the Wild. It also includes a selection of modern viewpoints on wilderness and nature, allowing readers to connect the themes of the text to the issues of today's world.","English",46.4,37.119999999999997,"813/.52","208 pp.","https://greenhavenpublishing.com/978-0-7377-6992-0",{"$f":"Table1[[#This Row],['# of Books]]*Table1[[#This Row],[QTY]]","v":0},{"$f":"Table1[[#This Row],[QTY]]*Table1[[#This Row],[School & Library Price]]","v":0}]
[null,null,46,null,null,"Arts & Humanities","Social Issues in Literature","Women's Issues in Alice Walker's The Color Purple","978-0-7377-6014-9",{"$f":"HYPERLINK(Table1[[#This Row],[Hyperlink]],\"Weblink\")","v":"Weblink"},"Greenhaven Publishing","eBook",1,"2011","January 2011",null,null,"Edited by","Claudia Durst Johnson",null,null,null,null,"Z","1270L","Grade 10 - 12","Grade 10 - 12","This compelling edition presents a collection of essays on issues about women that are depicted in Alice Walker's The Color Purple. The book examines Walker's life and influences and offers readers a series of essays for consideration on topics such as the revision of traditional gender roles and folk art as a means of survival. Readers are also offered contemporary perspectives on topics related to women's issues such as the impact of domestic violence and feminist ideology.","English",51.04,40.83,"813/​.54","168 pp.","https://greenhavenpublishing.com/978-0-7377-6014-9",{"$f":"Table1[[#This Row],['# of Books]]*Table1[[#This Row],[QTY]]","v":0},{"$f":"Table1[[#This Row],[QTY]]*Table1[[#This Row],[School & Library Price]]","v":0}]
[null,null,46,null,null,"Arts & Humanities","Social Issues in Literature","Women's Issues in Margaret Atwood's The Handmaid's Tale","978-0-7377-5800-9",{"$f":"HYPERLINK(Table1[[#This Row],[Hyperlink]],\"Weblink\")","v":"Weblink"},"Greenhaven Publishing","Paperback Book",1,"2012","January 2012","Paperback","6.000 X 9.000","Edited by","David Erik Nelson",null,null,null,null,"Z","1330L","Grade 10 - 12","Grade 10 - 12","The Handmaid's Tale depicts a dystopian society in which a religious dictatorship assumes control of the United States, turning the country into the Republic of Gilead. In this new society, women are stripped of autonomy and often relegated to roles such as servant or childbearing maid. Since the book's publication in 1985, it has become a popular point of reference to guard against government interference in women's rights and issues. This informative edition takes a critical look at Atwood's life and writings, with a specific focus on key ideas related to The Handmaid's Tale. The book collects a series of essays pertaining to feminism, sexism, and religious fundamentalism, creating points of discussion for readers that are both modern and relevant. The text also discusses contemporary women's issues and presents perspectives on topics such as surrogacy, same-sex marriage, and modesty.","English",32,25.6,"813/​.54","160 pp.","https://greenhavenpublishing.com/978-0-7377-5800-9",{"$f":"Table1[[#This Row],['# of Books]]*Table1[[#This Row],[QTY]]","v":0},{"$f":"Table1[[#This Row],[QTY]]*Table1[[#This Row],[School & Library Price]]","v":0}]
[null,null,46,null,null,"Arts & Humanities","Social Issues in Literature","Women's Issues in Margaret Atwood's The Handmaid's Tale","978-0-7377-6448-2",{"$f":"HYPERLINK(Table1[[#This Row],[Hyperlink]],\"Weblink\")","v":"Weblink"},"Greenhaven Publishing","eBook",1,"2012","January 2012",null,null,"Edited by","David Erik Nelson",null,null,null,null,"Z","1330L","Grade 10 - 12","Grade 10 - 12","The Handmaid's Tale depicts a dystopian society in which a religious dictatorship assumes control of the United States, turning the country into the Republic of Gilead. In this new society, women are stripped of autonomy and often relegated to roles such as servant or childbearing maid. Since the book's publication in 1985, it has become a popular point of reference to guard against government interference in women's rights and issues. This informative edition takes a critical look at Atwood's life and writings, with a specific focus on key ideas related to The Handmaid's Tale. The book collects a series of essays pertaining to feminism, sexism, and religious fundamentalism, creating points of discussion for readers that are both modern and relevant. The text also discusses contemporary women's issues and presents perspectives on topics such as surrogacy, same-sex marriage, and modesty.","English",51.04,40.83,"813/​.54","160 pp.","https://greenhavenpublishing.com/978-0-7377-6448-2",{"$f":"Table1[[#This Row],['# of Books]]*Table1[[#This Row],[QTY]]","v":0},{"$f":"Table1[[#This Row],[QTY]]*Table1[[#This Row],[School & Library Price]]","v":0}]
[null,null,46,null,null,"Arts & Humanities","Social Issues in Literature","Women's Search for Independence in Charlotte Bronte's Jane Eyre","978-0-7377-5451-3",{"$f":"HYPERLINK(Table1[[#This Row],[Hyperlink]],\"Weblink\")","v":"Weblink"},"Greenhaven Publishing","Paperback Book",1,"2011","January 2011","Paperback","6.000 X 9.000","Edited by","Claudia Durst Johnson",null,null,null,null,"Z",null,"Grade 10 - 12","Grade 10 - 12","First published in 1847, Charlotte Bronte's Jane Eyre follows the title character through her journey into womanhood, shedding critical insight into the roles morality, love, and independence play in the Victorian world. Although the novel received lukewarm reception from its contemporary critics, Bronte's sharp analysis of society, and the proto-feminist messages embedded within the text, were in many ways ahead of their time. This critical volume offers readers a compelling collection of essays related to the topic of women's independence as they relate to Jane Eyre. The book also discusses the life and work of Charlotte Bronte, and presents contemporary perspectives on issues related to women's rights and independence, such as ownership of finance, the case against marriage, and the prospect of a matriarchal society.","English",32,25.6,"823/​.8","168 pp.","https://greenhavenpublishing.com/978-0-7377-5451-3",{"$f":"Table1[[#This Row],['# of Books]]*Table1[[#This Row],[QTY]]","v":0},{"$f":"Table1[[#This Row],[QTY]]*Table1[[#This Row],[School & Library Price]]","v":0}]
[null,null,47,null,null,"Health & Medicine","Perspectives on Diseases & Disorders","Anorexia and Bulimia","978-0-7377-6789-6",{"$f":"HYPERLINK(Table1[[#This Row],[Hyperlink]],\"Weblink\")","v":"Weblink"},"Greenhaven Publishing","eBook",1,"2013","January 2013",null,null,"Edited by","Arthur Gillard",null,null,null,null,"Z","1090L","Grade 10 - 12","Grade 10 - 12","In the United States, 20 million women and 10 million men suffer from an eating disorder according to NEDA. Eating disorders are impacting children as well, even as young as first-graders. Your readers are provided with essential information on Anorexia Nervosa and Bulimia Nervosa. This book also serves as a historical survey, by providing information on the controversies surrounding its causes. Compelling first-person narratives by people coping with Anorexia and Bulimia give readers a first-hand experience. Readers will learn from the words of patients, family members, or caregivers. The symptoms, causes, treatments, and potential cures are explained in detail. Alternative treatments are also covered. Student researchers and readers will find this book easily accessible through its careful and conscientious editing and a thorough introduction to each essay.","English",48.73,38.979999999999997,"616.85/262","152 pp.","https://greenhavenpublishing.com/978-0-7377-6789-6",{"$f":"Table1[[#This Row],['# of Books]]*Table1[[#This Row],[QTY]]","v":0},{"$f":"Table1[[#This Row],[QTY]]*Table1[[#This Row],[School & Library Price]]","v":0}]
[null,null,47,null,null,"Health & Medicine","Perspectives on Diseases & Disorders","Asthma","978-0-7377-4551-1",{"$f":"HYPERLINK(Table1[[#This Row],[Hyperlink]],\"Weblink\")","v":"Weblink"},"Greenhaven Publishing","Library Bound Book",1,"2010","January 2010","Library","7.000 X 9.000","Edited by","Clay Farris Naff",null,null,null,null,"Z",null,"Grade 10 - 12","Grade 10 - 12","Asthma results in 439,000 hospitalizations and 1.8 million emergency room visits annually according to AACAI. This guidebook provides essential information on Asthma, but also serves as a historical survey, by providing information on the controversies surrounding its causes, and first-person narratives by people coping with Asthma. Patients, family members, or caregivers explain the condition from their own experience. The symptoms, causes, treatments, and potential cures are explained in detail. Essential to anyone trying to learn about diseases and conditions, the alternative treatments are explored. Student researchers and readers will find this book easily accessible through its careful and conscientious editing and a thorough introduction to each essay. Includes charts, graphs, and tables.","English",44.3,35.44,"616.2/38","144 pp.","https://greenhavenpublishing.com/978-0-7377-4551-1",{"$f":"Table1[[#This Row],['# of Books]]*Table1[[#This Row],[QTY]]","v":0},{"$f":"Table1[[#This Row],[QTY]]*Table1[[#This Row],[School & Library Price]]","v":0}]
[null,null,47,null,null,"Health & Medicine","Perspectives on Diseases & Disorders","Autism","978-0-7377-3869-8",{"$f":"HYPERLINK(Table1[[#This Row],[Hyperlink]],\"Weblink\")","v":"Weblink"},"Greenhaven Publishing","Library Bound Book",1,"2008","January 2008","Library","7.000 X 9.000","Edited by","Carrie Fredericks",null,null,null,null,"Z",null,"Grade 10 - 12","Grade 10 - 12","Autism is diagnosed four times more often in boys than girls, according to the NAA. Its prevalence is not impacted by race, region, or economic status. Since autism was first diagnosed in the U.S. the incidence has climbed to an alarming one in 68 children. Give your readers essential information on Autism. This book also serves as a historical survey, by providing information on the controversies surrounding its causes. Compelling first-person narratives by people coping with Autism give readers a first-hand experience. Readers will learn from the words of patients, family members, or caregivers. The symptoms, causes, treatments, and potential cures are explained in detail. Alternative treatments are also covered. Each essay is carefully edited and presented with an introduction, so that they are accessible for student researchers and readers.","English",44.3,35.44,"616.85/​882","136 pp.","https://greenhavenpublishing.com/978-0-7377-3869-8",{"$f":"Table1[[#This Row],['# of Books]]*Table1[[#This Row],[QTY]]","v":0},{"$f":"Table1[[#This Row],[QTY]]*Table1[[#This Row],[School & Library Price]]","v":0}]
[null,null,47,null,null,"Health & Medicine","Perspectives on Diseases & Disorders","Celiac Disease","978-0-7377-6614-1",{"$f":"HYPERLINK(Table1[[#This Row],[Hyperlink]],\"Weblink\")","v":"Weblink"},"Greenhaven Publishing","eBook",1,"2012","January 2012",null,null,"Edited by","Jacqueline Langwith",null,null,null,null,"Z",null,"Grade 10 - 12","Grade 10 - 12","Celiac Disease is an immune reaction to eating gluten, a protein found in wheat, barley, and rye. This guidebook provides essential information on Celiac Disease, but also serves as a historical survey, by providing information on the controversies surrounding its causes, and first-person narratives by people coping with Celiac Disease. Readers will learn from the words of patients, family members, or caregivers. The symptoms, causes, treatments, and potential cures are explained in detail. Alternative treatments are also covered. Student researchers and readers will find this book easily accessible through its careful and conscientious editing and a thorough introduction to each essay.","English",48.73,38.979999999999997,"616.3/99","168 pp.","https://greenhavenpublishing.com/978-0-7377-6614-1",{"$f":"Table1[[#This Row],['# of Books]]*Table1[[#This Row],[QTY]]","v":0},{"$f":"Table1[[#This Row],[QTY]]*Table1[[#This Row],[School & Library Price]]","v":0}]
[null,null,47,null,null,"Health & Medicine","Perspectives on Diseases & Disorders","Chronic Fatigue Syndrome","978-0-7377-5773-6",{"$f":"HYPERLINK(Table1[[#This Row],[Hyperlink]],\"Weblink\")","v":"Weblink"},"Greenhaven Publishing","Library Bound Book",1,"2012","January 2012","Library","7.000 X 9.000","Edited by","Sylvia Engdahl",null,null,null,null,"Z",null,"Grade 10 - 12","Grade 10 - 12","Chronic Fatigue Syndrome causes extreme fatigue that can't be explained by any underlying medical condition. The fatigue may worsen with physical or mental activity, and it doesn't improve with rest. Provide your readers with essential information on CFS. This book also serves as a historical survey, by providing information on the controversies surrounding its causes. Compelling first-person narratives by people coping with Chronic Fatigue Syndrome give readers a first-hand experience. Readers will learn from the words of patients, family members, or caregivers. The symptoms, causes, treatments, and potential cures are explained in detail. Alternative treatments are also covered. Each essay is carefully edited and presented with an introduction, so that they are accessible for student researchers and readers.","English",44.3,35.44,"616/.0478","128 pp.","https://greenhavenpublishing.com/978-0-7377-5773-6",{"$f":"Table1[[#This Row],['# of Books]]*Table1[[#This Row],[QTY]]","v":0},{"$f":"Table1[[#This Row],[QTY]]*Table1[[#This Row],[School & Library Price]]","v":0}]
[null,null,47,null,null,"Health & Medicine","Perspectives on Diseases & Disorders","Deafness and Hearing Impairment","978-0-7377-4788-1",{"$f":"HYPERLINK(Table1[[#This Row],[Hyperlink]],\"Weblink\")","v":"Weblink"},"Greenhaven Publishing","Library Bound Book",1,"2010","January 2010","Library","7.000 X 9.000","Edited by","Clay Farris Naff",null,null,null,null,"Z",null,"Grade 10 - 12","Grade 10 - 12","It is easy to take our hearing for granted, and we may even damage our own hearing, leading to hearing loss. About 48 million Americans report some degree of hearing loss. Provide your readers with essential information on deafness and hearing impairment. This book also serves as a historical survey, by providing information on the controversies surrounding its causes. Compelling first-person narratives by people coping with deafness and hearing impairment give readers a first-hand experience. Patients, family members, or caregivers explain the condition from their own experience. The symptoms, causes, treatments, and potential cures are explained in detail. Essential to anyone trying to learn about diseases and conditions, the alternative treatments are explored. Student researchers and readers will find this book easily accessible through its careful and conscientious editing and a thorough introduction to each essay.","English",44.3,35.44,"617.8","144 pp.","https://greenhavenpublishing.com/978-0-7377-4788-1",{"$f":"Table1[[#This Row],['# of Books]]*Table1[[#This Row],[QTY]]","v":0},{"$f":"Table1[[#This Row],[QTY]]*Table1[[#This Row],[School & Library Price]]","v":0}]
[null,null,47,null,null,"Health & Medicine","Perspectives on Diseases & Disorders","Dementia","978-0-7377-6791-9",{"$f":"HYPERLINK(Table1[[#This Row],[Hyperlink]],\"Weblink\")","v":"Weblink"},"Greenhaven Publishing","eBook",1,"2013","January 2013",null,null,"Edited by","Sylvia Engdahl",null,null,null,null,"Z","1250L","Grade 10 - 12","Grade 10 - 12","Dementia is caused by a variety of brain illnesses that affect memory, thinking, behavior, and ability to perform everyday activities. This guidebook provides essential information on Dementia, but also serves as a historical survey, by providing information on the controversies surrounding its causes, and first-person narratives by people coping with Dementia. Readers will learn from the words of patients, family members, or caregivers. The symptoms, causes, treatments, and potential cures are explained in detail. Alternative treatments are also covered. Each essay is carefully edited and presented with an introduction, so that they are accessible for student researchers and readers.","English",48.73,38.979999999999997,"616.8/3","176 pp.","https://greenhavenpublishing.com/978-0-7377-6791-9",{"$f":"Table1[[#This Row],['# of Books]]*Table1[[#This Row],[QTY]]","v":0},{"$f":"Table1[[#This Row],[QTY]]*Table1[[#This Row],[School & Library Price]]","v":0}]
[null,null,47,null,null,"Health & Medicine","Perspectives on Diseases & Disorders","Eating Disorders","978-0-7377-3872-8",{"$f":"HYPERLINK(Table1[[#This Row],[Hyperlink]],\"Weblink\")","v":"Weblink"},"Greenhaven Publishing","Library Bound Book",1,"2008","January 2008","Library","7.000 X 9.000","Edited by","Lorraine Savage",null,null,null,null,"Z",null,"Grade 10 - 12","Grade 10 - 12","Eating disorders are serious, potentially life-threatening conditions that impact a teen's emotional and physical health. Provide your readers with essential information on eating disorders. This book also serves as a historical survey, by providing information on the controversies surrounding its causes. Compelling first-person narratives by people coping with eating disorders give readers a first-hand experience. Readers will learn from the words of patients, family members, or caregivers. The symptoms, causes, treatments, and potential cures are explained in detail. Alternative treatments are also covered. Each essay is carefully edited and presented with an introduction, so that they are accessible for student researchers and readers.","English",44.3,35.44,"362.196/​8526","144 pp.","https://greenhavenpublishing.com/978-0-7377-3872-8",{"$f":"Table1[[#This Row],['# of Books]]*Table1[[#This Row],[QTY]]","v":0},{"$f":"Table1[[#This Row],[QTY]]*Table1[[#This Row],[School & Library Price]]","v":0}]
[null,null,47,null,null,"Health & Medicine","Perspectives on Diseases & Disorders","Food Allergies","978-0-7377-6354-6",{"$f":"HYPERLINK(Table1[[#This Row],[Hyperlink]],\"Weblink\")","v":"Weblink"},"Greenhaven Publishing","Library Bound Book",1,"2014","January 2014","Library","7.000 X 9.000","Edited by","Arthur Gillard",null,null,null,null,"Z","1230L","Grade 10 - 12","Grade 10 - 12","Amazingly, only eight foods are responsible for 90 percent of food-allergic reactions. They are: milk, eggs, peanuts, tree nuts, wheat, soy, fish, and shellfish. Provide your readers with essential information on food allergies. This book also serves as a historical survey, by providing information on the controversies surrounding its causes. Compelling first-person narratives by people coping with food allergies give readers a first-hand experience. Readers will learn from the words of patients, family members, or caregivers. The symptoms, causes, treatments, and potential cures are explained in detail. Alternative treatments are also covered. Student researchers and readers will find this book easily accessible through its careful and conscientious editing and a thorough introduction to each essay.","English",44.3,35.44,"616.97/​3","120 pp.","https://greenhavenpublishing.com/978-0-7377-6354-6",{"$f":"Table1[[#This Row],['# of Books]]*Table1[[#This Row],[QTY]]","v":0},{"$f":"Table1[[#This Row],[QTY]]*Table1[[#This Row],[School & Library Price]]","v":0}]
[null,null,48,null,null,"Health & Medicine","Perspectives on Diseases & Disorders","Growth Disorders","978-0-7377-6490-1",{"$f":"HYPERLINK(Table1[[#This Row],[Hyperlink]],\"Weblink\")","v":"Weblink"},"Greenhaven Publishing","eBook",1,"2011","January 2012",null,null,"Edited by","Mary E. Williams",null,null,null,null,"Z",null,"Grade 10 - 12","Grade 10 - 12","Growth disorders prevent children from developing normal height, weight, sexual maturity or other features, at decreased or accelerated rates. Provide your readers with essential information on growth disorders. This book also serves as a historical survey, by providing information on the controversies surrounding its causes. Compelling first-person narratives by people coping with growth disorders give readers a first-hand experience. Patients, family members, or caregivers explain the condition from their own experience. The symptoms, causes, treatments, and potential cures are explained in detail. Essential to anyone trying to learn about diseases and conditions, the alternative treatments are explored. Each essay is carefully edited and presented with an introduction, so that they are accessible for student researchers and readers.","English",48.73,38.979999999999997,"616.4/7","168 pp.","https://greenhavenpublishing.com/978-0-7377-6490-1",{"$f":"Table1[[#This Row],['# of Books]]*Table1[[#This Row],[QTY]]","v":0},{"$f":"Table1[[#This Row],[QTY]]*Table1[[#This Row],[School & Library Price]]","v":0}]
[null,null,48,null,null,"Health & Medicine","Perspectives on Diseases & Disorders","Hepatitis","978-0-7377-5107-9",{"$f":"HYPERLINK(Table1[[#This Row],[Hyperlink]],\"Weblink\")","v":"Weblink"},"Greenhaven Publishing","eBook",1,"2010","January 2010",null,null,"Edited by","Jacqueline Langwith",null,null,null,null,"Z",null,"Grade 10 - 12","Grade 10 - 12","Hepatitis simply means liver inflammation, and it covers many conditions. While some Hepatitis is due to viral infection, the liver can also be injured and become inflamed through the action of chemicals, environmental toxins, medication, and alcohol abuse. Provide your readers with essential information on Hepatitis. This book also serves as a historical survey, by providing information on the controversies surrounding its causes. Compelling first-person narratives by people coping with Hepatitis give readers a first-hand experience. Readers will learn from the words of patients, family members, or caregivers. The symptoms, causes, treatments, and potential cures are explained in detail. Alternative treatments are also covered. Each essay is carefully edited and presented with an introduction, so that they are accessible for student researchers and readers.","English",48.73,38.979999999999997,"616.3/623","168 pp.","https://greenhavenpublishing.com/978-0-7377-5107-9",{"$f":"Table1[[#This Row],['# of Books]]*Table1[[#This Row],[QTY]]","v":0},{"$f":"Table1[[#This Row],[QTY]]*Table1[[#This Row],[School & Library Price]]","v":0}]
[null,null,48,null,null,"Health & Medicine","Perspectives on Diseases & Disorders","HPV","978-0-7377-6793-3",{"$f":"HYPERLINK(Table1[[#This Row],[Hyperlink]],\"Weblink\")","v":"Weblink"},"Greenhaven Publishing","eBook",1,"2013","January 2013",null,null,"Edited by","Jacqueline Langwith",null,null,null,null,"Z",null,"Grade 10 - 12","Grade 10 - 12","There is no cure for Human Papilloma Virus, but there are vaccines for avoiding it. This guidebook provides essential information on Human Papilloma Virus and Cervical Cancer, but also serves as a historical survey, by providing information on the controversies surrounding its causes, and first-person narratives by people coping with HPV. Patients, family members, or caregivers explain the condition from their own experience. The symptoms, causes, and treatments are explained in detail. Essential to anyone trying to learn about diseases and conditions, the alternative treatments are explored. Each essay is carefully edited and presented with an introduction, so that they are accessible for student researchers and readers.","English",48.73,38.979999999999997,"616.9/11","144 pp.","https://greenhavenpublishing.com/978-0-7377-6793-3",{"$f":"Table1[[#This Row],['# of Books]]*Table1[[#This Row],[QTY]]","v":0},{"$f":"Table1[[#This Row],[QTY]]*Table1[[#This Row],[School & Library Price]]","v":0}]
[null,null,48,null,null,"Health & Medicine","Perspectives on Diseases & Disorders","Learning Disabilities","978-0-7377-5001-0",{"$f":"HYPERLINK(Table1[[#This Row],[Hyperlink]],\"Weblink\")","v":"Weblink"},"Greenhaven Publishing","Library Bound Book",1,"2010","January 2010","Library","7.000 X 9.000","Edited by","Clay Farris Naff",null,null,null,null,"Z",null,"Grade 10 - 12","Grade 10 - 12","Your readers are provided with essential information on learning disabilities. Compelling first-person narratives by people coping with learning disabilities give readers a first-hand experience. Readers will learn from the words of patients, family members, or caregivers. The symptoms, possible causes, and standard treatments are explained in detail. Alternative treatments are also covered. Student researchers and readers will find this book easily accessible through its careful and conscientious editing and a thorough introduction to each essay.","English",44.3,35.44,"618.92/85889","136 pp.","https://greenhavenpublishing.com/978-0-7377-5001-0",{"$f":"Table1[[#This Row],['# of Books]]*Table1[[#This Row],[QTY]]","v":0},{"$f":"Table1[[#This Row],[QTY]]*Table1[[#This Row],[School & Library Price]]","v":0}]
[null,null,48,null,null,"Health & Medicine","Perspectives on Diseases & Disorders","Lung Cancer","978-0-7377-5002-7",{"$f":"HYPERLINK(Table1[[#This Row],[Hyperlink]],\"Weblink\")","v":"Weblink"},"Greenhaven Publishing","Library Bound Book",1,"2011","January 2011","Library","7.000 X 9.000","Edited by","Jacqueline Langwith",null,null,null,null,"Z",null,"Grade 10 - 12","Grade 10 - 12","According to the Mayo Clinic, Lung Cancer claims more lives each year than colon, prostate, ovarian, and breast cancers combined. This book provides essential information on Lung Cancer, but also serves as a historical survey, by providing information on the controversies surrounding its causes, and first-person narratives by people coping with Lung Cancer. Patients, family members, or caregivers explain the condition from their own experience. The symptoms, causes, treatments, and potential cures are explained in detail. Essential to anyone trying to learn about diseases and conditions, the alternative treatments are explored. Student researchers and readers will find this book easily accessible through its careful and conscientious editing and a thorough introduction to each essay.","English",44.3,35.44,"616.99/424","136 pp.","https://greenhavenpublishing.com/978-0-7377-5002-7",{"$f":"Table1[[#This Row],['# of Books]]*Table1[[#This Row],[QTY]]","v":0},{"$f":"Table1[[#This Row],[QTY]]*Table1[[#This Row],[School & Library Price]]","v":0}]
[null,null,48,null,null,"Health & Medicine","Perspectives on Diseases & Disorders","Lung Cancer","978-0-7377-5872-6",{"$f":"HYPERLINK(Table1[[#This Row],[Hyperlink]],\"Weblink\")","v":"Weblink"},"Greenhaven Publishing","eBook",1,"2011","January 2011",null,null,"Edited by","Jacqueline Langwith",null,null,null,null,"Z",null,"Grade 10 - 12","Grade 10 - 12","According to the Mayo Clinic, Lung Cancer claims more lives each year than colon, prostate, ovarian, and breast cancers combined. This book provides essential information on Lung Cancer, but also serves as a historical survey, by providing information on the controversies surrounding its causes, and first-person narratives by people coping with Lung Cancer. Patients, family members, or caregivers explain the condition from their own experience. The symptoms, causes, treatments, and potential cures are explained in detail. Essential to anyone trying to learn about diseases and conditions, the alternative treatments are explored. Student researchers and readers will find this book easily accessible through its careful and conscientious editing and a thorough introduction to each essay.","English",48.73,38.979999999999997,"616.99/424","136 pp.","https://greenhavenpublishing.com/978-0-7377-5872-6",{"$f":"Table1[[#This Row],['# of Books]]*Table1[[#This Row],[QTY]]","v":0},{"$f":"Table1[[#This Row],[QTY]]*Table1[[#This Row],[School & Library Price]]","v":0}]
[null,null,48,null,null,"Health & Medicine","Perspectives on Diseases & Disorders","Lymphoma","978-0-7377-5778-1",{"$f":"HYPERLINK(Table1[[#This Row],[Hyperlink]],\"Weblink\")","v":"Weblink"},"Greenhaven Publishing","Library Bound Book",1,"2012","January 2012","Library","7.000 X 9.000","Edited by","Arthur Gillard",null,null,null,null,"Z",null,"Grade 10 - 12","Grade 10 - 12","Made up of two main types and several subtypes, Lymphoma is the third most common cancer diagnosed in children. Your readers are provided with essential information on the Lymphomas. This book also serves as a historical survey, by providing information on the controversies surrounding its causes. Compelling first-person narratives by people coping with Lymphoma give readers a first-hand experience. Patients, family members, or caregivers explain the condition from their own experience. The symptoms, causes, treatments, and potential cures are explained in detail. Essential to anyone trying to learn about diseases and conditions, the alternative treatments are explored. Student researchers and readers will find this book easily accessible through its careful and conscientious editing and a thorough introduction to each essay.","English",44.3,35.44,"616.99/446","152 pp.","https://greenhavenpublishing.com/978-0-7377-5778-1",{"$f":"Table1[[#This Row],['# of Books]]*Table1[[#This Row],[QTY]]","v":0},{"$f":"Table1[[#This Row],[QTY]]*Table1[[#This Row],[School & Library Price]]","v":0}]
[null,null,48,null,null,"Health & Medicine","Perspectives on Diseases & Disorders","Meningitis","978-0-7377-4790-4",{"$f":"HYPERLINK(Table1[[#This Row],[Hyperlink]],\"Weblink\")","v":"Weblink"},"Greenhaven Publishing","Library Bound Book",1,"2010","January 2010","Library","7.000 X 9.000","Edited by","Sylvia Engdahl",null,null,null,null,"Z",null,"Grade 10 - 12","Grade 10 - 12","Infection is the most common cause of Meningitis. It is caused by many different germs: bacteria, viruses, fungi, and parasites. It has the power to cause disability or death within hours of infection. Provide your readers with essential information on Meningitis. This book serves as a historical survey, by providing information on the controversies surrounding its causes. Compelling first-person narratives by people coping with Meningitis give readers a first-hand experience. Readers will learn from the words of patients, family members, or caregivers. The symptoms, causes, treatments, and potential cures are explained in detail. Alternative treatments are also covered. Student researchers and readers will find this book easily accessible through its careful and conscientious editing and a thorough introduction to each essay. Includes charts, graphs, and tables.","English",44.3,35.44,"616.8/2--dc22","144 pp.","https://greenhavenpublishing.com/978-0-7377-4790-4",{"$f":"Table1[[#This Row],['# of Books]]*Table1[[#This Row],[QTY]]","v":0},{"$f":"Table1[[#This Row],[QTY]]*Table1[[#This Row],[School & Library Price]]","v":0}]
[null,null,48,null,null,"Health & Medicine","Perspectives on Diseases & Disorders","Mood Disorders","978-0-7377-5049-2",{"$f":"HYPERLINK(Table1[[#This Row],[Hyperlink]],\"Weblink\")","v":"Weblink"},"Greenhaven Publishing","eBook",1,"2009","January 2009",null,null,"Edited by","Jacqueline Langwith",null,null,null,null,"Z",null,"Grade 10 - 12","Grade 10 - 12","Emotions are a part of our lives, the highs and the lows. People who suffer with mood disorders, which include major depressive disorder, bipolar disorder, and seasonal affective disorder, experience those highs and lows to extremes. Readers are provided with essential information on mood disorders. This book also serves as a historical survey, by providing information on the controversies surrounding its causes. Compelling first-person narratives by people coping with mood disorders give readers a first-hand experience. Patients, family members, or caregivers explain the condition from their own experience. The symptoms, causes, treatments, and potential cures are explained in detail. Essential to anyone trying to learn about diseases and conditions, the alternative treatments are explored. Each essay is carefully edited and presented with an introduction, so that they are accessible for student researchers and readers.","English",48.73,38.979999999999997,"616.85/27","168 pp.","https://greenhavenpublishing.com/978-0-7377-5049-2",{"$f":"Table1[[#This Row],['# of Books]]*Table1[[#This Row],[QTY]]","v":0},{"$f":"Table1[[#This Row],[QTY]]*Table1[[#This Row],[School & Library Price]]","v":0}]
[null,null,48,null,null,"Health & Medicine","Perspectives on Diseases & Disorders","MRSA","978-0-7377-5779-8",{"$f":"HYPERLINK(Table1[[#This Row],[Hyperlink]],\"Weblink\")","v":"Weblink"},"Greenhaven Publishing","Library Bound Book",1,"2012","January 2012","Library","7.000 X 9.000","Edited by","Mary E. Williams",null,null,null,null,"Z",null,"Grade 10 - 12","Grade 10 - 12","Methicillin-Resistant Staphylococcus Aureus is a bacterial infection that can become severe if not taken care of properly. MRSA can burrow deep into the body, causing potentially life-threatening infections in bones, joints, wounds, the bloodstream, heart valves, and lungs. This guidebook provides essential information on MRSA, but also serves as a historical survey, by providing information on controversies surrounding the infection, and first-person narratives by people coping with MRSA. Patients, family members, or caregivers explain the condition from their own experience. The symptoms, causes, treatments, and potential cures are explained in detail. Essential to anyone trying to learn about diseases and conditions, the alternative treatments are explored. Student researchers and readers will find this book easily accessible through its careful and conscientious editing and a thorough introduction to each essay.","English",44.3,35.44,"579.3/53","128 pp.","https://greenhavenpublishing.com/978-0-7377-5779-8",{"$f":"Table1[[#This Row],['# of Books]]*Table1[[#This Row],[QTY]]","v":0},{"$f":"Table1[[#This Row],[QTY]]*Table1[[#This Row],[School & Library Price]]","v":0}]
[null,null,48,null,null,"Health & Medicine","Perspectives on Diseases & Disorders","Neurodegenerative Disorders","978-0-7377-6357-7",{"$f":"HYPERLINK(Table1[[#This Row],[Hyperlink]],\"Weblink\")","v":"Weblink"},"Greenhaven Publishing","Library Bound Book",1,"2013","January 2013","Library","7.000 X 9.000","Edited by","Sylvia Engdahl",null,null,null,null,"Z","1230L","Grade 10 - 12","Grade 10 - 12","Your readers are provided with essential information on Neurodegenerative Disorders, such as Alzheimer's, Parkinson's, ALS, Huntington's, and multiple sclerosis. This book also serves as a historical survey, by providing information on the controversies surrounding its causes. Compelling first-person narratives by people coping with Neurodegenerative Disorders give readers a first-hand experience. Patients, family members, or caregivers explain the condition from their own experience. The symptoms, causes, treatments, and potential cures are explained in detail. Essential to anyone trying to learn about diseases and conditions, the alternative treatments are explored. Student researchers and readers will find this book easily accessible through its careful and conscientious editing and a thorough introduction to each essay.","English",44.3,35.44,"616.8/0442","160 pp.","https://greenhavenpublishing.com/978-0-7377-6357-7",{"$f":"Table1[[#This Row],['# of Books]]*Table1[[#This Row],[QTY]]","v":0},{"$f":"Table1[[#This Row],[QTY]]*Table1[[#This Row],[School & Library Price]]","v":0}]
[null,null,48,null,null,"Health & Medicine","Perspectives on Diseases & Disorders","Obsessive-Compulsive Disorder","978-0-7377-4791-1",{"$f":"HYPERLINK(Table1[[#This Row],[Hyperlink]],\"Weblink\")","v":"Weblink"},"Greenhaven Publishing","Library Bound Book",1,"2010","January 2010","Library","7.000 X 9.000","Edited by","Heidi Watkins",null,null,null,null,"Z",null,"Grade 10 - 12","Grade 10 - 12","Over four million Americans suffer from Obsessive-Compulsive Disorder, or one in every fifty persons. Readers are provided with essential information on OCD. This book also serves as a historical survey, by providing information on the controversies surrounding its causes. Compelling first-person narratives by people coping with OCD give readers a first-hand experience. Readers will learn from the words of patients, family members, or caregivers. The symptoms, causes, treatments, and potential cures are explained in detail. Alternative treatments are also covered. Student researchers and readers will find this book easily accessible through its careful and conscientious editing and a thorough introduction to each essay.","English",44.3,35.44,"616.85/227","152 pp.","https://greenhavenpublishing.com/978-0-7377-4791-1",{"$f":"Table1[[#This Row],['# of Books]]*Table1[[#This Row],[QTY]]","v":0},{"$f":"Table1[[#This Row],[QTY]]*Table1[[#This Row],[School & Library Price]]","v":0}]
[null,null,48,null,null,"Health & Medicine","Perspectives on Diseases & Disorders","Postpartum Depression","978-0-7377-6560-1",{"$f":"HYPERLINK(Table1[[#This Row],[Hyperlink]],\"Weblink\")","v":"Weblink"},"Greenhaven Publishing","eBook",1,"2012","January 2012",null,null,"Edited by","Jacqueline Langwith",null,null,null,null,"Z",null,"Grade 10 - 12","Grade 10 - 12","The birth of a child should be a joyous time, but often those feelings are overshadowed in women who experience the \"baby blues.\" This condition is typical in 80 percent of childbirths, and it only lasts a week or so. The more dangerous version lasts months or years, and can impact a mother's ability to care for herself, her family, and her new child. This guidebook provides essential information on postpartum depression, but also serves as a historical survey, by providing information on the controversies surrounding its causes, and first-person narratives by people coping with postpartum depression. Patients, family members, or caregivers explain the condition from their own experience. The symptoms, causes, treatments, and potential cures are explained in detail. Essential to anyone trying to learn about diseases and conditions, the alternative treatments are explored. Each essay is carefully edited and presented with an introduction, so that they are accessible for student researchers and readers.","English",48.73,38.979999999999997,"618.7/6","144 pp.","https://greenhavenpublishing.com/978-0-7377-6560-1",{"$f":"Table1[[#This Row],['# of Books]]*Table1[[#This Row],[QTY]]","v":0},{"$f":"Table1[[#This Row],[QTY]]*Table1[[#This Row],[School & Library Price]]","v":0}]
[null,null,48,null,null,"Health & Medicine","Perspectives on Diseases & Disorders","Schizophrenia","978-0-7377-5003-4",{"$f":"HYPERLINK(Table1[[#This Row],[Hyperlink]],\"Weblink\")","v":"Weblink"},"Greenhaven Publishing","Library Bound Book",1,"2010","January 2010","Library","7.000 X 9.000","Edited by","Jacqueline Langwith",null,null,null,null,"Z",null,"Grade 10 - 12","Grade 10 - 12","Schizophrenia is often erroneously linked to persons carrying out horrifying acts of violence, but most sufferers prefer to be left alone and are not violent. Your readers are provided with essential information on Schizophrenia. This book also serves as a historical survey, by providing information on the controversies surrounding its causes. Compelling first-person narratives by people coping with Schizophrenia give readers a first-hand experience. Patients, family members, or caregivers explain the condition from their own experience. The symptoms, causes, treatments, and potential cures are explained in detail. Essential to anyone trying to learn about diseases and conditions, the alternative treatments are explored. Student researchers and readers will find this book easily accessible through its careful and conscientious editing and a thorough introduction to each essay.","English",44.3,35.44,"616.89/​8","144 pp.","https://greenhavenpublishing.com/978-0-7377-5003-4",{"$f":"Table1[[#This Row],['# of Books]]*Table1[[#This Row],[QTY]]","v":0},{"$f":"Table1[[#This Row],[QTY]]*Table1[[#This Row],[School & Library Price]]","v":0}]
[null,null,48,null,null,"Health & Medicine","Perspectives on Diseases & Disorders","Speech Disorders","978-0-7377-5783-5",{"$f":"HYPERLINK(Table1[[#This Row],[Hyperlink]],\"Weblink\")","v":"Weblink"},"Greenhaven Publishing","Library Bound Book",1,"2012","January 2012","Library","7.000 X 9.000","Edited by","Mary E. Williams",null,null,null,null,"Z",null,"Grade 10 - 12","Grade 10 - 12","40 million Americans have communication disorders. Your readers are provided with essential information on speech disorders. This book also serves as a historical survey, by providing information on the controversies surrounding its causes. Compelling first-person narratives by people coping with speech disorders give readers a first-hand experience. Patients, family members, or caregivers explain the condition from their own experience. The symptoms, causes, treatments, and potential cures are explained in detail. Essential to anyone trying to learn about diseases and conditions, the alternative treatments are explored. Each essay is carefully edited and presented with an introduction, so that they are accessible for student researchers and readers.","English",44.3,35.44,"616.85/​5","160 pp.","https://greenhavenpublishing.com/978-0-7377-5783-5",{"$f":"Table1[[#This Row],['# of Books]]*Table1[[#This Row],[QTY]]","v":0},{"$f":"Table1[[#This Row],[QTY]]*Table1[[#This Row],[School & Library Price]]","v":0}]
[null,null,48,null,null,"Health & Medicine","Perspectives on Diseases & Disorders","Stroke","978-0-7377-6795-7",{"$f":"HYPERLINK(Table1[[#This Row],[Hyperlink]],\"Weblink\")","v":"Weblink"},"Greenhaven Publishing","eBook",1,"2013","January 2013",null,null,"Edited by","Arthur Gillard",null,null,null,null,"Z",null,"Grade 10 - 12","Grade 10 - 12","The C.D.C. states that someone in the United States has a stroke every 40 seconds, and someone dies of a stroke every 4 minutes. It will touch your reader's lives. This book provides essential information on strokes. This book also serves as a historical survey, by providing information on the controversies surrounding its causes. Compelling first-person narratives by people coping with strokes give readers a first-hand experience. Readers will learn from the words of patients, family members, or caregivers. The symptoms, causes, treatments, and potential cures are explained in detail. Alternative treatments are also covered. Each essay is carefully edited and presented with an introduction, so that they are accessible for student researchers and readers. First-hand accounts include a young mother who suffered a stroke, a man who survived a stroke at age 10, and a brain scientist who suffered and learned from a stroke.","English",48.73,38.979999999999997,"616.8/​1","144 pp.","https://greenhavenpublishing.com/978-0-7377-6795-7",{"$f":"Table1[[#This Row],['# of Books]]*Table1[[#This Row],[QTY]]","v":0},{"$f":"Table1[[#This Row],[QTY]]*Table1[[#This Row],[School & Library Price]]","v":0}]
[null,null,48,null,null,"Health & Medicine","Perspectives on Diseases & Disorders","Tourette Syndrome","978-0-7377-6796-4",{"$f":"HYPERLINK(Table1[[#This Row],[Hyperlink]],\"Weblink\")","v":"Weblink"},"Greenhaven Publishing","eBook",1,"2013","January 2013",null,null,"Edited by","Mary E. Williams",null,null,null,null,"Z","1200L","Grade 10 - 12","Grade 10 - 12","One in 100 children have some form of Tourette Syndrome, according to NJCTS, yet it is wildly misunderstood. Only ten percent of TS sufferers actually swear or use curse words involuntarily. Provide your readers with essential information on Tourette Syndrome. This book also serves as a historical survey, by providing information on the controversies surrounding its causes. Compelling first-person narratives by people coping with Tourette Syndrome give readers a first-hand experience. Patients, family members, or caregivers explain the condition from their own experience. The symptoms, causes, treatments, and potential cures are explained in detail. Essential to anyone trying to learn about diseases and conditions, the alternative treatments are explored. Student researchers and readers will find this book easily accessible through its careful and conscientious editing and a thorough introduction to each essay. First-hand accounts include a student that faces bullies, a woman who describes in detail the \"anatomy of a tic,\" and a concert pianist living with TS.","English",48.73,38.979999999999997,"616.8/​3","136 pp.","https://greenhavenpublishing.com/978-0-7377-6796-4",{"$f":"Table1[[#This Row],['# of Books]]*Table1[[#This Row],[QTY]]","v":0},{"$f":"Table1[[#This Row],[QTY]]*Table1[[#This Row],[School & Library Price]]","v":0}]
[null,null,48,null,null,"Health & Medicine","Perspectives on Diseases & Disorders","Traumatic Brain Injury","978-0-7377-7311-8",{"$f":"HYPERLINK(Table1[[#This Row],[Hyperlink]],\"Weblink\")","v":"Weblink"},"Greenhaven Publishing","Library Bound Book",1,"2013","January 2013","Library","7.000 X 9.000","Edited by","Arthur Gillard",null,null,null,null,"Z","1330L","Grade 10 - 12","Grade 10 - 12","There are more than 200,000 cases of traumatic brain injury in the United States every year. It is a major cause of deaths and disabilities. This guidebook provides essential information on Traumatic Brain Injury, but also presents first-person narratives by people coping with Traumatic Brain Injury. Readers will learn from the words of patients, family members, or caregivers. The symptoms, causes, treatments, and potential cures are explained in detail. Alternative treatments are also covered. Each essay is carefully edited and presented with an introduction, so that they are accessible for student researchers and readers.","English",44.3,35.44,"617.5/​1044","168 pp.","https://greenhavenpublishing.com/978-0-7377-7311-8",{"$f":"Table1[[#This Row],['# of Books]]*Table1[[#This Row],[QTY]]","v":0},{"$f":"Table1[[#This Row],[QTY]]*Table1[[#This Row],[School & Library Price]]","v":0}]
[null,null,49,null,null,"Science and Technology","Fueling the Future","Nuclear Power","978-0-7377-3587-1",{"$f":"HYPERLINK(Table1[[#This Row],[Hyperlink]],\"Weblink\")","v":"Weblink"},"Greenhaven Publishing","Library Bound Book",1,"2007","January 2007","Library","7.000 X 9.000","Edited by, Edited by","Tom Metcalf, Gena Metcalf",null,null,null,null,"Z",null,"Grade 10 - 12","Grade 10 - 12","This volume explores the advantages and disadvantages of using of nuclear power, and the history of harnessing nuclear power technology. Heavily-illustrated and carefully curated, the essays explore the development of nuclear technology, engineering, and its ecological impact.","English",44.6,35.68,"333.792/​4","128 pp.","https://greenhavenpublishing.com/978-0-7377-3587-1",{"$f":"Table1[[#This Row],['# of Books]]*Table1[[#This Row],[QTY]]","v":0},{"$f":"Table1[[#This Row],[QTY]]*Table1[[#This Row],[School & Library Price]]","v":0}]
[null,null,50,null,null,"U.S. History","Constitutional Amendments: Beyond the Bill of Rights","Amendment XII: The Presidential Election Process","978-0-7377-4123-0",{"$f":"HYPERLINK(Table1[[#This Row],[Hyperlink]],\"Weblink\")","v":"Weblink"},"Greenhaven Publishing","Library Bound Book",1,"2009","January 2009","Library","6.000 X 9.000","Edited by","Jared Zacharias",null,null,null,null,"Z",null,"Grade 10 - 12","Grade 10 - 12","Perhaps one of the most hotly debated issues of the 2016 Presidential election was the role of the Electoral College, after the victor was announced. After an introduction to the history of the Twelfth Amendment, readers will examine several topics relating to the Presidential election process, including the Electoral College. Essay sources include Lolabel House, Akhil Reed Amar, Gaye Wilson, Jess Bravin, Vikram David Amar, Jennifer Steinhauer, and George C. Edwards III.","English",43.2,34.56,"342.73/​07","144 pp.","https://greenhavenpublishing.com/978-0-7377-4123-0",{"$f":"Table1[[#This Row],['# of Books]]*Table1[[#This Row],[QTY]]","v":0},{"$f":"Table1[[#This Row],[QTY]]*Table1[[#This Row],[School & Library Price]]","v":0}]
[null,null,50,null,null,"U.S. History","Constitutional Amendments: Beyond the Bill of Rights","Amendment XIII: Abolishing Slavery","978-0-7377-4584-9",{"$f":"HYPERLINK(Table1[[#This Row],[Hyperlink]],\"Weblink\")","v":"Weblink"},"Greenhaven Publishing","eBook",1,"2009","January 2009",null,null,"Edited by, Edited by","Tracey Vasil Biscontini, Rebecca Sparling",null,null,null,null,"Z",null,"Grade 10 - 12","Grade 10 - 12","One of the most stirring moments in history was when Abraham Lincoln issued the Emancipation Proclamation. Along with this crucial primary source, readers are treated to an amazing collection of essays about the abolishment of slavery and the Thirteenth Amendment. Readers will evaluate the historical defense of slavery and its rejection, reactions to Lincoln's proclamation, and they will learn how early Supreme Court rulings actually undermined this amendment's power. Other topics include segregation, housing developments, road closings, America's debt to slaves, immigrant labor, modern-day slavery, and slavery in American prisons and suburbs.\n ","English",47.52,38.020000000000003,"342.7308/​7","200 pp.","https://greenhavenpublishing.com/978-0-7377-4584-9",{"$f":"Table1[[#This Row],['# of Books]]*Table1[[#This Row],[QTY]]","v":0},{"$f":"Table1[[#This Row],[QTY]]*Table1[[#This Row],[School & Library Price]]","v":0}]
[null,null,50,null,null,"U.S. History","Constitutional Amendments: Beyond the Bill of Rights","Amendment XIV: Citizenship for All","978-0-7377-4124-7",{"$f":"HYPERLINK(Table1[[#This Row],[Hyperlink]],\"Weblink\")","v":"Weblink"},"Greenhaven Publishing","Library Bound Book",1,"2009","January 2009","Library","6.000 X 9.000","Edited by","Jeff Hay",null,null,null,null,"Z",null,"Grade 10 - 12","Grade 10 - 12","Rather than a dry, hard-to-understand reference book on our Constitutional rights, this collection of essays presents a lively discussion of what \"citizenship for all\" really means. Essay resources include Akhil Reed Amar, James F. Wilson, Priscilla Huang, Horace Gray, Melville Fuller, and Dmitri Vasillaros. Essay topics include slavery, federal despotism, naturalized citizens, undocumented immigrants, and dual citizenship.","English",43.2,34.56,"342.7308/​3","176 pp.","https://greenhavenpublishing.com/978-0-7377-4124-7",{"$f":"Table1[[#This Row],['# of Books]]*Table1[[#This Row],[QTY]]","v":0},{"$f":"Table1[[#This Row],[QTY]]*Table1[[#This Row],[School & Library Price]]","v":0}]
[null,null,50,null,null,"U.S. History","Constitutional Amendments: Beyond the Bill of Rights","Amendment XIV: Due Process","978-0-7377-4588-7",{"$f":"HYPERLINK(Table1[[#This Row],[Hyperlink]],\"Weblink\")","v":"Weblink"},"Greenhaven Publishing","eBook",1,"2009","January 2009",null,null,"Edited by","Carrie Fredericks",null,null,null,null,"Z",null,"Grade 10 - 12","Grade 10 - 12","Due process is probably one of the most important rights that your readers should know about, understand, and keep with themselves for the rest of their lives. Due process is fair treatment through the normal judicial system, especially as a citizen's entitlement. This collection of essays presents the Fourteenth amendment through several essays that debate is meaning and use. Topics include truancy, double jeopardy, a woman's right to choose abortion, student suspension, detainees of the war on terrorism, music piracy, and immigration reform.","English",47.52,38.020000000000003,"347.73/​5","168 pp.","https://greenhavenpublishing.com/978-0-7377-4588-7",{"$f":"Table1[[#This Row],['# of Books]]*Table1[[#This Row],[QTY]]","v":0},{"$f":"Table1[[#This Row],[QTY]]*Table1[[#This Row],[School & Library Price]]","v":0}]
[null,null,50,null,null,"U.S. History","Constitutional Amendments: Beyond the Bill of Rights","Amendment XIX: Granting Women the Right to Vote","978-0-7377-4127-8",{"$f":"HYPERLINK(Table1[[#This Row],[Hyperlink]],\"Weblink\")","v":"Weblink"},"Greenhaven Publishing","Library Bound Book",1,"2009","January 2009","Library","6.000 X 9.000","Edited by","Carrie Fredericks",null,null,null,null,"Z",null,"Grade 10 - 12","Grade 10 - 12","Editor Carrie Fredericks has compiled compelling essays and primary sources on the Nineteenth Amendment, which grants the right to vote to women. Essay sources include Frederick Douglass, Ellen DuBois, Elizabeth Cady Stanton, The New York Times, The Associated Press, James E. Potter, and Gloria Steinem.","English",43.2,34.56,"342.73/​072","168 pp.","https://greenhavenpublishing.com/978-0-7377-4127-8",{"$f":"Table1[[#This Row],['# of Books]]*Table1[[#This Row],[QTY]]","v":0},{"$f":"Table1[[#This Row],[QTY]]*Table1[[#This Row],[School & Library Price]]","v":0}]
[null,null,50,null,null,"U.S. History","Constitutional Amendments: Beyond the Bill of Rights","Amendment XV: Race and the Right to Vote","978-0-7377-4590-0",{"$f":"HYPERLINK(Table1[[#This Row],[Hyperlink]],\"Weblink\")","v":"Weblink"},"Greenhaven Publishing","eBook",1,"2009","January 2009",null,null,"Edited by","Jeff Hay",null,null,null,null,"Z",null,"Grade 10 - 12","Grade 10 - 12","The right to vote was not always granted to all Americans, which is a horrible blemish on American history, nevertheless this crucial right is held under the Fifteenth Amendment. Readers will examine its historical background, its challenges, and its successes. Readers will come to understand the necessity of ensuring voting rights in contemporary America.","English",47.52,38.020000000000003,"342.73/​072","160 pp.","https://greenhavenpublishing.com/978-0-7377-4590-0",{"$f":"Table1[[#This Row],['# of Books]]*Table1[[#This Row],[QTY]]","v":0},{"$f":"Table1[[#This Row],[QTY]]*Table1[[#This Row],[School & Library Price]]","v":0}]
[null,null,50,null,null,"U.S. History","Constitutional Amendments: Beyond the Bill of Rights","Amendment XVII: Establishing Election to the U.S. Senate","978-0-7377-4697-6",{"$f":"HYPERLINK(Table1[[#This Row],[Hyperlink]],\"Weblink\")","v":"Weblink"},"Greenhaven Publishing","Library Bound Book",1,"2010","January 2010","Library","6.000 X 9.000","Edited by","Jeff Hay",null,null,null,null,"Z",null,"Grade 10 - 12","Grade 10 - 12","This volume presents the Seventeenth Amendment in historical context, allowing readers to examine how it has been tested in the courts. Essay sources include the New York Times, David Graham Phillips, John Dean, Zell Miller, and the Constitutional Accountability Center. Readers will be intrigued by current debate and controversies about this amendment as well.","English",43.2,34.56,"342.73/​055","144 pp.","https://greenhavenpublishing.com/978-0-7377-4697-6",{"$f":"Table1[[#This Row],['# of Books]]*Table1[[#This Row],[QTY]]","v":0},{"$f":"Table1[[#This Row],[QTY]]*Table1[[#This Row],[School & Library Price]]","v":0}]
[null,null,50,null,null,"U.S. History","Constitutional Amendments: Beyond the Bill of Rights","Amendment XXV: Presidential Disability and Succession","978-0-7377-4698-3",{"$f":"HYPERLINK(Table1[[#This Row],[Hyperlink]],\"Weblink\")","v":"Weblink"},"Greenhaven Publishing","Library Bound Book",1,"2010","January 2010","Library","6.000 X 9.000","Edited by","Sylvia Engdahl",null,null,null,null,"Z",null,"Grade 10 - 12","Grade 10 - 12","This helpful volume covers the twenty-fifth amendment, which established the line of succession in the event of the president's death as well as what to do in the case of the president's disability. A variety of sources explore why the amendment was proposed less than two years after the assassination of John F. Kennedy, the situations in which it was and was not invoked after ratification, and calls to clarify or change it.","English",43.2,34.56,"342.73/​062","208 pp.","https://greenhavenpublishing.com/978-0-7377-4698-3",{"$f":"Table1[[#This Row],['# of Books]]*Table1[[#This Row],[QTY]]","v":0},{"$f":"Table1[[#This Row],[QTY]]*Table1[[#This Row],[School & Library Price]]","v":0}]
[null,null,50,null,null,"U.S. History","Constitutional Amendments: Beyond the Bill of Rights","Amendment XXVI: Lowering the Voting Age","978-0-7377-5065-2",{"$f":"HYPERLINK(Table1[[#This Row],[Hyperlink]],\"Weblink\")","v":"Weblink"},"Greenhaven Publishing","Paperback Book",1,"2009","January 2009","Paperback","6.000 X 9.000","Edited by","Sylvia Engdahl",null,null,null,null,"Z",null,"Grade 10 - 12","Grade 10 - 12","Voting is an American right, but what age that right should be exercised has been hotly debated throughout America's history. This volume helps readers analyze the Twenty-Sixth Amendment. They will review its historical background, its constitutional implications, and how the youth vote in America today.\n\n","English",20.100000000000001,16.079999999999998,"342.73/​072","224 pp.","https://greenhavenpublishing.com/978-0-7377-5065-2",{"$f":"Table1[[#This Row],['# of Books]]*Table1[[#This Row],[QTY]]","v":0},{"$f":"Table1[[#This Row],[QTY]]*Table1[[#This Row],[School & Library Price]]","v":0}]
[null,null,51,null,null,"U.S. History","The Bill of Rights","Freedom from Unfair Searches and Seizures","978-0-7377-1927-7",{"$f":"HYPERLINK(Table1[[#This Row],[Hyperlink]],\"Weblink\")","v":"Weblink"},"Greenhaven Publishing","Library Bound Book",1,"2006","January 2006","Library","6.000 X 9.000","Edited by, Edited by","Robert Winters, Kimberly Troisi-Paton",null,null,null,null,"Z",null,"Grade 10 - 12","Grade 10 - 12","Outraged by royal officials' ability to search homes and even individuals at will, and seize whatever they considered \"contraband,\" Americans were determined to limit the search and seizure powers of the new federal government. Since then, the Fourth Amendment has become the basis for numerous rules limiting the gathering and use of evidence by police and prosecutors. Readers will enjoy learning about the history of this very important right.","English",43.2,34.56,"345.73/0522","144 pp.","https://greenhavenpublishing.com/978-0-7377-1927-7",{"$f":"Table1[[#This Row],['# of Books]]*Table1[[#This Row],[QTY]]","v":0},{"$f":"Table1[[#This Row],[QTY]]*Table1[[#This Row],[School & Library Price]]","v":0}]
[null,null,51,null,null,"U.S. History","The Bill of Rights","Freedom from Unfair Searches and Seizures","978-0-7377-5264-9",{"$f":"HYPERLINK(Table1[[#This Row],[Hyperlink]],\"Weblink\")","v":"Weblink"},"Greenhaven Publishing","eBook",1,"2006","January 2006",null,null,"Edited by, Edited by","Robert Winters, Kimberly Troisi-Paton",null,null,null,null,"Z",null,"Grade 10 - 12","Grade 10 - 12","Outraged by royal officials' ability to search homes and even individuals at will, and seize whatever they considered \"contraband,\" Americans were determined to limit the search and seizure powers of the new federal government. Since then, the Fourth Amendment has become the basis for numerous rules limiting the gathering and use of evidence by police and prosecutors. Readers will enjoy learning about the history of this very important right.","English",47.52,38.020000000000003,"345.73/0522","144 pp.","https://greenhavenpublishing.com/978-0-7377-5264-9",{"$f":"Table1[[#This Row],['# of Books]]*Table1[[#This Row],[QTY]]","v":0},{"$f":"Table1[[#This Row],[QTY]]*Table1[[#This Row],[School & Library Price]]","v":0}]
[null,null,51,null,null,"U.S. History","The Bill of Rights","The Right Against Self Incrimination","978-0-7377-3343-3",{"$f":"HYPERLINK(Table1[[#This Row],[Hyperlink]],\"Weblink\")","v":"Weblink"},"Greenhaven Publishing","Library Bound Book",1,"2006","January 2006","Library","6.000 X 9.000","Edited by","Kimberly Troisi-Paton",null,null,null,null,"Z",null,"Grade 10 - 12","Grade 10 - 12","The Fifth Amendment's protection against self-incrimination has slowly evolved into a unique American \"right to remain silent.\" This anthology examines the protection's origins in the English court system, features famous case studies of people who have \"pled the Fifth,\" and examines the future of this special right in the wake of twenty-first century legal developments.","English",43.2,34.56,"345.73/​056","144 pp.","https://greenhavenpublishing.com/978-0-7377-3343-3",{"$f":"Table1[[#This Row],['# of Books]]*Table1[[#This Row],[QTY]]","v":0},{"$f":"Table1[[#This Row],[QTY]]*Table1[[#This Row],[School & Library Price]]","v":0}]
[null,null,52,null,null,"World History","Genocide & Persecution","Afghanistan","978-0-7377-6755-1",{"$f":"HYPERLINK(Table1[[#This Row],[Hyperlink]],\"Weblink\")","v":"Weblink"},"Greenhaven Publishing","eBook",1,"2013","January 2013",null,null,"Edited by, Consultant editor","David Erik Nelson, Frank Chalk",null,null,null,null,"Z",null,"Grade 10 - 12","Grade 10 - 12","This anthology contains a diverse collection of writings that detail the extreme persecutions and genocidal acts committed by soviet forces in Afghanistan. Background information and first person accounts of the events are provided as well, to give the reader a more rounded knowledge of the events. Charts and graphs are provided to summarize important statistical information, and timelines are included to help the reader trace the sequence of events. ","English",46.2,36.96,"958.104","224 pp.","https://greenhavenpublishing.com/978-0-7377-6755-1",{"$f":"Table1[[#This Row],['# of Books]]*Table1[[#This Row],[QTY]]","v":0},{"$f":"Table1[[#This Row],[QTY]]*Table1[[#This Row],[School & Library Price]]","v":0}]
[null,null,52,null,null,"World History","Genocide & Persecution","The Armenian Genocide","978-0-7377-7319-4",{"$f":"HYPERLINK(Table1[[#This Row],[Hyperlink]],\"Weblink\")","v":"Weblink"},"Greenhaven Publishing","eBook",1,"2015","January 2015",null,null,"Edited by, Consultant editor","Noah Berlatsky, Frank Chalk",null,null,null,null,"Z","1330L","Grade 10 - 12","Grade 10 - 12","This volume contains previously published material, which narrates and analyzes the Armenian massacres of 1894-1896, 1909, and 1915-1923. Background information and first person accounts of the events are provided as well, to give the reader a more rounded knowledge of the events. Charts and graphs are provided to summarize important statistical information, and timelines are included to help the reader trace the sequence of events. Maps provide details about the areas of contention, and locations of conflicts.","English",46.2,36.96,"956.6/​20154","208 pp.","https://greenhavenpublishing.com/978-0-7377-7319-4",{"$f":"Table1[[#This Row],['# of Books]]*Table1[[#This Row],[QTY]]","v":0},{"$f":"Table1[[#This Row],[QTY]]*Table1[[#This Row],[School & Library Price]]","v":0}]
[null,null,52,null,null,"World History","Genocide & Persecution","Burma","978-0-7377-7230-2",{"$f":"HYPERLINK(Table1[[#This Row],[Hyperlink]],\"Weblink\")","v":"Weblink"},"Greenhaven Publishing","Library Bound Book",1,"2015","January 2015","Library","6.000 X 9.000","Edited by, Consultant editor","Noah Berlatsky, Frank Chalk",null,null,null,null,"Z",null,"Grade 10 - 12","Grade 10 - 12","This volume contains a collection of essays about historical and ongoing human rights violations suffered by the Rohingya peoples of Burma, and includes background information that details the factors that gave rise to the conflict. First-person narratives are provided, which give the reader insight into the thoughts of the people who experienced the events. Critical information is broken out and encapsulated into charts, timelines, and graphs. Maps are provided, detailing key geographic information.","English",42,33.6,"364.15/​109591","184 pp.","https://greenhavenpublishing.com/978-0-7377-7230-2",{"$f":"Table1[[#This Row],['# of Books]]*Table1[[#This Row],[QTY]]","v":0},{"$f":"Table1[[#This Row],[QTY]]*Table1[[#This Row],[School & Library Price]]","v":0}]
[null,null,52,null,null,"World History","Genocide & Persecution","Chile","978-0-7377-7012-4",{"$f":"HYPERLINK(Table1[[#This Row],[Hyperlink]],\"Weblink\")","v":"Weblink"},"Greenhaven Publishing","eBook",1,"2014","January 2014",null,null,"Edited by, Consultant editor","David Erik Nelson, Frank Chalk",null,null,null,null,"Z",null,"Grade 10 - 12","Grade 10 - 12","Military dictators have long practiced policies of persecution, terror, and mass murder to consolidate political power. The essays in this volume document the brutal subjugation that Chileans suffered under the rule of Pinochet. Background information and first person accounts of the events are provided, to give the reader a more rounded knowledge of the events. Charts and graphs are provided to summarize important statistical information, and timelines are included to help the reader trace the sequence of events. Maps provide details about the areas of contention, and locations of conflicts.","English",46.2,36.96,"983.06/​5","216 pp.","https://greenhavenpublishing.com/978-0-7377-7012-4",{"$f":"Table1[[#This Row],['# of Books]]*Table1[[#This Row],[QTY]]","v":0},{"$f":"Table1[[#This Row],[QTY]]*Table1[[#This Row],[School & Library Price]]","v":0}]
[null,null,52,null,null,"World History","Genocide & Persecution","El Salvador and Guatemala","978-0-7377-6254-9",{"$f":"HYPERLINK(Table1[[#This Row],[Hyperlink]],\"Weblink\")","v":"Weblink"},"Greenhaven Publishing","Library Bound Book",1,"2013","January 2013","Library","6.000 X 9.000","Edited by, Consultant editor","Alexander Cruden, Frank Chalk",null,null,null,null,"Z",null,"Grade 10 - 12","Grade 10 - 12","Understanding acts of genocide and violent repression is vitally important, so that such atrocities be prevented in the future. This volume contains previously published material that narrates and analyzes the mass killings carried out in El Salvador and Guatemala in the second half of the 20th century. Critical information is broken out and encapsulated into charts, timelines, and graphs. Maps are provided, detailing key geographic information. Background information and first person accounts of the events are provided as well.","English",42,33.6,"972.8405/​3--dc23","272 pp.","https://greenhavenpublishing.com/978-0-7377-6254-9",{"$f":"Table1[[#This Row],['# of Books]]*Table1[[#This Row],[QTY]]","v":0},{"$f":"Table1[[#This Row],[QTY]]*Table1[[#This Row],[School & Library Price]]","v":0}]
[null,null,52,null,null,"World History","Genocide & Persecution","Indonesia","978-0-7377-7013-1",{"$f":"HYPERLINK(Table1[[#This Row],[Hyperlink]],\"Weblink\")","v":"Weblink"},"Greenhaven Publishing","eBook",1,"2014","January 2014",null,null,"Edited by, Consultant editor","Noah Berlatsky, Frank Chalk",null,null,null,null,"Z",null,"Grade 10 - 12","Grade 10 - 12","Between 1965 and 1968, it is estimated that the Suharto regime massacred close to 500,000 alleged communists. This volume contains previously published material, which details the mass killings of 1965 and 1966 in Indonesia. Background information and first person accounts of the events are provided as well, to give the reader a more rounded knowledge of the events. Critical information is broken out and encapsulated into charts, timelines, and graphs. Maps are provided, detailing key geographic information.","English",46.2,36.96,"959.803/​5","200 pp.","https://greenhavenpublishing.com/978-0-7377-7013-1",{"$f":"Table1[[#This Row],['# of Books]]*Table1[[#This Row],[QTY]]","v":0},{"$f":"Table1[[#This Row],[QTY]]*Table1[[#This Row],[School & Library Price]]","v":0}]
[null,null,52,null,null,"World History","Genocide & Persecution","Kosovo","978-0-7377-6671-4",{"$f":"HYPERLINK(Table1[[#This Row],[Hyperlink]],\"Weblink\")","v":"Weblink"},"Greenhaven Publishing","eBook",1,"2013","January 2013",null,null,"Edited by, Consultant editor","Noah Berlatsky, Frank Chalk",null,null,null,null,"Z",null,"Grade 10 - 12","Grade 10 - 12","This book explores genocide and persecution in Kosovo, including the historical and cultural background of long-running disputes between Kosovo and Serbia and other territories in the former Yugoslavia, particularly focusing on the 1999 war in Kosovo and the mass killings of Kosovo Albanians by Serbs. Readers are introduced to issues surrounding the 1999 war in Kosovo and the aftermath, including whether the atrocities committed by Serbs against Kosovo Albanians rose to the level of genocide. Personal narratives are from people touched by the events in Kosovo, including the story of a 10-year-old Albanian boy who lost his family to Serb violence, and a Roma woman who experienced persecution at the hands of Kosovo Albanians. Critical information is broken out and encapsulated into charts, timelines, and graphs. ","English",46.2,36.96,"949.7103/​154","224 pp.","https://greenhavenpublishing.com/978-0-7377-6671-4",{"$f":"Table1[[#This Row],['# of Books]]*Table1[[#This Row],[QTY]]","v":0},{"$f":"Table1[[#This Row],[QTY]]*Table1[[#This Row],[School & Library Price]]","v":0}]
[null,null,52,null,null,"World History","Genocide & Persecution","Liberia","978-0-7377-6899-2",{"$f":"HYPERLINK(Table1[[#This Row],[Hyperlink]],\"Weblink\")","v":"Weblink"},"Greenhaven Publishing","Library Bound Book",1,"2014","January 2014","Library","6.000 X 9.000","Edited by, Consultant editor","Noah Berlatsky, Frank Chalk",null,null,null,null,"Z",null,"Grade 10 - 12","Grade 10 - 12","This collection of essays explores years of conflict and violence in Liberia during the First and Second Liberian Civil Wars and the acts of genocide and crimes against humanity that have resulted. Personal narratives include the story of a Liberian woman who remembers fleeing Liberia as a refugee, a Liberian woman who recalls being a rebel soldier, and Liberians in Minnesota who tell stories of abuse and torture.","English",42,33.6,"966.6203","216 pp.","https://greenhavenpublishing.com/978-0-7377-6899-2",{"$f":"Table1[[#This Row],['# of Books]]*Table1[[#This Row],[QTY]]","v":0},{"$f":"Table1[[#This Row],[QTY]]*Table1[[#This Row],[School & Library Price]]","v":0}]
[null,null,52,null,null,"World History","Genocide & Persecution","Rwanda","978-0-7377-7333-0",{"$f":"HYPERLINK(Table1[[#This Row],[Hyperlink]],\"Weblink\")","v":"Weblink"},"Greenhaven Publishing","eBook",1,"2015","January 2015",null,null,"Edited by, Consultant editor","Noah Berlatsky, Frank Chalk",null,null,null,null,"Z",null,"Grade 10 - 12","Grade 10 - 12","From April to July 1994, members of the Hutu ethnic majority in the east-central African nation of Rwanda murdered as many as 800,000 people, mostly of the Tutsi minority. The essays in this anthology document and explain the social, historical, and economic factors that led to the genocide in Rwanda. Background information and first person accounts of the events are provided as well, to give the reader a more rounded knowledge of the events. Charts and graphs are provided to summarize important statistical information, and timelines are included to help the reader trace the sequence of events. Maps provide details about the areas of contention, and locations of conflux.","English",46.2,36.96,"967.57104/​31","232 pp.","https://greenhavenpublishing.com/978-0-7377-7333-0",{"$f":"Table1[[#This Row],['# of Books]]*Table1[[#This Row],[QTY]]","v":0},{"$f":"Table1[[#This Row],[QTY]]*Table1[[#This Row],[School & Library Price]]","v":0}]
[null,null,52,null,null,"World History","Genocide & Persecution","Tibet","978-0-7377-6901-2",{"$f":"HYPERLINK(Table1[[#This Row],[Hyperlink]],\"Weblink\")","v":"Weblink"},"Greenhaven Publishing","Library Bound Book",1,"2014","January 2014","Library","6.000 X 9.000","Edited by, Consultant editor","Jeff Hay, Frank Chalk",null,null,null,null,"Z",null,"Grade 10 - 12","Grade 10 - 12","This anthology contains a collection of writings, chosen for their unique insights into the historical, economic, and social factors that gave rise to the humanitarian crimes committed against the Tibetan people, and includes writings that detail the factors that gave rise to the conflict. First-person narratives are provided, which give the reader insight into the thoughts of the people who experienced the events. Topics include the assertion that China committed genocide in Tibet, the status of religion in Tibet, and what outsiders have done in regard to Tibet.","English",42,33.6,"951/​.505","208 pp.","https://greenhavenpublishing.com/978-0-7377-6901-2",{"$f":"Table1[[#This Row],['# of Books]]*Table1[[#This Row],[QTY]]","v":0},{"$f":"Table1[[#This Row],[QTY]]*Table1[[#This Row],[School & Library Price]]","v":0}]
[null,null,52,null,null,"World History","Genocide & Persecution","Tibet","978-0-7377-7018-6",{"$f":"HYPERLINK(Table1[[#This Row],[Hyperlink]],\"Weblink\")","v":"Weblink"},"Greenhaven Publishing","eBook",1,"2014","January 2014",null,null,"Edited by, Consultant editor","Jeff Hay, Frank Chalk",null,null,null,null,"Z",null,"Grade 10 - 12","Grade 10 - 12","This anthology contains a collection of writings, chosen for their unique insights into the historical, economic, and social factors that gave rise to the humanitarian crimes committed against the Tibetan people, and includes writings that detail the factors that gave rise to the conflict. First-person narratives are provided, which give the reader insight into the thoughts of the people who experienced the events. Topics include the assertion that China committed genocide in Tibet, the status of religion in Tibet, and what outsiders have done in regard to Tibet.","English",46.2,36.96,"951/​.505","208 pp.","https://greenhavenpublishing.com/978-0-7377-7018-6",{"$f":"Table1[[#This Row],['# of Books]]*Table1[[#This Row],[QTY]]","v":0},{"$f":"Table1[[#This Row],[QTY]]*Table1[[#This Row],[School & Library Price]]","v":0}]
[null,null,53,null,null,"World History","Perspectives on Modern World History","The 1992 Los Angeles Riots","978-0-7377-7008-7",{"$f":"HYPERLINK(Table1[[#This Row],[Hyperlink]],\"Weblink\")","v":"Weblink"},"Greenhaven Publishing","Library Bound Book",1,"2014","January 2014","Library","7.000 X 9.000","Edited by","Louise I. Gerdes",null,null,null,null,"Z","1190L","Grade 10 - 12","Grade 10 - 12","The American public was holding its collective breath as four officers of the Los Angeles Police Department were acquitted of excessive force in the arrest and beating of Rodney King. Upon the exhale came relief for some, but for many more came a crushing grief and anger. This essential volume gives readers a strong background on the events leading up to the 1992 Los Angeles Riots. Essays also present the controversies related to the event, including whether the police department protected its citizens during the riots. The last chapter shares first-person narratives and accounts of those impacted by the riots, giving your readers a chance to go beyond simple facts and experience the event for themselves.","English",47.8,38.24,"979.4/94053","200 pp.","https://greenhavenpublishing.com/978-0-7377-7008-7",{"$f":"Table1[[#This Row],['# of Books]]*Table1[[#This Row],[QTY]]","v":0},{"$f":"Table1[[#This Row],[QTY]]*Table1[[#This Row],[School & Library Price]]","v":0}]
[null,null,53,null,null,"World History","Perspectives on Modern World History","The Arab-Israeli Six-Day War","978-0-7377-6799-5",{"$f":"HYPERLINK(Table1[[#This Row],[Hyperlink]],\"Weblink\")","v":"Weblink"},"Greenhaven Publishing","eBook",1,"2013","January 2013",null,null,"Edited by","Jeff Hay",null,null,null,null,"Z","1320L","Grade 10 - 12","Grade 10 - 12","This volume explores the 1967 Six-Day War between Israel and several neighboring Arab nations. Readers are offered background information on the events leading up and during the war, as well as varying views on the controversies surrounding the war and its aftermath. Readers will evaluate whether Israel should hold on to the post-1967 borders and the impact of the postwar occupations. Personal narratives come from Israeli, Palestinian, and other perspectives, allowing readers to develop opinions from the words of those who experienced it themselves.","English",52.58,42.06,"956.04/6","208 pp.","https://greenhavenpublishing.com/978-0-7377-6799-5",{"$f":"Table1[[#This Row],['# of Books]]*Table1[[#This Row],[QTY]]","v":0},{"$f":"Table1[[#This Row],[QTY]]*Table1[[#This Row],[School & Library Price]]","v":0}]
[null,null,53,null,null,"World History","Perspectives on Modern World History","The Bolshevik Revolution","978-0-7377-6363-8",{"$f":"HYPERLINK(Table1[[#This Row],[Hyperlink]],\"Weblink\")","v":"Weblink"},"Greenhaven Publishing","Library Bound Book",1,"2014","January 2014","Library","7.000 X 9.000","Edited by","Sylvia Engdahl",null,null,null,null,"Z","1210L","Grade 10 - 12","Grade 10 - 12","This book explores the events of the Bolshevik Revolution, issues surrounding Bolshevik support or oppression of the working class, and the impact of Bolshevism on Russia and the world. Personal narratives from people who experienced the revolution are included. Narratives include the words of none-other-than Nikolai Podvoisky, a key leader of the Bolshevik revolutionaries, where he describes their takeover of the Winter Palace. In another compelling personal essay, an American-born Russian princess describes her escape from Bolshevik violence.","English",47.8,38.24,"947.084/1","232 pp.","https://greenhavenpublishing.com/978-0-7377-6363-8",{"$f":"Table1[[#This Row],['# of Books]]*Table1[[#This Row],[QTY]]","v":0},{"$f":"Table1[[#This Row],[QTY]]*Table1[[#This Row],[School & Library Price]]","v":0}]
[null,null,53,null,null,"World History","Perspectives on Modern World History","The Bolshevik Revolution","978-0-7377-7057-5",{"$f":"HYPERLINK(Table1[[#This Row],[Hyperlink]],\"Weblink\")","v":"Weblink"},"Greenhaven Publishing","eBook",1,"2014","January 2014",null,null,"Edited by","Sylvia Engdahl",null,null,null,null,"Z","1210L","Grade 10 - 12","Grade 10 - 12","This book explores the events of the Bolshevik Revolution, issues surrounding Bolshevik support or oppression of the working class, and the impact of Bolshevism on Russia and the world. Personal narratives from people who experienced the revolution are included. Narratives include the words of none-other-than Nikolai Podvoisky, a key leader of the Bolshevik revolutionaries, where he describes their takeover of the Winter Palace. In another compelling personal essay, an American-born Russian princess describes her escape from Bolshevik violence.","English",52.58,42.06,"947.084/1","232 pp.","https://greenhavenpublishing.com/978-0-7377-7057-5",{"$f":"Table1[[#This Row],['# of Books]]*Table1[[#This Row],[QTY]]","v":0},{"$f":"Table1[[#This Row],[QTY]]*Table1[[#This Row],[School & Library Price]]","v":0}]
[null,null,53,null,null,"World History","Perspectives on Modern World History","Building the Panama Canal","978-0-7377-6364-5",{"$f":"HYPERLINK(Table1[[#This Row],[Hyperlink]],\"Weblink\")","v":"Weblink"},"Greenhaven Publishing","Library Bound Book",1,"2012","January 2012","Library","7.000 X 9.000","Edited by","Sylvia Engdahl",null,null,null,null,"Z","1350L","Grade 10 - 12","Grade 10 - 12","This compelling volume provides the historical background of the construction of the Panama Canal. Readers will learn how women played an important role in the project. Controversies are also explored, including the role that the United States played in the Panamanian Revolution. Personal narratives are presented, from sources such as Theodore Roosevelt and Helen Herron Taft. Other essay sources include the Panama Canal Authority, James T. Du Bois, and David Newton E. Campbell.","English",47.8,38.24,"972.87/5","224 pp.","https://greenhavenpublishing.com/978-0-7377-6364-5",{"$f":"Table1[[#This Row],['# of Books]]*Table1[[#This Row],[QTY]]","v":0},{"$f":"Table1[[#This Row],[QTY]]*Table1[[#This Row],[School & Library Price]]","v":0}]
[null,null,53,null,null,"World History","Perspectives on Modern World History","The Columbine School Shooting","978-0-7377-5788-0",{"$f":"HYPERLINK(Table1[[#This Row],[Hyperlink]],\"Weblink\")","v":"Weblink"},"Greenhaven Publishing","Library Bound Book",1,"2012","January 2012","Library","7.000 X 9.000","Edited by","Louise I. Gerdes",null,null,null,null,"Z",null,"Grade 10 - 12","Grade 10 - 12","This essential volume explores many aspects of the Columbine school shootings in April, 1999. Topics covered include the historical and cultural background leading up to and following the massacre. Readers will evaluate the issues surrounding Columbine, such as the role of bullying at the high school, the shootings as a symbol of a greater culture of violence, and the impact of gun laws on the accessibility of weapons for senior students Eric Harris and Dylan Klebold. Personal narratives are also featured, including Columbine high school seniors writing about the impact of the event on their lives, and a journalist looking back at the event that he covered years earlier.","English",47.8,38.24,"371.7/​820978882","208 pp.","https://greenhavenpublishing.com/978-0-7377-5788-0",{"$f":"Table1[[#This Row],['# of Books]]*Table1[[#This Row],[QTY]]","v":0},{"$f":"Table1[[#This Row],[QTY]]*Table1[[#This Row],[School & Library Price]]","v":0}]
[null,null,53,null,null,"World History","Perspectives on Modern World History","The Cuban Missile Crisis","978-0-7377-5005-8",{"$f":"HYPERLINK(Table1[[#This Row],[Hyperlink]],\"Weblink\")","v":"Weblink"},"Greenhaven Publishing","Library Bound Book",1,"2011","January 2011","Library","7.000 X 9.000","Edited by","Myra Immell",null,null,null,null,"Z",null,"Grade 10 - 12","Grade 10 - 12","This volume introduces and provides a brief overview of major factors that contributed to the Cuban missile crisis during October 1962. Personal narratives are also shared, allowing readers first-hand details that other books on this topic do not supply. Readers hear from a Soviet Naval Officer as he goes to battle, and a British Journalist who recalls the tense weeks of the crisis. Two native Cubans also share their memories. ","English",47.8,38.24,"972.9106/4","184 pp.","https://greenhavenpublishing.com/978-0-7377-5005-8",{"$f":"Table1[[#This Row],['# of Books]]*Table1[[#This Row],[QTY]]","v":0},{"$f":"Table1[[#This Row],[QTY]]*Table1[[#This Row],[School & Library Price]]","v":0}]
[null,null,53,null,null,"World History","Perspectives on Modern World History","The Cuban Missile Crisis","978-0-7377-5521-3",{"$f":"HYPERLINK(Table1[[#This Row],[Hyperlink]],\"Weblink\")","v":"Weblink"},"Greenhaven Publishing","eBook",1,"2011","January 2011",null,null,"Edited by","Myra Immell",null,null,null,null,"Z",null,"Grade 10 - 12","Grade 10 - 12","This volume introduces and provides a brief overview of major factors that contributed to the Cuban missile crisis during October 1962. Personal narratives are also shared, allowing readers first-hand details that other books on this topic do not supply. Readers hear from a Soviet Naval Officer as he goes to battle, and a British Journalist who recalls the tense weeks of the crisis. Two native Cubans also share their memories. ","English",52.58,42.06,"972.9106/4","184 pp.","https://greenhavenpublishing.com/978-0-7377-5521-3",{"$f":"Table1[[#This Row],['# of Books]]*Table1[[#This Row],[QTY]]","v":0},{"$f":"Table1[[#This Row],[QTY]]*Table1[[#This Row],[School & Library Price]]","v":0}]
[null,null,53,null,null,"World History","Perspectives on Modern World History","The Dissolution of the Soviet Union","978-0-7377-4794-2",{"$f":"HYPERLINK(Table1[[#This Row],[Hyperlink]],\"Weblink\")","v":"Weblink"},"Greenhaven Publishing","Library Bound Book",1,"2010","January 2010","Library","7.000 X 9.000","Edited by","Myra Immell",null,null,null,null,"Z",null,"Grade 10 - 12","Grade 10 - 12","Editor Myra Immell has compiled several essays that explore the historical events leading up to and following the fall of the Soviet Union. Readers will examine controversies surrounding the event such as the perceived failure of perestroika, the coup of 1991, the vote of the Soviet people to preserve the Soviet Union, and the outside world's contribution. This book also offers personal narratives of life before and after the collapse.","English",47.8,38.24,"947.085/4","216 pp.","https://greenhavenpublishing.com/978-0-7377-4794-2",{"$f":"Table1[[#This Row],['# of Books]]*Table1[[#This Row],[QTY]]","v":0},{"$f":"Table1[[#This Row],[QTY]]*Table1[[#This Row],[School & Library Price]]","v":0}]
[null,null,54,null,null,"World History","Perspectives on Modern World History","The Great Society","978-0-7377-7343-9",{"$f":"HYPERLINK(Table1[[#This Row],[Hyperlink]],\"Weblink\")","v":"Weblink"},"Greenhaven Publishing","eBook",1,"2015","January 2015",null,null,"Edited by","Scott Reid",null,null,null,null,"Z",null,"Grade 10 - 12","Grade 10 - 12","\"And with your courage and with your compassion and your desire, we will build a Great Society. It is a society where no child will go unfed, and no youngster will go unschooled.\" Newly elected President Lyndon B. Johnson was on the verge of formalizing The Great Society when he said these words. It was a set of domestic programs with the main goal of the elimination of poverty and racial injustice. Some Great Society proposals were stalled initiatives from John F. Kennedy's New Frontier. Readers will be intrigued by the history of this bold plan.","English",52.58,42.06,"320.097309/04","200 pp.","https://greenhavenpublishing.com/978-0-7377-7343-9",{"$f":"Table1[[#This Row],['# of Books]]*Table1[[#This Row],[QTY]]","v":0},{"$f":"Table1[[#This Row],[QTY]]*Table1[[#This Row],[School & Library Price]]","v":0}]
[null,null,54,null,null,"World History","Perspectives on Modern World History","The Holocaust","978-0-7377-5258-8",{"$f":"HYPERLINK(Table1[[#This Row],[Hyperlink]],\"Weblink\")","v":"Weblink"},"Greenhaven Publishing","Library Bound Book",1,"2011","January 2011","Library","7.000 X 9.000","Edited by, Edited by","David M. Haugen, Susan Musser",null,null,null,null,"Z",null,"Grade 10 - 12","Grade 10 - 12","The broadest possible understanding of history comes from exploring multiple perspectives: from different time periods, different cultures, different ideologies. This volume explores the major factors that contributed to the Holocaust, the mass genocide to exterminate Jews and other groups deemed undesirable by the Nazis in Germany. Readers are given a compelling multinational perspective. After a thorough examination, readers will hear from those who lived through it. Narratives include a German Jewish man who describes Kristallnacht, a Polish woman who explains what life was like as a teenager in a forced labor camp, and an American soldier who explains what it was like to see the freshly liberated concentration camp prisoners.","English",47.8,38.24,"940.53/18","264 pp.","https://greenhavenpublishing.com/978-0-7377-5258-8",{"$f":"Table1[[#This Row],['# of Books]]*Table1[[#This Row],[QTY]]","v":0},{"$f":"Table1[[#This Row],[QTY]]*Table1[[#This Row],[School & Library Price]]","v":0}]
[null,null,54,null,null,"World History","Perspectives on Modern World History","Hurricane Katrina","978-0-7377-7309-5",{"$f":"HYPERLINK(Table1[[#This Row],[Hyperlink]],\"Weblink\")","v":"Weblink"},"Greenhaven Publishing","Library Bound Book",1,"2015","January 2015","Library","7.000 X 9.000","Edited by","Ebonie Ledbetter",null,null,null,null,"Z","1270L","Grade 10 - 12","Grade 10 - 12","In 2005, Hurricane Katrina, one of the deadliest tropical cyclones in U.S. history, left devastation from Florida to Texas. Editor Ebonie Ledbetter has compiled several essays and primary sources that provide readers with a deep understanding of this event. This book summarizes the events that occurred before, during, and after the storm that devastated the Gulf Coast. Readers will examine how communities such as New Orleans were unprepared, and the failure of government agencies such as F.E.M.A. to respond in an effective manner. New information will be cemented in the reader's mind as they experience compelling first-hand accounts as well. This book features an annotated table of contents, a world map, a chronology, glossary of key terms, bibliography, and subject index.","English",47.8,38.24,"976/.044","232 pp.","https://greenhavenpublishing.com/978-0-7377-7309-5",{"$f":"Table1[[#This Row],['# of Books]]*Table1[[#This Row],[QTY]]","v":0},{"$f":"Table1[[#This Row],[QTY]]*Table1[[#This Row],[School & Library Price]]","v":0}]
[null,null,54,null,null,"World History","Perspectives on Modern World History","Japan's 2011 Natural Disaster and Nuclear Meltdown","978-0-7377-6973-9",{"$f":"HYPERLINK(Table1[[#This Row],[Hyperlink]],\"Weblink\")","v":"Weblink"},"Greenhaven Publishing","Library Bound Book",1,"2014","January 2014","Library","7.000 X 9.000","Edited by","Myra Immell",null,null,null,null,"Z","1250L","Grade 10 - 12","Grade 10 - 12","This enthralling volume helps readers explore the events surrounding Japan's 2011 natural disasters and nuclear meltdown. Controversies, such as whether or not Japan was prepared for these events, are reviewed. Personal narratives of people who were impacted by these events are also shared. Readers will be intrigued by the description of a Tokyo businesswoman stranded by the earthquake. Essayist Izumi Nakano describes what it was like to return to a devastated Japan. This book is a must-have for understanding what the Japanese people experienced.","English",47.8,38.24,"952.05/12","216 pp.","https://greenhavenpublishing.com/978-0-7377-6973-9",{"$f":"Table1[[#This Row],['# of Books]]*Table1[[#This Row],[QTY]]","v":0},{"$f":"Table1[[#This Row],[QTY]]*Table1[[#This Row],[School & Library Price]]","v":0}]
[null,null,54,null,null,"World History","Perspectives on Modern World History","Little Rock Nine","978-0-7377-6368-3",{"$f":"HYPERLINK(Table1[[#This Row],[Hyperlink]],\"Weblink\")","v":"Weblink"},"Greenhaven Publishing","Library Bound Book",1,"2014","January 2014","Library","7.000 X 9.000","Edited by","Diane Andrews Henningfeld",null,null,null,null,"Z",null,"Grade 10 - 12","Grade 10 - 12","This must-have volume explores the events surrounding the Little Rock Nine crisis. Collected essays provide the historical background, from sources such as the National Park Service and Dwight D. Eisenhower. Controversies are then explored, including whether President Eisenhower acted wisely in sending federal troops to Little Rock. Readers are presented with compelling first-hand accounts of the experience from people who lived through it, hearing from notables such as Minnijean Brown Trickey, Thelma Mothershed Wair, and Elizabeth Eckford.","English",47.8,38.24,"379.2/630976773--dc23","208 pp.","https://greenhavenpublishing.com/978-0-7377-6368-3",{"$f":"Table1[[#This Row],['# of Books]]*Table1[[#This Row],[QTY]]","v":0},{"$f":"Table1[[#This Row],[QTY]]*Table1[[#This Row],[School & Library Price]]","v":0}]
[null,null,54,null,null,"World History","Perspectives on Modern World History","The Munich Olympics Massacre","978-0-7377-7059-9",{"$f":"HYPERLINK(Table1[[#This Row],[Hyperlink]],\"Weblink\")","v":"Weblink"},"Greenhaven Publishing","eBook",1,"2014","January 2014",null,null,"Edited by","Jeff Hay",null,null,null,null,"Z",null,"Grade 10 - 12","Grade 10 - 12","This compelling volume examines the historical background of the Munich Olympics Massacre as well as the controversies surrounding the event. Readers will be intrigued by the entire chapter of personal narratives from people who lived through the massacre including an Israeli athlete who recounts losing his teammates, and a Israeli wrestler's story that took him from the Soviet Union to Israel to Munich.","English",52.58,42.06,"364.152/30943364","160 pp.","https://greenhavenpublishing.com/978-0-7377-7059-9",{"$f":"Table1[[#This Row],['# of Books]]*Table1[[#This Row],[QTY]]","v":0},{"$f":"Table1[[#This Row],[QTY]]*Table1[[#This Row],[School & Library Price]]","v":0}]
[null,null,54,null,null,"World History","Perspectives on Modern World History","The Oklahoma City Bombing","978-0-7377-5796-5",{"$f":"HYPERLINK(Table1[[#This Row],[Hyperlink]],\"Weblink\")","v":"Weblink"},"Greenhaven Publishing","Library Bound Book",1,"2012","January 2012","Library","7.000 X 9.000","Edited by","Diane Andrews Henningfeld",null,null,null,null,"Z",null,"Grade 10 - 12","Grade 10 - 12","The Oklahoma City bombing was a heart-breaking, American safety-shattering event. This fascinating volume explores the historical and cultural events leading up to and following the bombing of the Alfred P. Murrah Federal Building on April 19, 1995. This book addresses issues surrounding the bombing, such as the identity of \"John Doe No. 2,\" the media's possible misrepresentation of the militia movement's involvement, and whether Timothy McVeigh's confession was voluntary. Personal narratives are included from people impacted by the bombing, including a secretary trapped in the wreckage, a search-and-rescue worker, and a high school student who lost her father.","English",47.8,38.24,"363.32509766/​38","224 pp.","https://greenhavenpublishing.com/978-0-7377-5796-5",{"$f":"Table1[[#This Row],['# of Books]]*Table1[[#This Row],[QTY]]","v":0},{"$f":"Table1[[#This Row],[QTY]]*Table1[[#This Row],[School & Library Price]]","v":0}]
[null,null,54,null,null,"World History","Perspectives on Modern World History","Stalin's Great Purge","978-0-7377-6371-3",{"$f":"HYPERLINK(Table1[[#This Row],[Hyperlink]],\"Weblink\")","v":"Weblink"},"Greenhaven Publishing","Library Bound Book",1,"2013","January 2013","Library","7.000 X 9.000","Edited by","Noah Berlatsky",null,null,null,null,"Z","1230L","Grade 10 - 12","Grade 10 - 12","This book provides historical background on Stalin's purges and explores controversies surrounding the purges. It offers first hand accounts from those who experienced the effects of Stalin's purges. One account describes a Ukrainian childhood during the famine while another essayist recalls childhood under Stalin's terror. Nikita Khruschev decries Stalin and the purges. A young Russian woman remembers the Gulag. Your readers will be forever changed by this compelling book.","English",47.8,38.24,"947.084/​2","200 pp.","https://greenhavenpublishing.com/978-0-7377-6371-3",{"$f":"Table1[[#This Row],['# of Books]]*Table1[[#This Row],[QTY]]","v":0},{"$f":"Table1[[#This Row],[QTY]]*Table1[[#This Row],[School & Library Price]]","v":0}]
[null,null,54,null,null,"World History","Perspectives on Modern World History","The Titanic","978-0-7377-7345-3",{"$f":"HYPERLINK(Table1[[#This Row],[Hyperlink]],\"Weblink\")","v":"Weblink"},"Greenhaven Publishing","eBook",1,"2015","January 2015",null,null,"Edited by","Daniel Gaetán-Beltrán",null,null,null,null,"Z","1240L","Grade 10 - 12","Grade 10 - 12","This gripping volume explores the tragic sinking of the Titanic in 1912. Readers will be introduced to the historical background, controversies surrounding the disaster, and personal narratives from survivors.","English",52.58,42.06,"910.9163/4","200 pp.","https://greenhavenpublishing.com/978-0-7377-7345-3",{"$f":"Table1[[#This Row],['# of Books]]*Table1[[#This Row],[QTY]]","v":0},{"$f":"Table1[[#This Row],[QTY]]*Table1[[#This Row],[School & Library Price]]","v":0}]
[null,null,54,null,null,"World History","Perspectives on Modern World History","The Women's Liberation Movement","978-0-7377-5790-3",{"$f":"HYPERLINK(Table1[[#This Row],[Hyperlink]],\"Weblink\")","v":"Weblink"},"Greenhaven Publishing","Library Bound Book",1,"2012","January 2012","Library","7.000 X 9.000","Edited by","Sylvia Engdahl",null,null,null,null,"Z",null,"Grade 10 - 12","Grade 10 - 12","This essential volume explores the historical and cultural events leading up to and following the Women's Liberation Movement of the 1970s. This book addresses several issues surrounding the movement, such as the debate surrounding the Equal Rights Amendment and the impact of the \"Elimination of All Forms of Discrimination of Women\" treaty adopted by the United Nations General Assembly in 1979. Personal narratives are featured from people impacted by the Women's Movement, including an interview with a member of NOW (the National Organization for Women), and a writer recalling what the liberation movement meant to her in the 1970s.","English",47.8,38.24,"305.420973","232 pp.","https://greenhavenpublishing.com/978-0-7377-5790-3",{"$f":"Table1[[#This Row],['# of Books]]*Table1[[#This Row],[QTY]]","v":0},{"$f":"Table1[[#This Row],[QTY]]*Table1[[#This Row],[School & Library Price]]","v":0}]
[null,null,54,null,null,"World History","Perspectives on Modern World History","The Women's Liberation Movement","978-0-7377-6526-7",{"$f":"HYPERLINK(Table1[[#This Row],[Hyperlink]],\"Weblink\")","v":"Weblink"},"Greenhaven Publishing","eBook",1,"2012","January 2012",null,null,"Edited by","Sylvia Engdahl",null,null,null,null,"Z",null,"Grade 10 - 12","Grade 10 - 12","This essential volume explores the historical and cultural events leading up to and following the Women's Liberation Movement of the 1970s. This book addresses several issues surrounding the movement, such as the debate surrounding the Equal Rights Amendment and the impact of the \"Elimination of All Forms of Discrimination of Women\" treaty adopted by the United Nations General Assembly in 1979. Personal narratives are featured from people impacted by the Women's Movement, including an interview with a member of NOW (the National Organization for Women), and a writer recalling what the liberation movement meant to her in the 1970s.","English",52.58,42.06,"305.420973","232 pp.","https://greenhavenpublishing.com/978-0-7377-6526-7",{"$f":"Table1[[#This Row],['# of Books]]*Table1[[#This Row],[QTY]]","v":0},{"$f":"Table1[[#This Row],[QTY]]*Table1[[#This Row],[School & Library Price]]","v":0}]
[null,null,55,null,null,"Arts & Humanities","The Music Library","Country Music: A Uniquely American Sound","978-1-5345-6517-3",{"$f":"HYPERLINK(Table1[[#This Row],[Hyperlink]],\"Weblink\")","v":"Weblink"},"Lucent Press","Paperback Book",1,"2019","January 2019","Paperback","7.000 X 9.000","Author","Tamra B. Orr",null,null,null,null,"Z","1250L","Grade 7","Grade 7 - 10","For a long time, country music has been popular as a way to sing about emotions, events, and people in ordinary life. Over the years, country music has changed, bringing in more instruments, complex lyrics, and musical styles. From honky-tonks to Nashville, country rock to pop country, this style of music continues to evolve, grow, and keep people singing along. Readers discover history behind these toe-tapping tunes through main text and sidebars featuring annotated quotes from country artists and music critics, a detailed discography of essential country albums, and photographs of superstars of country music.","English",19.989999999999998,16.989999999999998,"781.642--dc23","104 pp.","https://greenhavenpublishing.com/978-1-5345-6517-3",{"$f":"Table1[[#This Row],['# of Books]]*Table1[[#This Row],[QTY]]","v":0},{"$f":"Table1[[#This Row],[QTY]]*Table1[[#This Row],[School & Library Price]]","v":0}]
[null,null,55,null,null,"Arts & Humanities","The Music Library","Indie Rock: Finding an Independent Voice","978-1-5345-6521-0",{"$f":"HYPERLINK(Table1[[#This Row],[Hyperlink]],\"Weblink\")","v":"Weblink"},"Lucent Press","Library Bound Book",1,"2019","January 2019","Library","7.000 X 9.000","Author","Vanessa Oswald",null,null,null,null,"Z","1230L","Grade 7","Grade 7 - 10","The emergence of indie rock as a genre has helped categorize artists who belong to independent record labels. These musicians, due to their refusal to appeal to the mainstream, have boycotted the corporate rock scene to maintain more creative control. Readers learn about the debate behind whether indie bands later picked up by major labels should still be considered \"indie\" and why some see them as \"sell outs.\" Detailed sidebars, an essential albums list, and annotated quotes from artists and critics are also included to expose readers to the musicians responsible for the inception and continuance of indie rock.","English",39.4,31.52,"781.66--dc23","104 pp.","https://greenhavenpublishing.com/978-1-5345-6521-0",{"$f":"Table1[[#This Row],['# of Books]]*Table1[[#This Row],[QTY]]","v":0},{"$f":"Table1[[#This Row],[QTY]]*Table1[[#This Row],[School & Library Price]]","v":0}]
[null,null,55,null,null,"Arts & Humanities","The Music Library","Latin Music: The Evolution of an International Sound","978-1-5345-6523-4",{"$f":"HYPERLINK(Table1[[#This Row],[Hyperlink]],\"Weblink\")","v":"Weblink"},"Lucent Press","Paperback Book",1,"2019","January 2019","Paperback","7.000 X 9.000","Author","Caroline Kennon",null,null,null,null,"Z","1300L","Grade 7","Grade 7 - 10","Just as people are shaped by the time and place they come from, so is music. Readers are invited to explore music that was born from Latin America and to trace its rise to a position of global popularity. They learn about the different instruments used in music styles such as Cuban and Caribbean and how this music influences the music of other cultures. Also featured is an extensive list of recommended Latin music albums, vibrant photographs of Latin music stars such as Gloria Estefan and Daddy Yankee, and annotated quotes from writers and musicians.","English",19.989999999999998,16.989999999999998,"780.98--dc23","104 pp.","https://greenhavenpublishing.com/978-1-5345-6523-4",{"$f":"Table1[[#This Row],['# of Books]]*Table1[[#This Row],[QTY]]","v":0},{"$f":"Table1[[#This Row],[QTY]]*Table1[[#This Row],[School & Library Price]]","v":0}]
[null,null,55,null,null,"Arts & Humanities","The Music Library","Latin Music: The Evolution of an International Sound","978-1-5345-6524-1",{"$f":"HYPERLINK(Table1[[#This Row],[Hyperlink]],\"Weblink\")","v":"Weblink"},"Lucent Press","eBook",1,"2019","January 2019",null,null,"Author","Caroline Kennon",null,null,null,null,"Z","1300L","Grade 7","Grade 7 - 10","Just as people are shaped by the time and place they come from, so is music. Readers are invited to explore music that was born from Latin America and to trace its rise to a position of global popularity. They learn about the different instruments used in music styles such as Cuban and Caribbean and how this music influences the music of other cultures. Also featured is an extensive list of recommended Latin music albums, vibrant photographs of Latin music stars such as Gloria Estefan and Daddy Yankee, and annotated quotes from writers and musicians.","English",39.4,31.52,"780.98--dc23","104 pp.","https://greenhavenpublishing.com/978-1-5345-6524-1",{"$f":"Table1[[#This Row],['# of Books]]*Table1[[#This Row],[QTY]]","v":0},{"$f":"Table1[[#This Row],[QTY]]*Table1[[#This Row],[School & Library Price]]","v":0}]
[null,null,55,null,null,"Arts & Humanities","The Music Library","Pop Music: Chart-Toppers Throughout History","978-1-5345-6539-5",{"$f":"HYPERLINK(Table1[[#This Row],[Hyperlink]],\"Weblink\")","v":"Weblink"},"Lucent Press","Paperback Book",1,"2019","January 2019","Paperback","7.000 X 9.000","Author","Nicole Horning",null,null,null,null,"Z","1250L","Grade 7","Grade 7 - 10","What do boy bands from the 1990s have in common with the Beatles? Why are some pop artists, such as Justin Timberlake, considered controversial? Readers will discover these answers and the stories behind beloved artists from the Beach Boys to Lady Gaga through fun and fact-filled text about the roots of pop music and how it has spread around the world. Readers will gain a deeper appreciation for their favorite artists and the pop stars who came before them as they explore a discography of important albums, full-color photographs, annotated quotes from artists and journalists, and fascinating sidebars.","English",19.989999999999998,16.989999999999998,"781.6409--dc23","104 pp.","https://greenhavenpublishing.com/978-1-5345-6539-5",{"$f":"Table1[[#This Row],['# of Books]]*Table1[[#This Row],[QTY]]","v":0},{"$f":"Table1[[#This Row],[QTY]]*Table1[[#This Row],[School & Library Price]]","v":0}]
[null,null,56,null,null,"Arts & Humanities","Eye on Art","Claude Monet: Founder of French Impressionism","978-1-5345-6528-9",{"$f":"HYPERLINK(Table1[[#This Row],[Hyperlink]],\"Weblink\")","v":"Weblink"},"Lucent Press","Paperback Book",1,"2019","January 2019","Paperback","7.000 X 9.000","Author","Danielle Haynes",null,null,null,null,"Z","1250L","Grade 7","Grade 7 - 10","Claude Monet is one of the most famous painters in history, and he is considered a pioneer of the Impressionist movement. What is Impressionism, and how does Monet's work reflect its purest principles? Readers discover the answers to these and other questions about Monet's life and work as they examine the stories behind some of his most beloved paintings. Colorful examples of his work and photographs from his life fill the pages, alongside annotated quotes from art historians, other artists, and Monet himself. Detailed sidebars appeal to young artists and provide more fascinating details about Monet's life.","English",19.989999999999998,16.989999999999998,"759.4--dc23","104 pp.","https://greenhavenpublishing.com/978-1-5345-6528-9",{"$f":"Table1[[#This Row],['# of Books]]*Table1[[#This Row],[QTY]]","v":0},{"$f":"Table1[[#This Row],[QTY]]*Table1[[#This Row],[School & Library Price]]","v":0}]
[null,null,56,null,null,"Arts & Humanities","Eye on Art","The Great Surrealists: Dreamers and Artists","978-1-5345-6604-0",{"$f":"HYPERLINK(Table1[[#This Row],[Hyperlink]],\"Weblink\")","v":"Weblink"},"Lucent Press","Paperback Book",1,"2019","January 2019","Paperback","7.000 X 9.000","Author","Vanessa Oswald",null,null,null,null,"Z",null,"Grade 7","Grade 7 - 10","Surrealism was a cultural movement started in France in the 1920s, which is best known for producing stunning visual artwork and inspirational writings, among other artistic achievements. Through well-researched main text, readers will learn about the lives of influential Surrealists such as Salvador Dali, Rene Magritte, Max Ernst, Joan Miro, and others who contributed to this essential period of art history. In addition, informative sidebars; annotated quotes from artists, historians, and other experts; and bold examples of renowned Surrealist artwork provide extra insight into this captivating topic, which will stimulate the minds of young artists and art lovers.","English",19.989999999999998,16.989999999999998,"700/.41163--dc23","104 pp.","https://greenhavenpublishing.com/978-1-5345-6604-0",{"$f":"Table1[[#This Row],['# of Books]]*Table1[[#This Row],[QTY]]","v":0},{"$f":"Table1[[#This Row],[QTY]]*Table1[[#This Row],[School & Library Price]]","v":0}]
[null,null,56,null,null,"Arts & Humanities","Eye on Art","Leonardo da Vinci: Renaissance Genius","978-1-5345-6532-6",{"$f":"HYPERLINK(Table1[[#This Row],[Hyperlink]],\"Weblink\")","v":"Weblink"},"Lucent Press","Library Bound Book",1,"2019","January 2019","Library","7.000 X 9.000","Author","Tamra B. Orr",null,null,null,null,"Z","1250L","Grade 7","Grade 7 - 10","The term \"Renaissance man\" is used to describe a number of talented individuals today, but it got its real start with Leonardo da Vinci. As an artist, inventor, and scholar, he produced everything from the Mona Lisa to drawings of the world's first airplanes. Through informative main text and sidebars, annotated quotes from scholars, and detailed examples of da Vinci's work, readers are introduced to a genius who never went to formal school but invented machines that would not be made for centuries. Leonardo da Vinci is a fascinating historical figure, and his story is sure to inspire young artists.","English",39.4,31.52,"709.2--dc23","104 pp.","https://greenhavenpublishing.com/978-1-5345-6532-6",{"$f":"Table1[[#This Row],['# of Books]]*Table1[[#This Row],[QTY]]","v":0},{"$f":"Table1[[#This Row],[QTY]]*Table1[[#This Row],[School & Library Price]]","v":0}]
[null,null,56,null,null,"Arts & Humanities","Eye on Art","Mary Cassatt: Famous Female Impressionist","978-1-5345-6611-8",{"$f":"HYPERLINK(Table1[[#This Row],[Hyperlink]],\"Weblink\")","v":"Weblink"},"Lucent Press","eBook",1,"2019","January 2019",null,null,"Author","Rachael Morlock",null,null,null,null,"Z","1120L","Grade 7","Grade 7 - 10","As an American woman in 19th century Paris, Mary Cassatt was an unlikely force in the French Impressionist movement. Today, Cassatt is known for her intimate studies of women and children. Readers discover how Cassatt independently forged her artistic path, despite the restrictions female artists faced at that time. Full-color photographs trace the evolution of Cassatt's work as it elevated everyday women's lives to the realm of fine art. Readers explore the artistic and historic contexts for Cassatt's work through detailed text and sidebars, while annotated excerpts from personal letters and other primary sources illuminate Cassatt's life and legacy.","English",39.4,31.52,"759.13--dc23","104 pp.","https://greenhavenpublishing.com/978-1-5345-6611-8",{"$f":"Table1[[#This Row],['# of Books]]*Table1[[#This Row],[QTY]]","v":0},{"$f":"Table1[[#This Row],[QTY]]*Table1[[#This Row],[School & Library Price]]","v":0}]
[null,null,56,null,null,"Arts & Humanities","Eye on Art","Postmodern Artists: Creators of a Cultural Movement","978-1-5345-6607-1",{"$f":"HYPERLINK(Table1[[#This Row],[Hyperlink]],\"Weblink\")","v":"Weblink"},"Lucent Press","Paperback Book",1,"2019","January 2019","Paperback","7.000 X 9.000","Author","Amanda Vink",null,null,null,null,"Z",null,"Grade 7","Grade 7 - 10","Postmodern art emerged in the late 1960s following a time period when art had been defined by superstars like Pablo Picasso and Salvador Dalí. Rejecting the idea of art being exclusive to professionals, artists who emerged during the postmodern era believed anyone could be an artist and anything could be art. Through exciting main text featuring annotated quotes from experts, detailed sidebars, and examples of postmodern art, readers explore how the foundations of art were challenged by postmodern artists such as Andy Warhol and Barbara Kruger and also how their work still impacts today's art world.","English",19.989999999999998,16.989999999999998,"700/.4113--dc23","104 pp.","https://greenhavenpublishing.com/978-1-5345-6607-1",{"$f":"Table1[[#This Row],['# of Books]]*Table1[[#This Row],[QTY]]","v":0},{"$f":"Table1[[#This Row],[QTY]]*Table1[[#This Row],[School & Library Price]]","v":0}]
[null,null,57,null,null,"Arts & Humanities","Eye on Art","Ancient Roman Art and Architecture","978-1-4205-0714-0",{"$f":"HYPERLINK(Table1[[#This Row],[Hyperlink]],\"Weblink\")","v":"Weblink"},"Lucent Press","Library Bound Book",1,"2012","January 2012","Library","7.000 X 9.000","Author","Don Nardo",null,null,null,null,"Z",null,"Grade 7","Grade 7 - 10","The beautiful amphitheaters, aqueducts, bridges, and other structures of ancient Roman times are boldly presented here. Author Don Nardo examines the landscape of Roman art and architecture, from inception to present day. Readers will gain a new appreciation for roads, which were a true art form of Rome. Painting, mosaics, and sculpture are also presented in rich details and gorgeous photographs.","English",39.4,31.52,"709.37","120 pp.","https://greenhavenpublishing.com/978-1-4205-0714-0",{"$f":"Table1[[#This Row],['# of Books]]*Table1[[#This Row],[QTY]]","v":0},{"$f":"Table1[[#This Row],[QTY]]*Table1[[#This Row],[School & Library Price]]","v":0}]
[null,null,57,null,null,"Arts & Humanities","Eye on Art","Anime: Japanese Animation Comes to America","978-1-5345-6102-1",{"$f":"HYPERLINK(Table1[[#This Row],[Hyperlink]],\"Weblink\")","v":"Weblink"},"Lucent Press","Library Bound Book",1,"2018","August 2017","Library","7.000 X 9.000","Author","Kenneth L. Bartolotta",null,null,null,null,"Z","1250L","Grade 7","Grade 7 - 10","Anime, which is a Japanese style of animation, has become extremely popular in Western culture. Although in the West its audience previously consisted mainly of young children, it has increasingly become accepted as an art form that can be appreciated by all ages. Readers discover the controversy that has historically surrounded anime's status in the West and its fans struggle to promote it as a serious art form. Anime's leap from Eastern to Western culture is highlighted with full-color photographs and fact-filled sidebars.","English",39.4,31.52,"791.43'340952--dc23","104 pp.","https://greenhavenpublishing.com/978-1-5345-6102-1",{"$f":"Table1[[#This Row],['# of Books]]*Table1[[#This Row],[QTY]]","v":0},{"$f":"Table1[[#This Row],[QTY]]*Table1[[#This Row],[School & Library Price]]","v":0}]
[null,null,57,null,null,"Arts & Humanities","Eye on Art","Art in Glass","978-1-5901-8983-2",{"$f":"HYPERLINK(Table1[[#This Row],[Hyperlink]],\"Weblink\")","v":"Weblink"},"Lucent Press","Library Bound Book",1,"2007","January 2007","Library","7.000 X 9.000","Author","Phyllis Raybin Emert",null,null,null,null,"Z",null,"Grade 7","Grade 7 - 10","Glass may seem like a modern invention, but its origins are ancient. Treat your readers to this visually stunning history of glassmaking. From Roman glass and the discovery of glassblowing to its spread across the Middle East, Europe, and America, this volume gives a complete history of this art form. Techniques and the current experience of the movement are also presented.","English",39.4,31.52,"748","112 pp.","https://greenhavenpublishing.com/978-1-5901-8983-2",{"$f":"Table1[[#This Row],['# of Books]]*Table1[[#This Row],[QTY]]","v":0},{"$f":"Table1[[#This Row],[QTY]]*Table1[[#This Row],[School & Library Price]]","v":0}]
[null,null,57,null,null,"Arts & Humanities","Eye on Art","Computer Animation: Telling Stories with Digital Art","978-1-5345-6098-7",{"$f":"HYPERLINK(Table1[[#This Row],[Hyperlink]],\"Weblink\")","v":"Weblink"},"Lucent Press","eBook",1,"2018","August 2017",null,null,"Author","Tanya Dellaccio",null,null,null,null,"Z","1250L","Grade 7","Grade 7 - 10","As technology has become more advanced, artists have increasingly been able to use computers to create beautifully lifelike works. Animated movies and video games today are often so detailed that individual strands of hair can be distinguished on characters' heads. Readers explore the methods animators use to bring images to life and learn about the history of computer animation. Informative sidebars and detailed photographs provide an in-depth look at the effort and care that go into creating a visually stunning storytelling experience.","English",39.4,31.52,"006.6'96'023--dc23","104 pp.","https://greenhavenpublishing.com/978-1-5345-6098-7",{"$f":"Table1[[#This Row],['# of Books]]*Table1[[#This Row],[QTY]]","v":0},{"$f":"Table1[[#This Row],[QTY]]*Table1[[#This Row],[School & Library Price]]","v":0}]
[null,null,57,null,null,"Arts & Humanities","Eye on Art","Frank Lloyd Wright","978-1-4205-0813-0",{"$f":"HYPERLINK(Table1[[#This Row],[Hyperlink]],\"Weblink\")","v":"Weblink"},"Lucent Press","Library Bound Book",1,"2012","January 2012","Library","7.000 X 9.000","Author","Don Nardo",null,null,null,null,"Z",null,"Grade 7","Grade 7 - 10","Author Don Nardo explores the life and work of American architect Frank Lloyd Wright, who is widely viewed as one of the most innovative and influential architects of the late 1800s and early 1900s. Nardo includes fascinating details of Lloyd's life, including his childhood in Wisconsin, his ambition as a young man, his move to Chicago to become a great architect, his vision for a new \"American\" architecture, and his marriages and love affairs. Wright's work is described in vivid detail and full color images of his homes and buildings help bring the descriptions into sharp and memorable focus.","English",39.4,31.52,"720.92","112 pp.","https://greenhavenpublishing.com/978-1-4205-0813-0",{"$f":"Table1[[#This Row],['# of Books]]*Table1[[#This Row],[QTY]]","v":0},{"$f":"Table1[[#This Row],[QTY]]*Table1[[#This Row],[School & Library Price]]","v":0}]
[null,null,57,null,null,"Arts & Humanities","Eye on Art","Frida Kahlo","978-1-4205-0850-5",{"$f":"HYPERLINK(Table1[[#This Row],[Hyperlink]],\"Weblink\")","v":"Weblink"},"Lucent Press","Library Bound Book",1,"2013","January 2013","Library","7.000 X 9.000","Author","Don Nardo",null,null,null,null,"Z",null,"Grade 7","Grade 7 - 10","This bright, eye-catching biography explores the life and work of one of the finest and most famous female artists of all time, Frida Kahlo. The book details the tremendous setbacks and disadvantages, both physical and psychological, that she had encountered in her highly eventful life. Readers will learn about her triumph as a painter despite, or perhaps because of, these difficulties. The unique and personal nature of her work is examined and many quotes from the artist and her family and friends are included, providing engaging and informative introduction to this intriguing and talented artist.","English",39.4,31.52,"759.972","104 pp.","https://greenhavenpublishing.com/978-1-4205-0850-5",{"$f":"Table1[[#This Row],['# of Books]]*Table1[[#This Row],[QTY]]","v":0},{"$f":"Table1[[#This Row],[QTY]]*Table1[[#This Row],[School & Library Price]]","v":0}]
[null,null,57,null,null,"Arts & Humanities","Eye on Art","The Jeweler's Art","978-1-5901-8984-9",{"$f":"HYPERLINK(Table1[[#This Row],[Hyperlink]],\"Weblink\")","v":"Weblink"},"Lucent Press","Library Bound Book",1,"2007","January 2007","Library","7.000 X 9.000","Author","Katherine MacFarlane",null,null,null,null,"Z",null,"Grade 7","Grade 7 - 10","Roughly 75,000 years ago, humankind invented jewelry. This book richly presents a history of jewelry-making and its various techniques through the ages, from the metal-working of the ancient Sumerians to the contemporary Studio Jewelry Movement. Readers will enjoy the detailed photographs of Victorian and Edwardian jewelry, as well as the engrossing images of jewelry from the Baroque and Rococo periods.","English",39.4,31.52,"739.27/​09","112 pp.","https://greenhavenpublishing.com/978-1-5901-8984-9",{"$f":"Table1[[#This Row],['# of Books]]*Table1[[#This Row],[QTY]]","v":0},{"$f":"Table1[[#This Row],[QTY]]*Table1[[#This Row],[School & Library Price]]","v":0}]
[null,null,57,null,null,"Arts & Humanities","Eye on Art","Pablo Picasso","978-1-4205-0045-5",{"$f":"HYPERLINK(Table1[[#This Row],[Hyperlink]],\"Weblink\")","v":"Weblink"},"Lucent Press","Library Bound Book",1,"2009","January 2009","Library","7.000 X 9.000","Author","Stuart A. Kallen",null,null,null,null,"Z",null,"Grade 7","Grade 7 - 10","Readers will be interested in finding out that one of the most famous artists in history, Pablo Picasso, was a bad student, who often was given detention. Author Stuart A. Kallen richly explores Picasso's life and his impact on the art world, including his work in Primitivism and Cubism.","English",39.4,31.52,"709/​.2","104 pp.","https://greenhavenpublishing.com/978-1-4205-0045-5",{"$f":"Table1[[#This Row],['# of Books]]*Table1[[#This Row],[QTY]]","v":0},{"$f":"Table1[[#This Row],[QTY]]*Table1[[#This Row],[School & Library Price]]","v":0}]
[null,null,57,null,null,"Arts & Humanities","Eye on Art","Pottery","978-1-4205-0046-2",{"$f":"HYPERLINK(Table1[[#This Row],[Hyperlink]],\"Weblink\")","v":"Weblink"},"Lucent Press","Library Bound Book",1,"2009","January 2009","Library","7.000 X 9.000","Author","Phyllis Raybin Emert",null,null,null,null,"Z",null,"Grade 7","Grade 7 - 10","Pottery is one of the art forms that easily transitions between Fine Art and the Crafts. Pottery was used in ancient times to server our needs with functional vessels and objects. Through the eras, Pottery developed as a source for visually works that can beautify, record, reflect, enlighten, and celebrate our existence. Author Phyllis Raybin Emert treats students to a full survey of the history, development, and techniques of Pottery.","English",39.4,31.52,"738","112 pp.","https://greenhavenpublishing.com/978-1-4205-0046-2",{"$f":"Table1[[#This Row],['# of Books]]*Table1[[#This Row],[QTY]]","v":0},{"$f":"Table1[[#This Row],[QTY]]*Table1[[#This Row],[School & Library Price]]","v":0}]
[null,null,57,null,null,"Arts & Humanities","Eye on Art","Public Art","978-1-4205-0917-5",{"$f":"HYPERLINK(Table1[[#This Row],[Hyperlink]],\"Weblink\")","v":"Weblink"},"Lucent Press","Library Bound Book",1,"2014","January 2014","Library","7.000 X 9.000","Author","Meryl Loonin",null,null,null,null,"Z",null,"Grade 7","Grade 7 - 10","Author Meryl Loonin explores the genre of Public Art. Readers will learn about art in nontraditional settings, and how Public Art is meant to be accessible to all people. The book discusses the history and development of Public Art, and focuses on several different forms including monuments, Eco-art, and Land Art.","English",39.4,31.52,"700","104 pp.","https://greenhavenpublishing.com/978-1-4205-0917-5",{"$f":"Table1[[#This Row],['# of Books]]*Table1[[#This Row],[QTY]]","v":0},{"$f":"Table1[[#This Row],[QTY]]*Table1[[#This Row],[School & Library Price]]","v":0}]
[null,null,57,null,null,"Arts & Humanities","Eye on Art","Walt Disney","978-1-4205-0898-7",{"$f":"HYPERLINK(Table1[[#This Row],[Hyperlink]],\"Weblink\")","v":"Weblink"},"Lucent Press","Library Bound Book",1,"2014","January 2014","Library","7.000 X 9.000","Author","Barbara Sheen",null,null,null,null,"Z",null,"Grade 7","Grade 7 - 10","Readers will explore the life and works of Walt Disney in this detailed, colorful biography. From his creation of Mickey Mouse and his innovations in the new medium of animation, Disney used his creativity to not only popularize cartoons, but also to develop a whole multimedia company which includes films, television shows, and theme parks. Forever changing the landscape of the imagination, this man was a colossal talent and visionary.","English",39.4,31.52,"791.43092","104 pp.","https://greenhavenpublishing.com/978-1-4205-0898-7",{"$f":"Table1[[#This Row],['# of Books]]*Table1[[#This Row],[QTY]]","v":0},{"$f":"Table1[[#This Row],[QTY]]*Table1[[#This Row],[School & Library Price]]","v":0}]
[null,null,58,null,null,"Biographies","Women Who Won't Be Silenced: The Stories of Strong Women","Emma Watson","978-1-5345-6644-6",{"$f":"HYPERLINK(Table1[[#This Row],[Hyperlink]],\"Weblink\")","v":"Weblink"},"Lucent Press","Paperback Book",1,"2019","January 2019","Paperback","7.250 X 9.250","Author","Vic Kovacs",null,null,null,null,"X","1020L","Grade 6 - 7","Grade 6 - 8","Emma Watson has played strong female characters on the big screen since she was a little girl, and the same courage seen in her performances as Hermione Granger and Belle can be found in her life away from acting as well. Watson's work to further women's rights around the world has inspired many young women and young men to learn more about feminism and the fight for equality. Readers discover this and other essential parts of Watson's life as they explore detailed biographical text featuring sidebars, vibrant photographs, and quotes from this popular role model.","English",15.28,12.99,"791.4302'8092--dc23","64 pp.","https://greenhavenpublishing.com/978-1-5345-6644-6",{"$f":"Table1[[#This Row],['# of Books]]*Table1[[#This Row],[QTY]]","v":0},{"$f":"Table1[[#This Row],[QTY]]*Table1[[#This Row],[School & Library Price]]","v":0}]
[null,null,58,null,null,"Biographies","Women Who Won't Be Silenced: The Stories of Strong Women","Malala Yousafzai","978-1-5345-6648-4",{"$f":"HYPERLINK(Table1[[#This Row],[Hyperlink]],\"Weblink\")","v":"Weblink"},"Lucent Press","Library Bound Book",1,"2019","January 2019","Library","7.250 X 9.250","Author","Ellen Creager",null,null,null,null,"X","930L","Grade 6 - 7","Grade 6 - 8","When Malala Yousafzai was only 15 years old, she was shot in the head for speaking out about the importance of educating girls and women. However, she didn't let that attack silence her. Instead, she has become a global advocate for women's rights and education. Her captivating story is presented through fact-filled text, informative sidebars, full-color photographs, and quotes from the young activist. Malala Yousafzai is a living example of the idea that you're never too young to fight for what matters to you, and that is a lesson readers can use to inspire their own activism.","English",34.950000000000003,27.95,"371.822095491--dc23","64 pp.","https://greenhavenpublishing.com/978-1-5345-6648-4",{"$f":"Table1[[#This Row],['# of Books]]*Table1[[#This Row],[QTY]]","v":0},{"$f":"Table1[[#This Row],[QTY]]*Table1[[#This Row],[School & Library Price]]","v":0}]
[null,null,58,null,null,"Biographies","Women Who Won't Be Silenced: The Stories of Strong Women","Malala Yousafzai","978-1-5345-6647-7",{"$f":"HYPERLINK(Table1[[#This Row],[Hyperlink]],\"Weblink\")","v":"Weblink"},"Lucent Press","Paperback Book",1,"2019","January 2019","Paperback","7.250 X 9.250","Author","Ellen Creager",null,null,null,null,"X","930L","Grade 6 - 7","Grade 6 - 8","When Malala Yousafzai was only 15 years old, she was shot in the head for speaking out about the importance of educating girls and women. However, she didn't let that attack silence her. Instead, she has become a global advocate for women's rights and education. Her captivating story is presented through fact-filled text, informative sidebars, full-color photographs, and quotes from the young activist. Malala Yousafzai is a living example of the idea that you're never too young to fight for what matters to you, and that is a lesson readers can use to inspire their own activism.","English",15.28,12.99,"371.822095491--dc23","64 pp.","https://greenhavenpublishing.com/978-1-5345-6647-7",{"$f":"Table1[[#This Row],['# of Books]]*Table1[[#This Row],[QTY]]","v":0},{"$f":"Table1[[#This Row],[QTY]]*Table1[[#This Row],[School & Library Price]]","v":0}]
[null,null,58,null,null,"Biographies","Women Who Won't Be Silenced: The Stories of Strong Women","Reese Witherspoon","978-1-5345-6654-5",{"$f":"HYPERLINK(Table1[[#This Row],[Hyperlink]],\"Weblink\")","v":"Weblink"},"Lucent Press","Library Bound Book",1,"2019","January 2019","Library","7.250 X 9.250","Author, Author","Janis Campbell, Catherine Collison",null,null,null,null,"X",null,"Grade 6 - 7","Grade 6 - 8","Reese Witherspoon is an Oscar-winning and Emmy-nominated actress and a successful producer, but she has become known for much more than just her work in movies and on television. She has become a leader of the Time's Up movement, fighting for equality for women in all careers and from all walks of life. As readers learn about Witherspoon's career accomplishments and activism, they discover a role model who channeled her own pain after being assaulted as young woman into a movement that is changing the world. Detailed sidebars, full-color photographs, and quotes from Witherspoon add to this empowering reading experience.","English",34.950000000000003,27.95,"791.4302'8092--dc23","64 pp.","https://greenhavenpublishing.com/978-1-5345-6654-5",{"$f":"Table1[[#This Row],['# of Books]]*Table1[[#This Row],[QTY]]","v":0},{"$f":"Table1[[#This Row],[QTY]]*Table1[[#This Row],[School & Library Price]]","v":0}]
[null,null,58,null,null,"Biographies","Women Who Won't Be Silenced: The Stories of Strong Women","Ruth Bader Ginsburg","978-1-5345-6658-3",{"$f":"HYPERLINK(Table1[[#This Row],[Hyperlink]],\"Weblink\")","v":"Weblink"},"Lucent Press","eBook",1,"2019","January 2019",null,null,"Author","Ellen Creager",null,null,null,null,"X",null,"Grade 6 - 7","Grade 6 - 8","Ruth Bader Ginsburg has become a hero to many from her place on the U.S Supreme Court. Her outspoken nature, work ethic, and unique style have earned her the nickname \"Notorious RBG.\" Her life story is filled with many motivational moments, which are presented through engaging main text, full-color photographs, and informative sidebars. Readers are also introduced to some of her most famous words of wisdom in eye-catching quote boxes. The life of a member of the Supreme Court is far from boring, which readers discover as they learn about this opera-loving, gym-going, groundbreaking justice.","English",34.950000000000003,27.95,"347.73'2634--dc23","64 pp.","https://greenhavenpublishing.com/978-1-5345-6658-3",{"$f":"Table1[[#This Row],['# of Books]]*Table1[[#This Row],[QTY]]","v":0},{"$f":"Table1[[#This Row],[QTY]]*Table1[[#This Row],[School & Library Price]]","v":0}]
[null,null,61,null,null,"Biographies","People in the News","Adele","978-1-4205-1111-6",{"$f":"HYPERLINK(Table1[[#This Row],[Hyperlink]],\"Weblink\")","v":"Weblink"},"Lucent Press","eBook",1,"2013","January 2013",null,null,"Author","Katherine E. Krohn",null,null,null,null,"Z",null,"Grade 7","Grade 7 - 10","Adele's talents as a singer and songwriter have earned her six Grammys, but it's her down-to-earth personality, honest sense of humor, and raw vocals that have helped her to win the hearts of fans all over the world. This compelling biography by author Katherine E. Krohn traces the life and career of music sensation Adele. Readers will learn about the singer's early life in London, how Adele's talents were first discovered, the role heartbreak played in many of her hit singles, and what caused her to experience a career crisis. This engaging edition supports biography and social studies assignments and provides readers with an extensive bibliography, a detailed timeline of events, and informative sidebars.","English",43.34,34.67,"782.42164092","104 pp.","https://greenhavenpublishing.com/978-1-4205-1111-6",{"$f":"Table1[[#This Row],['# of Books]]*Table1[[#This Row],[QTY]]","v":0},{"$f":"Table1[[#This Row],[QTY]]*Table1[[#This Row],[School & Library Price]]","v":0}]
[null,null,61,null,null,"Biographies","People in the News","Alex Rodriguez","978-1-4205-0648-8",{"$f":"HYPERLINK(Table1[[#This Row],[Hyperlink]],\"Weblink\")","v":"Weblink"},"Lucent Press","eBook",1,"2011","January 2011",null,null,"Author","Michael V. Uschan",null,null,null,null,"Z",null,"Grade 7","Grade 7 - 10","Alex Rodriquez is widely considered one of the greatest baseball players in history. In his twenty-two-year career as a professional third baseman and shortstop, Rodriquez has hit 696 home runs and scored over 2,000 runs. This compelling edition follows the spectacular and often controversial life of baseball player Alex Rodriguez, or A-Rod. Beginning with a brief account of Rodriguez's difficult childhood and early athletic achievements, the book then focuses on his major league positions with the Seattle Mariners, Texas Rangers, and New York Yankees. It covers his multiple record-breaking seasons as well as the controversies surrounding his steroid use and romantic life.","English",43.34,34.67,"796.357092","104 pp.","https://greenhavenpublishing.com/978-1-4205-0648-8",{"$f":"Table1[[#This Row],['# of Books]]*Table1[[#This Row],[QTY]]","v":0},{"$f":"Table1[[#This Row],[QTY]]*Table1[[#This Row],[School & Library Price]]","v":0}]
[null,null,61,null,null,"Biographies","People in the News","Angelina Jolie","978-1-4205-0750-8",{"$f":"HYPERLINK(Table1[[#This Row],[Hyperlink]],\"Weblink\")","v":"Weblink"},"Lucent Press","Library Bound Book",1,"2014","January 2014","Library","6.000 X 9.000","Author, Author","Bonnie Szumski, Jill Karson",null,null,null,null,"Z",null,"Grade 7","Grade 7 - 10","Angelina Jolie is no stranger to the spotlight. This child actress made her silver screen debut in the film Lookin' to Get Out in 1982, alongside her Academy Award-winning father, Jon Voight. Since then, Jolie has starred in over forty movies and has won an Academy Award, three Golden Globe Awards, and two Screen Actors Guild Awards. This compelling edition covers the fascinating life of this actress, director, and philanthropist. The book delves into Jolie's childhood, her difficulty with her parents' divorce, and her evolution as an actress. Chapters also explore her work as a humanitarian, her family, and her work as a director.","English",39.4,31.52,"791.4302/​8092","96 pp.","https://greenhavenpublishing.com/978-1-4205-0750-8",{"$f":"Table1[[#This Row],['# of Books]]*Table1[[#This Row],[QTY]]","v":0},{"$f":"Table1[[#This Row],[QTY]]*Table1[[#This Row],[School & Library Price]]","v":0}]
[null,null,61,null,null,"Biographies","People in the News","Apolo Anton Ohno","978-1-4205-0744-7",{"$f":"HYPERLINK(Table1[[#This Row],[Hyperlink]],\"Weblink\")","v":"Weblink"},"Lucent Press","eBook",1,"2011","January 2011",null,null,"Author","Michael V. Uschan",null,null,null,null,"Z",null,"Grade 7","Grade 7 - 10","Credited as the face of American speed skating, Apolo Anton Ohno has done much to bring the sport out of obscurity. According to the United States Olympic Committee, Ohno holds the record for most medals won by a U.S. Winter Olympian: two golds, two silvers, and four bronze. This compelling edition provides a balanced biographical overview of Apolo Anton Ohno. Chapters discuss his childhood being raised by a single father, his decision to pursue speed skating, and his appearances at the 2002, 2006, and 2010 Winter Olympic games.","English",43.34,34.67,"796.91/​4092","104 pp.","https://greenhavenpublishing.com/978-1-4205-0744-7",{"$f":"Table1[[#This Row],['# of Books]]*Table1[[#This Row],[QTY]]","v":0},{"$f":"Table1[[#This Row],[QTY]]*Table1[[#This Row],[School & Library Price]]","v":0}]
[null,null,61,null,null,"Biographies","People in the News","Blake Shelton","978-1-4205-1226-7",{"$f":"HYPERLINK(Table1[[#This Row],[Hyperlink]],\"Weblink\")","v":"Weblink"},"Lucent Press","eBook",1,"2015","January 2015",null,null,"Author","Adam Woog",null,null,null,null,"Z",null,"Grade 7","Grade 7 - 10","Blake Shelton's long-standing role as a judge and singing coach on the NBC talent show The Voice has made him a popular fixture on America television. His career as a country music singer and songwriter earned him seven Grammy Award nominations and twenty-three number one hit singles. This comprehensive biography focuses on the life and work of country singer Blake Shelton. The book details Shelton's childhood, his struggle as a musician, and his rise to international fame.","English",43.34,34.67,"782.421642092","104 pp.","https://greenhavenpublishing.com/978-1-4205-1226-7",{"$f":"Table1[[#This Row],['# of Books]]*Table1[[#This Row],[QTY]]","v":0},{"$f":"Table1[[#This Row],[QTY]]*Table1[[#This Row],[School & Library Price]]","v":0}]
[null,null,61,null,null,"Biographies","People in the News","Brett Favre","978-1-4205-0195-7",{"$f":"HYPERLINK(Table1[[#This Row],[Hyperlink]],\"Weblink\")","v":"Weblink"},"Lucent Press","eBook",1,"2009","January 2009",null,null,"Author","Terri Dougherty",null,null,null,null,"Z",null,"Grade 7","Grade 7 - 10","Known as \"The Gunslinger\" to many of his devoted fans, Brett Favre is one of football's most acclaimed and controversial quarterbacks. During his twenty-year career in the NFL, Favre played for the Atlanta Falcons, the Minnesota Vikings, the New York Jets, and most notably, for the Green Bay Packers. In 1996, he helped the Green Bay Packers win the Super Bowl. This compelling edition treats readers to a detailed biography of professional football player Brett Favre. ","English",43.34,34.67,"796.33092","104 pp.","https://greenhavenpublishing.com/978-1-4205-0195-7",{"$f":"Table1[[#This Row],['# of Books]]*Table1[[#This Row],[QTY]]","v":0},{"$f":"Table1[[#This Row],[QTY]]*Table1[[#This Row],[School & Library Price]]","v":0}]
[null,null,61,null,null,"Biographies","People in the News","Coretta Scott King","978-1-4205-0087-5",{"$f":"HYPERLINK(Table1[[#This Row],[Hyperlink]],\"Weblink\")","v":"Weblink"},"Lucent Press","Library Bound Book",1,"2009","January 2009","Library","6.000 X 9.000","Author","Anne Wallace Sharp",null,null,null,null,"Z",null,"Grade 7","Grade 7 - 10","A vanguard figure in the Civil Rights Movement, Coretta Scott King's life after the victories of the 1950s and 1960s is no less compelling. Born and raised in segregated Alabama, King studied music in college where she met her future husband, Martin Luther King Jr. She was a vocal opponent of apartheid in South Africa, capital punishment, and the Invasion of Iraq. King was also a leading voice in the fight for LGBTQ marriage equality, publically denouncing an amendment advanced by George W. Bush that would ban equal marriage rights for same-sex couples. This compelling book explores the long, expansive life of Coretta Scott King. Chapters discuss growing up with segregation, preparing for a career in music, Montgomery triumph and tragedy, and continuing the fight for civil rights.","English",39.4,31.52,"323.092","104 pp.","https://greenhavenpublishing.com/978-1-4205-0087-5",{"$f":"Table1[[#This Row],['# of Books]]*Table1[[#This Row],[QTY]]","v":0},{"$f":"Table1[[#This Row],[QTY]]*Table1[[#This Row],[School & Library Price]]","v":0}]
[null,null,61,null,null,"Biographies","People in the News","Dale Earnhardt Jr.","978-1-4205-0088-2",{"$f":"HYPERLINK(Table1[[#This Row],[Hyperlink]],\"Weblink\")","v":"Weblink"},"Lucent Press","Library Bound Book",1,"2009","January 2009","Library","6.000 X 9.000","Author","Laurie Collier Hillstrom",null,null,null,null,"Z",null,"Grade 7","Grade 7 - 10","Dale Earnhardt Jr. may be the son of NASCAR Hall of Fame inductee Dale Earnhardt Sr., but he has managed to forge his own impressive race car legacy. Dale Jr., or Junior as he is known to many, is a professional stock car driver who has won NASCAR's Most Popular Driver Award fourteen times and has come in first at the Daytona 500 in 2004 and 2014. This informative edition provides readers with a balanced and compelling biography of Dale Earnhardt Jr.'s life and career. Chapters cover his family history, Junior's early career, and his relationship with NASCAR.","English",39.4,31.52,"796.72092","104 pp.","https://greenhavenpublishing.com/978-1-4205-0088-2",{"$f":"Table1[[#This Row],['# of Books]]*Table1[[#This Row],[QTY]]","v":0},{"$f":"Table1[[#This Row],[QTY]]*Table1[[#This Row],[School & Library Price]]","v":0}]
[null,null,61,null,null,"Biographies","People in the News","David Beckham","978-1-4205-0054-7",{"$f":"HYPERLINK(Table1[[#This Row],[Hyperlink]],\"Weblink\")","v":"Weblink"},"Lucent Press","Library Bound Book",1,"2008","January 2008","Library","6.000 X 9.000","Author","Michael V. Uschan",null,null,null,null,"Z",null,"Grade 7","Grade 7 - 10","David Beckham is arguably one of the most popular soccer players in history. During his twenty-year career, he played with teams such as Manchester United, L​.​A​.​ Galaxy, and the English national team. In addition to his professional tenure, he is also known for his marriage to Victoria Beckham, a former member of the British girl band the Spice Girls. This compelling biography invites readers to take a closer look at the life and career of David Beckham. The author discusses Beckham's teenage dream of soccer stardom, his sudden rise to fame, and his celebrity marriage. ","English",39.4,31.52,"796.334092","112 pp.","https://greenhavenpublishing.com/978-1-4205-0054-7",{"$f":"Table1[[#This Row],['# of Books]]*Table1[[#This Row],[QTY]]","v":0},{"$f":"Table1[[#This Row],[QTY]]*Table1[[#This Row],[School & Library Price]]","v":0}]
[null,null,61,null,null,"Biographies","People in the News","David Petraeus","978-1-4205-0677-8",{"$f":"HYPERLINK(Table1[[#This Row],[Hyperlink]],\"Weblink\")","v":"Weblink"},"Lucent Press","Library Bound Book",1,"2012","January 2012","Library","6.000 X 9.000","Author","Leanne K. Currie-McGhee",null,null,null,null,"Z",null,"Grade 7","Grade 7 - 10","The story of David Petraeus is one of success and downfall. Rising through ranks of the U.S. Army, he was promoted rapidly to Commander of United States Central Command in 2008, and Commander of International Security Assistance Force in 2010. After retiring from the army in 2011, he was tapped by Barack Obama to be the Director of the Central Intelligence Agency. An extramarital affair forced Petraeus to resign his post the following year. This book​ ​​​takes a balanced look at many lives of David Petraeus. Chapters discuss his passion for action, finding his calling, his military career, and his work in Afghanistan. ","English",39.4,31.52,"355.0092","96 pp.","https://greenhavenpublishing.com/978-1-4205-0677-8",{"$f":"Table1[[#This Row],['# of Books]]*Table1[[#This Row],[QTY]]","v":0},{"$f":"Table1[[#This Row],[QTY]]*Table1[[#This Row],[School & Library Price]]","v":0}]
[null,null,61,null,null,"Biographies","People in the News","Derrick Rose","978-1-4205-0233-6",{"$f":"HYPERLINK(Table1[[#This Row],[Hyperlink]],\"Weblink\")","v":"Weblink"},"Lucent Press","Library Bound Book",1,"2010","January 2010","Library","6.000 X 9.000","Author","Adam Woog",null,null,null,null,"Z",null,"Grade 7","Grade 7 - 10","Basketball phenomenon Derrick Rose grew up in Chicago, Illinois, learning the game from his three older brothers. By the time he entered high school, Rose was already on the radar of collegiate coaches. Supporting social studies and biography assignments, this informative edition takes readers from Rose's childhood on Chicago's South Side, through his high school career and college years with the University of Memphis Tigers, to his being selected first overall by the Chicago Bulls in the 2008 NBA Draft. ","English",39.4,31.52,"796.323092","104 pp.","https://greenhavenpublishing.com/978-1-4205-0233-6",{"$f":"Table1[[#This Row],['# of Books]]*Table1[[#This Row],[QTY]]","v":0},{"$f":"Table1[[#This Row],[QTY]]*Table1[[#This Row],[School & Library Price]]","v":0}]
[null,null,61,null,null,"Biographies","People in the News","Eminem","978-1-4205-0753-9",{"$f":"HYPERLINK(Table1[[#This Row],[Hyperlink]],\"Weblink\")","v":"Weblink"},"Lucent Press","Library Bound Book",1,"2012","January 2012","Library","6.000 X 9.000","Author","Christie Brewer Boyd",null,null,null,null,"Z",null,"Grade 7","Grade 7 - 10","Marshall Bruce Mathers III, known professionally as Eminem, is one of the world's best-selling artists. According to Billboard.com, ten of Eminem's albums have held the number-one spot on the Billboard 200. In addition to his prolific music career, Eminem has also stared in the film 8 Mile, a semi-autobiographic movie that centers around hip-hop. Supporting social studies and biography assignments, this compelling volume provides readers with a balanced biographical overview of rapper Eminem. Chapters discuss his childhood and early career, his sudden rise to stardom, and his music's often controversial subject matter.","English",39.4,31.52,"782.421649092","104 pp.","https://greenhavenpublishing.com/978-1-4205-0753-9",{"$f":"Table1[[#This Row],['# of Books]]*Table1[[#This Row],[QTY]]","v":0},{"$f":"Table1[[#This Row],[QTY]]*Table1[[#This Row],[School & Library Price]]","v":0}]
[null,null,61,null,null,"Biographies","People in the News","George Lopez","978-1-4205-0681-5",{"$f":"HYPERLINK(Table1[[#This Row],[Hyperlink]],\"Weblink\")","v":"Weblink"},"Lucent Press","eBook",1,"2011","January 2011",null,null,"Author","Terri Dougherty",null,null,null,null,"Z",null,"Grade 7","Grade 7 - 10","Breaking into stardom as a comic during the 1990s, George Lopez has expanded his repertoire to include acting and producing. Lopez has also penned an autobiography, Why You Crying, which reached the New York Times Best Seller List. This informative volume explores the life of Latino comedian and actor George Lopez. Readers will learn about his trials during childhood, his struggle to commit to comedy, and his impact on the comic industry and on popular culture.","English",43.34,34.67,"792.7/​6028092","104 pp.","https://greenhavenpublishing.com/978-1-4205-0681-5",{"$f":"Table1[[#This Row],['# of Books]]*Table1[[#This Row],[QTY]]","v":0},{"$f":"Table1[[#This Row],[QTY]]*Table1[[#This Row],[School & Library Price]]","v":0}]
[null,null,61,null,null,"Biographies","People in the News","Glenn Beck","978-1-4205-0605-1",{"$f":"HYPERLINK(Table1[[#This Row],[Hyperlink]],\"Weblink\")","v":"Weblink"},"Lucent Press","Library Bound Book",1,"2011","January 2011","Library","6.000 X 9.000","Author","Amy Novak",null,null,null,null,"Z",null,"Grade 7","Grade 7 - 10","Powerful conservative media personality Glenn Beck came to lead his own multimillion-dollar media empire. Hosting programs on CNN and Fox News from 2006 to 2011, Beck later started his own television channel, TheBlaze TV. Subscriptions for the channel exceeded 300,000 in its first year of operation, earning Beck forty million dollars according to the Wall Street Journal. A prodigious author, Beck has topped the New York Times Best Seller List four times. This compelling volume offers a balanced view of this​ ​often controversial figure in right-wing politics. Chapters discuss Beck's obscure childhood, his start in television and creating an on-air persona, and his ability to build a media empire.","English",39.4,31.52,"320.52092","112 pp.","https://greenhavenpublishing.com/978-1-4205-0605-1",{"$f":"Table1[[#This Row],['# of Books]]*Table1[[#This Row],[QTY]]","v":0},{"$f":"Table1[[#This Row],[QTY]]*Table1[[#This Row],[School & Library Price]]","v":0}]
[null,null,61,null,null,"Biographies","People in the News","Halle Berry","978-1-4205-0968-7",{"$f":"HYPERLINK(Table1[[#This Row],[Hyperlink]],\"Weblink\")","v":"Weblink"},"Lucent Press","eBook",1,"2012","January 2012",null,null,"Author","Michael V. Uschan",null,null,null,null,"Z",null,"Grade 7","Grade 7 - 10","This volume provides readers with a balanced biographical overview of actress Halle Berry. Chapters discuss her early life experiences as a biracial child, her first acting roles, and her rise to stardom as an Oscar winner. The book also discusses Berry's public relationships and divorces, and her experiences as a mother. ","English",43.34,34.67,"791.4302/​8092","104 pp.","https://greenhavenpublishing.com/978-1-4205-0968-7",{"$f":"Table1[[#This Row],['# of Books]]*Table1[[#This Row],[QTY]]","v":0},{"$f":"Table1[[#This Row],[QTY]]*Table1[[#This Row],[School & Library Price]]","v":0}]
[null,null,61,null,null,"Biographies","People in the News","J.J. Abrams","978-1-4205-1249-6",{"$f":"HYPERLINK(Table1[[#This Row],[Hyperlink]],\"Weblink\")","v":"Weblink"},"Lucent Press","Library Bound Book",1,"2015","January 2015","Library","6.000 X 9.000","Author","Barbara Sheen",null,null,null,null,"Z",null,"Grade 7","Grade 7 - 10","This compelling volume will discuss the life and career of television and movie writer, composer, producer, and director J.J. Abrams. The book delves into his early life, his work on such hit television shows as Lost and Fringe, and his ambitions for the future.","English",39.4,31.52,"791.4302/​33092","104 pp.","https://greenhavenpublishing.com/978-1-4205-1249-6",{"$f":"Table1[[#This Row],['# of Books]]*Table1[[#This Row],[QTY]]","v":0},{"$f":"Table1[[#This Row],[QTY]]*Table1[[#This Row],[School & Library Price]]","v":0}]
[null,null,61,null,null,"Biographies","People in the News","James Cameron","978-1-4205-0885-7",{"$f":"HYPERLINK(Table1[[#This Row],[Hyperlink]],\"Weblink\")","v":"Weblink"},"Lucent Press","Library Bound Book",1,"2014","January 2014","Library","6.000 X 9.000","Author","Jennifer MacKay",null,null,null,null,"Z",null,"Grade 7","Grade 7 - 10","This book covers the life and career of filmmaker and explorer James Cameron. The volume examines his early life and career, as well as his making of the successful films Terminator, Titanic, and Avatar. The book also delves into Cameron's ocean expeditions. Readers will be inspired by this Emmy and Academy Award-winning personality.","English",39.4,31.52,"791.4302/​33092","96 pp.","https://greenhavenpublishing.com/978-1-4205-0885-7",{"$f":"Table1[[#This Row],['# of Books]]*Table1[[#This Row],[QTY]]","v":0},{"$f":"Table1[[#This Row],[QTY]]*Table1[[#This Row],[School & Library Price]]","v":0}]
[null,null,61,null,null,"Biographies","People in the News","James Franco","978-1-4205-1113-0",{"$f":"HYPERLINK(Table1[[#This Row],[Hyperlink]],\"Weblink\")","v":"Weblink"},"Lucent Press","eBook",1,"2013","January 2013",null,null,"Author","Christie Brewer Boyd",null,null,null,null,"Z",null,"Grade 7","Grade 7 - 10","This biography profiles that life and work of actor James Franco. Franco got his acting start on the cult, television show Freeks and Geeks and became a Hollywood A-lister when he was cast opposite Tobey McGuire as Spidey's best friend in Spiderman. Yet Franco found himself in the unusual position of not enjoying his status as an A-list actor. Looking around for something more brought him back to college, where he found deep satisfaction and inspiration. In addition to being an actor and a student, he has sought to become a director, an independent filmmaker, a writer, a photographer, and a conceptual artist.","English",43.34,34.67,"791.4302/​8092","96 pp.","https://greenhavenpublishing.com/978-1-4205-1113-0",{"$f":"Table1[[#This Row],['# of Books]]*Table1[[#This Row],[QTY]]","v":0},{"$f":"Table1[[#This Row],[QTY]]*Table1[[#This Row],[School & Library Price]]","v":0}]
[null,null,62,null,null,"Biographies","People in the News","Jeff Gordon","978-1-4205-0606-8",{"$f":"HYPERLINK(Table1[[#This Row],[Hyperlink]],\"Weblink\")","v":"Weblink"},"Lucent Press","Library Bound Book",1,"2011","January 2011","Library","6.000 X 9.000","Author","Laurie Collier Hillstrom",null,null,null,null,"Z",null,"Grade 7","Grade 7 - 10","NASCAR driver Jeff Gordon has been a key figure in the stock car racing industry since his first Winston Cup victory in 1995. With ninety-three wins, Gordon maintains a record career streak in modern era NASCAR racing. This captivating volume provides a balanced biography of Jeff Gordon. Students will learn about how Gordon helped changed the face of NASCAR, how he broke into the sport and became a champion, and how he matured as a driver and team owner. ","English",39.4,31.52,"796.72092","96 pp.","https://greenhavenpublishing.com/978-1-4205-0606-8",{"$f":"Table1[[#This Row],['# of Books]]*Table1[[#This Row],[QTY]]","v":0},{"$f":"Table1[[#This Row],[QTY]]*Table1[[#This Row],[School & Library Price]]","v":0}]
[null,null,62,null,null,"Biographies","People in the News","Jennifer Lawrence","978-1-4205-1224-3",{"$f":"HYPERLINK(Table1[[#This Row],[Hyperlink]],\"Weblink\")","v":"Weblink"},"Lucent Press","eBook",1,"2015","January 2015",null,null,"Author","Gail B. Stewart",null,null,null,null,"Z",null,"Grade 7","Grade 7 - 10","According to Forbes magazine, Jennifer Lawrence was the highest-paid actress in Hollywood in 2016, earning forty-six million dollars for her role in the final Hunger Games movie and for her role in the sci-fi film Passengers. Her down-to-earth personality and considerable acting talent have earned her praise and admiration from fans, directors, and producers alike. This informative edition focuses on the life and career of Oscar-winning actress Jennifer Lawrence. The book discusses Lawrence's childhood, her early roles as a young actress, and her rise to international fame.","English",43.34,34.67,"791.4302/​8092","112 pp.","https://greenhavenpublishing.com/978-1-4205-1224-3",{"$f":"Table1[[#This Row],['# of Books]]*Table1[[#This Row],[QTY]]","v":0},{"$f":"Table1[[#This Row],[QTY]]*Table1[[#This Row],[School & Library Price]]","v":0}]
[null,null,62,null,null,"Biographies","People in the News","Joe Biden","978-1-4205-0260-2",{"$f":"HYPERLINK(Table1[[#This Row],[Hyperlink]],\"Weblink\")","v":"Weblink"},"Lucent Press","Library Bound Book",1,"2010","January 2010","Library","6.000 X 9.000","Author","Michael V. Uschan",null,null,null,null,"Z",null,"Grade 7","Grade 7 - 10","Best known as the Barack Obama's vice president, Joe Biden has had a long career in politics. Biden served as the U.S. Senator for the state of Delaware from 1973 to 2​009. Tragically, he lost his son Beau to brain cancer in 2015 and has since become a vocal advocate for cancer research, ​even ​leading a bipartisan “Cancer Moonshot” agenda, according to CNN. This book provides a balanced biography of Joe Biden. Chapters ​discuss his childhood in a loving family, his start in politics, raising his own family, the 2008 presidential campaign, and ​his experience ​being vice president.","English",39.4,31.52,"352.23/​9092","104 pp.","https://greenhavenpublishing.com/978-1-4205-0260-2",{"$f":"Table1[[#This Row],['# of Books]]*Table1[[#This Row],[QTY]]","v":0},{"$f":"Table1[[#This Row],[QTY]]*Table1[[#This Row],[School & Library Price]]","v":0}]
[null,null,62,null,null,"Biographies","People in the News","Jon Stewart","978-1-4205-0835-2",{"$f":"HYPERLINK(Table1[[#This Row],[Hyperlink]],\"Weblink\")","v":"Weblink"},"Lucent Press","eBook",1,"2012","January 2012",null,null,"Author","Randy Scherer",null,null,null,null,"Z",null,"Grade 7","Grade 7 - 10","Jon Stewart was the long-time host of Comedy Central's half-hour news and entertainment program The Daily Show, which has won two Peabody Awards for its presidential election coverage and fourteen Emmy Awards for a variety of categories, including comedy and variety. A private man, this book shares what little is known about Stewart's childhood and early adulthood. However, the main focus of the book is on Stewart's unique political satire, relentless watchdog efforts, and his outsized influence on television news organization","English",43.34,34.67,"792.702/​8092","112 pp.","https://greenhavenpublishing.com/978-1-4205-0835-2",{"$f":"Table1[[#This Row],['# of Books]]*Table1[[#This Row],[QTY]]","v":0},{"$f":"Table1[[#This Row],[QTY]]*Table1[[#This Row],[School & Library Price]]","v":0}]
[null,null,62,null,null,"Biographies","People in the News","Jonas Brothers","978-1-4205-0311-1",{"$f":"HYPERLINK(Table1[[#This Row],[Hyperlink]],\"Weblink\")","v":"Weblink"},"Lucent Press","eBook",1,"2010","January 2010",null,null,"Author","Carla Mooney",null,null,null,null,"Z",null,"Grade 7","Grade 7 - 10","The Jonas Brothers gained popularity from their appearances on Disney Channel programs. In their eight years of partnership, the three brothers have sold over seventeen million records worldwide, according to Billboard. This compelling volume provides a balanced biography of the Jonas Brothers. Chapters include their early musical influences, joining the Disney family, developing their own style, and living the dream.","English",43.34,34.67,"782.42164092/​2","96 pp.","https://greenhavenpublishing.com/978-1-4205-0311-1",{"$f":"Table1[[#This Row],['# of Books]]*Table1[[#This Row],[QTY]]","v":0},{"$f":"Table1[[#This Row],[QTY]]*Table1[[#This Row],[School & Library Price]]","v":0}]
[null,null,62,null,null,"Biographies","People in the News","Kelly Slater","978-1-4205-0757-7",{"$f":"HYPERLINK(Table1[[#This Row],[Hyperlink]],\"Weblink\")","v":"Weblink"},"Lucent Press","Library Bound Book",1,"2012","January 2012","Library","6.000 X 9.000","Author","Randy Scherer",null,null,null,null,"Z",null,"Grade 7","Grade 7 - 10","This biography covers the life and athleticism of Kelly Slater, arguably the most successful surfer in history. As of 2012, Slater held the record for both the youngest surfer to win the world championship and the oldest, an accomplishment that bookends a story of dominance unseen in any sport. Slater has helped bring surfing to the masses by providing an example of a professional who works hard and lives cleanly. He has endeavored to make surfing more accessible and understandable to a broad audience. In addition, Slater has established a charitable foundation that embraces environmental issues and brings surfing to many who would otherwise never have the chance to participate. ","English",39.4,31.52,"797.32092","104 pp.","https://greenhavenpublishing.com/978-1-4205-0757-7",{"$f":"Table1[[#This Row],['# of Books]]*Table1[[#This Row],[QTY]]","v":0},{"$f":"Table1[[#This Row],[QTY]]*Table1[[#This Row],[School & Library Price]]","v":0}]
[null,null,62,null,null,"Biographies","People in the News","Leonardo DiCaprio","978-1-4205-0662-4",{"$f":"HYPERLINK(Table1[[#This Row],[Hyperlink]],\"Weblink\")","v":"Weblink"},"Lucent Press","eBook",1,"2011","January 2011",null,null,"Author","Cherese Cartlidge",null,null,null,null,"Z",null,"Grade 7","Grade 7 - 10","Leonardo DiCaprio's career started at the age of four on the set of several TV commercials, but he has since evolved into a mature actor taking on challenging roles and playing characters as diverse as Romeo, J. Edger Hoover, and Jay Gatsby. DiCaprio is also an active environmentalist, sitting on the boards of the World Wildlife Fund and the National Resources Defense Council. This compelling volume provides a balanced biography of Leonardo DiCaprio. Chapters include childhood stardom, playing the troubled teen, going from teen heartthrob to serious actor, and his off-screen philanthropy and activism.","English",43.34,34.67,"791.43/​028/​092","96 pp.","https://greenhavenpublishing.com/978-1-4205-0662-4",{"$f":"Table1[[#This Row],['# of Books]]*Table1[[#This Row],[QTY]]","v":0},{"$f":"Table1[[#This Row],[QTY]]*Table1[[#This Row],[School & Library Price]]","v":0}]
[null,null,62,null,null,"Biographies","People in the News","Lindsey Vonn","978-1-4205-0614-3",{"$f":"HYPERLINK(Table1[[#This Row],[Hyperlink]],\"Weblink\")","v":"Weblink"},"Lucent Press","Library Bound Book",1,"2012","January 2012","Library","6.000 X 9.000","Author","Marty Gitlin",null,null,null,null,"Z",null,"Grade 7","Grade 7 - 10","This biography of Olympic champion Lindsey Vonn delves into the childhood, lifestyle, and career of arguably the most accomplished skier in American history. Vonn has won three consecutive World Cup championships and earned an Olympic gold medal in 2010. Her rise to stardom has been bumpy, with two critical obstacles that have tested her multiple times during her career: her turbulent and now estranged relationship with her father, and the many physical injuries sustained because of her notoriously brash style on the slopes​. The book discusses the accident that crushed her dream of medaling in the 2006 Olympics and how she overcame this misfortune to win gold in 2010.","English",39.4,31.52,"796.93/​5092","104 pp.","https://greenhavenpublishing.com/978-1-4205-0614-3",{"$f":"Table1[[#This Row],['# of Books]]*Table1[[#This Row],[QTY]]","v":0},{"$f":"Table1[[#This Row],[QTY]]*Table1[[#This Row],[School & Library Price]]","v":0}]
[null,null,62,null,null,"Biographies","People in the News","Michelle Wie","978-1-4205-0610-5",{"$f":"HYPERLINK(Table1[[#This Row],[Hyperlink]],\"Weblink\")","v":"Weblink"},"Lucent Press","Library Bound Book",1,"2011","January 2011","Library","6.000 X 9.000","Author","Lauri S. Scherer",null,null,null,null,"Z",null,"Grade 7","Grade 7 - 10","Michelle Wie is a professional female golfer, who, at the age of sixteen, turned professional. In 2014, she won the U.S. Women's Open. This informative volume chronicles the life and accomplishments of the world's highest-paid female golfer in history. Readers will be provided with an insight into Wie's childhood, her journey from amateur to pro, and her accomplishments as a professional.","English",39.4,31.52,"796.352092","104 pp.","https://greenhavenpublishing.com/978-1-4205-0610-5",{"$f":"Table1[[#This Row],['# of Books]]*Table1[[#This Row],[QTY]]","v":0},{"$f":"Table1[[#This Row],[QTY]]*Table1[[#This Row],[School & Library Price]]","v":0}]
[null,null,62,null,null,"Biographies","People in the News","Muammar Qaddafi","978-1-4205-1026-3",{"$f":"HYPERLINK(Table1[[#This Row],[Hyperlink]],\"Weblink\")","v":"Weblink"},"Lucent Press","eBook",1,"2013","January 2013",null,null,"Author, Author","Sheila Wyborny, Viqi Wagner",null,null,null,null,"Z",null,"Grade 7","Grade 7 - 10","This biography covers the life and political actions of Muammar Qaddafi, the former dictator of Libya. Qaddafi was one of the most famous, and famously bizarre, political leaders of the modern age. Throughout 2011, he was frequently in the news during the uprising of the Libyan people against his dictatorship. This book discusses Qaddafi's quest for power and influence in world politics, his desire to earn a place in history as a great man, as well as his aptitude for reinventing himself again and again. Particular attention is given to explaining the impact that Qaddafi's political experiments had on the people of Libya. Readers will learn about Qaddafi's childhood, rise to power, and merciless downfall as well as some of Libya's cultural and political history.","English",43.34,34.67,"961.204/​2092","112 pp.","https://greenhavenpublishing.com/978-1-4205-1026-3",{"$f":"Table1[[#This Row],['# of Books]]*Table1[[#This Row],[QTY]]","v":0},{"$f":"Table1[[#This Row],[QTY]]*Table1[[#This Row],[School & Library Price]]","v":0}]
[null,null,62,null,null,"Biographies","People in the News","Neil Patrick Harris","978-1-4205-0878-9",{"$f":"HYPERLINK(Table1[[#This Row],[Hyperlink]],\"Weblink\")","v":"Weblink"},"Lucent Press","eBook",1,"2012","January 2012",null,null,"Author","Cherese Cartlidge",null,null,null,null,"Z",null,"Grade 7","Grade 7 - 10","Former teen idol Neil Patrick Harris can be described as something of a Renaissance man, someone who is intelligent and accomplished in a variety of areas, and who can act, sing, dance, play music, and perform live. Harris's career has spanned more than twenty years. During that time, he has gone from playing the baby-faced do-gooder Doogie Howser in the late 1980s and early 1990s to playing the phenomenal cad Barney Stinson in the hit show How I Met Your Mother. Neil Patrick Harris is widely admired not just for his many talents, but also for his openness and honesty about his own life and his willingness to be frank about his homosexuality. This has made him a role model to others who have struggled with their own sexual identity. Above all, Harris's ability to integrate his identity and skills into his many projects has made him one of Hollywood's most versatile stars. Supporting social studies and biography assignments, this informative edition presents readers with an overview of Neil Patrick Harris's career and personal life.","English",43.34,34.67,"792.02/​8092","104 pp.","https://greenhavenpublishing.com/978-1-4205-0878-9",{"$f":"Table1[[#This Row],['# of Books]]*Table1[[#This Row],[QTY]]","v":0},{"$f":"Table1[[#This Row],[QTY]]*Table1[[#This Row],[School & Library Price]]","v":0}]
[null,null,62,null,null,"Biographies","People in the News","Nicki Minaj","978-1-4205-0888-8",{"$f":"HYPERLINK(Table1[[#This Row],[Hyperlink]],\"Weblink\")","v":"Weblink"},"Lucent Press","Library Bound Book",1,"2013","January 2013","Library","6.000 X 9.000","Author","Christie Brewer Boyd",null,null,null,null,"Z",null,"Grade 7","Grade 7 - 10","Nicki Minaj is a slew of personalities and musical styles crammed into a small package. On the one hand, she is a foul-mouthed, fast-spitting rapper prone to switching accents and dropping creative, funny lyrics. On the other hand, she is a megawatt pop star, topping the mainstream charts with danceable songs. By being a female emcee with street credibility and an artist with an image and crossover sound that appeals to all of America, Minaj has opened doors that have been closed to other leading ladies of hip-hop. This biography covers the life and career of rapper ​and hip-hop artist ​Nicki Minaj. Chapters discuss Minaj's early years, her contributions to the hip-hop culture, and her development ​into an industry mogul. ","English",39.4,31.52,"782.421649/​092","96 pp.","https://greenhavenpublishing.com/978-1-4205-0888-8",{"$f":"Table1[[#This Row],['# of Books]]*Table1[[#This Row],[QTY]]","v":0},{"$f":"Table1[[#This Row],[QTY]]*Table1[[#This Row],[School & Library Price]]","v":0}]
[null,null,62,null,null,"Biographies","People in the News","Oscar Pistorius","978-1-4205-1176-5",{"$f":"HYPERLINK(Table1[[#This Row],[Hyperlink]],\"Weblink\")","v":"Weblink"},"Lucent Press","eBook",1,"2014","January 2014",null,null,"Author","Christine Wilcox",null,null,null,null,"Z",null,"Grade 7","Grade 7 - 10","This biography covers the life and career of South African sprinter and Olympian Oscar Pistorius. Born with a rare deformity, it details his life as an infant undergoing lower leg amputation and his upbringing and involvement in sports. The book also digs into the controversy surrounding the death of his girlfriend by Pistorius's own hand.","English",43.34,34.67,"796.42092","104 pp.","https://greenhavenpublishing.com/978-1-4205-1176-5",{"$f":"Table1[[#This Row],['# of Books]]*Table1[[#This Row],[QTY]]","v":0},{"$f":"Table1[[#This Row],[QTY]]*Table1[[#This Row],[School & Library Price]]","v":0}]
[null,null,63,null,null,"Biographies","People in the News","Prince William and Duchess Kate","978-1-4205-1238-0",{"$f":"HYPERLINK(Table1[[#This Row],[Hyperlink]],\"Weblink\")","v":"Weblink"},"Lucent Press","eBook",1,"2015","January 2015",null,null,"Author","Jennifer MacKay",null,null,null,null,"Z",null,"Grade 7","Grade 7 - 10","This compelling volume focuses on the life of Prince William and Duchess Kate. The book begins by delving into both Will and Kate's childhoods. It then moves into their college years where they met and became a couple and eventually engaged. The book ends with their marriage, the birth of Prince George, and settling into their royal duties as the future king and queen of England.","English",43.34,34.67,"941.086/​10922","104 pp.","https://greenhavenpublishing.com/978-1-4205-1238-0",{"$f":"Table1[[#This Row],['# of Books]]*Table1[[#This Row],[QTY]]","v":0},{"$f":"Table1[[#This Row],[QTY]]*Table1[[#This Row],[School & Library Price]]","v":0}]
[null,null,63,null,null,"Biographies","People in the News","Robert Kirkman","978-1-4205-1248-9",{"$f":"HYPERLINK(Table1[[#This Row],[Hyperlink]],\"Weblink\")","v":"Weblink"},"Lucent Press","eBook",1,"2015","January 2015",null,null,"Author","Adam Woog",null,null,null,null,"Z",null,"Grade 7","Grade 7 - 10","The Walking Dead has become one of the most popular franchises in modern history. The cable adaption of the comic book series has the highest viewership of any cable series in history according to Nielsen. This informative biography discusses the life and work of Robert Kirkman, the originator of the Walking Dead comic books. Chapters cover Kirkman's relationship with the Zombie genre, his work with Marvel, and the development of the Walking Dead comic books and TV series.","English",43.34,34.67,"813/​.6","112 pp.","https://greenhavenpublishing.com/978-1-4205-1248-9",{"$f":"Table1[[#This Row],['# of Books]]*Table1[[#This Row],[QTY]]","v":0},{"$f":"Table1[[#This Row],[QTY]]*Table1[[#This Row],[School & Library Price]]","v":0}]
[null,null,63,null,null,"Biographies","People in the News","Roger Federer","978-1-4205-0611-2",{"$f":"HYPERLINK(Table1[[#This Row],[Hyperlink]],\"Weblink\")","v":"Weblink"},"Lucent Press","Library Bound Book",1,"2012","January 2012","Library","6.000 X 9.000","Author","Anne K. Brown",null,null,null,null,"Z",null,"Grade 7","Grade 7 - 10","Admired for his perfect form, style, and finesse, tennis star Roger Federer has been ranked as the number one player in the world, and is arguably the greatest player in the history of tennis. He holds the record for the most wins in Grand Slam tournaments and has spent the most consecutive weeks as the number-one ranked player in professional tennis. This volume charts Federer's rise to fame, from his early start as an impulsive but talented youth to the tournament wins that established him as a world-class athlete. The author also explains how Federer earned a reputation as a fair player, a polite and considerate sports hero, and a humanitarian.","English",39.4,31.52,"796.342092","112 pp.","https://greenhavenpublishing.com/978-1-4205-0611-2",{"$f":"Table1[[#This Row],['# of Books]]*Table1[[#This Row],[QTY]]","v":0},{"$f":"Table1[[#This Row],[QTY]]*Table1[[#This Row],[School & Library Price]]","v":0}]
[null,null,63,null,null,"Biographies","People in the News","Sandra Bullock","978-1-4205-0428-6",{"$f":"HYPERLINK(Table1[[#This Row],[Hyperlink]],\"Weblink\")","v":"Weblink"},"Lucent Press","Library Bound Book",1,"2011","January 2011","Library","6.000 X 9.000","Author","Sandy Gade Algra",null,null,null,null,"Z",null,"Grade 7","Grade 7 - 10","One of the most acclaimed actresses of the last two decades, Sandra Bullock has managed to skillfully shift between action roles​ ​and more serious dramatic​ ​parts throughout her long career.​ She has​ ​also taken an active role in humanitarian issues, donating​ ​one million​ ​dollars to relief efforts in Haiti after the 2010 earthquake, among other causes. This compelling volume provides an incisive biography of Sandra Bullock. Chapters include her childhood, her breakthrough into Hollywood with the movie Speed, making movies as a producer, and a year of personal triumphs and challenges. ","English",39.4,31.52,"791.4302/​8092","96 pp.","https://greenhavenpublishing.com/978-1-4205-0428-6",{"$f":"Table1[[#This Row],['# of Books]]*Table1[[#This Row],[QTY]]","v":0},{"$f":"Table1[[#This Row],[QTY]]*Table1[[#This Row],[School & Library Price]]","v":0}]
[null,null,63,null,null,"Biographies","People in the News","Sean Combs","978-1-4205-0367-8",{"$f":"HYPERLINK(Table1[[#This Row],[Hyperlink]],\"Weblink\")","v":"Weblink"},"Lucent Press","eBook",1,"2010","January 2010",null,null,"Author","Susan M. Traugh",null,null,null,null,"Z",null,"Grade 7","Grade 7 - 10","This informative volume profiles the life and career of hip-hop artist Sean Combs. No stranger to rebranding. Combs is notorious for marking each new phase of his career with a new name. \"Puff,\" \"Puffy,\" \"Puff Daddy,\" \"Sean John,\" and “P.Diddy” are just a few examples. Chapters cover his early years, his rise to hip-hop stardom, and his contributions to the genre.","English",43.34,34.67,"782.421649/​092","104 pp.","https://greenhavenpublishing.com/978-1-4205-0367-8",{"$f":"Table1[[#This Row],['# of Books]]*Table1[[#This Row],[QTY]]","v":0},{"$f":"Table1[[#This Row],[QTY]]*Table1[[#This Row],[School & Library Price]]","v":0}]
[null,null,63,null,null,"Biographies","People in the News","Seth Rogen","978-1-4205-0616-7",{"$f":"HYPERLINK(Table1[[#This Row],[Hyperlink]],\"Weblink\")","v":"Weblink"},"Lucent Press","Library Bound Book",1,"2012","January 2012","Library","6.000 X 9.000","Author","Andy Koopmans",null,null,null,null,"Z",null,"Grade 7","Grade 7 - 10","Canadian-born Seth Rogen has an accomplished career. With more than forty acting credits, four produced screenplays, more than a dozen short film and TV show scripts, and sixteen producing credits, Rogen is anything but the slacker character he has played in his most popular and often R-rated films. The author addresses the more controversial aspects of Rogen's movies and explains how the content and comedic style of these productions have sometimes put Rogen at the center of battles over censorship and ratings, as well as stirred controversy among critics, the media, and parental watch groups. ","English",39.4,31.52,"792.702/​8092","104 pp.","https://greenhavenpublishing.com/978-1-4205-0616-7",{"$f":"Table1[[#This Row],['# of Books]]*Table1[[#This Row],[QTY]]","v":0},{"$f":"Table1[[#This Row],[QTY]]*Table1[[#This Row],[School & Library Price]]","v":0}]
[null,null,63,null,null,"Biographies","People in the News","Shaun White","978-1-4205-0891-8",{"$f":"HYPERLINK(Table1[[#This Row],[Hyperlink]],\"Weblink\")","v":"Weblink"},"Lucent Press","Library Bound Book",1,"2013","January 2013","Library","6.000 X 9.000","Author","Christine Wilcox",null,null,null,null,"Z",null,"Grade 7","Grade 7 - 10","This informative volume provides a biographical overview of the life of two-time Olympic gold medalist snowboarder, Shaun White. Shaun has been riding boards since he was four years old, first a boogie board in the California surf, then a skateboard on his brother's ramp in the backyard, and finally a snowboard. He was so talented that, at seven years old, his parents entered him in his first amateur snowboarding contest, which he won. At thirteen he turned pro. Snowboarding was just the tip of the iceberg for this talented athlete. He soon also went pro in skateboarding and earned the nickname \"The Flying Tomato,\" from his mentor, skateboarder Tony Hawk. Your readers will be inspired.","English",39.4,31.52,"796.939092","104 pp.","https://greenhavenpublishing.com/978-1-4205-0891-8",{"$f":"Table1[[#This Row],['# of Books]]*Table1[[#This Row],[QTY]]","v":0},{"$f":"Table1[[#This Row],[QTY]]*Table1[[#This Row],[School & Library Price]]","v":0}]
[null,null,63,null,null,"Biographies","People in the News","Spike Lee","978-1-4205-0626-6",{"$f":"HYPERLINK(Table1[[#This Row],[Hyperlink]],\"Weblink\")","v":"Weblink"},"Lucent Press","eBook",1,"2011","January 2011",null,null,"Author","Laurie Lanzen Harris",null,null,null,null,"Z",null,"Grade 7","Grade 7 - 10","Spike Lee is the mastermind behind movies such as Malcolm X and Chi-Raq. His work often explores race, identity, culture, and politics within the sphere of the black community. This compelling biography profiles the life and career of Shelton Jackson Lee, the most prominent African-American filmmaker in the United States.","English",43.34,34.67,"791.43/​0233092","104 pp.","https://greenhavenpublishing.com/978-1-4205-0626-6",{"$f":"Table1[[#This Row],['# of Books]]*Table1[[#This Row],[QTY]]","v":0},{"$f":"Table1[[#This Row],[QTY]]*Table1[[#This Row],[School & Library Price]]","v":0}]
[null,null,63,null,null,"Biographies","People in the News","Taylor Lautner","978-1-4205-0618-1",{"$f":"HYPERLINK(Table1[[#This Row],[Hyperlink]],\"Weblink\")","v":"Weblink"},"Lucent Press","Library Bound Book",1,"2012","January 2012","Library","6.000 X 9.000","Author","Rachel Lynette",null,null,null,null,"Z",null,"Grade 7","Grade 7 - 10","Taylor Lautner, who owes his start in show business to his martial arts skills, is best known for his role as the werewolf Jacob Black in the Twilight films. Supporting biography and social studies assignments this engaging volume explores Lautner's life before and after his big-screen break. Chapters profile his early life, how his career in acting started, and how life has changed since becoming part of such a wildly popular franchise.","English",39.4,31.52,"791.4302/​8092","104 pp.","https://greenhavenpublishing.com/978-1-4205-0618-1",{"$f":"Table1[[#This Row],['# of Books]]*Table1[[#This Row],[QTY]]","v":0},{"$f":"Table1[[#This Row],[QTY]]*Table1[[#This Row],[School & Library Price]]","v":0}]
[null,null,63,null,null,"Biographies","People in the News","Tyra Banks","978-1-4205-0161-2",{"$f":"HYPERLINK(Table1[[#This Row],[Hyperlink]],\"Weblink\")","v":"Weblink"},"Lucent Press","Library Bound Book",1,"2010","January 2010","Library","6.000 X 9.000","Author","Terri Dougherty",null,null,null,null,"Z",null,"Grade 7","Grade 7 - 10","According to Encyclopedia Britannica, Tyra Banks was the first African-American woman to be featured on the cover of GQ magazine and on the cover of ​the ​Victoria's Secret catalog. In addition to her impressive modeling career, Banks is also a well-known personality and producer. Her modeling competition show, America's Next Top Model, ran on major cable networks for twenty-two seasons. This compelling biography profiles the life and career of Tyra Banks, discussing her childhood, success in modeling, mentoring, television career, and more.","English",39.4,31.52,"746.9/​2092","112 pp.","https://greenhavenpublishing.com/978-1-4205-0161-2",{"$f":"Table1[[#This Row],['# of Books]]*Table1[[#This Row],[QTY]]","v":0},{"$f":"Table1[[#This Row],[QTY]]*Table1[[#This Row],[School & Library Price]]","v":0}]
[null,null,63,null,null,"Biographies","People in the News","Tyra Banks","978-1-4205-0315-9",{"$f":"HYPERLINK(Table1[[#This Row],[Hyperlink]],\"Weblink\")","v":"Weblink"},"Lucent Press","eBook",1,"2010","January 2010",null,null,"Author","Terri Dougherty",null,null,null,null,"Z",null,"Grade 7","Grade 7 - 10","According to Encyclopedia Britannica, Tyra Banks was the first African-American woman to be featured on the cover of GQ magazine and on the cover of ​the ​Victoria's Secret catalog. In addition to her impressive modeling career, Banks is also a well-known personality and producer. Her modeling competition show, America's Next Top Model, ran on major cable networks for twenty-two seasons. This compelling biography profiles the life and career of Tyra Banks, discussing her childhood, success in modeling, mentoring, television career, and more.","English",43.34,34.67,"746.9/​2092","112 pp.","https://greenhavenpublishing.com/978-1-4205-0315-9",{"$f":"Table1[[#This Row],['# of Books]]*Table1[[#This Row],[QTY]]","v":0},{"$f":"Table1[[#This Row],[QTY]]*Table1[[#This Row],[School & Library Price]]","v":0}]
[null,null,63,null,null,"Biographies","People in the News","Will Smith","978-1-4205-0201-5",{"$f":"HYPERLINK(Table1[[#This Row],[Hyperlink]],\"Weblink\")","v":"Weblink"},"Lucent Press","eBook",1,"2009","January 2009",null,null,"Author","Michael V. Uschan",null,null,null,null,"Z",null,"Grade 7","Grade 7 - 10","Before his breakout role in The Fresh Prince of Bel-Air, Will Smith embarked on a rap career with friend Jeff Townes.​ ​The duo performed under the name of \"DJ Jazzy Jeff and The Fresh Prince.\" In the late 1990s, Smith began to focus his attention on acting and was soon cast in cult movie favorites such as Independence Day and Men in Black. His performance in The Pursuit of Happyness earned him an Oscar nomination in 2006. Supporting biography, history, and social studies assignments, this compelling edition provides readers with a profile of rapper and actor Will Smith. Chapters discuss his life as a child and teen, his career paths in music and acting, and his life as a family man.","English",43.34,34.67,"791.4302/​8092","104 pp.","https://greenhavenpublishing.com/978-1-4205-0201-5",{"$f":"Table1[[#This Row],['# of Books]]*Table1[[#This Row],[QTY]]","v":0},{"$f":"Table1[[#This Row],[QTY]]*Table1[[#This Row],[School & Library Price]]","v":0}]
[null,null,64,null,null,"Careers","Covert Careers: Jobs You Can't Talk About","Inside Interpol","978-1-5345-6633-0",{"$f":"HYPERLINK(Table1[[#This Row],[Hyperlink]],\"Weblink\")","v":"Weblink"},"Lucent Press","Library Bound Book",1,"2019","January 2019","Library","7.250 X 9.250","Author","Louise Spilsbury",null,null,null,null,"V","1260L","Grade 6","Grade 5 - 8","The International Criminal Police Organization, better known as Interpol, has 192 member countries, making it the largest international police organization in the world. What does Interpol do, and how can someone start working for this organization? The answers to these questions and more are found in this educational and exciting look at a leading global law enforcement agency. Fascinating facts are presented to readers in creative ways, including sidebars, fact boxes, and graphic organizers. Captivating full-color photographs are also included to give readers a closer look at exactly how Interpol is working to create a safer world.","English",33.6,26.88,"363.206'01--dc23","48 pp.","https://greenhavenpublishing.com/978-1-5345-6633-0",{"$f":"Table1[[#This Row],['# of Books]]*Table1[[#This Row],[QTY]]","v":0},{"$f":"Table1[[#This Row],[QTY]]*Table1[[#This Row],[School & Library Price]]","v":0}]
[null,null,64,null,null,"Careers","Covert Careers: Jobs You Can't Talk About","Inside the CIA","978-1-5345-6628-6",{"$f":"HYPERLINK(Table1[[#This Row],[Hyperlink]],\"Weblink\")","v":"Weblink"},"Lucent Press","eBook",1,"2019","January 2019",null,null,"Author","Louise Spilsbury",null,null,null,null,"V","1180L","Grade 6","Grade 5 - 8","Is the life of a CIA agent really as exciting and dangerous as it appears? Readers discover the truth behind the secret life of CIA agents as they learn what it takes to work for the Central Intelligence Agency. As vivid full-color photographs draw them in to this secretive world, they explore essential facts about the skills, education, and training needed to follow this high-interest career path. Eye-catching fact boxes, graphic organizers, and sidebars are found alongside the detailed main text, giving readers an inside look at this covert career.","English",33.6,26.88,"327.1273--dc23","48 pp.","https://greenhavenpublishing.com/978-1-5345-6628-6",{"$f":"Table1[[#This Row],['# of Books]]*Table1[[#This Row],[QTY]]","v":0},{"$f":"Table1[[#This Row],[QTY]]*Table1[[#This Row],[School & Library Price]]","v":0}]
[null,null,64,null,null,"Careers","Covert Careers: Jobs You Can't Talk About","Inside the DEA","978-1-5345-6630-9",{"$f":"HYPERLINK(Table1[[#This Row],[Hyperlink]],\"Weblink\")","v":"Weblink"},"Lucent Press","Library Bound Book",1,"2019","January 2019","Library","7.250 X 9.250","Author","Louise Spilsbury",null,null,null,null,"V",null,"Grade 6","Grade 5 - 8","The Drug Enforcement Administration is on the front lines of the war on drugs in the United States. Readers explore the many ways DEA agents are working to fight this war, including the use of covert and undercover operations. This exciting career path is presented to readers through informative text, including helpful fact boxes and sidebars, as well as through detailed graphic organizers and full-color photographs of DEA agents in action. Readers interested in a career in law enforcement are sure to be inspired by this inside look at one of America's most important law enforcement agencies.","English",33.6,26.88,"363.450973--dc23","48 pp.","https://greenhavenpublishing.com/978-1-5345-6630-9",{"$f":"Table1[[#This Row],['# of Books]]*Table1[[#This Row],[QTY]]","v":0},{"$f":"Table1[[#This Row],[QTY]]*Table1[[#This Row],[School & Library Price]]","v":0}]
[null,null,64,null,null,"Careers","Covert Careers: Jobs You Can't Talk About","Inside the Secret Service","978-1-5345-6636-1",{"$f":"HYPERLINK(Table1[[#This Row],[Hyperlink]],\"Weblink\")","v":"Weblink"},"Lucent Press","Library Bound Book",1,"2019","January 2019","Library","7.250 X 9.250","Author","Louise Spilsbury",null,null,null,null,"V","1190L","Grade 6","Grade 5 - 8","How secretive do Secret Service agents have to be? Do they protect other people besides the president? What kind of training do you need to become a Secret Service agent? These are important questions to ask if someone is interested in a career with the Secret Service, and the answers are waiting to be discovered in this fun and fact-filled reading experience. As readers explore exiting main text, sidebars, fact boxes, and graphic organizers, they learn about how a person becomes a Secret Service agent and what their day-to-day life is like in this dangerous line of work.","English",33.6,26.88,"363.28'30973--dc23","48 pp.","https://greenhavenpublishing.com/978-1-5345-6636-1",{"$f":"Table1[[#This Row],['# of Books]]*Table1[[#This Row],[QTY]]","v":0},{"$f":"Table1[[#This Row],[QTY]]*Table1[[#This Row],[School & Library Price]]","v":0}]
[null,null,64,null,null,"Careers","Covert Careers: Jobs You Can't Talk About","Inside the Special Forces","978-1-5345-6639-2",{"$f":"HYPERLINK(Table1[[#This Row],[Hyperlink]],\"Weblink\")","v":"Weblink"},"Lucent Press","Library Bound Book",1,"2019","January 2019","Library","7.250 X 9.250","Author","Louise Spilsbury",null,null,null,null,"V","1190L","Grade 6","Grade 5 - 8","The U.S. Army Special Forces is an elite group of soldiers whose work is often classified. Although their missions are often secretive, their heroism is widely known, and readers are sure to be captivated by this inside look at what the Special Forces do and how someone can join their ranks. Detailed sidebars, eye-catching fact boxes, and helpful graphic organizers support the informative main text to present a comprehensive picture of Special Forces soldiers. Featuring full-color photographs of these heroes in action, this thrilling reading experience is designed to inspire young people who are interested in a military career.","English",33.6,26.88,"356'.160973--dc23","48 pp.","https://greenhavenpublishing.com/978-1-5345-6639-2",{"$f":"Table1[[#This Row],['# of Books]]*Table1[[#This Row],[QTY]]","v":0},{"$f":"Table1[[#This Row],[QTY]]*Table1[[#This Row],[School & Library Price]]","v":0}]
[null,null,67,null,null,"Current Issues","Hot Topics","Bioethics","978-1-4205-0117-9",{"$f":"HYPERLINK(Table1[[#This Row],[Hyperlink]],\"Weblink\")","v":"Weblink"},"Lucent Press","Library Bound Book",1,"2009","January 2009","Library","7.000 X 9.000","Author, Author","Carla Mooney, Leanne K. Currie-McGhee",null,null,null,null,"Z",null,"Grade 7","Grade 7 - 10","Merriam-Webster defines bioethics as a field of study concerned with the ethical and philosophical implications of certain biological and medical procedures or technologies. This informative volume discusses the ethical implications of assisted reproduction, vaccines for children, euthanasia and assisted suicide, testing on humans, genetic engineering, and the use of stem cells. Readers will be inspired to think critically about bioethics and how this field of study impacts the world around them.","English",39.4,31.52,"174.2","112 pp.","https://greenhavenpublishing.com/978-1-4205-0117-9",{"$f":"Table1[[#This Row],['# of Books]]*Table1[[#This Row],[QTY]]","v":0},{"$f":"Table1[[#This Row],[QTY]]*Table1[[#This Row],[School & Library Price]]","v":0}]
[null,null,67,null,null,"Current Issues","Hot Topics","Bioethics","978-1-4205-0190-2",{"$f":"HYPERLINK(Table1[[#This Row],[Hyperlink]],\"Weblink\")","v":"Weblink"},"Lucent Press","eBook",1,"2009","January 2009",null,null,"Author, Author","Carla Mooney, Leanne K. Currie-McGhee",null,null,null,null,"Z",null,"Grade 7","Grade 7 - 10","Merriam-Webster defines bioethics as a field of study concerned with the ethical and philosophical implications of certain biological and medical procedures or technologies. This informative volume discusses the ethical implications of assisted reproduction, vaccines for children, euthanasia and assisted suicide, testing on humans, genetic engineering, and the use of stem cells. Readers will be inspired to think critically about bioethics and how this field of study impacts the world around them.","English",43.34,34.67,"174.2","112 pp.","https://greenhavenpublishing.com/978-1-4205-0190-2",{"$f":"Table1[[#This Row],['# of Books]]*Table1[[#This Row],[QTY]]","v":0},{"$f":"Table1[[#This Row],[QTY]]*Table1[[#This Row],[School & Library Price]]","v":0}]
[null,null,67,null,null,"Current Issues","Hot Topics","Cliques","978-1-4205-0308-1",{"$f":"HYPERLINK(Table1[[#This Row],[Hyperlink]],\"Weblink\")","v":"Weblink"},"Lucent Press","Library Bound Book",1,"2011","January 2011","Library","7.000 X 9.000","Author","Toney Allman",null,null,null,null,"Z",null,"Grade 7","Grade 7 - 10","We've all been part of a clique, that exclusive group of individuals who are bonded together for various reasons. There's two sides to the existence of cliques; one is that it allows for important social bonds to form, the other is that group-think can be dangerous and harmful. This relevant edition examines the issue of cliques and their effects upon the people within and outside of them. Compelling examples and pertinent anecdotes teach readers about topics such as social cruelty, school violence, and the development of cliques.","English",39.4,31.52,"303.3/270835","112 pp.","https://greenhavenpublishing.com/978-1-4205-0308-1",{"$f":"Table1[[#This Row],['# of Books]]*Table1[[#This Row],[QTY]]","v":0},{"$f":"Table1[[#This Row],[QTY]]*Table1[[#This Row],[School & Library Price]]","v":0}]
[null,null,67,null,null,"Current Issues","Hot Topics","Distracted Driving","978-1-4205-1234-2",{"$f":"HYPERLINK(Table1[[#This Row],[Hyperlink]],\"Weblink\")","v":"Weblink"},"Lucent Press","eBook",1,"2015","January 2015",null,null,"Author","Toney Allman",null,null,null,null,"Z",null,"Grade 7","Grade 7 - 10","According to a Triple-A poll, 94 percent of teen drivers understand the dangers of texting while driving. The U.S. Department of Transportation states that in 2014, 3,179 people were killed in motor vehicle accidents involving distracted drivers. This important volume focuses on the issue of distracted driving. The book describes exactly what distracted driving is and how to prevent it. It provides several anecdotes describing various distracted driving behavior.","English",43.34,34.67,"363.12/51","104 pp.","https://greenhavenpublishing.com/978-1-4205-1234-2",{"$f":"Table1[[#This Row],['# of Books]]*Table1[[#This Row],[QTY]]","v":0},{"$f":"Table1[[#This Row],[QTY]]*Table1[[#This Row],[School & Library Price]]","v":0}]
[null,null,67,null,null,"Current Issues","Hot Topics","Fracking","978-1-4205-0869-7",{"$f":"HYPERLINK(Table1[[#This Row],[Hyperlink]],\"Weblink\")","v":"Weblink"},"Lucent Press","Library Bound Book",1,"2013","January 2013","Library","7.000 X 9.000","Author","Kevin Hillstrom",null,null,null,null,"Z",null,"Grade 7","Grade 7 - 10","According to Live Science, in the year 2000 there were approximately 276,000 natural gas wells in the United States. In 2010, that number soared to 510,000. The U.S. Energy Information Administration states that fracking is most profitable in Texas and in the Marcellus Shale area, which reaches from central New York to Ohio and down to Virginia. This timely volume explains what fracking is, how the process works, and describes the benefits and the drawbacks of this energy technology. Visually appealing presentations and compelling examples provide readers with context and inspire critical thought about the way fracking affects the earth.","English",39.4,31.52,"622/.3381","96 pp.","https://greenhavenpublishing.com/978-1-4205-0869-7",{"$f":"Table1[[#This Row],['# of Books]]*Table1[[#This Row],[QTY]]","v":0},{"$f":"Table1[[#This Row],[QTY]]*Table1[[#This Row],[School & Library Price]]","v":0}]
[null,null,67,null,null,"Current Issues","Hot Topics","Garbage and Recycling","978-1-4205-0147-6",{"$f":"HYPERLINK(Table1[[#This Row],[Hyperlink]],\"Weblink\")","v":"Weblink"},"Lucent Press","Library Bound Book",1,"2010","January 2010","Library","7.000 X 9.000","Author","Debra A. Miller",null,null,null,null,"Z",null,"Grade 7","Grade 7 - 10","The Environmental Protection Agency states that in the past 50 years, humans have consumed more resources than in all of previous history. Recycling, reuse, and remanufacturing account for 3.1 million jobs in America, according to American Solar Energy Society, yet our garbage accounts for 42 percent of U.S. greenhouse gas emissions. This pertinent resource examines issues surrounding garbage and recycling in America. Chapters explore topics such as dealing with hazardous waste, the global challenge of waste management, and strategies for future waste management.","English",39.4,31.52,"363.72/85","112 pp.","https://greenhavenpublishing.com/978-1-4205-0147-6",{"$f":"Table1[[#This Row],['# of Books]]*Table1[[#This Row],[QTY]]","v":0},{"$f":"Table1[[#This Row],[QTY]]*Table1[[#This Row],[School & Library Price]]","v":0}]
[null,null,67,null,null,"Current Issues","Hot Topics","Gay Rights","978-1-4205-0256-5",{"$f":"HYPERLINK(Table1[[#This Row],[Hyperlink]],\"Weblink\")","v":"Weblink"},"Lucent Press","eBook",1,"2006","January 2006",null,null,"Author","Tina Kafka",null,null,null,null,"Z",null,"Grade 7","Grade 7 - 10","Gay rights promote equality in all areas of life, including marriage and protection in the workplace. According to Gallup, 4.1 percent of Americans identify as LGBT, with growth highest in women, millennial, Hispanic, and Asian populations. Nearly 71,000 LGBT people currently serve in the armed forces, and 6 percent of children in foster care are being raised by LGBT people. This book provides thorough and balanced information on the topic of gay rights. Its visually appealing presentation and compelling examples provide context. Readers will be inspired to think critically about gay rights and the ways in which current legislation and debate impact their peers and community.","English",43.34,34.67,"323.3/264/0973","104 pp.","https://greenhavenpublishing.com/978-1-4205-0256-5",{"$f":"Table1[[#This Row],['# of Books]]*Table1[[#This Row],[QTY]]","v":0},{"$f":"Table1[[#This Row],[QTY]]*Table1[[#This Row],[School & Library Price]]","v":0}]
[null,null,68,null,null,"Current Issues","Hot Topics","Medical Marijuana","978-1-4205-0871-0",{"$f":"HYPERLINK(Table1[[#This Row],[Hyperlink]],\"Weblink\")","v":"Weblink"},"Lucent Press","Library Bound Book",1,"2014","January 2014","Library","7.000 X 9.000","Author","Kevin Hillstrom",null,null,null,null,"Z",null,"Grade 7","Grade 7 - 10","It has been widely documented that the use of marijuana has been used to help with seizures, pain, and nausea from several diseases. The FDA is yet to recognize the marijuana plant as medicine simply because not enough clinical trials support it as a finding. However, according to the National Institute of Health, two FDA-approved medications that contain cannabinoid chemicals are available in pill form. This relevant volume examines how various forms of marijuana have been used throughout history to treat illnesses, how marijuana works to heal various ailments in the present day, and dissects the pros and cons of legalizing marijuana for medicinal purposes.","English",39.4,31.52,"615.7/​827","104 pp.","https://greenhavenpublishing.com/978-1-4205-0871-0",{"$f":"Table1[[#This Row],['# of Books]]*Table1[[#This Row],[QTY]]","v":0},{"$f":"Table1[[#This Row],[QTY]]*Table1[[#This Row],[School & Library Price]]","v":0}]
[null,null,68,null,null,"Current Issues","Hot Topics","Natural Disaster Response","978-1-4205-1261-8",{"$f":"HYPERLINK(Table1[[#This Row],[Hyperlink]],\"Weblink\")","v":"Weblink"},"Lucent Press","eBook",1,"2015","January 2015",null,null,"Author","Laurie Collier Hillstrom",null,null,null,null,"Z",null,"Grade 7","Grade 7 - 10","According to Time Magazine, natural disasters have claimed 1.35 million lives between the years of 1994-2013. When inclement weather like winter storms, extreme cold, hurricanes, and tornados are predicted, the U.S. Food and Drug Administration reminds consumers to take extra precautions like storing water, food, and medical supplies. This essential book takes a look at recent global natural disasters and the various responses to them. Readers are provided with a balanced and comprehensive understanding of the topic through real world examples and guided narrative. Each chapter provides background on a recent disaster, analyzes what actions were taken as a result, and considers whether those actions proved effective. ","English",43.34,34.67,"363.34","104 pp.","https://greenhavenpublishing.com/978-1-4205-1261-8",{"$f":"Table1[[#This Row],['# of Books]]*Table1[[#This Row],[QTY]]","v":0},{"$f":"Table1[[#This Row],[QTY]]*Table1[[#This Row],[School & Library Price]]","v":0}]
[null,null,68,null,null,"Current Issues","Hot Topics","Nuclear Energy","978-1-4205-0874-1",{"$f":"HYPERLINK(Table1[[#This Row],[Hyperlink]],\"Weblink\")","v":"Weblink"},"Lucent Press","Library Bound Book",1,"2014","January 2014","Library","7.000 X 9.000","Author","Kevin Hillstrom",null,null,null,null,"Z",null,"Grade 7","Grade 7 - 10","The Nuclear Energy Institute states that a single uranium fuel pellet the size of pencil eraser contains the same amount of energy as 17,000 cubic feet of natural gas, 1,780 pounds of coal, or 149 gallons of oil. The NEI also cites the efficiency of the nuclear energy process since there are no emissions of carbon dioxide, nitrogen oxides, or sulfur dioxide. Yet, controversy surrounds the disposal of byproducts and radiation that are emitted as a result of the fission process. This illuminating book provides an introduction to the use of nuclear energy as a power source. It takes a broad view of nuclear power in the world's energy future. Chapters describe how nuclear power was discovered and how it works; the benefits of using nuclear energy, especially as an alternative to fossil fuels; the drawbacks of nuclear waste; and the safety concerns involved in operating a nuclear power plant. The book also looks at the latest developments in nuclear power and how these breakthroughs might affect future decisions about its use in the world. ","English",39.4,31.52,"333.792/4","96 pp.","https://greenhavenpublishing.com/978-1-4205-0874-1",{"$f":"Table1[[#This Row],['# of Books]]*Table1[[#This Row],[QTY]]","v":0},{"$f":"Table1[[#This Row],[QTY]]*Table1[[#This Row],[School & Library Price]]","v":0}]
[null,null,68,null,null,"Current Issues","Hot Topics","Organ Transplants","978-1-4205-0816-1",{"$f":"HYPERLINK(Table1[[#This Row],[Hyperlink]],\"Weblink\")","v":"Weblink"},"Lucent Press","Library Bound Book",1,"2012","January 2012","Library","7.000 X 9.000","Author","Melissa Abramovitz",null,null,null,null,"Z",null,"Grade 7","Grade 7 - 10","Every ten minutes someone is added to the national transplant waiting list according to the United Network for Organ Sharing. Currently, around 118,415 people need a lifesaving organ transplant. As transplants become more common, controversies over who should receive an organ and possible methods of increasing the organ supply have arisen. This book offers a comprehensive, and balanced discussion of the issues surrounding organ and tissue transplants. Readers will learn about the moral, ethical, and medical dilemmas that surface as science continues to develop new lifesaving and life-enhancing technologies.","English",39.4,31.52,"617.9/54","128 pp.","https://greenhavenpublishing.com/978-1-4205-0816-1",{"$f":"Table1[[#This Row],['# of Books]]*Table1[[#This Row],[QTY]]","v":0},{"$f":"Table1[[#This Row],[QTY]]*Table1[[#This Row],[School & Library Price]]","v":0}]
[null,null,68,null,null,"Current Issues","Hot Topics","Overweight America","978-1-4205-0257-2",{"$f":"HYPERLINK(Table1[[#This Row],[Hyperlink]],\"Weblink\")","v":"Weblink"},"Lucent Press","eBook",1,"2007","January 2007",null,null,"Author","Meryl Loonin",null,null,null,null,"Z",null,"Grade 7","Grade 7 - 10","More than 36.5 percent of adults in the U.S. are considered obese according to the Centers for Disease Control and Prevention. In 2008, the annual medical cost for people who are obese was 1,429 dollars higher than those in the normal range of weight. This essential edition examines the social problem of obesity in the United States. Readers will learn about weight and health in America, why Americans are overweight, and what role the food industry plays in obesity.","English",43.34,34.67,"362.196/398","104 pp.","https://greenhavenpublishing.com/978-1-4205-0257-2",{"$f":"Table1[[#This Row],['# of Books]]*Table1[[#This Row],[QTY]]","v":0},{"$f":"Table1[[#This Row],[QTY]]*Table1[[#This Row],[School & Library Price]]","v":0}]
[null,null,68,null,null,"Current Issues","Hot Topics","Standardized Testing","978-1-4205-1241-0",{"$f":"HYPERLINK(Table1[[#This Row],[Hyperlink]],\"Weblink\")","v":"Weblink"},"Lucent Press","Library Bound Book",1,"2015","January 2015","Library","7.000 X 9.000","Author","Carla Mooney",null,null,null,null,"Z",null,"Grade 7","Grade 7 - 10","The U.S. Department of Education believes that standardized testing is a normal way of assessing what students have learned. Although 81 percent of teachers believe that standardized testing is a fair way of assessing student progress, the pressure surrounding teacher assessment and test grades has produced anxiety among teachers and students alike. This illuminating volume details the controversy over standardized testing in U.S. schools. The book provides a history of standardized testing as well as its evolution over the last few decades.","English",39.4,31.52,"371.26","112 pp.","https://greenhavenpublishing.com/978-1-4205-1241-0",{"$f":"Table1[[#This Row],['# of Books]]*Table1[[#This Row],[QTY]]","v":0},{"$f":"Table1[[#This Row],[QTY]]*Table1[[#This Row],[School & Library Price]]","v":0}]
[null,null,68,null,null,"Current Issues","Hot Topics","Standardized Testing","978-1-4205-1242-7",{"$f":"HYPERLINK(Table1[[#This Row],[Hyperlink]],\"Weblink\")","v":"Weblink"},"Lucent Press","eBook",1,"2015","January 2015",null,null,"Author","Carla Mooney",null,null,null,null,"Z",null,"Grade 7","Grade 7 - 10","The U.S. Department of Education believes that standardized testing is a normal way of assessing what students have learned. Although 81 percent of teachers believe that standardized testing is a fair way of assessing student progress, the pressure surrounding teacher assessment and test grades has produced anxiety among teachers and students alike. This illuminating volume details the controversy over standardized testing in U.S. schools. The book provides a history of standardized testing as well as its evolution over the last few decades.","English",43.34,34.67,"371.26","112 pp.","https://greenhavenpublishing.com/978-1-4205-1242-7",{"$f":"Table1[[#This Row],['# of Books]]*Table1[[#This Row],[QTY]]","v":0},{"$f":"Table1[[#This Row],[QTY]]*Table1[[#This Row],[School & Library Price]]","v":0}]
[null,null,70,null,null,"Health & Medicine","Diseases and Disorders","Acne","978-1-4205-0317-3",{"$f":"HYPERLINK(Table1[[#This Row],[Hyperlink]],\"Weblink\")","v":"Weblink"},"Lucent Press","eBook",1,"2010","January 2010",null,null,"Author","Bonnie Juettner",null,null,null,null,"Z",null,"Grade 7","Grade 7 - 10","Acne is well known as a skin problem that plagues adolescents and adults with outbreaks of pimples on their faces and other body parts, but there are several types of acne, with different levels of severity. This overview of the skin disorder includes all types of acne, detailing the known causes and available treatments. Information is included on both traditional and alternative acne therapies, as well as new treatments currently being researched.","English",43.89,35.11,"616.5/3","104 pp.","https://greenhavenpublishing.com/978-1-4205-0317-3",{"$f":"Table1[[#This Row],['# of Books]]*Table1[[#This Row],[QTY]]","v":0},{"$f":"Table1[[#This Row],[QTY]]*Table1[[#This Row],[School & Library Price]]","v":0}]
[null,null,70,null,null,"Health & Medicine","Diseases and Disorders","Amnesia","978-1-4205-0207-7",{"$f":"HYPERLINK(Table1[[#This Row],[Hyperlink]],\"Weblink\")","v":"Weblink"},"Lucent Press","eBook",1,"2009","January 2009",null,null,"Author","Jennifer MacKay",null,null,null,null,"Z",null,"Grade 7","Grade 7 - 10","Once used as a dramatic plot twist in daytime soap operas, amnesia is a real condition that is frightening to suffers and can even be brought on by strokes. Author Jennifer MacKay provides young readers and researchers with careful explanations into what amnesia is. Readers will learn about the mystery of memory loss, and how the brain makes memories. They will learn about the causes and how amnesia is diagnosed. Treatment is also covered. Fast facts and data are further provided through interesting sidebars and charts","English",43.89,35.11,"616.85/232","104 pp.","https://greenhavenpublishing.com/978-1-4205-0207-7",{"$f":"Table1[[#This Row],['# of Books]]*Table1[[#This Row],[QTY]]","v":0},{"$f":"Table1[[#This Row],[QTY]]*Table1[[#This Row],[School & Library Price]]","v":0}]
[null,null,70,null,null,"Health & Medicine","Diseases and Disorders","Blindness","978-1-4205-0041-7",{"$f":"HYPERLINK(Table1[[#This Row],[Hyperlink]],\"Weblink\")","v":"Weblink"},"Lucent Press","Library Bound Book",1,"2008","January 2008","Library","6.000 X 9.000","Author","Hal Marcovitz",null,null,null,null,"Z",null,"Grade 7","Grade 7 - 10","About 80 percent of vision problems worldwide could be avoided or cured with prompt medical care and regular eye examinations. This essential volume discusses blindness, what causes it, how people live with blindness, and provides information about treatment and prevention. Photographs, illustrations, charts, and graphs support the text.","English",39.9,31.92,"617.7/12","104 pp.","https://greenhavenpublishing.com/978-1-4205-0041-7",{"$f":"Table1[[#This Row],['# of Books]]*Table1[[#This Row],[QTY]]","v":0},{"$f":"Table1[[#This Row],[QTY]]*Table1[[#This Row],[School & Library Price]]","v":0}]
[null,null,70,null,null,"Health & Medicine","Diseases and Disorders","Brain Trauma","978-1-4205-0112-4",{"$f":"HYPERLINK(Table1[[#This Row],[Hyperlink]],\"Weblink\")","v":"Weblink"},"Lucent Press","Library Bound Book",1,"2009","January 2009","Library","6.000 X 9.000","Author","Hal Marcovitz",null,null,null,null,"Z",null,"Grade 7","Grade 7 - 10","Author Hal Marcovitz explores brain trauma in detail, covering its causes and effects, treatments, prevention, and medical advances. Charts and graphs share important information visually while fascinating photographs support the text. Readers will also hear from sufferers through their personal stories.","English",39.9,31.92,"617.4/81044","104 pp.","https://greenhavenpublishing.com/978-1-4205-0112-4",{"$f":"Table1[[#This Row],['# of Books]]*Table1[[#This Row],[QTY]]","v":0},{"$f":"Table1[[#This Row],[QTY]]*Table1[[#This Row],[School & Library Price]]","v":0}]
[null,null,70,null,null,"Health & Medicine","Diseases and Disorders","Cerebral Palsy","978-1-4205-1008-9",{"$f":"HYPERLINK(Table1[[#This Row],[Hyperlink]],\"Weblink\")","v":"Weblink"},"Lucent Press","eBook",1,"2012","January 2012",null,null,"Author","Barbara Sheen",null,null,null,null,"Z",null,"Grade 7","Grade 7 - 10","Cerebral palsy is a disorder of movement, muscle tone, or posture that is caused by damage that occurs to the developing brain, most often before birth. This volume examines this condition, and explains diagnosis and treatment. Alternative treatments are explored, and a look forward is provided. Readers will also hear personal stories from sufferers.","English",43.89,35.11,"616.8/36","104 pp.","https://greenhavenpublishing.com/978-1-4205-1008-9",{"$f":"Table1[[#This Row],['# of Books]]*Table1[[#This Row],[QTY]]","v":0},{"$f":"Table1[[#This Row],[QTY]]*Table1[[#This Row],[School & Library Price]]","v":0}]
[null,null,70,null,null,"Health & Medicine","Diseases and Disorders","Childhood Obesity","978-1-4205-0179-7",{"$f":"HYPERLINK(Table1[[#This Row],[Hyperlink]],\"Weblink\")","v":"Weblink"},"Lucent Press","eBook",1,"2009","January 2009",null,null,"Author","Maxine Newman Jimerson",null,null,null,null,"Z",null,"Grade 7","Grade 7 - 10","Nearly 1 in 5 school-age children and young people in the United States has obesity. This must-have volume offers insight into childhood obesity, its effects, and treatment options available. Readers will learn about the increased health risks associated with the condition, and hear personal accounts from sufferers.","English",43.89,35.11,"618.92/398","112 pp.","https://greenhavenpublishing.com/978-1-4205-0179-7",{"$f":"Table1[[#This Row],['# of Books]]*Table1[[#This Row],[QTY]]","v":0},{"$f":"Table1[[#This Row],[QTY]]*Table1[[#This Row],[School & Library Price]]","v":0}]
[null,null,70,null,null,"Health & Medicine","Diseases and Disorders","COPD","978-1-4205-1239-7",{"$f":"HYPERLINK(Table1[[#This Row],[Hyperlink]],\"Weblink\")","v":"Weblink"},"Lucent Press","Library Bound Book",1,"2015","January 2015","Library","6.000 X 9.000","Author","Melissa Abramovitz",null,null,null,null,"Z",null,"Grade 7","Grade 7 - 10","COPD stands for Chronic Obstructive Pulmonary Disease, and it is the third leading cause of death in the United States. COPD is often under-diagnosed and under-treated. This book details how the disease impacts the patient, the care givers, what treatment options are available, and what future holds for people afflicted with COPD.","English",39.9,31.92,"616.2/4","112 pp.","https://greenhavenpublishing.com/978-1-4205-1239-7",{"$f":"Table1[[#This Row],['# of Books]]*Table1[[#This Row],[QTY]]","v":0},{"$f":"Table1[[#This Row],[QTY]]*Table1[[#This Row],[School & Library Price]]","v":0}]
[null,null,70,null,null,"Health & Medicine","Diseases and Disorders","COPD","978-1-4205-1240-3",{"$f":"HYPERLINK(Table1[[#This Row],[Hyperlink]],\"Weblink\")","v":"Weblink"},"Lucent Press","eBook",1,"2015","January 2015",null,null,"Author","Melissa Abramovitz",null,null,null,null,"Z",null,"Grade 7","Grade 7 - 10","COPD stands for Chronic Obstructive Pulmonary Disease, and it is the third leading cause of death in the United States. COPD is often under-diagnosed and under-treated. This book details how the disease impacts the patient, the care givers, what treatment options are available, and what future holds for people afflicted with COPD.","English",43.89,35.11,"616.2/4","112 pp.","https://greenhavenpublishing.com/978-1-4205-1240-3",{"$f":"Table1[[#This Row],['# of Books]]*Table1[[#This Row],[QTY]]","v":0},{"$f":"Table1[[#This Row],[QTY]]*Table1[[#This Row],[School & Library Price]]","v":0}]
[null,null,70,null,null,"Health & Medicine","Diseases and Disorders","Dementia","978-1-4205-0042-4",{"$f":"HYPERLINK(Table1[[#This Row],[Hyperlink]],\"Weblink\")","v":"Weblink"},"Lucent Press","Library Bound Book",1,"2009","January 2009","Library","6.000 X 9.000","Author","Lizabeth Hardman",null,null,null,null,"Z",null,"Grade 7","Grade 7 - 10","Dementia is a syndrome that affects memory, thinking, behavior and ability to perform everyday activities. The number of people living with dementia worldwide is currently estimated at 47 million and is projected to increase to 75 million by 2030. This essential guidebook offers young readers a means of understanding dementia. Careful explanations offer insight into what specific dementia conditions are, what may cause them, how people live with them, and the latest information about treatment and prevention. Included charts, diagrams, and fact boxes offer excellent information for report-writing and researching.","English",39.9,31.92,"616.8/3","112 pp.","https://greenhavenpublishing.com/978-1-4205-0042-4",{"$f":"Table1[[#This Row],['# of Books]]*Table1[[#This Row],[QTY]]","v":0},{"$f":"Table1[[#This Row],[QTY]]*Table1[[#This Row],[School & Library Price]]","v":0}]
[null,null,70,null,null,"Health & Medicine","Diseases and Disorders","Exercise Addiction","978-1-4205-0644-0",{"$f":"HYPERLINK(Table1[[#This Row],[Hyperlink]],\"Weblink\")","v":"Weblink"},"Lucent Press","eBook",1,"2011","January 2011",null,null,"Author","Leanne K. Currie-McGhee",null,null,null,null,"Z","1240L","Grade 7","Grade 7 - 10","An old adage tells us that everything in moderation is healthy, but what about exercise? Unfortunately there is such a thing as too much exercise and there are real victims of this addiction. It can cause extreme weight loss, overuse injuries, exhaustion, depression, and heart problems, among other serious problems. This volume provides young readers and researchers a means of understanding exercise addiction and its ramifications. Readers will learn what causes it, how people live with it, and the latest information about treatment and prevention.","English",43.89,35.11,"616.85/84","96 pp.","https://greenhavenpublishing.com/978-1-4205-0644-0",{"$f":"Table1[[#This Row],['# of Books]]*Table1[[#This Row],[QTY]]","v":0},{"$f":"Table1[[#This Row],[QTY]]*Table1[[#This Row],[School & Library Price]]","v":0}]
[null,null,70,null,null,"Health & Medicine","Diseases and Disorders","Fetal Alcohol Syndrome","978-1-4205-0906-9",{"$f":"HYPERLINK(Table1[[#This Row],[Hyperlink]],\"Weblink\")","v":"Weblink"},"Lucent Press","eBook",1,"2012","January 2012",null,null,"Author","Gail B. Stewart",null,null,null,null,"Z",null,"Grade 7","Grade 7 - 10","Alcohol is the leading cause of preventable birth defects and developmental disabilities in the United States. Fetal alcohol syndrome is the most severe of these abnormalities, and it is caused by heavy drinking during pregnancy. While addiction may be one of the factors, there are several factors as to why a woman would drink while pregnant, but there is no measured amount of alcohol that is deemed safe during pregnancy. This volume explores the causes of fetal alcohol syndrome and the spectrum of symptoms associated with it, which can be physical and psychological and fall within a wide range of severity. Author Gail B. Stewart also discusses the difficulty in diagnosing the disease and what researchers, teachers, and caregivers are doing to try to improve the lives of people with Fetal alcohol syndrome.","English",43.89,35.11,"618.3/26861","104 pp.","https://greenhavenpublishing.com/978-1-4205-0906-9",{"$f":"Table1[[#This Row],['# of Books]]*Table1[[#This Row],[QTY]]","v":0},{"$f":"Table1[[#This Row],[QTY]]*Table1[[#This Row],[School & Library Price]]","v":0}]
[null,null,70,null,null,"Health & Medicine","Diseases and Disorders","Flu","978-1-5901-8675-6",{"$f":"HYPERLINK(Table1[[#This Row],[Hyperlink]],\"Weblink\")","v":"Weblink"},"Lucent Press","Library Bound Book",1,"2007","January 2007","Library","6.000 X 9.000","Author","Barbara Sheen",null,null,null,null,"Z",null,"Grade 7","Grade 7 - 10","There are more than 3 million U.S. cases per year of the flu. It is an extremely common infection that can be deadly, especially in high-risk groups. While proper hygiene is to cover your mouth when you cough or sneeze, people don't always do that, almost guaranteeing that the tiny droplets of contagion will find a new host to infect. You can't always stay away from people who are sick either, so this condition just keeps going, relying on the variants that keep us exposed. This guidebook provides your readers with the straight facts. They will learn the history of our experience with the flu, its symptoms, diagnosis, and treatment. An entire chapter is dedicated to preventing the flu, which is a must-have set of information. Readers will also learn about flu pandemics and what the future may hold.","English",39.9,31.92,"616.2/​03--dc22","104 pp.","https://greenhavenpublishing.com/978-1-5901-8675-6",{"$f":"Table1[[#This Row],['# of Books]]*Table1[[#This Row],[QTY]]","v":0},{"$f":"Table1[[#This Row],[QTY]]*Table1[[#This Row],[School & Library Price]]","v":0}]
[null,null,70,null,null,"Health & Medicine","Diseases and Disorders","Infectious Mononucleosis","978-1-5901-8938-2",{"$f":"HYPERLINK(Table1[[#This Row],[Hyperlink]],\"Weblink\")","v":"Weblink"},"Lucent Press","Library Bound Book",1,"2008","January 2008","Library","6.000 X 9.000","Author","Hal Marcovitz",null,null,null,null,"Z",null,"Grade 7","Grade 7 - 10","There are more than 3 million cases per year of Infectious Mononucleosis, or the kissing disease, in America. Author Hal Marcovitz offers young readers and researchers a means of understanding this ailment and its ramifications. Readers will learn about diagnosis, treatment, and what it's like to live with the infection. They will learn whether it can spark other diseases. Most importantly, prevention is evenly covered so that young teens can make wise health choices in regards to mononucleosis infection.","English",39.9,31.92,"616.9/1122","104 pp.","https://greenhavenpublishing.com/978-1-5901-8938-2",{"$f":"Table1[[#This Row],['# of Books]]*Table1[[#This Row],[QTY]]","v":0},{"$f":"Table1[[#This Row],[QTY]]*Table1[[#This Row],[School & Library Price]]","v":0}]
[null,null,71,null,null,"Health & Medicine","Diseases and Disorders","Malnutrition","978-1-5901-8677-0",{"$f":"HYPERLINK(Table1[[#This Row],[Hyperlink]],\"Weblink\")","v":"Weblink"},"Lucent Press","Library Bound Book",1,"2007","January 2007","Library","6.000 X 9.000","Author","Don Nardo",null,null,null,null,"Z",null,"Grade 7","Grade 7 - 10","About 3 million young lives are lost each year globally due to malnutrition. This tragic statistic doesn't overshadow the fact that this condition doesn't have to even exist. Author Don Nardo explains what malnutrition is and its causes. Symptoms, diagnosis, and prevention are explained. Readers will learn about intentional malnutrition, such as eating disorders. They will learn about the world hunger crisis and possible solutions.","English",39.9,31.92,"616.3/9","104 pp.","https://greenhavenpublishing.com/978-1-5901-8677-0",{"$f":"Table1[[#This Row],['# of Books]]*Table1[[#This Row],[QTY]]","v":0},{"$f":"Table1[[#This Row],[QTY]]*Table1[[#This Row],[School & Library Price]]","v":0}]
[null,null,71,null,null,"Health & Medicine","Diseases and Disorders","Multiple Sclerosis","978-1-4205-0543-6",{"$f":"HYPERLINK(Table1[[#This Row],[Hyperlink]],\"Weblink\")","v":"Weblink"},"Lucent Press","eBook",1,"2010","January 2010",null,null,"Author","Melissa Abramovitz",null,null,null,null,"Z",null,"Grade 7","Grade 7 - 10","Multiple Sclerosis is a disease in which the immune system eats away at the protective sheath covering the nerves, interfering with the communication between the brain and the body. This book explains who gets the disorder and why, and how it affects the body. Diagnosis and current treatment options are discussed, as well as living with the disease. With full-color photographs and illustrations, this book offers the latest statistics along with information on new treatments, drugs, and future research.","English",43.89,35.11,"616.8/34","112 pp.","https://greenhavenpublishing.com/978-1-4205-0543-6",{"$f":"Table1[[#This Row],['# of Books]]*Table1[[#This Row],[QTY]]","v":0},{"$f":"Table1[[#This Row],[QTY]]*Table1[[#This Row],[School & Library Price]]","v":0}]
[null,null,71,null,null,"Health & Medicine","Diseases and Disorders","Osteoporosis","978-1-4205-0643-3",{"$f":"HYPERLINK(Table1[[#This Row],[Hyperlink]],\"Weblink\")","v":"Weblink"},"Lucent Press","eBook",1,"2011","January 2011",null,null,"Author","Melissa Abramovitz",null,null,null,null,"Z",null,"Grade 7","Grade 7 - 10","While osteoporosis or porous bones may not be a concern for your students as it is an aging disease, there are still things they can do to ensure that the gradual bone loss that will occur in their lives can be staved off. Because it's a common condition, it will touch their lives through people the love. This book helps to explain what it is, what causes it, and preventative measures that can be done at any age to curb the effects of bone lose. Medical advances are also discussed. The bright photographs, charts, diagrams, and sidebars share important information that is perfect for report writers and researchers.","English",43.89,35.11,"616.7/16","112 pp.","https://greenhavenpublishing.com/978-1-4205-0643-3",{"$f":"Table1[[#This Row],['# of Books]]*Table1[[#This Row],[QTY]]","v":0},{"$f":"Table1[[#This Row],[QTY]]*Table1[[#This Row],[School & Library Price]]","v":0}]
[null,null,71,null,null,"Health & Medicine","Diseases and Disorders","Parasitic Diseases","978-1-4205-1246-5",{"$f":"HYPERLINK(Table1[[#This Row],[Hyperlink]],\"Weblink\")","v":"Weblink"},"Lucent Press","eBook",1,"2015","January 2015",null,null,"Author","Lizabeth Craig",null,null,null,null,"Z",null,"Grade 7","Grade 7 - 10","According to the C.D.C., millions of Americans develop parasitic infections, but symptoms often go unnoticed or are misdiagnosed. From tapeworms to the \"cat poop parasite,\" parasites are all around us, and we're lucky if we somehow evade infection. This essential volume simplifies the complex concepts relating to parasitic infection and disease for readers who need to know what's going on around them. It details what parasitic diseases are, as well as the various types such as Protozoan, Helminth, and Ectoparasites. It discusses the causes and symptoms of each type of parasitic disease.","English",43.89,35.11,"616.9/6","128 pp.","https://greenhavenpublishing.com/978-1-4205-1246-5",{"$f":"Table1[[#This Row],['# of Books]]*Table1[[#This Row],[QTY]]","v":0},{"$f":"Table1[[#This Row],[QTY]]*Table1[[#This Row],[School & Library Price]]","v":0}]
[null,null,71,null,null,"Health & Medicine","Diseases and Disorders","Postpartum Depression","978-1-4205-0001-1",{"$f":"HYPERLINK(Table1[[#This Row],[Hyperlink]],\"Weblink\")","v":"Weblink"},"Lucent Press","Library Bound Book",1,"2008","January 2008","Library","6.000 X 9.000","Author","Debra A. Miller",null,null,null,null,"Z",null,"Grade 7","Grade 7 - 10","Giving birth is one of the most exciting processes that life has to offer, but with it can come serious depression for new mothers. Even women who carry still births or experience miscarriages can develop Postpartum Depression or P.P.D. This essential guide explains what happens when motherhood becomes a nightmare. The condition is explained along with diagnosis and treatment. Non-drug therapies are explored. Important focus is also paid to what P.P.D. does to other family members.","English",39.9,31.92,"618.7/6","104 pp.","https://greenhavenpublishing.com/978-1-4205-0001-1",{"$f":"Table1[[#This Row],['# of Books]]*Table1[[#This Row],[QTY]]","v":0},{"$f":"Table1[[#This Row],[QTY]]*Table1[[#This Row],[School & Library Price]]","v":0}]
[null,null,71,null,null,"Health & Medicine","Diseases and Disorders","Speech Disorders","978-1-4205-0221-3",{"$f":"HYPERLINK(Table1[[#This Row],[Hyperlink]],\"Weblink\")","v":"Weblink"},"Lucent Press","Library Bound Book",1,"2010","January 2010","Library","6.000 X 9.000","Author","Wendy Lanier",null,null,null,null,"Z",null,"Grade 7","Grade 7 - 10","This helpful guidebook explores speech disorders in detail, covering causes and effects, treatments, and medical advances. Readers will understand what it is like to live with speech disorders as well.","English",39.9,31.92,"616.85/5","96 pp.","https://greenhavenpublishing.com/978-1-4205-0221-3",{"$f":"Table1[[#This Row],['# of Books]]*Table1[[#This Row],[QTY]]","v":0},{"$f":"Table1[[#This Row],[QTY]]*Table1[[#This Row],[School & Library Price]]","v":0}]
[null,null,71,null,null,"Health & Medicine","Diseases and Disorders","Speech Disorders","978-1-4205-0358-6",{"$f":"HYPERLINK(Table1[[#This Row],[Hyperlink]],\"Weblink\")","v":"Weblink"},"Lucent Press","eBook",1,"2010","January 2010",null,null,"Author","Wendy Lanier",null,null,null,null,"Z",null,"Grade 7","Grade 7 - 10","This helpful guidebook explores speech disorders in detail, covering causes and effects, treatments, and medical advances. Readers will understand what it is like to live with speech disorders as well.","English",43.89,35.11,"616.85/5","96 pp.","https://greenhavenpublishing.com/978-1-4205-0358-6",{"$f":"Table1[[#This Row],['# of Books]]*Table1[[#This Row],[QTY]]","v":0},{"$f":"Table1[[#This Row],[QTY]]*Table1[[#This Row],[School & Library Price]]","v":0}]
[null,null,71,null,null,"Health & Medicine","Diseases and Disorders","Teen Depression","978-1-4205-1095-9",{"$f":"HYPERLINK(Table1[[#This Row],[Hyperlink]],\"Weblink\")","v":"Weblink"},"Lucent Press","eBook",1,"2013","January 2013",null,null,"Author","Peggy J. Parks",null,null,null,null,"Z",null,"Grade 7","Grade 7 - 10","Author Peggy J. Parks tackles a crucial reality of being a teenager, depression. She offers young readers and researchers a means of understanding depression and its ramifications. Readers will be given essential insight into what causes depression, how people live with it, and the latest information about diagnosis, treatment, and prevention.","English",43.89,35.11,"616.85/2700835","112 pp.","https://greenhavenpublishing.com/978-1-4205-1095-9",{"$f":"Table1[[#This Row],['# of Books]]*Table1[[#This Row],[QTY]]","v":0},{"$f":"Table1[[#This Row],[QTY]]*Table1[[#This Row],[School & Library Price]]","v":0}]
[null,null,71,null,null,"Health & Medicine","Diseases and Disorders","Waterborne Illnesses","978-1-4205-0935-9",{"$f":"HYPERLINK(Table1[[#This Row],[Hyperlink]],\"Weblink\")","v":"Weblink"},"Lucent Press","Library Bound Book",1,"2013","January 2013","Library","6.000 X 9.000","Author","Peggy J. Parks",null,null,null,null,"Z",null,"Grade 7","Grade 7 - 10","As Earth's population has continued to grow, reaching 7 billion people in 2011, much of the planet's available fresh water has become polluted, making it unfit for drinking, cooking, or bathing, and contributing to deadly maladies known as waterborne illnesses. This book will provide an overview of waterborne illnesses and explain the magnitude of the problem. Individual chapters focus on defining and explaining waterborne illnesses, such as Cholera, Dysentery, Hepatitis A, Polio, Typhoid Fever, and SARs, identifying sources of water contamination and geographic areas most affected, and exploring how natural disasters may greatly magnify the problem. Global efforts to prevent waterborne illness are also discussed.","English",39.9,31.92,"613.6/2","104 pp.","https://greenhavenpublishing.com/978-1-4205-0935-9",{"$f":"Table1[[#This Row],['# of Books]]*Table1[[#This Row],[QTY]]","v":0},{"$f":"Table1[[#This Row],[QTY]]*Table1[[#This Row],[School & Library Price]]","v":0}]
[null,null,71,null,null,"Health & Medicine","Diseases and Disorders","Whooping Cough","978-1-4205-0907-6",{"$f":"HYPERLINK(Table1[[#This Row],[Hyperlink]],\"Weblink\")","v":"Weblink"},"Lucent Press","eBook",1,"2012","January 2012",null,null,"Author","Toney Allman",null,null,null,null,"Z",null,"Grade 7","Grade 7 - 10","This guidebook discusses the causes and symptoms of whooping cough, as well as prevention methods and available treatments. Author Toney Allman uses riveting firsthand accounts to show readers the devastating reality of this often overlooked illness, and explains how whooping cough has become a reemerging disease in developed countries.","English",43.89,35.11,"616.2/04","104 pp.","https://greenhavenpublishing.com/978-1-4205-0907-6",{"$f":"Table1[[#This Row],['# of Books]]*Table1[[#This Row],[QTY]]","v":0},{"$f":"Table1[[#This Row],[QTY]]*Table1[[#This Row],[School & Library Price]]","v":0}]
[null,null,73,null,null,"U.S. History","Inside American Politics","Inside American Politics","978-1-5345-6678-1",{"$f":"HYPERLINK(Table1[[#This Row],[Hyperlink]],\"Weblink\")","v":"Weblink"},"Lucent Press","Library Set",6,"2019","January 2019","Library","7.250 X 9.250",null,null,null,null,null,null,null,null,"Grade 6","Grade 5 - 8","The American political system can be difficult to understand. Executive orders, filibusters, and the influence of political action committees and lobbyists aren't often discussed in detail in social studies classes, but they play a large role in how the U.S. government functions. Readers discover the facts behind these and other influential parts of American politics through age-appropriate text, informative fact boxes, and detailed sidebars. Full-color photographs give readers an inside look at how things really get done in Washington, D.C. This collection of timely topics is designed to help readers become informed and active citizens. Features include: Essential social studies curriculum topics, such as Supreme Court decisions, the three branches of U.S. government, and political compromises and deals are explained in a fresh and engaging way. Up-to-date examples give each volume the feeling of being ripped from the headlines, allowing readers to better understand current events. Discussion questions enhance critical-thinking skills and open readers' eyes to different political points of view.","English",201.6,161.28,null,"48 pp.","https://greenhavenpublishing.com/978-1-5345-6678-1",{"$f":"Table1[[#This Row],['# of Books]]*Table1[[#This Row],[QTY]]","v":0},{"$f":"Table1[[#This Row],[QTY]]*Table1[[#This Row],[School & Library Price]]","v":0}]
[null,null,73,null,null,"U.S. History","Inside American Politics","Executive Orders","978-1-5345-6660-6",{"$f":"HYPERLINK(Table1[[#This Row],[Hyperlink]],\"Weblink\")","v":"Weblink"},"Lucent Press","Library Bound Book",1,"2019","January 2019","Library","7.250 X 9.250","Author","Charlie Samuels",null,null,null,null,"W",null,"Grade 6","Grade 5 - 8","Although the U.S. Constitution set up a system of checks and balances, the president can sometimes act without the approval of Congress. When the president issues an executive order, they act on their own to manage the federal government, and this can affect many parts of life in the United States-from immigration policies to the military. How much power does the president actually have? Readers explore the answer to this question as they learn about the history of executive orders. Sidebars and discussion questions are included to encourage readers to think critically about this essential current events topic.","English",33.6,26.88,"352.23'50973--dc23","48 pp.","https://greenhavenpublishing.com/978-1-5345-6660-6",{"$f":"Table1[[#This Row],['# of Books]]*Table1[[#This Row],[QTY]]","v":0},{"$f":"Table1[[#This Row],[QTY]]*Table1[[#This Row],[School & Library Price]]","v":0}]
[null,null,73,null,null,"U.S. History","Inside American Politics","Filibusters","978-1-5345-6669-9",{"$f":"HYPERLINK(Table1[[#This Row],[Hyperlink]],\"Weblink\")","v":"Weblink"},"Lucent Press","Library Bound Book",1,"2019","January 2019","Library","7.250 X 9.250","Author","Anita Croy",null,null,null,null,"W",null,"Grade 6","Grade 5 - 8","Filibusters are often covered by the news media, but what is their purpose? How long can they last, and what are the rules that must be followed during a filibuster? Readers discover the answers to these and other common questions about this unique part of American politics as they explore some of the most famous filibusters in U.S. history, including recent filibusters by Wendy Davis and Nancy Pelosi. Sidebars encourage readers to become more active citizens, and discussion questions allow young people to examine their own opinions about the American political process.","English",33.6,26.88,"320.473'04--dc23","48 pp.","https://greenhavenpublishing.com/978-1-5345-6669-9",{"$f":"Table1[[#This Row],['# of Books]]*Table1[[#This Row],[QTY]]","v":0},{"$f":"Table1[[#This Row],[QTY]]*Table1[[#This Row],[School & Library Price]]","v":0}]
[null,null,73,null,null,"U.S. History","Inside American Politics","Political Action Committees","978-1-5345-6666-8",{"$f":"HYPERLINK(Table1[[#This Row],[Hyperlink]],\"Weblink\")","v":"Weblink"},"Lucent Press","Library Bound Book",1,"2019","January 2019","Library","7.250 X 9.250","Author","Charlie Samuels",null,null,null,null,"W",null,"Grade 6","Grade 5 - 8","Political action committees, campaign finance reform, and Super PACs are often discussed on the news, but the reasons why they are important are often difficult to understand. Through accessible language and relevant examples and photographs, readers discover the history of political action committees and how they continue to influence American politics. Discussion questions are included to strengthen critical-thinking skills, and sidebars encourage readers to see how individual citizens can continue to play a part in the political process even though they don't have the financial influence of political action committees.","English",33.6,26.88,"324'.40973--dc23","48 pp.","https://greenhavenpublishing.com/978-1-5345-6666-8",{"$f":"Table1[[#This Row],['# of Books]]*Table1[[#This Row],[QTY]]","v":0},{"$f":"Table1[[#This Row],[QTY]]*Table1[[#This Row],[School & Library Price]]","v":0}]
[null,null,73,null,null,"U.S. History","Inside American Politics","Political Action Committees","978-1-5345-6665-1",{"$f":"HYPERLINK(Table1[[#This Row],[Hyperlink]],\"Weblink\")","v":"Weblink"},"Lucent Press","Paperback Book",1,"2019","January 2019","Paperback","7.250 X 9.250","Author","Charlie Samuels",null,null,null,null,"W",null,"Grade 6","Grade 5 - 8","Political action committees, campaign finance reform, and Super PACs are often discussed on the news, but the reasons why they are important are often difficult to understand. Through accessible language and relevant examples and photographs, readers discover the history of political action committees and how they continue to influence American politics. Discussion questions are included to strengthen critical-thinking skills, and sidebars encourage readers to see how individual citizens can continue to play a part in the political process even though they don't have the financial influence of political action committees.","English",14.05,11.95,"324'.40973--dc23","48 pp.","https://greenhavenpublishing.com/978-1-5345-6665-1",{"$f":"Table1[[#This Row],['# of Books]]*Table1[[#This Row],[QTY]]","v":0},{"$f":"Table1[[#This Row],[QTY]]*Table1[[#This Row],[School & Library Price]]","v":0}]
[null,null,75,null,null,"World History","World History","The Age of Exploration","978-1-4205-0930-4",{"$f":"HYPERLINK(Table1[[#This Row],[Hyperlink]],\"Weblink\")","v":"Weblink"},"Lucent Press","Library Bound Book",1,"2013","January 2013","Library","7.000 X 9.000","Author","Andrew A. Kling",null,null,null,null,"Z","1200L","Grade 7","Grade 7 - 10","Swashbuckling pirates raiding treasure galleons and dashing explorers traversing the unknown; this is how many perceive the Age of Exploration. The quest to explore beyond the horizon was driven by more than a need to understand the unknown. Great political and financial prospects lured those individuals and nations who dared explore. This compelling volume offers readers an in-depth account of the eccentric characters, cutting-edge technologies, and the exotic locations, real and imagined, that drove exploration of the New World as well as the Old World. Chapters engage pertinent critical discussions including early exploration of trade routes through the Muslim world; Bartolomeu Dias sailing around the southern cape of Africa; Christopher Columbus reaching the Bahamas Islands, Cuba and Hispaniola; Vasco da Gama rounding Africa and reaches the Indian port of Calicut; and many more. The edition also offers readers a timeline, maps, quotations from primary source materials, and a thorough subject index. ","English",39.9,31.92,"910.9","112 pp.","https://greenhavenpublishing.com/978-1-4205-0930-4",{"$f":"Table1[[#This Row],['# of Books]]*Table1[[#This Row],[QTY]]","v":0},{"$f":"Table1[[#This Row],[QTY]]*Table1[[#This Row],[School & Library Price]]","v":0}]
[null,null,75,null,null,"World History","World History","American Counterculture of the 1960s","978-1-4205-0586-3",{"$f":"HYPERLINK(Table1[[#This Row],[Hyperlink]],\"Weblink\")","v":"Weblink"},"Lucent Press","eBook",1,"2011","January 2011",null,null,"Author","Richard Brownell",null,null,null,null,"Z",null,"Grade 7","Grade 7 - 10","Senator John F. Kennedy's 1960 presidential victory signaled a time of renewed hope and opportunity amid a bleak landscape of international tension. Within a few short years, however, Americans would find themselves coping with his untimely death, and fiercely divided over America's role in growing battles, both at home and abroad. A decade that many hoped would bring peace and prosperity began to morph into one of the most complex reactionary periods in history, with popular culture shifting and subverting the status quo in ways that would forever influence fashion, modern thought, philosophy, politics, and art. This volume focuses on the background, history, and effects of the American counterculture of the 1960s and features insights into public documents such as diaries, public records, and contemporary chronicles of the era.","English",43.89,35.11,"306/.1","96 pp.","https://greenhavenpublishing.com/978-1-4205-0586-3",{"$f":"Table1[[#This Row],['# of Books]]*Table1[[#This Row],[QTY]]","v":0},{"$f":"Table1[[#This Row],[QTY]]*Table1[[#This Row],[School & Library Price]]","v":0}]
[null,null,75,null,null,"World History","World History","China Since World War II","978-1-4205-0097-4",{"$f":"HYPERLINK(Table1[[#This Row],[Hyperlink]],\"Weblink\")","v":"Weblink"},"Lucent Press","Library Bound Book",1,"2008","January 2008","Library","7.000 X 9.000","Author","Michael V. Uschan",null,null,null,null,"Z",null,"Grade 7","Grade 7 - 10","After fall of the Qing dynasty, decades of civil war, and Japanese occupation, China emerged as a superpower in the second half of the twentieth century. Today, China's economy rivals the world's largest, the United States, in terms of growth, productivity, and innovation. This compelling volume analyzes China since the end of World War II. Chapters discuss the communist victory in the civil war, the consolidation of disparate provinces into a unified state, building a robust industrial economy out of an agrarian culture, and the challenges facing the country in an increasingly globalized world. ","English",39.9,31.92,"951.05","104 pp.","https://greenhavenpublishing.com/978-1-4205-0097-4",{"$f":"Table1[[#This Row],['# of Books]]*Table1[[#This Row],[QTY]]","v":0},{"$f":"Table1[[#This Row],[QTY]]*Table1[[#This Row],[School & Library Price]]","v":0}]
[null,null,75,null,null,"World History","World History","The History of Nursing","978-1-4205-0823-9",{"$f":"HYPERLINK(Table1[[#This Row],[Hyperlink]],\"Weblink\")","v":"Weblink"},"Lucent Press","Library Bound Book",1,"2014","January 2014","Library","7.000 X 9.000","Author","Lizabeth Craig",null,null,null,null,"Z","1250L","Grade 7","Grade 7 - 10","This fascinating edition traces the development of nursing, from its humble origin of unorganized volunteers to the highly skilled profession it has become. Readers will learn about the involvement of nurses in wars throughout history, as well as the challenges that the profession is currently facing.","English",39.9,31.92,"610.73","104 pp.","https://greenhavenpublishing.com/978-1-4205-0823-9",{"$f":"Table1[[#This Row],['# of Books]]*Table1[[#This Row],[QTY]]","v":0},{"$f":"Table1[[#This Row],[QTY]]*Table1[[#This Row],[School & Library Price]]","v":0}]
[null,null,75,null,null,"World History","World History","Influenza Pandemics","978-1-4205-0349-4",{"$f":"HYPERLINK(Table1[[#This Row],[Hyperlink]],\"Weblink\")","v":"Weblink"},"Lucent Press","Library Bound Book",1,"2011","January 2011","Library","7.000 X 9.000","Author","Lizabeth Hardman",null,null,null,null,"Z",null,"Grade 7","Grade 7 - 10","With antibiotics and rest, influenza is not fatal today. Yet at various times, influenza spread across the globe, reaching the stage of a pandemic. The pandemic of 1918-1919 resulted in the deaths of an estimated twenty-five million people worldwide, nearly three times the number of people killed during World War I. While the risk of death is low, influenza adapts to medical advances, and new strains pose serious challenges to existing antibiotic treatments. With accessible language, maps, and charts, this compelling volume analyzes the science and the political implications behind influenza pandemics. Chapters discuss relevant topics including what influence is and what it is not, influenza in the past, the pandemic of 1918, influenza in the twentieth century, and influenza and today and in the future.","English",39.9,31.92,"614.5/18","104 pp.","https://greenhavenpublishing.com/978-1-4205-0349-4",{"$f":"Table1[[#This Row],['# of Books]]*Table1[[#This Row],[QTY]]","v":0},{"$f":"Table1[[#This Row],[QTY]]*Table1[[#This Row],[School & Library Price]]","v":0}]
[null,null,75,null,null,"World History","World History","The Islamic Empire","978-1-4205-0802-4",{"$f":"HYPERLINK(Table1[[#This Row],[Hyperlink]],\"Weblink\")","v":"Weblink"},"Lucent Press","eBook",1,"2012","January 2012",null,null,"Author","Don Nardo",null,null,null,null,"Z","1260L","Grade 7","Grade 7 - 10","This must-have volume provides an overview of the rise and expansion of the Islamic Empire, Muslim conquests, and later dynasties and empires. Author Don Nardo presents a thorough and sensitive study of Islam's past and present. Readers will learn about Muhammad and early Muslim conquests. They will learn about Islam's golden age and its existence today. Full-color photographs, maps, illustrations, timelines, and sidebars support the text.","English",43.89,35.11,"956/.01","104 pp.","https://greenhavenpublishing.com/978-1-4205-0802-4",{"$f":"Table1[[#This Row],['# of Books]]*Table1[[#This Row],[QTY]]","v":0},{"$f":"Table1[[#This Row],[QTY]]*Table1[[#This Row],[School & Library Price]]","v":0}]
[null,null,76,null,null,"World History","World History","Polar Explorations","978-1-4205-0360-9",{"$f":"HYPERLINK(Table1[[#This Row],[Hyperlink]],\"Weblink\")","v":"Weblink"},"Lucent Press","Library Bound Book",1,"2011","January 2011","Library","7.000 X 9.000","Author","Don Nardo",null,null,null,null,"Z",null,"Grade 7","Grade 7 - 10","One the least understood places in the world, the North and South poles have captivated the imagine of scientists, adventurers, and ordinary people for centuries. With an abundance of natural resources, including crude oil, and the possibility for new scientific breakthroughs, the race to understand the poles has at various times led many nations to make political claims in a rush to exercise control over this terrain. This comprehensive volume offers detailed accounts of the major polar explorations, the political and scientific stakes in the quest to map and contain the Arctic and Antarctica. Chapters discuss the contest for the North Pole, the \"heroic age\" of exploration of the South Pole during the beginning of the twentieth century, the evolution of scientific technology and its effect on research in the harsh environment, and the trends in modern polar research. ","English",39.9,31.92,"910.911","104 pp.","https://greenhavenpublishing.com/978-1-4205-0360-9",{"$f":"Table1[[#This Row],['# of Books]]*Table1[[#This Row],[QTY]]","v":0},{"$f":"Table1[[#This Row],[QTY]]*Table1[[#This Row],[School & Library Price]]","v":0}]
[null,null,76,null,null,"World History","World History","Polar Explorations","978-1-4205-0689-1",{"$f":"HYPERLINK(Table1[[#This Row],[Hyperlink]],\"Weblink\")","v":"Weblink"},"Lucent Press","eBook",1,"2011","January 2011",null,null,"Author","Don Nardo",null,null,null,null,"Z",null,"Grade 7","Grade 7 - 10","One the least understood places in the world, the North and South poles have captivated the imagine of scientists, adventurers, and ordinary people for centuries. With an abundance of natural resources, including crude oil, and the possibility for new scientific breakthroughs, the race to understand the poles has at various times led many nations to make political claims in a rush to exercise control over this terrain. This comprehensive volume offers detailed accounts of the major polar explorations, the political and scientific stakes in the quest to map and contain the Arctic and Antarctica. Chapters discuss the contest for the North Pole, the \"heroic age\" of exploration of the South Pole during the beginning of the twentieth century, the evolution of scientific technology and its effect on research in the harsh environment, and the trends in modern polar research. ","English",43.89,35.11,"910.911","104 pp.","https://greenhavenpublishing.com/978-1-4205-0689-1",{"$f":"Table1[[#This Row],['# of Books]]*Table1[[#This Row],[QTY]]","v":0},{"$f":"Table1[[#This Row],[QTY]]*Table1[[#This Row],[School & Library Price]]","v":0}]
[null,null,76,null,null,"World History","World History","Slavery Through Ages","978-1-4205-1185-7",{"$f":"HYPERLINK(Table1[[#This Row],[Hyperlink]],\"Weblink\")","v":"Weblink"},"Lucent Press","eBook",1,"2014","January 2014",null,null,"Author","Don Nardo",null,null,null,null,"Z","1210L","Grade 7","Grade 7 - 10","Recorded instances of slavery date back to the eighteenth century B.C.E. China and slave practices continue to take place in many countries all over the world. Slavery takes many forms and degrees, often reflecting the values and fissures of the cultures in which it takes place. This necessary volume analyzes the complex history of slavery in accessible chapters supplemented by maps, charts, and timelines to facilitate discussion. Relevant topics provide a broad understanding of issues including: the earliest examples of slavery, Ancient Greece and slavery defined as normal, slavery in the Roman empire, the development of the early modern slave trade, the institution of slavery in the United States, and how slavery persists in the modern world.","English",43.89,35.11,"306.3/62","104 pp.","https://greenhavenpublishing.com/978-1-4205-1185-7",{"$f":"Table1[[#This Row],['# of Books]]*Table1[[#This Row],[QTY]]","v":0},{"$f":"Table1[[#This Row],[QTY]]*Table1[[#This Row],[School & Library Price]]","v":0}]
[null,null,76,null,null,"World History","World History","The Vikings","978-1-4205-0316-6",{"$f":"HYPERLINK(Table1[[#This Row],[Hyperlink]],\"Weblink\")","v":"Weblink"},"Lucent Press","Library Bound Book",1,"2011","January 2011","Library","7.000 X 9.000","Author","Don Nardo",null,null,null,null,"Z",null,"Grade 7","Grade 7 - 10","Known for hit-and-run raids that struck terror into the hearts of villagers across Europe during the Middle Ages, the Vikings were independent farmers but also daring explorers, sailing far from Scandinavia in search of new land to conquer and farm. Author Don Nardo unpacks the many myths surrounding the Vikings with this comprehensive account of the their culture and impact upon the course of history. Chapters approach the subject with accessible language, maps, and timelines to broaden student understanding and facilitate research. Topics discussed in this edition include: the origin of the Vikings, conquests and expansions, the nature of Viking communities, Norse mythology, explorations of the West, and the end of the Viking age. ","English",39.9,31.92,"948/.022","112 pp.","https://greenhavenpublishing.com/978-1-4205-0316-6",{"$f":"Table1[[#This Row],['# of Books]]*Table1[[#This Row],[QTY]]","v":0},{"$f":"Table1[[#This Row],[QTY]]*Table1[[#This Row],[School & Library Price]]","v":0}]
[null,null,77,null,null,"Biographies","The Twentieth Century's Most Influential Hispanics","Dolores Huerta: Labor Leader","978-1-5901-8971-9",{"$f":"HYPERLINK(Table1[[#This Row],[Hyperlink]],\"Weblink\")","v":"Weblink"},"Lucent Press","Library Bound Book",1,"2007","January 2007","Library","7.000 X 9.000","Author","Debra A. Miller",null,null,null,null,"Z",null,"Grade 7 - 10","Grade 7 - 11","\"Sí, se puede,\" was a phrase that became synonymous with this historical, impactful labor-rights activist. She was the co-founder of the National Farmworkers Association. This biography treats readers to her life story, including details of her birth, early upbringing, formative years and influences, and the accomplishments of Dolores Clara Fernández Huerta.","English",39.4,31.52,"331.4/​7813092","104 pp.","https://greenhavenpublishing.com/978-1-5901-8971-9",{"$f":"Table1[[#This Row],['# of Books]]*Table1[[#This Row],[QTY]]","v":0},{"$f":"Table1[[#This Row],[QTY]]*Table1[[#This Row],[School & Library Price]]","v":0}]
[null,null,77,null,null,"Biographies","The Twentieth Century's Most Influential Hispanics","Ellen Ochoa: First Female Hispanic Astronaut","978-1-5901-8976-4",{"$f":"HYPERLINK(Table1[[#This Row],[Hyperlink]],\"Weblink\")","v":"Weblink"},"Lucent Press","Library Bound Book",1,"2007","January 2007","Library","7.000 X 9.000","Author","John F. Wukovits",null,null,null,null,"Z",null,"Grade 7 - 10","Grade 7 - 11","The fascinating Ellen Ochoa became the first woman of Hispanic descent to go to space, where she served on a nine-day mission aboard the shuttle Discovery. She is now the director of NASA's Johnson Space Center, and will be inducted into the U.S. Astronaut Hall of Fame. Your readers will be thrilled to read her far-out biographical details, and will be inspired to seek their own exceptional goals.","English",39.4,31.52,"629.45/​0092","104 pp.","https://greenhavenpublishing.com/978-1-5901-8976-4",{"$f":"Table1[[#This Row],['# of Books]]*Table1[[#This Row],[QTY]]","v":0},{"$f":"Table1[[#This Row],[QTY]]*Table1[[#This Row],[School & Library Price]]","v":0}]
[null,null,77,null,null,"Biographies","The Twentieth Century's Most Influential Hispanics","Rigoberta Menchu: Indian Rights Activist","978-1-5901-8975-7",{"$f":"HYPERLINK(Table1[[#This Row],[Hyperlink]],\"Weblink\")","v":"Weblink"},"Lucent Press","Library Bound Book",1,"2007","January 2007","Library","7.000 X 9.000","Author","Stuart A. Kallen",null,null,null,null,"Z",null,"Grade 7 - 10","Grade 7 - 11","This Nobel Peace Prize winner was born into a poor Indian peasant family, and raised in the Quiche branch of the Mayan culture. Her family paid extreme costs for being affiliated with the CUC, or Committee of the Peasant Union. Her father was murdered, her brother was beaten, tortured, and murdered, and her mother died after having been arrested, tortured, and raped by the armies set out to destroy the CUC and anyone speaking out against unfair worker practices. She is a leading advocate of Indian rights and ethno-cultural reconciliation, but death threats have forced her to return into exile. Introduce your readers to this powerful, unstoppable woman.","English",39.4,31.52,"305.80097281","104 pp.","https://greenhavenpublishing.com/978-1-5901-8975-7",{"$f":"Table1[[#This Row],['# of Books]]*Table1[[#This Row],[QTY]]","v":0},{"$f":"Table1[[#This Row],[QTY]]*Table1[[#This Row],[School & Library Price]]","v":0}]
[null,null,78,null,null,"Current Issues","Classified: Secrets You're Not Supposed to Know","Classified: Secrets You're Not Supposed to Know","978-1-5345-6465-7",{"$f":"HYPERLINK(Table1[[#This Row],[Hyperlink]],\"Weblink\")","v":"Weblink"},"Lucent Press","Single Copy Set",6,"2019","August 2018","Paperback","7.250 X 9.250",null,null,null,null,null,null,null,null,"Grade 6","Grade 5 - 8","Readers will be captivated by this inside look at the world of secrecy surrounding their daily lives. The exciting main text exposes the secrets concealed by trusted organizations and companies we interact with regularly, while also revealing what criminal activity may only be a mouse click away. These books take an in-depth look at controversial subjects, such as intelligence agencies, conspiracies, surveillance, big business and big data, and the dark web. The engaging text encourages young people to question the world around them. Informative fact boxes, vivid color photographs, and detailed sidebars provide additional insight into this fascinating topic. Features include: Readers enhance their critical thinking skills as they explore sidebars that ask them what they would do in challenging situations related to each topic. Readers are invited to join the debate surrounding controversial topics by examining the pros and cons before developing an informed opinion. Eye-catching design elements draw readers into these secret worlds.","English",84.3,71.7,null,"48 pp.","https://greenhavenpublishing.com/978-1-5345-6465-7",{"$f":"Table1[[#This Row],['# of Books]]*Table1[[#This Row],[QTY]]","v":0},{"$f":"Table1[[#This Row],[QTY]]*Table1[[#This Row],[School & Library Price]]","v":0}]
[null,null,78,null,null,"Current Issues","Classified: Secrets You're Not Supposed to Know","Conspiracies: Who’s Hiding What?","978-1-5345-6434-3",{"$f":"HYPERLINK(Table1[[#This Row],[Hyperlink]],\"Weblink\")","v":"Weblink"},"Lucent Press","eBook",1,"2019","August 2018",null,null,"Author","Ellis Roxburgh",null,null,null,null,"V",null,"Grade 6","Grade 5 - 8","What is a conspiracy theory? Why do people like conspiracy theories? What are some of the most infamous conspiracies in history? These questions and more are answered in this captivating text. While gaining insight into this exciting and controversial topic, readers will learn to think more critically about the world around them. Colorful photographs, detailed fact boxes, and informational sidebars accompany this fun and fact-filled text. Readers are exposed to a whole new way of looking at facts that are labeled as true and learning how to use reputable sources to prove or disprove what they have been told.","English",33.6,26.88,"001.9--dc23","48 pp.","https://greenhavenpublishing.com/978-1-5345-6434-3",{"$f":"Table1[[#This Row],['# of Books]]*Table1[[#This Row],[QTY]]","v":0},{"$f":"Table1[[#This Row],[QTY]]*Table1[[#This Row],[School & Library Price]]","v":0}]
[null,null,78,null,null,"Current Issues","Classified: Secrets You're Not Supposed to Know","The Dark Web: The Covert World of Cybercrime","978-1-5345-6442-8",{"$f":"HYPERLINK(Table1[[#This Row],[Hyperlink]],\"Weblink\")","v":"Weblink"},"Lucent Press","Library Bound Book",1,"2019","August 2018","Library","7.250 X 9.250","Author","Anita Croy",null,null,null,null,"V",null,"Grade 6","Grade 5 - 8","What types of crimes are constructed on the dark web? This question and many more are answered in this engaging exploration of cybercrime. Many criminals use the dark web for hiding their secret information and may also use it for committing crimes to potentially harm the public. These crimes, which include identity theft, terrorism, and cyber warfare, are all covered in the thorough yet accessible main text. Vibrant full-color photographs and informational fact boxes enhance readers’ knowledge of this mysterious topic, and sidebars provide even more important facts to help readers think critically about how the Internet is used.","English",33.6,26.88,"364.16'8--dc23","48 pp.","https://greenhavenpublishing.com/978-1-5345-6442-8",{"$f":"Table1[[#This Row],['# of Books]]*Table1[[#This Row],[QTY]]","v":0},{"$f":"Table1[[#This Row],[QTY]]*Table1[[#This Row],[School & Library Price]]","v":0}]
[null,null,78,null,null,"Current Issues","Classified: Secrets You're Not Supposed to Know","Intelligence Agencies: Life in the Shadows","978-1-5345-6437-4",{"$f":"HYPERLINK(Table1[[#This Row],[Hyperlink]],\"Weblink\")","v":"Weblink"},"Lucent Press","eBook",1,"2019","August 2018",null,null,"Author","Ellis Roxburgh",null,null,null,null,"V",null,"Grade 6","Grade 5 - 8","Whose job is it to keep international secrets hidden and gather information in secretive ways? Readers are exposed to the exciting, and sometimes controversial, world of intelligence agencies in this detailed text. Intelligence agencies, such as the Federal Bureau of Investigation and Central Intelligence Agency, are covered in this engaging main text, which is supplemented with eye-catching, full-color photographs, helpful fact boxes, and fact-filled sidebars. Readers also learn about how these agencies manage spies, propaganda, and incoming threats.","English",33.6,26.88,"327.12--dc23","48 pp.","https://greenhavenpublishing.com/978-1-5345-6437-4",{"$f":"Table1[[#This Row],['# of Books]]*Table1[[#This Row],[QTY]]","v":0},{"$f":"Table1[[#This Row],[QTY]]*Table1[[#This Row],[School & Library Price]]","v":0}]
[null,null,78,null,null,"Current Issues","Classified: Secrets You're Not Supposed to Know","The Underworld: Criminals in Action","978-1-5345-6447-3",{"$f":"HYPERLINK(Table1[[#This Row],[Hyperlink]],\"Weblink\")","v":"Weblink"},"Lucent Press","Paperback Book",1,"2019","August 2018","Paperback","7.250 X 9.250","Author","Anita Croy",null,null,null,null,"V",null,"Grade 6","Grade 5 - 8","There are numerous underground organizations of crime hidden from the public. These criminals work diligently to keep their crimes secret in order to successfully execute their deceitful and dangerous missions. Through this accessible and age-appropriate text, readers are given an in-depth look at secretive subjects such as organized crime, corruption in politics, fraud schemes, phishing and spam, and the drug trade. Vibrant full-color photographs, detailed fact boxes, and engaging sidebars provide readers with additional insight into this fascinating and timely topic.","English",14.05,11.95,"364.106--dc23","48 pp.","https://greenhavenpublishing.com/978-1-5345-6447-3",{"$f":"Table1[[#This Row],['# of Books]]*Table1[[#This Row],[QTY]]","v":0},{"$f":"Table1[[#This Row],[QTY]]*Table1[[#This Row],[School & Library Price]]","v":0}]
[null,null,79,null,null,"Health & Medicine","Nutrition & Health","Childhood Obesity","978-1-4205-0723-2",{"$f":"HYPERLINK(Table1[[#This Row],[Hyperlink]],\"Weblink\")","v":"Weblink"},"Lucent Press","Library Bound Book",1,"2012","January 2012","Library","7.000 X 9.000","Author","Leanne K. Currie-McGhee",null,null,null,null,"Z",null,"Grade 7 - 10","Grade 7 - 11","There are more than 3 million cases of childhood obesity reported every year in the United States. That is 3,000,000 children and teens, just within America. This crucial volume investigates the global issue of childhood obesity. Causes of and proposed solutions to this public health issue are explored, and the findings of current studies are detailed. The text features comments from scientists and researchers, but also includes first-hand accounts from children and teens who have struggled with obesity.","English",35.700000000000003,28.56,"618.92/398","104 pp.","https://greenhavenpublishing.com/978-1-4205-0723-2",{"$f":"Table1[[#This Row],['# of Books]]*Table1[[#This Row],[QTY]]","v":0},{"$f":"Table1[[#This Row],[QTY]]*Table1[[#This Row],[School & Library Price]]","v":0}]
[null,null,79,null,null,"Health & Medicine","Nutrition & Health","Childhood Obesity","978-1-4205-0963-2",{"$f":"HYPERLINK(Table1[[#This Row],[Hyperlink]],\"Weblink\")","v":"Weblink"},"Lucent Press","eBook",1,"2012","January 2012",null,null,"Author","Leanne K. Currie-McGhee",null,null,null,null,"Z",null,"Grade 7 - 10","Grade 7 - 11","There are more than 3 million cases of childhood obesity reported every year in the United States. That is 3,000,000 children and teens, just within America. This crucial volume investigates the global issue of childhood obesity. Causes of and proposed solutions to this public health issue are explored, and the findings of current studies are detailed. The text features comments from scientists and researchers, but also includes first-hand accounts from children and teens who have struggled with obesity.","English",39.270000000000003,31.42,"618.92/398","104 pp.","https://greenhavenpublishing.com/978-1-4205-0963-2",{"$f":"Table1[[#This Row],['# of Books]]*Table1[[#This Row],[QTY]]","v":0},{"$f":"Table1[[#This Row],[QTY]]*Table1[[#This Row],[School & Library Price]]","v":0}]
[null,null,79,null,null,"Health & Medicine","Nutrition & Health","Environmental Pollution and Health","978-1-4205-1149-9",{"$f":"HYPERLINK(Table1[[#This Row],[Hyperlink]],\"Weblink\")","v":"Weblink"},"Lucent Press","Library Bound Book",1,"2015","January 2015","Library","7.000 X 9.000","Author","Laurie Collier Hillstrom",null,null,null,null,"Z",null,"Grade 7 - 10","Grade 7 - 11","Author Laurie Collier Hillstrom focuses on the how pollution impacts both human health as well as environmental health. This book discusses the types of pollution, increased awareness of pollution, and the negative consequences it has on health. Full-color photographs and diagrams, a glossary, sources for further reading and research, and a detailed subject index are also included.","English",35.700000000000003,28.56,"613/.1","104 pp.","https://greenhavenpublishing.com/978-1-4205-1149-9",{"$f":"Table1[[#This Row],['# of Books]]*Table1[[#This Row],[QTY]]","v":0},{"$f":"Table1[[#This Row],[QTY]]*Table1[[#This Row],[School & Library Price]]","v":0}]
[null,null,79,null,null,"Health & Medicine","Nutrition & Health","Food Regulation and Safety","978-1-4205-1010-2",{"$f":"HYPERLINK(Table1[[#This Row],[Hyperlink]],\"Weblink\")","v":"Weblink"},"Lucent Press","eBook",1,"2012","January 2012",null,null,"Author","Kevin Hillstrom",null,null,null,null,"Z",null,"Grade 7 - 10","Grade 7 - 11","Author Kevin Hillstrom explores the history and current state of food regulation and safety in the United States. This book covers possible sources of food contamination, recent and historical outbreaks of foodborne illnesses, and various laws and U.S. agencies that attempt to ensure food safety. Multiple viewpoints are offered, with opinions from advocates for reforming the government's food safety programs, supporters of the government's programs, and people who say the U.S. food industry is among the safest in the world. Several scientists, researchers, and journalists are also quoted on various aspects of the issue.","English",39.270000000000003,31.42,"363.19/2","104 pp.","https://greenhavenpublishing.com/978-1-4205-1010-2",{"$f":"Table1[[#This Row],['# of Books]]*Table1[[#This Row],[QTY]]","v":0},{"$f":"Table1[[#This Row],[QTY]]*Table1[[#This Row],[School & Library Price]]","v":0}]
[null,null,79,null,null,"Health & Medicine","Nutrition & Health","Junk Food Junkies","978-1-4205-0271-8",{"$f":"HYPERLINK(Table1[[#This Row],[Hyperlink]],\"Weblink\")","v":"Weblink"},"Lucent Press","Library Bound Book",1,"2011","January 2011","Library","7.000 X 9.000","Author","Carla Mooney",null,null,null,null,"Z",null,"Grade 7 - 10","Grade 7 - 11","Author Carla Mooney tackles a topic that is near and dear to people who love munching on snack food. She explores the popularity of junk food and how it is affecting public health. Readers will look at marketing methods designed to promote consumption of junk food, and ways that people are trying to avoid diets rich in junk food. Helpful strategies for incorporating healthier food choices into our diets are included.","English",35.700000000000003,28.56,"641.5/638","104 pp.","https://greenhavenpublishing.com/978-1-4205-0271-8",{"$f":"Table1[[#This Row],['# of Books]]*Table1[[#This Row],[QTY]]","v":0},{"$f":"Table1[[#This Row],[QTY]]*Table1[[#This Row],[School & Library Price]]","v":0}]
[null,null,79,null,null,"Health & Medicine","Nutrition & Health","Organic Foods","978-1-4205-1243-4",{"$f":"HYPERLINK(Table1[[#This Row],[Hyperlink]],\"Weblink\")","v":"Weblink"},"Lucent Press","Library Bound Book",1,"2015","January 2015","Library","7.000 X 9.000","Author","Jennifer MacKay",null,null,null,null,"Z",null,"Grade 7 - 10","Grade 7 - 11","Organic food is everywhere, and in most cases, is more costly than readily available produced foods. This book evaluates and explains the benefits of going organic. It details how consumers can find true organic foods while shopping and how best to prepare them.","English",35.700000000000003,28.56,"631.5/84","104 pp.","https://greenhavenpublishing.com/978-1-4205-1243-4",{"$f":"Table1[[#This Row],['# of Books]]*Table1[[#This Row],[QTY]]","v":0},{"$f":"Table1[[#This Row],[QTY]]*Table1[[#This Row],[School & Library Price]]","v":0}]
[null,null,79,null,null,"Health & Medicine","Nutrition & Health","Sleep Problems","978-1-4205-1170-3",{"$f":"HYPERLINK(Table1[[#This Row],[Hyperlink]],\"Weblink\")","v":"Weblink"},"Lucent Press","eBook",1,"2014","January 2014",null,null,"Author","Don Nardo",null,null,null,null,"Z",null,"Grade 7 - 10","Grade 7 - 11","Everyone knows that a good night's sleep can make all the difference in the world. This volume talks about sleep disorders. It describes the different types of sleep disorders, what research suggests about the causes of sleep disorders, and how sleep disorders are treated and prevented.","English",39.270000000000003,31.42,"616.8/498","104 pp.","https://greenhavenpublishing.com/978-1-4205-1170-3",{"$f":"Table1[[#This Row],['# of Books]]*Table1[[#This Row],[QTY]]","v":0},{"$f":"Table1[[#This Row],[QTY]]*Table1[[#This Row],[School & Library Price]]","v":0}]
[null,null,79,null,null,"Health & Medicine","Nutrition & Health","Vegan Diets","978-1-4205-1151-2",{"$f":"HYPERLINK(Table1[[#This Row],[Hyperlink]],\"Weblink\")","v":"Weblink"},"Lucent Press","Library Bound Book",1,"2014","January 2014","Library","7.000 X 9.000","Author","Don Nardo",null,null,null,null,"Z",null,"Grade 7 - 10","Grade 7 - 11","Vegans don't just follow a diet, they follow a lifestyle. They avoid eating and using animal products. Readers will learn further definitions and sub groups. This volume addresses why people choose to go vegan, and shares the health implications of that choice. It also delves into the ethics of veganism and how companies and restaurants are accommodating the vegan lifestyle. Full-color photographs and diagrams, a glossary, sources for further reading and research, and a detailed subject index are also included.","English",35.700000000000003,28.56,"613.2/622","104 pp.","https://greenhavenpublishing.com/978-1-4205-1151-2",{"$f":"Table1[[#This Row],['# of Books]]*Table1[[#This Row],[QTY]]","v":0},{"$f":"Table1[[#This Row],[QTY]]*Table1[[#This Row],[School & Library Price]]","v":0}]
[null,null,80,null,null,"Health & Medicine","Drug Education Library","The Dangers of Diet Drugs","978-1-5345-6005-5",{"$f":"HYPERLINK(Table1[[#This Row],[Hyperlink]],\"Weblink\")","v":"Weblink"},"Lucent Press","Library Bound Book",1,"2017","January 2017","Library","6.000 X 9.000","Author, Author","Christina McMahon, Hal Marcovitz",null,null,null,null,"Z",null,"Grade 7","Grade 7 - 10","Young adults are faced with pressure from friends, family, and the media not to become overweight. Many struggle with self-esteem issues as a result, and someone who has trouble keeping his or her weight down may turn to dangerous diet drugs for a quick fix. Readers learn about the consequences of taking these pills through accessible text and informative graphs. A list of organizations is included where young adults can find more information about healthy alternatives to diet drugs.","English",37.450000000000003,29.96,"613.2’5","104 pp.","https://greenhavenpublishing.com/978-1-5345-6005-5",{"$f":"Table1[[#This Row],['# of Books]]*Table1[[#This Row],[QTY]]","v":0},{"$f":"Table1[[#This Row],[QTY]]*Table1[[#This Row],[School & Library Price]]","v":0}]
[null,null,80,null,null,"Health & Medicine","Drug Education Library","The Dangers of Diet Drugs","978-1-5345-6006-2",{"$f":"HYPERLINK(Table1[[#This Row],[Hyperlink]],\"Weblink\")","v":"Weblink"},"Lucent Press","eBook",1,"2017","January 2017",null,null,"Author, Author","Christina McMahon, Hal Marcovitz",null,null,null,null,"Z",null,"Grade 7","Grade 7 - 10","Young adults are faced with pressure from friends, family, and the media not to become overweight. Many struggle with self-esteem issues as a result, and someone who has trouble keeping his or her weight down may turn to dangerous diet drugs for a quick fix. Readers learn about the consequences of taking these pills through accessible text and informative graphs. A list of organizations is included where young adults can find more information about healthy alternatives to diet drugs.","English",37.450000000000003,29.96,"613.2’5","104 pp.","https://greenhavenpublishing.com/978-1-5345-6006-2",{"$f":"Table1[[#This Row],['# of Books]]*Table1[[#This Row],[QTY]]","v":0},{"$f":"Table1[[#This Row],[QTY]]*Table1[[#This Row],[School & Library Price]]","v":0}]
[null,null,80,null,null,"Health & Medicine","Drug Education Library","Heroin: Killer Drug Epidemic","978-1-5345-6010-9",{"$f":"HYPERLINK(Table1[[#This Row],[Hyperlink]],\"Weblink\")","v":"Weblink"},"Lucent Press","eBook",1,"2017","January 2017",null,null,"Author","Nicole Horning",null,null,null,null,"Z",null,"Grade 7","Grade 7 - 10","Young adults who abuse prescription opioids may turn to heroin later on, as it gives the same type of high but can be cheaper and easier to obtain than prescriptions. Knowing the health risks associated with heroin abuse can help young adults avoid falling into the traps of both kinds of drugs. Incorporating full-color photographs and detailed charts, this volume illustrates the severe health threat heroin poses. A list of antidrug organizations is provided for readers to learn more about this dangerous drug epidemic.","English",37.450000000000003,29.96,"616.86’32","104 pp.","https://greenhavenpublishing.com/978-1-5345-6010-9",{"$f":"Table1[[#This Row],['# of Books]]*Table1[[#This Row],[QTY]]","v":0},{"$f":"Table1[[#This Row],[QTY]]*Table1[[#This Row],[School & Library Price]]","v":0}]
[null,null,80,null,null,"Health & Medicine","Drug Education Library","Steroids and Other Performance-Enhancing Drugs","978-1-5345-6003-1",{"$f":"HYPERLINK(Table1[[#This Row],[Hyperlink]],\"Weblink\")","v":"Weblink"},"Lucent Press","Library Bound Book",1,"2017","January 2017","Library","6.000 X 9.000","Author, Author","Christine Honders, Tamara L. Roleff",null,null,null,null,"Z",null,"Grade 7","Grade 7 - 10","While steroids are medically useful in small, prescribed doses, they are too often abused in sports alongside other performance-enhancing drugs. Young athletes may feel their natural performance is not good enough, so they may turn to these drugs to get ahead. Young athletes are informed about the risky effects of abusing these drugs to combat the allure of being perceived as a better player. Sidebars and full-color photographs help portray the dangerous consequences of this type of drug abuse.","English",37.450000000000003,29.96,"362.29’9","112 pp.","https://greenhavenpublishing.com/978-1-5345-6003-1",{"$f":"Table1[[#This Row],['# of Books]]*Table1[[#This Row],[QTY]]","v":0},{"$f":"Table1[[#This Row],[QTY]]*Table1[[#This Row],[School & Library Price]]","v":0}]
[null,null,81,null,null,"Science and Technology","Science Behind Sports","Basketball: Science on the Court","978-1-5345-6109-0",{"$f":"HYPERLINK(Table1[[#This Row],[Hyperlink]],\"Weblink\")","v":"Weblink"},"Lucent Press","eBook",1,"2018","August 2017",null,null,"Author","Emily Mahoney",null,null,null,null,"Z","1210L","Grade 7","Grade 7 - 10","Slam dunks, quick passes, and jump shots are all actions of scientific principles, and readers discover why as they explore the ways physics, biology, and other areas of science are applied in the game of basketball. As readers take in details from fact boxes, sidebars, and diagrams, they learn the combination of science, technology, engineering, and math on the basketball court. They'll also find fun photographs of some of the sport's biggest stars using science to score.","English",39.4,31.52,"796.323--dc23","112 pp.","https://greenhavenpublishing.com/978-1-5345-6109-0",{"$f":"Table1[[#This Row],['# of Books]]*Table1[[#This Row],[QTY]]","v":0},{"$f":"Table1[[#This Row],[QTY]]*Table1[[#This Row],[School & Library Price]]","v":0}]
[null,null,81,null,null,"Science and Technology","Science Behind Sports","Bowling","978-1-4205-1251-9",{"$f":"HYPERLINK(Table1[[#This Row],[Hyperlink]],\"Weblink\")","v":"Weblink"},"Lucent Press","Library Bound Book",1,"2015","January 2015","Library","7.000 X 9.000","Author","Melissa Abramovitz",null,null,null,null,"Z","1260L","Grade 7","Grade 7 - 10","There's a lot more to bowling that hurdling a large round ball at a bunch of pins. There's science at play. This book, through plenty of diagrams and illustrations, provides students with easy ways to relate to the new science concepts they're learning. This volume also discusses the history of bowling and sports-related injuries.","English",39.4,31.52,"794.6","120 pp.","https://greenhavenpublishing.com/978-1-4205-1251-9",{"$f":"Table1[[#This Row],['# of Books]]*Table1[[#This Row],[QTY]]","v":0},{"$f":"Table1[[#This Row],[QTY]]*Table1[[#This Row],[School & Library Price]]","v":0}]
[null,null,81,null,null,"Science and Technology","Science Behind Sports","Cheerleading","978-1-4205-0971-7",{"$f":"HYPERLINK(Table1[[#This Row],[Hyperlink]],\"Weblink\")","v":"Weblink"},"Lucent Press","eBook",1,"2012","January 2012",null,null,"Author","Heather E. Schwartz",null,null,null,null,"Z","1190L","Grade 7","Grade 7 - 10","Author Heather E. Schwartz focuses on the biomechanical and physical principles behind the chants and stunts of sideline and competitive cheerleading. This book discusses the similarities between dance and cheerleading and the physical and psychological challenges faced by cheerleaders. Also addressed is the intense debate over whether or not cheerleading should be classified as an athletic sport or activity, and how this designation could affect athletes and athletic programs.","English",43.34,34.67,"791.6/4","104 pp.","https://greenhavenpublishing.com/978-1-4205-0971-7",{"$f":"Table1[[#This Row],['# of Books]]*Table1[[#This Row],[QTY]]","v":0},{"$f":"Table1[[#This Row],[QTY]]*Table1[[#This Row],[School & Library Price]]","v":0}]
[null,null,81,null,null,"Science and Technology","Science Behind Sports","Figure Skating","978-1-4205-0784-3",{"$f":"HYPERLINK(Table1[[#This Row],[Hyperlink]],\"Weblink\")","v":"Weblink"},"Lucent Press","Library Bound Book",1,"2012","January 2012","Library","7.000 X 9.000","Author","Jennifer MacKay",null,null,null,null,"Z","1310L","Grade 7","Grade 7 - 10","Figure skating, which is the world's most popular winter Olympic sport, is the subject of this volume. Though figure skaters are often known for their theatrical and artistic performances, author Jennifer MacKay outlines for readers the complex physical and biomechanical properties at work in this beautiful and demanding sport. From the development of the indoor ice rink, to the application of Newton's laws of motion, to the psychological challenges faced by many skaters, MacKay explores how these athletes achieve amazing physical accomplishments and perfect their art.","English",39.4,31.52,"796.91/​2","104 pp.","https://greenhavenpublishing.com/978-1-4205-0784-3",{"$f":"Table1[[#This Row],['# of Books]]*Table1[[#This Row],[QTY]]","v":0},{"$f":"Table1[[#This Row],[QTY]]*Table1[[#This Row],[School & Library Price]]","v":0}]
[null,null,81,null,null,"Science and Technology","Science Behind Sports","Golf","978-1-4205-1153-6",{"$f":"HYPERLINK(Table1[[#This Row],[Hyperlink]],\"Weblink\")","v":"Weblink"},"Lucent Press","Library Bound Book",1,"2014","January 2014","Library","7.000 X 9.000","Author","Michael V. Uschan",null,null,null,null,"Z","1240L","Grade 7","Grade 7 - 10","This diagram-loaded volume explains the history of the game of golf before delving into the science of the sport. The book explores how physics, biomechanics, psychology, and technology all play a part in how a person plays the sport. Author Michael V. Uschan concludes with training and conditioning techniques that can be used by golfers.","English",39.4,31.52,"796.352","104 pp.","https://greenhavenpublishing.com/978-1-4205-1153-6",{"$f":"Table1[[#This Row],['# of Books]]*Table1[[#This Row],[QTY]]","v":0},{"$f":"Table1[[#This Row],[QTY]]*Table1[[#This Row],[School & Library Price]]","v":0}]
[null,null,81,null,null,"Science and Technology","Science Behind Sports","Golf","978-1-4205-1181-9",{"$f":"HYPERLINK(Table1[[#This Row],[Hyperlink]],\"Weblink\")","v":"Weblink"},"Lucent Press","eBook",1,"2014","January 2014",null,null,"Author","Michael V. Uschan",null,null,null,null,"Z","1240L","Grade 7","Grade 7 - 10","This diagram-loaded volume explains the history of the game of golf before delving into the science of the sport. The book explores how physics, biomechanics, psychology, and technology all play a part in how a person plays the sport. Author Michael V. Uschan concludes with training and conditioning techniques that can be used by golfers.","English",43.34,34.67,"796.352","104 pp.","https://greenhavenpublishing.com/978-1-4205-1181-9",{"$f":"Table1[[#This Row],['# of Books]]*Table1[[#This Row],[QTY]]","v":0},{"$f":"Table1[[#This Row],[QTY]]*Table1[[#This Row],[School & Library Price]]","v":0}]
[null,null,81,null,null,"Science and Technology","Science Behind Sports","Lacrosse: Science on the Field","978-1-5345-6117-5",{"$f":"HYPERLINK(Table1[[#This Row],[Hyperlink]],\"Weblink\")","v":"Weblink"},"Lucent Press","Library Bound Book",1,"2018","August 2017","Library","7.000 X 9.000","Author","Gary Wiener",null,null,null,null,"Z","1200L","Grade 7","Grade 7 - 10","Lacrosse is quickly becoming one of the most popular sports played by young men and women in North America. In order to fully understand this exciting sport and play it safely and successfully, it helps to have a strong understanding of the science behind it. Readers discover the ways science, technology, engineering, and math are used together on the lacrosse field. This engaging take on familiar STEM topics is sure to delight readers who are sports fans. The fact-filled main text is enhanced by the use of accessible diagrams, fun fact boxes, informative sidebars, and exciting photographs of lacrosse games.","English",39.4,31.52,"796.36'2--dc23","104 pp.","https://greenhavenpublishing.com/978-1-5345-6117-5",{"$f":"Table1[[#This Row],['# of Books]]*Table1[[#This Row],[QTY]]","v":0},{"$f":"Table1[[#This Row],[QTY]]*Table1[[#This Row],[School & Library Price]]","v":0}]
[null,null,81,null,null,"Science and Technology","Science Behind Sports","Skiing","978-1-4205-1182-6",{"$f":"HYPERLINK(Table1[[#This Row],[Hyperlink]],\"Weblink\")","v":"Weblink"},"Lucent Press","eBook",1,"2014","January 2014",null,null,"Author","Melissa Abramovitz",null,null,null,null,"Z","1280L","Grade 7","Grade 7 - 10","Author Melissa Abramovitz offers a wild ride into the scientific principles of skiing. Readers are introduced to the sport by a richly detailed history. The physics of snow, skis, and skiers are then discussed. The training and lifestyle choices that are necessary for success is explained. The mental aspects, such as mustering courage and the psychology behind the sport are presented. Downhill, cross-country, jumping, freestyle are thoroughly explained. Lastly, readers learn about the injuries related to the sport.","English",43.34,34.67,"796.93","120 pp.","https://greenhavenpublishing.com/978-1-4205-1182-6",{"$f":"Table1[[#This Row],['# of Books]]*Table1[[#This Row],[QTY]]","v":0},{"$f":"Table1[[#This Row],[QTY]]*Table1[[#This Row],[School & Library Price]]","v":0}]
[null,null,81,null,null,"Science and Technology","Science Behind Sports","Soccer: Science on the Pitch","978-1-5345-6116-8",{"$f":"HYPERLINK(Table1[[#This Row],[Hyperlink]],\"Weblink\")","v":"Weblink"},"Lucent Press","eBook",1,"2018","August 2017",null,null,"Author","Amy B. Rogers",null,null,null,null,"Z","1250L","Grade 7","Grade 7 - 10","If readers have ever wondered how soccer players \"bend it like Beckham,\" they'll enjoy this unique look at the science behind the world's most popular sport. Detailed text, fact boxes, sidebars, and diagrams help readers understand the many ways scientific concepts are applied on the soccer field. Readers also learn how scientific knowledge is put to use along with the other areas of STEM to help soccer players train, avoid injury, and heal more quickly if they do get hurt. Full-color photographs place readers in the middle of the action on the pitch.","English",39.4,31.52,"796.334--dc23","104 pp.","https://greenhavenpublishing.com/978-1-5345-6116-8",{"$f":"Table1[[#This Row],['# of Books]]*Table1[[#This Row],[QTY]]","v":0},{"$f":"Table1[[#This Row],[QTY]]*Table1[[#This Row],[School & Library Price]]","v":0}]
[null,null,81,null,null,"Science and Technology","Science Behind Sports","Swimming","978-1-4205-0273-2",{"$f":"HYPERLINK(Table1[[#This Row],[Hyperlink]],\"Weblink\")","v":"Weblink"},"Lucent Press","Library Bound Book",1,"2011","January 2011","Library","7.000 X 9.000","Author","Lizabeth Hardman",null,null,null,null,"Z","1180L","Grade 7","Grade 7 - 10","Swimming is widely held to be the best aerobic exercise in the world, and as a competitive sport it has been part of the modern Olympic Games since their inception in 1896. Providing an overview of the history and evolution of competitive swimming and current issues affecting the sport, this book presents simple, readable explanations of the scientific principles and concepts related to swimming, the relevant biomechanics and physiology, and the elements of sports medicine uniquely associated with swimmers.","English",39.4,31.52,"797.2/​1","104 pp.","https://greenhavenpublishing.com/978-1-4205-0273-2",{"$f":"Table1[[#This Row],['# of Books]]*Table1[[#This Row],[QTY]]","v":0},{"$f":"Table1[[#This Row],[QTY]]*Table1[[#This Row],[School & Library Price]]","v":0}]
[null,null,81,null,null,"Science and Technology","Science Behind Sports","Tennis","978-1-4205-1122-2",{"$f":"HYPERLINK(Table1[[#This Row],[Hyperlink]],\"Weblink\")","v":"Weblink"},"Lucent Press","eBook",1,"2013","January 2013",null,null,"Author","Carla Mooney",null,null,null,null,"Z","1120L","Grade 7","Grade 7 - 10","From throwing a racket at the court because of a disagreement over a call, to creating a wild fashion line of tennis attire, the personalities of tennis are endlessly entertaining. Readers will learn that behind this sport lies a great deal of science. A brief history of the sport is offered followed by chapters that cover the scientific concepts behind serving the ball, how rackets work, how different surfaces and types of tennis balls affect the game, training and conditioning, and the psychological aspects of the game. Includes graphics to help explain the scientific principles being discussed and a list of sources for further research.","English",43.34,34.67,"796.342","128 pp.","https://greenhavenpublishing.com/978-1-4205-1122-2",{"$f":"Table1[[#This Row],['# of Books]]*Table1[[#This Row],[QTY]]","v":0},{"$f":"Table1[[#This Row],[QTY]]*Table1[[#This Row],[School & Library Price]]","v":0}]
[null,null,81,null,null,"Science and Technology","Science Behind Sports","Wrestling","978-1-4205-1022-5",{"$f":"HYPERLINK(Table1[[#This Row],[Hyperlink]],\"Weblink\")","v":"Weblink"},"Lucent Press","Library Bound Book",1,"2014","January 2014","Library","7.000 X 9.000","Author","Richard Brownell",null,null,null,null,"Z","1270L","Grade 7","Grade 7 - 10","Richard Brownell provides an in-depth look at the scientific principles behind collegiate and scholastic wrestling, though fans of the W.W.F. can still appreciate this volume about their favorite sport. A brief history is offered followed by chapters that cover the scientific concepts behind training and conditioning, the application of force and leverage in various wrestling moves, and how stability and balance factor into moves. Readers will learn about the psychological aspects of the game as well. Includes graphics to help explain the scientific principles being discussed and a list of sources for further research.","English",39.4,31.52,"796.812","104 pp.","https://greenhavenpublishing.com/978-1-4205-1022-5",{"$f":"Table1[[#This Row],['# of Books]]*Table1[[#This Row],[QTY]]","v":0},{"$f":"Table1[[#This Row],[QTY]]*Table1[[#This Row],[School & Library Price]]","v":0}]
[null,null,82,null,null,"Science and Technology","Crime Scene Investigations","Ballistics: The Science of Weapons at Work","978-1-5345-6170-0",{"$f":"HYPERLINK(Table1[[#This Row],[Hyperlink]],\"Weblink\")","v":"Weblink"},"Lucent Press","eBook",1,"2018","January 2018",null,null,"Author","Siyavush Saidian",null,null,null,null,"Z","1270L","Grade 7","Grade 7 - 10","When a crime is committed with a firearm or an explosive, the first people the police turn to are often ballistic analysts. By examining angles, bullets, and explosive residue, these scientists analyze the behavior of projectiles, such as bullets. Readers learn both how ballistics research is performed and how law enforcement officials use these findings to solve crimes. The detailed main text is supplemented with engaging fact boxes, unique sidebars, and photographs that give readers an up-close look into the scientific world of ballistic studies.","English",40.4,32.32,"363.25/62--dc23","104 pp.","https://greenhavenpublishing.com/978-1-5345-6170-0",{"$f":"Table1[[#This Row],['# of Books]]*Table1[[#This Row],[QTY]]","v":0},{"$f":"Table1[[#This Row],[QTY]]*Table1[[#This Row],[School & Library Price]]","v":0}]
[null,null,82,null,null,"Science and Technology","Crime Scene Investigations","Blackmail and Bribery","978-1-4205-0068-4",{"$f":"HYPERLINK(Table1[[#This Row],[Hyperlink]],\"Weblink\")","v":"Weblink"},"Lucent Press","Library Bound Book",1,"2009","January 2009","Library","7.000 X 9.000","Author","Bonnie Juettner",null,null,null,null,"Z",null,"Grade 7","Grade 7 - 10","Give your readers a look into the fascinating world of forensic investigation. This book details the investigative work involved in solving blackmail and bribery crimes. Students will learn about specialists in the field and examine the tools and techniques they use to expose and ensnare criminals. Readers will discover how cutting edge forensic science reveals the clues in the tiniest bits of evidence. Sidebars offer crime statistics and information about careers in criminal investigation. An annotated bibliography is included.","English",40.4,32.32,"364.16/​5","104 pp.","https://greenhavenpublishing.com/978-1-4205-0068-4",{"$f":"Table1[[#This Row],['# of Books]]*Table1[[#This Row],[QTY]]","v":0},{"$f":"Table1[[#This Row],[QTY]]*Table1[[#This Row],[School & Library Price]]","v":0}]
[null,null,82,null,null,"Science and Technology","Crime Scene Investigations","Clues in Corpses: A Closer Look at Body Farms","978-1-5345-6271-4",{"$f":"HYPERLINK(Table1[[#This Row],[Hyperlink]],\"Weblink\")","v":"Weblink"},"Lucent Press","Paperback Book",1,"2018","January 2018","Paperback","7.000 X 9.000","Author","Sophie Washburne",null,null,null,null,"Z",null,"Grade 7","Grade 7 - 10","When human remains are found at a crime scene, forensic anthropologists examine them to determine the time and cause of death, as well as the identity of the victim. How do they know the answers to these questions? Body farms are facilities where specialists can study the ways bodies decompose under different conditions, which helps forensic anthropologists solve crimes more effectively. Informative fact boxes, full-color photographs, and engaging sidebars offer a closer look at these little-known research facilities. Readers are sure to be captivated by stories of farms unlike any they have ever heard of before.","English",19.989999999999998,16.989999999999998,"599.9--dc23","104 pp.","https://greenhavenpublishing.com/978-1-5345-6271-4",{"$f":"Table1[[#This Row],['# of Books]]*Table1[[#This Row],[QTY]]","v":0},{"$f":"Table1[[#This Row],[QTY]]*Table1[[#This Row],[School & Library Price]]","v":0}]
[null,null,82,null,null,"Science and Technology","Crime Scene Investigations","The Crime Scene Photographer","978-1-4205-0036-3",{"$f":"HYPERLINK(Table1[[#This Row],[Hyperlink]],\"Weblink\")","v":"Weblink"},"Lucent Press","Library Bound Book",1,"2008","January 2008","Library","7.000 X 9.000","Author","Gail B. Stewart",null,null,null,null,"Z",null,"Grade 7","Grade 7 - 10","Crime scene photographers are professionals employed by police departments and other agencies to capture visual evidence. This book focuses on the job of a crime scene photographer. Readers will learn about the processes and techniques they use to carefully document crime scenes. The tiniest bit of evidence can unravel the most puzzling of crimes. Sidebars offer selections of crime-busting fact versus fiction, which facilitate critical thinking. ","English",40.4,32.32,"363.25/​2","104 pp.","https://greenhavenpublishing.com/978-1-4205-0036-3",{"$f":"Table1[[#This Row],['# of Books]]*Table1[[#This Row],[QTY]]","v":0},{"$f":"Table1[[#This Row],[QTY]]*Table1[[#This Row],[School & Library Price]]","v":0}]
[null,null,82,null,null,"Science and Technology","Crime Scene Investigations","Cryptology","978-1-4205-0555-9",{"$f":"HYPERLINK(Table1[[#This Row],[Hyperlink]],\"Weblink\")","v":"Weblink"},"Lucent Press","eBook",1,"2011","January 2011",null,null,"Author","Jennifer MacKay",null,null,null,null,"Z",null,"Grade 7","Grade 7 - 10","Cryptology has long been employed by governments, militaries, and businesses to protect private communications. This anthology provides readers with a revealing look into the world of cryptology. The techniques used to disguise messages are explained, as well as the methods used to crack the codes and ciphers of encrypted messages. Readers will discover how cutting edge forensic science reveals the clues in the tiniest bits of evidence. A fact versus fiction section helps keep concepts rooted in known truths.","English",44.44,35.549999999999997,"363.25/​65","104 pp.","https://greenhavenpublishing.com/978-1-4205-0555-9",{"$f":"Table1[[#This Row],['# of Books]]*Table1[[#This Row],[QTY]]","v":0},{"$f":"Table1[[#This Row],[QTY]]*Table1[[#This Row],[School & Library Price]]","v":0}]
[null,null,82,null,null,"Science and Technology","Crime Scene Investigations","Cybercrime: Using Computers as Weapons","978-1-5345-6091-8",{"$f":"HYPERLINK(Table1[[#This Row],[Hyperlink]],\"Weblink\")","v":"Weblink"},"Lucent Press","Library Bound Book",1,"2018","August 2017","Library","7.000 X 9.000","Author","Mike Sciandra",null,null,null,null,"Z",null,"Grade 7","Grade 7 - 10","Computers can be powerful tools for creating positive change, but in the wrong hands, they can also be destructive weapons. Cybercrime is a growing field of criminal activity, and it is important for readers to know as much as possible about it to avoid becoming a victim. Readers learn valuable information through detailed main text, fact boxes, and helpful sidebars. They also discover what they can do now to prepare for an exciting career investigating cybercriminals. Full-color photographs are included to show readers the technological advances used to combat the many forms of cybercrime, including sextortion and cyberterrorism.","English",40.4,32.32,"364.16'8--dc23","104 pp.","https://greenhavenpublishing.com/978-1-5345-6091-8",{"$f":"Table1[[#This Row],['# of Books]]*Table1[[#This Row],[QTY]]","v":0},{"$f":"Table1[[#This Row],[QTY]]*Table1[[#This Row],[School & Library Price]]","v":0}]
[null,null,82,null,null,"Science and Technology","Crime Scene Investigations","Drug Trafficking: A Global Criminal Trade","978-1-5345-6180-9",{"$f":"HYPERLINK(Table1[[#This Row],[Hyperlink]],\"Weblink\")","v":"Weblink"},"Lucent Press","Library Bound Book",1,"2018","January 2018","Library","7.000 X 9.000","Author","Nicole Horning",null,null,null,null,"Z",null,"Grade 7","Grade 7 - 10","The drug trade is a lucrative business, and drug traffickers find inventive ways to protect their investments. Smugglers have a variety of means available to them to move large amounts of drugs between countries, including underground tunnels, secret pockets, and even the postal service. This means law enforcement officials must be clever and creative in their pursuit of these criminals. Readers learn how police target drug traffickers and what they can do to pursue a similar career. Informative sidebars, fact boxes, and full-color photographs give a full picture of the work that law enforcement officials do to apprehend drug traffickers.","English",40.4,32.32,"364.1/3365--dc23","104 pp.","https://greenhavenpublishing.com/978-1-5345-6180-9",{"$f":"Table1[[#This Row],['# of Books]]*Table1[[#This Row],[QTY]]","v":0},{"$f":"Table1[[#This Row],[QTY]]*Table1[[#This Row],[School & Library Price]]","v":0}]
[null,null,82,null,null,"Science and Technology","Crime Scene Investigations","Forensic Art","978-1-4205-0174-2",{"$f":"HYPERLINK(Table1[[#This Row],[Hyperlink]],\"Weblink\")","v":"Weblink"},"Lucent Press","eBook",1,"2009","January 2009",null,null,"Author","Jennifer MacKay",null,null,null,null,"Z",null,"Grade 7","Grade 7 - 10","Forensic artists are highly-trained specialists who creating composite drawings from witness descriptions and reconstruct crime scenes. This book explains the tools and techniques used by forensic artists, including facial reconstruction, image enhancement, and age progression. Students will be amazed by the skills of these artistic professionals and learn about the about the education needed for the job. Sidebars offer descriptions of unusual cases, and historical crime-solving breakthroughs.","English",44.44,35.549999999999997,"363.25","104 pp.","https://greenhavenpublishing.com/978-1-4205-0174-2",{"$f":"Table1[[#This Row],['# of Books]]*Table1[[#This Row],[QTY]]","v":0},{"$f":"Table1[[#This Row],[QTY]]*Table1[[#This Row],[School & Library Price]]","v":0}]
[null,null,82,null,null,"Science and Technology","Crime Scene Investigations","The Homicide Detective","978-1-4205-0109-4",{"$f":"HYPERLINK(Table1[[#This Row],[Hyperlink]],\"Weblink\")","v":"Weblink"},"Lucent Press","Library Bound Book",1,"2010","January 2010","Library","7.000 X 9.000","Author","Toney Allman",null,null,null,null,"Z",null,"Grade 7","Grade 7 - 10","Homicide detectives are murder specialists. This book explains aspects of the job, such as analysis of the crime scene, performing interrogations, and presenting evidence in the courtroom. Students will learn how cutting edge forensic science can reveal clues in the tiniest bits of evidence. Sidebars offer crime statistics, and information about careers in criminal investigation. ","English",40.4,32.32,"363.259523","104 pp.","https://greenhavenpublishing.com/978-1-4205-0109-4",{"$f":"Table1[[#This Row],['# of Books]]*Table1[[#This Row],[QTY]]","v":0},{"$f":"Table1[[#This Row],[QTY]]*Table1[[#This Row],[School & Library Price]]","v":0}]
[null,null,82,null,null,"Science and Technology","Crime Scene Investigations","The Homicide Detective","978-1-4205-0310-4",{"$f":"HYPERLINK(Table1[[#This Row],[Hyperlink]],\"Weblink\")","v":"Weblink"},"Lucent Press","eBook",1,"2010","January 2010",null,null,"Author","Toney Allman",null,null,null,null,"Z",null,"Grade 7","Grade 7 - 10","Homicide detectives are murder specialists. This book explains aspects of the job, such as analysis of the crime scene, performing interrogations, and presenting evidence in the courtroom. Students will learn how cutting edge forensic science can reveal clues in the tiniest bits of evidence. Sidebars offer crime statistics, and information about careers in criminal investigation. ","English",44.44,35.549999999999997,"363.259523","104 pp.","https://greenhavenpublishing.com/978-1-4205-0310-4",{"$f":"Table1[[#This Row],['# of Books]]*Table1[[#This Row],[QTY]]","v":0},{"$f":"Table1[[#This Row],[QTY]]*Table1[[#This Row],[School & Library Price]]","v":0}]
[null,null,82,null,null,"Science and Technology","Crime Scene Investigations","The John F. Kennedy Assassination: The Shooting That Shook America","978-1-5345-6087-1",{"$f":"HYPERLINK(Table1[[#This Row],[Hyperlink]],\"Weblink\")","v":"Weblink"},"Lucent Press","Library Bound Book",1,"2018","August 2017","Library","7.000 X 9.000","Author","Joseph Stanley",null,null,null,null,"Z","1220L","Grade 7","Grade 7 - 10","The assassination of President John F. Kennedy was a horrific event that stunned the world and left Americans deeply shaken. There are many conspiracy theories surrounding this crime and its aftermath, but readers will discover the facts as they take a closer look at the shooting and the events that followed with the help of fact boxes, detailed sidebars, and primary source photographs. Essential historical information is presented in an engaging way, as common facts taught in history classes share space with gripping details of the investigation of one of the most infamous crimes of the 20th century.","English",40.4,32.32,"973.922092--dc23","112 pp.","https://greenhavenpublishing.com/978-1-5345-6087-1",{"$f":"Table1[[#This Row],['# of Books]]*Table1[[#This Row],[QTY]]","v":0},{"$f":"Table1[[#This Row],[QTY]]*Table1[[#This Row],[School & Library Price]]","v":0}]
[null,null,82,null,null,"Science and Technology","Crime Scene Investigations","Missing Persons: What Happens When Someone Disappears?","978-1-5345-6177-9",{"$f":"HYPERLINK(Table1[[#This Row],[Hyperlink]],\"Weblink\")","v":"Weblink"},"Lucent Press","eBook",1,"2018","January 2018",null,null,"Author","Amanda Vink",null,null,null,null,"Z",null,"Grade 7","Grade 7 - 10","Many crime shows and movies deal with the topic of a mysterious disappearance, but fictional stories often sensationalize the topic in order to catch the viewer's interest. In reality, finding a missing person can be hard work for detectives, as there are sometimes few clues left behind. Readers discover how police use math and science to solve this puzzle. Full-color photographs, informative sidebars, and by-the-numbers fact boxes augment the compelling text, giving readers a more accurate understanding of the process of searching for missing persons than they will find on television or at the movies.","English",40.4,32.32,"362.8--dc23","104 pp.","https://greenhavenpublishing.com/978-1-5345-6177-9",{"$f":"Table1[[#This Row],['# of Books]]*Table1[[#This Row],[QTY]]","v":0},{"$f":"Table1[[#This Row],[QTY]]*Table1[[#This Row],[School & Library Price]]","v":0}]
[null,null,82,null,null,"Science and Technology","Crime Scene Investigations","The O.J. Simpson Murder Trial","978-1-4205-0038-7",{"$f":"HYPERLINK(Table1[[#This Row],[Hyperlink]],\"Weblink\")","v":"Weblink"},"Lucent Press","Library Bound Book",1,"2008","January 2008","Library","7.000 X 9.000","Author","Craig E. Blohm",null,null,null,null,"Z",null,"Grade 7","Grade 7 - 10","This book focuses on the investigative work relating to the infamous O.J. Simpson murder trial. Readers will learn about the specialists who took part in the investigation and the techniques they used to uncover evidence. Students will be fascinated by how the tiniest bit of evidence can be used to solve the most puzzling crimes. A fact versus fiction section helps keep concepts rooted in known truths, and sidebars offer step-by-step explanations of scientific and legal processes.","English",40.4,32.32,"345.73/​025230979494","104 pp.","https://greenhavenpublishing.com/978-1-4205-0038-7",{"$f":"Table1[[#This Row],['# of Books]]*Table1[[#This Row],[QTY]]","v":0},{"$f":"Table1[[#This Row],[QTY]]*Table1[[#This Row],[School & Library Price]]","v":0}]
[null,null,82,null,null,"Science and Technology","Crime Scene Investigations","Poisoning","978-1-4205-0064-6",{"$f":"HYPERLINK(Table1[[#This Row],[Hyperlink]],\"Weblink\")","v":"Weblink"},"Lucent Press","Library Bound Book",1,"2008","January 2008","Library","7.000 X 9.000","Author","Toney Allman",null,null,null,null,"Z",null,"Grade 7","Grade 7 - 10","Poison has been employed as a stealthy weapon of murder for thousands of years. The most recent high-profile case involved the killing of Kim Jong-nam, the half-brother of infamous North Korean dictator Kim Jong-un, with the use of deadly VX nerve agent. Provide your readers with a revealing look into the tools, techniques, and details of poisoning investigations. Sidebars offer selections of crime-busting fact versus fiction, which facilitate critical thinking. ","English",40.4,32.32,"363.25/​9523","104 pp.","https://greenhavenpublishing.com/978-1-4205-0064-6",{"$f":"Table1[[#This Row],['# of Books]]*Table1[[#This Row],[QTY]]","v":0},{"$f":"Table1[[#This Row],[QTY]]*Table1[[#This Row],[School & Library Price]]","v":0}]
[null,null,82,null,null,"Science and Technology","Crime Scene Investigations","Undercover Operations: Investigating Crimes from the Inside","978-1-5345-6094-9",{"$f":"HYPERLINK(Table1[[#This Row],[Hyperlink]],\"Weblink\")","v":"Weblink"},"Lucent Press","eBook",1,"2018","August 2017",null,null,"Author","Edna McPhee",null,null,null,null,"Z",null,"Grade 7","Grade 7 - 10","Undercover operations are valuable ways for law enforcement agencies to gain information and investigate crimes from inside the worlds criminals inhabit. These operations can be dangerous, and readers learn about the risks inherent in this line of work as they explore the fascinating history of undercover operations. Enlightening sidebars, informative fact boxes, and detailed photographs provide readers with additional information, including tips for preparing for a career that could involve undercover work. Readers are also introduced to fascinating facts about the technology used in undercover operations and how that technology has changed over time.","English",40.4,32.32,"327.12--dc23","104 pp.","https://greenhavenpublishing.com/978-1-5345-6094-9",{"$f":"Table1[[#This Row],['# of Books]]*Table1[[#This Row],[QTY]]","v":0},{"$f":"Table1[[#This Row],[QTY]]*Table1[[#This Row],[School & Library Price]]","v":0}]
[null,null,83,null,null,"Science and Technology","Robot Pioneers","Robotics in Industry","978-1-5345-6219-6",{"$f":"HYPERLINK(Table1[[#This Row],[Hyperlink]],\"Weblink\")","v":"Weblink"},"Lucent Press","Library Bound Book",1,"2018","January 2018","Library","7.250 X 9.250","Author","Claudia Martin",null,null,null,null,"W",null,"Grade 5 - 6","Grade 5 - 8","The history of robots in the industrial world is filled with technological advances and pioneering engineers. These captivating stories are presented to readers through detailed main text and additional fact boxes, creating a comprehensive picture of how robots have influenced industries for long periods of time. Colorful photographs fill each page, captivating readers and providing detailed examples of industrial robots. Readers interested in science, technology, engineering, and math, collectively known as STEM, will enjoy this inside look at robotics in the world around us.","English",33.450000000000003,26.76,"670.42'72--dc23","64 pp.","https://greenhavenpublishing.com/978-1-5345-6219-6",{"$f":"Table1[[#This Row],['# of Books]]*Table1[[#This Row],[QTY]]","v":0},{"$f":"Table1[[#This Row],[QTY]]*Table1[[#This Row],[School & Library Price]]","v":0}]
[null,null,83,null,null,"Science and Technology","Robot Pioneers","Robotics in Law Enforcement","978-1-5345-6216-5",{"$f":"HYPERLINK(Table1[[#This Row],[Hyperlink]],\"Weblink\")","v":"Weblink"},"Lucent Press","eBook",1,"2018","January 2018",null,null,"Author","Claudia Martin",null,null,null,null,"W",null,"Grade 5 - 6","Grade 5 - 8","Law enforcement officers keep people safe, and robots are sometimes used to keep these officers safe. As readers learn about the many ways robots are used to help in the field of law enforcement, they are introduced to exciting ways science, technology, engineering, and math, also known as STEM, are being used in the world around them. Through informative text and eye-catching fact boxes, they explore the evolution of robots in this important field, with detailed photographs helping them visualize the technology they are reading about.","English",33.450000000000003,26.76,"629.8'92--dc23","64 pp.","https://greenhavenpublishing.com/978-1-5345-6216-5",{"$f":"Table1[[#This Row],['# of Books]]*Table1[[#This Row],[QTY]]","v":0},{"$f":"Table1[[#This Row],[QTY]]*Table1[[#This Row],[School & Library Price]]","v":0}]
[null,null,83,null,null,"Science and Technology","Robot Pioneers","Robotics in Medicine","978-1-5345-6210-3",{"$f":"HYPERLINK(Table1[[#This Row],[Hyperlink]],\"Weblink\")","v":"Weblink"},"Lucent Press","eBook",1,"2018","January 2018",null,null,"Author","Robyn Hardyman",null,null,null,null,"W",null,"Grade 5 - 6","Grade 5 - 8","Robot doctors may seem to be something out of a science fiction film, but it's not that unlikely a concept anymore. In fact, robots are being used in hospitals around the world for important tasks, especially surgeries. Readers discover the rich history of robots in medicine through detailed main text and enlightening fact boxes. Vibrant, full-color photographs accompany the informative text, creating an immersive reading experience sure to captivate readers with a passion for STEM, science, technology, engineering, and math.","English",33.450000000000003,26.76,"610.285'63--dc23","64 pp.","https://greenhavenpublishing.com/978-1-5345-6210-3",{"$f":"Table1[[#This Row],['# of Books]]*Table1[[#This Row],[QTY]]","v":0},{"$f":"Table1[[#This Row],[QTY]]*Table1[[#This Row],[School & Library Price]]","v":0}]
[null,null,83,null,null,"Science and Technology","Robot Pioneers","Robotics in Nature","978-1-5345-6303-2",{"$f":"HYPERLINK(Table1[[#This Row],[Hyperlink]],\"Weblink\")","v":"Weblink"},"Lucent Press","Paperback Book",1,"2018","January 2018","Paperback","7.250 X 9.250","Author","Claudia Martin",null,null,null,null,"W",null,"Grade 5 - 6","Grade 5 - 8","How are robots used in nature? Readers discover the answer to this question as they examine the complex relationship between technology and the natural world. This and other aspects of STEM, science, technology, engineering, and math, are presented to readers through clear, informative text that aims to make challenging concepts easier to understand. Fact boxes provide readers with additional information, and vivid photographs keep and hold readers' interest with each turn of the page.","English",15.28,12.99,"629.8'92--dc23","64 pp.","https://greenhavenpublishing.com/978-1-5345-6303-2",{"$f":"Table1[[#This Row],['# of Books]]*Table1[[#This Row],[QTY]]","v":0},{"$f":"Table1[[#This Row],[QTY]]*Table1[[#This Row],[School & Library Price]]","v":0}]
[null,null,83,null,null,"Science and Technology","Robot Pioneers","Robotics in the Military","978-1-5345-6211-0",{"$f":"HYPERLINK(Table1[[#This Row],[Hyperlink]],\"Weblink\")","v":"Weblink"},"Lucent Press","Library Bound Book",1,"2018","January 2018","Library","7.250 X 9.250","Author","Robert Snedden",null,null,null,null,"W",null,"Grade 5 - 6","Grade 5 - 8","An entire robot army does not exist, but robots are being used more frequently by militaries around the world to keep soldiers out of harm's way. Readers learn this and other fascinating facts about robots in the military thanks to engaging text that is enhanced by informative fact boxes. Visual examples of the kinds of robots employed by the military are included in the form of captivating, full-color photographs. The eye-catching design and exciting text show readers that learning about STEM, science, technology, engineering, and math, can be fun.","English",33.450000000000003,26.76,"623--dc23","64 pp.","https://greenhavenpublishing.com/978-1-5345-6211-0",{"$f":"Table1[[#This Row],['# of Books]]*Table1[[#This Row],[QTY]]","v":0},{"$f":"Table1[[#This Row],[QTY]]*Table1[[#This Row],[School & Library Price]]","v":0}]
[null,null,84,null,null,"Science and Technology","Technology 360","Cloud Computing","978-1-4205-1158-1",{"$f":"HYPERLINK(Table1[[#This Row],[Hyperlink]],\"Weblink\")","v":"Weblink"},"Lucent Press","Library Bound Book",1,"2014","January 2014","Library","7.000 X 9.000","Author","Andrew A. Kling",null,null,null,null,"Z",null,"Grade 7 - 10","Grade 7 - 11","Author Andrew A. Kling discusses the evolution of cloud computing from mainframes and servers along with the people who played a significant role in the cloud's development. The volume then delves into the components found in the cloud including SaaS, IaaS and PaaS, collectively known as the Stack. The book also examines how the cloud is being used by social media, what security concerns people have with the cloud, and how the cloud will evolve in the future.","English",39.9,31.92,"004.67/82","128 pp.","https://greenhavenpublishing.com/978-1-4205-1158-1",{"$f":"Table1[[#This Row],['# of Books]]*Table1[[#This Row],[QTY]]","v":0},{"$f":"Table1[[#This Row],[QTY]]*Table1[[#This Row],[School & Library Price]]","v":0}]
[null,null,84,null,null,"Science and Technology","Technology 360","Cloud Computing","978-1-4205-1265-6",{"$f":"HYPERLINK(Table1[[#This Row],[Hyperlink]],\"Weblink\")","v":"Weblink"},"Lucent Press","eBook",1,"2014","January 2014",null,null,"Author","Andrew A. Kling",null,null,null,null,"Z",null,"Grade 7 - 10","Grade 7 - 11","Author Andrew A. Kling discusses the evolution of cloud computing from mainframes and servers along with the people who played a significant role in the cloud's development. The volume then delves into the components found in the cloud including SaaS, IaaS and PaaS, collectively known as the Stack. The book also examines how the cloud is being used by social media, what security concerns people have with the cloud, and how the cloud will evolve in the future.","English",43.89,35.11,"004.67/82","128 pp.","https://greenhavenpublishing.com/978-1-4205-1265-6",{"$f":"Table1[[#This Row],['# of Books]]*Table1[[#This Row],[QTY]]","v":0},{"$f":"Table1[[#This Row],[QTY]]*Table1[[#This Row],[School & Library Price]]","v":0}]
[null,null,84,null,null,"Science and Technology","Technology 360","Electric Cars","978-1-4205-0612-9",{"$f":"HYPERLINK(Table1[[#This Row],[Hyperlink]],\"Weblink\")","v":"Weblink"},"Lucent Press","Library Bound Book",1,"2012","January 2012","Library","7.000 X 9.000","Author","Jennifer MacKay",null,null,null,null,"Z",null,"Grade 7 - 10","Grade 7 - 11","Author Jennifer MacKay focuses on the invention of electric cars, exploring how it was developed, how it works, its impact on society, and possible future uses.","English",39.9,31.92,"629.22/93","104 pp.","https://greenhavenpublishing.com/978-1-4205-0612-9",{"$f":"Table1[[#This Row],['# of Books]]*Table1[[#This Row],[QTY]]","v":0},{"$f":"Table1[[#This Row],[QTY]]*Table1[[#This Row],[School & Library Price]]","v":0}]
[null,null,84,null,null,"Science and Technology","Technology 360","iPod and MP3 Players","978-1-4205-0166-7",{"$f":"HYPERLINK(Table1[[#This Row],[Hyperlink]],\"Weblink\")","v":"Weblink"},"Lucent Press","Library Bound Book",1,"2011","January 2011","Library","7.000 X 9.000","Author","Stuart A. Kallen",null,null,null,null,"Z",null,"Grade 7 - 10","Grade 7 - 11","Author Stuart A. Kallen takes readers on a fun exploration of the iPod and other audio / video players. Readers will learn about the digital media explosion, previous frenzies over file-sharing, and the evolution of podcasts, vodcasts, and audiobooks. Readers will also consider the future of this technology.\n","English",39.9,31.92,"006.5","104 pp.","https://greenhavenpublishing.com/978-1-4205-0166-7",{"$f":"Table1[[#This Row],['# of Books]]*Table1[[#This Row],[QTY]]","v":0},{"$f":"Table1[[#This Row],[QTY]]*Table1[[#This Row],[School & Library Price]]","v":0}]
[null,null,84,null,null,"Science and Technology","Technology 360","Online Social Networks","978-1-4205-0354-8",{"$f":"HYPERLINK(Table1[[#This Row],[Hyperlink]],\"Weblink\")","v":"Weblink"},"Lucent Press","eBook",1,"2010","January 2010",null,null,"Author","Laurie Collier Hillstrom",null,null,null,null,"Z",null,"Grade 7 - 10","Grade 7 - 11","Author Laurie Collier Hillstrom examines the development and amazing growth of online social networking. She explains the basic technology, and examines how it has impacted many facets of life, including politics, activism, charity, business, and science. Readers will explore the emerging problems of identity theft, privacy issues, sexual predators, cyber-bullying, and fraud. Lastly, this book provides an overview of future trends and related technological advancements.","English",43.89,35.11,"302.3/0285","128 pp.","https://greenhavenpublishing.com/978-1-4205-0354-8",{"$f":"Table1[[#This Row],['# of Books]]*Table1[[#This Row],[QTY]]","v":0},{"$f":"Table1[[#This Row],[QTY]]*Table1[[#This Row],[School & Library Price]]","v":0}]
[null,null,84,null,null,"Science and Technology","Technology 360","Roller Coasters","978-1-4205-0825-3",{"$f":"HYPERLINK(Table1[[#This Row],[Hyperlink]],\"Weblink\")","v":"Weblink"},"Lucent Press","Library Bound Book",1,"2013","January 2013","Library","7.000 X 9.000","Author","Jennifer MacKay",null,null,null,null,"Z",null,"Grade 7 - 10","Grade 7 - 11","Author Jenny MacKay takes readers on a wild ride through the history, design fundamentals, and scientific principles behind roller coasters. Readers will learn how gravity and physical forces create the fastest amusement park attractions and how steel and wooden roller coasters are designed and constructed. The final chapter, focused on the roller coasters of the future, describes the recent use of electromagnets and CAD technology.","English",39.9,31.92,"791.068","112 pp.","https://greenhavenpublishing.com/978-1-4205-0825-3",{"$f":"Table1[[#This Row],['# of Books]]*Table1[[#This Row],[QTY]]","v":0},{"$f":"Table1[[#This Row],[QTY]]*Table1[[#This Row],[School & Library Price]]","v":0}]
[null,null,84,null,null,"Science and Technology","Technology 360","Web 2.0","978-1-4205-0623-5",{"$f":"HYPERLINK(Table1[[#This Row],[Hyperlink]],\"Weblink\")","v":"Weblink"},"Lucent Press","eBook",1,"2011","January 2011",null,null,"Author","Andrew A. Kling",null,null,null,null,"Z",null,"Grade 7 - 10","Grade 7 - 11","Readers will be introduced to Web 1.0 and the story of its evolution to 2.0. This book discusses the role of news, information, and social networks. Mashing, memes, and other activities are explored. Lastly, readers will take a look at the future beyond Web 2.0.","English",43.89,35.11,"006.7/5","128 pp.","https://greenhavenpublishing.com/978-1-4205-0623-5",{"$f":"Table1[[#This Row],['# of Books]]*Table1[[#This Row],[QTY]]","v":0},{"$f":"Table1[[#This Row],[QTY]]*Table1[[#This Row],[School & Library Price]]","v":0}]
[null,null,85,null,null,"U.S. History","American History","Battling Terrorism in the United States","978-1-5345-6141-0",{"$f":"HYPERLINK(Table1[[#This Row],[Hyperlink]],\"Weblink\")","v":"Weblink"},"Lucent Press","Library Bound Book",1,"2018","August 2017","Library","7.000 X 9.000","Author","Caroline Kennon",null,null,null,null,"Z",null,"Grade 7","Grade 7 - 10","Although September 11, 2001, marks the day when average Americans first began to grapple with the concept of terrorism in the United States, it wasn’t the first terrorist attack on American soil. The history of terrorism and the fight against it in the United States is long and filled with more action and intrigue than a novel or movie. Readers discover the details of this part of American history through comprehensive main text, enlightening sidebars, and historical and contemporary images. They also take a look at what’s being done today to protect Americans and fight terrorism at home and abroad.","English",39.4,31.52,"303.6--dc23","104 pp.","https://greenhavenpublishing.com/978-1-5345-6141-0",{"$f":"Table1[[#This Row],['# of Books]]*Table1[[#This Row],[QTY]]","v":0},{"$f":"Table1[[#This Row],[QTY]]*Table1[[#This Row],[School & Library Price]]","v":0}]
[null,null,85,null,null,"U.S. History","American History","The Civil War: A Nation Divided","978-1-5345-6046-8",{"$f":"HYPERLINK(Table1[[#This Row],[Hyperlink]],\"Weblink\")","v":"Weblink"},"Lucent Press","eBook",1,"2017","January 2017",null,null,"Author, Author","Therese M. Shea, Don Nardo",null,null,null,null,"Z","1170L","Grade 7","Grade 7 - 10","The Civil War still holds a prominent place in the American imagination. Reenactments and battlefield visits are popular tourist attractions for both Northerners and Southerners. The underlying issues of racism and states’ rights that caused the war are also still visible in American society. Through informative main text, detailed maps, historic photographs, and a timeline of important dates, readers will be engaged by this key event in the country’s history and gain a better understanding of some of its present struggles.","English",39.4,31.52,"973.7--dc23","104 pp.","https://greenhavenpublishing.com/978-1-5345-6046-8",{"$f":"Table1[[#This Row],['# of Books]]*Table1[[#This Row],[QTY]]","v":0},{"$f":"Table1[[#This Row],[QTY]]*Table1[[#This Row],[School & Library Price]]","v":0}]
[null,null,85,null,null,"U.S. History","American History","The Constitution and Founding of America","978-1-5901-8956-6",{"$f":"HYPERLINK(Table1[[#This Row],[Hyperlink]],\"Weblink\")","v":"Weblink"},"Lucent Press","Library Bound Book",1,"2007","January 2007","Library","7.000 X 9.000","Author","John M. Dunn",null,null,null,null,"Z",null,"Grade 7","Grade 7 - 10","The Constitution is one of the most studied topics in education, but this book, with sidebars, maps, illustrations, fast facts, and a compelling narrative make this topic seem brand new. Readers will learn interesting facts and have a new appreciation of the work that went into creating a new nation.","English",39.4,31.52,"320.973","104 pp.","https://greenhavenpublishing.com/978-1-5901-8956-6",{"$f":"Table1[[#This Row],['# of Books]]*Table1[[#This Row],[QTY]]","v":0},{"$f":"Table1[[#This Row],[QTY]]*Table1[[#This Row],[School & Library Price]]","v":0}]
[null,null,85,null,null,"U.S. History","American History","Environmentalism in America","978-1-4205-1303-5",{"$f":"HYPERLINK(Table1[[#This Row],[Hyperlink]],\"Weblink\")","v":"Weblink"},"Lucent Press","eBook",1,"2010","January 2010",null,null,"Author","Stephen Currie",null,null,null,null,"Z",null,"Grade 7","Grade 7 - 10","Environmentalism has become a hot button political topic. When leadership teams create an impression, one way or the other, that the Earth is in trouble, we need to pay attention. This valuable resource presents simple facts about the history of environmentalism in America, and why it exists. It examines the science behind certain assertions, and teaches readers about new issues, and new solutions.","English",43.34,34.67,"333.720973","96 pp.","https://greenhavenpublishing.com/978-1-4205-1303-5",{"$f":"Table1[[#This Row],['# of Books]]*Table1[[#This Row],[QTY]]","v":0},{"$f":"Table1[[#This Row],[QTY]]*Table1[[#This Row],[School & Library Price]]","v":0}]
[null,null,85,null,null,"U.S. History","American History","The Harlem Renaissance: An African American Cultural Movement","978-1-5345-6422-0",{"$f":"HYPERLINK(Table1[[#This Row],[Hyperlink]],\"Weblink\")","v":"Weblink"},"Lucent Press","eBook",1,"2019","August 2018",null,null,"Author","Tamra B. Orr",null,null,null,null,"Z",null,"Grade 7","Grade 7 - 10","The Harlem Renaissance was an exciting period in American history, and readers are placed in the middle of this vibrant African American cultural movement through engaging main text, annotated quotations from historical figures and scholars, and carefully selected primary sources. Eye-catching sidebars and a comprehensive timeline highlight important artists, writers, and works from the Harlem Renaissance to give readers a strong sense of this essential social studies curriculum topic. The influence of the Harlem Renaissance can still be seen in the cultural contributions of African Americans today, making this a topic that is sure to resonate with readers.","English",39.4,31.52,"305.896'0730747--dc23","104 pp.","https://greenhavenpublishing.com/978-1-5345-6422-0",{"$f":"Table1[[#This Row],['# of Books]]*Table1[[#This Row],[QTY]]","v":0},{"$f":"Table1[[#This Row],[QTY]]*Table1[[#This Row],[School & Library Price]]","v":0}]
[null,null,85,null,null,"U.S. History","American History","Native Americans in Early North America","978-1-5345-6038-3",{"$f":"HYPERLINK(Table1[[#This Row],[Hyperlink]],\"Weblink\")","v":"Weblink"},"Lucent Press","eBook",1,"2017","January 2017",null,null,"Author, Author","Barbara M. Linde, Don Nardo",null,null,null,null,"Z","1220L","Grade 7","Grade 7 - 10","Native peoples of the United States and Canada have rich histories and traditions that help them maintain varied cultural identities in modern society. In the past, white Americans attempted to hide or eradicate these cultures. Today we know that they should instead be celebrated. The artifacts and customs of these early civilizations are presented to readers through full-color photographs and primary sources, and a detailed timeline places historical events in chronological order. Readers will enjoy learning about the vibrant past of cultures that are still active today.","English",39.4,31.52,"970.004’97","104 pp.","https://greenhavenpublishing.com/978-1-5345-6038-3",{"$f":"Table1[[#This Row],['# of Books]]*Table1[[#This Row],[QTY]]","v":0},{"$f":"Table1[[#This Row],[QTY]]*Table1[[#This Row],[School & Library Price]]","v":0}]
[null,null,85,null,null,"U.S. History","American History","The Progressive Era: Activists Change America","978-1-5345-6139-7",{"$f":"HYPERLINK(Table1[[#This Row],[Hyperlink]],\"Weblink\")","v":"Weblink"},"Lucent Press","Library Bound Book",1,"2018","August 2017","Library","7.000 X 9.000","Author","David Anthony",null,null,null,null,"Z",null,"Grade 7","Grade 7 - 10","Activists are always working hard to change America for the better and to help Americans who need someone to advocate for them. Activists have been a part of this nation's social and political landscape since its earliest days, but the Progressive Era is known as the period when social activism and political reformation movements truly took off and led to real change for many Americans. Readers get a comprehensive look at this period of sweeping change through fact-filled main text, fascinating sidebars, and relevant primary sources.","English",39.4,31.52,"361.3'7--dc23","104 pp.","https://greenhavenpublishing.com/978-1-5345-6139-7",{"$f":"Table1[[#This Row],['# of Books]]*Table1[[#This Row],[QTY]]","v":0},{"$f":"Table1[[#This Row],[QTY]]*Table1[[#This Row],[School & Library Price]]","v":0}]
[null,null,85,null,null,"U.S. History","American History","Protests and Riots That Changed America","978-1-5345-6415-2",{"$f":"HYPERLINK(Table1[[#This Row],[Hyperlink]],\"Weblink\")","v":"Weblink"},"Lucent Press","Library Bound Book",1,"2019","August 2018","Library","7.000 X 9.000","Author","Joan Stoltman",null,null,null,null,"Z",null,"Grade 7","Grade 7 - 10","The right to peaceably assemble is one of the freedoms granted to Americans under the First Amendment. However, those peaceful protests sometimes erupt into violent riots. Both protests and riots have changed the course of American history, highlighting sources of unrest, inequality, and tension in the nation from its earliest days. Readers explore the fascinating history of these protests and riots, from the Whiskey Rebellion to the Women's March, through engaging main text featuring annotated historical and contemporary quotes. Details of these marches and demonstrations are made further memorable for readers through fact-filled sidebars, primary source images, maps, and a detailed timeline.","English",39.4,31.52,"303.48/40973--dc23","104 pp.","https://greenhavenpublishing.com/978-1-5345-6415-2",{"$f":"Table1[[#This Row],['# of Books]]*Table1[[#This Row],[QTY]]","v":0},{"$f":"Table1[[#This Row],[QTY]]*Table1[[#This Row],[School & Library Price]]","v":0}]
[null,null,85,null,null,"U.S. History","American History","Slavery in North America","978-1-5345-6060-4",{"$f":"HYPERLINK(Table1[[#This Row],[Hyperlink]],\"Weblink\")","v":"Weblink"},"Lucent Press","Library Bound Book",1,"2017","January 2017","Library","7.000 X 9.000","Author","Barbara M. Linde",null,null,null,null,"Z","1150L","Grade 7","Grade 7 - 10","Before the Civil War, a large part of the U.S. economy was built on slave labor. Readers learn that goods could be produced and sold cheaply because the slaves were unpaid for their labor. Millions of black men, women, and children were treated as property. Although slavery has been abolished, the racism that sprang from this period still haunts America today. Accessible text, primary sources, and informative sidebars provide readers with an unvarnished look at a tragic period in America’s past.","English",39.4,31.52,"306.3’620973","104 pp.","https://greenhavenpublishing.com/978-1-5345-6060-4",{"$f":"Table1[[#This Row],['# of Books]]*Table1[[#This Row],[QTY]]","v":0},{"$f":"Table1[[#This Row],[QTY]]*Table1[[#This Row],[School & Library Price]]","v":0}]
[null,null,85,null,null,"U.S. History","American History","The Trail of Tears: A Journey of Loss","978-1-5345-6136-6",{"$f":"HYPERLINK(Table1[[#This Row],[Hyperlink]],\"Weblink\")","v":"Weblink"},"Lucent Press","eBook",1,"2018","August 2017",null,null,"Author","Kristen Rajczak Nelson",null,null,null,null,"Z",null,"Grade 7","Grade 7 - 10","The Trail of Tears is the name used to describe the forced migration of the Cherokee people in the 1830s from their homelands in the southeastern United States to land in what’s now Oklahoma. This devastating journey took the lives of thousands of Native Americans, and it’s one of the most shameful chapters in American history. Detailed main text, supported by enlightening sidebars and primary sources, gives readers a clear picture of the reasons the Cherokee people were forced from their homes and what happened to them on the difficult journey west.","English",39.4,31.52,"975.004'97557--dc23","104 pp.","https://greenhavenpublishing.com/978-1-5345-6136-6",{"$f":"Table1[[#This Row],['# of Books]]*Table1[[#This Row],[QTY]]","v":0},{"$f":"Table1[[#This Row],[QTY]]*Table1[[#This Row],[School & Library Price]]","v":0}]
[null,null,85,null,null,"U.S. History","American History","The Transcontinental Railroad: Connecting the Nation","978-1-5345-6137-3",{"$f":"HYPERLINK(Table1[[#This Row],[Hyperlink]],\"Weblink\")","v":"Weblink"},"Lucent Press","Library Bound Book",1,"2018","August 2017","Library","7.000 X 9.000","Author","Therese Harasymiw",null,null,null,null,"Z",null,"Grade 7","Grade 7 - 10","Readers may know the basic facts about the creation of the first transcontinental railroad, but the full story behind the push to connect the United States by rail is much more than the names and dates taught in history classes. Readers discover the exciting, important details including the contributions of immigrants as they encounter engaging main text, comprehensive sidebars, and historical images that include carefully chosen primary sources. These text features come together to give readers an in-depth look at the first successful attempt to connect the United States through transportation.","English",39.4,31.52,"385.0978'09034--dc23","104 pp.","https://greenhavenpublishing.com/978-1-5345-6137-3",{"$f":"Table1[[#This Row],['# of Books]]*Table1[[#This Row],[QTY]]","v":0},{"$f":"Table1[[#This Row],[QTY]]*Table1[[#This Row],[School & Library Price]]","v":0}]
[null,null,85,null,null,"U.S. History","American History","U.S. Political Parties: Development and Division","978-1-5345-6424-4",{"$f":"HYPERLINK(Table1[[#This Row],[Hyperlink]],\"Weblink\")","v":"Weblink"},"Lucent Press","Library Bound Book",1,"2019","August 2018","Library","7.000 X 9.000","Author","Philip Wolny",null,null,null,null,"Z",null,"Grade 7","Grade 7 - 10","Partisan politics and division between Americans of different political parties are constantly in the news. However, political division is not a new thing in the United States, and readers are introduced to the history of political parties as they explore how the early divisions between the Founding Fathers are still reflected in many ways today. The insightful main text and sidebars include annotated quotations to provide first-person perspectives on the various political parties that have had an impact on American democracy. Primary sources and a detailed timeline provide additional information about this timely topic.","English",39.4,31.52,"324.273--dc23","104 pp.","https://greenhavenpublishing.com/978-1-5345-6424-4",{"$f":"Table1[[#This Row],['# of Books]]*Table1[[#This Row],[QTY]]","v":0},{"$f":"Table1[[#This Row],[QTY]]*Table1[[#This Row],[School & Library Price]]","v":0}]
[null,null,85,null,null,"U.S. History","American History","U.S. Political Parties: Development and Division","978-1-5345-6426-8",{"$f":"HYPERLINK(Table1[[#This Row],[Hyperlink]],\"Weblink\")","v":"Weblink"},"Lucent Press","Paperback Book",1,"2019","August 2018","Paperback","7.000 X 9.000","Author","Philip Wolny",null,null,null,null,"Z",null,"Grade 7","Grade 7 - 10","Partisan politics and division between Americans of different political parties are constantly in the news. However, political division is not a new thing in the United States, and readers are introduced to the history of political parties as they explore how the early divisions between the Founding Fathers are still reflected in many ways today. The insightful main text and sidebars include annotated quotations to provide first-person perspectives on the various political parties that have had an impact on American democracy. Primary sources and a detailed timeline provide additional information about this timely topic.","English",19.989999999999998,16.989999999999998,"324.273--dc23","104 pp.","https://greenhavenpublishing.com/978-1-5345-6426-8",{"$f":"Table1[[#This Row],['# of Books]]*Table1[[#This Row],[QTY]]","v":0},{"$f":"Table1[[#This Row],[QTY]]*Table1[[#This Row],[School & Library Price]]","v":0}]
[null,null,85,null,null,"U.S. History","American History","U.S. Political Parties: Development and Division","978-1-5345-6425-1",{"$f":"HYPERLINK(Table1[[#This Row],[Hyperlink]],\"Weblink\")","v":"Weblink"},"Lucent Press","eBook",1,"2019","August 2018",null,null,"Author","Philip Wolny",null,null,null,null,"Z",null,"Grade 7","Grade 7 - 10","Partisan politics and division between Americans of different political parties are constantly in the news. However, political division is not a new thing in the United States, and readers are introduced to the history of political parties as they explore how the early divisions between the Founding Fathers are still reflected in many ways today. The insightful main text and sidebars include annotated quotations to provide first-person perspectives on the various political parties that have had an impact on American democracy. Primary sources and a detailed timeline provide additional information about this timely topic.","English",39.4,31.52,"324.273--dc23","104 pp.","https://greenhavenpublishing.com/978-1-5345-6425-1",{"$f":"Table1[[#This Row],['# of Books]]*Table1[[#This Row],[QTY]]","v":0},{"$f":"Table1[[#This Row],[QTY]]*Table1[[#This Row],[School & Library Price]]","v":0}]
[null,null,85,null,null,"U.S. History","American History","Watergate and the Resignation of President Nixon","978-1-5345-6427-5",{"$f":"HYPERLINK(Table1[[#This Row],[Hyperlink]],\"Weblink\")","v":"Weblink"},"Lucent Press","Library Bound Book",1,"2019","August 2018","Library","7.000 X 9.000","Author","Christine Honders",null,null,null,null,"Z",null,"Grade 7","Grade 7 - 10","Why did Richard Nixon become the first president to resign? Readers discover the answer to this question as they explore the political scandal known as Watergate. This complex topic is explained through accessible main text featuring annotated quotations from historians as well as historical figures and documents. Primary sources, enlightening sidebars, and a detailed timeline provide additional information and context for readers looking for insight into this challenging time in American history. Watergate continues to influence how Americans view politics and politicians, and a deeper understanding of why is crucial for the next generation of informed American citizens.","English",39.4,31.52,"973.924092--dc23","104 pp.","https://greenhavenpublishing.com/978-1-5345-6427-5",{"$f":"Table1[[#This Row],['# of Books]]*Table1[[#This Row],[QTY]]","v":0},{"$f":"Table1[[#This Row],[QTY]]*Table1[[#This Row],[School & Library Price]]","v":0}]
[null,null,85,null,null,"U.S. History","American History","Watergate and the Resignation of President Nixon","978-1-5345-6429-9",{"$f":"HYPERLINK(Table1[[#This Row],[Hyperlink]],\"Weblink\")","v":"Weblink"},"Lucent Press","Paperback Book",1,"2019","August 2018","Paperback","7.000 X 9.000","Author","Christine Honders",null,null,null,null,"Z",null,"Grade 7","Grade 7 - 10","Why did Richard Nixon become the first president to resign? Readers discover the answer to this question as they explore the political scandal known as Watergate. This complex topic is explained through accessible main text featuring annotated quotations from historians as well as historical figures and documents. Primary sources, enlightening sidebars, and a detailed timeline provide additional information and context for readers looking for insight into this challenging time in American history. Watergate continues to influence how Americans view politics and politicians, and a deeper understanding of why is crucial for the next generation of informed American citizens.","English",19.989999999999998,16.989999999999998,"973.924092--dc23","104 pp.","https://greenhavenpublishing.com/978-1-5345-6429-9",{"$f":"Table1[[#This Row],['# of Books]]*Table1[[#This Row],[QTY]]","v":0},{"$f":"Table1[[#This Row],[QTY]]*Table1[[#This Row],[School & Library Price]]","v":0}]
[null,null,85,null,null,"U.S. History","American History","Watergate and the Resignation of President Nixon","978-1-5345-6428-2",{"$f":"HYPERLINK(Table1[[#This Row],[Hyperlink]],\"Weblink\")","v":"Weblink"},"Lucent Press","eBook",1,"2019","August 2018",null,null,"Author","Christine Honders",null,null,null,null,"Z",null,"Grade 7","Grade 7 - 10","Why did Richard Nixon become the first president to resign? Readers discover the answer to this question as they explore the political scandal known as Watergate. This complex topic is explained through accessible main text featuring annotated quotations from historians as well as historical figures and documents. Primary sources, enlightening sidebars, and a detailed timeline provide additional information and context for readers looking for insight into this challenging time in American history. Watergate continues to influence how Americans view politics and politicians, and a deeper understanding of why is crucial for the next generation of informed American citizens.","English",39.4,31.52,"973.924092--dc23","104 pp.","https://greenhavenpublishing.com/978-1-5345-6428-2",{"$f":"Table1[[#This Row],['# of Books]]*Table1[[#This Row],[QTY]]","v":0},{"$f":"Table1[[#This Row],[QTY]]*Table1[[#This Row],[School & Library Price]]","v":0}]
[null,null,86,null,null,"U.S. History","American Democracy in Action","American Democracy in Action","978-1-5345-6452-7",{"$f":"HYPERLINK(Table1[[#This Row],[Hyperlink]],\"Weblink\")","v":"Weblink"},"Lucent Press","Library Set",6,"2019","August 2018","Library","7.250 X 9.250",null,null,null,null,null,null,null,null,"Grade 6","Grade 5 - 8","What duties does the president of the United States have? How do you vote in an election? These questions and many others are answered in this engaging series. Readers will expand their knowledge of relevant social studies and civics curriculum topics, such as Congress, the U.S. Constitution, the democratic process, the judicial system, and citizenship. This series helps to explain the history of the U.S. government, how it has changed over the years, its current role in our society, and each citizen's role within that government. Vibrant full-color photographs, a detailed glossary, and informative graphic organizers provide extra insight into these important subjects. Features include: Readers will improve their critical thinking skills as they are asked specific questions in each chapter about different facets of the U.S. government. Informational sidebars offer up additional facts to strengthen readers' knowledge of democracy and encourage them to be active, informed citizens. Striking visual elements draw readers in and create an engaging learning experience about a timely topic.","English",201.6,161.28,null,"48 pp.","https://greenhavenpublishing.com/978-1-5345-6452-7",{"$f":"Table1[[#This Row],['# of Books]]*Table1[[#This Row],[QTY]]","v":0},{"$f":"Table1[[#This Row],[QTY]]*Table1[[#This Row],[School & Library Price]]","v":0}]
[null,null,86,null,null,"U.S. History","American Democracy in Action","American Democracy in Action","978-1-5345-6460-2",{"$f":"HYPERLINK(Table1[[#This Row],[Hyperlink]],\"Weblink\")","v":"Weblink"},"Lucent Press","Single Copy Set",6,"2019","August 2018","Paperback","7.250 X 9.250",null,null,null,null,null,null,null,null,"Grade 6","Grade 5 - 8","What duties does the president of the United States have? How do you vote in an election? These questions and many others are answered in this engaging series. Readers will expand their knowledge of relevant social studies and civics curriculum topics, such as Congress, the U.S. Constitution, the democratic process, the judicial system, and citizenship. This series helps to explain the history of the U.S. government, how it has changed over the years, its current role in our society, and each citizen's role within that government. Vibrant full-color photographs, a detailed glossary, and informative graphic organizers provide extra insight into these important subjects. Features include: Readers will improve their critical thinking skills as they are asked specific questions in each chapter about different facets of the U.S. government. Informational sidebars offer up additional facts to strengthen readers' knowledge of democracy and encourage them to be active, informed citizens. Striking visual elements draw readers in and create an engaging learning experience about a timely topic.","English",84.3,71.7,null,"48 pp.","https://greenhavenpublishing.com/978-1-5345-6460-2",{"$f":"Table1[[#This Row],['# of Books]]*Table1[[#This Row],[QTY]]","v":0},{"$f":"Table1[[#This Row],[QTY]]*Table1[[#This Row],[School & Library Price]]","v":0}]
[null,null,86,null,null,"U.S. History","American Democracy in Action","Active Citizenship","978-1-5345-6394-0",{"$f":"HYPERLINK(Table1[[#This Row],[Hyperlink]],\"Weblink\")","v":"Weblink"},"Lucent Press","Library Bound Book",1,"2019","August 2018","Library","7.250 X 9.250","Author","Cathleen Small",null,null,null,null,"W",null,"Grade 6","Grade 5 - 8","It's never too early to become an informed, active citizen. Citizens of the United States have certain rights and duties. Readers learn about these freedoms and responsibilities as they are presented with useful facts about U.S. citizenship. This accessible main text delves into what it means to be an active citizen, the importance of learning about the government and political leaders, why voting is crucial, how to get involved in causes that are important, and volunteering. Eye-catching full-color photographs, insightful sidebars, and information graphic organizers provide further understanding of this vital social studies and civics curriculum topic.","English",33.6,26.88,"323.6'5--dc23","48 pp.","https://greenhavenpublishing.com/978-1-5345-6394-0",{"$f":"Table1[[#This Row],['# of Books]]*Table1[[#This Row],[QTY]]","v":0},{"$f":"Table1[[#This Row],[QTY]]*Table1[[#This Row],[School & Library Price]]","v":0}]
[null,null,86,null,null,"U.S. History","American Democracy in Action","Active Citizenship","978-1-5345-6396-4",{"$f":"HYPERLINK(Table1[[#This Row],[Hyperlink]],\"Weblink\")","v":"Weblink"},"Lucent Press","Paperback Book",1,"2019","August 2018","Paperback","7.250 X 9.250","Author","Cathleen Small",null,null,null,null,"W",null,"Grade 6","Grade 5 - 8","It's never too early to become an informed, active citizen. Citizens of the United States have certain rights and duties. Readers learn about these freedoms and responsibilities as they are presented with useful facts about U.S. citizenship. This accessible main text delves into what it means to be an active citizen, the importance of learning about the government and political leaders, why voting is crucial, how to get involved in causes that are important, and volunteering. Eye-catching full-color photographs, insightful sidebars, and information graphic organizers provide further understanding of this vital social studies and civics curriculum topic.","English",14.05,11.95,"323.6'5--dc23","48 pp.","https://greenhavenpublishing.com/978-1-5345-6396-4",{"$f":"Table1[[#This Row],['# of Books]]*Table1[[#This Row],[QTY]]","v":0},{"$f":"Table1[[#This Row],[QTY]]*Table1[[#This Row],[School & Library Price]]","v":0}]
[null,null,86,null,null,"U.S. History","American Democracy in Action","Active Citizenship","978-1-5345-6395-7",{"$f":"HYPERLINK(Table1[[#This Row],[Hyperlink]],\"Weblink\")","v":"Weblink"},"Lucent Press","eBook",1,"2019","August 2018",null,null,"Author","Cathleen Small",null,null,null,null,"W",null,"Grade 6","Grade 5 - 8","It's never too early to become an informed, active citizen. Citizens of the United States have certain rights and duties. Readers learn about these freedoms and responsibilities as they are presented with useful facts about U.S. citizenship. This accessible main text delves into what it means to be an active citizen, the importance of learning about the government and political leaders, why voting is crucial, how to get involved in causes that are important, and volunteering. Eye-catching full-color photographs, insightful sidebars, and information graphic organizers provide further understanding of this vital social studies and civics curriculum topic.","English",33.6,26.88,"323.6'5--dc23","48 pp.","https://greenhavenpublishing.com/978-1-5345-6395-7",{"$f":"Table1[[#This Row],['# of Books]]*Table1[[#This Row],[QTY]]","v":0},{"$f":"Table1[[#This Row],[QTY]]*Table1[[#This Row],[School & Library Price]]","v":0}]
[null,null,86,null,null,"U.S. History","American Democracy in Action","The Constitution: The Responsibilities and Powers of the U.S. Government","978-1-5345-6406-0",{"$f":"HYPERLINK(Table1[[#This Row],[Hyperlink]],\"Weblink\")","v":"Weblink"},"Lucent Press","Library Bound Book",1,"2019","August 2018","Library","7.250 X 9.250","Author","Cathleen Small",null,null,null,null,"W",null,"Grade 6","Grade 5 - 8","How did the Constitution establish the U.S. government? This question is at the heart of this engaging text about the history of the Constitution. Readers are given a detailed overview of how the Constitution was born and how it has been amended throughout history. Some of the subjects covered include the amendment process, the different interpretations of the Constitution, and how the Supreme Court uses the Constitution to determine outcomes of cases. Vibrant full-color photographs, informational graphic organizers, and fact-filled sidebars present this important social studies curriculum topic in an accessible way.","English",33.6,26.88,"342.7302'9--dc23","48 pp.","https://greenhavenpublishing.com/978-1-5345-6406-0",{"$f":"Table1[[#This Row],['# of Books]]*Table1[[#This Row],[QTY]]","v":0},{"$f":"Table1[[#This Row],[QTY]]*Table1[[#This Row],[School & Library Price]]","v":0}]
[null,null,86,null,null,"U.S. History","American Democracy in Action","The Constitution: The Responsibilities and Powers of the U.S. Government","978-1-5345-6408-4",{"$f":"HYPERLINK(Table1[[#This Row],[Hyperlink]],\"Weblink\")","v":"Weblink"},"Lucent Press","Paperback Book",1,"2019","August 2018","Paperback","7.250 X 9.250","Author","Cathleen Small",null,null,null,null,"W",null,"Grade 6","Grade 5 - 8","How did the Constitution establish the U.S. government? This question is at the heart of this engaging text about the history of the Constitution. Readers are given a detailed overview of how the Constitution was born and how it has been amended throughout history. Some of the subjects covered include the amendment process, the different interpretations of the Constitution, and how the Supreme Court uses the Constitution to determine outcomes of cases. Vibrant full-color photographs, informational graphic organizers, and fact-filled sidebars present this important social studies curriculum topic in an accessible way.","English",14.05,11.95,"342.7302'9--dc23","48 pp.","https://greenhavenpublishing.com/978-1-5345-6408-4",{"$f":"Table1[[#This Row],['# of Books]]*Table1[[#This Row],[QTY]]","v":0},{"$f":"Table1[[#This Row],[QTY]]*Table1[[#This Row],[School & Library Price]]","v":0}]
[null,null,86,null,null,"U.S. History","American Democracy in Action","The Constitution: The Responsibilities and Powers of the U.S. Government","978-1-5345-6407-7",{"$f":"HYPERLINK(Table1[[#This Row],[Hyperlink]],\"Weblink\")","v":"Weblink"},"Lucent Press","eBook",1,"2019","August 2018",null,null,"Author","Cathleen Small",null,null,null,null,"W",null,"Grade 6","Grade 5 - 8","How did the Constitution establish the U.S. government? This question is at the heart of this engaging text about the history of the Constitution. Readers are given a detailed overview of how the Constitution was born and how it has been amended throughout history. Some of the subjects covered include the amendment process, the different interpretations of the Constitution, and how the Supreme Court uses the Constitution to determine outcomes of cases. Vibrant full-color photographs, informational graphic organizers, and fact-filled sidebars present this important social studies curriculum topic in an accessible way.","English",33.6,26.88,"342.7302'9--dc23","48 pp.","https://greenhavenpublishing.com/978-1-5345-6407-7",{"$f":"Table1[[#This Row],['# of Books]]*Table1[[#This Row],[QTY]]","v":0},{"$f":"Table1[[#This Row],[QTY]]*Table1[[#This Row],[School & Library Price]]","v":0}]
[null,null,86,null,null,"U.S. History","American Democracy in Action","Elections and Voting","978-1-5345-6397-1",{"$f":"HYPERLINK(Table1[[#This Row],[Hyperlink]],\"Weblink\")","v":"Weblink"},"Lucent Press","Library Bound Book",1,"2019","August 2018","Library","7.250 X 9.250","Author","Cathleen Small",null,null,null,null,"W",null,"Grade 6","Grade 5 - 8","The election system in the United States has evolved throughout history. Readers are presented with facts about the origins of the election system, how elections have changed over the years, and how elections currently function. The accessible text touches on different types of elections, how elections are described in the Constitution, the Electoral College system, the popular vote versus the electoral vote, and a person's eligibility to vote. Eye-catching full-color photographs, comprehensive graphic organizers, and informational sidebars broaden readers' understanding of this common social studies curriculum subject and important civics concept.","English",33.6,26.88,"324.973--dc23","48 pp.","https://greenhavenpublishing.com/978-1-5345-6397-1",{"$f":"Table1[[#This Row],['# of Books]]*Table1[[#This Row],[QTY]]","v":0},{"$f":"Table1[[#This Row],[QTY]]*Table1[[#This Row],[School & Library Price]]","v":0}]
[null,null,86,null,null,"U.S. History","American Democracy in Action","Elections and Voting","978-1-5345-6399-5",{"$f":"HYPERLINK(Table1[[#This Row],[Hyperlink]],\"Weblink\")","v":"Weblink"},"Lucent Press","Paperback Book",1,"2019","August 2018","Paperback","7.250 X 9.250","Author","Cathleen Small",null,null,null,null,"W",null,"Grade 6","Grade 5 - 8","The election system in the United States has evolved throughout history. Readers are presented with facts about the origins of the election system, how elections have changed over the years, and how elections currently function. The accessible text touches on different types of elections, how elections are described in the Constitution, the Electoral College system, the popular vote versus the electoral vote, and a person's eligibility to vote. Eye-catching full-color photographs, comprehensive graphic organizers, and informational sidebars broaden readers' understanding of this common social studies curriculum subject and important civics concept.","English",14.05,11.95,"324.973--dc23","48 pp.","https://greenhavenpublishing.com/978-1-5345-6399-5",{"$f":"Table1[[#This Row],['# of Books]]*Table1[[#This Row],[QTY]]","v":0},{"$f":"Table1[[#This Row],[QTY]]*Table1[[#This Row],[School & Library Price]]","v":0}]
[null,null,86,null,null,"U.S. History","American Democracy in Action","Elections and Voting","978-1-5345-6398-8",{"$f":"HYPERLINK(Table1[[#This Row],[Hyperlink]],\"Weblink\")","v":"Weblink"},"Lucent Press","eBook",1,"2019","August 2018",null,null,"Author","Cathleen Small",null,null,null,null,"W",null,"Grade 6","Grade 5 - 8","The election system in the United States has evolved throughout history. Readers are presented with facts about the origins of the election system, how elections have changed over the years, and how elections currently function. The accessible text touches on different types of elections, how elections are described in the Constitution, the Electoral College system, the popular vote versus the electoral vote, and a person's eligibility to vote. Eye-catching full-color photographs, comprehensive graphic organizers, and informational sidebars broaden readers' understanding of this common social studies curriculum subject and important civics concept.","English",33.6,26.88,"324.973--dc23","48 pp.","https://greenhavenpublishing.com/978-1-5345-6398-8",{"$f":"Table1[[#This Row],['# of Books]]*Table1[[#This Row],[QTY]]","v":0},{"$f":"Table1[[#This Row],[QTY]]*Table1[[#This Row],[School & Library Price]]","v":0}]
[null,null,86,null,null,"U.S. History","American Democracy in Action","How Does Congress Work?","978-1-5345-6400-8",{"$f":"HYPERLINK(Table1[[#This Row],[Hyperlink]],\"Weblink\")","v":"Weblink"},"Lucent Press","Library Bound Book",1,"2019","August 2018","Library","7.250 X 9.250","Author","Cathleen Small",null,null,null,null,"W",null,"Grade 6","Grade 5 - 8","How many parts of Congress are there? What does Congress have the power to do? These questions and more are addressed in this educational and engaging text on the U.S. Congress. Young readers are introduced to the specifics of the Senate and the House of Representatives, the structure and powers of Congress, and the various jobs carried out by Congress. Additional information about this common social studies curriculum topic is presented through detailed full-color photographs, informational sidebars, and easily understandable graphic organizers. Readers are challenged to think critically about this branch of government, which encourages active citizenship.","English",33.6,26.88,"328.73--dc23","48 pp.","https://greenhavenpublishing.com/978-1-5345-6400-8",{"$f":"Table1[[#This Row],['# of Books]]*Table1[[#This Row],[QTY]]","v":0},{"$f":"Table1[[#This Row],[QTY]]*Table1[[#This Row],[School & Library Price]]","v":0}]
[null,null,86,null,null,"U.S. History","American Democracy in Action","How Does Congress Work?","978-1-5345-6402-2",{"$f":"HYPERLINK(Table1[[#This Row],[Hyperlink]],\"Weblink\")","v":"Weblink"},"Lucent Press","Paperback Book",1,"2019","August 2018","Paperback","7.250 X 9.250","Author","Cathleen Small",null,null,null,null,"W",null,"Grade 6","Grade 5 - 8","How many parts of Congress are there? What does Congress have the power to do? These questions and more are addressed in this educational and engaging text on the U.S. Congress. Young readers are introduced to the specifics of the Senate and the House of Representatives, the structure and powers of Congress, and the various jobs carried out by Congress. Additional information about this common social studies curriculum topic is presented through detailed full-color photographs, informational sidebars, and easily understandable graphic organizers. Readers are challenged to think critically about this branch of government, which encourages active citizenship.","English",14.05,11.95,"328.73--dc23","48 pp.","https://greenhavenpublishing.com/978-1-5345-6402-2",{"$f":"Table1[[#This Row],['# of Books]]*Table1[[#This Row],[QTY]]","v":0},{"$f":"Table1[[#This Row],[QTY]]*Table1[[#This Row],[School & Library Price]]","v":0}]
[null,null,86,null,null,"U.S. History","American Democracy in Action","How Does Congress Work?","978-1-5345-6401-5",{"$f":"HYPERLINK(Table1[[#This Row],[Hyperlink]],\"Weblink\")","v":"Weblink"},"Lucent Press","eBook",1,"2019","August 2018",null,null,"Author","Cathleen Small",null,null,null,null,"W",null,"Grade 6","Grade 5 - 8","How many parts of Congress are there? What does Congress have the power to do? These questions and more are addressed in this educational and engaging text on the U.S. Congress. Young readers are introduced to the specifics of the Senate and the House of Representatives, the structure and powers of Congress, and the various jobs carried out by Congress. Additional information about this common social studies curriculum topic is presented through detailed full-color photographs, informational sidebars, and easily understandable graphic organizers. Readers are challenged to think critically about this branch of government, which encourages active citizenship.","English",33.6,26.88,"328.73--dc23","48 pp.","https://greenhavenpublishing.com/978-1-5345-6401-5",{"$f":"Table1[[#This Row],['# of Books]]*Table1[[#This Row],[QTY]]","v":0},{"$f":"Table1[[#This Row],[QTY]]*Table1[[#This Row],[School & Library Price]]","v":0}]
[null,null,86,null,null,"U.S. History","American Democracy in Action","Laws and the Judicial System","978-1-5345-6403-9",{"$f":"HYPERLINK(Table1[[#This Row],[Hyperlink]],\"Weblink\")","v":"Weblink"},"Lucent Press","Library Bound Book",1,"2019","August 2018","Library","7.250 X 9.250","Author","Cathleen Small",null,null,null,null,"W",null,"Grade 6","Grade 5 - 8","How are laws made? How many different types of courts are there? What kinds of punishments are issued for certain crimes? These questions and more are answered in this enlightening text, in which readers are introduced to the many facets of the United States judicial system. They will gain insight on the various laws made within the federal, state, and local branches of the judicial system, as well as learn the difference between felonies and misdemeanors. Full-color photographs, informational graphic organizers, and detailed sidebars also enhance the reading experience to help young people think critically about these relevant social studies curriculum topics.","English",33.6,26.88,"347.73'2--dc23","48 pp.","https://greenhavenpublishing.com/978-1-5345-6403-9",{"$f":"Table1[[#This Row],['# of Books]]*Table1[[#This Row],[QTY]]","v":0},{"$f":"Table1[[#This Row],[QTY]]*Table1[[#This Row],[School & Library Price]]","v":0}]
[null,null,86,null,null,"U.S. History","American Democracy in Action","Laws and the Judicial System","978-1-5345-6405-3",{"$f":"HYPERLINK(Table1[[#This Row],[Hyperlink]],\"Weblink\")","v":"Weblink"},"Lucent Press","Paperback Book",1,"2019","August 2018","Paperback","7.250 X 9.250","Author","Cathleen Small",null,null,null,null,"W",null,"Grade 6","Grade 5 - 8","How are laws made? How many different types of courts are there? What kinds of punishments are issued for certain crimes? These questions and more are answered in this enlightening text, in which readers are introduced to the many facets of the United States judicial system. They will gain insight on the various laws made within the federal, state, and local branches of the judicial system, as well as learn the difference between felonies and misdemeanors. Full-color photographs, informational graphic organizers, and detailed sidebars also enhance the reading experience to help young people think critically about these relevant social studies curriculum topics.","English",14.05,11.95,"347.73'2--dc23","48 pp.","https://greenhavenpublishing.com/978-1-5345-6405-3",{"$f":"Table1[[#This Row],['# of Books]]*Table1[[#This Row],[QTY]]","v":0},{"$f":"Table1[[#This Row],[QTY]]*Table1[[#This Row],[School & Library Price]]","v":0}]
[null,null,86,null,null,"U.S. History","American Democracy in Action","Laws and the Judicial System","978-1-5345-6404-6",{"$f":"HYPERLINK(Table1[[#This Row],[Hyperlink]],\"Weblink\")","v":"Weblink"},"Lucent Press","eBook",1,"2019","August 2018",null,null,"Author","Cathleen Small",null,null,null,null,"W",null,"Grade 6","Grade 5 - 8","How are laws made? How many different types of courts are there? What kinds of punishments are issued for certain crimes? These questions and more are answered in this enlightening text, in which readers are introduced to the many facets of the United States judicial system. They will gain insight on the various laws made within the federal, state, and local branches of the judicial system, as well as learn the difference between felonies and misdemeanors. Full-color photographs, informational graphic organizers, and detailed sidebars also enhance the reading experience to help young people think critically about these relevant social studies curriculum topics.","English",33.6,26.88,"347.73'2--dc23","48 pp.","https://greenhavenpublishing.com/978-1-5345-6404-6",{"$f":"Table1[[#This Row],['# of Books]]*Table1[[#This Row],[QTY]]","v":0},{"$f":"Table1[[#This Row],[QTY]]*Table1[[#This Row],[School & Library Price]]","v":0}]
[null,null,86,null,null,"U.S. History","American Democracy in Action","The Role of President","978-1-5345-6409-1",{"$f":"HYPERLINK(Table1[[#This Row],[Hyperlink]],\"Weblink\")","v":"Weblink"},"Lucent Press","Library Bound Book",1,"2019","August 2018","Library","7.250 X 9.250","Author","Cathleen Small",null,null,null,null,"W",null,"Grade 6","Grade 5 - 8","The president of the United States' job is complex and has evolved throughout history. This informative text provides a clear understanding of how a person becomes president and their many responsibilities after their inauguration. Readers learn about how the president gets elected, their various roles, the power they have and how that is balanced with other branches of government, and controversies and hardships a president may face during their time in office. Full-color photographs, fact-filled sidebars, and informational graphic organizers enhance knowledge of this social studies curriculum topic and challenge readers to think critically about this important political position.","English",33.6,26.88,"352.230973--dc23","48 pp.","https://greenhavenpublishing.com/978-1-5345-6409-1",{"$f":"Table1[[#This Row],['# of Books]]*Table1[[#This Row],[QTY]]","v":0},{"$f":"Table1[[#This Row],[QTY]]*Table1[[#This Row],[School & Library Price]]","v":0}]
[null,null,86,null,null,"U.S. History","American Democracy in Action","The Role of President","978-1-5345-6411-4",{"$f":"HYPERLINK(Table1[[#This Row],[Hyperlink]],\"Weblink\")","v":"Weblink"},"Lucent Press","Paperback Book",1,"2019","August 2018","Paperback","7.250 X 9.250","Author","Cathleen Small",null,null,null,null,"W",null,"Grade 6","Grade 5 - 8","The president of the United States' job is complex and has evolved throughout history. This informative text provides a clear understanding of how a person becomes president and their many responsibilities after their inauguration. Readers learn about how the president gets elected, their various roles, the power they have and how that is balanced with other branches of government, and controversies and hardships a president may face during their time in office. Full-color photographs, fact-filled sidebars, and informational graphic organizers enhance knowledge of this social studies curriculum topic and challenge readers to think critically about this important political position.","English",14.05,11.95,"352.230973--dc23","48 pp.","https://greenhavenpublishing.com/978-1-5345-6411-4",{"$f":"Table1[[#This Row],['# of Books]]*Table1[[#This Row],[QTY]]","v":0},{"$f":"Table1[[#This Row],[QTY]]*Table1[[#This Row],[School & Library Price]]","v":0}]
[null,null,86,null,null,"U.S. History","American Democracy in Action","The Role of President","978-1-5345-6410-7",{"$f":"HYPERLINK(Table1[[#This Row],[Hyperlink]],\"Weblink\")","v":"Weblink"},"Lucent Press","eBook",1,"2019","August 2018",null,null,"Author","Cathleen Small",null,null,null,null,"W",null,"Grade 6","Grade 5 - 8","The president of the United States' job is complex and has evolved throughout history. This informative text provides a clear understanding of how a person becomes president and their many responsibilities after their inauguration. Readers learn about how the president gets elected, their various roles, the power they have and how that is balanced with other branches of government, and controversies and hardships a president may face during their time in office. Full-color photographs, fact-filled sidebars, and informational graphic organizers enhance knowledge of this social studies curriculum topic and challenge readers to think critically about this important political position.","English",33.6,26.88,"352.230973--dc23","48 pp.","https://greenhavenpublishing.com/978-1-5345-6410-7",{"$f":"Table1[[#This Row],['# of Books]]*Table1[[#This Row],[QTY]]","v":0},{"$f":"Table1[[#This Row],[QTY]]*Table1[[#This Row],[School & Library Price]]","v":0}]
[null,null,87,null,null,"U.S. History","Crossing the Border","Crossing the Border","978-1-5345-6254-7",{"$f":"HYPERLINK(Table1[[#This Row],[Hyperlink]],\"Weblink\")","v":"Weblink"},"Lucent Press","Library Set",6,"2018","January 2018","Library","7.250 X 9.250",null,null,null,null,null,null,null,null,"Grade 6 - 7","Grade 6 - 8","Immigration issues are an important topic in the United States. Terms such as \"border security,\" \"illegal immigrants,\" and \"deportation,\" are often said on news programs and written about in newspapers and online, but what do those terms really mean? How does the U.S. immigration policy and citizenship process affect real people? Readers explore the answers to these questions and many more as they are introduced to essential immigration topics. Important facts about past and present immigration policies are presented through engaging main text and sidebars. The colorful and creative design of each volume includes detailed photographs. Features include: Topic enriches common social studies curricula and allows readers to educate themselves about issues that are often in the news. Fact-filled text encourages readers to learn as much as they can about hot-button issues before making an informed opinion on current events. True stories of immigrants are included to provide real-world examples of the topics discussed in each volume.","English",200.7,160.56,null,"64 pp.","https://greenhavenpublishing.com/978-1-5345-6254-7",{"$f":"Table1[[#This Row],['# of Books]]*Table1[[#This Row],[QTY]]","v":0},{"$f":"Table1[[#This Row],[QTY]]*Table1[[#This Row],[School & Library Price]]","v":0}]
[null,null,87,null,null,"U.S. History","Crossing the Border","Crossing the Border: Spring 2018","978-1-5345-6318-6",{"$f":"HYPERLINK(Table1[[#This Row],[Hyperlink]],\"Weblink\")","v":"Weblink"},"Lucent Press","Single Copy Set",6,"2018","January 2018","Paperback","7.250 X 9.250",null,null,null,null,null,null,null,null,"Grade 6 - 7","Grade 6 - 8","Immigration issues are an important topic in the United States. Terms such as \"border security,\" \"illegal immigrants,\" and \"deportation,\" are often said on news programs and written about in newspapers and online, but what do those terms really mean? How does the U.S. immigration policy and citizenship process affect real people? Readers explore the answers to these questions and many more as they are introduced to essential immigration topics. Important facts about past and present immigration policies are presented through engaging main text and sidebars. The colorful and creative design of each volume includes detailed photographs. Features include: Topic enriches common social studies curricula and allows readers to educate themselves about issues that are often in the news. Fact-filled text encourages readers to learn as much as they can about hot-button issues before making an informed opinion on current events. True stories of immigrants are included to provide real-world examples of the topics discussed in each volume.","English",91.68,77.94,null,"64 pp.","https://greenhavenpublishing.com/978-1-5345-6318-6",{"$f":"Table1[[#This Row],['# of Books]]*Table1[[#This Row],[QTY]]","v":0},{"$f":"Table1[[#This Row],[QTY]]*Table1[[#This Row],[School & Library Price]]","v":0}]
[null,null,87,null,null,"U.S. History","Crossing the Border","Becoming a U.S. Citizen","978-1-5345-6227-1",{"$f":"HYPERLINK(Table1[[#This Row],[Hyperlink]],\"Weblink\")","v":"Weblink"},"Lucent Press","Library Bound Book",1,"2018","January 2018","Library","7.250 X 9.250","Author","Cathleen Small",null,null,null,null,"X","1170L","Grade 6 - 7","Grade 6 - 8","Becoming a U.S. citizen is not easy, but it is very rewarding for those who choose to go through the process. What exactly does that process entail? Readers learn the answer as they explore what immigrants must go through in order to become full citizens. The fact-filled text enhances social studies curriculum topics, and sidebars provide additional information about the citizenship process. Colorful photographs of people working toward becoming U.S. citizens are included to create a relatable and engaging learning experience.","English",33.450000000000003,26.76,"342.7308'3--dc23","64 pp.","https://greenhavenpublishing.com/978-1-5345-6227-1",{"$f":"Table1[[#This Row],['# of Books]]*Table1[[#This Row],[QTY]]","v":0},{"$f":"Table1[[#This Row],[QTY]]*Table1[[#This Row],[School & Library Price]]","v":0}]
[null,null,87,null,null,"U.S. History","Crossing the Border","Becoming a U.S. Citizen","978-1-5345-6276-9",{"$f":"HYPERLINK(Table1[[#This Row],[Hyperlink]],\"Weblink\")","v":"Weblink"},"Lucent Press","Paperback Book",1,"2018","January 2018","Paperback","7.250 X 9.250","Author","Cathleen Small",null,null,null,null,"X","1170L","Grade 6 - 7","Grade 6 - 8","Becoming a U.S. citizen is not easy, but it is very rewarding for those who choose to go through the process. What exactly does that process entail? Readers learn the answer as they explore what immigrants must go through in order to become full citizens. The fact-filled text enhances social studies curriculum topics, and sidebars provide additional information about the citizenship process. Colorful photographs of people working toward becoming U.S. citizens are included to create a relatable and engaging learning experience.","English",15.28,12.99,"342.7308'3--dc23","64 pp.","https://greenhavenpublishing.com/978-1-5345-6276-9",{"$f":"Table1[[#This Row],['# of Books]]*Table1[[#This Row],[QTY]]","v":0},{"$f":"Table1[[#This Row],[QTY]]*Table1[[#This Row],[School & Library Price]]","v":0}]
[null,null,87,null,null,"U.S. History","Crossing the Border","Becoming a U.S. Citizen","978-1-5345-6228-8",{"$f":"HYPERLINK(Table1[[#This Row],[Hyperlink]],\"Weblink\")","v":"Weblink"},"Lucent Press","eBook",1,"2018","January 2018",null,null,"Author","Cathleen Small",null,null,null,null,"X","1170L","Grade 6 - 7","Grade 6 - 8","Becoming a U.S. citizen is not easy, but it is very rewarding for those who choose to go through the process. What exactly does that process entail? Readers learn the answer as they explore what immigrants must go through in order to become full citizens. The fact-filled text enhances social studies curriculum topics, and sidebars provide additional information about the citizenship process. Colorful photographs of people working toward becoming U.S. citizens are included to create a relatable and engaging learning experience.","English",33.450000000000003,26.76,"342.7308'3--dc23","64 pp.","https://greenhavenpublishing.com/978-1-5345-6228-8",{"$f":"Table1[[#This Row],['# of Books]]*Table1[[#This Row],[QTY]]","v":0},{"$f":"Table1[[#This Row],[QTY]]*Table1[[#This Row],[School & Library Price]]","v":0}]
[null,null,87,null,null,"U.S. History","Crossing the Border","Deportation","978-1-5345-6225-7",{"$f":"HYPERLINK(Table1[[#This Row],[Hyperlink]],\"Weblink\")","v":"Weblink"},"Lucent Press","Library Bound Book",1,"2018","January 2018","Library","7.250 X 9.250","Author","Cathleen Small",null,null,null,null,"X","1170L","Grade 6 - 7","Grade 6 - 8","Deportation can be a frightening concept, especially for immigrants or people whose friends or relatives are from another country. Why do people get deported, and what happens to them after the deportation decision is made? The answers to these questions and more are found in this thorough examination of a topic that is often in the news. Comprehensive text and fact-filled sidebars, and vivid photographs enhance the reading experience.","English",33.450000000000003,26.76,"364.1'37--dc23","64 pp.","https://greenhavenpublishing.com/978-1-5345-6225-7",{"$f":"Table1[[#This Row],['# of Books]]*Table1[[#This Row],[QTY]]","v":0},{"$f":"Table1[[#This Row],[QTY]]*Table1[[#This Row],[School & Library Price]]","v":0}]
[null,null,87,null,null,"U.S. History","Crossing the Border","Deportation","978-1-5345-6277-6",{"$f":"HYPERLINK(Table1[[#This Row],[Hyperlink]],\"Weblink\")","v":"Weblink"},"Lucent Press","Paperback Book",1,"2018","January 2018","Paperback","7.250 X 9.250","Author","Cathleen Small",null,null,null,null,"X","1170L","Grade 6 - 7","Grade 6 - 8","Deportation can be a frightening concept, especially for immigrants or people whose friends or relatives are from another country. Why do people get deported, and what happens to them after the deportation decision is made? The answers to these questions and more are found in this thorough examination of a topic that is often in the news. Comprehensive text and fact-filled sidebars, and vivid photographs enhance the reading experience.","English",15.28,12.99,"364.1'37--dc23","64 pp.","https://greenhavenpublishing.com/978-1-5345-6277-6",{"$f":"Table1[[#This Row],['# of Books]]*Table1[[#This Row],[QTY]]","v":0},{"$f":"Table1[[#This Row],[QTY]]*Table1[[#This Row],[School & Library Price]]","v":0}]
[null,null,87,null,null,"U.S. History","Crossing the Border","Deportation","978-1-5345-6226-4",{"$f":"HYPERLINK(Table1[[#This Row],[Hyperlink]],\"Weblink\")","v":"Weblink"},"Lucent Press","eBook",1,"2018","January 2018",null,null,"Author","Cathleen Small",null,null,null,null,"X","1170L","Grade 6 - 7","Grade 6 - 8","Deportation can be a frightening concept, especially for immigrants or people whose friends or relatives are from another country. Why do people get deported, and what happens to them after the deportation decision is made? The answers to these questions and more are found in this thorough examination of a topic that is often in the news. Comprehensive text and fact-filled sidebars, and vivid photographs enhance the reading experience.","English",33.450000000000003,26.76,"364.1'37--dc23","64 pp.","https://greenhavenpublishing.com/978-1-5345-6226-4",{"$f":"Table1[[#This Row],['# of Books]]*Table1[[#This Row],[QTY]]","v":0},{"$f":"Table1[[#This Row],[QTY]]*Table1[[#This Row],[School & Library Price]]","v":0}]
[null,null,87,null,null,"U.S. History","Crossing the Border","The History of Immigration","978-1-5345-6221-9",{"$f":"HYPERLINK(Table1[[#This Row],[Hyperlink]],\"Weblink\")","v":"Weblink"},"Lucent Press","Library Bound Book",1,"2018","January 2018","Library","7.250 X 9.250","Author","Cathleen Small",null,null,null,null,"X","1160L","Grade 6 - 7","Grade 6 - 8","The United States is often called a nation of immigrants, so a deeper understanding of the history of immigration is critical for a deeper understanding of American history as a whole. Readers are encouraged to develop this deeper understanding through detailed text that provides a comprehensive overview of the history of immigration. Engaging sidebars and full-color photographs accompany the main text, enhancing this essential part of social studies curricula and giving readers a clearer picture of the immigrant experience in America.","English",33.450000000000003,26.76,"304.80973--dc23","64 pp.","https://greenhavenpublishing.com/978-1-5345-6221-9",{"$f":"Table1[[#This Row],['# of Books]]*Table1[[#This Row],[QTY]]","v":0},{"$f":"Table1[[#This Row],[QTY]]*Table1[[#This Row],[School & Library Price]]","v":0}]
[null,null,87,null,null,"U.S. History","Crossing the Border","The History of Immigration","978-1-5345-6280-6",{"$f":"HYPERLINK(Table1[[#This Row],[Hyperlink]],\"Weblink\")","v":"Weblink"},"Lucent Press","Paperback Book",1,"2018","January 2018","Paperback","7.250 X 9.250","Author","Cathleen Small",null,null,null,null,"X","1160L","Grade 6 - 7","Grade 6 - 8","The United States is often called a nation of immigrants, so a deeper understanding of the history of immigration is critical for a deeper understanding of American history as a whole. Readers are encouraged to develop this deeper understanding through detailed text that provides a comprehensive overview of the history of immigration. Engaging sidebars and full-color photographs accompany the main text, enhancing this essential part of social studies curricula and giving readers a clearer picture of the immigrant experience in America.","English",15.28,12.99,"304.80973--dc23","64 pp.","https://greenhavenpublishing.com/978-1-5345-6280-6",{"$f":"Table1[[#This Row],['# of Books]]*Table1[[#This Row],[QTY]]","v":0},{"$f":"Table1[[#This Row],[QTY]]*Table1[[#This Row],[School & Library Price]]","v":0}]
[null,null,87,null,null,"U.S. History","Crossing the Border","The History of Immigration","978-1-5345-6222-6",{"$f":"HYPERLINK(Table1[[#This Row],[Hyperlink]],\"Weblink\")","v":"Weblink"},"Lucent Press","eBook",1,"2018","January 2018",null,null,"Author","Cathleen Small",null,null,null,null,"X","1160L","Grade 6 - 7","Grade 6 - 8","The United States is often called a nation of immigrants, so a deeper understanding of the history of immigration is critical for a deeper understanding of American history as a whole. Readers are encouraged to develop this deeper understanding through detailed text that provides a comprehensive overview of the history of immigration. Engaging sidebars and full-color photographs accompany the main text, enhancing this essential part of social studies curricula and giving readers a clearer picture of the immigrant experience in America.","English",33.450000000000003,26.76,"304.80973--dc23","64 pp.","https://greenhavenpublishing.com/978-1-5345-6222-6",{"$f":"Table1[[#This Row],['# of Books]]*Table1[[#This Row],[QTY]]","v":0},{"$f":"Table1[[#This Row],[QTY]]*Table1[[#This Row],[School & Library Price]]","v":0}]
[null,null,87,null,null,"U.S. History","Crossing the Border","Immigrants of Extraordinary Ability","978-1-5345-6229-5",{"$f":"HYPERLINK(Table1[[#This Row],[Hyperlink]],\"Weblink\")","v":"Weblink"},"Lucent Press","Library Bound Book",1,"2018","January 2018","Library","7.250 X 9.250","Author","Cathleen Small",null,null,null,null,"X","1230L","Grade 6 - 7","Grade 6 - 8","What do Yoko Ono, Psy, and Pelé have in common? They are all considered immigrants of extraordinary ability. What does this distinction mean, and how can someone earn it? Readers discover the answers to these and many more questions as they explore the lives of some of the most famous immigrants of extraordinary ability. The engaging, informative text provides readers with a closer look at this little-known aspect of U.S. immigration policy. Full-color photographs of these men and women and sidebars that enhance the main text are also included.","English",33.450000000000003,26.76,"305.9'06912092273--dc23","64 pp.","https://greenhavenpublishing.com/978-1-5345-6229-5",{"$f":"Table1[[#This Row],['# of Books]]*Table1[[#This Row],[QTY]]","v":0},{"$f":"Table1[[#This Row],[QTY]]*Table1[[#This Row],[School & Library Price]]","v":0}]
[null,null,87,null,null,"U.S. History","Crossing the Border","Immigrants of Extraordinary Ability","978-1-5345-6279-0",{"$f":"HYPERLINK(Table1[[#This Row],[Hyperlink]],\"Weblink\")","v":"Weblink"},"Lucent Press","Paperback Book",1,"2018","January 2018","Paperback","7.250 X 9.250","Author","Cathleen Small",null,null,null,null,"X","1230L","Grade 6 - 7","Grade 6 - 8","What do Yoko Ono, Psy, and Pelé have in common? They are all considered immigrants of extraordinary ability. What does this distinction mean, and how can someone earn it? Readers discover the answers to these and many more questions as they explore the lives of some of the most famous immigrants of extraordinary ability. The engaging, informative text provides readers with a closer look at this little-known aspect of U.S. immigration policy. Full-color photographs of these men and women and sidebars that enhance the main text are also included.","English",15.28,12.99,"305.9'06912092273--dc23","64 pp.","https://greenhavenpublishing.com/978-1-5345-6279-0",{"$f":"Table1[[#This Row],['# of Books]]*Table1[[#This Row],[QTY]]","v":0},{"$f":"Table1[[#This Row],[QTY]]*Table1[[#This Row],[School & Library Price]]","v":0}]
[null,null,87,null,null,"U.S. History","Crossing the Border","Immigrants of Extraordinary Ability","978-1-5345-6230-1",{"$f":"HYPERLINK(Table1[[#This Row],[Hyperlink]],\"Weblink\")","v":"Weblink"},"Lucent Press","eBook",1,"2018","January 2018",null,null,"Author","Cathleen Small",null,null,null,null,"X","1230L","Grade 6 - 7","Grade 6 - 8","What do Yoko Ono, Psy, and Pelé have in common? They are all considered immigrants of extraordinary ability. What does this distinction mean, and how can someone earn it? Readers discover the answers to these and many more questions as they explore the lives of some of the most famous immigrants of extraordinary ability. The engaging, informative text provides readers with a closer look at this little-known aspect of U.S. immigration policy. Full-color photographs of these men and women and sidebars that enhance the main text are also included.","English",33.450000000000003,26.76,"305.9'06912092273--dc23","64 pp.","https://greenhavenpublishing.com/978-1-5345-6230-1",{"$f":"Table1[[#This Row],['# of Books]]*Table1[[#This Row],[QTY]]","v":0},{"$f":"Table1[[#This Row],[QTY]]*Table1[[#This Row],[School & Library Price]]","v":0}]
[null,null,87,null,null,"U.S. History","Crossing the Border","U.S. Borders","978-1-5345-6250-9",{"$f":"HYPERLINK(Table1[[#This Row],[Hyperlink]],\"Weblink\")","v":"Weblink"},"Lucent Press","Library Bound Book",1,"2018","January 2018","Library","7.250 X 9.250","Author","Cathleen Small",null,null,null,null,"X","1180L","Grade 6 - 7","Grade 6 - 8","The borders between the United States and foreign countries are important locations. Goods and people cross them constantly as they move from one nation to another. Readers discover what happens at these borders and how they are protected through enlightening main text and sidebars that provide additional information. Full-color photographs are also included, helping readers visualize the borders between the United States and its neighbors. Border protection is often in the news, and readers will develop a stronger sense of why this issue is so important as they explore this timely topic.","English",33.450000000000003,26.76,"363.28'50973--dc23","64 pp.","https://greenhavenpublishing.com/978-1-5345-6250-9",{"$f":"Table1[[#This Row],['# of Books]]*Table1[[#This Row],[QTY]]","v":0},{"$f":"Table1[[#This Row],[QTY]]*Table1[[#This Row],[School & Library Price]]","v":0}]
[null,null,87,null,null,"U.S. History","Crossing the Border","U.S. Borders","978-1-5345-6281-3",{"$f":"HYPERLINK(Table1[[#This Row],[Hyperlink]],\"Weblink\")","v":"Weblink"},"Lucent Press","Paperback Book",1,"2018","January 2018","Paperback","7.250 X 9.250","Author","Cathleen Small",null,null,null,null,"X","1180L","Grade 6 - 7","Grade 6 - 8","The borders between the United States and foreign countries are important locations. Goods and people cross them constantly as they move from one nation to another. Readers discover what happens at these borders and how they are protected through enlightening main text and sidebars that provide additional information. Full-color photographs are also included, helping readers visualize the borders between the United States and its neighbors. Border protection is often in the news, and readers will develop a stronger sense of why this issue is so important as they explore this timely topic.","English",15.28,12.99,"363.28'50973--dc23","64 pp.","https://greenhavenpublishing.com/978-1-5345-6281-3",{"$f":"Table1[[#This Row],['# of Books]]*Table1[[#This Row],[QTY]]","v":0},{"$f":"Table1[[#This Row],[QTY]]*Table1[[#This Row],[School & Library Price]]","v":0}]
[null,null,87,null,null,"U.S. History","Crossing the Border","U.S. Borders","978-1-5345-6251-6",{"$f":"HYPERLINK(Table1[[#This Row],[Hyperlink]],\"Weblink\")","v":"Weblink"},"Lucent Press","eBook",1,"2018","January 2018",null,null,"Author","Cathleen Small",null,null,null,null,"X","1180L","Grade 6 - 7","Grade 6 - 8","The borders between the United States and foreign countries are important locations. Goods and people cross them constantly as they move from one nation to another. Readers discover what happens at these borders and how they are protected through enlightening main text and sidebars that provide additional information. Full-color photographs are also included, helping readers visualize the borders between the United States and its neighbors. Border protection is often in the news, and readers will develop a stronger sense of why this issue is so important as they explore this timely topic.","English",33.450000000000003,26.76,"363.28'50973--dc23","64 pp.","https://greenhavenpublishing.com/978-1-5345-6251-6",{"$f":"Table1[[#This Row],['# of Books]]*Table1[[#This Row],[QTY]]","v":0},{"$f":"Table1[[#This Row],[QTY]]*Table1[[#This Row],[School & Library Price]]","v":0}]
[null,null,87,null,null,"U.S. History","Crossing the Border","Undocumented Immigrants","978-1-5345-6223-3",{"$f":"HYPERLINK(Table1[[#This Row],[Hyperlink]],\"Weblink\")","v":"Weblink"},"Lucent Press","Library Bound Book",1,"2018","January 2018","Library","7.250 X 9.250","Author","Cathleen Small",null,null,null,null,"X","1180L","Grade 6 - 7","Grade 6 - 8","Who are undocumented immigrants? What happens to undocumented immigrants after they are discovered in the United States? These questions and more are answered by this comprehensive look at a hot topic that is often debated on news programs and online. The accessible, objective text and full-color photographs give readers a balanced look at this complicated issue, and detailed sidebars provide additional information. Readers will benefit from having their critical-thinking skills strengthened as they examine this challenging issue.","English",33.450000000000003,26.76,"364.1'37--dc23","64 pp.","https://greenhavenpublishing.com/978-1-5345-6223-3",{"$f":"Table1[[#This Row],['# of Books]]*Table1[[#This Row],[QTY]]","v":0},{"$f":"Table1[[#This Row],[QTY]]*Table1[[#This Row],[School & Library Price]]","v":0}]
[null,null,87,null,null,"U.S. History","Crossing the Border","Undocumented Immigrants","978-1-5345-6278-3",{"$f":"HYPERLINK(Table1[[#This Row],[Hyperlink]],\"Weblink\")","v":"Weblink"},"Lucent Press","Paperback Book",1,"2018","January 2018","Paperback","7.250 X 9.250","Author","Cathleen Small",null,null,null,null,"X","1180L","Grade 6 - 7","Grade 6 - 8","Who are undocumented immigrants? What happens to undocumented immigrants after they are discovered in the United States? These questions and more are answered by this comprehensive look at a hot topic that is often debated on news programs and online. The accessible, objective text and full-color photographs give readers a balanced look at this complicated issue, and detailed sidebars provide additional information. Readers will benefit from having their critical-thinking skills strengthened as they examine this challenging issue.","English",15.28,12.99,"364.1'37--dc23","64 pp.","https://greenhavenpublishing.com/978-1-5345-6278-3",{"$f":"Table1[[#This Row],['# of Books]]*Table1[[#This Row],[QTY]]","v":0},{"$f":"Table1[[#This Row],[QTY]]*Table1[[#This Row],[School & Library Price]]","v":0}]
[null,null,87,null,null,"U.S. History","Crossing the Border","Undocumented Immigrants","978-1-5345-6224-0",{"$f":"HYPERLINK(Table1[[#This Row],[Hyperlink]],\"Weblink\")","v":"Weblink"},"Lucent Press","eBook",1,"2018","January 2018",null,null,"Author","Cathleen Small",null,null,null,null,"X","1180L","Grade 6 - 7","Grade 6 - 8","Who are undocumented immigrants? What happens to undocumented immigrants after they are discovered in the United States? These questions and more are answered by this comprehensive look at a hot topic that is often debated on news programs and online. The accessible, objective text and full-color photographs give readers a balanced look at this complicated issue, and detailed sidebars provide additional information. Readers will benefit from having their critical-thinking skills strengthened as they examine this challenging issue.","English",33.450000000000003,26.76,"364.1'37--dc23","64 pp.","https://greenhavenpublishing.com/978-1-5345-6224-0",{"$f":"Table1[[#This Row],['# of Books]]*Table1[[#This Row],[QTY]]","v":0},{"$f":"Table1[[#This Row],[QTY]]*Table1[[#This Row],[School & Library Price]]","v":0}]
[null,null,88,null,null,"U.S. History","Lucent Library of Black History","African American Folklore","978-1-4205-0082-0",{"$f":"HYPERLINK(Table1[[#This Row],[Hyperlink]],\"Weblink\")","v":"Weblink"},"Lucent Press","Library Bound Book",1,"2008","January 2008","Library","7.000 X 9.000","Author","Stephen Currie",null,null,null,null,"Z",null,"Grade 7","Grade 7 - 10","This compelling edition explores the history of African American folklore. Author Stephen Currie traces the complex impact of folk stories, folk songs, jokes, rhymes, and folk music on African American history and culture. Context is provided through examples and historical evidence. Readers will gain critical insight into how folklore shaped and influenced the African American experience in America. ","English",39.4,31.52,"398/​.08996","104 pp.","https://greenhavenpublishing.com/978-1-4205-0082-0",{"$f":"Table1[[#This Row],['# of Books]]*Table1[[#This Row],[QTY]]","v":0},{"$f":"Table1[[#This Row],[QTY]]*Table1[[#This Row],[School & Library Price]]","v":0}]
[null,null,88,null,null,"U.S. History","Lucent Library of Black History","The African American Religious Experience","978-1-4205-0006-6",{"$f":"HYPERLINK(Table1[[#This Row],[Hyperlink]],\"Weblink\")","v":"Weblink"},"Lucent Press","Library Bound Book",1,"2008","January 2008","Library","7.000 X 9.000","Author","Stephen Currie",null,null,null,null,"Z",null,"Grade 7","Grade 7 - 10","Practicing religions indigenous to West Africa, many African and African American slaves in the New World came to adopt the tenets of Christianity in the eighteenth century. Eventually, many African Americans would come to practice a Christianity which blended both faiths, giving rise to the black church throughout the South. In this informative volume, author Stephen Currie surveys the history of the African American religious experience from the seventeenth century to the present day. Chapters discuss how the black church became the cornerstone of communities coping with racism and segregation during Jim Crow, and how churches often acted as the think tanks and rallying points for African Americans fighting during the Civil Rights era. The volume also delves into the rising influence of Islam in galvanizing the Black Nationalist movement in the 1960s, and the state of religion in the African American community today.","English",39.4,31.52,"200.89/​96073","104 pp.","https://greenhavenpublishing.com/978-1-4205-0006-6",{"$f":"Table1[[#This Row],['# of Books]]*Table1[[#This Row],[QTY]]","v":0},{"$f":"Table1[[#This Row],[QTY]]*Table1[[#This Row],[School & Library Price]]","v":0}]
[null,null,88,null,null,"U.S. History","Lucent Library of Black History","An Appeal for Justice: The Trials of the Scottsboro Nine","978-1-4205-0676-1",{"$f":"HYPERLINK(Table1[[#This Row],[Hyperlink]],\"Weblink\")","v":"Weblink"},"Lucent Press","Library Bound Book",1,"2012","January 2012","Library","7.000 X 9.000","Author","John F. Wukovits",null,null,null,null,"Z",null,"Grade 7","Grade 7 - 10","In 1931, nine African American teens were accused of raping two white women on a train traveling between Chattanooga and Memphis. During the first trial in Scottsboro, all of the defendants were tried, convicted, and sentenced to death despite medical evidence supporting their innocence. Subsequent appeals of this verdict turned the Scottsboro case into a high-profile example of the injustices that the African American community experienced at the hands of the American judicial system. This informative edition takes a critical look at the story of the Scottsboro Boys and the controversial train ride that sparked outrage across the nation.","English",39.4,31.52,"345.761/​9502523","128 pp.","https://greenhavenpublishing.com/978-1-4205-0676-1",{"$f":"Table1[[#This Row],['# of Books]]*Table1[[#This Row],[QTY]]","v":0},{"$f":"Table1[[#This Row],[QTY]]*Table1[[#This Row],[School & Library Price]]","v":0}]
[null,null,88,null,null,"U.S. History","Lucent Library of Black History","An Appeal for Justice: The Trials of the Scottsboro Nine","978-1-4205-0847-5",{"$f":"HYPERLINK(Table1[[#This Row],[Hyperlink]],\"Weblink\")","v":"Weblink"},"Lucent Press","eBook",1,"2012","January 2012",null,null,"Author","John F. Wukovits",null,null,null,null,"Z",null,"Grade 7","Grade 7 - 10","In 1931, nine African American teens were accused of raping two white women on a train traveling between Chattanooga and Memphis. During the first trial in Scottsboro, all of the defendants were tried, convicted, and sentenced to death despite medical evidence supporting their innocence. Subsequent appeals of this verdict turned the Scottsboro case into a high-profile example of the injustices that the African American community experienced at the hands of the American judicial system. This informative edition takes a critical look at the story of the Scottsboro Boys and the controversial train ride that sparked outrage across the nation.","English",43.34,34.67,"345.761/​9502523","128 pp.","https://greenhavenpublishing.com/978-1-4205-0847-5",{"$f":"Table1[[#This Row],['# of Books]]*Table1[[#This Row],[QTY]]","v":0},{"$f":"Table1[[#This Row],[QTY]]*Table1[[#This Row],[School & Library Price]]","v":0}]
[null,null,88,null,null,"U.S. History","Lucent Library of Black History","Black Nationalism","978-1-4205-0083-7",{"$f":"HYPERLINK(Table1[[#This Row],[Hyperlink]],\"Weblink\")","v":"Weblink"},"Lucent Press","Library Bound Book",1,"2009","January 2009","Library","7.000 X 9.000","Author","Charles George",null,null,null,null,"Z",null,"Grade 7","Grade 7 - 10","With its intellectual roots tracing back to Marcus Garvey's efforts to promote self-determination and economic security in the 1920s, black nationalism attempted to promote community, identity, and economic power for African Americans in the 1960s and 1970s, according to the Encyclopedia Britannica. Many adherents felt that African Americans would eventually have to found their own nation, rather than assimilate to American culture, which was predominantly white. The author discusses the origins of black nationalism, the politics of Reconstruction and the Jim Crow South, and the Civil Rights movement, which ushered in an explosion of black pride, art, and critical theory. The volume also discusses the effects of black nationalism on popular culture then and now.","English",39.4,31.52,"320.54/​60973","96 pp.","https://greenhavenpublishing.com/978-1-4205-0083-7",{"$f":"Table1[[#This Row],['# of Books]]*Table1[[#This Row],[QTY]]","v":0},{"$f":"Table1[[#This Row],[QTY]]*Table1[[#This Row],[School & Library Price]]","v":0}]
[null,null,88,null,null,"U.S. History","Lucent Library of Black History","The Black Press","978-1-4205-0230-5",{"$f":"HYPERLINK(Table1[[#This Row],[Hyperlink]],\"Weblink\")","v":"Weblink"},"Lucent Press","Library Bound Book",1,"2010","January 2010","Library","7.000 X 9.000","Author","Carla Mooney",null,null,null,null,"Z",null,"Grade 7","Grade 7 - 10","This compelling volume traces the development of the black press in the United States from Colonial times to the present and explores the figures and publications that were influential in the struggle for equality. Author Carla Mooney describes the rich and complex history of African American publishing in detail, zooming in on colonial newspapers, abolitionist writings, and modern black newspapers of the Civil Rights era. ","English",39.4,31.52,"071/​.308996073","112 pp.","https://greenhavenpublishing.com/978-1-4205-0230-5",{"$f":"Table1[[#This Row],['# of Books]]*Table1[[#This Row],[QTY]]","v":0},{"$f":"Table1[[#This Row],[QTY]]*Table1[[#This Row],[School & Library Price]]","v":0}]
[null,null,88,null,null,"U.S. History","Lucent Library of Black History","The Blues","978-1-4205-0658-7",{"$f":"HYPERLINK(Table1[[#This Row],[Hyperlink]],\"Weblink\")","v":"Weblink"},"Lucent Press","Library Bound Book",1,"2012","January 2012","Library","7.000 X 9.000","Author","Michael V. Uschan",null,null,null,null,"Z","1210L","Grade 7","Grade 7 - 10","In the early twentieth century, blues music was developed by African Americans in the Deep South. With roots in spirituals, folk music, work songs, and native music, blues contains a medley of influences that create a distinctive culture and sound. Blues moved north with the Great Migration and influenced many popular forms of music such as bluegrass, rock and roll, and country. This compelling volume details the history of blues music and the careers of major performers. It examines the ways the genre reflects the lives and conditions of African Americans during each period of its development and considers the evolution and resurgence of blues in the present day.","English",39.4,31.52,"781.64309","112 pp.","https://greenhavenpublishing.com/978-1-4205-0658-7",{"$f":"Table1[[#This Row],['# of Books]]*Table1[[#This Row],[QTY]]","v":0},{"$f":"Table1[[#This Row],[QTY]]*Table1[[#This Row],[School & Library Price]]","v":0}]
[null,null,88,null,null,"U.S. History","Lucent Library of Black History","The Blues","978-1-4205-0831-4",{"$f":"HYPERLINK(Table1[[#This Row],[Hyperlink]],\"Weblink\")","v":"Weblink"},"Lucent Press","eBook",1,"2012","January 2012",null,null,"Author","Michael V. Uschan",null,null,null,null,"Z","1210L","Grade 7","Grade 7 - 10","In the early twentieth century, blues music was developed by African Americans in the Deep South. With roots in spirituals, folk music, work songs, and native music, blues contains a medley of influences that create a distinctive culture and sound. Blues moved north with the Great Migration and influenced many popular forms of music such as bluegrass, rock and roll, and country. This compelling volume details the history of blues music and the careers of major performers. It examines the ways the genre reflects the lives and conditions of African Americans during each period of its development and considers the evolution and resurgence of blues in the present day.","English",43.34,34.67,"781.64309","112 pp.","https://greenhavenpublishing.com/978-1-4205-0831-4",{"$f":"Table1[[#This Row],['# of Books]]*Table1[[#This Row],[QTY]]","v":0},{"$f":"Table1[[#This Row],[QTY]]*Table1[[#This Row],[School & Library Price]]","v":0}]
[null,null,88,null,null,"U.S. History","Lucent Library of Black History","Booker T. Washington and Education","978-1-4205-0052-3",{"$f":"HYPERLINK(Table1[[#This Row],[Hyperlink]],\"Weblink\")","v":"Weblink"},"Lucent Press","Library Bound Book",1,"2008","January 2008","Library","7.000 X 9.000","Author","John F. Wukovits",null,null,null,null,"Z",null,"Grade 7","Grade 7 - 10","As a child born into slavery on a small Virginia plantation, Booker T. Washington was made to carry books for the plantation owner's children when they walked to school. His dedication to education began there. \"I had the feeling that to get into a schoolhouse and study in this way would be about the same as getting into paradise,\" he wrote in his autobiography. Washington faced difficult circumstances to obtain his education and then went on to help establish the Tuskegee Normal and Industrial Institute, a school for blacks in the midst of the Deep South. This informative volume uses accessible language and meaningful illustrations to draw readers into the incredible story of Washington's life on the plantation and his struggles to survive after the Civil War. The edition also covers his influences, mentors, and detractors, and discusses the challenges Washington faced as a pioneering educator trying to improve opportunities for African Americans.","English",39.4,31.52,"370.92","112 pp.","https://greenhavenpublishing.com/978-1-4205-0052-3",{"$f":"Table1[[#This Row],['# of Books]]*Table1[[#This Row],[QTY]]","v":0},{"$f":"Table1[[#This Row],[QTY]]*Table1[[#This Row],[School & Library Price]]","v":0}]
[null,null,88,null,null,"U.S. History","Lucent Library of Black History","The Civil War and Emancipation","978-1-4205-0008-0",{"$f":"HYPERLINK(Table1[[#This Row],[Hyperlink]],\"Weblink\")","v":"Weblink"},"Lucent Press","Library Bound Book",1,"2008","January 2008","Library","7.000 X 9.000","Author","James A. Corrick",null,null,null,null,"Z",null,"Grade 7","Grade 7 - 10","The South invested heavily in the practice of slavery, even more so than land, because slavery provided cheap labor for the major cash crop, cotton. The practice of slave ownership made up the economy of many Southern States and it took a war to end it. This necessary volume analyzes the human cost of this history and covers the long inroad to emancipation that was halted as a result of the war. Chapters describe the many thinkers and activists who pushed the conversation about emancipation further in the midst of national conflict and explains the realities of emancipation in the aftermath of the Civil War.","English",39.4,31.52,"973.7/​415","104 pp.","https://greenhavenpublishing.com/978-1-4205-0008-0",{"$f":"Table1[[#This Row],['# of Books]]*Table1[[#This Row],[QTY]]","v":0},{"$f":"Table1[[#This Row],[QTY]]*Table1[[#This Row],[School & Library Price]]","v":0}]
[null,null,89,null,null,"U.S. History","Lucent Library of Black History","James Foreman and SNCC","978-1-4205-0920-5",{"$f":"HYPERLINK(Table1[[#This Row],[Hyperlink]],\"Weblink\")","v":"Weblink"},"Lucent Press","Library Bound Book",1,"2013","January 2013","Library","7.000 X 9.000","Author","Michael V. Uschan",null,null,null,null,"Z",null,"Grade 7","Grade 7 - 10","This expansive volume introduces students to civil rights organizer James Forman and the SNCC organization. It offers biographical details of Forman's life from birth to death including his role as a key member of the SNCC. It talks about the goals, activities, and the accomplishments of both Forman and the SNCC.","English",39.4,31.52,"323.092","112 pp.","https://greenhavenpublishing.com/978-1-4205-0920-5",{"$f":"Table1[[#This Row],['# of Books]]*Table1[[#This Row],[QTY]]","v":0},{"$f":"Table1[[#This Row],[QTY]]*Table1[[#This Row],[School & Library Price]]","v":0}]
[null,null,89,null,null,"U.S. History","Lucent Library of Black History","James Foreman and SNCC","978-1-4205-1103-1",{"$f":"HYPERLINK(Table1[[#This Row],[Hyperlink]],\"Weblink\")","v":"Weblink"},"Lucent Press","eBook",1,"2013","January 2013",null,null,"Author","Michael V. Uschan",null,null,null,null,"Z",null,"Grade 7","Grade 7 - 10","This expansive volume introduces students to civil rights organizer James Forman and the SNCC organization. It offers biographical details of Forman's life from birth to death including his role as a key member of the SNCC. It talks about the goals, activities, and the accomplishments of both Forman and the SNCC.","English",43.34,34.67,"323.092","112 pp.","https://greenhavenpublishing.com/978-1-4205-1103-1",{"$f":"Table1[[#This Row],['# of Books]]*Table1[[#This Row],[QTY]]","v":0},{"$f":"Table1[[#This Row],[QTY]]*Table1[[#This Row],[School & Library Price]]","v":0}]
[null,null,89,null,null,"U.S. History","Lucent Library of Black History","Jazz","978-1-4205-0570-2",{"$f":"HYPERLINK(Table1[[#This Row],[Hyperlink]],\"Weblink\")","v":"Weblink"},"Lucent Press","Library Bound Book",1,"2011","January 2011","Library","7.000 X 9.000","Author","Ronald D. Lankford, Jr.",null,null,null,null,"Z","1290L","Grade 7","Grade 7 - 10","Jazz's influence on music in the twentieth century is unparalleled, with derivatives including bebop, funk, hip-hop, psychedelic rock, reggae, Latin soul, and ska. This comprehensive survey of jazz music dives deep into the origins of the genre and explores the history of jazz from its early roots in West African drumming to its modern interpretations. Readers will learn about the defining eras of jazz, pioneering jazz musicians, and the political and historical legacy of this music style. ","English",39.4,31.52,"781.6509","112 pp.","https://greenhavenpublishing.com/978-1-4205-0570-2",{"$f":"Table1[[#This Row],['# of Books]]*Table1[[#This Row],[QTY]]","v":0},{"$f":"Table1[[#This Row],[QTY]]*Table1[[#This Row],[School & Library Price]]","v":0}]
[null,null,89,null,null,"U.S. History","Lucent Library of Black History","Jazz","978-1-4205-0709-6",{"$f":"HYPERLINK(Table1[[#This Row],[Hyperlink]],\"Weblink\")","v":"Weblink"},"Lucent Press","eBook",1,"2011","January 2011",null,null,"Author","Ronald D. Lankford, Jr.",null,null,null,null,"Z","1290L","Grade 7","Grade 7 - 10","Jazz's influence on music in the twentieth century is unparalleled, with derivatives including bebop, funk, hip-hop, psychedelic rock, reggae, Latin soul, and ska. This comprehensive survey of jazz music dives deep into the origins of the genre and explores the history of jazz from its early roots in West African drumming to its modern interpretations. Readers will learn about the defining eras of jazz, pioneering jazz musicians, and the political and historical legacy of this music style. ","English",43.34,34.67,"781.6509","112 pp.","https://greenhavenpublishing.com/978-1-4205-0709-6",{"$f":"Table1[[#This Row],['# of Books]]*Table1[[#This Row],[QTY]]","v":0},{"$f":"Table1[[#This Row],[QTY]]*Table1[[#This Row],[School & Library Price]]","v":0}]
[null,null,89,null,null,"U.S. History","Lucent Library of Black History","Landmarks in African American History","978-1-4205-0921-2",{"$f":"HYPERLINK(Table1[[#This Row],[Hyperlink]],\"Weblink\")","v":"Weblink"},"Lucent Press","Library Bound Book",1,"2013","January 2013","Library","7.000 X 9.000","Author","Michael V. Uschan",null,null,null,null,"Z","1250L","Grade 7","Grade 7 - 10","This compelling volume describes physical landmarks in African American history and discusses the history associated with those places. The book is organized around thematic chapters that take readers on a virtual tour of landmarks associated with the theme while also describing the people and events that inspired the landmarks. Thematic chapters include: The Slavery Era, African Americans Resist Slavery, The Civil War, Education for Blacks, The Civil Rights Movement, and African American Achievers.","English",39.4,31.52,"973/​.0496073","104 pp.","https://greenhavenpublishing.com/978-1-4205-0921-2",{"$f":"Table1[[#This Row],['# of Books]]*Table1[[#This Row],[QTY]]","v":0},{"$f":"Table1[[#This Row],[QTY]]*Table1[[#This Row],[School & Library Price]]","v":0}]
[null,null,89,null,null,"U.S. History","Lucent Library of Black History","Landmarks in African American History","978-1-4205-1104-8",{"$f":"HYPERLINK(Table1[[#This Row],[Hyperlink]],\"Weblink\")","v":"Weblink"},"Lucent Press","eBook",1,"2013","January 2013",null,null,"Author","Michael V. Uschan",null,null,null,null,"Z","1250L","Grade 7","Grade 7 - 10","This compelling volume describes physical landmarks in African American history and discusses the history associated with those places. The book is organized around thematic chapters that take readers on a virtual tour of landmarks associated with the theme while also describing the people and events that inspired the landmarks. Thematic chapters include: The Slavery Era, African Americans Resist Slavery, The Civil War, Education for Blacks, The Civil Rights Movement, and African American Achievers.","English",43.34,34.67,"973/​.0496073","104 pp.","https://greenhavenpublishing.com/978-1-4205-1104-8",{"$f":"Table1[[#This Row],['# of Books]]*Table1[[#This Row],[QTY]]","v":0},{"$f":"Table1[[#This Row],[QTY]]*Table1[[#This Row],[School & Library Price]]","v":0}]
[null,null,89,null,null,"U.S. History","Lucent Library of Black History","Reconstruction","978-1-4205-0009-7",{"$f":"HYPERLINK(Table1[[#This Row],[Hyperlink]],\"Weblink\")","v":"Weblink"},"Lucent Press","Library Bound Book",1,"2008","January 2008","Library","7.000 X 9.000","Author","Michael V. Uschan",null,null,null,null,"Z",null,"Grade 7","Grade 7 - 10","The Reconstruction period following the Civil War saw turmoil and division play out across the country. Bitterly divided on how to proceed in the post-war landscape, politicians and the public fiercely argued about key issues surrounding freedom, race, and constitutional rights. Landmark civil rights legislation, such as the Civil Rights Act of 1866 and the Fourteenth Amendment, was with met intense resistance by many in order to maintain the status quo, leaving millions of free African Americans struggling to understand their place and rights within society. This necessary volume tracks the struggles of Reconstruction and provides a critical perspective on the bitter legacies of this era.","English",39.4,31.52,"973.8","104 pp.","https://greenhavenpublishing.com/978-1-4205-0009-7",{"$f":"Table1[[#This Row],['# of Books]]*Table1[[#This Row],[QTY]]","v":0},{"$f":"Table1[[#This Row],[QTY]]*Table1[[#This Row],[School & Library Price]]","v":0}]
[null,null,89,null,null,"U.S. History","Lucent Library of Black History","Rosa Parks and the Montgomery Bus Boycott","978-1-4205-0010-3",{"$f":"HYPERLINK(Table1[[#This Row],[Hyperlink]],\"Weblink\")","v":"Weblink"},"Lucent Press","Library Bound Book",1,"2008","January 2008","Library","7.000 X 9.000","Author","Lydia D. Bjornlund",null,null,null,null,"Z",null,"Grade 7","Grade 7 - 10","Rosa Parks, one the most notable icons of the Civil Rights Movement, is widely remembered for refusing to give up her seat to a white person on December 1, 1955, on a segregated bus in Montgomery, Alabama. Her action of peaceful defiance resulted in her subsequent arrest and inspired the Montgomery bus boycott, a year-long boycott of the public transit system in Montgomery by African Americans. Her bravery, along with the actions of hundreds of protesters around the nation, sparked events that would lead to the passing of seminal civil rights legislation regarding segregation. This necessary volume traces the history of the Montgomery bus boycott, from December 1, 1955, to December 20, 1956, when the Supreme Court's decision for desegregation of buses took effect.","English",39.4,31.52,"323.092","104 pp.","https://greenhavenpublishing.com/978-1-4205-0010-3",{"$f":"Table1[[#This Row],['# of Books]]*Table1[[#This Row],[QTY]]","v":0},{"$f":"Table1[[#This Row],[QTY]]*Table1[[#This Row],[School & Library Price]]","v":0}]
[null,null,90,null,null,"World History","Lucent Library of Historical Eras","Daily Life in Colonial America","978-1-4205-0264-0",{"$f":"HYPERLINK(Table1[[#This Row],[Hyperlink]],\"Weblink\")","v":"Weblink"},"Lucent Press","Library Bound Book",1,"2010","January 2010","Library","7.000 X 9.000","Author","Don Nardo",null,null,null,null,"Z",null,"Grade 7 - 10","Grade 7 - 11","This informative edition covers daily life in Colonial America. Author Don Nardo brings the day-to-day activities of an era long gone to the forefront of this book as readers learn about topics such as the basic work of building and furnishing a home, the roles men and women played in raising and sustaining a family, and the functions of family and children within the community. Through the details of everyday existence, readers will gain a real understanding of how Colonial communities provided education, medical care and governance, developed labor-saving technologies, and enjoyed their hours of leisure.","English",39.4,31.52,"973.2","96 pp.","https://greenhavenpublishing.com/978-1-4205-0264-0",{"$f":"Table1[[#This Row],['# of Books]]*Table1[[#This Row],[QTY]]","v":0},{"$f":"Table1[[#This Row],[QTY]]*Table1[[#This Row],[School & Library Price]]","v":0}]
[null,null,90,null,null,"World History","Lucent Library of Historical Eras","The Establishment of the Thirteen Colonies","978-1-4205-0267-1",{"$f":"HYPERLINK(Table1[[#This Row],[Hyperlink]],\"Weblink\")","v":"Weblink"},"Lucent Press","Library Bound Book",1,"2010","January 2010","Library","7.000 X 9.000","Author","Don Nardo",null,null,null,null,"Z",null,"Grade 7 - 10","Grade 7 - 11","Setting the scene by describing life before their arrival, this volume chronicles the coming of Europeans to the New World, the establishment of colonies, and the emergence of British colonial America. From the seekers of religious freedom, adventure, or fortune, to the servants, convicts, and slaves who had no choice, we learn who settled America and why, as well as their changing relationship with the native peoples they encountered.","English",39.4,31.52,"973.2","96 pp.","https://greenhavenpublishing.com/978-1-4205-0267-1",{"$f":"Table1[[#This Row],['# of Books]]*Table1[[#This Row],[QTY]]","v":0},{"$f":"Table1[[#This Row],[QTY]]*Table1[[#This Row],[School & Library Price]]","v":0}]
[null,null,90,null,null,"World History","Lucent Library of Historical Eras","Government and Social Class in Colonial America","978-1-4205-0265-7",{"$f":"HYPERLINK(Table1[[#This Row],[Hyperlink]],\"Weblink\")","v":"Weblink"},"Lucent Press","Library Bound Book",1,"2010","January 2010","Library","7.000 X 9.000","Author","Don Nardo",null,null,null,null,"Z",null,"Grade 7 - 10","Grade 7 - 11","This fascinating volume explores class structure and the development of early governments in Colonial America. Readers will learn about the different types of colonies, which colonies adopted which systems, and how these systems changed over time. Chapters also cover the impact of Bacon's Rebellion and the European Enlightenment, the changing status of blacks in the colonies, and the political differences that led to the American Revolution.","English",39.4,31.52,"973.2","96 pp.","https://greenhavenpublishing.com/978-1-4205-0265-7",{"$f":"Table1[[#This Row],['# of Books]]*Table1[[#This Row],[QTY]]","v":0},{"$f":"Table1[[#This Row],[QTY]]*Table1[[#This Row],[School & Library Price]]","v":0}]
[null,null,90,null,null,"World History","Lucent Library of Historical Eras","The Industrial Revolution in Britain","978-1-4205-0152-0",{"$f":"HYPERLINK(Table1[[#This Row],[Hyperlink]],\"Weblink\")","v":"Weblink"},"Lucent Press","Library Bound Book",1,"2009","January 2009","Library","7.000 X 9.000","Author","Don Nardo",null,null,null,null,"Z",null,"Grade 7 - 10","Grade 7 - 11","Author Don Nardo provides a comprehensive history of the economic and social changes that transpired in Britain as the Industrial Revolution pushed the country from an agrarian society to one organized around industrial manufacturing. The first industrial revolution, from 1760 to 1830, was largely confined to Britain. During this time, Britain became a leader in textile production and pioneered the use of new energy sources such as coal, petroleum, and electricity. This informative volume explores the development and impact of industrialization on Britain, discussing the benefits and subsequent drawbacks of new energy, more efficient modes of transportation, and news ways of organizing labor. ","English",39.4,31.52,"338.0941","96 pp.","https://greenhavenpublishing.com/978-1-4205-0152-0",{"$f":"Table1[[#This Row],['# of Books]]*Table1[[#This Row],[QTY]]","v":0},{"$f":"Table1[[#This Row],[QTY]]*Table1[[#This Row],[School & Library Price]]","v":0}]
[null,null,90,null,null,"World History","Lucent Library of Historical Eras","The Industrial Revolution's Workers and Their Lives","978-1-4205-0154-4",{"$f":"HYPERLINK(Table1[[#This Row],[Hyperlink]],\"Weblink\")","v":"Weblink"},"Lucent Press","Library Bound Book",1,"2009","January 2009","Library","7.000 X 9.000","Author","Don Nardo",null,null,null,null,"Z",null,"Grade 7 - 10","Grade 7 - 11","The Industrial Revolution effectively restructured labor as the need for workers increased along with mass production. Factories and industrial workplaces often employed women, children, and immigrants and paid little regard to employee welfare. As a result, many workers were subjected to abhorrent working conditions, exposed to dangerous equipment without adequate safety measures, and often worked long hours for abysmal wages. This informative edition provides readers with a survey of workers during the Industrial Revolution. The author describes industrial life during the early years of the Industrial Revolution, including child labor, sweatshop conditions, and industrial life outside the workplace, and explains how labor unions worked to ease these harsh conditions.","English",39.4,31.52,"331.09/​034","104 pp.","https://greenhavenpublishing.com/978-1-4205-0154-4",{"$f":"Table1[[#This Row],['# of Books]]*Table1[[#This Row],[QTY]]","v":0},{"$f":"Table1[[#This Row],[QTY]]*Table1[[#This Row],[School & Library Price]]","v":0}]
[null,null,90,null,null,"World History","Lucent Library of Historical Eras","Life and Worship in Ancient Mesopotamia","978-1-4205-0100-1",{"$f":"HYPERLINK(Table1[[#This Row],[Hyperlink]],\"Weblink\")","v":"Weblink"},"Lucent Press","Library Bound Book",1,"2009","January 2009","Library","7.000 X 9.000","Author","Don Nardo",null,null,null,null,"Z",null,"Grade 7 - 10","Grade 7 - 11","This fascinating book takes a critical and detailed look at daily life and religion in ancient Mesopotamia. Readers will learn about the social structure of families and communities, the lives of slaves and servants, what games and travel looked like, and the various religious rituals and festivals that took place in this ancient world. Fully documented primary and secondary source quotations enliven the text, and well-organized primary source documents provide gateways for further inquiry and student research and reports.","English",39.4,31.52,"935","48 pp.","https://greenhavenpublishing.com/978-1-4205-0100-1",{"$f":"Table1[[#This Row],['# of Books]]*Table1[[#This Row],[QTY]]","v":0},{"$f":"Table1[[#This Row],[QTY]]*Table1[[#This Row],[School & Library Price]]","v":0}]
[null,null,90,null,null,"World History","Lucent Library of Historical Eras","Religious Beliefs in Colonial America","978-1-4205-0266-4",{"$f":"HYPERLINK(Table1[[#This Row],[Hyperlink]],\"Weblink\")","v":"Weblink"},"Lucent Press","Library Bound Book",1,"2010","January 2010","Library","7.000 X 9.000","Author","Don Nardo",null,null,null,null,"Z",null,"Grade 7 - 10","Grade 7 - 11","This comprehensive volume examines the role of religious ideas in the establishment and culture of the American colonies. The author describes how religion and science worked together, and how religious and philosophical thought influenced the founding fathers and the American Revolution. Readers will learn about the beliefs of the Native Americans and the colonists, the role played by clergy in Colonial America, the traditions of worship, and the superstitions imported from Europe.","English",39.4,31.52,"200.973/​09032","96 pp.","https://greenhavenpublishing.com/978-1-4205-0266-4",{"$f":"Table1[[#This Row],['# of Books]]*Table1[[#This Row],[QTY]]","v":0},{"$f":"Table1[[#This Row],[QTY]]*Table1[[#This Row],[School & Library Price]]","v":0}]
[null,null,91,null,null,"World History","Mythology and Culture Worldwide","African Mythology","978-1-4205-1145-1",{"$f":"HYPERLINK(Table1[[#This Row],[Hyperlink]],\"Weblink\")","v":"Weblink"},"Lucent Press","Library Bound Book",1,"2015","January 2015","Library","7.000 X 9.000","Author","Stuart A. Kallen",null,null,null,null,"Z","1130L","Grade 7 - 10","Grade 7 - 11","This volume looks at some of the popular myths of Africa and discusses their role in the culture and the values they reflect. The book also touches on how hip-hop music has its roots in African mythology. Readers will learn about creation myths, and the role of spirits and magic in African mythology and lore.","English",39.4,31.52,"299.6/​113","104 pp.","https://greenhavenpublishing.com/978-1-4205-1145-1",{"$f":"Table1[[#This Row],['# of Books]]*Table1[[#This Row],[QTY]]","v":0},{"$f":"Table1[[#This Row],[QTY]]*Table1[[#This Row],[School & Library Price]]","v":0}]
[null,null,91,null,null,"World History","Mythology and Culture Worldwide","African Mythology","978-1-4205-1165-9",{"$f":"HYPERLINK(Table1[[#This Row],[Hyperlink]],\"Weblink\")","v":"Weblink"},"Lucent Press","eBook",1,"2015","January 2015",null,null,"Author","Stuart A. Kallen",null,null,null,null,"Z","1130L","Grade 7 - 10","Grade 7 - 11","This volume looks at some of the popular myths of Africa and discusses their role in the culture and the values they reflect. The book also touches on how hip-hop music has its roots in African mythology. Readers will learn about creation myths, and the role of spirits and magic in African mythology and lore.","English",43.34,34.67,"299.6/​113","104 pp.","https://greenhavenpublishing.com/978-1-4205-1165-9",{"$f":"Table1[[#This Row],['# of Books]]*Table1[[#This Row],[QTY]]","v":0},{"$f":"Table1[[#This Row],[QTY]]*Table1[[#This Row],[School & Library Price]]","v":0}]
[null,null,91,null,null,"World History","Mythology and Culture Worldwide","American Mythology","978-1-4205-0904-5",{"$f":"HYPERLINK(Table1[[#This Row],[Hyperlink]],\"Weblink\")","v":"Weblink"},"Lucent Press","Library Bound Book",1,"2013","January 2013","Library","7.000 X 9.000","Author","Don Nardo",null,null,null,null,"Z","1220L","Grade 7 - 10","Grade 7 - 11","This volume explores some of the popular myths of the modern United States and discusses their role in the culture and the values they reflect. Readers are introduced to American frontier heroes, both real and imaginary, such as Davy Crockett and Paul Bunyon. The book covers details about legendary ghost ships, haunted houses, pirate treasure, monsters, and lost cities, and relates these stories to the experiences and values of American culture.","English",39.4,31.52,"398.20973","104 pp.","https://greenhavenpublishing.com/978-1-4205-0904-5",{"$f":"Table1[[#This Row],['# of Books]]*Table1[[#This Row],[QTY]]","v":0},{"$f":"Table1[[#This Row],[QTY]]*Table1[[#This Row],[School & Library Price]]","v":0}]
[null,null,91,null,null,"World History","Mythology and Culture Worldwide","American Mythology","978-1-4205-1106-2",{"$f":"HYPERLINK(Table1[[#This Row],[Hyperlink]],\"Weblink\")","v":"Weblink"},"Lucent Press","eBook",1,"2013","January 2013",null,null,"Author","Don Nardo",null,null,null,null,"Z","1220L","Grade 7 - 10","Grade 7 - 11","This volume explores some of the popular myths of the modern United States and discusses their role in the culture and the values they reflect. Readers are introduced to American frontier heroes, both real and imaginary, such as Davy Crockett and Paul Bunyon. The book covers details about legendary ghost ships, haunted houses, pirate treasure, monsters, and lost cities, and relates these stories to the experiences and values of American culture.","English",43.34,34.67,"398.20973","104 pp.","https://greenhavenpublishing.com/978-1-4205-1106-2",{"$f":"Table1[[#This Row],['# of Books]]*Table1[[#This Row],[QTY]]","v":0},{"$f":"Table1[[#This Row],[QTY]]*Table1[[#This Row],[School & Library Price]]","v":0}]
[null,null,91,null,null,"World History","Mythology and Culture Worldwide","Aztec Mythology","978-1-4205-0922-9",{"$f":"HYPERLINK(Table1[[#This Row],[Hyperlink]],\"Weblink\")","v":"Weblink"},"Lucent Press","Library Bound Book",1,"2015","January 2015","Library","7.000 X 9.000","Author, Author","Don Nardo, Stephen Currie",null,null,null,null,"Z","1250L","Grade 7 - 10","Grade 7 - 11","This book discusses the origins of Aztec myths and how some of these myths have been manipulated over time. The book details the major gods found within the mythology along with some of the most memorable tales, such as creation of the world and the making of humanity. Readers learn how Aztec myths have penetrated popular culture.","English",39.4,31.52,"398.208997/​452","96 pp.","https://greenhavenpublishing.com/978-1-4205-0922-9",{"$f":"Table1[[#This Row],['# of Books]]*Table1[[#This Row],[QTY]]","v":0},{"$f":"Table1[[#This Row],[QTY]]*Table1[[#This Row],[School & Library Price]]","v":0}]
[null,null,91,null,null,"World History","Mythology and Culture Worldwide","Aztec Mythology","978-1-4205-1166-6",{"$f":"HYPERLINK(Table1[[#This Row],[Hyperlink]],\"Weblink\")","v":"Weblink"},"Lucent Press","eBook",1,"2015","January 2015",null,null,"Author, Author","Don Nardo, Stephen Currie",null,null,null,null,"Z","1250L","Grade 7 - 10","Grade 7 - 11","This book discusses the origins of Aztec myths and how some of these myths have been manipulated over time. The book details the major gods found within the mythology along with some of the most memorable tales, such as creation of the world and the making of humanity. Readers learn how Aztec myths have penetrated popular culture.","English",43.34,34.67,"398.208997/​452","96 pp.","https://greenhavenpublishing.com/978-1-4205-1166-6",{"$f":"Table1[[#This Row],['# of Books]]*Table1[[#This Row],[QTY]]","v":0},{"$f":"Table1[[#This Row],[QTY]]*Table1[[#This Row],[School & Library Price]]","v":0}]
[null,null,91,null,null,"World History","Mythology and Culture Worldwide","Babylonian Mythology","978-1-4205-0832-1",{"$f":"HYPERLINK(Table1[[#This Row],[Hyperlink]],\"Weblink\")","v":"Weblink"},"Lucent Press","Library Bound Book",1,"2013","January 2013","Library","7.000 X 9.000","Author","Don Nardo",null,null,null,null,"Z","1230L","Grade 7 - 10","Grade 7 - 11","This volume looks at Babylonian Mythology, drawing connections between ancient Babylonian culture and its myths, explaining how the beliefs, values, and experiences of that culture are represented in its treasured stories. Readers are treated to a map of ancient Mesopotamia, a family tree of the major gods, a table of major characters with name pronunciations with brief descriptions, sidebars, and fact boxes.","English",39.4,31.52,"299/​.21","104 pp.","https://greenhavenpublishing.com/978-1-4205-0832-1",{"$f":"Table1[[#This Row],['# of Books]]*Table1[[#This Row],[QTY]]","v":0},{"$f":"Table1[[#This Row],[QTY]]*Table1[[#This Row],[School & Library Price]]","v":0}]
[null,null,91,null,null,"World History","Mythology and Culture Worldwide","Babylonian Mythology","978-0-7377-6647-9",{"$f":"HYPERLINK(Table1[[#This Row],[Hyperlink]],\"Weblink\")","v":"Weblink"},"Lucent Press","eBook",1,"2013","January 2013",null,null,"Author","Don Nardo",null,null,null,null,"Z","1230L","Grade 7 - 10","Grade 7 - 11","This volume looks at Babylonian Mythology, drawing connections between ancient Babylonian culture and its myths, explaining how the beliefs, values, and experiences of that culture are represented in its treasured stories. Readers are treated to a map of ancient Mesopotamia, a family tree of the major gods, a table of major characters with name pronunciations with brief descriptions, sidebars, and fact boxes.","English",43.34,34.67,"299/​.21","104 pp.","https://greenhavenpublishing.com/978-0-7377-6647-9",{"$f":"Table1[[#This Row],['# of Books]]*Table1[[#This Row],[QTY]]","v":0},{"$f":"Table1[[#This Row],[QTY]]*Table1[[#This Row],[School & Library Price]]","v":0}]
[null,null,91,null,null,"World History","Mythology and Culture Worldwide","British Mythology","978-1-4205-0833-8",{"$f":"HYPERLINK(Table1[[#This Row],[Hyperlink]],\"Weblink\")","v":"Weblink"},"Lucent Press","Library Bound Book",1,"2013","January 2013","Library","7.000 X 9.000","Author","Don Nardo",null,null,null,null,"Z","1270L","Grade 7 - 10","Grade 7 - 11","This fascinating book explores Great Britain's culture and myths, as well as the beliefs, values, and experiences represented in its stories and mythological figures. Readers discover the settlement of Britain by the Celts and the influence of the Roman invasion; pre-Christian myths, such as Beowulf; the Arthurian cycle; the adventures of Robin Hood; and the survival of British myth in literary tradition.","English",39.4,31.52,"398.20941","112 pp.","https://greenhavenpublishing.com/978-1-4205-0833-8",{"$f":"Table1[[#This Row],['# of Books]]*Table1[[#This Row],[QTY]]","v":0},{"$f":"Table1[[#This Row],[QTY]]*Table1[[#This Row],[School & Library Price]]","v":0}]
[null,null,91,null,null,"World History","Mythology and Culture Worldwide","British Mythology","978-1-4205-1037-9",{"$f":"HYPERLINK(Table1[[#This Row],[Hyperlink]],\"Weblink\")","v":"Weblink"},"Lucent Press","eBook",1,"2013","January 2013",null,null,"Author","Don Nardo",null,null,null,null,"Z","1270L","Grade 7 - 10","Grade 7 - 11","This fascinating book explores Great Britain's culture and myths, as well as the beliefs, values, and experiences represented in its stories and mythological figures. Readers discover the settlement of Britain by the Celts and the influence of the Roman invasion; pre-Christian myths, such as Beowulf; the Arthurian cycle; the adventures of Robin Hood; and the survival of British myth in literary tradition.","English",43.34,34.67,"398.20941","112 pp.","https://greenhavenpublishing.com/978-1-4205-1037-9",{"$f":"Table1[[#This Row],['# of Books]]*Table1[[#This Row],[QTY]]","v":0},{"$f":"Table1[[#This Row],[QTY]]*Table1[[#This Row],[School & Library Price]]","v":0}]
[null,null,91,null,null,"World History","Mythology and Culture Worldwide","Celtic Mythology","978-1-4205-0923-6",{"$f":"HYPERLINK(Table1[[#This Row],[Hyperlink]],\"Weblink\")","v":"Weblink"},"Lucent Press","Library Bound Book",1,"2015","January 2015","Library","7.000 X 9.000","Author","Q. L. Pearce",null,null,null,null,"Z","1240L","Grade 7 - 10","Grade 7 - 11","Introduce your readers to the mythology of the ancient Celts. This book describes how the Celtic myths came into being with particular focus on the myth of King Arthur. The book includes a family tree, a chart of gods and characters with brief descriptions and pronunciations, and a list of sources for further research.","English",39.4,31.52,"398.2089/​916","112 pp.","https://greenhavenpublishing.com/978-1-4205-0923-6",{"$f":"Table1[[#This Row],['# of Books]]*Table1[[#This Row],[QTY]]","v":0},{"$f":"Table1[[#This Row],[QTY]]*Table1[[#This Row],[School & Library Price]]","v":0}]
[null,null,91,null,null,"World History","Mythology and Culture Worldwide","Celtic Mythology","978-1-4205-1107-9",{"$f":"HYPERLINK(Table1[[#This Row],[Hyperlink]],\"Weblink\")","v":"Weblink"},"Lucent Press","eBook",1,"2015","January 2015",null,null,"Author","Q. L. Pearce",null,null,null,null,"Z","1240L","Grade 7 - 10","Grade 7 - 11","Introduce your readers to the mythology of the ancient Celts. This book describes how the Celtic myths came into being with particular focus on the myth of King Arthur. The book includes a family tree, a chart of gods and characters with brief descriptions and pronunciations, and a list of sources for further research.","English",43.34,34.67,"398.2089/​916","112 pp.","https://greenhavenpublishing.com/978-1-4205-1107-9",{"$f":"Table1[[#This Row],['# of Books]]*Table1[[#This Row],[QTY]]","v":0},{"$f":"Table1[[#This Row],[QTY]]*Table1[[#This Row],[School & Library Price]]","v":0}]
[null,null,91,null,null,"World History","Mythology and Culture Worldwide","Chinese Mythology","978-1-4205-1146-8",{"$f":"HYPERLINK(Table1[[#This Row],[Hyperlink]],\"Weblink\")","v":"Weblink"},"Lucent Press","Library Bound Book",1,"2014","January 2014","Library","7.000 X 9.000","Author","Michael V. Uschan",null,null,null,null,"Z","1250L","Grade 7 - 10","Grade 7 - 11","Readers are introduced to the elaborate mythology of ancient China. This book provides detailed discussion of the mythology's importance to its own culture and the impact it had on subsequent cultures. The numerous deities worshipped by the ancient Chinese are described and their importance to different groups and in different regions within the empire are explained. Stories are retold along with explanation of how they reflect the values and concerns of Chinese culture.","English",39.4,31.52,"299.5/​1113","104 pp.","https://greenhavenpublishing.com/978-1-4205-1146-8",{"$f":"Table1[[#This Row],['# of Books]]*Table1[[#This Row],[QTY]]","v":0},{"$f":"Table1[[#This Row],[QTY]]*Table1[[#This Row],[School & Library Price]]","v":0}]
[null,null,91,null,null,"World History","Mythology and Culture Worldwide","Chinese Mythology","978-1-4205-1217-5",{"$f":"HYPERLINK(Table1[[#This Row],[Hyperlink]],\"Weblink\")","v":"Weblink"},"Lucent Press","eBook",1,"2014","January 2014",null,null,"Author","Michael V. Uschan",null,null,null,null,"Z","1250L","Grade 7 - 10","Grade 7 - 11","Readers are introduced to the elaborate mythology of ancient China. This book provides detailed discussion of the mythology's importance to its own culture and the impact it had on subsequent cultures. The numerous deities worshipped by the ancient Chinese are described and their importance to different groups and in different regions within the empire are explained. Stories are retold along with explanation of how they reflect the values and concerns of Chinese culture.","English",43.34,34.67,"299.5/​1113","104 pp.","https://greenhavenpublishing.com/978-1-4205-1217-5",{"$f":"Table1[[#This Row],['# of Books]]*Table1[[#This Row],[QTY]]","v":0},{"$f":"Table1[[#This Row],[QTY]]*Table1[[#This Row],[School & Library Price]]","v":0}]
[null,null,91,null,null,"World History","Mythology and Culture Worldwide","Egyptian Mythology","978-1-4205-0745-4",{"$f":"HYPERLINK(Table1[[#This Row],[Hyperlink]],\"Weblink\")","v":"Weblink"},"Lucent Press","Library Bound Book",1,"2013","January 2013","Library","7.000 X 9.000","Author","Don Nardo",null,null,null,null,"Z","1230L","Grade 7 - 10","Grade 7 - 11","Introduce readers to the elaborate mythology of ancient Egypt. This book provides detailed discussion of the mythology's importance to its own culture and the impact it had on subsequent cultures. The numerous deities worshipped by the ancient Egyptians are described and their importance to different groups and in different regions within the empire are explained. Stories are retold along with explanation of how they reflect the values and concerns of Egyptian culture. Readers will also learn how the myths have made their way to Pop culture.","English",39.4,31.52,"299/​.3113","104 pp.","https://greenhavenpublishing.com/978-1-4205-0745-4",{"$f":"Table1[[#This Row],['# of Books]]*Table1[[#This Row],[QTY]]","v":0},{"$f":"Table1[[#This Row],[QTY]]*Table1[[#This Row],[School & Library Price]]","v":0}]
[null,null,91,null,null,"World History","Mythology and Culture Worldwide","Egyptian Mythology","978-1-4205-1108-6",{"$f":"HYPERLINK(Table1[[#This Row],[Hyperlink]],\"Weblink\")","v":"Weblink"},"Lucent Press","eBook",1,"2013","January 2013",null,null,"Author","Don Nardo",null,null,null,null,"Z","1230L","Grade 7 - 10","Grade 7 - 11","Introduce readers to the elaborate mythology of ancient Egypt. This book provides detailed discussion of the mythology's importance to its own culture and the impact it had on subsequent cultures. The numerous deities worshipped by the ancient Egyptians are described and their importance to different groups and in different regions within the empire are explained. Stories are retold along with explanation of how they reflect the values and concerns of Egyptian culture. Readers will also learn how the myths have made their way to Pop culture.","English",43.34,34.67,"299/​.3113","104 pp.","https://greenhavenpublishing.com/978-1-4205-1108-6",{"$f":"Table1[[#This Row],['# of Books]]*Table1[[#This Row],[QTY]]","v":0},{"$f":"Table1[[#This Row],[QTY]]*Table1[[#This Row],[School & Library Price]]","v":0}]
[null,null,91,null,null,"World History","Mythology and Culture Worldwide","Greek Mythology","978-1-4205-0633-4",{"$f":"HYPERLINK(Table1[[#This Row],[Hyperlink]],\"Weblink\")","v":"Weblink"},"Lucent Press","Library Bound Book",1,"2012","January 2012","Library","7.000 X 9.000","Author","Don Nardo",null,null,null,null,"Z",null,"Grade 7 - 10","Grade 7 - 11","This volume examines Greek mythology, drawing connections between ancient Greek culture and its myths. It explains how the beliefs, values, and experiences of that culture are represented in its treasured stories of gods, demi-gods, monsters, and heroes. This volume includes a map of ancient Greece, a family tree of the major gods, a table of major characters with name pronunciations and brief descriptions, a glossary, sidebars, fact boxes, a bibliography of sources for further study, and a subject index.","English",39.4,31.52,"292.1/​30938","112 pp.","https://greenhavenpublishing.com/978-1-4205-0633-4",{"$f":"Table1[[#This Row],['# of Books]]*Table1[[#This Row],[QTY]]","v":0},{"$f":"Table1[[#This Row],[QTY]]*Table1[[#This Row],[School & Library Price]]","v":0}]
[null,null,91,null,null,"World History","Mythology and Culture Worldwide","Greek Mythology","978-1-4205-0949-6",{"$f":"HYPERLINK(Table1[[#This Row],[Hyperlink]],\"Weblink\")","v":"Weblink"},"Lucent Press","eBook",1,"2012","January 2012",null,null,"Author","Don Nardo",null,null,null,null,"Z",null,"Grade 7 - 10","Grade 7 - 11","This volume examines Greek mythology, drawing connections between ancient Greek culture and its myths. It explains how the beliefs, values, and experiences of that culture are represented in its treasured stories of gods, demi-gods, monsters, and heroes. This volume includes a map of ancient Greece, a family tree of the major gods, a table of major characters with name pronunciations and brief descriptions, a glossary, sidebars, fact boxes, a bibliography of sources for further study, and a subject index.","English",43.34,34.67,"292.1/​30938","112 pp.","https://greenhavenpublishing.com/978-1-4205-0949-6",{"$f":"Table1[[#This Row],['# of Books]]*Table1[[#This Row],[QTY]]","v":0},{"$f":"Table1[[#This Row],[QTY]]*Table1[[#This Row],[School & Library Price]]","v":0}]
[null,null,91,null,null,"World History","Mythology and Culture Worldwide","Hindu Mythology","978-1-4205-1147-5",{"$f":"HYPERLINK(Table1[[#This Row],[Hyperlink]],\"Weblink\")","v":"Weblink"},"Lucent Press","Library Bound Book",1,"2015","January 2015","Library","7.000 X 9.000","Author","Jennifer MacKay",null,null,null,null,"Z","1260L","Grade 7 - 10","Grade 7 - 11","Author Jennifer MacKay provides background on the Hindu religion and how the tales, as well as the gods and goddesses, evolved throughout history. Readers will be introduced to marvelous epic tales of Hindu heroes and gods, and learn how followers worship the Pantheon of Hindu Gods. They will also learn about Hinduism's role in the world today.","English",39.4,31.52,"294.5/​13","104 pp.","https://greenhavenpublishing.com/978-1-4205-1147-5",{"$f":"Table1[[#This Row],['# of Books]]*Table1[[#This Row],[QTY]]","v":0},{"$f":"Table1[[#This Row],[QTY]]*Table1[[#This Row],[School & Library Price]]","v":0}]
[null,null,91,null,null,"World History","Mythology and Culture Worldwide","Hindu Mythology","978-1-4205-1260-1",{"$f":"HYPERLINK(Table1[[#This Row],[Hyperlink]],\"Weblink\")","v":"Weblink"},"Lucent Press","eBook",1,"2015","January 2015",null,null,"Author","Jennifer MacKay",null,null,null,null,"Z","1260L","Grade 7 - 10","Grade 7 - 11","Author Jennifer MacKay provides background on the Hindu religion and how the tales, as well as the gods and goddesses, evolved throughout history. Readers will be introduced to marvelous epic tales of Hindu heroes and gods, and learn how followers worship the Pantheon of Hindu Gods. They will also learn about Hinduism's role in the world today.","English",43.34,34.67,"294.5/​13","104 pp.","https://greenhavenpublishing.com/978-1-4205-1260-1",{"$f":"Table1[[#This Row],['# of Books]]*Table1[[#This Row],[QTY]]","v":0},{"$f":"Table1[[#This Row],[QTY]]*Table1[[#This Row],[School & Library Price]]","v":0}]
[null,null,91,null,null,"World History","Mythology and Culture Worldwide","Mayan Mythology","978-1-4205-0747-8",{"$f":"HYPERLINK(Table1[[#This Row],[Hyperlink]],\"Weblink\")","v":"Weblink"},"Lucent Press","Library Bound Book",1,"2012","January 2012","Library","7.000 X 9.000","Author","Stephen Currie",null,null,null,null,"Z",null,"Grade 7 - 10","Grade 7 - 11","Author Stephen Currie provides readers with an intriguing look at the mythology of the Mayan culture. He explains how the beliefs, values, and experiences of that culture are represented in its treasured stories. Topics covered include creation stories, myths of culture heroes such as the Hero Twins, and tales of the gods of maize, rain, and wind, as well as the malevolent spirits of the underworld, Xilbaba. This volume has a map of the Mayan civilization, a genealogy grid for the Hero Twins, a table of major characters with name pronunciations and brief descriptions, a glossary, sidebars, fact boxes, a bibliography of sources for further study, and a subject index.","English",39.4,31.52,"398.2/​0897/​42","104 pp.","https://greenhavenpublishing.com/978-1-4205-0747-8",{"$f":"Table1[[#This Row],['# of Books]]*Table1[[#This Row],[QTY]]","v":0},{"$f":"Table1[[#This Row],[QTY]]*Table1[[#This Row],[School & Library Price]]","v":0}]
[null,null,91,null,null,"World History","Mythology and Culture Worldwide","Mayan Mythology","978-1-4205-0950-2",{"$f":"HYPERLINK(Table1[[#This Row],[Hyperlink]],\"Weblink\")","v":"Weblink"},"Lucent Press","eBook",1,"2012","January 2012",null,null,"Author","Stephen Currie",null,null,null,null,"Z",null,"Grade 7 - 10","Grade 7 - 11","Author Stephen Currie provides readers with an intriguing look at the mythology of the Mayan culture. He explains how the beliefs, values, and experiences of that culture are represented in its treasured stories. Topics covered include creation stories, myths of culture heroes such as the Hero Twins, and tales of the gods of maize, rain, and wind, as well as the malevolent spirits of the underworld, Xilbaba. This volume has a map of the Mayan civilization, a genealogy grid for the Hero Twins, a table of major characters with name pronunciations and brief descriptions, a glossary, sidebars, fact boxes, a bibliography of sources for further study, and a subject index.","English",43.34,34.67,"398.2/​0897/​42","104 pp.","https://greenhavenpublishing.com/978-1-4205-0950-2",{"$f":"Table1[[#This Row],['# of Books]]*Table1[[#This Row],[QTY]]","v":0},{"$f":"Table1[[#This Row],[QTY]]*Table1[[#This Row],[School & Library Price]]","v":0}]
[null,null,91,null,null,"World History","Mythology and Culture Worldwide","Native American Mythology","978-1-4205-0716-4",{"$f":"HYPERLINK(Table1[[#This Row],[Hyperlink]],\"Weblink\")","v":"Weblink"},"Lucent Press","Library Bound Book",1,"2012","January 2012","Library","7.000 X 9.000","Author","Q. L. Pearce",null,null,null,null,"Z",null,"Grade 7 - 10","Grade 7 - 11","Introduce readers to the rich cultural heritage of Native American mythology. This volume draws connections between Native American culture and its myths, and explains how the beliefs, values, and experiences of that culture are represented in its treasured stories. Tales covered include earth diver and origin stories, and myths of culture heroes, nature deities, spirits, and tricksters. This volume has a map of the tribal regions of North America, a table of major characters with name pronunciations and brief descriptions, a glossary, sidebars, fact boxes, a bibliography of sources for further study, and a subject index.","English",39.4,31.52,"398.2/​089/​97","104 pp.","https://greenhavenpublishing.com/978-1-4205-0716-4",{"$f":"Table1[[#This Row],['# of Books]]*Table1[[#This Row],[QTY]]","v":0},{"$f":"Table1[[#This Row],[QTY]]*Table1[[#This Row],[School & Library Price]]","v":0}]
[null,null,91,null,null,"World History","Mythology and Culture Worldwide","Native American Mythology","978-1-4205-0951-9",{"$f":"HYPERLINK(Table1[[#This Row],[Hyperlink]],\"Weblink\")","v":"Weblink"},"Lucent Press","eBook",1,"2012","January 2012",null,null,"Author","Q. L. Pearce",null,null,null,null,"Z",null,"Grade 7 - 10","Grade 7 - 11","Introduce readers to the rich cultural heritage of Native American mythology. This volume draws connections between Native American culture and its myths, and explains how the beliefs, values, and experiences of that culture are represented in its treasured stories. Tales covered include earth diver and origin stories, and myths of culture heroes, nature deities, spirits, and tricksters. This volume has a map of the tribal regions of North America, a table of major characters with name pronunciations and brief descriptions, a glossary, sidebars, fact boxes, a bibliography of sources for further study, and a subject index.","English",43.34,34.67,"398.2/​089/​97","104 pp.","https://greenhavenpublishing.com/978-1-4205-0951-9",{"$f":"Table1[[#This Row],['# of Books]]*Table1[[#This Row],[QTY]]","v":0},{"$f":"Table1[[#This Row],[QTY]]*Table1[[#This Row],[School & Library Price]]","v":0}]
[null,null,91,null,null,"World History","Mythology and Culture Worldwide","Norse Mythology","978-1-4205-0717-1",{"$f":"HYPERLINK(Table1[[#This Row],[Hyperlink]],\"Weblink\")","v":"Weblink"},"Lucent Press","Library Bound Book",1,"2012","January 2012","Library","7.000 X 9.000","Author","Shirley Raye Redmond",null,null,null,null,"Z",null,"Grade 7 - 10","Grade 7 - 11","Author Shirley Raye Redmond allows your readers an enriching look at the mythology of the Norse culture. She explains how the beliefs, values, and experiences of this culture are represented in its treasured stories. Tales covered include creation stories, and myths of the gods, frost giants, and heroes. This volume has a map of Scandinavia, a genealogy grid with some of the major gods and prominent characters such as Loki and his offspring, a table of key characters with name pronunciations and brief descriptions, a glossary, sidebars, fact boxes, a bibliography of sources for further study, and a subject index.","English",39.4,31.52,"293/​.13","96 pp.","https://greenhavenpublishing.com/978-1-4205-0717-1",{"$f":"Table1[[#This Row],['# of Books]]*Table1[[#This Row],[QTY]]","v":0},{"$f":"Table1[[#This Row],[QTY]]*Table1[[#This Row],[School & Library Price]]","v":0}]
[null,null,91,null,null,"World History","Mythology and Culture Worldwide","Norse Mythology","978-1-4205-1009-6",{"$f":"HYPERLINK(Table1[[#This Row],[Hyperlink]],\"Weblink\")","v":"Weblink"},"Lucent Press","eBook",1,"2012","January 2012",null,null,"Author","Shirley Raye Redmond",null,null,null,null,"Z",null,"Grade 7 - 10","Grade 7 - 11","Author Shirley Raye Redmond allows your readers an enriching look at the mythology of the Norse culture. She explains how the beliefs, values, and experiences of this culture are represented in its treasured stories. Tales covered include creation stories, and myths of the gods, frost giants, and heroes. This volume has a map of Scandinavia, a genealogy grid with some of the major gods and prominent characters such as Loki and his offspring, a table of key characters with name pronunciations and brief descriptions, a glossary, sidebars, fact boxes, a bibliography of sources for further study, and a subject index.","English",43.34,34.67,"293/​.13","96 pp.","https://greenhavenpublishing.com/978-1-4205-1009-6",{"$f":"Table1[[#This Row],['# of Books]]*Table1[[#This Row],[QTY]]","v":0},{"$f":"Table1[[#This Row],[QTY]]*Table1[[#This Row],[School & Library Price]]","v":0}]
[null,null,91,null,null,"World History","Mythology and Culture Worldwide","Persian Mythology","978-1-4205-0794-2",{"$f":"HYPERLINK(Table1[[#This Row],[Hyperlink]],\"Weblink\")","v":"Weblink"},"Lucent Press","Library Bound Book",1,"2013","January 2013","Library","7.000 X 9.000","Author","Don Nardo",null,null,null,null,"Z","1240L","Grade 7 - 10","Grade 7 - 11","Author Don Nardo examines the ancient civilizations and peoples of Persian mythology. Origin / creation stories, early gods, mythical kings and heroes, and Zoroastrianism are all covered. This volume has a map of ancient Persia, a visual organizer grouping major characters, a table of major characters with name pronunciations and brief descriptions, a glossary, sidebars, fact boxes, and bibliography of sources for further study, and a subject index.","English",39.4,31.52,"299/​.15","104 pp.","https://greenhavenpublishing.com/978-1-4205-0794-2",{"$f":"Table1[[#This Row],['# of Books]]*Table1[[#This Row],[QTY]]","v":0},{"$f":"Table1[[#This Row],[QTY]]*Table1[[#This Row],[School & Library Price]]","v":0}]
[null,null,91,null,null,"World History","Mythology and Culture Worldwide","Persian Mythology","978-1-4205-1038-6",{"$f":"HYPERLINK(Table1[[#This Row],[Hyperlink]],\"Weblink\")","v":"Weblink"},"Lucent Press","eBook",1,"2013","January 2013",null,null,"Author","Don Nardo",null,null,null,null,"Z","1240L","Grade 7 - 10","Grade 7 - 11","Author Don Nardo examines the ancient civilizations and peoples of Persian mythology. Origin / creation stories, early gods, mythical kings and heroes, and Zoroastrianism are all covered. This volume has a map of ancient Persia, a visual organizer grouping major characters, a table of major characters with name pronunciations and brief descriptions, a glossary, sidebars, fact boxes, and bibliography of sources for further study, and a subject index.","English",43.34,34.67,"299/​.15","104 pp.","https://greenhavenpublishing.com/978-1-4205-1038-6",{"$f":"Table1[[#This Row],['# of Books]]*Table1[[#This Row],[QTY]]","v":0},{"$f":"Table1[[#This Row],[QTY]]*Table1[[#This Row],[School & Library Price]]","v":0}]
[null,null,91,null,null,"World History","Mythology and Culture Worldwide","Roman Mythology","978-1-4205-0746-1",{"$f":"HYPERLINK(Table1[[#This Row],[Hyperlink]],\"Weblink\")","v":"Weblink"},"Lucent Press","Library Bound Book",1,"2012","January 2012","Library","7.000 X 9.000","Author","Don Nardo",null,null,null,null,"Z",null,"Grade 7 - 10","Grade 7 - 11","The myths of Aeneas, Romulus and Remus, the Six Brave Brothers, Horatius, Coriolanus and Volumnia, Cloelia, and others are explored. Hero myths and the values they represented are explored. This volume has a map of the Roman Empire, a family tree of Rome's founders, a table of major characters with name pronunciations and brief descriptions, a glossary, sidebars, fact boxes, a bibliography of sources for further study, and a subject index.","English",39.4,31.52,"292.07","104 pp.","https://greenhavenpublishing.com/978-1-4205-0746-1",{"$f":"Table1[[#This Row],['# of Books]]*Table1[[#This Row],[QTY]]","v":0},{"$f":"Table1[[#This Row],[QTY]]*Table1[[#This Row],[School & Library Price]]","v":0}]
[null,null,91,null,null,"World History","Mythology and Culture Worldwide","Roman Mythology","978-1-4205-0952-6",{"$f":"HYPERLINK(Table1[[#This Row],[Hyperlink]],\"Weblink\")","v":"Weblink"},"Lucent Press","eBook",1,"2012","January 2012",null,null,"Author","Don Nardo",null,null,null,null,"Z",null,"Grade 7 - 10","Grade 7 - 11","The myths of Aeneas, Romulus and Remus, the Six Brave Brothers, Horatius, Coriolanus and Volumnia, Cloelia, and others are explored. Hero myths and the values they represented are explored. This volume has a map of the Roman Empire, a family tree of Rome's founders, a table of major characters with name pronunciations and brief descriptions, a glossary, sidebars, fact boxes, a bibliography of sources for further study, and a subject index.","English",43.34,34.67,"292.07","104 pp.","https://greenhavenpublishing.com/978-1-4205-0952-6",{"$f":"Table1[[#This Row],['# of Books]]*Table1[[#This Row],[QTY]]","v":0},{"$f":"Table1[[#This Row],[QTY]]*Table1[[#This Row],[School & Library Price]]","v":0}]
[null,null,null,null,37,"Backlist","A Taste of Culture","Foods of Afghanistan","978-0-7377-5420-9",{"$f":"HYPERLINK(Table1[[#This Row],[Hyperlink]],\"Weblink\")","v":"Weblink"},"KidHaven Publishing","Library Bound Book",1,"2011","January 2011","Library","7.000 X 9.000","Author","Barbara Sheen",null,null,null,null,null,null,"Grade 3 - 6","Grade 3 - 7","At the Afghan table, food is communal and shared by everyone. Serve your readers with a delectable blend of geography, history, health, daily life, celebrations, and customs of Afghanistan. While executing authentic kid-friendly recipes, readers will learn about Afghanistan by way of its foods, cooking traditions, customs, eating habits, and food sources. The chapter on tea and snacks will intrigue readers.","English",35.200000000000003,28.16,"641.59581","64 pp.","https://greenhavenpublishing.com/978-0-7377-5420-9",{"$f":"Table1[[#This Row],['# of Books]]*Table1[[#This Row],[QTY]]","v":0},{"$f":"Table1[[#This Row],[QTY]]*Table1[[#This Row],[School & Library Price]]","v":0}]
[null,null,null,null,37,"Backlist","A Taste of Culture","Foods of Afghanistan","978-0-7377-5944-0",{"$f":"HYPERLINK(Table1[[#This Row],[Hyperlink]],\"Weblink\")","v":"Weblink"},"KidHaven Publishing","eBook",1,"2011","January 2011",null,null,"Author","Barbara Sheen",null,null,null,null,null,null,"Grade 3 - 6","Grade 3 - 7","At the Afghan table, food is communal and shared by everyone. Serve your readers with a delectable blend of geography, history, health, daily life, celebrations, and customs of Afghanistan. While executing authentic kid-friendly recipes, readers will learn about Afghanistan by way of its foods, cooking traditions, customs, eating habits, and food sources. The chapter on tea and snacks will intrigue readers.","English",38.72,30.98,"641.59581","64 pp.","https://greenhavenpublishing.com/978-0-7377-5944-0",{"$f":"Table1[[#This Row],['# of Books]]*Table1[[#This Row],[QTY]]","v":0},{"$f":"Table1[[#This Row],[QTY]]*Table1[[#This Row],[School & Library Price]]","v":0}]
[null,null,null,null,37,"Backlist","A Taste of Culture","Foods of Australia","978-0-7377-4812-3",{"$f":"HYPERLINK(Table1[[#This Row],[Hyperlink]],\"Weblink\")","v":"Weblink"},"KidHaven Publishing","Library Bound Book",1,"2010","January 2010","Library","7.000 X 9.000","Author","Barbara Sheen",null,null,null,null,null,null,"Grade 3 - 6","Grade 3 - 7","One of the most enjoyable ways to learn about other cultures is through their food. This book takes us to Australia, where the daily fare features beef, lamb, veal, and sausage BBQ and unique varieties of sandwiches. The tradition of drinking tea with biscuits and scones is discussed, as well as popular national treats such as Tim-Tam and ANZAC biscuits, Lamington cakes, and the elegant meringue dessert Pavlova, which some say was invented in Australia.","English",35.200000000000003,28.16,"641.5994","64 pp.","https://greenhavenpublishing.com/978-0-7377-4812-3",{"$f":"Table1[[#This Row],['# of Books]]*Table1[[#This Row],[QTY]]","v":0},{"$f":"Table1[[#This Row],[QTY]]*Table1[[#This Row],[School & Library Price]]","v":0}]
[null,null,null,null,37,"Backlist","A Taste of Culture","Foods of Australia","978-0-7377-5506-0",{"$f":"HYPERLINK(Table1[[#This Row],[Hyperlink]],\"Weblink\")","v":"Weblink"},"KidHaven Publishing","eBook",1,"2010","January 2010",null,null,"Author","Barbara Sheen",null,null,null,null,null,null,"Grade 3 - 6","Grade 3 - 7","One of the most enjoyable ways to learn about other cultures is through their food. This book takes us to Australia, where the daily fare features beef, lamb, veal, and sausage BBQ and unique varieties of sandwiches. The tradition of drinking tea with biscuits and scones is discussed, as well as popular national treats such as Tim-Tam and ANZAC biscuits, Lamington cakes, and the elegant meringue dessert Pavlova, which some say was invented in Australia.","English",38.72,30.98,"641.5994","64 pp.","https://greenhavenpublishing.com/978-0-7377-5506-0",{"$f":"Table1[[#This Row],['# of Books]]*Table1[[#This Row],[QTY]]","v":0},{"$f":"Table1[[#This Row],[QTY]]*Table1[[#This Row],[School & Library Price]]","v":0}]
[null,null,null,null,37,"Backlist","A Taste of Culture","Foods of Brazil","978-0-7377-5507-7",{"$f":"HYPERLINK(Table1[[#This Row],[Hyperlink]],\"Weblink\")","v":"Weblink"},"KidHaven Publishing","eBook",1,"2008","January 2008",null,null,"Author","Barbara Sheen",null,null,null,null,null,null,"Grade 3 - 6","Grade 3 - 7","Feijoada is one of Brazil's favorite dishes, which is a bean stew made with pork and rice. Readers are treated to more than the delight of learning, this book about Brazil offers a rich array of culinary and cultural elements. While creating their own versions of the country's featured recipes, readers will also learn unforgettable details about its geography, history, health, daily life, celebrations, and customs. Food for festas, tasty snacks, and healthy drinks will delight your readers.","English",38.72,30.98,"641.5981","64 pp.","https://greenhavenpublishing.com/978-0-7377-5507-7",{"$f":"Table1[[#This Row],['# of Books]]*Table1[[#This Row],[QTY]]","v":0},{"$f":"Table1[[#This Row],[QTY]]*Table1[[#This Row],[School & Library Price]]","v":0}]
[null,null,null,null,37,"Backlist","A Taste of Culture","Foods of Canada","978-0-7377-5947-1",{"$f":"HYPERLINK(Table1[[#This Row],[Hyperlink]],\"Weblink\")","v":"Weblink"},"KidHaven Publishing","Library Bound Book",1,"2012","January 2012","Library","7.000 X 9.000","Author","Barbara Sheen",null,null,null,null,null,null,"Grade 3 - 6","Grade 3 - 7","Author Barbara Sheen examines the historical and cultural forces behind Canada's diverse culinary tradition, including contributions from Canada's First Nations, French, and British background. Key ingredients include fish and seafood, meat, bread, hearty soups and chowders. Canada produces 85 percent of the world's maple syrup; how the syrup is gathered from maple trees and prepared in sugar shacks is explored. Feasts for Canadian Thanksgiving and Christmas celebrations are explained. Sidebars feature engaging country information as well as a number of recipes with easy-to-follow directions.","English",35.200000000000003,28.16,"641.5971","64 pp.","https://greenhavenpublishing.com/978-0-7377-5947-1",{"$f":"Table1[[#This Row],['# of Books]]*Table1[[#This Row],[QTY]]","v":0},{"$f":"Table1[[#This Row],[QTY]]*Table1[[#This Row],[School & Library Price]]","v":0}]
[null,null,null,null,37,"Backlist","A Taste of Culture","Foods of Canada","978-0-7377-6485-7",{"$f":"HYPERLINK(Table1[[#This Row],[Hyperlink]],\"Weblink\")","v":"Weblink"},"KidHaven Publishing","eBook",1,"2012","January 2012",null,null,"Author","Barbara Sheen",null,null,null,null,null,null,"Grade 3 - 6","Grade 3 - 7","Author Barbara Sheen examines the historical and cultural forces behind Canada's diverse culinary tradition, including contributions from Canada's First Nations, French, and British background. Key ingredients include fish and seafood, meat, bread, hearty soups and chowders. Canada produces 85 percent of the world's maple syrup; how the syrup is gathered from maple trees and prepared in sugar shacks is explored. Feasts for Canadian Thanksgiving and Christmas celebrations are explained. Sidebars feature engaging country information as well as a number of recipes with easy-to-follow directions.","English",38.72,30.98,"641.5971","64 pp.","https://greenhavenpublishing.com/978-0-7377-6485-7",{"$f":"Table1[[#This Row],['# of Books]]*Table1[[#This Row],[QTY]]","v":0},{"$f":"Table1[[#This Row],[QTY]]*Table1[[#This Row],[School & Library Price]]","v":0}]
[null,null,null,null,37,"Backlist","A Taste of Culture","Foods of Chile","978-0-7377-5421-6",{"$f":"HYPERLINK(Table1[[#This Row],[Hyperlink]],\"Weblink\")","v":"Weblink"},"KidHaven Publishing","Library Bound Book",1,"2011","January 2011","Library","7.000 X 9.000","Author","Barbara Sheen",null,null,null,null,null,null,"Grade 3 - 6","Grade 3 - 7","This vibrant volume introduces Chile and its culture by way of its foods, cooking traditions, eating habits, and food sources. While learning about and creating the foods of Chile, readers learn fascinating details about its geography, history, health, daily life, celebrations, and customs. Holidays, fiestas, and tea time are richly explained.","English",35.200000000000003,28.16,"641.5983","64 pp.","https://greenhavenpublishing.com/978-0-7377-5421-6",{"$f":"Table1[[#This Row],['# of Books]]*Table1[[#This Row],[QTY]]","v":0},{"$f":"Table1[[#This Row],[QTY]]*Table1[[#This Row],[School & Library Price]]","v":0}]
[null,null,null,null,37,"Backlist","A Taste of Culture","Foods of Chile","978-0-7377-5914-3",{"$f":"HYPERLINK(Table1[[#This Row],[Hyperlink]],\"Weblink\")","v":"Weblink"},"KidHaven Publishing","eBook",1,"2011","January 2011",null,null,"Author","Barbara Sheen",null,null,null,null,null,null,"Grade 3 - 6","Grade 3 - 7","This vibrant volume introduces Chile and its culture by way of its foods, cooking traditions, eating habits, and food sources. While learning about and creating the foods of Chile, readers learn fascinating details about its geography, history, health, daily life, celebrations, and customs. Holidays, fiestas, and tea time are richly explained.","English",38.72,30.98,"641.5983","64 pp.","https://greenhavenpublishing.com/978-0-7377-5914-3",{"$f":"Table1[[#This Row],['# of Books]]*Table1[[#This Row],[QTY]]","v":0},{"$f":"Table1[[#This Row],[QTY]]*Table1[[#This Row],[School & Library Price]]","v":0}]
[null,null,null,null,37,"Backlist","A Taste of Culture","Foods of China","978-0-7377-3031-9",{"$f":"HYPERLINK(Table1[[#This Row],[Hyperlink]],\"Weblink\")","v":"Weblink"},"KidHaven Publishing","Library Bound Book",1,"2006","January 2006","Library","7.000 X 9.000","Author","Barbara Sheen",null,null,null,null,null,null,"Grade 3 - 6","Grade 3 - 7","Author Barbara Sheen treats readers to a scrumptious blend of geography, history, health, daily life, celebrations, and customs of China. Sidebars feature engaging country factoids as well as a number of recipes with easy-to-follow directions.","English",35.200000000000003,28.16,"394.1/​2/​0951","64 pp.","https://greenhavenpublishing.com/978-0-7377-3031-9",{"$f":"Table1[[#This Row],['# of Books]]*Table1[[#This Row],[QTY]]","v":0},{"$f":"Table1[[#This Row],[QTY]]*Table1[[#This Row],[School & Library Price]]","v":0}]
[null,null,null,null,37,"Backlist","A Taste of Culture","Foods of Colombia","978-0-7377-5948-8",{"$f":"HYPERLINK(Table1[[#This Row],[Hyperlink]],\"Weblink\")","v":"Weblink"},"KidHaven Publishing","Library Bound Book",1,"2012","January 2012","Library","7.000 X 9.000","Author","Barbara Sheen",null,null,null,null,null,null,"Grade 3 - 6","Grade 3 - 7","Author Barbara Sheen examines the cuisine of Colombia and its relationship to the culture of the country. Everyday favorite foods are described as well as dishes that are prepared for special occasions. Sidebars feature engaging country information as well as a number of recipes with easy-to-follow directions.","English",35.200000000000003,28.16,"641.59861","64 pp.","https://greenhavenpublishing.com/978-0-7377-5948-8",{"$f":"Table1[[#This Row],['# of Books]]*Table1[[#This Row],[QTY]]","v":0},{"$f":"Table1[[#This Row],[QTY]]*Table1[[#This Row],[School & Library Price]]","v":0}]
[null,null,null,null,37,"Backlist","A Taste of Culture","Foods of Colombia","978-0-7377-6519-9",{"$f":"HYPERLINK(Table1[[#This Row],[Hyperlink]],\"Weblink\")","v":"Weblink"},"KidHaven Publishing","eBook",1,"2012","January 2012",null,null,"Author","Barbara Sheen",null,null,null,null,null,null,"Grade 3 - 6","Grade 3 - 7","Author Barbara Sheen examines the cuisine of Colombia and its relationship to the culture of the country. Everyday favorite foods are described as well as dishes that are prepared for special occasions. Sidebars feature engaging country information as well as a number of recipes with easy-to-follow directions.","English",38.72,30.98,"641.59861","64 pp.","https://greenhavenpublishing.com/978-0-7377-6519-9",{"$f":"Table1[[#This Row],['# of Books]]*Table1[[#This Row],[QTY]]","v":0},{"$f":"Table1[[#This Row],[QTY]]*Table1[[#This Row],[School & Library Price]]","v":0}]
[null,null,null,null,37,"Backlist","A Taste of Culture","Foods of Cuba","978-0-7377-5113-0",{"$f":"HYPERLINK(Table1[[#This Row],[Hyperlink]],\"Weblink\")","v":"Weblink"},"KidHaven Publishing","Library Bound Book",1,"2011","January 2011","Library","7.000 X 9.000","Author","Barbara Sheen",null,null,null,null,null,null,"Grade 3 - 6","Grade 3 - 7","Readers are treated to more than the delight of learning, this book about Cuba offers a rich array of culinary and cultural elements. While creating their own versions of the country's featured recipes, readers will also learn unforgettable details about its geography, history, health, daily life, celebrations, and customs. Includes recipes for picadillo, marquitas, and tres leches cake.","English",35.200000000000003,28.16,"641.597291--dc22","64 pp.","https://greenhavenpublishing.com/978-0-7377-5113-0",{"$f":"Table1[[#This Row],['# of Books]]*Table1[[#This Row],[QTY]]","v":0},{"$f":"Table1[[#This Row],[QTY]]*Table1[[#This Row],[School & Library Price]]","v":0}]
[null,null,null,null,37,"Backlist","A Taste of Culture","Foods of Cuba","978-0-7377-5854-2",{"$f":"HYPERLINK(Table1[[#This Row],[Hyperlink]],\"Weblink\")","v":"Weblink"},"KidHaven Publishing","eBook",1,"2011","January 2011",null,null,"Author","Barbara Sheen",null,null,null,null,null,null,"Grade 3 - 6","Grade 3 - 7","Readers are treated to more than the delight of learning, this book about Cuba offers a rich array of culinary and cultural elements. While creating their own versions of the country's featured recipes, readers will also learn unforgettable details about its geography, history, health, daily life, celebrations, and customs. Includes recipes for picadillo, marquitas, and tres leches cake.","English",38.72,30.98,"641.597291--dc22","64 pp.","https://greenhavenpublishing.com/978-0-7377-5854-2",{"$f":"Table1[[#This Row],['# of Books]]*Table1[[#This Row],[QTY]]","v":0},{"$f":"Table1[[#This Row],[QTY]]*Table1[[#This Row],[School & Library Price]]","v":0}]
[null,null,null,null,37,"Backlist","A Taste of Culture","Foods of Egypt","978-0-7377-4843-7",{"$f":"HYPERLINK(Table1[[#This Row],[Hyperlink]],\"Weblink\")","v":"Weblink"},"KidHaven Publishing","Library Bound Book",1,"2010","January 2010","Library","7.000 X 9.000","Author","Barbara Sheen",null,null,null,null,null,null,"Grade 3 - 6","Grade 3 - 7","One of the most enjoyable ways to learn about other cultures is through their food. This book takes us to Egypt, where the daily fare includes koshari, taamiya or falafel, and skewered dishes like kebabs, kofta, and shawarma. The national dishes ful (a creamy bean dish) and moloukheyah (a green soup) are described, as well as the special Kahk cookies made to commemorate Ramadan. Simple and delicious recipes are provided for hummus, lentil soup, ful medames, stuffed dates, and basboosa.","English",35.200000000000003,28.16,"641.5962","64 pp.","https://greenhavenpublishing.com/978-0-7377-4843-7",{"$f":"Table1[[#This Row],['# of Books]]*Table1[[#This Row],[QTY]]","v":0},{"$f":"Table1[[#This Row],[QTY]]*Table1[[#This Row],[School & Library Price]]","v":0}]
[null,null,null,null,37,"Backlist","A Taste of Culture","Foods of Egypt","978-0-7377-5508-4",{"$f":"HYPERLINK(Table1[[#This Row],[Hyperlink]],\"Weblink\")","v":"Weblink"},"KidHaven Publishing","eBook",1,"2010","January 2010",null,null,"Author","Barbara Sheen",null,null,null,null,null,null,"Grade 3 - 6","Grade 3 - 7","One of the most enjoyable ways to learn about other cultures is through their food. This book takes us to Egypt, where the daily fare includes koshari, taamiya or falafel, and skewered dishes like kebabs, kofta, and shawarma. The national dishes ful (a creamy bean dish) and moloukheyah (a green soup) are described, as well as the special Kahk cookies made to commemorate Ramadan. Simple and delicious recipes are provided for hummus, lentil soup, ful medames, stuffed dates, and basboosa.","English",38.72,30.98,"641.5962","64 pp.","https://greenhavenpublishing.com/978-0-7377-5508-4",{"$f":"Table1[[#This Row],['# of Books]]*Table1[[#This Row],[QTY]]","v":0},{"$f":"Table1[[#This Row],[QTY]]*Table1[[#This Row],[School & Library Price]]","v":0}]
[null,null,null,null,37,"Backlist","A Taste of Culture","Foods of England","978-0-7377-5881-8",{"$f":"HYPERLINK(Table1[[#This Row],[Hyperlink]],\"Weblink\")","v":"Weblink"},"KidHaven Publishing","Library Bound Book",1,"2011","January 2011","Library","7.000 X 9.000","Author","Barbara Sheen",null,null,null,null,null,null,"Grade 3 - 6","Grade 3 - 7","The British eat over 11.5 billion sandwiches every year. Author Barbara Sheen treats readers to a scrumptious blend of geography, history, health, daily life, celebrations, and customs of England. Sidebars feature engaging country factoids as well as a number of recipes with easy-to-follow directions.","English",35.200000000000003,28.16,"394.1/​20942","64 pp.","https://greenhavenpublishing.com/978-0-7377-5881-8",{"$f":"Table1[[#This Row],['# of Books]]*Table1[[#This Row],[QTY]]","v":0},{"$f":"Table1[[#This Row],[QTY]]*Table1[[#This Row],[School & Library Price]]","v":0}]
[null,null,null,null,37,"Backlist","A Taste of Culture","Foods of England","978-0-7377-6094-1",{"$f":"HYPERLINK(Table1[[#This Row],[Hyperlink]],\"Weblink\")","v":"Weblink"},"KidHaven Publishing","eBook",1,"2011","January 2011",null,null,"Author","Barbara Sheen",null,null,null,null,null,null,"Grade 3 - 6","Grade 3 - 7","The British eat over 11.5 billion sandwiches every year. Author Barbara Sheen treats readers to a scrumptious blend of geography, history, health, daily life, celebrations, and customs of England. Sidebars feature engaging country factoids as well as a number of recipes with easy-to-follow directions.","English",38.72,30.98,"394.1/​20942","64 pp.","https://greenhavenpublishing.com/978-0-7377-6094-1",{"$f":"Table1[[#This Row],['# of Books]]*Table1[[#This Row],[QTY]]","v":0},{"$f":"Table1[[#This Row],[QTY]]*Table1[[#This Row],[School & Library Price]]","v":0}]
[null,null,null,null,37,"Backlist","A Taste of Culture","Foods of Ethiopia","978-0-7377-3775-2",{"$f":"HYPERLINK(Table1[[#This Row],[Hyperlink]],\"Weblink\")","v":"Weblink"},"KidHaven Publishing","Library Bound Book",1,"2008","January 2008","Library","7.000 X 9.000","Author","Barbara Sheen",null,null,null,null,null,null,"Grade 3 - 6","Grade 3 - 7","Founded in 980 B.C., Ethiopia is one of the oldest nations in the world. Serve your readers with a delectable blend of geography, history, health, daily life, celebrations, and customs of Ethiopia. While executing authentic kid-friendly recipes, readers will learn about Ethiopia by way of its foods, cooking traditions, customs, eating habits, and food sources. Readers start with the basics, then learn about favorite foods, coffees, and snacks, then enjoy a rich look at special occasion recipes.","English",35.200000000000003,28.16,"641.5963","64 pp.","https://greenhavenpublishing.com/978-0-7377-3775-2",{"$f":"Table1[[#This Row],['# of Books]]*Table1[[#This Row],[QTY]]","v":0},{"$f":"Table1[[#This Row],[QTY]]*Table1[[#This Row],[School & Library Price]]","v":0}]
[null,null,null,null,37,"Backlist","A Taste of Culture","Foods of Ethiopia","978-0-7377-5509-1",{"$f":"HYPERLINK(Table1[[#This Row],[Hyperlink]],\"Weblink\")","v":"Weblink"},"KidHaven Publishing","eBook",1,"2008","January 2008",null,null,"Author","Barbara Sheen",null,null,null,null,null,null,"Grade 3 - 6","Grade 3 - 7","Founded in 980 B.C., Ethiopia is one of the oldest nations in the world. Serve your readers with a delectable blend of geography, history, health, daily life, celebrations, and customs of Ethiopia. While executing authentic kid-friendly recipes, readers will learn about Ethiopia by way of its foods, cooking traditions, customs, eating habits, and food sources. Readers start with the basics, then learn about favorite foods, coffees, and snacks, then enjoy a rich look at special occasion recipes.","English",38.72,30.98,"641.5963","64 pp.","https://greenhavenpublishing.com/978-0-7377-5509-1",{"$f":"Table1[[#This Row],['# of Books]]*Table1[[#This Row],[QTY]]","v":0},{"$f":"Table1[[#This Row],[QTY]]*Table1[[#This Row],[School & Library Price]]","v":0}]
[null,null,null,null,37,"Backlist","A Taste of Culture","Foods of France","978-0-7377-3032-6",{"$f":"HYPERLINK(Table1[[#This Row],[Hyperlink]],\"Weblink\")","v":"Weblink"},"KidHaven Publishing","Library Bound Book",1,"2005","January 2005","Library","7.000 X 9.000","Author","Peggy J. Parks",null,null,null,null,null,null,"Grade 3 - 6","Grade 3 - 7","It's time to eat snails and frog legs, and be polite by saying \"bon appetit!\" Readers are treated to more than the delight of learning, this book about France offers a rich array of culinary and cultural elements. While creating their own versions of the country's featured recipes, readers will also learn unforgettable details about its geography, history, health, daily life, celebrations, and customs. As young readers will discover, the experience of shopping for fresh and natural food, preparing it, and sharing a good meal with family and friends are all integral to French culture.","English",35.200000000000003,28.16,"641.5944","64 pp.","https://greenhavenpublishing.com/978-0-7377-3032-6",{"$f":"Table1[[#This Row],['# of Books]]*Table1[[#This Row],[QTY]]","v":0},{"$f":"Table1[[#This Row],[QTY]]*Table1[[#This Row],[School & Library Price]]","v":0}]
[null,null,null,null,37,"Backlist","A Taste of Culture","Foods of Germany","978-0-7377-5510-7",{"$f":"HYPERLINK(Table1[[#This Row],[Hyperlink]],\"Weblink\")","v":"Weblink"},"KidHaven Publishing","eBook",1,"2007","January 2007",null,null,"Author","Barbara Sheen",null,null,null,null,null,null,"Grade 3 - 6","Grade 3 - 7","This vibrant volume introduces Germany and its culture by way of its foods, cooking traditions, eating habits, and food sources. While learning about and creating the foods of Germany, readers learn fascinating details about its geography, history, health, daily life, celebrations, and customs. Readers learn about the three most important ingredients, and learn about sandwiches, sweets, holiday treats, and food that satisfies the hearty German appetite.","English",38.72,30.98,"641.5/​943","64 pp.","https://greenhavenpublishing.com/978-0-7377-5510-7",{"$f":"Table1[[#This Row],['# of Books]]*Table1[[#This Row],[QTY]]","v":0},{"$f":"Table1[[#This Row],[QTY]]*Table1[[#This Row],[School & Library Price]]","v":0}]
[null,null,null,null,37,"Backlist","A Taste of Culture","Foods of Ghana","978-0-7377-5949-5",{"$f":"HYPERLINK(Table1[[#This Row],[Hyperlink]],\"Weblink\")","v":"Weblink"},"KidHaven Publishing","Library Bound Book",1,"2012","January 2012","Library","7.000 X 9.000","Author","Barbara Sheen",null,null,null,null,null,null,"Grade 3 - 6","Grade 3 - 7","Author Barbara Sheen treats readers to a scrumptious blend of geography, history, health, daily life, celebrations, and customs of Ghana. Sidebars feature engaging country factoids as well as a number of recipes with easy-to-follow directions. Everyday favorite foods are described as well as dishes that are prepared for special occasions.","English",35.200000000000003,28.16,"641.59667","64 pp.","https://greenhavenpublishing.com/978-0-7377-5949-5",{"$f":"Table1[[#This Row],['# of Books]]*Table1[[#This Row],[QTY]]","v":0},{"$f":"Table1[[#This Row],[QTY]]*Table1[[#This Row],[School & Library Price]]","v":0}]
[null,null,null,null,37,"Backlist","A Taste of Culture","Foods of Ghana","978-0-7377-6520-5",{"$f":"HYPERLINK(Table1[[#This Row],[Hyperlink]],\"Weblink\")","v":"Weblink"},"KidHaven Publishing","eBook",1,"2012","January 2012",null,null,"Author","Barbara Sheen",null,null,null,null,null,null,"Grade 3 - 6","Grade 3 - 7","Author Barbara Sheen treats readers to a scrumptious blend of geography, history, health, daily life, celebrations, and customs of Ghana. Sidebars feature engaging country factoids as well as a number of recipes with easy-to-follow directions. Everyday favorite foods are described as well as dishes that are prepared for special occasions.","English",38.72,30.98,"641.59667","64 pp.","https://greenhavenpublishing.com/978-0-7377-6520-5",{"$f":"Table1[[#This Row],['# of Books]]*Table1[[#This Row],[QTY]]","v":0},{"$f":"Table1[[#This Row],[QTY]]*Table1[[#This Row],[School & Library Price]]","v":0}]
[null,null,null,null,37,"Backlist","A Taste of Culture","Foods of Greece","978-0-7377-3033-3",{"$f":"HYPERLINK(Table1[[#This Row],[Hyperlink]],\"Weblink\")","v":"Weblink"},"KidHaven Publishing","Library Bound Book",1,"2005","January 2005","Library","7.000 X 9.000","Author","Barbara Sheen",null,null,null,null,null,null,"Grade 3 - 6","Grade 3 - 7","Written in appealing, fact-filled prose, this resource explores the ways that Greece's landscape, geography, history, folklore and traditions are all tied to its food. Kid-friendly recipes add to the hands-on appeal and are just one of the many features of this colorful, cultural study of Greek cuisine.","English",35.200000000000003,28.16,"394.1/​2/​09495","64 pp.","https://greenhavenpublishing.com/978-0-7377-3033-3",{"$f":"Table1[[#This Row],['# of Books]]*Table1[[#This Row],[QTY]]","v":0},{"$f":"Table1[[#This Row],[QTY]]*Table1[[#This Row],[School & Library Price]]","v":0}]
[null,null,null,null,37,"Backlist","A Taste of Culture","Foods of Iceland","978-0-7377-6037-8",{"$f":"HYPERLINK(Table1[[#This Row],[Hyperlink]],\"Weblink\")","v":"Weblink"},"KidHaven Publishing","eBook",1,"2011","January 2011",null,null,"Author","Barbara Sheen",null,null,null,null,null,null,"Grade 3 - 6","Grade 3 - 7","Whale, puffin, and dried fish are staples in the Icelandic diet, but also enjoyed is fermented shark and sheep's head. Serve your readers with a delectable blend of geography, history, health, daily life, celebrations, and customs of Iceland. While executing authentic kid-friendly recipes, readers will learn about Iceland by way of its foods, cooking traditions, customs, eating habits, and food sources.","English",38.72,30.98,"641.59417","64 pp.","https://greenhavenpublishing.com/978-0-7377-6037-8",{"$f":"Table1[[#This Row],['# of Books]]*Table1[[#This Row],[QTY]]","v":0},{"$f":"Table1[[#This Row],[QTY]]*Table1[[#This Row],[School & Library Price]]","v":0}]
[null,null,null,null,37,"Backlist","A Taste of Culture","Foods of India","978-0-7377-3553-6",{"$f":"HYPERLINK(Table1[[#This Row],[Hyperlink]],\"Weblink\")","v":"Weblink"},"KidHaven Publishing","Library Bound Book",1,"2007","January 2007","Library","7.000 X 9.000","Author","Barbara Sheen",null,null,null,null,null,null,"Grade 3 - 6","Grade 3 - 7","India is the largest producer of spices in the world. Readers are treated to more than the delight of learning, this book about India offers a rich array of culinary and cultural elements. While creating their own versions of the country's featured recipes, readers will also learn unforgettable details about its geography, history, health, daily life, celebrations, and customs. Readers learn about India's colorful, fragrant, and delicious foods, from simple tasty snacks to meals served to honored guests.","English",35.200000000000003,28.16,"641.5954","64 pp.","https://greenhavenpublishing.com/978-0-7377-3553-6",{"$f":"Table1[[#This Row],['# of Books]]*Table1[[#This Row],[QTY]]","v":0},{"$f":"Table1[[#This Row],[QTY]]*Table1[[#This Row],[School & Library Price]]","v":0}]
[null,null,null,null,37,"Backlist","A Taste of Culture","Foods of India","978-0-7377-5511-4",{"$f":"HYPERLINK(Table1[[#This Row],[Hyperlink]],\"Weblink\")","v":"Weblink"},"KidHaven Publishing","eBook",1,"2007","January 2007",null,null,"Author","Barbara Sheen",null,null,null,null,null,null,"Grade 3 - 6","Grade 3 - 7","India is the largest producer of spices in the world. Readers are treated to more than the delight of learning, this book about India offers a rich array of culinary and cultural elements. While creating their own versions of the country's featured recipes, readers will also learn unforgettable details about its geography, history, health, daily life, celebrations, and customs. Readers learn about India's colorful, fragrant, and delicious foods, from simple tasty snacks to meals served to honored guests.","English",38.72,30.98,"641.5954","64 pp.","https://greenhavenpublishing.com/978-0-7377-5511-4",{"$f":"Table1[[#This Row],['# of Books]]*Table1[[#This Row],[QTY]]","v":0},{"$f":"Table1[[#This Row],[QTY]]*Table1[[#This Row],[School & Library Price]]","v":0}]
[null,null,null,null,37,"Backlist","A Taste of Culture","Foods of Indonesia","978-0-7377-5950-1",{"$f":"HYPERLINK(Table1[[#This Row],[Hyperlink]],\"Weblink\")","v":"Weblink"},"KidHaven Publishing","Library Bound Book",1,"2012","January 2012","Library","7.000 X 9.000","Author","Barbara Sheen",null,null,null,null,null,null,"Grade 3 - 6","Grade 3 - 7","Author Barbara Sheen examines Indonesia's culinary tradition. Key ingredients, curry-based classics, and feasts for Ramadan and other special occasions are explored, as well as the spices, chili peppers, rice, fish, seafood, and vegetables that serve as the backbone of Indonesian cooking. The author describes how the popular condiment sambal is made, as well as favorite dishes like nasi goring, gado gado, sate, and rending. Popular snacks such as Bakso, Onde-onde, and serabi are described. Sidebars feature engaging country information as well as a number of recipes with easy-to-follow directions.","English",35.200000000000003,28.16,"641.59598","64 pp.","https://greenhavenpublishing.com/978-0-7377-5950-1",{"$f":"Table1[[#This Row],['# of Books]]*Table1[[#This Row],[QTY]]","v":0},{"$f":"Table1[[#This Row],[QTY]]*Table1[[#This Row],[School & Library Price]]","v":0}]
[null,null,null,null,37,"Backlist","A Taste of Culture","Foods of Indonesia","978-0-7377-6501-4",{"$f":"HYPERLINK(Table1[[#This Row],[Hyperlink]],\"Weblink\")","v":"Weblink"},"KidHaven Publishing","eBook",1,"2012","January 2012",null,null,"Author","Barbara Sheen",null,null,null,null,null,null,"Grade 3 - 6","Grade 3 - 7","Author Barbara Sheen examines Indonesia's culinary tradition. Key ingredients, curry-based classics, and feasts for Ramadan and other special occasions are explored, as well as the spices, chili peppers, rice, fish, seafood, and vegetables that serve as the backbone of Indonesian cooking. The author describes how the popular condiment sambal is made, as well as favorite dishes like nasi goring, gado gado, sate, and rending. Popular snacks such as Bakso, Onde-onde, and serabi are described. Sidebars feature engaging country information as well as a number of recipes with easy-to-follow directions.","English",38.72,30.98,"641.59598","64 pp.","https://greenhavenpublishing.com/978-0-7377-6501-4",{"$f":"Table1[[#This Row],['# of Books]]*Table1[[#This Row],[QTY]]","v":0},{"$f":"Table1[[#This Row],[QTY]]*Table1[[#This Row],[School & Library Price]]","v":0}]
[null,null,null,null,37,"Backlist","A Taste of Culture","Foods of Ireland","978-0-7377-5114-7",{"$f":"HYPERLINK(Table1[[#This Row],[Hyperlink]],\"Weblink\")","v":"Weblink"},"KidHaven Publishing","Library Bound Book",1,"2011","January 2011","Library","7.000 X 9.000","Author","Barbara Sheen",null,null,null,null,null,null,"Grade 3 - 6","Grade 3 - 7","Do your readers know that Corned beef is strictly an American invention, and that the Irish don't eat it to celebrate St. Patrick's Day? Author Barbara Sheen treats readers to a scrumptious blend of geography, history, health, daily life, celebrations, and customs of Ireland. Sidebars feature engaging country factoids as well as a number of recipes with easy-to-follow directions.","English",35.200000000000003,28.16,"641.59417","64 pp.","https://greenhavenpublishing.com/978-0-7377-5114-7",{"$f":"Table1[[#This Row],['# of Books]]*Table1[[#This Row],[QTY]]","v":0},{"$f":"Table1[[#This Row],[QTY]]*Table1[[#This Row],[School & Library Price]]","v":0}]
[null,null,null,null,37,"Backlist","A Taste of Culture","Foods of Ireland","978-0-7377-5535-0",{"$f":"HYPERLINK(Table1[[#This Row],[Hyperlink]],\"Weblink\")","v":"Weblink"},"KidHaven Publishing","eBook",1,"2011","January 2011",null,null,"Author","Barbara Sheen",null,null,null,null,null,null,"Grade 3 - 6","Grade 3 - 7","Do your readers know that Corned beef is strictly an American invention, and that the Irish don't eat it to celebrate St. Patrick's Day? Author Barbara Sheen treats readers to a scrumptious blend of geography, history, health, daily life, celebrations, and customs of Ireland. Sidebars feature engaging country factoids as well as a number of recipes with easy-to-follow directions.","English",38.72,30.98,"641.59417","64 pp.","https://greenhavenpublishing.com/978-0-7377-5535-0",{"$f":"Table1[[#This Row],['# of Books]]*Table1[[#This Row],[QTY]]","v":0},{"$f":"Table1[[#This Row],[QTY]]*Table1[[#This Row],[School & Library Price]]","v":0}]
[null,null,null,null,37,"Backlist","A Taste of Culture","Foods of Israel","978-0-7377-5882-5",{"$f":"HYPERLINK(Table1[[#This Row],[Hyperlink]],\"Weblink\")","v":"Weblink"},"KidHaven Publishing","Library Bound Book",1,"2011","January 2011","Library","7.000 X 9.000","Author","Barbara Sheen",null,null,null,null,null,null,"Grade 3 - 6","Grade 3 - 7","Israeli children are less likely to have peanut allergies, partially because they are eating Bamba, which is a popular Israeli peanut snack. Serve your readers with a delectable blend of geography, history, health, daily life, celebrations, and customs of Israel. While executing authentic kid-friendly recipes, readers will learn about Israel by way of its foods, cooking traditions, customs, eating habits, and food sources. Readers will become well acquainted with the land of milk and honey.","English",35.200000000000003,28.16,"641.595694","64 pp.","https://greenhavenpublishing.com/978-0-7377-5882-5",{"$f":"Table1[[#This Row],['# of Books]]*Table1[[#This Row],[QTY]]","v":0},{"$f":"Table1[[#This Row],[QTY]]*Table1[[#This Row],[School & Library Price]]","v":0}]
[null,null,null,null,37,"Backlist","A Taste of Culture","Foods of Israel","978-0-7377-6126-9",{"$f":"HYPERLINK(Table1[[#This Row],[Hyperlink]],\"Weblink\")","v":"Weblink"},"KidHaven Publishing","eBook",1,"2011","January 2011",null,null,"Author","Barbara Sheen",null,null,null,null,null,null,"Grade 3 - 6","Grade 3 - 7","Israeli children are less likely to have peanut allergies, partially because they are eating Bamba, which is a popular Israeli peanut snack. Serve your readers with a delectable blend of geography, history, health, daily life, celebrations, and customs of Israel. While executing authentic kid-friendly recipes, readers will learn about Israel by way of its foods, cooking traditions, customs, eating habits, and food sources. Readers will become well acquainted with the land of milk and honey.","English",38.72,30.98,"641.595694","64 pp.","https://greenhavenpublishing.com/978-0-7377-6126-9",{"$f":"Table1[[#This Row],['# of Books]]*Table1[[#This Row],[QTY]]","v":0},{"$f":"Table1[[#This Row],[QTY]]*Table1[[#This Row],[School & Library Price]]","v":0}]
[null,null,null,null,37,"Backlist","A Taste of Culture","Foods of Kenya","978-0-7377-4813-0",{"$f":"HYPERLINK(Table1[[#This Row],[Hyperlink]],\"Weblink\")","v":"Weblink"},"KidHaven Publishing","Library Bound Book",1,"2010","January 2010","Library","7.000 X 9.000","Author","Barbara Sheen",null,null,null,null,null,null,"Grade 3 - 6","Grade 3 - 7","One of the most popular dishes of Kenya is Nayama Choma. It is served with vegetables for a perfect meal. Readers are treated to more than the delight of learning, this book about Kenya offers a rich array of culinary and cultural elements. While creating their own versions of the country's featured recipes, readers will also learn unforgettable details about its geography, history, health, daily life, celebrations, and customs. Readers will be fascinated by this land of contrast, its many influences, and its culture.","English",35.200000000000003,28.16,"641.596762","64 pp.","https://greenhavenpublishing.com/978-0-7377-4813-0",{"$f":"Table1[[#This Row],['# of Books]]*Table1[[#This Row],[QTY]]","v":0},{"$f":"Table1[[#This Row],[QTY]]*Table1[[#This Row],[School & Library Price]]","v":0}]
[null,null,null,null,37,"Backlist","A Taste of Culture","Foods of Kenya","978-0-7377-5512-1",{"$f":"HYPERLINK(Table1[[#This Row],[Hyperlink]],\"Weblink\")","v":"Weblink"},"KidHaven Publishing","eBook",1,"2010","January 2010",null,null,"Author","Barbara Sheen",null,null,null,null,null,null,"Grade 3 - 6","Grade 3 - 7","One of the most popular dishes of Kenya is Nayama Choma. It is served with vegetables for a perfect meal. Readers are treated to more than the delight of learning, this book about Kenya offers a rich array of culinary and cultural elements. While creating their own versions of the country's featured recipes, readers will also learn unforgettable details about its geography, history, health, daily life, celebrations, and customs. Readers will be fascinated by this land of contrast, its many influences, and its culture.","English",38.72,30.98,"641.596762","64 pp.","https://greenhavenpublishing.com/978-0-7377-5512-1",{"$f":"Table1[[#This Row],['# of Books]]*Table1[[#This Row],[QTY]]","v":0},{"$f":"Table1[[#This Row],[QTY]]*Table1[[#This Row],[School & Library Price]]","v":0}]
[null,null,null,null,37,"Backlist","A Taste of Culture","Foods of Korea","978-0-7377-5115-4",{"$f":"HYPERLINK(Table1[[#This Row],[Hyperlink]],\"Weblink\")","v":"Weblink"},"KidHaven Publishing","Library Bound Book",1,"2011","January 2011","Library","7.000 X 9.000","Author","Barbara Sheen",null,null,null,null,null,null,"Grade 3 - 6","Grade 3 - 7","This culinary cultural guidebook explores Korea by way of its foods, cooking traditions, eating habits, and food sources. While learning about and creating the foods of Korea, readers learn fascinating details about its geography, history, health, daily life, celebrations, and customs. Includes recipes for bulgogi, pajeon, and seaweed soup.\n\n\n\n ","English",35.200000000000003,28.16,"641.59519","64 pp.","https://greenhavenpublishing.com/978-0-7377-5115-4",{"$f":"Table1[[#This Row],['# of Books]]*Table1[[#This Row],[QTY]]","v":0},{"$f":"Table1[[#This Row],[QTY]]*Table1[[#This Row],[School & Library Price]]","v":0}]
[null,null,null,null,37,"Backlist","A Taste of Culture","Foods of Korea","978-0-7377-5864-1",{"$f":"HYPERLINK(Table1[[#This Row],[Hyperlink]],\"Weblink\")","v":"Weblink"},"KidHaven Publishing","eBook",1,"2011","January 2011",null,null,"Author","Barbara Sheen",null,null,null,null,null,null,"Grade 3 - 6","Grade 3 - 7","This culinary cultural guidebook explores Korea by way of its foods, cooking traditions, eating habits, and food sources. While learning about and creating the foods of Korea, readers learn fascinating details about its geography, history, health, daily life, celebrations, and customs. Includes recipes for bulgogi, pajeon, and seaweed soup.\n\n\n\n ","English",38.72,30.98,"641.59519","64 pp.","https://greenhavenpublishing.com/978-0-7377-5864-1",{"$f":"Table1[[#This Row],['# of Books]]*Table1[[#This Row],[QTY]]","v":0},{"$f":"Table1[[#This Row],[QTY]]*Table1[[#This Row],[School & Library Price]]","v":0}]
[null,null,null,null,37,"Backlist","A Taste of Culture","Foods of Mexico","978-0-7377-3036-4",{"$f":"HYPERLINK(Table1[[#This Row],[Hyperlink]],\"Weblink\")","v":"Weblink"},"KidHaven Publishing","Library Bound Book",1,"2005","January 2005","Library","7.000 X 9.000","Author","Barbara Sheen",null,null,null,null,null,null,"Grade 3 - 6","Grade 3 - 7","Many Mexican dishes represent the country's unique mix of Indian and European cuisine. Packed with interesting and informative facts, this colorful volume gives readers a taste of Mexican history, culture and folklore, as well as food origins. Simple recipes tied to the text make this book a multi-sensory experience. Readers will have fun exploring Mexico's snacks and sweets, specialty foods, favorite dishes, and traditional holiday meals.","English",35.200000000000003,28.16,"394.1/​2/​0972","64 pp.","https://greenhavenpublishing.com/978-0-7377-3036-4",{"$f":"Table1[[#This Row],['# of Books]]*Table1[[#This Row],[QTY]]","v":0},{"$f":"Table1[[#This Row],[QTY]]*Table1[[#This Row],[School & Library Price]]","v":0}]
[null,null,null,null,37,"Backlist","A Taste of Culture","Foods of Morocco","978-0-7377-5865-8",{"$f":"HYPERLINK(Table1[[#This Row],[Hyperlink]],\"Weblink\")","v":"Weblink"},"KidHaven Publishing","Library Bound Book",1,"2011","January 2011","Library","7.000 X 9.000","Author","Barbara Sheen",null,null,null,null,null,null,"Grade 3 - 6","Grade 3 - 7","Cumin is considered just as important as salt and pepper and is served at the Moroccan meal right alongside them. Author Barbara Sheen treats readers to a scrumptious blend of geography, history, health, daily life, celebrations, and customs of Morocco. Sidebars feature engaging country factoids as well as a number of recipes with easy-to-follow directions. Readers will be enchanted by the bright colors, enticing aromas, and unique flavors of Morocco.","English",35.200000000000003,28.16,"641.5964","64 pp.","https://greenhavenpublishing.com/978-0-7377-5865-8",{"$f":"Table1[[#This Row],['# of Books]]*Table1[[#This Row],[QTY]]","v":0},{"$f":"Table1[[#This Row],[QTY]]*Table1[[#This Row],[School & Library Price]]","v":0}]
[null,null,null,null,37,"Backlist","A Taste of Culture","Foods of Morocco","978-1-4205-0771-3",{"$f":"HYPERLINK(Table1[[#This Row],[Hyperlink]],\"Weblink\")","v":"Weblink"},"KidHaven Publishing","eBook",1,"2011","January 2011",null,null,"Author","Barbara Sheen",null,null,null,null,null,null,"Grade 3 - 6","Grade 3 - 7","Cumin is considered just as important as salt and pepper and is served at the Moroccan meal right alongside them. Author Barbara Sheen treats readers to a scrumptious blend of geography, history, health, daily life, celebrations, and customs of Morocco. Sidebars feature engaging country factoids as well as a number of recipes with easy-to-follow directions. Readers will be enchanted by the bright colors, enticing aromas, and unique flavors of Morocco.","English",38.72,30.98,"641.5964","64 pp.","https://greenhavenpublishing.com/978-1-4205-0771-3",{"$f":"Table1[[#This Row],['# of Books]]*Table1[[#This Row],[QTY]]","v":0},{"$f":"Table1[[#This Row],[QTY]]*Table1[[#This Row],[School & Library Price]]","v":0}]
[null,null,null,null,37,"Backlist","A Taste of Culture","Foods of Pakistan","978-0-7377-5883-2",{"$f":"HYPERLINK(Table1[[#This Row],[Hyperlink]],\"Weblink\")","v":"Weblink"},"KidHaven Publishing","Library Bound Book",1,"2011","January 2011","Library","7.000 X 9.000","Author","Barbara Sheen",null,null,null,null,null,null,"Grade 3 - 6","Grade 3 - 7","Rice dishes and kebabs feature prominently in Pakistan cuisine. Serve your readers with a delectable blend of geography, history, health, daily life, celebrations, and customs of Pakistan. While executing authentic kid-friendly recipes, readers will learn about Pakistan by way of its foods, cooking traditions, customs, eating habits, and food sources.","English",35.200000000000003,28.16,"641.595491","64 pp.","https://greenhavenpublishing.com/978-0-7377-5883-2",{"$f":"Table1[[#This Row],['# of Books]]*Table1[[#This Row],[QTY]]","v":0},{"$f":"Table1[[#This Row],[QTY]]*Table1[[#This Row],[School & Library Price]]","v":0}]
[null,null,null,null,37,"Backlist","A Taste of Culture","Foods of Pakistan","978-0-7377-6101-6",{"$f":"HYPERLINK(Table1[[#This Row],[Hyperlink]],\"Weblink\")","v":"Weblink"},"KidHaven Publishing","eBook",1,"2011","January 2011",null,null,"Author","Barbara Sheen",null,null,null,null,null,null,"Grade 3 - 6","Grade 3 - 7","Rice dishes and kebabs feature prominently in Pakistan cuisine. Serve your readers with a delectable blend of geography, history, health, daily life, celebrations, and customs of Pakistan. While executing authentic kid-friendly recipes, readers will learn about Pakistan by way of its foods, cooking traditions, customs, eating habits, and food sources.","English",38.72,30.98,"641.595491","64 pp.","https://greenhavenpublishing.com/978-0-7377-6101-6",{"$f":"Table1[[#This Row],['# of Books]]*Table1[[#This Row],[QTY]]","v":0},{"$f":"Table1[[#This Row],[QTY]]*Table1[[#This Row],[School & Library Price]]","v":0}]
[null,null,null,null,37,"Backlist","A Taste of Culture","Foods of Peru","978-0-7377-5346-2",{"$f":"HYPERLINK(Table1[[#This Row],[Hyperlink]],\"Weblink\")","v":"Weblink"},"KidHaven Publishing","Library Bound Book",1,"2011","January 2011","Library","7.000 X 9.000","Author","Barbara Sheen",null,null,null,null,null,null,"Grade 3 - 6","Grade 3 - 7","The main staples of Peruvian food are rice, potatoes, chicken, pork, lamb, and Peruvian hot pepper. Readers are treated to more than the delight of learning, this book about Peru offers a rich array of culinary and cultural elements. While creating their own versions of the country's featured recipes, readers will also learn unforgettable details about its geography, history, health, daily life, celebrations, and customs.","English",35.200000000000003,28.16,"394.1/​20985","64 pp.","https://greenhavenpublishing.com/978-0-7377-5346-2",{"$f":"Table1[[#This Row],['# of Books]]*Table1[[#This Row],[QTY]]","v":0},{"$f":"Table1[[#This Row],[QTY]]*Table1[[#This Row],[School & Library Price]]","v":0}]
[null,null,null,null,37,"Backlist","A Taste of Culture","Foods of Peru","978-0-7377-5848-1",{"$f":"HYPERLINK(Table1[[#This Row],[Hyperlink]],\"Weblink\")","v":"Weblink"},"KidHaven Publishing","eBook",1,"2011","January 2011",null,null,"Author","Barbara Sheen",null,null,null,null,null,null,"Grade 3 - 6","Grade 3 - 7","The main staples of Peruvian food are rice, potatoes, chicken, pork, lamb, and Peruvian hot pepper. Readers are treated to more than the delight of learning, this book about Peru offers a rich array of culinary and cultural elements. While creating their own versions of the country's featured recipes, readers will also learn unforgettable details about its geography, history, health, daily life, celebrations, and customs.","English",38.72,30.98,"394.1/​20985","64 pp.","https://greenhavenpublishing.com/978-0-7377-5848-1",{"$f":"Table1[[#This Row],['# of Books]]*Table1[[#This Row],[QTY]]","v":0},{"$f":"Table1[[#This Row],[QTY]]*Table1[[#This Row],[School & Library Price]]","v":0}]
[null,null,null,null,37,"Backlist","A Taste of Culture","Foods of Poland","978-0-7377-5951-8",{"$f":"HYPERLINK(Table1[[#This Row],[Hyperlink]],\"Weblink\")","v":"Weblink"},"KidHaven Publishing","Library Bound Book",1,"2012","January 2012","Library","7.000 X 9.000","Author","Barbara Sheen",null,null,null,null,null,null,"Grade 3 - 6","Grade 3 - 7","This vibrant volume introduces Poland and its culture by way of its foods, cooking traditions, eating habits, and food sources. While learning about and creating the foods of Poland, readers learn fascinating details about its geography, history, health, daily life, celebrations, and customs. Readers will be intrigued by what the land has to offer, its delicious and hearty foods, its pastries, and holiday foods.","English",35.200000000000003,28.16,"641.59438","64 pp.","https://greenhavenpublishing.com/978-0-7377-5951-8",{"$f":"Table1[[#This Row],['# of Books]]*Table1[[#This Row],[QTY]]","v":0},{"$f":"Table1[[#This Row],[QTY]]*Table1[[#This Row],[School & Library Price]]","v":0}]
[null,null,null,null,37,"Backlist","A Taste of Culture","Foods of Poland","978-0-7377-6125-2",{"$f":"HYPERLINK(Table1[[#This Row],[Hyperlink]],\"Weblink\")","v":"Weblink"},"KidHaven Publishing","eBook",1,"2012","January 2012",null,null,"Author","Barbara Sheen",null,null,null,null,null,null,"Grade 3 - 6","Grade 3 - 7","This vibrant volume introduces Poland and its culture by way of its foods, cooking traditions, eating habits, and food sources. While learning about and creating the foods of Poland, readers learn fascinating details about its geography, history, health, daily life, celebrations, and customs. Readers will be intrigued by what the land has to offer, its delicious and hearty foods, its pastries, and holiday foods.","English",38.72,30.98,"641.59438","64 pp.","https://greenhavenpublishing.com/978-0-7377-6125-2",{"$f":"Table1[[#This Row],['# of Books]]*Table1[[#This Row],[QTY]]","v":0},{"$f":"Table1[[#This Row],[QTY]]*Table1[[#This Row],[School & Library Price]]","v":0}]
[null,null,null,null,37,"Backlist","A Taste of Culture","Foods of Scandinavia","978-0-7377-4814-7",{"$f":"HYPERLINK(Table1[[#This Row],[Hyperlink]],\"Weblink\")","v":"Weblink"},"KidHaven Publishing","Library Bound Book",1,"2010","January 2010","Library","7.000 X 9.000","Author","Barbara Sheen",null,null,null,null,null,null,"Grade 3 - 6","Grade 3 - 7","One of the most enjoyable ways to learn about other cultures is through their food. This book takes us to the five nations of Scandinavia: Denmark, Finland, Iceland, Norway, and Sweden. There the daily fare includes gravalax (cured salmon), smorrebrod (thick open-faced sandwiches), pea soup, pancakes, and appelkaka (apple cake). Traditional Christmas foods are discussed, as well as the tradition of the fika (or \"going out for coffee\") and the well-known, huge buffets called smorgasbords. Simple, delicious recipes are provided for oat porridge with strawberry preserves, a roast beef smorrebrod, pea soup, and strawberry cream cake.","English",35.200000000000003,28.16,"641.5948","64 pp.","https://greenhavenpublishing.com/978-0-7377-4814-7",{"$f":"Table1[[#This Row],['# of Books]]*Table1[[#This Row],[QTY]]","v":0},{"$f":"Table1[[#This Row],[QTY]]*Table1[[#This Row],[School & Library Price]]","v":0}]
[null,null,null,null,37,"Backlist","A Taste of Culture","Foods of Scandinavia","978-0-7377-5513-8",{"$f":"HYPERLINK(Table1[[#This Row],[Hyperlink]],\"Weblink\")","v":"Weblink"},"KidHaven Publishing","eBook",1,"2010","January 2010",null,null,"Author","Barbara Sheen",null,null,null,null,null,null,"Grade 3 - 6","Grade 3 - 7","One of the most enjoyable ways to learn about other cultures is through their food. This book takes us to the five nations of Scandinavia: Denmark, Finland, Iceland, Norway, and Sweden. There the daily fare includes gravalax (cured salmon), smorrebrod (thick open-faced sandwiches), pea soup, pancakes, and appelkaka (apple cake). Traditional Christmas foods are discussed, as well as the tradition of the fika (or \"going out for coffee\") and the well-known, huge buffets called smorgasbords. Simple, delicious recipes are provided for oat porridge with strawberry preserves, a roast beef smorrebrod, pea soup, and strawberry cream cake.","English",38.72,30.98,"641.5948","64 pp.","https://greenhavenpublishing.com/978-0-7377-5513-8",{"$f":"Table1[[#This Row],['# of Books]]*Table1[[#This Row],[QTY]]","v":0},{"$f":"Table1[[#This Row],[QTY]]*Table1[[#This Row],[School & Library Price]]","v":0}]
[null,null,null,null,37,"Backlist","A Taste of Culture","Foods of South Africa","978-0-7377-5952-5",{"$f":"HYPERLINK(Table1[[#This Row],[Hyperlink]],\"Weblink\")","v":"Weblink"},"KidHaven Publishing","Library Bound Book",1,"2012","January 2012","Library","7.000 X 9.000","Author","Barbara Sheen",null,null,null,null,null,null,"Grade 3 - 6","Grade 3 - 7","Author Barbara Sheen examines South Africa's culinary tradition. Favorite ingredients, such as corn, water blommetjie, pickled fruits and vegetables, fish, and wild game, are described. The author explains favorite dishes like umphokoqo, bobotie, bredies, bunny chow, and potjies. Popular snacks such as koeksisters, rooibos tea, melk terts, and konfyt are also described. Sidebars feature engaging country information as well as a number of recipes with easy-to-follow directions.","English",35.200000000000003,28.16,"641.5968","64 pp.","https://greenhavenpublishing.com/978-0-7377-5952-5",{"$f":"Table1[[#This Row],['# of Books]]*Table1[[#This Row],[QTY]]","v":0},{"$f":"Table1[[#This Row],[QTY]]*Table1[[#This Row],[School & Library Price]]","v":0}]
[null,null,null,null,37,"Backlist","A Taste of Culture","Foods of South Africa","978-0-7377-6502-1",{"$f":"HYPERLINK(Table1[[#This Row],[Hyperlink]],\"Weblink\")","v":"Weblink"},"KidHaven Publishing","eBook",1,"2012","January 2012",null,null,"Author","Barbara Sheen",null,null,null,null,null,null,"Grade 3 - 6","Grade 3 - 7","Author Barbara Sheen examines South Africa's culinary tradition. Favorite ingredients, such as corn, water blommetjie, pickled fruits and vegetables, fish, and wild game, are described. The author explains favorite dishes like umphokoqo, bobotie, bredies, bunny chow, and potjies. Popular snacks such as koeksisters, rooibos tea, melk terts, and konfyt are also described. Sidebars feature engaging country information as well as a number of recipes with easy-to-follow directions.","English",38.72,30.98,"641.5968","64 pp.","https://greenhavenpublishing.com/978-0-7377-6502-1",{"$f":"Table1[[#This Row],['# of Books]]*Table1[[#This Row],[QTY]]","v":0},{"$f":"Table1[[#This Row],[QTY]]*Table1[[#This Row],[School & Library Price]]","v":0}]
[null,null,null,null,37,"Backlist","A Taste of Culture","Foods of Spain","978-0-7377-5514-5",{"$f":"HYPERLINK(Table1[[#This Row],[Hyperlink]],\"Weblink\")","v":"Weblink"},"KidHaven Publishing","eBook",1,"2008","January 2008",null,null,"Author","Barbara Sheen",null,null,null,null,null,null,"Grade 3 - 6","Grade 3 - 7","Spain makes 44 percent of the world's olive oil, which is more than twice that of Italy. Serve your readers with a delectable blend of geography, history, health, daily life, celebrations, and customs of Spain. While executing authentic kid-friendly recipes, readers will learn about Spain by way of its foods, cooking traditions, customs, eating habits, and food sources. Readers will enjoy the fresh healthy ingredients, round-the-clock treats, and special foods of Spain.","English",38.72,30.98,"641.5946","64 pp.","https://greenhavenpublishing.com/978-0-7377-5514-5",{"$f":"Table1[[#This Row],['# of Books]]*Table1[[#This Row],[QTY]]","v":0},{"$f":"Table1[[#This Row],[QTY]]*Table1[[#This Row],[School & Library Price]]","v":0}]
[null,null,null,null,37,"Backlist","A Taste of Culture","Foods of the Caribbean","978-0-7377-5515-2",{"$f":"HYPERLINK(Table1[[#This Row],[Hyperlink]],\"Weblink\")","v":"Weblink"},"KidHaven Publishing","eBook",1,"2008","January 2008",null,null,"Author","Barbara Sheen",null,null,null,null,null,null,"Grade 3 - 6","Grade 3 - 7","This culinary cultural guidebook introduces the Caribbean and its culture by way of its foods, cooking traditions, eating habits, and food sources. While learning about and creating the foods of the Caribbean, readers learn fascinating details about its geography, history, health, daily life, celebrations, and customs.","English",38.72,30.98,"641.59729","64 pp.","https://greenhavenpublishing.com/978-0-7377-5515-2",{"$f":"Table1[[#This Row],['# of Books]]*Table1[[#This Row],[QTY]]","v":0},{"$f":"Table1[[#This Row],[QTY]]*Table1[[#This Row],[School & Library Price]]","v":0}]
[null,null,null,null,38,"Backlist","Innovators","The Beatles: British Pop Sensation","978-0-7377-5868-9",{"$f":"HYPERLINK(Table1[[#This Row],[Hyperlink]],\"Weblink\")","v":"Weblink"},"KidHaven Publishing","Library Bound Book",1,"2011","January 2011","Library","6.000 X 9.000","Author","Stuart A. Kallen",null,null,null,null,null,null,"Grade 4 - 8","Grade 4 - 9","For the week of April 4th 1964, The Beatles held the top 5 slots of the Billboard Hot 100. This quartet had created a sound that the American audience could not do without. Author Stuart A. Kallen takes readers on a biographical trip with the band that changed music forever. Kallen addresses the stresses and events of dealing with new celebrity, and the eventual evolution into revolutionary new pop sounds.","English",34.6,27.68,"782.42166092/​2","48 pp.","https://greenhavenpublishing.com/978-0-7377-5868-9",{"$f":"Table1[[#This Row],['# of Books]]*Table1[[#This Row],[QTY]]","v":0},{"$f":"Table1[[#This Row],[QTY]]*Table1[[#This Row],[School & Library Price]]","v":0}]
[null,null,null,null,38,"Backlist","Innovators","The Beatles: British Pop Sensation","978-0-7377-6095-8",{"$f":"HYPERLINK(Table1[[#This Row],[Hyperlink]],\"Weblink\")","v":"Weblink"},"KidHaven Publishing","eBook",1,"2011","January 2011",null,null,"Author","Stuart A. Kallen",null,null,null,null,null,null,"Grade 4 - 8","Grade 4 - 9","For the week of April 4th 1964, The Beatles held the top 5 slots of the Billboard Hot 100. This quartet had created a sound that the American audience could not do without. Author Stuart A. Kallen takes readers on a biographical trip with the band that changed music forever. Kallen addresses the stresses and events of dealing with new celebrity, and the eventual evolution into revolutionary new pop sounds.","English",38.06,30.45,"782.42166092/​2","48 pp.","https://greenhavenpublishing.com/978-0-7377-6095-8",{"$f":"Table1[[#This Row],['# of Books]]*Table1[[#This Row],[QTY]]","v":0},{"$f":"Table1[[#This Row],[QTY]]*Table1[[#This Row],[School & Library Price]]","v":0}]
[null,null,null,null,38,"Backlist","Innovators","Chad Hurley, Steve Chen, Jawed Karim: YouTube Creators","978-0-7377-4270-1",{"$f":"HYPERLINK(Table1[[#This Row],[Hyperlink]],\"Weblink\")","v":"Weblink"},"KidHaven Publishing","Library Bound Book",1,"2009","January 2009","Library","6.000 X 9.000","Author","Katy S. Duffield",null,null,null,null,null,null,"Grade 4 - 8","Grade 4 - 9","Author Katy S. Duffield explores the life and achievements of Chad Hurley, Steve Chen, and Jawed Karim, who are the three young men responsible for the creation of YouTube. YouTube, which is on everyone's lips and a favorite place to spend hours on the Internet, provides users with a fast, simple way to upload and share videos they have created. These creative role models offer meaningful lessons in the real-world importance of imagination and persistence.","English",34.6,27.68,"384.3/​3","48 pp.","https://greenhavenpublishing.com/978-0-7377-4270-1",{"$f":"Table1[[#This Row],['# of Books]]*Table1[[#This Row],[QTY]]","v":0},{"$f":"Table1[[#This Row],[QTY]]*Table1[[#This Row],[School & Library Price]]","v":0}]
[null,null,null,null,38,"Backlist","Innovators","Chad Hurley, Steve Chen, Jawed Karim: YouTube Creators","978-0-7377-5480-3",{"$f":"HYPERLINK(Table1[[#This Row],[Hyperlink]],\"Weblink\")","v":"Weblink"},"KidHaven Publishing","eBook",1,"2009","January 2009",null,null,"Author","Katy S. Duffield",null,null,null,null,null,null,"Grade 4 - 8","Grade 4 - 9","Author Katy S. Duffield explores the life and achievements of Chad Hurley, Steve Chen, and Jawed Karim, who are the three young men responsible for the creation of YouTube. YouTube, which is on everyone's lips and a favorite place to spend hours on the Internet, provides users with a fast, simple way to upload and share videos they have created. These creative role models offer meaningful lessons in the real-world importance of imagination and persistence.","English",38.06,30.45,"384.3/​3","48 pp.","https://greenhavenpublishing.com/978-0-7377-5480-3",{"$f":"Table1[[#This Row],['# of Books]]*Table1[[#This Row],[QTY]]","v":0},{"$f":"Table1[[#This Row],[QTY]]*Table1[[#This Row],[School & Library Price]]","v":0}]
[null,null,null,null,38,"Backlist","Innovators","Doris Taylor: Growing a Beating Heart","978-0-7377-4565-8",{"$f":"HYPERLINK(Table1[[#This Row],[Hyperlink]],\"Weblink\")","v":"Weblink"},"KidHaven Publishing","Library Bound Book",1,"2009","January 2009","Library","6.000 X 9.000","Author","Lori Mortensen",null,null,null,null,null,null,"Grade 4 - 8","Grade 4 - 9","Doris Taylor's story is so sci-fi and mesmerizing, but also, so very true. In 2008, she announced that her team could create a beating heart using tissue engineering. This biography of her story and accomplishments will thrill your readers.","English",34.6,27.68,"610.92--dc22","48 pp.","https://greenhavenpublishing.com/978-0-7377-4565-8",{"$f":"Table1[[#This Row],['# of Books]]*Table1[[#This Row],[QTY]]","v":0},{"$f":"Table1[[#This Row],[QTY]]*Table1[[#This Row],[School & Library Price]]","v":0}]
[null,null,null,null,38,"Backlist","Innovators","Helen Greiner: Cofounder of iRobot Corporation","978-0-7377-4404-0",{"$f":"HYPERLINK(Table1[[#This Row],[Hyperlink]],\"Weblink\")","v":"Weblink"},"KidHaven Publishing","Library Bound Book",1,"2009","January 2009","Library","6.000 X 9.000","Author","Mary Schulte",null,null,null,null,null,null,"Grade 4 - 8","Grade 4 - 9","Inspire your readers with this biography about a Presidential Ambassador for Global Leadership. Helen Greiner was awarded that, along with several other honors, for being heads above the rest when it comes to robotic engineering and invention. She co-designed the very first Roomba, and went on to clean up with awarded government contracts for drones and other deployed devices.","English",34.6,27.68,"629.8/​92092--dc22","48 pp.","https://greenhavenpublishing.com/978-0-7377-4404-0",{"$f":"Table1[[#This Row],['# of Books]]*Table1[[#This Row],[QTY]]","v":0},{"$f":"Table1[[#This Row],[QTY]]*Table1[[#This Row],[School & Library Price]]","v":0}]
[null,null,null,null,38,"Backlist","Innovators","Janet Guthrie: Indy Car Racing Pioneer","978-0-7377-5050-8",{"$f":"HYPERLINK(Table1[[#This Row],[Hyperlink]],\"Weblink\")","v":"Weblink"},"KidHaven Publishing","Library Bound Book",1,"2010","January 2010","Library","6.000 X 9.000","Author","Barbara Sheen",null,null,null,null,null,null,"Grade 4 - 8","Grade 4 - 9","Janet Guthrie's life story shows readers that she has no problem playing with the big boys. Originally an aerospace engineer, Janet started racing on the side. Eventually it was on a full-time basis, leading her to own the fame of being the first woman to qualify and compete in the Indianapolis 500 and the Daytona 500.","English",34.6,27.68,"796.72092","48 pp.","https://greenhavenpublishing.com/978-0-7377-5050-8",{"$f":"Table1[[#This Row],['# of Books]]*Table1[[#This Row],[QTY]]","v":0},{"$f":"Table1[[#This Row],[QTY]]*Table1[[#This Row],[School & Library Price]]","v":0}]
[null,null,null,null,38,"Backlist","Innovators","John Lasseter: Pixar Animator","978-0-7377-4080-6",{"$f":"HYPERLINK(Table1[[#This Row],[Hyperlink]],\"Weblink\")","v":"Weblink"},"KidHaven Publishing","Library Bound Book",1,"2009","January 2009","Library","6.000 X 9.000","Author","Adam Woog",null,null,null,null,null,null,"Grade 4 - 8","Grade 4 - 9","Readers will be intrigued to learn that the man who heads Pixar Animation Studios, Walt Disney Animation Studios, and DisneyToon Studios was once fired from Disney. He was promoting computer animation over hand-illustration, which at that time, was a big no-no. Let his story ignite the creative fire in your students.\n\n","English",34.6,27.68,"791.4302/​33092","48 pp.","https://greenhavenpublishing.com/978-0-7377-4080-6",{"$f":"Table1[[#This Row],['# of Books]]*Table1[[#This Row],[QTY]]","v":0},{"$f":"Table1[[#This Row],[QTY]]*Table1[[#This Row],[School & Library Price]]","v":0}]
[null,null,null,null,38,"Backlist","Innovators","Jonathan Ive: Designer of the iPod","978-0-7377-5481-0",{"$f":"HYPERLINK(Table1[[#This Row],[Hyperlink]],\"Weblink\")","v":"Weblink"},"KidHaven Publishing","eBook",1,"2007","January 2007",null,null,"Author","Kris Hirschmann",null,null,null,null,null,null,"Grade 4 - 8","Grade 4 - 9","It isn't every day that someone endeavoring in the field of design gets knighted at Buckingham palace. That kind of day is reserved for the likes of Sir Jonathan Paul \"Jony\" Ive. Readers will explore details of his childhood, education, and career with Apple Computer, Inc., and his success designing the iPod.","English",38.06,30.45,"745.2092","48 pp.","https://greenhavenpublishing.com/978-0-7377-5481-0",{"$f":"Table1[[#This Row],['# of Books]]*Table1[[#This Row],[QTY]]","v":0},{"$f":"Table1[[#This Row],[QTY]]*Table1[[#This Row],[School & Library Price]]","v":0}]
[null,null,null,null,38,"Backlist","Innovators","Ken Kutaragi: PlayStation Developer","978-0-7377-5482-7",{"$f":"HYPERLINK(Table1[[#This Row],[Hyperlink]],\"Weblink\")","v":"Weblink"},"KidHaven Publishing","eBook",1,"2008","January 2008",null,null,"Author","Katy S. Duffield",null,null,null,null,null,null,"Grade 4 - 8","Grade 4 - 9","Author Katy S. Duffield details the life and career of Ken Kutaragi, including his early years at Sony in the 1980s, his decision to develop the gaming console PlayStation, and the future of the gaming console.","English",38.06,30.45,"621.39092","48 pp.","https://greenhavenpublishing.com/978-0-7377-5482-7",{"$f":"Table1[[#This Row],['# of Books]]*Table1[[#This Row],[QTY]]","v":0},{"$f":"Table1[[#This Row],[QTY]]*Table1[[#This Row],[School & Library Price]]","v":0}]
[null,null,null,null,38,"Backlist","Innovators","Larry Page and Sergey Brin: The Google Guys","978-0-7377-5483-4",{"$f":"HYPERLINK(Table1[[#This Row],[Hyperlink]],\"Weblink\")","v":"Weblink"},"KidHaven Publishing","eBook",1,"2008","January 2008",null,null,"Author","Gail B. Stewart",null,null,null,null,null,null,"Grade 4 - 8","Grade 4 - 9","This dual biography details the life and careers of Sergey Brin and Larry Page, founders of Google. Readers will learn about the power of creativity, friendship, and hard work that they achieved to enable people to have easy access to all information on the Web.","English",38.06,30.45,"005.1092","48 pp.","https://greenhavenpublishing.com/978-0-7377-5483-4",{"$f":"Table1[[#This Row],['# of Books]]*Table1[[#This Row],[QTY]]","v":0},{"$f":"Table1[[#This Row],[QTY]]*Table1[[#This Row],[School & Library Price]]","v":0}]
[null,null,null,null,38,"Backlist","Innovators","Mark Zuckerberg: Facebook Creator","978-0-7377-5484-1",{"$f":"HYPERLINK(Table1[[#This Row],[Hyperlink]],\"Weblink\")","v":"Weblink"},"KidHaven Publishing","eBook",1,"2009","January 2009",null,null,"Author","Adam Woog",null,null,null,null,null,null,"Grade 4 - 8","Grade 4 - 9","Forbes real time net worth ratings puts Mark Zuckerberg at over 71 billion dollars. That isn't bad for a Harvard dropout. Readers will learn how this man's simple idea turned into a global phenomena and helped him create a social media empire.","English",38.06,30.45,"006.7/​54/​092--dc22","48 pp.","https://greenhavenpublishing.com/978-0-7377-5484-1",{"$f":"Table1[[#This Row],['# of Books]]*Table1[[#This Row],[QTY]]","v":0},{"$f":"Table1[[#This Row],[QTY]]*Table1[[#This Row],[School & Library Price]]","v":0}]
[null,null,null,null,38,"Backlist","Innovators","Miles Davis: Legendary Jazz Musician","978-0-7377-5034-8",{"$f":"HYPERLINK(Table1[[#This Row],[Hyperlink]],\"Weblink\")","v":"Weblink"},"KidHaven Publishing","Library Bound Book",1,"2010","January 2010","Library","6.000 X 9.000","Author","Rachel Lynette",null,null,null,null,null,null,"Grade 4 - 8","Grade 4 - 9","Miles Dewey Davis III is profiled as one of the most influential and acclaimed figures in the history of jazz and 20th century music. His story is not without great struggles. Readers will be inspired by getting to know this American jazz trumpeter, bandleader, composer, and artistic genius.","English",34.6,27.68,"788.9/​2165/​092","48 pp.","https://greenhavenpublishing.com/978-0-7377-5034-8",{"$f":"Table1[[#This Row],['# of Books]]*Table1[[#This Row],[QTY]]","v":0},{"$f":"Table1[[#This Row],[QTY]]*Table1[[#This Row],[School & Library Price]]","v":0}]
[null,null,null,null,38,"Backlist","Innovators","Miles Davis: Legendary Jazz Musician","978-0-7377-6072-9",{"$f":"HYPERLINK(Table1[[#This Row],[Hyperlink]],\"Weblink\")","v":"Weblink"},"KidHaven Publishing","eBook",1,"2010","January 2010",null,null,"Author","Rachel Lynette",null,null,null,null,null,null,"Grade 4 - 8","Grade 4 - 9","Miles Dewey Davis III is profiled as one of the most influential and acclaimed figures in the history of jazz and 20th century music. His story is not without great struggles. Readers will be inspired by getting to know this American jazz trumpeter, bandleader, composer, and artistic genius.","English",38.06,30.45,"788.9/​2165/​092","48 pp.","https://greenhavenpublishing.com/978-0-7377-6072-9",{"$f":"Table1[[#This Row],['# of Books]]*Table1[[#This Row],[QTY]]","v":0},{"$f":"Table1[[#This Row],[QTY]]*Table1[[#This Row],[School & Library Price]]","v":0}]
[null,null,null,null,38,"Backlist","Innovators","Pierre M. Omidyar: Creator of Ebay","978-0-7377-3864-3",{"$f":"HYPERLINK(Table1[[#This Row],[Hyperlink]],\"Weblink\")","v":"Weblink"},"KidHaven Publishing","Library Bound Book",1,"2008","January 2008","Library","6.000 X 9.000","Author","Adam Woog",null,null,null,null,null,null,"Grade 4 - 8","Grade 4 - 9","Becoming a billionaire at the age of only 31, there is a lot to learn from Pierre Morad Omidyar's story. Readers will learn about this American entrepreneur and philanthropist, who is the founder of eBay.\n\n","English",34.6,27.68,"381/​.177092","48 pp.","https://greenhavenpublishing.com/978-0-7377-3864-3",{"$f":"Table1[[#This Row],['# of Books]]*Table1[[#This Row],[QTY]]","v":0},{"$f":"Table1[[#This Row],[QTY]]*Table1[[#This Row],[School & Library Price]]","v":0}]
[null,null,null,null,38,"Backlist","Innovators","Richard Branson: Virgin Megabrand Mogul","978-0-7377-5536-7",{"$f":"HYPERLINK(Table1[[#This Row],[Hyperlink]],\"Weblink\")","v":"Weblink"},"KidHaven Publishing","Library Bound Book",1,"2011","January 2011","Library","6.000 X 9.000","Author","Shirley Raye Redmond",null,null,null,null,null,null,"Grade 4 - 8","Grade 4 - 9","Author Shirley Raye Redmond examines the biographical details of a mega-magnate, Sir Richard Charles Nicholas Branson. He founded the Virgin Group, which controls more than 400 companies, but he is also a world-recognized philanthropist. \n\n","English",34.6,27.68,"338/​.04092","48 pp.","https://greenhavenpublishing.com/978-0-7377-5536-7",{"$f":"Table1[[#This Row],['# of Books]]*Table1[[#This Row],[QTY]]","v":0},{"$f":"Table1[[#This Row],[QTY]]*Table1[[#This Row],[School & Library Price]]","v":0}]
[null,null,null,null,38,"Backlist","Innovators","Richard Branson: Virgin Megabrand Mogul","978-0-7377-6026-2",{"$f":"HYPERLINK(Table1[[#This Row],[Hyperlink]],\"Weblink\")","v":"Weblink"},"KidHaven Publishing","eBook",1,"2011","January 2011",null,null,"Author","Shirley Raye Redmond",null,null,null,null,null,null,"Grade 4 - 8","Grade 4 - 9","Author Shirley Raye Redmond examines the biographical details of a mega-magnate, Sir Richard Charles Nicholas Branson. He founded the Virgin Group, which controls more than 400 companies, but he is also a world-recognized philanthropist. \n\n","English",38.06,30.45,"338/​.04092","48 pp.","https://greenhavenpublishing.com/978-0-7377-6026-2",{"$f":"Table1[[#This Row],['# of Books]]*Table1[[#This Row],[QTY]]","v":0},{"$f":"Table1[[#This Row],[QTY]]*Table1[[#This Row],[School & Library Price]]","v":0}]
[null,null,null,null,38,"Backlist","Innovators","Satoshi Tajiri: Pokemon Creator","978-0-7377-5485-8",{"$f":"HYPERLINK(Table1[[#This Row],[Hyperlink]],\"Weblink\")","v":"Weblink"},"KidHaven Publishing","eBook",1,"2009","January 2009",null,null,"Author","Lori Mortensen",null,null,null,null,null,null,"Grade 4 - 8","Grade 4 - 9","This biography examines the life of electronic game designer, Satoshi Tajiri, who created Pokémon, one of the most popular computer games ever produced. This talent is the founder of the video game developer Game Freak.","English",38.06,30.45,"338.7/​617948092","48 pp.","https://greenhavenpublishing.com/978-0-7377-5485-8",{"$f":"Table1[[#This Row],['# of Books]]*Table1[[#This Row],[QTY]]","v":0},{"$f":"Table1[[#This Row],[QTY]]*Table1[[#This Row],[School & Library Price]]","v":0}]
[null,null,null,null,38,"Backlist","Innovators","Shigeru Miyamoto: Nintendo Game Designer","978-0-7377-5486-5",{"$f":"HYPERLINK(Table1[[#This Row],[Hyperlink]],\"Weblink\")","v":"Weblink"},"KidHaven Publishing","eBook",1,"2006","January 2006",null,null,"Author","Jan Burns",null,null,null,null,null,null,"Grade 4 - 8","Grade 4 - 9","As a child, Shigeru Miyamoto was a natural explorer. One of the caves he found in his youth would later inspire one of his creations, The Legend of Zelda. Unless living in a cave yourself, you've probably heard of a few of his other inventions, such as Donkey Kong, Mario, Star Fox, F-Zero, and Pikmin. He is considered to be the most successful video game designer in the world. Treat your readers to an up-close look at this video game genius.","English",38.06,30.45,"794.8/​1526","48 pp.","https://greenhavenpublishing.com/978-0-7377-5486-5",{"$f":"Table1[[#This Row],['# of Books]]*Table1[[#This Row],[QTY]]","v":0},{"$f":"Table1[[#This Row],[QTY]]*Table1[[#This Row],[School & Library Price]]","v":0}]
[null,null,null,null,38,"Backlist","Innovators","Stephanie Kwolek: Creator of Kevlar","978-0-7377-4040-0",{"$f":"HYPERLINK(Table1[[#This Row],[Hyperlink]],\"Weblink\")","v":"Weblink"},"KidHaven Publishing","Library Bound Book",1,"2009","January 2009","Library","6.000 X 9.000","Author","Gail B. Stewart",null,null,null,null,null,null,"Grade 4 - 8","Grade 4 - 9","Little is it mentioned that for poly-paraphenylene terephthalamide, better known as Kevlar or bullet-stopping fibre, we have Stephanie Louise Kwolek to thank. She was an American chemist, whose career at the DuPont company spanned over forty years. Originally looking for a lightweight material to be used in tires due to an impending gas shortage, her team created a life-saving materials instead. Inspire the budding scientist in your readers with this biography; her early appreciation for Nature through activities with her Naturalist father is what led her to science.","English",34.6,27.68,"660.092","48 pp.","https://greenhavenpublishing.com/978-0-7377-4040-0",{"$f":"Table1[[#This Row],['# of Books]]*Table1[[#This Row],[QTY]]","v":0},{"$f":"Table1[[#This Row],[QTY]]*Table1[[#This Row],[School & Library Price]]","v":0}]
[null,null,null,null,38,"Backlist","Innovators","Stephenie Meyer: Twilight Saga Author","978-0-7377-5066-9",{"$f":"HYPERLINK(Table1[[#This Row],[Hyperlink]],\"Weblink\")","v":"Weblink"},"KidHaven Publishing","Library Bound Book",1,"2010","January 2010","Library","6.000 X 9.000","Author","Barbara Sheen",null,null,null,null,null,null,"Grade 4 - 8","Grade 4 - 9","American young adult fiction writer and film producer Stephenie Meyer was able to tap into the teen consciousness, and deliver a vampire story for all time. On book tours, she has drawn around 3,000 people or more, just to have her sign one of her books. This biography allows readers to tap into this talented storyteller.\n","English",34.6,27.68,"813/​.6","48 pp.","https://greenhavenpublishing.com/978-0-7377-5066-9",{"$f":"Table1[[#This Row],['# of Books]]*Table1[[#This Row],[QTY]]","v":0},{"$f":"Table1[[#This Row],[QTY]]*Table1[[#This Row],[School & Library Price]]","v":0}]
[null,null,null,null,39,"Backlist","Mysterious Encounters","The Afterlife","978-0-7377-5487-2",{"$f":"HYPERLINK(Table1[[#This Row],[Hyperlink]],\"Weblink\")","v":"Weblink"},"KidHaven Publishing","eBook",1,"2008","January 2008",null,null,"Author","Rachel Lynette",null,null,null,null,null,null,"Grade 4 - 8","Grade 4 - 9","For humans there is life, death, and the afterlife. Author Rachel Lynette investigates from near-death experiences, what is lurking on the other side of death for us. Eyewitness accounts are paired with alternative reasoning to give readers both sides of the story.","English",36.96,29.57,"133.901/​3","48 pp.","https://greenhavenpublishing.com/978-0-7377-5487-2",{"$f":"Table1[[#This Row],['# of Books]]*Table1[[#This Row],[QTY]]","v":0},{"$f":"Table1[[#This Row],[QTY]]*Table1[[#This Row],[School & Library Price]]","v":0}]
[null,null,null,null,39,"Backlist","Mysterious Encounters","Area 51","978-0-7377-5488-9",{"$f":"HYPERLINK(Table1[[#This Row],[Hyperlink]],\"Weblink\")","v":"Weblink"},"KidHaven Publishing","eBook",1,"2009","January 2009",null,null,"Author","Gail B. Stewart",null,null,null,null,null,null,"Grade 4 - 8","Grade 4 - 9","It wasn't until 2005 that the C.I.A. acknowledged the area known as \"51\" and its top secret nature. This book provides eyewitness accounts of area 51 activity, positioned against alternative explanations. Sidebars help readers to think critically about what they are learning.","English",36.96,29.57,"001.942","48 pp.","https://greenhavenpublishing.com/978-0-7377-5488-9",{"$f":"Table1[[#This Row],['# of Books]]*Table1[[#This Row],[QTY]]","v":0},{"$f":"Table1[[#This Row],[QTY]]*Table1[[#This Row],[School & Library Price]]","v":0}]
[null,null,null,null,39,"Backlist","Mysterious Encounters","Atlantis","978-0-7377-5534-3",{"$f":"HYPERLINK(Table1[[#This Row],[Hyperlink]],\"Weblink\")","v":"Weblink"},"KidHaven Publishing","Library Bound Book",1,"2011","January 2011","Library","6.000 X 9.000","Author","Stuart A. Kallen",null,null,null,null,null,null,"Grade 4 - 8","Grade 4 - 9","This heavily-illustrated volume introduces readers to the Thera theory, as well as other beliefs on whether Atlantis was real. The text is accompanied by critical thinking sidebars, which allow readers to analyze what they are learning in real-time.","English",33.6,26.88,"398.23/4","48 pp.","https://greenhavenpublishing.com/978-0-7377-5534-3",{"$f":"Table1[[#This Row],['# of Books]]*Table1[[#This Row],[QTY]]","v":0},{"$f":"Table1[[#This Row],[QTY]]*Table1[[#This Row],[School & Library Price]]","v":0}]
[null,null,null,null,39,"Backlist","Mysterious Encounters","Atlantis","978-0-7377-6004-0",{"$f":"HYPERLINK(Table1[[#This Row],[Hyperlink]],\"Weblink\")","v":"Weblink"},"KidHaven Publishing","eBook",1,"2011","January 2011",null,null,"Author","Stuart A. Kallen",null,null,null,null,null,null,"Grade 4 - 8","Grade 4 - 9","This heavily-illustrated volume introduces readers to the Thera theory, as well as other beliefs on whether Atlantis was real. The text is accompanied by critical thinking sidebars, which allow readers to analyze what they are learning in real-time.","English",36.96,29.57,"398.23/4","48 pp.","https://greenhavenpublishing.com/978-0-7377-6004-0",{"$f":"Table1[[#This Row],['# of Books]]*Table1[[#This Row],[QTY]]","v":0},{"$f":"Table1[[#This Row],[QTY]]*Table1[[#This Row],[School & Library Price]]","v":0}]
[null,null,null,null,39,"Backlist","Mysterious Encounters","The Bermuda Triangle","978-0-7377-5489-6",{"$f":"HYPERLINK(Table1[[#This Row],[Hyperlink]],\"Weblink\")","v":"Weblink"},"KidHaven Publishing","eBook",1,"2008","January 2008",null,null,"Author","Katy S. Duffield",null,null,null,null,null,null,"Grade 4 - 8","Grade 4 - 9","This book provides eyewitness accounts, paired with alternative explanations and other elements of reasoning, to explore the mysterious disappearances of ships and planes in that area of the Atlantic Ocean called the Bermuda Triangle.","English",36.96,29.57,"001.94","48 pp.","https://greenhavenpublishing.com/978-0-7377-5489-6",{"$f":"Table1[[#This Row],['# of Books]]*Table1[[#This Row],[QTY]]","v":0},{"$f":"Table1[[#This Row],[QTY]]*Table1[[#This Row],[School & Library Price]]","v":0}]
[null,null,null,null,39,"Backlist","Mysterious Encounters","Bigfoot","978-0-7377-3473-7",{"$f":"HYPERLINK(Table1[[#This Row],[Hyperlink]],\"Weblink\")","v":"Weblink"},"KidHaven Publishing","Library Bound Book",1,"2006","January 2006","Library","6.000 X 9.000","Author","Adam Woog",null,null,null,null,null,null,"Grade 4 - 8","Grade 4 - 9","The mysterious, ape-like creature called Bigfoot or Sasquatch has fascinated people for hundreds of years, though its existence has never been proven. Genuine or not, exciting tales of close encounters with Bigfoot have appeared regularly, from the earliest Native American legends to today's sophisticated, high-tech field research. This volume takes readers up close to Bigfoot's real or imagined existence.","English",33.6,26.88,"001.944","48 pp.","https://greenhavenpublishing.com/978-0-7377-3473-7",{"$f":"Table1[[#This Row],['# of Books]]*Table1[[#This Row],[QTY]]","v":0},{"$f":"Table1[[#This Row],[QTY]]*Table1[[#This Row],[School & Library Price]]","v":0}]
[null,null,null,null,39,"Backlist","Mysterious Encounters","Burial Grounds","978-0-7377-4411-8",{"$f":"HYPERLINK(Table1[[#This Row],[Hyperlink]],\"Weblink\")","v":"Weblink"},"KidHaven Publishing","Library Bound Book",1,"2010","January 2010","Library","6.000 X 9.000","Author","Rachel Lynette",null,null,null,null,null,null,"Grade 4 - 8","Grade 4 - 9","Author Rachel Lynette provides an intriguing introduction to burial grounds, including medieval rituals to superstitions about the dead. All manner of burials are described, including pet cemeteries, military cemeteries, and the Alaskan practice of freezing corpses over the winter in anticipation of the spring thaw.","English",33.6,26.88,"363.7/5","48 pp.","https://greenhavenpublishing.com/978-0-7377-4411-8",{"$f":"Table1[[#This Row],['# of Books]]*Table1[[#This Row],[QTY]]","v":0},{"$f":"Table1[[#This Row],[QTY]]*Table1[[#This Row],[School & Library Price]]","v":0}]
[null,null,null,null,39,"Backlist","Mysterious Encounters","Burial Grounds","978-0-7377-5490-2",{"$f":"HYPERLINK(Table1[[#This Row],[Hyperlink]],\"Weblink\")","v":"Weblink"},"KidHaven Publishing","eBook",1,"2010","January 2010",null,null,"Author","Rachel Lynette",null,null,null,null,null,null,"Grade 4 - 8","Grade 4 - 9","Author Rachel Lynette provides an intriguing introduction to burial grounds, including medieval rituals to superstitions about the dead. All manner of burials are described, including pet cemeteries, military cemeteries, and the Alaskan practice of freezing corpses over the winter in anticipation of the spring thaw.","English",36.96,29.57,"363.7/5","48 pp.","https://greenhavenpublishing.com/978-0-7377-5490-2",{"$f":"Table1[[#This Row],['# of Books]]*Table1[[#This Row],[QTY]]","v":0},{"$f":"Table1[[#This Row],[QTY]]*Table1[[#This Row],[School & Library Price]]","v":0}]
[null,null,null,null,39,"Backlist","Mysterious Encounters","Cities of Gold","978-0-7377-5036-2",{"$f":"HYPERLINK(Table1[[#This Row],[Hyperlink]],\"Weblink\")","v":"Weblink"},"KidHaven Publishing","Library Bound Book",1,"2010","January 2010","Library","6.000 X 9.000","Author","Shirley Raye Redmond",null,null,null,null,null,null,"Grade 4 - 8","Grade 4 - 9","This book chronicles man's endless fascination with and pursuit of lost treasure. It describes the most famous expeditions made to find fabled cities of gold, with stories about Aztec and Incan treasure, the city of Gran Paititi, the Seven Cities of Cibola, Quivira, and El Dorado.","English",33.6,26.88,"398.23/4","48 pp.","https://greenhavenpublishing.com/978-0-7377-5036-2",{"$f":"Table1[[#This Row],['# of Books]]*Table1[[#This Row],[QTY]]","v":0},{"$f":"Table1[[#This Row],[QTY]]*Table1[[#This Row],[School & Library Price]]","v":0}]
[null,null,null,null,39,"Backlist","Mysterious Encounters","Crop Circles","978-0-7377-4047-9",{"$f":"HYPERLINK(Table1[[#This Row],[Hyperlink]],\"Weblink\")","v":"Weblink"},"KidHaven Publishing","Library Bound Book",1,"2008","January 2008","Library","6.000 X 9.000","Author","Jan Burns",null,null,null,null,null,null,"Grade 4 - 8","Grade 4 - 9","Some crop circles, being several acres large, and seemingly to appear overnight with no evidence of footprints, makes it difficult to believe that humans create them and not some other creature. This book provides an introduction to crop circles, including various theories about how these designs have been created.","English",33.6,26.88,"001.94","48 pp.","https://greenhavenpublishing.com/978-0-7377-4047-9",{"$f":"Table1[[#This Row],['# of Books]]*Table1[[#This Row],[QTY]]","v":0},{"$f":"Table1[[#This Row],[QTY]]*Table1[[#This Row],[School & Library Price]]","v":0}]
[null,null,null,null,39,"Backlist","Mysterious Encounters","Crop Circles","978-0-7377-5491-9",{"$f":"HYPERLINK(Table1[[#This Row],[Hyperlink]],\"Weblink\")","v":"Weblink"},"KidHaven Publishing","eBook",1,"2008","January 2008",null,null,"Author","Jan Burns",null,null,null,null,null,null,"Grade 4 - 8","Grade 4 - 9","Some crop circles, being several acres large, and seemingly to appear overnight with no evidence of footprints, makes it difficult to believe that humans create them and not some other creature. This book provides an introduction to crop circles, including various theories about how these designs have been created.","English",36.96,29.57,"001.94","48 pp.","https://greenhavenpublishing.com/978-0-7377-5491-9",{"$f":"Table1[[#This Row],['# of Books]]*Table1[[#This Row],[QTY]]","v":0},{"$f":"Table1[[#This Row],[QTY]]*Table1[[#This Row],[School & Library Price]]","v":0}]
[null,null,null,null,39,"Backlist","Mysterious Encounters","Curses","978-0-7377-5917-4",{"$f":"HYPERLINK(Table1[[#This Row],[Hyperlink]],\"Weblink\")","v":"Weblink"},"KidHaven Publishing","eBook",1,"2011","January 2011",null,null,"Author","Rachel Lynette",null,null,null,null,null,null,"Grade 4 - 8","Grade 4 - 9","Readers will learn the history of curses and their power. Author Rachel Lynette describes well-known curses, and examines cursed places and objects.","English",36.96,29.57,"398/​.41","48 pp.","https://greenhavenpublishing.com/978-0-7377-5917-4",{"$f":"Table1[[#This Row],['# of Books]]*Table1[[#This Row],[QTY]]","v":0},{"$f":"Table1[[#This Row],[QTY]]*Table1[[#This Row],[School & Library Price]]","v":0}]
[null,null,null,null,39,"Backlist","Mysterious Encounters","The Devil","978-0-7377-3780-6",{"$f":"HYPERLINK(Table1[[#This Row],[Hyperlink]],\"Weblink\")","v":"Weblink"},"KidHaven Publishing","Library Bound Book",1,"2008","January 2008","Library","6.000 X 9.000","Author","David Robson",null,null,null,null,null,null,"Grade 4 - 8","Grade 4 - 9","Humanity is entranced by the idea of Heaven and Hell; two places that guide our behaviors if we value what they represent. Hell's domain is ruled by the character that evokes horror in the imagination. This book explores whether the devil exists, and how cults and the occult work to manifest the devil and its powers.","English",33.6,26.88,"133.4/​2","48 pp.","https://greenhavenpublishing.com/978-0-7377-3780-6",{"$f":"Table1[[#This Row],['# of Books]]*Table1[[#This Row],[QTY]]","v":0},{"$f":"Table1[[#This Row],[QTY]]*Table1[[#This Row],[School & Library Price]]","v":0}]
[null,null,null,null,39,"Backlist","Mysterious Encounters","The Devil","978-0-7377-5501-5",{"$f":"HYPERLINK(Table1[[#This Row],[Hyperlink]],\"Weblink\")","v":"Weblink"},"KidHaven Publishing","eBook",1,"2008","January 2008",null,null,"Author","David Robson",null,null,null,null,null,null,"Grade 4 - 8","Grade 4 - 9","Humanity is entranced by the idea of Heaven and Hell; two places that guide our behaviors if we value what they represent. Hell's domain is ruled by the character that evokes horror in the imagination. This book explores whether the devil exists, and how cults and the occult work to manifest the devil and its powers.","English",36.96,29.57,"133.4/​2","48 pp.","https://greenhavenpublishing.com/978-0-7377-5501-5",{"$f":"Table1[[#This Row],['# of Books]]*Table1[[#This Row],[QTY]]","v":0},{"$f":"Table1[[#This Row],[QTY]]*Table1[[#This Row],[School & Library Price]]","v":0}]
[null,null,null,null,39,"Backlist","Mysterious Encounters","The Dover Demon","978-0-7377-4570-2",{"$f":"HYPERLINK(Table1[[#This Row],[Hyperlink]],\"Weblink\")","v":"Weblink"},"KidHaven Publishing","Library Bound Book",1,"2010","January 2010","Library","6.000 X 9.000","Author","Mary Schulte",null,null,null,null,null,null,"Grade 4 - 8","Grade 4 - 9","This book recounts the story of the Dover Demon, a mysterious creature that reportedly appeared in Dover, Massachusetts, in 1977. Includes eyewitness accounts, alternative explanations and the newest theories. In three separate encounters, several teenagers gave similar descriptions of an eerie and unidentifiable creature. Details are provided about the sightings, the subsequent investigation, and media reports that followed.","English",33.6,26.88,"001.944","48 pp.","https://greenhavenpublishing.com/978-0-7377-4570-2",{"$f":"Table1[[#This Row],['# of Books]]*Table1[[#This Row],[QTY]]","v":0},{"$f":"Table1[[#This Row],[QTY]]*Table1[[#This Row],[School & Library Price]]","v":0}]
[null,null,null,null,39,"Backlist","Mysterious Encounters","The Dover Demon","978-0-7377-5492-6",{"$f":"HYPERLINK(Table1[[#This Row],[Hyperlink]],\"Weblink\")","v":"Weblink"},"KidHaven Publishing","eBook",1,"2010","January 2010",null,null,"Author","Mary Schulte",null,null,null,null,null,null,"Grade 4 - 8","Grade 4 - 9","This book recounts the story of the Dover Demon, a mysterious creature that reportedly appeared in Dover, Massachusetts, in 1977. Includes eyewitness accounts, alternative explanations and the newest theories. In three separate encounters, several teenagers gave similar descriptions of an eerie and unidentifiable creature. Details are provided about the sightings, the subsequent investigation, and media reports that followed.","English",36.96,29.57,"001.944","48 pp.","https://greenhavenpublishing.com/978-0-7377-5492-6",{"$f":"Table1[[#This Row],['# of Books]]*Table1[[#This Row],[QTY]]","v":0},{"$f":"Table1[[#This Row],[QTY]]*Table1[[#This Row],[School & Library Price]]","v":0}]
[null,null,null,null,39,"Backlist","Mysterious Encounters","ESP","978-0-7377-4084-4",{"$f":"HYPERLINK(Table1[[#This Row],[Hyperlink]],\"Weblink\")","v":"Weblink"},"KidHaven Publishing","Library Bound Book",1,"2009","January 2009","Library","6.000 X 9.000","Author, Author","Kevin Hile, Rachel Lynette",null,null,null,null,null,null,"Grade 4 - 8","Grade 4 - 9","Authors Kevin Hile and Rachel Lynette provide eyewitness accounts of situations in which people have displayed extrasensory perception (ESP). This book also discusses alternative explanations for these occurrences.","English",33.6,26.88,"133.8","48 pp.","https://greenhavenpublishing.com/978-0-7377-4084-4",{"$f":"Table1[[#This Row],['# of Books]]*Table1[[#This Row],[QTY]]","v":0},{"$f":"Table1[[#This Row],[QTY]]*Table1[[#This Row],[School & Library Price]]","v":0}]
[null,null,null,null,39,"Backlist","Mysterious Encounters","ESP","978-0-7377-5493-3",{"$f":"HYPERLINK(Table1[[#This Row],[Hyperlink]],\"Weblink\")","v":"Weblink"},"KidHaven Publishing","eBook",1,"2009","January 2009",null,null,"Author, Author","Kevin Hile, Rachel Lynette",null,null,null,null,null,null,"Grade 4 - 8","Grade 4 - 9","Authors Kevin Hile and Rachel Lynette provide eyewitness accounts of situations in which people have displayed extrasensory perception (ESP). This book also discusses alternative explanations for these occurrences.","English",36.96,29.57,"133.8","48 pp.","https://greenhavenpublishing.com/978-0-7377-5493-3",{"$f":"Table1[[#This Row],['# of Books]]*Table1[[#This Row],[QTY]]","v":0},{"$f":"Table1[[#This Row],[QTY]]*Table1[[#This Row],[School & Library Price]]","v":0}]
[null,null,null,null,39,"Backlist","Mysterious Encounters","Fortune-Telling","978-0-7377-4085-1",{"$f":"HYPERLINK(Table1[[#This Row],[Hyperlink]],\"Weblink\")","v":"Weblink"},"KidHaven Publishing","Library Bound Book",1,"2009","January 2009","Library","6.000 X 9.000","Author","Katherine E. Krohn",null,null,null,null,null,null,"Grade 4 - 8","Grade 4 - 9","This thrilling volume features some of the most popular methods of predicting the future, including astrology, palm reading, and tea-leaf reading.","English",33.6,26.88,"133.3","48 pp.","https://greenhavenpublishing.com/978-0-7377-4085-1",{"$f":"Table1[[#This Row],['# of Books]]*Table1[[#This Row],[QTY]]","v":0},{"$f":"Table1[[#This Row],[QTY]]*Table1[[#This Row],[School & Library Price]]","v":0}]
[null,null,null,null,39,"Backlist","Mysterious Encounters","Fortune-Telling","978-0-7377-5494-0",{"$f":"HYPERLINK(Table1[[#This Row],[Hyperlink]],\"Weblink\")","v":"Weblink"},"KidHaven Publishing","eBook",1,"2009","January 2009",null,null,"Author","Katherine E. Krohn",null,null,null,null,null,null,"Grade 4 - 8","Grade 4 - 9","This thrilling volume features some of the most popular methods of predicting the future, including astrology, palm reading, and tea-leaf reading.","English",36.96,29.57,"133.3","48 pp.","https://greenhavenpublishing.com/978-0-7377-5494-0",{"$f":"Table1[[#This Row],['# of Books]]*Table1[[#This Row],[QTY]]","v":0},{"$f":"Table1[[#This Row],[QTY]]*Table1[[#This Row],[School & Library Price]]","v":0}]
[null,null,null,null,39,"Backlist","Mysterious Encounters","Ghost Hunters","978-0-7377-5290-8",{"$f":"HYPERLINK(Table1[[#This Row],[Hyperlink]],\"Weblink\")","v":"Weblink"},"KidHaven Publishing","Library Bound Book",1,"2011","January 2011","Library","6.000 X 9.000","Author","Q. L. Pearce",null,null,null,null,null,null,"Grade 4 - 8","Grade 4 - 9","For as long as humans have considered life and death, they have considered the after-world. Phantoms, spirits, ghouls, and ghosts have been there all along as well. This book provides eyewitness accounts, paired with alternative explanations to introduce readers to those who truly believe in ghosts, and who actually hunt them.","English",33.6,26.88,"133.1","48 pp.","https://greenhavenpublishing.com/978-0-7377-5290-8",{"$f":"Table1[[#This Row],['# of Books]]*Table1[[#This Row],[QTY]]","v":0},{"$f":"Table1[[#This Row],[QTY]]*Table1[[#This Row],[School & Library Price]]","v":0}]
[null,null,null,null,39,"Backlist","Mysterious Encounters","Ghost Hunters","978-0-7377-5876-4",{"$f":"HYPERLINK(Table1[[#This Row],[Hyperlink]],\"Weblink\")","v":"Weblink"},"KidHaven Publishing","eBook",1,"2011","January 2011",null,null,"Author","Q. L. Pearce",null,null,null,null,null,null,"Grade 4 - 8","Grade 4 - 9","For as long as humans have considered life and death, they have considered the after-world. Phantoms, spirits, ghouls, and ghosts have been there all along as well. This book provides eyewitness accounts, paired with alternative explanations to introduce readers to those who truly believe in ghosts, and who actually hunt them.","English",36.96,29.57,"133.1","48 pp.","https://greenhavenpublishing.com/978-0-7377-5876-4",{"$f":"Table1[[#This Row],['# of Books]]*Table1[[#This Row],[QTY]]","v":0},{"$f":"Table1[[#This Row],[QTY]]*Table1[[#This Row],[School & Library Price]]","v":0}]
[null,null,null,null,39,"Backlist","Mysterious Encounters","Ghost Ships","978-0-7377-4086-8",{"$f":"HYPERLINK(Table1[[#This Row],[Hyperlink]],\"Weblink\")","v":"Weblink"},"KidHaven Publishing","Library Bound Book",1,"2009","January 2009","Library","6.000 X 9.000","Author","Kevin Hile",null,null,null,null,null,null,"Grade 4 - 8","Grade 4 - 9","The sea has long provided humankind with wonder, and delightful or demented imaginations along with it. This book provides eyewitness accounts, paired with alternative explanations, to explore legends surrounding the mysterious appearances of ghost ships.","English",33.6,26.88,"133.1/​22","48 pp.","https://greenhavenpublishing.com/978-0-7377-4086-8",{"$f":"Table1[[#This Row],['# of Books]]*Table1[[#This Row],[QTY]]","v":0},{"$f":"Table1[[#This Row],[QTY]]*Table1[[#This Row],[School & Library Price]]","v":0}]
[null,null,null,null,39,"Backlist","Mysterious Encounters","Ghost Ships","978-0-7377-5495-7",{"$f":"HYPERLINK(Table1[[#This Row],[Hyperlink]],\"Weblink\")","v":"Weblink"},"KidHaven Publishing","eBook",1,"2009","January 2009",null,null,"Author","Kevin Hile",null,null,null,null,null,null,"Grade 4 - 8","Grade 4 - 9","The sea has long provided humankind with wonder, and delightful or demented imaginations along with it. This book provides eyewitness accounts, paired with alternative explanations, to explore legends surrounding the mysterious appearances of ghost ships.","English",36.96,29.57,"133.1/​22","48 pp.","https://greenhavenpublishing.com/978-0-7377-5495-7",{"$f":"Table1[[#This Row],['# of Books]]*Table1[[#This Row],[QTY]]","v":0},{"$f":"Table1[[#This Row],[QTY]]*Table1[[#This Row],[School & Library Price]]","v":0}]
[null,null,null,null,39,"Backlist","Mysterious Encounters","Haunted Houses","978-0-7377-3475-1",{"$f":"HYPERLINK(Table1[[#This Row],[Hyperlink]],\"Weblink\")","v":"Weblink"},"KidHaven Publishing","Library Bound Book",1,"2006","January 2006","Library","6.000 X 9.000","Author","Kelli M. Brucken",null,null,null,null,null,null,"Grade 4 - 8","Grade 4 - 9","Touches by unseen hands, phantom footsteps, and icy cold blasts, those are just a few things that can be encountered in a haunted house. In this exciting book, readers explore a supernatural world with spooky true life tales from inside the walls of haunted houses.","English",33.6,26.88,"133.1","48 pp.","https://greenhavenpublishing.com/978-0-7377-3475-1",{"$f":"Table1[[#This Row],['# of Books]]*Table1[[#This Row],[QTY]]","v":0},{"$f":"Table1[[#This Row],[QTY]]*Table1[[#This Row],[School & Library Price]]","v":0}]
[null,null,null,null,39,"Backlist","Mysterious Encounters","La Llorona: The Crying Woman","978-0-7377-5496-4",{"$f":"HYPERLINK(Table1[[#This Row],[Hyperlink]],\"Weblink\")","v":"Weblink"},"KidHaven Publishing","eBook",1,"2010","January 2010",null,null,"Author","Q. L. Pearce",null,null,null,null,null,null,"Grade 4 - 8","Grade 4 - 9","This haunting volume recounts the legend of La Llorona, the Crying Woman, who is said to haunt the banks of the Rio Grande among many other locations.","English",36.96,29.57,"398.2098","48 pp.","https://greenhavenpublishing.com/978-0-7377-5496-4",{"$f":"Table1[[#This Row],['# of Books]]*Table1[[#This Row],[QTY]]","v":0},{"$f":"Table1[[#This Row],[QTY]]*Table1[[#This Row],[School & Library Price]]","v":0}]
[null,null,null,null,39,"Backlist","Mysterious Encounters","Miracles","978-0-7377-4087-5",{"$f":"HYPERLINK(Table1[[#This Row],[Hyperlink]],\"Weblink\")","v":"Weblink"},"KidHaven Publishing","Library Bound Book",1,"2008","January 2008","Library","6.000 X 9.000","Author","Toney Allman",null,null,null,null,null,null,"Grade 4 - 8","Grade 4 - 9","Human history is peppered with tales of miraculous people, places, and events. Author Toney Allman provides eyewitness accounts, paired with alternative explanations, to explore the mysterious occurrences of miracles.","English",33.6,26.88,"202/​.117","48 pp.","https://greenhavenpublishing.com/978-0-7377-4087-5",{"$f":"Table1[[#This Row],['# of Books]]*Table1[[#This Row],[QTY]]","v":0},{"$f":"Table1[[#This Row],[QTY]]*Table1[[#This Row],[School & Library Price]]","v":0}]
[null,null,null,null,39,"Backlist","Mysterious Encounters","Miracles","978-0-7377-5497-1",{"$f":"HYPERLINK(Table1[[#This Row],[Hyperlink]],\"Weblink\")","v":"Weblink"},"KidHaven Publishing","eBook",1,"2008","January 2008",null,null,"Author","Toney Allman",null,null,null,null,null,null,"Grade 4 - 8","Grade 4 - 9","Human history is peppered with tales of miraculous people, places, and events. Author Toney Allman provides eyewitness accounts, paired with alternative explanations, to explore the mysterious occurrences of miracles.","English",36.96,29.57,"202/​.117","48 pp.","https://greenhavenpublishing.com/978-0-7377-5497-1",{"$f":"Table1[[#This Row],['# of Books]]*Table1[[#This Row],[QTY]]","v":0},{"$f":"Table1[[#This Row],[QTY]]*Table1[[#This Row],[School & Library Price]]","v":0}]
[null,null,null,null,39,"Backlist","Mysterious Encounters","Mothman","978-0-7377-5037-9",{"$f":"HYPERLINK(Table1[[#This Row],[Hyperlink]],\"Weblink\")","v":"Weblink"},"KidHaven Publishing","Library Bound Book",1,"2010","January 2010","Library","6.000 X 9.000","Author","Q. L. Pearce",null,null,null,null,null,null,"Grade 4 - 8","Grade 4 - 9","This book describes the creature dubbed \"Mothman\" by the press. Beginning in Virginia in the early 1960s, witnesses reported sighting a flying creature about seven feet tall with a wingspan of more than ten feet, glowing red eyes and scaly skin. It made a screeching sound, caused radio interference, and seemed to have some sort of mind control power. As reports continued, more powers were attributed to the creature and the legend grew. Critical thinking sidebars help readers decide for themselves on whether Mothman was real.","English",33.6,26.88,"001.944","48 pp.","https://greenhavenpublishing.com/978-0-7377-5037-9",{"$f":"Table1[[#This Row],['# of Books]]*Table1[[#This Row],[QTY]]","v":0},{"$f":"Table1[[#This Row],[QTY]]*Table1[[#This Row],[School & Library Price]]","v":0}]
[null,null,null,null,39,"Backlist","Mysterious Encounters","Mothman","978-0-7377-5466-7",{"$f":"HYPERLINK(Table1[[#This Row],[Hyperlink]],\"Weblink\")","v":"Weblink"},"KidHaven Publishing","eBook",1,"2010","January 2010",null,null,"Author","Q. L. Pearce",null,null,null,null,null,null,"Grade 4 - 8","Grade 4 - 9","This book describes the creature dubbed \"Mothman\" by the press. Beginning in Virginia in the early 1960s, witnesses reported sighting a flying creature about seven feet tall with a wingspan of more than ten feet, glowing red eyes and scaly skin. It made a screeching sound, caused radio interference, and seemed to have some sort of mind control power. As reports continued, more powers were attributed to the creature and the legend grew. Critical thinking sidebars help readers decide for themselves on whether Mothman was real.","English",36.96,29.57,"001.944","48 pp.","https://greenhavenpublishing.com/978-0-7377-5466-7",{"$f":"Table1[[#This Row],['# of Books]]*Table1[[#This Row],[QTY]]","v":0},{"$f":"Table1[[#This Row],[QTY]]*Table1[[#This Row],[School & Library Price]]","v":0}]
[null,null,null,null,39,"Backlist","Mysterious Encounters","Mysterious Disappearances","978-0-7377-5840-5",{"$f":"HYPERLINK(Table1[[#This Row],[Hyperlink]],\"Weblink\")","v":"Weblink"},"KidHaven Publishing","Library Bound Book",1,"2011","January 2011","Library","6.000 X 9.000","Author","Q. L. Pearce",null,null,null,null,null,null,"Grade 4 - 8","Grade 4 - 9","Author Q. L. Pearce offers a thrilling investigation into the world of mysterious disappearances. He pairs eyewitness accounts with plausible alternative explanations. He discusses various disappearances and hotspots.\n\n","English",33.6,26.88,"001.94","48 pp.","https://greenhavenpublishing.com/978-0-7377-5840-5",{"$f":"Table1[[#This Row],['# of Books]]*Table1[[#This Row],[QTY]]","v":0},{"$f":"Table1[[#This Row],[QTY]]*Table1[[#This Row],[School & Library Price]]","v":0}]
[null,null,null,null,39,"Backlist","Mysterious Encounters","Mysterious Disappearances","978-0-7377-6039-2",{"$f":"HYPERLINK(Table1[[#This Row],[Hyperlink]],\"Weblink\")","v":"Weblink"},"KidHaven Publishing","eBook",1,"2011","January 2011",null,null,"Author","Q. L. Pearce",null,null,null,null,null,null,"Grade 4 - 8","Grade 4 - 9","Author Q. L. Pearce offers a thrilling investigation into the world of mysterious disappearances. He pairs eyewitness accounts with plausible alternative explanations. He discusses various disappearances and hotspots.\n\n","English",36.96,29.57,"001.94","48 pp.","https://greenhavenpublishing.com/978-0-7377-6039-2",{"$f":"Table1[[#This Row],['# of Books]]*Table1[[#This Row],[QTY]]","v":0},{"$f":"Table1[[#This Row],[QTY]]*Table1[[#This Row],[School & Library Price]]","v":0}]
[null,null,null,null,39,"Backlist","Mysterious Encounters","Oak Island Treasure Pit","978-0-7377-6005-7",{"$f":"HYPERLINK(Table1[[#This Row],[Hyperlink]],\"Weblink\")","v":"Weblink"},"KidHaven Publishing","eBook",1,"2011","January 2011",null,null,"Author","Shirley Raye Redmond",null,null,null,null,null,null,"Grade 4 - 8","Grade 4 - 9","The Oak Island treasure theories were recently made popular by the History Channel. Legends abound, for centuries, that this tiny island holds great treasures. Readers will follow the history of the island's enchantment, while critical thinking sidebars help them analyze what they're learning in real time.","English",36.96,29.57,"971.6/​23","48 pp.","https://greenhavenpublishing.com/978-0-7377-6005-7",{"$f":"Table1[[#This Row],['# of Books]]*Table1[[#This Row],[QTY]]","v":0},{"$f":"Table1[[#This Row],[QTY]]*Table1[[#This Row],[School & Library Price]]","v":0}]
[null,null,null,null,39,"Backlist","Mysterious Encounters","Poltergeists","978-0-7377-3665-6",{"$f":"HYPERLINK(Table1[[#This Row],[Hyperlink]],\"Weblink\")","v":"Weblink"},"KidHaven Publishing","Library Bound Book",1,"2007","January 2007","Library","6.000 X 9.000","Author","Katy S. Duffield",null,null,null,null,null,null,"Grade 4 - 8","Grade 4 - 9","Poltergeists have been making appearances since the first century. They are not ordinary ghosts, in that they are noisy, mischievous unhappy souls who like to lay claim to a certain area and never leave. The name itself means rhumble-ghost. Readers will the be thrilled by this account.\n","English",33.6,26.88,"133.1/​42","48 pp.","https://greenhavenpublishing.com/978-0-7377-3665-6",{"$f":"Table1[[#This Row],['# of Books]]*Table1[[#This Row],[QTY]]","v":0},{"$f":"Table1[[#This Row],[QTY]]*Table1[[#This Row],[School & Library Price]]","v":0}]
[null,null,null,null,39,"Backlist","Mysterious Encounters","The Possessed","978-0-7377-3781-3",{"$f":"HYPERLINK(Table1[[#This Row],[Hyperlink]],\"Weblink\")","v":"Weblink"},"KidHaven Publishing","Library Bound Book",1,"2008","January 2008","Library","6.000 X 9.000","Author","Craig E. Blohm",null,null,null,null,null,null,"Grade 4 - 8","Grade 4 - 9","This book describes various instances of demon possession and communicating with spirits throughout history including the Salem witch trials, possession in ancient cultures, and as portrayed by the film industry.","English",33.6,26.88,"133.4/​26","48 pp.","https://greenhavenpublishing.com/978-0-7377-3781-3",{"$f":"Table1[[#This Row],['# of Books]]*Table1[[#This Row],[QTY]]","v":0},{"$f":"Table1[[#This Row],[QTY]]*Table1[[#This Row],[School & Library Price]]","v":0}]
[null,null,null,null,39,"Backlist","Mysterious Encounters","The Possessed","978-0-7377-5502-2",{"$f":"HYPERLINK(Table1[[#This Row],[Hyperlink]],\"Weblink\")","v":"Weblink"},"KidHaven Publishing","eBook",1,"2008","January 2008",null,null,"Author","Craig E. Blohm",null,null,null,null,null,null,"Grade 4 - 8","Grade 4 - 9","This book describes various instances of demon possession and communicating with spirits throughout history including the Salem witch trials, possession in ancient cultures, and as portrayed by the film industry.","English",36.96,29.57,"133.4/​26","48 pp.","https://greenhavenpublishing.com/978-0-7377-5502-2",{"$f":"Table1[[#This Row],['# of Books]]*Table1[[#This Row],[QTY]]","v":0},{"$f":"Table1[[#This Row],[QTY]]*Table1[[#This Row],[School & Library Price]]","v":0}]
[null,null,null,null,39,"Backlist","Mysterious Encounters","Reincarnation","978-0-7377-4412-5",{"$f":"HYPERLINK(Table1[[#This Row],[Hyperlink]],\"Weblink\")","v":"Weblink"},"KidHaven Publishing","Library Bound Book",1,"2009","January 2009","Library","6.000 X 9.000","Author","Q. L. Pearce",null,null,null,null,null,null,"Grade 4 - 8","Grade 4 - 9","This investigative volume provides an introduction to reincarnation including different religions' beliefs, and people who claim to have been reincarnated. Readers will learn about using hypnosis to bring back memories of a past life.","English",33.6,26.88,"133.901/​35","48 pp.","https://greenhavenpublishing.com/978-0-7377-4412-5",{"$f":"Table1[[#This Row],['# of Books]]*Table1[[#This Row],[QTY]]","v":0},{"$f":"Table1[[#This Row],[QTY]]*Table1[[#This Row],[School & Library Price]]","v":0}]
[null,null,null,null,39,"Backlist","Mysterious Encounters","Reincarnation","978-0-7377-5498-8",{"$f":"HYPERLINK(Table1[[#This Row],[Hyperlink]],\"Weblink\")","v":"Weblink"},"KidHaven Publishing","eBook",1,"2009","January 2009",null,null,"Author","Q. L. Pearce",null,null,null,null,null,null,"Grade 4 - 8","Grade 4 - 9","This investigative volume provides an introduction to reincarnation including different religions' beliefs, and people who claim to have been reincarnated. Readers will learn about using hypnosis to bring back memories of a past life.","English",36.96,29.57,"133.901/​35","48 pp.","https://greenhavenpublishing.com/978-0-7377-5498-8",{"$f":"Table1[[#This Row],['# of Books]]*Table1[[#This Row],[QTY]]","v":0},{"$f":"Table1[[#This Row],[QTY]]*Table1[[#This Row],[School & Library Price]]","v":0}]
[null,null,null,null,39,"Backlist","Mysterious Encounters","Spontaneous Human Combustion","978-0-7377-4413-2",{"$f":"HYPERLINK(Table1[[#This Row],[Hyperlink]],\"Weblink\")","v":"Weblink"},"KidHaven Publishing","Library Bound Book",1,"2009","January 2009","Library","6.000 X 9.000","Author","Stuart A. Kallen",null,null,null,null,null,null,"Grade 4 - 8","Grade 4 - 9","Author Stuart A. Kallen takes a deep dive into the phenomenon known as spontaneous human combustion. A great deal of debate exists over whether it is even real. Readers will evaluate for themselves whether SHC is a reality or lore.","English",33.6,26.88,"001.94","48 pp.","https://greenhavenpublishing.com/978-0-7377-4413-2",{"$f":"Table1[[#This Row],['# of Books]]*Table1[[#This Row],[QTY]]","v":0},{"$f":"Table1[[#This Row],[QTY]]*Table1[[#This Row],[School & Library Price]]","v":0}]
[null,null,null,null,39,"Backlist","Mysterious Encounters","Spontaneous Human Combustion","978-0-7377-5499-5",{"$f":"HYPERLINK(Table1[[#This Row],[Hyperlink]],\"Weblink\")","v":"Weblink"},"KidHaven Publishing","eBook",1,"2009","January 2009",null,null,"Author","Stuart A. Kallen",null,null,null,null,null,null,"Grade 4 - 8","Grade 4 - 9","Author Stuart A. Kallen takes a deep dive into the phenomenon known as spontaneous human combustion. A great deal of debate exists over whether it is even real. Readers will evaluate for themselves whether SHC is a reality or lore.","English",36.96,29.57,"001.94","48 pp.","https://greenhavenpublishing.com/978-0-7377-5499-5",{"$f":"Table1[[#This Row],['# of Books]]*Table1[[#This Row],[QTY]]","v":0},{"$f":"Table1[[#This Row],[QTY]]*Table1[[#This Row],[School & Library Price]]","v":0}]
[null,null,null,null,39,"Backlist","Mysterious Encounters","Stonehenge","978-0-7377-5500-8",{"$f":"HYPERLINK(Table1[[#This Row],[Hyperlink]],\"Weblink\")","v":"Weblink"},"KidHaven Publishing","eBook",1,"2010","January 2010",null,null,"Author","Q. L. Pearce",null,null,null,null,null,null,"Grade 4 - 8","Grade 4 - 9","This book describes the Stonehenge megalithic circle on Britain's Salisbury Plain, exploring the many theories about how it was built, by whom, and why. It also examines what current studies have found about Stonehenge's builders and related ancient sites. Readers will be enthralled by this journey back into time and the Stonehenge mystery.","English",36.96,29.57,"936.2/​319","48 pp.","https://greenhavenpublishing.com/978-0-7377-5500-8",{"$f":"Table1[[#This Row],['# of Books]]*Table1[[#This Row],[QTY]]","v":0},{"$f":"Table1[[#This Row],[QTY]]*Table1[[#This Row],[School & Library Price]]","v":0}]
[null,null,null,null,39,"Backlist","Mysterious Encounters","Time Travel","978-0-7377-5503-9",{"$f":"HYPERLINK(Table1[[#This Row],[Hyperlink]],\"Weblink\")","v":"Weblink"},"KidHaven Publishing","eBook",1,"2010","January 2010",null,null,"Author","Stuart A. Kallen",null,null,null,null,null,null,"Grade 4 - 8","Grade 4 - 9","One of the greatest stories that humans love to tangle with is the ability to travel through time. If we could do it, we would. Is time travel possible? Author Stuart A. Kallen presents readers with the riddle of time, and whether time travel has happened, will happen, or can't ever happen.","English",36.96,29.57,"001","48 pp.","https://greenhavenpublishing.com/978-0-7377-5503-9",{"$f":"Table1[[#This Row],['# of Books]]*Table1[[#This Row],[QTY]]","v":0},{"$f":"Table1[[#This Row],[QTY]]*Table1[[#This Row],[School & Library Price]]","v":0}]
[null,null,null,null,39,"Backlist","Mysterious Encounters","UFOs","978-0-7377-5504-6",{"$f":"HYPERLINK(Table1[[#This Row],[Hyperlink]],\"Weblink\")","v":"Weblink"},"KidHaven Publishing","eBook",1,"2008","January 2008",null,null,"Author","Jan Burns",null,null,null,null,null,null,"Grade 4 - 8","Grade 4 - 9","This book provides eyewitness accounts, paired with alternative explanations and other elements of reasoning, to explore legends surrounding UFO sightings and alien abductions. The highly disputed Roswell Incident is richly evaluated. ","English",36.96,29.57,"001.942","48 pp.","https://greenhavenpublishing.com/978-0-7377-5504-6",{"$f":"Table1[[#This Row],['# of Books]]*Table1[[#This Row],[QTY]]","v":0},{"$f":"Table1[[#This Row],[QTY]]*Table1[[#This Row],[School & Library Price]]","v":0}]
[null,null,null,null,39,"Backlist","Mysterious Encounters","Urban Legends","978-0-7377-4049-3",{"$f":"HYPERLINK(Table1[[#This Row],[Hyperlink]],\"Weblink\")","v":"Weblink"},"KidHaven Publishing","Library Bound Book",1,"2008","January 2008","Library","6.000 X 9.000","Author","Rachel Lynette",null,null,null,null,null,null,"Grade 4 - 8","Grade 4 - 9","Urban legends thrill us because they're a part of our culture that we haven't proven or disproven yet, and as time continues more thrilling details emerge. Do killer alligators live in the sewer? Was a ship's Captain guided to survival by a pirate ghost? This heavily illustrated book examines a variety of urban legends from the strange and bizarre to animal antics.","English",33.6,26.88,"398.2091732","48 pp.","https://greenhavenpublishing.com/978-0-7377-4049-3",{"$f":"Table1[[#This Row],['# of Books]]*Table1[[#This Row],[QTY]]","v":0},{"$f":"Table1[[#This Row],[QTY]]*Table1[[#This Row],[School & Library Price]]","v":0}]
[null,null,null,null,39,"Backlist","Mysterious Encounters","Urban Legends","978-0-7377-5505-3",{"$f":"HYPERLINK(Table1[[#This Row],[Hyperlink]],\"Weblink\")","v":"Weblink"},"KidHaven Publishing","eBook",1,"2008","January 2008",null,null,"Author","Rachel Lynette",null,null,null,null,null,null,"Grade 4 - 8","Grade 4 - 9","Urban legends thrill us because they're a part of our culture that we haven't proven or disproven yet, and as time continues more thrilling details emerge. Do killer alligators live in the sewer? Was a ship's Captain guided to survival by a pirate ghost? This heavily illustrated book examines a variety of urban legends from the strange and bizarre to animal antics.","English",36.96,29.57,"398.2091732","48 pp.","https://greenhavenpublishing.com/978-0-7377-5505-3",{"$f":"Table1[[#This Row],['# of Books]]*Table1[[#This Row],[QTY]]","v":0},{"$f":"Table1[[#This Row],[QTY]]*Table1[[#This Row],[School & Library Price]]","v":0}]
[null,null,null,null,39,"Backlist","Mysterious Encounters","Vampires","978-0-7377-3476-8",{"$f":"HYPERLINK(Table1[[#This Row],[Hyperlink]],\"Weblink\")","v":"Weblink"},"KidHaven Publishing","Library Bound Book",1,"2006","January 2006","Library","6.000 X 9.000","Author","Bonnie McMeans",null,null,null,null,null,null,"Grade 4 - 8","Grade 4 - 9","People have believed in vampires for centuries. According to legend, vampires sleep in a coffin by day and walk the earth by night in search of human blood. This book reveals the reasons for vampire superstitions and explores stories of vampire encounters and exorcisms.","English",33.6,26.88,"398/​.45","48 pp.","https://greenhavenpublishing.com/978-0-7377-3476-8",{"$f":"Table1[[#This Row],['# of Books]]*Table1[[#This Row],[QTY]]","v":0},{"$f":"Table1[[#This Row],[QTY]]*Table1[[#This Row],[School & Library Price]]","v":0}]
[null,null,null,null,40,"Backlist","Monsters","The Abominable Snowman","978-0-7377-3448-5",{"$f":"HYPERLINK(Table1[[#This Row],[Hyperlink]],\"Weblink\")","v":"Weblink"},"KidHaven Publishing","Library Bound Book",1,"2008","January 2008","Library","6.000 X 9.000","Author","Rachel Lynette",null,null,null,null,null,null,"Grade 4 - 8","Grade 4 - 9","From high in the mountains a creature blends into the snow-covered background. The yeti is huge, covered in white fur, and scares anyone who think they may have seen it. Readers will examine the origins, history, and role in modernity of the snow monster.","English",35.200000000000003,28.16,"001.944","48 pp.","https://greenhavenpublishing.com/978-0-7377-3448-5",{"$f":"Table1[[#This Row],['# of Books]]*Table1[[#This Row],[QTY]]","v":0},{"$f":"Table1[[#This Row],[QTY]]*Table1[[#This Row],[School & Library Price]]","v":0}]
[null,null,null,null,40,"Backlist","Monsters","Bunyips","978-0-7377-5919-8",{"$f":"HYPERLINK(Table1[[#This Row],[Hyperlink]],\"Weblink\")","v":"Weblink"},"KidHaven Publishing","Library Bound Book",1,"2011","January 2011","Library","6.000 X 9.000","Author","Shirley Raye Redmond",null,null,null,null,null,null,"Grade 4 - 8","Grade 4 - 9","Readers are taken on a journey to Australia's lore of the bunyip. This book describes its origin, menacing characteristics, and the monster's legacy in popular culture.\n\n","English",35.200000000000003,28.16,"398.24/540994","48 pp.","https://greenhavenpublishing.com/978-0-7377-5919-8",{"$f":"Table1[[#This Row],['# of Books]]*Table1[[#This Row],[QTY]]","v":0},{"$f":"Table1[[#This Row],[QTY]]*Table1[[#This Row],[School & Library Price]]","v":0}]
[null,null,null,null,40,"Backlist","Monsters","Bunyips","978-0-7377-6010-1",{"$f":"HYPERLINK(Table1[[#This Row],[Hyperlink]],\"Weblink\")","v":"Weblink"},"KidHaven Publishing","eBook",1,"2011","January 2011",null,null,"Author","Shirley Raye Redmond",null,null,null,null,null,null,"Grade 4 - 8","Grade 4 - 9","Readers are taken on a journey to Australia's lore of the bunyip. This book describes its origin, menacing characteristics, and the monster's legacy in popular culture.\n\n","English",38.72,30.98,"398.24/540994","48 pp.","https://greenhavenpublishing.com/978-0-7377-6010-1",{"$f":"Table1[[#This Row],['# of Books]]*Table1[[#This Row],[QTY]]","v":0},{"$f":"Table1[[#This Row],[QTY]]*Table1[[#This Row],[School & Library Price]]","v":0}]
[null,null,null,null,40,"Backlist","Monsters","Cerberus","978-0-7377-4274-9",{"$f":"HYPERLINK(Table1[[#This Row],[Hyperlink]],\"Weblink\")","v":"Weblink"},"KidHaven Publishing","Library Bound Book",1,"2009","January 2009","Library","6.000 X 9.000","Author","Shirley Raye Redmond",null,null,null,null,null,null,"Grade 4 - 8","Grade 4 - 9","Spell-bound readers will explore the Greek myth of Cerberus, a many-headed dog who guarded the entrance to the underworld.\n\n","English",35.200000000000003,28.16,"398.24/540938","48 pp.","https://greenhavenpublishing.com/978-0-7377-4274-9",{"$f":"Table1[[#This Row],['# of Books]]*Table1[[#This Row],[QTY]]","v":0},{"$f":"Table1[[#This Row],[QTY]]*Table1[[#This Row],[School & Library Price]]","v":0}]
[null,null,null,null,40,"Backlist","Monsters","Genies","978-0-7377-5051-5",{"$f":"HYPERLINK(Table1[[#This Row],[Hyperlink]],\"Weblink\")","v":"Weblink"},"KidHaven Publishing","Library Bound Book",1,"2010","January 2010","Library","6.000 X 9.000","Author","Bonnie Juettner",null,null,null,null,null,null,"Grade 4 - 8","Grade 4 - 9","This book describes genies, with all their terrifying characteristics and malicious behavior. Often said to be shape-shifters and tricksters, genies were thought to have the ability to turn into a menacing vapor or become invisible to humans at will. They might live for thousands of years, lurking underground, in deserts, or, famously, in lamps. Here, the potential origins of the popular genie stories are examined and compared.","English",35.200000000000003,28.16,"398/.4","48 pp.","https://greenhavenpublishing.com/978-0-7377-5051-5",{"$f":"Table1[[#This Row],['# of Books]]*Table1[[#This Row],[QTY]]","v":0},{"$f":"Table1[[#This Row],[QTY]]*Table1[[#This Row],[School & Library Price]]","v":0}]
[null,null,null,null,40,"Backlist","Monsters","Golem","978-0-7377-5866-5",{"$f":"HYPERLINK(Table1[[#This Row],[Hyperlink]],\"Weblink\")","v":"Weblink"},"KidHaven Publishing","Library Bound Book",1,"2012","January 2012","Library","6.000 X 9.000","Author","Shirley Raye Redmond",null,null,null,null,null,null,"Grade 4 - 8","Grade 4 - 9","The golem came from Jewish lore and Talmudic origins. It was a lump of inanimate matter that turns into a creature. Readers will be fascinated to learn how the golem has traveled as a concept throughout many cultures and represents many things other than a monster made from our minds.","English",35.200000000000003,28.16,"398.2089/924","48 pp.","https://greenhavenpublishing.com/978-0-7377-5866-5",{"$f":"Table1[[#This Row],['# of Books]]*Table1[[#This Row],[QTY]]","v":0},{"$f":"Table1[[#This Row],[QTY]]*Table1[[#This Row],[School & Library Price]]","v":0}]
[null,null,null,null,40,"Backlist","Monsters","Griffins","978-0-7377-4043-1",{"$f":"HYPERLINK(Table1[[#This Row],[Hyperlink]],\"Weblink\")","v":"Weblink"},"KidHaven Publishing","Library Bound Book",1,"2008","January 2008","Library","6.000 X 9.000","Author","Bonnie Juettner",null,null,null,null,null,null,"Grade 4 - 8","Grade 4 - 9","Introduce readers to the king of all creatures, the Greek griffin. It has a body, tail, and back legs of a lion, and the head and wings of an eagle, with the eagle's talons as its front feet. Its place in history is the guardian of the divine.","English",35.200000000000003,28.16,"398/.469","48 pp.","https://greenhavenpublishing.com/978-0-7377-4043-1",{"$f":"Table1[[#This Row],['# of Books]]*Table1[[#This Row],[QTY]]","v":0},{"$f":"Table1[[#This Row],[QTY]]*Table1[[#This Row],[School & Library Price]]","v":0}]
[null,null,null,null,40,"Backlist","Monsters","Hydra","978-0-7377-4081-3",{"$f":"HYPERLINK(Table1[[#This Row],[Hyperlink]],\"Weblink\")","v":"Weblink"},"KidHaven Publishing","Library Bound Book",1,"2009","January 2009","Library","6.000 X 9.000","Author","Jennifer Guess McKerley",null,null,null,null,null,null,"Grade 4 - 8","Grade 4 - 9","The Greek mind was filled with amazing imagination, especially when it comes to the origins of the mighty, horrifying hydra. Readers will be enraptured by the creature that had a poisonous breath and blood so virulent that even its scent was deadly.","English",35.200000000000003,28.16,"398/.469","48 pp.","https://greenhavenpublishing.com/978-0-7377-4081-3",{"$f":"Table1[[#This Row],['# of Books]]*Table1[[#This Row],[QTY]]","v":0},{"$f":"Table1[[#This Row],[QTY]]*Table1[[#This Row],[School & Library Price]]","v":0}]
[null,null,null,null,40,"Backlist","Monsters","The Jersey Devil","978-0-7377-4407-1",{"$f":"HYPERLINK(Table1[[#This Row],[Hyperlink]],\"Weblink\")","v":"Weblink"},"KidHaven Publishing","Library Bound Book",1,"2009","January 2009","Library","6.000 X 9.000","Author","Shirley Raye Redmond",null,null,null,null,null,null,"Grade 4 - 8","Grade 4 - 9","Introduce readers to Mother Leeds and her fateful offspring. She gave birth to her 13th child, who she cursed out of frustration of being pregnant again, that the child would be the devil. Born as a normal child, the 13th child changed to a creature with hooves, a goat's head, bat wings, and a forked tail.","English",35.200000000000003,28.16,"398.209749","48 pp.","https://greenhavenpublishing.com/978-0-7377-4407-1",{"$f":"Table1[[#This Row],['# of Books]]*Table1[[#This Row],[QTY]]","v":0},{"$f":"Table1[[#This Row],[QTY]]*Table1[[#This Row],[School & Library Price]]","v":0}]
[null,null,null,null,40,"Backlist","Monsters","Killer Sharks","978-0-7377-4044-8",{"$f":"HYPERLINK(Table1[[#This Row],[Hyperlink]],\"Weblink\")","v":"Weblink"},"KidHaven Publishing","Library Bound Book",1,"2008","January 2008","Library","6.000 X 9.000","Author","Lori Mortensen",null,null,null,null,null,null,"Grade 4 - 8","Grade 4 - 9","This guide taps into the history of a misunderstood creature, who becomes a haunting nightmare of the deep sea and our imagination.","English",35.200000000000003,28.16,"597.3","48 pp.","https://greenhavenpublishing.com/978-0-7377-4044-8",{"$f":"Table1[[#This Row],['# of Books]]*Table1[[#This Row],[QTY]]","v":0},{"$f":"Table1[[#This Row],[QTY]]*Table1[[#This Row],[School & Library Price]]","v":0}]
[null,null,null,null,40,"Backlist","Monsters","The Kraken","978-0-7377-3531-4",{"$f":"HYPERLINK(Table1[[#This Row],[Hyperlink]],\"Weblink\")","v":"Weblink"},"KidHaven Publishing","Library Bound Book",1,"2008","January 2008","Library","6.000 X 9.000","Author","Jennifer Guess McKerley",null,null,null,null,null,null,"Grade 4 - 8","Grade 4 - 9","Author Jennifer Guess McKerley describes the tales of the sea monster known as the kraken and how it was discovered that giant squids actually exist. Readers will learn of encounters with the giant squid, and how the kraken is portrayed in popular culture.","English",35.200000000000003,28.16,"398.24/54","48 pp.","https://greenhavenpublishing.com/978-0-7377-3531-4",{"$f":"Table1[[#This Row],['# of Books]]*Table1[[#This Row],[QTY]]","v":0},{"$f":"Table1[[#This Row],[QTY]]*Table1[[#This Row],[School & Library Price]]","v":0}]
[null,null,null,null,40,"Backlist","Monsters","Martians","978-0-7377-3639-7",{"$f":"HYPERLINK(Table1[[#This Row],[Hyperlink]],\"Weblink\")","v":"Weblink"},"KidHaven Publishing","Library Bound Book",1,"2008","January 2008","Library","6.000 X 9.000","Author","Don Nardo",null,null,null,null,null,null,"Grade 4 - 8","Grade 4 - 9","Author Don Nardo describes the history behind the belief in extraterrestrials from Mars. Readers will learn about the role of Martians in literature, films, and television and radio broadcasts, and how the appearance of Martians has changed in these media over the years.","English",35.200000000000003,28.16,"809/.915","48 pp.","https://greenhavenpublishing.com/978-0-7377-3639-7",{"$f":"Table1[[#This Row],['# of Books]]*Table1[[#This Row],[QTY]]","v":0},{"$f":"Table1[[#This Row],[QTY]]*Table1[[#This Row],[School & Library Price]]","v":0}]
[null,null,null,null,40,"Backlist","Monsters","Mermaids","978-0-7377-3634-2",{"$f":"HYPERLINK(Table1[[#This Row],[Hyperlink]],\"Weblink\")","v":"Weblink"},"KidHaven Publishing","Library Bound Book",1,"2008","January 2008","Library","6.000 X 9.000","Author","Shirley Raye Redmond",null,null,null,null,null,null,"Grade 4 - 8","Grade 4 - 9","The mesmerizing mermaid made its first appearance in our imagination in 1000 B.C. With the upper body of a woman, and the tail of a powerful fish, this creature has been spotted by sailors, shore travelers, and sea divers, but does she really exist? Readers will enjoy this introduction to mermaids.","English",35.200000000000003,28.16,"398/.45","48 pp.","https://greenhavenpublishing.com/978-0-7377-3634-2",{"$f":"Table1[[#This Row],['# of Books]]*Table1[[#This Row],[QTY]]","v":0},{"$f":"Table1[[#This Row],[QTY]]*Table1[[#This Row],[School & Library Price]]","v":0}]
[null,null,null,null,40,"Backlist","Monsters","The Minotaur","978-0-7377-3590-1",{"$f":"HYPERLINK(Table1[[#This Row],[Hyperlink]],\"Weblink\")","v":"Weblink"},"KidHaven Publishing","Library Bound Book",1,"2008","January 2008","Library","6.000 X 9.000","Author","Mary Schulte",null,null,null,null,null,null,"Grade 4 - 8","Grade 4 - 9","Introduce your readers to the Minotaur. In Greek mythology, it was a creature with the head of a bull and the body of a man. ","English",35.200000000000003,28.16,"398/​.469","48 pp.","https://greenhavenpublishing.com/978-0-7377-3590-1",{"$f":"Table1[[#This Row],['# of Books]]*Table1[[#This Row],[QTY]]","v":0},{"$f":"Table1[[#This Row],[QTY]]*Table1[[#This Row],[School & Library Price]]","v":0}]
[null,null,null,null,40,"Backlist","Monsters","Ogres","978-0-7377-5531-2",{"$f":"HYPERLINK(Table1[[#This Row],[Hyperlink]],\"Weblink\")","v":"Weblink"},"KidHaven Publishing","eBook",1,"2011","January 2011",null,null,"Author","Rachel Lynette",null,null,null,null,null,null,"Grade 4 - 8","Grade 4 - 9","Ogres are creatures known world wide, whose origins are French. Readers will be enthralled to learn that ogres originally derived from the Etruscan god Orcus, who fed on human flesh.","English",38.72,30.98,"398.21","48 pp.","https://greenhavenpublishing.com/978-0-7377-5531-2",{"$f":"Table1[[#This Row],['# of Books]]*Table1[[#This Row],[QTY]]","v":0},{"$f":"Table1[[#This Row],[QTY]]*Table1[[#This Row],[School & Library Price]]","v":0}]
[null,null,null,null,40,"Backlist","Monsters","Pegasus","978-0-7377-4082-0",{"$f":"HYPERLINK(Table1[[#This Row],[Hyperlink]],\"Weblink\")","v":"Weblink"},"KidHaven Publishing","Library Bound Book",1,"2009","January 2009","Library","6.000 X 9.000","Author","Q. L. Pearce",null,null,null,null,null,null,"Grade 4 - 8","Grade 4 - 9","The Pegasus is one of the most recognizable Greek creatures. He was a pure white horse that was beautifully enabled to fly with massive wings. Readers will learn about the Pegasus' origins and its enduring strength as a symbol of wisdom through to today.","English",35.200000000000003,28.16,"398/.469","48 pp.","https://greenhavenpublishing.com/978-0-7377-4082-0",{"$f":"Table1[[#This Row],['# of Books]]*Table1[[#This Row],[QTY]]","v":0},{"$f":"Table1[[#This Row],[QTY]]*Table1[[#This Row],[School & Library Price]]","v":0}]
[null,null,null,null,40,"Backlist","Monsters","Phoenix","978-0-7377-4045-5",{"$f":"HYPERLINK(Table1[[#This Row],[Hyperlink]],\"Weblink\")","v":"Weblink"},"KidHaven Publishing","Library Bound Book",1,"2009","January 2009","Library","6.000 X 9.000","Author","Bonnie Juettner",null,null,null,null,null,null,"Grade 4 - 8","Grade 4 - 9","Author Bonnie Juettner examines the origins and characteristics of the mythical phoenix. Readers will be spell-bound by this bird that burns itself alive when it gets old and emerges anew out of the ashes. The book also looks at manifestations of the phoenix in popular culture.","English",35.200000000000003,28.16,"398/.469","48 pp.","https://greenhavenpublishing.com/978-0-7377-4045-5",{"$f":"Table1[[#This Row],['# of Books]]*Table1[[#This Row],[QTY]]","v":0},{"$f":"Table1[[#This Row],[QTY]]*Table1[[#This Row],[School & Library Price]]","v":0}]
[null,null,null,null,40,"Backlist","Monsters","Sirens","978-0-7377-3451-5",{"$f":"HYPERLINK(Table1[[#This Row],[Hyperlink]],\"Weblink\")","v":"Weblink"},"KidHaven Publishing","Library Bound Book",1,"2008","January 2008","Library","6.000 X 9.000","Author","Mary Schulte",null,null,null,null,null,null,"Grade 4 - 8","Grade 4 - 9","The siren's song was powerful, and it was impossible to fight against her powers. This book describes the Greek myth of the siren. She was a half-woman, half-bird creature who tempted sailors to their deaths with beautiful singing. Readers will learn about their creation, their downfall, and their influence on modern culture.","English",35.200000000000003,28.16,"398.21","48 pp.","https://greenhavenpublishing.com/978-0-7377-3451-5",{"$f":"Table1[[#This Row],['# of Books]]*Table1[[#This Row],[QTY]]","v":0},{"$f":"Table1[[#This Row],[QTY]]*Table1[[#This Row],[School & Library Price]]","v":0}]
[null,null,null,null,40,"Backlist","Monsters","Trolls","978-0-7377-4408-8",{"$f":"HYPERLINK(Table1[[#This Row],[Hyperlink]],\"Weblink\")","v":"Weblink"},"KidHaven Publishing","Library Bound Book",1,"2009","January 2009","Library","6.000 X 9.000","Author","Rachel Lynette",null,null,null,null,null,null,"Grade 4 - 8","Grade 4 - 9","Fascinate your readers with the mythical troll, a cave-dwelling being depicted in folklore as either a giant or a dwarf.","English",35.200000000000003,28.16,"398.21","48 pp.","https://greenhavenpublishing.com/978-0-7377-4408-8",{"$f":"Table1[[#This Row],['# of Books]]*Table1[[#This Row],[QTY]]","v":0},{"$f":"Table1[[#This Row],[QTY]]*Table1[[#This Row],[School & Library Price]]","v":0}]
[null,null,null,null,40,"Backlist","Monsters","Wendigo","978-0-7377-4409-5",{"$f":"HYPERLINK(Table1[[#This Row],[Hyperlink]],\"Weblink\")","v":"Weblink"},"KidHaven Publishing","Library Bound Book",1,"2009","January 2009","Library","6.000 X 9.000","Author","Q. L. Pearce",null,null,null,null,null,null,"Grade 4 - 8","Grade 4 - 9","Young readers will learn about these monsters that are part of the folklore of the Algonquin people. The wendigo was historically associated with cannibalism, murder, insatiable greed, and the cultural taboos against such behavior.\n\n","English",35.200000000000003,28.16,"971.3004/​9733","48 pp.","https://greenhavenpublishing.com/978-0-7377-4409-5",{"$f":"Table1[[#This Row],['# of Books]]*Table1[[#This Row],[QTY]]","v":0},{"$f":"Table1[[#This Row],[QTY]]*Table1[[#This Row],[School & Library Price]]","v":0}]
[null,null,null,null,41,"Backlist","Young Heroes","Ana Dodson: Advocate for Peruvian Orphans","978-0-7377-3865-0",{"$f":"HYPERLINK(Table1[[#This Row],[Hyperlink]],\"Weblink\")","v":"Weblink"},"KidHaven Publishing","Library Bound Book",1,"2008","January 2008","Library","6.000 X 9.000","Author","Rachel Lynette",null,null,null,null,null,null,"Grade 4 - 8","Grade 4 - 9","\"I want to show other young people how easy it is to get involved, and I want to inspire them to reach out and help others less fortunate than themselves. I believe that every person has the ability to help make the world a better place.\" Ana Dodson's words are inspiring, as is her belief that she can impact change for the good. Give your readers a truly inspirational biographical portrait of this young woman with big ideas and an even bigger heart.","English",35.700000000000003,28.56,"362.73/​2","48 pp.","https://greenhavenpublishing.com/978-0-7377-3865-0",{"$f":"Table1[[#This Row],['# of Books]]*Table1[[#This Row],[QTY]]","v":0},{"$f":"Table1[[#This Row],[QTY]]*Table1[[#This Row],[School & Library Price]]","v":0}]
[null,null,null,null,41,"Backlist","Young Heroes","Brittany and Robbie Bergquist: Cell Phones for Soldiers","978-0-7377-3866-7",{"$f":"HYPERLINK(Table1[[#This Row],[Hyperlink]],\"Weblink\")","v":"Weblink"},"KidHaven Publishing","Library Bound Book",1,"2008","January 2008","Library","6.000 X 9.000","Author","Leanne K. Currie-McGhee",null,null,null,null,null,null,"Grade 4 - 8","Grade 4 - 9","This brother and sister duo created Cell Phones for Soldiers, which recycles cell phones and tablets to buy prepaid calling cards for soldiers overseas. They were inspired after hearing about a soldier in Iraq who owed 8,000 dollars for calls home. They asked their friends to donate money and it snow-balled from there. Not satisfied with helping thousands of soldiers with their first organization, they have also created Helping Heroes Home, which assists veterans returning from overseas duty with one-time, emergency funding. The organization has given money to 2,500 veterans and has prevented an estimated 250 foreclosures. Your readers will be in awe of this dynamic duo and their gifts to American soldiers.","English",35.700000000000003,28.56,"355.3","48 pp.","https://greenhavenpublishing.com/978-0-7377-3866-7",{"$f":"Table1[[#This Row],['# of Books]]*Table1[[#This Row],[QTY]]","v":0},{"$f":"Table1[[#This Row],[QTY]]*Table1[[#This Row],[School & Library Price]]","v":0}]
[null,null,null,null,41,"Backlist","Young Heroes","Given Kachepa: Advocate for Human Trafficking Victims","978-0-7377-3668-7",{"$f":"HYPERLINK(Table1[[#This Row],[Hyperlink]],\"Weblink\")","v":"Weblink"},"KidHaven Publishing","Library Bound Book",1,"2007","January 2007","Library","6.000 X 9.000","Author","Q. L. Pearce",null,null,null,null,null,null,"Grade 4 - 8","Grade 4 - 9","Today, Doctor Given Kachepa's world is a long, long way away from his early years. He was scouted as a young child in Kalingalinga, Zambia by a Faith-based organization. He was given promises that if he came to America, he would sing in a choir, be given money and an education, and be able to make life better for his family back home. The promises ended up being a nightmare for any young child seeking a better life. This enrapturing biography shares the story of this young man who was a victim of human trafficking, who overcame it to become his dream, while also becoming an advocate for other victims of human trafficking.","English",35.700000000000003,28.56,"362.88","48 pp.","https://greenhavenpublishing.com/978-0-7377-3668-7",{"$f":"Table1[[#This Row],['# of Books]]*Table1[[#This Row],[QTY]]","v":0},{"$f":"Table1[[#This Row],[QTY]]*Table1[[#This Row],[School & Library Price]]","v":0}]
[null,null,null,null,41,"Backlist","Young Heroes","Hannah Taylor: Helping The Homeless","978-0-7377-4051-6",{"$f":"HYPERLINK(Table1[[#This Row],[Hyperlink]],\"Weblink\")","v":"Weblink"},"KidHaven Publishing","Library Bound Book",1,"2008","January 2008","Library","6.000 X 9.000","Author","Q. L. Pearce",null,null,null,null,null,null,"Grade 4 - 8","Grade 4 - 9","\"Everyone has to find something that they are passionate about, whether it is being a fantastic father, or working for the environment or loving your job as a bankruptcy and insolvency lawyer,\" Hannah Taylor told the McGillReporter. \"My passion is helping people, especially homeless people. It's just something my heart made me do and it's like breathing, it doesn't stop.\" This phenomenal young woman's heart tugged at her at the age of five to do something about the homeless man she saw digging through trash for food on a cold snowy day. She hasn't stopped since then. This unforgettable biography describes the work of the Ladybug Foundation, an organization devoted to helping the homeless in Canada, which was started by Hannah, and her other efforts to make the world a better place.","English",35.700000000000003,28.56,"362.5/​57632092","48 pp.","https://greenhavenpublishing.com/978-0-7377-4051-6",{"$f":"Table1[[#This Row],['# of Books]]*Table1[[#This Row],[QTY]]","v":0},{"$f":"Table1[[#This Row],[QTY]]*Table1[[#This Row],[School & Library Price]]","v":0}]
[null,null,null,null,41,"Backlist","Young Heroes","Jhalak Man Tamang: Slave Labor Whistleblower","978-0-7377-3616-8",{"$f":"HYPERLINK(Table1[[#This Row],[Hyperlink]],\"Weblink\")","v":"Weblink"},"KidHaven Publishing","Library Bound Book",1,"2007","January 2007","Library","6.000 X 9.000","Author","Raymond H. Miller",null,null,null,null,null,null,"Grade 4 - 8","Grade 4 - 9","While our affluent children in America are worrying about what to buy at the mall, there is a whole other reality for thousands of less fortunate children. Jhalak Man Tamang was only ten years old when he was sold into slavery by a family friend. He was sold to a carpet master, who forced him to knot wool rugs on heavy wooden looms. His workdays started at 4 a.m. and went on until 11 p.m. The cold earthen floor of the factory was Jhalak's bed, and his life was only labor, working for zero gain. In 2000, an inspector employed by the RUGMARK organization conducted an inspection in the factory where Jhalak was working. The carpet master had demanded that the children remain hidden so he wouldn't get in trouble for employing child slaves, but Jhalak didn't hide. He stood his ground to make RUGMARK aware that children were being used as slaves. The inspector explained employment laws and offered Jhalak a chance to live at a rehabilitation center sponsored by RUGMARK. Jhalak eagerly accepted, and has now become a leading voice in the fight to end child labor. Give your readers this inspiring biography that may ignite the hero waiting inside all of us.","English",35.700000000000003,28.56,"331.3/​18","48 pp.","https://greenhavenpublishing.com/978-0-7377-3616-8",{"$f":"Table1[[#This Row],['# of Books]]*Table1[[#This Row],[QTY]]","v":0},{"$f":"Table1[[#This Row],[QTY]]*Table1[[#This Row],[School & Library Price]]","v":0}]
[null,null,null,null,41,"Backlist","Young Heroes","Julia Butterfly Hill: Saving the Ancient Redwoods","978-0-7377-3628-1",{"$f":"HYPERLINK(Table1[[#This Row],[Hyperlink]],\"Weblink\")","v":"Weblink"},"KidHaven Publishing","Library Bound Book",1,"2007","January 2007","Library","6.000 X 9.000","Author","Rachel Lynette",null,null,null,null,null,null,"Grade 4 - 8","Grade 4 - 9","Julia Lorraine Hill picked up the nickname \"Butterfly\" after a butterfly landed on her hand, and stayed there, throughout an entire hike with her family. Readers will learn that Julia's whimsical nickname doesn't quite cover her lofty accomplishments. She is world-known as the young woman who climbed into a tree in 1997, to save it from being destroyed. She lived in that tree, named Luna, for over 700 days, ultimately succeeding in protecting Luna, and the trees within 200 feet of it. Of course, that didn't stop a lunatic from trying to saw through Luna a year later. Fortunately Luna was saved and is braced for survival. Give your readers a chance to open their eyes to what an inspired person can accomplish in order to live in harmony with and to protect Nature.","English",35.700000000000003,28.56,"333.72092","48 pp.","https://greenhavenpublishing.com/978-0-7377-3628-1",{"$f":"Table1[[#This Row],['# of Books]]*Table1[[#This Row],[QTY]]","v":0},{"$f":"Table1[[#This Row],[QTY]]*Table1[[#This Row],[School & Library Price]]","v":0}]
[null,null,null,null,41,"Backlist","Young Heroes","Jyotirmayee Mohapatra: Advocate for India's Young Women","978-0-7377-3611-3",{"$f":"HYPERLINK(Table1[[#This Row],[Hyperlink]],\"Weblink\")","v":"Weblink"},"KidHaven Publishing","Library Bound Book",1,"2007","January 2007","Library","6.000 X 9.000","Author","Adam Woog",null,null,null,null,null,null,"Grade 4 - 8","Grade 4 - 9","Growing up in her village in India, Jyotirmayee Mohapatra witnessed the serious problems that children, especially girls, face there. Inequality, lack of education, poor living conditions, and a lack of rights is what stirred Jyotirmayee to stand up and make a difference. As a teen, she organized the Meena Club to draw attention to and attack these problems. India now boasts over 300 Meena Clubs, and in 2004 Jyoti received the prestigious Youth Action Network award. There is no way your readers won't be stirred to find their own causes after reading her thrilling and inspiring story.","English",35.700000000000003,28.56,"305.420954","48 pp.","https://greenhavenpublishing.com/978-0-7377-3611-3",{"$f":"Table1[[#This Row],['# of Books]]*Table1[[#This Row],[QTY]]","v":0},{"$f":"Table1[[#This Row],[QTY]]*Table1[[#This Row],[School & Library Price]]","v":0}]
[null,null,null,null,41,"Backlist","Young Heroes","Matt Dalio: China Care Founder","978-0-7377-3670-0",{"$f":"HYPERLINK(Table1[[#This Row],[Hyperlink]],\"Weblink\")","v":"Weblink"},"KidHaven Publishing","Library Bound Book",1,"2007","January 2007","Library","6.000 X 9.000","Author","Michael V. Uschan",null,null,null,null,null,null,"Grade 4 - 8","Grade 4 - 9","Just like Lindsey Williams, who is also featured in this series, Matt Dalio was named one of the \"20 Teens Who Will Change the World\" by Teen People. Your readers will be inspired into action when they learn Matt's story. At the age of sixteen, he created the organization China Care. It helps orphaned children receive a brighter future in mainland China. The organization has raised over 14 million dollars to provide surgery for special needs children, financial aid grants, and foster placements for children in need. He believes that access to the Internet ensures education, health, and wealth, and has also created an operating system designed for underdeveloped areas where the impoverished do not have access.","English",35.700000000000003,28.56,"362.73092--dc22","48 pp.","https://greenhavenpublishing.com/978-0-7377-3670-0",{"$f":"Table1[[#This Row],['# of Books]]*Table1[[#This Row],[QTY]]","v":0},{"$f":"Table1[[#This Row],[QTY]]*Table1[[#This Row],[School & Library Price]]","v":0}]
[null,null,null,null,41,"Backlist","Young Heroes","Mattie Stepanek: Inspirational Poet","978-0-7377-3637-3",{"$f":"HYPERLINK(Table1[[#This Row],[Hyperlink]],\"Weblink\")","v":"Weblink"},"KidHaven Publishing","Library Bound Book",1,"2008","January 2008","Library","6.000 X 9.000","Author","Leanne K. Currie-McGhee",null,null,null,null,null,null,"Grade 4 - 8","Grade 4 - 9","Readers will learn a valuable lesson through this biography, that some young heroes leave this world far too soon, but not without carving out a place of remembrance in our hearts, and not without creating the change they sought for their causes. Mattie wanted to be remembered as \"a poet, a peacemaker, and a philosopher who played.\" Before his death, he had become known as a peace advocate and motivational speaker. His three older siblings died from dysautonomic mitochondrial myopathy, which he also developed. This rare condition was unknown until his mother was diagnosed with mitochondrial disease in 1992, after her children were born. During his brief life, he enthusiastically participated in fundraising events to help find a cure for neuromuscular diseases, and to encourage children and families suffering from these diseases to celebrate life until a cure is found. He wrote thousands of poems, and praised our need to seek and establish Peace.\n\n","English",35.700000000000003,28.56,"811/​.54","48 pp.","https://greenhavenpublishing.com/978-0-7377-3637-3",{"$f":"Table1[[#This Row],['# of Books]]*Table1[[#This Row],[QTY]]","v":0},{"$f":"Table1[[#This Row],[QTY]]*Table1[[#This Row],[School & Library Price]]","v":0}]

{"sheet":"Sheet2","index":2,"n_rows":27,"n_cols":10,"rows_kept":27,"cut":false,"hidden":false,"merged":[[12,5,12,6],[15,1,15,2],[15,4,15,6],[16,5,16,6],[17,5,17,6],[21,5,21,6],[22,5,22,6],[24,5,24,6],[13,5,13,6],[23,5,23,6],[18,5,18,6],[4,1,4,2],[5,4,7,4],[10,5,10,6],[11,5,11,6],[0,4,3,6]]}
[null,null,null,null,"Greenhaven Publishing\n353 3rd Avenue, Suite 255 • New York, NY 10010\nPhone: 844-317-7404 • Fax: 844-317-7405\nEmail: gh_custserv@greenhavenpub.com\ngreenhavenpublishing.com"]
[null,null,null,null,null,null,null,null,null,{"$f":"COUNT(I:I)","v":0}]
[]
[]
[null,"BILL TO:",null,null,null,null,null,null,null,"Visa"]
[null,"School/Library",{"$f":"Sheet1!P8","v":0},null,"For Credit card orders \nselect one:",null,null,null,null,"Mastercard"]
[null,"Attention",{"$f":"Sheet1!P9","v":0},null,null,null,"Select Card Type",null,null,"AMEX"]
[null,"Address",{"$f":"Sheet1!P11","v":0}]
[null,"City",{"$f":"Sheet1!P12","v":0}]
[null,"State",{"$f":"Sheet1!P13","v":0}]
[null,"Zip",{"$f":"Sheet1!P14","v":0},null,"Card Number"]
[null,"Phone",{"$f":"Sheet1!P16","v":0},null,"Name on Card"]
[null,"Fax",{"$f":"Sheet1!P17","v":0},null,"Exp. Date"]
[null,"email",{"$f":"Sheet1!P18","v":0},null,"CVV Code"]
[]
[null,"SHIP TO:",null,null,"SUMMARY"]
[null,"School/Library",{"$f":"Sheet1!H8","v":0},null,"Book Subtotal",{"$f":"Sheet1!AE11","v":0}]
[null,"Attention",{"$f":"Sheet1!H9","v":0},null,"Library Processing",{"$f":"Sheet1!AE12","v":0}]
[null,"Address",{"$f":"Sheet1!H11","v":0},null,"S&H",{"$f":"Sheet1!AE13","v":0}]
[null,"City",{"$f":"Sheet1!H12","v":0}]
[null,"State",{"$f":"Sheet1!H13","v":0}]
[null,"Zip",{"$f":"Sheet1!H14","v":0},null,"Tax",{"$f":"Sheet1!AE14","v":0},null,"Notes"]
[null,"Phone",{"$f":"Sheet1!H16","v":0},null,"GRAND TOTAL",{"$f":"Sheet1!AE15","v":0}]
[null,"Fax",{"$f":"Sheet1!H17","v":0},null,"Total # of Books Ordered",{"$f":"Sheet1!AA9+Sheet1!AC9","v":0}]
[null,"email",{"$f":"Sheet1!H18","v":0},null,"Purchase Order #",{"$f":"Sheet1!H20","v":0}]
[]
["QTY","ISBN","Title","Series","Product Type","# of Books","© Date","Price (ea.)","Total"]

{"sheet":"StandingOrder","index":3,"n_rows":50,"n_cols":8,"rows_kept":50,"cut":false,"hidden":false,"merged":[[6,0,7,7],[9,4,9,6],[10,4,10,6],[16,2,16,3],[17,2,17,3],[8,2,8,3],[9,2,9,3],[11,2,11,3],[12,2,12,3],[13,2,13,3],[14,2,14,3],[15,2,15,3],[10,2,10,3],[16,4,16,6],[17,4,17,6],[19,4,19,6],[26,5,26,6],[11,4,11,6],[12,4,12,6],[13,4,13,6],[14,4,14,6],[15,4,15,6],[21,5,21,6],[22,5,22,6],[23,5,23,6],[24,5,24,6],[25,5,25,6]]}
[null,null,null,"MAIL TO",null,"CALL  (toll-free)","FAX (toll-free)"]
[null,null,null,"Greenhaven Publishing",null," 844-317-7404","844-317-7405"]
[null,null,null,"353 3rd Avenue, Suite 255"]
[null,null,null,"New York, NY 10010",null,"EMAIL"]
[null,null,null,null,null,"gh_custserv@greenhavenpub.com"]
[]
["Standing Order Plan"]
[]
[]
[null,null,"BILL TO",null,"SHIP TO"]
[null,"INSTITUTION:",{"$f":"Sheet1!P8","v":0},null,{"$f":"Sheet1!H8","v":0}]
[null,"ATTENTION/NAME:",{"$f":"Sheet1!P9","v":0},null,{"$f":"Sheet1!H9","v":0}]
[null,"ADDRESS:",{"$f":"Sheet1!P11","v":0},null,{"$f":"Sheet1!H11","v":0}]
[null,"CITY/STATE/PROVINCE:",{"$f":"Sheet1!P12&\", \"&Sheet1!P13","v":", "},null,{"$f":"Sheet1!H12&\", \"&Sheet1!H13","v":", "}]
[null,"ZIP/POSTAL CODE/COUNTRY:",{"$f":"Sheet1!P14","v":0},null,{"$f":"Sheet1!H14","v":0}]
[null,"TELEPHONE:",{"$f":"Sheet1!P16","v":0},null,{"$f":"Sheet1!H16","v":0}]
[null,"FAX:",{"$f":"Sheet1!P17","v":0},null,{"$f":"Sheet1!H17","v":0}]
[null,"EMAIL:",{"$f":"Sheet1!P18","v":0},null,{"$f":"Sheet1!H18","v":0}]
[]
[null,null,null,null,"PAYMENT METHOD"]
[null,null,null,null,null,null,"Select Card type"]
[null,null,null,null,"Card Number"]
[null,"**Go back to Order Form to see a complete listing of all available and upcoming titles for these Series",null,null,"Name on card"]
[null,null,null,null,"Expiration Date"]
[null,null,null,null,"CVV Code"]
[null,null,null,null,"Signature"]
[null,null,null,null,"Special Instructions"]
[]
["QTY:","IMPRINT","SERIES","BINDING","Per Title \nList Price","Standing \nOrder Price\n25% OFF!","Sign me up on \nSTANDING ORDER \n(please check)","I require notification in order to issue a new purchase order\nMUST CHOOSE ONE"]
[null,"Greenhaven Publishing","At Issue (NEW TITLES Coming January 2021!)","Library Bound",39.4,29.549999999999997]
[null,"Greenhaven Publishing","At Issue (NEW TITLES Coming January 2021!)","Paperback",27.8,20.85]
[null,"Greenhaven Publishing","Current Controversies","Library Bound",46.4,34.799999999999997]
[null,"Greenhaven Publishing","Current Controversies","Paperback",32,24]
[null,"Greenhaven Publishing","Genocide and Persecution","Library Bound",42,31.5]
[null,"Greenhaven Publishing","Global Viewpoints","Library Bound",46.2,34.65]
[null,"Greenhaven Publishing","Global Viewpoints","Paperback",31.7,23.78]
[null,"Greenhaven Publishing","Introducing Issues with Opposing Viewpoints (NEW TITLES Coming January 2021)","Library Bound",42,31.5]
[null,"Greenhaven Publishing","Introducing Issues with Opposing Viewpoints (NEW TITLES Coming January 2021)","Paperback",28.3,21.23]
[null,"Greenhaven Publishing","Issues That Concern You","Library Bound",42,31.5]
[null,"Greenhaven Publishing","Opposing Viewpoints","Library Bound",48.8,36.599999999999994]
[null,"Greenhaven Publishing","Opposing Viewpoints","Paperback",33.799999999999997,25.349999999999998]
[null,"Greenhaven Publishing","Perspectives on Modern World History","Library Bound",47.8,35.849999999999994]
[null,"Greenhaven Publishing","Teen Rights and Freedoms","Library Bound",42,31.5]
[null,"Lucent Press","Diseases & Disorders","Library Bound",39.9,29.924999999999997]
[null,"Lucent Press","Hot Topics","Library Bound",39.4,29.549999999999997]
[null,"Lucent Press","Mythology and Culture Worldwide","Library Bound",39.4,29.549999999999997]
[null,"Lucent Press","Nutrition & Health","Library Bound",35.700000000000003,26.775000000000002]
[null,"Lucent Press","People in the News","Library Bound",39.4,29.549999999999997]
[null,"Lucent Press","Science Behind Sports","Library Bound",39.4,29.549999999999997]
[null,"Lucent Press","World History","Library Bound",39.9,29.93]