{"text_format":"1","workbook":"xlsx","n_sheets":3,"sheets":["Instructions","Sheet1","Sheet2"],"not_rendered":{"charts":0,"images":1,"macros":1,"external_links":1,"defined_names":8,"comments":2,"pivot_tables":0},"unopened":[],"bounds":{"document_bytes":16777216,"sheet_cells":100000,"rows_first":2000,"rows_last":500,"rows_between":2000,"halvings":0,"cell_chars":16384,"cell_head_chars":4096},"cells_cut":0,"cells_raw":0,"read":"whole","date_system":"1900"}

{"sheet":"Instructions","index":0,"n_rows":16,"n_cols":1,"rows_kept":16,"cut":false,"hidden":false,"merged":[]}
["Simple instructions on how to use the excel OF:"]
["Notes"]
["~ Enter the ship to and bill to information for the customer that you're creating the list for "]
["~ Enter the qty of LB books/LB sets/ebooks/etc that your customer wants in the \"QTY\" column (column A)"]
["~ You'll notice that in the fields next to the bill to area, you'll find the \"Summary\" box - here is where you'll see (at a glance) a quick summary of the products ordered - these fields are dynamically updated as new qtys are added to the overall file"]
["~ Under the summary box, you'll find a manilla colored box where you can enter any notes, instructions, etc that you see fit"]
["~ When done entering your qtys, please go up to the top of the excel file and click the \"Order Summary\" button"]
["~ The file will automatically remove all NON-SELECTED titles and only list the titles with a QTY chosen (you can always go back and add more titles by clicking \"Clear Summary\" at the top above the Bill to, and it'll bring back all titles)"]
["~ Once completed, click the \"Finalize Order\" button above the Bill to box and wait about 5-10 seconds, and you'll see \"Sheet2\" will open up a printer-friendly version of the order will appear. This version is ready to be sent as a final order/proposal to customers/customer service"]
["~ Please make sure to adjust the print area for this form so that it only prints the pages you want printed"]
["~ You can click on the top row of the notes box on this page - click and hold - and then you can drag this box to the bottom of your title listing - thus enabling the notes to also print out"]
[]
["A few quick tips on this excel OF:"]
["~ The titles are listed here as they appear on the 2020 catalog"]
["~ Row 22 is the header row - you can use this row to sort or filter out specific types of data, to make this OF easier to navigate. For instance, if you want to ONLY DISPLAY the library bound books, go to cell G22, click on the box in the bottom right portion of the cell, and deselect \"Select All\" and then select \"Library Bound Book\" and close out of the menu - now your excel file will only display the print books. This function/capability is available for any column in Row 22."]
["~ If you find any issues or have any ideas on how we can make this more user friendly, please be sure to let us know"]

{"sheet":"Sheet1","index":1,"n_rows":5977,"n_cols":35,"rows_kept":2250,"cut":true,"hidden":false,"merged":[[6,22,6,30],[10,22,10,26],[11,22,11,26],[12,22,12,26],[6,4,6,6],[7,5,7,6],[12,5,12,6],[11,9,11,18],[12,9,12,18],[7,27,7,28],[7,29,7,30],[8,27,8,28],[8,29,8,30],[9,27,9,28],[9,29,9,30],[9,23,9,24],[14,27,14,28],[14,29,14,30],[10,27,10,28],[10,29,10,30],[11,27,11,28],[11,29,11,30],[12,27,12,28],[12,29,12,30],[13,27,13,28],[13,29,13,30],[14,22,14,26],[7,25,7,26],[8,25,8,26],[9,25,9,26],[7,23,7,24],[8,23,8,24],[13,22,13,26],[13,5,13,6],[10,5,10,6],[11,5,11,6],[8,5,8,6],[9,5,9,6],[19,9,19,18],[16,5,16,6],[17,5,17,6],[14,5,14,6],[15,5,15,6],[19,5,19,6],[17,9,17,18],[13,9,13,18],[14,9,14,18],[15,9,15,18],[16,9,16,18],[6,8,6,18],[7,9,7,18],[8,9,8,18],[9,9,9,18],[10,9,10,18]],"bounds":{"rows_first":1000,"rows_last":250,"rows_between":1000,"halvings":1}}
[]
[]
[]
[]
[]
[]
[null,null,null,null,"Ship to",null,null,null,"Bill to",null,null,null,null,null,null,null,null,null,null,null,null,null,"Summary"]
[null,null,null,null,"School/Library:",null,null,null,"School/Library:",null,null,null,null,null,null,null,null,null,null,null,null,null,null,"Print",null,"Online Resource(s)",null," eBooks",null,"Interactive eBooks"]
[null,null,null,null,"Attention:",null,null,null,"Attention:",null,null,null,null,null,null,null,null,null,null,null,null,null,"# of Books",{"$f":"SUMPRODUCT(((Table1[Type]=\"Library Bound Book\")\n+(Table1[Type]=\"Library Set\")\n+(Table1[Type]=\"Fiction/Nonfiction Pair Set\")\n+(Table1[Type]=\"Fiction/Nonfiction Pair\")\n+(Table1[Type]=\"Single Copy Set\"))*(Table1[Subtotal QTY]))","v":0},null,{"$f":"SUMPRODUCT(((Table1[Type]=\"Online Resource\")+(Table1[Type]=\"Online Resource Set\"))*(Table1[Subtotal QTY]))","v":0},null,{"$f":"SUMPRODUCT((Table1[Type]=\"eBook\")*(Table1[Subtotal QTY]))","v":0},null,{"$f":"SUMPRODUCT(((Table1[Type]=\"Interactive eBook\")+(Table1[Type]=\"Interactive eBook Set\"))*(Table1[Subtotal QTY]))","v":0}]
[null,null,null,null,"Title:",null,null,null,"Title:",null,null,null,null,null,null,null,null,null,null,null,null,null,"Subtotal",{"$f":"SUMPRODUCT(((Table1[Type]=\"Library Bound Book\")\n+(Table1[Type]=\"Library Set\")\n+(Table1[Type]=\"Fiction/Nonfiction Pair Set\")\n+(Table1[Type]=\"Fiction/Nonfiction Pair\")\n+(Table1[Type]=\"Single Copy Set\"))*(Table1[Subtotal]))","v":0},null,{"$f":"SUMPRODUCT(((Table1[Type]=\"Online Resource\")+(Table1[Type]=\"Online Resource Set\"))*(Table1[Subtotal]))","v":0},null,{"$f":"SUMPRODUCT((Table1[Type]=\"eBook\")*(Table1[Subtotal]))","v":0},null,{"$f":"SUMPRODUCT(((Table1[Type]=\"Interactive eBook\")+(Table1[Type]=\"Interactive eBook Set\"))*(Table1[Subtotal]))","v":0}]
[null,null,null,null,"Street Address:",null,null,null,"Street Address:",null,null,null,null,null,null,null,null,null,null,null,null,null,null,null,null,null,null,"Book Subtotal",null,{"$f":"X10+Z10+AB10+AD10","v":0}]
[null,null,null,null,"City:",null,null,null,"City:",null,null,null,null,null,null,null,null,null,null,null,null,null,"$1.00/book (if applicable)",null,null,null,null,"Library Processing"]
[null,null,null,null,"State:",null,null,null,"State:",null,null,null,null,null,null,null,null,null,null,null,null,null,"9% S&H (FREE on all orders over $500)",null,null,null,null,"Shipping & Handling",null,{"$f":"IF(AD11<500,(AD11*0.09),(\"0.00\"))","v":0}]
[null,null,null,null,"Zip:",null,null,null,"Zip:",null,null,null,null,null,null,null,null,null,null,null,null,null,"(where applicable)",null,null,null,null,"Tax"]
[null,null,null,null,"Contact Name:",null,null,null,"Contact Name:",null,null,null,null,null,null,null,null,null,null,null,null,null,null,null,null,null,null,"GRAND TOTAL",null,{"$f":"AD11+AD12+AD13+AD14","v":0}]
[null,null,null,null,"Phone:",null,null,null,"Phone:"]
[null,null,null,null,"Fax:",null,null,null,"Fax:",null,null,null,null,null,null,null,null,null,null,null,null,null,null,"Notes"]
[null,null,null,null,"email:",null,null,null,"email:"]
[null,null,"**TITLES HIGHLIGHTED YELLOW ARE FUTURE RELEASES**"]
[null,null,null,null,"PO# (if needed)",null,null,null,"Rep Name","mikewhite@booklookindiana.com"]
[]
["QTY","Spring 2022 Page #","2023 Page #","Series","# Books","Title","Type","IEB HTML5/Flash","ISBN","eCommerce Weblink","EPP Weblink","© Date","Season","Binding","Trim Size","Contributor type(s)","Contributor(s)","ATOS","Points","DRA","EIL","GRL","Lexile","Reading Level","Interest Level","Description","Language","List Price","S&L Price","Dewey One","Page Count","eCommerce Hyperlink","EPP Hyperlink","Subtotal QTY","Subtotal"]
[null,4,4,"Report Builder",1,"Dinosaurs and Fossils Database","Online Resource",null,"978-1-4824-6565-5",{"$f":"HYPERLINK(Table1[[#This Row],[eCommerce Hyperlink]],\"Book Weblink\")","v":"Book Weblink"},null,"2018","January 2018",null,null,null,null,null,null,null,null,null,null,"Grade 1 - 2","Grade K - 4","Grades K to 4. Report Builder's interactive question-and-answer approach helps emerging researchers find the information they need to write reports. Curriculum-based topics are concise and supported by eye-catching visuals.","English",99,99,null,null,"https://www.garethstevens.com/9781482465655",null,{"$f":"Table1[[#This Row],[QTY]]*Table1[[#This Row],['# Books]]","v":0},{"$f":"Table1[[#This Row],[QTY]]*Table1[[#This Row],[S&L Price]]","v":0}]
[null,4,4,"Report Builder",1,"Holidays and Celebrations Database","Online Resource",null,"978-1-4824-6567-9",{"$f":"HYPERLINK(Table1[[#This Row],[eCommerce Hyperlink]],\"Book Weblink\")","v":"Book Weblink"},null,"2018","January 2018",null,null,null,null,null,null,null,null,null,null,"Grade 1 - 2","Grade K - 4","Grades K to 4. Report Builder's interactive question-and-answer approach helps emerging researchers find the information they need to write reports. Curriculum-based topics are concise and supported by eye-catching visuals.","English",99,99,null,null,"https://www.garethstevens.com/9781482465679",null,{"$f":"Table1[[#This Row],[QTY]]*Table1[[#This Row],['# Books]]","v":0},{"$f":"Table1[[#This Row],[QTY]]*Table1[[#This Row],[S&L Price]]","v":0}]
[null,4,4,"Report Builder",1,"Animal Habitats and Homes Database","Online Resource",null,"978-1-4824-6566-2",{"$f":"HYPERLINK(Table1[[#This Row],[eCommerce Hyperlink]],\"Book Weblink\")","v":"Book Weblink"},null,"2018","January 2018",null,null,null,null,null,null,null,null,null,null,"Grade 1 - 2","Grade K - 4","Grades K to 4. Report Builder's interactive question-and-answer approach helps emerging researchers find the information they need to write reports. Curriculum-based topics are concise and supported by eye-catching visuals.","English",99,99,null,null,"https://www.garethstevens.com/9781482465662",null,{"$f":"Table1[[#This Row],[QTY]]*Table1[[#This Row],['# Books]]","v":0},{"$f":"Table1[[#This Row],[QTY]]*Table1[[#This Row],[S&L Price]]","v":0}]
[null,5,4,"Report Builder",1,"Reptiles and Amphibians Database","Online Resource",null,"978-1-4824-6561-7",{"$f":"HYPERLINK(Table1[[#This Row],[eCommerce Hyperlink]],\"Book Weblink\")","v":"Book Weblink"},null,"2018","January 2018",null,null,null,null,null,null,null,null,null,null,"Grade 1 - 2","Grade K - 4","Grades K to 4. Report Builder's interactive question-and-answer approach helps emerging researchers find the information they need to write reports. Curriculum-based topics are concise and supported by eye-catching visuals.","English",99,99,null,null,"https://www.garethstevens.com/9781482465617",null,{"$f":"Table1[[#This Row],[QTY]]*Table1[[#This Row],['# Books]]","v":0},{"$f":"Table1[[#This Row],[QTY]]*Table1[[#This Row],[S&L Price]]","v":0}]
[null,5,4,"Report Builder",1,"U.S. Symbols and Landmarks Database","Online Resource",null,"978-1-4824-6563-1",{"$f":"HYPERLINK(Table1[[#This Row],[eCommerce Hyperlink]],\"Book Weblink\")","v":"Book Weblink"},null,"2018","January 2018",null,null,null,null,null,null,null,null,null,null,"Grade 1 - 2","Grade K - 4","Grades K to 4. Report Builder's interactive question-and-answer approach helps emerging researchers find the information they need to write reports. Curriculum-based topics are concise and supported by eye-catching visuals.","English",99,99,null,null,"https://www.garethstevens.com/9781482465631",null,{"$f":"Table1[[#This Row],[QTY]]*Table1[[#This Row],['# Books]]","v":0},{"$f":"Table1[[#This Row],[QTY]]*Table1[[#This Row],[S&L Price]]","v":0}]
[null,5,4,"Report Builder",1,"Weather and Seasons Database","Online Resource",null,"978-1-4824-6562-4",{"$f":"HYPERLINK(Table1[[#This Row],[eCommerce Hyperlink]],\"Book Weblink\")","v":"Book Weblink"},null,"2018","January 2018",null,null,null,null,null,null,null,null,null,null,"Grade 1 - 2","Grade K - 4","Grades K to 4. Report Builder's interactive question-and-answer approach helps emerging researchers find the information they need to write reports. Curriculum-based topics are concise and supported by eye-catching visuals.","English",99,99,null,null,"https://www.garethstevens.com/9781482465624",null,{"$f":"Table1[[#This Row],[QTY]]*Table1[[#This Row],['# Books]]","v":0},{"$f":"Table1[[#This Row],[QTY]]*Table1[[#This Row],[S&L Price]]","v":0}]
[null,5,4,"Report Builder",1,"Birds Database","Online Resource",null,"978-1-4824-6556-3",{"$f":"HYPERLINK(Table1[[#This Row],[eCommerce Hyperlink]],\"Book Weblink\")","v":"Book Weblink"},null,"2017","January 2017",null,null,null,null,null,null,null,null,null,null,"Grade 1 - 2","Grade K - 4","Grades K to 4: Report Builder's interactive question-and-answer approach helps emerging researchers find the information they need to write reports. Curriculum-based topics are concise and supported by eye-catching visuals.","English",99,99,null,null,"https://www.garethstevens.com/9781482465563",null,{"$f":"Table1[[#This Row],[QTY]]*Table1[[#This Row],['# Books]]","v":0},{"$f":"Table1[[#This Row],[QTY]]*Table1[[#This Row],[S&L Price]]","v":0}]
[null,5,4,"Report Builder",1,"People in My Community Database","Online Resource",null,"978-1-4824-6557-0",{"$f":"HYPERLINK(Table1[[#This Row],[eCommerce Hyperlink]],\"Book Weblink\")","v":"Book Weblink"},null,"2017","January 2017",null,null,null,null,null,null,null,null,null,null,"Grade 1 - 2","Grade K - 4","Grades K to 4: Report Builder's interactive question-and-answer approach helps emerging researchers find the information they need to write reports. Curriculum-based topics are concise and supported by eye-catching visuals.","English",99,99,null,null,"https://www.garethstevens.com/9781482465570",null,{"$f":"Table1[[#This Row],[QTY]]*Table1[[#This Row],['# Books]]","v":0},{"$f":"Table1[[#This Row],[QTY]]*Table1[[#This Row],[S&L Price]]","v":0}]
[null,5,4,"Report Builder",1,"Solar System Database","Online Resource",null,"978-1-4824-6558-7",{"$f":"HYPERLINK(Table1[[#This Row],[eCommerce Hyperlink]],\"Book Weblink\")","v":"Book Weblink"},null,"2017","January 2017",null,null,null,null,null,null,null,null,null,null,"Grade 1 - 2","Grade K - 4","Grades K to 4. Report Builder's interactive question-and-answer approach helps emerging researchers find the information they need to write reports. Curriculum-based topics are concise and supported by eye-catching visuals.","English",99,99,null,null,"https://www.garethstevens.com/9781482465587",null,{"$f":"Table1[[#This Row],[QTY]]*Table1[[#This Row],['# Books]]","v":0},{"$f":"Table1[[#This Row],[QTY]]*Table1[[#This Row],[S&L Price]]","v":0}]
[null,5,4,"Report Builder",1,"U.S. Presidents Database","Online Resource",null,"978-1-4824-6559-4",{"$f":"HYPERLINK(Table1[[#This Row],[eCommerce Hyperlink]],\"Book Weblink\")","v":"Book Weblink"},null,"2017","January 2017",null,null,null,null,null,null,null,null,null,null,"Grade 1 - 2","Grade K - 4","Grades K to 4. Report Builder's interactive question-and-answer approach helps emerging researchers find the information they need to write reports. Curriculum-based topics are concise and supported by eye-catching visuals.","English",99,99,null,null,"https://www.garethstevens.com/9781482465594",null,{"$f":"Table1[[#This Row],[QTY]]*Table1[[#This Row],['# Books]]","v":0},{"$f":"Table1[[#This Row],[QTY]]*Table1[[#This Row],[S&L Price]]","v":0}]
[null,8,5,"Eye Spy!",6,"Eye Spy!","Library Set",null,"978-1-5382-6658-8",{"$f":"HYPERLINK(Table1[[#This Row],[eCommerce Hyperlink]],\"Book Weblink\")","v":"Book Weblink"},null,"2022","January 2022","Library","7.000 X 7.000",null,null,null,null,null,null,null,null,"Grade K","Grade Pre-K - 1","Colors, letters, sizes, shapes, numbers, and money are key topics for early learners to grasp before they can build on them in later math and language arts classes. This colorfully designed set will aid young readers in acquiring the vocabulary they need in these areas and help them and educators assess their understanding. The fundamentals of early elementary education have never been more fun than with Eye Spy! Features include: At-level text is constructed to be achievable for your youngest readers. High-interest images, such as toys and animals, are chosen for their appeal, serving as additional motivation for developing and struggling readers. Readers will be engaged as they attempt to \"spy\" certain images.","English",141.6,106.2,null,"24 pp.","https://www.garethstevens.com/9781538266588",null,{"$f":"Table1[[#This Row],[QTY]]*Table1[[#This Row],['# Books]]","v":0},{"$f":"Table1[[#This Row],[QTY]]*Table1[[#This Row],[S&L Price]]","v":0}]
[null,8,5,"Eye Spy!",1,"I Spy Colors","Library Bound Book",null,"978-1-5382-6247-4",{"$f":"HYPERLINK(Table1[[#This Row],[eCommerce Hyperlink]],\"Book Weblink\")","v":"Book Weblink"},null,"2022","January 2022","Library","7.000 X 7.000","Author","Marie Roesser",null,null,null,null,"B",null,"Grade K","Grade Pre-K - 1","\"I spy the color...red!\" There is no more effective learning strategy than to make the review of colors into a game. This vibrant volume helps beginning readers assess their understanding of all the colors of the rainbow and practice their emerging reading skills. They are asked to locate a familiar object of a certain color among other brightly colored objects. The entertaining images were specially selected to encourage vocabulary acquisition, reader motivation, and to cause amusement.","English",23.6,17.7,"535.6","24 pp.","https://www.garethstevens.com/9781538262474",null,{"$f":"Table1[[#This Row],[QTY]]*Table1[[#This Row],['# Books]]","v":0},{"$f":"Table1[[#This Row],[QTY]]*Table1[[#This Row],[S&L Price]]","v":0}]
[null,8,5,"Eye Spy!",1,"I Spy Colors","eBook",null,"978-1-5382-6248-1",{"$f":"HYPERLINK(Table1[[#This Row],[eCommerce Hyperlink]],\"Book Weblink\")","v":"Book Weblink"},{"$f":"HYPERLINK(Table1[[#This Row],[EPP Hyperlink]],\"EPP Weblink\")","v":"EPP Weblink"},"2022","January 2022",null,null,"Author","Marie Roesser",null,null,null,null,"B",null,"Grade K","Grade Pre-K - 1","\"I spy the color...red!\" There is no more effective learning strategy than to make the review of colors into a game. This vibrant volume helps beginning readers assess their understanding of all the colors of the rainbow and practice their emerging reading skills. They are asked to locate a familiar object of a certain color among other brightly colored objects. The entertaining images were specially selected to encourage vocabulary acquisition, reader motivation, and to cause amusement.","English",23.6,17.7,"535.6","24 pp.","https://www.garethstevens.com/9781538262481","http://www.epointplus.com/embed/9781538262481/?login=cyberrep&password=cyberrep",{"$f":"Table1[[#This Row],[QTY]]*Table1[[#This Row],['# Books]]","v":0},{"$f":"Table1[[#This Row],[QTY]]*Table1[[#This Row],[S&L Price]]","v":0}]
[null,8,5,"Eye Spy!",1,"I Spy Letters","Library Bound Book",null,"978-1-5382-6251-1",{"$f":"HYPERLINK(Table1[[#This Row],[eCommerce Hyperlink]],\"Book Weblink\")","v":"Book Weblink"},null,"2022","January 2022","Library","7.000 X 7.000","Author","Therese M. Shea",null,null,null,null,"B",null,"Grade K","Grade Pre-K - 1","Learning to recite the alphabet is an important step to reading. This beneficial book builds on that crucial step, asking readers to locate letters of the alphabet among a variety of colorful images that begin with those letters. They'll review their knowledge of what different letters look like and how they differ from other letters while honing their reading fluency with simple sentences. Emerging readers will love the appealing pictures and find the activity of spying letters motivating and rewarding.","English",23.6,17.7,"421","24 pp.","https://www.garethstevens.com/9781538262511",null,{"$f":"Table1[[#This Row],[QTY]]*Table1[[#This Row],['# Books]]","v":0},{"$f":"Table1[[#This Row],[QTY]]*Table1[[#This Row],[S&L Price]]","v":0}]
[null,8,5,"Eye Spy!",1,"I Spy Letters","eBook",null,"978-1-5382-6252-8",{"$f":"HYPERLINK(Table1[[#This Row],[eCommerce Hyperlink]],\"Book Weblink\")","v":"Book Weblink"},{"$f":"HYPERLINK(Table1[[#This Row],[EPP Hyperlink]],\"EPP Weblink\")","v":"EPP Weblink"},"2022","January 2022",null,null,"Author","Therese M. Shea",null,null,null,null,"B",null,"Grade K","Grade Pre-K - 1","Learning to recite the alphabet is an important step to reading. This beneficial book builds on that crucial step, asking readers to locate letters of the alphabet among a variety of colorful images that begin with those letters. They'll review their knowledge of what different letters look like and how they differ from other letters while honing their reading fluency with simple sentences. Emerging readers will love the appealing pictures and find the activity of spying letters motivating and rewarding.","English",23.6,17.7,"421","24 pp.","https://www.garethstevens.com/9781538262528","http://www.epointplus.com/embed/9781538262528/?login=cyberrep&password=cyberrep",{"$f":"Table1[[#This Row],[QTY]]*Table1[[#This Row],['# Books]]","v":0},{"$f":"Table1[[#This Row],[QTY]]*Table1[[#This Row],[S&L Price]]","v":0}]
[null,8,5,"Eye Spy!",1,"I Spy Money","Library Bound Book",null,"978-1-5382-6255-9",{"$f":"HYPERLINK(Table1[[#This Row],[eCommerce Hyperlink]],\"Book Weblink\")","v":"Book Weblink"},null,"2022","January 2022","Library","7.000 X 7.000","Author","Marie Roesser",null,null,null,null,"B",null,"Grade K","Grade Pre-K - 1","The overall concept of money usually comes easily to young learners who curiously watch the exchange of money for goods from an early age. However, noticing the distinguishing characteristics of different kinds of money, such as coins and paper notes, is a bit trickier. This helpful and engaging book is an excellent companion for those who are learning to discern the different types of money. It also touches on the valuable skills of sorting and classifying, which are important concepts in early elementary math curricula.","English",23.6,17.7,"332.4--dc23","24 pp.","https://www.garethstevens.com/9781538262559",null,{"$f":"Table1[[#This Row],[QTY]]*Table1[[#This Row],['# Books]]","v":0},{"$f":"Table1[[#This Row],[QTY]]*Table1[[#This Row],[S&L Price]]","v":0}]
[null,8,5,"Eye Spy!",1,"I Spy Money","eBook",null,"978-1-5382-6256-6",{"$f":"HYPERLINK(Table1[[#This Row],[eCommerce Hyperlink]],\"Book Weblink\")","v":"Book Weblink"},{"$f":"HYPERLINK(Table1[[#This Row],[EPP Hyperlink]],\"EPP Weblink\")","v":"EPP Weblink"},"2022","January 2022",null,null,"Author","Marie Roesser",null,null,null,null,"B",null,"Grade K","Grade Pre-K - 1","The overall concept of money usually comes easily to young learners who curiously watch the exchange of money for goods from an early age. However, noticing the distinguishing characteristics of different kinds of money, such as coins and paper notes, is a bit trickier. This helpful and engaging book is an excellent companion for those who are learning to discern the different types of money. It also touches on the valuable skills of sorting and classifying, which are important concepts in early elementary math curricula.","English",23.6,17.7,"332.4--dc23","24 pp.","https://www.garethstevens.com/9781538262566","http://www.epointplus.com/embed/9781538262566/?login=cyberrep&password=cyberrep",{"$f":"Table1[[#This Row],[QTY]]*Table1[[#This Row],['# Books]]","v":0},{"$f":"Table1[[#This Row],[QTY]]*Table1[[#This Row],[S&L Price]]","v":0}]
[null,8,5,"Eye Spy!",1,"I Spy Numbers","Library Bound Book",null,"978-1-5382-6259-7",{"$f":"HYPERLINK(Table1[[#This Row],[eCommerce Hyperlink]],\"Book Weblink\")","v":"Book Weblink"},null,"2022","January 2022","Library","7.000 X 7.000","Author","Marie Roesser",null,null,null,null,"B",null,"Grade K","Grade Pre-K - 1","Numbers are everywhere, and adults recognize them and count objects without even thinking about it. The youngest mathematicians, however, need practice to achieve this level of proficiency. This clever volume helps readers \"spy\" numbers among several colorful images that they'll recognize from their everyday lives. As they complete these activities, they will learn which numbers they may need to review more and which they have mastered. They will also practice their reading skills through simple, achievable text supported by the visual clues.","English",23.6,17.7,"513.5--dc23","24 pp.","https://www.garethstevens.com/9781538262597",null,{"$f":"Table1[[#This Row],[QTY]]*Table1[[#This Row],['# Books]]","v":0},{"$f":"Table1[[#This Row],[QTY]]*Table1[[#This Row],[S&L Price]]","v":0}]
[null,8,5,"Eye Spy!",1,"I Spy Numbers","eBook",null,"978-1-5382-6260-3",{"$f":"HYPERLINK(Table1[[#This Row],[eCommerce Hyperlink]],\"Book Weblink\")","v":"Book Weblink"},{"$f":"HYPERLINK(Table1[[#This Row],[EPP Hyperlink]],\"EPP Weblink\")","v":"EPP Weblink"},"2022","January 2022",null,null,"Author","Marie Roesser",null,null,null,null,"B",null,"Grade K","Grade Pre-K - 1","Numbers are everywhere, and adults recognize them and count objects without even thinking about it. The youngest mathematicians, however, need practice to achieve this level of proficiency. This clever volume helps readers \"spy\" numbers among several colorful images that they'll recognize from their everyday lives. As they complete these activities, they will learn which numbers they may need to review more and which they have mastered. They will also practice their reading skills through simple, achievable text supported by the visual clues.","English",23.6,17.7,"513.5--dc23","24 pp.","https://www.garethstevens.com/9781538262603","http://www.epointplus.com/embed/9781538262603/?login=cyberrep&password=cyberrep",{"$f":"Table1[[#This Row],[QTY]]*Table1[[#This Row],['# Books]]","v":0},{"$f":"Table1[[#This Row],[QTY]]*Table1[[#This Row],[S&L Price]]","v":0}]
[null,8,5,"Eye Spy!",1,"I Spy Shapes","Library Bound Book",null,"978-1-5382-6263-4",{"$f":"HYPERLINK(Table1[[#This Row],[eCommerce Hyperlink]],\"Book Weblink\")","v":"Book Weblink"},null,"2022","January 2022","Library","7.000 X 7.000","Author","Marie Roesser",null,null,null,null,"B",null,"Grade K","Grade Pre-K - 1","Shape recognition is a fundamental part of pre-K and kindergarten classrooms. This fun book, with its appealing photographs, provides an entertaining way for young learners to practice their reading skills and hone their understanding of an important math standard. Throughout the accessible narrative, readers are asked to identify various shapes, such as triangles, rectangles, circles, and ovals, among multiple images, allowing many opportunities for assessment. Early readers will enjoy a feeling of accomplishment for mastering this crucial concept.","English",23.6,17.7,"516/.154--dc23","24 pp.","https://www.garethstevens.com/9781538262634",null,{"$f":"Table1[[#This Row],[QTY]]*Table1[[#This Row],['# Books]]","v":0},{"$f":"Table1[[#This Row],[QTY]]*Table1[[#This Row],[S&L Price]]","v":0}]
[null,8,5,"Eye Spy!",1,"I Spy Shapes","eBook",null,"978-1-5382-6264-1",{"$f":"HYPERLINK(Table1[[#This Row],[eCommerce Hyperlink]],\"Book Weblink\")","v":"Book Weblink"},{"$f":"HYPERLINK(Table1[[#This Row],[EPP Hyperlink]],\"EPP Weblink\")","v":"EPP Weblink"},"2022","January 2022",null,null,"Author","Marie Roesser",null,null,null,null,"B",null,"Grade K","Grade Pre-K - 1","Shape recognition is a fundamental part of pre-K and kindergarten classrooms. This fun book, with its appealing photographs, provides an entertaining way for young learners to practice their reading skills and hone their understanding of an important math standard. Throughout the accessible narrative, readers are asked to identify various shapes, such as triangles, rectangles, circles, and ovals, among multiple images, allowing many opportunities for assessment. Early readers will enjoy a feeling of accomplishment for mastering this crucial concept.","English",23.6,17.7,"516/.154--dc23","24 pp.","https://www.garethstevens.com/9781538262641","http://www.epointplus.com/embed/9781538262641/?login=cyberrep&password=cyberrep",{"$f":"Table1[[#This Row],[QTY]]*Table1[[#This Row],['# Books]]","v":0},{"$f":"Table1[[#This Row],[QTY]]*Table1[[#This Row],[S&L Price]]","v":0}]
[null,8,5,"Eye Spy!",1,"I Spy Sizes","Library Bound Book",null,"978-1-5382-6267-2",{"$f":"HYPERLINK(Table1[[#This Row],[eCommerce Hyperlink]],\"Book Weblink\")","v":"Book Weblink"},null,"2022","January 2022","Library","7.000 X 7.000","Author","Marie Roesser",null,null,null,null,"B",null,"Grade K","Grade Pre-K - 1","Identifying attributes of objects is a staple of early elementary education, and one of these attributes is size. This valuable volume provides an excellent opportunity for review and assessment of the appropriate use of size words, such as big, small, large, and little, along with other vocabulary that young readers should become familiar with. The at-level text is specially crafted to be achievable for beginning readers. They will find plenty of visual cues in the bright photographs featured throughout this engaging book.","English",23.6,17.7,"153.7/52--dc23","24 pp.","https://www.garethstevens.com/9781538262672",null,{"$f":"Table1[[#This Row],[QTY]]*Table1[[#This Row],['# Books]]","v":0},{"$f":"Table1[[#This Row],[QTY]]*Table1[[#This Row],[S&L Price]]","v":0}]
[null,8,5,"Eye Spy!",1,"I Spy Sizes","eBook",null,"978-1-5382-6268-9",{"$f":"HYPERLINK(Table1[[#This Row],[eCommerce Hyperlink]],\"Book Weblink\")","v":"Book Weblink"},{"$f":"HYPERLINK(Table1[[#This Row],[EPP Hyperlink]],\"EPP Weblink\")","v":"EPP Weblink"},"2022","January 2022",null,null,"Author","Marie Roesser",null,null,null,null,"B",null,"Grade K","Grade Pre-K - 1","Identifying attributes of objects is a staple of early elementary education, and one of these attributes is size. This valuable volume provides an excellent opportunity for review and assessment of the appropriate use of size words, such as big, small, large, and little, along with other vocabulary that young readers should become familiar with. The at-level text is specially crafted to be achievable for beginning readers. They will find plenty of visual cues in the bright photographs featured throughout this engaging book.","English",23.6,17.7,"153.7/52--dc23","24 pp.","https://www.garethstevens.com/9781538262689","http://www.epointplus.com/embed/9781538262689/?login=cyberrep&password=cyberrep",{"$f":"Table1[[#This Row],[QTY]]*Table1[[#This Row],['# Books]]","v":0},{"$f":"Table1[[#This Row],[QTY]]*Table1[[#This Row],[S&L Price]]","v":0}]
[null,null,6,"Time to Compare!",6,"Time to Compare!","Library Set",null,"978-1-5382-5970-2",{"$f":"HYPERLINK(Table1[[#This Row],[eCommerce Hyperlink]],\"Book Weblink\")","v":"Book Weblink"},null,"2021","January 2021","Library","7.000 X 7.000",null,null,null,null,null,null,null,null,"Grade K","Grade Pre-K - 1","Learning to observe, compare, and evaluate are essential skills in the classroom and in life. This valuable and accessible set focuses on important categories of comparison, including weight, height, quantity, and volume, allowing early readers to expand their understanding of basic math and science concepts. They'll be engaged by the brightly written narratives and colorful photographs of familiar and fun objects like toys and animals. Features include: Simple, at-level texts for beginning readers. Supportive photographs aid in vocabulary acquisition. Covered topics appear in state and national math curricula.","English",141.6,106.2,null,"24 pp.","https://www.garethstevens.com/9781538259702",null,{"$f":"Table1[[#This Row],[QTY]]*Table1[[#This Row],['# Books]]","v":0},{"$f":"Table1[[#This Row],[QTY]]*Table1[[#This Row],[S&L Price]]","v":0}]
[null,null,6,"Time to Compare!",1,"Which Has More?","Library Bound Book",null,"978-1-5382-5508-7",{"$f":"HYPERLINK(Table1[[#This Row],[eCommerce Hyperlink]],\"Book Weblink\")","v":"Book Weblink"},null,"2021","January 2021","Library","7.000 X 7.000","Author","Jagger Youssef",null,null,null,null,"B",null,"Grade K","Grade Pre-K - 1","Counting is a fundamental math skill. Being able to compare amounts takes this skill to the next level. This beneficial book guides readers in acquiring aptitude in comparison of quantities using at-level text and bright photographs of recognizable objects. A final assessment activity allows budding mathematicians to show off their math prowess.","English",23.6,17.7,"530.8--dc23","24 pp.","https://www.garethstevens.com/9781538255087",null,{"$f":"Table1[[#This Row],[QTY]]*Table1[[#This Row],['# Books]]","v":0},{"$f":"Table1[[#This Row],[QTY]]*Table1[[#This Row],[S&L Price]]","v":0}]
[null,null,6,"Time to Compare!",1,"Which Has More?","eBook",null,"978-1-5382-5509-4",{"$f":"HYPERLINK(Table1[[#This Row],[eCommerce Hyperlink]],\"Book Weblink\")","v":"Book Weblink"},null,"2021","January 2021",null,null,"Author","Jagger Youssef",null,null,null,null,"B",null,"Grade K","Grade Pre-K - 1","Counting is a fundamental math skill. Being able to compare amounts takes this skill to the next level. This beneficial book guides readers in acquiring aptitude in comparison of quantities using at-level text and bright photographs of recognizable objects. A final assessment activity allows budding mathematicians to show off their math prowess.","English",23.6,17.7,"530.8--dc23","24 pp.","https://www.garethstevens.com/9781538255094",null,{"$f":"Table1[[#This Row],[QTY]]*Table1[[#This Row],['# Books]]","v":0},{"$f":"Table1[[#This Row],[QTY]]*Table1[[#This Row],[S&L Price]]","v":0}]
[null,null,6,"Time to Compare!",1,"Which Holds More?","Library Bound Book",null,"978-1-5382-5520-9",{"$f":"HYPERLINK(Table1[[#This Row],[eCommerce Hyperlink]],\"Book Weblink\")","v":"Book Weblink"},null,"2021","January 2021","Library","7.000 X 7.000","Author","Jagger Youssef",null,null,null,null,"B",null,"Grade K","Grade Pre-K - 1","Volume might seem like a tricky concept, but it's just another measurement of size. In the bright pages of this valuable book, budding scientists and mathematicians will observe differing volumes of liquids in familiar containers. They'll learn how to conclude which container holds more, which is a stepping stone to more advanced concepts. Readers will exercise their volume-determining skills by answering a closing question.","English",23.6,17.7,"530.8--dc23","24 pp.","https://www.garethstevens.com/9781538255209",null,{"$f":"Table1[[#This Row],[QTY]]*Table1[[#This Row],['# Books]]","v":0},{"$f":"Table1[[#This Row],[QTY]]*Table1[[#This Row],[S&L Price]]","v":0}]
[null,null,6,"Time to Compare!",1,"Which Holds More?","eBook",null,"978-1-5382-5521-6",{"$f":"HYPERLINK(Table1[[#This Row],[eCommerce Hyperlink]],\"Book Weblink\")","v":"Book Weblink"},null,"2021","January 2021",null,null,"Author","Jagger Youssef",null,null,null,null,"B",null,"Grade K","Grade Pre-K - 1","Volume might seem like a tricky concept, but it's just another measurement of size. In the bright pages of this valuable book, budding scientists and mathematicians will observe differing volumes of liquids in familiar containers. They'll learn how to conclude which container holds more, which is a stepping stone to more advanced concepts. Readers will exercise their volume-determining skills by answering a closing question.","English",23.6,17.7,"530.8--dc23","24 pp.","https://www.garethstevens.com/9781538255216",null,{"$f":"Table1[[#This Row],[QTY]]*Table1[[#This Row],['# Books]]","v":0},{"$f":"Table1[[#This Row],[QTY]]*Table1[[#This Row],[S&L Price]]","v":0}]
[null,null,6,"Time to Compare!",1,"Which Is Different?","Library Bound Book",null,"978-1-5382-5512-4",{"$f":"HYPERLINK(Table1[[#This Row],[eCommerce Hyperlink]],\"Book Weblink\")","v":"Book Weblink"},null,"2021","January 2021","Library","7.000 X 7.000","Author","Jagger Youssef",null,null,null,null,"B",null,"Grade K","Grade Pre-K - 1","Puzzle lovers enjoy spotting similarities and differences among groups of objects. This engaging book will seem like a game to riveted readers, as they learn to spot items that belong in certain categories and those that don't. They'll examine colors, shapes, and other attributes of high-interest objects. At-level text encourages readers to add new vocabulary words to their collection, while colorful photographs further enhance this reading experience.","English",23.6,17.7,"153.7--dc23","24 pp.","https://www.garethstevens.com/9781538255124",null,{"$f":"Table1[[#This Row],[QTY]]*Table1[[#This Row],['# Books]]","v":0},{"$f":"Table1[[#This Row],[QTY]]*Table1[[#This Row],[S&L Price]]","v":0}]
[null,null,6,"Time to Compare!",1,"Which Is Different?","eBook",null,"978-1-5382-5513-1",{"$f":"HYPERLINK(Table1[[#This Row],[eCommerce Hyperlink]],\"Book Weblink\")","v":"Book Weblink"},null,"2021","January 2021",null,null,"Author","Jagger Youssef",null,null,null,null,"B",null,"Grade K","Grade Pre-K - 1","Puzzle lovers enjoy spotting similarities and differences among groups of objects. This engaging book will seem like a game to riveted readers, as they learn to spot items that belong in certain categories and those that don't. They'll examine colors, shapes, and other attributes of high-interest objects. At-level text encourages readers to add new vocabulary words to their collection, while colorful photographs further enhance this reading experience.","English",23.6,17.7,"153.7--dc23","24 pp.","https://www.garethstevens.com/9781538255131",null,{"$f":"Table1[[#This Row],[QTY]]*Table1[[#This Row],['# Books]]","v":0},{"$f":"Table1[[#This Row],[QTY]]*Table1[[#This Row],[S&L Price]]","v":0}]
[null,null,6,"Time to Compare!",1,"Which Is Heavier?","Library Bound Book",null,"978-1-5382-5496-7",{"$f":"HYPERLINK(Table1[[#This Row],[eCommerce Hyperlink]],\"Book Weblink\")","v":"Book Weblink"},null,"2021","January 2021","Library","7.000 X 7.000","Author","Jagger Youssef",null,null,null,null,"B",null,"Grade K","Grade Pre-K - 1","Understanding properties of matter is key for future scientists. With this bright and beneficial book, readers are invited to use their sense of sight to compare the weight of objects. A concluding question allows them to determine which object is heavier and display their understanding of this valuable concept.","English",23.6,17.7,"530.8--dc23","24 pp.","https://www.garethstevens.com/9781538254967",null,{"$f":"Table1[[#This Row],[QTY]]*Table1[[#This Row],['# Books]]","v":0},{"$f":"Table1[[#This Row],[QTY]]*Table1[[#This Row],[S&L Price]]","v":0}]
[null,null,6,"Time to Compare!",1,"Which Is Heavier?","eBook",null,"978-1-5382-5497-4",{"$f":"HYPERLINK(Table1[[#This Row],[eCommerce Hyperlink]],\"Book Weblink\")","v":"Book Weblink"},null,"2021","January 2021",null,null,"Author","Jagger Youssef",null,null,null,null,"B",null,"Grade K","Grade Pre-K - 1","Understanding properties of matter is key for future scientists. With this bright and beneficial book, readers are invited to use their sense of sight to compare the weight of objects. A concluding question allows them to determine which object is heavier and display their understanding of this valuable concept.","English",23.6,17.7,"530.8--dc23","24 pp.","https://www.garethstevens.com/9781538254974",null,{"$f":"Table1[[#This Row],[QTY]]*Table1[[#This Row],['# Books]]","v":0},{"$f":"Table1[[#This Row],[QTY]]*Table1[[#This Row],[S&L Price]]","v":0}]
[null,null,6,"Time to Compare!",1,"Which Is Longer?","Library Bound Book",null,"978-1-5382-5516-2",{"$f":"HYPERLINK(Table1[[#This Row],[eCommerce Hyperlink]],\"Book Weblink\")","v":"Book Weblink"},null,"2021","January 2021","Library","7.000 X 7.000","Author","Jagger Youssef",null,null,null,null,"B",null,"Grade K","Grade Pre-K - 1","Understanding measurable attributes such as length is an imperative skill for future mathematicians. This skill is also handy in daily life. This valuable volume provides practical examples to readers, asking them to compare the lengths of familiar objects on the colorful pages. Accessible text encourages vocabulary acquisition and allows beginning readers to build confidence in their emerging literacy.","English",23.6,17.7,"530.8--dc23","24 pp.","https://www.garethstevens.com/9781538255162",null,{"$f":"Table1[[#This Row],[QTY]]*Table1[[#This Row],['# Books]]","v":0},{"$f":"Table1[[#This Row],[QTY]]*Table1[[#This Row],[S&L Price]]","v":0}]
[null,null,6,"Time to Compare!",1,"Which Is Longer?","eBook",null,"978-1-5382-5517-9",{"$f":"HYPERLINK(Table1[[#This Row],[eCommerce Hyperlink]],\"Book Weblink\")","v":"Book Weblink"},null,"2021","January 2021",null,null,"Author","Jagger Youssef",null,null,null,null,"B",null,"Grade K","Grade Pre-K - 1","Understanding measurable attributes such as length is an imperative skill for future mathematicians. This skill is also handy in daily life. This valuable volume provides practical examples to readers, asking them to compare the lengths of familiar objects on the colorful pages. Accessible text encourages vocabulary acquisition and allows beginning readers to build confidence in their emerging literacy.","English",23.6,17.7,"530.8--dc23","24 pp.","https://www.garethstevens.com/9781538255179",null,{"$f":"Table1[[#This Row],[QTY]]*Table1[[#This Row],['# Books]]","v":0},{"$f":"Table1[[#This Row],[QTY]]*Table1[[#This Row],[S&L Price]]","v":0}]
[null,null,6,"Time to Compare!",1,"Which Is Taller?","Library Bound Book",null,"978-1-5382-5500-1",{"$f":"HYPERLINK(Table1[[#This Row],[eCommerce Hyperlink]],\"Book Weblink\")","v":"Book Weblink"},null,"2021","January 2021","Library","7.000 X 7.000","Author","Jagger Youssef",null,null,null,null,"B",null,"Grade K","Grade Pre-K - 1","Comparing heights of objects is a standard of elementary math classrooms, so conquering this essential skill puts young mathematicians ahead of the game! Beginning readers will be delighted by this colorful book, which guides them in comparing objects and determining which is taller.","English",23.6,17.7,"530.8--dc23","24 pp.","https://www.garethstevens.com/9781538255001",null,{"$f":"Table1[[#This Row],[QTY]]*Table1[[#This Row],['# Books]]","v":0},{"$f":"Table1[[#This Row],[QTY]]*Table1[[#This Row],[S&L Price]]","v":0}]
[null,null,6,"Time to Compare!",1,"Which Is Taller?","eBook",null,"978-1-5382-5501-8",{"$f":"HYPERLINK(Table1[[#This Row],[eCommerce Hyperlink]],\"Book Weblink\")","v":"Book Weblink"},null,"2021","January 2021",null,null,"Author","Jagger Youssef",null,null,null,null,"B",null,"Grade K","Grade Pre-K - 1","Comparing heights of objects is a standard of elementary math classrooms, so conquering this essential skill puts young mathematicians ahead of the game! Beginning readers will be delighted by this colorful book, which guides them in comparing objects and determining which is taller.","English",23.6,17.7,"530.8--dc23","24 pp.","https://www.garethstevens.com/9781538255018",null,{"$f":"Table1[[#This Row],[QTY]]*Table1[[#This Row],['# Books]]","v":0},{"$f":"Table1[[#This Row],[QTY]]*Table1[[#This Row],[S&L Price]]","v":0}]
[null,null,7,"All About Opposites",6,"All About Opposites","Library Set",null,"978-1-5382-4152-3",{"$f":"HYPERLINK(Table1[[#This Row],[eCommerce Hyperlink]],\"Book Weblink\")","v":"Book Weblink"},null,"2020","August 2019","Library","7.000 X 7.000",null,null,null,null,null,null,null,null,"Grade K","Grade Pre-K - 1","Opposites are crucial concepts for young learners to understand. True comprehension means understanding relationships between objects as well as realizing one's own relationship with the surrounding world. In this inviting series, readers will delight in the accessible text and cheerful photographs of real-life objects, which support new vocabulary acquisition. Fast and slow, heavy and light, and near and far are some of the paired concepts they'll happily explore in these brightly designed books. Features include: Considering opposites helps young readers hone their observational as well as math and language skills. Achievable text features complete sentences that help learners practice fluency in reading. Provides learning opportunities connected to both foundational and informational reading standards of the English Language Arts Common Core.","English",141.6,106.2,null,"24 pp.","https://www.garethstevens.com/9781538241523",null,{"$f":"Table1[[#This Row],[QTY]]*Table1[[#This Row],['# Books]]","v":0},{"$f":"Table1[[#This Row],[QTY]]*Table1[[#This Row],[S&L Price]]","v":0}]
[null,null,7,"All About Opposites",1,"Fast or Slow?","Library Bound Book",null,"978-1-5382-3716-8",{"$f":"HYPERLINK(Table1[[#This Row],[eCommerce Hyperlink]],\"Book Weblink\")","v":"Book Weblink"},null,"2020","August 2019","Library","7.000 X 7.000","Author","Adeline Zubek",null,null,null,null,"B",null,"Grade K","Grade Pre-K - 1","The concepts of fast and slow are a compelling way of examining opposites for young readers. In this brightly designed book, they'll compare high-interest animals and vehicles through accessible text and learn how to apply their knowledge in placing familiar objects in similar categories. Striking photographs offer support for vocabulary acquisition, while an ending activity is an opportunity for assessment.","English",23.6,17.7,"531'.11--dc23","24 pp.","https://www.garethstevens.com/9781538237168",null,{"$f":"Table1[[#This Row],[QTY]]*Table1[[#This Row],['# Books]]","v":0},{"$f":"Table1[[#This Row],[QTY]]*Table1[[#This Row],[S&L Price]]","v":0}]
[null,null,7,"All About Opposites",1,"Fast or Slow?","eBook",null,"978-1-5382-3717-5",{"$f":"HYPERLINK(Table1[[#This Row],[eCommerce Hyperlink]],\"Book Weblink\")","v":"Book Weblink"},null,"2020","August 2019",null,null,"Author","Adeline Zubek",null,null,null,null,"B",null,"Grade K","Grade Pre-K - 1","The concepts of fast and slow are a compelling way of examining opposites for young readers. In this brightly designed book, they'll compare high-interest animals and vehicles through accessible text and learn how to apply their knowledge in placing familiar objects in similar categories. Striking photographs offer support for vocabulary acquisition, while an ending activity is an opportunity for assessment.","English",23.6,17.7,"531'.11--dc23","24 pp.","https://www.garethstevens.com/9781538237175",null,{"$f":"Table1[[#This Row],[QTY]]*Table1[[#This Row],['# Books]]","v":0},{"$f":"Table1[[#This Row],[QTY]]*Table1[[#This Row],[S&L Price]]","v":0}]
[null,null,7,"All About Opposites",1,"Front or Back?","Library Bound Book",null,"978-1-5382-3720-5",{"$f":"HYPERLINK(Table1[[#This Row],[eCommerce Hyperlink]],\"Book Weblink\")","v":"Book Weblink"},null,"2020","August 2019","Library","7.000 X 7.000","Author","Adeline Zubek",null,null,null,null,"B",null,"Grade K","Grade Pre-K - 1","The concept of opposites is an important building block of early education. This brightly designed book explores opposites through the pairing of front and back. Familiar objects such as toys and animals are used as subjects, and simple sentences allow beginning readers to practice fluency and acquire new vocabulary. A concluding activity offers a chance for readers to assess their understanding of front or back.","English",23.6,17.7,"428.1--dc23","24 pp.","https://www.garethstevens.com/9781538237205",null,{"$f":"Table1[[#This Row],[QTY]]*Table1[[#This Row],['# Books]]","v":0},{"$f":"Table1[[#This Row],[QTY]]*Table1[[#This Row],[S&L Price]]","v":0}]
[null,null,7,"All About Opposites",1,"Front or Back?","eBook",null,"978-1-5382-3721-2",{"$f":"HYPERLINK(Table1[[#This Row],[eCommerce Hyperlink]],\"Book Weblink\")","v":"Book Weblink"},null,"2020","August 2019",null,null,"Author","Adeline Zubek",null,null,null,null,"B",null,"Grade K","Grade Pre-K - 1","The concept of opposites is an important building block of early education. This brightly designed book explores opposites through the pairing of front and back. Familiar objects such as toys and animals are used as subjects, and simple sentences allow beginning readers to practice fluency and acquire new vocabulary. A concluding activity offers a chance for readers to assess their understanding of front or back.","English",23.6,17.7,"428.1--dc23","24 pp.","https://www.garethstevens.com/9781538237212",null,{"$f":"Table1[[#This Row],[QTY]]*Table1[[#This Row],['# Books]]","v":0},{"$f":"Table1[[#This Row],[QTY]]*Table1[[#This Row],[S&L Price]]","v":0}]
[null,null,7,"All About Opposites",1,"Heavy or Light?","Library Bound Book",null,"978-1-5382-3724-3",{"$f":"HYPERLINK(Table1[[#This Row],[eCommerce Hyperlink]],\"Book Weblink\")","v":"Book Weblink"},null,"2020","August 2019","Library","7.000 X 7.000","Author","Adeline Zubek",null,null,null,null,"B",null,"Grade K","Grade Pre-K - 1","Heavy and light can be tricky concepts to present to young learners. It's difficult to observe something's weight. However, this cheerful book reviews this pair of opposites through simple language and beautiful photographs of familiar objects. Readers will be able to practice their fluency as they evaluate and compare items. They'll be encouraged to make their own observations as well as apply their knowledge to the world around them.","English",23.6,17.7,"531'.5--dc23","24 pp.","https://www.garethstevens.com/9781538237243",null,{"$f":"Table1[[#This Row],[QTY]]*Table1[[#This Row],['# Books]]","v":0},{"$f":"Table1[[#This Row],[QTY]]*Table1[[#This Row],[S&L Price]]","v":0}]
[null,null,7,"All About Opposites",1,"Heavy or Light?","eBook",null,"978-1-5382-3725-0",{"$f":"HYPERLINK(Table1[[#This Row],[eCommerce Hyperlink]],\"Book Weblink\")","v":"Book Weblink"},null,"2020","August 2019",null,null,"Author","Adeline Zubek",null,null,null,null,"B",null,"Grade K","Grade Pre-K - 1","Heavy and light can be tricky concepts to present to young learners. It's difficult to observe something's weight. However, this cheerful book reviews this pair of opposites through simple language and beautiful photographs of familiar objects. Readers will be able to practice their fluency as they evaluate and compare items. They'll be encouraged to make their own observations as well as apply their knowledge to the world around them.","English",23.6,17.7,"531'.5--dc23","24 pp.","https://www.garethstevens.com/9781538237250",null,{"$f":"Table1[[#This Row],[QTY]]*Table1[[#This Row],['# Books]]","v":0},{"$f":"Table1[[#This Row],[QTY]]*Table1[[#This Row],[S&L Price]]","v":0}]
[null,null,7,"All About Opposites",1,"In or Out?","Library Bound Book",null,"978-1-5382-3728-1",{"$f":"HYPERLINK(Table1[[#This Row],[eCommerce Hyperlink]],\"Book Weblink\")","v":"Book Weblink"},null,"2020","August 2019","Library","7.000 X 7.000","Author","Rory McDonnell",null,null,null,null,"B",null,"Grade K","Grade Pre-K - 1","Directional words are important for young learners so that they can explain spatial concepts to others. With this charming book, they'll be able to practice the terms \"in\" and \"out\" as well as other vocabulary terms. They'll be aided in their vocabulary acquisition by bright pictures that offer visual clues to the accessible text as well as a clear understanding of why in and out are opposites.","English",23.6,17.7,"152.1/8--dc23","24 pp.","https://www.garethstevens.com/9781538237281",null,{"$f":"Table1[[#This Row],[QTY]]*Table1[[#This Row],['# Books]]","v":0},{"$f":"Table1[[#This Row],[QTY]]*Table1[[#This Row],[S&L Price]]","v":0}]
[null,null,7,"All About Opposites",1,"In or Out?","eBook",null,"978-1-5382-3729-8",{"$f":"HYPERLINK(Table1[[#This Row],[eCommerce Hyperlink]],\"Book Weblink\")","v":"Book Weblink"},null,"2020","August 2019",null,null,"Author","Rory McDonnell",null,null,null,null,"B",null,"Grade K","Grade Pre-K - 1","Directional words are important for young learners so that they can explain spatial concepts to others. With this charming book, they'll be able to practice the terms \"in\" and \"out\" as well as other vocabulary terms. They'll be aided in their vocabulary acquisition by bright pictures that offer visual clues to the accessible text as well as a clear understanding of why in and out are opposites.","English",23.6,17.7,"152.1/8--dc23","24 pp.","https://www.garethstevens.com/9781538237298",null,{"$f":"Table1[[#This Row],[QTY]]*Table1[[#This Row],['# Books]]","v":0},{"$f":"Table1[[#This Row],[QTY]]*Table1[[#This Row],[S&L Price]]","v":0}]
[null,null,7,"All About Opposites",1,"Near or Far?","Library Bound Book",null,"978-1-5382-3732-8",{"$f":"HYPERLINK(Table1[[#This Row],[eCommerce Hyperlink]],\"Book Weblink\")","v":"Book Weblink"},null,"2020","August 2019","Library","7.000 X 7.000","Author","Rory McDonnell",null,null,null,null,"B",null,"Grade K","Grade Pre-K - 1","Near and far are important concepts to understand; who doesn't want to know if a shark is near or far? This colorful volume is an enjoyable exploration of this pair of opposites. It invites beginning readers to practice using these terms in relation to familiar and fun scenarios in the real world. They'll spot near and faraway elephants, birds, boats, and sharks in the lively photographs accompanying the achievable text.","English",23.6,17.7,"153.7'52--dc23","24 pp.","https://www.garethstevens.com/9781538237328",null,{"$f":"Table1[[#This Row],[QTY]]*Table1[[#This Row],['# Books]]","v":0},{"$f":"Table1[[#This Row],[QTY]]*Table1[[#This Row],[S&L Price]]","v":0}]
[null,null,7,"All About Opposites",1,"Near or Far?","eBook",null,"978-1-5382-3733-5",{"$f":"HYPERLINK(Table1[[#This Row],[eCommerce Hyperlink]],\"Book Weblink\")","v":"Book Weblink"},null,"2020","August 2019",null,null,"Author","Rory McDonnell",null,null,null,null,"B",null,"Grade K","Grade Pre-K - 1","Near and far are important concepts to understand; who doesn't want to know if a shark is near or far? This colorful volume is an enjoyable exploration of this pair of opposites. It invites beginning readers to practice using these terms in relation to familiar and fun scenarios in the real world. They'll spot near and faraway elephants, birds, boats, and sharks in the lively photographs accompanying the achievable text.","English",23.6,17.7,"153.7'52--dc23","24 pp.","https://www.garethstevens.com/9781538237335",null,{"$f":"Table1[[#This Row],[QTY]]*Table1[[#This Row],['# Books]]","v":0},{"$f":"Table1[[#This Row],[QTY]]*Table1[[#This Row],[S&L Price]]","v":0}]
[null,null,7,"All About Opposites",1,"Up or Down?","Library Bound Book",null,"978-1-5382-3736-6",{"$f":"HYPERLINK(Table1[[#This Row],[eCommerce Hyperlink]],\"Book Weblink\")","v":"Book Weblink"},null,"2020","August 2019","Library","7.000 X 7.000","Author","Rory McDonnell",null,null,null,null,"B",null,"Grade K","Grade Pre-K - 1","What goes up must come down! Up and down are entertaining terms to explore in this fun book of opposites. Readers will investigate these vocabulary words through balls, kites, balloons, and other objects. The everyday scenarios encourage them to employ these opposites in their own understanding of the world. Vivid photographs are an aid in vocabulary acquisition, while a short concluding activity provides an opportunity for self-assessment.","English",23.6,17.7,"531'.6--dc23","24 pp.","https://www.garethstevens.com/9781538237366",null,{"$f":"Table1[[#This Row],[QTY]]*Table1[[#This Row],['# Books]]","v":0},{"$f":"Table1[[#This Row],[QTY]]*Table1[[#This Row],[S&L Price]]","v":0}]
[null,null,7,"All About Opposites",1,"Up or Down?","eBook",null,"978-1-5382-3737-3",{"$f":"HYPERLINK(Table1[[#This Row],[eCommerce Hyperlink]],\"Book Weblink\")","v":"Book Weblink"},null,"2020","August 2019",null,null,"Author","Rory McDonnell",null,null,null,null,"B",null,"Grade K","Grade Pre-K - 1","What goes up must come down! Up and down are entertaining terms to explore in this fun book of opposites. Readers will investigate these vocabulary words through balls, kites, balloons, and other objects. The everyday scenarios encourage them to employ these opposites in their own understanding of the world. Vivid photographs are an aid in vocabulary acquisition, while a short concluding activity provides an opportunity for self-assessment.","English",23.6,17.7,"531'.6--dc23","24 pp.","https://www.garethstevens.com/9781538237373",null,{"$f":"Table1[[#This Row],[QTY]]*Table1[[#This Row],['# Books]]","v":0},{"$f":"Table1[[#This Row],[QTY]]*Table1[[#This Row],[S&L Price]]","v":0}]
[null,null,7,"Let's Learn Textures!",6,"Let's Learn Textures!","Library Set",null,"978-1-5382-4526-2",{"$f":"HYPERLINK(Table1[[#This Row],[eCommerce Hyperlink]],\"Book Weblink\")","v":"Book Weblink"},null,"2020","January 2020","Library","7.000 X 7.000",null,null,null,null,null,null,null,null,"Grade K","Grade Pre-K - 1","The youngest learners can be the most observant scientists. This beneficial set guides budding scientists in learning how to observe and describe the texture of familiar objects. They'll understand how to distinguish between bumpy and smooth, soft and hard, and wet and dry. These essential concepts are presented with simple text especially crafted for the beginning reader. Colorful photographs support the achievable text and further engage readers. Features include: Provides many opportunities to practice foundational reading skills of the English Language Arts Common Core. Discerning and defining textures is a key concept in lower elementary classrooms. The bright photographs are carefully chosen to appeal to young readers.","English",141.6,106.2,null,"24 pp.","https://www.garethstevens.com/9781538245262",null,{"$f":"Table1[[#This Row],[QTY]]*Table1[[#This Row],['# Books]]","v":0},{"$f":"Table1[[#This Row],[QTY]]*Table1[[#This Row],[S&L Price]]","v":0}]
[null,null,7,"Let's Learn Textures!",1,"What Is Bumpy?","Library Bound Book",null,"978-1-5382-4431-9",{"$f":"HYPERLINK(Table1[[#This Row],[eCommerce Hyperlink]],\"Book Weblink\")","v":"Book Weblink"},null,"2020","January 2020","Library","7.000 X 7.000","Author","Emmett Martin",null,null,null,null,"B",null,"Grade K","Grade Pre-K - 1","Many objects could be described as bumpy: roads, footballs, and even a toad's skin. Learning to describe objects and discern how they're different from or like other objects is an important part of the early elementary curriculum. This carefully written, at-level narrative demonstrates the use of the adjective bumpy, aided by colorful pictures to aid readers' comprehension of each accessible sentence.","English",23.6,17.7,"620.1/1292--dc23","24 pp.","https://www.garethstevens.com/9781538244319",null,{"$f":"Table1[[#This Row],[QTY]]*Table1[[#This Row],['# Books]]","v":0},{"$f":"Table1[[#This Row],[QTY]]*Table1[[#This Row],[S&L Price]]","v":0}]
[null,null,7,"Let's Learn Textures!",1,"What Is Bumpy?","eBook",null,"978-1-5382-4432-6",{"$f":"HYPERLINK(Table1[[#This Row],[eCommerce Hyperlink]],\"Book Weblink\")","v":"Book Weblink"},null,"2020","January 2020",null,null,"Author","Emmett Martin",null,null,null,null,"B",null,"Grade K","Grade Pre-K - 1","Many objects could be described as bumpy: roads, footballs, and even a toad's skin. Learning to describe objects and discern how they're different from or like other objects is an important part of the early elementary curriculum. This carefully written, at-level narrative demonstrates the use of the adjective bumpy, aided by colorful pictures to aid readers' comprehension of each accessible sentence.","English",23.6,17.7,"620.1/1292--dc23","24 pp.","https://www.garethstevens.com/9781538244326",null,{"$f":"Table1[[#This Row],[QTY]]*Table1[[#This Row],['# Books]]","v":0},{"$f":"Table1[[#This Row],[QTY]]*Table1[[#This Row],[S&L Price]]","v":0}]
[null,null,7,"Let's Learn Textures!",1,"What Is Dry?","Library Bound Book",null,"978-1-5382-4435-7",{"$f":"HYPERLINK(Table1[[#This Row],[eCommerce Hyperlink]],\"Book Weblink\")","v":"Book Weblink"},null,"2020","January 2020","Library","7.000 X 7.000","Author","Emmett Martin",null,null,null,null,"B",null,"Grade K","Grade Pre-K - 1","Anyone who has ever gotten drenched in a rainstorm knows what it is to be dry, but learning to identify objects as dry can be tricky for the youngest learners. This beneficial book teaches readers how to classify familiar objects as wet or dry with short, achievable sentences carefully constructed for vocabulary acquisition. The accessible narrative is accompanied by bright, interesting photographs of the objects.","English",23.6,17.7,"620.1/129--dc23","24 pp.","https://www.garethstevens.com/9781538244357",null,{"$f":"Table1[[#This Row],[QTY]]*Table1[[#This Row],['# Books]]","v":0},{"$f":"Table1[[#This Row],[QTY]]*Table1[[#This Row],[S&L Price]]","v":0}]
[null,null,7,"Let's Learn Textures!",1,"What Is Dry?","eBook",null,"978-1-5382-4436-4",{"$f":"HYPERLINK(Table1[[#This Row],[eCommerce Hyperlink]],\"Book Weblink\")","v":"Book Weblink"},null,"2020","January 2020",null,null,"Author","Emmett Martin",null,null,null,null,"B",null,"Grade K","Grade Pre-K - 1","Anyone who has ever gotten drenched in a rainstorm knows what it is to be dry, but learning to identify objects as dry can be tricky for the youngest learners. This beneficial book teaches readers how to classify familiar objects as wet or dry with short, achievable sentences carefully constructed for vocabulary acquisition. The accessible narrative is accompanied by bright, interesting photographs of the objects.","English",23.6,17.7,"620.1/129--dc23","24 pp.","https://www.garethstevens.com/9781538244364",null,{"$f":"Table1[[#This Row],[QTY]]*Table1[[#This Row],['# Books]]","v":0},{"$f":"Table1[[#This Row],[QTY]]*Table1[[#This Row],[S&L Price]]","v":0}]
[null,null,7,"Let's Learn Textures!",1,"What Is Hard?","Library Bound Book",null,"978-1-5382-4439-5",{"$f":"HYPERLINK(Table1[[#This Row],[eCommerce Hyperlink]],\"Book Weblink\")","v":"Book Weblink"},null,"2020","January 2020","Library","7.000 X 7.000","Author","Emmett Martin",null,null,null,null,"B",null,"Grade K","Grade Pre-K - 1","It's easier to name hard things, like rocks, than understand what this characteristic really means. This book encourages young scientists to observe the world around them and discern the features of various familiar things. They'll come to learn that anything that can't be easily bent can be described as hard. The achievable text and colorful photographs support readers in acquiring new vocabulary and a new appreciation for their powers of observation.","English",23.6,17.7,"620.1/126--dc23","24 pp.","https://www.garethstevens.com/9781538244395",null,{"$f":"Table1[[#This Row],[QTY]]*Table1[[#This Row],['# Books]]","v":0},{"$f":"Table1[[#This Row],[QTY]]*Table1[[#This Row],[S&L Price]]","v":0}]
[null,null,7,"Let's Learn Textures!",1,"What Is Hard?","eBook",null,"978-1-5382-4440-1",{"$f":"HYPERLINK(Table1[[#This Row],[eCommerce Hyperlink]],\"Book Weblink\")","v":"Book Weblink"},null,"2020","January 2020",null,null,"Author","Emmett Martin",null,null,null,null,"B",null,"Grade K","Grade Pre-K - 1","It's easier to name hard things, like rocks, than understand what this characteristic really means. This book encourages young scientists to observe the world around them and discern the features of various familiar things. They'll come to learn that anything that can't be easily bent can be described as hard. The achievable text and colorful photographs support readers in acquiring new vocabulary and a new appreciation for their powers of observation.","English",23.6,17.7,"620.1/126--dc23","24 pp.","https://www.garethstevens.com/9781538244401",null,{"$f":"Table1[[#This Row],[QTY]]*Table1[[#This Row],['# Books]]","v":0},{"$f":"Table1[[#This Row],[QTY]]*Table1[[#This Row],[S&L Price]]","v":0}]
[null,null,7,"Let's Learn Textures!",1,"What Is Smooth?","Library Bound Book",null,"978-1-5382-4443-2",{"$f":"HYPERLINK(Table1[[#This Row],[eCommerce Hyperlink]],\"Book Weblink\")","v":"Book Weblink"},null,"2020","January 2020","Library","7.000 X 7.000","Author","Emmett Martin",null,null,null,null,"B",null,"Grade K","Grade Pre-K - 1","Understanding textures is a preliminary step in becoming an attentive observer of nature and the world around us. Comprehending textures, including smooth, is a standard of early elementary curricula. This attractive book explores the quality of smooth through achievable sentences and fun photographs of familiar objects perfectly matched to the text. Readers will be motivated to add \"smooth\" to their growing list of adjectives.","English",23.6,17.7,"620.1/1292--dc23","24 pp.","https://www.garethstevens.com/9781538244432",null,{"$f":"Table1[[#This Row],[QTY]]*Table1[[#This Row],['# Books]]","v":0},{"$f":"Table1[[#This Row],[QTY]]*Table1[[#This Row],[S&L Price]]","v":0}]
[null,null,7,"Let's Learn Textures!",1,"What Is Smooth?","eBook",null,"978-1-5382-4444-9",{"$f":"HYPERLINK(Table1[[#This Row],[eCommerce Hyperlink]],\"Book Weblink\")","v":"Book Weblink"},null,"2020","January 2020",null,null,"Author","Emmett Martin",null,null,null,null,"B",null,"Grade K","Grade Pre-K - 1","Understanding textures is a preliminary step in becoming an attentive observer of nature and the world around us. Comprehending textures, including smooth, is a standard of early elementary curricula. This attractive book explores the quality of smooth through achievable sentences and fun photographs of familiar objects perfectly matched to the text. Readers will be motivated to add \"smooth\" to their growing list of adjectives.","English",23.6,17.7,"620.1/1292--dc23","24 pp.","https://www.garethstevens.com/9781538244449",null,{"$f":"Table1[[#This Row],[QTY]]*Table1[[#This Row],['# Books]]","v":0},{"$f":"Table1[[#This Row],[QTY]]*Table1[[#This Row],[S&L Price]]","v":0}]
[null,null,7,"Let's Learn Textures!",1,"What Is Soft?","Library Bound Book",null,"978-1-5382-4447-0",{"$f":"HYPERLINK(Table1[[#This Row],[eCommerce Hyperlink]],\"Book Weblink\")","v":"Book Weblink"},null,"2020","January 2020","Library","7.000 X 7.000","Author","Emmett Martin",null,null,null,null,"B",null,"Grade K","Grade Pre-K - 1","When people think of soft things, they immediately conjure up images of furry bunnies and similarly textured animals and objects. This inviting book helps young readers to do the same, as learning about textures is an important tenet of the early elementary curriculum. Carefully selected photographs of soft objects make the concept of texture clear to the reader as well as aid in vocabulary acquisition.","English",23.6,17.7,"620.1/123--dc23","24 pp.","https://www.garethstevens.com/9781538244470",null,{"$f":"Table1[[#This Row],[QTY]]*Table1[[#This Row],['# Books]]","v":0},{"$f":"Table1[[#This Row],[QTY]]*Table1[[#This Row],[S&L Price]]","v":0}]
[null,null,7,"Let's Learn Textures!",1,"What Is Soft?","eBook",null,"978-1-5382-4448-7",{"$f":"HYPERLINK(Table1[[#This Row],[eCommerce Hyperlink]],\"Book Weblink\")","v":"Book Weblink"},null,"2020","January 2020",null,null,"Author","Emmett Martin",null,null,null,null,"B",null,"Grade K","Grade Pre-K - 1","When people think of soft things, they immediately conjure up images of furry bunnies and similarly textured animals and objects. This inviting book helps young readers to do the same, as learning about textures is an important tenet of the early elementary curriculum. Carefully selected photographs of soft objects make the concept of texture clear to the reader as well as aid in vocabulary acquisition.","English",23.6,17.7,"620.1/123--dc23","24 pp.","https://www.garethstevens.com/9781538244487",null,{"$f":"Table1[[#This Row],[QTY]]*Table1[[#This Row],['# Books]]","v":0},{"$f":"Table1[[#This Row],[QTY]]*Table1[[#This Row],[S&L Price]]","v":0}]
[null,null,7,"Let's Learn Textures!",1,"What Is Wet?","Library Bound Book",null,"978-1-5382-4451-7",{"$f":"HYPERLINK(Table1[[#This Row],[eCommerce Hyperlink]],\"Book Weblink\")","v":"Book Weblink"},null,"2020","January 2020","Library","7.000 X 7.000","Author","Emmett Martin",null,null,null,null,"B",null,"Grade K","Grade Pre-K - 1","Few kids can resist jumping into a big puddle. Getting wet can be fun. Learning to describe objects as wet can be fun, too, as evidenced in the bright, entertaining photographs and simple, engaging text in this motivating book. Readers will love to identify the objects within these pages, selected to appeal to them, and use the objects to comprehend new vocabulary words in corresponding sentences.","English",23.6,17.7,"620.1/1292--dc23","24 pp.","https://www.garethstevens.com/9781538244517",null,{"$f":"Table1[[#This Row],[QTY]]*Table1[[#This Row],['# Books]]","v":0},{"$f":"Table1[[#This Row],[QTY]]*Table1[[#This Row],[S&L Price]]","v":0}]
[null,null,7,"Let's Learn Textures!",1,"What Is Wet?","eBook",null,"978-1-5382-4452-4",{"$f":"HYPERLINK(Table1[[#This Row],[eCommerce Hyperlink]],\"Book Weblink\")","v":"Book Weblink"},null,"2020","January 2020",null,null,"Author","Emmett Martin",null,null,null,null,"B",null,"Grade K","Grade Pre-K - 1","Few kids can resist jumping into a big puddle. Getting wet can be fun. Learning to describe objects as wet can be fun, too, as evidenced in the bright, entertaining photographs and simple, engaging text in this motivating book. Readers will love to identify the objects within these pages, selected to appeal to them, and use the objects to comprehend new vocabulary words in corresponding sentences.","English",23.6,17.7,"620.1/1292--dc23","24 pp.","https://www.garethstevens.com/9781538244524",null,{"$f":"Table1[[#This Row],[QTY]]*Table1[[#This Row],['# Books]]","v":0},{"$f":"Table1[[#This Row],[QTY]]*Table1[[#This Row],[S&L Price]]","v":0}]
[null,null,7,"Our Favorite Shapes",12,"Our Favorite Shapes: Sets 1 – 2","Library Set",null,"978-1-5382-2940-8",{"$f":"HYPERLINK(Table1[[#This Row],[eCommerce Hyperlink]],\"Book Weblink\")","v":"Book Weblink"},null,"2019","January 2019","Library","7.000 X 7.000",null,null,null,null,null,null,null,null,"Grade K","Grade Pre-K - 1","When asked to name shapes, even the youngest learners can name a few of their favorites. This popular collection builds on that knowledge and opens readers' eyes to even more two-dimensional shapes as well as three-dimensional figures such as cubes and pyramids. Vibrant images encourage readers to note the defining attributes of shapes and apply this knowledge to the figures they see in their world. These motivating volumes are a must for every early elementary math library or math class. Features include: A final question in each book aids in evaluating understanding. At-level text guides readers with vocabulary acquisition. Recognizing 2-D and 3-D shapes and their features are standards of Common Core math.","English",283.2,212.4,null,"24 pp.","https://www.garethstevens.com/9781538229408",null,{"$f":"Table1[[#This Row],[QTY]]*Table1[[#This Row],['# Books]]","v":0},{"$f":"Table1[[#This Row],[QTY]]*Table1[[#This Row],[S&L Price]]","v":0}]
[null,null,7,"Our Favorite Shapes",1,"We Love Circles!","Library Bound Book",null,"978-1-5382-0987-5",{"$f":"HYPERLINK(Table1[[#This Row],[eCommerce Hyperlink]],\"Book Weblink\")","v":"Book Weblink"},null,"2018","January 2018","Library","7.000 X 7.000","Author","Beatrice Harris",null,null,null,null,"B","20L","Grade K","Grade Pre-K - 1","Pizzas, cookies, Frisbees, some of the best things in life are circles. In the bright pages of this volume, readers will recognize circles in their everyday life. Achievable text is accompanied by carefully chosen photographs, which aid in acquisition of new vocabulary and practice in fluency. Readers are also asked to identify a circle in a concluding activity, a fun assessment of what they've learned.","English",23.6,17.7,"516'.152--dc23","24 pp.","https://www.garethstevens.com/9781538209875",null,{"$f":"Table1[[#This Row],[QTY]]*Table1[[#This Row],['# Books]]","v":0},{"$f":"Table1[[#This Row],[QTY]]*Table1[[#This Row],[S&L Price]]","v":0}]
[null,null,7,"Our Favorite Shapes",1,"We Love Circles!","eBook",null,"978-1-5382-0988-2",{"$f":"HYPERLINK(Table1[[#This Row],[eCommerce Hyperlink]],\"Book Weblink\")","v":"Book Weblink"},null,"2018","January 2018",null,null,"Author","Beatrice Harris",null,null,null,null,"B","20L","Grade K","Grade Pre-K - 1","Pizzas, cookies, Frisbees, some of the best things in life are circles. In the bright pages of this volume, readers will recognize circles in their everyday life. Achievable text is accompanied by carefully chosen photographs, which aid in acquisition of new vocabulary and practice in fluency. Readers are also asked to identify a circle in a concluding activity, a fun assessment of what they've learned.","English",23.6,17.7,"516'.152--dc23","24 pp.","https://www.garethstevens.com/9781538209882",null,{"$f":"Table1[[#This Row],[QTY]]*Table1[[#This Row],['# Books]]","v":0},{"$f":"Table1[[#This Row],[QTY]]*Table1[[#This Row],[S&L Price]]","v":0}]
[null,null,7,"Our Favorite Shapes",1,"We Love Diamonds!","Library Bound Book",null,"978-1-5382-0991-2",{"$f":"HYPERLINK(Table1[[#This Row],[eCommerce Hyperlink]],\"Book Weblink\")","v":"Book Weblink"},null,"2018","January 2018","Library","7.000 X 7.000","Author","Beatrice Harris",null,null,null,null,"B","40L","Grade K","Grade Pre-K - 1","Diamonds are similar to squares, but they look a bit \"squashed.\" Readers will recognize this special shape in the many bright photographs of this accessible text, which also encourages them to build new vocabulary. They’ll see diamond-shaped kites, cookies, and signs, and learn to spot diamonds in patterns as well. As they develop their knowledge of this elementary geometry concept, they’ll understand how this aspect of math applies to real life.","English",23.6,17.7,"516'.154--dc23","24 pp.","https://www.garethstevens.com/9781538209912",null,{"$f":"Table1[[#This Row],[QTY]]*Table1[[#This Row],['# Books]]","v":0},{"$f":"Table1[[#This Row],[QTY]]*Table1[[#This Row],[S&L Price]]","v":0}]
[null,null,7,"Our Favorite Shapes",1,"We Love Diamonds!","eBook",null,"978-1-5382-0992-9",{"$f":"HYPERLINK(Table1[[#This Row],[eCommerce Hyperlink]],\"Book Weblink\")","v":"Book Weblink"},null,"2018","January 2018",null,null,"Author","Beatrice Harris",null,null,null,null,"B","40L","Grade K","Grade Pre-K - 1","Diamonds are similar to squares, but they look a bit \"squashed.\" Readers will recognize this special shape in the many bright photographs of this accessible text, which also encourages them to build new vocabulary. They’ll see diamond-shaped kites, cookies, and signs, and learn to spot diamonds in patterns as well. As they develop their knowledge of this elementary geometry concept, they’ll understand how this aspect of math applies to real life.","English",23.6,17.7,"516'.154--dc23","24 pp.","https://www.garethstevens.com/9781538209929",null,{"$f":"Table1[[#This Row],[QTY]]*Table1[[#This Row],['# Books]]","v":0},{"$f":"Table1[[#This Row],[QTY]]*Table1[[#This Row],[S&L Price]]","v":0}]
[null,null,7,"Our Favorite Shapes",1,"We Love Ovals!","Library Bound Book",null,"978-1-5382-0995-0",{"$f":"HYPERLINK(Table1[[#This Row],[eCommerce Hyperlink]],\"Book Weblink\")","v":"Book Weblink"},null,"2018","January 2018","Library","7.000 X 7.000","Author","Beatrice Harris",null,null,null,null,"B","20L","Grade K","Grade Pre-K - 1","Ovals aren't the easiest shape for young learners to spot, but this fun book will give them plenty of practice. They'll see ovals in mirrors, eggs, and bathtubs, among other recognizable shapes. Vibrant images are coupled with text that features vocabulary accessible to the beginning reader. A final activity asks readers to identify an oval among other shapes, providing a final assessment opportunity.","English",23.6,17.7,"516'.154--dc23","24 pp.","https://www.garethstevens.com/9781538209950",null,{"$f":"Table1[[#This Row],[QTY]]*Table1[[#This Row],['# Books]]","v":0},{"$f":"Table1[[#This Row],[QTY]]*Table1[[#This Row],[S&L Price]]","v":0}]
[null,null,7,"Our Favorite Shapes",1,"We Love Ovals!","eBook",null,"978-1-5382-0996-7",{"$f":"HYPERLINK(Table1[[#This Row],[eCommerce Hyperlink]],\"Book Weblink\")","v":"Book Weblink"},null,"2018","January 2018",null,null,"Author","Beatrice Harris",null,null,null,null,"B","20L","Grade K","Grade Pre-K - 1","Ovals aren't the easiest shape for young learners to spot, but this fun book will give them plenty of practice. They'll see ovals in mirrors, eggs, and bathtubs, among other recognizable shapes. Vibrant images are coupled with text that features vocabulary accessible to the beginning reader. A final activity asks readers to identify an oval among other shapes, providing a final assessment opportunity.","English",23.6,17.7,"516'.154--dc23","24 pp.","https://www.garethstevens.com/9781538209967",null,{"$f":"Table1[[#This Row],[QTY]]*Table1[[#This Row],['# Books]]","v":0},{"$f":"Table1[[#This Row],[QTY]]*Table1[[#This Row],[S&L Price]]","v":0}]
[null,null,7,"Our Favorite Shapes",1,"We Love Rectangles!","Library Bound Book",null,"978-1-5382-0999-8",{"$f":"HYPERLINK(Table1[[#This Row],[eCommerce Hyperlink]],\"Book Weblink\")","v":"Book Weblink"},null,"2018","January 2018","Library","7.000 X 7.000","Author","Beatrice Harris",null,null,null,null,"B","40L","Grade K","Grade Pre-K - 1","Rectangles are everywhere. Exciting packages arrive at the door in rectangular boxes. Favorite photographs are placed in rectangular frames. In summer, everyone loves to take a dip at the local pool, which is usually a rectangle shape. Beginning readers and budding mathematicians need to know this useful shape as a foundation to geometric concepts. They'll love the objects and carefully selected, colorful photographs in this inviting volume.","English",23.6,17.7,"516'.154--dc23","24 pp.","https://www.garethstevens.com/9781538209998",null,{"$f":"Table1[[#This Row],[QTY]]*Table1[[#This Row],['# Books]]","v":0},{"$f":"Table1[[#This Row],[QTY]]*Table1[[#This Row],[S&L Price]]","v":0}]
[null,null,7,"Our Favorite Shapes",1,"We Love Rectangles!","eBook",null,"978-1-5382-1000-0",{"$f":"HYPERLINK(Table1[[#This Row],[eCommerce Hyperlink]],\"Book Weblink\")","v":"Book Weblink"},null,"2018","January 2018",null,null,"Author","Beatrice Harris",null,null,null,null,"B","40L","Grade K","Grade Pre-K - 1","Rectangles are everywhere. Exciting packages arrive at the door in rectangular boxes. Favorite photographs are placed in rectangular frames. In summer, everyone loves to take a dip at the local pool, which is usually a rectangle shape. Beginning readers and budding mathematicians need to know this useful shape as a foundation to geometric concepts. They'll love the objects and carefully selected, colorful photographs in this inviting volume.","English",23.6,17.7,"516'.154--dc23","24 pp.","https://www.garethstevens.com/9781538210000",null,{"$f":"Table1[[#This Row],[QTY]]*Table1[[#This Row],['# Books]]","v":0},{"$f":"Table1[[#This Row],[QTY]]*Table1[[#This Row],[S&L Price]]","v":0}]
[null,null,7,"Our Favorite Shapes",1,"We Love Squares!","Library Bound Book",null,"978-1-5382-1003-1",{"$f":"HYPERLINK(Table1[[#This Row],[eCommerce Hyperlink]],\"Book Weblink\")","v":"Book Weblink"},null,"2018","January 2018","Library","7.000 X 7.000","Author","Beatrice Harris",null,null,null,null,"B","0L","Grade K","Grade Pre-K - 1","Young readers will agree, square crackers are a tasty snack. A throw pillow, a pretty gift, a picture frame, and a piece of chocolate help readers identify fun things with squares. A plate, a clock, a table top, and tile pieces further display squares in our world. Readers are asked to identify the square from other familiar shapes on the last page.","English",23.6,17.7,"516'.154--dc23","24 pp.","https://www.garethstevens.com/9781538210031",null,{"$f":"Table1[[#This Row],[QTY]]*Table1[[#This Row],['# Books]]","v":0},{"$f":"Table1[[#This Row],[QTY]]*Table1[[#This Row],[S&L Price]]","v":0}]
[null,null,7,"Our Favorite Shapes",1,"We Love Squares!","eBook",null,"978-1-5382-1004-8",{"$f":"HYPERLINK(Table1[[#This Row],[eCommerce Hyperlink]],\"Book Weblink\")","v":"Book Weblink"},null,"2018","January 2018",null,null,"Author","Beatrice Harris",null,null,null,null,"B","0L","Grade K","Grade Pre-K - 1","Young readers will agree, square crackers are a tasty snack. A throw pillow, a pretty gift, a picture frame, and a piece of chocolate help readers identify fun things with squares. A plate, a clock, a table top, and tile pieces further display squares in our world. Readers are asked to identify the square from other familiar shapes on the last page.","English",23.6,17.7,"516'.154--dc23","24 pp.","https://www.garethstevens.com/9781538210048",null,{"$f":"Table1[[#This Row],[QTY]]*Table1[[#This Row],['# Books]]","v":0},{"$f":"Table1[[#This Row],[QTY]]*Table1[[#This Row],[S&L Price]]","v":0}]
[null,null,7,"Our Favorite Shapes",1,"We Love Triangles!","Library Bound Book",null,"978-1-5382-1007-9",{"$f":"HYPERLINK(Table1[[#This Row],[eCommerce Hyperlink]],\"Book Weblink\")","v":"Book Weblink"},null,"2018","January 2018","Library","7.000 X 7.000","Author","Beatrice Harris",null,null,null,null,"B","60L","Grade K","Grade Pre-K - 1","There are all sorts of triangles hidden in our world. This book will guide readers into seeing this shape in commonplace objects as well as help them distinguish triangles from other geometric figures. These simple exercises will encourage young mathematicians to practice identifying shapes in their own lives, reinforcing an important standard of elementary mathematics curricula.","English",23.6,17.7,"516'.154--dc23","24 pp.","https://www.garethstevens.com/9781538210079",null,{"$f":"Table1[[#This Row],[QTY]]*Table1[[#This Row],['# Books]]","v":0},{"$f":"Table1[[#This Row],[QTY]]*Table1[[#This Row],[S&L Price]]","v":0}]
[null,null,7,"Our Favorite Shapes",1,"We Love Triangles!","eBook",null,"978-1-5382-1008-6",{"$f":"HYPERLINK(Table1[[#This Row],[eCommerce Hyperlink]],\"Book Weblink\")","v":"Book Weblink"},null,"2018","January 2018",null,null,"Author","Beatrice Harris",null,null,null,null,"B","60L","Grade K","Grade Pre-K - 1","There are all sorts of triangles hidden in our world. This book will guide readers into seeing this shape in commonplace objects as well as help them distinguish triangles from other geometric figures. These simple exercises will encourage young mathematicians to practice identifying shapes in their own lives, reinforcing an important standard of elementary mathematics curricula.","English",23.6,17.7,"516'.154--dc23","24 pp.","https://www.garethstevens.com/9781538210086",null,{"$f":"Table1[[#This Row],[QTY]]*Table1[[#This Row],['# Books]]","v":0},{"$f":"Table1[[#This Row],[QTY]]*Table1[[#This Row],[S&L Price]]","v":0}]
[null,null,7,"Our Favorite Shapes",1,"We Love Cones!","Library Bound Book",null,"978-1-5382-2867-8",{"$f":"HYPERLINK(Table1[[#This Row],[eCommerce Hyperlink]],\"Book Weblink\")","v":"Book Weblink"},null,"2019","January 2019","Library","7.000 X 7.000","Author","Beatrice Harris",null,null,null,null,"B",null,"Grade K","Grade Pre-K - 1","Cones are a familiar figure to everyone, especially fans of ice cream cones! Cones are also a three-dimensional geometric shape with characteristics that readers will learn about through this helpful book's straightforward text and the beautiful photographs that accompany it. Along with learning about the attributes of cones, young mathematicians will acquire new vocabulary terms and hone their reading comprehension skills, a combination that addresses both Common Core math and language arts standards.","English",23.6,17.7,"516/.156--dc23","24 pp.","https://www.garethstevens.com/9781538228678",null,{"$f":"Table1[[#This Row],[QTY]]*Table1[[#This Row],['# Books]]","v":0},{"$f":"Table1[[#This Row],[QTY]]*Table1[[#This Row],[S&L Price]]","v":0}]
[null,null,7,"Our Favorite Shapes",1,"We Love Cones!","eBook",null,"978-1-5382-2965-1",{"$f":"HYPERLINK(Table1[[#This Row],[eCommerce Hyperlink]],\"Book Weblink\")","v":"Book Weblink"},null,"2019","January 2019",null,null,"Author","Beatrice Harris",null,null,null,null,"B",null,"Grade K","Grade Pre-K - 1","Cones are a familiar figure to everyone, especially fans of ice cream cones! Cones are also a three-dimensional geometric shape with characteristics that readers will learn about through this helpful book's straightforward text and the beautiful photographs that accompany it. Along with learning about the attributes of cones, young mathematicians will acquire new vocabulary terms and hone their reading comprehension skills, a combination that addresses both Common Core math and language arts standards.","English",23.6,17.7,"516/.156--dc23","24 pp.","https://www.garethstevens.com/9781538229651",null,{"$f":"Table1[[#This Row],[QTY]]*Table1[[#This Row],['# Books]]","v":0},{"$f":"Table1[[#This Row],[QTY]]*Table1[[#This Row],[S&L Price]]","v":0}]
[null,null,7,"Our Favorite Shapes",1,"We Love Cubes!","Library Bound Book",null,"978-1-5382-2868-5",{"$f":"HYPERLINK(Table1[[#This Row],[eCommerce Hyperlink]],\"Book Weblink\")","v":"Book Weblink"},null,"2019","January 2019","Library","7.000 X 7.000","Author","Beatrice Harris",null,null,null,null,"B",null,"Grade K","Grade Pre-K - 1","Who knew that playing with blocks could be a study in geometry? The square blocks that young architects stack are actually the geometric 3-D figures called cubes. In this brightly designed book, readers will learn about cubes through vivid photographs of recognizable cube-like objects, including ice and cheese. Through the accessible text, they'll come to understand the characteristics of cubes, an important elementary math concept, and apply and reinforce that knowledge in their daily lives.","English",23.6,17.7,"516/.156--dc23","24 pp.","https://www.garethstevens.com/9781538228685",null,{"$f":"Table1[[#This Row],[QTY]]*Table1[[#This Row],['# Books]]","v":0},{"$f":"Table1[[#This Row],[QTY]]*Table1[[#This Row],[S&L Price]]","v":0}]
[null,null,7,"Our Favorite Shapes",1,"We Love Cubes!","eBook",null,"978-1-5382-2966-8",{"$f":"HYPERLINK(Table1[[#This Row],[eCommerce Hyperlink]],\"Book Weblink\")","v":"Book Weblink"},null,"2019","January 2019",null,null,"Author","Beatrice Harris",null,null,null,null,"B",null,"Grade K","Grade Pre-K - 1","Who knew that playing with blocks could be a study in geometry? The square blocks that young architects stack are actually the geometric 3-D figures called cubes. In this brightly designed book, readers will learn about cubes through vivid photographs of recognizable cube-like objects, including ice and cheese. Through the accessible text, they'll come to understand the characteristics of cubes, an important elementary math concept, and apply and reinforce that knowledge in their daily lives.","English",23.6,17.7,"516/.156--dc23","24 pp.","https://www.garethstevens.com/9781538229668",null,{"$f":"Table1[[#This Row],[QTY]]*Table1[[#This Row],['# Books]]","v":0},{"$f":"Table1[[#This Row],[QTY]]*Table1[[#This Row],[S&L Price]]","v":0}]
[null,null,7,"Our Favorite Shapes",1,"We Love Cylinders!","Library Bound Book",null,"978-1-5382-2869-2",{"$f":"HYPERLINK(Table1[[#This Row],[eCommerce Hyperlink]],\"Book Weblink\")","v":"Book Weblink"},null,"2019","January 2019","Library","7.000 X 7.000","Author","Beatrice Harris",null,null,null,null,"B",null,"Grade K","Grade Pre-K - 1","The term \"cylinder\" might sound a bit complex, but readers of this inviting volume will come to understand that cylinders are a 3-D shape that is incredibly useful in the real world. They'll recognize cans and pipes as cylinders and even that some delicious desserts are cylindrical, such as cakes. They'll acquire valuable vocabulary as well as understanding about an important geometry concept that is noted in the Common Core math standards.","English",23.6,17.7,"516/.154--dc23","24 pp.","https://www.garethstevens.com/9781538228692",null,{"$f":"Table1[[#This Row],[QTY]]*Table1[[#This Row],['# Books]]","v":0},{"$f":"Table1[[#This Row],[QTY]]*Table1[[#This Row],[S&L Price]]","v":0}]
[null,null,7,"Our Favorite Shapes",1,"We Love Cylinders!","eBook",null,"978-1-5382-2967-5",{"$f":"HYPERLINK(Table1[[#This Row],[eCommerce Hyperlink]],\"Book Weblink\")","v":"Book Weblink"},null,"2019","January 2019",null,null,"Author","Beatrice Harris",null,null,null,null,"B",null,"Grade K","Grade Pre-K - 1","The term \"cylinder\" might sound a bit complex, but readers of this inviting volume will come to understand that cylinders are a 3-D shape that is incredibly useful in the real world. They'll recognize cans and pipes as cylinders and even that some delicious desserts are cylindrical, such as cakes. They'll acquire valuable vocabulary as well as understanding about an important geometry concept that is noted in the Common Core math standards.","English",23.6,17.7,"516/.154--dc23","24 pp.","https://www.garethstevens.com/9781538229675",null,{"$f":"Table1[[#This Row],[QTY]]*Table1[[#This Row],['# Books]]","v":0},{"$f":"Table1[[#This Row],[QTY]]*Table1[[#This Row],[S&L Price]]","v":0}]
[null,null,7,"Our Favorite Shapes",1,"We Love Prisms!","Library Bound Book",null,"978-1-5382-2870-8",{"$f":"HYPERLINK(Table1[[#This Row],[eCommerce Hyperlink]],\"Book Weblink\")","v":"Book Weblink"},null,"2019","January 2019","Library","7.000 X 7.000","Author","Trisha James",null,null,null,null,"B",null,"Grade K","Grade Pre-K - 1","Learning to distinguish flat shapes from solid shapes, or 2-D from 3-D, is a key standard in early elementary Common Core math. This vibrant volume takes readers out of the classroom and into the real world to recognize the 3-D figure called the prism in the shapes of familiar objects such as a loaf of bread and a fish tank. Applying their new geometry knowledge to their own experiences helps solidify these math concepts, while the accessible text supports readers in acquiring new vocabulary terms.","English",23.6,17.7,"516/.156--dc23","24 pp.","https://www.garethstevens.com/9781538228708",null,{"$f":"Table1[[#This Row],[QTY]]*Table1[[#This Row],['# Books]]","v":0},{"$f":"Table1[[#This Row],[QTY]]*Table1[[#This Row],[S&L Price]]","v":0}]
[null,null,7,"Our Favorite Shapes",1,"We Love Prisms!","eBook",null,"978-1-5382-2968-2",{"$f":"HYPERLINK(Table1[[#This Row],[eCommerce Hyperlink]],\"Book Weblink\")","v":"Book Weblink"},null,"2019","January 2019",null,null,"Author","Trisha James",null,null,null,null,"B",null,"Grade K","Grade Pre-K - 1","Learning to distinguish flat shapes from solid shapes, or 2-D from 3-D, is a key standard in early elementary Common Core math. This vibrant volume takes readers out of the classroom and into the real world to recognize the 3-D figure called the prism in the shapes of familiar objects such as a loaf of bread and a fish tank. Applying their new geometry knowledge to their own experiences helps solidify these math concepts, while the accessible text supports readers in acquiring new vocabulary terms.","English",23.6,17.7,"516/.156--dc23","24 pp.","https://www.garethstevens.com/9781538229682",null,{"$f":"Table1[[#This Row],[QTY]]*Table1[[#This Row],['# Books]]","v":0},{"$f":"Table1[[#This Row],[QTY]]*Table1[[#This Row],[S&L Price]]","v":0}]
[null,null,7,"Our Favorite Shapes",1,"We Love Pyramids!","Library Bound Book",null,"978-1-5382-2871-5",{"$f":"HYPERLINK(Table1[[#This Row],[eCommerce Hyperlink]],\"Book Weblink\")","v":"Book Weblink"},null,"2019","January 2019","Library","7.000 X 7.000","Author","Trisha James",null,null,null,null,"B",null,"Grade K","Grade Pre-K - 1","Pyramids are world-famous structures in Egypt, but they're also important 3-D solids that are essential for even the youngest mathematician to understand. This beneficial book, a support to the elementary math curriculum, presents pyramids in the form of objects found in the real world. From toys to lamps, readers will recognize the flat base, triangular sides, and pointed apex that indicate a shape is a pyramid. Colorful photographs perfectly correlate with the approachable, at-level text.","English",23.6,17.7,"516/.156--dc23","24 pp.","https://www.garethstevens.com/9781538228715",null,{"$f":"Table1[[#This Row],[QTY]]*Table1[[#This Row],['# Books]]","v":0},{"$f":"Table1[[#This Row],[QTY]]*Table1[[#This Row],[S&L Price]]","v":0}]
[null,null,7,"Our Favorite Shapes",1,"We Love Pyramids!","eBook",null,"978-1-5382-2969-9",{"$f":"HYPERLINK(Table1[[#This Row],[eCommerce Hyperlink]],\"Book Weblink\")","v":"Book Weblink"},null,"2019","January 2019",null,null,"Author","Trisha James",null,null,null,null,"B",null,"Grade K","Grade Pre-K - 1","Pyramids are world-famous structures in Egypt, but they're also important 3-D solids that are essential for even the youngest mathematician to understand. This beneficial book, a support to the elementary math curriculum, presents pyramids in the form of objects found in the real world. From toys to lamps, readers will recognize the flat base, triangular sides, and pointed apex that indicate a shape is a pyramid. Colorful photographs perfectly correlate with the approachable, at-level text.","English",23.6,17.7,"516/.156--dc23","24 pp.","https://www.garethstevens.com/9781538229699",null,{"$f":"Table1[[#This Row],[QTY]]*Table1[[#This Row],['# Books]]","v":0},{"$f":"Table1[[#This Row],[QTY]]*Table1[[#This Row],[S&L Price]]","v":0}]
[null,null,7,"Our Favorite Shapes",1,"We Love Spheres!","Library Bound Book",null,"978-1-5382-2872-2",{"$f":"HYPERLINK(Table1[[#This Row],[eCommerce Hyperlink]],\"Book Weblink\")","v":"Book Weblink"},null,"2019","January 2019","Library","7.000 X 7.000","Author","Trisha James",null,null,null,null,"B",null,"Grade K","Grade Pre-K - 1","As early as kindergarten, young learners should be able to identify shapes as \"flat\" or \"solid,\" according to the Common Core. That includes the difference between a circle and a sphere. In this valuable book, readers will comprehend that spheres, 3-D geometric figures, are familiar objects. In fact, they may see or even play with spherical items every day. Achievable text encourages them to add to their vocabulary, and a concluding activity allows for assessment.","English",23.6,17.7,"516/.156--dc23","24 pp.","https://www.garethstevens.com/9781538228722",null,{"$f":"Table1[[#This Row],[QTY]]*Table1[[#This Row],['# Books]]","v":0},{"$f":"Table1[[#This Row],[QTY]]*Table1[[#This Row],[S&L Price]]","v":0}]
[null,null,7,"Our Favorite Shapes",1,"We Love Spheres!","eBook",null,"978-1-5382-2970-5",{"$f":"HYPERLINK(Table1[[#This Row],[eCommerce Hyperlink]],\"Book Weblink\")","v":"Book Weblink"},null,"2019","January 2019",null,null,"Author","Trisha James",null,null,null,null,"B",null,"Grade K","Grade Pre-K - 1","As early as kindergarten, young learners should be able to identify shapes as \"flat\" or \"solid,\" according to the Common Core. That includes the difference between a circle and a sphere. In this valuable book, readers will comprehend that spheres, 3-D geometric figures, are familiar objects. In fact, they may see or even play with spherical items every day. Achievable text encourages them to add to their vocabulary, and a concluding activity allows for assessment.","English",23.6,17.7,"516/.156--dc23","24 pp.","https://www.garethstevens.com/9781538229705",null,{"$f":"Table1[[#This Row],[QTY]]*Table1[[#This Row],['# Books]]","v":0},{"$f":"Table1[[#This Row],[QTY]]*Table1[[#This Row],[S&L Price]]","v":0}]
[null,null,8,"Animals Close Up",6,"Animals Close Up","Library Set",null,"978-1-5382-8139-0",null,null,"2023","August 2022","Library","7.625 X 7.125",null,null,null,null,null,null,null,null,"Grade K","Grade Pre-K - 2","From pets to pests, animals are often around us. Unless a dog or cat is particularly friendly, it’s rare for young children to see animals close up. This set brings the distinctive features of many familiar animals closer to readers with full-color photographs and simple text perfect for the curious emerging reader. Including interesting facts like how many toes birds have and what cats’ whiskers are used for, the main content complements life science learning and encourages questions about adaptations in animals.","English",141.6,106.2,null,"24 pp.","https://www.garethstevens.com/9781538281390",null,{"$f":"Table1[[#This Row],[QTY]]*Table1[[#This Row],['# Books]]","v":0},{"$f":"Table1[[#This Row],[QTY]]*Table1[[#This Row],[S&L Price]]","v":0}]
[null,null,8,"Animals Close Up",1,"Birds Close Up","Library Bound Book",null,"978-1-5382-8117-8",null,null,"2023","August 2022","Library","7.625 X 7.125","Author","Seth Lynch",null,null,null,null,"C",null,"Grade K","Grade Pre-K - 2","Birds have some toes that face forward—and some that face backward! Interesting tidbits like this fascinate young animal lovers, especially when these facts are about animals that can only be seen from a distance! In this book, bird bodies are introduced to emerging readers from beak to wingtip. Low ATOS text is paired with full-color, close-up photographs, engaging readers with achievable text as well as allowing them to see parts of birds that aren’t normally able to be observed in the wild.","English",23.6,17.7,"598","24 pp.","https://www.garethstevens.com/9781538281178",null,{"$f":"Table1[[#This Row],[QTY]]*Table1[[#This Row],['# Books]]","v":0},{"$f":"Table1[[#This Row],[QTY]]*Table1[[#This Row],[S&L Price]]","v":0}]
[null,null,8,"Animals Close Up",1,"Birds Close Up","eBook",null,"978-1-5382-8118-5",null,null,"2023","August 2022",null,null,"Author","Seth Lynch",null,null,null,null,"C",null,"Grade K","Grade Pre-K - 2","Birds have some toes that face forward—and some that face backward! Interesting tidbits like this fascinate young animal lovers, especially when these facts are about animals that can only be seen from a distance! In this book, bird bodies are introduced to emerging readers from beak to wingtip. Low ATOS text is paired with full-color, close-up photographs, engaging readers with achievable text as well as allowing them to see parts of birds that aren’t normally able to be observed in the wild.","English",23.6,17.7,"598","24 pp.","https://www.garethstevens.com/9781538281185","http://www.epointplus.com/embed/9781538281185/?login=cyberrep&password=cyberrep",{"$f":"Table1[[#This Row],[QTY]]*Table1[[#This Row],['# Books]]","v":0},{"$f":"Table1[[#This Row],[QTY]]*Table1[[#This Row],[S&L Price]]","v":0}]
[null,null,8,"Animals Close Up",1,"Cats Close Up","Library Bound Book",null,"978-1-5382-8121-5",null,null,"2023","August 2022","Library","7.625 X 7.125","Author","Seth Lynch",null,null,null,null,"C",null,"Grade K","Grade Pre-K - 2","From whiskers to tail, cats are beloved family pets! What body features make them special? In this book, readers find out about cats’ bendable bodies, moveable ears, and great nighttime eyesight! These fun facts engage young animal lovers with their favorite feline friends. Low ATOS text correlated with full-color photographs of cats’ cool features close up to aid in emerging readers’ comprehension. A table of contents, words to know section, and index introduce common nonfiction text elements.","English",23.6,17.7,"636.8","24 pp.","https://www.garethstevens.com/9781538281215",null,{"$f":"Table1[[#This Row],[QTY]]*Table1[[#This Row],['# Books]]","v":0},{"$f":"Table1[[#This Row],[QTY]]*Table1[[#This Row],[S&L Price]]","v":0}]
[null,null,8,"Animals Close Up",1,"Cats Close Up","eBook",null,"978-1-5382-8122-2",null,null,"2023","August 2022",null,null,"Author","Seth Lynch",null,null,null,null,"C",null,"Grade K","Grade Pre-K - 2","From whiskers to tail, cats are beloved family pets! What body features make them special? In this book, readers find out about cats’ bendable bodies, moveable ears, and great nighttime eyesight! These fun facts engage young animal lovers with their favorite feline friends. Low ATOS text correlated with full-color photographs of cats’ cool features close up to aid in emerging readers’ comprehension. A table of contents, words to know section, and index introduce common nonfiction text elements.","English",23.6,17.7,"636.8","24 pp.","https://www.garethstevens.com/9781538281222","http://www.epointplus.com/embed/9781538281222/?login=cyberrep&password=cyberrep",{"$f":"Table1[[#This Row],[QTY]]*Table1[[#This Row],['# Books]]","v":0},{"$f":"Table1[[#This Row],[QTY]]*Table1[[#This Row],[S&L Price]]","v":0}]
[null,null,8,"Animals Close Up",1,"Dogs Close Up","Library Bound Book",null,"978-1-5382-8125-3",null,null,"2023","August 2022","Library","7.625 X 7.125","Author","Seth Lynch",null,null,null,null,"C",null,"Grade K","Grade Pre-K - 2","Whether a dog has ears that point up or droop down, they are some of the most popular pets around! What other body features do dogs share? They all have a coat, four legs, and much more that readers learn about in this book! Written especially for emergent readers at a low ATOS level, the main text covers the similarities between different kinds of dogs while also celebrating their different looks. Full-color photographs directly correlate with the text to aid in understanding. It’s time to see dogs close up!","English",23.6,17.7,"636.7","24 pp.","https://www.garethstevens.com/9781538281253",null,{"$f":"Table1[[#This Row],[QTY]]*Table1[[#This Row],['# Books]]","v":0},{"$f":"Table1[[#This Row],[QTY]]*Table1[[#This Row],[S&L Price]]","v":0}]
[null,null,8,"Animals Close Up",1,"Dogs Close Up","eBook",null,"978-1-5382-8126-0",null,null,"2023","August 2022",null,null,"Author","Seth Lynch",null,null,null,null,"C",null,"Grade K","Grade Pre-K - 2","Whether a dog has ears that point up or droop down, they are some of the most popular pets around! What other body features do dogs share? They all have a coat, four legs, and much more that readers learn about in this book! Written especially for emergent readers at a low ATOS level, the main text covers the similarities between different kinds of dogs while also celebrating their different looks. Full-color photographs directly correlate with the text to aid in understanding. It’s time to see dogs close up!","English",23.6,17.7,"636.7","24 pp.","https://www.garethstevens.com/9781538281260","http://www.epointplus.com/embed/9781538281260/?login=cyberrep&password=cyberrep",{"$f":"Table1[[#This Row],[QTY]]*Table1[[#This Row],['# Books]]","v":0},{"$f":"Table1[[#This Row],[QTY]]*Table1[[#This Row],[S&L Price]]","v":0}]
[null,null,8,"Animals Close Up",1,"Fish Close Up","Library Bound Book",null,"978-1-5382-8129-1",null,null,"2023","August 2022","Library","7.625 X 7.125","Author","Seth Lynch",null,null,null,null,"C",null,"Grade K","Grade Pre-K - 2","There are thousands of kinds of fish. From bass and yellowtail in the Great Lakes to the many sharks of Earth’s oceans, they all seem like very different animals. But, all fish live in water, breathe with gills, and have fins to help them swim! In this book, emergent readers find low ATOS text describing what makes a fish, a fish. Full-color photographs show body features close up that readers might not ever see otherwise. Close text and photograph correlation aid in comprehension.","English",23.6,17.7,"597","24 pp.","https://www.garethstevens.com/9781538281291",null,{"$f":"Table1[[#This Row],[QTY]]*Table1[[#This Row],['# Books]]","v":0},{"$f":"Table1[[#This Row],[QTY]]*Table1[[#This Row],[S&L Price]]","v":0}]
[null,null,8,"Animals Close Up",1,"Fish Close Up","eBook",null,"978-1-5382-8130-7",null,null,"2023","August 2022",null,null,"Author","Seth Lynch",null,null,null,null,"C",null,"Grade K","Grade Pre-K - 2","There are thousands of kinds of fish. From bass and yellowtail in the Great Lakes to the many sharks of Earth’s oceans, they all seem like very different animals. But, all fish live in water, breathe with gills, and have fins to help them swim! In this book, emergent readers find low ATOS text describing what makes a fish, a fish. Full-color photographs show body features close up that readers might not ever see otherwise. Close text and photograph correlation aid in comprehension.","English",23.6,17.7,"597","24 pp.","https://www.garethstevens.com/9781538281307","http://www.epointplus.com/embed/9781538281307/?login=cyberrep&password=cyberrep",{"$f":"Table1[[#This Row],[QTY]]*Table1[[#This Row],['# Books]]","v":0},{"$f":"Table1[[#This Row],[QTY]]*Table1[[#This Row],[S&L Price]]","v":0}]
[null,null,8,"Animals Close Up",1,"Hamsters Close Up","Library Bound Book",null,"978-1-5382-8133-8",null,null,"2023","August 2022","Library","7.625 X 7.125","Author","Seth Lynch",null,null,null,null,"C",null,"Grade K","Grade Pre-K - 2","Hamsters are a small, cute animal that many people keep as a pet. They have a silky fur, short legs, and a chubby body that’s adorable! What body traits do hamsters share that distinguish them from other rodents? That’s exactly what readers learn in this book especially for emerging readers. Low ATOS text is paired with closely correlated, full-color photographs of hamster body parts so readers can see their wide feet and tiny eyes for themselves. Let’s see hamsters close up!","English",23.6,17.7,"599.35","24 pp.","https://www.garethstevens.com/9781538281338",null,{"$f":"Table1[[#This Row],[QTY]]*Table1[[#This Row],['# Books]]","v":0},{"$f":"Table1[[#This Row],[QTY]]*Table1[[#This Row],[S&L Price]]","v":0}]
[null,null,8,"Animals Close Up",1,"Hamsters Close Up","eBook",null,"978-1-5382-8134-5",null,null,"2023","August 2022",null,null,"Author","Seth Lynch",null,null,null,null,"C",null,"Grade K","Grade Pre-K - 2","Hamsters are a small, cute animal that many people keep as a pet. They have a silky fur, short legs, and a chubby body that’s adorable! What body traits do hamsters share that distinguish them from other rodents? That’s exactly what readers learn in this book especially for emerging readers. Low ATOS text is paired with closely correlated, full-color photographs of hamster body parts so readers can see their wide feet and tiny eyes for themselves. Let’s see hamsters close up!","English",23.6,17.7,"599.35","24 pp.","https://www.garethstevens.com/9781538281345","http://www.epointplus.com/embed/9781538281345/?login=cyberrep&password=cyberrep",{"$f":"Table1[[#This Row],[QTY]]*Table1[[#This Row],['# Books]]","v":0},{"$f":"Table1[[#This Row],[QTY]]*Table1[[#This Row],[S&L Price]]","v":0}]
[null,null,8,"Animals Close Up",1,"Turtles Close Up","Library Bound Book",null,"978-1-5382-8137-6",null,null,"2023","August 2022","Library","7.625 X 7.125","Author","Seth Lynch",null,null,null,null,"C",null,"Grade K","Grade Pre-K - 2","Turtles are so cool! From the largest—the leatherback sea turtle—to the small bog turtle, many people like to see turtles in the wild and even keep them as pets. What makes a turtle, a turtle—and not a tortoise? Their shell and habitat are part of it as emerging readers learn in this awesome volume. Full-color photographs of turtle body features close up complement the low ATOS text and aid in readers’ comprehension of the subject matter.","English",23.6,17.7,"597.92","24 pp.","https://www.garethstevens.com/9781538281376",null,{"$f":"Table1[[#This Row],[QTY]]*Table1[[#This Row],['# Books]]","v":0},{"$f":"Table1[[#This Row],[QTY]]*Table1[[#This Row],[S&L Price]]","v":0}]
[null,null,8,"Animals Close Up",1,"Turtles Close Up","eBook",null,"978-1-5382-8138-3",null,null,"2023","August 2022",null,null,"Author","Seth Lynch",null,null,null,null,"C",null,"Grade K","Grade Pre-K - 2","Turtles are so cool! From the largest—the leatherback sea turtle—to the small bog turtle, many people like to see turtles in the wild and even keep them as pets. What makes a turtle, a turtle—and not a tortoise? Their shell and habitat are part of it as emerging readers learn in this awesome volume. Full-color photographs of turtle body features close up complement the low ATOS text and aid in readers’ comprehension of the subject matter.","English",23.6,17.7,"597.92","24 pp.","https://www.garethstevens.com/9781538281383","http://www.epointplus.com/embed/9781538281383/?login=cyberrep&password=cyberrep",{"$f":"Table1[[#This Row],[QTY]]*Table1[[#This Row],['# Books]]","v":0},{"$f":"Table1[[#This Row],[QTY]]*Table1[[#This Row],[S&L Price]]","v":0}]
[null,null,9,"Beautiful Birds",6,"Beautiful Birds","Library Set",null,"978-1-5382-8140-6",null,null,"2023","August 2022","Library","7.625 X 7.125",null,null,null,null,null,null,null,null,"Grade K","Grade Pre-K - 2","Stepping outside on a warm spring day, one is sure to hear the birds tweeting, chirping, and squawking! Young children often like to go looking up in trees and in bushes to find the source of these lovely spring sounds. This set introduces readers to some beautiful birds they might see at their backyard bird feeder, the park, or the zoo. From the ostentatious peacock to the abundant robin, these birds are sure to spark excitement in budding bird watchers. Full-color photographs accompany text about how each bird looks, eats, and nests.","English",141.6,106.2,null,"24 pp.","https://www.garethstevens.com/9781538281406",null,{"$f":"Table1[[#This Row],[QTY]]*Table1[[#This Row],['# Books]]","v":0},{"$f":"Table1[[#This Row],[QTY]]*Table1[[#This Row],[S&L Price]]","v":0}]
[null,null,9,"Beautiful Birds",1,"Blue Jays","Library Bound Book",null,"978-1-5382-7513-9",null,null,"2023","August 2022","Library","7.625 X 7.125","Author","Kristen Rajczak Nelson",null,null,null,null,"C",null,"Grade K","Grade Pre-K - 2","Blue jays can be noisy birds! They have several calls, including one that sounds like a bell and some that imitate hawks! But, their incredible blue-and-gray coloring is always a joy to spot in a forest, at the park, or at the backyard bird feeder. Readers find out where blue jays live, how they nest, and all the things they eat—including grasshoppers—in this low ATOS volume. Complemented by full-color, up-close photographs, the main text is perfect for beginning readers—especially budding bird enthusiasts.","English",23.6,17.7,"598.8","24 pp.","https://www.garethstevens.com/9781538275139",null,{"$f":"Table1[[#This Row],[QTY]]*Table1[[#This Row],['# Books]]","v":0},{"$f":"Table1[[#This Row],[QTY]]*Table1[[#This Row],[S&L Price]]","v":0}]
[null,null,9,"Beautiful Birds",1,"Blue Jays","eBook",null,"978-1-5382-7514-6",null,null,"2023","August 2022",null,null,"Author","Kristen Rajczak Nelson",null,null,null,null,"C",null,"Grade K","Grade Pre-K - 2","Blue jays can be noisy birds! They have several calls, including one that sounds like a bell and some that imitate hawks! But, their incredible blue-and-gray coloring is always a joy to spot in a forest, at the park, or at the backyard bird feeder. Readers find out where blue jays live, how they nest, and all the things they eat—including grasshoppers—in this low ATOS volume. Complemented by full-color, up-close photographs, the main text is perfect for beginning readers—especially budding bird enthusiasts.","English",23.6,17.7,"598.8","24 pp.","https://www.garethstevens.com/9781538275146","http://www.epointplus.com/embed/9781538275146/?login=cyberrep&password=cyberrep",{"$f":"Table1[[#This Row],[QTY]]*Table1[[#This Row],['# Books]]","v":0},{"$f":"Table1[[#This Row],[QTY]]*Table1[[#This Row],[S&L Price]]","v":0}]
[null,null,9,"Beautiful Birds",1,"Hummingbirds","Library Bound Book",null,"978-1-5382-7517-7",null,null,"2023","August 2022","Library","7.625 X 7.125","Author","Kristen Rajczak Nelson",null,null,null,null,"C",null,"Grade K","Grade Pre-K - 2","What’s more exciting than spotting a flitting humming bird on a flowering bush? Readers won’t be able to stop trying to find one after reading this engaging book! Some of the smallest birds on Earth, hummingbirds use a long tongue in a long, thin bill to drink up nectar in flowers. They’re known for flying up, down, and even upside down! Low ATOS text pairs with full-color photographs to introduce readers to one of the prettiest, most interesting types of bird.","English",23.6,17.7,"598.7","24 pp.","https://www.garethstevens.com/9781538275177",null,{"$f":"Table1[[#This Row],[QTY]]*Table1[[#This Row],['# Books]]","v":0},{"$f":"Table1[[#This Row],[QTY]]*Table1[[#This Row],[S&L Price]]","v":0}]
[null,null,9,"Beautiful Birds",1,"Hummingbirds","eBook",null,"978-1-5382-7518-4",null,null,"2023","August 2022",null,null,"Author","Kristen Rajczak Nelson",null,null,null,null,"C",null,"Grade K","Grade Pre-K - 2","What’s more exciting than spotting a flitting humming bird on a flowering bush? Readers won’t be able to stop trying to find one after reading this engaging book! Some of the smallest birds on Earth, hummingbirds use a long tongue in a long, thin bill to drink up nectar in flowers. They’re known for flying up, down, and even upside down! Low ATOS text pairs with full-color photographs to introduce readers to one of the prettiest, most interesting types of bird.","English",23.6,17.7,"598.7","24 pp.","https://www.garethstevens.com/9781538275184","http://www.epointplus.com/embed/9781538275184/?login=cyberrep&password=cyberrep",{"$f":"Table1[[#This Row],[QTY]]*Table1[[#This Row],['# Books]]","v":0},{"$f":"Table1[[#This Row],[QTY]]*Table1[[#This Row],[S&L Price]]","v":0}]
[null,null,9,"Beautiful Birds",1,"Parrots","Library Bound Book",null,"978-1-5382-7521-4",null,null,"2023","August 2022","Library","7.625 X 7.125","Author","Kristen Rajczak Nelson",null,null,null,null,"C",null,"Grade K","Grade Pre-K - 2","There are more than 300 kinds of parrots, and they’re found in warm places like rain forests all over the world. These colorful, noisy birds are some of the most recognizable on Earth. Beginning readers will love learning more about them in low ATOS text and accompanying full-color photographs that show the many sizes and colors of parrots. A helpful “Words to Know” section introduces body parts and the rain forest habitat and a simple table of contents and index show readers textual elements of nonfiction books.","English",23.6,17.7,"598.7","24 pp.","https://www.garethstevens.com/9781538275214",null,{"$f":"Table1[[#This Row],[QTY]]*Table1[[#This Row],['# Books]]","v":0},{"$f":"Table1[[#This Row],[QTY]]*Table1[[#This Row],[S&L Price]]","v":0}]
[null,null,9,"Beautiful Birds",1,"Parrots","eBook",null,"978-1-5382-7522-1",null,null,"2023","August 2022",null,null,"Author","Kristen Rajczak Nelson",null,null,null,null,"C",null,"Grade K","Grade Pre-K - 2","There are more than 300 kinds of parrots, and they’re found in warm places like rain forests all over the world. These colorful, noisy birds are some of the most recognizable on Earth. Beginning readers will love learning more about them in low ATOS text and accompanying full-color photographs that show the many sizes and colors of parrots. A helpful “Words to Know” section introduces body parts and the rain forest habitat and a simple table of contents and index show readers textual elements of nonfiction books.","English",23.6,17.7,"598.7","24 pp.","https://www.garethstevens.com/9781538275221","http://www.epointplus.com/embed/9781538275221/?login=cyberrep&password=cyberrep",{"$f":"Table1[[#This Row],[QTY]]*Table1[[#This Row],['# Books]]","v":0},{"$f":"Table1[[#This Row],[QTY]]*Table1[[#This Row],[S&L Price]]","v":0}]
[null,null,9,"Beautiful Birds",1,"Peacocks","Library Bound Book",null,"978-1-5382-7525-2",null,null,"2023","August 2022","Library","7.625 X 7.125","Author","Kristen Rajczak Nelson",null,null,null,null,"C",null,"Grade K","Grade Pre-K - 2","There’s almost nothing more recognizable in the bird world than a male peacock’s ostentatious tail, or train. When the blue and green feathers are lifted, fanned out, and shaken, their used to draw in mates. Beginning readers will be in awe of the peacocks gorgeous feathers in this volume introducing the bird. From what they eat to their habitat, the information in the low ATOS text engages budding bird lovers and curious kids alike. Full-color photographs complement the text, aiding readers’ understanding.","English",23.6,17.7,"598.6","24 pp.","https://www.garethstevens.com/9781538275252",null,{"$f":"Table1[[#This Row],[QTY]]*Table1[[#This Row],['# Books]]","v":0},{"$f":"Table1[[#This Row],[QTY]]*Table1[[#This Row],[S&L Price]]","v":0}]
[null,null,9,"Beautiful Birds",1,"Peacocks","eBook",null,"978-1-5382-7526-9",null,null,"2023","August 2022",null,null,"Author","Kristen Rajczak Nelson",null,null,null,null,"C",null,"Grade K","Grade Pre-K - 2","There’s almost nothing more recognizable in the bird world than a male peacock’s ostentatious tail, or train. When the blue and green feathers are lifted, fanned out, and shaken, their used to draw in mates. Beginning readers will be in awe of the peacocks gorgeous feathers in this volume introducing the bird. From what they eat to their habitat, the information in the low ATOS text engages budding bird lovers and curious kids alike. Full-color photographs complement the text, aiding readers’ understanding.","English",23.6,17.7,"598.6","24 pp.","https://www.garethstevens.com/9781538275269","http://www.epointplus.com/embed/9781538275269/?login=cyberrep&password=cyberrep",{"$f":"Table1[[#This Row],[QTY]]*Table1[[#This Row],['# Books]]","v":0},{"$f":"Table1[[#This Row],[QTY]]*Table1[[#This Row],[S&L Price]]","v":0}]
[null,null,9,"Beautiful Birds",1,"Robins","Library Bound Book",null,"978-1-5382-7529-0",null,null,"2023","August 2022","Library","7.625 X 7.125","Author","Kristen Rajczak Nelson",null,null,null,null,"C",null,"Grade K","Grade Pre-K - 2","One of the most familiar birds around, the robin is found all over North America. They are often seen picking worms out of lawns, especially after the rain! Known by their signature reddish orange breast, these birds are fun to spot. Readers learn more about how they nest, what they like to eat, and more in the low ATOS text. Beautiful, full-color images bring readers up-close with robins and their babies, just as if they built a nest right outside their window!","English",23.6,17.7,"598.8","24 pp.","https://www.garethstevens.com/9781538275290",null,{"$f":"Table1[[#This Row],[QTY]]*Table1[[#This Row],['# Books]]","v":0},{"$f":"Table1[[#This Row],[QTY]]*Table1[[#This Row],[S&L Price]]","v":0}]
[null,null,9,"Beautiful Birds",1,"Robins","eBook",null,"978-1-5382-7530-6",null,null,"2023","August 2022",null,null,"Author","Kristen Rajczak Nelson",null,null,null,null,"C",null,"Grade K","Grade Pre-K - 2","One of the most familiar birds around, the robin is found all over North America. They are often seen picking worms out of lawns, especially after the rain! Known by their signature reddish orange breast, these birds are fun to spot. Readers learn more about how they nest, what they like to eat, and more in the low ATOS text. Beautiful, full-color images bring readers up-close with robins and their babies, just as if they built a nest right outside their window!","English",23.6,17.7,"598.8","24 pp.","https://www.garethstevens.com/9781538275306","http://www.epointplus.com/embed/9781538275306/?login=cyberrep&password=cyberrep",{"$f":"Table1[[#This Row],[QTY]]*Table1[[#This Row],['# Books]]","v":0},{"$f":"Table1[[#This Row],[QTY]]*Table1[[#This Row],[S&L Price]]","v":0}]
[null,null,9,"Beautiful Birds",1,"Woodpeckers","Library Bound Book",null,"978-1-5382-7533-7",null,null,"2023","August 2022","Library","7.625 X 7.125","Author","Kristen Rajczak Nelson",null,null,null,null,"C",null,"Grade K","Grade Pre-K - 2","In many places in the United States, the characteristic drumming woodpeckers rings out come springtime. These familiar birds often elicit curious question from kids wondering who’s make all that racket. In this book, beginning readers find out more about woodpeckers, including their habitat, what they eat, and why they peck! Beautiful, full-color images bring the many kinds of woodpeckers closer to readers than they could likely get in the wild. Photographs closely correlate with low ATOS text to aid in comprehension.","English",23.6,17.7,"598.7","24 pp.","https://www.garethstevens.com/9781538275337",null,{"$f":"Table1[[#This Row],[QTY]]*Table1[[#This Row],['# Books]]","v":0},{"$f":"Table1[[#This Row],[QTY]]*Table1[[#This Row],[S&L Price]]","v":0}]
[null,null,9,"Beautiful Birds",1,"Woodpeckers","eBook",null,"978-1-5382-7534-4",null,null,"2023","August 2022",null,null,"Author","Kristen Rajczak Nelson",null,null,null,null,"C",null,"Grade K","Grade Pre-K - 2","In many places in the United States, the characteristic drumming woodpeckers rings out come springtime. These familiar birds often elicit curious question from kids wondering who’s make all that racket. In this book, beginning readers find out more about woodpeckers, including their habitat, what they eat, and why they peck! Beautiful, full-color images bring the many kinds of woodpeckers closer to readers than they could likely get in the wild. Photographs closely correlate with low ATOS text to aid in comprehension.","English",23.6,17.7,"598.7","24 pp.","https://www.garethstevens.com/9781538275344","http://www.epointplus.com/embed/9781538275344/?login=cyberrep&password=cyberrep",{"$f":"Table1[[#This Row],[QTY]]*Table1[[#This Row],['# Books]]","v":0},{"$f":"Table1[[#This Row],[QTY]]*Table1[[#This Row],[S&L Price]]","v":0}]
[null,9,10,"Busy Bugs",6,"Busy Bugs","Library Set",null,"978-1-5382-6657-1",{"$f":"HYPERLINK(Table1[[#This Row],[eCommerce Hyperlink]],\"Book Weblink\")","v":"Book Weblink"},null,"2022","August 2021","Library","7.625 X 7.125",null,null,null,null,null,null,null,null,"Grade K","Grade Pre-K - 2","From ants to spiders, bugs are all around us. They always seem to be on a mission, and they are. They're trying to find food and shelter to survive, even if we don't see everything they do each day. Young readers are invited along with the bugs they know to find out how they stay busy. Food, homes, and bug bodies are discussed in each volume, complemented by colorful, detailed photographs. Whether beetles or butterflies, bugs have a lot to do, and this set makes it fun to learn about. Features include: Encourages observation of the natural world. Close picture-to-text correlation aids young readers. Supports the Next Generation Science Standards for kindergarten by describing patterns of what animals need to survive.","English",141.6,106.2,null,"24 pp.","https://www.garethstevens.com/9781538266571",null,{"$f":"Table1[[#This Row],[QTY]]*Table1[[#This Row],['# Books]]","v":0},{"$f":"Table1[[#This Row],[QTY]]*Table1[[#This Row],[S&L Price]]","v":0}]
[null,9,10,"Busy Bugs",1,"Ants","Library Bound Book",null,"978-1-5382-6319-8",{"$f":"HYPERLINK(Table1[[#This Row],[eCommerce Hyperlink]],\"Book Weblink\")","v":"Book Weblink"},null,"2022","August 2021","Library","7.625 X 7.125","Author","Bray Jacobson",null,null,null,null,"C",null,"Grade K","Grade Pre-K - 2","Ants are known as one of nature's hardest working animals. Their strength and persistence in bringing food to their colonies have been well documented. Now, beginning readers have a chance to learn about some of the littlest bugs in this volume written just for them. Complete with information about what ants eat, how they live, and generally how they stay so busy, this book is a must-have to satisfy the curiosity of your youngest naturalists. Eye-catching and unique photographs complement the low-ATOS text and aid in comprehension.","English",23.6,17.7,"595.79/6--dc23","24 pp.","https://www.garethstevens.com/9781538263198",null,{"$f":"Table1[[#This Row],[QTY]]*Table1[[#This Row],['# Books]]","v":0},{"$f":"Table1[[#This Row],[QTY]]*Table1[[#This Row],[S&L Price]]","v":0}]
[null,9,10,"Busy Bugs",1,"Ants","eBook",null,"978-1-5382-6320-4",{"$f":"HYPERLINK(Table1[[#This Row],[eCommerce Hyperlink]],\"Book Weblink\")","v":"Book Weblink"},null,"2022","August 2021",null,null,"Author","Bray Jacobson",null,null,null,null,"C",null,"Grade K","Grade Pre-K - 2","Ants are known as one of nature's hardest working animals. Their strength and persistence in bringing food to their colonies have been well documented. Now, beginning readers have a chance to learn about some of the littlest bugs in this volume written just for them. Complete with information about what ants eat, how they live, and generally how they stay so busy, this book is a must-have to satisfy the curiosity of your youngest naturalists. Eye-catching and unique photographs complement the low-ATOS text and aid in comprehension.","English",23.6,17.7,"595.79/6--dc23","24 pp.","https://www.garethstevens.com/9781538263204",null,{"$f":"Table1[[#This Row],[QTY]]*Table1[[#This Row],['# Books]]","v":0},{"$f":"Table1[[#This Row],[QTY]]*Table1[[#This Row],[S&L Price]]","v":0}]
[null,9,10,"Busy Bugs",1,"Bees","Library Bound Book",null,"978-1-5382-6323-5",{"$f":"HYPERLINK(Table1[[#This Row],[eCommerce Hyperlink]],\"Book Weblink\")","v":"Book Weblink"},null,"2022","August 2021","Library","7.625 X 7.125","Author","Bray Jacobson",null,null,null,null,"C",null,"Grade K","Grade Pre-K - 2","There are thousands of species of bees, and not all are yellow and black. However, the telltale yellow and black of the honeybee and bumblebee are the best known. Beginning readers explore the world of bees and find out what keeps them busy all day. From flying from flower to flower to making honey, the details in this book are both familiar and new to curious future entomologists. Full-color detailed photographs complement the low-ATOS text, making it the perfect addition to any early elementary library or classroom.","English",23.6,17.7,"595.79/9--dc23","24 pp.","https://www.garethstevens.com/9781538263235",null,{"$f":"Table1[[#This Row],[QTY]]*Table1[[#This Row],['# Books]]","v":0},{"$f":"Table1[[#This Row],[QTY]]*Table1[[#This Row],[S&L Price]]","v":0}]
[null,9,10,"Busy Bugs",1,"Bees","eBook",null,"978-1-5382-6324-2",{"$f":"HYPERLINK(Table1[[#This Row],[eCommerce Hyperlink]],\"Book Weblink\")","v":"Book Weblink"},null,"2022","August 2021",null,null,"Author","Bray Jacobson",null,null,null,null,"C",null,"Grade K","Grade Pre-K - 2","There are thousands of species of bees, and not all are yellow and black. However, the telltale yellow and black of the honeybee and bumblebee are the best known. Beginning readers explore the world of bees and find out what keeps them busy all day. From flying from flower to flower to making honey, the details in this book are both familiar and new to curious future entomologists. Full-color detailed photographs complement the low-ATOS text, making it the perfect addition to any early elementary library or classroom.","English",23.6,17.7,"595.79/9--dc23","24 pp.","https://www.garethstevens.com/9781538263242",null,{"$f":"Table1[[#This Row],[QTY]]*Table1[[#This Row],['# Books]]","v":0},{"$f":"Table1[[#This Row],[QTY]]*Table1[[#This Row],[S&L Price]]","v":0}]
[null,9,10,"Busy Bugs",1,"Beetles","Library Bound Book",null,"978-1-5382-6327-3",{"$f":"HYPERLINK(Table1[[#This Row],[eCommerce Hyperlink]],\"Book Weblink\")","v":"Book Weblink"},null,"2022","August 2021","Library","7.625 X 7.125","Author","Bray Jacobson",null,null,null,null,"C",null,"Grade K","Grade Pre-K - 2","There are so many kinds of beetles. From the odd-looking rhinoceros beetle to the familiar ladybug and the lovely firefly, beetles can be found all over the world in all kinds of environments. Young readers will learn cool details about these interesting bugs, including about their body structure, how they reproduce, and the ways they stay busy. Full-color photographs correlate to the low-ATOS text, allowing beginning readers an even better comprehension of the many facts about beetles. Whether enthusiastic or simply curious about bugs, readers will gain an appreciation of beetles when they're done with this book.","English",23.6,17.7,"595.76","24 pp.","https://www.garethstevens.com/9781538263273",null,{"$f":"Table1[[#This Row],[QTY]]*Table1[[#This Row],['# Books]]","v":0},{"$f":"Table1[[#This Row],[QTY]]*Table1[[#This Row],[S&L Price]]","v":0}]
[null,9,10,"Busy Bugs",1,"Beetles","eBook",null,"978-1-5382-6328-0",{"$f":"HYPERLINK(Table1[[#This Row],[eCommerce Hyperlink]],\"Book Weblink\")","v":"Book Weblink"},null,"2022","August 2021",null,null,"Author","Bray Jacobson",null,null,null,null,"C",null,"Grade K","Grade Pre-K - 2","There are so many kinds of beetles. From the odd-looking rhinoceros beetle to the familiar ladybug and the lovely firefly, beetles can be found all over the world in all kinds of environments. Young readers will learn cool details about these interesting bugs, including about their body structure, how they reproduce, and the ways they stay busy. Full-color photographs correlate to the low-ATOS text, allowing beginning readers an even better comprehension of the many facts about beetles. Whether enthusiastic or simply curious about bugs, readers will gain an appreciation of beetles when they're done with this book.","English",23.6,17.7,"595.76","24 pp.","https://www.garethstevens.com/9781538263280",null,{"$f":"Table1[[#This Row],[QTY]]*Table1[[#This Row],['# Books]]","v":0},{"$f":"Table1[[#This Row],[QTY]]*Table1[[#This Row],[S&L Price]]","v":0}]
[null,9,10,"Busy Bugs",1,"Butterflies","Library Bound Book",null,"978-1-5382-6331-0",{"$f":"HYPERLINK(Table1[[#This Row],[eCommerce Hyperlink]],\"Book Weblink\")","v":"Book Weblink"},null,"2022","August 2021","Library","7.625 X 7.125","Author","Bray Jacobson",null,null,null,null,"C",null,"Grade K","Grade Pre-K - 2","Almost nothing is more naturally magical than seeing a butterfly alight on a flower in your garden before it flutters away. From the lovely orange of the monarch to the blues of the pipevine swallowtail, butterflies are found all over North America and are often one of the bugs young readers are able to identify on sight. Age-appropriate text explains about the butterfly life cycle, their food supply, and their bodies. Beautiful, detailed photographs of butterflies draw in readers and leave them wanting to spot a majestic butterfly in the wild.","English",23.6,17.7,"595.78/9--dc23","24 pp.","https://www.garethstevens.com/9781538263310",null,{"$f":"Table1[[#This Row],[QTY]]*Table1[[#This Row],['# Books]]","v":0},{"$f":"Table1[[#This Row],[QTY]]*Table1[[#This Row],[S&L Price]]","v":0}]
[null,9,10,"Busy Bugs",1,"Butterflies","eBook",null,"978-1-5382-6332-7",{"$f":"HYPERLINK(Table1[[#This Row],[eCommerce Hyperlink]],\"Book Weblink\")","v":"Book Weblink"},null,"2022","August 2021",null,null,"Author","Bray Jacobson",null,null,null,null,"C",null,"Grade K","Grade Pre-K - 2","Almost nothing is more naturally magical than seeing a butterfly alight on a flower in your garden before it flutters away. From the lovely orange of the monarch to the blues of the pipevine swallowtail, butterflies are found all over North America and are often one of the bugs young readers are able to identify on sight. Age-appropriate text explains about the butterfly life cycle, their food supply, and their bodies. Beautiful, detailed photographs of butterflies draw in readers and leave them wanting to spot a majestic butterfly in the wild.","English",23.6,17.7,"595.78/9--dc23","24 pp.","https://www.garethstevens.com/9781538263327",null,{"$f":"Table1[[#This Row],[QTY]]*Table1[[#This Row],['# Books]]","v":0},{"$f":"Table1[[#This Row],[QTY]]*Table1[[#This Row],[S&L Price]]","v":0}]
[null,9,10,"Busy Bugs",1,"Flies","Library Bound Book",null,"978-1-5382-6335-8",{"$f":"HYPERLINK(Table1[[#This Row],[eCommerce Hyperlink]],\"Book Weblink\")","v":"Book Weblink"},null,"2022","August 2021","Library","7.625 X 7.125","Author","Bray Jacobson",null,null,null,null,"C",null,"Grade K","Grade Pre-K - 2","If it's summer and there's trash around, there are bound to be flies. But house flies are only one of many kinds of flies, and they're all fascinating bugs. Beginning readers ascend into the world of the fly in this fun introduction. Fly bodies and behavior are discussed in age-appropriate, low-ATOS text, supported by photographs that closely correlate with the narrative. From what they eat to how they are born, the details will leave readers mesmerized by the common buzzy, busy bugs they'll often see, but don't yet appreciate.","English",23.6,17.7,"595.7/35--dc23","24 pp.","https://www.garethstevens.com/9781538263358",null,{"$f":"Table1[[#This Row],[QTY]]*Table1[[#This Row],['# Books]]","v":0},{"$f":"Table1[[#This Row],[QTY]]*Table1[[#This Row],[S&L Price]]","v":0}]
[null,9,10,"Busy Bugs",1,"Flies","eBook",null,"978-1-5382-6336-5",{"$f":"HYPERLINK(Table1[[#This Row],[eCommerce Hyperlink]],\"Book Weblink\")","v":"Book Weblink"},null,"2022","August 2021",null,null,"Author","Bray Jacobson",null,null,null,null,"C",null,"Grade K","Grade Pre-K - 2","If it's summer and there's trash around, there are bound to be flies. But house flies are only one of many kinds of flies, and they're all fascinating bugs. Beginning readers ascend into the world of the fly in this fun introduction. Fly bodies and behavior are discussed in age-appropriate, low-ATOS text, supported by photographs that closely correlate with the narrative. From what they eat to how they are born, the details will leave readers mesmerized by the common buzzy, busy bugs they'll often see, but don't yet appreciate.","English",23.6,17.7,"595.7/35--dc23","24 pp.","https://www.garethstevens.com/9781538263365",null,{"$f":"Table1[[#This Row],[QTY]]*Table1[[#This Row],['# Books]]","v":0},{"$f":"Table1[[#This Row],[QTY]]*Table1[[#This Row],[S&L Price]]","v":0}]
[null,9,10,"Busy Bugs",1,"Spiders","Library Bound Book",null,"978-1-5382-6339-6",{"$f":"HYPERLINK(Table1[[#This Row],[eCommerce Hyperlink]],\"Book Weblink\")","v":"Book Weblink"},null,"2022","August 2021","Library","7.625 X 7.125","Author","Bray Jacobson",null,null,null,null,"C",null,"Grade K","Grade Pre-K - 2","Spiders have a bad reputation based solely on their appearance, which many find creepy or unnerving. However, these helpful bugs eat many other pests and lead interesting, busy lives. Facts such as how spiders hunt, what their homes are like, and how they grow will fascinate young readers eager to learn more about the many kinds of spiders found around the world. Paired with full-color, detailed photographs of different kinds of spiders and their homes, the low-ATOS text is written especially for emerging readers.","English",23.6,17.7,"595.4/4--dc23","24 pp.","https://www.garethstevens.com/9781538263396",null,{"$f":"Table1[[#This Row],[QTY]]*Table1[[#This Row],['# Books]]","v":0},{"$f":"Table1[[#This Row],[QTY]]*Table1[[#This Row],[S&L Price]]","v":0}]
[null,9,10,"Busy Bugs",1,"Spiders","eBook",null,"978-1-5382-6340-2",{"$f":"HYPERLINK(Table1[[#This Row],[eCommerce Hyperlink]],\"Book Weblink\")","v":"Book Weblink"},null,"2022","August 2021",null,null,"Author","Bray Jacobson",null,null,null,null,"C",null,"Grade K","Grade Pre-K - 2","Spiders have a bad reputation based solely on their appearance, which many find creepy or unnerving. However, these helpful bugs eat many other pests and lead interesting, busy lives. Facts such as how spiders hunt, what their homes are like, and how they grow will fascinate young readers eager to learn more about the many kinds of spiders found around the world. Paired with full-color, detailed photographs of different kinds of spiders and their homes, the low-ATOS text is written especially for emerging readers.","English",23.6,17.7,"595.4/4--dc23","24 pp.","https://www.garethstevens.com/9781538263402",null,{"$f":"Table1[[#This Row],[QTY]]*Table1[[#This Row],['# Books]]","v":0},{"$f":"Table1[[#This Row],[QTY]]*Table1[[#This Row],[S&L Price]]","v":0}]
[null,null,11,"An Animal Family",6,"An Animal Family: Set 1","Library Set",null,"978-1-4824-4281-6",{"$f":"HYPERLINK(Table1[[#This Row],[eCommerce Hyperlink]],\"Book Weblink\")","v":"Book Weblink"},null,"2016","January 2016","Library","7.625 X 7.125",null,null,null,null,null,null,null,null,"Grade K","Grade Pre-K - 2","Young readers love animals—especially baby animals! Watching chicks grow into chickens and foals become horses is an important science lesson, but also a good introduction to how animals make their own families, too! This early reader series uses simple but informative text paired with full-color photographs to show different animals caring for their young. From pigs and piglets on a farm to seals and their pups in the ocean, animals of all shapes and sizes come together to live as a family!\n•ATOS reading level below 1.0\n•High-interest topic will appeal to even reluctant readers\n•Introduction to informational-text features, such as an index and table of contents","English",141.6,106.2,null,"24 pp.","https://www.garethstevens.com/9781482442816",null,{"$f":"Table1[[#This Row],[QTY]]*Table1[[#This Row],['# Books]]","v":0},{"$f":"Table1[[#This Row],[QTY]]*Table1[[#This Row],[S&L Price]]","v":0}]
[null,null,11,"An Animal Family",1,"Chickens and Chicks","Library Bound Book",null,"978-1-4824-3773-7",{"$f":"HYPERLINK(Table1[[#This Row],[eCommerce Hyperlink]],\"Book Weblink\")","v":"Book Weblink"},null,"2016","January 2016","Library","7.625 X 7.125","Author","Emilia Hendrix","0.9","0.5",null,null,"C","230L","Grade K","Grade Pre-K - 2","Chickens can't fly, but they sure know how to raise a family! This exciting book shows how chickens take care of their chicks. From laying eggs to watching them hatch and caring for the newborn chicks, this book takes emerging readers through the life cycle of these interesting animals. Colorful photographs paired with accessible text show how these feathered friends live on farms and how hens take care of their chicks, making sure they grow up to raise a family of their own.","English",23.6,17.7,"636.5--d23","24 pp.","https://www.garethstevens.com/9781482437737",null,{"$f":"Table1[[#This Row],[QTY]]*Table1[[#This Row],['# Books]]","v":0},{"$f":"Table1[[#This Row],[QTY]]*Table1[[#This Row],[S&L Price]]","v":0}]
[null,null,11,"An Animal Family",1,"Chickens and Chicks","eBook",null,"978-1-4824-3774-4",{"$f":"HYPERLINK(Table1[[#This Row],[eCommerce Hyperlink]],\"Book Weblink\")","v":"Book Weblink"},null,"2016","January 2016",null,null,"Author","Emilia Hendrix","0.9","0.5",null,null,"C","230L","Grade K","Grade Pre-K - 2","Chickens can't fly, but they sure know how to raise a family! This exciting book shows how chickens take care of their chicks. From laying eggs to watching them hatch and caring for the newborn chicks, this book takes emerging readers through the life cycle of these interesting animals. Colorful photographs paired with accessible text show how these feathered friends live on farms and how hens take care of their chicks, making sure they grow up to raise a family of their own.","English",23.6,17.7,"636.5--d23","24 pp.","https://www.garethstevens.com/9781482437744",null,{"$f":"Table1[[#This Row],[QTY]]*Table1[[#This Row],['# Books]]","v":0},{"$f":"Table1[[#This Row],[QTY]]*Table1[[#This Row],[S&L Price]]","v":0}]
[null,null,11,"An Animal Family",1,"Horses and Foals","Library Bound Book",null,"978-1-4824-3777-5",{"$f":"HYPERLINK(Table1[[#This Row],[eCommerce Hyperlink]],\"Book Weblink\")","v":"Book Weblink"},null,"2016","January 2016","Library","7.625 X 7.125","Author","Emilia Hendrix","0.9","0.5",null,null,"C","280L","Grade K","Grade Pre-K - 2","Horses are very fast, majestic creatures that love taking care of their babies. Early readers learn all about these amazing animals and how they live their lives. Accessible text paired with bright photographs show horses running, eating, and raising their foals. Readers learn fun facts, like how most foals are born in spring. Later, readers take in the sight of foals and horses living together as a family as the babies learn to stand and take their first steps!","English",23.6,17.7,"636.1--dc23","24 pp.","https://www.garethstevens.com/9781482437775",null,{"$f":"Table1[[#This Row],[QTY]]*Table1[[#This Row],['# Books]]","v":0},{"$f":"Table1[[#This Row],[QTY]]*Table1[[#This Row],[S&L Price]]","v":0}]
[null,null,11,"An Animal Family",1,"Horses and Foals","eBook",null,"978-1-4824-3778-2",{"$f":"HYPERLINK(Table1[[#This Row],[eCommerce Hyperlink]],\"Book Weblink\")","v":"Book Weblink"},null,"2016","January 2016",null,null,"Author","Emilia Hendrix","0.9","0.5",null,null,"C","280L","Grade K","Grade Pre-K - 2","Horses are very fast, majestic creatures that love taking care of their babies. Early readers learn all about these amazing animals and how they live their lives. Accessible text paired with bright photographs show horses running, eating, and raising their foals. Readers learn fun facts, like how most foals are born in spring. Later, readers take in the sight of foals and horses living together as a family as the babies learn to stand and take their first steps!","English",23.6,17.7,"636.1--dc23","24 pp.","https://www.garethstevens.com/9781482437782",null,{"$f":"Table1[[#This Row],[QTY]]*Table1[[#This Row],['# Books]]","v":0},{"$f":"Table1[[#This Row],[QTY]]*Table1[[#This Row],[S&L Price]]","v":0}]
[null,null,11,"An Animal Family",1,"Koalas and Joeys","Library Bound Book",null,"978-1-4824-3781-2",{"$f":"HYPERLINK(Table1[[#This Row],[eCommerce Hyperlink]],\"Book Weblink\")","v":"Book Weblink"},null,"2016","January 2016","Library","7.625 X 7.125","Author","Emilia Hendrix","0.9","0.5",null,null,"C","260L","Grade K","Grade Pre-K - 2","Koalas are furry animals that spend lots of time in trees. These cute creatures have one joey at a time, which means mother and baby spend lots of time together while the joey grows. This exciting book takes a look at the lives of mother koalas and their tiny joeys, from their first moments alive and every step along the way as they grow in the pouch of their caring mothers. Accessible text paired with colorful photographs takes beginning readers on a journey to see where these amazing animals live in the wild.","English",23.6,17.7,"599.2'5--dc23","24 pp.","https://www.garethstevens.com/9781482437812",null,{"$f":"Table1[[#This Row],[QTY]]*Table1[[#This Row],['# Books]]","v":0},{"$f":"Table1[[#This Row],[QTY]]*Table1[[#This Row],[S&L Price]]","v":0}]
[null,null,11,"An Animal Family",1,"Koalas and Joeys","eBook",null,"978-1-4824-3782-9",{"$f":"HYPERLINK(Table1[[#This Row],[eCommerce Hyperlink]],\"Book Weblink\")","v":"Book Weblink"},null,"2016","January 2016",null,null,"Author","Emilia Hendrix","0.9","0.5",null,null,"C","260L","Grade K","Grade Pre-K - 2","Koalas are furry animals that spend lots of time in trees. These cute creatures have one joey at a time, which means mother and baby spend lots of time together while the joey grows. This exciting book takes a look at the lives of mother koalas and their tiny joeys, from their first moments alive and every step along the way as they grow in the pouch of their caring mothers. Accessible text paired with colorful photographs takes beginning readers on a journey to see where these amazing animals live in the wild.","English",23.6,17.7,"599.2'5--dc23","24 pp.","https://www.garethstevens.com/9781482437829",null,{"$f":"Table1[[#This Row],[QTY]]*Table1[[#This Row],['# Books]]","v":0},{"$f":"Table1[[#This Row],[QTY]]*Table1[[#This Row],[S&L Price]]","v":0}]
[null,null,11,"An Animal Family",1,"Pigs and Piglets","Library Bound Book",null,"978-1-4824-3785-0",{"$f":"HYPERLINK(Table1[[#This Row],[eCommerce Hyperlink]],\"Book Weblink\")","v":"Book Weblink"},null,"2016","January 2016","Library","7.625 X 7.125","Author","Emilia Hendrix","0.9","0.5",null,null,"C","260L","Grade K","Grade Pre-K - 2","Cute baby piglets are quite a sight to see, and this book gives beginning readers a look at their everyday lives. These super smart animals have a great sense of smell, and readers learn all about how they use that sense of smell to find food. Through accessible text and vivid photographs, readers see how pigs roll in mud to keep cool and how mother sows take care of their piglets, learning lots about these amazing animals along the way.","English",23.6,17.7,"636.4'07--dc23","24 pp.","https://www.garethstevens.com/9781482437850",null,{"$f":"Table1[[#This Row],[QTY]]*Table1[[#This Row],['# Books]]","v":0},{"$f":"Table1[[#This Row],[QTY]]*Table1[[#This Row],[S&L Price]]","v":0}]
[null,null,11,"An Animal Family",1,"Pigs and Piglets","eBook",null,"978-1-4824-3786-7",{"$f":"HYPERLINK(Table1[[#This Row],[eCommerce Hyperlink]],\"Book Weblink\")","v":"Book Weblink"},null,"2016","January 2016",null,null,"Author","Emilia Hendrix","0.9","0.5",null,null,"C","260L","Grade K","Grade Pre-K - 2","Cute baby piglets are quite a sight to see, and this book gives beginning readers a look at their everyday lives. These super smart animals have a great sense of smell, and readers learn all about how they use that sense of smell to find food. Through accessible text and vivid photographs, readers see how pigs roll in mud to keep cool and how mother sows take care of their piglets, learning lots about these amazing animals along the way.","English",23.6,17.7,"636.4'07--dc23","24 pp.","https://www.garethstevens.com/9781482437867",null,{"$f":"Table1[[#This Row],[QTY]]*Table1[[#This Row],['# Books]]","v":0},{"$f":"Table1[[#This Row],[QTY]]*Table1[[#This Row],[S&L Price]]","v":0}]
[null,null,11,"An Animal Family",1,"Seals and Pups","Library Bound Book",null,"978-1-4824-3789-8",{"$f":"HYPERLINK(Table1[[#This Row],[eCommerce Hyperlink]],\"Book Weblink\")","v":"Book Weblink"},null,"2016","January 2016","Library","7.625 X 7.125","Author","Emilia Hendrix","0.9","0.5",null,null,"C","220L","Grade K","Grade Pre-K - 2","Seals live on both land and sea, and these adorable animals take special care with their pups. Early readers will discover how seals love to eat fish, and how mother seals bring food to their newborn pups. These playful pups live as part of a colony, meaning these animals often have one big happy family to live in! Through simple text paired with amazing photographs, readers will love diving into the world of seals, watching them play and live their lives on the water.","English",23.6,17.7,"599.79--dc23","24 pp.","https://www.garethstevens.com/9781482437898",null,{"$f":"Table1[[#This Row],[QTY]]*Table1[[#This Row],['# Books]]","v":0},{"$f":"Table1[[#This Row],[QTY]]*Table1[[#This Row],[S&L Price]]","v":0}]
[null,null,11,"An Animal Family",1,"Seals and Pups","eBook",null,"978-1-4824-3790-4",{"$f":"HYPERLINK(Table1[[#This Row],[eCommerce Hyperlink]],\"Book Weblink\")","v":"Book Weblink"},null,"2016","January 2016",null,null,"Author","Emilia Hendrix","0.9","0.5",null,null,"C","220L","Grade K","Grade Pre-K - 2","Seals live on both land and sea, and these adorable animals take special care with their pups. Early readers will discover how seals love to eat fish, and how mother seals bring food to their newborn pups. These playful pups live as part of a colony, meaning these animals often have one big happy family to live in! Through simple text paired with amazing photographs, readers will love diving into the world of seals, watching them play and live their lives on the water.","English",23.6,17.7,"599.79--dc23","24 pp.","https://www.garethstevens.com/9781482437904",null,{"$f":"Table1[[#This Row],[QTY]]*Table1[[#This Row],['# Books]]","v":0},{"$f":"Table1[[#This Row],[QTY]]*Table1[[#This Row],[S&L Price]]","v":0}]
[null,null,11,"An Animal Family",1,"Tigers and Cubs","Library Bound Book",null,"978-1-4824-3793-5",{"$f":"HYPERLINK(Table1[[#This Row],[eCommerce Hyperlink]],\"Book Weblink\")","v":"Book Weblink"},null,"2016","January 2016","Library","7.625 X 7.125","Author","Emilia Hendrix","1","0.5",null,null,"C","140L","Grade K","Grade Pre-K - 2","Tiger cubs may be cute, but give them a couple years and they’re just as fierce as their protective mothers! This exciting book gives budding readers a first look at the lives these incredible cats live, searching for food and guarding their territory. Readers learn that mother tigers take care of their cubs, who can’t even see at birth! Colorful photographs also show tigers in zoos, where readers learn that people take care of and study these cubs as they grow older.","English",23.6,17.7,"599.756--dc23","24 pp.","https://www.garethstevens.com/9781482437935",null,{"$f":"Table1[[#This Row],[QTY]]*Table1[[#This Row],['# Books]]","v":0},{"$f":"Table1[[#This Row],[QTY]]*Table1[[#This Row],[S&L Price]]","v":0}]
[null,null,11,"An Animal Family",1,"Tigers and Cubs","eBook",null,"978-1-4824-3794-2",{"$f":"HYPERLINK(Table1[[#This Row],[eCommerce Hyperlink]],\"Book Weblink\")","v":"Book Weblink"},null,"2016","January 2016",null,null,"Author","Emilia Hendrix","1","0.5",null,null,"C","140L","Grade K","Grade Pre-K - 2","Tiger cubs may be cute, but give them a couple years and they’re just as fierce as their protective mothers! This exciting book gives budding readers a first look at the lives these incredible cats live, searching for food and guarding their territory. Readers learn that mother tigers take care of their cubs, who can’t even see at birth! Colorful photographs also show tigers in zoos, where readers learn that people take care of and study these cubs as they grow older.","English",23.6,17.7,"599.756--dc23","24 pp.","https://www.garethstevens.com/9781482437942",null,{"$f":"Table1[[#This Row],[QTY]]*Table1[[#This Row],['# Books]]","v":0},{"$f":"Table1[[#This Row],[QTY]]*Table1[[#This Row],[S&L Price]]","v":0}]
[null,null,11,"An Animal Family",6,"An Animal Family: Set 2","Library Set",null,"978-1-4824-6487-0",{"$f":"HYPERLINK(Table1[[#This Row],[eCommerce Hyperlink]],\"Book Weblink\")","v":"Book Weblink"},null,"2018","August 2017","Library","7.625 X 7.125",null,null,null,null,null,null,null,null,"Grade K","Grade Pre-K - 2","When it comes to cute, the only thing better than animals are baby animals! From baby owlets to bear cubs, the smaller animals are the fuzzier and cuter they look. This innovative early reader series takes a look at the life cycles of some of nature’s most interesting animals, studying ape mothers as they care for their young babies and dolphins tending to their calves in the ocean. Through full-color photographs paired with accessible text, young readers get an up-close look at the animal kingdom they’ll never forget, watching animals of all kinds come together as a family.","English",141.6,106.2,null,"24 pp.","https://www.garethstevens.com/9781482464870",null,{"$f":"Table1[[#This Row],[QTY]]*Table1[[#This Row],['# Books]]","v":0},{"$f":"Table1[[#This Row],[QTY]]*Table1[[#This Row],[S&L Price]]","v":0}]
[null,null,11,"An Animal Family",1,"Apes and Babies","Library Bound Book",null,"978-1-4824-6367-5",{"$f":"HYPERLINK(Table1[[#This Row],[eCommerce Hyperlink]],\"Book Weblink\")","v":"Book Weblink"},null,"2018","August 2017","Library","7.625 X 7.125","Author","Adelaide Redwood","0.9","0.5",null,null,"C","220L","Grade K","Grade Pre-K - 2","There’s nothing cuter than an animal family, especially a family of adorable apes! This charming book safely puts young learners into the wilds of nature to see how apes take care of their young offspring. Beginning readers will love the full-color photographs of cute baby apes as they learn to play and follow their mothers around. While the adult apes keep them safe, these babies are learning all about the world around them, whether in captivity in a zoo or in the world’s dense jungles.","English",23.6,17.7,"599.8--dc23","24 pp.","https://www.garethstevens.com/9781482463675",null,{"$f":"Table1[[#This Row],[QTY]]*Table1[[#This Row],['# Books]]","v":0},{"$f":"Table1[[#This Row],[QTY]]*Table1[[#This Row],[S&L Price]]","v":0}]
[null,null,11,"An Animal Family",1,"Apes and Babies","eBook",null,"978-1-4824-6368-2",{"$f":"HYPERLINK(Table1[[#This Row],[eCommerce Hyperlink]],\"Book Weblink\")","v":"Book Weblink"},null,"2018","August 2017",null,null,"Author","Adelaide Redwood","0.9","0.5",null,null,"C","220L","Grade K","Grade Pre-K - 2","There’s nothing cuter than an animal family, especially a family of adorable apes! This charming book safely puts young learners into the wilds of nature to see how apes take care of their young offspring. Beginning readers will love the full-color photographs of cute baby apes as they learn to play and follow their mothers around. While the adult apes keep them safe, these babies are learning all about the world around them, whether in captivity in a zoo or in the world’s dense jungles.","English",23.6,17.7,"599.8--dc23","24 pp.","https://www.garethstevens.com/9781482463682",null,{"$f":"Table1[[#This Row],[QTY]]*Table1[[#This Row],['# Books]]","v":0},{"$f":"Table1[[#This Row],[QTY]]*Table1[[#This Row],[S&L Price]]","v":0}]
[null,null,11,"An Animal Family",1,"Bears and Cubs","Library Bound Book",null,"978-1-4824-6371-2",{"$f":"HYPERLINK(Table1[[#This Row],[eCommerce Hyperlink]],\"Book Weblink\")","v":"Book Weblink"},null,"2018","August 2017","Library","7.625 X 7.125","Author","Polly LeChance","0.9","0.5",null,null,"C","210L","Grade K","Grade Pre-K - 2","Bears are fierce creatures that hunt with their huge claws and jaws, but much of that hunting is for the benefit of their adorable cubs. These fuzzy woodland cubs are as cute as can be, and their mothers are very protective of these babies as they grow and develop into full-grown bears. Full-color photographs and accessible text aid young readers in their understanding of this furry animal family, both at play and working together to survive in the wilds of nature.","English",23.6,17.7,"599.78--dc23","24 pp.","https://www.garethstevens.com/9781482463712",null,{"$f":"Table1[[#This Row],[QTY]]*Table1[[#This Row],['# Books]]","v":0},{"$f":"Table1[[#This Row],[QTY]]*Table1[[#This Row],[S&L Price]]","v":0}]
[null,null,11,"An Animal Family",1,"Bears and Cubs","eBook",null,"978-1-4824-6372-9",{"$f":"HYPERLINK(Table1[[#This Row],[eCommerce Hyperlink]],\"Book Weblink\")","v":"Book Weblink"},null,"2018","August 2017",null,null,"Author","Polly LeChance","0.9","0.5",null,null,"C","210L","Grade K","Grade Pre-K - 2","Bears are fierce creatures that hunt with their huge claws and jaws, but much of that hunting is for the benefit of their adorable cubs. These fuzzy woodland cubs are as cute as can be, and their mothers are very protective of these babies as they grow and develop into full-grown bears. Full-color photographs and accessible text aid young readers in their understanding of this furry animal family, both at play and working together to survive in the wilds of nature.","English",23.6,17.7,"599.78--dc23","24 pp.","https://www.garethstevens.com/9781482463729",null,{"$f":"Table1[[#This Row],[QTY]]*Table1[[#This Row],['# Books]]","v":0},{"$f":"Table1[[#This Row],[QTY]]*Table1[[#This Row],[S&L Price]]","v":0}]
[null,null,11,"An Animal Family",1,"Deer and Fawns","Library Bound Book",null,"978-1-4824-6375-0",{"$f":"HYPERLINK(Table1[[#This Row],[eCommerce Hyperlink]],\"Book Weblink\")","v":"Book Weblink"},null,"2018","August 2017","Library","7.625 X 7.125","Author","Shep Fields","0.9","0.5",null,null,"C",null,"Grade K","Grade Pre-K - 2","Fawns may look delicate, but once these frail young creatures grow up, they become strong bucks and does bounding through the forest searching for food. This exciting book tracks that life journey as mother deer care for their young, teaching them how to become majestic forest creatures. Accessible text paired with amazing full-color photographs of these animal families let young readers explore the world of some of nature’s most interesting—and beautiful—animals.","English",23.6,17.7,"599.65--dc23","24 pp.","https://www.garethstevens.com/9781482463750",null,{"$f":"Table1[[#This Row],[QTY]]*Table1[[#This Row],['# Books]]","v":0},{"$f":"Table1[[#This Row],[QTY]]*Table1[[#This Row],[S&L Price]]","v":0}]
[null,null,11,"An Animal Family",1,"Deer and Fawns","eBook",null,"978-1-4824-6376-7",{"$f":"HYPERLINK(Table1[[#This Row],[eCommerce Hyperlink]],\"Book Weblink\")","v":"Book Weblink"},null,"2018","August 2017",null,null,"Author","Shep Fields","0.9","0.5",null,null,"C",null,"Grade K","Grade Pre-K - 2","Fawns may look delicate, but once these frail young creatures grow up, they become strong bucks and does bounding through the forest searching for food. This exciting book tracks that life journey as mother deer care for their young, teaching them how to become majestic forest creatures. Accessible text paired with amazing full-color photographs of these animal families let young readers explore the world of some of nature’s most interesting—and beautiful—animals.","English",23.6,17.7,"599.65--dc23","24 pp.","https://www.garethstevens.com/9781482463767",null,{"$f":"Table1[[#This Row],[QTY]]*Table1[[#This Row],['# Books]]","v":0},{"$f":"Table1[[#This Row],[QTY]]*Table1[[#This Row],[S&L Price]]","v":0}]
[null,null,11,"An Animal Family",1,"Dolphins and Calves","Library Bound Book",null,"978-1-4824-6379-8",{"$f":"HYPERLINK(Table1[[#This Row],[eCommerce Hyperlink]],\"Book Weblink\")","v":"Book Weblink"},null,"2018","August 2017","Library","7.625 X 7.125","Author","Mike Rodrigo-Gomez","0.9","0.5",null,null,"C",null,"Grade K","Grade Pre-K - 2","Dolphins are very smart animals, and that means they know how to take care of their young. This charming book explores the underwater world of these amazing aquatic mammals, showing how dolphin mothers care for their young, how they eat, and how young calves like to play. Through vibrant full-color photographs paired with accessible text, beginning readers embrace the wonders of nature as they discover important facts about the dolphin’s life cycle.","English",23.6,17.7,"599.53’4--dc23","24 pp.","https://www.garethstevens.com/9781482463798",null,{"$f":"Table1[[#This Row],[QTY]]*Table1[[#This Row],['# Books]]","v":0},{"$f":"Table1[[#This Row],[QTY]]*Table1[[#This Row],[S&L Price]]","v":0}]
[null,null,11,"An Animal Family",1,"Dolphins and Calves","eBook",null,"978-1-4824-6380-4",{"$f":"HYPERLINK(Table1[[#This Row],[eCommerce Hyperlink]],\"Book Weblink\")","v":"Book Weblink"},null,"2018","August 2017",null,null,"Author","Mike Rodrigo-Gomez","0.9","0.5",null,null,"C",null,"Grade K","Grade Pre-K - 2","Dolphins are very smart animals, and that means they know how to take care of their young. This charming book explores the underwater world of these amazing aquatic mammals, showing how dolphin mothers care for their young, how they eat, and how young calves like to play. Through vibrant full-color photographs paired with accessible text, beginning readers embrace the wonders of nature as they discover important facts about the dolphin’s life cycle.","English",23.6,17.7,"599.53’4--dc23","24 pp.","https://www.garethstevens.com/9781482463804",null,{"$f":"Table1[[#This Row],[QTY]]*Table1[[#This Row],['# Books]]","v":0},{"$f":"Table1[[#This Row],[QTY]]*Table1[[#This Row],[S&L Price]]","v":0}]
[null,null,11,"An Animal Family",1,"Foxes and Kits","Library Bound Book",null,"978-1-4824-6383-5",{"$f":"HYPERLINK(Table1[[#This Row],[eCommerce Hyperlink]],\"Book Weblink\")","v":"Book Weblink"},null,"2018","August 2017","Library","7.625 X 7.125","Author","Jose Ventana","0.9","0.5",null,null,"C",null,"Grade K","Grade Pre-K - 2","Fast forest animals like foxes are often hard to spot, and that's for a good reason. Staying out of sight means staying out of the grasp of fierce predators, and baby foxes are animals that need protecting. Young kits are as cute as they are vulnerable, and they need to stay away from anything that might make it a furry dinner. This book show beginning readers how fox mothers care for their young through accessible text and colorful photographs that show how these animals live their lives on the forest floor.","English",23.6,17.7,"599.775--dc23","24 pp.","https://www.garethstevens.com/9781482463835",null,{"$f":"Table1[[#This Row],[QTY]]*Table1[[#This Row],['# Books]]","v":0},{"$f":"Table1[[#This Row],[QTY]]*Table1[[#This Row],[S&L Price]]","v":0}]
[null,null,11,"An Animal Family",1,"Foxes and Kits","eBook",null,"978-1-4824-6384-2",{"$f":"HYPERLINK(Table1[[#This Row],[eCommerce Hyperlink]],\"Book Weblink\")","v":"Book Weblink"},null,"2018","August 2017",null,null,"Author","Jose Ventana","0.9","0.5",null,null,"C",null,"Grade K","Grade Pre-K - 2","Fast forest animals like foxes are often hard to spot, and that's for a good reason. Staying out of sight means staying out of the grasp of fierce predators, and baby foxes are animals that need protecting. Young kits are as cute as they are vulnerable, and they need to stay away from anything that might make it a furry dinner. This book show beginning readers how fox mothers care for their young through accessible text and colorful photographs that show how these animals live their lives on the forest floor.","English",23.6,17.7,"599.775--dc23","24 pp.","https://www.garethstevens.com/9781482463842",null,{"$f":"Table1[[#This Row],[QTY]]*Table1[[#This Row],['# Books]]","v":0},{"$f":"Table1[[#This Row],[QTY]]*Table1[[#This Row],[S&L Price]]","v":0}]
[null,null,11,"An Animal Family",1,"Owls and Owlets","Library Bound Book",null,"978-1-4824-6387-3",{"$f":"HYPERLINK(Table1[[#This Row],[eCommerce Hyperlink]],\"Book Weblink\")","v":"Book Weblink"},null,"2018","August 2017","Library","7.625 X 7.125","Author","Gustavo Sandoval","0.9","0.5",null,null,"C",null,"Grade K","Grade Pre-K - 2","Owls are amazing animals in their own right, but baby owlets are unbelievably cute! These bright-eyed creatures are great nocturnal hunters, stalking prey with their incredible eyesight. This charming book explores how they live their lives and survive in the trees. With vibrant full-color photographs and accessible text, this book brings young readers into the wild world of these feathered creatures, exploring how owlets become owls in an engaging introduction to the concept of life cycles.","English",23.6,17.7,"598.9’7--dc23","24 pp.","https://www.garethstevens.com/9781482463873",null,{"$f":"Table1[[#This Row],[QTY]]*Table1[[#This Row],['# Books]]","v":0},{"$f":"Table1[[#This Row],[QTY]]*Table1[[#This Row],[S&L Price]]","v":0}]
[null,null,11,"An Animal Family",1,"Owls and Owlets","eBook",null,"978-1-4824-6388-0",{"$f":"HYPERLINK(Table1[[#This Row],[eCommerce Hyperlink]],\"Book Weblink\")","v":"Book Weblink"},null,"2018","August 2017",null,null,"Author","Gustavo Sandoval","0.9","0.5",null,null,"C",null,"Grade K","Grade Pre-K - 2","Owls are amazing animals in their own right, but baby owlets are unbelievably cute! These bright-eyed creatures are great nocturnal hunters, stalking prey with their incredible eyesight. This charming book explores how they live their lives and survive in the trees. With vibrant full-color photographs and accessible text, this book brings young readers into the wild world of these feathered creatures, exploring how owlets become owls in an engaging introduction to the concept of life cycles.","English",23.6,17.7,"598.9’7--dc23","24 pp.","https://www.garethstevens.com/9781482463880",null,{"$f":"Table1[[#This Row],[QTY]]*Table1[[#This Row],['# Books]]","v":0},{"$f":"Table1[[#This Row],[QTY]]*Table1[[#This Row],[S&L Price]]","v":0}]
[null,null,11,"An Animal Family",6,"An Animal Family: Set 3","Library Set",null,"978-1-5382-5982-5",{"$f":"HYPERLINK(Table1[[#This Row],[eCommerce Hyperlink]],\"Book Weblink\")","v":"Book Weblink"},null,"2021","August 2020","Library","7.625 X 7.125",null,null,null,null,null,null,null,null,"Grade K","Grade Pre-K - 2","There are few things cuter than animals, but where do they start out? From life on the farm to the big world beyond, this set examines how animals grow from babies to adults. Young readers will discover how a calf grows into a cow and how a pup grows into a shark deep in the ocean, all while learning valuable lessons about science. This early reader set gets young readers excited about learning through full-page photographs and easy-to-understand photo glossaries. The low-ATOS narratives are perfect for any reader ready to discover the how animals make families. Features include: High-interest topic that appeals to developing readers. Introduction to informational-text features such as an index and table of contents. ATOS reading levels below 1.0.","English",141.6,106.2,null,"24 pp.","https://www.garethstevens.com/9781538259825",null,{"$f":"Table1[[#This Row],[QTY]]*Table1[[#This Row],['# Books]]","v":0},{"$f":"Table1[[#This Row],[QTY]]*Table1[[#This Row],[S&L Price]]","v":0}]
[null,null,11,"An Animal Family",1,"Cows and Calves","Library Bound Book",null,"978-1-5382-5576-6",{"$f":"HYPERLINK(Table1[[#This Row],[eCommerce Hyperlink]],\"Book Weblink\")","v":"Book Weblink"},null,"2021","August 2020","Library","7.625 X 7.125","Author","Natalie K. Humphrey","1","0.5",null,null,"C",null,"Grade K","Grade Pre-K - 2","Mother cows never forget their calves and take care of them even when they're all grown up. Farmers say mother cows will often pamper their children in the fields, staying close to their families long into adulthood. This absorbing text explores how cows raise their calves on the farm and how the farmers help them do it. Young readers are encouraged to learn about these friendly farm animals through full-page photographs and easy-to-read language, all designed to teach how fun it is to learn new things.","English",23.6,17.7,"636.2--dc23","24 pp.","https://www.garethstevens.com/9781538255766",null,{"$f":"Table1[[#This Row],[QTY]]*Table1[[#This Row],['# Books]]","v":0},{"$f":"Table1[[#This Row],[QTY]]*Table1[[#This Row],[S&L Price]]","v":0}]
[null,null,11,"An Animal Family",1,"Cows and Calves","eBook",null,"978-1-5382-5577-3",{"$f":"HYPERLINK(Table1[[#This Row],[eCommerce Hyperlink]],\"Book Weblink\")","v":"Book Weblink"},null,"2021","August 2020",null,null,"Author","Natalie K. Humphrey","1","0.5",null,null,"C",null,"Grade K","Grade Pre-K - 2","Mother cows never forget their calves and take care of them even when they're all grown up. Farmers say mother cows will often pamper their children in the fields, staying close to their families long into adulthood. This absorbing text explores how cows raise their calves on the farm and how the farmers help them do it. Young readers are encouraged to learn about these friendly farm animals through full-page photographs and easy-to-read language, all designed to teach how fun it is to learn new things.","English",23.6,17.7,"636.2--dc23","24 pp.","https://www.garethstevens.com/9781538255773",null,{"$f":"Table1[[#This Row],[QTY]]*Table1[[#This Row],['# Books]]","v":0},{"$f":"Table1[[#This Row],[QTY]]*Table1[[#This Row],[S&L Price]]","v":0}]
[null,null,11,"An Animal Family",1,"Ducks and Ducklings","Library Bound Book",null,"978-1-5382-5588-9",{"$f":"HYPERLINK(Table1[[#This Row],[eCommerce Hyperlink]],\"Book Weblink\")","v":"Book Weblink"},null,"2021","August 2020","Library","7.625 X 7.125","Author","Natalie K. Humphrey","0.9","0.5",null,null,"C",null,"Grade K","Grade Pre-K - 2","Ducks are found in nearly every country around the world, which means most people can recognize these quacking creatures and their ducklings. While ducklings usually learn to swim only a few days after they've hatched, there's still a lot for them to learn from their mothers before they're ready to go out on their own. Through this book's easy-to-read low-ATOS text, young readers will learn how a duckling goes from downy soft to feathered friend. Featuring full-page colored photographs and a photo glossary, this book is perfect for early learners ready to discover new things.","English",23.6,17.7,"598.4/1--dc23","24 pp.","https://www.garethstevens.com/9781538255889",null,{"$f":"Table1[[#This Row],[QTY]]*Table1[[#This Row],['# Books]]","v":0},{"$f":"Table1[[#This Row],[QTY]]*Table1[[#This Row],[S&L Price]]","v":0}]
[null,null,11,"An Animal Family",1,"Ducks and Ducklings","eBook",null,"978-1-5382-5589-6",{"$f":"HYPERLINK(Table1[[#This Row],[eCommerce Hyperlink]],\"Book Weblink\")","v":"Book Weblink"},null,"2021","August 2020",null,null,"Author","Natalie K. Humphrey","0.9","0.5",null,null,"C",null,"Grade K","Grade Pre-K - 2","Ducks are found in nearly every country around the world, which means most people can recognize these quacking creatures and their ducklings. While ducklings usually learn to swim only a few days after they've hatched, there's still a lot for them to learn from their mothers before they're ready to go out on their own. Through this book's easy-to-read low-ATOS text, young readers will learn how a duckling goes from downy soft to feathered friend. Featuring full-page colored photographs and a photo glossary, this book is perfect for early learners ready to discover new things.","English",23.6,17.7,"598.4/1--dc23","24 pp.","https://www.garethstevens.com/9781538255896",null,{"$f":"Table1[[#This Row],[QTY]]*Table1[[#This Row],['# Books]]","v":0},{"$f":"Table1[[#This Row],[QTY]]*Table1[[#This Row],[S&L Price]]","v":0}]
[null,null,11,"An Animal Family",1,"Goats and Kids","Library Bound Book",null,"978-1-5382-5572-8",{"$f":"HYPERLINK(Table1[[#This Row],[eCommerce Hyperlink]],\"Book Weblink\")","v":"Book Weblink"},null,"2021","August 2020","Library","7.625 X 7.125","Author","Natalie K. Humphrey","0.9","0.5",null,null,"C",null,"Grade K","Grade Pre-K - 2","Every goat has its own special accent and mother goats use it to pick their babies out of the crowd. It doesn't take long from the moment they're born for these playful creatures to start bounding and causing mischief. Your readers will delve into beautiful full-page photographs of the fun-filled life of a goat, starting from their very first steps to adulthood on a farm and high in the mountains. Low-ATOS text helps young readers learn and explore how goats make their families.","English",23.6,17.7,"636.3/9--dc23","24 pp.","https://www.garethstevens.com/9781538255728",null,{"$f":"Table1[[#This Row],[QTY]]*Table1[[#This Row],['# Books]]","v":0},{"$f":"Table1[[#This Row],[QTY]]*Table1[[#This Row],[S&L Price]]","v":0}]
[null,null,11,"An Animal Family",1,"Goats and Kids","eBook",null,"978-1-5382-5573-5",{"$f":"HYPERLINK(Table1[[#This Row],[eCommerce Hyperlink]],\"Book Weblink\")","v":"Book Weblink"},null,"2021","August 2020",null,null,"Author","Natalie K. Humphrey","0.9","0.5",null,null,"C",null,"Grade K","Grade Pre-K - 2","Every goat has its own special accent and mother goats use it to pick their babies out of the crowd. It doesn't take long from the moment they're born for these playful creatures to start bounding and causing mischief. Your readers will delve into beautiful full-page photographs of the fun-filled life of a goat, starting from their very first steps to adulthood on a farm and high in the mountains. Low-ATOS text helps young readers learn and explore how goats make their families.","English",23.6,17.7,"636.3/9--dc23","24 pp.","https://www.garethstevens.com/9781538255735",null,{"$f":"Table1[[#This Row],[QTY]]*Table1[[#This Row],['# Books]]","v":0},{"$f":"Table1[[#This Row],[QTY]]*Table1[[#This Row],[S&L Price]]","v":0}]
[null,null,11,"An Animal Family",1,"Lions and Cubs","Library Bound Book",null,"978-1-5382-5580-3",{"$f":"HYPERLINK(Table1[[#This Row],[eCommerce Hyperlink]],\"Book Weblink\")","v":"Book Weblink"},null,"2021","August 2020","Library","7.625 X 7.125","Author","Natalie K. Humphrey","0.9","0.5",null,null,"C",null,"Grade K","Grade Pre-K - 2","Lions really know how to take care of their cubs. African lion cubs are raised not just by their parents but their whole pride. Lions take down their prey together, teaching their young cubs how to hunt while they do it. Readers explore how these great hunters of the African plains make their own families through achievable text. Featuring full-page photographs, this low-ATOS volume introduces young readers to the family life of these big cats and encourages them to learn more about their habitat and lifestyle.","English",23.6,17.7,"599.75713/92--dc23","24 pp.","https://www.garethstevens.com/9781538255803",null,{"$f":"Table1[[#This Row],[QTY]]*Table1[[#This Row],['# Books]]","v":0},{"$f":"Table1[[#This Row],[QTY]]*Table1[[#This Row],[S&L Price]]","v":0}]
[null,null,11,"An Animal Family",1,"Lions and Cubs","eBook",null,"978-1-5382-5581-0",{"$f":"HYPERLINK(Table1[[#This Row],[eCommerce Hyperlink]],\"Book Weblink\")","v":"Book Weblink"},null,"2021","August 2020",null,null,"Author","Natalie K. Humphrey","0.9","0.5",null,null,"C",null,"Grade K","Grade Pre-K - 2","Lions really know how to take care of their cubs. African lion cubs are raised not just by their parents but their whole pride. Lions take down their prey together, teaching their young cubs how to hunt while they do it. Readers explore how these great hunters of the African plains make their own families through achievable text. Featuring full-page photographs, this low-ATOS volume introduces young readers to the family life of these big cats and encourages them to learn more about their habitat and lifestyle.","English",23.6,17.7,"599.75713/92--dc23","24 pp.","https://www.garethstevens.com/9781538255810",null,{"$f":"Table1[[#This Row],[QTY]]*Table1[[#This Row],['# Books]]","v":0},{"$f":"Table1[[#This Row],[QTY]]*Table1[[#This Row],[S&L Price]]","v":0}]
[null,null,11,"An Animal Family",1,"Rabbits and Kits","Library Bound Book",null,"978-1-5382-5584-1",{"$f":"HYPERLINK(Table1[[#This Row],[eCommerce Hyperlink]],\"Book Weblink\")","v":"Book Weblink"},null,"2021","August 2020","Library","7.625 X 7.125","Author","Natalie K. Humphrey","0.9","0.5",null,null,"C",null,"Grade K","Grade Pre-K - 2","More than half of the world's rabbit population is found in North America, and that makes for a lot of kits. This common creature can move its ears independently and uses this skill to hear if a hungry predator is coming from any direction. This low-ATOS book helps readers learn how a fluffy kit grows into a fluffier rabbit that they might keep as a pet or see hopping around outside. With full-page photographs, an accessible photo-based glossary, and easy-to-read narrative, this book will help early readers get excited about learning and reading.","English",23.6,17.7,"599.3213/92--dc23","24 pp.","https://www.garethstevens.com/9781538255841",null,{"$f":"Table1[[#This Row],[QTY]]*Table1[[#This Row],['# Books]]","v":0},{"$f":"Table1[[#This Row],[QTY]]*Table1[[#This Row],[S&L Price]]","v":0}]
[null,null,11,"An Animal Family",1,"Rabbits and Kits","eBook",null,"978-1-5382-5585-8",{"$f":"HYPERLINK(Table1[[#This Row],[eCommerce Hyperlink]],\"Book Weblink\")","v":"Book Weblink"},null,"2021","August 2020",null,null,"Author","Natalie K. Humphrey","0.9","0.5",null,null,"C",null,"Grade K","Grade Pre-K - 2","More than half of the world's rabbit population is found in North America, and that makes for a lot of kits. This common creature can move its ears independently and uses this skill to hear if a hungry predator is coming from any direction. This low-ATOS book helps readers learn how a fluffy kit grows into a fluffier rabbit that they might keep as a pet or see hopping around outside. With full-page photographs, an accessible photo-based glossary, and easy-to-read narrative, this book will help early readers get excited about learning and reading.","English",23.6,17.7,"599.3213/92--dc23","24 pp.","https://www.garethstevens.com/9781538255858",null,{"$f":"Table1[[#This Row],[QTY]]*Table1[[#This Row],['# Books]]","v":0},{"$f":"Table1[[#This Row],[QTY]]*Table1[[#This Row],[S&L Price]]","v":0}]
[null,null,11,"An Animal Family",1,"Sharks and Pups","Library Bound Book",null,"978-1-5382-5592-6",{"$f":"HYPERLINK(Table1[[#This Row],[eCommerce Hyperlink]],\"Book Weblink\")","v":"Book Weblink"},null,"2021","August 2020","Library","7.625 X 7.125","Author","Natalie K. Humphrey","0.9","0.5",null,null,"C",null,"Grade K","Grade Pre-K - 2","Your young readers will be surprised to learn that shark parents don't raise their own offspring. Different kinds of sharks all have their own special way they start their journeys through life. With this low-ATOS volume, young readers will learn how a harmless shark pup becomes the great hunter of the deep. Featuring accessible text and full-page images, this book will help familiarize readers with new terms and concepts special to marine biology.","English",23.6,17.7,"597.3/31392--dc23","24 pp.","https://www.garethstevens.com/9781538255926",null,{"$f":"Table1[[#This Row],[QTY]]*Table1[[#This Row],['# Books]]","v":0},{"$f":"Table1[[#This Row],[QTY]]*Table1[[#This Row],[S&L Price]]","v":0}]
[null,null,11,"An Animal Family",1,"Sharks and Pups","eBook",null,"978-1-5382-5593-3",{"$f":"HYPERLINK(Table1[[#This Row],[eCommerce Hyperlink]],\"Book Weblink\")","v":"Book Weblink"},null,"2021","August 2020",null,null,"Author","Natalie K. Humphrey","0.9","0.5",null,null,"C",null,"Grade K","Grade Pre-K - 2","Your young readers will be surprised to learn that shark parents don't raise their own offspring. Different kinds of sharks all have their own special way they start their journeys through life. With this low-ATOS volume, young readers will learn how a harmless shark pup becomes the great hunter of the deep. Featuring accessible text and full-page images, this book will help familiarize readers with new terms and concepts special to marine biology.","English",23.6,17.7,"597.3/31392--dc23","24 pp.","https://www.garethstevens.com/9781538255933",null,{"$f":"Table1[[#This Row],[QTY]]*Table1[[#This Row],['# Books]]","v":0},{"$f":"Table1[[#This Row],[QTY]]*Table1[[#This Row],[S&L Price]]","v":0}]
[null,null,11,"Animals from Head to Tail",6,"Animals from Head to Tail: Set 1","Library Set",null,"978-1-4824-4516-9",{"$f":"HYPERLINK(Table1[[#This Row],[eCommerce Hyperlink]],\"Book Weblink\")","v":"Book Weblink"},null,"2017","August 2016","Library","7.625 X 7.125",null,null,null,null,null,null,null,null,"Grade K - 2","Grade Pre-K - 2","Animals have body parts just like us, but not every animal looks alike. A cat’s toes look very different than a dog or bird’s. This innovative series tackles those differences using vivid full-color photographs and age-appropriate text to explain how an animal’s body parts make it truly unique. With scientific content exploring how a bird’s wings work and how turtles use their shells to keep safe, this series gives young readers an exciting and fun new way to look at their favorite animals.","English",141.6,106.2,null,"24 pp.","https://www.garethstevens.com/9781482445169",null,{"$f":"Table1[[#This Row],[QTY]]*Table1[[#This Row],['# Books]]","v":0},{"$f":"Table1[[#This Row],[QTY]]*Table1[[#This Row],[S&L Price]]","v":0}]
[null,null,11,"Animals from Head to Tail",1,"Birds from Head to Tail","Library Bound Book",null,"978-1-4824-4535-0",{"$f":"HYPERLINK(Table1[[#This Row],[eCommerce Hyperlink]],\"Book Weblink\")","v":"Book Weblink"},null,"2017","August 2016","Library","7.625 X 7.125","Author","Reese Archer","0.9","0.5",null,null,"C","240L","Grade K - 2","Grade Pre-K - 2","Birds are truly remarkable creatures. Though they all have the same basic body parts, there is so much variety between each type of bird. For instance, the feet of a duck are much different than the feet of a robin, and birds’ feathers come in every color of the rainbow! Through accessible language and vibrant photographs, this book introduces beginning readers to some of the similarities and differences of our feathered friends, showing them that although birds share many standard features, each kind is also wonderfully unique!","English",23.6,17.7,"598--dc23","24 pp.","https://www.garethstevens.com/9781482445350",null,{"$f":"Table1[[#This Row],[QTY]]*Table1[[#This Row],['# Books]]","v":0},{"$f":"Table1[[#This Row],[QTY]]*Table1[[#This Row],[S&L Price]]","v":0}]
[null,null,11,"Animals from Head to Tail",1,"Birds from Head to Tail","eBook",null,"978-1-4824-4529-9",{"$f":"HYPERLINK(Table1[[#This Row],[eCommerce Hyperlink]],\"Book Weblink\")","v":"Book Weblink"},null,"2017","August 2016",null,null,"Author","Reese Archer","0.9","0.5",null,null,"C","240L","Grade K - 2","Grade Pre-K - 2","Birds are truly remarkable creatures. Though they all have the same basic body parts, there is so much variety between each type of bird. For instance, the feet of a duck are much different than the feet of a robin, and birds’ feathers come in every color of the rainbow! Through accessible language and vibrant photographs, this book introduces beginning readers to some of the similarities and differences of our feathered friends, showing them that although birds share many standard features, each kind is also wonderfully unique!","English",23.6,17.7,"598--dc23","24 pp.","https://www.garethstevens.com/9781482445299",null,{"$f":"Table1[[#This Row],[QTY]]*Table1[[#This Row],['# Books]]","v":0},{"$f":"Table1[[#This Row],[QTY]]*Table1[[#This Row],[S&L Price]]","v":0}]
[null,null,11,"Animals from Head to Tail",1,"Cats from Head to Tail","Library Bound Book",null,"978-1-4824-4536-7",{"$f":"HYPERLINK(Table1[[#This Row],[eCommerce Hyperlink]],\"Book Weblink\")","v":"Book Weblink"},null,"2017","August 2016","Library","7.625 X 7.125","Author","Tristan Noe","0.9","0.5",null,null,"C","230L","Grade K - 2","Grade Pre-K - 2","Cats are popular pets all around the world, and no two breeds are exactly the same. Through accessible text accompanied by colorful photographs, this book introduces beginning readers to a cat’s basic body parts, and also explores the many differences between these feline friends that make each kind unique. From long-haired to short-haired and everything in between, young readers will delight in learning about all the amazing attributes of these beloved family pets!","English",23.6,17.7,"636.8--dc23","24 pp.","https://www.garethstevens.com/9781482445367",null,{"$f":"Table1[[#This Row],[QTY]]*Table1[[#This Row],['# Books]]","v":0},{"$f":"Table1[[#This Row],[QTY]]*Table1[[#This Row],[S&L Price]]","v":0}]
[null,null,11,"Animals from Head to Tail",1,"Cats from Head to Tail","eBook",null,"978-1-4824-4530-5",{"$f":"HYPERLINK(Table1[[#This Row],[eCommerce Hyperlink]],\"Book Weblink\")","v":"Book Weblink"},null,"2017","August 2016",null,null,"Author","Tristan Noe","0.9","0.5",null,null,"C","230L","Grade K - 2","Grade Pre-K - 2","Cats are popular pets all around the world, and no two breeds are exactly the same. Through accessible text accompanied by colorful photographs, this book introduces beginning readers to a cat’s basic body parts, and also explores the many differences between these feline friends that make each kind unique. From long-haired to short-haired and everything in between, young readers will delight in learning about all the amazing attributes of these beloved family pets!","English",23.6,17.7,"636.8--dc23","24 pp.","https://www.garethstevens.com/9781482445305",null,{"$f":"Table1[[#This Row],[QTY]]*Table1[[#This Row],['# Books]]","v":0},{"$f":"Table1[[#This Row],[QTY]]*Table1[[#This Row],[S&L Price]]","v":0}]
[null,null,11,"Animals from Head to Tail",1,"Dogs from Head to Tail","Library Bound Book",null,"978-1-4824-4537-4",{"$f":"HYPERLINK(Table1[[#This Row],[eCommerce Hyperlink]],\"Book Weblink\")","v":"Book Weblink"},null,"2017","August 2016","Library","7.625 X 7.125","Author","Cole Mair","1","0.5",null,null,"C","220L","Grade K - 2","Grade Pre-K - 2","A dog may be man’s best friend, but how much do we know about these loyal animals? There are so many different breeds with different attributes—from a boxer’s distinct colors to a bulldog’s unique nose. This book introduces beginning readers to the world of dogs, using accessible language and adorable photographs to give a close-up look at one of the most popular pets on the planet. Young readers will learn that although dogs all share common features, each kind has its own special charm!","English",23.6,17.7,"636.7--dc23","24 pp.","https://www.garethstevens.com/9781482445374",null,{"$f":"Table1[[#This Row],[QTY]]*Table1[[#This Row],['# Books]]","v":0},{"$f":"Table1[[#This Row],[QTY]]*Table1[[#This Row],[S&L Price]]","v":0}]
[null,null,11,"Animals from Head to Tail",1,"Dogs from Head to Tail","eBook",null,"978-1-4824-4531-2",{"$f":"HYPERLINK(Table1[[#This Row],[eCommerce Hyperlink]],\"Book Weblink\")","v":"Book Weblink"},null,"2017","August 2016",null,null,"Author","Cole Mair","1","0.5",null,null,"C","220L","Grade K - 2","Grade Pre-K - 2","A dog may be man’s best friend, but how much do we know about these loyal animals? There are so many different breeds with different attributes—from a boxer’s distinct colors to a bulldog’s unique nose. This book introduces beginning readers to the world of dogs, using accessible language and adorable photographs to give a close-up look at one of the most popular pets on the planet. Young readers will learn that although dogs all share common features, each kind has its own special charm!","English",23.6,17.7,"636.7--dc23","24 pp.","https://www.garethstevens.com/9781482445312",null,{"$f":"Table1[[#This Row],[QTY]]*Table1[[#This Row],['# Books]]","v":0},{"$f":"Table1[[#This Row],[QTY]]*Table1[[#This Row],[S&L Price]]","v":0}]
[null,null,11,"Animals from Head to Tail",1,"Fish from Head to Tail","Library Bound Book",null,"978-1-4824-4538-1",{"$f":"HYPERLINK(Table1[[#This Row],[eCommerce Hyperlink]],\"Book Weblink\")","v":"Book Weblink"},null,"2017","August 2016","Library","7.625 X 7.125","Author","Bill Spunter","0.9","0.5",null,null,"C",null,"Grade K - 2","Grade Pre-K - 2","Fish are at home in the water, but that doesn’t mean we can’t get up close and personal with these colorful creatures. From the goldfish we keep as pets to the big fish that live in our oceans, there is plenty of variety to be found among the fins and gills these animals all have. This book for beginning readers explores the watery world of fish both big and small, using accessible language and vivid photographs to show that although fish all share similar features, they are all distinct in amazing ways.","English",23.6,17.7,"597--dc23","24 pp.","https://www.garethstevens.com/9781482445381",null,{"$f":"Table1[[#This Row],[QTY]]*Table1[[#This Row],['# Books]]","v":0},{"$f":"Table1[[#This Row],[QTY]]*Table1[[#This Row],[S&L Price]]","v":0}]
[null,null,11,"Animals from Head to Tail",1,"Fish from Head to Tail","eBook",null,"978-1-4824-4532-9",{"$f":"HYPERLINK(Table1[[#This Row],[eCommerce Hyperlink]],\"Book Weblink\")","v":"Book Weblink"},null,"2017","August 2016",null,null,"Author","Bill Spunter","0.9","0.5",null,null,"C",null,"Grade K - 2","Grade Pre-K - 2","Fish are at home in the water, but that doesn’t mean we can’t get up close and personal with these colorful creatures. From the goldfish we keep as pets to the big fish that live in our oceans, there is plenty of variety to be found among the fins and gills these animals all have. This book for beginning readers explores the watery world of fish both big and small, using accessible language and vivid photographs to show that although fish all share similar features, they are all distinct in amazing ways.","English",23.6,17.7,"597--dc23","24 pp.","https://www.garethstevens.com/9781482445329",null,{"$f":"Table1[[#This Row],[QTY]]*Table1[[#This Row],['# Books]]","v":0},{"$f":"Table1[[#This Row],[QTY]]*Table1[[#This Row],[S&L Price]]","v":0}]
[null,null,11,"Animals from Head to Tail",1,"Hamsters from Head to Tail","Library Bound Book",null,"978-1-4824-4539-8",{"$f":"HYPERLINK(Table1[[#This Row],[eCommerce Hyperlink]],\"Book Weblink\")","v":"Book Weblink"},null,"2017","August 2016","Library","7.625 X 7.125","Author","Don LeChamp","0.9","0.5",null,null,"C","190L","Grade K - 2","Grade Pre-K - 2","Hamsters are small creatures with lots of variety among their different species. These adorable rodents may be known for nibbling on food or running around a tiny wheel, but there’s much more going on in their little worlds. From golden hamsters living in the wild in Turkey to the hamsters at the pet store, these amazing creatures have lots of variety in color, size, and shape. Through accessible language accompanied by vibrant photographs, this book explores those nuances and shows beginning readers how hamsters use their remarkable body parts both in captivity and in the wild.","English",23.6,17.7,"636.935’6--dc23","24 pp.","https://www.garethstevens.com/9781482445398",null,{"$f":"Table1[[#This Row],[QTY]]*Table1[[#This Row],['# Books]]","v":0},{"$f":"Table1[[#This Row],[QTY]]*Table1[[#This Row],[S&L Price]]","v":0}]
[null,null,11,"Animals from Head to Tail",1,"Hamsters from Head to Tail","eBook",null,"978-1-4824-4533-6",{"$f":"HYPERLINK(Table1[[#This Row],[eCommerce Hyperlink]],\"Book Weblink\")","v":"Book Weblink"},null,"2017","August 2016",null,null,"Author","Don LeChamp","0.9","0.5",null,null,"C","190L","Grade K - 2","Grade Pre-K - 2","Hamsters are small creatures with lots of variety among their different species. These adorable rodents may be known for nibbling on food or running around a tiny wheel, but there’s much more going on in their little worlds. From golden hamsters living in the wild in Turkey to the hamsters at the pet store, these amazing creatures have lots of variety in color, size, and shape. Through accessible language accompanied by vibrant photographs, this book explores those nuances and shows beginning readers how hamsters use their remarkable body parts both in captivity and in the wild.","English",23.6,17.7,"636.935’6--dc23","24 pp.","https://www.garethstevens.com/9781482445336",null,{"$f":"Table1[[#This Row],[QTY]]*Table1[[#This Row],['# Books]]","v":0},{"$f":"Table1[[#This Row],[QTY]]*Table1[[#This Row],[S&L Price]]","v":0}]
[null,null,11,"Animals from Head to Tail",1,"Turtles from Head to Tail","Library Bound Book",null,"978-1-4824-4540-4",{"$f":"HYPERLINK(Table1[[#This Row],[eCommerce Hyperlink]],\"Book Weblink\")","v":"Book Weblink"},null,"2017","August 2016","Library","7.625 X 7.125","Author","Jen Trifer","0.9","0.5",null,null,"C",null,"Grade K - 2","Grade Pre-K - 2","Some turtles make great pets, but others do not. So how can people tell the difference? Through accessible text paired with colorful photographs, this book allows beginning readers to explore the world of turtles, taking a close look at the physical attributes that make these slow-moving creatures unique. From their hard shells—called carapaces—to their different kinds of feet, turtles are as varied in physical makeup as they are in temperament. Young readers will learn that while a box turtle is a pet-friendly choice, they’ll want to stay far away from the sharp bite of an alligator snapping turtle!","English",23.6,17.7,"597.92--dc23","24 pp.","https://www.garethstevens.com/9781482445404",null,{"$f":"Table1[[#This Row],[QTY]]*Table1[[#This Row],['# Books]]","v":0},{"$f":"Table1[[#This Row],[QTY]]*Table1[[#This Row],[S&L Price]]","v":0}]
[null,null,11,"Animals from Head to Tail",1,"Turtles from Head to Tail","eBook",null,"978-1-4824-4534-3",{"$f":"HYPERLINK(Table1[[#This Row],[eCommerce Hyperlink]],\"Book Weblink\")","v":"Book Weblink"},null,"2017","August 2016",null,null,"Author","Jen Trifer","0.9","0.5",null,null,"C",null,"Grade K - 2","Grade Pre-K - 2","Some turtles make great pets, but others do not. So how can people tell the difference? Through accessible text paired with colorful photographs, this book allows beginning readers to explore the world of turtles, taking a close look at the physical attributes that make these slow-moving creatures unique. From their hard shells—called carapaces—to their different kinds of feet, turtles are as varied in physical makeup as they are in temperament. Young readers will learn that while a box turtle is a pet-friendly choice, they’ll want to stay far away from the sharp bite of an alligator snapping turtle!","English",23.6,17.7,"597.92--dc23","24 pp.","https://www.garethstevens.com/9781482445343",null,{"$f":"Table1[[#This Row],[QTY]]*Table1[[#This Row],['# Books]]","v":0},{"$f":"Table1[[#This Row],[QTY]]*Table1[[#This Row],[S&L Price]]","v":0}]
[null,null,11,"Animals from Head to Tail",6,"Animals from Head to Tail: Set 2","Library Set",null,"978-1-5382-5626-8",{"$f":"HYPERLINK(Table1[[#This Row],[eCommerce Hyperlink]],\"Book Weblink\")","v":"Book Weblink"},null,"2021","August 2020","Library","7.625 X 7.125",null,null,null,null,null,null,null,null,"Grade K - 2","Grade Pre-K - 2","Animals' unique adaptations are often the features that draw animal lovers to them. A pig's curly tail, a bunny's soft fur, and a penguin's silly waddle are some memorable characteristics of these awesome animals. These and other creatures' body parts and behaviors are highlighted in this beautiful set. Budding zoologists will find beneficial information in the low-ATOS narratives while marveling at vibrant photographs of enchanting animals. Features include: Animal subjects including rabbits, horses, and penguins appeal to readers of all levels. Covers important curricular science topics including identification and understanding of animal adaptations. Comprehensible book features offer opportunities to practice foundational reading skills of national and state language arts standards.","English",141.6,106.2,null,"24 pp.","https://www.garethstevens.com/9781538256268",null,{"$f":"Table1[[#This Row],[QTY]]*Table1[[#This Row],['# Books]]","v":0},{"$f":"Table1[[#This Row],[QTY]]*Table1[[#This Row],[S&L Price]]","v":0}]
[null,null,11,"Animals from Head to Tail",1,"Alligators from Head to Tail","Library Bound Book",null,"978-1-5382-5524-7",{"$f":"HYPERLINK(Table1[[#This Row],[eCommerce Hyperlink]],\"Book Weblink\")","v":"Book Weblink"},null,"2021","August 2020","Library","7.625 X 7.125","Author","Emmett Martin","0.9","0.5",null,null,"C",null,"Grade K - 2","Grade Pre-K - 2","Imagine if we could take home our favorite zoo animals. That would be truly wild if that animal were an alligator! While it's best to leave alligators just where they are, this entertaining volume details interesting facts about these amazing creatures, including information about their adaptations and habitats. Beautiful action photographs accompany and support the enlightening and engaging low-ATOS text.","English",23.6,17.7,"597.98/4--dc23","24 pp.","https://www.garethstevens.com/9781538255247",null,{"$f":"Table1[[#This Row],[QTY]]*Table1[[#This Row],['# Books]]","v":0},{"$f":"Table1[[#This Row],[QTY]]*Table1[[#This Row],[S&L Price]]","v":0}]
[null,null,11,"Animals from Head to Tail",1,"Alligators from Head to Tail","eBook",null,"978-1-5382-5525-4",{"$f":"HYPERLINK(Table1[[#This Row],[eCommerce Hyperlink]],\"Book Weblink\")","v":"Book Weblink"},null,"2021","August 2020",null,null,"Author","Emmett Martin","0.9","0.5",null,null,"C",null,"Grade K - 2","Grade Pre-K - 2","Imagine if we could take home our favorite zoo animals. That would be truly wild if that animal were an alligator! While it's best to leave alligators just where they are, this entertaining volume details interesting facts about these amazing creatures, including information about their adaptations and habitats. Beautiful action photographs accompany and support the enlightening and engaging low-ATOS text.","English",23.6,17.7,"597.98/4--dc23","24 pp.","https://www.garethstevens.com/9781538255254",null,{"$f":"Table1[[#This Row],[QTY]]*Table1[[#This Row],['# Books]]","v":0},{"$f":"Table1[[#This Row],[QTY]]*Table1[[#This Row],[S&L Price]]","v":0}]
[null,null,11,"Animals from Head to Tail",1,"Bunnies from Head to Tail","Library Bound Book",null,"978-1-5382-5532-2",{"$f":"HYPERLINK(Table1[[#This Row],[eCommerce Hyperlink]],\"Book Weblink\")","v":"Book Weblink"},null,"2021","August 2020","Library","7.625 X 7.125","Author","Emmett Martin","0.9","0.5",null,null,"C",null,"Grade K - 2","Grade Pre-K - 2","Few can resist petting a rabbit's fur because few creatures in nature are as soft and loveable as this little nose-twitching cutie. As delighted readers will find out, there are many things about rabbits that make them unique in the animal world. Low-ATOS text and colorful photographs reveal awesome adaptations and interesting behaviors.","English",23.6,17.7,"599.32--dc23","24 pp.","https://www.garethstevens.com/9781538255322",null,{"$f":"Table1[[#This Row],[QTY]]*Table1[[#This Row],['# Books]]","v":0},{"$f":"Table1[[#This Row],[QTY]]*Table1[[#This Row],[S&L Price]]","v":0}]
[null,null,11,"Animals from Head to Tail",1,"Bunnies from Head to Tail","eBook",null,"978-1-5382-5533-9",{"$f":"HYPERLINK(Table1[[#This Row],[eCommerce Hyperlink]],\"Book Weblink\")","v":"Book Weblink"},null,"2021","August 2020",null,null,"Author","Emmett Martin","0.9","0.5",null,null,"C",null,"Grade K - 2","Grade Pre-K - 2","Few can resist petting a rabbit's fur because few creatures in nature are as soft and loveable as this little nose-twitching cutie. As delighted readers will find out, there are many things about rabbits that make them unique in the animal world. Low-ATOS text and colorful photographs reveal awesome adaptations and interesting behaviors.","English",23.6,17.7,"599.32--dc23","24 pp.","https://www.garethstevens.com/9781538255339",null,{"$f":"Table1[[#This Row],[QTY]]*Table1[[#This Row],['# Books]]","v":0},{"$f":"Table1[[#This Row],[QTY]]*Table1[[#This Row],[S&L Price]]","v":0}]
[null,null,11,"Animals from Head to Tail",1,"Cows from Head to Tail","Library Bound Book",null,"978-1-5382-5544-5",{"$f":"HYPERLINK(Table1[[#This Row],[eCommerce Hyperlink]],\"Book Weblink\")","v":"Book Weblink"},null,"2021","August 2020","Library","7.625 X 7.125","Author","Emmett Martin","0.9","0.5",null,null,"C",null,"Grade K - 2","Grade Pre-K - 2","Cows are so common that we rarely stop to think of how fascinating these animals are. After all, we wouldn't have milk, cheese, or butter without them. Through carefully crafted low-ATOS text and vivid photographs, beginning readers will discover much about these awesome creatures' adaptations and their importance to people around the world.","English",23.6,17.7,"636.2--dc23","24 pp.","https://www.garethstevens.com/9781538255445",null,{"$f":"Table1[[#This Row],[QTY]]*Table1[[#This Row],['# Books]]","v":0},{"$f":"Table1[[#This Row],[QTY]]*Table1[[#This Row],[S&L Price]]","v":0}]
[null,null,11,"Animals from Head to Tail",1,"Cows from Head to Tail","eBook",null,"978-1-5382-5545-2",{"$f":"HYPERLINK(Table1[[#This Row],[eCommerce Hyperlink]],\"Book Weblink\")","v":"Book Weblink"},null,"2021","August 2020",null,null,"Author","Emmett Martin","0.9","0.5",null,null,"C",null,"Grade K - 2","Grade Pre-K - 2","Cows are so common that we rarely stop to think of how fascinating these animals are. After all, we wouldn't have milk, cheese, or butter without them. Through carefully crafted low-ATOS text and vivid photographs, beginning readers will discover much about these awesome creatures' adaptations and their importance to people around the world.","English",23.6,17.7,"636.2--dc23","24 pp.","https://www.garethstevens.com/9781538255452",null,{"$f":"Table1[[#This Row],[QTY]]*Table1[[#This Row],['# Books]]","v":0},{"$f":"Table1[[#This Row],[QTY]]*Table1[[#This Row],[S&L Price]]","v":0}]
[null,null,11,"Animals from Head to Tail",1,"Horses from Head to Tail","Library Bound Book",null,"978-1-5382-5536-0",{"$f":"HYPERLINK(Table1[[#This Row],[eCommerce Hyperlink]],\"Book Weblink\")","v":"Book Weblink"},null,"2021","August 2020","Library","7.625 X 7.125","Author","Emmett Martin","0.9","0.5",null,null,"C",null,"Grade K - 2","Grade Pre-K - 2","People have long valued horses to ride, to pull things, and to enjoy as companions. Through carefully crafted, low-ATOS text, horse enthusiasts will love reading about horses' adaptations and behaviors as well as acquiring new vocabulary. They'll especially enjoy the up-close photographs of different beautiful breeds in action.","English",23.6,17.7,"636.1--dc23","24 pp.","https://www.garethstevens.com/9781538255360",null,{"$f":"Table1[[#This Row],[QTY]]*Table1[[#This Row],['# Books]]","v":0},{"$f":"Table1[[#This Row],[QTY]]*Table1[[#This Row],[S&L Price]]","v":0}]
[null,null,11,"Animals from Head to Tail",1,"Horses from Head to Tail","eBook",null,"978-1-5382-5537-7",{"$f":"HYPERLINK(Table1[[#This Row],[eCommerce Hyperlink]],\"Book Weblink\")","v":"Book Weblink"},null,"2021","August 2020",null,null,"Author","Emmett Martin","0.9","0.5",null,null,"C",null,"Grade K - 2","Grade Pre-K - 2","People have long valued horses to ride, to pull things, and to enjoy as companions. Through carefully crafted, low-ATOS text, horse enthusiasts will love reading about horses' adaptations and behaviors as well as acquiring new vocabulary. They'll especially enjoy the up-close photographs of different beautiful breeds in action.","English",23.6,17.7,"636.1--dc23","24 pp.","https://www.garethstevens.com/9781538255377",null,{"$f":"Table1[[#This Row],[QTY]]*Table1[[#This Row],['# Books]]","v":0},{"$f":"Table1[[#This Row],[QTY]]*Table1[[#This Row],[S&L Price]]","v":0}]
[null,null,11,"Animals from Head to Tail",1,"Penguins from Head to Tail","Library Bound Book",null,"978-1-5382-5528-5",{"$f":"HYPERLINK(Table1[[#This Row],[eCommerce Hyperlink]],\"Book Weblink\")","v":"Book Weblink"},null,"2021","August 2020","Library","7.625 X 7.125","Author","Emmett Martin","0.9","0.5",null,null,"C",null,"Grade K - 2","Grade Pre-K - 2","Who doesn't wish they could waddle up to an adorable penguin and give it a cuddle? This endearing book gives readers the up-close experience they want! Through understandable, low-ATOS text, they'll learn how penguins' special body parts help them survive in the wild, even in the coldest conditions. Though penguin lovers can't adopt these flightless birds as their own, they'll love studying the lively photographs of the charming creatures in action.","English",23.6,17.7,"598.47--dc23","24 pp.","https://www.garethstevens.com/9781538255285",null,{"$f":"Table1[[#This Row],[QTY]]*Table1[[#This Row],['# Books]]","v":0},{"$f":"Table1[[#This Row],[QTY]]*Table1[[#This Row],[S&L Price]]","v":0}]
[null,null,11,"Animals from Head to Tail",1,"Penguins from Head to Tail","eBook",null,"978-1-5382-5529-2",{"$f":"HYPERLINK(Table1[[#This Row],[eCommerce Hyperlink]],\"Book Weblink\")","v":"Book Weblink"},null,"2021","August 2020",null,null,"Author","Emmett Martin","0.9","0.5",null,null,"C",null,"Grade K - 2","Grade Pre-K - 2","Who doesn't wish they could waddle up to an adorable penguin and give it a cuddle? This endearing book gives readers the up-close experience they want! Through understandable, low-ATOS text, they'll learn how penguins' special body parts help them survive in the wild, even in the coldest conditions. Though penguin lovers can't adopt these flightless birds as their own, they'll love studying the lively photographs of the charming creatures in action.","English",23.6,17.7,"598.47--dc23","24 pp.","https://www.garethstevens.com/9781538255292",null,{"$f":"Table1[[#This Row],[QTY]]*Table1[[#This Row],['# Books]]","v":0},{"$f":"Table1[[#This Row],[QTY]]*Table1[[#This Row],[S&L Price]]","v":0}]
[null,null,11,"Animals from Head to Tail",1,"Pigs from Head to Tail","Library Bound Book",null,"978-1-5382-5540-7",{"$f":"HYPERLINK(Table1[[#This Row],[eCommerce Hyperlink]],\"Book Weblink\")","v":"Book Weblink"},null,"2021","August 2020","Library","7.625 X 7.125","Author","Emmett Martin","0.9","0.5",null,null,"C",null,"Grade K - 2","Grade Pre-K - 2","With its cute curly tail and unique sniffing snout, the pig is a favorite farm animal. Your readers will learn about a pig's special body parts and its behaviors through low-ATOS text. Cheerful images of these lively and adorable creatures reflect important concepts and further engage young readers. A picture dictionary and index allows readers to exercise foundational reading skills.","English",23.6,17.7,"636.4--dc23","24 pp.","https://www.garethstevens.com/9781538255407",null,{"$f":"Table1[[#This Row],[QTY]]*Table1[[#This Row],['# Books]]","v":0},{"$f":"Table1[[#This Row],[QTY]]*Table1[[#This Row],[S&L Price]]","v":0}]
[null,null,11,"Animals from Head to Tail",1,"Pigs from Head to Tail","eBook",null,"978-1-5382-5541-4",{"$f":"HYPERLINK(Table1[[#This Row],[eCommerce Hyperlink]],\"Book Weblink\")","v":"Book Weblink"},null,"2021","August 2020",null,null,"Author","Emmett Martin","0.9","0.5",null,null,"C",null,"Grade K - 2","Grade Pre-K - 2","With its cute curly tail and unique sniffing snout, the pig is a favorite farm animal. Your readers will learn about a pig's special body parts and its behaviors through low-ATOS text. Cheerful images of these lively and adorable creatures reflect important concepts and further engage young readers. A picture dictionary and index allows readers to exercise foundational reading skills.","English",23.6,17.7,"636.4--dc23","24 pp.","https://www.garethstevens.com/9781538255414",null,{"$f":"Table1[[#This Row],[QTY]]*Table1[[#This Row],['# Books]]","v":0},{"$f":"Table1[[#This Row],[QTY]]*Table1[[#This Row],[S&L Price]]","v":0}]
[null,null,11,"Ocean Animals",6,"Ocean Animals","Library Set",null,"978-1-5382-4527-9",{"$f":"HYPERLINK(Table1[[#This Row],[eCommerce Hyperlink]],\"Book Weblink\")","v":"Book Weblink"},null,"2020","January 2020","Library","7.625 X 7.125",null,null,null,null,null,null,null,null,"Grade K","Grade Pre-K - 2","A visit under the ocean is just a few turns of the page away! In accessible language and simple sentences, this set takes beginning readers for a trip underwater following their favorite ocean animals through the waves. From friendly dolphins to tiny seahorses, the animals are described using age-appropriate details and vocabulary. The animals' habits, food, families, and more are covered, accompanied by full-color photographs that leave readers eager for more of manatees, walruses, seals, and octopuses. Features include: ATOS level of less than 1.0 for pre-K readers. Up-close photographs give readers unique views of the featured animals. Words to Know sections identify unfamiliar vocabulary.","English",141.6,106.2,null,"24 pp.","https://www.garethstevens.com/9781538245279",null,{"$f":"Table1[[#This Row],[QTY]]*Table1[[#This Row],['# Books]]","v":0},{"$f":"Table1[[#This Row],[QTY]]*Table1[[#This Row],[S&L Price]]","v":0}]
[null,null,11,"Ocean Animals",1,"Dolphins","Library Bound Book",null,"978-1-5382-4455-5",{"$f":"HYPERLINK(Table1[[#This Row],[eCommerce Hyperlink]],\"Book Weblink\")","v":"Book Weblink"},null,"2020","January 2020","Library","7.625 X 7.125","Author","Walter LaPlante","0.9","0.5",null,null,"C",null,"Grade K","Grade Pre-K - 2","Dolphins are often called friendly animals due to their \"smiling\" faces and their splashing fins and water play. Maybe because of this perception or dolphins' reputation for being very smart, dolphins are a common favorite among young readers. With this colorful volume, beginning readers can see this popular ocean animal up close in beautiful photographs that closely correlate with achievable text. Including information about dolphin pods, babies, and food, this book will captivate readers again and again.","English",23.6,17.7,"599.53--dc23","24 pp.","https://www.garethstevens.com/9781538244555",null,{"$f":"Table1[[#This Row],[QTY]]*Table1[[#This Row],['# Books]]","v":0},{"$f":"Table1[[#This Row],[QTY]]*Table1[[#This Row],[S&L Price]]","v":0}]
[null,null,11,"Ocean Animals",1,"Dolphins","eBook",null,"978-1-5382-4456-2",{"$f":"HYPERLINK(Table1[[#This Row],[eCommerce Hyperlink]],\"Book Weblink\")","v":"Book Weblink"},null,"2020","January 2020",null,null,"Author","Walter LaPlante","0.9","0.5",null,null,"C",null,"Grade K","Grade Pre-K - 2","Dolphins are often called friendly animals due to their \"smiling\" faces and their splashing fins and water play. Maybe because of this perception or dolphins' reputation for being very smart, dolphins are a common favorite among young readers. With this colorful volume, beginning readers can see this popular ocean animal up close in beautiful photographs that closely correlate with achievable text. Including information about dolphin pods, babies, and food, this book will captivate readers again and again.","English",23.6,17.7,"599.53--dc23","24 pp.","https://www.garethstevens.com/9781538244562",null,{"$f":"Table1[[#This Row],[QTY]]*Table1[[#This Row],['# Books]]","v":0},{"$f":"Table1[[#This Row],[QTY]]*Table1[[#This Row],[S&L Price]]","v":0}]
[null,null,11,"Ocean Animals",1,"Manatees","Library Bound Book",null,"978-1-5382-4459-3",{"$f":"HYPERLINK(Table1[[#This Row],[eCommerce Hyperlink]],\"Book Weblink\")","v":"Book Weblink"},null,"2020","January 2020","Library","7.625 X 7.125","Author","Walter LaPlante","0.9","0.5",null,null,"C",null,"Grade K","Grade Pre-K - 2","Manatees are often called \"sea cows,\" but that name doesn't do them justice, even though they may weigh as much as a full-grown cow. These enormous ocean animals can cruise along underwater at as fast as 15 miles per hour. They have strong tales that propel them gracefully through the water. Beginning readers learn about where manatees live, what they eat, how they move, and much more, all while enjoying beautiful photographs of manatees with each turn of the page.","English",23.6,17.7,"599.55--dc23","24 pp.","https://www.garethstevens.com/9781538244593",null,{"$f":"Table1[[#This Row],[QTY]]*Table1[[#This Row],['# Books]]","v":0},{"$f":"Table1[[#This Row],[QTY]]*Table1[[#This Row],[S&L Price]]","v":0}]
[null,null,11,"Ocean Animals",1,"Manatees","eBook",null,"978-1-5382-4460-9",{"$f":"HYPERLINK(Table1[[#This Row],[eCommerce Hyperlink]],\"Book Weblink\")","v":"Book Weblink"},null,"2020","January 2020",null,null,"Author","Walter LaPlante","0.9","0.5",null,null,"C",null,"Grade K","Grade Pre-K - 2","Manatees are often called \"sea cows,\" but that name doesn't do them justice, even though they may weigh as much as a full-grown cow. These enormous ocean animals can cruise along underwater at as fast as 15 miles per hour. They have strong tales that propel them gracefully through the water. Beginning readers learn about where manatees live, what they eat, how they move, and much more, all while enjoying beautiful photographs of manatees with each turn of the page.","English",23.6,17.7,"599.55--dc23","24 pp.","https://www.garethstevens.com/9781538244609",null,{"$f":"Table1[[#This Row],[QTY]]*Table1[[#This Row],['# Books]]","v":0},{"$f":"Table1[[#This Row],[QTY]]*Table1[[#This Row],[S&L Price]]","v":0}]
[null,null,11,"Ocean Animals",1,"Octopuses","Library Bound Book",null,"978-1-5382-4463-0",{"$f":"HYPERLINK(Table1[[#This Row],[eCommerce Hyperlink]],\"Book Weblink\")","v":"Book Weblink"},null,"2020","January 2020","Library","7.625 X 7.125","Author","Walter LaPlante","0.9","0.5",null,null,"C",null,"Grade K","Grade Pre-K - 2","Octopuses are the escape artists of the sea. With no bones, they're known to squeeze into tiny places and out of their tanks in aquariums. They come in all sizes and colors and feature some interesting body parts readers love to learn more about. In this volume, achievable main text and accompanying up-close photographs aid beginning readers in their quest to read and learn about octopuses. A picture glossary reinforces new vocabulary learned on these colorful pages.","English",23.6,17.7,"594/.56--dc23","24 pp.","https://www.garethstevens.com/9781538244630",null,{"$f":"Table1[[#This Row],[QTY]]*Table1[[#This Row],['# Books]]","v":0},{"$f":"Table1[[#This Row],[QTY]]*Table1[[#This Row],[S&L Price]]","v":0}]
[null,null,11,"Ocean Animals",1,"Octopuses","eBook",null,"978-1-5382-4464-7",{"$f":"HYPERLINK(Table1[[#This Row],[eCommerce Hyperlink]],\"Book Weblink\")","v":"Book Weblink"},null,"2020","January 2020",null,null,"Author","Walter LaPlante","0.9","0.5",null,null,"C",null,"Grade K","Grade Pre-K - 2","Octopuses are the escape artists of the sea. With no bones, they're known to squeeze into tiny places and out of their tanks in aquariums. They come in all sizes and colors and feature some interesting body parts readers love to learn more about. In this volume, achievable main text and accompanying up-close photographs aid beginning readers in their quest to read and learn about octopuses. A picture glossary reinforces new vocabulary learned on these colorful pages.","English",23.6,17.7,"594/.56--dc23","24 pp.","https://www.garethstevens.com/9781538244647",null,{"$f":"Table1[[#This Row],[QTY]]*Table1[[#This Row],['# Books]]","v":0},{"$f":"Table1[[#This Row],[QTY]]*Table1[[#This Row],[S&L Price]]","v":0}]
[null,null,11,"Ocean Animals",1,"Seahorses","Library Bound Book",null,"978-1-5382-4467-8",{"$f":"HYPERLINK(Table1[[#This Row],[eCommerce Hyperlink]],\"Book Weblink\")","v":"Book Weblink"},null,"2020","January 2020","Library","7.625 X 7.125","Author","Benjamin Proudfit","0.9","0.5",null,null,"C",null,"Grade K","Grade Pre-K - 2","They may not look like it, but seahorses are a kind of fish. These colorful, tiny ocean residents make their homes mostly in shallow waters and move into deeper areas during the rough seas of winter. They have plenty of other unique and interesting characteristics that readers of all ages can delight in. Achievable text written with beginning readers in mind introduces where seahorses like to live, aspects about their body, what they eat, and other fascinating details. Accompanying photographs take readers underwater to seahorse habitats, up-close and personal.","English",23.6,17.7,"597/.6798--dc23","24 pp.","https://www.garethstevens.com/9781538244678",null,{"$f":"Table1[[#This Row],[QTY]]*Table1[[#This Row],['# Books]]","v":0},{"$f":"Table1[[#This Row],[QTY]]*Table1[[#This Row],[S&L Price]]","v":0}]
[null,null,11,"Ocean Animals",1,"Seahorses","eBook",null,"978-1-5382-4468-5",{"$f":"HYPERLINK(Table1[[#This Row],[eCommerce Hyperlink]],\"Book Weblink\")","v":"Book Weblink"},null,"2020","January 2020",null,null,"Author","Benjamin Proudfit","0.9","0.5",null,null,"C",null,"Grade K","Grade Pre-K - 2","They may not look like it, but seahorses are a kind of fish. These colorful, tiny ocean residents make their homes mostly in shallow waters and move into deeper areas during the rough seas of winter. They have plenty of other unique and interesting characteristics that readers of all ages can delight in. Achievable text written with beginning readers in mind introduces where seahorses like to live, aspects about their body, what they eat, and other fascinating details. Accompanying photographs take readers underwater to seahorse habitats, up-close and personal.","English",23.6,17.7,"597/.6798--dc23","24 pp.","https://www.garethstevens.com/9781538244685",null,{"$f":"Table1[[#This Row],[QTY]]*Table1[[#This Row],['# Books]]","v":0},{"$f":"Table1[[#This Row],[QTY]]*Table1[[#This Row],[S&L Price]]","v":0}]
[null,null,11,"Ocean Animals",1,"Seals","Library Bound Book",null,"978-1-5382-4471-5",{"$f":"HYPERLINK(Table1[[#This Row],[eCommerce Hyperlink]],\"Book Weblink\")","v":"Book Weblink"},null,"2020","January 2020","Library","7.625 X 7.125","Author","Benjamin Proudfit","0.9","0.5",null,null,"C",null,"Grade K","Grade Pre-K - 2","Different kinds of seals live all over the world, including in the Arctic and Antarctic. No matter where these coastal-dwellers live, they're always pretty cute. Through text written specially for beginning readers, this volume introduces where seals can be found, what they eat, and how they interact with their ocean environment. Full-color photographs bring readers as close as they can get to seals without visiting an aquarium, and tie-in closely with accompanying text to aid in independent reading comprehension.","English",23.6,17.7,"599.79--dc23","24 pp.","https://www.garethstevens.com/9781538244715",null,{"$f":"Table1[[#This Row],[QTY]]*Table1[[#This Row],['# Books]]","v":0},{"$f":"Table1[[#This Row],[QTY]]*Table1[[#This Row],[S&L Price]]","v":0}]
[null,null,11,"Ocean Animals",1,"Seals","eBook",null,"978-1-5382-4472-2",{"$f":"HYPERLINK(Table1[[#This Row],[eCommerce Hyperlink]],\"Book Weblink\")","v":"Book Weblink"},null,"2020","January 2020",null,null,"Author","Benjamin Proudfit","0.9","0.5",null,null,"C",null,"Grade K","Grade Pre-K - 2","Different kinds of seals live all over the world, including in the Arctic and Antarctic. No matter where these coastal-dwellers live, they're always pretty cute. Through text written specially for beginning readers, this volume introduces where seals can be found, what they eat, and how they interact with their ocean environment. Full-color photographs bring readers as close as they can get to seals without visiting an aquarium, and tie-in closely with accompanying text to aid in independent reading comprehension.","English",23.6,17.7,"599.79--dc23","24 pp.","https://www.garethstevens.com/9781538244722",null,{"$f":"Table1[[#This Row],[QTY]]*Table1[[#This Row],['# Books]]","v":0},{"$f":"Table1[[#This Row],[QTY]]*Table1[[#This Row],[S&L Price]]","v":0}]
[null,null,11,"Ocean Animals",1,"Walruses","Library Bound Book",null,"978-1-5382-4475-3",{"$f":"HYPERLINK(Table1[[#This Row],[eCommerce Hyperlink]],\"Book Weblink\")","v":"Book Weblink"},null,"2020","January 2020","Library","7.625 X 7.125","Author","Benjamin Proudfit","0.9","0.5",null,null,"C",null,"Grade K","Grade Pre-K - 2","It's easy to spot a walrus in a crowd. Their massive size, mustaches, and long tusks are difficult to miss. Walruses are found in both the Atlantic and Pacific oceans, though they always live in the Arctic. Even though readers won't come across a walrus in their neighborhood, they are sure to be fascinated by this big ocean animal. This book caters to the beginning reader with specially written text, a picture glossary, and full-color photographs that closely correlate to the narrative.","English",23.6,17.7,"599.79/9--dc23","24 pp.","https://www.garethstevens.com/9781538244753",null,{"$f":"Table1[[#This Row],[QTY]]*Table1[[#This Row],['# Books]]","v":0},{"$f":"Table1[[#This Row],[QTY]]*Table1[[#This Row],[S&L Price]]","v":0}]
[null,null,11,"Ocean Animals",1,"Walruses","eBook",null,"978-1-5382-4476-0",{"$f":"HYPERLINK(Table1[[#This Row],[eCommerce Hyperlink]],\"Book Weblink\")","v":"Book Weblink"},null,"2020","January 2020",null,null,"Author","Benjamin Proudfit","0.9","0.5",null,null,"C",null,"Grade K","Grade Pre-K - 2","It's easy to spot a walrus in a crowd. Their massive size, mustaches, and long tusks are difficult to miss. Walruses are found in both the Atlantic and Pacific oceans, though they always live in the Arctic. Even though readers won't come across a walrus in their neighborhood, they are sure to be fascinated by this big ocean animal. This book caters to the beginning reader with specially written text, a picture glossary, and full-color photographs that closely correlate to the narrative.","English",23.6,17.7,"599.79/9--dc23","24 pp.","https://www.garethstevens.com/9781538244760",null,{"$f":"Table1[[#This Row],[QTY]]*Table1[[#This Row],['# Books]]","v":0},{"$f":"Table1[[#This Row],[QTY]]*Table1[[#This Row],[S&L Price]]","v":0}]
[null,null,11,"Zoo Animals",6,"Zoo Animals: Set 1","Library Set",null,"978-1-4824-2539-0",{"$f":"HYPERLINK(Table1[[#This Row],[eCommerce Hyperlink]],\"Book Weblink\")","v":"Book Weblink"},null,"2016","August 2015","Library","7.625 X 7.125",null,null,null,null,null,null,null,null,"Grade K","Grade Pre-K - 2","A trip to the zoo is an exciting experience for anyone. Beginning readers will love exploring the lives of giraffes, gorillas, ostriches, and other spectacular animals often found at zoos. Young learners will explore the lives of many different zoo creatures, taking a look inside different habitats to find out just how these animals spend their days in various zoo environments. Vibrant photos help show favorite animals living and playing in their amazing zoo homes.\n\n•          ATOS reading level below 1.0\n•           High-interest topic will appeal to even reluctant readers\n•           Introduction to informational-text features, such as an index and table of contents\n","English",141.6,106.2,null,"24 pp.","https://www.garethstevens.com/9781482425390",null,{"$f":"Table1[[#This Row],[QTY]]*Table1[[#This Row],['# Books]]","v":0},{"$f":"Table1[[#This Row],[QTY]]*Table1[[#This Row],[S&L Price]]","v":0}]
[null,null,11,"Zoo Animals",1,"Elephants at the Zoo","Library Bound Book",null,"978-1-4824-2591-8",{"$f":"HYPERLINK(Table1[[#This Row],[eCommerce Hyperlink]],\"Book Weblink\")","v":"Book Weblink"},null,"2016","August 2015","Library","7.625 X 7.125","Author","Finn Ward","0.9","0.5",null,null,"C","190L","Grade K","Grade Pre-K - 2","Elephants are incredibly large animals that need lots of space to roam. Making them feel at home in a zoo is a tough job, but lots of people work hard every day to keep these amazing creatures happy. Through accessible text and vibrant photographs, budding readers will learn about the zookeepers that feed and care for elephants, as well as help them raise their young. From their big ears to their big appetites, there’s a lot to learn about elephants at the zoo.","English",23.6,17.7,"599.67","24 pp.","https://www.garethstevens.com/9781482425918",null,{"$f":"Table1[[#This Row],[QTY]]*Table1[[#This Row],['# Books]]","v":0},{"$f":"Table1[[#This Row],[QTY]]*Table1[[#This Row],[S&L Price]]","v":0}]
[null,null,11,"Zoo Animals",1,"Elephants at the Zoo","eBook",null,"978-1-4824-2592-5",{"$f":"HYPERLINK(Table1[[#This Row],[eCommerce Hyperlink]],\"Book Weblink\")","v":"Book Weblink"},null,"2016","August 2015",null,null,"Author","Finn Ward","0.9","0.5",null,null,"C","190L","Grade K","Grade Pre-K - 2","Elephants are incredibly large animals that need lots of space to roam. Making them feel at home in a zoo is a tough job, but lots of people work hard every day to keep these amazing creatures happy. Through accessible text and vibrant photographs, budding readers will learn about the zookeepers that feed and care for elephants, as well as help them raise their young. From their big ears to their big appetites, there’s a lot to learn about elephants at the zoo.","English",23.6,17.7,"599.67","24 pp.","https://www.garethstevens.com/9781482425925",null,{"$f":"Table1[[#This Row],[QTY]]*Table1[[#This Row],['# Books]]","v":0},{"$f":"Table1[[#This Row],[QTY]]*Table1[[#This Row],[S&L Price]]","v":0}]
[null,null,11,"Zoo Animals",1,"Giraffes at the Zoo","Library Bound Book",null,"978-1-4824-2595-6",{"$f":"HYPERLINK(Table1[[#This Row],[eCommerce Hyperlink]],\"Book Weblink\")","v":"Book Weblink"},null,"2016","August 2015","Library","7.625 X 7.125","Author","Finn Ward","0.9","0.5",null,null,"C",null,"Grade K","Grade Pre-K - 2","Giraffes are the tallest land animals on Earth, and these big creatures have a lot to teach readers about zoo life. Through simple text and well-chosen photographs, beginning readers will love learning about a day in the life of a giraffe at the zoo. From their love of munching leaves to raising their young, giraffes are some of young readers’ favorite animals to see at the zoo.","English",23.6,17.7,"599.638","24 pp.","https://www.garethstevens.com/9781482425956",null,{"$f":"Table1[[#This Row],[QTY]]*Table1[[#This Row],['# Books]]","v":0},{"$f":"Table1[[#This Row],[QTY]]*Table1[[#This Row],[S&L Price]]","v":0}]
[null,null,11,"Zoo Animals",1,"Giraffes at the Zoo","eBook",null,"978-1-4824-2596-3",{"$f":"HYPERLINK(Table1[[#This Row],[eCommerce Hyperlink]],\"Book Weblink\")","v":"Book Weblink"},null,"2016","August 2015",null,null,"Author","Finn Ward","0.9","0.5",null,null,"C",null,"Grade K","Grade Pre-K - 2","Giraffes are the tallest land animals on Earth, and these big creatures have a lot to teach readers about zoo life. Through simple text and well-chosen photographs, beginning readers will love learning about a day in the life of a giraffe at the zoo. From their love of munching leaves to raising their young, giraffes are some of young readers’ favorite animals to see at the zoo.","English",23.6,17.7,"599.638","24 pp.","https://www.garethstevens.com/9781482425963",null,{"$f":"Table1[[#This Row],[QTY]]*Table1[[#This Row],['# Books]]","v":0},{"$f":"Table1[[#This Row],[QTY]]*Table1[[#This Row],[S&L Price]]","v":0}]
[null,null,11,"Zoo Animals",1,"Gorillas at the Zoo","Library Bound Book",null,"978-1-4824-2599-4",{"$f":"HYPERLINK(Table1[[#This Row],[eCommerce Hyperlink]],\"Book Weblink\")","v":"Book Weblink"},null,"2016","August 2015","Library","7.625 X 7.125","Author","Finn Ward","0.9","0.5",null,null,"C","270L","Grade K","Grade Pre-K - 2","Zoos help us see, study, and appreciate animals that we might never get to see in the wild. This narrative shows children the life of zoo gorillas. They learn that zoos keep gorillas safe while they play, climb trees, and sleep in nests. Readers learn what gorillas like to eat and that they have a lot of fur.","English",23.6,17.7,"599.884","24 pp.","https://www.garethstevens.com/9781482425994",null,{"$f":"Table1[[#This Row],[QTY]]*Table1[[#This Row],['# Books]]","v":0},{"$f":"Table1[[#This Row],[QTY]]*Table1[[#This Row],[S&L Price]]","v":0}]
[null,null,11,"Zoo Animals",1,"Gorillas at the Zoo","eBook",null,"978-1-4824-2600-7",{"$f":"HYPERLINK(Table1[[#This Row],[eCommerce Hyperlink]],\"Book Weblink\")","v":"Book Weblink"},null,"2016","August 2015",null,null,"Author","Finn Ward","0.9","0.5",null,null,"C","270L","Grade K","Grade Pre-K - 2","Zoos help us see, study, and appreciate animals that we might never get to see in the wild. This narrative shows children the life of zoo gorillas. They learn that zoos keep gorillas safe while they play, climb trees, and sleep in nests. Readers learn what gorillas like to eat and that they have a lot of fur.","English",23.6,17.7,"599.884","24 pp.","https://www.garethstevens.com/9781482426007",null,{"$f":"Table1[[#This Row],[QTY]]*Table1[[#This Row],['# Books]]","v":0},{"$f":"Table1[[#This Row],[QTY]]*Table1[[#This Row],[S&L Price]]","v":0}]
[null,null,11,"Zoo Animals",1,"Ostriches at the Zoo","Library Bound Book",null,"978-1-4824-2603-8",{"$f":"HYPERLINK(Table1[[#This Row],[eCommerce Hyperlink]],\"Book Weblink\")","v":"Book Weblink"},null,"2016","August 2015","Library","7.625 X 7.125","Author","Finn Ward","0.9","0.5",null,null,"C","220L","Grade K","Grade Pre-K - 2","Ostriches are the largest birds on Earth, and many of these supersized animals call zoos home. These big birds don’t bury their heads in the sand like many believe, but they do all sorts of amazing things. Running more than 40 miles (64.4 km) per hour and using their wings to steer as they go, these big birds will wow beginning readers with their lives inside their zoo habitats. Through simple text and full-color photography readers will also learn how zookeepers take care of ostriches and make sure they live long, happy lives.","English",23.6,17.7,"598.5","24 pp.","https://www.garethstevens.com/9781482426038",null,{"$f":"Table1[[#This Row],[QTY]]*Table1[[#This Row],['# Books]]","v":0},{"$f":"Table1[[#This Row],[QTY]]*Table1[[#This Row],[S&L Price]]","v":0}]
[null,null,11,"Zoo Animals",1,"Ostriches at the Zoo","eBook",null,"978-1-4824-2604-5",{"$f":"HYPERLINK(Table1[[#This Row],[eCommerce Hyperlink]],\"Book Weblink\")","v":"Book Weblink"},null,"2016","August 2015",null,null,"Author","Finn Ward","0.9","0.5",null,null,"C","220L","Grade K","Grade Pre-K - 2","Ostriches are the largest birds on Earth, and many of these supersized animals call zoos home. These big birds don’t bury their heads in the sand like many believe, but they do all sorts of amazing things. Running more than 40 miles (64.4 km) per hour and using their wings to steer as they go, these big birds will wow beginning readers with their lives inside their zoo habitats. Through simple text and full-color photography readers will also learn how zookeepers take care of ostriches and make sure they live long, happy lives.","English",23.6,17.7,"598.5","24 pp.","https://www.garethstevens.com/9781482426045",null,{"$f":"Table1[[#This Row],[QTY]]*Table1[[#This Row],['# Books]]","v":0},{"$f":"Table1[[#This Row],[QTY]]*Table1[[#This Row],[S&L Price]]","v":0}]
[null,null,11,"Zoo Animals",1,"Penguins at the Zoo","Library Bound Book",null,"978-1-4824-2607-6",{"$f":"HYPERLINK(Table1[[#This Row],[eCommerce Hyperlink]],\"Book Weblink\")","v":"Book Weblink"},null,"2016","August 2015","Library","7.625 X 7.125","Author","Finn Ward","0.9","0.5",null,null,"C","180L","Grade K","Grade Pre-K - 2","Penguins are fun animals that love to swim and play. Early readers will love taking a look at penguins’ lives inside the zoo, where the fish are plentiful at mealtime and predators can’t take a bite out of them when they go for a dive. With zookeepers taking care of these amazing waterproof birds, they live long lives entertaining countless zoo patrons with their quick swimming and playful ways inside their zoo habitats. Accessible text paired with supporting photographs offer a glimpse of readers’ favorite zoo friends!","English",23.6,17.7,"598.47","24 pp.","https://www.garethstevens.com/9781482426076",null,{"$f":"Table1[[#This Row],[QTY]]*Table1[[#This Row],['# Books]]","v":0},{"$f":"Table1[[#This Row],[QTY]]*Table1[[#This Row],[S&L Price]]","v":0}]
[null,null,11,"Zoo Animals",1,"Penguins at the Zoo","eBook",null,"978-1-4824-2608-3",{"$f":"HYPERLINK(Table1[[#This Row],[eCommerce Hyperlink]],\"Book Weblink\")","v":"Book Weblink"},null,"2016","August 2015",null,null,"Author","Finn Ward","0.9","0.5",null,null,"C","180L","Grade K","Grade Pre-K - 2","Penguins are fun animals that love to swim and play. Early readers will love taking a look at penguins’ lives inside the zoo, where the fish are plentiful at mealtime and predators can’t take a bite out of them when they go for a dive. With zookeepers taking care of these amazing waterproof birds, they live long lives entertaining countless zoo patrons with their quick swimming and playful ways inside their zoo habitats. Accessible text paired with supporting photographs offer a glimpse of readers’ favorite zoo friends!","English",23.6,17.7,"598.47","24 pp.","https://www.garethstevens.com/9781482426083",null,{"$f":"Table1[[#This Row],[QTY]]*Table1[[#This Row],['# Books]]","v":0},{"$f":"Table1[[#This Row],[QTY]]*Table1[[#This Row],[S&L Price]]","v":0}]
[null,null,11,"Zoo Animals",1,"Polar Bears at the Zoo","Library Bound Book",null,"978-1-4824-2611-3",{"$f":"HYPERLINK(Table1[[#This Row],[eCommerce Hyperlink]],\"Book Weblink\")","v":"Book Weblink"},null,"2016","August 2015","Library","7.625 X 7.125","Author","Finn Ward","0.8","0.5",null,null,"C","190L","Grade K","Grade Pre-K - 2","Polar bears are huge, menacing mammals that hunt for food in the wild. In the zoo, though, these big, furry animals are almost cute! Beginning readers will love learning about these big bears as trainers take care of them and their adorable bear cubs. Polar bears love to spend their time in zoos munching on carrots and fish, or even playing on rocks before going for a swim. Through simple text and supporting photographs, readers discover fun facts about these impressive predators within the safe setting of a hometown zoo. Learning about these great animals is an exciting way to gain a better understanding of nature from the comfort of your hometown zoo.","English",23.6,17.7,"599.786","24 pp.","https://www.garethstevens.com/9781482426113",null,{"$f":"Table1[[#This Row],[QTY]]*Table1[[#This Row],['# Books]]","v":0},{"$f":"Table1[[#This Row],[QTY]]*Table1[[#This Row],[S&L Price]]","v":0}]
[null,null,11,"Zoo Animals",1,"Polar Bears at the Zoo","eBook",null,"978-1-4824-2612-0",{"$f":"HYPERLINK(Table1[[#This Row],[eCommerce Hyperlink]],\"Book Weblink\")","v":"Book Weblink"},null,"2016","August 2015",null,null,"Author","Finn Ward","0.8","0.5",null,null,"C","190L","Grade K","Grade Pre-K - 2","Polar bears are huge, menacing mammals that hunt for food in the wild. In the zoo, though, these big, furry animals are almost cute! Beginning readers will love learning about these big bears as trainers take care of them and their adorable bear cubs. Polar bears love to spend their time in zoos munching on carrots and fish, or even playing on rocks before going for a swim. Through simple text and supporting photographs, readers discover fun facts about these impressive predators within the safe setting of a hometown zoo. Learning about these great animals is an exciting way to gain a better understanding of nature from the comfort of your hometown zoo.","English",23.6,17.7,"599.786","24 pp.","https://www.garethstevens.com/9781482426120",null,{"$f":"Table1[[#This Row],[QTY]]*Table1[[#This Row],['# Books]]","v":0},{"$f":"Table1[[#This Row],[QTY]]*Table1[[#This Row],[S&L Price]]","v":0}]
[null,null,11,"Zoo Animals",6,"Zoo Animals: Set 2","Library Set",null,"978-1-5382-4167-7",{"$f":"HYPERLINK(Table1[[#This Row],[eCommerce Hyperlink]],\"Book Weblink\")","v":"Book Weblink"},null,"2020","August 2019","Library","7.625 X 7.125",null,null,null,null,null,null,null,null,"Grade K","Grade Pre-K - 2","This continuation of our popular series takes beginning readers on a field trip not just to the zoo, but inside the habitats of some of the most unique and interesting zoo animals. From information about what these animals eat to when they sleep, the main content is written with the pre-K reader in mind, and directly correlates with the photographs. By the end of each book, readers will be ready for their trip to the zoo, or to begin a career path to zoology. Features include: ATOS reading level below 1.0. Up-close photographs will take readers closer to their favorite animal than a trip to the zoo can. Introduces readers to informational-text features, such as indexes and table of contents.","English",141.6,106.2,null,"24 pp.","https://www.garethstevens.com/9781538241677",null,{"$f":"Table1[[#This Row],[QTY]]*Table1[[#This Row],['# Books]]","v":0},{"$f":"Table1[[#This Row],[QTY]]*Table1[[#This Row],[S&L Price]]","v":0}]
[null,null,11,"Zoo Animals",1,"Monkeys at the Zoo","Library Bound Book",null,"978-1-5382-3936-0",{"$f":"HYPERLINK(Table1[[#This Row],[eCommerce Hyperlink]],\"Book Weblink\")","v":"Book Weblink"},null,"2020","August 2019","Library","7.625 X 7.125","Author","Seth Lynch","0.9","0.5",null,null,"C",null,"Grade K","Grade Pre-K - 2","Who doesn't love the fun and noisy antics of monkeys at the zoo? They swing around their habitat, eat food just like we do, and often vocalize. Young readers will be just as mesmerized by seeing monkeys up close in this book. Written expressly for the pre-K reader, this book takes readers into the monkey habitat to see just how they live at the zoo. Readers learn information they'll be sure to share during their next trip to the zoo.","English",23.6,17.7,"599.8--dc23","24 pp.","https://www.garethstevens.com/9781538239360",null,{"$f":"Table1[[#This Row],[QTY]]*Table1[[#This Row],['# Books]]","v":0},{"$f":"Table1[[#This Row],[QTY]]*Table1[[#This Row],[S&L Price]]","v":0}]
[null,null,11,"Zoo Animals",1,"Monkeys at the Zoo","eBook",null,"978-1-5382-3937-7",{"$f":"HYPERLINK(Table1[[#This Row],[eCommerce Hyperlink]],\"Book Weblink\")","v":"Book Weblink"},null,"2020","August 2019",null,null,"Author","Seth Lynch","0.9","0.5",null,null,"C",null,"Grade K","Grade Pre-K - 2","Who doesn't love the fun and noisy antics of monkeys at the zoo? They swing around their habitat, eat food just like we do, and often vocalize. Young readers will be just as mesmerized by seeing monkeys up close in this book. Written expressly for the pre-K reader, this book takes readers into the monkey habitat to see just how they live at the zoo. Readers learn information they'll be sure to share during their next trip to the zoo.","English",23.6,17.7,"599.8--dc23","24 pp.","https://www.garethstevens.com/9781538239377",null,{"$f":"Table1[[#This Row],[QTY]]*Table1[[#This Row],['# Books]]","v":0},{"$f":"Table1[[#This Row],[QTY]]*Table1[[#This Row],[S&L Price]]","v":0}]
[null,null,11,"Zoo Animals",1,"Otters at the Zoo","Library Bound Book",null,"978-1-5382-3940-7",{"$f":"HYPERLINK(Table1[[#This Row],[eCommerce Hyperlink]],\"Book Weblink\")","v":"Book Weblink"},null,"2020","August 2019","Library","7.625 X 7.125","Author","Seth Lynch","0.9","0.5",null,null,"C",null,"Grade K","Grade Pre-K - 2","Otters move so fast in their habitat at the zoo, sometimes it can be difficult to get a good look at them. With this book, beginning readers get much more up-close and personal with adorable otters. Including what otters eat and how they spend their time, the main content and language is age-appropriate for pre-K readers. Full-color photographs correlate to the otter information to further aid new readers as they swim along with otters at the zoo.","English",23.6,17.7,"599.769--dc23","24 pp.","https://www.garethstevens.com/9781538239407",null,{"$f":"Table1[[#This Row],[QTY]]*Table1[[#This Row],['# Books]]","v":0},{"$f":"Table1[[#This Row],[QTY]]*Table1[[#This Row],[S&L Price]]","v":0}]
[null,null,11,"Zoo Animals",1,"Otters at the Zoo","eBook",null,"978-1-5382-3941-4",{"$f":"HYPERLINK(Table1[[#This Row],[eCommerce Hyperlink]],\"Book Weblink\")","v":"Book Weblink"},null,"2020","August 2019",null,null,"Author","Seth Lynch","0.9","0.5",null,null,"C",null,"Grade K","Grade Pre-K - 2","Otters move so fast in their habitat at the zoo, sometimes it can be difficult to get a good look at them. With this book, beginning readers get much more up-close and personal with adorable otters. Including what otters eat and how they spend their time, the main content and language is age-appropriate for pre-K readers. Full-color photographs correlate to the otter information to further aid new readers as they swim along with otters at the zoo.","English",23.6,17.7,"599.769--dc23","24 pp.","https://www.garethstevens.com/9781538239414",null,{"$f":"Table1[[#This Row],[QTY]]*Table1[[#This Row],['# Books]]","v":0},{"$f":"Table1[[#This Row],[QTY]]*Table1[[#This Row],[S&L Price]]","v":0}]
[null,null,11,"Zoo Animals",1,"Reindeer at the Zoo","Library Bound Book",null,"978-1-5382-3944-5",{"$f":"HYPERLINK(Table1[[#This Row],[eCommerce Hyperlink]],\"Book Weblink\")","v":"Book Weblink"},null,"2020","August 2019","Library","7.625 X 7.125","Author","Seth Lynch","0.9","0.5",null,null,"C",null,"Grade K","Grade Pre-K - 2","Reindeer have a reputation of living at the North Pole, but they actually live in North America, Europe, and Siberia. Encountering Santa's mode of transport at the zoo can be magical. Learning all about what reindeer eat and how they spend their time in their zoo habitat will make visits to the zoo even better. With language and content perfect for beginning readers, this book enables readers to find out more about their favorite zoo exhibit all on their own.","English",23.6,17.7,"599.65/8--dc23","24 pp.","https://www.garethstevens.com/9781538239445",null,{"$f":"Table1[[#This Row],[QTY]]*Table1[[#This Row],['# Books]]","v":0},{"$f":"Table1[[#This Row],[QTY]]*Table1[[#This Row],[S&L Price]]","v":0}]
[null,null,11,"Zoo Animals",1,"Reindeer at the Zoo","eBook",null,"978-1-5382-3945-2",{"$f":"HYPERLINK(Table1[[#This Row],[eCommerce Hyperlink]],\"Book Weblink\")","v":"Book Weblink"},null,"2020","August 2019",null,null,"Author","Seth Lynch","0.9","0.5",null,null,"C",null,"Grade K","Grade Pre-K - 2","Reindeer have a reputation of living at the North Pole, but they actually live in North America, Europe, and Siberia. Encountering Santa's mode of transport at the zoo can be magical. Learning all about what reindeer eat and how they spend their time in their zoo habitat will make visits to the zoo even better. With language and content perfect for beginning readers, this book enables readers to find out more about their favorite zoo exhibit all on their own.","English",23.6,17.7,"599.65/8--dc23","24 pp.","https://www.garethstevens.com/9781538239452",null,{"$f":"Table1[[#This Row],[QTY]]*Table1[[#This Row],['# Books]]","v":0},{"$f":"Table1[[#This Row],[QTY]]*Table1[[#This Row],[S&L Price]]","v":0}]
[null,null,11,"Zoo Animals",1,"Snakes at the Zoo","Library Bound Book",null,"978-1-5382-3948-3",{"$f":"HYPERLINK(Table1[[#This Row],[eCommerce Hyperlink]],\"Book Weblink\")","v":"Book Weblink"},null,"2020","August 2019","Library","7.625 X 7.125","Author","Seth Lynch","0.9","0.5",null,null,"C",null,"Grade K","Grade Pre-K - 2","Snakes can by teeny tiny or they can be hundreds of pounds and many feet long. That's what makes visiting snakes at the zoo so fun; there's so much to see and learn about them! This book for new readers covers many different kinds of snakes found at the zoo. Readers are provided with details about what they eat, what they do, and how big they can be in the wild. Full-color photographs are carefully correlated to the text to aid readers' comprehension and give an up-close look at snakes in their zoo habitat.","English",23.6,17.7,"597.96--dc23","24 pp.","https://www.garethstevens.com/9781538239483",null,{"$f":"Table1[[#This Row],[QTY]]*Table1[[#This Row],['# Books]]","v":0},{"$f":"Table1[[#This Row],[QTY]]*Table1[[#This Row],[S&L Price]]","v":0}]
[null,null,11,"Zoo Animals",1,"Snakes at the Zoo","eBook",null,"978-1-5382-3949-0",{"$f":"HYPERLINK(Table1[[#This Row],[eCommerce Hyperlink]],\"Book Weblink\")","v":"Book Weblink"},null,"2020","August 2019",null,null,"Author","Seth Lynch","0.9","0.5",null,null,"C",null,"Grade K","Grade Pre-K - 2","Snakes can by teeny tiny or they can be hundreds of pounds and many feet long. That's what makes visiting snakes at the zoo so fun; there's so much to see and learn about them! This book for new readers covers many different kinds of snakes found at the zoo. Readers are provided with details about what they eat, what they do, and how big they can be in the wild. Full-color photographs are carefully correlated to the text to aid readers' comprehension and give an up-close look at snakes in their zoo habitat.","English",23.6,17.7,"597.96--dc23","24 pp.","https://www.garethstevens.com/9781538239490",null,{"$f":"Table1[[#This Row],[QTY]]*Table1[[#This Row],['# Books]]","v":0},{"$f":"Table1[[#This Row],[QTY]]*Table1[[#This Row],[S&L Price]]","v":0}]
[null,null,11,"Zoo Animals",1,"Tigers at the Zoo","Library Bound Book",null,"978-1-5382-3952-0",{"$f":"HYPERLINK(Table1[[#This Row],[eCommerce Hyperlink]],\"Book Weblink\")","v":"Book Weblink"},null,"2020","August 2019","Library","7.625 X 7.125","Author","Seth Lynch","0.9","0.5",null,null,"C",null,"Grade K","Grade Pre-K - 2","It always seems like tigers at the zoo are sleeping lazily in the sun. What else do they do with their day? Or night? Young readers catch a glimpse of tiger life at the zoo right inside their habitat! From what tigers eat to where they sleep, the information in this book will delight readers and help them prepare for their next trip to the zoo. Including language and topics appropriate for pre-K, the main content is achievable for beginning readers and has close correlation to full-color photographs of tigers at the zoo.","English",23.6,17.7,"599.756--dc23","24 pp.","https://www.garethstevens.com/9781538239520",null,{"$f":"Table1[[#This Row],[QTY]]*Table1[[#This Row],['# Books]]","v":0},{"$f":"Table1[[#This Row],[QTY]]*Table1[[#This Row],[S&L Price]]","v":0}]
[null,null,11,"Zoo Animals",1,"Tigers at the Zoo","eBook",null,"978-1-5382-3953-7",{"$f":"HYPERLINK(Table1[[#This Row],[eCommerce Hyperlink]],\"Book Weblink\")","v":"Book Weblink"},null,"2020","August 2019",null,null,"Author","Seth Lynch","0.9","0.5",null,null,"C",null,"Grade K","Grade Pre-K - 2","It always seems like tigers at the zoo are sleeping lazily in the sun. What else do they do with their day? Or night? Young readers catch a glimpse of tiger life at the zoo right inside their habitat! From what tigers eat to where they sleep, the information in this book will delight readers and help them prepare for their next trip to the zoo. Including language and topics appropriate for pre-K, the main content is achievable for beginning readers and has close correlation to full-color photographs of tigers at the zoo.","English",23.6,17.7,"599.756--dc23","24 pp.","https://www.garethstevens.com/9781538239537",null,{"$f":"Table1[[#This Row],[QTY]]*Table1[[#This Row],['# Books]]","v":0},{"$f":"Table1[[#This Row],[QTY]]*Table1[[#This Row],[S&L Price]]","v":0}]
[null,null,11,"Zoo Animals",1,"Toucans at the Zoo","Library Bound Book",null,"978-1-5382-3956-8",{"$f":"HYPERLINK(Table1[[#This Row],[eCommerce Hyperlink]],\"Book Weblink\")","v":"Book Weblink"},null,"2020","August 2019","Library","7.625 X 7.125","Author","Seth Lynch","0.9","0.5",null,null,"C",null,"Grade K","Grade Pre-K - 2","Toucans are easy to spot because of their huge, colorful bill. It can be as much as four times the size of the bird's head. Readers may recognize this bird at the zoo, but this book helps new readers learn more about the iconic toucan. Including what their lives are like at the zoo and what they eat, the main content is written especially for pre-K readers with achievable language. Full-color photographs invite readers into the toucan's habitat and aid comprehension of the text.","English",23.6,17.7,"598.7/2--dc23","24 pp.","https://www.garethstevens.com/9781538239568",null,{"$f":"Table1[[#This Row],[QTY]]*Table1[[#This Row],['# Books]]","v":0},{"$f":"Table1[[#This Row],[QTY]]*Table1[[#This Row],[S&L Price]]","v":0}]
[null,null,11,"Zoo Animals",1,"Toucans at the Zoo","eBook",null,"978-1-5382-3957-5",{"$f":"HYPERLINK(Table1[[#This Row],[eCommerce Hyperlink]],\"Book Weblink\")","v":"Book Weblink"},null,"2020","August 2019",null,null,"Author","Seth Lynch","0.9","0.5",null,null,"C",null,"Grade K","Grade Pre-K - 2","Toucans are easy to spot because of their huge, colorful bill. It can be as much as four times the size of the bird's head. Readers may recognize this bird at the zoo, but this book helps new readers learn more about the iconic toucan. Including what their lives are like at the zoo and what they eat, the main content is written especially for pre-K readers with achievable language. Full-color photographs invite readers into the toucan's habitat and aid comprehension of the text.","English",23.6,17.7,"598.7/2--dc23","24 pp.","https://www.garethstevens.com/9781538239575",null,{"$f":"Table1[[#This Row],[QTY]]*Table1[[#This Row],['# Books]]","v":0},{"$f":"Table1[[#This Row],[QTY]]*Table1[[#This Row],[S&L Price]]","v":0}]
[null,null,12,"Healthy Me!",6,"Healthy Me!","Library Set",null,"978-1-5382-8150-5",null,null,"2023","August 2022","Library","7.625 X 7.125",null,null,null,null,null,null,null,null,"Grade K","Grade Pre-K - 2","Learning healthy habits is a life-long process that many adults continue to work on. It’s never too early to start exposing children to the ways they can take care of their bodies, from engaging in joyful movement and understanding basic nutrition to brushing their teeth and bathing consistently. In this adorable set for emerging readers, the text introduces many healthy habits in relatable ways and examples. Full-color photographs directly correlate with the achievable text, aiding in readers’ understanding and enjoyment of the content.","English",141.6,106.2,null,"24 pp.","https://www.garethstevens.com/9781538281505",null,{"$f":"Table1[[#This Row],[QTY]]*Table1[[#This Row],['# Books]]","v":0},{"$f":"Table1[[#This Row],[QTY]]*Table1[[#This Row],[S&L Price]]","v":0}]
[null,null,12,"Healthy Me!",1,"I Eat Right!","Library Bound Book",null,"978-1-5382-7537-5",null,null,"2023","August 2022","Library","7.625 X 7.125","Author","Kathleen Connors",null,null,null,null,"C",null,"Grade K","Grade Pre-K - 2","Young children have the innate ability to listen to their bodies hunger and fullness cues. While it’s often up to caregivers to supply a well-balanced diet, those of reading age are able to learn about making good choices for what they need. In this book, fruits, vegetables, grains, and even fun foods all have a place. Relatable examples written in low-ATOS text model to readers a good relationship with food and what different foods do for our bodies.","English",23.6,17.7,"613.2083","24 pp.","https://www.garethstevens.com/9781538275375",null,{"$f":"Table1[[#This Row],[QTY]]*Table1[[#This Row],['# Books]]","v":0},{"$f":"Table1[[#This Row],[QTY]]*Table1[[#This Row],[S&L Price]]","v":0}]
[null,null,12,"Healthy Me!",1,"I Eat Right!","eBook",null,"978-1-5382-7538-2",null,null,"2023","August 2022",null,null,"Author","Kathleen Connors",null,null,null,null,"C",null,"Grade K","Grade Pre-K - 2","Young children have the innate ability to listen to their bodies hunger and fullness cues. While it’s often up to caregivers to supply a well-balanced diet, those of reading age are able to learn about making good choices for what they need. In this book, fruits, vegetables, grains, and even fun foods all have a place. Relatable examples written in low-ATOS text model to readers a good relationship with food and what different foods do for our bodies.","English",23.6,17.7,"613.2083","24 pp.","https://www.garethstevens.com/9781538275382","http://www.epointplus.com/embed/9781538275382/?login=cyberrep&password=cyberrep",{"$f":"Table1[[#This Row],[QTY]]*Table1[[#This Row],['# Books]]","v":0},{"$f":"Table1[[#This Row],[QTY]]*Table1[[#This Row],[S&L Price]]","v":0}]
[null,null,12,"Healthy Me!",1,"I Get My Rest!","Library Bound Book",null,"978-1-5382-7541-2",null,null,"2023","August 2022","Library","7.625 X 7.125","Author","Kathleen Connors",null,null,null,null,"C",null,"Grade K","Grade Pre-K - 2","Sleep is one of the most important parts of a healthy lifestyle. And many people don’t get enough of it! This book emphasizes the growth that occurs during sleep, encouraging young readers to look forward to sleep so they can be a big kid. Naps and taking breaks are also explained to be part of needed rest, particularly after a long morning playing or a sports game. Low-ATOS text is achievable for emerging readers and complemented by full-color photographs to aid in comprehension.","English",23.6,17.7,"154.6083","24 pp.","https://www.garethstevens.com/9781538275412",null,{"$f":"Table1[[#This Row],[QTY]]*Table1[[#This Row],['# Books]]","v":0},{"$f":"Table1[[#This Row],[QTY]]*Table1[[#This Row],[S&L Price]]","v":0}]
[null,null,12,"Healthy Me!",1,"I Get My Rest!","eBook",null,"978-1-5382-7542-9",null,null,"2023","August 2022",null,null,"Author","Kathleen Connors",null,null,null,null,"C",null,"Grade K","Grade Pre-K - 2","Sleep is one of the most important parts of a healthy lifestyle. And many people don’t get enough of it! This book emphasizes the growth that occurs during sleep, encouraging young readers to look forward to sleep so they can be a big kid. Naps and taking breaks are also explained to be part of needed rest, particularly after a long morning playing or a sports game. Low-ATOS text is achievable for emerging readers and complemented by full-color photographs to aid in comprehension.","English",23.6,17.7,"154.6083","24 pp.","https://www.garethstevens.com/9781538275429","http://www.epointplus.com/embed/9781538275429/?login=cyberrep&password=cyberrep",{"$f":"Table1[[#This Row],[QTY]]*Table1[[#This Row],['# Books]]","v":0},{"$f":"Table1[[#This Row],[QTY]]*Table1[[#This Row],[S&L Price]]","v":0}]
[null,null,12,"Healthy Me!",1,"I Go to the Dentist!","Library Bound Book",null,"978-1-5382-7545-0",null,null,"2023","August 2022","Library","7.625 X 7.125","Author","Kathleen Connors",null,null,null,null,"C",null,"Grade K","Grade Pre-K - 2","Teaching young children to brush their teeth can be a battle. But, it’s one that really pays off! A clean bill of health from the dentist is truly something to celebrate. In this book, readers see what a dentist appointment might be like for both a well child and one with a toothache. The low-ATOS text also includes dental tools and explains why one uses a toothbrush. Close text-to-image correlation helps emerging readers read with little help.","English",23.6,17.7,"617.6","24 pp.","https://www.garethstevens.com/9781538275450",null,{"$f":"Table1[[#This Row],[QTY]]*Table1[[#This Row],['# Books]]","v":0},{"$f":"Table1[[#This Row],[QTY]]*Table1[[#This Row],[S&L Price]]","v":0}]
[null,null,12,"Healthy Me!",1,"I Go to the Dentist!","eBook",null,"978-1-5382-7546-7",null,null,"2023","August 2022",null,null,"Author","Kathleen Connors",null,null,null,null,"C",null,"Grade K","Grade Pre-K - 2","Teaching young children to brush their teeth can be a battle. But, it’s one that really pays off! A clean bill of health from the dentist is truly something to celebrate. In this book, readers see what a dentist appointment might be like for both a well child and one with a toothache. The low-ATOS text also includes dental tools and explains why one uses a toothbrush. Close text-to-image correlation helps emerging readers read with little help.","English",23.6,17.7,"617.6","24 pp.","https://www.garethstevens.com/9781538275467","http://www.epointplus.com/embed/9781538275467/?login=cyberrep&password=cyberrep",{"$f":"Table1[[#This Row],[QTY]]*Table1[[#This Row],['# Books]]","v":0},{"$f":"Table1[[#This Row],[QTY]]*Table1[[#This Row],[S&L Price]]","v":0}]
[null,null,12,"Healthy Me!",1,"I Go to the Doctor!","Library Bound Book",null,"978-1-5382-7549-8",null,null,"2023","August 2022","Library","7.625 X 7.125","Author","Kathleen Connors",null,null,null,null,"C",null,"Grade K","Grade Pre-K - 2","Visiting the doctor is a healthy habit many children are familiar with doing each year, or even more often. Both well checkups and sick visits are an important part of taking care of our bodies. In this book, low-ATOS text explains both kinds of visits in achievable text for emerging readers using relatable examples. Full-color photographs correlate directly with the text aiding in comprehension and increasing familiarity with what happens when children visit the doctor.","English",23.6,17.7,"618.92","24 pp.","https://www.garethstevens.com/9781538275498",null,{"$f":"Table1[[#This Row],[QTY]]*Table1[[#This Row],['# Books]]","v":0},{"$f":"Table1[[#This Row],[QTY]]*Table1[[#This Row],[S&L Price]]","v":0}]
[null,null,12,"Healthy Me!",1,"I Go to the Doctor!","eBook",null,"978-1-5382-7550-4",null,null,"2023","August 2022",null,null,"Author","Kathleen Connors",null,null,null,null,"C",null,"Grade K","Grade Pre-K - 2","Visiting the doctor is a healthy habit many children are familiar with doing each year, or even more often. Both well checkups and sick visits are an important part of taking care of our bodies. In this book, low-ATOS text explains both kinds of visits in achievable text for emerging readers using relatable examples. Full-color photographs correlate directly with the text aiding in comprehension and increasing familiarity with what happens when children visit the doctor.","English",23.6,17.7,"618.92","24 pp.","https://www.garethstevens.com/9781538275504","http://www.epointplus.com/embed/9781538275504/?login=cyberrep&password=cyberrep",{"$f":"Table1[[#This Row],[QTY]]*Table1[[#This Row],['# Books]]","v":0},{"$f":"Table1[[#This Row],[QTY]]*Table1[[#This Row],[S&L Price]]","v":0}]
[null,null,12,"Healthy Me!",1,"I Play!","Library Bound Book",null,"978-1-5382-7553-5",null,null,"2023","August 2022","Library","7.625 X 7.125","Author","Kathleen Connors",null,null,null,null,"C",null,"Grade K","Grade Pre-K - 2","Adults know that daily movement is good for their body, but children have the need to move even without this direct knowledge! They wiggle; they jump; they run. In short, their exercise is play! This volume celebrates the joyful movement of emerging readers, from playing tag to playing catch with a furry friend. The examples are familiar and easy for readers to relate to and encourages different kinds of play. Full-color photographs correlate with low-ATOS to increase comprehension.","English",23.6,17.7,"790--dc23","24 pp.","https://www.garethstevens.com/9781538275535",null,{"$f":"Table1[[#This Row],[QTY]]*Table1[[#This Row],['# Books]]","v":0},{"$f":"Table1[[#This Row],[QTY]]*Table1[[#This Row],[S&L Price]]","v":0}]
[null,null,12,"Healthy Me!",1,"I Play!","eBook",null,"978-1-5382-7554-2",null,null,"2023","August 2022",null,null,"Author","Kathleen Connors",null,null,null,null,"C",null,"Grade K","Grade Pre-K - 2","Adults know that daily movement is good for their body, but children have the need to move even without this direct knowledge! They wiggle; they jump; they run. In short, their exercise is play! This volume celebrates the joyful movement of emerging readers, from playing tag to playing catch with a furry friend. The examples are familiar and easy for readers to relate to and encourages different kinds of play. Full-color photographs correlate with low-ATOS to increase comprehension.","English",23.6,17.7,"790--dc23","24 pp.","https://www.garethstevens.com/9781538275542","http://www.epointplus.com/embed/9781538275542/?login=cyberrep&password=cyberrep",{"$f":"Table1[[#This Row],[QTY]]*Table1[[#This Row],['# Books]]","v":0},{"$f":"Table1[[#This Row],[QTY]]*Table1[[#This Row],[S&L Price]]","v":0}]
[null,null,12,"Healthy Me!",1,"I Stay Clean!","Library Bound Book",null,"978-1-5382-7557-3",null,null,"2023","August 2022","Library","7.625 X 7.125","Author","Kathleen Connors",null,null,null,null,"C",null,"Grade K","Grade Pre-K - 2","Many children are used to taking a bath a few times a week or even every night. It’s important to keep your body clean! But, perhaps more importantly to being healthy, is learning to wash your hands after using the bathroom, going outside, or before eating. In this colorful volume, readers are reminded of all the ways they can stay clean. Relatable examples written in low-ATOS text model these habits for emerging readers and directly correlate to full-color photographs.","English",23.6,17.7,"613--dc23","24 pp.","https://www.garethstevens.com/9781538275573",null,{"$f":"Table1[[#This Row],[QTY]]*Table1[[#This Row],['# Books]]","v":0},{"$f":"Table1[[#This Row],[QTY]]*Table1[[#This Row],[S&L Price]]","v":0}]
[null,null,12,"Healthy Me!",1,"I Stay Clean!","eBook",null,"978-1-5382-7558-0",null,null,"2023","August 2022",null,null,"Author","Kathleen Connors",null,null,null,null,"C",null,"Grade K","Grade Pre-K - 2","Many children are used to taking a bath a few times a week or even every night. It’s important to keep your body clean! But, perhaps more importantly to being healthy, is learning to wash your hands after using the bathroom, going outside, or before eating. In this colorful volume, readers are reminded of all the ways they can stay clean. Relatable examples written in low-ATOS text model these habits for emerging readers and directly correlate to full-color photographs.","English",23.6,17.7,"613--dc23","24 pp.","https://www.garethstevens.com/9781538275580","http://www.epointplus.com/embed/9781538275580/?login=cyberrep&password=cyberrep",{"$f":"Table1[[#This Row],[QTY]]*Table1[[#This Row],['# Books]]","v":0},{"$f":"Table1[[#This Row],[QTY]]*Table1[[#This Row],[S&L Price]]","v":0}]
[null,null,13,"Our Exciting Earth!",12,"Our Exciting Earth!: Sets 1 – 2","Library Set",null,"978-1-5382-8167-3",null,null,"2023","August 2022","Library","7.625 X 7.125",null,null,null,null,null,null,null,null,"Grade K","Grade Pre-K - 2","Our Earth is a fascinating place full of many landforms. This engaging series helps learners understand natural features of regions such as mountains, valleys, reefs, and waterfalls. These volumes reinforce key concepts from elementary science curricula by helping readers not only understand what makes something a certain landform but also understand the landforms’ conditions and the types of organisms that live there. Young geographers will love this exciting exploration of their world.","English",283.2,212.4,null,"24 pp.","https://www.garethstevens.com/9781538281673",null,{"$f":"Table1[[#This Row],[QTY]]*Table1[[#This Row],['# Books]]","v":0},{"$f":"Table1[[#This Row],[QTY]]*Table1[[#This Row],[S&L Price]]","v":0}]
[null,null,13,"Our Exciting Earth!",6,"Our Exciting Earth!: Set 2","Library Set",null,"978-1-5382-8166-6",null,null,"2023","August 2022","Library","7.625 X 7.125",null,null,null,null,null,null,null,null,"Grade K","Grade Pre-K - 2","From canyons and caves to waterfalls and swamps, our planet is full of fascinating formations. These low-ATOS level volumes support early readers in learning important elementary science concepts related to Earth’s natural landforms. Accessible text correlates closely with colorful photographs, supporting the development of key reading-comprehension skills. A picture glossary and simple index introduce newer readers to common elements they’ll see in books. Young nature enthusiasts are sure to love this innovative series.","English",141.6,106.2,null,"24 pp.","https://www.garethstevens.com/9781538281666",null,{"$f":"Table1[[#This Row],[QTY]]*Table1[[#This Row],['# Books]]","v":0},{"$f":"Table1[[#This Row],[QTY]]*Table1[[#This Row],[S&L Price]]","v":0}]
[null,null,13,"Our Exciting Earth!",1,"Canyons","Library Bound Book",null,"978-1-5382-7561-0",null,null,"2023","August 2022","Library","7.625 X 7.125","Author","Tanner Billings",null,null,null,null,"C",null,"Grade K","Grade Pre-K - 2","Canyons form over millions of years and provide us with some of the most awe-inspiring views on Earth. Readers of this engaging volume will learn all about these amazing formations—from how they form to where some of them are located. Low-ATOS level text introduces early readers to essential science curricula and correlates closely with colorful photographs, encouraging the development of strong comprehension skills. Budding geographers are sure to love this exciting exploration of one of nature’s most incredible types of landforms.","English",23.6,17.7,"551.44/2--dc23","24 pp.","https://www.garethstevens.com/9781538275610",null,{"$f":"Table1[[#This Row],[QTY]]*Table1[[#This Row],['# Books]]","v":0},{"$f":"Table1[[#This Row],[QTY]]*Table1[[#This Row],[S&L Price]]","v":0}]
[null,null,13,"Our Exciting Earth!",1,"Canyons","eBook",null,"978-1-5382-7562-7",null,null,"2023","August 2022",null,null,"Author","Tanner Billings",null,null,null,null,"C",null,"Grade K","Grade Pre-K - 2","Canyons form over millions of years and provide us with some of the most awe-inspiring views on Earth. Readers of this engaging volume will learn all about these amazing formations—from how they form to where some of them are located. Low-ATOS level text introduces early readers to essential science curricula and correlates closely with colorful photographs, encouraging the development of strong comprehension skills. Budding geographers are sure to love this exciting exploration of one of nature’s most incredible types of landforms.","English",23.6,17.7,"551.44/2--dc23","24 pp.","https://www.garethstevens.com/9781538275627","http://www.epointplus.com/embed/9781538275627/?login=cyberrep&password=cyberrep",{"$f":"Table1[[#This Row],[QTY]]*Table1[[#This Row],['# Books]]","v":0},{"$f":"Table1[[#This Row],[QTY]]*Table1[[#This Row],[S&L Price]]","v":0}]
[null,null,13,"Our Exciting Earth!",1,"Caves","Library Bound Book",null,"978-1-5382-7565-8",null,null,"2023","August 2022","Library","7.625 X 7.125","Author","Tanner Billings",null,null,null,null,"C",null,"Grade K","Grade Pre-K - 2","Caves may seem like dark and scary places—and they can be—but there’s much more to know about these amazing formations. This low-ATOS volume introduces early readers to these rocky holes in the earth. Accessible text and colorful photographs help them visualize these places and develop a deeper understanding what they are like, where they can be found, and how they form. Whether an aspiring geologist or simply a curious individual, readers will love this introduction to elementary science concepts.","English",23.6,17.7,"551.44/7--dc23","24 pp.","https://www.garethstevens.com/9781538275658",null,{"$f":"Table1[[#This Row],[QTY]]*Table1[[#This Row],['# Books]]","v":0},{"$f":"Table1[[#This Row],[QTY]]*Table1[[#This Row],[S&L Price]]","v":0}]
[null,null,13,"Our Exciting Earth!",1,"Caves","eBook",null,"978-1-5382-7566-5",null,null,"2023","August 2022",null,null,"Author","Tanner Billings",null,null,null,null,"C",null,"Grade K","Grade Pre-K - 2","Caves may seem like dark and scary places—and they can be—but there’s much more to know about these amazing formations. This low-ATOS volume introduces early readers to these rocky holes in the earth. Accessible text and colorful photographs help them visualize these places and develop a deeper understanding what they are like, where they can be found, and how they form. Whether an aspiring geologist or simply a curious individual, readers will love this introduction to elementary science concepts.","English",23.6,17.7,"551.44/7--dc23","24 pp.","https://www.garethstevens.com/9781538275665","http://www.epointplus.com/embed/9781538275665/?login=cyberrep&password=cyberrep",{"$f":"Table1[[#This Row],[QTY]]*Table1[[#This Row],['# Books]]","v":0},{"$f":"Table1[[#This Row],[QTY]]*Table1[[#This Row],[S&L Price]]","v":0}]
[null,null,13,"Our Exciting Earth!",1,"Lakes","Library Bound Book",null,"978-1-5382-7569-6",null,null,"2023","August 2022","Library","7.625 X 7.125","Author","Tanner Billings",null,null,null,null,"C",null,"Grade K","Grade Pre-K - 2","Young readers are likely familiar with lakes on a basic level, but they may not know key details such as where the water that fills lakes comes from or where the world’s deepest lake is located. With this captivating guide, readers will love learning all sorts of fun facts about lakes. Engaging subject matter introduces early readers to important elementary science curricula. Eye-catching photographs correlate closely with low-ATOS level text, supporting the development of strong reading comprehension skills.","English",23.6,17.7,"551.48/2--dc23","24 pp.","https://www.garethstevens.com/9781538275696",null,{"$f":"Table1[[#This Row],[QTY]]*Table1[[#This Row],['# Books]]","v":0},{"$f":"Table1[[#This Row],[QTY]]*Table1[[#This Row],[S&L Price]]","v":0}]
[null,null,13,"Our Exciting Earth!",1,"Lakes","eBook",null,"978-1-5382-7570-2",null,null,"2023","August 2022",null,null,"Author","Tanner Billings",null,null,null,null,"C",null,"Grade K","Grade Pre-K - 2","Young readers are likely familiar with lakes on a basic level, but they may not know key details such as where the water that fills lakes comes from or where the world’s deepest lake is located. With this captivating guide, readers will love learning all sorts of fun facts about lakes. Engaging subject matter introduces early readers to important elementary science curricula. Eye-catching photographs correlate closely with low-ATOS level text, supporting the development of strong reading comprehension skills.","English",23.6,17.7,"551.48/2--dc23","24 pp.","https://www.garethstevens.com/9781538275702","http://www.epointplus.com/embed/9781538275702/?login=cyberrep&password=cyberrep",{"$f":"Table1[[#This Row],[QTY]]*Table1[[#This Row],['# Books]]","v":0},{"$f":"Table1[[#This Row],[QTY]]*Table1[[#This Row],[S&L Price]]","v":0}]
[null,null,13,"Our Exciting Earth!",1,"Reefs","Library Bound Book",null,"978-1-5382-7573-3",null,null,"2023","August 2022","Library","7.625 X 7.125","Author","Tanner Billings",null,null,null,null,"C",null,"Grade K","Grade Pre-K - 2","Reefs are home to a wide variety of organisms, such as coral and many different plants. With the help of this captivating volume, early readers will learn all about the underwater areas that have been dubbed “rainforests of the sea.” Accessible text is paired with closely related photographs in order to support the development of strong reading comprehension skills. This easy-to-follow, low-ATOS guide is the perfect way to introduce young readers to important elementary science curricula.","English",23.6,17.7,"577.7/89--dc23","24 pp.","https://www.garethstevens.com/9781538275733",null,{"$f":"Table1[[#This Row],[QTY]]*Table1[[#This Row],['# Books]]","v":0},{"$f":"Table1[[#This Row],[QTY]]*Table1[[#This Row],[S&L Price]]","v":0}]
[null,null,13,"Our Exciting Earth!",1,"Reefs","eBook",null,"978-1-5382-7574-0",null,null,"2023","August 2022",null,null,"Author","Tanner Billings",null,null,null,null,"C",null,"Grade K","Grade Pre-K - 2","Reefs are home to a wide variety of organisms, such as coral and many different plants. With the help of this captivating volume, early readers will learn all about the underwater areas that have been dubbed “rainforests of the sea.” Accessible text is paired with closely related photographs in order to support the development of strong reading comprehension skills. This easy-to-follow, low-ATOS guide is the perfect way to introduce young readers to important elementary science curricula.","English",23.6,17.7,"577.7/89--dc23","24 pp.","https://www.garethstevens.com/9781538275740","http://www.epointplus.com/embed/9781538275740/?login=cyberrep&password=cyberrep",{"$f":"Table1[[#This Row],[QTY]]*Table1[[#This Row],['# Books]]","v":0},{"$f":"Table1[[#This Row],[QTY]]*Table1[[#This Row],[S&L Price]]","v":0}]
[null,null,13,"Our Exciting Earth!",1,"Swamps","Library Bound Book",null,"978-1-5382-7577-1",null,null,"2023","August 2022","Library","7.625 X 7.125","Author","Tanner Billings",null,null,null,null,"C",null,"Grade K","Grade Pre-K - 2","A swamp is an area of land that is often partially covered with water. This engaging volume fully covers the key facts about these wonderful wetlands. Accessible text is paired closely with colorful photographs, helping young readers develop a strong understanding of the book’s content. A picture glossary and simple index introduce beginning readers to common book elements, while the subject matter introduces them to concepts important to elementary science curricula. Young nature lovers are sure to enjoy this exciting and informative guide.","English",23.6,17.7,"577.68--dc23","24 pp.","https://www.garethstevens.com/9781538275771",null,{"$f":"Table1[[#This Row],[QTY]]*Table1[[#This Row],['# Books]]","v":0},{"$f":"Table1[[#This Row],[QTY]]*Table1[[#This Row],[S&L Price]]","v":0}]
[null,null,13,"Our Exciting Earth!",1,"Swamps","eBook",null,"978-1-5382-7578-8",null,null,"2023","August 2022",null,null,"Author","Tanner Billings",null,null,null,null,"C",null,"Grade K","Grade Pre-K - 2","A swamp is an area of land that is often partially covered with water. This engaging volume fully covers the key facts about these wonderful wetlands. Accessible text is paired closely with colorful photographs, helping young readers develop a strong understanding of the book’s content. A picture glossary and simple index introduce beginning readers to common book elements, while the subject matter introduces them to concepts important to elementary science curricula. Young nature lovers are sure to enjoy this exciting and informative guide.","English",23.6,17.7,"577.68--dc23","24 pp.","https://www.garethstevens.com/9781538275788","http://www.epointplus.com/embed/9781538275788/?login=cyberrep&password=cyberrep",{"$f":"Table1[[#This Row],[QTY]]*Table1[[#This Row],['# Books]]","v":0},{"$f":"Table1[[#This Row],[QTY]]*Table1[[#This Row],[S&L Price]]","v":0}]
[null,null,13,"Our Exciting Earth!",1,"Waterfalls","Library Bound Book",null,"978-1-5382-7581-8",null,null,"2023","August 2022","Library","7.625 X 7.125","Author","Tanner Billings",null,null,null,null,"C",null,"Grade K","Grade Pre-K - 2","From the towering Angel Falls of Venezuela to the magnificent Niagara Falls straddling the United States and Canada, breathtaking waterfalls can be found all over the world. Even the smallest waterfalls with barely a trickle of water are a beautiful part of nature. With the help of this easy-to-follow guide, early readers will learn key information about these beautiful formations. Low-ATOS text pairs closely with eye-catching photographs, helping young readers develop a strong understanding of the content.","English",23.6,17.7,"551.48/4--dc23","24 pp.","https://www.garethstevens.com/9781538275818",null,{"$f":"Table1[[#This Row],[QTY]]*Table1[[#This Row],['# Books]]","v":0},{"$f":"Table1[[#This Row],[QTY]]*Table1[[#This Row],[S&L Price]]","v":0}]
[null,null,13,"Our Exciting Earth!",1,"Waterfalls","eBook",null,"978-1-5382-7582-5",null,null,"2023","August 2022",null,null,"Author","Tanner Billings",null,null,null,null,"C",null,"Grade K","Grade Pre-K - 2","From the towering Angel Falls of Venezuela to the magnificent Niagara Falls straddling the United States and Canada, breathtaking waterfalls can be found all over the world. Even the smallest waterfalls with barely a trickle of water are a beautiful part of nature. With the help of this easy-to-follow guide, early readers will learn key information about these beautiful formations. Low-ATOS text pairs closely with eye-catching photographs, helping young readers develop a strong understanding of the content.","English",23.6,17.7,"551.48/4--dc23","24 pp.","https://www.garethstevens.com/9781538275825","http://www.epointplus.com/embed/9781538275825/?login=cyberrep&password=cyberrep",{"$f":"Table1[[#This Row],[QTY]]*Table1[[#This Row],['# Books]]","v":0},{"$f":"Table1[[#This Row],[QTY]]*Table1[[#This Row],[S&L Price]]","v":0}]
[null,null,13,"Our Exciting Earth!",1,"Deserts","Library Bound Book",null,"978-1-5382-0963-9",{"$f":"HYPERLINK(Table1[[#This Row],[eCommerce Hyperlink]],\"Book Weblink\")","v":"Book Weblink"},null,"2018","January 2018","Library","7.625 X 7.125","Author","Claire Romaine","0.9","0.5",null,null,"C","230L","Grade K","Grade Pre-K - 2","Many people have preconceptions about biomes, especially deserts. They picture only hot, barren wastelands where nothing lives. This valuable volume teaches young Earth explorers some surprising facts about desert habitats. For example, some deserts don’t have sand, and some are quite cold. They’ll also learn how some resilient plants and animals survive in these arid environments. Beautiful images accompany the accessible low-ATOS text.","English",23.6,17.7,"577.54--dc23","24 pp.","https://www.garethstevens.com/9781538209639",null,{"$f":"Table1[[#This Row],[QTY]]*Table1[[#This Row],['# Books]]","v":0},{"$f":"Table1[[#This Row],[QTY]]*Table1[[#This Row],[S&L Price]]","v":0}]
[null,null,13,"Our Exciting Earth!",1,"Deserts","eBook",null,"978-1-5382-0964-6",{"$f":"HYPERLINK(Table1[[#This Row],[eCommerce Hyperlink]],\"Book Weblink\")","v":"Book Weblink"},null,"2018","January 2018",null,null,"Author","Claire Romaine","0.9","0.5",null,null,"C","230L","Grade K","Grade Pre-K - 2","Many people have preconceptions about biomes, especially deserts. They picture only hot, barren wastelands where nothing lives. This valuable volume teaches young Earth explorers some surprising facts about desert habitats. For example, some deserts don’t have sand, and some are quite cold. They’ll also learn how some resilient plants and animals survive in these arid environments. Beautiful images accompany the accessible low-ATOS text.","English",23.6,17.7,"577.54--dc23","24 pp.","https://www.garethstevens.com/9781538209646",null,{"$f":"Table1[[#This Row],[QTY]]*Table1[[#This Row],['# Books]]","v":0},{"$f":"Table1[[#This Row],[QTY]]*Table1[[#This Row],[S&L Price]]","v":0}]
[null,null,13,"Our Exciting Earth!",1,"Mountains","Library Bound Book",null,"978-1-5382-0967-7",{"$f":"HYPERLINK(Table1[[#This Row],[eCommerce Hyperlink]],\"Book Weblink\")","v":"Book Weblink"},null,"2018","January 2018","Library","7.625 X 7.125","Author","Jagger Youssef","0.9","0.5",null,null,"C","260L","Grade K","Grade Pre-K - 2","Mountains are some of Earth's most visually arresting landforms. There is no need to scale Mount Everest to discover important facts about mountains. Budding geographers can use this eye-catching book to learn about animals and plants that live on mountains as well as how people use these landforms as homes, as resources, and as places to have fun. Beautiful images correlate with essential vocabulary in this special low-ATOS volume.","English",23.6,17.7,"551.43'2--dc23","24 pp.","https://www.garethstevens.com/9781538209677",null,{"$f":"Table1[[#This Row],[QTY]]*Table1[[#This Row],['# Books]]","v":0},{"$f":"Table1[[#This Row],[QTY]]*Table1[[#This Row],[S&L Price]]","v":0}]
[null,null,13,"Our Exciting Earth!",1,"Mountains","eBook",null,"978-1-5382-0968-4",{"$f":"HYPERLINK(Table1[[#This Row],[eCommerce Hyperlink]],\"Book Weblink\")","v":"Book Weblink"},null,"2018","January 2018",null,null,"Author","Jagger Youssef","0.9","0.5",null,null,"C","260L","Grade K","Grade Pre-K - 2","Mountains are some of Earth's most visually arresting landforms. There is no need to scale Mount Everest to discover important facts about mountains. Budding geographers can use this eye-catching book to learn about animals and plants that live on mountains as well as how people use these landforms as homes, as resources, and as places to have fun. Beautiful images correlate with essential vocabulary in this special low-ATOS volume.","English",23.6,17.7,"551.43'2--dc23","24 pp.","https://www.garethstevens.com/9781538209684",null,{"$f":"Table1[[#This Row],[QTY]]*Table1[[#This Row],['# Books]]","v":0},{"$f":"Table1[[#This Row],[QTY]]*Table1[[#This Row],[S&L Price]]","v":0}]
[null,null,13,"Our Exciting Earth!",1,"Oceans","Library Bound Book",null,"978-1-5382-0971-4",{"$f":"HYPERLINK(Table1[[#This Row],[eCommerce Hyperlink]],\"Book Weblink\")","v":"Book Weblink"},null,"2018","January 2018","Library","7.625 X 7.125","Author","Claire Romaine","0.9","0.5",null,null,"C","260L","Grade K","Grade Pre-K - 2","The ocean is certainly a mysterious place, and this volume takes readers on a grand tour of the deep. They’ll meet ocean animals, such as sea turtles and blue whales, learn about ocean plants, and discover they can encounter marine creatures for themselves at low tide. This informative guide introduces aspiring oceanographers to some important elementary science vocabulary and concepts, supported by colorful photographs that perfectly match the accessible text.","English",23.6,17.7,"551.46--dc23","24 pp.","https://www.garethstevens.com/9781538209714",null,{"$f":"Table1[[#This Row],[QTY]]*Table1[[#This Row],['# Books]]","v":0},{"$f":"Table1[[#This Row],[QTY]]*Table1[[#This Row],[S&L Price]]","v":0}]
[null,null,13,"Our Exciting Earth!",1,"Oceans","eBook",null,"978-1-5382-0972-1",{"$f":"HYPERLINK(Table1[[#This Row],[eCommerce Hyperlink]],\"Book Weblink\")","v":"Book Weblink"},null,"2018","January 2018",null,null,"Author","Claire Romaine","0.9","0.5",null,null,"C","260L","Grade K","Grade Pre-K - 2","The ocean is certainly a mysterious place, and this volume takes readers on a grand tour of the deep. They’ll meet ocean animals, such as sea turtles and blue whales, learn about ocean plants, and discover they can encounter marine creatures for themselves at low tide. This informative guide introduces aspiring oceanographers to some important elementary science vocabulary and concepts, supported by colorful photographs that perfectly match the accessible text.","English",23.6,17.7,"551.46--dc23","24 pp.","https://www.garethstevens.com/9781538209721",null,{"$f":"Table1[[#This Row],[QTY]]*Table1[[#This Row],['# Books]]","v":0},{"$f":"Table1[[#This Row],[QTY]]*Table1[[#This Row],[S&L Price]]","v":0}]
[null,null,13,"Our Exciting Earth!",1,"Ponds","Library Bound Book",null,"978-1-5382-0975-2",{"$f":"HYPERLINK(Table1[[#This Row],[eCommerce Hyperlink]],\"Book Weblink\")","v":"Book Weblink"},null,"2018","January 2018","Library","7.625 X 7.125","Author","Jagger Youssef","0.9","0.5",null,null,"C","300L","Grade K","Grade Pre-K - 2","Even the smallest pond is a home for a myriad of plants and animals. This easy-to-follow volume demonstrates that accessible text and dynamic photographs are a perfect combination for introducing young readers to essential science topics. Readers will be delighted to meet the inhabitants of a pond, including frogs, minnows, ducklings, and even algae, which they’ll learn can make a pond turn green. They’ll be able to apply this valuable information to their next journey into the wild.","English",23.6,17.7,"577.63'6--dc23","24 pp.","https://www.garethstevens.com/9781538209752",null,{"$f":"Table1[[#This Row],[QTY]]*Table1[[#This Row],['# Books]]","v":0},{"$f":"Table1[[#This Row],[QTY]]*Table1[[#This Row],[S&L Price]]","v":0}]
[null,null,13,"Our Exciting Earth!",1,"Ponds","eBook",null,"978-1-5382-0976-9",{"$f":"HYPERLINK(Table1[[#This Row],[eCommerce Hyperlink]],\"Book Weblink\")","v":"Book Weblink"},null,"2018","January 2018",null,null,"Author","Jagger Youssef","0.9","0.5",null,null,"C","300L","Grade K","Grade Pre-K - 2","Even the smallest pond is a home for a myriad of plants and animals. This easy-to-follow volume demonstrates that accessible text and dynamic photographs are a perfect combination for introducing young readers to essential science topics. Readers will be delighted to meet the inhabitants of a pond, including frogs, minnows, ducklings, and even algae, which they’ll learn can make a pond turn green. They’ll be able to apply this valuable information to their next journey into the wild.","English",23.6,17.7,"577.63'6--dc23","24 pp.","https://www.garethstevens.com/9781538209769",null,{"$f":"Table1[[#This Row],[QTY]]*Table1[[#This Row],['# Books]]","v":0},{"$f":"Table1[[#This Row],[QTY]]*Table1[[#This Row],[S&L Price]]","v":0}]
[null,null,13,"Our Exciting Earth!",1,"Rainforests","Library Bound Book",null,"978-1-5382-0979-0",{"$f":"HYPERLINK(Table1[[#This Row],[eCommerce Hyperlink]],\"Book Weblink\")","v":"Book Weblink"},null,"2018","January 2018","Library","7.625 X 7.125","Author","Jagger Youssef","0.9","0.5",null,null,"C","250L","Grade K","Grade Pre-K - 2","There is no need to get wet hiking into a rainforest to find out what lies under the canopy. In the pages of this entertaining yet accessible volume, readers will learn about conditions in the rainforest, a habitat that's home to half of all species of animals and plants on Earth. Vivid photographs reveal tropical rainforests as lively and vibrant places, while a simple narrative encourages beginning readers to become explorers of Earth's wonders.","English",23.6,17.7,"577.34--dc23","24 pp.","https://www.garethstevens.com/9781538209790",null,{"$f":"Table1[[#This Row],[QTY]]*Table1[[#This Row],['# Books]]","v":0},{"$f":"Table1[[#This Row],[QTY]]*Table1[[#This Row],[S&L Price]]","v":0}]
[null,null,13,"Our Exciting Earth!",1,"Rainforests","eBook",null,"978-1-5382-0980-6",{"$f":"HYPERLINK(Table1[[#This Row],[eCommerce Hyperlink]],\"Book Weblink\")","v":"Book Weblink"},null,"2018","January 2018",null,null,"Author","Jagger Youssef","0.9","0.5",null,null,"C","250L","Grade K","Grade Pre-K - 2","There is no need to get wet hiking into a rainforest to find out what lies under the canopy. In the pages of this entertaining yet accessible volume, readers will learn about conditions in the rainforest, a habitat that's home to half of all species of animals and plants on Earth. Vivid photographs reveal tropical rainforests as lively and vibrant places, while a simple narrative encourages beginning readers to become explorers of Earth's wonders.","English",23.6,17.7,"577.34--dc23","24 pp.","https://www.garethstevens.com/9781538209806",null,{"$f":"Table1[[#This Row],[QTY]]*Table1[[#This Row],['# Books]]","v":0},{"$f":"Table1[[#This Row],[QTY]]*Table1[[#This Row],[S&L Price]]","v":0}]
[null,null,13,"Our Exciting Earth!",1,"Rivers","Library Bound Book",null,"978-1-5382-0983-7",{"$f":"HYPERLINK(Table1[[#This Row],[eCommerce Hyperlink]],\"Book Weblink\")","v":"Book Weblink"},null,"2018","January 2018","Library","7.625 X 7.125","Author","Claire Romaine","0.9","0.5",null,null,"C","270L","Grade K","Grade Pre-K - 2","Rivers are such an essential part of Earth's geography. They bring freshwater for drinking, for irrigation, and for transportation, and don't forget fishing. This low-ATOS introduction to this critical water source explains many aspects about rivers and their inhabitants, aided by colorful photographs that will make readers want to explore these indispensable natural resources for themselves.","English",23.6,17.7,"910.916'93--dc23","24 pp.","https://www.garethstevens.com/9781538209837",null,{"$f":"Table1[[#This Row],[QTY]]*Table1[[#This Row],['# Books]]","v":0},{"$f":"Table1[[#This Row],[QTY]]*Table1[[#This Row],[S&L Price]]","v":0}]
[null,null,13,"Our Exciting Earth!",1,"Rivers","eBook",null,"978-1-5382-0984-4",{"$f":"HYPERLINK(Table1[[#This Row],[eCommerce Hyperlink]],\"Book Weblink\")","v":"Book Weblink"},null,"2018","January 2018",null,null,"Author","Claire Romaine","0.9","0.5",null,null,"C","270L","Grade K","Grade Pre-K - 2","Rivers are such an essential part of Earth's geography. They bring freshwater for drinking, for irrigation, and for transportation, and don't forget fishing. This low-ATOS introduction to this critical water source explains many aspects about rivers and their inhabitants, aided by colorful photographs that will make readers want to explore these indispensable natural resources for themselves.","English",23.6,17.7,"910.916'93--dc23","24 pp.","https://www.garethstevens.com/9781538209844",null,{"$f":"Table1[[#This Row],[QTY]]*Table1[[#This Row],['# Books]]","v":0},{"$f":"Table1[[#This Row],[QTY]]*Table1[[#This Row],[S&L Price]]","v":0}]
[null,10,14,"How Does It Grow?",6,"How Does It Grow?","Library Set",null,"978-1-5382-6660-1",{"$f":"HYPERLINK(Table1[[#This Row],[eCommerce Hyperlink]],\"Book Weblink\")","v":"Book Weblink"},null,"2022","August 2021","Library","7.625 X 7.125",null,null,null,null,null,null,null,null,"Grade K","Grade Pre-K - 2","Flowers and trees are some of the first parts of the natural world that kids are able to see changes occur. From the growth of new plants to the changing leaves in fall, these changes are fascinating to watch. This set takes young readers from the start of growth from stem or seed to fruit, flower, and full-growth of banana plants, maple trees, grass, and other plants. Low-level text is paired with specially chosen colorful photographs to reinforce the information provided on each page. Features include: Close picture-to-text correlation aids young readers. Supports the Next Generation Science Standards for kindergarten by describing patterns of what plants need to survive. Encourages observation of the natural world.","English",135.6,101.7,null,"24 pp.","https://www.garethstevens.com/9781538266601",null,{"$f":"Table1[[#This Row],[QTY]]*Table1[[#This Row],['# Books]]","v":0},{"$f":"Table1[[#This Row],[QTY]]*Table1[[#This Row],[S&L Price]]","v":0}]
[null,10,14,"How Does It Grow?",1,"How Do Bananas Grow?","Library Bound Book",null,"978-1-5382-6295-5",{"$f":"HYPERLINK(Table1[[#This Row],[eCommerce Hyperlink]],\"Book Weblink\")","v":"Book Weblink"},null,"2022","August 2021","Library","7.625 X 7.125","Author","Kathleen Connors",null,null,null,null,"C",null,"Grade K","Grade Pre-K - 2","Everyone knows bananas are a fruit but, unlike apples and oranges, they don't grow on trees. Banana plants look like they have a trunk, but it is really densely packed leaves holding up a huge plant and bunches of bananas. Young readers will love learning the truth about banana plants, including that they don't grow from seeds but a piece of another banana plant. Colorful photographs take kids right to banana farms as this plant grows and produces a favorite fruit.","English",23.6,17.7,"634/.772--dc23","24 pp.","https://www.garethstevens.com/9781538262955",null,{"$f":"Table1[[#This Row],[QTY]]*Table1[[#This Row],['# Books]]","v":0},{"$f":"Table1[[#This Row],[QTY]]*Table1[[#This Row],[S&L Price]]","v":0}]
[null,10,14,"How Does It Grow?",1,"How Do Bananas Grow?","eBook",null,"978-1-5382-6296-2",{"$f":"HYPERLINK(Table1[[#This Row],[eCommerce Hyperlink]],\"Book Weblink\")","v":"Book Weblink"},null,"2022","August 2021",null,null,"Author","Kathleen Connors",null,null,null,null,"C",null,"Grade K","Grade Pre-K - 2","Everyone knows bananas are a fruit but, unlike apples and oranges, they don't grow on trees. Banana plants look like they have a trunk, but it is really densely packed leaves holding up a huge plant and bunches of bananas. Young readers will love learning the truth about banana plants, including that they don't grow from seeds but a piece of another banana plant. Colorful photographs take kids right to banana farms as this plant grows and produces a favorite fruit.","English",23.6,17.7,"634/.772--dc23","24 pp.","https://www.garethstevens.com/9781538262962",null,{"$f":"Table1[[#This Row],[QTY]]*Table1[[#This Row],['# Books]]","v":0},{"$f":"Table1[[#This Row],[QTY]]*Table1[[#This Row],[S&L Price]]","v":0}]
[null,10,14,"How Does It Grow?",1,"How Do Carrots Grow?","Library Bound Book",null,"978-1-5382-6299-3",{"$f":"HYPERLINK(Table1[[#This Row],[eCommerce Hyperlink]],\"Book Weblink\")","v":"Book Weblink"},null,"2022","August 2021","Library","7.625 X 7.125","Author","Kathleen Connors",null,null,null,null,"C",null,"Grade K","Grade Pre-K - 2","Carrots are a great snack, even though they're a plant root. These bright root vegetables grow underground for months before they become the sweet, crunchy veggie we put on salads and dip in hummus. Young readers follow along as carrot seeds are planted in soil, watered, and exposed to the sun, and as they grow into orange, yellow, purple, and white veggies. Age-appropriate detail and vocabulary guide readers just beginning to read independently. This volume supports Next Generation Science Standards.","English",23.6,17.7,"635","24 pp.","https://www.garethstevens.com/9781538262993",null,{"$f":"Table1[[#This Row],[QTY]]*Table1[[#This Row],['# Books]]","v":0},{"$f":"Table1[[#This Row],[QTY]]*Table1[[#This Row],[S&L Price]]","v":0}]
[null,10,14,"How Does It Grow?",1,"How Do Carrots Grow?","eBook",null,"978-1-5382-6300-6",{"$f":"HYPERLINK(Table1[[#This Row],[eCommerce Hyperlink]],\"Book Weblink\")","v":"Book Weblink"},null,"2022","August 2021",null,null,"Author","Kathleen Connors",null,null,null,null,"C",null,"Grade K","Grade Pre-K - 2","Carrots are a great snack, even though they're a plant root. These bright root vegetables grow underground for months before they become the sweet, crunchy veggie we put on salads and dip in hummus. Young readers follow along as carrot seeds are planted in soil, watered, and exposed to the sun, and as they grow into orange, yellow, purple, and white veggies. Age-appropriate detail and vocabulary guide readers just beginning to read independently. This volume supports Next Generation Science Standards.","English",23.6,17.7,"635","24 pp.","https://www.garethstevens.com/9781538263006",null,{"$f":"Table1[[#This Row],[QTY]]*Table1[[#This Row],['# Books]]","v":0},{"$f":"Table1[[#This Row],[QTY]]*Table1[[#This Row],[S&L Price]]","v":0}]
[null,10,14,"How Does It Grow?",1,"How Do Maple Trees Grow?","Library Bound Book",null,"978-1-5382-6303-7",{"$f":"HYPERLINK(Table1[[#This Row],[eCommerce Hyperlink]],\"Book Weblink\")","v":"Book Weblink"},null,"2022","August 2021","Library","7.625 X 7.125","Author","Kathleen Connors",null,null,null,null,"C",null,"Grade K","Grade Pre-K - 2","Maple trees grow all across North America and many other places in the world. There are many different kinds, but all grow in the same way. Your readers will learn that they start as a seed, sprout, become a sapling, and years later, are a full-grown tree. They will learn about what trees need to stay alive: water, soil, and sun. Beautiful photographs draw readers in with the lovely leaves and characteristics of maple trees, complimenting the age-appropriate narrative.","English",23.6,17.7,"664/.132--dc23","24 pp.","https://www.garethstevens.com/9781538263037",null,{"$f":"Table1[[#This Row],[QTY]]*Table1[[#This Row],['# Books]]","v":0},{"$f":"Table1[[#This Row],[QTY]]*Table1[[#This Row],[S&L Price]]","v":0}]
[null,10,14,"How Does It Grow?",1,"How Do Maple Trees Grow?","eBook",null,"978-1-5382-6304-4",{"$f":"HYPERLINK(Table1[[#This Row],[eCommerce Hyperlink]],\"Book Weblink\")","v":"Book Weblink"},null,"2022","August 2021",null,null,"Author","Kathleen Connors",null,null,null,null,"C",null,"Grade K","Grade Pre-K - 2","Maple trees grow all across North America and many other places in the world. There are many different kinds, but all grow in the same way. Your readers will learn that they start as a seed, sprout, become a sapling, and years later, are a full-grown tree. They will learn about what trees need to stay alive: water, soil, and sun. Beautiful photographs draw readers in with the lovely leaves and characteristics of maple trees, complimenting the age-appropriate narrative.","English",23.6,17.7,"664/.132--dc23","24 pp.","https://www.garethstevens.com/9781538263044",null,{"$f":"Table1[[#This Row],[QTY]]*Table1[[#This Row],['# Books]]","v":0},{"$f":"Table1[[#This Row],[QTY]]*Table1[[#This Row],[S&L Price]]","v":0}]
[null,10,14,"How Does It Grow?",1,"How Do Pine Trees Grow?","Library Bound Book",null,"978-1-5382-6307-5",{"$f":"HYPERLINK(Table1[[#This Row],[eCommerce Hyperlink]],\"Book Weblink\")","v":"Book Weblink"},null,"2022","August 2021","Library","7.625 X 7.125","Author","Kathleen Connors",null,null,null,null,"C",null,"Grade K","Grade Pre-K - 2","The pinecones found on the ground near a pine tree are an important part of the pine tree life cycle. They can hold hundreds of seeds. Like other plants, these seeds need soil, water, and sun. The seeds also need to be planted close to the surface of the soil. Beautiful photographs of full-grown pine trees, seeds sprouting, and seedlings correlate closely with the narrative, aiding beginning readers' comprehension in the fascinating life cycle of a pine tree.","English",23.6,17.7,"585","24 pp.","https://www.garethstevens.com/9781538263075",null,{"$f":"Table1[[#This Row],[QTY]]*Table1[[#This Row],['# Books]]","v":0},{"$f":"Table1[[#This Row],[QTY]]*Table1[[#This Row],[S&L Price]]","v":0}]
[null,10,14,"How Does It Grow?",1,"How Do Pine Trees Grow?","eBook",null,"978-1-5382-6308-2",{"$f":"HYPERLINK(Table1[[#This Row],[eCommerce Hyperlink]],\"Book Weblink\")","v":"Book Weblink"},null,"2022","August 2021",null,null,"Author","Kathleen Connors",null,null,null,null,"C",null,"Grade K","Grade Pre-K - 2","The pinecones found on the ground near a pine tree are an important part of the pine tree life cycle. They can hold hundreds of seeds. Like other plants, these seeds need soil, water, and sun. The seeds also need to be planted close to the surface of the soil. Beautiful photographs of full-grown pine trees, seeds sprouting, and seedlings correlate closely with the narrative, aiding beginning readers' comprehension in the fascinating life cycle of a pine tree.","English",23.6,17.7,"585","24 pp.","https://www.garethstevens.com/9781538263082",null,{"$f":"Table1[[#This Row],[QTY]]*Table1[[#This Row],['# Books]]","v":0},{"$f":"Table1[[#This Row],[QTY]]*Table1[[#This Row],[S&L Price]]","v":0}]
[null,10,14,"How Does It Grow?",1,"How Do Sunflowers Grow?","Library Bound Book",null,"978-1-5382-6311-2",{"$f":"HYPERLINK(Table1[[#This Row],[eCommerce Hyperlink]],\"Book Weblink\")","v":"Book Weblink"},null,"2022","August 2021","Library","7.625 X 7.125","Author","Kathleen Connors",null,null,null,null,"C",null,"Grade K","Grade Pre-K - 2","Nothing says summer like an open sunflower turned toward the sun. These familiar flowers are a great example of how flowering plants grow from seeds with some soil, space, sun, and water. Readers will follow this plant's growth through text with closely correlated photographs, including images of a sunflower sprouting, gaining leaves, budding, and opening to the lovely, friendly flower we know. Age-appropriate detail and vocabulary guide readers just beginning to read independently. This volume supports Next Generation Science Standards.","English",23.6,17.7,"583/.983--dc23","24 pp.","https://www.garethstevens.com/9781538263112",null,{"$f":"Table1[[#This Row],[QTY]]*Table1[[#This Row],['# Books]]","v":0},{"$f":"Table1[[#This Row],[QTY]]*Table1[[#This Row],[S&L Price]]","v":0}]
[null,10,14,"How Does It Grow?",1,"How Do Sunflowers Grow?","eBook",null,"978-1-5382-6312-9",{"$f":"HYPERLINK(Table1[[#This Row],[eCommerce Hyperlink]],\"Book Weblink\")","v":"Book Weblink"},null,"2022","August 2021",null,null,"Author","Kathleen Connors",null,null,null,null,"C",null,"Grade K","Grade Pre-K - 2","Nothing says summer like an open sunflower turned toward the sun. These familiar flowers are a great example of how flowering plants grow from seeds with some soil, space, sun, and water. Readers will follow this plant's growth through text with closely correlated photographs, including images of a sunflower sprouting, gaining leaves, budding, and opening to the lovely, friendly flower we know. Age-appropriate detail and vocabulary guide readers just beginning to read independently. This volume supports Next Generation Science Standards.","English",23.6,17.7,"583/.983--dc23","24 pp.","https://www.garethstevens.com/9781538263129",null,{"$f":"Table1[[#This Row],[QTY]]*Table1[[#This Row],['# Books]]","v":0},{"$f":"Table1[[#This Row],[QTY]]*Table1[[#This Row],[S&L Price]]","v":0}]
[null,10,14,"How Does It Grow?",1,"How Does Grass Grow?","Library Bound Book",null,"978-1-5382-6315-0",{"$f":"HYPERLINK(Table1[[#This Row],[eCommerce Hyperlink]],\"Book Weblink\")","v":"Book Weblink"},null,"2022","August 2021","Library","7.625 X 7.125","Author","Kathleen Connors",null,null,null,null,"C",null,"Grade K","Grade Pre-K - 2","There are many kinds of grass, but when most people think of this green plant, they think of the kind found in backyards and parks. Grass is like many other plants with its roots, leaves, and needs of soil, water, and sun. Young readers find out that acres of grass come from the tiniest of seeds. With this knowledge, they'll never look at someone mowing the lawn in the same way again. Full-color photographs closely correlate with the accessible narrative, which is written especially for emerging readers.","English",23.6,17.7,"633.2","24 pp.","https://www.garethstevens.com/9781538263150",null,{"$f":"Table1[[#This Row],[QTY]]*Table1[[#This Row],['# Books]]","v":0},{"$f":"Table1[[#This Row],[QTY]]*Table1[[#This Row],[S&L Price]]","v":0}]
[null,10,14,"How Does It Grow?",1,"How Does Grass Grow?","eBook",null,"978-1-5382-6316-7",{"$f":"HYPERLINK(Table1[[#This Row],[eCommerce Hyperlink]],\"Book Weblink\")","v":"Book Weblink"},null,"2022","August 2021",null,null,"Author","Kathleen Connors",null,null,null,null,"C",null,"Grade K","Grade Pre-K - 2","There are many kinds of grass, but when most people think of this green plant, they think of the kind found in backyards and parks. Grass is like many other plants with its roots, leaves, and needs of soil, water, and sun. Young readers find out that acres of grass come from the tiniest of seeds. With this knowledge, they'll never look at someone mowing the lawn in the same way again. Full-color photographs closely correlate with the accessible narrative, which is written especially for emerging readers.","English",23.6,17.7,"633.2","24 pp.","https://www.garethstevens.com/9781538263167",null,{"$f":"Table1[[#This Row],[QTY]]*Table1[[#This Row],['# Books]]","v":0},{"$f":"Table1[[#This Row],[QTY]]*Table1[[#This Row],[S&L Price]]","v":0}]
[null,11,14,"Tons of Trucks!",12,"Tons of Trucks!: Sets 1 – 2","Library Set",null,"978-1-5382-6682-3",{"$f":"HYPERLINK(Table1[[#This Row],[eCommerce Hyperlink]],\"Book Weblink\")","v":"Book Weblink"},null,"2022","August 2021","Library","7.625 X 7.125",null,null,null,null,null,null,null,null,"Grade K","Grade Pre-K - 2","Many kids love to collect toy trucks, and this collection of truck books is just as appealing. Readers will enjoy learning about ice cream trucks, fire trucks, garbage trucks, and others through the inviting, comprehensible text and attractive images throughout each volume. Bright narration is mixed with fun facts that readers will want to share with friends and family. Subject-related vocabulary is supported with picture glossaries. Features include: Measured as low-ATOS, or under 1.0, to encourage independent reading. High-interest topics will attract and motivate many levels of readers. Content is correlated to units on engineering design, as noted in the Next Generation Science Standards (K-2-ETS1-1).","English",283.2,212.4,null,"24 pp.","https://www.garethstevens.com/9781538266823",null,{"$f":"Table1[[#This Row],[QTY]]*Table1[[#This Row],['# Books]]","v":0},{"$f":"Table1[[#This Row],[QTY]]*Table1[[#This Row],[S&L Price]]","v":0}]
[null,11,14,"Tons of Trucks!",1,"Car Carriers","Library Bound Book",null,"978-1-5382-4503-3",{"$f":"HYPERLINK(Table1[[#This Row],[eCommerce Hyperlink]],\"Book Weblink\")","v":"Book Weblink"},null,"2020","January 2020","Library","7.625 X 7.125","Author","Luke Harasymiw","0.9","0.5",null,null,"C",null,"Grade K","Grade Pre-K - 2","It's impossible not to stare at a car carrier cruising down a highway hauling multiple cars. Sometimes the cars seem to dangle off the carrier, but no need to worry. These vehicles are especially equipped to safely bring cars where they need to go. Fascinated readers will love to find out how carriers work and how people use them. Carefully selected photographs support the low-ATOS text and aid readers in deciphering and acquiring new vocabulary.","English",23.6,17.7,"629.224--dc23","24 pp.","https://www.garethstevens.com/9781538245033",null,{"$f":"Table1[[#This Row],[QTY]]*Table1[[#This Row],['# Books]]","v":0},{"$f":"Table1[[#This Row],[QTY]]*Table1[[#This Row],[S&L Price]]","v":0}]
[null,11,14,"Tons of Trucks!",1,"Car Carriers","eBook",null,"978-1-5382-4504-0",{"$f":"HYPERLINK(Table1[[#This Row],[eCommerce Hyperlink]],\"Book Weblink\")","v":"Book Weblink"},null,"2020","January 2020",null,null,"Author","Luke Harasymiw","0.9","0.5",null,null,"C",null,"Grade K","Grade Pre-K - 2","It's impossible not to stare at a car carrier cruising down a highway hauling multiple cars. Sometimes the cars seem to dangle off the carrier, but no need to worry. These vehicles are especially equipped to safely bring cars where they need to go. Fascinated readers will love to find out how carriers work and how people use them. Carefully selected photographs support the low-ATOS text and aid readers in deciphering and acquiring new vocabulary.","English",23.6,17.7,"629.224--dc23","24 pp.","https://www.garethstevens.com/9781538245040",null,{"$f":"Table1[[#This Row],[QTY]]*Table1[[#This Row],['# Books]]","v":0},{"$f":"Table1[[#This Row],[QTY]]*Table1[[#This Row],[S&L Price]]","v":0}]
[null,11,14,"Tons of Trucks!",1,"Concrete Mixers","Library Bound Book",null,"978-1-5382-4507-1",{"$f":"HYPERLINK(Table1[[#This Row],[eCommerce Hyperlink]],\"Book Weblink\")","v":"Book Weblink"},null,"2020","January 2020","Library","7.625 X 7.125","Author","Luke Harasymiw","0.9","0.5",null,null,"C",null,"Grade K","Grade Pre-K - 2","Concrete mixers must keep mixing their load or the concrete will harden. These trucks are fascinating to watch as they move forward while the drum they carry turns around and around. Readers will love learning about this hardworking machine and why it's needed on so many construction projects. Low-ATOS text offers comprehensible explanations, and vibrant photographs add to this motivating book's appeal.","English",23.6,17.7,"624.1/834--dc23","24 pp.","https://www.garethstevens.com/9781538245071",null,{"$f":"Table1[[#This Row],[QTY]]*Table1[[#This Row],['# Books]]","v":0},{"$f":"Table1[[#This Row],[QTY]]*Table1[[#This Row],[S&L Price]]","v":0}]
[null,11,14,"Tons of Trucks!",1,"Concrete Mixers","eBook",null,"978-1-5382-4508-8",{"$f":"HYPERLINK(Table1[[#This Row],[eCommerce Hyperlink]],\"Book Weblink\")","v":"Book Weblink"},null,"2020","January 2020",null,null,"Author","Luke Harasymiw","0.9","0.5",null,null,"C",null,"Grade K","Grade Pre-K - 2","Concrete mixers must keep mixing their load or the concrete will harden. These trucks are fascinating to watch as they move forward while the drum they carry turns around and around. Readers will love learning about this hardworking machine and why it's needed on so many construction projects. Low-ATOS text offers comprehensible explanations, and vibrant photographs add to this motivating book's appeal.","English",23.6,17.7,"624.1/834--dc23","24 pp.","https://www.garethstevens.com/9781538245088",null,{"$f":"Table1[[#This Row],[QTY]]*Table1[[#This Row],['# Books]]","v":0},{"$f":"Table1[[#This Row],[QTY]]*Table1[[#This Row],[S&L Price]]","v":0}]
[null,11,14,"Tons of Trucks!",1,"Forklifts","Library Bound Book",null,"978-1-5382-4511-8",{"$f":"HYPERLINK(Table1[[#This Row],[eCommerce Hyperlink]],\"Book Weblink\")","v":"Book Weblink"},null,"2020","January 2020","Library","7.625 X 7.125","Author","Luke Harasymiw","0.9","0.5",null,null,"C",null,"Grade K","Grade Pre-K - 2","On a construction site, forklifts are essential machines. They carry tremendously heavy loads that could never be lifted by humans. Readers will love to see different types of these machines at work and how their various parts operate together to get the job done. Forklift photographs and low-ATOS text will answer their questions about these indispensable trucks in an accessible and comprehensible way.","English",23.6,17.7,"621.8/63--dc23","24 pp.","https://www.garethstevens.com/9781538245118",null,{"$f":"Table1[[#This Row],[QTY]]*Table1[[#This Row],['# Books]]","v":0},{"$f":"Table1[[#This Row],[QTY]]*Table1[[#This Row],[S&L Price]]","v":0}]
[null,11,14,"Tons of Trucks!",1,"Forklifts","eBook",null,"978-1-5382-4512-5",{"$f":"HYPERLINK(Table1[[#This Row],[eCommerce Hyperlink]],\"Book Weblink\")","v":"Book Weblink"},null,"2020","January 2020",null,null,"Author","Luke Harasymiw","0.9","0.5",null,null,"C",null,"Grade K","Grade Pre-K - 2","On a construction site, forklifts are essential machines. They carry tremendously heavy loads that could never be lifted by humans. Readers will love to see different types of these machines at work and how their various parts operate together to get the job done. Forklift photographs and low-ATOS text will answer their questions about these indispensable trucks in an accessible and comprehensible way.","English",23.6,17.7,"621.8/63--dc23","24 pp.","https://www.garethstevens.com/9781538245125",null,{"$f":"Table1[[#This Row],[QTY]]*Table1[[#This Row],['# Books]]","v":0},{"$f":"Table1[[#This Row],[QTY]]*Table1[[#This Row],[S&L Price]]","v":0}]
[null,11,14,"Tons of Trucks!",1,"Ice Cream Trucks","Library Bound Book",null,"978-1-5382-4515-6",{"$f":"HYPERLINK(Table1[[#This Row],[eCommerce Hyperlink]],\"Book Weblink\")","v":"Book Weblink"},null,"2020","January 2020","Library","7.625 X 7.125","Author","Luke Harasymiw","0.9","0.5",null,null,"C",null,"Grade K","Grade Pre-K - 2","Ice cream trucks are the most popular vehicles among people looking for a cool, tasty treat. While many kids are familiar with what the outside of a truck looks like, they don't know what's on the inside or the many activities of an ice cream truck driver. This high-interest book has the answers, explained through low-ATOS text with supporting photographs of real-life ice cream trucks.","English",23.6,17.7,"381/.41740284--dc23","24 pp.","https://www.garethstevens.com/9781538245156",null,{"$f":"Table1[[#This Row],[QTY]]*Table1[[#This Row],['# Books]]","v":0},{"$f":"Table1[[#This Row],[QTY]]*Table1[[#This Row],[S&L Price]]","v":0}]
[null,11,14,"Tons of Trucks!",1,"Ice Cream Trucks","eBook",null,"978-1-5382-4516-3",{"$f":"HYPERLINK(Table1[[#This Row],[eCommerce Hyperlink]],\"Book Weblink\")","v":"Book Weblink"},null,"2020","January 2020",null,null,"Author","Luke Harasymiw","0.9","0.5",null,null,"C",null,"Grade K","Grade Pre-K - 2","Ice cream trucks are the most popular vehicles among people looking for a cool, tasty treat. While many kids are familiar with what the outside of a truck looks like, they don't know what's on the inside or the many activities of an ice cream truck driver. This high-interest book has the answers, explained through low-ATOS text with supporting photographs of real-life ice cream trucks.","English",23.6,17.7,"381/.41740284--dc23","24 pp.","https://www.garethstevens.com/9781538245163",null,{"$f":"Table1[[#This Row],[QTY]]*Table1[[#This Row],['# Books]]","v":0},{"$f":"Table1[[#This Row],[QTY]]*Table1[[#This Row],[S&L Price]]","v":0}]
[null,11,14,"Tons of Trucks!",1,"Monster Trucks","Library Bound Book",null,"978-1-5382-4519-4",{"$f":"HYPERLINK(Table1[[#This Row],[eCommerce Hyperlink]],\"Book Weblink\")","v":"Book Weblink"},null,"2020","January 2020","Library","7.625 X 7.125","Author","Luke Harasymiw","0.9","0.5",null,null,"C",null,"Grade K","Grade Pre-K - 2","This book explores pickups with larger suspensions and big, big tires. Some monster trucks end up having so much personality that they're given special names. They may even compete for prizes in competitions. This high-interest volume has all the answers for monster-truck lovers, explained through accessible, low-ATOS text. Action photographs of on-the-go monster trucks will especially impress developing readers.","English",23.6,17.7,"629.223/2--dc23","24 pp.","https://www.garethstevens.com/9781538245194",null,{"$f":"Table1[[#This Row],[QTY]]*Table1[[#This Row],['# Books]]","v":0},{"$f":"Table1[[#This Row],[QTY]]*Table1[[#This Row],[S&L Price]]","v":0}]
[null,11,14,"Tons of Trucks!",1,"Monster Trucks","eBook",null,"978-1-5382-4520-0",{"$f":"HYPERLINK(Table1[[#This Row],[eCommerce Hyperlink]],\"Book Weblink\")","v":"Book Weblink"},null,"2020","January 2020",null,null,"Author","Luke Harasymiw","0.9","0.5",null,null,"C",null,"Grade K","Grade Pre-K - 2","This book explores pickups with larger suspensions and big, big tires. Some monster trucks end up having so much personality that they're given special names. They may even compete for prizes in competitions. This high-interest volume has all the answers for monster-truck lovers, explained through accessible, low-ATOS text. Action photographs of on-the-go monster trucks will especially impress developing readers.","English",23.6,17.7,"629.223/2--dc23","24 pp.","https://www.garethstevens.com/9781538245200",null,{"$f":"Table1[[#This Row],[QTY]]*Table1[[#This Row],['# Books]]","v":0},{"$f":"Table1[[#This Row],[QTY]]*Table1[[#This Row],[S&L Price]]","v":0}]
[null,11,14,"Tons of Trucks!",1,"Street Sweepers","Library Bound Book",null,"978-1-5382-4523-1",{"$f":"HYPERLINK(Table1[[#This Row],[eCommerce Hyperlink]],\"Book Weblink\")","v":"Book Weblink"},null,"2020","January 2020","Library","7.625 X 7.125","Author","Luke Harasymiw","0.9","0.5",null,null,"C",null,"Grade K","Grade Pre-K - 2","Thanks to the street sweeper, our streets are swept clean. Watching this terrific truck at work is mesmerizing. Depending on the kind of truck, it may have high-power sprayers, brooms, vacuums, or other devices to scour and clean the streets. Readers will love the action photographs in this high-interest volume as well as the many cool facts about this magnificent machine through accessible, low-ATOS text.","English",23.6,17.7,"628.4'6--dc23","24 pp.","https://www.garethstevens.com/9781538245231",null,{"$f":"Table1[[#This Row],[QTY]]*Table1[[#This Row],['# Books]]","v":0},{"$f":"Table1[[#This Row],[QTY]]*Table1[[#This Row],[S&L Price]]","v":0}]
[null,11,14,"Tons of Trucks!",1,"Street Sweepers","eBook",null,"978-1-5382-4524-8",{"$f":"HYPERLINK(Table1[[#This Row],[eCommerce Hyperlink]],\"Book Weblink\")","v":"Book Weblink"},null,"2020","January 2020",null,null,"Author","Luke Harasymiw","0.9","0.5",null,null,"C",null,"Grade K","Grade Pre-K - 2","Thanks to the street sweeper, our streets are swept clean. Watching this terrific truck at work is mesmerizing. Depending on the kind of truck, it may have high-power sprayers, brooms, vacuums, or other devices to scour and clean the streets. Readers will love the action photographs in this high-interest volume as well as the many cool facts about this magnificent machine through accessible, low-ATOS text.","English",23.6,17.7,"628.4'6--dc23","24 pp.","https://www.garethstevens.com/9781538245248",null,{"$f":"Table1[[#This Row],[QTY]]*Table1[[#This Row],['# Books]]","v":0},{"$f":"Table1[[#This Row],[QTY]]*Table1[[#This Row],[S&L Price]]","v":0}]
[null,11,14,"Tons of Trucks!",1,"Big Rigs","Library Bound Book",null,"978-1-5382-6271-9",{"$f":"HYPERLINK(Table1[[#This Row],[eCommerce Hyperlink]],\"Book Weblink\")","v":"Book Weblink"},null,"2022","August 2021","Library","7.625 X 7.125","Author","Martin Harasymiw",null,null,null,null,"C",null,"Grade K","Grade Pre-K - 2","There are many names for the powerful trucks we call big rigs. Semi, tractor-trailer, and eighteen-wheeler are just a few of them. No matter what they're called, young truck lovers are always amazed at their immense size. In this motivating and accessible book, readers learn many fun facts about big rigs through the informative low-ATOS text and carefully selected photographs, which support the more challenging vocabulary terms. The bright and colorful design will attract truck enthusiasts of all reading levels.","English",23.6,17.7,"629.224--dc23","24 pp.","https://www.garethstevens.com/9781538262719",null,{"$f":"Table1[[#This Row],[QTY]]*Table1[[#This Row],['# Books]]","v":0},{"$f":"Table1[[#This Row],[QTY]]*Table1[[#This Row],[S&L Price]]","v":0}]
[null,11,14,"Tons of Trucks!",1,"Big Rigs","eBook",null,"978-1-5382-6272-6",{"$f":"HYPERLINK(Table1[[#This Row],[eCommerce Hyperlink]],\"Book Weblink\")","v":"Book Weblink"},null,"2022","August 2021",null,null,"Author","Martin Harasymiw",null,null,null,null,"C",null,"Grade K","Grade Pre-K - 2","There are many names for the powerful trucks we call big rigs. Semi, tractor-trailer, and eighteen-wheeler are just a few of them. No matter what they're called, young truck lovers are always amazed at their immense size. In this motivating and accessible book, readers learn many fun facts about big rigs through the informative low-ATOS text and carefully selected photographs, which support the more challenging vocabulary terms. The bright and colorful design will attract truck enthusiasts of all reading levels.","English",23.6,17.7,"629.224--dc23","24 pp.","https://www.garethstevens.com/9781538262726",null,{"$f":"Table1[[#This Row],[QTY]]*Table1[[#This Row],['# Books]]","v":0},{"$f":"Table1[[#This Row],[QTY]]*Table1[[#This Row],[S&L Price]]","v":0}]
[null,11,14,"Tons of Trucks!",1,"Dump Trucks","Library Bound Book",null,"978-1-5382-6275-7",{"$f":"HYPERLINK(Table1[[#This Row],[eCommerce Hyperlink]],\"Book Weblink\")","v":"Book Weblink"},null,"2022","August 2021","Library","7.625 X 7.125","Author","Martin Harasymiw",null,null,null,null,"C",null,"Grade K","Grade Pre-K - 2","Did you know that dump trucks are called tippers in some countries? You and your readers will find out why. These useful trucks are the fascinating focus of this low-ATOS volume, which informs readers about different dump truck parts and why these vehicles are critical to so many construction projects. Eye-catching images of different kinds of dump trucks support new vocabulary terms and will motivate emerging readers as they hone their reading fluency with this accessible narrative.","English",23.6,17.7,"629.225--dc23","24 pp.","https://www.garethstevens.com/9781538262757",null,{"$f":"Table1[[#This Row],[QTY]]*Table1[[#This Row],['# Books]]","v":0},{"$f":"Table1[[#This Row],[QTY]]*Table1[[#This Row],[S&L Price]]","v":0}]
[null,11,14,"Tons of Trucks!",1,"Dump Trucks","eBook",null,"978-1-5382-6276-4",{"$f":"HYPERLINK(Table1[[#This Row],[eCommerce Hyperlink]],\"Book Weblink\")","v":"Book Weblink"},null,"2022","August 2021",null,null,"Author","Martin Harasymiw",null,null,null,null,"C",null,"Grade K","Grade Pre-K - 2","Did you know that dump trucks are called tippers in some countries? You and your readers will find out why. These useful trucks are the fascinating focus of this low-ATOS volume, which informs readers about different dump truck parts and why these vehicles are critical to so many construction projects. Eye-catching images of different kinds of dump trucks support new vocabulary terms and will motivate emerging readers as they hone their reading fluency with this accessible narrative.","English",23.6,17.7,"629.225--dc23","24 pp.","https://www.garethstevens.com/9781538262764",null,{"$f":"Table1[[#This Row],[QTY]]*Table1[[#This Row],['# Books]]","v":0},{"$f":"Table1[[#This Row],[QTY]]*Table1[[#This Row],[S&L Price]]","v":0}]
[null,11,14,"Tons of Trucks!",1,"Fire Trucks","Library Bound Book",null,"978-1-5382-6279-5",{"$f":"HYPERLINK(Table1[[#This Row],[eCommerce Hyperlink]],\"Book Weblink\")","v":"Book Weblink"},null,"2022","August 2021","Library","7.625 X 7.125","Author","Martin Harasymiw",null,null,null,null,"C",null,"Grade K","Grade Pre-K - 2","It's easy to identify fire trucks with their bright red hue and loud wailing siren. You often hear them before you see them, but look closely and you'll notice there are many kinds of these lifesaving, fire-extinguishing vehicles. This high-interest volume will delight fire-truck fans, showing them many types of firefighting vehicles and the truck parts that help firefighters get the job done. Readers will learn many fun facts to share with their friends through this entertaining and informative low-ATOS text.","English",23.6,17.7,"628.9","24 pp.","https://www.garethstevens.com/9781538262795",null,{"$f":"Table1[[#This Row],[QTY]]*Table1[[#This Row],['# Books]]","v":0},{"$f":"Table1[[#This Row],[QTY]]*Table1[[#This Row],[S&L Price]]","v":0}]
[null,11,14,"Tons of Trucks!",1,"Fire Trucks","eBook",null,"978-1-5382-6280-1",{"$f":"HYPERLINK(Table1[[#This Row],[eCommerce Hyperlink]],\"Book Weblink\")","v":"Book Weblink"},null,"2022","August 2021",null,null,"Author","Martin Harasymiw",null,null,null,null,"C",null,"Grade K","Grade Pre-K - 2","It's easy to identify fire trucks with their bright red hue and loud wailing siren. You often hear them before you see them, but look closely and you'll notice there are many kinds of these lifesaving, fire-extinguishing vehicles. This high-interest volume will delight fire-truck fans, showing them many types of firefighting vehicles and the truck parts that help firefighters get the job done. Readers will learn many fun facts to share with their friends through this entertaining and informative low-ATOS text.","English",23.6,17.7,"628.9","24 pp.","https://www.garethstevens.com/9781538262801",null,{"$f":"Table1[[#This Row],[QTY]]*Table1[[#This Row],['# Books]]","v":0},{"$f":"Table1[[#This Row],[QTY]]*Table1[[#This Row],[S&L Price]]","v":0}]
[null,11,14,"Tons of Trucks!",1,"Garbage Trucks","Library Bound Book",null,"978-1-5382-6283-2",{"$f":"HYPERLINK(Table1[[#This Row],[eCommerce Hyperlink]],\"Book Weblink\")","v":"Book Weblink"},null,"2022","August 2021","Library","7.625 X 7.125","Author","Martin Harasymiw",null,null,null,null,"C",null,"Grade K","Grade Pre-K - 2","Garbage trucks perform an essential job in our communities, hauling waste and keeping our communities clean. They're also fascinating to watch, as any young truck enthusiast will tell you. In recent years, they've become tremendously high-tech. This cool volume informs about the different kinds of garbage trucks and the special parts that help them function. Bright images support the dirty details and fun facts about refuse collection. The achievable, low-ATOS text is a motivating and entertaining experience for emerging readers.","English",23.6,17.7,"628.4/420284--dc23","24 pp.","https://www.garethstevens.com/9781538262832",null,{"$f":"Table1[[#This Row],[QTY]]*Table1[[#This Row],['# Books]]","v":0},{"$f":"Table1[[#This Row],[QTY]]*Table1[[#This Row],[S&L Price]]","v":0}]
[null,11,14,"Tons of Trucks!",1,"Garbage Trucks","eBook",null,"978-1-5382-6284-9",{"$f":"HYPERLINK(Table1[[#This Row],[eCommerce Hyperlink]],\"Book Weblink\")","v":"Book Weblink"},null,"2022","August 2021",null,null,"Author","Martin Harasymiw",null,null,null,null,"C",null,"Grade K","Grade Pre-K - 2","Garbage trucks perform an essential job in our communities, hauling waste and keeping our communities clean. They're also fascinating to watch, as any young truck enthusiast will tell you. In recent years, they've become tremendously high-tech. This cool volume informs about the different kinds of garbage trucks and the special parts that help them function. Bright images support the dirty details and fun facts about refuse collection. The achievable, low-ATOS text is a motivating and entertaining experience for emerging readers.","English",23.6,17.7,"628.4/420284--dc23","24 pp.","https://www.garethstevens.com/9781538262849",null,{"$f":"Table1[[#This Row],[QTY]]*Table1[[#This Row],['# Books]]","v":0},{"$f":"Table1[[#This Row],[QTY]]*Table1[[#This Row],[S&L Price]]","v":0}]
[null,11,14,"Tons of Trucks!",1,"Mail Trucks","Library Bound Book",null,"978-1-5382-6287-0",{"$f":"HYPERLINK(Table1[[#This Row],[eCommerce Hyperlink]],\"Book Weblink\")","v":"Book Weblink"},null,"2022","August 2021","Library","7.625 X 7.125","Author","Martin Harasymiw",null,null,null,null,"C",null,"Grade K","Grade Pre-K - 2","Mail trucks help deliver exciting letters and packages to our homes. Some delivery trucks are small, and some are quite large. Some travel very far in order to get the job done. Readers will learn about these special vehicles and imagine themselves in the driver's seat of a mail truck. Colorful images of different kinds of mail trucks accompany the simple and informative low-ATOS text and help readers decode unfamiliar terms, a practice that will help them hone their reading proficiency.","English",23.6,17.7,"383/.1450284--dc23","24 pp.","https://www.garethstevens.com/9781538262870",null,{"$f":"Table1[[#This Row],[QTY]]*Table1[[#This Row],['# Books]]","v":0},{"$f":"Table1[[#This Row],[QTY]]*Table1[[#This Row],[S&L Price]]","v":0}]
[null,11,14,"Tons of Trucks!",1,"Mail Trucks","eBook",null,"978-1-5382-6288-7",{"$f":"HYPERLINK(Table1[[#This Row],[eCommerce Hyperlink]],\"Book Weblink\")","v":"Book Weblink"},null,"2022","August 2021",null,null,"Author","Martin Harasymiw",null,null,null,null,"C",null,"Grade K","Grade Pre-K - 2","Mail trucks help deliver exciting letters and packages to our homes. Some delivery trucks are small, and some are quite large. Some travel very far in order to get the job done. Readers will learn about these special vehicles and imagine themselves in the driver's seat of a mail truck. Colorful images of different kinds of mail trucks accompany the simple and informative low-ATOS text and help readers decode unfamiliar terms, a practice that will help them hone their reading proficiency.","English",23.6,17.7,"383/.1450284--dc23","24 pp.","https://www.garethstevens.com/9781538262887",null,{"$f":"Table1[[#This Row],[QTY]]*Table1[[#This Row],['# Books]]","v":0},{"$f":"Table1[[#This Row],[QTY]]*Table1[[#This Row],[S&L Price]]","v":0}]
[null,11,14,"Tons of Trucks!",1,"Tow Trucks","Library Bound Book",null,"978-1-5382-6291-7",{"$f":"HYPERLINK(Table1[[#This Row],[eCommerce Hyperlink]],\"Book Weblink\")","v":"Book Weblink"},null,"2022","August 2021","Library","7.625 X 7.125","Author","Martin Harasymiw",null,null,null,null,"C",null,"Grade K","Grade Pre-K - 2","As long as there have been cars on the road, there have been mighty tow trucks to rescue them when they have broken down or were damaged in accidents. Young readers will love learning about these helpful, interesting vehicles through the cheerful text and colorful photographs in this high-interest low-ATOS book. They'll learn the names of tow truck parts and discover that different kinds of tow trucks are needed in different circumstances. Young auto fans will be thrilled with this book.","English",23.6,17.7,"629.225--dc23","24 pp.","https://www.garethstevens.com/9781538262917",null,{"$f":"Table1[[#This Row],[QTY]]*Table1[[#This Row],['# Books]]","v":0},{"$f":"Table1[[#This Row],[QTY]]*Table1[[#This Row],[S&L Price]]","v":0}]
[null,11,14,"Tons of Trucks!",1,"Tow Trucks","eBook",null,"978-1-5382-6292-4",{"$f":"HYPERLINK(Table1[[#This Row],[eCommerce Hyperlink]],\"Book Weblink\")","v":"Book Weblink"},null,"2022","August 2021",null,null,"Author","Martin Harasymiw",null,null,null,null,"C",null,"Grade K","Grade Pre-K - 2","As long as there have been cars on the road, there have been mighty tow trucks to rescue them when they have broken down or were damaged in accidents. Young readers will love learning about these helpful, interesting vehicles through the cheerful text and colorful photographs in this high-interest low-ATOS book. They'll learn the names of tow truck parts and discover that different kinds of tow trucks are needed in different circumstances. Young auto fans will be thrilled with this book.","English",23.6,17.7,"629.225--dc23","24 pp.","https://www.garethstevens.com/9781538262924",null,{"$f":"Table1[[#This Row],[QTY]]*Table1[[#This Row],['# Books]]","v":0},{"$f":"Table1[[#This Row],[QTY]]*Table1[[#This Row],[S&L Price]]","v":0}]
[null,null,15,"In My Backyard",12,"In My Backyard: Sets 1 – 2","Library Set",null,"978-1-5382-2942-2",{"$f":"HYPERLINK(Table1[[#This Row],[eCommerce Hyperlink]],\"Book Weblink\")","v":"Book Weblink"},null,"2019","January 2019","Library","7.625 X 7.125",null,null,null,null,null,null,null,null,"Grade K","Grade Pre-K - 2","Birds, butterflies, ants, and toads are some of the creatures people are lucky enough to spy in their yards and local parks. They're so common that they're often overlooked. However, each animal has fascinating features that help it survive in its habitat. Our appealing popular collection reveals these characteristics to young biologists and is a great introduction to early elementary science concepts, such as the needs of organisms, life cycles, and adaptations. Striking photographs support understanding of the low-ATOS text. Features include: Readers are introduced to key elementary science vocabulary. Close photo-text match aids reading comprehension. Volumes contain tables of contents, picture glossaries, and indexes; features highlighted in the ELA Common Core standards.","English",289.2,216.9,null,"24 pp.","https://www.garethstevens.com/9781538229422",null,{"$f":"Table1[[#This Row],[QTY]]*Table1[[#This Row],['# Books]]","v":0},{"$f":"Table1[[#This Row],[QTY]]*Table1[[#This Row],[S&L Price]]","v":0}]
[null,null,15,"In My Backyard",1,"I See a Deer","Library Bound Book",null,"978-1-5382-2873-9",{"$f":"HYPERLINK(Table1[[#This Row],[eCommerce Hyperlink]],\"Book Weblink\")","v":"Book Weblink"},null,"2019","January 2019","Library","7.625 X 7.125","Author","E. T. Weingarten","0.9","0.5",null,null,"C",null,"Grade K","Grade Pre-K - 2","Deer are a common sight in wooded areas, fields, and even backyards that provide lots of tasty plants for these long-legged mammals to eat. Young readers probably don't realize there are many kinds of deer, including the petite pudu and the massive moose. This attractive volume shares some absorbing facts about these creatures relayed through low-ATOS text and stunning photographs of deer in action.","English",23.6,17.7,"599.65--dc23","24 pp.","https://www.garethstevens.com/9781538228739",null,{"$f":"Table1[[#This Row],[QTY]]*Table1[[#This Row],['# Books]]","v":0},{"$f":"Table1[[#This Row],[QTY]]*Table1[[#This Row],[S&L Price]]","v":0}]
[null,null,15,"In My Backyard",1,"I See a Deer","eBook",null,"978-1-5382-2971-2",{"$f":"HYPERLINK(Table1[[#This Row],[eCommerce Hyperlink]],\"Book Weblink\")","v":"Book Weblink"},null,"2019","January 2019",null,null,"Author","E. T. Weingarten","0.9","0.5",null,null,"C",null,"Grade K","Grade Pre-K - 2","Deer are a common sight in wooded areas, fields, and even backyards that provide lots of tasty plants for these long-legged mammals to eat. Young readers probably don't realize there are many kinds of deer, including the petite pudu and the massive moose. This attractive volume shares some absorbing facts about these creatures relayed through low-ATOS text and stunning photographs of deer in action.","English",23.6,17.7,"599.65--dc23","24 pp.","https://www.garethstevens.com/9781538229712",null,{"$f":"Table1[[#This Row],[QTY]]*Table1[[#This Row],['# Books]]","v":0},{"$f":"Table1[[#This Row],[QTY]]*Table1[[#This Row],[S&L Price]]","v":0}]
[null,null,15,"In My Backyard",1,"I See a Snake","Library Bound Book",null,"978-1-5382-2874-6",{"$f":"HYPERLINK(Table1[[#This Row],[eCommerce Hyperlink]],\"Book Weblink\")","v":"Book Weblink"},null,"2019","January 2019","Library","7.625 X 7.125","Author","E. T. Weingarten","0.9","0.5",null,null,"C",null,"Grade K","Grade Pre-K - 2","Spotting a snake in the grass can be startling at first, but these reptiles are nothing short of fascinating. Readers of this appealing volume will learn some cool facts about snake bodies, habitats, senses, and even snake snacks. The low-ATOS text is perfectly paired with colorful photographs of snakes in the wild, making this an achievable and entertaining book for herpetologists of all reading levels.","English",23.6,17.7,"597.96--dc23","24 pp.","https://www.garethstevens.com/9781538228746",null,{"$f":"Table1[[#This Row],[QTY]]*Table1[[#This Row],['# Books]]","v":0},{"$f":"Table1[[#This Row],[QTY]]*Table1[[#This Row],[S&L Price]]","v":0}]
[null,null,15,"In My Backyard",1,"I See a Snake","eBook",null,"978-1-5382-2972-9",{"$f":"HYPERLINK(Table1[[#This Row],[eCommerce Hyperlink]],\"Book Weblink\")","v":"Book Weblink"},null,"2019","January 2019",null,null,"Author","E. T. Weingarten","0.9","0.5",null,null,"C",null,"Grade K","Grade Pre-K - 2","Spotting a snake in the grass can be startling at first, but these reptiles are nothing short of fascinating. Readers of this appealing volume will learn some cool facts about snake bodies, habitats, senses, and even snake snacks. The low-ATOS text is perfectly paired with colorful photographs of snakes in the wild, making this an achievable and entertaining book for herpetologists of all reading levels.","English",23.6,17.7,"597.96--dc23","24 pp.","https://www.garethstevens.com/9781538229729",null,{"$f":"Table1[[#This Row],[QTY]]*Table1[[#This Row],['# Books]]","v":0},{"$f":"Table1[[#This Row],[QTY]]*Table1[[#This Row],[S&L Price]]","v":0}]
[null,null,15,"In My Backyard",1,"I See a Toad","Library Bound Book",null,"978-1-5382-2875-3",{"$f":"HYPERLINK(Table1[[#This Row],[eCommerce Hyperlink]],\"Book Weblink\")","v":"Book Weblink"},null,"2019","January 2019","Library","7.625 X 7.125","Author","E. T. Weingarten","0.9","0.5",null,null,"C",null,"Grade K","Grade Pre-K - 2","Spotting a toad in the backyard is the invitation for an educational look at a remarkable creature in this friendly volume. Readers will learn about this interesting amphibian's life cycle, from tiny tadpole to nimble-footed land dweller. They'll understand the characteristics of a toad's body, what it eats, and how it catches its meals with its talented tongue. Striking photographs of toads in action help the readers comprehend the approachable low-ATOS text.","English",23.6,17.7,"597.8/7--dc23","24 pp.","https://www.garethstevens.com/9781538228753",null,{"$f":"Table1[[#This Row],[QTY]]*Table1[[#This Row],['# Books]]","v":0},{"$f":"Table1[[#This Row],[QTY]]*Table1[[#This Row],[S&L Price]]","v":0}]
[null,null,15,"In My Backyard",1,"I See a Toad","eBook",null,"978-1-5382-2973-6",{"$f":"HYPERLINK(Table1[[#This Row],[eCommerce Hyperlink]],\"Book Weblink\")","v":"Book Weblink"},null,"2019","January 2019",null,null,"Author","E. T. Weingarten","0.9","0.5",null,null,"C",null,"Grade K","Grade Pre-K - 2","Spotting a toad in the backyard is the invitation for an educational look at a remarkable creature in this friendly volume. Readers will learn about this interesting amphibian's life cycle, from tiny tadpole to nimble-footed land dweller. They'll understand the characteristics of a toad's body, what it eats, and how it catches its meals with its talented tongue. Striking photographs of toads in action help the readers comprehend the approachable low-ATOS text.","English",23.6,17.7,"597.8/7--dc23","24 pp.","https://www.garethstevens.com/9781538229736",null,{"$f":"Table1[[#This Row],[QTY]]*Table1[[#This Row],['# Books]]","v":0},{"$f":"Table1[[#This Row],[QTY]]*Table1[[#This Row],[S&L Price]]","v":0}]
[null,null,15,"In My Backyard",1,"I See a Worm","Library Bound Book",null,"978-1-5382-2876-0",{"$f":"HYPERLINK(Table1[[#This Row],[eCommerce Hyperlink]],\"Book Weblink\")","v":"Book Weblink"},null,"2019","January 2019","Library","7.625 X 7.125","Author","Agatha Gregson","0.9","0.5",null,null,"C",null,"Grade K","Grade Pre-K - 2","Taking a walk after a rainstorm often brings a familiar sight: pink, wriggly worms on the sidewalk. Readers of this delightful book will find out how earthworms move around without legs, or even bones. Through bright low-ATOS text, they'll learn what earthworms eat and why gardeners and birds love them. They'll marvel at the close-up photographs of these interesting invertebrates and gain an appreciation for an often-overlooked creature in their own backyard.","English",23.6,17.7,"592/.3--dc23","24 pp.","https://www.garethstevens.com/9781538228760",null,{"$f":"Table1[[#This Row],[QTY]]*Table1[[#This Row],['# Books]]","v":0},{"$f":"Table1[[#This Row],[QTY]]*Table1[[#This Row],[S&L Price]]","v":0}]
[null,null,15,"In My Backyard",1,"I See a Worm","eBook",null,"978-1-5382-2974-3",{"$f":"HYPERLINK(Table1[[#This Row],[eCommerce Hyperlink]],\"Book Weblink\")","v":"Book Weblink"},null,"2019","January 2019",null,null,"Author","Agatha Gregson","0.9","0.5",null,null,"C",null,"Grade K","Grade Pre-K - 2","Taking a walk after a rainstorm often brings a familiar sight: pink, wriggly worms on the sidewalk. Readers of this delightful book will find out how earthworms move around without legs, or even bones. Through bright low-ATOS text, they'll learn what earthworms eat and why gardeners and birds love them. They'll marvel at the close-up photographs of these interesting invertebrates and gain an appreciation for an often-overlooked creature in their own backyard.","English",23.6,17.7,"592/.3--dc23","24 pp.","https://www.garethstevens.com/9781538229743",null,{"$f":"Table1[[#This Row],[QTY]]*Table1[[#This Row],['# Books]]","v":0},{"$f":"Table1[[#This Row],[QTY]]*Table1[[#This Row],[S&L Price]]","v":0}]
[null,null,15,"In My Backyard",1,"I See an Ant","Library Bound Book",null,"978-1-5382-2877-7",{"$f":"HYPERLINK(Table1[[#This Row],[eCommerce Hyperlink]],\"Book Weblink\")","v":"Book Weblink"},null,"2019","January 2019","Library","7.625 X 7.125","Author","Agatha Gregson","0.9","0.5",null,null,"C",null,"Grade K","Grade Pre-K - 2","Ants may seem like simple insects, but a colony's social organization is complex, and so fascinating. In this appealing volume, readers will learn about the different roles within an ant colony and how each helps the group survive in the wild. Low-ATOS text is coupled with arresting, up-close photographs of ants on the go. Readers will never overlook these diminutive organisms again.","English",23.6,17.7,"595.79/6--dc23","24 pp.","https://www.garethstevens.com/9781538228777",null,{"$f":"Table1[[#This Row],[QTY]]*Table1[[#This Row],['# Books]]","v":0},{"$f":"Table1[[#This Row],[QTY]]*Table1[[#This Row],[S&L Price]]","v":0}]
[null,null,15,"In My Backyard",1,"I See an Ant","eBook",null,"978-1-5382-2975-0",{"$f":"HYPERLINK(Table1[[#This Row],[eCommerce Hyperlink]],\"Book Weblink\")","v":"Book Weblink"},null,"2019","January 2019",null,null,"Author","Agatha Gregson","0.9","0.5",null,null,"C",null,"Grade K","Grade Pre-K - 2","Ants may seem like simple insects, but a colony's social organization is complex, and so fascinating. In this appealing volume, readers will learn about the different roles within an ant colony and how each helps the group survive in the wild. Low-ATOS text is coupled with arresting, up-close photographs of ants on the go. Readers will never overlook these diminutive organisms again.","English",23.6,17.7,"595.79/6--dc23","24 pp.","https://www.garethstevens.com/9781538229750",null,{"$f":"Table1[[#This Row],[QTY]]*Table1[[#This Row],['# Books]]","v":0},{"$f":"Table1[[#This Row],[QTY]]*Table1[[#This Row],[S&L Price]]","v":0}]
[null,null,15,"In My Backyard",1,"I See an Owl","Library Bound Book",null,"978-1-5382-2878-4",{"$f":"HYPERLINK(Table1[[#This Row],[eCommerce Hyperlink]],\"Book Weblink\")","v":"Book Weblink"},null,"2019","January 2019","Library","7.625 X 7.125","Author","Agatha Gregson","0.9","0.5",null,null,"C",null,"Grade K","Grade Pre-K - 2","Owls may have soft, fluffy feathers, but these birds of prey aren't cuddly. They're serious hunters. Readers will love learning about the owl adaptations that enable these birds to nab their prey, including sharp talons and excellent hearing and eyesight. Straightforward low-ATOS text and a picture glossary help young ornithologists comprehend key concepts, while stunning photographs will awe them, as well as inspire them to bird-watch.","English",23.6,17.7,"598.9/7--dc23","24 pp.","https://www.garethstevens.com/9781538228784",null,{"$f":"Table1[[#This Row],[QTY]]*Table1[[#This Row],['# Books]]","v":0},{"$f":"Table1[[#This Row],[QTY]]*Table1[[#This Row],[S&L Price]]","v":0}]
[null,null,15,"In My Backyard",1,"I See an Owl","eBook",null,"978-1-5382-2976-7",{"$f":"HYPERLINK(Table1[[#This Row],[eCommerce Hyperlink]],\"Book Weblink\")","v":"Book Weblink"},null,"2019","January 2019",null,null,"Author","Agatha Gregson","0.9","0.5",null,null,"C",null,"Grade K","Grade Pre-K - 2","Owls may have soft, fluffy feathers, but these birds of prey aren't cuddly. They're serious hunters. Readers will love learning about the owl adaptations that enable these birds to nab their prey, including sharp talons and excellent hearing and eyesight. Straightforward low-ATOS text and a picture glossary help young ornithologists comprehend key concepts, while stunning photographs will awe them, as well as inspire them to bird-watch.","English",23.6,17.7,"598.9/7--dc23","24 pp.","https://www.garethstevens.com/9781538229767",null,{"$f":"Table1[[#This Row],[QTY]]*Table1[[#This Row],['# Books]]","v":0},{"$f":"Table1[[#This Row],[QTY]]*Table1[[#This Row],[S&L Price]]","v":0}]
[null,null,15,"So Into Science!",6,"So Into Science!","Library Set",null,"978-1-5382-2945-3",{"$f":"HYPERLINK(Table1[[#This Row],[eCommerce Hyperlink]],\"Book Weblink\")","v":"Book Weblink"},null,"2019","January 2019","Library","7.625 X 7.125",null,null,null,null,null,null,null,null,"Grade K","Grade Pre-K - 2","The world of science is wide-ranging and filled with wonder. Whether one is looking up into the vast night sky or enjoying the lively sounds of a forest, understanding the science behind these experiences can make them even more enjoyable. This delightful series invites young scientists to visit some of their favorite places, such as the zoo, the aquarium, and a pond, and engages them with appealing related science concepts. Readers will gain an enthusiasm for many aspects of science and apply their newfound knowledge to the world around them. Features include: Valuable concepts are relayed through low-ATOS text. Vivid, full-color photographs are featured in the inviting designs. Understanding informational texts is a significant facet of the English Language Arts Common Core.","English",141.6,106.2,null,"24 pp.","https://www.garethstevens.com/9781538229453",null,{"$f":"Table1[[#This Row],[QTY]]*Table1[[#This Row],['# Books]]","v":0},{"$f":"Table1[[#This Row],[QTY]]*Table1[[#This Row],[S&L Price]]","v":0}]
[null,null,15,"So Into Science!",1,"Exploring the Aquarium","Library Bound Book",null,"978-1-5382-2885-2",{"$f":"HYPERLINK(Table1[[#This Row],[eCommerce Hyperlink]],\"Book Weblink\")","v":"Book Weblink"},null,"2019","January 2019","Library","7.625 X 7.125","Author","Marie Roesser","0.9","0.5",null,null,"C",null,"Grade K","Grade Pre-K - 2","For those who've wondered what fish can lay claim to the title \"fastest\" and \"largest,\" this vibrant volume has the answers. A trip to the aquarium is the lens through which the reader becomes acquainted with such water-dwelling animals as alligators, whale sharks, and sea turtles. They'll learn fun facts about each, marvel at the impressive photographs, and most of all, find out that aquariums are perfect places to nurture a love for freshwater and saltwater creatures.","English",23.6,17.7,"639.34--dc23","24 pp.","https://www.garethstevens.com/9781538228852",null,{"$f":"Table1[[#This Row],[QTY]]*Table1[[#This Row],['# Books]]","v":0},{"$f":"Table1[[#This Row],[QTY]]*Table1[[#This Row],[S&L Price]]","v":0}]
[null,null,15,"So Into Science!",1,"Exploring the Aquarium","eBook",null,"978-1-5382-2983-5",{"$f":"HYPERLINK(Table1[[#This Row],[eCommerce Hyperlink]],\"Book Weblink\")","v":"Book Weblink"},null,"2019","January 2019",null,null,"Author","Marie Roesser","0.9","0.5",null,null,"C",null,"Grade K","Grade Pre-K - 2","For those who've wondered what fish can lay claim to the title \"fastest\" and \"largest,\" this vibrant volume has the answers. A trip to the aquarium is the lens through which the reader becomes acquainted with such water-dwelling animals as alligators, whale sharks, and sea turtles. They'll learn fun facts about each, marvel at the impressive photographs, and most of all, find out that aquariums are perfect places to nurture a love for freshwater and saltwater creatures.","English",23.6,17.7,"639.34--dc23","24 pp.","https://www.garethstevens.com/9781538229835",null,{"$f":"Table1[[#This Row],[QTY]]*Table1[[#This Row],['# Books]]","v":0},{"$f":"Table1[[#This Row],[QTY]]*Table1[[#This Row],[S&L Price]]","v":0}]
[null,null,15,"So Into Science!",1,"Exploring the Forest","Library Bound Book",null,"978-1-5382-2886-9",{"$f":"HYPERLINK(Table1[[#This Row],[eCommerce Hyperlink]],\"Book Weblink\")","v":"Book Weblink"},null,"2019","January 2019","Library","7.625 X 7.125","Author","Marie Roesser","0.9","0.5",null,null,"C",null,"Grade K","Grade Pre-K - 2","Readers head into the forest and learn about just a few of the fascinating life-forms that call it home. Young forest rangers will learn to spot oak and maple seeds, how ants help forests grow, and more cool facts about this remarkable biome. Appealing low-ATOS text is coupled with perfectly chosen photographs to further engage readers. This charming book is a great resource to support the elementary science curriculum.","English",23.6,17.7,"577.3--dc23","24 pp.","https://www.garethstevens.com/9781538228869",null,{"$f":"Table1[[#This Row],[QTY]]*Table1[[#This Row],['# Books]]","v":0},{"$f":"Table1[[#This Row],[QTY]]*Table1[[#This Row],[S&L Price]]","v":0}]
[null,null,15,"So Into Science!",1,"Exploring the Forest","eBook",null,"978-1-5382-2984-2",{"$f":"HYPERLINK(Table1[[#This Row],[eCommerce Hyperlink]],\"Book Weblink\")","v":"Book Weblink"},null,"2019","January 2019",null,null,"Author","Marie Roesser","0.9","0.5",null,null,"C",null,"Grade K","Grade Pre-K - 2","Readers head into the forest and learn about just a few of the fascinating life-forms that call it home. Young forest rangers will learn to spot oak and maple seeds, how ants help forests grow, and more cool facts about this remarkable biome. Appealing low-ATOS text is coupled with perfectly chosen photographs to further engage readers. This charming book is a great resource to support the elementary science curriculum.","English",23.6,17.7,"577.3--dc23","24 pp.","https://www.garethstevens.com/9781538229842",null,{"$f":"Table1[[#This Row],[QTY]]*Table1[[#This Row],['# Books]]","v":0},{"$f":"Table1[[#This Row],[QTY]]*Table1[[#This Row],[S&L Price]]","v":0}]
[null,null,15,"So Into Science!",1,"Exploring the Night Sky","Library Bound Book",null,"978-1-5382-2887-6",{"$f":"HYPERLINK(Table1[[#This Row],[eCommerce Hyperlink]],\"Book Weblink\")","v":"Book Weblink"},null,"2019","January 2019","Library","7.625 X 7.125","Author","Emmett Martin","0.9","0.5",null,null,"C",null,"Grade K","Grade Pre-K - 2","From identifying a full moon to learning about constellations, there are many essential scientific concepts to discover while gazing up at the night sky. In this appealing volume, inviting low-ATOS text is perfectly paired with striking photographs of celestial objects, while a picture glossary reinforces key vocabulary terms. Young astronomers will love this introduction to the evening sky and be encouraged to grab their telescopes the next time the sun goes down.","English",23.6,17.7,"520--dc23","24 pp.","https://www.garethstevens.com/9781538228876",null,{"$f":"Table1[[#This Row],[QTY]]*Table1[[#This Row],['# Books]]","v":0},{"$f":"Table1[[#This Row],[QTY]]*Table1[[#This Row],[S&L Price]]","v":0}]
[null,null,15,"So Into Science!",1,"Exploring the Night Sky","eBook",null,"978-1-5382-2985-9",{"$f":"HYPERLINK(Table1[[#This Row],[eCommerce Hyperlink]],\"Book Weblink\")","v":"Book Weblink"},null,"2019","January 2019",null,null,"Author","Emmett Martin","0.9","0.5",null,null,"C",null,"Grade K","Grade Pre-K - 2","From identifying a full moon to learning about constellations, there are many essential scientific concepts to discover while gazing up at the night sky. In this appealing volume, inviting low-ATOS text is perfectly paired with striking photographs of celestial objects, while a picture glossary reinforces key vocabulary terms. Young astronomers will love this introduction to the evening sky and be encouraged to grab their telescopes the next time the sun goes down.","English",23.6,17.7,"520--dc23","24 pp.","https://www.garethstevens.com/9781538229859",null,{"$f":"Table1[[#This Row],[QTY]]*Table1[[#This Row],['# Books]]","v":0},{"$f":"Table1[[#This Row],[QTY]]*Table1[[#This Row],[S&L Price]]","v":0}]
[null,null,15,"So Into Science!",1,"Exploring the Pond","Library Bound Book",null,"978-1-5382-2888-3",{"$f":"HYPERLINK(Table1[[#This Row],[eCommerce Hyperlink]],\"Book Weblink\")","v":"Book Weblink"},null,"2019","January 2019","Library","7.625 X 7.125","Author","Marie Roesser","0.9","0.5",null,null,"C",null,"Grade K","Grade Pre-K - 2","Even the smallest pond is teeming with plant and animal life. Ponds are essential food sources for so many animals, including miniscule minnows and big bass. Ducks and spiders live hidden in the grasses surrounding ponds, while crayfish swim pond waters in search of a tadpole snack. This accessible volume gives readers an understanding of parts of the intricate ecosystem of a pond and an appreciation for the natural world in general.","English",23.6,17.7,"577.63/6--dc23","24 pp.","https://www.garethstevens.com/9781538228883",null,{"$f":"Table1[[#This Row],[QTY]]*Table1[[#This Row],['# Books]]","v":0},{"$f":"Table1[[#This Row],[QTY]]*Table1[[#This Row],[S&L Price]]","v":0}]
[null,null,15,"So Into Science!",1,"Exploring the Pond","eBook",null,"978-1-5382-2986-6",{"$f":"HYPERLINK(Table1[[#This Row],[eCommerce Hyperlink]],\"Book Weblink\")","v":"Book Weblink"},null,"2019","January 2019",null,null,"Author","Marie Roesser","0.9","0.5",null,null,"C",null,"Grade K","Grade Pre-K - 2","Even the smallest pond is teeming with plant and animal life. Ponds are essential food sources for so many animals, including miniscule minnows and big bass. Ducks and spiders live hidden in the grasses surrounding ponds, while crayfish swim pond waters in search of a tadpole snack. This accessible volume gives readers an understanding of parts of the intricate ecosystem of a pond and an appreciation for the natural world in general.","English",23.6,17.7,"577.63/6--dc23","24 pp.","https://www.garethstevens.com/9781538229866",null,{"$f":"Table1[[#This Row],[QTY]]*Table1[[#This Row],['# Books]]","v":0},{"$f":"Table1[[#This Row],[QTY]]*Table1[[#This Row],[S&L Price]]","v":0}]
[null,null,15,"So Into Science!",1,"Exploring the Weather","Library Bound Book",null,"978-1-5382-2889-0",{"$f":"HYPERLINK(Table1[[#This Row],[eCommerce Hyperlink]],\"Book Weblink\")","v":"Book Weblink"},null,"2019","January 2019","Library","7.625 X 7.125","Author","Emmett Martin","0.9","0.5",null,null,"C",null,"Grade K","Grade Pre-K - 2","Weather is a science concept that the youngest meteorologists can understand. In fact, like real-life scientists, they can investigate the weather simply by looking out the window. Readers of this valuable volume will consider how certain activities are paired with kinds of weather. They'll review weather words while realizing there's lots of fun to be had in all sorts of weather. Full-color photographs and a picture glossary aid in reading comprehension.","English",23.6,17.7,"551.5--dc23","24 pp.","https://www.garethstevens.com/9781538228890",null,{"$f":"Table1[[#This Row],[QTY]]*Table1[[#This Row],['# Books]]","v":0},{"$f":"Table1[[#This Row],[QTY]]*Table1[[#This Row],[S&L Price]]","v":0}]
[null,null,15,"So Into Science!",1,"Exploring the Weather","eBook",null,"978-1-5382-2987-3",{"$f":"HYPERLINK(Table1[[#This Row],[eCommerce Hyperlink]],\"Book Weblink\")","v":"Book Weblink"},null,"2019","January 2019",null,null,"Author","Emmett Martin","0.9","0.5",null,null,"C",null,"Grade K","Grade Pre-K - 2","Weather is a science concept that the youngest meteorologists can understand. In fact, like real-life scientists, they can investigate the weather simply by looking out the window. Readers of this valuable volume will consider how certain activities are paired with kinds of weather. They'll review weather words while realizing there's lots of fun to be had in all sorts of weather. Full-color photographs and a picture glossary aid in reading comprehension.","English",23.6,17.7,"551.5--dc23","24 pp.","https://www.garethstevens.com/9781538229873",null,{"$f":"Table1[[#This Row],[QTY]]*Table1[[#This Row],['# Books]]","v":0},{"$f":"Table1[[#This Row],[QTY]]*Table1[[#This Row],[S&L Price]]","v":0}]
[null,null,15,"So Into Science!",1,"Exploring the Zoo","Library Bound Book",null,"978-1-5382-2890-6",{"$f":"HYPERLINK(Table1[[#This Row],[eCommerce Hyperlink]],\"Book Weblink\")","v":"Book Weblink"},null,"2019","January 2019","Library","7.625 X 7.125","Author","Emmett Martin","0.9","0.5",null,null,"C",null,"Grade K","Grade Pre-K - 2","Science isn't just something you learn about in a book or in the classroom. There are plenty of science concepts to discover through a fun trip to the zoo. This exciting scenario is the gateway to some fascinating facts about elephants, lions, and other animals as well as an appreciation for wildlife. The accessible text is supported by colorful photographs of high-interest creatures that will charm readers of all levels.","English",23.6,17.7,"590.73--dc23","24 pp.","https://www.garethstevens.com/9781538228906",null,{"$f":"Table1[[#This Row],[QTY]]*Table1[[#This Row],['# Books]]","v":0},{"$f":"Table1[[#This Row],[QTY]]*Table1[[#This Row],[S&L Price]]","v":0}]
[null,null,15,"So Into Science!",1,"Exploring the Zoo","eBook",null,"978-1-5382-2988-0",{"$f":"HYPERLINK(Table1[[#This Row],[eCommerce Hyperlink]],\"Book Weblink\")","v":"Book Weblink"},null,"2019","January 2019",null,null,"Author","Emmett Martin","0.9","0.5",null,null,"C",null,"Grade K","Grade Pre-K - 2","Science isn't just something you learn about in a book or in the classroom. There are plenty of science concepts to discover through a fun trip to the zoo. This exciting scenario is the gateway to some fascinating facts about elephants, lions, and other animals as well as an appreciation for wildlife. The accessible text is supported by colorful photographs of high-interest creatures that will charm readers of all levels.","English",23.6,17.7,"590.73--dc23","24 pp.","https://www.garethstevens.com/9781538229880",null,{"$f":"Table1[[#This Row],[QTY]]*Table1[[#This Row],['# Books]]","v":0},{"$f":"Table1[[#This Row],[QTY]]*Table1[[#This Row],[S&L Price]]","v":0}]
[null,null,16,"Go Outside!",6,"Go Outside!","Library Set",null,"978-1-5382-4525-5",{"$f":"HYPERLINK(Table1[[#This Row],[eCommerce Hyperlink]],\"Book Weblink\")","v":"Book Weblink"},null,"2020","January 2020","Library","7.625 X 7.125",null,null,null,null,null,null,null,null,"Grade K","Grade Pre-K - 2","\"Go outside!\" Many young people hear this phrase from their parents, but they might not consider the countless fun activities they can do outside. This motivating set has the answers and the inspiration for them. Each volume offers a different outdoor activity and explains what it entails through a friendly narrator and low-ATOS text. Camping, hiking, and hide-and-seek are some of the entertaining ideas that readers will explore. Vivid photographs of the activities in action are sure to make them grab a friend and head outside. Features include: Encourages young readers to “unplug” from digital devices and appreciate their natural surroundings. Picture glossaries support beginning readers in tackling more challenging terms in the achievable text. Knowing and using various text features such as tables of content and indexes to locate facts is a standard of the English Language Arts Common Core.","English",141.6,106.2,null,"24 pp.","https://www.garethstevens.com/9781538245255",null,{"$f":"Table1[[#This Row],[QTY]]*Table1[[#This Row],['# Books]]","v":0},{"$f":"Table1[[#This Row],[QTY]]*Table1[[#This Row],[S&L Price]]","v":0}]
[null,null,16,"Go Outside!",1,"Go Camping!","Library Bound Book",null,"978-1-5382-4479-1",{"$f":"HYPERLINK(Table1[[#This Row],[eCommerce Hyperlink]],\"Book Weblink\")","v":"Book Weblink"},null,"2020","January 2020","Library","7.625 X 7.125","Author","Peter Finn","0.7","0.5",null,null,"C",null,"Grade K","Grade Pre-K - 2","Kids often love to play camping in their living rooms, but this motivating book shows them what it means to head outside and really live in the great outdoors. A friendly narrator shows them tents, sleeping bags, and other gear that make camping an enjoyable adventure. Inviting photographs support the carefully crafted low-ATOS text, creating an enjoyable and achievable reading experience.","English",23.6,17.7,"796.54--dc23","24 pp.","https://www.garethstevens.com/9781538244791",null,{"$f":"Table1[[#This Row],[QTY]]*Table1[[#This Row],['# Books]]","v":0},{"$f":"Table1[[#This Row],[QTY]]*Table1[[#This Row],[S&L Price]]","v":0}]
[null,null,16,"Go Outside!",1,"Go Camping!","eBook",null,"978-1-5382-4480-7",{"$f":"HYPERLINK(Table1[[#This Row],[eCommerce Hyperlink]],\"Book Weblink\")","v":"Book Weblink"},null,"2020","January 2020",null,null,"Author","Peter Finn","0.7","0.5",null,null,"C",null,"Grade K","Grade Pre-K - 2","Kids often love to play camping in their living rooms, but this motivating book shows them what it means to head outside and really live in the great outdoors. A friendly narrator shows them tents, sleeping bags, and other gear that make camping an enjoyable adventure. Inviting photographs support the carefully crafted low-ATOS text, creating an enjoyable and achievable reading experience.","English",23.6,17.7,"796.54--dc23","24 pp.","https://www.garethstevens.com/9781538244807",null,{"$f":"Table1[[#This Row],[QTY]]*Table1[[#This Row],['# Books]]","v":0},{"$f":"Table1[[#This Row],[QTY]]*Table1[[#This Row],[S&L Price]]","v":0}]
[null,null,16,"Go Outside!",1,"Go Fishing!","Library Bound Book",null,"978-1-5382-4483-8",{"$f":"HYPERLINK(Table1[[#This Row],[eCommerce Hyperlink]],\"Book Weblink\")","v":"Book Weblink"},null,"2020","January 2020","Library","7.625 X 7.125","Author","Peter Finn","0.8","0.5",null,null,"C",null,"Grade K","Grade Pre-K - 2","What do you really need to go fishing? Readers will find out in this diverting book, which features low-ATOS text and carefully chosen photographs to aid in vocabulary acquisition. They'll learn about fishing rods, bait, and where people go fishing. They'll be inspired to become anglers and try out this sport for themselves.","English",23.6,17.7,"639.2--dc23","24 pp.","https://www.garethstevens.com/9781538244838",null,{"$f":"Table1[[#This Row],[QTY]]*Table1[[#This Row],['# Books]]","v":0},{"$f":"Table1[[#This Row],[QTY]]*Table1[[#This Row],[S&L Price]]","v":0}]
[null,null,16,"Go Outside!",1,"Go Fishing!","eBook",null,"978-1-5382-4484-5",{"$f":"HYPERLINK(Table1[[#This Row],[eCommerce Hyperlink]],\"Book Weblink\")","v":"Book Weblink"},null,"2020","January 2020",null,null,"Author","Peter Finn","0.8","0.5",null,null,"C",null,"Grade K","Grade Pre-K - 2","What do you really need to go fishing? Readers will find out in this diverting book, which features low-ATOS text and carefully chosen photographs to aid in vocabulary acquisition. They'll learn about fishing rods, bait, and where people go fishing. They'll be inspired to become anglers and try out this sport for themselves.","English",23.6,17.7,"639.2--dc23","24 pp.","https://www.garethstevens.com/9781538244845",null,{"$f":"Table1[[#This Row],[QTY]]*Table1[[#This Row],['# Books]]","v":0},{"$f":"Table1[[#This Row],[QTY]]*Table1[[#This Row],[S&L Price]]","v":0}]
[null,null,16,"Go Outside!",1,"Go for a Hike!","Library Bound Book",null,"978-1-5382-4487-6",{"$f":"HYPERLINK(Table1[[#This Row],[eCommerce Hyperlink]],\"Book Weblink\")","v":"Book Weblink"},null,"2020","January 2020","Library","7.625 X 7.125","Author","Peter Finn","0.8","0.5",null,null,"C",null,"Grade K","Grade Pre-K - 2","A hike is an adventure. You never know what interesting noises you'll hear, awesome animals you'll spy, or amazing plants you'll come upon. This delightful volume encourages kids to grab an adult and head outdoors for a walk in the woods. Readers will be motivated by the inviting low-ATOS text and cheerful photographs featured throughout this well-designed book.","English",23.6,17.7,"796.51--dc23","24 pp.","https://www.garethstevens.com/9781538244876",null,{"$f":"Table1[[#This Row],[QTY]]*Table1[[#This Row],['# Books]]","v":0},{"$f":"Table1[[#This Row],[QTY]]*Table1[[#This Row],[S&L Price]]","v":0}]
[null,null,16,"Go Outside!",1,"Go for a Hike!","eBook",null,"978-1-5382-4488-3",{"$f":"HYPERLINK(Table1[[#This Row],[eCommerce Hyperlink]],\"Book Weblink\")","v":"Book Weblink"},null,"2020","January 2020",null,null,"Author","Peter Finn","0.8","0.5",null,null,"C",null,"Grade K","Grade Pre-K - 2","A hike is an adventure. You never know what interesting noises you'll hear, awesome animals you'll spy, or amazing plants you'll come upon. This delightful volume encourages kids to grab an adult and head outdoors for a walk in the woods. Readers will be motivated by the inviting low-ATOS text and cheerful photographs featured throughout this well-designed book.","English",23.6,17.7,"796.51--dc23","24 pp.","https://www.garethstevens.com/9781538244883",null,{"$f":"Table1[[#This Row],[QTY]]*Table1[[#This Row],['# Books]]","v":0},{"$f":"Table1[[#This Row],[QTY]]*Table1[[#This Row],[S&L Price]]","v":0}]
[null,null,16,"Go Outside!",1,"Go for a Swim!","Library Bound Book",null,"978-1-5382-4491-3",{"$f":"HYPERLINK(Table1[[#This Row],[eCommerce Hyperlink]],\"Book Weblink\")","v":"Book Weblink"},null,"2020","January 2020","Library","7.625 X 7.125","Author","Peter Finn","0.9","0.5",null,null,"C",null,"Grade K","Grade Pre-K - 2","Splish-splash! Swimming is a highly motivating activity for young people. This likeable book, featuring low-ATOS text, takes readers into the water with a friendly narrator. They'll learn about where they can swim, special swim strokes, and games they can play in the water. Charming, vibrant images demonstrate that swimming is fun and so is reading.","English",23.6,17.7,"797.2/1--dc23","24 pp.","https://www.garethstevens.com/9781538244913",null,{"$f":"Table1[[#This Row],[QTY]]*Table1[[#This Row],['# Books]]","v":0},{"$f":"Table1[[#This Row],[QTY]]*Table1[[#This Row],[S&L Price]]","v":0}]
[null,null,16,"Go Outside!",1,"Go for a Swim!","eBook",null,"978-1-5382-4492-0",{"$f":"HYPERLINK(Table1[[#This Row],[eCommerce Hyperlink]],\"Book Weblink\")","v":"Book Weblink"},null,"2020","January 2020",null,null,"Author","Peter Finn","0.9","0.5",null,null,"C",null,"Grade K","Grade Pre-K - 2","Splish-splash! Swimming is a highly motivating activity for young people. This likeable book, featuring low-ATOS text, takes readers into the water with a friendly narrator. They'll learn about where they can swim, special swim strokes, and games they can play in the water. Charming, vibrant images demonstrate that swimming is fun and so is reading.","English",23.6,17.7,"797.2/1--dc23","24 pp.","https://www.garethstevens.com/9781538244920",null,{"$f":"Table1[[#This Row],[QTY]]*Table1[[#This Row],['# Books]]","v":0},{"$f":"Table1[[#This Row],[QTY]]*Table1[[#This Row],[S&L Price]]","v":0}]
[null,null,16,"Go Outside!",1,"Go to the Park!","Library Bound Book",null,"978-1-5382-4495-1",{"$f":"HYPERLINK(Table1[[#This Row],[eCommerce Hyperlink]],\"Book Weblink\")","v":"Book Weblink"},null,"2020","January 2020","Library","7.625 X 7.125","Author","Peter Finn","0.8","0.5",null,null,"C",null,"Grade K","Grade Pre-K - 2","Every park is a different experience. Some have playgrounds, others have hiking trails, and still others have sprawling lawns on which to have a picnic. Readers will love learning about parks and following the friendly narrator on a trip to a neighborhood park. The achievable low-ATOS text will inspire young learners to head to their nearest park and truly explore what it has to offer.","English",23.6,17.7,"363.6/8--dc23","24 pp.","https://www.garethstevens.com/9781538244951",null,{"$f":"Table1[[#This Row],[QTY]]*Table1[[#This Row],['# Books]]","v":0},{"$f":"Table1[[#This Row],[QTY]]*Table1[[#This Row],[S&L Price]]","v":0}]
[null,null,16,"Go Outside!",1,"Go to the Park!","eBook",null,"978-1-5382-4496-8",{"$f":"HYPERLINK(Table1[[#This Row],[eCommerce Hyperlink]],\"Book Weblink\")","v":"Book Weblink"},null,"2020","January 2020",null,null,"Author","Peter Finn","0.8","0.5",null,null,"C",null,"Grade K","Grade Pre-K - 2","Every park is a different experience. Some have playgrounds, others have hiking trails, and still others have sprawling lawns on which to have a picnic. Readers will love learning about parks and following the friendly narrator on a trip to a neighborhood park. The achievable low-ATOS text will inspire young learners to head to their nearest park and truly explore what it has to offer.","English",23.6,17.7,"363.6/8--dc23","24 pp.","https://www.garethstevens.com/9781538244968",null,{"$f":"Table1[[#This Row],[QTY]]*Table1[[#This Row],['# Books]]","v":0},{"$f":"Table1[[#This Row],[QTY]]*Table1[[#This Row],[S&L Price]]","v":0}]
[null,null,16,"Go Outside!",1,"Play Hide-and-Seek!","Library Bound Book",null,"978-1-5382-4499-9",{"$f":"HYPERLINK(Table1[[#This Row],[eCommerce Hyperlink]],\"Book Weblink\")","v":"Book Weblink"},null,"2020","January 2020","Library","7.625 X 7.125","Author","Peter Finn","0.8","0.5",null,null,"C",null,"Grade K","Grade Pre-K - 2","\"Ready or not, here I come!\" It's time for hide-and-seek, the game that requires no equipment, just a friend and a sense of fun. Readers of this attention-grabbing volume will love following a game of hide-and-seek between friends. They'll learn new vocabulary through the low-ATOS text and colorful supporting photographs.","English",23.6,17.7,"793.4--dc23","24 pp.","https://www.garethstevens.com/9781538244999",null,{"$f":"Table1[[#This Row],[QTY]]*Table1[[#This Row],['# Books]]","v":0},{"$f":"Table1[[#This Row],[QTY]]*Table1[[#This Row],[S&L Price]]","v":0}]
[null,null,16,"Go Outside!",1,"Play Hide-and-Seek!","eBook",null,"978-1-5382-4500-2",{"$f":"HYPERLINK(Table1[[#This Row],[eCommerce Hyperlink]],\"Book Weblink\")","v":"Book Weblink"},null,"2020","January 2020",null,null,"Author","Peter Finn","0.8","0.5",null,null,"C",null,"Grade K","Grade Pre-K - 2","\"Ready or not, here I come!\" It's time for hide-and-seek, the game that requires no equipment, just a friend and a sense of fun. Readers of this attention-grabbing volume will love following a game of hide-and-seek between friends. They'll learn new vocabulary through the low-ATOS text and colorful supporting photographs.","English",23.6,17.7,"793.4--dc23","24 pp.","https://www.garethstevens.com/9781538245002",null,{"$f":"Table1[[#This Row],[QTY]]*Table1[[#This Row],['# Books]]","v":0},{"$f":"Table1[[#This Row],[QTY]]*Table1[[#This Row],[S&L Price]]","v":0}]
[null,null,16,"I Can Be Anything!",6,"I Can Be Anything!: Set 1","Library Set",null,"978-1-5382-0240-1",{"$f":"HYPERLINK(Table1[[#This Row],[eCommerce Hyperlink]],\"Book Weblink\")","v":"Book Weblink"},null,"2018","August 2017","Library","7.625 X 7.125",null,null,null,null,null,null,null,null,"Grade K","Grade Pre-K - 2","The world is full of exciting and important jobs, and many people have ideal careers they’d like to explore from an early age. Whether readers want to fight fires, write stories, or teach, every occupation is something to dream about. This series brings those jobs into clearer focus, showing readers what those fantasy jobs are like in real life. Vivid photographs display workers in detail, giving readers on-site training, while a colorful picture glossary reinforces understanding of key vocabulary.","English",141.6,106.2,null,"24 pp.","https://www.garethstevens.com/9781538202401",null,{"$f":"Table1[[#This Row],[QTY]]*Table1[[#This Row],['# Books]]","v":0},{"$f":"Table1[[#This Row],[QTY]]*Table1[[#This Row],[S&L Price]]","v":0}]
[null,null,16,"I Can Be Anything!",1,"I Can Be a Doctor","Library Bound Book",null,"978-1-4824-6319-4",{"$f":"HYPERLINK(Table1[[#This Row],[eCommerce Hyperlink]],\"Book Weblink\")","v":"Book Weblink"},null,"2018","August 2017","Library","7.625 X 7.125","Author","Audrey Charles","0.9","0.5",null,null,"B",null,"Grade K","Grade Pre-K - 2","Many young people love the idea of becoming a doctor so they can help others. In this entertaining narrative, readers will meet Dr. Jones and learn about the many things she does for her patients. They’ll also find out what happens when they go to checkups and be encouraged to consider a medical career for themselves. Low-ATOS text and bright photographs make this instructive volume an engaging read for doctors-in-training!","English",23.6,17.7,"610.69--dc23","24 pp.","https://www.garethstevens.com/9781482463194",null,{"$f":"Table1[[#This Row],[QTY]]*Table1[[#This Row],['# Books]]","v":0},{"$f":"Table1[[#This Row],[QTY]]*Table1[[#This Row],[S&L Price]]","v":0}]
[null,null,16,"I Can Be Anything!",1,"I Can Be a Doctor","eBook",null,"978-1-4824-6320-0",{"$f":"HYPERLINK(Table1[[#This Row],[eCommerce Hyperlink]],\"Book Weblink\")","v":"Book Weblink"},null,"2018","August 2017",null,null,"Author","Audrey Charles","0.9","0.5",null,null,"B",null,"Grade K","Grade Pre-K - 2","Many young people love the idea of becoming a doctor so they can help others. In this entertaining narrative, readers will meet Dr. Jones and learn about the many things she does for her patients. They’ll also find out what happens when they go to checkups and be encouraged to consider a medical career for themselves. Low-ATOS text and bright photographs make this instructive volume an engaging read for doctors-in-training!","English",23.6,17.7,"610.69--dc23","24 pp.","https://www.garethstevens.com/9781482463200",null,{"$f":"Table1[[#This Row],[QTY]]*Table1[[#This Row],['# Books]]","v":0},{"$f":"Table1[[#This Row],[QTY]]*Table1[[#This Row],[S&L Price]]","v":0}]
[null,null,16,"I Can Be Anything!",1,"I Can Be a Firefighter","Library Bound Book",null,"978-1-4824-6323-1",{"$f":"HYPERLINK(Table1[[#This Row],[eCommerce Hyperlink]],\"Book Weblink\")","v":"Book Weblink"},null,"2018","August 2017","Library","7.625 X 7.125","Author","Audrey Charles","0.9","0.5",null,null,"C",null,"Grade K","Grade Pre-K - 2","It’s time to get in the fire engine and sound the alarm. In this book, beginning readers head to the station to meet the heroes who help our communities: firefighters. Readers will love this lively look at the many duties and tools of firefighters. Achievable, low-ATOS text and exciting photographs combine to create an accessible volume about this career, one that continues to fascinate many young people.","English",23.6,17.7,"628.9’2--dc23","24 pp.","https://www.garethstevens.com/9781482463231",null,{"$f":"Table1[[#This Row],[QTY]]*Table1[[#This Row],['# Books]]","v":0},{"$f":"Table1[[#This Row],[QTY]]*Table1[[#This Row],[S&L Price]]","v":0}]
[null,null,16,"I Can Be Anything!",1,"I Can Be a Firefighter","eBook",null,"978-1-4824-6324-8",{"$f":"HYPERLINK(Table1[[#This Row],[eCommerce Hyperlink]],\"Book Weblink\")","v":"Book Weblink"},null,"2018","August 2017",null,null,"Author","Audrey Charles","0.9","0.5",null,null,"C",null,"Grade K","Grade Pre-K - 2","It’s time to get in the fire engine and sound the alarm. In this book, beginning readers head to the station to meet the heroes who help our communities: firefighters. Readers will love this lively look at the many duties and tools of firefighters. Achievable, low-ATOS text and exciting photographs combine to create an accessible volume about this career, one that continues to fascinate many young people.","English",23.6,17.7,"628.9’2--dc23","24 pp.","https://www.garethstevens.com/9781482463248",null,{"$f":"Table1[[#This Row],[QTY]]*Table1[[#This Row],['# Books]]","v":0},{"$f":"Table1[[#This Row],[QTY]]*Table1[[#This Row],[S&L Price]]","v":0}]
[null,null,16,"I Can Be Anything!",1,"I Can Be a Police Officer","Library Bound Book",null,"978-1-4824-6327-9",{"$f":"HYPERLINK(Table1[[#This Row],[eCommerce Hyperlink]],\"Book Weblink\")","v":"Book Weblink"},null,"2018","August 2017","Library","7.625 X 7.125","Author","Audrey Charles","0.9","0.5",null,null,"C",null,"Grade K","Grade Pre-K - 2","There's so much more to police officers than what we see on television or in the movies. Police officers are truly community helpers who serve the public in many ways. Readers of this concise and entertaining volume will learn how police officers help children as well as about the cool ways they get around, including on horseback. Accessible vocabulary terms are paired with carefully chosen images to support beginning readers. After learning facts about police officers, readers can decide if they, too, would consider a future career in law enforcement.","English",23.6,17.7,"363.2’3--dc23","24 pp.","https://www.garethstevens.com/9781482463279",null,{"$f":"Table1[[#This Row],[QTY]]*Table1[[#This Row],['# Books]]","v":0},{"$f":"Table1[[#This Row],[QTY]]*Table1[[#This Row],[S&L Price]]","v":0}]
[null,null,16,"I Can Be Anything!",1,"I Can Be a Police Officer","eBook",null,"978-1-4824-6328-6",{"$f":"HYPERLINK(Table1[[#This Row],[eCommerce Hyperlink]],\"Book Weblink\")","v":"Book Weblink"},null,"2018","August 2017",null,null,"Author","Audrey Charles","0.9","0.5",null,null,"C",null,"Grade K","Grade Pre-K - 2","There's so much more to police officers than what we see on television or in the movies. Police officers are truly community helpers who serve the public in many ways. Readers of this concise and entertaining volume will learn how police officers help children as well as about the cool ways they get around, including on horseback. Accessible vocabulary terms are paired with carefully chosen images to support beginning readers. After learning facts about police officers, readers can decide if they, too, would consider a future career in law enforcement.","English",23.6,17.7,"363.2’3--dc23","24 pp.","https://www.garethstevens.com/9781482463286",null,{"$f":"Table1[[#This Row],[QTY]]*Table1[[#This Row],['# Books]]","v":0},{"$f":"Table1[[#This Row],[QTY]]*Table1[[#This Row],[S&L Price]]","v":0}]
[null,null,16,"I Can Be Anything!",1,"I Can Be a Scientist","Library Bound Book",null,"978-1-4824-6331-6",{"$f":"HYPERLINK(Table1[[#This Row],[eCommerce Hyperlink]],\"Book Weblink\")","v":"Book Weblink"},null,"2018","August 2017","Library","7.625 X 7.125","Author","Michou Franco","0.9","0.5",null,null,"C",null,"Grade K","Grade Pre-K - 2","It can be hard to picture what a scientist does. Some might imagine the archetypal mad scientist mixing explosive chemicals in a lab! While that's an amusing image, it's not reality. In this brainy book, an early introduction to STEM careers, aspiring young scientists will discover the wide-reaching disciplines of science in a comprehensible and fun narrative. They’ll see photographs of scientists at work in many settings and even picture themselves in a profession in the sciences, too.","English",23.6,17.7,"502.3--dc23","24 pp.","https://www.garethstevens.com/9781482463316",null,{"$f":"Table1[[#This Row],[QTY]]*Table1[[#This Row],['# Books]]","v":0},{"$f":"Table1[[#This Row],[QTY]]*Table1[[#This Row],[S&L Price]]","v":0}]
[null,null,16,"I Can Be Anything!",1,"I Can Be a Scientist","eBook",null,"978-1-4824-6332-3",{"$f":"HYPERLINK(Table1[[#This Row],[eCommerce Hyperlink]],\"Book Weblink\")","v":"Book Weblink"},null,"2018","August 2017",null,null,"Author","Michou Franco","0.9","0.5",null,null,"C",null,"Grade K","Grade Pre-K - 2","It can be hard to picture what a scientist does. Some might imagine the archetypal mad scientist mixing explosive chemicals in a lab! While that's an amusing image, it's not reality. In this brainy book, an early introduction to STEM careers, aspiring young scientists will discover the wide-reaching disciplines of science in a comprehensible and fun narrative. They’ll see photographs of scientists at work in many settings and even picture themselves in a profession in the sciences, too.","English",23.6,17.7,"502.3--dc23","24 pp.","https://www.garethstevens.com/9781482463323",null,{"$f":"Table1[[#This Row],[QTY]]*Table1[[#This Row],['# Books]]","v":0},{"$f":"Table1[[#This Row],[QTY]]*Table1[[#This Row],[S&L Price]]","v":0}]
[null,null,16,"I Can Be Anything!",1,"I Can Be a Teacher","Library Bound Book",null,"978-1-4824-6335-4",{"$f":"HYPERLINK(Table1[[#This Row],[eCommerce Hyperlink]],\"Book Weblink\")","v":"Book Weblink"},null,"2018","August 2017","Library","7.625 X 7.125","Author","Michou Franco","0.9","0.5",null,null,"C",null,"Grade K","Grade Pre-K - 2","School's in session! Most teachers not only teach multiple subjects, they often juggle many other responsibilities, including classroom budgets, discipline, grading, and the students' favorite; field trips. This volume uses at-level text and photographs to show teachers in action and open young readers' eyes to the rewarding career of teaching and all it entails. Readers will come to appreciate their teachers' many skills and perhaps even be inspired to become a teacher too.","English",23.6,17.7,"371.102--dc23","24 pp.","https://www.garethstevens.com/9781482463354",null,{"$f":"Table1[[#This Row],[QTY]]*Table1[[#This Row],['# Books]]","v":0},{"$f":"Table1[[#This Row],[QTY]]*Table1[[#This Row],[S&L Price]]","v":0}]
[null,null,16,"I Can Be Anything!",1,"I Can Be a Teacher","eBook",null,"978-1-4824-6336-1",{"$f":"HYPERLINK(Table1[[#This Row],[eCommerce Hyperlink]],\"Book Weblink\")","v":"Book Weblink"},null,"2018","August 2017",null,null,"Author","Michou Franco","0.9","0.5",null,null,"C",null,"Grade K","Grade Pre-K - 2","School's in session! Most teachers not only teach multiple subjects, they often juggle many other responsibilities, including classroom budgets, discipline, grading, and the students' favorite; field trips. This volume uses at-level text and photographs to show teachers in action and open young readers' eyes to the rewarding career of teaching and all it entails. Readers will come to appreciate their teachers' many skills and perhaps even be inspired to become a teacher too.","English",23.6,17.7,"371.102--dc23","24 pp.","https://www.garethstevens.com/9781482463361",null,{"$f":"Table1[[#This Row],[QTY]]*Table1[[#This Row],['# Books]]","v":0},{"$f":"Table1[[#This Row],[QTY]]*Table1[[#This Row],[S&L Price]]","v":0}]
[null,null,16,"I Can Be Anything!",1,"I Can Be a Writer","Library Bound Book",null,"978-1-4824-6339-2",{"$f":"HYPERLINK(Table1[[#This Row],[eCommerce Hyperlink]],\"Book Weblink\")","v":"Book Weblink"},null,"2018","August 2017","Library","7.625 X 7.125","Author","Michou Franco","1","0.5",null,null,"C",null,"Grade K","Grade Pre-K - 2","No one appreciates a good writer as much as younger readers. They’re honest critics of what makes them laugh, surprised, and happy. Favorite books are also motivation for young people to try their hand at imaginative writing. This low-ATOS career volume introduces aspiring authors to different genres of writing and writers. Photographs provide visual clues for key vocabulary, while brightly written text encourages readers to start writing now!","English",23.6,17.7,"808.02--dc23","24 pp.","https://www.garethstevens.com/9781482463392",null,{"$f":"Table1[[#This Row],[QTY]]*Table1[[#This Row],['# Books]]","v":0},{"$f":"Table1[[#This Row],[QTY]]*Table1[[#This Row],[S&L Price]]","v":0}]
[null,null,16,"I Can Be Anything!",1,"I Can Be a Writer","eBook",null,"978-1-4824-6340-8",{"$f":"HYPERLINK(Table1[[#This Row],[eCommerce Hyperlink]],\"Book Weblink\")","v":"Book Weblink"},null,"2018","August 2017",null,null,"Author","Michou Franco","1","0.5",null,null,"C",null,"Grade K","Grade Pre-K - 2","No one appreciates a good writer as much as younger readers. They’re honest critics of what makes them laugh, surprised, and happy. Favorite books are also motivation for young people to try their hand at imaginative writing. This low-ATOS career volume introduces aspiring authors to different genres of writing and writers. Photographs provide visual clues for key vocabulary, while brightly written text encourages readers to start writing now!","English",23.6,17.7,"808.02--dc23","24 pp.","https://www.garethstevens.com/9781482463408",null,{"$f":"Table1[[#This Row],[QTY]]*Table1[[#This Row],['# Books]]","v":0},{"$f":"Table1[[#This Row],[QTY]]*Table1[[#This Row],[S&L Price]]","v":0}]
[null,null,16,"I Can Be Anything!",6,"I Can Be Anything!: Set 2","Library Set",null,"978-1-5382-1844-0",{"$f":"HYPERLINK(Table1[[#This Row],[eCommerce Hyperlink]],\"Book Weblink\")","v":"Book Weblink"},null,"2019","August 2018","Library","7.625 X 7.125",null,null,null,null,null,null,null,null,"Grade K","Grade Pre-K - 2","Exploring potential career options can be fun, even from a young age. Whether readers dream about landing the starring role in a movie, flying planes around the world, or kicking the game-winning goal, this series has something for everyone. Each book focuses on an interesting and exciting occupation and shows readers what it would be like to have that job. A colorful picture glossary reinforces key terms, while bright photographs and accessible text create an enjoyable reading experience. Features include: Close picture-text correlation helps develop reading comprehension skills. Each exciting book features low-ATOS level text (below 1.0). Engaging content will inspire readers to learn new skills and explore different fields.","English",141.6,106.2,null,"24 pp.","https://www.garethstevens.com/9781538218440",null,{"$f":"Table1[[#This Row],[QTY]]*Table1[[#This Row],['# Books]]","v":0},{"$f":"Table1[[#This Row],[QTY]]*Table1[[#This Row],[S&L Price]]","v":0}]
[null,null,16,"I Can Be Anything!",1,"I Can Be a Chef","Library Bound Book",null,"978-1-5382-1753-5",{"$f":"HYPERLINK(Table1[[#This Row],[eCommerce Hyperlink]],\"Book Weblink\")","v":"Book Weblink"},null,"2019","August 2018","Library","7.625 X 7.125","Author","Miller Slenzak","0.9","0.5",null,null,"C",null,"Grade K","Grade Pre-K - 2","For many, a love of cooking great cuisine starts early. Some find this passion by helping a parent in the kitchen, others may find it by reading about it. With the help of this fun volume, readers learn what it takes to work in a busy restaurant kitchen. Colorful photographs are paired with engaging, low-ATOS text to support beginning readers. After reading about the tools they use and the responsibilities they have, readers can decide if being a chef is a career they would like to pursue.","English",23.6,17.7,"641.5023--dc23","24 pp.","https://www.garethstevens.com/9781538217535",null,{"$f":"Table1[[#This Row],[QTY]]*Table1[[#This Row],['# Books]]","v":0},{"$f":"Table1[[#This Row],[QTY]]*Table1[[#This Row],[S&L Price]]","v":0}]
[null,null,16,"I Can Be Anything!",1,"I Can Be a Chef","eBook",null,"978-1-5382-1757-3",{"$f":"HYPERLINK(Table1[[#This Row],[eCommerce Hyperlink]],\"Book Weblink\")","v":"Book Weblink"},null,"2019","August 2018",null,null,"Author","Miller Slenzak","0.9","0.5",null,null,"C",null,"Grade K","Grade Pre-K - 2","For many, a love of cooking great cuisine starts early. Some find this passion by helping a parent in the kitchen, others may find it by reading about it. With the help of this fun volume, readers learn what it takes to work in a busy restaurant kitchen. Colorful photographs are paired with engaging, low-ATOS text to support beginning readers. After reading about the tools they use and the responsibilities they have, readers can decide if being a chef is a career they would like to pursue.","English",23.6,17.7,"641.5023--dc23","24 pp.","https://www.garethstevens.com/9781538217573",null,{"$f":"Table1[[#This Row],[QTY]]*Table1[[#This Row],['# Books]]","v":0},{"$f":"Table1[[#This Row],[QTY]]*Table1[[#This Row],[S&L Price]]","v":0}]
[null,null,16,"I Can Be Anything!",1,"I Can Be a Librarian","Library Bound Book",null,"978-1-5382-1760-3",{"$f":"HYPERLINK(Table1[[#This Row],[eCommerce Hyperlink]],\"Book Weblink\")","v":"Book Weblink"},null,"2019","August 2018","Library","7.625 X 7.125","Author","Anthony Ardely","0.9","0.5",null,null,"C","330L","Grade K","Grade Pre-K - 2","For those who love reading, the library is often a favorite place to spend time. For many young readers, working in a library might sound like the perfect job. In addition to learning about the hard work that goes into being a librarian, readers will learn about important concepts, such as borrowing. Bright photographs that are closely related to the text help create an accessible, engaging book for beginning readers. Those who already love libraries will come to respect the hard work their librarians do, while others may be inspired to take a trip to their local library.","English",23.6,17.7,"020.92--dc23","24 pp.","https://www.garethstevens.com/9781538217603",null,{"$f":"Table1[[#This Row],[QTY]]*Table1[[#This Row],['# Books]]","v":0},{"$f":"Table1[[#This Row],[QTY]]*Table1[[#This Row],[S&L Price]]","v":0}]
[null,null,16,"I Can Be Anything!",1,"I Can Be a Librarian","eBook",null,"978-1-5382-1761-0",{"$f":"HYPERLINK(Table1[[#This Row],[eCommerce Hyperlink]],\"Book Weblink\")","v":"Book Weblink"},null,"2019","August 2018",null,null,"Author","Anthony Ardely","0.9","0.5",null,null,"C","330L","Grade K","Grade Pre-K - 2","For those who love reading, the library is often a favorite place to spend time. For many young readers, working in a library might sound like the perfect job. In addition to learning about the hard work that goes into being a librarian, readers will learn about important concepts, such as borrowing. Bright photographs that are closely related to the text help create an accessible, engaging book for beginning readers. Those who already love libraries will come to respect the hard work their librarians do, while others may be inspired to take a trip to their local library.","English",23.6,17.7,"020.92--dc23","24 pp.","https://www.garethstevens.com/9781538217610",null,{"$f":"Table1[[#This Row],[QTY]]*Table1[[#This Row],['# Books]]","v":0},{"$f":"Table1[[#This Row],[QTY]]*Table1[[#This Row],[S&L Price]]","v":0}]
[null,null,16,"I Can Be Anything!",1,"I Can Be a Pilot","Library Bound Book",null,"978-1-5382-1764-1",{"$f":"HYPERLINK(Table1[[#This Row],[eCommerce Hyperlink]],\"Book Weblink\")","v":"Book Weblink"},null,"2019","August 2018","Library","7.625 X 7.125","Author","Miller Slenzak","0.9","0.5",null,null,"C","300L","Grade K","Grade Pre-K - 2","To many young readers, there are few things that sound more exciting than flying over the sea and around the world. This exciting book explores what the life of a pilot is like and introduces some of the different parts of a plane. Close picture-text correlation help readers understand key concepts and develop important reading comprehension skills. Accessible, low-ATOS text will help young readers learn about this fascinating career, while colorful photographs help readers entertain the idea that someday, they may become a pilot.","English",23.6,17.7,"387.7092--dc23","24 pp.","https://www.garethstevens.com/9781538217641",null,{"$f":"Table1[[#This Row],[QTY]]*Table1[[#This Row],['# Books]]","v":0},{"$f":"Table1[[#This Row],[QTY]]*Table1[[#This Row],[S&L Price]]","v":0}]
[null,null,16,"I Can Be Anything!",1,"I Can Be a Pilot","eBook",null,"978-1-5382-1765-8",{"$f":"HYPERLINK(Table1[[#This Row],[eCommerce Hyperlink]],\"Book Weblink\")","v":"Book Weblink"},null,"2019","August 2018",null,null,"Author","Miller Slenzak","0.9","0.5",null,null,"C","300L","Grade K","Grade Pre-K - 2","To many young readers, there are few things that sound more exciting than flying over the sea and around the world. This exciting book explores what the life of a pilot is like and introduces some of the different parts of a plane. Close picture-text correlation help readers understand key concepts and develop important reading comprehension skills. Accessible, low-ATOS text will help young readers learn about this fascinating career, while colorful photographs help readers entertain the idea that someday, they may become a pilot.","English",23.6,17.7,"387.7092--dc23","24 pp.","https://www.garethstevens.com/9781538217658",null,{"$f":"Table1[[#This Row],[QTY]]*Table1[[#This Row],['# Books]]","v":0},{"$f":"Table1[[#This Row],[QTY]]*Table1[[#This Row],[S&L Price]]","v":0}]
[null,null,16,"I Can Be Anything!",1,"I Can Be a Soccer Player","Library Bound Book",null,"978-1-5382-1768-9",{"$f":"HYPERLINK(Table1[[#This Row],[eCommerce Hyperlink]],\"Book Weblink\")","v":"Book Weblink"},null,"2019","August 2018","Library","7.625 X 7.125","Author","Miller Slenzak","0.9","0.5",null,null,"C","360L","Grade K","Grade Pre-K - 2","Soccer is one of the most popular sports around the world, so it's no wonder many young people dream of someday playing the game professionally. With the help of this exciting book, readers learn what it takes to play the game as more than just a hobby. Age-appropriate text correlates closely to bright photographs and supports beginning readers. Readers learn the different positions there are in the game, and how playing the sport now could help them become better players down the road.","English",23.6,17.7,"796.334--dc23","24 pp.","https://www.garethstevens.com/9781538217689",null,{"$f":"Table1[[#This Row],[QTY]]*Table1[[#This Row],['# Books]]","v":0},{"$f":"Table1[[#This Row],[QTY]]*Table1[[#This Row],[S&L Price]]","v":0}]
[null,null,16,"I Can Be Anything!",1,"I Can Be a Soccer Player","eBook",null,"978-1-5382-1769-6",{"$f":"HYPERLINK(Table1[[#This Row],[eCommerce Hyperlink]],\"Book Weblink\")","v":"Book Weblink"},null,"2019","August 2018",null,null,"Author","Miller Slenzak","0.9","0.5",null,null,"C","360L","Grade K","Grade Pre-K - 2","Soccer is one of the most popular sports around the world, so it's no wonder many young people dream of someday playing the game professionally. With the help of this exciting book, readers learn what it takes to play the game as more than just a hobby. Age-appropriate text correlates closely to bright photographs and supports beginning readers. Readers learn the different positions there are in the game, and how playing the sport now could help them become better players down the road.","English",23.6,17.7,"796.334--dc23","24 pp.","https://www.garethstevens.com/9781538217696",null,{"$f":"Table1[[#This Row],[QTY]]*Table1[[#This Row],['# Books]]","v":0},{"$f":"Table1[[#This Row],[QTY]]*Table1[[#This Row],[S&L Price]]","v":0}]
[null,null,16,"I Can Be Anything!",1,"I Can Be a Veterinarian","Library Bound Book",null,"978-1-5382-1772-6",{"$f":"HYPERLINK(Table1[[#This Row],[eCommerce Hyperlink]],\"Book Weblink\")","v":"Book Weblink"},null,"2019","August 2018","Library","7.625 X 7.125","Author","Anthony Ardely","0.9","0.5",null,null,"C","270L","Grade K","Grade Pre-K - 2","Working with animals would be a dream come true for many young people. This book explores the many different jobs veterinarians perform and shows readers that they, too, can become a veterinarian if they want to. It also teaches readers about the concept of proper pet care, and gives examples of how readers can help care for their own pets. Close picture-to-text correlation makes for engaging content that will inspire young animal lovers and veterinarians-in-training to start learning new skills.","English",23.6,17.7,"636.089--dc23","24 pp.","https://www.garethstevens.com/9781538217726",null,{"$f":"Table1[[#This Row],[QTY]]*Table1[[#This Row],['# Books]]","v":0},{"$f":"Table1[[#This Row],[QTY]]*Table1[[#This Row],[S&L Price]]","v":0}]
[null,null,16,"I Can Be Anything!",1,"I Can Be a Veterinarian","eBook",null,"978-1-5382-1773-3",{"$f":"HYPERLINK(Table1[[#This Row],[eCommerce Hyperlink]],\"Book Weblink\")","v":"Book Weblink"},null,"2019","August 2018",null,null,"Author","Anthony Ardely","0.9","0.5",null,null,"C","270L","Grade K","Grade Pre-K - 2","Working with animals would be a dream come true for many young people. This book explores the many different jobs veterinarians perform and shows readers that they, too, can become a veterinarian if they want to. It also teaches readers about the concept of proper pet care, and gives examples of how readers can help care for their own pets. Close picture-to-text correlation makes for engaging content that will inspire young animal lovers and veterinarians-in-training to start learning new skills.","English",23.6,17.7,"636.089--dc23","24 pp.","https://www.garethstevens.com/9781538217733",null,{"$f":"Table1[[#This Row],[QTY]]*Table1[[#This Row],['# Books]]","v":0},{"$f":"Table1[[#This Row],[QTY]]*Table1[[#This Row],[S&L Price]]","v":0}]
[null,null,16,"I Can Be Anything!",1,"I Can Be an Actor","Library Bound Book",null,"978-1-5382-1776-4",{"$f":"HYPERLINK(Table1[[#This Row],[eCommerce Hyperlink]],\"Book Weblink\")","v":"Book Weblink"},null,"2019","August 2018","Library","7.625 X 7.125","Author","Anthony Ardely","0.9","0.5",null,null,"C","280L","Grade K","Grade Pre-K - 2","When watching a movie, many young people have pictured themselves on the big screen. This exciting book introduces young readers to the many ways people get involved with acting and describes the different jobs an actor has. Accessible vocabulary and vibrant photographs support the development of reading comprehension skills. Those interested in creative careers, or who have ever dreamt of taking the stage or starring in a TV show, will love this entertaining glimpse into the fast-paced world of acting.","English",23.6,17.7,"792.028--dc23","24 pp.","https://www.garethstevens.com/9781538217764",null,{"$f":"Table1[[#This Row],[QTY]]*Table1[[#This Row],['# Books]]","v":0},{"$f":"Table1[[#This Row],[QTY]]*Table1[[#This Row],[S&L Price]]","v":0}]
[null,null,16,"I Can Be Anything!",1,"I Can Be an Actor","eBook",null,"978-1-5382-1777-1",{"$f":"HYPERLINK(Table1[[#This Row],[eCommerce Hyperlink]],\"Book Weblink\")","v":"Book Weblink"},null,"2019","August 2018",null,null,"Author","Anthony Ardely","0.9","0.5",null,null,"C","280L","Grade K","Grade Pre-K - 2","When watching a movie, many young people have pictured themselves on the big screen. This exciting book introduces young readers to the many ways people get involved with acting and describes the different jobs an actor has. Accessible vocabulary and vibrant photographs support the development of reading comprehension skills. Those interested in creative careers, or who have ever dreamt of taking the stage or starring in a TV show, will love this entertaining glimpse into the fast-paced world of acting.","English",23.6,17.7,"792.028--dc23","24 pp.","https://www.garethstevens.com/9781538217771",null,{"$f":"Table1[[#This Row],[QTY]]*Table1[[#This Row],['# Books]]","v":0},{"$f":"Table1[[#This Row],[QTY]]*Table1[[#This Row],[S&L Price]]","v":0}]
[null,null,16,"I Can Be Anything!",6,"I Can Be Anything!: Set 3","Library Set",null,"978-1-5382-5988-7",{"$f":"HYPERLINK(Table1[[#This Row],[eCommerce Hyperlink]],\"Book Weblink\")","v":"Book Weblink"},null,"2021","August 2020","Library","7.625 X 7.125",null,null,null,null,null,null,null,null,"Grade K","Grade Pre-K - 2","From medicine to sports, there's no shortage of fields young people can work in when they grow up, and it's never too early to start exploring them. This innovative set has something to offer all readers, whether they dream of being a race car driver, are interested in learning what park rangers do, or just want to see what types of jobs are out there. Simple narratives pair closely with colorful photographs, encouraging a development of strong reading comprehension skills. Features include: Colorful picture glossaries support understanding of key vocabulary. Introduces readers to common book features, such as a table of contents and index. ATOS reading levels below 1.0.","English",141.6,106.2,null,"24 pp.","https://www.garethstevens.com/9781538259887",null,{"$f":"Table1[[#This Row],[QTY]]*Table1[[#This Row],['# Books]]","v":0},{"$f":"Table1[[#This Row],[QTY]]*Table1[[#This Row],[S&L Price]]","v":0}]
[null,null,16,"I Can Be Anything!",1,"I Can Be a Baseball Player","Library Bound Book",null,"978-1-5382-5560-5",{"$f":"HYPERLINK(Table1[[#This Row],[eCommerce Hyperlink]],\"Book Weblink\")","v":"Book Weblink"},null,"2021","August 2020","Library","7.625 X 7.125","Author","Nancy Greenwood","0.9","0.5",null,null,"C",null,"Grade K","Grade Pre-K - 2","Lots of young athletes aspire to someday play the game they love for a living. For many baseball fans, playing on a professional team is the ultimate dream. This engaging volume shows readers what it's like to play the national pastime in front of thousands of fans. Low-ATOS text and eye-catching photographs support beginning readers and encourage them to take steps toward their goals now, such as by signing up for Little League or tee ball.","English",23.6,17.7,"796.357--dc23","24 pp.","https://www.garethstevens.com/9781538255605",null,{"$f":"Table1[[#This Row],[QTY]]*Table1[[#This Row],['# Books]]","v":0},{"$f":"Table1[[#This Row],[QTY]]*Table1[[#This Row],[S&L Price]]","v":0}]
[null,null,16,"I Can Be Anything!",1,"I Can Be a Baseball Player","eBook",null,"978-1-5382-5561-2",{"$f":"HYPERLINK(Table1[[#This Row],[eCommerce Hyperlink]],\"Book Weblink\")","v":"Book Weblink"},null,"2021","August 2020",null,null,"Author","Nancy Greenwood","0.9","0.5",null,null,"C",null,"Grade K","Grade Pre-K - 2","Lots of young athletes aspire to someday play the game they love for a living. For many baseball fans, playing on a professional team is the ultimate dream. This engaging volume shows readers what it's like to play the national pastime in front of thousands of fans. Low-ATOS text and eye-catching photographs support beginning readers and encourage them to take steps toward their goals now, such as by signing up for Little League or tee ball.","English",23.6,17.7,"796.357--dc23","24 pp.","https://www.garethstevens.com/9781538255612",null,{"$f":"Table1[[#This Row],[QTY]]*Table1[[#This Row],['# Books]]","v":0},{"$f":"Table1[[#This Row],[QTY]]*Table1[[#This Row],[S&L Price]]","v":0}]
[null,null,16,"I Can Be Anything!",1,"I Can Be a Dentist","Library Bound Book",null,"978-1-5382-5548-3",{"$f":"HYPERLINK(Table1[[#This Row],[eCommerce Hyperlink]],\"Book Weblink\")","v":"Book Weblink"},null,"2021","August 2020","Library","7.625 X 7.125","Author","Nancy Greenwood","0.9","0.5",null,null,"C",null,"Grade K","Grade Pre-K - 2","Dental hygiene is a key part of staying healthy. With the help of eye-catching photographs and accessible text, readers will learn what it's like to be a dentist. Low-ATOS level text introduces beginning readers to a valuable career path. Readers will also learn why going to the dentist is important and see that visiting one can be a comfortable and pleasant experience.","English",23.6,17.7,"617.6'023--dc23","24 pp.","https://www.garethstevens.com/9781538255483",null,{"$f":"Table1[[#This Row],[QTY]]*Table1[[#This Row],['# Books]]","v":0},{"$f":"Table1[[#This Row],[QTY]]*Table1[[#This Row],[S&L Price]]","v":0}]
[null,null,16,"I Can Be Anything!",1,"I Can Be a Dentist","eBook",null,"978-1-5382-5549-0",{"$f":"HYPERLINK(Table1[[#This Row],[eCommerce Hyperlink]],\"Book Weblink\")","v":"Book Weblink"},null,"2021","August 2020",null,null,"Author","Nancy Greenwood","0.9","0.5",null,null,"C",null,"Grade K","Grade Pre-K - 2","Dental hygiene is a key part of staying healthy. With the help of eye-catching photographs and accessible text, readers will learn what it's like to be a dentist. Low-ATOS level text introduces beginning readers to a valuable career path. Readers will also learn why going to the dentist is important and see that visiting one can be a comfortable and pleasant experience.","English",23.6,17.7,"617.6'023--dc23","24 pp.","https://www.garethstevens.com/9781538255490",null,{"$f":"Table1[[#This Row],[QTY]]*Table1[[#This Row],['# Books]]","v":0},{"$f":"Table1[[#This Row],[QTY]]*Table1[[#This Row],[S&L Price]]","v":0}]
[null,null,16,"I Can Be Anything!",1,"I Can Be a Nurse","Library Bound Book",null,"978-1-5382-5552-0",{"$f":"HYPERLINK(Table1[[#This Row],[eCommerce Hyperlink]],\"Book Weblink\")","v":"Book Weblink"},null,"2021","August 2020","Library","7.625 X 7.125","Author","Nancy Greenwood","0.9","0.5",null,null,"C",null,"Grade K","Grade Pre-K - 2","Whether it's a school nurse, an emergency room nurse, or any other type of nurse, these professionals play an important role in their communities. Your young readers will learn what a nurse's job entails and be encouraged to consider such a career for themselves someday. Low-ATOS level text correlates closely with vibrant photographs that help readers develop a deeper understanding of this book's high-interest content. A colorful picture glossary helps readers recognize key terms.","English",23.6,17.7,"610.7306/9--dc23","24 pp.","https://www.garethstevens.com/9781538255520",null,{"$f":"Table1[[#This Row],[QTY]]*Table1[[#This Row],['# Books]]","v":0},{"$f":"Table1[[#This Row],[QTY]]*Table1[[#This Row],[S&L Price]]","v":0}]
[null,null,16,"I Can Be Anything!",1,"I Can Be a Nurse","eBook",null,"978-1-5382-5553-7",{"$f":"HYPERLINK(Table1[[#This Row],[eCommerce Hyperlink]],\"Book Weblink\")","v":"Book Weblink"},null,"2021","August 2020",null,null,"Author","Nancy Greenwood","0.9","0.5",null,null,"C",null,"Grade K","Grade Pre-K - 2","Whether it's a school nurse, an emergency room nurse, or any other type of nurse, these professionals play an important role in their communities. Your young readers will learn what a nurse's job entails and be encouraged to consider such a career for themselves someday. Low-ATOS level text correlates closely with vibrant photographs that help readers develop a deeper understanding of this book's high-interest content. A colorful picture glossary helps readers recognize key terms.","English",23.6,17.7,"610.7306/9--dc23","24 pp.","https://www.garethstevens.com/9781538255537",null,{"$f":"Table1[[#This Row],[QTY]]*Table1[[#This Row],['# Books]]","v":0},{"$f":"Table1[[#This Row],[QTY]]*Table1[[#This Row],[S&L Price]]","v":0}]
[null,null,16,"I Can Be Anything!",1,"I Can Be a Park Ranger","Library Bound Book",null,"978-1-5382-5556-8",{"$f":"HYPERLINK(Table1[[#This Row],[eCommerce Hyperlink]],\"Book Weblink\")","v":"Book Weblink"},null,"2021","August 2020","Library","7.625 X 7.125","Author","Nancy Greenwood","0.9","0.5",null,null,"C",null,"Grade K","Grade Pre-K - 2","For those who enjoy being outdoors, being a park ranger might sound like a dream job. Beginning readers will see what it takes to work in this fascinating field. Concise, accessible text allows readers of all ages and levels to explore a unique career path. Vibrant photographs aid readers in comprehending new information while a colorful picture glossary helps them learn new terms.","English",23.6,17.7,"363.68023--dc23","24 pp.","https://www.garethstevens.com/9781538255568",null,{"$f":"Table1[[#This Row],[QTY]]*Table1[[#This Row],['# Books]]","v":0},{"$f":"Table1[[#This Row],[QTY]]*Table1[[#This Row],[S&L Price]]","v":0}]
[null,null,16,"I Can Be Anything!",1,"I Can Be a Park Ranger","eBook",null,"978-1-5382-5557-5",{"$f":"HYPERLINK(Table1[[#This Row],[eCommerce Hyperlink]],\"Book Weblink\")","v":"Book Weblink"},null,"2021","August 2020",null,null,"Author","Nancy Greenwood","0.9","0.5",null,null,"C",null,"Grade K","Grade Pre-K - 2","For those who enjoy being outdoors, being a park ranger might sound like a dream job. Beginning readers will see what it takes to work in this fascinating field. Concise, accessible text allows readers of all ages and levels to explore a unique career path. Vibrant photographs aid readers in comprehending new information while a colorful picture glossary helps them learn new terms.","English",23.6,17.7,"363.68023--dc23","24 pp.","https://www.garethstevens.com/9781538255575",null,{"$f":"Table1[[#This Row],[QTY]]*Table1[[#This Row],['# Books]]","v":0},{"$f":"Table1[[#This Row],[QTY]]*Table1[[#This Row],[S&L Price]]","v":0}]
[null,null,16,"I Can Be Anything!",1,"I Can Be a Race Car Driver","Library Bound Book",null,"978-1-5382-5568-1",{"$f":"HYPERLINK(Table1[[#This Row],[eCommerce Hyperlink]],\"Book Weblink\")","v":"Book Weblink"},null,"2021","August 2020","Library","7.625 X 7.125","Author","Nancy Greenwood","0.9","0.5",null,null,"C",null,"Grade K","Grade Pre-K - 2","Speedy car races are fun to watch, but it's even more exciting when you're one of the racers. Sports enthusiasts will take a look at life on the racetrack. Concise, low-ATOS text and eye-catching photographs help beginning readers learn about race car driving, from the fast cars to the fans in the stands.","English",23.6,17.7,"796.72--dc23","24 pp.","https://www.garethstevens.com/9781538255681",null,{"$f":"Table1[[#This Row],[QTY]]*Table1[[#This Row],['# Books]]","v":0},{"$f":"Table1[[#This Row],[QTY]]*Table1[[#This Row],[S&L Price]]","v":0}]
[null,null,16,"I Can Be Anything!",1,"I Can Be a Race Car Driver","eBook",null,"978-1-5382-5569-8",{"$f":"HYPERLINK(Table1[[#This Row],[eCommerce Hyperlink]],\"Book Weblink\")","v":"Book Weblink"},null,"2021","August 2020",null,null,"Author","Nancy Greenwood","0.9","0.5",null,null,"C",null,"Grade K","Grade Pre-K - 2","Speedy car races are fun to watch, but it's even more exciting when you're one of the racers. Sports enthusiasts will take a look at life on the racetrack. Concise, low-ATOS text and eye-catching photographs help beginning readers learn about race car driving, from the fast cars to the fans in the stands.","English",23.6,17.7,"796.72--dc23","24 pp.","https://www.garethstevens.com/9781538255698",null,{"$f":"Table1[[#This Row],[QTY]]*Table1[[#This Row],['# Books]]","v":0},{"$f":"Table1[[#This Row],[QTY]]*Table1[[#This Row],[S&L Price]]","v":0}]
[null,null,16,"I Can Be Anything!",1,"I Can Be an Artist","Library Bound Book",null,"978-1-5382-5564-3",{"$f":"HYPERLINK(Table1[[#This Row],[eCommerce Hyperlink]],\"Book Weblink\")","v":"Book Weblink"},null,"2021","August 2020","Library","7.625 X 7.125","Author","Nancy Greenwood","0.9","0.5",null,null,"C",null,"Grade K","Grade Pre-K - 2","Whether it involves painting, drawing, sculpting, or any other art form, being an artist takes talent, determination, and hard work. This high-interest volume shows young readers what life can be like for people who work as artists. Colorful photographs pair closely with achievable, low-ATOS text, making for a book that readers of many ages and levels are able to enjoy. Young artists and those who are simply curious about different creative possibilities will love this engaging book.","English",23.6,17.7,"702.3--dc23","24 pp.","https://www.garethstevens.com/9781538255643",null,{"$f":"Table1[[#This Row],[QTY]]*Table1[[#This Row],['# Books]]","v":0},{"$f":"Table1[[#This Row],[QTY]]*Table1[[#This Row],[S&L Price]]","v":0}]
[null,null,16,"I Can Be Anything!",1,"I Can Be an Artist","eBook",null,"978-1-5382-5565-0",{"$f":"HYPERLINK(Table1[[#This Row],[eCommerce Hyperlink]],\"Book Weblink\")","v":"Book Weblink"},null,"2021","August 2020",null,null,"Author","Nancy Greenwood","0.9","0.5",null,null,"C",null,"Grade K","Grade Pre-K - 2","Whether it involves painting, drawing, sculpting, or any other art form, being an artist takes talent, determination, and hard work. This high-interest volume shows young readers what life can be like for people who work as artists. Colorful photographs pair closely with achievable, low-ATOS text, making for a book that readers of many ages and levels are able to enjoy. Young artists and those who are simply curious about different creative possibilities will love this engaging book.","English",23.6,17.7,"702.3--dc23","24 pp.","https://www.garethstevens.com/9781538255650",null,{"$f":"Table1[[#This Row],[QTY]]*Table1[[#This Row],['# Books]]","v":0},{"$f":"Table1[[#This Row],[QTY]]*Table1[[#This Row],[S&L Price]]","v":0}]
[null,null,16,"Time to Celebrate!",6,"Time to Celebrate!","Library Set",null,"978-1-5382-4155-4",{"$f":"HYPERLINK(Table1[[#This Row],[eCommerce Hyperlink]],\"Book Weblink\")","v":"Book Weblink"},null,"2020","August 2019","Library","7.625 X 7.125",null,null,null,null,null,null,null,null,"Grade K","Grade Pre-K - 2","Going to parties and celebrations is a ton of fun but can be overwhelming for some little ones. With encouraging texts and a light-hearted tone, this set shows young readers what to expect from many kinds of events they might attend for the first time. From the fairground to a Halloween party, these topics were chosen especially for pre-K readers. Strong text-picture correlation and a low reading level make these the perfect books to help new readers and introduce the fun of parties, carnivals, and more. Features include: ATOS reading level below 1.0. Gives a friendly introduction to events for use before young readers attend. Introduces readers to informational-text features, such as indexes and table of contents.","English",141.6,106.2,null,"24 pp.","https://www.garethstevens.com/9781538241554",null,{"$f":"Table1[[#This Row],[QTY]]*Table1[[#This Row],['# Books]]","v":0},{"$f":"Table1[[#This Row],[QTY]]*Table1[[#This Row],[S&L Price]]","v":0}]
[null,null,16,"Time to Celebrate!",1,"Let's Go to a Birthday Party!","Library Bound Book",null,"978-1-5382-3884-4",{"$f":"HYPERLINK(Table1[[#This Row],[eCommerce Hyperlink]],\"Book Weblink\")","v":"Book Weblink"},null,"2020","August 2019","Library","7.625 X 7.125","Author","Benjamin Proudfit","0.8","0.5",null,null,"C",null,"Grade K","Grade Pre-K - 2","Cake, presents, games, songs...there's nothing more fun than a birthday party! Young readers might need an extra chance to prepare for one of the first events they may be attending without their parents being present. In this book, they'll learn what to expect from a typical birthday party through relatable examples and full-color photographs. With an encouraging tone and age-appropriate language, this book is the perfect volume for readers to practice reading and learn more about the excitement of a birthday party.","English",23.6,17.7,"793.2/1--dc23","24 pp.","https://www.garethstevens.com/9781538238844",null,{"$f":"Table1[[#This Row],[QTY]]*Table1[[#This Row],['# Books]]","v":0},{"$f":"Table1[[#This Row],[QTY]]*Table1[[#This Row],[S&L Price]]","v":0}]
[null,null,16,"Time to Celebrate!",1,"Let's Go to a Birthday Party!","eBook",null,"978-1-5382-3885-1",{"$f":"HYPERLINK(Table1[[#This Row],[eCommerce Hyperlink]],\"Book Weblink\")","v":"Book Weblink"},null,"2020","August 2019",null,null,"Author","Benjamin Proudfit","0.8","0.5",null,null,"C",null,"Grade K","Grade Pre-K - 2","Cake, presents, games, songs...there's nothing more fun than a birthday party! Young readers might need an extra chance to prepare for one of the first events they may be attending without their parents being present. In this book, they'll learn what to expect from a typical birthday party through relatable examples and full-color photographs. With an encouraging tone and age-appropriate language, this book is the perfect volume for readers to practice reading and learn more about the excitement of a birthday party.","English",23.6,17.7,"793.2/1--dc23","24 pp.","https://www.garethstevens.com/9781538238851",null,{"$f":"Table1[[#This Row],[QTY]]*Table1[[#This Row],['# Books]]","v":0},{"$f":"Table1[[#This Row],[QTY]]*Table1[[#This Row],[S&L Price]]","v":0}]
[null,null,16,"Time to Celebrate!",1,"Let's Go to a Carnival!","Library Bound Book",null,"978-1-5382-3888-2",{"$f":"HYPERLINK(Table1[[#This Row],[eCommerce Hyperlink]],\"Book Weblink\")","v":"Book Weblink"},null,"2020","August 2019","Library","7.625 X 7.125","Author","Benjamin Proudfit","0.9","0.5",null,null,"C",null,"Grade K","Grade Pre-K - 2","Carnivals are a fantastic way to spend a day. With popcorn, cotton candy, rides, and games, there's something for every person to enjoy. But younger kids might find the crowds, lights, and noise a little overwhelming. This book for beginning readers is the perfect way to prepare a new carnival goer for a super-fun day. Including full-color photographs that closely correlate to the text, it introduces carnival basics in language written especially for new readers working to navigate books for the first time.","English",23.6,17.7,"791/.1--dc23","24 pp.","https://www.garethstevens.com/9781538238882",null,{"$f":"Table1[[#This Row],[QTY]]*Table1[[#This Row],['# Books]]","v":0},{"$f":"Table1[[#This Row],[QTY]]*Table1[[#This Row],[S&L Price]]","v":0}]
[null,null,16,"Time to Celebrate!",1,"Let's Go to a Carnival!","eBook",null,"978-1-5382-3889-9",{"$f":"HYPERLINK(Table1[[#This Row],[eCommerce Hyperlink]],\"Book Weblink\")","v":"Book Weblink"},null,"2020","August 2019",null,null,"Author","Benjamin Proudfit","0.9","0.5",null,null,"C",null,"Grade K","Grade Pre-K - 2","Carnivals are a fantastic way to spend a day. With popcorn, cotton candy, rides, and games, there's something for every person to enjoy. But younger kids might find the crowds, lights, and noise a little overwhelming. This book for beginning readers is the perfect way to prepare a new carnival goer for a super-fun day. Including full-color photographs that closely correlate to the text, it introduces carnival basics in language written especially for new readers working to navigate books for the first time.","English",23.6,17.7,"791/.1--dc23","24 pp.","https://www.garethstevens.com/9781538238899",null,{"$f":"Table1[[#This Row],[QTY]]*Table1[[#This Row],['# Books]]","v":0},{"$f":"Table1[[#This Row],[QTY]]*Table1[[#This Row],[S&L Price]]","v":0}]
[null,null,16,"Time to Celebrate!",1,"Let's Go to a Cookout!","Library Bound Book",null,"978-1-5382-3892-9",{"$f":"HYPERLINK(Table1[[#This Row],[eCommerce Hyperlink]],\"Book Weblink\")","v":"Book Weblink"},null,"2020","August 2019","Library","7.625 X 7.125","Author","Benjamin Proudfit","0.9","0.5",null,null,"C",null,"Grade K","Grade Pre-K - 2","Summer isn't complete without a cookout or two, but what exactly is a cookout? Readers learn what the term means and what they can expect when attending this fun seasonal event with family or friends. From the kinds of food served to the possibility of games and other outdoor fun, the basics of a cookout are covered in age-appropriate and achievable language so new readers may be able to navigate it independently. Close text-image correlation aids readers as they turn the pages.","English",23.6,17.7,"641.5/78--dc23","24 pp.","https://www.garethstevens.com/9781538238929",null,{"$f":"Table1[[#This Row],[QTY]]*Table1[[#This Row],['# Books]]","v":0},{"$f":"Table1[[#This Row],[QTY]]*Table1[[#This Row],[S&L Price]]","v":0}]
[null,null,16,"Time to Celebrate!",1,"Let's Go to a Cookout!","eBook",null,"978-1-5382-3893-6",{"$f":"HYPERLINK(Table1[[#This Row],[eCommerce Hyperlink]],\"Book Weblink\")","v":"Book Weblink"},null,"2020","August 2019",null,null,"Author","Benjamin Proudfit","0.9","0.5",null,null,"C",null,"Grade K","Grade Pre-K - 2","Summer isn't complete without a cookout or two, but what exactly is a cookout? Readers learn what the term means and what they can expect when attending this fun seasonal event with family or friends. From the kinds of food served to the possibility of games and other outdoor fun, the basics of a cookout are covered in age-appropriate and achievable language so new readers may be able to navigate it independently. Close text-image correlation aids readers as they turn the pages.","English",23.6,17.7,"641.5/78--dc23","24 pp.","https://www.garethstevens.com/9781538238936",null,{"$f":"Table1[[#This Row],[QTY]]*Table1[[#This Row],['# Books]]","v":0},{"$f":"Table1[[#This Row],[QTY]]*Table1[[#This Row],[S&L Price]]","v":0}]
[null,null,16,"Time to Celebrate!",1,"Let's Go to a Halloween Party!","Library Bound Book",null,"978-1-5382-3896-7",{"$f":"HYPERLINK(Table1[[#This Row],[eCommerce Hyperlink]],\"Book Weblink\")","v":"Book Weblink"},null,"2020","August 2019","Library","7.625 X 7.125","Author","Benjamin Proudfit","0.9","0.5",null,null,"C",null,"Grade K","Grade Pre-K - 2","Halloween is very fun, but it can also be a bit scary, especially for younger kids. Readers are invited to a Halloween costume party and shown what to expect in a similar scenario. Achievable language and content allow new readers to navigate the book independently as they explore what it means to go to a Halloween party. A close text-to-picture correlation supports reading comprehension while the full-color photographs show readers relatable examples of scenes at a costume party.","English",23.6,17.7,"394.2646--dc23","24 pp.","https://www.garethstevens.com/9781538238967",null,{"$f":"Table1[[#This Row],[QTY]]*Table1[[#This Row],['# Books]]","v":0},{"$f":"Table1[[#This Row],[QTY]]*Table1[[#This Row],[S&L Price]]","v":0}]
[null,null,16,"Time to Celebrate!",1,"Let's Go to a Halloween Party!","eBook",null,"978-1-5382-3897-4",{"$f":"HYPERLINK(Table1[[#This Row],[eCommerce Hyperlink]],\"Book Weblink\")","v":"Book Weblink"},null,"2020","August 2019",null,null,"Author","Benjamin Proudfit","0.9","0.5",null,null,"C",null,"Grade K","Grade Pre-K - 2","Halloween is very fun, but it can also be a bit scary, especially for younger kids. Readers are invited to a Halloween costume party and shown what to expect in a similar scenario. Achievable language and content allow new readers to navigate the book independently as they explore what it means to go to a Halloween party. A close text-to-picture correlation supports reading comprehension while the full-color photographs show readers relatable examples of scenes at a costume party.","English",23.6,17.7,"394.2646--dc23","24 pp.","https://www.garethstevens.com/9781538238974",null,{"$f":"Table1[[#This Row],[QTY]]*Table1[[#This Row],['# Books]]","v":0},{"$f":"Table1[[#This Row],[QTY]]*Table1[[#This Row],[S&L Price]]","v":0}]
[null,null,16,"Time to Celebrate!",1,"Let's Go to a Parade!","Library Bound Book",null,"978-1-5382-3900-1",{"$f":"HYPERLINK(Table1[[#This Row],[eCommerce Hyperlink]],\"Book Weblink\")","v":"Book Weblink"},null,"2020","August 2019","Library","7.625 X 7.125","Author","Benjamin Proudfit","0.9","0.5",null,null,"C",null,"Grade K","Grade Pre-K - 2","Communities often like to celebrate important days and events with parades. It can be loud and overwhelming to attend a parade for the first time, but with this book, young readers will know what to expect. From horses and bands to cool cars and people throwing candy, the full-color photographs in this book show some of the most exciting parts of a parade. Age-appropriate language is achievable for new readers and the content introduces tips for safety in crowds and ideas of patriotism.","English",23.6,17.7,"394/.5--dc23","24 pp.","https://www.garethstevens.com/9781538239001",null,{"$f":"Table1[[#This Row],[QTY]]*Table1[[#This Row],['# Books]]","v":0},{"$f":"Table1[[#This Row],[QTY]]*Table1[[#This Row],[S&L Price]]","v":0}]
[null,null,16,"Time to Celebrate!",1,"Let's Go to a Parade!","eBook",null,"978-1-5382-3901-8",{"$f":"HYPERLINK(Table1[[#This Row],[eCommerce Hyperlink]],\"Book Weblink\")","v":"Book Weblink"},null,"2020","August 2019",null,null,"Author","Benjamin Proudfit","0.9","0.5",null,null,"C",null,"Grade K","Grade Pre-K - 2","Communities often like to celebrate important days and events with parades. It can be loud and overwhelming to attend a parade for the first time, but with this book, young readers will know what to expect. From horses and bands to cool cars and people throwing candy, the full-color photographs in this book show some of the most exciting parts of a parade. Age-appropriate language is achievable for new readers and the content introduces tips for safety in crowds and ideas of patriotism.","English",23.6,17.7,"394/.5--dc23","24 pp.","https://www.garethstevens.com/9781538239018",null,{"$f":"Table1[[#This Row],[QTY]]*Table1[[#This Row],['# Books]]","v":0},{"$f":"Table1[[#This Row],[QTY]]*Table1[[#This Row],[S&L Price]]","v":0}]
[null,null,16,"Time to Celebrate!",1,"Let's Go to the Fair!","Library Bound Book",null,"978-1-5382-3904-9",{"$f":"HYPERLINK(Table1[[#This Row],[eCommerce Hyperlink]],\"Book Weblink\")","v":"Book Weblink"},null,"2020","August 2019","Library","7.625 X 7.125","Author","Benjamin Proudfit","0.9","0.5",null,null,"C",null,"Grade K","Grade Pre-K - 2","From fun food booths to animal shows, there's so much to do and see at the town, county, or state fair. Young readers explore the games, exhibitions, and shows of a typical fair in the pages of this colorful volume. Written for new readers, the content and language are just right for the pre-K set. Full-color photographs offer a peek at what readers might see at the fair, closely correlating with the text to support even better comprehension.","English",23.6,17.7,"394.26--dc23","24 pp.","https://www.garethstevens.com/9781538239049",null,{"$f":"Table1[[#This Row],[QTY]]*Table1[[#This Row],['# Books]]","v":0},{"$f":"Table1[[#This Row],[QTY]]*Table1[[#This Row],[S&L Price]]","v":0}]
[null,null,16,"Time to Celebrate!",1,"Let's Go to the Fair!","eBook",null,"978-1-5382-3905-6",{"$f":"HYPERLINK(Table1[[#This Row],[eCommerce Hyperlink]],\"Book Weblink\")","v":"Book Weblink"},null,"2020","August 2019",null,null,"Author","Benjamin Proudfit","0.9","0.5",null,null,"C",null,"Grade K","Grade Pre-K - 2","From fun food booths to animal shows, there's so much to do and see at the town, county, or state fair. Young readers explore the games, exhibitions, and shows of a typical fair in the pages of this colorful volume. Written for new readers, the content and language are just right for the pre-K set. Full-color photographs offer a peek at what readers might see at the fair, closely correlating with the text to support even better comprehension.","English",23.6,17.7,"394.26--dc23","24 pp.","https://www.garethstevens.com/9781538239056",null,{"$f":"Table1[[#This Row],[QTY]]*Table1[[#This Row],['# Books]]","v":0},{"$f":"Table1[[#This Row],[QTY]]*Table1[[#This Row],[S&L Price]]","v":0}]
[null,null,16,"Ways to Play",6,"Ways to Play: Set 1","Library Set",null,"978-1-5382-0229-6",{"$f":"HYPERLINK(Table1[[#This Row],[eCommerce Hyperlink]],\"Book Weblink\")","v":"Book Weblink"},null,"2018","August 2017","Library","7.625 X 7.125",null,null,null,null,null,null,null,null,"Grade K","Grade Pre-K - 2","This motivating series shows early readers that books are a gateway to fun, while they read about the different ways that young people play every day. Whether that play involves pets, sports, music, or crafts, readers will connect with accessible text and photographs on each page, which will aid them in reviewing sight words as well as deciphering new vocabulary. Each high-interest volume encourages both creative and physical play and will have readers enthusiastically turning the pages.","English",141.6,106.2,null,"24 pp.","https://www.garethstevens.com/9781538202296",null,{"$f":"Table1[[#This Row],[QTY]]*Table1[[#This Row],['# Books]]","v":0},{"$f":"Table1[[#This Row],[QTY]]*Table1[[#This Row],[S&L Price]]","v":0}]
[null,null,16,"Ways to Play",1,"We Do Crafts!","Library Bound Book",null,"978-1-4824-6343-9",{"$f":"HYPERLINK(Table1[[#This Row],[eCommerce Hyperlink]],\"Book Weblink\")","v":"Book Weblink"},null,"2018","August 2017","Library","7.625 X 7.125","Author","Leonard Atlantic","0.9","0.5",null,null,"C",null,"Grade K","Grade Pre-K - 2","No matter what the weather's like outside, crafts are an easy and fun way to spend an afternoon. Whether painting with friends or making flowers out of paper, crafts can turn the day into an awesome adventure. Using simple craft supplies like paper and drawing tools, even the youngest of children can find engaging ways to play. With the help of accessible text paired with colorful photographs, early readers will experience the creative world of arts and crafts.","English",23.6,17.7,"745.5--dc23","24 pp.","https://www.garethstevens.com/9781482463439",null,{"$f":"Table1[[#This Row],[QTY]]*Table1[[#This Row],['# Books]]","v":0},{"$f":"Table1[[#This Row],[QTY]]*Table1[[#This Row],[S&L Price]]","v":0}]
[null,null,16,"Ways to Play",1,"We Do Crafts!","eBook",null,"978-1-4824-6344-6",{"$f":"HYPERLINK(Table1[[#This Row],[eCommerce Hyperlink]],\"Book Weblink\")","v":"Book Weblink"},null,"2018","August 2017",null,null,"Author","Leonard Atlantic","0.9","0.5",null,null,"C",null,"Grade K","Grade Pre-K - 2","No matter what the weather's like outside, crafts are an easy and fun way to spend an afternoon. Whether painting with friends or making flowers out of paper, crafts can turn the day into an awesome adventure. Using simple craft supplies like paper and drawing tools, even the youngest of children can find engaging ways to play. With the help of accessible text paired with colorful photographs, early readers will experience the creative world of arts and crafts.","English",23.6,17.7,"745.5--dc23","24 pp.","https://www.garethstevens.com/9781482463446",null,{"$f":"Table1[[#This Row],[QTY]]*Table1[[#This Row],['# Books]]","v":0},{"$f":"Table1[[#This Row],[QTY]]*Table1[[#This Row],[S&L Price]]","v":0}]
[null,null,16,"Ways to Play",1,"We Play Dress-Up!","Library Bound Book",null,"978-1-4824-6347-7",{"$f":"HYPERLINK(Table1[[#This Row],[eCommerce Hyperlink]],\"Book Weblink\")","v":"Book Weblink"},null,"2018","August 2017","Library","7.625 X 7.125","Author","Leonard Atlantic","1","0.5",null,null,"C","290L","Grade K","Grade Pre-K - 2","Growing up, it’s important to learn that there are countless ways to play with friends. Just a few pieces of clothing and a couple of hats can help create an imaginary world full of wonder. Early readers will discover how much fun that world can be, thanks to full-color photographs paired with accessible text that shows children enjoying dress-up in a variety of ways. Whether trying on dresses or playing like a cowboy, readers learn there are lots of ways to have fun with just the clothes in your closet!","English",23.6,17.7,"391--dc23","24 pp.","https://www.garethstevens.com/9781482463477",null,{"$f":"Table1[[#This Row],[QTY]]*Table1[[#This Row],['# Books]]","v":0},{"$f":"Table1[[#This Row],[QTY]]*Table1[[#This Row],[S&L Price]]","v":0}]
[null,null,16,"Ways to Play",1,"We Play Dress-Up!","eBook",null,"978-1-4824-6348-4",{"$f":"HYPERLINK(Table1[[#This Row],[eCommerce Hyperlink]],\"Book Weblink\")","v":"Book Weblink"},null,"2018","August 2017",null,null,"Author","Leonard Atlantic","1","0.5",null,null,"C","290L","Grade K","Grade Pre-K - 2","Growing up, it’s important to learn that there are countless ways to play with friends. Just a few pieces of clothing and a couple of hats can help create an imaginary world full of wonder. Early readers will discover how much fun that world can be, thanks to full-color photographs paired with accessible text that shows children enjoying dress-up in a variety of ways. Whether trying on dresses or playing like a cowboy, readers learn there are lots of ways to have fun with just the clothes in your closet!","English",23.6,17.7,"391--dc23","24 pp.","https://www.garethstevens.com/9781482463484",null,{"$f":"Table1[[#This Row],[QTY]]*Table1[[#This Row],['# Books]]","v":0},{"$f":"Table1[[#This Row],[QTY]]*Table1[[#This Row],[S&L Price]]","v":0}]
[null,null,16,"Ways to Play",1,"We Play Music!","Library Bound Book",null,"978-1-4824-6351-4",{"$f":"HYPERLINK(Table1[[#This Row],[eCommerce Hyperlink]],\"Book Weblink\")","v":"Book Weblink"},null,"2018","August 2017","Library","7.625 X 7.125","Author","Leonard Atlantic","0.9","0.5",null,null,"C","300L","Grade K","Grade Pre-K - 2","Learning an instrument is a great way to explore the fun and wonder of music. Whether it’s the drums or the piano, learning how to play an instrument is an amazing and empowering creative experience that instills a sense of discipline, even for early learners. It’s also a great way to write unique songs and play inspiring music with friends. From jamming out in a bedroom to learning an instrument at school, beginning readers will love exploring the world of music through full-color photographs and engaging, age-appropriate text.","English",23.6,17.7,"784.19--dc23","24 pp.","https://www.garethstevens.com/9781482463514",null,{"$f":"Table1[[#This Row],[QTY]]*Table1[[#This Row],['# Books]]","v":0},{"$f":"Table1[[#This Row],[QTY]]*Table1[[#This Row],[S&L Price]]","v":0}]
[null,null,16,"Ways to Play",1,"We Play Music!","eBook",null,"978-1-4824-6352-1",{"$f":"HYPERLINK(Table1[[#This Row],[eCommerce Hyperlink]],\"Book Weblink\")","v":"Book Weblink"},null,"2018","August 2017",null,null,"Author","Leonard Atlantic","0.9","0.5",null,null,"C","300L","Grade K","Grade Pre-K - 2","Learning an instrument is a great way to explore the fun and wonder of music. Whether it’s the drums or the piano, learning how to play an instrument is an amazing and empowering creative experience that instills a sense of discipline, even for early learners. It’s also a great way to write unique songs and play inspiring music with friends. From jamming out in a bedroom to learning an instrument at school, beginning readers will love exploring the world of music through full-color photographs and engaging, age-appropriate text.","English",23.6,17.7,"784.19--dc23","24 pp.","https://www.garethstevens.com/9781482463521",null,{"$f":"Table1[[#This Row],[QTY]]*Table1[[#This Row],['# Books]]","v":0},{"$f":"Table1[[#This Row],[QTY]]*Table1[[#This Row],[S&L Price]]","v":0}]
[null,null,16,"Ways to Play",1,"We Play Sports!","Library Bound Book",null,"978-1-4824-6355-2",{"$f":"HYPERLINK(Table1[[#This Row],[eCommerce Hyperlink]],\"Book Weblink\")","v":"Book Weblink"},null,"2018","August 2017","Library","7.625 X 7.125","Author","Leonard Atlantic","0.8","0.5",null,null,"C",null,"Grade K","Grade Pre-K - 2","With the help of just a few friends, beginning readers can play some of the most fun games there are! Kids of all ages only need a ball and a handful of fellow sports enthusiasts to unlock the world of sports. Whether it's baseball or basketball, everyone has a favorite sport. From kicking around a soccer ball to playing catch with friends, this book shows the many ways young readers can play through colorful photographs and age-appropriate text. Even reluctant athletes will learn that getting outside and playing is as easy as it is fun.","English",23.6,17.7,"796--dc23","24 pp.","https://www.garethstevens.com/9781482463552",null,{"$f":"Table1[[#This Row],[QTY]]*Table1[[#This Row],['# Books]]","v":0},{"$f":"Table1[[#This Row],[QTY]]*Table1[[#This Row],[S&L Price]]","v":0}]
[null,null,16,"Ways to Play",1,"We Play Sports!","eBook",null,"978-1-4824-6356-9",{"$f":"HYPERLINK(Table1[[#This Row],[eCommerce Hyperlink]],\"Book Weblink\")","v":"Book Weblink"},null,"2018","August 2017",null,null,"Author","Leonard Atlantic","0.8","0.5",null,null,"C",null,"Grade K","Grade Pre-K - 2","With the help of just a few friends, beginning readers can play some of the most fun games there are! Kids of all ages only need a ball and a handful of fellow sports enthusiasts to unlock the world of sports. Whether it's baseball or basketball, everyone has a favorite sport. From kicking around a soccer ball to playing catch with friends, this book shows the many ways young readers can play through colorful photographs and age-appropriate text. Even reluctant athletes will learn that getting outside and playing is as easy as it is fun.","English",23.6,17.7,"796--dc23","24 pp.","https://www.garethstevens.com/9781482463569",null,{"$f":"Table1[[#This Row],[QTY]]*Table1[[#This Row],['# Books]]","v":0},{"$f":"Table1[[#This Row],[QTY]]*Table1[[#This Row],[S&L Price]]","v":0}]
[null,null,16,"Ways to Play",1,"We Play with Pets!","Library Bound Book",null,"978-1-4824-6359-0",{"$f":"HYPERLINK(Table1[[#This Row],[eCommerce Hyperlink]],\"Book Weblink\")","v":"Book Weblink"},null,"2018","August 2017","Library","7.625 X 7.125","Author","Leonard Atlantic","0.8","0.5",null,null,"C",null,"Grade K","Grade Pre-K - 2","In this charming book, beginning readers learn there’s always something fun to do with your pets! Taking walks with the family dog or petting the family kitten are important steps in teaching caretaking and responsibility to young learners. Even feeding a pet goldfish is a great way to play with the family pet! This book, which pairs full-color photographs with accessible, age-appropriate text, shows that every interaction with a pet is a new way to help out and have fun!","English",23.6,17.7,"636--dc23","24 pp.","https://www.garethstevens.com/9781482463590",null,{"$f":"Table1[[#This Row],[QTY]]*Table1[[#This Row],['# Books]]","v":0},{"$f":"Table1[[#This Row],[QTY]]*Table1[[#This Row],[S&L Price]]","v":0}]
[null,null,16,"Ways to Play",1,"We Play with Pets!","eBook",null,"978-1-4824-6360-6",{"$f":"HYPERLINK(Table1[[#This Row],[eCommerce Hyperlink]],\"Book Weblink\")","v":"Book Weblink"},null,"2018","August 2017",null,null,"Author","Leonard Atlantic","0.8","0.5",null,null,"C",null,"Grade K","Grade Pre-K - 2","In this charming book, beginning readers learn there’s always something fun to do with your pets! Taking walks with the family dog or petting the family kitten are important steps in teaching caretaking and responsibility to young learners. Even feeding a pet goldfish is a great way to play with the family pet! This book, which pairs full-color photographs with accessible, age-appropriate text, shows that every interaction with a pet is a new way to help out and have fun!","English",23.6,17.7,"636--dc23","24 pp.","https://www.garethstevens.com/9781482463606",null,{"$f":"Table1[[#This Row],[QTY]]*Table1[[#This Row],['# Books]]","v":0},{"$f":"Table1[[#This Row],[QTY]]*Table1[[#This Row],[S&L Price]]","v":0}]
[null,null,16,"Ways to Play",1,"We Play with Things Around the House!","Library Bound Book",null,"978-1-4824-6363-7",{"$f":"HYPERLINK(Table1[[#This Row],[eCommerce Hyperlink]],\"Book Weblink\")","v":"Book Weblink"},null,"2018","August 2017","Library","7.625 X 7.125","Author","Leonard Atlantic","0.8","0.5",null,null,"C",null,"Grade K","Grade Pre-K - 2","There’s never a shortage of ways to play when you get creative! Even without fancy sports or craft supplies, letting young readers explore the treasures found at home is a great way to invent a brand-new game. Allowing readers’ imaginations to take over engages them in creative improvisation and builds confidence in their own logic. This book pairs full-color photographs with accessible text to show budding readers just how easy it is to turn ordinary household objects into an endless fountain of fun!","English",23.6,17.7,"790--dc23","24 pp.","https://www.garethstevens.com/9781482463637",null,{"$f":"Table1[[#This Row],[QTY]]*Table1[[#This Row],['# Books]]","v":0},{"$f":"Table1[[#This Row],[QTY]]*Table1[[#This Row],[S&L Price]]","v":0}]
[null,null,16,"Ways to Play",1,"We Play with Things Around the House!","eBook",null,"978-1-4824-6364-4",{"$f":"HYPERLINK(Table1[[#This Row],[eCommerce Hyperlink]],\"Book Weblink\")","v":"Book Weblink"},null,"2018","August 2017",null,null,"Author","Leonard Atlantic","0.8","0.5",null,null,"C",null,"Grade K","Grade Pre-K - 2","There’s never a shortage of ways to play when you get creative! Even without fancy sports or craft supplies, letting young readers explore the treasures found at home is a great way to invent a brand-new game. Allowing readers’ imaginations to take over engages them in creative improvisation and builds confidence in their own logic. This book pairs full-color photographs with accessible text to show budding readers just how easy it is to turn ordinary household objects into an endless fountain of fun!","English",23.6,17.7,"790--dc23","24 pp.","https://www.garethstevens.com/9781482463644",null,{"$f":"Table1[[#This Row],[QTY]]*Table1[[#This Row],['# Books]]","v":0},{"$f":"Table1[[#This Row],[QTY]]*Table1[[#This Row],[S&L Price]]","v":0}]
[null,null,16,"Ways to Play",6,"Ways to Play: Set 2","Library Set",null,"978-1-5382-2943-9",{"$f":"HYPERLINK(Table1[[#This Row],[eCommerce Hyperlink]],\"Book Weblink\")","v":"Book Weblink"},null,"2019","January 2019","Library","7.625 X 7.125",null,null,null,null,null,null,null,null,"Grade K","Grade Pre-K - 2","The ways to play pretend are innumerable, but playing house, school, and kitchen are always favorites of children. In the continuation of our popular series, new ways to play are explored in this set, from imaginary play to exploring the outdoors and the fun of helping around the house. Close correlation of photographs to text help new readers make connections between words and images while each sentence inspires them to get creative with their play. These colorful volumes help bring about confidence in new readers through the use of sight words and activities they know and love. Features include: ATOS reading level below 1.0. Introduction to informational text features, such as an index and table of contents. \"Words to Know\" sections review new words for beginning readers.","English",141.6,106.2,null,"24 pp.","https://www.garethstevens.com/9781538229439",null,{"$f":"Table1[[#This Row],[QTY]]*Table1[[#This Row],['# Books]]","v":0},{"$f":"Table1[[#This Row],[QTY]]*Table1[[#This Row],[S&L Price]]","v":0}]
[null,null,16,"Ways to Play",1,"We Play Cleanup!","Library Bound Book",null,"978-1-5382-2879-1",{"$f":"HYPERLINK(Table1[[#This Row],[eCommerce Hyperlink]],\"Book Weblink\")","v":"Book Weblink"},null,"2019","January 2019","Library","7.625 X 7.125","Author","Kathleen Connors","0.9","0.5",null,null,"C",null,"Grade K","Grade Pre-K - 2","Taking care of a home takes up a lot of time, unless you have help. This book encourages readers to begin taking responsibility for cleaning up after themselves by making it fun. Accessible language and age-appropriate text is paired with full-color photographs of kids having a great time both playing cleanup and actually tidying up their toys to show readers what they can do to help their family. By highlighting tasks young readers can accomplish on their own, the main text inspires cheerful helpers and future neatness.","English",23.6,17.7,"[E]--dc23","24 pp.","https://www.garethstevens.com/9781538228791",null,{"$f":"Table1[[#This Row],[QTY]]*Table1[[#This Row],['# Books]]","v":0},{"$f":"Table1[[#This Row],[QTY]]*Table1[[#This Row],[S&L Price]]","v":0}]
[null,null,16,"Ways to Play",1,"We Play Cleanup!","eBook",null,"978-1-5382-2977-4",{"$f":"HYPERLINK(Table1[[#This Row],[eCommerce Hyperlink]],\"Book Weblink\")","v":"Book Weblink"},null,"2019","January 2019",null,null,"Author","Kathleen Connors","0.9","0.5",null,null,"C",null,"Grade K","Grade Pre-K - 2","Taking care of a home takes up a lot of time, unless you have help. This book encourages readers to begin taking responsibility for cleaning up after themselves by making it fun. Accessible language and age-appropriate text is paired with full-color photographs of kids having a great time both playing cleanup and actually tidying up their toys to show readers what they can do to help their family. By highlighting tasks young readers can accomplish on their own, the main text inspires cheerful helpers and future neatness.","English",23.6,17.7,"[E]--dc23","24 pp.","https://www.garethstevens.com/9781538229774",null,{"$f":"Table1[[#This Row],[QTY]]*Table1[[#This Row],['# Books]]","v":0},{"$f":"Table1[[#This Row],[QTY]]*Table1[[#This Row],[S&L Price]]","v":0}]
[null,null,16,"Ways to Play",1,"We Play House!","Library Bound Book",null,"978-1-5382-2880-7",{"$f":"HYPERLINK(Table1[[#This Row],[eCommerce Hyperlink]],\"Book Weblink\")","v":"Book Weblink"},null,"2019","January 2019","Library","7.625 X 7.125","Author","Kathleen Connors","0.9","0.5",null,null,"C",null,"Grade K","Grade Pre-K - 2","Many kids are in a hurry to grow up; they want to drive cars, go to work, and perhaps not be told what to do. This accessible text and accompanying full-color photographs encourage independent pretend play while age-appropriate language supports beginning readers. Whether they want to play house with baby dolls by themselves, or create a huge family with tons of pets with their friends, readers will find positive reinforcement and inspiration for any home their imagination can come up with in this book.","English",23.6,17.7,"[E]--dc23","24 pp.","https://www.garethstevens.com/9781538228807",null,{"$f":"Table1[[#This Row],[QTY]]*Table1[[#This Row],['# Books]]","v":0},{"$f":"Table1[[#This Row],[QTY]]*Table1[[#This Row],[S&L Price]]","v":0}]
[null,null,16,"Ways to Play",1,"We Play House!","eBook",null,"978-1-5382-2978-1",{"$f":"HYPERLINK(Table1[[#This Row],[eCommerce Hyperlink]],\"Book Weblink\")","v":"Book Weblink"},null,"2019","January 2019",null,null,"Author","Kathleen Connors","0.9","0.5",null,null,"C",null,"Grade K","Grade Pre-K - 2","Many kids are in a hurry to grow up; they want to drive cars, go to work, and perhaps not be told what to do. This accessible text and accompanying full-color photographs encourage independent pretend play while age-appropriate language supports beginning readers. Whether they want to play house with baby dolls by themselves, or create a huge family with tons of pets with their friends, readers will find positive reinforcement and inspiration for any home their imagination can come up with in this book.","English",23.6,17.7,"[E]--dc23","24 pp.","https://www.garethstevens.com/9781538229781",null,{"$f":"Table1[[#This Row],[QTY]]*Table1[[#This Row],['# Books]]","v":0},{"$f":"Table1[[#This Row],[QTY]]*Table1[[#This Row],[S&L Price]]","v":0}]
[null,null,16,"Ways to Play",1,"We Play Kitchen!","Library Bound Book",null,"978-1-5382-2881-4",{"$f":"HYPERLINK(Table1[[#This Row],[eCommerce Hyperlink]],\"Book Weblink\")","v":"Book Weblink"},null,"2019","January 2019","Library","7.625 X 7.125","Author","Kathleen Connors","0.8","0.5",null,null,"C",null,"Grade K","Grade Pre-K - 2","Even though we can't actually have pizza for dinner every night, when kids play that they are cooking, anything is possible! From baking a cake to setting up a full-fledged restaurant, the different ways to play kitchen are only limited by readers' imagination. Age-appropriate text encourages kids to use toy kitchen utensils, but also includes ways they can help in the kitchen with older family members. With text that supports new readers, this book may inspire the next great chef, or at least an imaginary one.","English",23.6,17.7,"643/.3--dc23","24 pp.","https://www.garethstevens.com/9781538228814",null,{"$f":"Table1[[#This Row],[QTY]]*Table1[[#This Row],['# Books]]","v":0},{"$f":"Table1[[#This Row],[QTY]]*Table1[[#This Row],[S&L Price]]","v":0}]
[null,null,16,"Ways to Play",1,"We Play Kitchen!","eBook",null,"978-1-5382-2979-8",{"$f":"HYPERLINK(Table1[[#This Row],[eCommerce Hyperlink]],\"Book Weblink\")","v":"Book Weblink"},null,"2019","January 2019",null,null,"Author","Kathleen Connors","0.8","0.5",null,null,"C",null,"Grade K","Grade Pre-K - 2","Even though we can't actually have pizza for dinner every night, when kids play that they are cooking, anything is possible! From baking a cake to setting up a full-fledged restaurant, the different ways to play kitchen are only limited by readers' imagination. Age-appropriate text encourages kids to use toy kitchen utensils, but also includes ways they can help in the kitchen with older family members. With text that supports new readers, this book may inspire the next great chef, or at least an imaginary one.","English",23.6,17.7,"643/.3--dc23","24 pp.","https://www.garethstevens.com/9781538229798",null,{"$f":"Table1[[#This Row],[QTY]]*Table1[[#This Row],['# Books]]","v":0},{"$f":"Table1[[#This Row],[QTY]]*Table1[[#This Row],[S&L Price]]","v":0}]
[null,null,16,"Ways to Play",1,"We Play Outside!","Library Bound Book",null,"978-1-5382-2882-1",{"$f":"HYPERLINK(Table1[[#This Row],[eCommerce Hyperlink]],\"Book Weblink\")","v":"Book Weblink"},null,"2019","January 2019","Library","7.625 X 7.125","Author","Kathleen Connors","0.8","0.5",null,null,"C",null,"Grade K","Grade Pre-K - 2","The great outdoors is the best playground there is! A tree house can be an enchanted castle. An open field can be a great battlefield. From nature walks to imaginative play, the ideas in this beautiful book will help readers get creative with their outdoor play. Age-appropriate content and language perfect for new readers encourages getting outside to enjoy nature and be active with friends and family. Full-color photographs correlate with the accessible text aiding readers' understanding and inspiring them to play outside.","English",23.6,17.7,"790--dc23","24 pp.","https://www.garethstevens.com/9781538228821",null,{"$f":"Table1[[#This Row],[QTY]]*Table1[[#This Row],['# Books]]","v":0},{"$f":"Table1[[#This Row],[QTY]]*Table1[[#This Row],[S&L Price]]","v":0}]
[null,null,16,"Ways to Play",1,"We Play Outside!","eBook",null,"978-1-5382-2980-4",{"$f":"HYPERLINK(Table1[[#This Row],[eCommerce Hyperlink]],\"Book Weblink\")","v":"Book Weblink"},null,"2019","January 2019",null,null,"Author","Kathleen Connors","0.8","0.5",null,null,"C",null,"Grade K","Grade Pre-K - 2","The great outdoors is the best playground there is! A tree house can be an enchanted castle. An open field can be a great battlefield. From nature walks to imaginative play, the ideas in this beautiful book will help readers get creative with their outdoor play. Age-appropriate content and language perfect for new readers encourages getting outside to enjoy nature and be active with friends and family. Full-color photographs correlate with the accessible text aiding readers' understanding and inspiring them to play outside.","English",23.6,17.7,"790--dc23","24 pp.","https://www.garethstevens.com/9781538229804",null,{"$f":"Table1[[#This Row],[QTY]]*Table1[[#This Row],['# Books]]","v":0},{"$f":"Table1[[#This Row],[QTY]]*Table1[[#This Row],[S&L Price]]","v":0}]
[null,null,16,"Ways to Play",1,"We Play School!","Library Bound Book",null,"978-1-5382-2883-8",{"$f":"HYPERLINK(Table1[[#This Row],[eCommerce Hyperlink]],\"Book Weblink\")","v":"Book Weblink"},null,"2019","January 2019","Library","7.625 X 7.125","Author","Kathleen Connors","0.9","0.5",null,null,"C",null,"Grade K","Grade Pre-K - 2","Going to school for the first time is a milestone moment and is often looked to with great excitement. Recess, math class, and silent reading time might be brand-new experiences that young children often want to learn how to do just right before they step foot in a classroom. There's no better time to practice raising a hand to answer a question than while playing with friends. Whether they want to play teacher or student, readers are sure to enjoy the great ideas for playing school written with pre-kindergarten readers in mind.","English",23.6,17.7,"[E]--dc23","24 pp.","https://www.garethstevens.com/9781538228838",null,{"$f":"Table1[[#This Row],[QTY]]*Table1[[#This Row],['# Books]]","v":0},{"$f":"Table1[[#This Row],[QTY]]*Table1[[#This Row],[S&L Price]]","v":0}]
[null,null,16,"Ways to Play",1,"We Play School!","eBook",null,"978-1-5382-2981-1",{"$f":"HYPERLINK(Table1[[#This Row],[eCommerce Hyperlink]],\"Book Weblink\")","v":"Book Weblink"},null,"2019","January 2019",null,null,"Author","Kathleen Connors","0.9","0.5",null,null,"C",null,"Grade K","Grade Pre-K - 2","Going to school for the first time is a milestone moment and is often looked to with great excitement. Recess, math class, and silent reading time might be brand-new experiences that young children often want to learn how to do just right before they step foot in a classroom. There's no better time to practice raising a hand to answer a question than while playing with friends. Whether they want to play teacher or student, readers are sure to enjoy the great ideas for playing school written with pre-kindergarten readers in mind.","English",23.6,17.7,"[E]--dc23","24 pp.","https://www.garethstevens.com/9781538229811",null,{"$f":"Table1[[#This Row],[QTY]]*Table1[[#This Row],['# Books]]","v":0},{"$f":"Table1[[#This Row],[QTY]]*Table1[[#This Row],[S&L Price]]","v":0}]
[null,null,16,"Ways to Play",1,"We Play Superheroes!","Library Bound Book",null,"978-1-5382-2884-5",{"$f":"HYPERLINK(Table1[[#This Row],[eCommerce Hyperlink]],\"Book Weblink\")","v":"Book Weblink"},null,"2019","January 2019","Library","7.625 X 7.125","Author","Kathleen Connors","0.9","0.5",null,null,"C",null,"Grade K","Grade Pre-K - 2","In the world of superheroes, no superpower is impossible. They can fly, run faster than a speeding bullet, stop time, and read others' minds. Who wouldn't want to pretend to be part of these amazing stories? With close text and picture correlation and age-appropriate language, this book caters to the superhero-loving kids learning to read. From dressing up to pretending to save the world, the imaginative text in this book inspires young superheroes to dream big and be whoever they'd like to be.","English",23.6,17.7,"[E]--dc23","24 pp.","https://www.garethstevens.com/9781538228845",null,{"$f":"Table1[[#This Row],[QTY]]*Table1[[#This Row],['# Books]]","v":0},{"$f":"Table1[[#This Row],[QTY]]*Table1[[#This Row],[S&L Price]]","v":0}]
[null,null,16,"Ways to Play",1,"We Play Superheroes!","eBook",null,"978-1-5382-2982-8",{"$f":"HYPERLINK(Table1[[#This Row],[eCommerce Hyperlink]],\"Book Weblink\")","v":"Book Weblink"},null,"2019","January 2019",null,null,"Author","Kathleen Connors","0.9","0.5",null,null,"C",null,"Grade K","Grade Pre-K - 2","In the world of superheroes, no superpower is impossible. They can fly, run faster than a speeding bullet, stop time, and read others' minds. Who wouldn't want to pretend to be part of these amazing stories? With close text and picture correlation and age-appropriate language, this book caters to the superhero-loving kids learning to read. From dressing up to pretending to save the world, the imaginative text in this book inspires young superheroes to dream big and be whoever they'd like to be.","English",23.6,17.7,"[E]--dc23","24 pp.","https://www.garethstevens.com/9781538229828",null,{"$f":"Table1[[#This Row],[QTY]]*Table1[[#This Row],['# Books]]","v":0},{"$f":"Table1[[#This Row],[QTY]]*Table1[[#This Row],[S&L Price]]","v":0}]
[null,null,16,"We Can Be Responsible!",6,"We Can Be Responsible!","Library Set",null,"978-1-5382-4156-1",{"$f":"HYPERLINK(Table1[[#This Row],[eCommerce Hyperlink]],\"Book Weblink\")","v":"Book Weblink"},null,"2020","August 2019","Library","7.625 X 7.125",null,null,null,null,null,null,null,null,"Grade K","Grade Pre-K - 2","There are so many ways that children in pre-kindergarten can show that they're responsible. They can brush their teeth, learn to make a sandwich, and even help groom the dog. Responsibility gives children confidence and teaches them how to be good citizens. This set covers typical areas of responsibility beginning readers might encounter, encouraging them to stay clean and help out. It also engages their new reading skills. Colorful photographs of other pre-K-age children help readers relate to the tasks at hand and are correlated to the main text, aiding in reader comprehension. Features include: ATOS reading level below 1.0. Age-appropriate suggestions of ways readers can be responsible. Introduces readers to informational-text features, such as an index and table of contents.","English",141.6,106.2,null,"24 pp.","https://www.garethstevens.com/9781538241561",null,{"$f":"Table1[[#This Row],[QTY]]*Table1[[#This Row],['# Books]]","v":0},{"$f":"Table1[[#This Row],[QTY]]*Table1[[#This Row],[S&L Price]]","v":0}]
[null,null,16,"We Can Be Responsible!",1,"We Get Dressed","Library Bound Book",null,"978-1-5382-3909-4",{"$f":"HYPERLINK(Table1[[#This Row],[eCommerce Hyperlink]],\"Book Weblink\")","v":"Book Weblink"},null,"2020","August 2019","Library","7.625 X 7.125","Author","Lynda Arnez","0.9","0.5",null,null,"C",null,"Grade K","Grade Pre-K - 2","Responsibility means knowing what you have to get done and doing it. For young kids, these tasks often include getting ready for the day. However, many parents know the battle of getting a child dressed. This book uses age-appropriate language and content perfect for beginning readers to encourage a positive attitude and independent action. Full-color photographs correlate closely with the text to aid readers' comprehension and given them relatable examples of other kids showing how responsible they are and getting dressed.","English",23.6,17.7,"391--dc23","24 pp.","https://www.garethstevens.com/9781538239094",null,{"$f":"Table1[[#This Row],[QTY]]*Table1[[#This Row],['# Books]]","v":0},{"$f":"Table1[[#This Row],[QTY]]*Table1[[#This Row],[S&L Price]]","v":0}]
[null,null,16,"We Can Be Responsible!",1,"We Get Dressed","eBook",null,"978-1-5382-3910-0",{"$f":"HYPERLINK(Table1[[#This Row],[eCommerce Hyperlink]],\"Book Weblink\")","v":"Book Weblink"},null,"2020","August 2019",null,null,"Author","Lynda Arnez","0.9","0.5",null,null,"C",null,"Grade K","Grade Pre-K - 2","Responsibility means knowing what you have to get done and doing it. For young kids, these tasks often include getting ready for the day. However, many parents know the battle of getting a child dressed. This book uses age-appropriate language and content perfect for beginning readers to encourage a positive attitude and independent action. Full-color photographs correlate closely with the text to aid readers' comprehension and given them relatable examples of other kids showing how responsible they are and getting dressed.","English",23.6,17.7,"391--dc23","24 pp.","https://www.garethstevens.com/9781538239100",null,{"$f":"Table1[[#This Row],[QTY]]*Table1[[#This Row],['# Books]]","v":0},{"$f":"Table1[[#This Row],[QTY]]*Table1[[#This Row],[S&L Price]]","v":0}]
[null,null,16,"We Can Be Responsible!",1,"We Help Clean Up","Library Bound Book",null,"978-1-5382-3913-1",{"$f":"HYPERLINK(Table1[[#This Row],[eCommerce Hyperlink]],\"Book Weblink\")","v":"Book Weblink"},null,"2020","August 2019","Library","7.625 X 7.125","Author","Lynda Arnez","0.9","0.5",null,null,"C",null,"Grade K","Grade Pre-K - 2","At the end of the day, it's no fun to stop playing, clean up, and go to bed. But it's important to everyone's happiness if kids do. Using easy-to-understand examples and language written especially for new readers, this book encourages readers to keep their home clean, and have a great attitude while doing it. The main content offers good, age-appropriate reasons for readers to want to help their families clean up, complemented by full-color photographs.","English",23.6,17.7,"648'.5--dc23","24 pp.","https://www.garethstevens.com/9781538239131",null,{"$f":"Table1[[#This Row],[QTY]]*Table1[[#This Row],['# Books]]","v":0},{"$f":"Table1[[#This Row],[QTY]]*Table1[[#This Row],[S&L Price]]","v":0}]
[null,null,16,"We Can Be Responsible!",1,"We Help Clean Up","eBook",null,"978-1-5382-3914-8",{"$f":"HYPERLINK(Table1[[#This Row],[eCommerce Hyperlink]],\"Book Weblink\")","v":"Book Weblink"},null,"2020","August 2019",null,null,"Author","Lynda Arnez","0.9","0.5",null,null,"C",null,"Grade K","Grade Pre-K - 2","At the end of the day, it's no fun to stop playing, clean up, and go to bed. But it's important to everyone's happiness if kids do. Using easy-to-understand examples and language written especially for new readers, this book encourages readers to keep their home clean, and have a great attitude while doing it. The main content offers good, age-appropriate reasons for readers to want to help their families clean up, complemented by full-color photographs.","English",23.6,17.7,"648'.5--dc23","24 pp.","https://www.garethstevens.com/9781538239148",null,{"$f":"Table1[[#This Row],[QTY]]*Table1[[#This Row],['# Books]]","v":0},{"$f":"Table1[[#This Row],[QTY]]*Table1[[#This Row],[S&L Price]]","v":0}]
[null,null,16,"We Can Be Responsible!",1,"We Make Lunch","Library Bound Book",null,"978-1-5382-3917-9",{"$f":"HYPERLINK(Table1[[#This Row],[eCommerce Hyperlink]],\"Book Weblink\")","v":"Book Weblink"},null,"2020","August 2019","Library","7.625 X 7.125","Author","Lynda Arnez","0.9","0.5",null,null,"C",null,"Grade K","Grade Pre-K - 2","Inspiring young children to want to cook is great way to discourage picky eating and promote healthy food behaviors. Giving them the responsibility of making lunch for themselves is a great way to get started, and it can be fun. Through relatable examples of simple foods readers can try, this book supports readers' confidence and independence in the kitchen as they explore sandwich making, washing fresh fruit, and more. Close text-image correlation aids readers' comprehension of the age-appropriate language used on each page.","English",23.6,17.7,"642--dc23","24 pp.","https://www.garethstevens.com/9781538239179",null,{"$f":"Table1[[#This Row],[QTY]]*Table1[[#This Row],['# Books]]","v":0},{"$f":"Table1[[#This Row],[QTY]]*Table1[[#This Row],[S&L Price]]","v":0}]
[null,null,16,"We Can Be Responsible!",1,"We Make Lunch","eBook",null,"978-1-5382-3918-6",{"$f":"HYPERLINK(Table1[[#This Row],[eCommerce Hyperlink]],\"Book Weblink\")","v":"Book Weblink"},null,"2020","August 2019",null,null,"Author","Lynda Arnez","0.9","0.5",null,null,"C",null,"Grade K","Grade Pre-K - 2","Inspiring young children to want to cook is great way to discourage picky eating and promote healthy food behaviors. Giving them the responsibility of making lunch for themselves is a great way to get started, and it can be fun. Through relatable examples of simple foods readers can try, this book supports readers' confidence and independence in the kitchen as they explore sandwich making, washing fresh fruit, and more. Close text-image correlation aids readers' comprehension of the age-appropriate language used on each page.","English",23.6,17.7,"642--dc23","24 pp.","https://www.garethstevens.com/9781538239186",null,{"$f":"Table1[[#This Row],[QTY]]*Table1[[#This Row],['# Books]]","v":0},{"$f":"Table1[[#This Row],[QTY]]*Table1[[#This Row],[S&L Price]]","v":0}]
[null,null,16,"We Can Be Responsible!",1,"We Stay Clean","Library Bound Book",null,"978-1-5382-3921-6",{"$f":"HYPERLINK(Table1[[#This Row],[eCommerce Hyperlink]],\"Book Weblink\")","v":"Book Weblink"},null,"2020","August 2019","Library","7.625 X 7.125","Author","Lynda Arnez","0.9","0.5",null,null,"C",null,"Grade K","Grade Pre-K - 2","From washing our hands to brushing our teeth, the ways people stay clean are easy enough for even young kids to do. With a fun, encouraging tone, the main content of this book focuses on the age-appropriate ways readers can be responsible for keeping their own bodies clean. Including cooperating with parents, this book is written for new readers' cognitive development and reading comprehension development. Full-color photographs support the text and provide real-life examples to inspire readers to keep clean.","English",23.6,17.7,"613--dc23","24 pp.","https://www.garethstevens.com/9781538239216",null,{"$f":"Table1[[#This Row],[QTY]]*Table1[[#This Row],['# Books]]","v":0},{"$f":"Table1[[#This Row],[QTY]]*Table1[[#This Row],[S&L Price]]","v":0}]
[null,null,16,"We Can Be Responsible!",1,"We Stay Clean","eBook",null,"978-1-5382-3922-3",{"$f":"HYPERLINK(Table1[[#This Row],[eCommerce Hyperlink]],\"Book Weblink\")","v":"Book Weblink"},null,"2020","August 2019",null,null,"Author","Lynda Arnez","0.9","0.5",null,null,"C",null,"Grade K","Grade Pre-K - 2","From washing our hands to brushing our teeth, the ways people stay clean are easy enough for even young kids to do. With a fun, encouraging tone, the main content of this book focuses on the age-appropriate ways readers can be responsible for keeping their own bodies clean. Including cooperating with parents, this book is written for new readers' cognitive development and reading comprehension development. Full-color photographs support the text and provide real-life examples to inspire readers to keep clean.","English",23.6,17.7,"613--dc23","24 pp.","https://www.garethstevens.com/9781538239223",null,{"$f":"Table1[[#This Row],[QTY]]*Table1[[#This Row],['# Books]]","v":0},{"$f":"Table1[[#This Row],[QTY]]*Table1[[#This Row],[S&L Price]]","v":0}]
[null,null,16,"We Can Be Responsible!",1,"We Stay Healthy","Library Bound Book",null,"978-1-5382-3928-5",{"$f":"HYPERLINK(Table1[[#This Row],[eCommerce Hyperlink]],\"Book Weblink\")","v":"Book Weblink"},null,"2020","August 2019","Library","7.625 X 7.125","Author","Lynda Arnez","0.9","0.5",null,null,"C",null,"Grade K","Grade Pre-K - 2","Moving, eating a variety of foods, and sleeping well are all important ways to keep a body healthy. In this book for new readers, the main content focuses on ways children can be sure to take care of themselves. Encouragement to try fruits and vegetables, play outside, and get to bed on time is accompanied by closely correlated photographs of kids practicing these actions, inspiring readers to do the same. Written with language and grammar suitable for pre-K readers, this book not only supports healthy activities, but also develops readers' independent reading.","English",23.6,17.7,"613--dc23","24 pp.","https://www.garethstevens.com/9781538239285",null,{"$f":"Table1[[#This Row],[QTY]]*Table1[[#This Row],['# Books]]","v":0},{"$f":"Table1[[#This Row],[QTY]]*Table1[[#This Row],[S&L Price]]","v":0}]
[null,null,16,"We Can Be Responsible!",1,"We Stay Healthy","eBook",null,"978-1-5382-3929-2",{"$f":"HYPERLINK(Table1[[#This Row],[eCommerce Hyperlink]],\"Book Weblink\")","v":"Book Weblink"},null,"2020","August 2019",null,null,"Author","Lynda Arnez","0.9","0.5",null,null,"C",null,"Grade K","Grade Pre-K - 2","Moving, eating a variety of foods, and sleeping well are all important ways to keep a body healthy. In this book for new readers, the main content focuses on ways children can be sure to take care of themselves. Encouragement to try fruits and vegetables, play outside, and get to bed on time is accompanied by closely correlated photographs of kids practicing these actions, inspiring readers to do the same. Written with language and grammar suitable for pre-K readers, this book not only supports healthy activities, but also develops readers' independent reading.","English",23.6,17.7,"613--dc23","24 pp.","https://www.garethstevens.com/9781538239292",null,{"$f":"Table1[[#This Row],[QTY]]*Table1[[#This Row],['# Books]]","v":0},{"$f":"Table1[[#This Row],[QTY]]*Table1[[#This Row],[S&L Price]]","v":0}]
[null,null,16,"We Can Be Responsible!",1,"We Take Care of Pets","Library Bound Book",null,"978-1-5382-3932-2",{"$f":"HYPERLINK(Table1[[#This Row],[eCommerce Hyperlink]],\"Book Weblink\")","v":"Book Weblink"},null,"2020","August 2019","Library","7.625 X 7.125","Author","Lynda Arnez","0.9","0.5",null,null,"C",null,"Grade K","Grade Pre-K - 2","All family pets need to be fed, given water, groomed, possibly walked, or simply played with. These can be great jobs for younger kids just starting to be given some responsibilities. Complemented by full-color photographs, the main text describes the ways pre-K readers can take care of different kinds of common pets, from dogs to birds. Age-appropriate, relatable examples inspire readers to offer their help while language written for beginning readers allows them to navigate the content with confidence and increasing reading independence.","English",23.6,17.7,"636.088/7--dc23","24 pp.","https://www.garethstevens.com/9781538239322",null,{"$f":"Table1[[#This Row],[QTY]]*Table1[[#This Row],['# Books]]","v":0},{"$f":"Table1[[#This Row],[QTY]]*Table1[[#This Row],[S&L Price]]","v":0}]
[null,null,16,"We Can Be Responsible!",1,"We Take Care of Pets","eBook",null,"978-1-5382-3933-9",{"$f":"HYPERLINK(Table1[[#This Row],[eCommerce Hyperlink]],\"Book Weblink\")","v":"Book Weblink"},null,"2020","August 2019",null,null,"Author","Lynda Arnez","0.9","0.5",null,null,"C",null,"Grade K","Grade Pre-K - 2","All family pets need to be fed, given water, groomed, possibly walked, or simply played with. These can be great jobs for younger kids just starting to be given some responsibilities. Complemented by full-color photographs, the main text describes the ways pre-K readers can take care of different kinds of common pets, from dogs to birds. Age-appropriate, relatable examples inspire readers to offer their help while language written for beginning readers allows them to navigate the content with confidence and increasing reading independence.","English",23.6,17.7,"636.088/7--dc23","24 pp.","https://www.garethstevens.com/9781538239339",null,{"$f":"Table1[[#This Row],[QTY]]*Table1[[#This Row],['# Books]]","v":0},{"$f":"Table1[[#This Row],[QTY]]*Table1[[#This Row],[S&L Price]]","v":0}]
[null,null,17,"Incredible Animal Migrations",4,"Incredible Animal Migrations","Library Set",null,"978-1-5382-8151-2",null,null,"2023","August 2022","Library","7.000 X 7.000",null,null,null,null,null,null,null,null,"Grade 1 - 2","Grade 1 - 3","Many animals on Earth make incredible journeys each year. These migrations happen by air, water, and land—and span many hundreds or thousands of miles. This series invites readers to come along on amazing migrations with humpback whales, penguins, sea turtles, and sharks. Readers will learn about each animal and why it must migrate to survive. Spectacular photographs bring readers along for the journey, while graphic organizers help them understand more about the fantastic feats of migrating animals. This exciting series is perfect for any early elementary science curriculum.","English",94.4,70.8,null,"24 pp.","https://www.garethstevens.com/9781538281512",null,{"$f":"Table1[[#This Row],[QTY]]*Table1[[#This Row],['# Books]]","v":0},{"$f":"Table1[[#This Row],[QTY]]*Table1[[#This Row],[S&L Price]]","v":0}]
[null,null,17,"Incredible Animal Migrations",1,"Humpback Whale Migrations","Library Bound Book",null,"978-1-5382-7829-1",null,null,"2023","August 2022","Library","7.000 X 7.000","Author","Anna McDougal",null,null,null,null,"H",null,"Grade 1 - 2","Grade 1 - 3","Humpback whales are some of the largest animals in the sea. They’re also known to migrate an amazing distance each year—up to 3,000 miles! In this book, readers will learn fascinating facts about humpback whales. Readers will also follow the humpback whale on its migration, learning where, how, and why it moves from place to place. Brilliant photographs will bring these marine giants to life for readers. Accessible text will give them a deep understanding of humpback whales and their incredible journey.","English",23.6,17.7,"599.5/25--dc23","24 pp.","https://www.garethstevens.com/9781538278291",null,{"$f":"Table1[[#This Row],[QTY]]*Table1[[#This Row],['# Books]]","v":0},{"$f":"Table1[[#This Row],[QTY]]*Table1[[#This Row],[S&L Price]]","v":0}]
[null,null,17,"Incredible Animal Migrations",1,"Humpback Whale Migrations","eBook",null,"978-1-5382-7830-7",null,null,"2023","August 2022",null,null,"Author","Anna McDougal",null,null,null,null,"H",null,"Grade 1 - 2","Grade 1 - 3","Humpback whales are some of the largest animals in the sea. They’re also known to migrate an amazing distance each year—up to 3,000 miles! In this book, readers will learn fascinating facts about humpback whales. Readers will also follow the humpback whale on its migration, learning where, how, and why it moves from place to place. Brilliant photographs will bring these marine giants to life for readers. Accessible text will give them a deep understanding of humpback whales and their incredible journey.","English",23.6,17.7,"599.5/25--dc23","24 pp.","https://www.garethstevens.com/9781538278307","http://www.epointplus.com/embed/9781538278307/?login=cyberrep&password=cyberrep",{"$f":"Table1[[#This Row],[QTY]]*Table1[[#This Row],['# Books]]","v":0},{"$f":"Table1[[#This Row],[QTY]]*Table1[[#This Row],[S&L Price]]","v":0}]
[null,null,17,"Incredible Animal Migrations",1,"Penguin Migrations","Library Bound Book",null,"978-1-5382-7833-8",null,null,"2023","August 2022","Library","7.000 X 7.000","Author","Anna McDougal",null,null,null,null,"H",null,"Grade 1 - 2","Grade 1 - 3","Penguins are incredible animals who have adapted to the harsh, cold continent of Antarctica. One of their amazing adaptations is migration. In this book, readers will learn exciting facts about penguins, from their diet to their life cycle. Readers will also follow penguins on their migration, learning where, how, and why they move from place to place. Fantastic photographs will show penguins on the move, as accessible text brings readers along for the journey. Readers will love exploring this icy landscape and its perfectly proficient penguin.","English",23.6,17.7,"598.47156/8--dc23","24 pp.","https://www.garethstevens.com/9781538278338",null,{"$f":"Table1[[#This Row],[QTY]]*Table1[[#This Row],['# Books]]","v":0},{"$f":"Table1[[#This Row],[QTY]]*Table1[[#This Row],[S&L Price]]","v":0}]
[null,null,17,"Incredible Animal Migrations",1,"Penguin Migrations","eBook",null,"978-1-5382-7834-5",null,null,"2023","August 2022",null,null,"Author","Anna McDougal",null,null,null,null,"H",null,"Grade 1 - 2","Grade 1 - 3","Penguins are incredible animals who have adapted to the harsh, cold continent of Antarctica. One of their amazing adaptations is migration. In this book, readers will learn exciting facts about penguins, from their diet to their life cycle. Readers will also follow penguins on their migration, learning where, how, and why they move from place to place. Fantastic photographs will show penguins on the move, as accessible text brings readers along for the journey. Readers will love exploring this icy landscape and its perfectly proficient penguin.","English",23.6,17.7,"598.47156/8--dc23","24 pp.","https://www.garethstevens.com/9781538278345","http://www.epointplus.com/embed/9781538278345/?login=cyberrep&password=cyberrep",{"$f":"Table1[[#This Row],[QTY]]*Table1[[#This Row],['# Books]]","v":0},{"$f":"Table1[[#This Row],[QTY]]*Table1[[#This Row],[S&L Price]]","v":0}]
[null,null,17,"Incredible Animal Migrations",1,"Sea Turtle Migrations","Library Bound Book",null,"978-1-5382-7837-6",null,null,"2023","August 2022","Library","7.000 X 7.000","Author","Anna McDougal",null,null,null,null,"H",null,"Grade 1 - 2","Grade 1 - 3","Sea turtles migrate between foraging and nesting sites, traveling hundreds or even thousands of miles. This is a useful adaptation—and an incredible journey. This book introduces readers to the sea turtle, including its diet, habitat, and life cycle. Readers will also learn the challenges that are faced by this world traveler. Amazing photographs brings readers along for the journey as they read fascinating facts about sea turtles. They will gain a deep understanding of this underwater wonder.","English",23.6,17.7,"597.92/8--dc23","24 pp.","https://www.garethstevens.com/9781538278376",null,{"$f":"Table1[[#This Row],[QTY]]*Table1[[#This Row],['# Books]]","v":0},{"$f":"Table1[[#This Row],[QTY]]*Table1[[#This Row],[S&L Price]]","v":0}]
[null,null,17,"Incredible Animal Migrations",1,"Sea Turtle Migrations","eBook",null,"978-1-5382-7838-3",null,null,"2023","August 2022",null,null,"Author","Anna McDougal",null,null,null,null,"H",null,"Grade 1 - 2","Grade 1 - 3","Sea turtles migrate between foraging and nesting sites, traveling hundreds or even thousands of miles. This is a useful adaptation—and an incredible journey. This book introduces readers to the sea turtle, including its diet, habitat, and life cycle. Readers will also learn the challenges that are faced by this world traveler. Amazing photographs brings readers along for the journey as they read fascinating facts about sea turtles. They will gain a deep understanding of this underwater wonder.","English",23.6,17.7,"597.92/8--dc23","24 pp.","https://www.garethstevens.com/9781538278383","http://www.epointplus.com/embed/9781538278383/?login=cyberrep&password=cyberrep",{"$f":"Table1[[#This Row],[QTY]]*Table1[[#This Row],['# Books]]","v":0},{"$f":"Table1[[#This Row],[QTY]]*Table1[[#This Row],[S&L Price]]","v":0}]
[null,null,17,"Incredible Animal Migrations",1,"Shark Migrations","Library Bound Book",null,"978-1-5382-7841-3",null,null,"2023","August 2022","Library","7.000 X 7.000","Author","Anna McDougal",null,null,null,null,"H",null,"Grade 1 - 2","Grade 1 - 3","Earth is home to hundreds of different species of sharks, and many of them migrate. In this book, readers will learn exciting facts about sharks, such as the different species, habitats, and hunting skills. This book will take readers on the adventure of a lifetime as they follow sharks in their migrations. Captivating photographs bring readers face-to-face with this fierce predator. Fun facts will engage readers—especially shark lovers. Readers will delight in this journey around the world and under the sea.","English",23.6,17.7,"597.3156/8--dc23","24 pp.","https://www.garethstevens.com/9781538278413",null,{"$f":"Table1[[#This Row],[QTY]]*Table1[[#This Row],['# Books]]","v":0},{"$f":"Table1[[#This Row],[QTY]]*Table1[[#This Row],[S&L Price]]","v":0}]
[null,null,17,"Incredible Animal Migrations",1,"Shark Migrations","eBook",null,"978-1-5382-7842-0",null,null,"2023","August 2022",null,null,"Author","Anna McDougal",null,null,null,null,"H",null,"Grade 1 - 2","Grade 1 - 3","Earth is home to hundreds of different species of sharks, and many of them migrate. In this book, readers will learn exciting facts about sharks, such as the different species, habitats, and hunting skills. This book will take readers on the adventure of a lifetime as they follow sharks in their migrations. Captivating photographs bring readers face-to-face with this fierce predator. Fun facts will engage readers—especially shark lovers. Readers will delight in this journey around the world and under the sea.","English",23.6,17.7,"597.3156/8--dc23","24 pp.","https://www.garethstevens.com/9781538278420","http://www.epointplus.com/embed/9781538278420/?login=cyberrep&password=cyberrep",{"$f":"Table1[[#This Row],[QTY]]*Table1[[#This Row],['# Books]]","v":0},{"$f":"Table1[[#This Row],[QTY]]*Table1[[#This Row],[S&L Price]]","v":0}]
[null,null,18,"Life Without Animals",12,"Life Without Animals: Sets 1 – 2","Library Set",null,"978-1-5382-8238-0",null,null,"2023","August 2022","Library","7.000 X 7.000",null,null,null,null,null,null,null,null,"Grade 1 - 2","Grade 1 - 3","Animals such as elephants, tigers, and polar bears are crucial to their environments. Many people don’t realize that even smaller animals such as sea urchins and corals are critical to keeping their ecosystems healthy. These books investigate what would happen if certain animals were to disappear, with each book considering a different animal’s impact. The high-interest content is directly related to the elementary science curriculum. With the help of colorful photographs, this series encourages curious readers to engage with the world around them in a new way.","English",283.2,212.4,null,"24 pp.","https://www.garethstevens.com/9781538282380",null,{"$f":"Table1[[#This Row],[QTY]]*Table1[[#This Row],['# Books]]","v":0},{"$f":"Table1[[#This Row],[QTY]]*Table1[[#This Row],[S&L Price]]","v":0}]
[null,null,18,"Life Without Animals",6,"Life Without Animals: Set 2","Library Set",null,"978-1-5382-8153-6",null,null,"2023","August 2022","Library","7.000 X 7.000",null,null,null,null,null,null,null,null,"Grade 1 - 2","Grade 1 - 3","It’s difficult to imagine a world without animals such as gray wolves, polar bears, or bees. In some cases, it may seem as if not much would change if an entire species of animals, such as corals or oysters, were to disappear. But readers of this series will find out just how untrue that is. With content centering on important life science concepts such as keystone species and ecosystems, these books investigate what would happen if the animals were to disappear. With the help of colorful photographs and gripping text, each book considers a different animal's impact on its environment.","English",141.6,106.2,null,"24 pp.","https://www.garethstevens.com/9781538281536",null,{"$f":"Table1[[#This Row],[QTY]]*Table1[[#This Row],['# Books]]","v":0},{"$f":"Table1[[#This Row],[QTY]]*Table1[[#This Row],[S&L Price]]","v":0}]
[null,null,18,"Life Without Animals",1,"What If Beavers Disappeared?","Library Bound Book",null,"978-1-5382-7621-1",null,null,"2023","August 2022","Library","7.000 X 7.000","Author","Anthony Ardely",null,null,null,null,"I",null,"Grade 1 - 2","Grade 1 - 3","Beavers aren’t just cute creatures that like to chew on trees and swim. They’re also important ecosystem engineers! Readers of this engaging book learn just how vital these rodents are to the environment, from creating habitats for other animals to helping to control flooding. A high-interest topic encourages readers of many levels to learn about beavers. Accessible text reinforces key elementary science lessons while eye-catching photographs hold the attention of even reluctant readers. Young animal enthusiasts are sure to love this informative volume.","English",23.6,17.7,"599.37--dc23","24 pp.","https://www.garethstevens.com/9781538276211",null,{"$f":"Table1[[#This Row],[QTY]]*Table1[[#This Row],['# Books]]","v":0},{"$f":"Table1[[#This Row],[QTY]]*Table1[[#This Row],[S&L Price]]","v":0}]
[null,null,18,"Life Without Animals",1,"What If Beavers Disappeared?","eBook",null,"978-1-5382-7622-8",null,null,"2023","August 2022",null,null,"Author","Anthony Ardely",null,null,null,null,"I",null,"Grade 1 - 2","Grade 1 - 3","Beavers aren’t just cute creatures that like to chew on trees and swim. They’re also important ecosystem engineers! Readers of this engaging book learn just how vital these rodents are to the environment, from creating habitats for other animals to helping to control flooding. A high-interest topic encourages readers of many levels to learn about beavers. Accessible text reinforces key elementary science lessons while eye-catching photographs hold the attention of even reluctant readers. Young animal enthusiasts are sure to love this informative volume.","English",23.6,17.7,"599.37--dc23","24 pp.","https://www.garethstevens.com/9781538276228","http://www.epointplus.com/embed/9781538276228/?login=cyberrep&password=cyberrep",{"$f":"Table1[[#This Row],[QTY]]*Table1[[#This Row],['# Books]]","v":0},{"$f":"Table1[[#This Row],[QTY]]*Table1[[#This Row],[S&L Price]]","v":0}]
[null,null,18,"Life Without Animals",1,"What If Bees Disappeared?","Library Bound Book",null,"978-1-5382-7625-9",null,null,"2023","August 2022","Library","7.000 X 7.000","Author","Anthony Ardely",null,null,null,null,"I",null,"Grade 1 - 2","Grade 1 - 3","To some people, bees might seem like pests, especially when they’re using their stingers or buzzing around a picnic. However, they’re incredibly important parts of nature. Without bees, much of the food supply for humans and animals could dwindle. With the help of this informative volume, young readers learn all about the importance of these interesting insects. Age-appropriate text helps reinforce key concepts from the elementary-science curriculum, such as what pollination is and how it works. Readers also learn about the dangers bees face and how they can help.","English",23.6,17.7,"595.79/9--dc23","24 pp.","https://www.garethstevens.com/9781538276259",null,{"$f":"Table1[[#This Row],[QTY]]*Table1[[#This Row],['# Books]]","v":0},{"$f":"Table1[[#This Row],[QTY]]*Table1[[#This Row],[S&L Price]]","v":0}]
[null,null,18,"Life Without Animals",1,"What If Bees Disappeared?","eBook",null,"978-1-5382-7626-6",null,null,"2023","August 2022",null,null,"Author","Anthony Ardely",null,null,null,null,"I",null,"Grade 1 - 2","Grade 1 - 3","To some people, bees might seem like pests, especially when they’re using their stingers or buzzing around a picnic. However, they’re incredibly important parts of nature. Without bees, much of the food supply for humans and animals could dwindle. With the help of this informative volume, young readers learn all about the importance of these interesting insects. Age-appropriate text helps reinforce key concepts from the elementary-science curriculum, such as what pollination is and how it works. Readers also learn about the dangers bees face and how they can help.","English",23.6,17.7,"595.79/9--dc23","24 pp.","https://www.garethstevens.com/9781538276266","http://www.epointplus.com/embed/9781538276266/?login=cyberrep&password=cyberrep",{"$f":"Table1[[#This Row],[QTY]]*Table1[[#This Row],['# Books]]","v":0},{"$f":"Table1[[#This Row],[QTY]]*Table1[[#This Row],[S&L Price]]","v":0}]
[null,null,18,"Life Without Animals",1,"What If Corals Disappeared?","Library Bound Book",null,"978-1-5382-7629-7",null,null,"2023","August 2022","Library","7.000 X 7.000","Author","Anthony Ardely",null,null,null,null,"I",null,"Grade 1 - 2","Grade 1 - 3","Many young readers may not even realize corals are animals. However, these amazing ocean dwellers are some of the most important animals in the sea! With this engaging volume, readers will learn all about these essential organisms and some of the reasons our planet needs them. Colorful photographs showcase the natural beauty of these colorful creatures, while accessible text helps to reinforce key lessons from the elementary science curriculum. Informative content encourages young oceanographers and animal lovers to learn more about coral and help keep them safe.","English",23.6,17.7,"593.6--dc23","24 pp.","https://www.garethstevens.com/9781538276297",null,{"$f":"Table1[[#This Row],[QTY]]*Table1[[#This Row],['# Books]]","v":0},{"$f":"Table1[[#This Row],[QTY]]*Table1[[#This Row],[S&L Price]]","v":0}]
[null,null,18,"Life Without Animals",1,"What If Corals Disappeared?","eBook",null,"978-1-5382-7630-3",null,null,"2023","August 2022",null,null,"Author","Anthony Ardely",null,null,null,null,"I",null,"Grade 1 - 2","Grade 1 - 3","Many young readers may not even realize corals are animals. However, these amazing ocean dwellers are some of the most important animals in the sea! With this engaging volume, readers will learn all about these essential organisms and some of the reasons our planet needs them. Colorful photographs showcase the natural beauty of these colorful creatures, while accessible text helps to reinforce key lessons from the elementary science curriculum. Informative content encourages young oceanographers and animal lovers to learn more about coral and help keep them safe.","English",23.6,17.7,"593.6--dc23","24 pp.","https://www.garethstevens.com/9781538276303","http://www.epointplus.com/embed/9781538276303/?login=cyberrep&password=cyberrep",{"$f":"Table1[[#This Row],[QTY]]*Table1[[#This Row],['# Books]]","v":0},{"$f":"Table1[[#This Row],[QTY]]*Table1[[#This Row],[S&L Price]]","v":0}]
[null,null,18,"Life Without Animals",1,"What If Gray Wolves Disappeared?","Library Bound Book",null,"978-1-5382-7633-4",null,null,"2023","August 2022","Library","7.000 X 7.000","Author","Anthony Ardely",null,null,null,null,"I",null,"Grade 1 - 2","Grade 1 - 3","Gray wolves are a keystone species. Without them, many other animals and plants would be in danger of dying out. Readers of this fascinating book will learn exactly why these fierce hunters are such an important part of ecosystems. Eye-catching photographs bring readers face-to-face with these great predators and hold the attention of even the most reluctant readers. Meanwhile, informative and engaging text helps reinforce essential lessons from the elementary science curriculum. Young wolf enthusiasts will appreciate this captivating volume as much as they appreciate the creatures it is about.","English",23.6,17.7,"599.773--dc23","24 pp.","https://www.garethstevens.com/9781538276334",null,{"$f":"Table1[[#This Row],[QTY]]*Table1[[#This Row],['# Books]]","v":0},{"$f":"Table1[[#This Row],[QTY]]*Table1[[#This Row],[S&L Price]]","v":0}]
[null,null,18,"Life Without Animals",1,"What If Gray Wolves Disappeared?","eBook",null,"978-1-5382-7634-1",null,null,"2023","August 2022",null,null,"Author","Anthony Ardely",null,null,null,null,"I",null,"Grade 1 - 2","Grade 1 - 3","Gray wolves are a keystone species. Without them, many other animals and plants would be in danger of dying out. Readers of this fascinating book will learn exactly why these fierce hunters are such an important part of ecosystems. Eye-catching photographs bring readers face-to-face with these great predators and hold the attention of even the most reluctant readers. Meanwhile, informative and engaging text helps reinforce essential lessons from the elementary science curriculum. Young wolf enthusiasts will appreciate this captivating volume as much as they appreciate the creatures it is about.","English",23.6,17.7,"599.773--dc23","24 pp.","https://www.garethstevens.com/9781538276341","http://www.epointplus.com/embed/9781538276341/?login=cyberrep&password=cyberrep",{"$f":"Table1[[#This Row],[QTY]]*Table1[[#This Row],['# Books]]","v":0},{"$f":"Table1[[#This Row],[QTY]]*Table1[[#This Row],[S&L Price]]","v":0}]
[null,null,18,"Life Without Animals",1,"What If Oysters Disappeared?","Library Bound Book",null,"978-1-5382-7637-2",null,null,"2023","August 2022","Library","7.000 X 7.000","Author","Anthony Ardely",null,null,null,null,"I",null,"Grade 1 - 2","Grade 1 - 3","Most people don't come across oysters in nature very often, so they may not seem like very important animals. However, these amazing mollusks create key habitats for other animals, protective barriers for land, and even jobs for people! And those are just some of the ways the world benefits from oysters. Colorful photographs and engaging text make this informative volume a captivating guide for animal enthusiasts and reluctant readers alike. High-interest content reinforces crucial lessons from elementary science curricula and inspires readers to learn more about marine life.","English",23.6,17.7,"594/.4--dc23","24 pp.","https://www.garethstevens.com/9781538276372",null,{"$f":"Table1[[#This Row],[QTY]]*Table1[[#This Row],['# Books]]","v":0},{"$f":"Table1[[#This Row],[QTY]]*Table1[[#This Row],[S&L Price]]","v":0}]
[null,null,18,"Life Without Animals",1,"What If Oysters Disappeared?","eBook",null,"978-1-5382-7638-9",null,null,"2023","August 2022",null,null,"Author","Anthony Ardely",null,null,null,null,"I",null,"Grade 1 - 2","Grade 1 - 3","Most people don't come across oysters in nature very often, so they may not seem like very important animals. However, these amazing mollusks create key habitats for other animals, protective barriers for land, and even jobs for people! And those are just some of the ways the world benefits from oysters. Colorful photographs and engaging text make this informative volume a captivating guide for animal enthusiasts and reluctant readers alike. High-interest content reinforces crucial lessons from elementary science curricula and inspires readers to learn more about marine life.","English",23.6,17.7,"594/.4--dc23","24 pp.","https://www.garethstevens.com/9781538276389","http://www.epointplus.com/embed/9781538276389/?login=cyberrep&password=cyberrep",{"$f":"Table1[[#This Row],[QTY]]*Table1[[#This Row],['# Books]]","v":0},{"$f":"Table1[[#This Row],[QTY]]*Table1[[#This Row],[S&L Price]]","v":0}]
[null,null,18,"Life Without Animals",1,"What If Polar Bears Disappeared?","Library Bound Book",null,"978-1-5382-7641-9",null,null,"2023","August 2022","Library","7.000 X 7.000","Author","Anthony Ardely",null,null,null,null,"I",null,"Grade 1 - 2","Grade 1 - 3","Polar bears are often a favorite animal to see at the zoo. In nature, they’re one of the most important species in the Arctic. Readers of this engaging book will learn about these amazing animals and what makes them such a crucial part of their ecosystem. Colorful photographs grab readers’ attention, while informative and accessible text provides additional information and reinforces key topics from the elementary science curriculum. This high-interest topic will attract budding zoologists and reluctant readers alike.","English",23.6,17.7,"599.786--dc23","24 pp.","https://www.garethstevens.com/9781538276419",null,{"$f":"Table1[[#This Row],[QTY]]*Table1[[#This Row],['# Books]]","v":0},{"$f":"Table1[[#This Row],[QTY]]*Table1[[#This Row],[S&L Price]]","v":0}]
[null,null,18,"Life Without Animals",1,"What If Polar Bears Disappeared?","eBook",null,"978-1-5382-7642-6",null,null,"2023","August 2022",null,null,"Author","Anthony Ardely",null,null,null,null,"I",null,"Grade 1 - 2","Grade 1 - 3","Polar bears are often a favorite animal to see at the zoo. In nature, they’re one of the most important species in the Arctic. Readers of this engaging book will learn about these amazing animals and what makes them such a crucial part of their ecosystem. Colorful photographs grab readers’ attention, while informative and accessible text provides additional information and reinforces key topics from the elementary science curriculum. This high-interest topic will attract budding zoologists and reluctant readers alike.","English",23.6,17.7,"599.786--dc23","24 pp.","https://www.garethstevens.com/9781538276426","http://www.epointplus.com/embed/9781538276426/?login=cyberrep&password=cyberrep",{"$f":"Table1[[#This Row],[QTY]]*Table1[[#This Row],['# Books]]","v":0},{"$f":"Table1[[#This Row],[QTY]]*Table1[[#This Row],[S&L Price]]","v":0}]
[null,null,18,"Life Without Animals",1,"What If Elephants Disappeared?","Library Bound Book",null,"978-1-5382-3812-7",{"$f":"HYPERLINK(Table1[[#This Row],[eCommerce Hyperlink]],\"Book Weblink\")","v":"Book Weblink"},null,"2020","August 2019","Library","7.000 X 7.000","Author","Theresa Emminizer","3.5","0.5",null,null,"I",null,"Grade 1 - 2","Grade 1 - 3","What would the world be like without elephants? In recent years, the dwindling population of this endangered species has made it necessary to confront this question. Habitat destruction and poaching have jeopardized the survival of this keystone species, leading to widespread consequences. In this informative text, readers learn about the important role that elephants play in their ecosystem, the dangers they face, and what can be done to protect them. Vibrant photographs enrich the curricular content, which engages readers in an age-appropriate dialogue about the interdependence of Earth's species.","English",23.6,17.7,"333.95/967--dc23","24 pp.","https://www.garethstevens.com/9781538238127",null,{"$f":"Table1[[#This Row],[QTY]]*Table1[[#This Row],['# Books]]","v":0},{"$f":"Table1[[#This Row],[QTY]]*Table1[[#This Row],[S&L Price]]","v":0}]
[null,null,18,"Life Without Animals",1,"What If Elephants Disappeared?","eBook",null,"978-1-5382-3813-4",{"$f":"HYPERLINK(Table1[[#This Row],[eCommerce Hyperlink]],\"Book Weblink\")","v":"Book Weblink"},null,"2020","August 2019",null,null,"Author","Theresa Emminizer","3.5","0.5",null,null,"I",null,"Grade 1 - 2","Grade 1 - 3","What would the world be like without elephants? In recent years, the dwindling population of this endangered species has made it necessary to confront this question. Habitat destruction and poaching have jeopardized the survival of this keystone species, leading to widespread consequences. In this informative text, readers learn about the important role that elephants play in their ecosystem, the dangers they face, and what can be done to protect them. Vibrant photographs enrich the curricular content, which engages readers in an age-appropriate dialogue about the interdependence of Earth's species.","English",23.6,17.7,"333.95/967--dc23","24 pp.","https://www.garethstevens.com/9781538238134",null,{"$f":"Table1[[#This Row],[QTY]]*Table1[[#This Row],['# Books]]","v":0},{"$f":"Table1[[#This Row],[QTY]]*Table1[[#This Row],[S&L Price]]","v":0}]
[null,null,18,"Life Without Animals",1,"What If Mountain Lions Disappeared?","Library Bound Book",null,"978-1-5382-3816-5",{"$f":"HYPERLINK(Table1[[#This Row],[eCommerce Hyperlink]],\"Book Weblink\")","v":"Book Weblink"},null,"2020","August 2019","Library","7.000 X 7.000","Author","Theresa Emminizer","3.7","0.5",null,null,"I",null,"Grade 1 - 2","Grade 1 - 3","Due to common misconceptions about their nature, mountain lions have been targeted both by farmers who consider them a threat to their livestock, and sportsmen who hunt them as a trophy kill. In truth, this majestic cat is necessary to the survival of its entire ecosystem. Complete with full-color photographs that make the information pop, this enlightening text explores key curricular science concepts including interdependence, predator-prey relationships, and the importance of conservation.","English",23.6,17.7,"333.95/416--dc23","24 pp.","https://www.garethstevens.com/9781538238165",null,{"$f":"Table1[[#This Row],[QTY]]*Table1[[#This Row],['# Books]]","v":0},{"$f":"Table1[[#This Row],[QTY]]*Table1[[#This Row],[S&L Price]]","v":0}]
[null,null,18,"Life Without Animals",1,"What If Mountain Lions Disappeared?","eBook",null,"978-1-5382-3817-2",{"$f":"HYPERLINK(Table1[[#This Row],[eCommerce Hyperlink]],\"Book Weblink\")","v":"Book Weblink"},null,"2020","August 2019",null,null,"Author","Theresa Emminizer","3.7","0.5",null,null,"I",null,"Grade 1 - 2","Grade 1 - 3","Due to common misconceptions about their nature, mountain lions have been targeted both by farmers who consider them a threat to their livestock, and sportsmen who hunt them as a trophy kill. In truth, this majestic cat is necessary to the survival of its entire ecosystem. Complete with full-color photographs that make the information pop, this enlightening text explores key curricular science concepts including interdependence, predator-prey relationships, and the importance of conservation.","English",23.6,17.7,"333.95/416--dc23","24 pp.","https://www.garethstevens.com/9781538238172",null,{"$f":"Table1[[#This Row],[QTY]]*Table1[[#This Row],['# Books]]","v":0},{"$f":"Table1[[#This Row],[QTY]]*Table1[[#This Row],[S&L Price]]","v":0}]
[null,null,18,"Life Without Animals",1,"What If Prairie Dogs Disappeared?","Library Bound Book",null,"978-1-5382-3820-2",{"$f":"HYPERLINK(Table1[[#This Row],[eCommerce Hyperlink]],\"Book Weblink\")","v":"Book Weblink"},null,"2020","August 2019","Library","7.000 X 7.000","Author","Theresa Emminizer","3.6","0.5",null,null,"I",null,"Grade 1 - 2","Grade 1 - 3","Scapegoats for livestock injuries and crop damage, prairie dogs have been threatened by hunting and habitat loss. These seemingly commonplace creatures are a keystone species, necessary to the survival of many other animals and the entire prairie ecosystem. In this educational text, readers learn about the value of the prairie dog, the challenges it faces, and why its conservation is so important. Colorful photographs bring to life the fascinating information on every page, holding the readers' attention and capturing their imagination.","English",23.6,17.7,"599.36/7--dc23","24 pp.","https://www.garethstevens.com/9781538238202",null,{"$f":"Table1[[#This Row],[QTY]]*Table1[[#This Row],['# Books]]","v":0},{"$f":"Table1[[#This Row],[QTY]]*Table1[[#This Row],[S&L Price]]","v":0}]
[null,null,18,"Life Without Animals",1,"What If Prairie Dogs Disappeared?","eBook",null,"978-1-5382-3821-9",{"$f":"HYPERLINK(Table1[[#This Row],[eCommerce Hyperlink]],\"Book Weblink\")","v":"Book Weblink"},null,"2020","August 2019",null,null,"Author","Theresa Emminizer","3.6","0.5",null,null,"I",null,"Grade 1 - 2","Grade 1 - 3","Scapegoats for livestock injuries and crop damage, prairie dogs have been threatened by hunting and habitat loss. These seemingly commonplace creatures are a keystone species, necessary to the survival of many other animals and the entire prairie ecosystem. In this educational text, readers learn about the value of the prairie dog, the challenges it faces, and why its conservation is so important. Colorful photographs bring to life the fascinating information on every page, holding the readers' attention and capturing their imagination.","English",23.6,17.7,"599.36/7--dc23","24 pp.","https://www.garethstevens.com/9781538238219",null,{"$f":"Table1[[#This Row],[QTY]]*Table1[[#This Row],['# Books]]","v":0},{"$f":"Table1[[#This Row],[QTY]]*Table1[[#This Row],[S&L Price]]","v":0}]
[null,null,18,"Life Without Animals",1,"What If Sea Otters Disappeared?","Library Bound Book",null,"978-1-5382-3824-0",{"$f":"HYPERLINK(Table1[[#This Row],[eCommerce Hyperlink]],\"Book Weblink\")","v":"Book Weblink"},null,"2020","August 2019","Library","7.000 X 7.000","Author","Theresa Emminizer","3.5","0.5",null,null,"I",null,"Grade 1 - 2","Grade 1 - 3","Sea otters are a keystone species in their environment. If they were to disappear, the ripple effect on the plants and animals in the ecosystem would be profound. Kelp forests absorb carbon dioxide. Sea urchins feed on kelp and can deplete these forests if they are not kept in check. Sea otters prey on sea urchins, helping to maintain healthy kelp forests and thus, a healthy ecosystem. This dynamic text engages readers in an educational dialogue, examining the role of sea otters, the threats they face, and possible solutions to protect this fundamental species.","English",23.6,17.7,"599.769/5--dc23","24 pp.","https://www.garethstevens.com/9781538238240",null,{"$f":"Table1[[#This Row],[QTY]]*Table1[[#This Row],['# Books]]","v":0},{"$f":"Table1[[#This Row],[QTY]]*Table1[[#This Row],[S&L Price]]","v":0}]
[null,null,18,"Life Without Animals",1,"What If Sea Otters Disappeared?","eBook",null,"978-1-5382-3825-7",{"$f":"HYPERLINK(Table1[[#This Row],[eCommerce Hyperlink]],\"Book Weblink\")","v":"Book Weblink"},null,"2020","August 2019",null,null,"Author","Theresa Emminizer","3.5","0.5",null,null,"I",null,"Grade 1 - 2","Grade 1 - 3","Sea otters are a keystone species in their environment. If they were to disappear, the ripple effect on the plants and animals in the ecosystem would be profound. Kelp forests absorb carbon dioxide. Sea urchins feed on kelp and can deplete these forests if they are not kept in check. Sea otters prey on sea urchins, helping to maintain healthy kelp forests and thus, a healthy ecosystem. This dynamic text engages readers in an educational dialogue, examining the role of sea otters, the threats they face, and possible solutions to protect this fundamental species.","English",23.6,17.7,"599.769/5--dc23","24 pp.","https://www.garethstevens.com/9781538238257",null,{"$f":"Table1[[#This Row],[QTY]]*Table1[[#This Row],['# Books]]","v":0},{"$f":"Table1[[#This Row],[QTY]]*Table1[[#This Row],[S&L Price]]","v":0}]
[null,null,18,"Life Without Animals",1,"What If Sea Urchins Disappeared?","Library Bound Book",null,"978-1-5382-3828-8",{"$f":"HYPERLINK(Table1[[#This Row],[eCommerce Hyperlink]],\"Book Weblink\")","v":"Book Weblink"},null,"2020","August 2019","Library","7.000 X 7.000","Author","Theresa Emminizer","3.4","0.5",null,null,"I",null,"Grade 1 - 2","Grade 1 - 3","From the fiercest predator to the lowliest plant, every member of an ecosystem is immeasurably important to the survival of their environment. Although they're not regarded as a keystone species, sea urchins play a pivotal role in maintaining healthy marine environments. Without sea urchins to consume algae, entire coral reef ecosystems could collapse. This educational text invites readers to imagine a world without sea urchins, delving into curricular science concepts, such as interdependence of species, with accessible language and real-world examples.","English",23.6,17.7,"593.9/5--dc23","24 pp.","https://www.garethstevens.com/9781538238288",null,{"$f":"Table1[[#This Row],[QTY]]*Table1[[#This Row],['# Books]]","v":0},{"$f":"Table1[[#This Row],[QTY]]*Table1[[#This Row],[S&L Price]]","v":0}]
[null,null,18,"Life Without Animals",1,"What If Sea Urchins Disappeared?","eBook",null,"978-1-5382-3829-5",{"$f":"HYPERLINK(Table1[[#This Row],[eCommerce Hyperlink]],\"Book Weblink\")","v":"Book Weblink"},null,"2020","August 2019",null,null,"Author","Theresa Emminizer","3.4","0.5",null,null,"I",null,"Grade 1 - 2","Grade 1 - 3","From the fiercest predator to the lowliest plant, every member of an ecosystem is immeasurably important to the survival of their environment. Although they're not regarded as a keystone species, sea urchins play a pivotal role in maintaining healthy marine environments. Without sea urchins to consume algae, entire coral reef ecosystems could collapse. This educational text invites readers to imagine a world without sea urchins, delving into curricular science concepts, such as interdependence of species, with accessible language and real-world examples.","English",23.6,17.7,"593.9/5--dc23","24 pp.","https://www.garethstevens.com/9781538238295",null,{"$f":"Table1[[#This Row],[QTY]]*Table1[[#This Row],['# Books]]","v":0},{"$f":"Table1[[#This Row],[QTY]]*Table1[[#This Row],[S&L Price]]","v":0}]
[null,null,18,"Life Without Animals",1,"What If Tigers Disappeared?","Library Bound Book",null,"978-1-5382-3832-5",{"$f":"HYPERLINK(Table1[[#This Row],[eCommerce Hyperlink]],\"Book Weblink\")","v":"Book Weblink"},null,"2020","August 2019","Library","7.000 X 7.000","Author","Theresa Emminizer","3.7","0.5",null,null,"I",null,"Grade 1 - 2","Grade 1 - 3","Tigers are the largest wild cats in the world. Though they are apex predators, these powerful creatures are vanishing from Earth. Shrinking habitats and poaching have brought tigers to the brink of extinction, forcing us to consider: What would the world be like without tigers? Readers will be fascinated by this edifying text, which takes a hard look at what would happen if tigers were to disappear. With eye-catching photographs, accessible language, and curricular content, this book is a must-read for bourgeoning environmentalists and anyone who cares about animals.","English",23.6,17.7,"639.97/9756--dc23","24 pp.","https://www.garethstevens.com/9781538238325",null,{"$f":"Table1[[#This Row],[QTY]]*Table1[[#This Row],['# Books]]","v":0},{"$f":"Table1[[#This Row],[QTY]]*Table1[[#This Row],[S&L Price]]","v":0}]
[null,null,18,"Life Without Animals",1,"What If Tigers Disappeared?","eBook",null,"978-1-5382-3833-2",{"$f":"HYPERLINK(Table1[[#This Row],[eCommerce Hyperlink]],\"Book Weblink\")","v":"Book Weblink"},null,"2020","August 2019",null,null,"Author","Theresa Emminizer","3.7","0.5",null,null,"I",null,"Grade 1 - 2","Grade 1 - 3","Tigers are the largest wild cats in the world. Though they are apex predators, these powerful creatures are vanishing from Earth. Shrinking habitats and poaching have brought tigers to the brink of extinction, forcing us to consider: What would the world be like without tigers? Readers will be fascinated by this edifying text, which takes a hard look at what would happen if tigers were to disappear. With eye-catching photographs, accessible language, and curricular content, this book is a must-read for bourgeoning environmentalists and anyone who cares about animals.","English",23.6,17.7,"639.97/9756--dc23","24 pp.","https://www.garethstevens.com/9781538238332",null,{"$f":"Table1[[#This Row],[QTY]]*Table1[[#This Row],['# Books]]","v":0},{"$f":"Table1[[#This Row],[QTY]]*Table1[[#This Row],[S&L Price]]","v":0}]
[null,null,19,"My New Pet",6,"My New Pet","Library Set",null,"978-1-5382-8156-7",null,null,"2023","August 2022","Library","7.000 X 7.000",null,null,null,null,null,null,null,null,"Grade 1 - 2","Grade 1 - 3","Pets can have tremendous benefits for people of all ages, but the responsibilities of owning them can be overlooked. This book aims to introduce early readers to the key ideas of owning a variety of popular pets, including cats, dogs, parakeets, and rabbits. The explanatory text is thoughtfully crafted for beginning readers and includes important information such as what to feed each type of pet, how to understand and how to keep them healthy and happy.","English",141.6,106.2,null,"24 pp.","https://www.garethstevens.com/9781538281567",null,{"$f":"Table1[[#This Row],[QTY]]*Table1[[#This Row],['# Books]]","v":0},{"$f":"Table1[[#This Row],[QTY]]*Table1[[#This Row],[S&L Price]]","v":0}]
[null,null,19,"My New Pet",1,"My Pet Cat","Library Bound Book",null,"978-1-5382-8093-5",null,null,"2023","August 2022","Library","7.000 X 7.000","Author","Nancy Greenwood",null,null,null,null,"K",null,"Grade 1 - 2","Grade 1 - 3","With their comforting purrs, curious dispositions, and useful mouse-hunting skills, cats are known to make wonderful pets. This title aims to help students who have a pet cat—or who dream of having one in the future—learn about what it entails while enhancing their reading skills. It offers full-color photographs and a dynamic design to complement the language that is carefully crafted for Kindergarten-level readers. Additionally, there is a glossary to allow early readers to further build their vocabularies. A section with further information allows readers to expand their knowledge of the captivating world of cats. With its features, this book is sure to not only increase reader appreciation of inquisitive cats, but also the benefits of reading.","English",23.6,17.7,"636.8--dc23","24 pp.","https://www.garethstevens.com/9781538280935",null,{"$f":"Table1[[#This Row],[QTY]]*Table1[[#This Row],['# Books]]","v":0},{"$f":"Table1[[#This Row],[QTY]]*Table1[[#This Row],[S&L Price]]","v":0}]
[null,null,19,"My New Pet",1,"My Pet Cat","eBook",null,"978-1-5382-8094-2",null,null,"2023","August 2022",null,null,"Author","Nancy Greenwood",null,null,null,null,"K",null,"Grade 1 - 2","Grade 1 - 3","With their comforting purrs, curious dispositions, and useful mouse-hunting skills, cats are known to make wonderful pets. This title aims to help students who have a pet cat—or who dream of having one in the future—learn about what it entails while enhancing their reading skills. It offers full-color photographs and a dynamic design to complement the language that is carefully crafted for Kindergarten-level readers. Additionally, there is a glossary to allow early readers to further build their vocabularies. A section with further information allows readers to expand their knowledge of the captivating world of cats. With its features, this book is sure to not only increase reader appreciation of inquisitive cats, but also the benefits of reading.","English",23.6,17.7,"636.8--dc23","24 pp.","https://www.garethstevens.com/9781538280942","http://www.epointplus.com/embed/9781538280942/?login=cyberrep&password=cyberrep",{"$f":"Table1[[#This Row],[QTY]]*Table1[[#This Row],['# Books]]","v":0},{"$f":"Table1[[#This Row],[QTY]]*Table1[[#This Row],[S&L Price]]","v":0}]
[null,null,19,"My New Pet",1,"My Pet Dog","Library Bound Book",null,"978-1-5382-8097-3",null,null,"2023","August 2022","Library","7.000 X 7.000","Author","Nancy Greenwood",null,null,null,null,"K",null,"Grade 1 - 2","Grade 1 - 3","With their playfulness, loyalty, and affectionate demeanors, dogs are beloved pets worldwide. Whether students already have a dog or dream of having one, this engaging book is sure to capture their interest with informational text carefully tailored to beginning readers. Full-color photographs and adept text-to-photo correlation help students comprehend the key ideas of dog ownership, such as what they eat and tricks they can learn. A complete glossary and index further aid students in enhancing their reading comprehension skills. Finally, a further information section will spark young readers’ continued interest in not only caring for the creatures that have earned the title of “man’s best friend” but also additional opportunities to build their reading skills.","English",23.6,17.7,"636.7--dc23","24 pp.","https://www.garethstevens.com/9781538280973",null,{"$f":"Table1[[#This Row],[QTY]]*Table1[[#This Row],['# Books]]","v":0},{"$f":"Table1[[#This Row],[QTY]]*Table1[[#This Row],[S&L Price]]","v":0}]
[null,null,19,"My New Pet",1,"My Pet Dog","eBook",null,"978-1-5382-8098-0",null,null,"2023","August 2022",null,null,"Author","Nancy Greenwood",null,null,null,null,"K",null,"Grade 1 - 2","Grade 1 - 3","With their playfulness, loyalty, and affectionate demeanors, dogs are beloved pets worldwide. Whether students already have a dog or dream of having one, this engaging book is sure to capture their interest with informational text carefully tailored to beginning readers. Full-color photographs and adept text-to-photo correlation help students comprehend the key ideas of dog ownership, such as what they eat and tricks they can learn. A complete glossary and index further aid students in enhancing their reading comprehension skills. Finally, a further information section will spark young readers’ continued interest in not only caring for the creatures that have earned the title of “man’s best friend” but also additional opportunities to build their reading skills.","English",23.6,17.7,"636.7--dc23","24 pp.","https://www.garethstevens.com/9781538280980","http://www.epointplus.com/embed/9781538280980/?login=cyberrep&password=cyberrep",{"$f":"Table1[[#This Row],[QTY]]*Table1[[#This Row],['# Books]]","v":0},{"$f":"Table1[[#This Row],[QTY]]*Table1[[#This Row],[S&L Price]]","v":0}]
[null,null,19,"My New Pet",1,"My Pet Goldfish","Library Bound Book",null,"978-1-5382-8101-7",null,null,"2023","August 2022","Library","7.000 X 7.000","Author","Nancy Greenwood",null,null,null,null,"K",null,"Grade 1 - 2","Grade 1 - 3","Goldfish can be a variety of vivid colors and they are easy to care for, so they can make great first pets for kids. Early readers who are interested in these fascinating and low-maintenance pets will learn about the key ideas of caring for them, including what they eat, cleaning their tanks, and water maintenance. Full-color photos enhance the simple text that is thoughtfully written with early readers in mind. This title also includes a glossary to further help students build vocabulary skills as they interpret the responsibilities of goldfish ownership. Additionally, an index can help students locate key details about these aquatic animals. Complete with a section for readers to explore further information about goldfish, this title is sure to inspire early readers to not only become responsible pet owners, but also skilled readers.","English",23.6,17.7,"639.3/7484--dc23","24 pp.","https://www.garethstevens.com/9781538281017",null,{"$f":"Table1[[#This Row],[QTY]]*Table1[[#This Row],['# Books]]","v":0},{"$f":"Table1[[#This Row],[QTY]]*Table1[[#This Row],[S&L Price]]","v":0}]
[null,null,19,"My New Pet",1,"My Pet Goldfish","eBook",null,"978-1-5382-8102-4",null,null,"2023","August 2022",null,null,"Author","Nancy Greenwood",null,null,null,null,"K",null,"Grade 1 - 2","Grade 1 - 3","Goldfish can be a variety of vivid colors and they are easy to care for, so they can make great first pets for kids. Early readers who are interested in these fascinating and low-maintenance pets will learn about the key ideas of caring for them, including what they eat, cleaning their tanks, and water maintenance. Full-color photos enhance the simple text that is thoughtfully written with early readers in mind. This title also includes a glossary to further help students build vocabulary skills as they interpret the responsibilities of goldfish ownership. Additionally, an index can help students locate key details about these aquatic animals. Complete with a section for readers to explore further information about goldfish, this title is sure to inspire early readers to not only become responsible pet owners, but also skilled readers.","English",23.6,17.7,"639.3/7484--dc23","24 pp.","https://www.garethstevens.com/9781538281024","http://www.epointplus.com/embed/9781538281024/?login=cyberrep&password=cyberrep",{"$f":"Table1[[#This Row],[QTY]]*Table1[[#This Row],['# Books]]","v":0},{"$f":"Table1[[#This Row],[QTY]]*Table1[[#This Row],[S&L Price]]","v":0}]
[null,null,19,"My New Pet",1,"My Pet Hamster","Library Bound Book",null,"978-1-5382-8105-5",null,null,"2023","August 2022","Library","7.000 X 7.000","Author","Nancy Greenwood",null,null,null,null,"K",null,"Grade 1 - 2","Grade 1 - 3","With their small, fluffy bodies and generally gentle nature, hamsters are popular pets. Children who have hamsters or are making a plan to get one will learn key ideas about caring from them with this engaging title. The simple text is tactfully written for beginning readers. Hamster care concepts include what to feed them, their size, and how to pick out the perfect cage. Captivating full-color photographs of adorable hamsters and their behaviors will keep readers fascinated as they interpret the responsibilities of hamster ownership. In addition, a glossary allows beginning readers to build vital vocabulary skills. A further information section provides readers with additional reading opportunities and resources to learn about having hamsters as pets.","English",23.6,17.7,"636.935/6--dc23","24 pp.","https://www.garethstevens.com/9781538281055",null,{"$f":"Table1[[#This Row],[QTY]]*Table1[[#This Row],['# Books]]","v":0},{"$f":"Table1[[#This Row],[QTY]]*Table1[[#This Row],[S&L Price]]","v":0}]
[null,null,19,"My New Pet",1,"My Pet Hamster","eBook",null,"978-1-5382-8106-2",null,null,"2023","August 2022",null,null,"Author","Nancy Greenwood",null,null,null,null,"K",null,"Grade 1 - 2","Grade 1 - 3","With their small, fluffy bodies and generally gentle nature, hamsters are popular pets. Children who have hamsters or are making a plan to get one will learn key ideas about caring from them with this engaging title. The simple text is tactfully written for beginning readers. Hamster care concepts include what to feed them, their size, and how to pick out the perfect cage. Captivating full-color photographs of adorable hamsters and their behaviors will keep readers fascinated as they interpret the responsibilities of hamster ownership. In addition, a glossary allows beginning readers to build vital vocabulary skills. A further information section provides readers with additional reading opportunities and resources to learn about having hamsters as pets.","English",23.6,17.7,"636.935/6--dc23","24 pp.","https://www.garethstevens.com/9781538281062","http://www.epointplus.com/embed/9781538281062/?login=cyberrep&password=cyberrep",{"$f":"Table1[[#This Row],[QTY]]*Table1[[#This Row],['# Books]]","v":0},{"$f":"Table1[[#This Row],[QTY]]*Table1[[#This Row],[S&L Price]]","v":0}]
[null,null,19,"My New Pet",1,"My Pet Parakeet","Library Bound Book",null,"978-1-5382-8109-3",null,null,"2023","August 2022","Library","7.000 X 7.000","Author","Nancy Greenwood",null,null,null,null,"K",null,"Grade 1 - 2","Grade 1 - 3","Many enjoy having parakeets as pets with their bright feathers and ability to be trained. Early readers who are interested in learning about having one of these beautiful and intelligent birds as a pet can learn key details about caring for them with this compelling title. The text is thoughtfully written with beginning readers in mind. It covers a parakeet’s recommended diet, housing, and tips for hand taming them. Additionally, it features full-color photographs of these striking birds that build text-to-photo correlation. A glossary further enhances reader vocabularies. Finally, an index aims to allow readers to build on their knowledge of key ideas. After reading this title, students will not only be able to interpret the responsibilities of having a parakeet pet, but they will also strengthen their reading skills.","English",23.6,17.7,"636.6/864--dc23","24 pp.","https://www.garethstevens.com/9781538281093",null,{"$f":"Table1[[#This Row],[QTY]]*Table1[[#This Row],['# Books]]","v":0},{"$f":"Table1[[#This Row],[QTY]]*Table1[[#This Row],[S&L Price]]","v":0}]
[null,null,19,"My New Pet",1,"My Pet Parakeet","eBook",null,"978-1-5382-8110-9",null,null,"2023","August 2022",null,null,"Author","Nancy Greenwood",null,null,null,null,"K",null,"Grade 1 - 2","Grade 1 - 3","Many enjoy having parakeets as pets with their bright feathers and ability to be trained. Early readers who are interested in learning about having one of these beautiful and intelligent birds as a pet can learn key details about caring for them with this compelling title. The text is thoughtfully written with beginning readers in mind. It covers a parakeet’s recommended diet, housing, and tips for hand taming them. Additionally, it features full-color photographs of these striking birds that build text-to-photo correlation. A glossary further enhances reader vocabularies. Finally, an index aims to allow readers to build on their knowledge of key ideas. After reading this title, students will not only be able to interpret the responsibilities of having a parakeet pet, but they will also strengthen their reading skills.","English",23.6,17.7,"636.6/864--dc23","24 pp.","https://www.garethstevens.com/9781538281109","http://www.epointplus.com/embed/9781538281109/?login=cyberrep&password=cyberrep",{"$f":"Table1[[#This Row],[QTY]]*Table1[[#This Row],['# Books]]","v":0},{"$f":"Table1[[#This Row],[QTY]]*Table1[[#This Row],[S&L Price]]","v":0}]
[null,null,19,"My New Pet",1,"My Pet Rabbit","Library Bound Book",null,"978-1-5382-8113-0",null,null,"2023","August 2022","Library","7.000 X 7.000","Author","Nancy Greenwood",null,null,null,null,"K",null,"Grade 1 - 2","Grade 1 - 3","While young readers might dream of having an adorable, fluffy bunny hopping around their home, there is a lot that goes into taking care of these small mammals. This compelling title introduces students to the key ideas of bunny ownership, including what to feed them, how to design their hutch, how to exercise them, and how to provide them with needed companionship. Full-color photographs of these captivating creatures heighten reader text-to-photo correlation and complement the content that’s carefully written for early readers. Additionally, a glossary allows burgeoning readers to build their vocabularies and an index streamlines locating content about key ideas. A further information section allows readers to continue expanding their knowledge of bunny ownership and their reading comprehension skills.","English",23.6,17.7,"636.935--dc23","24 pp.","https://www.garethstevens.com/9781538281130",null,{"$f":"Table1[[#This Row],[QTY]]*Table1[[#This Row],['# Books]]","v":0},{"$f":"Table1[[#This Row],[QTY]]*Table1[[#This Row],[S&L Price]]","v":0}]
[null,null,19,"My New Pet",1,"My Pet Rabbit","eBook",null,"978-1-5382-8114-7",null,null,"2023","August 2022",null,null,"Author","Nancy Greenwood",null,null,null,null,"K",null,"Grade 1 - 2","Grade 1 - 3","While young readers might dream of having an adorable, fluffy bunny hopping around their home, there is a lot that goes into taking care of these small mammals. This compelling title introduces students to the key ideas of bunny ownership, including what to feed them, how to design their hutch, how to exercise them, and how to provide them with needed companionship. Full-color photographs of these captivating creatures heighten reader text-to-photo correlation and complement the content that’s carefully written for early readers. Additionally, a glossary allows burgeoning readers to build their vocabularies and an index streamlines locating content about key ideas. A further information section allows readers to continue expanding their knowledge of bunny ownership and their reading comprehension skills.","English",23.6,17.7,"636.935--dc23","24 pp.","https://www.garethstevens.com/9781538281147","http://www.epointplus.com/embed/9781538281147/?login=cyberrep&password=cyberrep",{"$f":"Table1[[#This Row],[QTY]]*Table1[[#This Row],['# Books]]","v":0},{"$f":"Table1[[#This Row],[QTY]]*Table1[[#This Row],[S&L Price]]","v":0}]
[null,12,20,"Animal Groups",12,"Animal Groups: Sets 1 – 2","Library Set",null,"978-1-5382-6723-3",{"$f":"HYPERLINK(Table1[[#This Row],[eCommerce Hyperlink]],\"Book Weblink\")","v":"Book Weblink"},null,"2022","August 2021","Library","7.000 X 7.000",null,null,null,null,null,null,null,null,"Grade 1 - 2","Grade 1 - 3","What is a group of rhinos called? How many crows are there in a murder? For many animals, living in a group is important for the survival of the species, and people have made some pretty creative names for them. From a mob of kangaroos to a tower of giraffes, young readers will love learning how animals live and work together. With full-page photographs of animals like penguins and crocodiles in the wild, young readers will get a close look at animals we don't see everyday. Features include: High-interest topics that encourage developing readers. Ensures a fun approach to important STEM topics. Fact sheets and charts aid reader comprehension.","English",295.2,221.4,null,"24 pp.","https://www.garethstevens.com/9781538267233",null,{"$f":"Table1[[#This Row],[QTY]]*Table1[[#This Row],['# Books]]","v":0},{"$f":"Table1[[#This Row],[QTY]]*Table1[[#This Row],[S&L Price]]","v":0}]
[null,12,20,"Animal Groups",1,"A Caravan of Camels","Library Bound Book",null,"978-1-5382-6347-1",{"$f":"HYPERLINK(Table1[[#This Row],[eCommerce Hyperlink]],\"Book Weblink\")","v":"Book Weblink"},null,"2022","August 2021","Library","7.000 X 7.000","Author","Seth Lynch",null,null,null,null,"I",null,"Grade 1 - 2","Grade 1 - 3","Extremely social, camels will blow on each other’s faces as a friendly greeting. They also groan and roar! While most camels are domesticated and few wild camels survive on Earth today, these mammals thrive in a group, sometimes called a caravan. These groups are made up of a male leader, females, and young. Mothers care for their young and the caravan moves around together. Through this book’s photographs of camels, closely paired with easy-to-understand text, young readers will discover how these friendly animals grow and work together within their caravan.","English",24.6,18.45,"599.63","24 pp.","https://www.garethstevens.com/9781538263471",null,{"$f":"Table1[[#This Row],[QTY]]*Table1[[#This Row],['# Books]]","v":0},{"$f":"Table1[[#This Row],[QTY]]*Table1[[#This Row],[S&L Price]]","v":0}]
[null,12,20,"Animal Groups",1,"A Caravan of Camels","eBook",null,"978-1-5382-6348-8",{"$f":"HYPERLINK(Table1[[#This Row],[eCommerce Hyperlink]],\"Book Weblink\")","v":"Book Weblink"},null,"2022","August 2021",null,null,"Author","Seth Lynch",null,null,null,null,"I",null,"Grade 1 - 2","Grade 1 - 3","Extremely social, camels will blow on each other’s faces as a friendly greeting. They also groan and roar! While most camels are domesticated and few wild camels survive on Earth today, these mammals thrive in a group, sometimes called a caravan. These groups are made up of a male leader, females, and young. Mothers care for their young and the caravan moves around together. Through this book’s photographs of camels, closely paired with easy-to-understand text, young readers will discover how these friendly animals grow and work together within their caravan.","English",24.6,18.45,"599.63","24 pp.","https://www.garethstevens.com/9781538263488",null,{"$f":"Table1[[#This Row],[QTY]]*Table1[[#This Row],['# Books]]","v":0},{"$f":"Table1[[#This Row],[QTY]]*Table1[[#This Row],[S&L Price]]","v":0}]
[null,12,20,"Animal Groups",1,"A Crash of Rhinos","Library Bound Book",null,"978-1-5382-6351-8",{"$f":"HYPERLINK(Table1[[#This Row],[eCommerce Hyperlink]],\"Book Weblink\")","v":"Book Weblink"},null,"2022","August 2021","Library","7.000 X 7.000","Author","Seth Lynch",null,null,null,null,"I",null,"Grade 1 - 2","Grade 1 - 3","Even though a group of rhinos is often small, people have given them their own special name. These small groups, usually only made up of a female rhino and her offspring, are called a crash. Through the approachable narrative, young readers learn why rhinos prefer to live in sets of two and how mothers raise their babies. With photographs of rhinos in the wild, readers see firsthand what life in a crash is like and learn what a mother rhino does to protect her young.","English",24.6,18.45,"599.66","24 pp.","https://www.garethstevens.com/9781538263518",null,{"$f":"Table1[[#This Row],[QTY]]*Table1[[#This Row],['# Books]]","v":0},{"$f":"Table1[[#This Row],[QTY]]*Table1[[#This Row],[S&L Price]]","v":0}]
[null,12,20,"Animal Groups",1,"A Crash of Rhinos","eBook",null,"978-1-5382-6352-5",{"$f":"HYPERLINK(Table1[[#This Row],[eCommerce Hyperlink]],\"Book Weblink\")","v":"Book Weblink"},null,"2022","August 2021",null,null,"Author","Seth Lynch",null,null,null,null,"I",null,"Grade 1 - 2","Grade 1 - 3","Even though a group of rhinos is often small, people have given them their own special name. These small groups, usually only made up of a female rhino and her offspring, are called a crash. Through the approachable narrative, young readers learn why rhinos prefer to live in sets of two and how mothers raise their babies. With photographs of rhinos in the wild, readers see firsthand what life in a crash is like and learn what a mother rhino does to protect her young.","English",24.6,18.45,"599.66","24 pp.","https://www.garethstevens.com/9781538263525",null,{"$f":"Table1[[#This Row],[QTY]]*Table1[[#This Row],['# Books]]","v":0},{"$f":"Table1[[#This Row],[QTY]]*Table1[[#This Row],[S&L Price]]","v":0}]
[null,12,20,"Animal Groups",1,"A Raft of Otters","Library Bound Book",null,"978-1-5382-6355-6",{"$f":"HYPERLINK(Table1[[#This Row],[eCommerce Hyperlink]],\"Book Weblink\")","v":"Book Weblink"},null,"2022","August 2021","Library","7.000 X 7.000","Author","Seth Lynch",null,null,null,null,"I",null,"Grade 1 - 2","Grade 1 - 3","Sea otters are social creatures, sometimes found by the hundreds resting together on their backs. This is called a raft of otters! Otters sometimes tangle themselves in kelp to keep from drifting apart! Young readers will love learning more about how otters live and grow together. With photographs of otters enjoying their watery home, this volume introduces young readers to how baby otters are born and cared for. Approachable text aids in leaving lasting lessons for young scientists ready to jump into animal discovery.","English",24.6,18.45,"599.769","24 pp.","https://www.garethstevens.com/9781538263556",null,{"$f":"Table1[[#This Row],[QTY]]*Table1[[#This Row],['# Books]]","v":0},{"$f":"Table1[[#This Row],[QTY]]*Table1[[#This Row],[S&L Price]]","v":0}]
[null,12,20,"Animal Groups",1,"A Raft of Otters","eBook",null,"978-1-5382-6356-3",{"$f":"HYPERLINK(Table1[[#This Row],[eCommerce Hyperlink]],\"Book Weblink\")","v":"Book Weblink"},null,"2022","August 2021",null,null,"Author","Seth Lynch",null,null,null,null,"I",null,"Grade 1 - 2","Grade 1 - 3","Sea otters are social creatures, sometimes found by the hundreds resting together on their backs. This is called a raft of otters! Otters sometimes tangle themselves in kelp to keep from drifting apart! Young readers will love learning more about how otters live and grow together. With photographs of otters enjoying their watery home, this volume introduces young readers to how baby otters are born and cared for. Approachable text aids in leaving lasting lessons for young scientists ready to jump into animal discovery.","English",24.6,18.45,"599.769","24 pp.","https://www.garethstevens.com/9781538263563",null,{"$f":"Table1[[#This Row],[QTY]]*Table1[[#This Row],['# Books]]","v":0},{"$f":"Table1[[#This Row],[QTY]]*Table1[[#This Row],[S&L Price]]","v":0}]
[null,12,20,"Animal Groups",1,"A Sleuth of Bears","Library Bound Book",null,"978-1-5382-6359-4",{"$f":"HYPERLINK(Table1[[#This Row],[eCommerce Hyperlink]],\"Book Weblink\")","v":"Book Weblink"},null,"2022","August 2021","Library","7.000 X 7.000","Author","Seth Lynch",null,null,null,null,"I",null,"Grade 1 - 2","Grade 1 - 3","While a sleuth of bears is usually only a mother and her cubs, these groups are very important to how bear cubs are raised. Although they're usually solitary creatures, bears still need their sleuth. A mother bear will feed and raise her cubs, careful to keep them safe from any danger, including other bears. With approachable text paired closely with photographs of bears in the wild, this book shows young readers how bears live. From the brown bear to the polar bear, a sleuth is a key part of survival.","English",24.6,18.45,"599.7815","24 pp.","https://www.garethstevens.com/9781538263594",null,{"$f":"Table1[[#This Row],[QTY]]*Table1[[#This Row],['# Books]]","v":0},{"$f":"Table1[[#This Row],[QTY]]*Table1[[#This Row],[S&L Price]]","v":0}]
[null,12,20,"Animal Groups",1,"A Sleuth of Bears","eBook",null,"978-1-5382-6360-0",{"$f":"HYPERLINK(Table1[[#This Row],[eCommerce Hyperlink]],\"Book Weblink\")","v":"Book Weblink"},null,"2022","August 2021",null,null,"Author","Seth Lynch",null,null,null,null,"I",null,"Grade 1 - 2","Grade 1 - 3","While a sleuth of bears is usually only a mother and her cubs, these groups are very important to how bear cubs are raised. Although they're usually solitary creatures, bears still need their sleuth. A mother bear will feed and raise her cubs, careful to keep them safe from any danger, including other bears. With approachable text paired closely with photographs of bears in the wild, this book shows young readers how bears live. From the brown bear to the polar bear, a sleuth is a key part of survival.","English",24.6,18.45,"599.7815","24 pp.","https://www.garethstevens.com/9781538263600",null,{"$f":"Table1[[#This Row],[QTY]]*Table1[[#This Row],['# Books]]","v":0},{"$f":"Table1[[#This Row],[QTY]]*Table1[[#This Row],[S&L Price]]","v":0}]
[null,12,20,"Animal Groups",1,"A Tower of Giraffes","Library Bound Book",null,"978-1-5382-6363-1",{"$f":"HYPERLINK(Table1[[#This Row],[eCommerce Hyperlink]],\"Book Weblink\")","v":"Book Weblink"},null,"2022","August 2021","Library","7.000 X 7.000","Author","Seth Lynch",null,null,null,null,"I",null,"Grade 1 - 2","Grade 1 - 3","Roaming the African grasslands and savannas, giraffes make families for protection. Wandering to look for tall trees to eat from, giraffes usually live in groups called towers. With so many predators around looking for a meal, staying with a tower is an important part of staying safe. With vivid photographs of giraffes in their wild home paired with approachable language, young readers will learn how giraffes are born and grow in their tower. With powerful necks to fight off predators, readers will love learning about how giraffes survive.","English",24.6,18.45,"599.638","24 pp.","https://www.garethstevens.com/9781538263631",null,{"$f":"Table1[[#This Row],[QTY]]*Table1[[#This Row],['# Books]]","v":0},{"$f":"Table1[[#This Row],[QTY]]*Table1[[#This Row],[S&L Price]]","v":0}]
[null,12,20,"Animal Groups",1,"A Tower of Giraffes","eBook",null,"978-1-5382-6364-8",{"$f":"HYPERLINK(Table1[[#This Row],[eCommerce Hyperlink]],\"Book Weblink\")","v":"Book Weblink"},null,"2022","August 2021",null,null,"Author","Seth Lynch",null,null,null,null,"I",null,"Grade 1 - 2","Grade 1 - 3","Roaming the African grasslands and savannas, giraffes make families for protection. Wandering to look for tall trees to eat from, giraffes usually live in groups called towers. With so many predators around looking for a meal, staying with a tower is an important part of staying safe. With vivid photographs of giraffes in their wild home paired with approachable language, young readers will learn how giraffes are born and grow in their tower. With powerful necks to fight off predators, readers will love learning about how giraffes survive.","English",24.6,18.45,"599.638","24 pp.","https://www.garethstevens.com/9781538263648",null,{"$f":"Table1[[#This Row],[QTY]]*Table1[[#This Row],['# Books]]","v":0},{"$f":"Table1[[#This Row],[QTY]]*Table1[[#This Row],[S&L Price]]","v":0}]
[null,12,20,"Animal Groups",1,"An Army of Caterpillars","Library Bound Book",null,"978-1-5382-6343-3",{"$f":"HYPERLINK(Table1[[#This Row],[eCommerce Hyperlink]],\"Book Weblink\")","v":"Book Weblink"},null,"2022","August 2021","Library","7.000 X 7.000","Author","Natalie Humphrey",null,null,null,null,"I",null,"Grade 1 - 2","Grade 1 - 3","What's that squirming between in the trees? While it might look like a solid clump, it's actually a massive group of caterpillars. A group of caterpillars is called an army and there's no doubt about why. These invaders eat nonstop, devouring all the plant life in their path and leaving nothing behind. With simple language paired with photographs of caterpillars, this volume invites young readers to learn how caterpillars start their lives and why living in an army is important.","English",24.6,18.45,"595.7813","24 pp.","https://www.garethstevens.com/9781538263433",null,{"$f":"Table1[[#This Row],[QTY]]*Table1[[#This Row],['# Books]]","v":0},{"$f":"Table1[[#This Row],[QTY]]*Table1[[#This Row],[S&L Price]]","v":0}]
[null,12,20,"Animal Groups",1,"An Army of Caterpillars","eBook",null,"978-1-5382-6344-0",{"$f":"HYPERLINK(Table1[[#This Row],[eCommerce Hyperlink]],\"Book Weblink\")","v":"Book Weblink"},null,"2022","August 2021",null,null,"Author","Natalie Humphrey",null,null,null,null,"I",null,"Grade 1 - 2","Grade 1 - 3","What's that squirming between in the trees? While it might look like a solid clump, it's actually a massive group of caterpillars. A group of caterpillars is called an army and there's no doubt about why. These invaders eat nonstop, devouring all the plant life in their path and leaving nothing behind. With simple language paired with photographs of caterpillars, this volume invites young readers to learn how caterpillars start their lives and why living in an army is important.","English",24.6,18.45,"595.7813","24 pp.","https://www.garethstevens.com/9781538263440",null,{"$f":"Table1[[#This Row],[QTY]]*Table1[[#This Row],['# Books]]","v":0},{"$f":"Table1[[#This Row],[QTY]]*Table1[[#This Row],[S&L Price]]","v":0}]
[null,12,20,"Animal Groups",1,"A Float of Crocodiles","Library Bound Book",null,"978-1-4339-8194-4",{"$f":"HYPERLINK(Table1[[#This Row],[eCommerce Hyperlink]],\"Book Weblink\")","v":"Book Weblink"},null,"2013","January 2013","Library","7.000 X 7.000","Author","Karlie Gambino","2.9","0.5","16","15","I","530L","Grade 1 - 2","Grade 1 - 3","Crocodiles are intelligent and social animals that communicate in many ways. A group of crocodiles in water is called a float, and a group on land is called a bask. They are masters at hiding in water and waiting for an unlucky animal to wander by. Readers discover many fun facts about what life is like in a group of crocodiles and see colorful, up-close photographs of the fierce reptiles in their natural habitat. Accessible text and a helpful graphic organizer allow readers to independently explore the fascinating lives of these amazing animals.","English",24.6,18.45,"597.98/2","24 pp.","https://www.garethstevens.com/9781433981944",null,{"$f":"Table1[[#This Row],[QTY]]*Table1[[#This Row],['# Books]]","v":0},{"$f":"Table1[[#This Row],[QTY]]*Table1[[#This Row],[S&L Price]]","v":0}]
[null,12,20,"Animal Groups",1,"A Float of Crocodiles","eBook",null,"978-1-4339-8197-5",{"$f":"HYPERLINK(Table1[[#This Row],[eCommerce Hyperlink]],\"Book Weblink\")","v":"Book Weblink"},null,"2013","January 2013",null,null,"Author","Karlie Gambino","2.9","0.5","16","15","I","530L","Grade 1 - 2","Grade 1 - 3","Crocodiles are intelligent and social animals that communicate in many ways. A group of crocodiles in water is called a float, and a group on land is called a bask. They are masters at hiding in water and waiting for an unlucky animal to wander by. Readers discover many fun facts about what life is like in a group of crocodiles and see colorful, up-close photographs of the fierce reptiles in their natural habitat. Accessible text and a helpful graphic organizer allow readers to independently explore the fascinating lives of these amazing animals.","English",24.6,18.45,"597.98/2","24 pp.","https://www.garethstevens.com/9781433981975",null,{"$f":"Table1[[#This Row],[QTY]]*Table1[[#This Row],['# Books]]","v":0},{"$f":"Table1[[#This Row],[QTY]]*Table1[[#This Row],[S&L Price]]","v":0}]
[null,12,20,"Animal Groups",1,"A Kangaroo Mob","Library Bound Book",null,"978-1-4339-8199-9",{"$f":"HYPERLINK(Table1[[#This Row],[eCommerce Hyperlink]],\"Book Weblink\")","v":"Book Weblink"},null,"2013","January 2013","Library","7.000 X 7.000","Author","Juliet Burke","2.6","0.5","16","15","I",null,"Grade 1 - 2","Grade 1 - 3","Readers discover engaging, fun, and fascinating facts about kangaroos. Kangaroos are social animals that live in groups called mobs. Except for an occasional boxing match, kangaroos live happily with each other. The vibrant photographs in this book show different species of kangaroos grazing, resting in the shade, and raising their young. Accessible text and a detailed graphic organizer guide readers as they learn how kangaroos grow up and what life is like living in a mob, in Australia.","English",24.6,18.45,"599.2/2","24 pp.","https://www.garethstevens.com/9781433981999",null,{"$f":"Table1[[#This Row],[QTY]]*Table1[[#This Row],['# Books]]","v":0},{"$f":"Table1[[#This Row],[QTY]]*Table1[[#This Row],[S&L Price]]","v":0}]
[null,12,20,"Animal Groups",1,"A Kangaroo Mob","eBook",null,"978-1-4339-8202-6",{"$f":"HYPERLINK(Table1[[#This Row],[eCommerce Hyperlink]],\"Book Weblink\")","v":"Book Weblink"},null,"2013","January 2013",null,null,"Author","Juliet Burke","2.6","0.5","16","15","I",null,"Grade 1 - 2","Grade 1 - 3","Readers discover engaging, fun, and fascinating facts about kangaroos. Kangaroos are social animals that live in groups called mobs. Except for an occasional boxing match, kangaroos live happily with each other. The vibrant photographs in this book show different species of kangaroos grazing, resting in the shade, and raising their young. Accessible text and a detailed graphic organizer guide readers as they learn how kangaroos grow up and what life is like living in a mob, in Australia.","English",24.6,18.45,"599.2/2","24 pp.","https://www.garethstevens.com/9781433982026",null,{"$f":"Table1[[#This Row],[QTY]]*Table1[[#This Row],['# Books]]","v":0},{"$f":"Table1[[#This Row],[QTY]]*Table1[[#This Row],[S&L Price]]","v":0}]
[null,12,20,"Animal Groups",1,"A Murder of Crows","Library Bound Book",null,"978-1-4339-8204-0",{"$f":"HYPERLINK(Table1[[#This Row],[eCommerce Hyperlink]],\"Book Weblink\")","v":"Book Weblink"},null,"2013","January 2013","Library","7.000 X 7.000","Author","Greg Roza","3","0.5","18","17","J","550L","Grade 1 - 2","Grade 1 - 3","Readers find out what life is like for a murder of crows through the help of accessible text and eye-catching photographs. Crows are some of the smartest animals on the planet. They can remember people’s faces and warn each other of danger. Some crows even know how to use simple tools. These fascinating facts and more are waiting to be discovered by readers. A useful graphic organizer provides additional information about these amazing animals.","English",24.6,18.45,"598.8","24 pp.","https://www.garethstevens.com/9781433982040",null,{"$f":"Table1[[#This Row],[QTY]]*Table1[[#This Row],['# Books]]","v":0},{"$f":"Table1[[#This Row],[QTY]]*Table1[[#This Row],[S&L Price]]","v":0}]
[null,12,20,"Animal Groups",1,"A Murder of Crows","eBook",null,"978-1-4339-8207-1",{"$f":"HYPERLINK(Table1[[#This Row],[eCommerce Hyperlink]],\"Book Weblink\")","v":"Book Weblink"},null,"2013","January 2013",null,null,"Author","Greg Roza","3","0.5","18","17","J","550L","Grade 1 - 2","Grade 1 - 3","Readers find out what life is like for a murder of crows through the help of accessible text and eye-catching photographs. Crows are some of the smartest animals on the planet. They can remember people’s faces and warn each other of danger. Some crows even know how to use simple tools. These fascinating facts and more are waiting to be discovered by readers. A useful graphic organizer provides additional information about these amazing animals.","English",24.6,18.45,"598.8","24 pp.","https://www.garethstevens.com/9781433982071",null,{"$f":"Table1[[#This Row],[QTY]]*Table1[[#This Row],['# Books]]","v":0},{"$f":"Table1[[#This Row],[QTY]]*Table1[[#This Row],[S&L Price]]","v":0}]
[null,12,20,"Animal Groups",1,"A Penguin Colony","Library Bound Book",null,"978-1-4339-8209-5",{"$f":"HYPERLINK(Table1[[#This Row],[eCommerce Hyperlink]],\"Book Weblink\")","v":"Book Weblink"},null,"2013","January 2013","Library","7.000 X 7.000","Author","Autumn Leigh","3.3","0.5","16","15","I","660L","Grade 1 - 2","Grade 1 - 3","Life in the Southern Hemisphere is bitterly cold for most penguins, but they don’t seem to mind. Most penguins live in large colonies on the coast of Antarctica or on nearby islands. Readers explore penguin colonies for themselves, learning fun facts about these beautiful birds with the help of accessible text. Readers learn how penguin families work together to feed their young and keep them warm. A helpful graphic organizer aids in reader understanding. Readers will enjoy detailed images of penguin species at home in the Antarctic with every turn of the page.","English",24.6,18.45,"598.47","24 pp.","https://www.garethstevens.com/9781433982095",null,{"$f":"Table1[[#This Row],[QTY]]*Table1[[#This Row],['# Books]]","v":0},{"$f":"Table1[[#This Row],[QTY]]*Table1[[#This Row],[S&L Price]]","v":0}]
[null,12,20,"Animal Groups",1,"A Penguin Colony","eBook",null,"978-1-4339-8212-5",{"$f":"HYPERLINK(Table1[[#This Row],[eCommerce Hyperlink]],\"Book Weblink\")","v":"Book Weblink"},null,"2013","January 2013",null,null,"Author","Autumn Leigh","3.3","0.5","16","15","I","660L","Grade 1 - 2","Grade 1 - 3","Life in the Southern Hemisphere is bitterly cold for most penguins, but they don’t seem to mind. Most penguins live in large colonies on the coast of Antarctica or on nearby islands. Readers explore penguin colonies for themselves, learning fun facts about these beautiful birds with the help of accessible text. Readers learn how penguin families work together to feed their young and keep them warm. A helpful graphic organizer aids in reader understanding. Readers will enjoy detailed images of penguin species at home in the Antarctic with every turn of the page.","English",24.6,18.45,"598.47","24 pp.","https://www.garethstevens.com/9781433982125",null,{"$f":"Table1[[#This Row],[QTY]]*Table1[[#This Row],['# Books]]","v":0},{"$f":"Table1[[#This Row],[QTY]]*Table1[[#This Row],[S&L Price]]","v":0}]
[null,12,20,"Animal Groups",1,"A Pod of Dolphins","Library Bound Book",null,"978-1-4339-8214-9",{"$f":"HYPERLINK(Table1[[#This Row],[eCommerce Hyperlink]],\"Book Weblink\")","v":"Book Weblink"},null,"2013","January 2013","Library","7.000 X 7.000","Author","Matthew Fenner","3","0.5","16","15","I","570L","Grade 1 - 2","Grade 1 - 3","Dolphins are one of Earth’s smartest and friendliest wild animals. They live together in groups called pods, which can include just two dolphins or hundreds of them. Readers discover what life in a pod is like through fun facts. Dolphins form friendships that last for a lifetime, and readers see bright photographs of dolphins in the water among their friends. Accessible text, colorful photographs, and an eye-catching graphic organizer guide readers as they independently explore exciting information about these popular animals.","English",24.6,18.45,"599.53","24 pp.","https://www.garethstevens.com/9781433982149",null,{"$f":"Table1[[#This Row],[QTY]]*Table1[[#This Row],['# Books]]","v":0},{"$f":"Table1[[#This Row],[QTY]]*Table1[[#This Row],[S&L Price]]","v":0}]
[null,12,20,"Animal Groups",1,"A Pod of Dolphins","eBook",null,"978-1-4339-8217-0",{"$f":"HYPERLINK(Table1[[#This Row],[eCommerce Hyperlink]],\"Book Weblink\")","v":"Book Weblink"},null,"2013","January 2013",null,null,"Author","Matthew Fenner","3","0.5","16","15","I","570L","Grade 1 - 2","Grade 1 - 3","Dolphins are one of Earth’s smartest and friendliest wild animals. They live together in groups called pods, which can include just two dolphins or hundreds of them. Readers discover what life in a pod is like through fun facts. Dolphins form friendships that last for a lifetime, and readers see bright photographs of dolphins in the water among their friends. Accessible text, colorful photographs, and an eye-catching graphic organizer guide readers as they independently explore exciting information about these popular animals.","English",24.6,18.45,"599.53","24 pp.","https://www.garethstevens.com/9781433982170",null,{"$f":"Table1[[#This Row],[QTY]]*Table1[[#This Row],['# Books]]","v":0},{"$f":"Table1[[#This Row],[QTY]]*Table1[[#This Row],[S&L Price]]","v":0}]
[null,12,20,"Animal Groups",1,"A Prickle of Porcupines","Library Bound Book",null,"978-1-4339-8219-4",{"$f":"HYPERLINK(Table1[[#This Row],[eCommerce Hyperlink]],\"Book Weblink\")","v":"Book Weblink"},null,"2013","January 2013","Library","7.000 X 7.000","Author","Lincoln James","2.8","0.5","18","17","J","550L","Grade 1 - 2","Grade 1 - 3","Porcupines are brown, prickly, and climb trees. Readers explore life in a group of porcupines inside the pages of this educational and enjoyable book. When a group of porcupines gets together, they’re called a prickle. Porcupines often have a bad reputation as dangerous creatures, but they usually just want to be left alone. Thanks to numerous eye-catching photographs, readers get closer to porcupines than ever before. They also learn fascinating facts about prickles of porcupines through accessible text and a helpful graphic organizer.","English",24.6,18.45,"599.35","24 pp.","https://www.garethstevens.com/9781433982194",null,{"$f":"Table1[[#This Row],[QTY]]*Table1[[#This Row],['# Books]]","v":0},{"$f":"Table1[[#This Row],[QTY]]*Table1[[#This Row],[S&L Price]]","v":0}]
[null,12,20,"Animal Groups",1,"A Prickle of Porcupines","eBook",null,"978-1-4339-8222-4",{"$f":"HYPERLINK(Table1[[#This Row],[eCommerce Hyperlink]],\"Book Weblink\")","v":"Book Weblink"},null,"2013","January 2013",null,null,"Author","Lincoln James","2.8","0.5","18","17","J","550L","Grade 1 - 2","Grade 1 - 3","Porcupines are brown, prickly, and climb trees. Readers explore life in a group of porcupines inside the pages of this educational and enjoyable book. When a group of porcupines gets together, they’re called a prickle. Porcupines often have a bad reputation as dangerous creatures, but they usually just want to be left alone. Thanks to numerous eye-catching photographs, readers get closer to porcupines than ever before. They also learn fascinating facts about prickles of porcupines through accessible text and a helpful graphic organizer.","English",24.6,18.45,"599.35","24 pp.","https://www.garethstevens.com/9781433982224",null,{"$f":"Table1[[#This Row],[QTY]]*Table1[[#This Row],['# Books]]","v":0},{"$f":"Table1[[#This Row],[QTY]]*Table1[[#This Row],[S&L Price]]","v":0}]
[null,null,21,"Animals Without Brains!",6,"Animals Without Brains!","Library Set",null,"978-1-5382-4894-2",{"$f":"HYPERLINK(Table1[[#This Row],[eCommerce Hyperlink]],\"Book Weblink\")","v":"Book Weblink"},null,"2020","January 2020","Library","7.000 X 7.000",null,null,null,null,null,null,null,null,"Grade 1 - 2","Grade 1 - 3","What happens to a creature that doesn't have a brain? How does it survive? As it turns out, there are many animals that do without brains! This set tempts young readers with exciting facts about these animals who do things just a bit differently. Focusing on invertebrates from stinging jellyfish to regenerating sea stars, this set examines \"brainless\" animal life cycles and what features each animal has that help it survive. Features include: Awe-inspiring and high-interest facts about these unique animals will engage readers of all levels. Bright, full-color photographs will appeal especially to young readers. At-level language helps readers understand key scientific concepts.","English",141.6,106.2,null,"24 pp.","https://www.garethstevens.com/9781538248942",null,{"$f":"Table1[[#This Row],[QTY]]*Table1[[#This Row],['# Books]]","v":0},{"$f":"Table1[[#This Row],[QTY]]*Table1[[#This Row],[S&L Price]]","v":0}]
[null,null,21,"Animals Without Brains!",1,"Corals Are Brainless!","Library Bound Book",null,"978-1-5382-4580-4",{"$f":"HYPERLINK(Table1[[#This Row],[eCommerce Hyperlink]],\"Book Weblink\")","v":"Book Weblink"},null,"2020","January 2020","Library","7.000 X 7.000","Author","Amanda Vink","3.6","0.5",null,null,"H",null,"Grade 1 - 2","Grade 1 - 3","Coral reefs are homes to some of the most biologically diverse areas of the world, and they are the spawning place of a vast number of marine creatures. They prevent damage to coastlines and provide nitrogen for many marine food chains. Without brains, corals, the builders of coral reefs, create these lush environments. An entertaining narrative and beautiful full-color images help readers explore the life cycle and interesting features of these invertebrates.","English",23.6,17.7,"593.6--dc23","24 pp.","https://www.garethstevens.com/9781538245804",null,{"$f":"Table1[[#This Row],[QTY]]*Table1[[#This Row],['# Books]]","v":0},{"$f":"Table1[[#This Row],[QTY]]*Table1[[#This Row],[S&L Price]]","v":0}]
[null,null,21,"Animals Without Brains!",1,"Corals Are Brainless!","eBook",null,"978-1-5382-4581-1",{"$f":"HYPERLINK(Table1[[#This Row],[eCommerce Hyperlink]],\"Book Weblink\")","v":"Book Weblink"},null,"2020","January 2020",null,null,"Author","Amanda Vink","3.6","0.5",null,null,"H",null,"Grade 1 - 2","Grade 1 - 3","Coral reefs are homes to some of the most biologically diverse areas of the world, and they are the spawning place of a vast number of marine creatures. They prevent damage to coastlines and provide nitrogen for many marine food chains. Without brains, corals, the builders of coral reefs, create these lush environments. An entertaining narrative and beautiful full-color images help readers explore the life cycle and interesting features of these invertebrates.","English",23.6,17.7,"593.6--dc23","24 pp.","https://www.garethstevens.com/9781538245811",null,{"$f":"Table1[[#This Row],[QTY]]*Table1[[#This Row],['# Books]]","v":0},{"$f":"Table1[[#This Row],[QTY]]*Table1[[#This Row],[S&L Price]]","v":0}]
[null,null,21,"Animals Without Brains!",1,"Jellyfish Are Brainless!","Library Bound Book",null,"978-1-5382-4584-2",{"$f":"HYPERLINK(Table1[[#This Row],[eCommerce Hyperlink]],\"Book Weblink\")","v":"Book Weblink"},null,"2020","January 2020","Library","7.000 X 7.000","Author","Amanda Vink","3.5","0.5",null,null,"H",null,"Grade 1 - 2","Grade 1 - 3","Jellyfish are the often transparent, graceful creatures that float beautifully across the sea. Readers can try, but they're not going to find a brain in any jellyfish. They don't have spinal cords or bones either. This book explores how jellyfish survive and the parts they have that have allowed them to spread to oceans all over the world. With full-color pictures and amusing language, this book will engage the budding marine enthusiast and avid beach-goer.","English",23.6,17.7,"593.5/3--dc23","24 pp.","https://www.garethstevens.com/9781538245842",null,{"$f":"Table1[[#This Row],[QTY]]*Table1[[#This Row],['# Books]]","v":0},{"$f":"Table1[[#This Row],[QTY]]*Table1[[#This Row],[S&L Price]]","v":0}]
[null,null,21,"Animals Without Brains!",1,"Jellyfish Are Brainless!","eBook",null,"978-1-5382-4585-9",{"$f":"HYPERLINK(Table1[[#This Row],[eCommerce Hyperlink]],\"Book Weblink\")","v":"Book Weblink"},null,"2020","January 2020",null,null,"Author","Amanda Vink","3.5","0.5",null,null,"H",null,"Grade 1 - 2","Grade 1 - 3","Jellyfish are the often transparent, graceful creatures that float beautifully across the sea. Readers can try, but they're not going to find a brain in any jellyfish. They don't have spinal cords or bones either. This book explores how jellyfish survive and the parts they have that have allowed them to spread to oceans all over the world. With full-color pictures and amusing language, this book will engage the budding marine enthusiast and avid beach-goer.","English",23.6,17.7,"593.5/3--dc23","24 pp.","https://www.garethstevens.com/9781538245859",null,{"$f":"Table1[[#This Row],[QTY]]*Table1[[#This Row],['# Books]]","v":0},{"$f":"Table1[[#This Row],[QTY]]*Table1[[#This Row],[S&L Price]]","v":0}]
[null,null,21,"Animals Without Brains!",1,"Sea Anemones Are Brainless!","Library Bound Book",null,"978-1-5382-4588-0",{"$f":"HYPERLINK(Table1[[#This Row],[eCommerce Hyperlink]],\"Book Weblink\")","v":"Book Weblink"},null,"2020","January 2020","Library","7.000 X 7.000","Author","Amanda Vink","3.5","0.5",null,null,"H",null,"Grade 1 - 2","Grade 1 - 3","Over 1,000 species of sea anemone live at different depths of the world's oceans, and readers will be surprised to learn they all function without brains. Like other invertebrates, sea anemones use a simple nervous system to navigate the waters around them. This book examines this invertebrate's life cycle as well as some of the characteristics that make sea anemones so unique, for example their symbiotic relationship with clownfish. This is the perfect books for kids who are fascinated by nature's wonders.","English",23.6,17.7,"593.6--dc23","24 pp.","https://www.garethstevens.com/9781538245880",null,{"$f":"Table1[[#This Row],[QTY]]*Table1[[#This Row],['# Books]]","v":0},{"$f":"Table1[[#This Row],[QTY]]*Table1[[#This Row],[S&L Price]]","v":0}]
[null,null,21,"Animals Without Brains!",1,"Sea Anemones Are Brainless!","eBook",null,"978-1-5382-4589-7",{"$f":"HYPERLINK(Table1[[#This Row],[eCommerce Hyperlink]],\"Book Weblink\")","v":"Book Weblink"},null,"2020","January 2020",null,null,"Author","Amanda Vink","3.5","0.5",null,null,"H",null,"Grade 1 - 2","Grade 1 - 3","Over 1,000 species of sea anemone live at different depths of the world's oceans, and readers will be surprised to learn they all function without brains. Like other invertebrates, sea anemones use a simple nervous system to navigate the waters around them. This book examines this invertebrate's life cycle as well as some of the characteristics that make sea anemones so unique, for example their symbiotic relationship with clownfish. This is the perfect books for kids who are fascinated by nature's wonders.","English",23.6,17.7,"593.6--dc23","24 pp.","https://www.garethstevens.com/9781538245897",null,{"$f":"Table1[[#This Row],[QTY]]*Table1[[#This Row],['# Books]]","v":0},{"$f":"Table1[[#This Row],[QTY]]*Table1[[#This Row],[S&L Price]]","v":0}]
[null,null,21,"Animals Without Brains!",1,"Sea Cucumbers Are Brainless!","Library Bound Book",null,"978-1-5382-4592-7",{"$f":"HYPERLINK(Table1[[#This Row],[eCommerce Hyperlink]],\"Book Weblink\")","v":"Book Weblink"},null,"2020","January 2020","Library","7.000 X 7.000","Author","Amanda Vink","3.6","0.5",null,null,"H",null,"Grade 1 - 2","Grade 1 - 3","The body of a sea cucumber doesn't have many parts. Yet sea cucumbers help to clean the world's ocean floors and even help to reduce the effects of global warming. They do all of this without a brain. Exploring the life cycle of this invertebrate, this book covers some of the odd qualities of a sea cucumber, including the ability to expel part of its own intestine in order to escape predators. Sea cucumber abilities will boggle your readers' minds.","English",23.6,17.7,"593.9/6--dc23","24 pp.","https://www.garethstevens.com/9781538245927",null,{"$f":"Table1[[#This Row],[QTY]]*Table1[[#This Row],['# Books]]","v":0},{"$f":"Table1[[#This Row],[QTY]]*Table1[[#This Row],[S&L Price]]","v":0}]
[null,null,21,"Animals Without Brains!",1,"Sea Cucumbers Are Brainless!","eBook",null,"978-1-5382-4593-4",{"$f":"HYPERLINK(Table1[[#This Row],[eCommerce Hyperlink]],\"Book Weblink\")","v":"Book Weblink"},null,"2020","January 2020",null,null,"Author","Amanda Vink","3.6","0.5",null,null,"H",null,"Grade 1 - 2","Grade 1 - 3","The body of a sea cucumber doesn't have many parts. Yet sea cucumbers help to clean the world's ocean floors and even help to reduce the effects of global warming. They do all of this without a brain. Exploring the life cycle of this invertebrate, this book covers some of the odd qualities of a sea cucumber, including the ability to expel part of its own intestine in order to escape predators. Sea cucumber abilities will boggle your readers' minds.","English",23.6,17.7,"593.9/6--dc23","24 pp.","https://www.garethstevens.com/9781538245934",null,{"$f":"Table1[[#This Row],[QTY]]*Table1[[#This Row],['# Books]]","v":0},{"$f":"Table1[[#This Row],[QTY]]*Table1[[#This Row],[S&L Price]]","v":0}]
[null,null,21,"Animals Without Brains!",1,"Sea Stars Are Brainless!","Library Bound Book",null,"978-1-5382-4596-5",{"$f":"HYPERLINK(Table1[[#This Row],[eCommerce Hyperlink]],\"Book Weblink\")","v":"Book Weblink"},null,"2020","January 2020","Library","7.000 X 7.000","Author","Amanda Vink","3.5","0.5",null,null,"H",null,"Grade 1 - 2","Grade 1 - 3","Sea stars are well known for their ability to regenerate their arms. What's less apparent is that they accomplish this task without a brain. This book focuses on the sea star's simple nervous system, and it explores some of the interesting things a sea star does without a brain. Readers will be enthralled to learn that a sea star pushes its stomach outside of its body in order to consume its prey. It's a no-brainer that young scientists will be fascinated with this learning experience.","English",23.6,17.7,"593.9/3--dc23","24 pp.","https://www.garethstevens.com/9781538245965",null,{"$f":"Table1[[#This Row],[QTY]]*Table1[[#This Row],['# Books]]","v":0},{"$f":"Table1[[#This Row],[QTY]]*Table1[[#This Row],[S&L Price]]","v":0}]
[null,null,21,"Animals Without Brains!",1,"Sea Stars Are Brainless!","eBook",null,"978-1-5382-4597-2",{"$f":"HYPERLINK(Table1[[#This Row],[eCommerce Hyperlink]],\"Book Weblink\")","v":"Book Weblink"},null,"2020","January 2020",null,null,"Author","Amanda Vink","3.5","0.5",null,null,"H",null,"Grade 1 - 2","Grade 1 - 3","Sea stars are well known for their ability to regenerate their arms. What's less apparent is that they accomplish this task without a brain. This book focuses on the sea star's simple nervous system, and it explores some of the interesting things a sea star does without a brain. Readers will be enthralled to learn that a sea star pushes its stomach outside of its body in order to consume its prey. It's a no-brainer that young scientists will be fascinated with this learning experience.","English",23.6,17.7,"593.9/3--dc23","24 pp.","https://www.garethstevens.com/9781538245972",null,{"$f":"Table1[[#This Row],[QTY]]*Table1[[#This Row],['# Books]]","v":0},{"$f":"Table1[[#This Row],[QTY]]*Table1[[#This Row],[S&L Price]]","v":0}]
[null,null,21,"Animals Without Brains!",1,"Sea Urchins Are Brainless!","Library Bound Book",null,"978-1-5382-4600-9",{"$f":"HYPERLINK(Table1[[#This Row],[eCommerce Hyperlink]],\"Book Weblink\")","v":"Book Weblink"},null,"2020","January 2020","Library","7.000 X 7.000","Author","Amanda Vink","3.9","0.5",null,null,"H",null,"Grade 1 - 2","Grade 1 - 3","Sea urchins don't have brains, and yet sea urchin bodies are well-developed to detect the environment. This book explores body parts sea urchins use instead, including an interior water pump that allows the creatures to move about and hold on to food. Fun and bizarre facts are spread throughout the narrative, like how a sea urchin turns itself inside out upon growing into its adult stage. Young readers will be delighted by these ocean creatures.","English",23.6,17.7,"593.9/5--dc23","24 pp.","https://www.garethstevens.com/9781538246009",null,{"$f":"Table1[[#This Row],[QTY]]*Table1[[#This Row],['# Books]]","v":0},{"$f":"Table1[[#This Row],[QTY]]*Table1[[#This Row],[S&L Price]]","v":0}]
[null,null,21,"Animals Without Brains!",1,"Sea Urchins Are Brainless!","eBook",null,"978-1-5382-4601-6",{"$f":"HYPERLINK(Table1[[#This Row],[eCommerce Hyperlink]],\"Book Weblink\")","v":"Book Weblink"},null,"2020","January 2020",null,null,"Author","Amanda Vink","3.9","0.5",null,null,"H",null,"Grade 1 - 2","Grade 1 - 3","Sea urchins don't have brains, and yet sea urchin bodies are well-developed to detect the environment. This book explores body parts sea urchins use instead, including an interior water pump that allows the creatures to move about and hold on to food. Fun and bizarre facts are spread throughout the narrative, like how a sea urchin turns itself inside out upon growing into its adult stage. Young readers will be delighted by these ocean creatures.","English",23.6,17.7,"593.9/5--dc23","24 pp.","https://www.garethstevens.com/9781538246016",null,{"$f":"Table1[[#This Row],[QTY]]*Table1[[#This Row],['# Books]]","v":0},{"$f":"Table1[[#This Row],[QTY]]*Table1[[#This Row],[S&L Price]]","v":0}]
[null,null,21,"The Scoop on Poop!",6,"The Scoop on Poop!","Library Set",null,"978-1-5382-2958-3",{"$f":"HYPERLINK(Table1[[#This Row],[eCommerce Hyperlink]],\"Book Weblink\")","v":"Book Weblink"},null,"2020","August 2019","Library","7.000 X 7.000",null,null,null,null,null,null,null,null,"Grade 1 - 2","Grade 1 - 3","Just the word \"poop\" makes most people giggle, but excrement is a fact of life. Actually, it's a fact of all animal life. In this highly entertaining set, readers will be delighted to learn how to spot and identify the scat of animals. While they're on the trail of appealing creatures such as bats and bears, they'll learn more about them, their habitats, and the biological processes that make poop possible. Each attractive volume is full of helpful photographs, science vocabulary, and engaging text. Features include: Encourages an interest in wildlife and natural surroundings. At-level text used to explain essential science concepts. High-interest topic will appeal to emerging readers. Comprehension of science texts is a benchmark of the English Language Arts Common Core.","English",141.6,106.2,null,"24 pp.","https://www.garethstevens.com/9781538229583",null,{"$f":"Table1[[#This Row],[QTY]]*Table1[[#This Row],['# Books]]","v":0},{"$f":"Table1[[#This Row],[QTY]]*Table1[[#This Row],[S&L Price]]","v":0}]
[null,null,21,"The Scoop on Poop!",1,"Canada Goose Poop or Duck Poop?","Library Bound Book",null,"978-1-5382-2952-1",{"$f":"HYPERLINK(Table1[[#This Row],[eCommerce Hyperlink]],\"Book Weblink\")","v":"Book Weblink"},null,"2020","August 2019","Library","7.000 X 7.000","Author","Colin Matthews",null,null,null,null,"J",null,"Grade 1 - 2","Grade 1 - 3","It might not be too hard to tell the difference between a Canada goose and a duck, but distinguishing between their feces is a little trickier. Budding animal trackers can use this fun guide to figure out which is which. Through engaging text and striking photographs, they'll also learn some important facts about each animal, including their habitats and behaviors. This winning volume is a must-read for every animal collection.","English",23.6,17.7,"598.4/178--dc23","24 pp.","https://www.garethstevens.com/9781538229521",null,{"$f":"Table1[[#This Row],[QTY]]*Table1[[#This Row],['# Books]]","v":0},{"$f":"Table1[[#This Row],[QTY]]*Table1[[#This Row],[S&L Price]]","v":0}]
[null,null,21,"The Scoop on Poop!",1,"Canada Goose Poop or Duck Poop?","eBook",null,"978-1-5382-3335-1",{"$f":"HYPERLINK(Table1[[#This Row],[eCommerce Hyperlink]],\"Book Weblink\")","v":"Book Weblink"},null,"2020","August 2019",null,null,"Author","Colin Matthews",null,null,null,null,"J",null,"Grade 1 - 2","Grade 1 - 3","It might not be too hard to tell the difference between a Canada goose and a duck, but distinguishing between their feces is a little trickier. Budding animal trackers can use this fun guide to figure out which is which. Through engaging text and striking photographs, they'll also learn some important facts about each animal, including their habitats and behaviors. This winning volume is a must-read for every animal collection.","English",23.6,17.7,"598.4/178--dc23","24 pp.","https://www.garethstevens.com/9781538233351",null,{"$f":"Table1[[#This Row],[QTY]]*Table1[[#This Row],['# Books]]","v":0},{"$f":"Table1[[#This Row],[QTY]]*Table1[[#This Row],[S&L Price]]","v":0}]
[null,null,21,"The Scoop on Poop!",1,"Cat Poop or Rabbit Poop?","Library Bound Book",null,"978-1-5382-2953-8",{"$f":"HYPERLINK(Table1[[#This Row],[eCommerce Hyperlink]],\"Book Weblink\")","v":"Book Weblink"},null,"2020","August 2019","Library","7.000 X 7.000","Author","Colin Matthews",null,null,null,null,"I",null,"Grade 1 - 2","Grade 1 - 3","Animal tracking is a hobby of many nature lovers. Tracking successfully means not only learning to identify footprints, but also animal excrement. This entertaining book focuses on two high-interest animals, cats and rabbits, and explains biological facts about each, including what their poop looks like. Vivid photographs and bright text will make this a favorite read for animal fans of all reading levels.","English",23.6,17.7,"636.8--dc23","24 pp.","https://www.garethstevens.com/9781538229538",null,{"$f":"Table1[[#This Row],[QTY]]*Table1[[#This Row],['# Books]]","v":0},{"$f":"Table1[[#This Row],[QTY]]*Table1[[#This Row],[S&L Price]]","v":0}]
[null,null,21,"The Scoop on Poop!",1,"Cat Poop or Rabbit Poop?","eBook",null,"978-1-5382-3338-2",{"$f":"HYPERLINK(Table1[[#This Row],[eCommerce Hyperlink]],\"Book Weblink\")","v":"Book Weblink"},null,"2020","August 2019",null,null,"Author","Colin Matthews",null,null,null,null,"I",null,"Grade 1 - 2","Grade 1 - 3","Animal tracking is a hobby of many nature lovers. Tracking successfully means not only learning to identify footprints, but also animal excrement. This entertaining book focuses on two high-interest animals, cats and rabbits, and explains biological facts about each, including what their poop looks like. Vivid photographs and bright text will make this a favorite read for animal fans of all reading levels.","English",23.6,17.7,"636.8--dc23","24 pp.","https://www.garethstevens.com/9781538233382",null,{"$f":"Table1[[#This Row],[QTY]]*Table1[[#This Row],['# Books]]","v":0},{"$f":"Table1[[#This Row],[QTY]]*Table1[[#This Row],[S&L Price]]","v":0}]
[null,null,21,"The Scoop on Poop!",1,"Deer Poop or Bear Poop?","Library Bound Book",null,"978-1-5382-2954-5",{"$f":"HYPERLINK(Table1[[#This Row],[eCommerce Hyperlink]],\"Book Weblink\")","v":"Book Weblink"},null,"2020","August 2019","Library","7.000 X 7.000","Author","George Fittleworth",null,null,null,null,"I",null,"Grade 1 - 2","Grade 1 - 3","Attention all hikers: Knowing the difference between deer and bear droppings could be lifesaving! Luckily, this entertaining volume helps young nature enthusiasts identify both kinds of excrement, and presents many appealing facts about these marvelous mammals. The high-interest topic is explained with significant science terms that will aid young readers in further explorations of other kinds of animals.","English",23.6,17.7,"599.65--dc23","24 pp.","https://www.garethstevens.com/9781538229545",null,{"$f":"Table1[[#This Row],[QTY]]*Table1[[#This Row],['# Books]]","v":0},{"$f":"Table1[[#This Row],[QTY]]*Table1[[#This Row],[S&L Price]]","v":0}]
[null,null,21,"The Scoop on Poop!",1,"Deer Poop or Bear Poop?","eBook",null,"978-1-5382-3341-2",{"$f":"HYPERLINK(Table1[[#This Row],[eCommerce Hyperlink]],\"Book Weblink\")","v":"Book Weblink"},null,"2020","August 2019",null,null,"Author","George Fittleworth",null,null,null,null,"I",null,"Grade 1 - 2","Grade 1 - 3","Attention all hikers: Knowing the difference between deer and bear droppings could be lifesaving! Luckily, this entertaining volume helps young nature enthusiasts identify both kinds of excrement, and presents many appealing facts about these marvelous mammals. The high-interest topic is explained with significant science terms that will aid young readers in further explorations of other kinds of animals.","English",23.6,17.7,"599.65--dc23","24 pp.","https://www.garethstevens.com/9781538233412",null,{"$f":"Table1[[#This Row],[QTY]]*Table1[[#This Row],['# Books]]","v":0},{"$f":"Table1[[#This Row],[QTY]]*Table1[[#This Row],[S&L Price]]","v":0}]
[null,null,21,"The Scoop on Poop!",1,"Dog Poop or Fox Poop?","Library Bound Book",null,"978-1-5382-2955-2",{"$f":"HYPERLINK(Table1[[#This Row],[eCommerce Hyperlink]],\"Book Weblink\")","v":"Book Weblink"},null,"2020","August 2019","Library","7.000 X 7.000","Author","George Fittleworth",null,null,null,null,"I",null,"Grade 1 - 2","Grade 1 - 3","Animal scat, or poop, can tell an observer not only what kind of animal created it but also what it has been eating. Animal experts pride themselves on identifying stool samples. With this fascinating book, readers can become scat experts as they learn to distinguish dog droppings from fox droppings. They'll learn important points about each animal's behaviors and other essential adaptations, supporting valuable concepts in the elementary science curriculum.","English",23.6,17.7,"636.7--dc23","24 pp.","https://www.garethstevens.com/9781538229552",null,{"$f":"Table1[[#This Row],[QTY]]*Table1[[#This Row],['# Books]]","v":0},{"$f":"Table1[[#This Row],[QTY]]*Table1[[#This Row],[S&L Price]]","v":0}]
[null,null,21,"The Scoop on Poop!",1,"Dog Poop or Fox Poop?","eBook",null,"978-1-5382-3344-3",{"$f":"HYPERLINK(Table1[[#This Row],[eCommerce Hyperlink]],\"Book Weblink\")","v":"Book Weblink"},null,"2020","August 2019",null,null,"Author","George Fittleworth",null,null,null,null,"I",null,"Grade 1 - 2","Grade 1 - 3","Animal scat, or poop, can tell an observer not only what kind of animal created it but also what it has been eating. Animal experts pride themselves on identifying stool samples. With this fascinating book, readers can become scat experts as they learn to distinguish dog droppings from fox droppings. They'll learn important points about each animal's behaviors and other essential adaptations, supporting valuable concepts in the elementary science curriculum.","English",23.6,17.7,"636.7--dc23","24 pp.","https://www.garethstevens.com/9781538233443",null,{"$f":"Table1[[#This Row],[QTY]]*Table1[[#This Row],['# Books]]","v":0},{"$f":"Table1[[#This Row],[QTY]]*Table1[[#This Row],[S&L Price]]","v":0}]
[null,null,21,"The Scoop on Poop!",1,"Horse Poop or Cow Poop?","Library Bound Book",null,"978-1-5382-2956-9",{"$f":"HYPERLINK(Table1[[#This Row],[eCommerce Hyperlink]],\"Book Weblink\")","v":"Book Weblink"},null,"2020","August 2019","Library","7.000 X 7.000","Author","Colin Matthews",null,null,null,null,"J",null,"Grade 1 - 2","Grade 1 - 3","For those who have seen a smelly pile on a farm and wondered who was the culprit, this motivating take on traditional animal books will help them answer that question. It will also have readers giggling, but most importantly, learning some interesting information about horses and cows. They'll discover the kinds of foods each eats and how they spend their days. Beautiful photographs of the animals aid readers in comprehending the inviting text, which is also a great support for the elementary science curriculum.","English",23.6,17.7,"591.4--dc23","24 pp.","https://www.garethstevens.com/9781538229569",null,{"$f":"Table1[[#This Row],[QTY]]*Table1[[#This Row],['# Books]]","v":0},{"$f":"Table1[[#This Row],[QTY]]*Table1[[#This Row],[S&L Price]]","v":0}]
[null,null,21,"The Scoop on Poop!",1,"Horse Poop or Cow Poop?","eBook",null,"978-1-5382-3347-4",{"$f":"HYPERLINK(Table1[[#This Row],[eCommerce Hyperlink]],\"Book Weblink\")","v":"Book Weblink"},null,"2020","August 2019",null,null,"Author","Colin Matthews",null,null,null,null,"J",null,"Grade 1 - 2","Grade 1 - 3","For those who have seen a smelly pile on a farm and wondered who was the culprit, this motivating take on traditional animal books will help them answer that question. It will also have readers giggling, but most importantly, learning some interesting information about horses and cows. They'll discover the kinds of foods each eats and how they spend their days. Beautiful photographs of the animals aid readers in comprehending the inviting text, which is also a great support for the elementary science curriculum.","English",23.6,17.7,"591.4--dc23","24 pp.","https://www.garethstevens.com/9781538233474",null,{"$f":"Table1[[#This Row],[QTY]]*Table1[[#This Row],['# Books]]","v":0},{"$f":"Table1[[#This Row],[QTY]]*Table1[[#This Row],[S&L Price]]","v":0}]
[null,null,21,"The Scoop on Poop!",1,"Mouse Poop or Bat Poop?","Library Bound Book",null,"978-1-5382-2957-6",{"$f":"HYPERLINK(Table1[[#This Row],[eCommerce Hyperlink]],\"Book Weblink\")","v":"Book Weblink"},null,"2020","August 2019","Library","7.000 X 7.000","Author","George Fittleworth",null,null,null,null,"I",null,"Grade 1 - 2","Grade 1 - 3","There are mysterious droppings in the attic! Is it mouse poop or bat poop? In this appealing and educational book, readers are the detectives. They'll uncover clues about the identity of the animal in the attic while learning more about mice and bats, including what they eat and some of their behaviors. They'll apply their knowledge to discover the culprit, all while learning some key elementary science concepts.","English",23.6,17.7,"599.35'3--dc23","24 pp.","https://www.garethstevens.com/9781538229576",null,{"$f":"Table1[[#This Row],[QTY]]*Table1[[#This Row],['# Books]]","v":0},{"$f":"Table1[[#This Row],[QTY]]*Table1[[#This Row],[S&L Price]]","v":0}]
[null,null,21,"The Scoop on Poop!",1,"Mouse Poop or Bat Poop?","eBook",null,"978-1-5382-3350-4",{"$f":"HYPERLINK(Table1[[#This Row],[eCommerce Hyperlink]],\"Book Weblink\")","v":"Book Weblink"},null,"2020","August 2019",null,null,"Author","George Fittleworth",null,null,null,null,"I",null,"Grade 1 - 2","Grade 1 - 3","There are mysterious droppings in the attic! Is it mouse poop or bat poop? In this appealing and educational book, readers are the detectives. They'll uncover clues about the identity of the animal in the attic while learning more about mice and bats, including what they eat and some of their behaviors. They'll apply their knowledge to discover the culprit, all while learning some key elementary science concepts.","English",23.6,17.7,"599.35'3--dc23","24 pp.","https://www.garethstevens.com/9781538233504",null,{"$f":"Table1[[#This Row],[QTY]]*Table1[[#This Row],['# Books]]","v":0},{"$f":"Table1[[#This Row],[QTY]]*Table1[[#This Row],[S&L Price]]","v":0}]
[null,null,22,"Incredible Inventors",6,"Incredible Inventors","Library Set",null,"978-1-5382-8152-9",null,null,"2023","August 2022","Library","7.000 X 7.000",null,null,null,null,null,null,null,null,"Grade 1 - 2","Grade 1 - 3","Modern life would be quite different if not for the innovative ideas of inventors. Ideas were just the start of it though; they needed the wherewithal and determination to fail many times before they succeeded. This set introduces some of the most famous inventors in American history to young readers, including Alexander Graham Bell, Grace Hopper, and Benjamin Franklin. The achievable text covers their early lives leading up to one of their greatest innovations, as well as the story behind it. Historical images complement the biographical content and show readers tools and devices of the past.","English",141.6,106.2,null,"24 pp.","https://www.garethstevens.com/9781538281529",null,{"$f":"Table1[[#This Row],[QTY]]*Table1[[#This Row],['# Books]]","v":0},{"$f":"Table1[[#This Row],[QTY]]*Table1[[#This Row],[S&L Price]]","v":0}]
[null,null,22,"Incredible Inventors",1,"Alexander Graham Bell and the Telephone","Library Bound Book",null,"978-1-5382-7647-1",null,null,"2023","August 2022","Library","7.000 X 7.000","Author","Benjamin Proudfit",null,null,null,null,"J",null,"Grade 1 - 2","Grade 1 - 3","Since the invention of the telephone, there has been controversy over who really invented it: Was it really Alexander Graham Bell? Or was is Elisha Gray—or someone else? But, the U.S. Supreme Court upheld the first patent issued to a design for a telephone, making Alexander Graham Bell the man credited with changing communication forever! Readers learn about the early life that led Bell to invent the telephone as well as his other accomplishments, including the successful Bell Telephone Company. Historical images correlate with age-appropriate text and detail.","English",23.6,17.7,"621.385092","24 pp.","https://www.garethstevens.com/9781538276471",null,{"$f":"Table1[[#This Row],[QTY]]*Table1[[#This Row],['# Books]]","v":0},{"$f":"Table1[[#This Row],[QTY]]*Table1[[#This Row],[S&L Price]]","v":0}]
[null,null,22,"Incredible Inventors",1,"Alexander Graham Bell and the Telephone","eBook",null,"978-1-5382-7648-8",null,null,"2023","August 2022",null,null,"Author","Benjamin Proudfit",null,null,null,null,"J",null,"Grade 1 - 2","Grade 1 - 3","Since the invention of the telephone, there has been controversy over who really invented it: Was it really Alexander Graham Bell? Or was is Elisha Gray—or someone else? But, the U.S. Supreme Court upheld the first patent issued to a design for a telephone, making Alexander Graham Bell the man credited with changing communication forever! Readers learn about the early life that led Bell to invent the telephone as well as his other accomplishments, including the successful Bell Telephone Company. Historical images correlate with age-appropriate text and detail.","English",23.6,17.7,"621.385092","24 pp.","https://www.garethstevens.com/9781538276488","http://www.epointplus.com/embed/9781538276488/?login=cyberrep&password=cyberrep",{"$f":"Table1[[#This Row],[QTY]]*Table1[[#This Row],['# Books]]","v":0},{"$f":"Table1[[#This Row],[QTY]]*Table1[[#This Row],[S&L Price]]","v":0}]
[null,null,22,"Incredible Inventors",1,"Benjamin Franklin and the Lightning Rod","Library Bound Book",null,"978-1-5382-7651-8",null,null,"2023","August 2022","Library","7.000 X 7.000","Author","Benjamin Proudfit",null,null,null,null,"J",null,"Grade 1 - 2","Grade 1 - 3","Benjamin Franklin was a writer, Founding Father, scientist, and inventor! He not only invented new things—like bifocals and the armonica—but also improved on inventions others had made. In this informative volume, readers learn about why and how he invented the lightning rod, including key facts about the kite experiment. Additional relevant information about Franklin’s life shows readers how influential he was in his time and how his legacy lives on today in both inventions and his role in the creation of the young United States.","English",23.6,17.7,"973.3092","24 pp.","https://www.garethstevens.com/9781538276518",null,{"$f":"Table1[[#This Row],[QTY]]*Table1[[#This Row],['# Books]]","v":0},{"$f":"Table1[[#This Row],[QTY]]*Table1[[#This Row],[S&L Price]]","v":0}]
[null,null,22,"Incredible Inventors",1,"Benjamin Franklin and the Lightning Rod","eBook",null,"978-1-5382-7652-5",null,null,"2023","August 2022",null,null,"Author","Benjamin Proudfit",null,null,null,null,"J",null,"Grade 1 - 2","Grade 1 - 3","Benjamin Franklin was a writer, Founding Father, scientist, and inventor! He not only invented new things—like bifocals and the armonica—but also improved on inventions others had made. In this informative volume, readers learn about why and how he invented the lightning rod, including key facts about the kite experiment. Additional relevant information about Franklin’s life shows readers how influential he was in his time and how his legacy lives on today in both inventions and his role in the creation of the young United States.","English",23.6,17.7,"973.3092","24 pp.","https://www.garethstevens.com/9781538276525","http://www.epointplus.com/embed/9781538276525/?login=cyberrep&password=cyberrep",{"$f":"Table1[[#This Row],[QTY]]*Table1[[#This Row],['# Books]]","v":0},{"$f":"Table1[[#This Row],[QTY]]*Table1[[#This Row],[S&L Price]]","v":0}]
[null,null,22,"Incredible Inventors",1,"George Washington Carver and Peanut Products","Library Bound Book",null,"978-1-5382-7655-6",null,null,"2023","August 2022","Library","7.000 X 7.000","Author","Benjamin Proudfit",null,null,null,null,"J",null,"Grade 1 - 2","Grade 1 - 3","George Washington Carver didn’t invent peanut butter—but, he did make it popular! In addition, he found more than 300 other uses for peanuts, including candy, soap, and even medicine. His humble roots as an enslaved person didn’t stop him from becoming a successful agricultural researcher and teacher, introducing crop rotation to the American South and saving the Southern economy when the boll weevil decimated cotton crops. This volume highlights the invention of peanut products in the context of Carver’s extraordinary life for young readers.","English",23.6,17.7,"630.92","24 pp.","https://www.garethstevens.com/9781538276556",null,{"$f":"Table1[[#This Row],[QTY]]*Table1[[#This Row],['# Books]]","v":0},{"$f":"Table1[[#This Row],[QTY]]*Table1[[#This Row],[S&L Price]]","v":0}]
[null,null,22,"Incredible Inventors",1,"George Washington Carver and Peanut Products","eBook",null,"978-1-5382-7656-3",null,null,"2023","August 2022",null,null,"Author","Benjamin Proudfit",null,null,null,null,"J",null,"Grade 1 - 2","Grade 1 - 3","George Washington Carver didn’t invent peanut butter—but, he did make it popular! In addition, he found more than 300 other uses for peanuts, including candy, soap, and even medicine. His humble roots as an enslaved person didn’t stop him from becoming a successful agricultural researcher and teacher, introducing crop rotation to the American South and saving the Southern economy when the boll weevil decimated cotton crops. This volume highlights the invention of peanut products in the context of Carver’s extraordinary life for young readers.","English",23.6,17.7,"630.92","24 pp.","https://www.garethstevens.com/9781538276563","http://www.epointplus.com/embed/9781538276563/?login=cyberrep&password=cyberrep",{"$f":"Table1[[#This Row],[QTY]]*Table1[[#This Row],['# Books]]","v":0},{"$f":"Table1[[#This Row],[QTY]]*Table1[[#This Row],[S&L Price]]","v":0}]
[null,null,22,"Incredible Inventors",1,"Grace Hopper and the Computer","Library Bound Book",null,"978-1-5382-7659-4",null,null,"2023","August 2022","Library","7.000 X 7.000","Author","Benjamin Proudfit",null,null,null,null,"J",null,"Grade 1 - 2","Grade 1 - 3","Grace Hopper was a big part of teams that worked on the earliest computers, including the landmark MARK I and UNIVAC I and II. She developed the compiler and was instrumental in the creation of programming languages that used English words instead of symbols. This innovation made computers and technology much more accessible to everyday people and led to programs, like COBOL, still used today! Readers will be inspired by Hopper’s story, told in age-appropriate detail and with accompanying historical and full-color images.","English",23.6,17.7,"621.39092","24 pp.","https://www.garethstevens.com/9781538276594",null,{"$f":"Table1[[#This Row],[QTY]]*Table1[[#This Row],['# Books]]","v":0},{"$f":"Table1[[#This Row],[QTY]]*Table1[[#This Row],[S&L Price]]","v":0}]
[null,null,22,"Incredible Inventors",1,"Grace Hopper and the Computer","eBook",null,"978-1-5382-7660-0",null,null,"2023","August 2022",null,null,"Author","Benjamin Proudfit",null,null,null,null,"J",null,"Grade 1 - 2","Grade 1 - 3","Grace Hopper was a big part of teams that worked on the earliest computers, including the landmark MARK I and UNIVAC I and II. She developed the compiler and was instrumental in the creation of programming languages that used English words instead of symbols. This innovation made computers and technology much more accessible to everyday people and led to programs, like COBOL, still used today! Readers will be inspired by Hopper’s story, told in age-appropriate detail and with accompanying historical and full-color images.","English",23.6,17.7,"621.39092","24 pp.","https://www.garethstevens.com/9781538276600","http://www.epointplus.com/embed/9781538276600/?login=cyberrep&password=cyberrep",{"$f":"Table1[[#This Row],[QTY]]*Table1[[#This Row],['# Books]]","v":0},{"$f":"Table1[[#This Row],[QTY]]*Table1[[#This Row],[S&L Price]]","v":0}]
[null,null,22,"Incredible Inventors",1,"The Wright Brothers and the Airplane","Library Bound Book",null,"978-1-5382-7667-9",null,null,"2023","August 2022","Library","7.000 X 7.000","Author","Benjamin Proudfit",null,null,null,null,"J",null,"Grade 1 - 2","Grade 1 - 3","In 1903, a beach in Kitty Hawk, North Carolina, became the site of history. There, brother Wilbur and Orville Wright achieved the first powered flight. Others had come before them and flown using gliders. But with their inventions of a lightweight engine and airplane propellers, the Wright brothers started the airplane age. This volume follows their journey to the first powered flight in age-appropriate language and detail. The text is accompanied by historical images and a timeline to aid understanding.","English",23.6,17.7,"629.130092","24 pp.","https://www.garethstevens.com/9781538276679",null,{"$f":"Table1[[#This Row],[QTY]]*Table1[[#This Row],['# Books]]","v":0},{"$f":"Table1[[#This Row],[QTY]]*Table1[[#This Row],[S&L Price]]","v":0}]
[null,null,22,"Incredible Inventors",1,"The Wright Brothers and the Airplane","eBook",null,"978-1-5382-7668-6",null,null,"2023","August 2022",null,null,"Author","Benjamin Proudfit",null,null,null,null,"J",null,"Grade 1 - 2","Grade 1 - 3","In 1903, a beach in Kitty Hawk, North Carolina, became the site of history. There, brother Wilbur and Orville Wright achieved the first powered flight. Others had come before them and flown using gliders. But with their inventions of a lightweight engine and airplane propellers, the Wright brothers started the airplane age. This volume follows their journey to the first powered flight in age-appropriate language and detail. The text is accompanied by historical images and a timeline to aid understanding.","English",23.6,17.7,"629.130092","24 pp.","https://www.garethstevens.com/9781538276686","http://www.epointplus.com/embed/9781538276686/?login=cyberrep&password=cyberrep",{"$f":"Table1[[#This Row],[QTY]]*Table1[[#This Row],['# Books]]","v":0},{"$f":"Table1[[#This Row],[QTY]]*Table1[[#This Row],[S&L Price]]","v":0}]
[null,null,22,"Incredible Inventors",1,"Thomas Edison and the Light Bulb","Library Bound Book",null,"978-1-5382-7663-1",null,null,"2023","August 2022","Library","7.000 X 7.000","Author","Benjamin Proudfit",null,null,null,null,"J",null,"Grade 1 - 2","Grade 1 - 3","Thomas Edison was a brilliant inventor. He received over 1,000 patents throughout his life! But he is, perhaps, best known as the inventor—or more accurately, improver—of the light bulb. What’s more, he developed a system to bring electric light to entire buildings, and then cities! In this succinct volume, readers encounter the genius of Edison’s electric light bulb as well as his early life and other important inventions of his, such as the phonograph. Carefully chosen images complement the achievable text and age-appropriate details.","English",23.6,17.7,"621.3092","24 pp.","https://www.garethstevens.com/9781538276631",null,{"$f":"Table1[[#This Row],[QTY]]*Table1[[#This Row],['# Books]]","v":0},{"$f":"Table1[[#This Row],[QTY]]*Table1[[#This Row],[S&L Price]]","v":0}]
[null,null,22,"Incredible Inventors",1,"Thomas Edison and the Light Bulb","eBook",null,"978-1-5382-7664-8",null,null,"2023","August 2022",null,null,"Author","Benjamin Proudfit",null,null,null,null,"J",null,"Grade 1 - 2","Grade 1 - 3","Thomas Edison was a brilliant inventor. He received over 1,000 patents throughout his life! But he is, perhaps, best known as the inventor—or more accurately, improver—of the light bulb. What’s more, he developed a system to bring electric light to entire buildings, and then cities! In this succinct volume, readers encounter the genius of Edison’s electric light bulb as well as his early life and other important inventions of his, such as the phonograph. Carefully chosen images complement the achievable text and age-appropriate details.","English",23.6,17.7,"621.3092","24 pp.","https://www.garethstevens.com/9781538276648","http://www.epointplus.com/embed/9781538276648/?login=cyberrep&password=cyberrep",{"$f":"Table1[[#This Row],[QTY]]*Table1[[#This Row],['# Books]]","v":0},{"$f":"Table1[[#This Row],[QTY]]*Table1[[#This Row],[S&L Price]]","v":0}]
[null,null,23,"Little Biographies of Big People",18,"Little Biographies of Big People: Sets 1 – 3","Library Set",null,"978-1-5382-2947-7",{"$f":"HYPERLINK(Table1[[#This Row],[eCommerce Hyperlink]],\"Book Weblink\")","v":"Book Weblink"},null,"2019","January 2019","Library","7.000 X 7.000",null,null,null,null,null,null,null,null,"Grade 1 - 2","Grade 1 - 3","Even young readers know the names of people in the news and historical figures. This ongoing series is a great answer to the many questions they may have about the people they hear about! From Hillary Clinton and Eleanor Roosevelt to Mohandas Ghandi and Thomas Edison, these biographies introduce important figures from history and today in age-appropriate language and content. Including facts about each person's young life as well as their major achievements, this series is an excellent way to engage curious young readers with history. Features include: Each book includes a famous quote from the subject. Highlights the changemakers of our time and of the past to inspire readers. Includes people of diverse backgrounds to introduce readers to other cultures.","English",424.8,318.60000000000002,null,"24 pp.","https://www.garethstevens.com/9781538229477",null,{"$f":"Table1[[#This Row],[QTY]]*Table1[[#This Row],['# Books]]","v":0},{"$f":"Table1[[#This Row],[QTY]]*Table1[[#This Row],[S&L Price]]","v":0}]
[null,null,23,"Little Biographies of Big People",1,"Beethoven","Library Bound Book",null,"978-1-5382-2892-0",{"$f":"HYPERLINK(Table1[[#This Row],[eCommerce Hyperlink]],\"Book Weblink\")","v":"Book Weblink"},null,"2019","January 2019","Library","7.000 X 7.000","Author","Joan Stoltman","3.4","0.5",null,null,"I",null,"Grade 1 - 2","Grade 1 - 3","If you ask people to name an amazing musical composer, chances are Beethoven's name will come up. Widely thought to be the greatest composer in history, Beethoven's work influenced music around the world. This exciting volume teaches readers the fascinating story behind his life, and includes colorful images and engaging text to capture and hold their attention. This high-interest biography is sure to encourage an interest in both music and history, making for an excellent addition to any library.","English",23.6,17.7,"780.92--dc23","24 pp.","https://www.garethstevens.com/9781538228920",null,{"$f":"Table1[[#This Row],[QTY]]*Table1[[#This Row],['# Books]]","v":0},{"$f":"Table1[[#This Row],[QTY]]*Table1[[#This Row],[S&L Price]]","v":0}]
[null,null,23,"Little Biographies of Big People",1,"Beethoven","eBook",null,"978-1-5382-2990-3",{"$f":"HYPERLINK(Table1[[#This Row],[eCommerce Hyperlink]],\"Book Weblink\")","v":"Book Weblink"},null,"2019","January 2019",null,null,"Author","Joan Stoltman","3.4","0.5",null,null,"I",null,"Grade 1 - 2","Grade 1 - 3","If you ask people to name an amazing musical composer, chances are Beethoven's name will come up. Widely thought to be the greatest composer in history, Beethoven's work influenced music around the world. This exciting volume teaches readers the fascinating story behind his life, and includes colorful images and engaging text to capture and hold their attention. This high-interest biography is sure to encourage an interest in both music and history, making for an excellent addition to any library.","English",23.6,17.7,"780.92--dc23","24 pp.","https://www.garethstevens.com/9781538229903",null,{"$f":"Table1[[#This Row],[QTY]]*Table1[[#This Row],['# Books]]","v":0},{"$f":"Table1[[#This Row],[QTY]]*Table1[[#This Row],[S&L Price]]","v":0}]
[null,null,23,"Little Biographies of Big People",1,"Dwayne Johnson","Library Bound Book",null,"978-1-5382-2893-7",{"$f":"HYPERLINK(Table1[[#This Row],[eCommerce Hyperlink]],\"Book Weblink\")","v":"Book Weblink"},null,"2019","January 2019","Library","7.000 X 7.000","Author","Joan Stoltman","3.3","0.5",null,null,"I",null,"Grade 1 - 2","Grade 1 - 3","Today, Dwayne Johnson, also known as The Rock, can be recognized for the many movies and TV shows he's appeared in, but not too long ago he was better known for his wrestling skills. In this captivating volume, readers follow along with the star's journey and see how he successfully transitioned from athlete to actor. This high-interest biography includes colorful photographs paired with age-appropriate text, and is sure to engage readers of all ages.","English",23.6,17.7,"796.812092--dc23","24 pp.","https://www.garethstevens.com/9781538228937",null,{"$f":"Table1[[#This Row],[QTY]]*Table1[[#This Row],['# Books]]","v":0},{"$f":"Table1[[#This Row],[QTY]]*Table1[[#This Row],[S&L Price]]","v":0}]
[null,null,23,"Little Biographies of Big People",1,"Dwayne Johnson","eBook",null,"978-1-5382-2991-0",{"$f":"HYPERLINK(Table1[[#This Row],[eCommerce Hyperlink]],\"Book Weblink\")","v":"Book Weblink"},null,"2019","January 2019",null,null,"Author","Joan Stoltman","3.3","0.5",null,null,"I",null,"Grade 1 - 2","Grade 1 - 3","Today, Dwayne Johnson, also known as The Rock, can be recognized for the many movies and TV shows he's appeared in, but not too long ago he was better known for his wrestling skills. In this captivating volume, readers follow along with the star's journey and see how he successfully transitioned from athlete to actor. This high-interest biography includes colorful photographs paired with age-appropriate text, and is sure to engage readers of all ages.","English",23.6,17.7,"796.812092--dc23","24 pp.","https://www.garethstevens.com/9781538229910",null,{"$f":"Table1[[#This Row],[QTY]]*Table1[[#This Row],['# Books]]","v":0},{"$f":"Table1[[#This Row],[QTY]]*Table1[[#This Row],[S&L Price]]","v":0}]
[null,null,23,"Little Biographies of Big People",1,"Jane Goodall","Library Bound Book",null,"978-1-5382-2895-1",{"$f":"HYPERLINK(Table1[[#This Row],[eCommerce Hyperlink]],\"Book Weblink\")","v":"Book Weblink"},null,"2019","January 2019","Library","7.000 X 7.000","Author","Joan Stoltman","3.6","0.5",null,null,"I",null,"Grade 1 - 2","Grade 1 - 3","Jane Goodall's work studying chimpanzees changed the way these animals are seen and understood by the world. With the help of this informative book, readers can catch a glimpse into the scientist's extraordinary life and career. The colorful design features photographs and closely correlated, age-appropriate text, ensuring an accurate understanding of the book's key concepts and ideas. Readers of this biography will not only learn about Goodall's incredible life, but about animals, nature, and other aspects of science as a whole.","English",23.6,17.7,"590.92--dc23","24 pp.","https://www.garethstevens.com/9781538228951",null,{"$f":"Table1[[#This Row],[QTY]]*Table1[[#This Row],['# Books]]","v":0},{"$f":"Table1[[#This Row],[QTY]]*Table1[[#This Row],[S&L Price]]","v":0}]
[null,null,23,"Little Biographies of Big People",1,"Jane Goodall","eBook",null,"978-1-5382-2993-4",{"$f":"HYPERLINK(Table1[[#This Row],[eCommerce Hyperlink]],\"Book Weblink\")","v":"Book Weblink"},null,"2019","January 2019",null,null,"Author","Joan Stoltman","3.6","0.5",null,null,"I",null,"Grade 1 - 2","Grade 1 - 3","Jane Goodall's work studying chimpanzees changed the way these animals are seen and understood by the world. With the help of this informative book, readers can catch a glimpse into the scientist's extraordinary life and career. The colorful design features photographs and closely correlated, age-appropriate text, ensuring an accurate understanding of the book's key concepts and ideas. Readers of this biography will not only learn about Goodall's incredible life, but about animals, nature, and other aspects of science as a whole.","English",23.6,17.7,"590.92--dc23","24 pp.","https://www.garethstevens.com/9781538229934",null,{"$f":"Table1[[#This Row],[QTY]]*Table1[[#This Row],['# Books]]","v":0},{"$f":"Table1[[#This Row],[QTY]]*Table1[[#This Row],[S&L Price]]","v":0}]
[null,null,23,"Little Biographies of Big People",1,"Malala Yousafzai","Library Bound Book",null,"978-1-5382-2894-4",{"$f":"HYPERLINK(Table1[[#This Row],[eCommerce Hyperlink]],\"Book Weblink\")","v":"Book Weblink"},null,"2019","January 2019","Library","7.000 X 7.000","Author","Joan Stoltman","3.7","0.5",null,null,"I",null,"Grade 1 - 2","Grade 1 - 3","Young activist Malala Yousafzai's courageous story has inspired many people around the world. As a teenager, she fought for the education rights of girls, survived an assassination attempt, and was awarded the Nobel Peace Prize. This captivating volume introduces young readers to Yousafzai's amazing journey and work. Vibrant photographs are paired with age-appropriate text, making for an accessible, high-interest book. This fascinating biography will engage readers of many ages and levels, and encourage them to learn more about the world.","English",23.6,17.7,"371.822095491--dc23","24 pp.","https://www.garethstevens.com/9781538228944",null,{"$f":"Table1[[#This Row],[QTY]]*Table1[[#This Row],['# Books]]","v":0},{"$f":"Table1[[#This Row],[QTY]]*Table1[[#This Row],[S&L Price]]","v":0}]
[null,null,23,"Little Biographies of Big People",1,"Malala Yousafzai","eBook",null,"978-1-5382-2992-7",{"$f":"HYPERLINK(Table1[[#This Row],[eCommerce Hyperlink]],\"Book Weblink\")","v":"Book Weblink"},null,"2019","January 2019",null,null,"Author","Joan Stoltman","3.7","0.5",null,null,"I",null,"Grade 1 - 2","Grade 1 - 3","Young activist Malala Yousafzai's courageous story has inspired many people around the world. As a teenager, she fought for the education rights of girls, survived an assassination attempt, and was awarded the Nobel Peace Prize. This captivating volume introduces young readers to Yousafzai's amazing journey and work. Vibrant photographs are paired with age-appropriate text, making for an accessible, high-interest book. This fascinating biography will engage readers of many ages and levels, and encourage them to learn more about the world.","English",23.6,17.7,"371.822095491--dc23","24 pp.","https://www.garethstevens.com/9781538229927",null,{"$f":"Table1[[#This Row],[QTY]]*Table1[[#This Row],['# Books]]","v":0},{"$f":"Table1[[#This Row],[QTY]]*Table1[[#This Row],[S&L Price]]","v":0}]
[null,null,23,"Little Biographies of Big People",1,"Melania Trump","Library Bound Book",null,"978-1-5382-2896-8",{"$f":"HYPERLINK(Table1[[#This Row],[eCommerce Hyperlink]],\"Book Weblink\")","v":"Book Weblink"},null,"2019","January 2019","Library","7.000 X 7.000","Author","Joan Stoltman","3.5","0.5",null,null,"I",null,"Grade 1 - 2","Grade 1 - 3","Before she became First Lady of the United States, Melania Trump was known for being a model in the fashion industry. In this engaging volume, readers get to take a look into her life, from her early years in Europe and her emigration to the United States to her move into the White House. Colorful photographs paired with concise text make for a captivating book that is sure to appeal to readers of many ages and levels.","English",23.6,17.7,"973.933092--dc23","24 pp.","https://www.garethstevens.com/9781538228968",null,{"$f":"Table1[[#This Row],[QTY]]*Table1[[#This Row],['# Books]]","v":0},{"$f":"Table1[[#This Row],[QTY]]*Table1[[#This Row],[S&L Price]]","v":0}]
[null,null,23,"Little Biographies of Big People",1,"Melania Trump","eBook",null,"978-1-5382-2994-1",{"$f":"HYPERLINK(Table1[[#This Row],[eCommerce Hyperlink]],\"Book Weblink\")","v":"Book Weblink"},null,"2019","January 2019",null,null,"Author","Joan Stoltman","3.5","0.5",null,null,"I",null,"Grade 1 - 2","Grade 1 - 3","Before she became First Lady of the United States, Melania Trump was known for being a model in the fashion industry. In this engaging volume, readers get to take a look into her life, from her early years in Europe and her emigration to the United States to her move into the White House. Colorful photographs paired with concise text make for a captivating book that is sure to appeal to readers of many ages and levels.","English",23.6,17.7,"973.933092--dc23","24 pp.","https://www.garethstevens.com/9781538229941",null,{"$f":"Table1[[#This Row],[QTY]]*Table1[[#This Row],['# Books]]","v":0},{"$f":"Table1[[#This Row],[QTY]]*Table1[[#This Row],[S&L Price]]","v":0}]
[null,null,23,"Little Biographies of Big People",1,"Thomas Edison","Library Bound Book",null,"978-1-5382-2891-3",{"$f":"HYPERLINK(Table1[[#This Row],[eCommerce Hyperlink]],\"Book Weblink\")","v":"Book Weblink"},null,"2019","January 2019","Library","7.000 X 7.000","Author","Joan Stoltman","3.6","0.5",null,null,"I",null,"Grade 1 - 2","Grade 1 - 3","Thomas Edison is considered by many to be one of the greatest inventors of all time. His creations changed the world, but there was more to his life than just his inventions. Readers of this engaging volume will learn all about the man behind the innovations. This fascinating biography introduces important subjects and encourages a further interest in history. Concise and accessible text paired with vibrant photographs will captivate audiences of many ages and levels.","English",23.6,17.7,"621.3'092--dc23","24 pp.","https://www.garethstevens.com/9781538228913",null,{"$f":"Table1[[#This Row],[QTY]]*Table1[[#This Row],['# Books]]","v":0},{"$f":"Table1[[#This Row],[QTY]]*Table1[[#This Row],[S&L Price]]","v":0}]
[null,null,23,"Little Biographies of Big People",1,"Thomas Edison","eBook",null,"978-1-5382-2989-7",{"$f":"HYPERLINK(Table1[[#This Row],[eCommerce Hyperlink]],\"Book Weblink\")","v":"Book Weblink"},null,"2019","January 2019",null,null,"Author","Joan Stoltman","3.6","0.5",null,null,"I",null,"Grade 1 - 2","Grade 1 - 3","Thomas Edison is considered by many to be one of the greatest inventors of all time. His creations changed the world, but there was more to his life than just his inventions. Readers of this engaging volume will learn all about the man behind the innovations. This fascinating biography introduces important subjects and encourages a further interest in history. Concise and accessible text paired with vibrant photographs will captivate audiences of many ages and levels.","English",23.6,17.7,"621.3'092--dc23","24 pp.","https://www.garethstevens.com/9781538229897",null,{"$f":"Table1[[#This Row],[QTY]]*Table1[[#This Row],['# Books]]","v":0},{"$f":"Table1[[#This Row],[QTY]]*Table1[[#This Row],[S&L Price]]","v":0}]
[null,null,23,"Little Biographies of Big People",1,"Cesar Chavez","Library Bound Book",null,"978-1-5382-0921-9",{"$f":"HYPERLINK(Table1[[#This Row],[eCommerce Hyperlink]],\"Book Weblink\")","v":"Book Weblink"},null,"2018","January 2018","Library","7.000 X 7.000","Author","Joan Stoltman","3.3","0.5",null,null,"J",null,"Grade 1 - 2","Grade 1 - 3","The story of Cesar Chavez is as topical and vital a story today as it was when it was an integral part of current events and not a story in history. This volume, dedicated to passing on the story of Chavez’s life to young readers, provides educators with an essential tool to teach social justice, workers’ rights, and how to stand up for your convictions through age-appropriate language and explanation of concepts. This inspiring biography follows Chavez’s journey from humble beginnings to becoming one of the most vital civil rights activists of our time.","English",23.6,17.7,"331.88'13092--dc23","24 pp.","https://www.garethstevens.com/9781538209219",null,{"$f":"Table1[[#This Row],[QTY]]*Table1[[#This Row],['# Books]]","v":0},{"$f":"Table1[[#This Row],[QTY]]*Table1[[#This Row],[S&L Price]]","v":0}]
[null,null,23,"Little Biographies of Big People",1,"Cesar Chavez","eBook",null,"978-1-5382-0922-6",{"$f":"HYPERLINK(Table1[[#This Row],[eCommerce Hyperlink]],\"Book Weblink\")","v":"Book Weblink"},null,"2018","January 2018",null,null,"Author","Joan Stoltman","3.3","0.5",null,null,"J",null,"Grade 1 - 2","Grade 1 - 3","The story of Cesar Chavez is as topical and vital a story today as it was when it was an integral part of current events and not a story in history. This volume, dedicated to passing on the story of Chavez’s life to young readers, provides educators with an essential tool to teach social justice, workers’ rights, and how to stand up for your convictions through age-appropriate language and explanation of concepts. This inspiring biography follows Chavez’s journey from humble beginnings to becoming one of the most vital civil rights activists of our time.","English",23.6,17.7,"331.88'13092--dc23","24 pp.","https://www.garethstevens.com/9781538209226",null,{"$f":"Table1[[#This Row],[QTY]]*Table1[[#This Row],['# Books]]","v":0},{"$f":"Table1[[#This Row],[QTY]]*Table1[[#This Row],[S&L Price]]","v":0}]
[null,null,23,"Little Biographies of Big People",1,"Harriet Tubman","Library Bound Book",null,"978-1-5382-0925-7",{"$f":"HYPERLINK(Table1[[#This Row],[eCommerce Hyperlink]],\"Book Weblink\")","v":"Book Weblink"},null,"2018","January 2018","Library","7.000 X 7.000","Author","Joan Stoltman","3.5","0.5",null,null,"H","760L","Grade 1 - 2","Grade 1 - 3","Of course, Harriet Tubman is a women whose story every young reader would benefit from learning about, but where are the books that tell her life story in an accessible, captivating way with age-appropriate language for young readers? Finally, here’s a book that explores her childhood, life, cause, and work in a way that gives perspective, introduces weighty topics, and facilitates further exploration of America’s history, all for early elementary readers. This volume captures readers in the story of one inspiring, notable, remarkable life, giving social studies and history curriculums a chance to excite, interest, and motivate readers to initiate a lifelong quest of learning.","English",23.6,17.7,"326/.8092--dc23","24 pp.","https://www.garethstevens.com/9781538209257",null,{"$f":"Table1[[#This Row],[QTY]]*Table1[[#This Row],['# Books]]","v":0},{"$f":"Table1[[#This Row],[QTY]]*Table1[[#This Row],[S&L Price]]","v":0}]
[null,null,23,"Little Biographies of Big People",1,"Harriet Tubman","eBook",null,"978-1-5382-0926-4",{"$f":"HYPERLINK(Table1[[#This Row],[eCommerce Hyperlink]],\"Book Weblink\")","v":"Book Weblink"},null,"2018","January 2018",null,null,"Author","Joan Stoltman","3.5","0.5",null,null,"H","760L","Grade 1 - 2","Grade 1 - 3","Of course, Harriet Tubman is a women whose story every young reader would benefit from learning about, but where are the books that tell her life story in an accessible, captivating way with age-appropriate language for young readers? Finally, here’s a book that explores her childhood, life, cause, and work in a way that gives perspective, introduces weighty topics, and facilitates further exploration of America’s history, all for early elementary readers. This volume captures readers in the story of one inspiring, notable, remarkable life, giving social studies and history curriculums a chance to excite, interest, and motivate readers to initiate a lifelong quest of learning.","English",23.6,17.7,"326/.8092--dc23","24 pp.","https://www.garethstevens.com/9781538209264",null,{"$f":"Table1[[#This Row],[QTY]]*Table1[[#This Row],['# Books]]","v":0},{"$f":"Table1[[#This Row],[QTY]]*Table1[[#This Row],[S&L Price]]","v":0}]
[null,null,23,"Little Biographies of Big People",1,"Hillary Clinton","Library Bound Book",null,"978-1-5382-1241-7",{"$f":"HYPERLINK(Table1[[#This Row],[eCommerce Hyperlink]],\"Book Weblink\")","v":"Book Weblink"},null,"2018","January 2018","Library","7.000 X 7.000","Author","Joan Stoltman","3.4","0.5",null,null,"J",null,"Grade 1 - 2","Grade 1 - 3","Even young readers were likely saturated with exposure to Hillary Clinton over the course of the 2016 presidential election. But do they really know who she is and what she has accomplished? This volume bridges the gap between current news stories and what elementary readers really know about the first female presidential candidate. By illuminating the life and story of this powerhouse of politics, young readers can learn and be inspired by a story of perseverance, service to others, and commitment to beliefs. With a vivid, age-appropriate narrative, this much-needed volume is sure to be right at home in any library or classroom.","English",23.6,17.7,"327.730092--dc23","24 pp.","https://www.garethstevens.com/9781538212417",null,{"$f":"Table1[[#This Row],[QTY]]*Table1[[#This Row],['# Books]]","v":0},{"$f":"Table1[[#This Row],[QTY]]*Table1[[#This Row],[S&L Price]]","v":0}]
[null,null,23,"Little Biographies of Big People",1,"Hillary Clinton","eBook",null,"978-1-5382-1242-4",{"$f":"HYPERLINK(Table1[[#This Row],[eCommerce Hyperlink]],\"Book Weblink\")","v":"Book Weblink"},null,"2018","January 2018",null,null,"Author","Joan Stoltman","3.4","0.5",null,null,"J",null,"Grade 1 - 2","Grade 1 - 3","Even young readers were likely saturated with exposure to Hillary Clinton over the course of the 2016 presidential election. But do they really know who she is and what she has accomplished? This volume bridges the gap between current news stories and what elementary readers really know about the first female presidential candidate. By illuminating the life and story of this powerhouse of politics, young readers can learn and be inspired by a story of perseverance, service to others, and commitment to beliefs. With a vivid, age-appropriate narrative, this much-needed volume is sure to be right at home in any library or classroom.","English",23.6,17.7,"327.730092--dc23","24 pp.","https://www.garethstevens.com/9781538212424",null,{"$f":"Table1[[#This Row],[QTY]]*Table1[[#This Row],['# Books]]","v":0},{"$f":"Table1[[#This Row],[QTY]]*Table1[[#This Row],[S&L Price]]","v":0}]
[null,null,23,"Little Biographies of Big People",1,"Michelle Obama","Library Bound Book",null,"978-1-5382-0931-8",{"$f":"HYPERLINK(Table1[[#This Row],[eCommerce Hyperlink]],\"Book Weblink\")","v":"Book Weblink"},null,"2018","January 2018","Library","7.000 X 7.000","Author","Joan Stoltman","3.4","0.5",null,null,"H",null,"Grade 1 - 2","Grade 1 - 3","Michelle Obama is easily recognizable to young readers, but has had a life few children have had the chance to learn about. This topical, engaging volume brings the story of an incredibly intelligent, motivated, deeply dedicated person to vivid life. Young readers will easily engage in Michelle Obama’s life through the meticulously uncomplicated, age-appropriate language and explanation of concepts provided throughout this inspiring story. This highly requested biography is sure to be a quick hit in any collection, educating and inspiring readers to achieve their maximum potential.","English",23.6,17.7,"973.932092--dc23","24 pp.","https://www.garethstevens.com/9781538209318",null,{"$f":"Table1[[#This Row],[QTY]]*Table1[[#This Row],['# Books]]","v":0},{"$f":"Table1[[#This Row],[QTY]]*Table1[[#This Row],[S&L Price]]","v":0}]
[null,null,23,"Little Biographies of Big People",1,"Michelle Obama","eBook",null,"978-1-5382-0932-5",{"$f":"HYPERLINK(Table1[[#This Row],[eCommerce Hyperlink]],\"Book Weblink\")","v":"Book Weblink"},null,"2018","January 2018",null,null,"Author","Joan Stoltman","3.4","0.5",null,null,"H",null,"Grade 1 - 2","Grade 1 - 3","Michelle Obama is easily recognizable to young readers, but has had a life few children have had the chance to learn about. This topical, engaging volume brings the story of an incredibly intelligent, motivated, deeply dedicated person to vivid life. Young readers will easily engage in Michelle Obama’s life through the meticulously uncomplicated, age-appropriate language and explanation of concepts provided throughout this inspiring story. This highly requested biography is sure to be a quick hit in any collection, educating and inspiring readers to achieve their maximum potential.","English",23.6,17.7,"973.932092--dc23","24 pp.","https://www.garethstevens.com/9781538209325",null,{"$f":"Table1[[#This Row],[QTY]]*Table1[[#This Row],['# Books]]","v":0},{"$f":"Table1[[#This Row],[QTY]]*Table1[[#This Row],[S&L Price]]","v":0}]
[null,null,23,"Little Biographies of Big People",1,"Rosa Parks","Library Bound Book",null,"978-1-5382-0935-6",{"$f":"HYPERLINK(Table1[[#This Row],[eCommerce Hyperlink]],\"Book Weblink\")","v":"Book Weblink"},null,"2018","January 2018","Library","7.000 X 7.000","Author","Joan Stoltman","3.7","0.5",null,null,"H",null,"Grade 1 - 2","Grade 1 - 3","Rosa Parks is not just a lady who stayed seated on a bus. Her life is a relevant, important story that was notable, inspirational, and much-needed both in its time and today. This essential volume introduces young readers to a woman of quiet strength and resilience who did not waver in her convictions and beliefs. For younger readers, this is a rare opportunity to read age-appropriate text that incorporates complex issues using accessible, straightforward, engaging language that they can grasp, connect to, and be motivated by.","English",23.6,17.7,"323.092--dc23","24 pp.","https://www.garethstevens.com/9781538209356",null,{"$f":"Table1[[#This Row],[QTY]]*Table1[[#This Row],['# Books]]","v":0},{"$f":"Table1[[#This Row],[QTY]]*Table1[[#This Row],[S&L Price]]","v":0}]
[null,null,23,"Little Biographies of Big People",1,"Rosa Parks","eBook",null,"978-1-5382-0936-3",{"$f":"HYPERLINK(Table1[[#This Row],[eCommerce Hyperlink]],\"Book Weblink\")","v":"Book Weblink"},null,"2018","January 2018",null,null,"Author","Joan Stoltman","3.7","0.5",null,null,"H",null,"Grade 1 - 2","Grade 1 - 3","Rosa Parks is not just a lady who stayed seated on a bus. Her life is a relevant, important story that was notable, inspirational, and much-needed both in its time and today. This essential volume introduces young readers to a woman of quiet strength and resilience who did not waver in her convictions and beliefs. For younger readers, this is a rare opportunity to read age-appropriate text that incorporates complex issues using accessible, straightforward, engaging language that they can grasp, connect to, and be motivated by.","English",23.6,17.7,"323.092--dc23","24 pp.","https://www.garethstevens.com/9781538209363",null,{"$f":"Table1[[#This Row],[QTY]]*Table1[[#This Row],['# Books]]","v":0},{"$f":"Table1[[#This Row],[QTY]]*Table1[[#This Row],[S&L Price]]","v":0}]
[null,null,23,"Little Biographies of Big People",1,"Walt Disney","Library Bound Book",null,"978-1-5382-1245-5",{"$f":"HYPERLINK(Table1[[#This Row],[eCommerce Hyperlink]],\"Book Weblink\")","v":"Book Weblink"},null,"2018","January 2018","Library","7.000 X 7.000","Author","Joan Stoltman","3.6","0.5",null,null,"H",null,"Grade 1 - 2","Grade 1 - 3","Young readers finally have an opportunity to step back from the gigantic, ubiquitous entity of the Disney Company as it exists today and discover the story of the singular, remarkable man who started it all. His biography is the perfect way to tell the story of an artist with the vision, drive, and passion to share his art with the world, a rare, modern success story that is vital to every collection. This volume motivates and inspires young readers to explore their own artistic voice and vision with captivating photography and focused, age-appropriate language.","English",23.6,17.7,"741.58092--dc23","24 pp.","https://www.garethstevens.com/9781538212455",null,{"$f":"Table1[[#This Row],[QTY]]*Table1[[#This Row],['# Books]]","v":0},{"$f":"Table1[[#This Row],[QTY]]*Table1[[#This Row],[S&L Price]]","v":0}]
[null,null,23,"Little Biographies of Big People",1,"Walt Disney","eBook",null,"978-1-5382-1246-2",{"$f":"HYPERLINK(Table1[[#This Row],[eCommerce Hyperlink]],\"Book Weblink\")","v":"Book Weblink"},null,"2018","January 2018",null,null,"Author","Joan Stoltman","3.6","0.5",null,null,"H",null,"Grade 1 - 2","Grade 1 - 3","Young readers finally have an opportunity to step back from the gigantic, ubiquitous entity of the Disney Company as it exists today and discover the story of the singular, remarkable man who started it all. His biography is the perfect way to tell the story of an artist with the vision, drive, and passion to share his art with the world, a rare, modern success story that is vital to every collection. This volume motivates and inspires young readers to explore their own artistic voice and vision with captivating photography and focused, age-appropriate language.","English",23.6,17.7,"741.58092--dc23","24 pp.","https://www.garethstevens.com/9781538212462",null,{"$f":"Table1[[#This Row],[QTY]]*Table1[[#This Row],['# Books]]","v":0},{"$f":"Table1[[#This Row],[QTY]]*Table1[[#This Row],[S&L Price]]","v":0}]
[null,null,23,"Little Biographies of Big People",1,"Barack Obama","Library Bound Book",null,"978-1-5382-1828-0",{"$f":"HYPERLINK(Table1[[#This Row],[eCommerce Hyperlink]],\"Book Weblink\")","v":"Book Weblink"},null,"2019","August 2018","Library","7.000 X 7.000","Author","Joan Stoltman","3.6","0.5","14",null,"H",null,"Grade 1 - 2","Grade 1 - 3","In 2008, Barack Obama became the first African American president of the United States. Just one year later in 2009, he won the Nobel Peace Prize for his incredible efforts to create international diplomacy. This biography introduces readers to Obama's extraordinary story, including significant moments from his youth. Even before his presidency, Obama accomplished amazing things, such as becoming the first African American president of the Harvard Review. Striking photographs and images illustrate Obama's compelling biography. Fact boxes provide bite-sized chunks of interesting information. This inspiring book is sure to encourage readers to explore activism and politics.","English",23.6,17.7,"973.932092--dc23","24 pp.","https://www.garethstevens.com/9781538218280",null,{"$f":"Table1[[#This Row],[QTY]]*Table1[[#This Row],['# Books]]","v":0},{"$f":"Table1[[#This Row],[QTY]]*Table1[[#This Row],[S&L Price]]","v":0}]
[null,null,23,"Little Biographies of Big People",1,"Barack Obama","eBook",null,"978-1-5382-1829-7",{"$f":"HYPERLINK(Table1[[#This Row],[eCommerce Hyperlink]],\"Book Weblink\")","v":"Book Weblink"},null,"2019","August 2018",null,null,"Author","Joan Stoltman","3.6","0.5","14",null,"H",null,"Grade 1 - 2","Grade 1 - 3","In 2008, Barack Obama became the first African American president of the United States. Just one year later in 2009, he won the Nobel Peace Prize for his incredible efforts to create international diplomacy. This biography introduces readers to Obama's extraordinary story, including significant moments from his youth. Even before his presidency, Obama accomplished amazing things, such as becoming the first African American president of the Harvard Review. Striking photographs and images illustrate Obama's compelling biography. Fact boxes provide bite-sized chunks of interesting information. This inspiring book is sure to encourage readers to explore activism and politics.","English",23.6,17.7,"973.932092--dc23","24 pp.","https://www.garethstevens.com/9781538218297",null,{"$f":"Table1[[#This Row],[QTY]]*Table1[[#This Row],['# Books]]","v":0},{"$f":"Table1[[#This Row],[QTY]]*Table1[[#This Row],[S&L Price]]","v":0}]
[null,null,23,"Little Biographies of Big People",1,"Eleanor Roosevelt","Library Bound Book",null,"978-1-5382-1832-7",{"$f":"HYPERLINK(Table1[[#This Row],[eCommerce Hyperlink]],\"Book Weblink\")","v":"Book Weblink"},null,"2019","August 2018","Library","7.000 X 7.000","Author","Joan Stoltman","3.3","0.5","14",null,"H",null,"Grade 1 - 2","Grade 1 - 3","Eleanor Roosevelt was not just a U.S. president's wife. Her life is a relevant, important story that is notable, inspirational, and much needed, both in its time and today. This essential volume introduces young readers to a woman who wasn't afraid to speak her mind or voice her opinion, even though she lived in a time when most women stayed quiet. Through accessible, straightforward, engaging language readers can grasp, connect to, and be motivated by Ochoa's life story. For younger readers, this is a rare opportunity to read age-appropriate text and first-hand quotes that incorporate the issues of her times.","English",23.6,17.7,"973.917092--dc23","24 pp.","https://www.garethstevens.com/9781538218327",null,{"$f":"Table1[[#This Row],[QTY]]*Table1[[#This Row],['# Books]]","v":0},{"$f":"Table1[[#This Row],[QTY]]*Table1[[#This Row],[S&L Price]]","v":0}]
[null,null,23,"Little Biographies of Big People",1,"Eleanor Roosevelt","eBook",null,"978-1-5382-1833-4",{"$f":"HYPERLINK(Table1[[#This Row],[eCommerce Hyperlink]],\"Book Weblink\")","v":"Book Weblink"},null,"2019","August 2018",null,null,"Author","Joan Stoltman","3.3","0.5","14",null,"H",null,"Grade 1 - 2","Grade 1 - 3","Eleanor Roosevelt was not just a U.S. president's wife. Her life is a relevant, important story that is notable, inspirational, and much needed, both in its time and today. This essential volume introduces young readers to a woman who wasn't afraid to speak her mind or voice her opinion, even though she lived in a time when most women stayed quiet. Through accessible, straightforward, engaging language readers can grasp, connect to, and be motivated by Ochoa's life story. For younger readers, this is a rare opportunity to read age-appropriate text and first-hand quotes that incorporate the issues of her times.","English",23.6,17.7,"973.917092--dc23","24 pp.","https://www.garethstevens.com/9781538218334",null,{"$f":"Table1[[#This Row],[QTY]]*Table1[[#This Row],['# Books]]","v":0},{"$f":"Table1[[#This Row],[QTY]]*Table1[[#This Row],[S&L Price]]","v":0}]
[null,null,23,"Little Biographies of Big People",1,"Elizabeth Cady Stanton","Library Bound Book",null,"978-1-5382-1836-5",{"$f":"HYPERLINK(Table1[[#This Row],[eCommerce Hyperlink]],\"Book Weblink\")","v":"Book Weblink"},null,"2019","August 2018","Library","7.000 X 7.000","Author","Joan Stoltman","3.6","0.5","18",null,"J",null,"Grade 1 - 2","Grade 1 - 3","Elizabeth Cady Stanton was one of the most influential leaders of the women's rights movement of the 19th century. From her work for the women's rights convention of 1848 and friendship with Susan B. Anthony to her connection with the antislavery movement, her life story brings an important social movement and part of world history into detailed focus. Interesting photographs and quotes from her writing and speaking further enhance the reading experience for young readers.","English",23.6,17.7,"305.42092--dc23","24 pp.","https://www.garethstevens.com/9781538218365",null,{"$f":"Table1[[#This Row],[QTY]]*Table1[[#This Row],['# Books]]","v":0},{"$f":"Table1[[#This Row],[QTY]]*Table1[[#This Row],[S&L Price]]","v":0}]
[null,null,23,"Little Biographies of Big People",1,"Elizabeth Cady Stanton","eBook",null,"978-1-5382-1837-2",{"$f":"HYPERLINK(Table1[[#This Row],[eCommerce Hyperlink]],\"Book Weblink\")","v":"Book Weblink"},null,"2019","August 2018",null,null,"Author","Joan Stoltman","3.6","0.5","18",null,"J",null,"Grade 1 - 2","Grade 1 - 3","Elizabeth Cady Stanton was one of the most influential leaders of the women's rights movement of the 19th century. From her work for the women's rights convention of 1848 and friendship with Susan B. Anthony to her connection with the antislavery movement, her life story brings an important social movement and part of world history into detailed focus. Interesting photographs and quotes from her writing and speaking further enhance the reading experience for young readers.","English",23.6,17.7,"305.42092--dc23","24 pp.","https://www.garethstevens.com/9781538218372",null,{"$f":"Table1[[#This Row],[QTY]]*Table1[[#This Row],['# Books]]","v":0},{"$f":"Table1[[#This Row],[QTY]]*Table1[[#This Row],[S&L Price]]","v":0}]
[null,null,23,"Little Biographies of Big People",1,"Ellen Ochoa","Library Bound Book",null,"978-1-5382-1840-2",{"$f":"HYPERLINK(Table1[[#This Row],[eCommerce Hyperlink]],\"Book Weblink\")","v":"Book Weblink"},null,"2019","August 2018","Library","7.000 X 7.000","Author","Joan Stoltman","3.5","0.5","18",null,"J",null,"Grade 1 - 2","Grade 1 - 3","There are few books that tell Ellen Ochoa's life story in an accessible, captivating way with age-appropriate language for young readers. Finally, here's a book that explores her barrier-breaking work as an astronaut and science administrator in a way that gives perspective about her struggle as a woman and Hispanic person in the world of science. This book facilitates exploration of America's space program for early elementary readers, capturing readers through the story of one inspiring, remarkable life. Give science curricula a chance to excite, interest, and motivate readers to initiate a lifelong quest of learning by adding this book to your collection.","English",23.6,17.7,"629.450092--dc23","24 pp.","https://www.garethstevens.com/9781538218402",null,{"$f":"Table1[[#This Row],[QTY]]*Table1[[#This Row],['# Books]]","v":0},{"$f":"Table1[[#This Row],[QTY]]*Table1[[#This Row],[S&L Price]]","v":0}]
[null,null,23,"Little Biographies of Big People",1,"Ellen Ochoa","eBook",null,"978-1-5382-1841-9",{"$f":"HYPERLINK(Table1[[#This Row],[eCommerce Hyperlink]],\"Book Weblink\")","v":"Book Weblink"},null,"2019","August 2018",null,null,"Author","Joan Stoltman","3.5","0.5","18",null,"J",null,"Grade 1 - 2","Grade 1 - 3","There are few books that tell Ellen Ochoa's life story in an accessible, captivating way with age-appropriate language for young readers. Finally, here's a book that explores her barrier-breaking work as an astronaut and science administrator in a way that gives perspective about her struggle as a woman and Hispanic person in the world of science. This book facilitates exploration of America's space program for early elementary readers, capturing readers through the story of one inspiring, remarkable life. Give science curricula a chance to excite, interest, and motivate readers to initiate a lifelong quest of learning by adding this book to your collection.","English",23.6,17.7,"629.450092--dc23","24 pp.","https://www.garethstevens.com/9781538218419",null,{"$f":"Table1[[#This Row],[QTY]]*Table1[[#This Row],['# Books]]","v":0},{"$f":"Table1[[#This Row],[QTY]]*Table1[[#This Row],[S&L Price]]","v":0}]
[null,null,23,"Little Biographies of Big People",1,"Jim Henson","Library Bound Book",null,"978-1-5382-1847-1",{"$f":"HYPERLINK(Table1[[#This Row],[eCommerce Hyperlink]],\"Book Weblink\")","v":"Book Weblink"},null,"2019","August 2018","Library","7.000 X 7.000","Author","Joan Stoltman","3.2","0.5","14",null,"H",null,"Grade 1 - 2","Grade 1 - 3","Young readers finally have an opportunity to hear the story of the man behind Kermit the Frog, Yoda, Big Bird, and many other timeless, world famous puppet sensations. The life of Jim Henson is the story of a singular, remarkable artist with a vision, drive, and passion to educate. Through captivating photography, quotes from the man himself, and focused, age-appropriate language, readers have the chance to learn this modern television success story and be motivated and inspired to explore their own artistic voice and vision.","English",23.6,17.7,"791.5/3092--dc23","24 pp.","https://www.garethstevens.com/9781538218471",null,{"$f":"Table1[[#This Row],[QTY]]*Table1[[#This Row],['# Books]]","v":0},{"$f":"Table1[[#This Row],[QTY]]*Table1[[#This Row],[S&L Price]]","v":0}]
[null,null,23,"Little Biographies of Big People",1,"Jim Henson","eBook",null,"978-1-5382-1848-8",{"$f":"HYPERLINK(Table1[[#This Row],[eCommerce Hyperlink]],\"Book Weblink\")","v":"Book Weblink"},null,"2019","August 2018",null,null,"Author","Joan Stoltman","3.2","0.5","14",null,"H",null,"Grade 1 - 2","Grade 1 - 3","Young readers finally have an opportunity to hear the story of the man behind Kermit the Frog, Yoda, Big Bird, and many other timeless, world famous puppet sensations. The life of Jim Henson is the story of a singular, remarkable artist with a vision, drive, and passion to educate. Through captivating photography, quotes from the man himself, and focused, age-appropriate language, readers have the chance to learn this modern television success story and be motivated and inspired to explore their own artistic voice and vision.","English",23.6,17.7,"791.5/3092--dc23","24 pp.","https://www.garethstevens.com/9781538218488",null,{"$f":"Table1[[#This Row],[QTY]]*Table1[[#This Row],['# Books]]","v":0},{"$f":"Table1[[#This Row],[QTY]]*Table1[[#This Row],[S&L Price]]","v":0}]
[null,null,23,"Little Biographies of Big People",1,"Mohandas Gandhi","Library Bound Book",null,"978-1-5382-1851-8",{"$f":"HYPERLINK(Table1[[#This Row],[eCommerce Hyperlink]],\"Book Weblink\")","v":"Book Weblink"},null,"2019","August 2018","Library","7.000 X 7.000","Author","Joan Stoltman","3.6","0.5","18",null,"J",null,"Grade 1 - 2","Grade 1 - 3","The story of Mohandas Gandhi is as topical, vital, and necessary a teaching opportunity today as it was when it was an integral part of current events and not a story in history. This volume, dedicated to passing on the story of Gandhi's words, work, and life to young readers, provides educators with an essential tool to teach social justice, human rights, and how to stand up for your convictions through age-appropriate language and explanation of concepts. This inspiring biography follows Gandhi's journey from humble beginnings to becoming one of the most important activists of all time.","English",23.6,17.7,"954.03/5092--dc23","24 pp.","https://www.garethstevens.com/9781538218518",null,{"$f":"Table1[[#This Row],[QTY]]*Table1[[#This Row],['# Books]]","v":0},{"$f":"Table1[[#This Row],[QTY]]*Table1[[#This Row],[S&L Price]]","v":0}]
[null,null,23,"Little Biographies of Big People",1,"Mohandas Gandhi","eBook",null,"978-1-5382-1852-5",{"$f":"HYPERLINK(Table1[[#This Row],[eCommerce Hyperlink]],\"Book Weblink\")","v":"Book Weblink"},null,"2019","August 2018",null,null,"Author","Joan Stoltman","3.6","0.5","18",null,"J",null,"Grade 1 - 2","Grade 1 - 3","The story of Mohandas Gandhi is as topical, vital, and necessary a teaching opportunity today as it was when it was an integral part of current events and not a story in history. This volume, dedicated to passing on the story of Gandhi's words, work, and life to young readers, provides educators with an essential tool to teach social justice, human rights, and how to stand up for your convictions through age-appropriate language and explanation of concepts. This inspiring biography follows Gandhi's journey from humble beginnings to becoming one of the most important activists of all time.","English",23.6,17.7,"954.03/5092--dc23","24 pp.","https://www.garethstevens.com/9781538218525",null,{"$f":"Table1[[#This Row],[QTY]]*Table1[[#This Row],['# Books]]","v":0},{"$f":"Table1[[#This Row],[QTY]]*Table1[[#This Row],[S&L Price]]","v":0}]
[null,14,24,"Let's Look at Landforms",6,"Let's Look at Landforms","Library Set",null,"978-1-5382-6661-8",{"$f":"HYPERLINK(Table1[[#This Row],[eCommerce Hyperlink]],\"Book Weblink\")","v":"Book Weblink"},null,"2022","August 2021","Library","7.000 X 7.000",null,null,null,null,null,null,null,null,"Grade 1 - 2","Grade 1 - 3","From the world's highest mountains to its lowest valleys, Earth is comprised of all sorts of landforms. Readers of this engaging set will learn about the physical characteristics that help make up these fascinating features. Informative narratives teach readers to identify different types of landforms, an important part of the elementary social studies curriculum. Understanding how different landforms interact with their environment is a key component of the Next Generation Science Standards. Colorful photographs and age-appropriate nonfiction content help readers develop a strong understanding of Earth's features. Features include: Cross-curricular content reinforces lessons from science and social studies standards. Concise glossaries familiarize readers with key vocabulary. Eye-catching photographs aid in comprehension of content.","English",141.6,106.2,null,"24 pp.","https://www.garethstevens.com/9781538266618",null,{"$f":"Table1[[#This Row],[QTY]]*Table1[[#This Row],['# Books]]","v":0},{"$f":"Table1[[#This Row],[QTY]]*Table1[[#This Row],[S&L Price]]","v":0}]
[null,14,24,"Let's Look at Landforms",1,"That's a Canyon!","Library Bound Book",null,"978-1-5382-6367-9",{"$f":"HYPERLINK(Table1[[#This Row],[eCommerce Hyperlink]],\"Book Weblink\")","v":"Book Weblink"},null,"2022","August 2021","Library","7.000 X 7.000","Author","Dwayne Hicks",null,null,null,null,"I",null,"Grade 1 - 2","Grade 1 - 3","Many young readers have heard of canyons. Maybe they've even seen one on a family vacation or school trip. However, they may not understand what makes something a canyon or exactly how canyons are formed. Readers will learn to identify canyons and find out how, over many years, rushing rivers can cut through rock to create these breathtaking landforms. Manageable sections of text are paired with attention-grabbing photographs, ensuring that readers of many ages and levels can enjoy this educational guide.","English",23.6,17.7,"551.44","24 pp.","https://www.garethstevens.com/9781538263679",null,{"$f":"Table1[[#This Row],[QTY]]*Table1[[#This Row],['# Books]]","v":0},{"$f":"Table1[[#This Row],[QTY]]*Table1[[#This Row],[S&L Price]]","v":0}]
[null,14,24,"Let's Look at Landforms",1,"That's a Canyon!","eBook",null,"978-1-5382-6368-6",{"$f":"HYPERLINK(Table1[[#This Row],[eCommerce Hyperlink]],\"Book Weblink\")","v":"Book Weblink"},null,"2022","August 2021",null,null,"Author","Dwayne Hicks",null,null,null,null,"I",null,"Grade 1 - 2","Grade 1 - 3","Many young readers have heard of canyons. Maybe they've even seen one on a family vacation or school trip. However, they may not understand what makes something a canyon or exactly how canyons are formed. Readers will learn to identify canyons and find out how, over many years, rushing rivers can cut through rock to create these breathtaking landforms. Manageable sections of text are paired with attention-grabbing photographs, ensuring that readers of many ages and levels can enjoy this educational guide.","English",23.6,17.7,"551.44","24 pp.","https://www.garethstevens.com/9781538263686",null,{"$f":"Table1[[#This Row],[QTY]]*Table1[[#This Row],['# Books]]","v":0},{"$f":"Table1[[#This Row],[QTY]]*Table1[[#This Row],[S&L Price]]","v":0}]
[null,14,24,"Let's Look at Landforms",1,"That's a Mountain!","Library Bound Book",null,"978-1-5382-6371-6",{"$f":"HYPERLINK(Table1[[#This Row],[eCommerce Hyperlink]],\"Book Weblink\")","v":"Book Weblink"},null,"2022","August 2021","Library","7.000 X 7.000","Author","Dwayne Hicks",null,null,null,null,"I",null,"Grade 1 - 2","Grade 1 - 3","In some areas, tall mountains make for quite striking landforms. With the help of this informative guide, readers won't have to scale the tallest peaks to learn all about these fascinating landforms. Age-appropriate text correlates closely with vibrant photographs, making it easy for readers to learn to identify mountains and differentiate them from similar landforms, such as hills. This engaging volume reinforces key science and social studies curricula and teaches readers about some of the most magnificent mountains around the world.","English",23.6,17.7,"551.43","24 pp.","https://www.garethstevens.com/9781538263716",null,{"$f":"Table1[[#This Row],[QTY]]*Table1[[#This Row],['# Books]]","v":0},{"$f":"Table1[[#This Row],[QTY]]*Table1[[#This Row],[S&L Price]]","v":0}]
[null,14,24,"Let's Look at Landforms",1,"That's a Mountain!","eBook",null,"978-1-5382-6372-3",{"$f":"HYPERLINK(Table1[[#This Row],[eCommerce Hyperlink]],\"Book Weblink\")","v":"Book Weblink"},null,"2022","August 2021",null,null,"Author","Dwayne Hicks",null,null,null,null,"I",null,"Grade 1 - 2","Grade 1 - 3","In some areas, tall mountains make for quite striking landforms. With the help of this informative guide, readers won't have to scale the tallest peaks to learn all about these fascinating landforms. Age-appropriate text correlates closely with vibrant photographs, making it easy for readers to learn to identify mountains and differentiate them from similar landforms, such as hills. This engaging volume reinforces key science and social studies curricula and teaches readers about some of the most magnificent mountains around the world.","English",23.6,17.7,"551.43","24 pp.","https://www.garethstevens.com/9781538263723",null,{"$f":"Table1[[#This Row],[QTY]]*Table1[[#This Row],['# Books]]","v":0},{"$f":"Table1[[#This Row],[QTY]]*Table1[[#This Row],[S&L Price]]","v":0}]
[null,14,24,"Let's Look at Landforms",1,"That's a Plateau!","Library Bound Book",null,"978-1-5382-6375-4",{"$f":"HYPERLINK(Table1[[#This Row],[eCommerce Hyperlink]],\"Book Weblink\")","v":"Book Weblink"},null,"2022","August 2021","Library","7.000 X 7.000","Author","Dwayne Hicks",null,null,null,null,"I",null,"Grade 1 - 2","Grade 1 - 3","Plateaus are sometimes called tablelands, which is a nickname that makes sense since plateaus have flat tops that often resemble the smooth surface of a table. Your readers will learn about these unique landforms, from how they form their signature flat tops to where they are found around the world. Accessible text is paired with eye-catching photographs, helping readers learn to identify these remarkable landforms, which is an important part of the elementary social studies curriculum. Key science concepts are discussed, offering a cross-curricular guide to plateaus.","English",23.6,17.7,"551.43","24 pp.","https://www.garethstevens.com/9781538263754",null,{"$f":"Table1[[#This Row],[QTY]]*Table1[[#This Row],['# Books]]","v":0},{"$f":"Table1[[#This Row],[QTY]]*Table1[[#This Row],[S&L Price]]","v":0}]
[null,14,24,"Let's Look at Landforms",1,"That's a Plateau!","eBook",null,"978-1-5382-6376-1",{"$f":"HYPERLINK(Table1[[#This Row],[eCommerce Hyperlink]],\"Book Weblink\")","v":"Book Weblink"},null,"2022","August 2021",null,null,"Author","Dwayne Hicks",null,null,null,null,"I",null,"Grade 1 - 2","Grade 1 - 3","Plateaus are sometimes called tablelands, which is a nickname that makes sense since plateaus have flat tops that often resemble the smooth surface of a table. Your readers will learn about these unique landforms, from how they form their signature flat tops to where they are found around the world. Accessible text is paired with eye-catching photographs, helping readers learn to identify these remarkable landforms, which is an important part of the elementary social studies curriculum. Key science concepts are discussed, offering a cross-curricular guide to plateaus.","English",23.6,17.7,"551.43","24 pp.","https://www.garethstevens.com/9781538263761",null,{"$f":"Table1[[#This Row],[QTY]]*Table1[[#This Row],['# Books]]","v":0},{"$f":"Table1[[#This Row],[QTY]]*Table1[[#This Row],[S&L Price]]","v":0}]
[null,14,24,"Let's Look at Landforms",1,"That's a Valley!","Library Bound Book",null,"978-1-5382-6379-2",{"$f":"HYPERLINK(Table1[[#This Row],[eCommerce Hyperlink]],\"Book Weblink\")","v":"Book Weblink"},null,"2022","August 2021","Library","7.000 X 7.000","Author","Dwayne Hicks",null,null,null,null,"I",null,"Grade 1 - 2","Grade 1 - 3","Many people know that valleys are areas of low land, but they may be unaware of all the different kinds of valleys that exist and how they're formed. Readers will learn about valleys from an accessible narrative that introduces key earth science concepts. Vivid photographs show examples of valleys, helping readers learn to identify these landforms, which is an important part of the elementary social studies curriculum.","English",23.6,17.7,"551.44","24 pp.","https://www.garethstevens.com/9781538263792",null,{"$f":"Table1[[#This Row],[QTY]]*Table1[[#This Row],['# Books]]","v":0},{"$f":"Table1[[#This Row],[QTY]]*Table1[[#This Row],[S&L Price]]","v":0}]
[null,14,24,"Let's Look at Landforms",1,"That's a Valley!","eBook",null,"978-1-5382-6380-8",{"$f":"HYPERLINK(Table1[[#This Row],[eCommerce Hyperlink]],\"Book Weblink\")","v":"Book Weblink"},null,"2022","August 2021",null,null,"Author","Dwayne Hicks",null,null,null,null,"I",null,"Grade 1 - 2","Grade 1 - 3","Many people know that valleys are areas of low land, but they may be unaware of all the different kinds of valleys that exist and how they're formed. Readers will learn about valleys from an accessible narrative that introduces key earth science concepts. Vivid photographs show examples of valleys, helping readers learn to identify these landforms, which is an important part of the elementary social studies curriculum.","English",23.6,17.7,"551.44","24 pp.","https://www.garethstevens.com/9781538263808",null,{"$f":"Table1[[#This Row],[QTY]]*Table1[[#This Row],['# Books]]","v":0},{"$f":"Table1[[#This Row],[QTY]]*Table1[[#This Row],[S&L Price]]","v":0}]
[null,14,24,"Let's Look at Landforms",1,"Those Are Hills!","Library Bound Book",null,"978-1-5382-6383-9",{"$f":"HYPERLINK(Table1[[#This Row],[eCommerce Hyperlink]],\"Book Weblink\")","v":"Book Weblink"},null,"2022","August 2021","Library","7.000 X 7.000","Author","Dwayne Hicks",null,null,null,null,"I",null,"Grade 1 - 2","Grade 1 - 3","Hills may seem like a fairly simple landform, but when you delve into the different types of hills that exist, how they're formed, and how they impact the world around them, there's much to be learned. This engaging guide offers a detailed summary of these fascinating features. Colorful photographs show a variety of different kinds of hills and help readers learn to identify the landforms when they see them. This volume's content reinforces science and social studies curricula.","English",23.6,17.7,"551.43","24 pp.","https://www.garethstevens.com/9781538263839",null,{"$f":"Table1[[#This Row],[QTY]]*Table1[[#This Row],['# Books]]","v":0},{"$f":"Table1[[#This Row],[QTY]]*Table1[[#This Row],[S&L Price]]","v":0}]
[null,14,24,"Let's Look at Landforms",1,"Those Are Hills!","eBook",null,"978-1-5382-6384-6",{"$f":"HYPERLINK(Table1[[#This Row],[eCommerce Hyperlink]],\"Book Weblink\")","v":"Book Weblink"},null,"2022","August 2021",null,null,"Author","Dwayne Hicks",null,null,null,null,"I",null,"Grade 1 - 2","Grade 1 - 3","Hills may seem like a fairly simple landform, but when you delve into the different types of hills that exist, how they're formed, and how they impact the world around them, there's much to be learned. This engaging guide offers a detailed summary of these fascinating features. Colorful photographs show a variety of different kinds of hills and help readers learn to identify the landforms when they see them. This volume's content reinforces science and social studies curricula.","English",23.6,17.7,"551.43","24 pp.","https://www.garethstevens.com/9781538263846",null,{"$f":"Table1[[#This Row],[QTY]]*Table1[[#This Row],['# Books]]","v":0},{"$f":"Table1[[#This Row],[QTY]]*Table1[[#This Row],[S&L Price]]","v":0}]
[null,14,24,"Let's Look at Landforms",1,"Those Are Plains!","Library Bound Book",null,"978-1-5382-6387-7",{"$f":"HYPERLINK(Table1[[#This Row],[eCommerce Hyperlink]],\"Book Weblink\")","v":"Book Weblink"},null,"2022","August 2021","Library","7.000 X 7.000","Author","Dwayne Hicks",null,null,null,null,"I",null,"Grade 1 - 2","Grade 1 - 3","It may seem like there isn't much to be learned about vast, flat areas with no trees, but taking up more than one-third of Earth's land, plains are important parts of the planet. From size, locations, and relationship to other parts of the environment, this engaging guide helps readers learn all about plains. Colorful photographs show examples of plains and help readers learn to recognize them. Age-appropriate text offers a variety of information supporting both science and social studies curricula.","English",23.6,17.7,"551.45","24 pp.","https://www.garethstevens.com/9781538263877",null,{"$f":"Table1[[#This Row],[QTY]]*Table1[[#This Row],['# Books]]","v":0},{"$f":"Table1[[#This Row],[QTY]]*Table1[[#This Row],[S&L Price]]","v":0}]
[null,14,24,"Let's Look at Landforms",1,"Those Are Plains!","eBook",null,"978-1-5382-6388-4",{"$f":"HYPERLINK(Table1[[#This Row],[eCommerce Hyperlink]],\"Book Weblink\")","v":"Book Weblink"},null,"2022","August 2021",null,null,"Author","Dwayne Hicks",null,null,null,null,"I",null,"Grade 1 - 2","Grade 1 - 3","It may seem like there isn't much to be learned about vast, flat areas with no trees, but taking up more than one-third of Earth's land, plains are important parts of the planet. From size, locations, and relationship to other parts of the environment, this engaging guide helps readers learn all about plains. Colorful photographs show examples of plains and help readers learn to recognize them. Age-appropriate text offers a variety of information supporting both science and social studies curricula.","English",23.6,17.7,"551.45","24 pp.","https://www.garethstevens.com/9781538263884",null,{"$f":"Table1[[#This Row],[QTY]]*Table1[[#This Row],['# Books]]","v":0},{"$f":"Table1[[#This Row],[QTY]]*Table1[[#This Row],[S&L Price]]","v":0}]
[null,null,25,"Animal Rhyme Time!",6,"Animal Rhyme Time!","Library Set",null,"978-1-5382-5974-0",{"$f":"HYPERLINK(Table1[[#This Row],[eCommerce Hyperlink]],\"Book Weblink\")","v":"Book Weblink"},null,"2021","August 2020","Library","7.000 X 7.000",null,null,null,null,null,null,null,null,"Grade 1 - 2","Grade 1 - 3","From huge elephants to tiny bees, there's so much to learn about the animals that share the planet with us. Each volume of this delightful set uses rhyming text to teach readers fun facts about an animal. Being able to recognize certain sounds and parts of speech is an important step in mastering the English language. The use of rhyme makes it easier for young learners to remember the information, which supports core concepts from elementary science curricula. Features include: Helps readers recognize rhyming words, which is part of the ELA curriculum. Reinforces key ideas and lessons about animals. High-interest topics to keep developing readers engaged.","English",141.6,106.2,null,"24 pp.","https://www.garethstevens.com/9781538259740",null,{"$f":"Table1[[#This Row],[QTY]]*Table1[[#This Row],['# Books]]","v":0},{"$f":"Table1[[#This Row],[QTY]]*Table1[[#This Row],[S&L Price]]","v":0}]
[null,null,25,"Animal Rhyme Time!",1,"Rhyme Time with Bees!","Library Bound Book",null,"978-1-5382-5608-4",{"$f":"HYPERLINK(Table1[[#This Row],[eCommerce Hyperlink]],\"Book Weblink\")","v":"Book Weblink"},null,"2021","August 2020","Library","7.000 X 7.000","Author","Jonas Edwards",null,null,null,null,"K",null,"Grade 1 - 2","Grade 1 - 3","Some people are scared of bees, but these creatures play a significant part in our world. With the use of captivating poems, this innovative book features many key facts about these interesting insects and explains why they are important to the wellbeing of many other organisms. Curious readers will love learning amusing rhymes that help them remember specific information and easily share fun facts with friends and family. Eye-catching photographs help hold readers' attention. Simple sentence structures introduce rhyming and verse writing.","English",23.6,17.7,"595.79/9--dc23","24 pp.","https://www.garethstevens.com/9781538256084",null,{"$f":"Table1[[#This Row],[QTY]]*Table1[[#This Row],['# Books]]","v":0},{"$f":"Table1[[#This Row],[QTY]]*Table1[[#This Row],[S&L Price]]","v":0}]
[null,null,25,"Animal Rhyme Time!",1,"Rhyme Time with Bees!","eBook",null,"978-1-5382-5609-1",{"$f":"HYPERLINK(Table1[[#This Row],[eCommerce Hyperlink]],\"Book Weblink\")","v":"Book Weblink"},null,"2021","August 2020",null,null,"Author","Jonas Edwards",null,null,null,null,"K",null,"Grade 1 - 2","Grade 1 - 3","Some people are scared of bees, but these creatures play a significant part in our world. With the use of captivating poems, this innovative book features many key facts about these interesting insects and explains why they are important to the wellbeing of many other organisms. Curious readers will love learning amusing rhymes that help them remember specific information and easily share fun facts with friends and family. Eye-catching photographs help hold readers' attention. Simple sentence structures introduce rhyming and verse writing.","English",23.6,17.7,"595.79/9--dc23","24 pp.","https://www.garethstevens.com/9781538256091",null,{"$f":"Table1[[#This Row],[QTY]]*Table1[[#This Row],['# Books]]","v":0},{"$f":"Table1[[#This Row],[QTY]]*Table1[[#This Row],[S&L Price]]","v":0}]
[null,null,25,"Animal Rhyme Time!",1,"Rhyme Time with Elephants!","Library Bound Book",null,"978-1-5382-5604-6",{"$f":"HYPERLINK(Table1[[#This Row],[eCommerce Hyperlink]],\"Book Weblink\")","v":"Book Weblink"},null,"2021","August 2020","Library","7.000 X 7.000","Author","Jonas Edwards",null,null,null,null,"K",null,"Grade 1 - 2","Grade 1 - 3","As the largest land animals alive, elephants are magnificent creatures. Readers will learn about these awesome animals through fun and informative poems. An excellent introduction to rhyming and verse, this captivating book also reinforces key life science lessons. The rhymes make it easy for young readers to remember key facts and figures. Vibrant photographs help engage developing and struggling readers.","English",23.6,17.7,"599.67--dc23","24 pp.","https://www.garethstevens.com/9781538256046",null,{"$f":"Table1[[#This Row],[QTY]]*Table1[[#This Row],['# Books]]","v":0},{"$f":"Table1[[#This Row],[QTY]]*Table1[[#This Row],[S&L Price]]","v":0}]
[null,null,25,"Animal Rhyme Time!",1,"Rhyme Time with Elephants!","eBook",null,"978-1-5382-5605-3",{"$f":"HYPERLINK(Table1[[#This Row],[eCommerce Hyperlink]],\"Book Weblink\")","v":"Book Weblink"},null,"2021","August 2020",null,null,"Author","Jonas Edwards",null,null,null,null,"K",null,"Grade 1 - 2","Grade 1 - 3","As the largest land animals alive, elephants are magnificent creatures. Readers will learn about these awesome animals through fun and informative poems. An excellent introduction to rhyming and verse, this captivating book also reinforces key life science lessons. The rhymes make it easy for young readers to remember key facts and figures. Vibrant photographs help engage developing and struggling readers.","English",23.6,17.7,"599.67--dc23","24 pp.","https://www.garethstevens.com/9781538256053",null,{"$f":"Table1[[#This Row],[QTY]]*Table1[[#This Row],['# Books]]","v":0},{"$f":"Table1[[#This Row],[QTY]]*Table1[[#This Row],[S&L Price]]","v":0}]
[null,null,25,"Animal Rhyme Time!",1,"Rhyme Time with Monkeys!","Library Bound Book",null,"978-1-5382-5596-4",{"$f":"HYPERLINK(Table1[[#This Row],[eCommerce Hyperlink]],\"Book Weblink\")","v":"Book Weblink"},null,"2021","August 2020","Library","7.000 X 7.000","Author","Jonas Edwards",null,null,null,null,"K",null,"Grade 1 - 2","Grade 1 - 3","This fun book proves that monkeys, poetry, and learning can go together quite naturally. From howler monkeys to squirrel monkeys, readers will learn about the tropical rain forests that are filled with a variety of marvelous primates. Engaging poems and colorful images reinforce important life science lessons. Whether your readers love poetry or monkeys, this book will become a favorite.","English",23.6,17.7,"599.8--dc23","24 pp.","https://www.garethstevens.com/9781538255964",null,{"$f":"Table1[[#This Row],[QTY]]*Table1[[#This Row],['# Books]]","v":0},{"$f":"Table1[[#This Row],[QTY]]*Table1[[#This Row],[S&L Price]]","v":0}]
[null,null,25,"Animal Rhyme Time!",1,"Rhyme Time with Monkeys!","eBook",null,"978-1-5382-5597-1",{"$f":"HYPERLINK(Table1[[#This Row],[eCommerce Hyperlink]],\"Book Weblink\")","v":"Book Weblink"},null,"2021","August 2020",null,null,"Author","Jonas Edwards",null,null,null,null,"K",null,"Grade 1 - 2","Grade 1 - 3","This fun book proves that monkeys, poetry, and learning can go together quite naturally. From howler monkeys to squirrel monkeys, readers will learn about the tropical rain forests that are filled with a variety of marvelous primates. Engaging poems and colorful images reinforce important life science lessons. Whether your readers love poetry or monkeys, this book will become a favorite.","English",23.6,17.7,"599.8--dc23","24 pp.","https://www.garethstevens.com/9781538255971",null,{"$f":"Table1[[#This Row],[QTY]]*Table1[[#This Row],['# Books]]","v":0},{"$f":"Table1[[#This Row],[QTY]]*Table1[[#This Row],[S&L Price]]","v":0}]
[null,null,25,"Animal Rhyme Time!",1,"Rhyme Time with Parrots!","Library Bound Book",null,"978-1-5382-5600-8",{"$f":"HYPERLINK(Table1[[#This Row],[eCommerce Hyperlink]],\"Book Weblink\")","v":"Book Weblink"},null,"2021","August 2020","Library","7.000 X 7.000","Author","Jonas Edwards",null,null,null,null,"K",null,"Grade 1 - 2","Grade 1 - 3","Parrots are known for their ability to repeat things that people say, but there's much more to learn about these beautiful birds. Readers will learn amazing details about parrots, from where they live to what they eat. Rhyming text is paired with colorful images, supporting readers of many ages and levels. Fun poems help impart key facts about these amazing animals in a way that will make readers want to parrot back what they've learned.","English",23.6,17.7,"598.7'1--dc23","24 pp.","https://www.garethstevens.com/9781538256008",null,{"$f":"Table1[[#This Row],[QTY]]*Table1[[#This Row],['# Books]]","v":0},{"$f":"Table1[[#This Row],[QTY]]*Table1[[#This Row],[S&L Price]]","v":0}]
[null,null,25,"Animal Rhyme Time!",1,"Rhyme Time with Parrots!","eBook",null,"978-1-5382-5601-5",{"$f":"HYPERLINK(Table1[[#This Row],[eCommerce Hyperlink]],\"Book Weblink\")","v":"Book Weblink"},null,"2021","August 2020",null,null,"Author","Jonas Edwards",null,null,null,null,"K",null,"Grade 1 - 2","Grade 1 - 3","Parrots are known for their ability to repeat things that people say, but there's much more to learn about these beautiful birds. Readers will learn amazing details about parrots, from where they live to what they eat. Rhyming text is paired with colorful images, supporting readers of many ages and levels. Fun poems help impart key facts about these amazing animals in a way that will make readers want to parrot back what they've learned.","English",23.6,17.7,"598.7'1--dc23","24 pp.","https://www.garethstevens.com/9781538256015",null,{"$f":"Table1[[#This Row],[QTY]]*Table1[[#This Row],['# Books]]","v":0},{"$f":"Table1[[#This Row],[QTY]]*Table1[[#This Row],[S&L Price]]","v":0}]
[null,null,25,"Animal Rhyme Time!",1,"Rhyme Time with Sharks!","Library Bound Book",null,"978-1-5382-5616-9",{"$f":"HYPERLINK(Table1[[#This Row],[eCommerce Hyperlink]],\"Book Weblink\")","v":"Book Weblink"},null,"2021","August 2020","Library","7.000 X 7.000","Author","Jonas Edwards",null,null,null,null,"K",null,"Grade 1 - 2","Grade 1 - 3","Anyone of sound mind would not want to dive into waters full of sharks, but diving into shark poetry is a whole other story! Eye-catching images pair closely with captivating, rhyming text that offers fun facts about these fierce fish. Delightful poems provide compelling content supporting life science curricula, making it easy for readers to remember key facts. This engaging volume encourages an understanding and recognition of rhyming words, which is part of the ELA curriculum.","English",23.6,17.7,"597.3--dc23","24 pp.","https://www.garethstevens.com/9781538256169",null,{"$f":"Table1[[#This Row],[QTY]]*Table1[[#This Row],['# Books]]","v":0},{"$f":"Table1[[#This Row],[QTY]]*Table1[[#This Row],[S&L Price]]","v":0}]
[null,null,25,"Animal Rhyme Time!",1,"Rhyme Time with Sharks!","eBook",null,"978-1-5382-5617-6",{"$f":"HYPERLINK(Table1[[#This Row],[eCommerce Hyperlink]],\"Book Weblink\")","v":"Book Weblink"},null,"2021","August 2020",null,null,"Author","Jonas Edwards",null,null,null,null,"K",null,"Grade 1 - 2","Grade 1 - 3","Anyone of sound mind would not want to dive into waters full of sharks, but diving into shark poetry is a whole other story! Eye-catching images pair closely with captivating, rhyming text that offers fun facts about these fierce fish. Delightful poems provide compelling content supporting life science curricula, making it easy for readers to remember key facts. This engaging volume encourages an understanding and recognition of rhyming words, which is part of the ELA curriculum.","English",23.6,17.7,"597.3--dc23","24 pp.","https://www.garethstevens.com/9781538256176",null,{"$f":"Table1[[#This Row],[QTY]]*Table1[[#This Row],['# Books]]","v":0},{"$f":"Table1[[#This Row],[QTY]]*Table1[[#This Row],[S&L Price]]","v":0}]
[null,null,25,"Animal Rhyme Time!",1,"Rhyme Time with Snakes!","Library Bound Book",null,"978-1-5382-5612-1",{"$f":"HYPERLINK(Table1[[#This Row],[eCommerce Hyperlink]],\"Book Weblink\")","v":"Book Weblink"},null,"2021","August 2020","Library","7.000 X 7.000","Author","Jonas Edwards",null,null,null,null,"K",null,"Grade 1 - 2","Grade 1 - 3","There are thousands of different species of snakes in the world, from the most venomous vipers to harmless garden snakes. This delightful volume uses poetry to teach readers about all sorts of snakes. Rhyming verses touch on key life science lessons, ensuring that specific details are easy for readers to remember and repeat to others. These informative poems introduce readers to a fun style of writing and colorful images hold the attention of developing readers.","English",23.6,17.7,"597.96--dc23","24 pp.","https://www.garethstevens.com/9781538256121",null,{"$f":"Table1[[#This Row],[QTY]]*Table1[[#This Row],['# Books]]","v":0},{"$f":"Table1[[#This Row],[QTY]]*Table1[[#This Row],[S&L Price]]","v":0}]
[null,null,25,"Animal Rhyme Time!",1,"Rhyme Time with Snakes!","eBook",null,"978-1-5382-5613-8",{"$f":"HYPERLINK(Table1[[#This Row],[eCommerce Hyperlink]],\"Book Weblink\")","v":"Book Weblink"},null,"2021","August 2020",null,null,"Author","Jonas Edwards",null,null,null,null,"K",null,"Grade 1 - 2","Grade 1 - 3","There are thousands of different species of snakes in the world, from the most venomous vipers to harmless garden snakes. This delightful volume uses poetry to teach readers about all sorts of snakes. Rhyming verses touch on key life science lessons, ensuring that specific details are easy for readers to remember and repeat to others. These informative poems introduce readers to a fun style of writing and colorful images hold the attention of developing readers.","English",23.6,17.7,"597.96--dc23","24 pp.","https://www.garethstevens.com/9781538256138",null,{"$f":"Table1[[#This Row],[QTY]]*Table1[[#This Row],['# Books]]","v":0},{"$f":"Table1[[#This Row],[QTY]]*Table1[[#This Row],[S&L Price]]","v":0}]
[null,null,25,"Cooking with Math!",6,"Cooking with Math!","Library Set",null,"978-1-5382-4895-9",{"$f":"HYPERLINK(Table1[[#This Row],[eCommerce Hyperlink]],\"Book Weblink\")","v":"Book Weblink"},null,"2020","January 2020","Library","7.000 X 7.000",null,null,null,null,null,null,null,null,"Grade 1 - 2","Grade 1 - 3","Cooking doesn't just make dinner or a delicious treat; it makes us use math. From measuring ingredients to figuring out how to double a recipe, all kinds of simple math can be used in the kitchen. Readers are asked to use different math concepts from the early elementary curriculum while following recipes they can actually make at home. Word problems using addition, measuring, subtraction, simple multiplication, and simple division support the math curriculum and encourage verbal reasoning skills. Dessert, pasta, pizza, salad, snacks, and soup recipes cover the culinary spectrum. Features include: Four fun recipes in each book. The work of each word problem is displayed for readers to follow along. Encourages young readers to try new foods.","English",141.6,106.2,null,"24 pp.","https://www.garethstevens.com/9781538248959",null,{"$f":"Table1[[#This Row],[QTY]]*Table1[[#This Row],['# Books]]","v":0},{"$f":"Table1[[#This Row],[QTY]]*Table1[[#This Row],[S&L Price]]","v":0}]
[null,null,25,"Cooking with Math!",1,"Making Desserts with Math!","Library Bound Book",null,"978-1-5382-4555-2",{"$f":"HYPERLINK(Table1[[#This Row],[eCommerce Hyperlink]],\"Book Weblink\")","v":"Book Weblink"},null,"2020","January 2020","Library","7.000 X 7.000","Author","Santana Hunt",null,null,null,null,"I",null,"Grade 1 - 2","Grade 1 - 3","How much flour does a cookie recipe need? What if you double the recipe? With this book, simple word problems encourage readers to consider the many ways math is used in the kitchen to make delicious desserts. They'll use math strategies and knowledge acquired in the classroom to solve each problem and check their work against a concluding answer key. Including four recipes that readers can make themselves or with just a little help from an adult, this volume will be a hit with the culinarily curious and mathematically minded alike.","English",23.6,17.7,"510--dc23","24 pp.","https://www.garethstevens.com/9781538245552",null,{"$f":"Table1[[#This Row],[QTY]]*Table1[[#This Row],['# Books]]","v":0},{"$f":"Table1[[#This Row],[QTY]]*Table1[[#This Row],[S&L Price]]","v":0}]
[null,null,25,"Cooking with Math!",1,"Making Desserts with Math!","eBook",null,"978-1-5382-4556-9",{"$f":"HYPERLINK(Table1[[#This Row],[eCommerce Hyperlink]],\"Book Weblink\")","v":"Book Weblink"},null,"2020","January 2020",null,null,"Author","Santana Hunt",null,null,null,null,"I",null,"Grade 1 - 2","Grade 1 - 3","How much flour does a cookie recipe need? What if you double the recipe? With this book, simple word problems encourage readers to consider the many ways math is used in the kitchen to make delicious desserts. They'll use math strategies and knowledge acquired in the classroom to solve each problem and check their work against a concluding answer key. Including four recipes that readers can make themselves or with just a little help from an adult, this volume will be a hit with the culinarily curious and mathematically minded alike.","English",23.6,17.7,"510--dc23","24 pp.","https://www.garethstevens.com/9781538245569",null,{"$f":"Table1[[#This Row],[QTY]]*Table1[[#This Row],['# Books]]","v":0},{"$f":"Table1[[#This Row],[QTY]]*Table1[[#This Row],[S&L Price]]","v":0}]
[null,null,25,"Cooking with Math!",1,"Making Pasta with Math!","Library Bound Book",null,"978-1-5382-4559-0",{"$f":"HYPERLINK(Table1[[#This Row],[eCommerce Hyperlink]],\"Book Weblink\")","v":"Book Weblink"},null,"2020","January 2020","Library","7.000 X 7.000","Author","Santana Hunt",null,null,null,null,"I",null,"Grade 1 - 2","Grade 1 - 3","Whether you prefer pasta hot or cold, with red sauce or butter, this book has a recipe for everyone. It also incorporates achievable math content straight from math curricula in the form of word problems that ask readers to take their skills in the classroom and bring them into the kitchen. With four recipes young chefs and mathematicians can try with minimal help from an adult, this book brings STEM into the real world, supporting the notion that math is fun and all around us.\n","English",23.6,17.7,"510--dc23","24 pp.","https://www.garethstevens.com/9781538245590",null,{"$f":"Table1[[#This Row],[QTY]]*Table1[[#This Row],['# Books]]","v":0},{"$f":"Table1[[#This Row],[QTY]]*Table1[[#This Row],[S&L Price]]","v":0}]
[null,null,25,"Cooking with Math!",1,"Making Pasta with Math!","eBook",null,"978-1-5382-4560-6",{"$f":"HYPERLINK(Table1[[#This Row],[eCommerce Hyperlink]],\"Book Weblink\")","v":"Book Weblink"},null,"2020","January 2020",null,null,"Author","Santana Hunt",null,null,null,null,"I",null,"Grade 1 - 2","Grade 1 - 3","Whether you prefer pasta hot or cold, with red sauce or butter, this book has a recipe for everyone. It also incorporates achievable math content straight from math curricula in the form of word problems that ask readers to take their skills in the classroom and bring them into the kitchen. With four recipes young chefs and mathematicians can try with minimal help from an adult, this book brings STEM into the real world, supporting the notion that math is fun and all around us.\n","English",23.6,17.7,"510--dc23","24 pp.","https://www.garethstevens.com/9781538245606",null,{"$f":"Table1[[#This Row],[QTY]]*Table1[[#This Row],['# Books]]","v":0},{"$f":"Table1[[#This Row],[QTY]]*Table1[[#This Row],[S&L Price]]","v":0}]
[null,null,25,"Cooking with Math!",1,"Making Pizza with Math!","Library Bound Book",null,"978-1-5382-4564-4",{"$f":"HYPERLINK(Table1[[#This Row],[eCommerce Hyperlink]],\"Book Weblink\")","v":"Book Weblink"},null,"2020","January 2020","Library","7.000 X 7.000","Author","Santana Hunt",null,null,null,null,"I",null,"Grade 1 - 2","Grade 1 - 3","There are few people who don't love some combination of toppings on pizza. From pepperoni to pineapple, the options are endless and fun to test out together. Readers find four recipes for pizza they can make with minimal help from an adult alongside word problems based on the recipes. Including math topics covered in the math curriculum, each problem asks readers to apply their math skills to the real world of the kitchen. A concluding answer key lets readers check their work, though a taste test will work just as well.","English",23.6,17.7,"510--dc23","24 pp.","https://www.garethstevens.com/9781538245644",null,{"$f":"Table1[[#This Row],[QTY]]*Table1[[#This Row],['# Books]]","v":0},{"$f":"Table1[[#This Row],[QTY]]*Table1[[#This Row],[S&L Price]]","v":0}]
[null,null,25,"Cooking with Math!",1,"Making Pizza with Math!","eBook",null,"978-1-5382-4565-1",{"$f":"HYPERLINK(Table1[[#This Row],[eCommerce Hyperlink]],\"Book Weblink\")","v":"Book Weblink"},null,"2020","January 2020",null,null,"Author","Santana Hunt",null,null,null,null,"I",null,"Grade 1 - 2","Grade 1 - 3","There are few people who don't love some combination of toppings on pizza. From pepperoni to pineapple, the options are endless and fun to test out together. Readers find four recipes for pizza they can make with minimal help from an adult alongside word problems based on the recipes. Including math topics covered in the math curriculum, each problem asks readers to apply their math skills to the real world of the kitchen. A concluding answer key lets readers check their work, though a taste test will work just as well.","English",23.6,17.7,"510--dc23","24 pp.","https://www.garethstevens.com/9781538245651",null,{"$f":"Table1[[#This Row],[QTY]]*Table1[[#This Row],['# Books]]","v":0},{"$f":"Table1[[#This Row],[QTY]]*Table1[[#This Row],[S&L Price]]","v":0}]
[null,null,25,"Cooking with Math!",1,"Making Salads with Math!","Library Bound Book",null,"978-1-5382-4572-9",{"$f":"HYPERLINK(Table1[[#This Row],[eCommerce Hyperlink]],\"Book Weblink\")","v":"Book Weblink"},null,"2020","January 2020","Library","7.000 X 7.000","Author","Santana Hunt",null,null,null,null,"I",null,"Grade 1 - 2","Grade 1 - 3","What makes a salad, a salad? Does it have to have lettuce? Could it have a bean or corn base? This book broadens readers' understanding of just what this healthy staple can be made of while using the four recipes as a jumping off point to practice math skills. Word problems based on each recipe ask readers to use topics from the classroom and bring them to the kitchen, including measuring, addition, subtraction, and more. Readers can check their work using a concluding answer key, and try out their new recipes on friends and family.","English",23.6,17.7,"510--dc23","24 pp.","https://www.garethstevens.com/9781538245729",null,{"$f":"Table1[[#This Row],[QTY]]*Table1[[#This Row],['# Books]]","v":0},{"$f":"Table1[[#This Row],[QTY]]*Table1[[#This Row],[S&L Price]]","v":0}]
[null,null,25,"Cooking with Math!",1,"Making Salads with Math!","eBook",null,"978-1-5382-4573-6",{"$f":"HYPERLINK(Table1[[#This Row],[eCommerce Hyperlink]],\"Book Weblink\")","v":"Book Weblink"},null,"2020","January 2020",null,null,"Author","Santana Hunt",null,null,null,null,"I",null,"Grade 1 - 2","Grade 1 - 3","What makes a salad, a salad? Does it have to have lettuce? Could it have a bean or corn base? This book broadens readers' understanding of just what this healthy staple can be made of while using the four recipes as a jumping off point to practice math skills. Word problems based on each recipe ask readers to use topics from the classroom and bring them to the kitchen, including measuring, addition, subtraction, and more. Readers can check their work using a concluding answer key, and try out their new recipes on friends and family.","English",23.6,17.7,"510--dc23","24 pp.","https://www.garethstevens.com/9781538245736",null,{"$f":"Table1[[#This Row],[QTY]]*Table1[[#This Row],['# Books]]","v":0},{"$f":"Table1[[#This Row],[QTY]]*Table1[[#This Row],[S&L Price]]","v":0}]
[null,null,25,"Cooking with Math!",1,"Making Snacks with Math!","Library Bound Book",null,"978-1-5382-4576-7",{"$f":"HYPERLINK(Table1[[#This Row],[eCommerce Hyperlink]],\"Book Weblink\")","v":"Book Weblink"},null,"2020","January 2020","Library","7.000 X 7.000","Author","Santana Hunt",null,null,null,null,"I",null,"Grade 1 - 2","Grade 1 - 3","Snacks can be as simple as a cheese stick or as complicated as ants on a log or chocolate chip cookies. Readers can try out four different snack recipes using this book and a little help from an adult as well as hone their math skills in the real world of their kitchen. Each recipe is paired with a word problem using measuring, addition, subtraction, and more. Written especially for young readers, each problem contains clue words and other achievable language to help readers solve it.","English",23.6,17.7,"510--dc23","24 pp.","https://www.garethstevens.com/9781538245767",null,{"$f":"Table1[[#This Row],[QTY]]*Table1[[#This Row],['# Books]]","v":0},{"$f":"Table1[[#This Row],[QTY]]*Table1[[#This Row],[S&L Price]]","v":0}]
[null,null,25,"Cooking with Math!",1,"Making Snacks with Math!","eBook",null,"978-1-5382-4577-4",{"$f":"HYPERLINK(Table1[[#This Row],[eCommerce Hyperlink]],\"Book Weblink\")","v":"Book Weblink"},null,"2020","January 2020",null,null,"Author","Santana Hunt",null,null,null,null,"I",null,"Grade 1 - 2","Grade 1 - 3","Snacks can be as simple as a cheese stick or as complicated as ants on a log or chocolate chip cookies. Readers can try out four different snack recipes using this book and a little help from an adult as well as hone their math skills in the real world of their kitchen. Each recipe is paired with a word problem using measuring, addition, subtraction, and more. Written especially for young readers, each problem contains clue words and other achievable language to help readers solve it.","English",23.6,17.7,"510--dc23","24 pp.","https://www.garethstevens.com/9781538245774",null,{"$f":"Table1[[#This Row],[QTY]]*Table1[[#This Row],['# Books]]","v":0},{"$f":"Table1[[#This Row],[QTY]]*Table1[[#This Row],[S&L Price]]","v":0}]
[null,null,25,"Cooking with Math!",1,"Making Soups with Math!","Library Bound Book",null,"978-1-5382-4568-2",{"$f":"HYPERLINK(Table1[[#This Row],[eCommerce Hyperlink]],\"Book Weblink\")","v":"Book Weblink"},null,"2020","January 2020","Library","7.000 X 7.000","Author","Santana Hunt",null,null,null,null,"I",null,"Grade 1 - 2","Grade 1 - 3","Soups often contain meat and vegetables, but readers will be surprised to learn that soups can have fruit too. Readers expand their expectations of soup with four great, different recipes they can make with limited assistance from an adult. Each fosters independence in the kitchen and culinary curiosity, as well as helps readers apply math to the real world. Each recipe is accompanied by a word problem that uses skills from the math curriculum, including addition, subtraction, measuring, and more. A concluding answer key allows readers to check their solutions.","English",23.6,17.7,"510--dc23","24 pp.","https://www.garethstevens.com/9781538245682",null,{"$f":"Table1[[#This Row],[QTY]]*Table1[[#This Row],['# Books]]","v":0},{"$f":"Table1[[#This Row],[QTY]]*Table1[[#This Row],[S&L Price]]","v":0}]
[null,null,25,"Cooking with Math!",1,"Making Soups with Math!","eBook",null,"978-1-5382-4569-9",{"$f":"HYPERLINK(Table1[[#This Row],[eCommerce Hyperlink]],\"Book Weblink\")","v":"Book Weblink"},null,"2020","January 2020",null,null,"Author","Santana Hunt",null,null,null,null,"I",null,"Grade 1 - 2","Grade 1 - 3","Soups often contain meat and vegetables, but readers will be surprised to learn that soups can have fruit too. Readers expand their expectations of soup with four great, different recipes they can make with limited assistance from an adult. Each fosters independence in the kitchen and culinary curiosity, as well as helps readers apply math to the real world. Each recipe is accompanied by a word problem that uses skills from the math curriculum, including addition, subtraction, measuring, and more. A concluding answer key allows readers to check their solutions.","English",23.6,17.7,"510--dc23","24 pp.","https://www.garethstevens.com/9781538245699",null,{"$f":"Table1[[#This Row],[QTY]]*Table1[[#This Row],['# Books]]","v":0},{"$f":"Table1[[#This Row],[QTY]]*Table1[[#This Row],[S&L Price]]","v":0}]
[null,null,25,"Everyday Mysteries",6,"Everyday Mysteries: Set 1","Library Set",null,"978-1-4339-6778-8",{"$f":"HYPERLINK(Table1[[#This Row],[eCommerce Hyperlink]],\"Book Weblink\")","v":"Book Weblink"},null,"2012","January 2012","Library","7.000 X 7.000",null,null,null,null,null,null,null,null,"Grade 2","Grade 2 - 4","Our daily lives are filled with everyday mysteries, such as where the electricity comes from in our household outlets or what happens next to the plastic bottles we put out in our recycling bins. The books in this informative series reveal the fascinating details behind the processes that keep our communities running smoothly. Detailed diagrams and colorful photographs help young readers discover the truth behind six everyday mysteries.  • Supports elementary curriculum, both science and social studies • Diagrams and illustrative photographs aid reading comprehension • Concluding diagram summarizes the process highlighted in each book • Further reading and age-appropriate Web sites • Table of Contents, Glossary, Index help readers navigate the text ","English",147.6,110.7,null,"24 pp.","https://www.garethstevens.com/9781433967788",null,{"$f":"Table1[[#This Row],[QTY]]*Table1[[#This Row],['# Books]]","v":0},{"$f":"Table1[[#This Row],[QTY]]*Table1[[#This Row],[S&L Price]]","v":0}]
[null,null,25,"Everyday Mysteries",1,"Where Does Electricity Come From?","Library Bound Book",null,"978-1-4339-6313-1",{"$f":"HYPERLINK(Table1[[#This Row],[eCommerce Hyperlink]],\"Book Weblink\")","v":"Book Weblink"},null,"2012","January 2012","Library","7.000 X 7.000","Author","Angelo Gangemi","3","0.5","18","20","J","540L","Grade 2","Grade 2 - 4","Electricity powers our televisions and computers. Refrigerators need it to keep our food cold, and toasters need it to make toast. Inside this volume, readers will discover where this important source of energy comes from and more. Accessible text, illustrative photographs, and a detailed diagram help readers learn all about this everyday mystery.","English",24.6,18.45,"537","24 pp.","https://www.garethstevens.com/9781433963131",null,{"$f":"Table1[[#This Row],[QTY]]*Table1[[#This Row],['# Books]]","v":0},{"$f":"Table1[[#This Row],[QTY]]*Table1[[#This Row],[S&L Price]]","v":0}]
[null,null,25,"Everyday Mysteries",1,"Where Does Electricity Come From?","eBook",null,"978-1-4339-6314-8",{"$f":"HYPERLINK(Table1[[#This Row],[eCommerce Hyperlink]],\"Book Weblink\")","v":"Book Weblink"},null,"2012","January 2012",null,null,"Author","Angelo Gangemi","3","0.5","18","20","J","540L","Grade 2","Grade 2 - 4","Electricity powers our televisions and computers. Refrigerators need it to keep our food cold, and toasters need it to make toast. Inside this volume, readers will discover where this important source of energy comes from and more. Accessible text, illustrative photographs, and a detailed diagram help readers learn all about this everyday mystery.","English",24.6,18.45,"537","24 pp.","https://www.garethstevens.com/9781433963148",null,{"$f":"Table1[[#This Row],[QTY]]*Table1[[#This Row],['# Books]]","v":0},{"$f":"Table1[[#This Row],[QTY]]*Table1[[#This Row],[S&L Price]]","v":0}]
[null,null,25,"Everyday Mysteries",1,"Where Does Our Food Come From?","Library Bound Book",null,"978-1-4339-6317-9",{"$f":"HYPERLINK(Table1[[#This Row],[eCommerce Hyperlink]],\"Book Weblink\")","v":"Book Weblink"},null,"2012","January 2012","Library","7.000 X 7.000","Author","Debra Stilwell","2.8","0.5","18","20","I","540L","Grade 2","Grade 2 - 4","Most of the time we buy food from stores, but stores get the food from somewhere too. With the help of easy-to-follow text and detailed diagrams, readers will visit farms and follow food on its journey to farmers markets, factories, and stores. Readers learn how fresh foods are sold in markets and are also used to make the processed foods we buy in stores. Vibrant photographs make this book a visual feast.","English",24.6,18.45,"641.3","24 pp.","https://www.garethstevens.com/9781433963179",null,{"$f":"Table1[[#This Row],[QTY]]*Table1[[#This Row],['# Books]]","v":0},{"$f":"Table1[[#This Row],[QTY]]*Table1[[#This Row],[S&L Price]]","v":0}]
[null,null,25,"Everyday Mysteries",1,"Where Does Our Food Come From?","eBook",null,"978-1-4339-6318-6",{"$f":"HYPERLINK(Table1[[#This Row],[eCommerce Hyperlink]],\"Book Weblink\")","v":"Book Weblink"},null,"2012","January 2012",null,null,"Author","Debra Stilwell","2.8","0.5","18","20","I","540L","Grade 2","Grade 2 - 4","Most of the time we buy food from stores, but stores get the food from somewhere too. With the help of easy-to-follow text and detailed diagrams, readers will visit farms and follow food on its journey to farmers markets, factories, and stores. Readers learn how fresh foods are sold in markets and are also used to make the processed foods we buy in stores. Vibrant photographs make this book a visual feast.","English",24.6,18.45,"641.3","24 pp.","https://www.garethstevens.com/9781433963186",null,{"$f":"Table1[[#This Row],[QTY]]*Table1[[#This Row],['# Books]]","v":0},{"$f":"Table1[[#This Row],[QTY]]*Table1[[#This Row],[S&L Price]]","v":0}]
[null,null,25,"Everyday Mysteries",1,"Where Does the Bathwater Go?","Library Bound Book",null,"978-1-4339-6321-6",{"$f":"HYPERLINK(Table1[[#This Row],[eCommerce Hyperlink]],\"Book Weblink\")","v":"Book Weblink"},null,"2012","January 2012","Library","7.000 X 7.000","Author","Daisy Allyn","3","0.5","18","20","J","550L","Grade 2","Grade 2 - 4","Running water is something many people take for granted. Readers will learn where our clean water comes from, where the bathwater goes, and more with the help of this valuable resource. Colorful photographs and clarifying diagrams take readers where they never thought they’d ever go—down the drain and beneath the neighborhood.","English",24.6,18.45,"628.3","24 pp.","https://www.garethstevens.com/9781433963216",null,{"$f":"Table1[[#This Row],[QTY]]*Table1[[#This Row],['# Books]]","v":0},{"$f":"Table1[[#This Row],[QTY]]*Table1[[#This Row],[S&L Price]]","v":0}]
[null,null,25,"Everyday Mysteries",1,"Where Does the Bathwater Go?","eBook",null,"978-1-4339-6322-3",{"$f":"HYPERLINK(Table1[[#This Row],[eCommerce Hyperlink]],\"Book Weblink\")","v":"Book Weblink"},null,"2012","January 2012",null,null,"Author","Daisy Allyn","3","0.5","18","20","J","550L","Grade 2","Grade 2 - 4","Running water is something many people take for granted. Readers will learn where our clean water comes from, where the bathwater goes, and more with the help of this valuable resource. Colorful photographs and clarifying diagrams take readers where they never thought they’d ever go—down the drain and beneath the neighborhood.","English",24.6,18.45,"628.3","24 pp.","https://www.garethstevens.com/9781433963223",null,{"$f":"Table1[[#This Row],[QTY]]*Table1[[#This Row],['# Books]]","v":0},{"$f":"Table1[[#This Row],[QTY]]*Table1[[#This Row],[S&L Price]]","v":0}]
[null,null,25,"Everyday Mysteries",1,"Where Does the Garbage Go?","Library Bound Book",null,"978-1-4339-6325-4",{"$f":"HYPERLINK(Table1[[#This Row],[eCommerce Hyperlink]],\"Book Weblink\")","v":"Book Weblink"},null,"2012","January 2012","Library","7.000 X 7.000","Author","Lincoln James","3.2","0.5","18","20","I","580L","Grade 2","Grade 2 - 4","Banana peels, apple cores, candy wrappers, and dirty diapers—it’s all garbage. No one wants garbage piling up around their homes, so we put it at the curb for the garbage truck. The answers to where that garbage ends up might surprise readers. Informative photographs and a summarizing diagram show readers where our garbage goes. The text also offers ideas on how to help protect the planet by reducing the amount of garbage we throw away.","English",24.6,18.45,"363.72","24 pp.","https://www.garethstevens.com/9781433963254",null,{"$f":"Table1[[#This Row],[QTY]]*Table1[[#This Row],['# Books]]","v":0},{"$f":"Table1[[#This Row],[QTY]]*Table1[[#This Row],[S&L Price]]","v":0}]
[null,null,25,"Everyday Mysteries",1,"Where Does the Garbage Go?","eBook",null,"978-1-4339-6326-1",{"$f":"HYPERLINK(Table1[[#This Row],[eCommerce Hyperlink]],\"Book Weblink\")","v":"Book Weblink"},null,"2012","January 2012",null,null,"Author","Lincoln James","3.2","0.5","18","20","I","580L","Grade 2","Grade 2 - 4","Banana peels, apple cores, candy wrappers, and dirty diapers—it’s all garbage. No one wants garbage piling up around their homes, so we put it at the curb for the garbage truck. The answers to where that garbage ends up might surprise readers. Informative photographs and a summarizing diagram show readers where our garbage goes. The text also offers ideas on how to help protect the planet by reducing the amount of garbage we throw away.","English",24.6,18.45,"363.72","24 pp.","https://www.garethstevens.com/9781433963261",null,{"$f":"Table1[[#This Row],[QTY]]*Table1[[#This Row],['# Books]]","v":0},{"$f":"Table1[[#This Row],[QTY]]*Table1[[#This Row],[S&L Price]]","v":0}]
[null,null,25,"Everyday Mysteries",1,"Where Does the Mail Go?","Library Bound Book",null,"978-1-4339-6329-2",{"$f":"HYPERLINK(Table1[[#This Row],[eCommerce Hyperlink]],\"Book Weblink\")","v":"Book Weblink"},null,"2012","January 2012","Library","7.000 X 7.000","Author","Koston Meyer","3.1","0.5","18","20","I","570L","Grade 2","Grade 2 - 4","Readers will follow the mail as it goes through the post office and processing plant, where it’s prepared for the rest of its journey. The informative text and accompanying photographs in this book bring readers along for the incredible trip. A concluding diagram helps readers summarize what they’ve read using fun and colorful images.","English",24.6,18.45,"383","24 pp.","https://www.garethstevens.com/9781433963292",null,{"$f":"Table1[[#This Row],[QTY]]*Table1[[#This Row],['# Books]]","v":0},{"$f":"Table1[[#This Row],[QTY]]*Table1[[#This Row],[S&L Price]]","v":0}]
[null,null,25,"Everyday Mysteries",1,"Where Does the Mail Go?","eBook",null,"978-1-4339-6330-8",{"$f":"HYPERLINK(Table1[[#This Row],[eCommerce Hyperlink]],\"Book Weblink\")","v":"Book Weblink"},null,"2012","January 2012",null,null,"Author","Koston Meyer","3.1","0.5","18","20","I","570L","Grade 2","Grade 2 - 4","Readers will follow the mail as it goes through the post office and processing plant, where it’s prepared for the rest of its journey. The informative text and accompanying photographs in this book bring readers along for the incredible trip. A concluding diagram helps readers summarize what they’ve read using fun and colorful images.","English",24.6,18.45,"383","24 pp.","https://www.garethstevens.com/9781433963308",null,{"$f":"Table1[[#This Row],[QTY]]*Table1[[#This Row],['# Books]]","v":0},{"$f":"Table1[[#This Row],[QTY]]*Table1[[#This Row],[S&L Price]]","v":0}]
[null,null,25,"Everyday Mysteries",1,"Where Does the Recycling Go?","Library Bound Book",null,"978-1-4339-6333-9",{"$f":"HYPERLINK(Table1[[#This Row],[eCommerce Hyperlink]],\"Book Weblink\")","v":"Book Weblink"},null,"2012","January 2012","Library","7.000 X 7.000","Author","John M. Shea ","3.5","0.5","18","20","J","570L","Grade 2","Grade 2 - 4","Recycling is a great way to help take care of the planet. Many people recycle glass, paper, metal, and plastic instead of throwing it into the garbage. Inside this informative volume, readers will see up-close how recyclable garbage is transformed into new products. A fast-fact chart helps readers understand the importance of recycling.","English",24.6,18.45,"628.4","24 pp.","https://www.garethstevens.com/9781433963339",null,{"$f":"Table1[[#This Row],[QTY]]*Table1[[#This Row],['# Books]]","v":0},{"$f":"Table1[[#This Row],[QTY]]*Table1[[#This Row],[S&L Price]]","v":0}]
[null,null,25,"Everyday Mysteries",1,"Where Does the Recycling Go?","eBook",null,"978-1-4339-6334-6",{"$f":"HYPERLINK(Table1[[#This Row],[eCommerce Hyperlink]],\"Book Weblink\")","v":"Book Weblink"},null,"2012","January 2012",null,null,"Author","John M. Shea ","3.5","0.5","18","20","J","570L","Grade 2","Grade 2 - 4","Recycling is a great way to help take care of the planet. Many people recycle glass, paper, metal, and plastic instead of throwing it into the garbage. Inside this informative volume, readers will see up-close how recyclable garbage is transformed into new products. A fast-fact chart helps readers understand the importance of recycling.","English",24.6,18.45,"628.4","24 pp.","https://www.garethstevens.com/9781433963346",null,{"$f":"Table1[[#This Row],[QTY]]*Table1[[#This Row],['# Books]]","v":0},{"$f":"Table1[[#This Row],[QTY]]*Table1[[#This Row],[S&L Price]]","v":0}]
[null,null,25,"Everyday Mysteries",6,"Everyday Mysteries: Set 2","Library Set",null,"978-1-4824-4283-0",{"$f":"HYPERLINK(Table1[[#This Row],[eCommerce Hyperlink]],\"Book Weblink\")","v":"Book Weblink"},null,"2016","January 2016","Library","7.000 X 7.000",null,null,null,null,null,null,null,null,"Grade 1 - 2","Grade 1 - 3","There’s so much to learn about the world around us! Asking questions is a great way to do so. Readers can satisfy their curiosity about many common subjects such as why food gets moldy, where toilet water goes after it’s flushed, and how paper is made. Simple explanations of these processes and others are easy for young readers to follow and interesting for anyone to learn! Full-color photographs and illustrations show each step and complement the age-appropriate language used throughout. \n\n•Introduces sustainable habits, such as recycling, where appropriate \n•Uses relatable examples readers would encounter in their daily lives\n•Final page diagram shows each book’s process step-by-step in its entirety","English",141.6,106.2,null,"24 pp.","https://www.garethstevens.com/9781482442830",null,{"$f":"Table1[[#This Row],[QTY]]*Table1[[#This Row],['# Books]]","v":0},{"$f":"Table1[[#This Row],[QTY]]*Table1[[#This Row],[S&L Price]]","v":0}]
[null,null,25,"Everyday Mysteries",1,"How Does a Light Bulb Work?","Library Bound Book",null,"978-1-4824-3819-2",{"$f":"HYPERLINK(Table1[[#This Row],[eCommerce Hyperlink]],\"Book Weblink\")","v":"Book Weblink"},null,"2016","January 2016","Library","7.000 X 7.000","Author","Demi Jackson","3.2","0.5",null,null,"I","620L","Grade 1 - 2","Grade 1 - 3","In the past few decades, light bulb technology has gotten better. Not only have compact fluorescent light bulbs become available and affordable, but federal guidelines have caused incandescent light bulbs to become more efficient, too. Readers learn about both kinds of light bulbs, how they work, and their differences. They’ll find an introduction to important science curriculum concepts such as circuits and environmental impact. The main content traces electricity’s path from the power plant all the way to the lamp in a house, and a colorful diagram illustrates this process as well.","English",23.6,17.7,"621.32'6--dc23","24 pp.","https://www.garethstevens.com/9781482438192",null,{"$f":"Table1[[#This Row],[QTY]]*Table1[[#This Row],['# Books]]","v":0},{"$f":"Table1[[#This Row],[QTY]]*Table1[[#This Row],[S&L Price]]","v":0}]
[null,null,25,"Everyday Mysteries",1,"How Does a Light Bulb Work?","eBook",null,"978-1-4824-3820-8",{"$f":"HYPERLINK(Table1[[#This Row],[eCommerce Hyperlink]],\"Book Weblink\")","v":"Book Weblink"},null,"2016","January 2016",null,null,"Author","Demi Jackson","3.2","0.5",null,null,"I","620L","Grade 1 - 2","Grade 1 - 3","In the past few decades, light bulb technology has gotten better. Not only have compact fluorescent light bulbs become available and affordable, but federal guidelines have caused incandescent light bulbs to become more efficient, too. Readers learn about both kinds of light bulbs, how they work, and their differences. They’ll find an introduction to important science curriculum concepts such as circuits and environmental impact. The main content traces electricity’s path from the power plant all the way to the lamp in a house, and a colorful diagram illustrates this process as well.","English",23.6,17.7,"621.32'6--dc23","24 pp.","https://www.garethstevens.com/9781482438208",null,{"$f":"Table1[[#This Row],[QTY]]*Table1[[#This Row],['# Books]]","v":0},{"$f":"Table1[[#This Row],[QTY]]*Table1[[#This Row],[S&L Price]]","v":0}]
[null,null,25,"Everyday Mysteries",1,"How Is Paper Made?","Library Bound Book",null,"978-1-4824-3823-9",{"$f":"HYPERLINK(Table1[[#This Row],[eCommerce Hyperlink]],\"Book Weblink\")","v":"Book Weblink"},null,"2016","January 2016","Library","7.000 X 7.000","Author","Demi Jackson","3.1","0.5",null,null,"H","570L","Grade 1 - 2","Grade 1 - 3","The ancient Chinese began making paper about 2,000 years ago. The basic process they created has been used throughout history. However, paper companies today use machines and can make a lot of paper at once instead of just one sheet at a time. Readers track papermaking from cutting down trees and making pulp with the wood to the final product we can use for writing. Full-color photographs show the papermaking process step by step, and an illustrated diagram simplifies it further for readers to review after reading the main content.","English",23.6,17.7,"676--dc23","24 pp.","https://www.garethstevens.com/9781482438239",null,{"$f":"Table1[[#This Row],[QTY]]*Table1[[#This Row],['# Books]]","v":0},{"$f":"Table1[[#This Row],[QTY]]*Table1[[#This Row],[S&L Price]]","v":0}]
[null,null,25,"Everyday Mysteries",1,"How Is Paper Made?","eBook",null,"978-1-4824-3824-6",{"$f":"HYPERLINK(Table1[[#This Row],[eCommerce Hyperlink]],\"Book Weblink\")","v":"Book Weblink"},null,"2016","January 2016",null,null,"Author","Demi Jackson","3.1","0.5",null,null,"H","570L","Grade 1 - 2","Grade 1 - 3","The ancient Chinese began making paper about 2,000 years ago. The basic process they created has been used throughout history. However, paper companies today use machines and can make a lot of paper at once instead of just one sheet at a time. Readers track papermaking from cutting down trees and making pulp with the wood to the final product we can use for writing. Full-color photographs show the papermaking process step by step, and an illustrated diagram simplifies it further for readers to review after reading the main content.","English",23.6,17.7,"676--dc23","24 pp.","https://www.garethstevens.com/9781482438246",null,{"$f":"Table1[[#This Row],[QTY]]*Table1[[#This Row],['# Books]]","v":0},{"$f":"Table1[[#This Row],[QTY]]*Table1[[#This Row],[S&L Price]]","v":0}]
[null,null,25,"Everyday Mysteries",1,"What Happens When I Flush the Toilet?","Library Bound Book",null,"978-1-4824-3827-7",{"$f":"HYPERLINK(Table1[[#This Row],[eCommerce Hyperlink]],\"Book Weblink\")","v":"Book Weblink"},null,"2016","January 2016","Library","7.000 X 7.000","Author","Walter LaPlante","3.5","0.5",null,null,"I",null,"Grade 1 - 2","Grade 1 - 3","One person uses more than 20,000 sheets of toilet paper each year. That means a family of four uses more than 80,000 sheets. What happens to all that used tissue? Readers follow this and other waste through the toilet to discover this very answer. Full-color photographs and a simple graphic organizer aid readers’ understanding of this everyday process, including an accessible description of common waste management. Including a brief history of the toilet, the main content is written in accessible language for curious readers.","English",23.6,17.7,"644'.6--dc23","24 pp.","https://www.garethstevens.com/9781482438277",null,{"$f":"Table1[[#This Row],[QTY]]*Table1[[#This Row],['# Books]]","v":0},{"$f":"Table1[[#This Row],[QTY]]*Table1[[#This Row],[S&L Price]]","v":0}]
[null,null,25,"Everyday Mysteries",1,"What Happens When I Flush the Toilet?","eBook",null,"978-1-4824-3828-4",{"$f":"HYPERLINK(Table1[[#This Row],[eCommerce Hyperlink]],\"Book Weblink\")","v":"Book Weblink"},null,"2016","January 2016",null,null,"Author","Walter LaPlante","3.5","0.5",null,null,"I",null,"Grade 1 - 2","Grade 1 - 3","One person uses more than 20,000 sheets of toilet paper each year. That means a family of four uses more than 80,000 sheets. What happens to all that used tissue? Readers follow this and other waste through the toilet to discover this very answer. Full-color photographs and a simple graphic organizer aid readers’ understanding of this everyday process, including an accessible description of common waste management. Including a brief history of the toilet, the main content is written in accessible language for curious readers.","English",23.6,17.7,"644'.6--dc23","24 pp.","https://www.garethstevens.com/9781482438284",null,{"$f":"Table1[[#This Row],[QTY]]*Table1[[#This Row],['# Books]]","v":0},{"$f":"Table1[[#This Row],[QTY]]*Table1[[#This Row],[S&L Price]]","v":0}]
[null,null,25,"Everyday Mysteries",1,"What Makes Fire Burn?","Library Bound Book",null,"978-1-4824-3846-8",{"$f":"HYPERLINK(Table1[[#This Row],[eCommerce Hyperlink]],\"Book Weblink\")","v":"Book Weblink"},null,"2016","January 2016","Library","7.000 X 7.000","Author","Walter LaPlante","2.9","0.5",null,null,"J","660L","Grade 1 - 2","Grade 1 - 3","There are a lot of ways to start a fire: flint and steel, matches, a magnifying glass and sunlight. However it starts, all fire needs oxygen, fuel, and heat. To some, it may almost seem like magic, but there’s a complicated chemical reaction taking place when a fire is lit! Readers learn what makes fire burn simply through age-appropriate language and content. Full-color photographs complement the main content and are followed by an illustrated graphic organizer that shows the process step-by-step.","English",23.6,17.7,"541.361--dc23","24 pp.","https://www.garethstevens.com/9781482438468",null,{"$f":"Table1[[#This Row],[QTY]]*Table1[[#This Row],['# Books]]","v":0},{"$f":"Table1[[#This Row],[QTY]]*Table1[[#This Row],[S&L Price]]","v":0}]
[null,null,25,"Everyday Mysteries",1,"What Makes Fire Burn?","eBook",null,"978-1-4824-3847-5",{"$f":"HYPERLINK(Table1[[#This Row],[eCommerce Hyperlink]],\"Book Weblink\")","v":"Book Weblink"},null,"2016","January 2016",null,null,"Author","Walter LaPlante","2.9","0.5",null,null,"J","660L","Grade 1 - 2","Grade 1 - 3","There are a lot of ways to start a fire: flint and steel, matches, a magnifying glass and sunlight. However it starts, all fire needs oxygen, fuel, and heat. To some, it may almost seem like magic, but there’s a complicated chemical reaction taking place when a fire is lit! Readers learn what makes fire burn simply through age-appropriate language and content. Full-color photographs complement the main content and are followed by an illustrated graphic organizer that shows the process step-by-step.","English",23.6,17.7,"541.361--dc23","24 pp.","https://www.garethstevens.com/9781482438475",null,{"$f":"Table1[[#This Row],[QTY]]*Table1[[#This Row],['# Books]]","v":0},{"$f":"Table1[[#This Row],[QTY]]*Table1[[#This Row],[S&L Price]]","v":0}]
[null,null,25,"Everyday Mysteries",1,"Why Do Ice Cubes Float?","Library Bound Book",null,"978-1-4824-3854-3",{"$f":"HYPERLINK(Table1[[#This Row],[eCommerce Hyperlink]],\"Book Weblink\")","v":"Book Weblink"},null,"2016","January 2016","Library","7.000 X 7.000","Author","Benjamin Proudfit","3","0.5",null,null,"I","690L","Grade 1 - 2","Grade 1 - 3","Water is a big part of everyday life. People wash with it, drink it, and run inside when it falls as rain. It also seems to defy the basics of physical science by floating in liquid when frozen as ice. Readers learn exactly why that is through accessible and age-appropriate language, as well as how liquid water becomes ice. Full-color photographs complement the main content, and an illustrated graphic organizer shows this common process step-by-step to help readers truly understand this science concept.","English",23.6,17.7,"532.25--dc23","24 pp.","https://www.garethstevens.com/9781482438543",null,{"$f":"Table1[[#This Row],[QTY]]*Table1[[#This Row],['# Books]]","v":0},{"$f":"Table1[[#This Row],[QTY]]*Table1[[#This Row],[S&L Price]]","v":0}]
[null,null,25,"Everyday Mysteries",1,"Why Do Ice Cubes Float?","eBook",null,"978-1-4824-3855-0",{"$f":"HYPERLINK(Table1[[#This Row],[eCommerce Hyperlink]],\"Book Weblink\")","v":"Book Weblink"},null,"2016","January 2016",null,null,"Author","Benjamin Proudfit","3","0.5",null,null,"I","690L","Grade 1 - 2","Grade 1 - 3","Water is a big part of everyday life. People wash with it, drink it, and run inside when it falls as rain. It also seems to defy the basics of physical science by floating in liquid when frozen as ice. Readers learn exactly why that is through accessible and age-appropriate language, as well as how liquid water becomes ice. Full-color photographs complement the main content, and an illustrated graphic organizer shows this common process step-by-step to help readers truly understand this science concept.","English",23.6,17.7,"532.25--dc23","24 pp.","https://www.garethstevens.com/9781482438550",null,{"$f":"Table1[[#This Row],[QTY]]*Table1[[#This Row],['# Books]]","v":0},{"$f":"Table1[[#This Row],[QTY]]*Table1[[#This Row],[S&L Price]]","v":0}]
[null,null,25,"Everyday Mysteries",1,"Why Does Food Go Bad?","Library Bound Book",null,"978-1-4824-3850-5",{"$f":"HYPERLINK(Table1[[#This Row],[eCommerce Hyperlink]],\"Book Weblink\")","v":"Book Weblink"},null,"2016","January 2016","Library","7.000 X 7.000","Author","Benjamin Proudfit","3.4","0.5",null,null,"I",null,"Grade 1 - 2","Grade 1 - 3","It's disappointing to open a container of strawberries only to see green fuzz covering them. Even worse is pulling out moldy cheese for a sandwich! Fruits and vegetables actually begin breaking down the minute they're picked. With more packaged food, like meat, cheese, and bread, this begins right when the seal is broken, or before if it's been on the shelf too long! Bacteria are the main culprits of food going bad, as readers learn in this book. Up-close photographs and an illustrated diagram of the process help readers further understand an everyday problem and the science behind it.","English",23.6,17.7,"664.001'579--dc23","24 pp.","https://www.garethstevens.com/9781482438505",null,{"$f":"Table1[[#This Row],[QTY]]*Table1[[#This Row],['# Books]]","v":0},{"$f":"Table1[[#This Row],[QTY]]*Table1[[#This Row],[S&L Price]]","v":0}]
[null,null,25,"Everyday Mysteries",1,"Why Does Food Go Bad?","eBook",null,"978-1-4824-3851-2",{"$f":"HYPERLINK(Table1[[#This Row],[eCommerce Hyperlink]],\"Book Weblink\")","v":"Book Weblink"},null,"2016","January 2016",null,null,"Author","Benjamin Proudfit","3.4","0.5",null,null,"I",null,"Grade 1 - 2","Grade 1 - 3","It's disappointing to open a container of strawberries only to see green fuzz covering them. Even worse is pulling out moldy cheese for a sandwich! Fruits and vegetables actually begin breaking down the minute they're picked. With more packaged food, like meat, cheese, and bread, this begins right when the seal is broken, or before if it's been on the shelf too long! Bacteria are the main culprits of food going bad, as readers learn in this book. Up-close photographs and an illustrated diagram of the process help readers further understand an everyday problem and the science behind it.","English",23.6,17.7,"664.001'579--dc23","24 pp.","https://www.garethstevens.com/9781482438512",null,{"$f":"Table1[[#This Row],[QTY]]*Table1[[#This Row],['# Books]]","v":0},{"$f":"Table1[[#This Row],[QTY]]*Table1[[#This Row],[S&L Price]]","v":0}]
[null,null,25,"Everyday Mysteries",6,"Everyday Mysteries: Set 3","Library Set",null,"978-1-5382-5764-7",{"$f":"HYPERLINK(Table1[[#This Row],[eCommerce Hyperlink]],\"Book Weblink\")","v":"Book Weblink"},null,"2021","August 2020","Library","7.000 X 7.000",null,null,null,null,null,null,null,null,"Grade 1 - 2","Grade 1 - 3","One of the most charming characteristics of young scientists is their ability to see the amazing in what others view as common. They don't look past the familiar. Rather, they constantly question why things are the way they are. These investigative volumes are perfect for inquiring minds! They'll learn how rocks and rainbows form, why the moon seems to change shape, and many other things through carefully researched, accessible narratives and helpful, illustrative photographs. Features include: Topics relate to elementary curricular content, including Next Gen Science Standards. Each volume concludes with a diagram to synopsize important information. Comprehensible texts help readers understand the relevance of science concepts in their everyday lives.","English",141.6,106.2,null,"24 pp.","https://www.garethstevens.com/9781538257647",null,{"$f":"Table1[[#This Row],[QTY]]*Table1[[#This Row],['# Books]]","v":0},{"$f":"Table1[[#This Row],[QTY]]*Table1[[#This Row],[S&L Price]]","v":0}]
[null,null,25,"Everyday Mysteries",1,"How Do Rocks Form?","Library Bound Book",null,"978-1-5382-5661-9",{"$f":"HYPERLINK(Table1[[#This Row],[eCommerce Hyperlink]],\"Book Weblink\")","v":"Book Weblink"},null,"2021","August 2020","Library","7.000 X 7.000","Author","John O'Mara",null,null,null,null,"K",null,"Grade 1 - 2","Grade 1 - 3","Rocks are everywhere. How they formed in the first place is a question we may have never asked, but it's something we all should learn. With this engaging volume, budding geologists will come to appreciate Earth's remarkable rock cycle and marvel at the processes that create, destroy, and reshape the landforms we know. Essential vocabulary terms, accessible explanations, and helpful diagrams make this a valuable book for every earth science collection.","English",23.6,17.7,"552--dc23","24 pp.","https://www.garethstevens.com/9781538256619",null,{"$f":"Table1[[#This Row],[QTY]]*Table1[[#This Row],['# Books]]","v":0},{"$f":"Table1[[#This Row],[QTY]]*Table1[[#This Row],[S&L Price]]","v":0}]
[null,null,25,"Everyday Mysteries",1,"How Do Rocks Form?","eBook",null,"978-1-5382-5662-6",{"$f":"HYPERLINK(Table1[[#This Row],[eCommerce Hyperlink]],\"Book Weblink\")","v":"Book Weblink"},null,"2021","August 2020",null,null,"Author","John O'Mara",null,null,null,null,"K",null,"Grade 1 - 2","Grade 1 - 3","Rocks are everywhere. How they formed in the first place is a question we may have never asked, but it's something we all should learn. With this engaging volume, budding geologists will come to appreciate Earth's remarkable rock cycle and marvel at the processes that create, destroy, and reshape the landforms we know. Essential vocabulary terms, accessible explanations, and helpful diagrams make this a valuable book for every earth science collection.","English",23.6,17.7,"552--dc23","24 pp.","https://www.garethstevens.com/9781538256626",null,{"$f":"Table1[[#This Row],[QTY]]*Table1[[#This Row],['# Books]]","v":0},{"$f":"Table1[[#This Row],[QTY]]*Table1[[#This Row],[S&L Price]]","v":0}]
[null,null,25,"Everyday Mysteries",1,"How Does a Thermometer Work?","Library Bound Book",null,"978-1-5382-5665-7",{"$f":"HYPERLINK(Table1[[#This Row],[eCommerce Hyperlink]],\"Book Weblink\")","v":"Book Weblink"},null,"2021","August 2020","Library","7.000 X 7.000","Author","John O'Mara",null,null,null,null,"K",null,"Grade 1 - 2","Grade 1 - 3","When we're checking thermometers to see what the temperature is outside, inside, or our own body temperature, we rarely think about what makes the thermometer function. This amazing, reliable invention is attributed to Galileo. Readers will learn about the first mercury thermometers and how they work and they'll review the digital models they may be more familiar with today. Many important science concepts are presented along with beneficial photographs and images to support reading comprehension.","English",23.6,17.7,"681'.2--dc23","24 pp.","https://www.garethstevens.com/9781538256657",null,{"$f":"Table1[[#This Row],[QTY]]*Table1[[#This Row],['# Books]]","v":0},{"$f":"Table1[[#This Row],[QTY]]*Table1[[#This Row],[S&L Price]]","v":0}]
[null,null,25,"Everyday Mysteries",1,"How Does a Thermometer Work?","eBook",null,"978-1-5382-5666-4",{"$f":"HYPERLINK(Table1[[#This Row],[eCommerce Hyperlink]],\"Book Weblink\")","v":"Book Weblink"},null,"2021","August 2020",null,null,"Author","John O'Mara",null,null,null,null,"K",null,"Grade 1 - 2","Grade 1 - 3","When we're checking thermometers to see what the temperature is outside, inside, or our own body temperature, we rarely think about what makes the thermometer function. This amazing, reliable invention is attributed to Galileo. Readers will learn about the first mercury thermometers and how they work and they'll review the digital models they may be more familiar with today. Many important science concepts are presented along with beneficial photographs and images to support reading comprehension.","English",23.6,17.7,"681'.2--dc23","24 pp.","https://www.garethstevens.com/9781538256664",null,{"$f":"Table1[[#This Row],[QTY]]*Table1[[#This Row],['# Books]]","v":0},{"$f":"Table1[[#This Row],[QTY]]*Table1[[#This Row],[S&L Price]]","v":0}]
[null,null,25,"Everyday Mysteries",1,"What Makes a Rainbow Appear?","Library Bound Book",null,"978-1-5382-5657-2",{"$f":"HYPERLINK(Table1[[#This Row],[eCommerce Hyperlink]],\"Book Weblink\")","v":"Book Weblink"},null,"2021","August 2020","Library","7.000 X 7.000","Author","John O'Mara",null,null,null,null,"K",null,"Grade 1 - 2","Grade 1 - 3","Rainbows are those rare phenomena that make people stop and appreciate the beauty of nature. Why and how they appear are the high-interest topics of this accessible book. While readers will be captivated by beautiful color photographs of rainbows, they'll also be intrigued by the properties of light that make such a display possible. A concluding diagram reinforces comprehension of the key concepts, which relate closely to elementary science curricula.","English",23.6,17.7,"551.567--dc23","24 pp.","https://www.garethstevens.com/9781538256572",null,{"$f":"Table1[[#This Row],[QTY]]*Table1[[#This Row],['# Books]]","v":0},{"$f":"Table1[[#This Row],[QTY]]*Table1[[#This Row],[S&L Price]]","v":0}]
[null,null,25,"Everyday Mysteries",1,"What Makes a Rainbow Appear?","eBook",null,"978-1-5382-5658-9",{"$f":"HYPERLINK(Table1[[#This Row],[eCommerce Hyperlink]],\"Book Weblink\")","v":"Book Weblink"},null,"2021","August 2020",null,null,"Author","John O'Mara",null,null,null,null,"K",null,"Grade 1 - 2","Grade 1 - 3","Rainbows are those rare phenomena that make people stop and appreciate the beauty of nature. Why and how they appear are the high-interest topics of this accessible book. While readers will be captivated by beautiful color photographs of rainbows, they'll also be intrigued by the properties of light that make such a display possible. A concluding diagram reinforces comprehension of the key concepts, which relate closely to elementary science curricula.","English",23.6,17.7,"551.567--dc23","24 pp.","https://www.garethstevens.com/9781538256589",null,{"$f":"Table1[[#This Row],[QTY]]*Table1[[#This Row],['# Books]]","v":0},{"$f":"Table1[[#This Row],[QTY]]*Table1[[#This Row],[S&L Price]]","v":0}]
[null,null,25,"Everyday Mysteries",1,"What Makes Lightning and Thunder?","Library Bound Book",null,"978-1-5382-5649-7",{"$f":"HYPERLINK(Table1[[#This Row],[eCommerce Hyperlink]],\"Book Weblink\")","v":"Book Weblink"},null,"2021","August 2020","Library","7.000 X 7.000","Author","Marie Roesser",null,null,null,null,"K",null,"Grade 1 - 2","Grade 1 - 3","Storm watchers enjoy the thrill of viewing Nature's pyrotechnics. It's at once engrossing and sometimes quite scary. Young meteorologists will love learning what's going on behind the flashes and booms of storms through the inviting pages of this lively volume. At-level text provides comprehensible explanations while supportive photographs and diagrams help readers remember need-to-know facts.","English",23.6,17.7,"551.56'32--dc23","24 pp.","https://www.garethstevens.com/9781538256497",null,{"$f":"Table1[[#This Row],[QTY]]*Table1[[#This Row],['# Books]]","v":0},{"$f":"Table1[[#This Row],[QTY]]*Table1[[#This Row],[S&L Price]]","v":0}]
[null,null,25,"Everyday Mysteries",1,"What Makes Lightning and Thunder?","eBook",null,"978-1-5382-5650-3",{"$f":"HYPERLINK(Table1[[#This Row],[eCommerce Hyperlink]],\"Book Weblink\")","v":"Book Weblink"},null,"2021","August 2020",null,null,"Author","Marie Roesser",null,null,null,null,"K",null,"Grade 1 - 2","Grade 1 - 3","Storm watchers enjoy the thrill of viewing Nature's pyrotechnics. It's at once engrossing and sometimes quite scary. Young meteorologists will love learning what's going on behind the flashes and booms of storms through the inviting pages of this lively volume. At-level text provides comprehensible explanations while supportive photographs and diagrams help readers remember need-to-know facts.","English",23.6,17.7,"551.56'32--dc23","24 pp.","https://www.garethstevens.com/9781538256503",null,{"$f":"Table1[[#This Row],[QTY]]*Table1[[#This Row],['# Books]]","v":0},{"$f":"Table1[[#This Row],[QTY]]*Table1[[#This Row],[S&L Price]]","v":0}]
[null,null,25,"Everyday Mysteries",1,"Why Do Leaves Change Colors?","Library Bound Book",null,"978-1-5382-5653-4",{"$f":"HYPERLINK(Table1[[#This Row],[eCommerce Hyperlink]],\"Book Weblink\")","v":"Book Weblink"},null,"2021","August 2020","Library","7.000 X 7.000","Author","Marie Roesser",null,null,null,null,"K",null,"Grade 1 - 2","Grade 1 - 3","Yes, the changing colors of leaves signal the coming of fall, but why do they change? Is it the cold, the amount of sunlight...young naturalists need to know! This engaging book reveals the science behind the colorful leaves we see falling to the ground each year. Scientific vocabulary and spectacular photographs support up-and-coming scientists' understanding as they learn about the natural processes at work, not just in autumn, but all year round.","English",23.6,17.7,"581.4'8--dc23","24 pp.","https://www.garethstevens.com/9781538256534",null,{"$f":"Table1[[#This Row],[QTY]]*Table1[[#This Row],['# Books]]","v":0},{"$f":"Table1[[#This Row],[QTY]]*Table1[[#This Row],[S&L Price]]","v":0}]
[null,null,25,"Everyday Mysteries",1,"Why Do Leaves Change Colors?","eBook",null,"978-1-5382-5654-1",{"$f":"HYPERLINK(Table1[[#This Row],[eCommerce Hyperlink]],\"Book Weblink\")","v":"Book Weblink"},null,"2021","August 2020",null,null,"Author","Marie Roesser",null,null,null,null,"K",null,"Grade 1 - 2","Grade 1 - 3","Yes, the changing colors of leaves signal the coming of fall, but why do they change? Is it the cold, the amount of sunlight...young naturalists need to know! This engaging book reveals the science behind the colorful leaves we see falling to the ground each year. Scientific vocabulary and spectacular photographs support up-and-coming scientists' understanding as they learn about the natural processes at work, not just in autumn, but all year round.","English",23.6,17.7,"581.4'8--dc23","24 pp.","https://www.garethstevens.com/9781538256541",null,{"$f":"Table1[[#This Row],[QTY]]*Table1[[#This Row],['# Books]]","v":0},{"$f":"Table1[[#This Row],[QTY]]*Table1[[#This Row],[S&L Price]]","v":0}]
[null,null,25,"Everyday Mysteries",1,"Why Does the Moon Change Shape?","Library Bound Book",null,"978-1-5382-5669-5",{"$f":"HYPERLINK(Table1[[#This Row],[eCommerce Hyperlink]],\"Book Weblink\")","v":"Book Weblink"},null,"2021","August 2020","Library","7.000 X 7.000","Author","Marie Roesser",null,null,null,null,"K",null,"Grade 1 - 2","Grade 1 - 3","As the moon makes it way across the sky, it certainly appears to change its shape over time and successive nights. What's actually happening when we see transformations in the moon's form is explained clearly in this appealing book. Terms such as full moon, new moon, and many others are woven into the accessible narrative. Cool diagrams and vivid photographs enhance this valuable space science information about our bella Luna.","English",23.6,17.7,"523.3/2--dc23","24 pp.","https://www.garethstevens.com/9781538256695",null,{"$f":"Table1[[#This Row],[QTY]]*Table1[[#This Row],['# Books]]","v":0},{"$f":"Table1[[#This Row],[QTY]]*Table1[[#This Row],[S&L Price]]","v":0}]
[null,null,25,"Everyday Mysteries",1,"Why Does the Moon Change Shape?","eBook",null,"978-1-5382-5670-1",{"$f":"HYPERLINK(Table1[[#This Row],[eCommerce Hyperlink]],\"Book Weblink\")","v":"Book Weblink"},null,"2021","August 2020",null,null,"Author","Marie Roesser",null,null,null,null,"K",null,"Grade 1 - 2","Grade 1 - 3","As the moon makes it way across the sky, it certainly appears to change its shape over time and successive nights. What's actually happening when we see transformations in the moon's form is explained clearly in this appealing book. Terms such as full moon, new moon, and many others are woven into the accessible narrative. Cool diagrams and vivid photographs enhance this valuable space science information about our bella Luna.","English",23.6,17.7,"523.3/2--dc23","24 pp.","https://www.garethstevens.com/9781538256701",null,{"$f":"Table1[[#This Row],[QTY]]*Table1[[#This Row],['# Books]]","v":0},{"$f":"Table1[[#This Row],[QTY]]*Table1[[#This Row],[S&L Price]]","v":0}]
[null,null,25,"I'm Allergic",6,"I'm Allergic: Set 1","Library Set",null,"978-1-4824-0973-4",{"$f":"HYPERLINK(Table1[[#This Row],[eCommerce Hyperlink]],\"Book Weblink\")","v":"Book Weblink"},null,"2015","August 2014","Library","7.000 X 7.000",null,null,null,null,null,null,null,null,"Grade 1 - 2","Grade 1 - 3","Allergies are a growing problem in children. Even at a young age, children must learn what they need to stay away from—and may even carry their own epinephrine shot! Allergies to bees, wheat, nuts, and more are addressed in an informative, age-appropriate style with colorful photographs emphasizing important points. Readers are encouraged to tell teachers and friends about their allergies and to support classmates with allergies. The causes and reactions to allergies prepare readers to handle potentially dangerous situations that could occur at home, school, or at play. The knowledge gained can give readers confidence about a serious topic.     • Highlights foods or behaviors to avoid in order to prevent allergic reactions  • Alerts readers to the warning signs of an allergic reaction  • Introduces and explains an issue common in many school classrooms     ","English",141.6,106.2,null,"24 pp.","https://www.garethstevens.com/9781482409734",null,{"$f":"Table1[[#This Row],[QTY]]*Table1[[#This Row],['# Books]]","v":0},{"$f":"Table1[[#This Row],[QTY]]*Table1[[#This Row],[S&L Price]]","v":0}]
[null,null,25,"I'm Allergic",1,"I'm Allergic to Bees","Library Bound Book",null,"978-1-4824-0787-7",{"$f":"HYPERLINK(Table1[[#This Row],[eCommerce Hyperlink]],\"Book Weblink\")","v":"Book Weblink"},null,"2015","August 2014","Library","7.000 X 7.000","Author","Kristen Rajczak Nelson",null,null,"16",null,"I",null,"Grade 1 - 2","Grade 1 - 3","In the United States, about 2 million people are allergic to bee stings. If not treated properly and promptly, serious reactions can be life threatening. Readers learn what to do if they or a friend are stung by a bee and have a normal reaction, as well as what to look for if an allergic reaction is occurring. The basics of allergies are clearly explained through age-appropriate science content, and the seriousness of these conditions is emphasized. Full-color photographs of normal and allergic reactions to bee stings prepare readers further for any situation they may face.","English",23.6,17.7,"616.97","24 pp.","https://www.garethstevens.com/9781482407877",null,{"$f":"Table1[[#This Row],[QTY]]*Table1[[#This Row],['# Books]]","v":0},{"$f":"Table1[[#This Row],[QTY]]*Table1[[#This Row],[S&L Price]]","v":0}]
[null,null,25,"I'm Allergic",1,"I'm Allergic to Bees","eBook",null,"978-1-4824-0789-1",{"$f":"HYPERLINK(Table1[[#This Row],[eCommerce Hyperlink]],\"Book Weblink\")","v":"Book Weblink"},null,"2015","August 2014",null,null,"Author","Kristen Rajczak Nelson",null,null,"16",null,"I",null,"Grade 1 - 2","Grade 1 - 3","In the United States, about 2 million people are allergic to bee stings. If not treated properly and promptly, serious reactions can be life threatening. Readers learn what to do if they or a friend are stung by a bee and have a normal reaction, as well as what to look for if an allergic reaction is occurring. The basics of allergies are clearly explained through age-appropriate science content, and the seriousness of these conditions is emphasized. Full-color photographs of normal and allergic reactions to bee stings prepare readers further for any situation they may face.","English",23.6,17.7,"616.97","24 pp.","https://www.garethstevens.com/9781482407891",null,{"$f":"Table1[[#This Row],[QTY]]*Table1[[#This Row],['# Books]]","v":0},{"$f":"Table1[[#This Row],[QTY]]*Table1[[#This Row],[S&L Price]]","v":0}]
[null,null,25,"I'm Allergic",1,"I'm Allergic to Milk","Library Bound Book",null,"978-1-4824-0968-0",{"$f":"HYPERLINK(Table1[[#This Row],[eCommerce Hyperlink]],\"Book Weblink\")","v":"Book Weblink"},null,"2015","August 2014","Library","7.000 X 7.000","Author","Maria Nelson",null,null,"16",null,"I",null,"Grade 1 - 2","Grade 1 - 3","Milk allergies can develop in babies under a year old. There’s good news: most kids don’t have severe allergic reactions to milk products and many will eventually outgrow it. Readers learn the signs of a milk allergy and what kinds of food to avoid if they have such an allergy. Full-color images help draw readers into age-appropriate explanations and science information about an important subject they’ll likely encounter in their own life or that of a friend.","English",23.6,17.7,"616.97","24 pp.","https://www.garethstevens.com/9781482409680",null,{"$f":"Table1[[#This Row],[QTY]]*Table1[[#This Row],['# Books]]","v":0},{"$f":"Table1[[#This Row],[QTY]]*Table1[[#This Row],[S&L Price]]","v":0}]
[null,null,25,"I'm Allergic",1,"I'm Allergic to Milk","eBook",null,"978-1-4824-0971-0",{"$f":"HYPERLINK(Table1[[#This Row],[eCommerce Hyperlink]],\"Book Weblink\")","v":"Book Weblink"},null,"2015","August 2014",null,null,"Author","Maria Nelson",null,null,"16",null,"I",null,"Grade 1 - 2","Grade 1 - 3","Milk allergies can develop in babies under a year old. There’s good news: most kids don’t have severe allergic reactions to milk products and many will eventually outgrow it. Readers learn the signs of a milk allergy and what kinds of food to avoid if they have such an allergy. Full-color images help draw readers into age-appropriate explanations and science information about an important subject they’ll likely encounter in their own life or that of a friend.","English",23.6,17.7,"616.97","24 pp.","https://www.garethstevens.com/9781482409710",null,{"$f":"Table1[[#This Row],[QTY]]*Table1[[#This Row],['# Books]]","v":0},{"$f":"Table1[[#This Row],[QTY]]*Table1[[#This Row],[S&L Price]]","v":0}]
[null,null,25,"I'm Allergic",1,"I'm Allergic to Peanuts","Library Bound Book",null,"978-1-4824-0974-1",{"$f":"HYPERLINK(Table1[[#This Row],[eCommerce Hyperlink]],\"Book Weblink\")","v":"Book Weblink"},null,"2015","August 2014","Library","7.000 X 7.000","Author","Maria Nelson",null,null,"16",null,"I",null,"Grade 1 - 2","Grade 1 - 3","Peanut allergies can be very serious. They’re the most common food allergy to cause anaphylaxis in children. There is a blood test and a skin prick test to confirm a peanut allergy, but no cure. The only way to avoid a reaction is to stay away from peanuts altogether. Readers learn the potential severity of peanut allergies and the symptoms one might experience. Full-color images alert them to food packaging labels and the possibility of peanuts on ingredients lists. Readers’ new understanding of peanut allergies and knowledge of symptoms could help save a friend’s or family member’s life.","English",23.6,17.7,"618.92","24 pp.","https://www.garethstevens.com/9781482409741",null,{"$f":"Table1[[#This Row],[QTY]]*Table1[[#This Row],['# Books]]","v":0},{"$f":"Table1[[#This Row],[QTY]]*Table1[[#This Row],[S&L Price]]","v":0}]
[null,null,25,"I'm Allergic",1,"I'm Allergic to Peanuts","eBook",null,"978-1-4824-0977-2",{"$f":"HYPERLINK(Table1[[#This Row],[eCommerce Hyperlink]],\"Book Weblink\")","v":"Book Weblink"},null,"2015","August 2014",null,null,"Author","Maria Nelson",null,null,"16",null,"I",null,"Grade 1 - 2","Grade 1 - 3","Peanut allergies can be very serious. They’re the most common food allergy to cause anaphylaxis in children. There is a blood test and a skin prick test to confirm a peanut allergy, but no cure. The only way to avoid a reaction is to stay away from peanuts altogether. Readers learn the potential severity of peanut allergies and the symptoms one might experience. Full-color images alert them to food packaging labels and the possibility of peanuts on ingredients lists. Readers’ new understanding of peanut allergies and knowledge of symptoms could help save a friend’s or family member’s life.","English",23.6,17.7,"618.92","24 pp.","https://www.garethstevens.com/9781482409772",null,{"$f":"Table1[[#This Row],[QTY]]*Table1[[#This Row],['# Books]]","v":0},{"$f":"Table1[[#This Row],[QTY]]*Table1[[#This Row],[S&L Price]]","v":0}]
[null,null,25,"I'm Allergic",1,"I'm Allergic to Pets","Library Bound Book",null,"978-1-4824-0979-6",{"$f":"HYPERLINK(Table1[[#This Row],[eCommerce Hyperlink]],\"Book Weblink\")","v":"Book Weblink"},null,"2015","August 2014","Library","7.000 X 7.000","Author","Maria Nelson",null,null,"16",null,"I",null,"Grade 1 - 2","Grade 1 - 3","Millions of people have cats and dogs. Still, many people have pet allergies. While these allergies can often be treated by medicines or allergy shots, it’s tough to find out the cause of your sneezing is the beloved family pet! Readers learn the causes of pet allergies and the common reactions they cause. Colorful photographs of cute and cuddly pets accompany practical advice on living with pet allergies, including some ways to decrease reactions.","English",23.6,17.7,"616.97","24 pp.","https://www.garethstevens.com/9781482409796",null,{"$f":"Table1[[#This Row],[QTY]]*Table1[[#This Row],['# Books]]","v":0},{"$f":"Table1[[#This Row],[QTY]]*Table1[[#This Row],[S&L Price]]","v":0}]
[null,null,25,"I'm Allergic",1,"I'm Allergic to Pets","eBook",null,"978-1-4824-0982-6",{"$f":"HYPERLINK(Table1[[#This Row],[eCommerce Hyperlink]],\"Book Weblink\")","v":"Book Weblink"},null,"2015","August 2014",null,null,"Author","Maria Nelson",null,null,"16",null,"I",null,"Grade 1 - 2","Grade 1 - 3","Millions of people have cats and dogs. Still, many people have pet allergies. While these allergies can often be treated by medicines or allergy shots, it’s tough to find out the cause of your sneezing is the beloved family pet! Readers learn the causes of pet allergies and the common reactions they cause. Colorful photographs of cute and cuddly pets accompany practical advice on living with pet allergies, including some ways to decrease reactions.","English",23.6,17.7,"616.97","24 pp.","https://www.garethstevens.com/9781482409826",null,{"$f":"Table1[[#This Row],[QTY]]*Table1[[#This Row],['# Books]]","v":0},{"$f":"Table1[[#This Row],[QTY]]*Table1[[#This Row],[S&L Price]]","v":0}]
[null,null,25,"I'm Allergic",1,"I'm Allergic to Strawberries","Library Bound Book",null,"978-1-4824-0984-0",{"$f":"HYPERLINK(Table1[[#This Row],[eCommerce Hyperlink]],\"Book Weblink\")","v":"Book Weblink"},null,"2015","August 2014","Library","7.000 X 7.000","Author","Maria Nelson",null,null,"16",null,"I",null,"Grade 1 - 2","Grade 1 - 3","Food allergies can be difficult to deal with, especially when they’re to such a common fruit as the strawberry. While allergic reactions to this fruit are usually mild, severe stomach and respiratory problems may occur. Readers learn the cause of strawberry allergies and the most common symptoms. The concise introduction of reactions helps readers to identify a friend or family member in need or to express their own condition to others. Full-color photographs aid in preparing readers for quick action if an allergic reaction occurs.","English",23.6,17.7,"618.92","24 pp.","https://www.garethstevens.com/9781482409840",null,{"$f":"Table1[[#This Row],[QTY]]*Table1[[#This Row],['# Books]]","v":0},{"$f":"Table1[[#This Row],[QTY]]*Table1[[#This Row],[S&L Price]]","v":0}]
[null,null,25,"I'm Allergic",1,"I'm Allergic to Strawberries","eBook",null,"978-1-4824-0987-1",{"$f":"HYPERLINK(Table1[[#This Row],[eCommerce Hyperlink]],\"Book Weblink\")","v":"Book Weblink"},null,"2015","August 2014",null,null,"Author","Maria Nelson",null,null,"16",null,"I",null,"Grade 1 - 2","Grade 1 - 3","Food allergies can be difficult to deal with, especially when they’re to such a common fruit as the strawberry. While allergic reactions to this fruit are usually mild, severe stomach and respiratory problems may occur. Readers learn the cause of strawberry allergies and the most common symptoms. The concise introduction of reactions helps readers to identify a friend or family member in need or to express their own condition to others. Full-color photographs aid in preparing readers for quick action if an allergic reaction occurs.","English",23.6,17.7,"618.92","24 pp.","https://www.garethstevens.com/9781482409871",null,{"$f":"Table1[[#This Row],[QTY]]*Table1[[#This Row],['# Books]]","v":0},{"$f":"Table1[[#This Row],[QTY]]*Table1[[#This Row],[S&L Price]]","v":0}]
[null,null,25,"I'm Allergic",1,"I'm Allergic to Wheat","Library Bound Book",null,"978-1-4824-0989-5",{"$f":"HYPERLINK(Table1[[#This Row],[eCommerce Hyperlink]],\"Book Weblink\")","v":"Book Weblink"},null,"2015","August 2014","Library","7.000 X 7.000","Author","Maria Nelson",null,null,"16",null,"I",null,"Grade 1 - 2","Grade 1 - 3","Wheat allergies are some of the most common food allergies in children. They often develop in babies and toddlers, and can cause uncomfortable symptoms. Fortunately, many outgrow the allergy. However, it’s important to know how to identify a possible allergic reaction and what to do. Readers learn this and more, including the causes of wheat allergies and the difference between a wheat allergy and celiac disease. Full-color photographs augment the main content and show food labels wheat-allergic readers should look for.","English",23.6,17.7,"618.92","24 pp.","https://www.garethstevens.com/9781482409895",null,{"$f":"Table1[[#This Row],[QTY]]*Table1[[#This Row],['# Books]]","v":0},{"$f":"Table1[[#This Row],[QTY]]*Table1[[#This Row],[S&L Price]]","v":0}]
[null,null,25,"I'm Allergic",1,"I'm Allergic to Wheat","eBook",null,"978-1-4824-0992-5",{"$f":"HYPERLINK(Table1[[#This Row],[eCommerce Hyperlink]],\"Book Weblink\")","v":"Book Weblink"},null,"2015","August 2014",null,null,"Author","Maria Nelson",null,null,"16",null,"I",null,"Grade 1 - 2","Grade 1 - 3","Wheat allergies are some of the most common food allergies in children. They often develop in babies and toddlers, and can cause uncomfortable symptoms. Fortunately, many outgrow the allergy. However, it’s important to know how to identify a possible allergic reaction and what to do. Readers learn this and more, including the causes of wheat allergies and the difference between a wheat allergy and celiac disease. Full-color photographs augment the main content and show food labels wheat-allergic readers should look for.","English",23.6,17.7,"618.92","24 pp.","https://www.garethstevens.com/9781482409925",null,{"$f":"Table1[[#This Row],[QTY]]*Table1[[#This Row],['# Books]]","v":0},{"$f":"Table1[[#This Row],[QTY]]*Table1[[#This Row],[S&L Price]]","v":0}]
[null,null,25,"I'm Allergic",6,"I'm Allergic: Set 2","Library Set",null,"978-1-5382-2950-7",{"$f":"HYPERLINK(Table1[[#This Row],[eCommerce Hyperlink]],\"Book Weblink\")","v":"Book Weblink"},null,"2019","January 2019","Library","7.000 X 7.000",null,null,null,null,null,null,null,null,"Grade 1 - 2","Grade 1 - 3","When dealing with an allergy to a common food, such as tree nuts, soy, or eggs, it can be very difficult to eat at a restaurant or at a party. In this series, young readers are introduced to the reasons people suffer from food allergies as well as other common allergies, including dust and grass. Medicines and practical strategies are explained in age-appropriate language perfect for young readers just diagnosed with an allergy or with questions about a classmate's allergies. Features include: Encourages compassion for friends and family members suffering from allergies. Bright photographs highlight important points from each book. Alerts readers to the warning signs of an allergic reaction.","English",141.6,106.2,null,"24 pp.","https://www.garethstevens.com/9781538229507",null,{"$f":"Table1[[#This Row],[QTY]]*Table1[[#This Row],['# Books]]","v":0},{"$f":"Table1[[#This Row],[QTY]]*Table1[[#This Row],[S&L Price]]","v":0}]
[null,null,25,"I'm Allergic",1,"I'm Allergic to Dust","Library Bound Book",null,"978-1-5382-2903-3",{"$f":"HYPERLINK(Table1[[#This Row],[eCommerce Hyperlink]],\"Book Weblink\")","v":"Book Weblink"},null,"2019","January 2019","Library","7.000 X 7.000","Author","Walter LaPlante","3.5","0.5",null,null,"J",null,"Grade 1 - 2","Grade 1 - 3","It would seem logical that once a home is vacuumed, swept, and dusted, someone with a dust allergy would feel better. It's actually the opposite! Cleaning disturbs dust particles and it can make allergy sufferers cough, wheeze, and itch. So what do you do when we all live with dust around us? This book guides readers through why people have dust allergies and how to deal with these allergies, as well as other allergies these sufferers may have. Full-color photographs give up-close views of dust to complement the age-appropriate text.","English",23.6,17.7,"616.2/02--dc23","24 pp.","https://www.garethstevens.com/9781538229033",null,{"$f":"Table1[[#This Row],[QTY]]*Table1[[#This Row],['# Books]]","v":0},{"$f":"Table1[[#This Row],[QTY]]*Table1[[#This Row],[S&L Price]]","v":0}]
[null,null,25,"I'm Allergic",1,"I'm Allergic to Dust","eBook",null,"978-1-5382-3045-9",{"$f":"HYPERLINK(Table1[[#This Row],[eCommerce Hyperlink]],\"Book Weblink\")","v":"Book Weblink"},null,"2019","January 2019",null,null,"Author","Walter LaPlante","3.5","0.5",null,null,"J",null,"Grade 1 - 2","Grade 1 - 3","It would seem logical that once a home is vacuumed, swept, and dusted, someone with a dust allergy would feel better. It's actually the opposite! Cleaning disturbs dust particles and it can make allergy sufferers cough, wheeze, and itch. So what do you do when we all live with dust around us? This book guides readers through why people have dust allergies and how to deal with these allergies, as well as other allergies these sufferers may have. Full-color photographs give up-close views of dust to complement the age-appropriate text.","English",23.6,17.7,"616.2/02--dc23","24 pp.","https://www.garethstevens.com/9781538230459",null,{"$f":"Table1[[#This Row],[QTY]]*Table1[[#This Row],['# Books]]","v":0},{"$f":"Table1[[#This Row],[QTY]]*Table1[[#This Row],[S&L Price]]","v":0}]
[null,null,25,"I'm Allergic",1,"I'm Allergic to Eggs","Library Bound Book",null,"978-1-5382-2904-0",{"$f":"HYPERLINK(Table1[[#This Row],[eCommerce Hyperlink]],\"Book Weblink\")","v":"Book Weblink"},null,"2019","January 2019","Library","7.000 X 7.000","Author","Walter LaPlante","3.6","0.5",null,null,"J",null,"Grade 1 - 2","Grade 1 - 3","It can be difficult to find food that doesn't have eggs in it. From pasta to packaged cookies, many products have eggs it in, which isn't great news for people with allergies to eggs! However, with a little knowledge and preparation, it's possible to rarely have the rashes, hives, or nausea that this allergy can cause. In this book, readers learn why people have an egg allergy and how to eat safely when living with it. Written in age-appropriate language, the main content offers helpful information and advice both for readers with allergies or for those trying to learn more.","English",23.6,17.7,"616.97/5--dc23","24 pp.","https://www.garethstevens.com/9781538229040",null,{"$f":"Table1[[#This Row],[QTY]]*Table1[[#This Row],['# Books]]","v":0},{"$f":"Table1[[#This Row],[QTY]]*Table1[[#This Row],[S&L Price]]","v":0}]
[null,null,25,"I'm Allergic",1,"I'm Allergic to Eggs","eBook",null,"978-1-5382-3046-6",{"$f":"HYPERLINK(Table1[[#This Row],[eCommerce Hyperlink]],\"Book Weblink\")","v":"Book Weblink"},null,"2019","January 2019",null,null,"Author","Walter LaPlante","3.6","0.5",null,null,"J",null,"Grade 1 - 2","Grade 1 - 3","It can be difficult to find food that doesn't have eggs in it. From pasta to packaged cookies, many products have eggs it in, which isn't great news for people with allergies to eggs! However, with a little knowledge and preparation, it's possible to rarely have the rashes, hives, or nausea that this allergy can cause. In this book, readers learn why people have an egg allergy and how to eat safely when living with it. Written in age-appropriate language, the main content offers helpful information and advice both for readers with allergies or for those trying to learn more.","English",23.6,17.7,"616.97/5--dc23","24 pp.","https://www.garethstevens.com/9781538230466",null,{"$f":"Table1[[#This Row],[QTY]]*Table1[[#This Row],['# Books]]","v":0},{"$f":"Table1[[#This Row],[QTY]]*Table1[[#This Row],[S&L Price]]","v":0}]
[null,null,25,"I'm Allergic",1,"I'm Allergic to Grass","Library Bound Book",null,"978-1-5382-2905-7",{"$f":"HYPERLINK(Table1[[#This Row],[eCommerce Hyperlink]],\"Book Weblink\")","v":"Book Weblink"},null,"2019","January 2019","Library","7.000 X 7.000","Author","Walter LaPlante","3.6","0.5",null,null,"J",null,"Grade 1 - 2","Grade 1 - 3","Spring makes many people so happy, but not those with allergies to grass! Itchy eyes, a stuffy nose, and wheezing are just some of the symptoms these allergy sufferers may have. Readers are introduced to the reasons grass does this to some people through accessible language and simple explanations perfect for young readers. Tips for dealing with grass allergies, and getting through the springtime, speak directly to those who deal with grass allergies, helping these readers have a better outdoor experience.","English",23.6,17.7,"618.97/97--dc23","24 pp.","https://www.garethstevens.com/9781538229057",null,{"$f":"Table1[[#This Row],[QTY]]*Table1[[#This Row],['# Books]]","v":0},{"$f":"Table1[[#This Row],[QTY]]*Table1[[#This Row],[S&L Price]]","v":0}]
[null,null,25,"I'm Allergic",1,"I'm Allergic to Grass","eBook",null,"978-1-5382-3080-0",{"$f":"HYPERLINK(Table1[[#This Row],[eCommerce Hyperlink]],\"Book Weblink\")","v":"Book Weblink"},null,"2019","January 2019",null,null,"Author","Walter LaPlante","3.6","0.5",null,null,"J",null,"Grade 1 - 2","Grade 1 - 3","Spring makes many people so happy, but not those with allergies to grass! Itchy eyes, a stuffy nose, and wheezing are just some of the symptoms these allergy sufferers may have. Readers are introduced to the reasons grass does this to some people through accessible language and simple explanations perfect for young readers. Tips for dealing with grass allergies, and getting through the springtime, speak directly to those who deal with grass allergies, helping these readers have a better outdoor experience.","English",23.6,17.7,"618.97/97--dc23","24 pp.","https://www.garethstevens.com/9781538230800",null,{"$f":"Table1[[#This Row],[QTY]]*Table1[[#This Row],['# Books]]","v":0},{"$f":"Table1[[#This Row],[QTY]]*Table1[[#This Row],[S&L Price]]","v":0}]
[null,null,25,"I'm Allergic",1,"I'm Allergic to Shellfish","Library Bound Book",null,"978-1-5382-2906-4",{"$f":"HYPERLINK(Table1[[#This Row],[eCommerce Hyperlink]],\"Book Weblink\")","v":"Book Weblink"},null,"2019","January 2019","Library","7.000 X 7.000","Author","Walter LaPlante","4.1","0.5",null,null,"J",null,"Grade 1 - 2","Grade 1 - 3","Shellfish allergies can be dangerous. While about 60 percent of sufferers don't have a reaction until adulthood, many children do have shellfish allergies. They only way to avoid a scary situation is to avoid shellfish completely. In this book, readers learn why reactions occur, how to deal if they or a friend have a reaction, and what to avoid in order to eat safely. The serious information contained in the main content is covered in an age-appropriate way using accessible language written especially for young readers.","English",23.6,17.7,"616.97/5--dc23","24 pp.","https://www.garethstevens.com/9781538229064",null,{"$f":"Table1[[#This Row],[QTY]]*Table1[[#This Row],['# Books]]","v":0},{"$f":"Table1[[#This Row],[QTY]]*Table1[[#This Row],[S&L Price]]","v":0}]
[null,null,25,"I'm Allergic",1,"I'm Allergic to Shellfish","eBook",null,"978-1-5382-3047-3",{"$f":"HYPERLINK(Table1[[#This Row],[eCommerce Hyperlink]],\"Book Weblink\")","v":"Book Weblink"},null,"2019","January 2019",null,null,"Author","Walter LaPlante","4.1","0.5",null,null,"J",null,"Grade 1 - 2","Grade 1 - 3","Shellfish allergies can be dangerous. While about 60 percent of sufferers don't have a reaction until adulthood, many children do have shellfish allergies. They only way to avoid a scary situation is to avoid shellfish completely. In this book, readers learn why reactions occur, how to deal if they or a friend have a reaction, and what to avoid in order to eat safely. The serious information contained in the main content is covered in an age-appropriate way using accessible language written especially for young readers.","English",23.6,17.7,"616.97/5--dc23","24 pp.","https://www.garethstevens.com/9781538230473",null,{"$f":"Table1[[#This Row],[QTY]]*Table1[[#This Row],['# Books]]","v":0},{"$f":"Table1[[#This Row],[QTY]]*Table1[[#This Row],[S&L Price]]","v":0}]
[null,null,25,"I'm Allergic",1,"I'm Allergic to Soy","Library Bound Book",null,"978-1-5382-2907-1",{"$f":"HYPERLINK(Table1[[#This Row],[eCommerce Hyperlink]],\"Book Weblink\")","v":"Book Weblink"},null,"2019","January 2019","Library","7.000 X 7.000","Author","Walter LaPlante","3.8","0.5",null,null,"J",null,"Grade 1 - 2","Grade 1 - 3","Soy allergies often surface as early as infancy with some babies showing signs of an allergy to soy in formula. Most of the time, soy allergies cause hives and itchiness, however sometimes, soy allergies can risk a person's life! Readers learn what causes a soy allergy, what signs to look for if someone is having a reaction, and what to do if a friend or family member needs help. With age-appropriate safety tips and instructions on how to avoid foods with soy, this text is essential for readers dealing with allergies themselves or know someone who does.","English",23.6,17.7,"616.97/5--dc23","24 pp.","https://www.garethstevens.com/9781538229071",null,{"$f":"Table1[[#This Row],[QTY]]*Table1[[#This Row],['# Books]]","v":0},{"$f":"Table1[[#This Row],[QTY]]*Table1[[#This Row],[S&L Price]]","v":0}]
[null,null,25,"I'm Allergic",1,"I'm Allergic to Soy","eBook",null,"978-1-5382-3048-0",{"$f":"HYPERLINK(Table1[[#This Row],[eCommerce Hyperlink]],\"Book Weblink\")","v":"Book Weblink"},null,"2019","January 2019",null,null,"Author","Walter LaPlante","3.8","0.5",null,null,"J",null,"Grade 1 - 2","Grade 1 - 3","Soy allergies often surface as early as infancy with some babies showing signs of an allergy to soy in formula. Most of the time, soy allergies cause hives and itchiness, however sometimes, soy allergies can risk a person's life! Readers learn what causes a soy allergy, what signs to look for if someone is having a reaction, and what to do if a friend or family member needs help. With age-appropriate safety tips and instructions on how to avoid foods with soy, this text is essential for readers dealing with allergies themselves or know someone who does.","English",23.6,17.7,"616.97/5--dc23","24 pp.","https://www.garethstevens.com/9781538230480",null,{"$f":"Table1[[#This Row],[QTY]]*Table1[[#This Row],['# Books]]","v":0},{"$f":"Table1[[#This Row],[QTY]]*Table1[[#This Row],[S&L Price]]","v":0}]
[null,null,25,"I'm Allergic",1,"I'm Allergic to Tree Nuts","Library Bound Book",null,"978-1-5382-2908-8",{"$f":"HYPERLINK(Table1[[#This Row],[eCommerce Hyperlink]],\"Book Weblink\")","v":"Book Weblink"},null,"2019","January 2019","Library","7.000 X 7.000","Author","Walter LaPlante","3.3","0.5",null,null,"J",null,"Grade 1 - 2","Grade 1 - 3","What exactly counts as a tree nut? Pine nuts, cashews, pecans, and hazelnuts are just some of the nuts that fall into this category, and are a common allergen. Learning how to tell if a food needs to be avoided is very important to people with tree nut allergies. This book does just that, as well as explaining in age-appropriate language why some people have these allergies. Safety tips and practical advice help readers know what to do if they or a friend have this allergy and are exposed to tree nuts. It isn't as scary if you're prepared.","English",23.6,17.7,"616.97/5--dc23","24 pp.","https://www.garethstevens.com/9781538229088",null,{"$f":"Table1[[#This Row],[QTY]]*Table1[[#This Row],['# Books]]","v":0},{"$f":"Table1[[#This Row],[QTY]]*Table1[[#This Row],[S&L Price]]","v":0}]
[null,null,25,"I'm Allergic",1,"I'm Allergic to Tree Nuts","eBook",null,"978-1-5382-3049-7",{"$f":"HYPERLINK(Table1[[#This Row],[eCommerce Hyperlink]],\"Book Weblink\")","v":"Book Weblink"},null,"2019","January 2019",null,null,"Author","Walter LaPlante","3.3","0.5",null,null,"J",null,"Grade 1 - 2","Grade 1 - 3","What exactly counts as a tree nut? Pine nuts, cashews, pecans, and hazelnuts are just some of the nuts that fall into this category, and are a common allergen. Learning how to tell if a food needs to be avoided is very important to people with tree nut allergies. This book does just that, as well as explaining in age-appropriate language why some people have these allergies. Safety tips and practical advice help readers know what to do if they or a friend have this allergy and are exposed to tree nuts. It isn't as scary if you're prepared.","English",23.6,17.7,"616.97/5--dc23","24 pp.","https://www.garethstevens.com/9781538230497",null,{"$f":"Table1[[#This Row],[QTY]]*Table1[[#This Row],['# Books]]","v":0},{"$f":"Table1[[#This Row],[QTY]]*Table1[[#This Row],[S&L Price]]","v":0}]
[null,null,26,"Mapping the Earth",6,"Mapping the Earth","Library Set",null,"978-1-5382-8155-0",null,null,"2023","August 2022","Library","7.000 X 7.000",null,null,null,null,null,null,null,null,"Grade 1 - 2","Grade 1 - 3","Get ready for a thrilling trip around the world! Readers will be fascinated with each turn of the page in this simple yet informative guide to mapping Earth. The topics covered include a wealth of social studies concepts, including learning about map elements, making maps, understanding cardinal directions, and much more. Age-appropriate maps with labels and colorful photographs of locations around the world are sure to engage even the most reluctant readers.","English",141.6,106.2,null,"24 pp.","https://www.garethstevens.com/9781538281550",null,{"$f":"Table1[[#This Row],[QTY]]*Table1[[#This Row],['# Books]]","v":0},{"$f":"Table1[[#This Row],[QTY]]*Table1[[#This Row],[S&L Price]]","v":0}]
[null,null,26,"Mapping the Earth",1,"Mapmaking","Library Bound Book",null,"978-1-5382-7805-5",null,null,"2023","August 2022","Library","7.000 X 7.000","Author","Dwayne Hicks",null,null,null,null,"H",null,"Grade 1 - 2","Grade 1 - 3","Maps are a key element of the elementary social studies curriculum, but they're also fun to read and make! Readers are sure to be enthused when they open this book on mapmaking. Colorful diagrams and vibrant photographs aid reader comprehension, and the text encourages readers to create a map of their own. Essential map topics include perspective, scale, map keys, and more.","English",23.6,17.7,"526--dc23","24 pp.","https://www.garethstevens.com/9781538278055",null,{"$f":"Table1[[#This Row],[QTY]]*Table1[[#This Row],['# Books]]","v":0},{"$f":"Table1[[#This Row],[QTY]]*Table1[[#This Row],[S&L Price]]","v":0}]
[null,null,26,"Mapping the Earth",1,"Mapmaking","eBook",null,"978-1-5382-7806-2",null,null,"2023","August 2022",null,null,"Author","Dwayne Hicks",null,null,null,null,"H",null,"Grade 1 - 2","Grade 1 - 3","Maps are a key element of the elementary social studies curriculum, but they're also fun to read and make! Readers are sure to be enthused when they open this book on mapmaking. Colorful diagrams and vibrant photographs aid reader comprehension, and the text encourages readers to create a map of their own. Essential map topics include perspective, scale, map keys, and more.","English",23.6,17.7,"526--dc23","24 pp.","https://www.garethstevens.com/9781538278062","http://www.epointplus.com/embed/9781538278062/?login=cyberrep&password=cyberrep",{"$f":"Table1[[#This Row],[QTY]]*Table1[[#This Row],['# Books]]","v":0},{"$f":"Table1[[#This Row],[QTY]]*Table1[[#This Row],[S&L Price]]","v":0}]
[null,null,26,"Mapping the Earth",1,"Mapping Earth's Continents","Library Bound Book",null,"978-1-5382-7809-3",null,null,"2023","August 2022","Library","7.000 X 7.000","Author","Dwayne Hicks",null,null,null,null,"H",null,"Grade 1 - 2","Grade 1 - 3","Readers get the chance to travel the globe in this informative guide to Earth's continents. The text was expertly created to help young readers learn key points about maps and the continents. Each page is filled with a map labeled with key places noted in the accompanying text. Colorful photographs of landforms and people from around the world are sure to draw in even reluctant readers.","English",23.6,17.7,"912--dc23","24 pp.","https://www.garethstevens.com/9781538278093",null,{"$f":"Table1[[#This Row],[QTY]]*Table1[[#This Row],['# Books]]","v":0},{"$f":"Table1[[#This Row],[QTY]]*Table1[[#This Row],[S&L Price]]","v":0}]
[null,null,26,"Mapping the Earth",1,"Mapping Earth's Continents","eBook",null,"978-1-5382-7810-9",null,null,"2023","August 2022",null,null,"Author","Dwayne Hicks",null,null,null,null,"H",null,"Grade 1 - 2","Grade 1 - 3","Readers get the chance to travel the globe in this informative guide to Earth's continents. The text was expertly created to help young readers learn key points about maps and the continents. Each page is filled with a map labeled with key places noted in the accompanying text. Colorful photographs of landforms and people from around the world are sure to draw in even reluctant readers.","English",23.6,17.7,"912--dc23","24 pp.","https://www.garethstevens.com/9781538278109","http://www.epointplus.com/embed/9781538278109/?login=cyberrep&password=cyberrep",{"$f":"Table1[[#This Row],[QTY]]*Table1[[#This Row],['# Books]]","v":0},{"$f":"Table1[[#This Row],[QTY]]*Table1[[#This Row],[S&L Price]]","v":0}]
[null,null,26,"Mapping the Earth",1,"Mapping Earth's Hemispheres","Library Bound Book",null,"978-1-5382-7813-0",null,null,"2023","August 2022","Library","7.000 X 7.000","Author","Dwayne Hicks",null,null,null,null,"H",null,"Grade 1 - 2","Grade 1 - 3","Earth has four hemispheres: Northern, Southern, Eastern, and Western. These areas have a lot in common, but they are also different in many key ways. Inside this volume, readers will learn about the hemispheres and see a series of maps that allow them to explore and compare the regions. The text was crafted to appeal to young readers and help them comprehend this important topic.","English",23.6,17.7,"912--dc23","24 pp.","https://www.garethstevens.com/9781538278130",null,{"$f":"Table1[[#This Row],[QTY]]*Table1[[#This Row],['# Books]]","v":0},{"$f":"Table1[[#This Row],[QTY]]*Table1[[#This Row],[S&L Price]]","v":0}]
[null,null,26,"Mapping the Earth",1,"Mapping Earth's Hemispheres","eBook",null,"978-1-5382-7814-7",null,null,"2023","August 2022",null,null,"Author","Dwayne Hicks",null,null,null,null,"H",null,"Grade 1 - 2","Grade 1 - 3","Earth has four hemispheres: Northern, Southern, Eastern, and Western. These areas have a lot in common, but they are also different in many key ways. Inside this volume, readers will learn about the hemispheres and see a series of maps that allow them to explore and compare the regions. The text was crafted to appeal to young readers and help them comprehend this important topic.","English",23.6,17.7,"912--dc23","24 pp.","https://www.garethstevens.com/9781538278147","http://www.epointplus.com/embed/9781538278147/?login=cyberrep&password=cyberrep",{"$f":"Table1[[#This Row],[QTY]]*Table1[[#This Row],['# Books]]","v":0},{"$f":"Table1[[#This Row],[QTY]]*Table1[[#This Row],[S&L Price]]","v":0}]
[null,null,26,"Mapping the Earth",1,"Mapping the Equator","Library Bound Book",null,"978-1-5382-7817-8",null,null,"2023","August 2022","Library","7.000 X 7.000","Author","Dwayne Hicks",null,null,null,null,"H",null,"Grade 1 - 2","Grade 1 - 3","The equator is Earth's longest line of latitude, and it passes over numerous countries and many miles of ocean. It's always hot near the equator, and readers learn why inside this map-packed volume. Other topics include Earth's axis, rotation, and yearly trip around the sun and how these concepts affect the climate near the equator and around the world. The manageable text is paired with diagrams and colorful photographs, and the book ends with information about locations on the equator.","English",23.6,17.7,"912--dc23","24 pp.","https://www.garethstevens.com/9781538278178",null,{"$f":"Table1[[#This Row],[QTY]]*Table1[[#This Row],['# Books]]","v":0},{"$f":"Table1[[#This Row],[QTY]]*Table1[[#This Row],[S&L Price]]","v":0}]
[null,null,26,"Mapping the Earth",1,"Mapping the Equator","eBook",null,"978-1-5382-7818-5",null,null,"2023","August 2022",null,null,"Author","Dwayne Hicks",null,null,null,null,"H",null,"Grade 1 - 2","Grade 1 - 3","The equator is Earth's longest line of latitude, and it passes over numerous countries and many miles of ocean. It's always hot near the equator, and readers learn why inside this map-packed volume. Other topics include Earth's axis, rotation, and yearly trip around the sun and how these concepts affect the climate near the equator and around the world. The manageable text is paired with diagrams and colorful photographs, and the book ends with information about locations on the equator.","English",23.6,17.7,"912--dc23","24 pp.","https://www.garethstevens.com/9781538278185","http://www.epointplus.com/embed/9781538278185/?login=cyberrep&password=cyberrep",{"$f":"Table1[[#This Row],[QTY]]*Table1[[#This Row],['# Books]]","v":0},{"$f":"Table1[[#This Row],[QTY]]*Table1[[#This Row],[S&L Price]]","v":0}]
[null,null,26,"Mapping the Earth",1,"Mapping the North Pole","Library Bound Book",null,"978-1-5382-7821-5",null,null,"2023","August 2022","Library","7.000 X 7.000","Author","Dwayne Hicks",null,null,null,null,"H",null,"Grade 1 - 2","Grade 1 - 3","Few people have actually traveled to the North Pole, but with this detailed guide, readers can explore the Arctic from wherever they live! The accessible text addresses numerous facets of the North Pole and the area north of the Arctic Circle. Easy-to-understand maps introduce readers to basic geography concepts that are essential to the elementary curriculum. Vibrant photographs of the icy Arctic help readers make connections with the text.","English",23.6,17.7,"912.98--dc23","24 pp.","https://www.garethstevens.com/9781538278215",null,{"$f":"Table1[[#This Row],[QTY]]*Table1[[#This Row],['# Books]]","v":0},{"$f":"Table1[[#This Row],[QTY]]*Table1[[#This Row],[S&L Price]]","v":0}]
[null,null,26,"Mapping the Earth",1,"Mapping the North Pole","eBook",null,"978-1-5382-7822-2",null,null,"2023","August 2022",null,null,"Author","Dwayne Hicks",null,null,null,null,"H",null,"Grade 1 - 2","Grade 1 - 3","Few people have actually traveled to the North Pole, but with this detailed guide, readers can explore the Arctic from wherever they live! The accessible text addresses numerous facets of the North Pole and the area north of the Arctic Circle. Easy-to-understand maps introduce readers to basic geography concepts that are essential to the elementary curriculum. Vibrant photographs of the icy Arctic help readers make connections with the text.","English",23.6,17.7,"912.98--dc23","24 pp.","https://www.garethstevens.com/9781538278222","http://www.epointplus.com/embed/9781538278222/?login=cyberrep&password=cyberrep",{"$f":"Table1[[#This Row],[QTY]]*Table1[[#This Row],['# Books]]","v":0},{"$f":"Table1[[#This Row],[QTY]]*Table1[[#This Row],[S&L Price]]","v":0}]
[null,null,26,"Mapping the Earth",1,"Mapping the South Pole","Library Bound Book",null,"978-1-5382-7825-3",null,null,"2023","August 2022","Library","7.000 X 7.000","Author","Dwayne Hicks",null,null,null,null,"H",null,"Grade 1 - 2","Grade 1 - 3","This volume takes readers on a fascinating trip to the coldest, windiest location on Earth—the South Pole! The text includes facts about Antarctica and about the South Pole in particular. Readers will learn who first reached the South Pole, why it's dark there for half the year, and why so few animals live there. Maps and photographs of Antarctica are sure to interest young readers and cartographers!","English",23.6,17.7,"912.989--dc23","24 pp.","https://www.garethstevens.com/9781538278253",null,{"$f":"Table1[[#This Row],[QTY]]*Table1[[#This Row],['# Books]]","v":0},{"$f":"Table1[[#This Row],[QTY]]*Table1[[#This Row],[S&L Price]]","v":0}]
[null,null,26,"Mapping the Earth",1,"Mapping the South Pole","eBook",null,"978-1-5382-7826-0",null,null,"2023","August 2022",null,null,"Author","Dwayne Hicks",null,null,null,null,"H",null,"Grade 1 - 2","Grade 1 - 3","This volume takes readers on a fascinating trip to the coldest, windiest location on Earth—the South Pole! The text includes facts about Antarctica and about the South Pole in particular. Readers will learn who first reached the South Pole, why it's dark there for half the year, and why so few animals live there. Maps and photographs of Antarctica are sure to interest young readers and cartographers!","English",23.6,17.7,"912.989--dc23","24 pp.","https://www.garethstevens.com/9781538278260","http://www.epointplus.com/embed/9781538278260/?login=cyberrep&password=cyberrep",{"$f":"Table1[[#This Row],[QTY]]*Table1[[#This Row],['# Books]]","v":0},{"$f":"Table1[[#This Row],[QTY]]*Table1[[#This Row],[S&L Price]]","v":0}]
[null,null,27,"Rescue Riders",5,"Rescue Riders","Library Set",null,"978-1-5382-8159-8",null,null,"2023","August 2022","Library","7.000 X 7.000",null,null,null,null,null,null,null,null,"Grade 1 - 2","Grade 1 - 3","Do you hear a siren or spy flashing lights? It’s an emergency vehicle speeding toward an emergency! From car crashes and fires to injured people out on the water or on a mountain path, emergencies can happen anywhere and anytime. It’s the job of those who operate emergency vehicles to go help—and do it fast! This set highlights the purpose of each emergency vehicle, including ambulances, fire trucks, helicopters, coast guard boats, and police cars, as well as the work of the people on board them. Emerging readers engage with age-appropriate detail in the text written just for them.","English",118,88.5,null,"24 pp.","https://www.garethstevens.com/9781538281598",null,{"$f":"Table1[[#This Row],[QTY]]*Table1[[#This Row],['# Books]]","v":0},{"$f":"Table1[[#This Row],[QTY]]*Table1[[#This Row],[S&L Price]]","v":0}]
[null,null,27,"Rescue Riders",1,"Ambulances to the Rescue!","Library Bound Book",null,"978-1-5382-7845-1",null,null,"2023","August 2022","Library","7.000 X 7.000","Author","Frances Nagle",null,null,null,null,"H",null,"Grade 1 - 2","Grade 1 - 3","When you see flashing lights and hear a siren, better move out of the way! An ambulance is on its way to an emergency situation. Ambulances are emergency vehicles many children are familiar with. But who operates them and where exactly are they going so quickly? This book introduces one of the most recognizable emergency vehicles to young readers in an engaging and age-appropriate way. Full-color photographs satisfy all vehicles enthusiasts while supported accessible text and facts.","English",23.6,17.7,"362.18/8--dc23","24 pp.","https://www.garethstevens.com/9781538278451",null,{"$f":"Table1[[#This Row],[QTY]]*Table1[[#This Row],['# Books]]","v":0},{"$f":"Table1[[#This Row],[QTY]]*Table1[[#This Row],[S&L Price]]","v":0}]
[null,null,27,"Rescue Riders",1,"Ambulances to the Rescue!","eBook",null,"978-1-5382-7846-8",null,null,"2023","August 2022",null,null,"Author","Frances Nagle",null,null,null,null,"H",null,"Grade 1 - 2","Grade 1 - 3","When you see flashing lights and hear a siren, better move out of the way! An ambulance is on its way to an emergency situation. Ambulances are emergency vehicles many children are familiar with. But who operates them and where exactly are they going so quickly? This book introduces one of the most recognizable emergency vehicles to young readers in an engaging and age-appropriate way. Full-color photographs satisfy all vehicles enthusiasts while supported accessible text and facts.","English",23.6,17.7,"362.18/8--dc23","24 pp.","https://www.garethstevens.com/9781538278468","http://www.epointplus.com/embed/9781538278468/?login=cyberrep&password=cyberrep",{"$f":"Table1[[#This Row],[QTY]]*Table1[[#This Row],['# Books]]","v":0},{"$f":"Table1[[#This Row],[QTY]]*Table1[[#This Row],[S&L Price]]","v":0}]
[null,null,27,"Rescue Riders",1,"Coast Guard Boats to the Rescue!","Library Bound Book",null,"978-1-5382-7849-9",null,null,"2023","August 2022","Library","7.000 X 7.000","Author","Frances Nagle",null,null,null,null,"H",null,"Grade 1 - 2","Grade 1 - 3","U.S. Coast Guard boats are often emergency vehicles on the water. While they are used to enforce laws and patrol the waters, they are commonly called in when a boat is in distress. Fires, medical emergencies, and capsized vessels may be all in a day's work for the coast guardsmen aboard a coast guard boat. Readers are introduced to these important first responders on the water through accessible main text. Full-color photographs support the engaging information and show off the many different kinds of boats the U.S. Coast Guard uses to keep the country’s waters safe.","English",23.6,17.7,"363.28/60973--dc23","24 pp.","https://www.garethstevens.com/9781538278499",null,{"$f":"Table1[[#This Row],[QTY]]*Table1[[#This Row],['# Books]]","v":0},{"$f":"Table1[[#This Row],[QTY]]*Table1[[#This Row],[S&L Price]]","v":0}]
[null,null,27,"Rescue Riders",1,"Coast Guard Boats to the Rescue!","eBook",null,"978-1-5382-7850-5",null,null,"2023","August 2022",null,null,"Author","Frances Nagle",null,null,null,null,"H",null,"Grade 1 - 2","Grade 1 - 3","U.S. Coast Guard boats are often emergency vehicles on the water. While they are used to enforce laws and patrol the waters, they are commonly called in when a boat is in distress. Fires, medical emergencies, and capsized vessels may be all in a day's work for the coast guardsmen aboard a coast guard boat. Readers are introduced to these important first responders on the water through accessible main text. Full-color photographs support the engaging information and show off the many different kinds of boats the U.S. Coast Guard uses to keep the country’s waters safe.","English",23.6,17.7,"363.28/60973--dc23","24 pp.","https://www.garethstevens.com/9781538278505","http://www.epointplus.com/embed/9781538278505/?login=cyberrep&password=cyberrep",{"$f":"Table1[[#This Row],[QTY]]*Table1[[#This Row],['# Books]]","v":0},{"$f":"Table1[[#This Row],[QTY]]*Table1[[#This Row],[S&L Price]]","v":0}]
[null,null,27,"Rescue Riders",1,"Fire Trucks to the Rescue!","Library Bound Book",null,"978-1-5382-7853-6",null,null,"2023","August 2022","Library","7.000 X 7.000","Author","Frances Nagle",null,null,null,null,"H",null,"Grade 1 - 2","Grade 1 - 3","For some children, nothing is more exciting than seeing a fire truck. And when they are sitting quietly at the fire station, they just seem like big, red trucks. But, when these emergency vehicles speed down the street, sirens blaring and lights flashing, they are a big part of serious incidents. Readers discover what happens when a fire truck heads to a call, the different kinds of fire trucks, and what many trucks are equipped with. Full-color photographs complement the at-level text and draw in fire truck enthusiasts.","English",23.6,17.7,"628.9/259--dc23","24 pp.","https://www.garethstevens.com/9781538278536",null,{"$f":"Table1[[#This Row],[QTY]]*Table1[[#This Row],['# Books]]","v":0},{"$f":"Table1[[#This Row],[QTY]]*Table1[[#This Row],[S&L Price]]","v":0}]
[null,null,27,"Rescue Riders",1,"Fire Trucks to the Rescue!","eBook",null,"978-1-5382-7854-3",null,null,"2023","August 2022",null,null,"Author","Frances Nagle",null,null,null,null,"H",null,"Grade 1 - 2","Grade 1 - 3","For some children, nothing is more exciting than seeing a fire truck. And when they are sitting quietly at the fire station, they just seem like big, red trucks. But, when these emergency vehicles speed down the street, sirens blaring and lights flashing, they are a big part of serious incidents. Readers discover what happens when a fire truck heads to a call, the different kinds of fire trucks, and what many trucks are equipped with. Full-color photographs complement the at-level text and draw in fire truck enthusiasts.","English",23.6,17.7,"628.9/259--dc23","24 pp.","https://www.garethstevens.com/9781538278543","http://www.epointplus.com/embed/9781538278543/?login=cyberrep&password=cyberrep",{"$f":"Table1[[#This Row],[QTY]]*Table1[[#This Row],['# Books]]","v":0},{"$f":"Table1[[#This Row],[QTY]]*Table1[[#This Row],[S&L Price]]","v":0}]
[null,null,27,"Rescue Riders",1,"Helicopters to the Rescue!","Library Bound Book",null,"978-1-5382-7857-4",null,null,"2023","August 2022","Library","7.000 X 7.000","Author","Frances Nagle",null,null,null,null,"H",null,"Grade 1 - 2","Grade 1 - 3","Helicopters are some of the most unique aircraft that take to the skies. They can often reach places airplanes and cars cannot, like steep cliffs or mountainsides. They can also dip close to the water or into valleys that are otherwise inaccessible. Many take off from the tops of buildings! That makes helicopters important and exciting rescue vehicles! In this book, readers find out the many rescue missions helicopters may embark on. Full-color photographs show death-defying maneuvers of helicopters and complement accessible, at-level language.","English",23.6,17.7,"629.132/5252--dc23","24 pp.","https://www.garethstevens.com/9781538278574",null,{"$f":"Table1[[#This Row],[QTY]]*Table1[[#This Row],['# Books]]","v":0},{"$f":"Table1[[#This Row],[QTY]]*Table1[[#This Row],[S&L Price]]","v":0}]
[null,null,27,"Rescue Riders",1,"Helicopters to the Rescue!","eBook",null,"978-1-5382-7858-1",null,null,"2023","August 2022",null,null,"Author","Frances Nagle",null,null,null,null,"H",null,"Grade 1 - 2","Grade 1 - 3","Helicopters are some of the most unique aircraft that take to the skies. They can often reach places airplanes and cars cannot, like steep cliffs or mountainsides. They can also dip close to the water or into valleys that are otherwise inaccessible. Many take off from the tops of buildings! That makes helicopters important and exciting rescue vehicles! In this book, readers find out the many rescue missions helicopters may embark on. Full-color photographs show death-defying maneuvers of helicopters and complement accessible, at-level language.","English",23.6,17.7,"629.132/5252--dc23","24 pp.","https://www.garethstevens.com/9781538278581","http://www.epointplus.com/embed/9781538278581/?login=cyberrep&password=cyberrep",{"$f":"Table1[[#This Row],[QTY]]*Table1[[#This Row],['# Books]]","v":0},{"$f":"Table1[[#This Row],[QTY]]*Table1[[#This Row],[S&L Price]]","v":0}]
[null,null,27,"Rescue Riders",1,"Police Cars to the Rescue!","Library Bound Book",null,"978-1-5382-7861-1",null,null,"2023","August 2022","Library","7.000 X 7.000","Author","Frances Nagle",null,null,null,null,"H",null,"Grade 1 - 2","Grade 1 - 3","Police cars are emergency vehicles that are part of many emergency situations. From car crashes to crimes, police cars may drive up. And children are often quite excited to see them on the street! Still, it’s important to know that when the sirens are going and lights are flashing, the police car is carrying people on their way to help in some way. Age-appropriate detail and language convey the importance of police cars as an emergency vehicle, what is found in a car, and who drives them. Full-color photographs satisfy readers who love vehicles.","English",23.6,17.7,"363.2/32--dc23","24 pp.","https://www.garethstevens.com/9781538278611",null,{"$f":"Table1[[#This Row],[QTY]]*Table1[[#This Row],['# Books]]","v":0},{"$f":"Table1[[#This Row],[QTY]]*Table1[[#This Row],[S&L Price]]","v":0}]
[null,null,27,"Rescue Riders",1,"Police Cars to the Rescue!","eBook",null,"978-1-5382-7862-8",null,null,"2023","August 2022",null,null,"Author","Frances Nagle",null,null,null,null,"H",null,"Grade 1 - 2","Grade 1 - 3","Police cars are emergency vehicles that are part of many emergency situations. From car crashes to crimes, police cars may drive up. And children are often quite excited to see them on the street! Still, it’s important to know that when the sirens are going and lights are flashing, the police car is carrying people on their way to help in some way. Age-appropriate detail and language convey the importance of police cars as an emergency vehicle, what is found in a car, and who drives them. Full-color photographs satisfy readers who love vehicles.","English",23.6,17.7,"363.2/32--dc23","24 pp.","https://www.garethstevens.com/9781538278628","http://www.epointplus.com/embed/9781538278628/?login=cyberrep&password=cyberrep",{"$f":"Table1[[#This Row],[QTY]]*Table1[[#This Row],['# Books]]","v":0},{"$f":"Table1[[#This Row],[QTY]]*Table1[[#This Row],[S&L Price]]","v":0}]
[null,null,28,"Wonderful Natural Wonders",6,"Wonderful Natural Wonders","Library Set",null,"978-1-5382-8164-2",null,null,"2023","August 2022","Library","7.000 X 7.000",null,null,null,null,null,null,null,null,"Grade 1 - 2","Grade 1 - 3","What do the Grand Canyon, Rocky Mountains, and Niagara Falls have in common? They’re all incredible sights created by nature that continue to inspire awe with each new generation. This set introduces some of the most incredible natural wonders on Earth—that also happen to be found at least partly in the United States and Canada! From the amazing biodiversity of the Everglades to the impressive size of the Mississippi River system, the age-appropriate content wows readers while they engage with science and social studies content about each wonder.","English",141.6,106.2,null,"24 pp.","https://www.garethstevens.com/9781538281642",null,{"$f":"Table1[[#This Row],[QTY]]*Table1[[#This Row],['# Books]]","v":0},{"$f":"Table1[[#This Row],[QTY]]*Table1[[#This Row],[S&L Price]]","v":0}]
[null,null,28,"Wonderful Natural Wonders",1,"Denali","Library Bound Book",null,"978-1-5382-7671-6",null,null,"2023","August 2022","Library","7.000 X 7.000","Author","Bray Jacobson",null,null,null,null,"I",null,"Grade 1 - 2","Grade 1 - 3","The tallest mountain in North America is in the United States—but, it’s far away from most of those states! Denali, previously known as Mount McKinley, is in Alaska, and in this book, readers learn how to describe where it is using directions and practice reading simple maps. Additional information about the peak’s controversial naming history, height, and the climbers who tackle it are found in the book’s achievable main text. Beautiful, full-color photographs of this historic mountain share Denali’s majesty and history.","English",23.6,17.7,"979.8","24 pp.","https://www.garethstevens.com/9781538276716",null,{"$f":"Table1[[#This Row],[QTY]]*Table1[[#This Row],['# Books]]","v":0},{"$f":"Table1[[#This Row],[QTY]]*Table1[[#This Row],[S&L Price]]","v":0}]
[null,null,28,"Wonderful Natural Wonders",1,"Denali","eBook",null,"978-1-5382-7672-3",null,null,"2023","August 2022",null,null,"Author","Bray Jacobson",null,null,null,null,"I",null,"Grade 1 - 2","Grade 1 - 3","The tallest mountain in North America is in the United States—but, it’s far away from most of those states! Denali, previously known as Mount McKinley, is in Alaska, and in this book, readers learn how to describe where it is using directions and practice reading simple maps. Additional information about the peak’s controversial naming history, height, and the climbers who tackle it are found in the book’s achievable main text. Beautiful, full-color photographs of this historic mountain share Denali’s majesty and history.","English",23.6,17.7,"979.8","24 pp.","https://www.garethstevens.com/9781538276723","http://www.epointplus.com/embed/9781538276723/?login=cyberrep&password=cyberrep",{"$f":"Table1[[#This Row],[QTY]]*Table1[[#This Row],['# Books]]","v":0},{"$f":"Table1[[#This Row],[QTY]]*Table1[[#This Row],[S&L Price]]","v":0}]
[null,null,28,"Wonderful Natural Wonders",1,"Niagara Falls","Library Bound Book",null,"978-1-5382-7687-7",null,null,"2023","August 2022","Library","7.000 X 7.000","Author","Bray Jacobson",null,null,null,null,"I",null,"Grade 1 - 2","Grade 1 - 3","One of the best-known waterfalls on Earth is right here in North America! Niagara Falls is found between the U.S. state of New York and the Canadian province of Ontario on the Niagara River. While it’s not the highest waterfall in the world, Niagara Falls is so majestic partly because of the sheer volume of water that falls over its height. In this book, readers learn about the three waterfalls that make up Niagara Falls and how they formed. Amazing full-color photographs may inspire trips to this natural wonder in readers of all ages.","English",23.6,17.7,"971.3","24 pp.","https://www.garethstevens.com/9781538276877",null,{"$f":"Table1[[#This Row],[QTY]]*Table1[[#This Row],['# Books]]","v":0},{"$f":"Table1[[#This Row],[QTY]]*Table1[[#This Row],[S&L Price]]","v":0}]
[null,null,28,"Wonderful Natural Wonders",1,"Niagara Falls","eBook",null,"978-1-5382-7688-4",null,null,"2023","August 2022",null,null,"Author","Bray Jacobson",null,null,null,null,"I",null,"Grade 1 - 2","Grade 1 - 3","One of the best-known waterfalls on Earth is right here in North America! Niagara Falls is found between the U.S. state of New York and the Canadian province of Ontario on the Niagara River. While it’s not the highest waterfall in the world, Niagara Falls is so majestic partly because of the sheer volume of water that falls over its height. In this book, readers learn about the three waterfalls that make up Niagara Falls and how they formed. Amazing full-color photographs may inspire trips to this natural wonder in readers of all ages.","English",23.6,17.7,"971.3","24 pp.","https://www.garethstevens.com/9781538276884","http://www.epointplus.com/embed/9781538276884/?login=cyberrep&password=cyberrep",{"$f":"Table1[[#This Row],[QTY]]*Table1[[#This Row],['# Books]]","v":0},{"$f":"Table1[[#This Row],[QTY]]*Table1[[#This Row],[S&L Price]]","v":0}]
[null,null,28,"Wonderful Natural Wonders",1,"The Everglades","Library Bound Book",null,"978-1-5382-7675-4",null,null,"2023","August 2022","Library","7.000 X 7.000","Author","Bray Jacobson",null,null,null,null,"I",null,"Grade 1 - 2","Grade 1 - 3","The Everglades is an incredibly unique ecosystem. It’s so unique, there’s no other place on Earth called an “everglade”! It’s the breeding ground for wading birds, filters and supplies water to the people that live around it, and is so important to the survival of species in south Florida that much of it has been protected as a national park. Readers travel through the “river of grass” in this accessible volume, introducing the natural wonder that is the Everglades.","English",23.6,17.7,"578.7680976","24 pp.","https://www.garethstevens.com/9781538276754",null,{"$f":"Table1[[#This Row],[QTY]]*Table1[[#This Row],['# Books]]","v":0},{"$f":"Table1[[#This Row],[QTY]]*Table1[[#This Row],[S&L Price]]","v":0}]
[null,null,28,"Wonderful Natural Wonders",1,"The Everglades","eBook",null,"978-1-5382-7676-1",null,null,"2023","August 2022",null,null,"Author","Bray Jacobson",null,null,null,null,"I",null,"Grade 1 - 2","Grade 1 - 3","The Everglades is an incredibly unique ecosystem. It’s so unique, there’s no other place on Earth called an “everglade”! It’s the breeding ground for wading birds, filters and supplies water to the people that live around it, and is so important to the survival of species in south Florida that much of it has been protected as a national park. Readers travel through the “river of grass” in this accessible volume, introducing the natural wonder that is the Everglades.","English",23.6,17.7,"578.7680976","24 pp.","https://www.garethstevens.com/9781538276761","http://www.epointplus.com/embed/9781538276761/?login=cyberrep&password=cyberrep",{"$f":"Table1[[#This Row],[QTY]]*Table1[[#This Row],['# Books]]","v":0},{"$f":"Table1[[#This Row],[QTY]]*Table1[[#This Row],[S&L Price]]","v":0}]
[null,null,28,"Wonderful Natural Wonders",1,"The Grand Canyon","Library Bound Book",null,"978-1-5382-7679-2",null,null,"2023","August 2022","Library","7.000 X 7.000","Author","Bray Jacobson",null,null,null,null,"I",null,"Grade 1 - 2","Grade 1 - 3","The Grand Canyon is so large, it can be seen from space! This natural wonder was carved out of the Colorado Plateau by the rush of the Colorado River over thousands of years. Today, millions of people visit Grand Canyon National Park which encompasses the Grand Canyon and land around it. Readers are introduced to the Grand Canyon through its formation, incredible views, and important biodiversity. The achievable text is paired with breath-taking, full-color photographs of the Grand Canyon.","English",23.6,17.7,"979.1","24 pp.","https://www.garethstevens.com/9781538276792",null,{"$f":"Table1[[#This Row],[QTY]]*Table1[[#This Row],['# Books]]","v":0},{"$f":"Table1[[#This Row],[QTY]]*Table1[[#This Row],[S&L Price]]","v":0}]
[null,null,28,"Wonderful Natural Wonders",1,"The Grand Canyon","eBook",null,"978-1-5382-7680-8",null,null,"2023","August 2022",null,null,"Author","Bray Jacobson",null,null,null,null,"I",null,"Grade 1 - 2","Grade 1 - 3","The Grand Canyon is so large, it can be seen from space! This natural wonder was carved out of the Colorado Plateau by the rush of the Colorado River over thousands of years. Today, millions of people visit Grand Canyon National Park which encompasses the Grand Canyon and land around it. Readers are introduced to the Grand Canyon through its formation, incredible views, and important biodiversity. The achievable text is paired with breath-taking, full-color photographs of the Grand Canyon.","English",23.6,17.7,"979.1","24 pp.","https://www.garethstevens.com/9781538276808","http://www.epointplus.com/embed/9781538276808/?login=cyberrep&password=cyberrep",{"$f":"Table1[[#This Row],[QTY]]*Table1[[#This Row],['# Books]]","v":0},{"$f":"Table1[[#This Row],[QTY]]*Table1[[#This Row],[S&L Price]]","v":0}]
[null,null,28,"Wonderful Natural Wonders",1,"The Mississippi River","Library Bound Book",null,"978-1-5382-7683-9",null,null,"2023","August 2022","Library","7.000 X 7.000","Author","Bray Jacobson",null,null,null,null,"I",null,"Grade 1 - 2","Grade 1 - 3","The longest river in the United States isn’t the Mississippi River—that's the Missouri. But, the Missouri is part of the huge Mississippi River system that’s truly a natural wonder! It contains 250 tributaries in all. Readers learn even more fun facts about the Mississippi River and its system of waterways in this volume. With content supporting both social studies and science curricula, the accessible text covers geography as well as conservation. Full-color photographs of the mighty Mississippi, its wildlife, and the way people have made their homes around it are featured.","English",23.6,17.7,"977","24 pp.","https://www.garethstevens.com/9781538276839",null,{"$f":"Table1[[#This Row],[QTY]]*Table1[[#This Row],['# Books]]","v":0},{"$f":"Table1[[#This Row],[QTY]]*Table1[[#This Row],[S&L Price]]","v":0}]
[null,null,28,"Wonderful Natural Wonders",1,"The Mississippi River","eBook",null,"978-1-5382-7684-6",null,null,"2023","August 2022",null,null,"Author","Bray Jacobson",null,null,null,null,"I",null,"Grade 1 - 2","Grade 1 - 3","The longest river in the United States isn’t the Mississippi River—that's the Missouri. But, the Missouri is part of the huge Mississippi River system that’s truly a natural wonder! It contains 250 tributaries in all. Readers learn even more fun facts about the Mississippi River and its system of waterways in this volume. With content supporting both social studies and science curricula, the accessible text covers geography as well as conservation. Full-color photographs of the mighty Mississippi, its wildlife, and the way people have made their homes around it are featured.","English",23.6,17.7,"977","24 pp.","https://www.garethstevens.com/9781538276846","http://www.epointplus.com/embed/9781538276846/?login=cyberrep&password=cyberrep",{"$f":"Table1[[#This Row],[QTY]]*Table1[[#This Row],['# Books]]","v":0},{"$f":"Table1[[#This Row],[QTY]]*Table1[[#This Row],[S&L Price]]","v":0}]
[null,null,28,"Wonderful Natural Wonders",1,"The Rocky Mountains","Library Bound Book",null,"978-1-5382-7691-4",null,null,"2023","August 2022","Library","7.000 X 7.000","Author","Bray Jacobson",null,null,null,null,"I",null,"Grade 1 - 2","Grade 1 - 3","The Rocky Mountains were once a great obstacle to those traveling west. Today, they are passable but still formidable in their height and the length of the mountain range. In these ways, among others, the Rocky Mountains are truly a natural wonder! Readers find out the combination of ways the mountain range formed as well as where to find the highest peaks in this book. Accessible language and age-appropriate detail are complemented by full-color photographs of the majestic Rockies as well as a map showing the range’s location in North America.","English",23.6,17.7,"978--dc23","24 pp.","https://www.garethstevens.com/9781538276914",null,{"$f":"Table1[[#This Row],[QTY]]*Table1[[#This Row],['# Books]]","v":0},{"$f":"Table1[[#This Row],[QTY]]*Table1[[#This Row],[S&L Price]]","v":0}]
[null,null,28,"Wonderful Natural Wonders",1,"The Rocky Mountains","eBook",null,"978-1-5382-7692-1",null,null,"2023","August 2022",null,null,"Author","Bray Jacobson",null,null,null,null,"I",null,"Grade 1 - 2","Grade 1 - 3","The Rocky Mountains were once a great obstacle to those traveling west. Today, they are passable but still formidable in their height and the length of the mountain range. In these ways, among others, the Rocky Mountains are truly a natural wonder! Readers find out the combination of ways the mountain range formed as well as where to find the highest peaks in this book. Accessible language and age-appropriate detail are complemented by full-color photographs of the majestic Rockies as well as a map showing the range’s location in North America.","English",23.6,17.7,"978--dc23","24 pp.","https://www.garethstevens.com/9781538276921","http://www.epointplus.com/embed/9781538276921/?login=cyberrep&password=cyberrep",{"$f":"Table1[[#This Row],[QTY]]*Table1[[#This Row],['# Books]]","v":0},{"$f":"Table1[[#This Row],[QTY]]*Table1[[#This Row],[S&L Price]]","v":0}]
[null,null,29,"We've Got Character!",6,"We've Got Character!","Library Set",null,"978-1-5382-5980-1",{"$f":"HYPERLINK(Table1[[#This Row],[eCommerce Hyperlink]],\"Book Weblink\")","v":"Book Weblink"},null,"2021","January 2021","Library","7.000 X 7.000",null,null,null,null,null,null,null,null,"Grade 1 - 2","Grade 1 - 3","Showing good sportsmanship, taking turns, and following the rules are all important parts of being on a team or part of a community. But how does one learn how to be fair or when to say \"I'm sorry\" and offer a real apology? This set takes readers through common, relatable scenarios such as facing a bully on the soccer field, encountering a problem with a classmate, and experiencing conflict with a sibling. Written in age-appropriate language perfect for young readers, each book \"shows\" instead of \"tells\" the audience ways they can do the right thing in school, at home, and in their community. Features include: Fosters working well with others, kindness, and patience. Glossary terms further aid understanding intangible concepts such as fairness. Photographs closely correlate with the nonfiction narratives.","English",141.6,106.2,null,"24 pp.","https://www.garethstevens.com/9781538259801",null,{"$f":"Table1[[#This Row],[QTY]]*Table1[[#This Row],['# Books]]","v":0},{"$f":"Table1[[#This Row],[QTY]]*Table1[[#This Row],[S&L Price]]","v":0}]
[null,null,29,"We've Got Character!",1,"I Am Fair","Library Bound Book",null,"978-1-5382-5637-4",{"$f":"HYPERLINK(Table1[[#This Row],[eCommerce Hyperlink]],\"Book Weblink\")","v":"Book Weblink"},null,"2021","January 2021","Library","7.000 X 7.000","Author","Charlotte Taylor",null,null,null,null,"K",null,"Grade 1 - 2","Grade 1 - 3","Children often assume that being fair means that everyone gets the same number of cookies, but at the heart of fairness is consideration, respect, and caring for others. Your readers will encounter real-life situations in which young people figure out how to act fairly. They'll meet Ben and Jane who are playing on the swings at recess while other children wait to use the swings. What is the fair thing to do? Each spread consists of one of these relatable scenarios along with a full-color photograph. Fun, accessible text encourages readers to consider how they treat others as they discover what it means to be fair.","English",23.6,17.7,"179/.9--dc23","24 pp.","https://www.garethstevens.com/9781538256374",null,{"$f":"Table1[[#This Row],[QTY]]*Table1[[#This Row],['# Books]]","v":0},{"$f":"Table1[[#This Row],[QTY]]*Table1[[#This Row],[S&L Price]]","v":0}]
[null,null,29,"We've Got Character!",1,"I Am Fair","eBook",null,"978-1-5382-5638-1",{"$f":"HYPERLINK(Table1[[#This Row],[eCommerce Hyperlink]],\"Book Weblink\")","v":"Book Weblink"},null,"2021","January 2021",null,null,"Author","Charlotte Taylor",null,null,null,null,"K",null,"Grade 1 - 2","Grade 1 - 3","Children often assume that being fair means that everyone gets the same number of cookies, but at the heart of fairness is consideration, respect, and caring for others. Your readers will encounter real-life situations in which young people figure out how to act fairly. They'll meet Ben and Jane who are playing on the swings at recess while other children wait to use the swings. What is the fair thing to do? Each spread consists of one of these relatable scenarios along with a full-color photograph. Fun, accessible text encourages readers to consider how they treat others as they discover what it means to be fair.","English",23.6,17.7,"179/.9--dc23","24 pp.","https://www.garethstevens.com/9781538256381",null,{"$f":"Table1[[#This Row],[QTY]]*Table1[[#This Row],['# Books]]","v":0},{"$f":"Table1[[#This Row],[QTY]]*Table1[[#This Row],[S&L Price]]","v":0}]
[null,null,29,"We've Got Character!",1,"I Follow the Rules","Library Bound Book",null,"978-1-5382-5645-9",{"$f":"HYPERLINK(Table1[[#This Row],[eCommerce Hyperlink]],\"Book Weblink\")","v":"Book Weblink"},null,"2021","January 2021","Library","7.000 X 7.000","Author","Charlotte Taylor",null,null,null,null,"K",null,"Grade 1 - 2","Grade 1 - 3","Everywhere we go in life, there are rules on how to behave that we need to observe. For young children this can be difficult to pick up, especially on the playground where you're supposed to let loose and have fun. This book helps readers navigate some common rule-following scenarios by depicting young people in relatable, real-life situations. They meet kids like Marco, who is in the middle of an intense video game when he realizes his computer time is up for the day. What does he do? Each spread includes a brief, high-interest story along with a colorful photograph, ensuring that readers will see themselves in the pages as they learn the fundamentals of following the rules.","English",23.6,17.7,"179/.9--dc23","24 pp.","https://www.garethstevens.com/9781538256459",null,{"$f":"Table1[[#This Row],[QTY]]*Table1[[#This Row],['# Books]]","v":0},{"$f":"Table1[[#This Row],[QTY]]*Table1[[#This Row],[S&L Price]]","v":0}]
[null,null,29,"We've Got Character!",1,"I Follow the Rules","eBook",null,"978-1-5382-5646-6",{"$f":"HYPERLINK(Table1[[#This Row],[eCommerce Hyperlink]],\"Book Weblink\")","v":"Book Weblink"},null,"2021","January 2021",null,null,"Author","Charlotte Taylor",null,null,null,null,"K",null,"Grade 1 - 2","Grade 1 - 3","Everywhere we go in life, there are rules on how to behave that we need to observe. For young children this can be difficult to pick up, especially on the playground where you're supposed to let loose and have fun. This book helps readers navigate some common rule-following scenarios by depicting young people in relatable, real-life situations. They meet kids like Marco, who is in the middle of an intense video game when he realizes his computer time is up for the day. What does he do? Each spread includes a brief, high-interest story along with a colorful photograph, ensuring that readers will see themselves in the pages as they learn the fundamentals of following the rules.","English",23.6,17.7,"179/.9--dc23","24 pp.","https://www.garethstevens.com/9781538256466",null,{"$f":"Table1[[#This Row],[QTY]]*Table1[[#This Row],['# Books]]","v":0},{"$f":"Table1[[#This Row],[QTY]]*Table1[[#This Row],[S&L Price]]","v":0}]
[null,null,29,"We've Got Character!",1,"I Say I'm Sorry","Library Bound Book",null,"978-1-5382-5641-1",{"$f":"HYPERLINK(Table1[[#This Row],[eCommerce Hyperlink]],\"Book Weblink\")","v":"Book Weblink"},null,"2021","January 2021","Library","7.000 X 7.000","Author","Charlotte Taylor",null,null,null,null,"K",null,"Grade 1 - 2","Grade 1 - 3","Knowing when to say we're sorry means knowing when we've hurt someone, whether it was intentional or not. This is not always easy to do, especially for children. This book presents readers with a variety of relatable scenarios in which young people recognize the need for an apology. Readers follow Louis as he shares an embarrassing secret about Aaron with his other classmates, who make fun of Aaron. Louis feels bad for sharing Aaron's secret. What can he do? Each colorful spread presents a different real-life situation that will instill in readers the importance of knowing when to say, \"I'm sorry.\"","English",23.6,17.7,"395--dc23","24 pp.","https://www.garethstevens.com/9781538256411",null,{"$f":"Table1[[#This Row],[QTY]]*Table1[[#This Row],['# Books]]","v":0},{"$f":"Table1[[#This Row],[QTY]]*Table1[[#This Row],[S&L Price]]","v":0}]
[null,null,29,"We've Got Character!",1,"I Say I'm Sorry","eBook",null,"978-1-5382-5642-8",{"$f":"HYPERLINK(Table1[[#This Row],[eCommerce Hyperlink]],\"Book Weblink\")","v":"Book Weblink"},null,"2021","January 2021",null,null,"Author","Charlotte Taylor",null,null,null,null,"K",null,"Grade 1 - 2","Grade 1 - 3","Knowing when to say we're sorry means knowing when we've hurt someone, whether it was intentional or not. This is not always easy to do, especially for children. This book presents readers with a variety of relatable scenarios in which young people recognize the need for an apology. Readers follow Louis as he shares an embarrassing secret about Aaron with his other classmates, who make fun of Aaron. Louis feels bad for sharing Aaron's secret. What can he do? Each colorful spread presents a different real-life situation that will instill in readers the importance of knowing when to say, \"I'm sorry.\"","English",23.6,17.7,"395--dc23","24 pp.","https://www.garethstevens.com/9781538256428",null,{"$f":"Table1[[#This Row],[QTY]]*Table1[[#This Row],['# Books]]","v":0},{"$f":"Table1[[#This Row],[QTY]]*Table1[[#This Row],[S&L Price]]","v":0}]
[null,null,29,"We've Got Character!",1,"I Show Good Sportsmanship","Library Bound Book",null,"978-1-5382-5620-6",{"$f":"HYPERLINK(Table1[[#This Row],[eCommerce Hyperlink]],\"Book Weblink\")","v":"Book Weblink"},null,"2021","January 2021","Library","7.000 X 7.000","Author","Charlotte Taylor",null,null,null,null,"K",null,"Grade 1 - 2","Grade 1 - 3","Being a good sport goes way beyond sports. The lessons we learn on the playing field extend to the classroom, the playground, and our home. How can we be a good sport? Readers are introduced to a variety of places and situations that call for good sportsmanship, such as working with classmates on a science project, winning the big soccer game, or helping Dad clean out the garage. With a unique, real-life scenario in every spread, readers learn what it takes to be a good sport wherever they go.","English",23.6,17.7,"175--dc23","24 pp.","https://www.garethstevens.com/9781538256206",null,{"$f":"Table1[[#This Row],[QTY]]*Table1[[#This Row],['# Books]]","v":0},{"$f":"Table1[[#This Row],[QTY]]*Table1[[#This Row],[S&L Price]]","v":0}]
[null,null,29,"We've Got Character!",1,"I Show Good Sportsmanship","eBook",null,"978-1-5382-5621-3",{"$f":"HYPERLINK(Table1[[#This Row],[eCommerce Hyperlink]],\"Book Weblink\")","v":"Book Weblink"},null,"2021","January 2021",null,null,"Author","Charlotte Taylor",null,null,null,null,"K",null,"Grade 1 - 2","Grade 1 - 3","Being a good sport goes way beyond sports. The lessons we learn on the playing field extend to the classroom, the playground, and our home. How can we be a good sport? Readers are introduced to a variety of places and situations that call for good sportsmanship, such as working with classmates on a science project, winning the big soccer game, or helping Dad clean out the garage. With a unique, real-life scenario in every spread, readers learn what it takes to be a good sport wherever they go.","English",23.6,17.7,"175--dc23","24 pp.","https://www.garethstevens.com/9781538256213",null,{"$f":"Table1[[#This Row],[QTY]]*Table1[[#This Row],['# Books]]","v":0},{"$f":"Table1[[#This Row],[QTY]]*Table1[[#This Row],[S&L Price]]","v":0}]
[null,null,29,"We've Got Character!",1,"I Take Turns","Library Bound Book",null,"978-1-5382-5629-9",{"$f":"HYPERLINK(Table1[[#This Row],[eCommerce Hyperlink]],\"Book Weblink\")","v":"Book Weblink"},null,"2021","January 2021","Library","7.000 X 7.000","Author","Charlotte Taylor",null,null,null,null,"K",null,"Grade 1 - 2","Grade 1 - 3","Having patience is challenging when there's something you really want to do, but you have to wait for it. You want to do it now! Thinking of others and waiting for your turn is an essential element of good character. Readers are encouraged to think about why and when we take turns. Each colorful spread presents a different real-life situation, like when Juan is hot and thirsty after playing soccer. He needs and wants a drink of water immediately, but his friends are thirsty too. Everyone takes turns at the fountain. Through relatable scenarios like this one, readers learn how to show consideration for others by taking turns.","English",23.6,17.7,"179/.9--dc23","24 pp.","https://www.garethstevens.com/9781538256299",null,{"$f":"Table1[[#This Row],[QTY]]*Table1[[#This Row],['# Books]]","v":0},{"$f":"Table1[[#This Row],[QTY]]*Table1[[#This Row],[S&L Price]]","v":0}]
[null,null,29,"We've Got Character!",1,"I Take Turns","eBook",null,"978-1-5382-5630-5",{"$f":"HYPERLINK(Table1[[#This Row],[eCommerce Hyperlink]],\"Book Weblink\")","v":"Book Weblink"},null,"2021","January 2021",null,null,"Author","Charlotte Taylor",null,null,null,null,"K",null,"Grade 1 - 2","Grade 1 - 3","Having patience is challenging when there's something you really want to do, but you have to wait for it. You want to do it now! Thinking of others and waiting for your turn is an essential element of good character. Readers are encouraged to think about why and when we take turns. Each colorful spread presents a different real-life situation, like when Juan is hot and thirsty after playing soccer. He needs and wants a drink of water immediately, but his friends are thirsty too. Everyone takes turns at the fountain. Through relatable scenarios like this one, readers learn how to show consideration for others by taking turns.","English",23.6,17.7,"179/.9--dc23","24 pp.","https://www.garethstevens.com/9781538256305",null,{"$f":"Table1[[#This Row],[QTY]]*Table1[[#This Row],['# Books]]","v":0},{"$f":"Table1[[#This Row],[QTY]]*Table1[[#This Row],[S&L Price]]","v":0}]
[null,null,29,"We've Got Character!",1,"We Work as a Team","Library Bound Book",null,"978-1-5382-5633-6",{"$f":"HYPERLINK(Table1[[#This Row],[eCommerce Hyperlink]],\"Book Weblink\")","v":"Book Weblink"},null,"2021","January 2021","Library","7.000 X 7.000","Author","Charlotte Taylor",null,null,null,null,"K",null,"Grade 1 - 2","Grade 1 - 3","Each player has his or her own job in soccer and baseball. They each do their part to contribute to the team. Teamwork is also important outside of sports. We use teamwork in our classroom, in our community, and at home with our family. Readers are presented with different scenarios in which young people use teamwork to achieve a certain goal, like when Nicole's neighbor becomes ill, everyone in the neighborhood takes on a job with the goal of helping the sick neighbor. Each spread contains a color photograph that imparts the importance and rewards of working as a team.","English",23.6,17.7,"158.2--dc23","24 pp.","https://www.garethstevens.com/9781538256336",null,{"$f":"Table1[[#This Row],[QTY]]*Table1[[#This Row],['# Books]]","v":0},{"$f":"Table1[[#This Row],[QTY]]*Table1[[#This Row],[S&L Price]]","v":0}]
[null,null,29,"We've Got Character!",1,"We Work as a Team","eBook",null,"978-1-5382-5634-3",{"$f":"HYPERLINK(Table1[[#This Row],[eCommerce Hyperlink]],\"Book Weblink\")","v":"Book Weblink"},null,"2021","January 2021",null,null,"Author","Charlotte Taylor",null,null,null,null,"K",null,"Grade 1 - 2","Grade 1 - 3","Each player has his or her own job in soccer and baseball. They each do their part to contribute to the team. Teamwork is also important outside of sports. We use teamwork in our classroom, in our community, and at home with our family. Readers are presented with different scenarios in which young people use teamwork to achieve a certain goal, like when Nicole's neighbor becomes ill, everyone in the neighborhood takes on a job with the goal of helping the sick neighbor. Each spread contains a color photograph that imparts the importance and rewards of working as a team.","English",23.6,17.7,"158.2--dc23","24 pp.","https://www.garethstevens.com/9781538256343",null,{"$f":"Table1[[#This Row],[QTY]]*Table1[[#This Row],['# Books]]","v":0},{"$f":"Table1[[#This Row],[QTY]]*Table1[[#This Row],[S&L Price]]","v":0}]
[null,null,29,"What Do They Do?",6,"What Do They Do?","Library Set",null,"978-1-5382-5981-8",{"$f":"HYPERLINK(Table1[[#This Row],[eCommerce Hyperlink]],\"Book Weblink\")","v":"Book Weblink"},null,"2021","January 2021","Library","7.000 X 7.000",null,null,null,null,null,null,null,null,"Grade 1 - 2","Grade 1 - 3","Everyone knows that teachers greet their students in the morning and impart wisdom to them during class. Firefighters bravely go out to save homes and businesses from destructive fires. But what do community helpers like bus drivers, dentists, and farmers do with their whole day? With this fun set, readers get a behind-the-scenes look at the daily tasks each professional does, from learning bus routes to driving to and from construction sites. The accessible narratives invite young readers to imagine taking part in these careers and helping the community. Features include: Full-color photographs that directly correlate with narratives to aid comprehension. Community helpers tie in to early elementary social studies curricula. Career focus encourages readers to investigate familiar professions.","English",141.6,106.2,null,"24 pp.","https://www.garethstevens.com/9781538259818",null,{"$f":"Table1[[#This Row],[QTY]]*Table1[[#This Row],['# Books]]","v":0},{"$f":"Table1[[#This Row],[QTY]]*Table1[[#This Row],[S&L Price]]","v":0}]
[null,null,29,"What Do They Do?",1,"What Do Bus Drivers Do All Day?","Library Bound Book",null,"978-1-5382-5693-0",{"$f":"HYPERLINK(Table1[[#This Row],[eCommerce Hyperlink]],\"Book Weblink\")","v":"Book Weblink"},null,"2021","January 2021","Library","7.000 X 7.000","Author","Emily Mahoney",null,null,null,null,"K",null,"Grade 1 - 2","Grade 1 - 3","Kids might not know it, but there is much more to the job of a bus driver than just picking people up and dropping them off. From inspections to learning routes, this book explores the duties of a bus driver in an interesting and fun way. Colorful pictures and easy-to-read text encourages developing readers to learn about this important job that helps many members of a community.","English",23.6,17.7,"388.3/22023--dc23","24 pp.","https://www.garethstevens.com/9781538256930",null,{"$f":"Table1[[#This Row],[QTY]]*Table1[[#This Row],['# Books]]","v":0},{"$f":"Table1[[#This Row],[QTY]]*Table1[[#This Row],[S&L Price]]","v":0}]
[null,null,29,"What Do They Do?",1,"What Do Bus Drivers Do All Day?","eBook",null,"978-1-5382-5694-7",{"$f":"HYPERLINK(Table1[[#This Row],[eCommerce Hyperlink]],\"Book Weblink\")","v":"Book Weblink"},null,"2021","January 2021",null,null,"Author","Emily Mahoney",null,null,null,null,"K",null,"Grade 1 - 2","Grade 1 - 3","Kids might not know it, but there is much more to the job of a bus driver than just picking people up and dropping them off. From inspections to learning routes, this book explores the duties of a bus driver in an interesting and fun way. Colorful pictures and easy-to-read text encourages developing readers to learn about this important job that helps many members of a community.","English",23.6,17.7,"388.3/22023--dc23","24 pp.","https://www.garethstevens.com/9781538256947",null,{"$f":"Table1[[#This Row],[QTY]]*Table1[[#This Row],['# Books]]","v":0},{"$f":"Table1[[#This Row],[QTY]]*Table1[[#This Row],[S&L Price]]","v":0}]
[null,null,29,"What Do They Do?",1,"What Do Construction Workers Do All Day?","Library Bound Book",null,"978-1-5382-5685-5",{"$f":"HYPERLINK(Table1[[#This Row],[eCommerce Hyperlink]],\"Book Weblink\")","v":"Book Weblink"},null,"2021","January 2021","Library","7.000 X 7.000","Author","Emily Mahoney",null,null,null,null,"K",null,"Grade 1 - 2","Grade 1 - 3","Construction workers have very physically demanding jobs, and their days can be very different depending on the project they're working on at the time. Excited readers will explore the world of demolition, building, designing, and creating with this engaging book about construction. Defined vocabulary words help make this narrative easily accessible for all readers. Detailed photographs convey what it's really like to work in construction.","English",23.6,17.7,"624.023--dc23","24 pp.","https://www.garethstevens.com/9781538256855",null,{"$f":"Table1[[#This Row],[QTY]]*Table1[[#This Row],['# Books]]","v":0},{"$f":"Table1[[#This Row],[QTY]]*Table1[[#This Row],[S&L Price]]","v":0}]
[null,null,29,"What Do They Do?",1,"What Do Construction Workers Do All Day?","eBook",null,"978-1-5382-5686-2",{"$f":"HYPERLINK(Table1[[#This Row],[eCommerce Hyperlink]],\"Book Weblink\")","v":"Book Weblink"},null,"2021","January 2021",null,null,"Author","Emily Mahoney",null,null,null,null,"K",null,"Grade 1 - 2","Grade 1 - 3","Construction workers have very physically demanding jobs, and their days can be very different depending on the project they're working on at the time. Excited readers will explore the world of demolition, building, designing, and creating with this engaging book about construction. Defined vocabulary words help make this narrative easily accessible for all readers. Detailed photographs convey what it's really like to work in construction.","English",23.6,17.7,"624.023--dc23","24 pp.","https://www.garethstevens.com/9781538256862",null,{"$f":"Table1[[#This Row],[QTY]]*Table1[[#This Row],['# Books]]","v":0},{"$f":"Table1[[#This Row],[QTY]]*Table1[[#This Row],[S&L Price]]","v":0}]
[null,null,29,"What Do They Do?",1,"What Do Farmers Do All Day?","Library Bound Book",null,"978-1-5382-5689-3",{"$f":"HYPERLINK(Table1[[#This Row],[eCommerce Hyperlink]],\"Book Weblink\")","v":"Book Weblink"},null,"2021","January 2021","Library","7.000 X 7.000","Author","Emily Mahoney",null,null,null,null,"K",null,"Grade 1 - 2","Grade 1 - 3","Farming is one of the most important jobs in our society, but what does a farmer really do all day? This book explores both agricultural and livestock farming in detail and describes the special skills and equipment that a farmer needs in order to ensure that the farm runs smoothly. Other aspects of working with animals and crops are explored, such as selling livestock and vegetables to people or businesses. Engaging visuals and interesting facts make this a great read for developing readers.","English",23.6,17.7,"630.23--dc23","24 pp.","https://www.garethstevens.com/9781538256893",null,{"$f":"Table1[[#This Row],[QTY]]*Table1[[#This Row],['# Books]]","v":0},{"$f":"Table1[[#This Row],[QTY]]*Table1[[#This Row],[S&L Price]]","v":0}]
[null,null,29,"What Do They Do?",1,"What Do Farmers Do All Day?","eBook",null,"978-1-5382-5690-9",{"$f":"HYPERLINK(Table1[[#This Row],[eCommerce Hyperlink]],\"Book Weblink\")","v":"Book Weblink"},null,"2021","January 2021",null,null,"Author","Emily Mahoney",null,null,null,null,"K",null,"Grade 1 - 2","Grade 1 - 3","Farming is one of the most important jobs in our society, but what does a farmer really do all day? This book explores both agricultural and livestock farming in detail and describes the special skills and equipment that a farmer needs in order to ensure that the farm runs smoothly. Other aspects of working with animals and crops are explored, such as selling livestock and vegetables to people or businesses. Engaging visuals and interesting facts make this a great read for developing readers.","English",23.6,17.7,"630.23--dc23","24 pp.","https://www.garethstevens.com/9781538256909",null,{"$f":"Table1[[#This Row],[QTY]]*Table1[[#This Row],['# Books]]","v":0},{"$f":"Table1[[#This Row],[QTY]]*Table1[[#This Row],[S&L Price]]","v":0}]
[null,null,29,"What Do They Do?",1,"What Do Firefighters Do All Day?","Library Bound Book",null,"978-1-5382-5673-2",{"$f":"HYPERLINK(Table1[[#This Row],[eCommerce Hyperlink]],\"Book Weblink\")","v":"Book Weblink"},null,"2021","January 2021","Library","7.000 X 7.000","Author","Emily Mahoney",null,null,null,null,"K",null,"Grade 1 - 2","Grade 1 - 3","The blaring siren and zooming emergency truck gives us a glimpse into a firefighter's life, but what do they do all day? This book explores what it is really like to fight fires. Aspects of the job such as equipment management, first aid, and training are covered so that readers get a comprehensive look at this dangerous and heroic job. Eye-catching graphics and defined vocabulary words will engage every reader about the lives of these important community members.","English",23.6,17.7,"628.9/2023--dc23","24 pp.","https://www.garethstevens.com/9781538256732",null,{"$f":"Table1[[#This Row],[QTY]]*Table1[[#This Row],['# Books]]","v":0},{"$f":"Table1[[#This Row],[QTY]]*Table1[[#This Row],[S&L Price]]","v":0}]
[null,null,29,"What Do They Do?",1,"What Do Firefighters Do All Day?","eBook",null,"978-1-5382-5674-9",{"$f":"HYPERLINK(Table1[[#This Row],[eCommerce Hyperlink]],\"Book Weblink\")","v":"Book Weblink"},null,"2021","January 2021",null,null,"Author","Emily Mahoney",null,null,null,null,"K",null,"Grade 1 - 2","Grade 1 - 3","The blaring siren and zooming emergency truck gives us a glimpse into a firefighter's life, but what do they do all day? This book explores what it is really like to fight fires. Aspects of the job such as equipment management, first aid, and training are covered so that readers get a comprehensive look at this dangerous and heroic job. Eye-catching graphics and defined vocabulary words will engage every reader about the lives of these important community members.","English",23.6,17.7,"628.9/2023--dc23","24 pp.","https://www.garethstevens.com/9781538256749",null,{"$f":"Table1[[#This Row],[QTY]]*Table1[[#This Row],['# Books]]","v":0},{"$f":"Table1[[#This Row],[QTY]]*Table1[[#This Row],[S&L Price]]","v":0}]
[null,null,29,"What Do They Do?",1,"What Do Teachers Do All Day?","Library Bound Book",null,"978-1-5382-5677-0",{"$f":"HYPERLINK(Table1[[#This Row],[eCommerce Hyperlink]],\"Book Weblink\")","v":"Book Weblink"},null,"2021","January 2021","Library","7.000 X 7.000","Author","Emily Mahoney",null,null,null,null,"K",null,"Grade 1 - 2","Grade 1 - 3","Kids become very familiar with the roles of teachers, but they don't often learn about all of the behind-the-scenes work. This book explores the responsibilities of a teacher while they are teaching students, and looks at lesson planning, curriculum development, parent-teacher conferences, and professional development. Bright and colorful graphics and interesting facts will engage students help them to learn more about a career that they might be considering in the future.","English",23.6,17.7,"371.102--dc23","24 pp.","https://www.garethstevens.com/9781538256770",null,{"$f":"Table1[[#This Row],[QTY]]*Table1[[#This Row],['# Books]]","v":0},{"$f":"Table1[[#This Row],[QTY]]*Table1[[#This Row],[S&L Price]]","v":0}]
[null,null,29,"What Do They Do?",1,"What Do Teachers Do All Day?","eBook",null,"978-1-5382-5678-7",{"$f":"HYPERLINK(Table1[[#This Row],[eCommerce Hyperlink]],\"Book Weblink\")","v":"Book Weblink"},null,"2021","January 2021",null,null,"Author","Emily Mahoney",null,null,null,null,"K",null,"Grade 1 - 2","Grade 1 - 3","Kids become very familiar with the roles of teachers, but they don't often learn about all of the behind-the-scenes work. This book explores the responsibilities of a teacher while they are teaching students, and looks at lesson planning, curriculum development, parent-teacher conferences, and professional development. Bright and colorful graphics and interesting facts will engage students help them to learn more about a career that they might be considering in the future.","English",23.6,17.7,"371.102--dc23","24 pp.","https://www.garethstevens.com/9781538256787",null,{"$f":"Table1[[#This Row],[QTY]]*Table1[[#This Row],['# Books]]","v":0},{"$f":"Table1[[#This Row],[QTY]]*Table1[[#This Row],[S&L Price]]","v":0}]
[null,null,29,"What Do They Do?",1,"What Does the Mayor Do All Day?","Library Bound Book",null,"978-1-5382-5681-7",{"$f":"HYPERLINK(Table1[[#This Row],[eCommerce Hyperlink]],\"Book Weblink\")","v":"Book Weblink"},null,"2021","January 2021","Library","7.000 X 7.000","Author","Emily Mahoney",null,null,null,null,"K",null,"Grade 1 - 2","Grade 1 - 3","This book helps young readers learn about the day-to-day responsibilities of the mayor of a city or town. With detailed information about meetings, ceremonies, giving speeches, planning projects, and getting elected to be mayor, this text contains interesting and engaging information about one of the leaders of a community. Photographs and vocabulary terms help make this narrative a must-read for anyone wanting a realistic look at the life of a mayor.","English",23.6,17.7,"352.23/2160973--dc23","24 pp.","https://www.garethstevens.com/9781538256817",null,{"$f":"Table1[[#This Row],[QTY]]*Table1[[#This Row],['# Books]]","v":0},{"$f":"Table1[[#This Row],[QTY]]*Table1[[#This Row],[S&L Price]]","v":0}]
[null,null,29,"What Do They Do?",1,"What Does the Mayor Do All Day?","eBook",null,"978-1-5382-5682-4",{"$f":"HYPERLINK(Table1[[#This Row],[eCommerce Hyperlink]],\"Book Weblink\")","v":"Book Weblink"},null,"2021","January 2021",null,null,"Author","Emily Mahoney",null,null,null,null,"K",null,"Grade 1 - 2","Grade 1 - 3","This book helps young readers learn about the day-to-day responsibilities of the mayor of a city or town. With detailed information about meetings, ceremonies, giving speeches, planning projects, and getting elected to be mayor, this text contains interesting and engaging information about one of the leaders of a community. Photographs and vocabulary terms help make this narrative a must-read for anyone wanting a realistic look at the life of a mayor.","English",23.6,17.7,"352.23/2160973--dc23","24 pp.","https://www.garethstevens.com/9781538256824",null,{"$f":"Table1[[#This Row],[QTY]]*Table1[[#This Row],['# Books]]","v":0},{"$f":"Table1[[#This Row],[QTY]]*Table1[[#This Row],[S&L Price]]","v":0}]
[null,null,30,"All Our Communities",6,"All Our Communities","Library Set",null,"978-1-5382-4561-3",{"$f":"HYPERLINK(Table1[[#This Row],[eCommerce Hyperlink]],\"Book Weblink\")","v":"Book Weblink"},null,"2020","January 2020","Library","7.000 X 7.000",null,null,null,null,null,null,null,null,"Grade 1 - 2","Grade 1 - 3","There is no doubt about it, people need each other. We form different communities so we can meet each other's various needs, such as education, safety, and friendship. So what does it mean to be a part of these diverse communities? Readers will find out through these accessible volumes written especially to benefit the early elementary classroom in relation to the social studies curricula. Friendly, at-level text and bright photographs of different communities allow readers to recognize themselves and their roles in their own unique communities. Features include: Vocabulary terms that highlight important concepts about communities. Encourages readers to consider what it means to be a good member of the communities in which they live. Supports numerous standards of the English Language Arts Common Core, including becoming proficient with the use of nonfiction text features.","English",141.6,106.2,null,"24 pp.","https://www.garethstevens.com/9781538245613",null,{"$f":"Table1[[#This Row],[QTY]]*Table1[[#This Row],['# Books]]","v":0},{"$f":"Table1[[#This Row],[QTY]]*Table1[[#This Row],[S&L Price]]","v":0}]
[null,null,30,"All Our Communities",1,"You're Part of a Family Community!","Library Bound Book",null,"978-1-5382-4531-6",{"$f":"HYPERLINK(Table1[[#This Row],[eCommerce Hyperlink]],\"Book Weblink\")","v":"Book Weblink"},null,"2020","January 2020","Library","7.000 X 7.000","Author","Theresa Emminizer",null,null,null,null,"I",null,"Grade 1 - 2","Grade 1 - 3","A community is a group of people living or working together, and a family is a group of people who take care of each other. Through this relatable and informative book, readers will understand what it means to be part of a family community. The age-appropriate language imparts the principles of community while engaging readers by providing accessible real-world examples of how children can participate and contribute to their family community.","English",23.6,17.7,"307--dc23","24 pp.","https://www.garethstevens.com/9781538245316",null,{"$f":"Table1[[#This Row],[QTY]]*Table1[[#This Row],['# Books]]","v":0},{"$f":"Table1[[#This Row],[QTY]]*Table1[[#This Row],[S&L Price]]","v":0}]
[null,null,30,"All Our Communities",1,"You're Part of a Family Community!","eBook",null,"978-1-5382-4532-3",{"$f":"HYPERLINK(Table1[[#This Row],[eCommerce Hyperlink]],\"Book Weblink\")","v":"Book Weblink"},null,"2020","January 2020",null,null,"Author","Theresa Emminizer",null,null,null,null,"I",null,"Grade 1 - 2","Grade 1 - 3","A community is a group of people living or working together, and a family is a group of people who take care of each other. Through this relatable and informative book, readers will understand what it means to be part of a family community. The age-appropriate language imparts the principles of community while engaging readers by providing accessible real-world examples of how children can participate and contribute to their family community.","English",23.6,17.7,"307--dc23","24 pp.","https://www.garethstevens.com/9781538245323",null,{"$f":"Table1[[#This Row],[QTY]]*Table1[[#This Row],['# Books]]","v":0},{"$f":"Table1[[#This Row],[QTY]]*Table1[[#This Row],[S&L Price]]","v":0}]
[null,null,30,"All Our Communities",1,"You're Part of a National Community!","Library Bound Book",null,"978-1-5382-4535-4",{"$f":"HYPERLINK(Table1[[#This Row],[eCommerce Hyperlink]],\"Book Weblink\")","v":"Book Weblink"},null,"2020","January 2020","Library","7.000 X 7.000","Author","Theresa Emminizer",null,null,null,null,"J",null,"Grade 1 - 2","Grade 1 - 3","What does it mean to be a part of a national community? This eye-opening and informative book is designed to help children learn about the values of democracy and community through an age-appropriate lens. Drawing on the fundamental principles of diversity, equality, civic participation, and working together for the common good, the narrative communicates abstract concepts in a relatable way. Readers will gain a feeling of empowerment to take action and let their voices be heard within their national community.","English",23.6,17.7,"323.6--dc23","24 pp.","https://www.garethstevens.com/9781538245354",null,{"$f":"Table1[[#This Row],[QTY]]*Table1[[#This Row],['# Books]]","v":0},{"$f":"Table1[[#This Row],[QTY]]*Table1[[#This Row],[S&L Price]]","v":0}]
[null,null,30,"All Our Communities",1,"You're Part of a National Community!","eBook",null,"978-1-5382-4536-1",{"$f":"HYPERLINK(Table1[[#This Row],[eCommerce Hyperlink]],\"Book Weblink\")","v":"Book Weblink"},null,"2020","January 2020",null,null,"Author","Theresa Emminizer",null,null,null,null,"J",null,"Grade 1 - 2","Grade 1 - 3","What does it mean to be a part of a national community? This eye-opening and informative book is designed to help children learn about the values of democracy and community through an age-appropriate lens. Drawing on the fundamental principles of diversity, equality, civic participation, and working together for the common good, the narrative communicates abstract concepts in a relatable way. Readers will gain a feeling of empowerment to take action and let their voices be heard within their national community.","English",23.6,17.7,"323.6--dc23","24 pp.","https://www.garethstevens.com/9781538245361",null,{"$f":"Table1[[#This Row],[QTY]]*Table1[[#This Row],['# Books]]","v":0},{"$f":"Table1[[#This Row],[QTY]]*Table1[[#This Row],[S&L Price]]","v":0}]
[null,null,30,"All Our Communities",1,"You're Part of a Neighborhood Community!","Library Bound Book",null,"978-1-5382-4539-2",{"$f":"HYPERLINK(Table1[[#This Row],[eCommerce Hyperlink]],\"Book Weblink\")","v":"Book Weblink"},null,"2020","January 2020","Library","7.000 X 7.000","Author","Theresa Emminizer",null,null,null,null,"I",null,"Grade 1 - 2","Grade 1 - 3","A neighborhood is more than a group of people living in the same area; it is a living, breathing community. What does it mean to be part of a neighborhood community? This book will help young readers learn the answer to this question and more. Using age-appropriate language and relatable, real-life examples of active citizenship, this educational text is designed to foster democratic values and skills and encourage children to develop a voice within their community.","English",23.6,17.7,"307--dc23","24 pp.","https://www.garethstevens.com/9781538245392",null,{"$f":"Table1[[#This Row],[QTY]]*Table1[[#This Row],['# Books]]","v":0},{"$f":"Table1[[#This Row],[QTY]]*Table1[[#This Row],[S&L Price]]","v":0}]
[null,null,30,"All Our Communities",1,"You're Part of a Neighborhood Community!","eBook",null,"978-1-5382-4540-8",{"$f":"HYPERLINK(Table1[[#This Row],[eCommerce Hyperlink]],\"Book Weblink\")","v":"Book Weblink"},null,"2020","January 2020",null,null,"Author","Theresa Emminizer",null,null,null,null,"I",null,"Grade 1 - 2","Grade 1 - 3","A neighborhood is more than a group of people living in the same area; it is a living, breathing community. What does it mean to be part of a neighborhood community? This book will help young readers learn the answer to this question and more. Using age-appropriate language and relatable, real-life examples of active citizenship, this educational text is designed to foster democratic values and skills and encourage children to develop a voice within their community.","English",23.6,17.7,"307--dc23","24 pp.","https://www.garethstevens.com/9781538245408",null,{"$f":"Table1[[#This Row],[QTY]]*Table1[[#This Row],['# Books]]","v":0},{"$f":"Table1[[#This Row],[QTY]]*Table1[[#This Row],[S&L Price]]","v":0}]
[null,null,30,"All Our Communities",1,"You're Part of a School Community!","Library Bound Book",null,"978-1-5382-4543-9",{"$f":"HYPERLINK(Table1[[#This Row],[eCommerce Hyperlink]],\"Book Weblink\")","v":"Book Weblink"},null,"2020","January 2020","Library","7.000 X 7.000","Author","Theresa Emminizer",null,null,null,null,"I",null,"Grade 1 - 2","Grade 1 - 3","School administrators, teachers, staff members are all part of a school community. So are students, parents, school boards, and city officials. Through this relatable and informative book, readers will discover how their school community is at work everyday. They'll learn about the importance of active engagement and working together to achieve common goals. With relevant, real-life examples to guide them, readers will be empowered by the knowledge that they have something unique to contribute to their communities.","English",23.6,17.7,"371--dc23","24 pp.","https://www.garethstevens.com/9781538245439",null,{"$f":"Table1[[#This Row],[QTY]]*Table1[[#This Row],['# Books]]","v":0},{"$f":"Table1[[#This Row],[QTY]]*Table1[[#This Row],[S&L Price]]","v":0}]
[null,null,30,"All Our Communities",1,"You're Part of a School Community!","eBook",null,"978-1-5382-4544-6",{"$f":"HYPERLINK(Table1[[#This Row],[eCommerce Hyperlink]],\"Book Weblink\")","v":"Book Weblink"},null,"2020","January 2020",null,null,"Author","Theresa Emminizer",null,null,null,null,"I",null,"Grade 1 - 2","Grade 1 - 3","School administrators, teachers, staff members are all part of a school community. So are students, parents, school boards, and city officials. Through this relatable and informative book, readers will discover how their school community is at work everyday. They'll learn about the importance of active engagement and working together to achieve common goals. With relevant, real-life examples to guide them, readers will be empowered by the knowledge that they have something unique to contribute to their communities.","English",23.6,17.7,"371--dc23","24 pp.","https://www.garethstevens.com/9781538245446",null,{"$f":"Table1[[#This Row],[QTY]]*Table1[[#This Row],['# Books]]","v":0},{"$f":"Table1[[#This Row],[QTY]]*Table1[[#This Row],[S&L Price]]","v":0}]
[null,null,30,"All Our Communities",1,"You're Part of a State Community!","Library Bound Book",null,"978-1-5382-4547-7",{"$f":"HYPERLINK(Table1[[#This Row],[eCommerce Hyperlink]],\"Book Weblink\")","v":"Book Weblink"},null,"2020","January 2020","Library","7.000 X 7.000","Author","Theresa Emminizer",null,null,null,null,"J",null,"Grade 1 - 2","Grade 1 - 3","Whether you're way up north in Alaska, in sunny southern Florida, or in the western Hawaiian Islands, you are part of a state community. With colorful photographs and accessible language, this engaging and educational book is designed to teach young readers about what it means to be part of a state community. Through real-life examples of active citizenship and cooperative efforts to achieve common goals, children will understand how they each have unique contributions to make as community members.","English",23.6,17.7,"320.473--dc23","24 pp.","https://www.garethstevens.com/9781538245477",null,{"$f":"Table1[[#This Row],[QTY]]*Table1[[#This Row],['# Books]]","v":0},{"$f":"Table1[[#This Row],[QTY]]*Table1[[#This Row],[S&L Price]]","v":0}]
[null,null,30,"All Our Communities",1,"You're Part of a State Community!","eBook",null,"978-1-5382-4548-4",{"$f":"HYPERLINK(Table1[[#This Row],[eCommerce Hyperlink]],\"Book Weblink\")","v":"Book Weblink"},null,"2020","January 2020",null,null,"Author","Theresa Emminizer",null,null,null,null,"J",null,"Grade 1 - 2","Grade 1 - 3","Whether you're way up north in Alaska, in sunny southern Florida, or in the western Hawaiian Islands, you are part of a state community. With colorful photographs and accessible language, this engaging and educational book is designed to teach young readers about what it means to be part of a state community. Through real-life examples of active citizenship and cooperative efforts to achieve common goals, children will understand how they each have unique contributions to make as community members.","English",23.6,17.7,"320.473--dc23","24 pp.","https://www.garethstevens.com/9781538245484",null,{"$f":"Table1[[#This Row],[QTY]]*Table1[[#This Row],['# Books]]","v":0},{"$f":"Table1[[#This Row],[QTY]]*Table1[[#This Row],[S&L Price]]","v":0}]
[null,null,30,"All Our Communities",1,"You're Part of the World Community!","Library Bound Book",null,"978-1-5382-4551-4",{"$f":"HYPERLINK(Table1[[#This Row],[eCommerce Hyperlink]],\"Book Weblink\")","v":"Book Weblink"},null,"2020","January 2020","Library","7.000 X 7.000","Author","Theresa Emminizer",null,null,null,null,"J",null,"Grade 1 - 2","Grade 1 - 3","Encompassing vast oceans, seven continents, and 195 countries, the world is a very big place. It is also a community! With this interesting and educational book, readers will learn how every person on Earth is part of the world community and what that means. Using age-appropriate language to communicate complex concepts and relatable, real-life examples of active citizenship, this book is designed to motivate children to embrace their role as members of the world community.","English",23.6,17.7,"305.8--dc23","24 pp.","https://www.garethstevens.com/9781538245514",null,{"$f":"Table1[[#This Row],[QTY]]*Table1[[#This Row],['# Books]]","v":0},{"$f":"Table1[[#This Row],[QTY]]*Table1[[#This Row],[S&L Price]]","v":0}]
[null,null,30,"All Our Communities",1,"You're Part of the World Community!","eBook",null,"978-1-5382-4552-1",{"$f":"HYPERLINK(Table1[[#This Row],[eCommerce Hyperlink]],\"Book Weblink\")","v":"Book Weblink"},null,"2020","January 2020",null,null,"Author","Theresa Emminizer",null,null,null,null,"J",null,"Grade 1 - 2","Grade 1 - 3","Encompassing vast oceans, seven continents, and 195 countries, the world is a very big place. It is also a community! With this interesting and educational book, readers will learn how every person on Earth is part of the world community and what that means. Using age-appropriate language to communicate complex concepts and relatable, real-life examples of active citizenship, this book is designed to motivate children to embrace their role as members of the world community.","English",23.6,17.7,"305.8--dc23","24 pp.","https://www.garethstevens.com/9781538245521",null,{"$f":"Table1[[#This Row],[QTY]]*Table1[[#This Row],['# Books]]","v":0},{"$f":"Table1[[#This Row],[QTY]]*Table1[[#This Row],[S&L Price]]","v":0}]
[null,null,30,"Cultures Connect Us!",6,"Cultures Connect Us!","Library Set",null,"978-1-5382-3906-3",{"$f":"HYPERLINK(Table1[[#This Row],[eCommerce Hyperlink]],\"Book Weblink\")","v":"Book Weblink"},null,"2020","August 2019","Library","7.000 X 7.000",null,null,null,null,null,null,null,null,"Grade 1 - 2","Grade 1 - 3","The folktales, legends, traditions, and festivals of a community reflect the cultures found within it, and recognizing the many characteristics of cultures is an important elementary social studies standard. Each valuable volume of this essential series explains a cultural feature, such as oral traditions and myths, as well as presents appealing examples of each. While delving into these ideas, readers will reflect on the communities in which they live as well as appreciate the richness of their own and other cultures. Features include: Based on key ideas in early elementary social studies curricula. Eye-catching colorful photographs are chosen carefully to support the texts. History and social studies are included in the range of informational texts highlighted in the English Language Arts Common Core.","English",141.6,106.2,null,"24 pp.","https://www.garethstevens.com/9781538239063",null,{"$f":"Table1[[#This Row],[QTY]]*Table1[[#This Row],['# Books]]","v":0},{"$f":"Table1[[#This Row],[QTY]]*Table1[[#This Row],[S&L Price]]","v":0}]
[null,null,30,"Cultures Connect Us!",1,"Festivals and Celebrations","Library Bound Book",null,"978-1-5382-3836-3",{"$f":"HYPERLINK(Table1[[#This Row],[eCommerce Hyperlink]],\"Book Weblink\")","v":"Book Weblink"},null,"2020","August 2019","Library","7.000 X 7.000","Author","Cyril Bassington","3.8","0.5",null,null,"I",null,"Grade 1 - 2","Grade 1 - 3","If there's something that binds most cultures together, it's a respect for holidays, both solemn and joyous. This high-interest book explains the characteristics and traditions of numerous holidays such as Hanukkah, Dia de los Muertos, and Juneteenth. Readers will come to understand similarities among peoples as well as the importance of learning about the various cultures within their own community. Striking photographs of cultural holidays are prominently featured as well as important vocabulary terms.","English",23.6,17.7,"394.26--dc23","24 pp.","https://www.garethstevens.com/9781538238363",null,{"$f":"Table1[[#This Row],[QTY]]*Table1[[#This Row],['# Books]]","v":0},{"$f":"Table1[[#This Row],[QTY]]*Table1[[#This Row],[S&L Price]]","v":0}]
[null,null,30,"Cultures Connect Us!",1,"Festivals and Celebrations","eBook",null,"978-1-5382-3837-0",{"$f":"HYPERLINK(Table1[[#This Row],[eCommerce Hyperlink]],\"Book Weblink\")","v":"Book Weblink"},null,"2020","August 2019",null,null,"Author","Cyril Bassington","3.8","0.5",null,null,"I",null,"Grade 1 - 2","Grade 1 - 3","If there's something that binds most cultures together, it's a respect for holidays, both solemn and joyous. This high-interest book explains the characteristics and traditions of numerous holidays such as Hanukkah, Dia de los Muertos, and Juneteenth. Readers will come to understand similarities among peoples as well as the importance of learning about the various cultures within their own community. Striking photographs of cultural holidays are prominently featured as well as important vocabulary terms.","English",23.6,17.7,"394.26--dc23","24 pp.","https://www.garethstevens.com/9781538238370",null,{"$f":"Table1[[#This Row],[QTY]]*Table1[[#This Row],['# Books]]","v":0},{"$f":"Table1[[#This Row],[QTY]]*Table1[[#This Row],[S&L Price]]","v":0}]
[null,null,30,"Cultures Connect Us!",1,"Folktales","Library Bound Book",null,"978-1-5382-3840-0",{"$f":"HYPERLINK(Table1[[#This Row],[eCommerce Hyperlink]],\"Book Weblink\")","v":"Book Weblink"},null,"2020","August 2019","Library","7.000 X 7.000","Author","Cyril Bassington","3.5","0.5",null,null,"I",null,"Grade 1 - 2","Grade 1 - 3","The drive to pass down stories from generation to generation is a trait that cultures across the world have in common. Some of these fascinating stories are called folktales, and many are still beloved hundreds of years after they were first told. Readers will learn the characteristics that folktales across cultures share. They'll discover that fables, fairy tales, and tall tales all fall within this category, and they'll learn famous examples of each, such as the Tortoise and the Hare, Paul Bunyan, and Cinderella. The compelling narrative is accompanied by appealing artwork.","English",23.6,17.7,"398.2--dc23","24 pp.","https://www.garethstevens.com/9781538238400",null,{"$f":"Table1[[#This Row],[QTY]]*Table1[[#This Row],['# Books]]","v":0},{"$f":"Table1[[#This Row],[QTY]]*Table1[[#This Row],[S&L Price]]","v":0}]
[null,null,30,"Cultures Connect Us!",1,"Folktales","eBook",null,"978-1-5382-3841-7",{"$f":"HYPERLINK(Table1[[#This Row],[eCommerce Hyperlink]],\"Book Weblink\")","v":"Book Weblink"},null,"2020","August 2019",null,null,"Author","Cyril Bassington","3.5","0.5",null,null,"I",null,"Grade 1 - 2","Grade 1 - 3","The drive to pass down stories from generation to generation is a trait that cultures across the world have in common. Some of these fascinating stories are called folktales, and many are still beloved hundreds of years after they were first told. Readers will learn the characteristics that folktales across cultures share. They'll discover that fables, fairy tales, and tall tales all fall within this category, and they'll learn famous examples of each, such as the Tortoise and the Hare, Paul Bunyan, and Cinderella. The compelling narrative is accompanied by appealing artwork.","English",23.6,17.7,"398.2--dc23","24 pp.","https://www.garethstevens.com/9781538238417",null,{"$f":"Table1[[#This Row],[QTY]]*Table1[[#This Row],['# Books]]","v":0},{"$f":"Table1[[#This Row],[QTY]]*Table1[[#This Row],[S&L Price]]","v":0}]
[null,null,30,"Cultures Connect Us!",1,"Legends","Library Bound Book",null,"978-1-5382-3844-8",{"$f":"HYPERLINK(Table1[[#This Row],[eCommerce Hyperlink]],\"Book Weblink\")","v":"Book Weblink"},null,"2020","August 2019","Library","7.000 X 7.000","Author","Cyril Bassington","3.3","0.5",null,null,"I",null,"Grade 1 - 2","Grade 1 - 3","What makes a legend a legend? A bit of truth and a bit of entertaining fiction! That's how legends have lasted through generations, and sometimes for thousands of years. Robin Hood, King Arthur, and young George Washington all make an appearance in this informative book, which offers details about legendary stories as well as information about why they're considered legends. Readers will also learn about urban legends and consider if they have legends-in-the-making in their families and communities.","English",23.6,17.7,"398.2--dc23","24 pp.","https://www.garethstevens.com/9781538238448",null,{"$f":"Table1[[#This Row],[QTY]]*Table1[[#This Row],['# Books]]","v":0},{"$f":"Table1[[#This Row],[QTY]]*Table1[[#This Row],[S&L Price]]","v":0}]
[null,null,30,"Cultures Connect Us!",1,"Legends","eBook",null,"978-1-5382-3845-5",{"$f":"HYPERLINK(Table1[[#This Row],[eCommerce Hyperlink]],\"Book Weblink\")","v":"Book Weblink"},null,"2020","August 2019",null,null,"Author","Cyril Bassington","3.3","0.5",null,null,"I",null,"Grade 1 - 2","Grade 1 - 3","What makes a legend a legend? A bit of truth and a bit of entertaining fiction! That's how legends have lasted through generations, and sometimes for thousands of years. Robin Hood, King Arthur, and young George Washington all make an appearance in this informative book, which offers details about legendary stories as well as information about why they're considered legends. Readers will also learn about urban legends and consider if they have legends-in-the-making in their families and communities.","English",23.6,17.7,"398.2--dc23","24 pp.","https://www.garethstevens.com/9781538238455",null,{"$f":"Table1[[#This Row],[QTY]]*Table1[[#This Row],['# Books]]","v":0},{"$f":"Table1[[#This Row],[QTY]]*Table1[[#This Row],[S&L Price]]","v":0}]
[null,null,30,"Cultures Connect Us!",1,"Myths","Library Bound Book",null,"978-1-5382-3848-6",{"$f":"HYPERLINK(Table1[[#This Row],[eCommerce Hyperlink]],\"Book Weblink\")","v":"Book Weblink"},null,"2020","August 2019","Library","7.000 X 7.000","Author","Agatha Gregson","3.5","0.5",null,null,"I",null,"Grade 1 - 2","Grade 1 - 3","Some myths are so enduring that they've lasted thousands of years. While people once used them to explain natural phenomena, they continue to entertain, inspire, and fascinate. This high-interest book offers readers information about intriguing mythical tales and characters from many different cultures, including lore from the ancient Greek, Roman, Japanese, and Indian peoples. Beautiful artwork accompanies the accessible text, which supports the elementary social studies curriculum.","English",23.6,17.7,"201/.3--dc23","24 pp.","https://www.garethstevens.com/9781538238486",null,{"$f":"Table1[[#This Row],[QTY]]*Table1[[#This Row],['# Books]]","v":0},{"$f":"Table1[[#This Row],[QTY]]*Table1[[#This Row],[S&L Price]]","v":0}]
[null,null,30,"Cultures Connect Us!",1,"Myths","eBook",null,"978-1-5382-3849-3",{"$f":"HYPERLINK(Table1[[#This Row],[eCommerce Hyperlink]],\"Book Weblink\")","v":"Book Weblink"},null,"2020","August 2019",null,null,"Author","Agatha Gregson","3.5","0.5",null,null,"I",null,"Grade 1 - 2","Grade 1 - 3","Some myths are so enduring that they've lasted thousands of years. While people once used them to explain natural phenomena, they continue to entertain, inspire, and fascinate. This high-interest book offers readers information about intriguing mythical tales and characters from many different cultures, including lore from the ancient Greek, Roman, Japanese, and Indian peoples. Beautiful artwork accompanies the accessible text, which supports the elementary social studies curriculum.","English",23.6,17.7,"201/.3--dc23","24 pp.","https://www.garethstevens.com/9781538238493",null,{"$f":"Table1[[#This Row],[QTY]]*Table1[[#This Row],['# Books]]","v":0},{"$f":"Table1[[#This Row],[QTY]]*Table1[[#This Row],[S&L Price]]","v":0}]
[null,null,30,"Cultures Connect Us!",1,"Oral Histories","Library Bound Book",null,"978-1-5382-3852-3",{"$f":"HYPERLINK(Table1[[#This Row],[eCommerce Hyperlink]],\"Book Weblink\")","v":"Book Weblink"},null,"2020","August 2019","Library","7.000 X 7.000","Author","Agatha Gregson","3.7","0.5",null,null,"I",null,"Grade 1 - 2","Grade 1 - 3","Thousands of years ago, before systems of writing existed, every civilization passed on knowledge through storytelling. This is called the oral tradition. Some tales were fiction, but some were true history. Today, historians recognize that history books often lack some crucial details about important events, details that can be properly captured through the accounts of people who were actually there. This book, which supports elementary social studies curricula, focuses on oral histories, including what they are, why they're essential to the historical record, and how readers can record them for themselves.","English",23.6,17.7,"907.2--dc23","24 pp.","https://www.garethstevens.com/9781538238523",null,{"$f":"Table1[[#This Row],[QTY]]*Table1[[#This Row],['# Books]]","v":0},{"$f":"Table1[[#This Row],[QTY]]*Table1[[#This Row],[S&L Price]]","v":0}]
[null,null,30,"Cultures Connect Us!",1,"Oral Histories","eBook",null,"978-1-5382-3853-0",{"$f":"HYPERLINK(Table1[[#This Row],[eCommerce Hyperlink]],\"Book Weblink\")","v":"Book Weblink"},null,"2020","August 2019",null,null,"Author","Agatha Gregson","3.7","0.5",null,null,"I",null,"Grade 1 - 2","Grade 1 - 3","Thousands of years ago, before systems of writing existed, every civilization passed on knowledge through storytelling. This is called the oral tradition. Some tales were fiction, but some were true history. Today, historians recognize that history books often lack some crucial details about important events, details that can be properly captured through the accounts of people who were actually there. This book, which supports elementary social studies curricula, focuses on oral histories, including what they are, why they're essential to the historical record, and how readers can record them for themselves.","English",23.6,17.7,"907.2--dc23","24 pp.","https://www.garethstevens.com/9781538238530",null,{"$f":"Table1[[#This Row],[QTY]]*Table1[[#This Row],['# Books]]","v":0},{"$f":"Table1[[#This Row],[QTY]]*Table1[[#This Row],[S&L Price]]","v":0}]
[null,null,30,"Cultures Connect Us!",1,"Traditions","Library Bound Book",null,"978-1-5382-3856-1",{"$f":"HYPERLINK(Table1[[#This Row],[eCommerce Hyperlink]],\"Book Weblink\")","v":"Book Weblink"},null,"2020","August 2019","Library","7.000 X 7.000","Author","Agatha Gregson","3.7","0.5",null,null,"I",null,"Grade 1 - 2","Grade 1 - 3","Traditions are powerful expressions of a culture. Celebrations, myths and legends, clothing, music, and foods are all traditions. Sometimes their purposes and meanings are clear, but often traditions are so ingrained in daily lives that people rarely think deeply about them. This thoughtful volume encourages readers to reflect on the traditions of their own culture as well as the cultures of others. They'll examine familiar and unfamiliar traditions through this book's accessible text and colorful, inviting photographs.","English",23.6,17.7,"395--dc23","24 pp.","https://www.garethstevens.com/9781538238561",null,{"$f":"Table1[[#This Row],[QTY]]*Table1[[#This Row],['# Books]]","v":0},{"$f":"Table1[[#This Row],[QTY]]*Table1[[#This Row],[S&L Price]]","v":0}]
[null,null,30,"Cultures Connect Us!",1,"Traditions","eBook",null,"978-1-5382-3857-8",{"$f":"HYPERLINK(Table1[[#This Row],[eCommerce Hyperlink]],\"Book Weblink\")","v":"Book Weblink"},null,"2020","August 2019",null,null,"Author","Agatha Gregson","3.7","0.5",null,null,"I",null,"Grade 1 - 2","Grade 1 - 3","Traditions are powerful expressions of a culture. Celebrations, myths and legends, clothing, music, and foods are all traditions. Sometimes their purposes and meanings are clear, but often traditions are so ingrained in daily lives that people rarely think deeply about them. This thoughtful volume encourages readers to reflect on the traditions of their own culture as well as the cultures of others. They'll examine familiar and unfamiliar traditions through this book's accessible text and colorful, inviting photographs.","English",23.6,17.7,"395--dc23","24 pp.","https://www.garethstevens.com/9781538238578",null,{"$f":"Table1[[#This Row],[QTY]]*Table1[[#This Row],['# Books]]","v":0},{"$f":"Table1[[#This Row],[QTY]]*Table1[[#This Row],[S&L Price]]","v":0}]
[null,null,30,"Symbols of America",6,"Symbols of America: Set 1","Library Set",null,"978-1-4824-1635-0",{"$f":"HYPERLINK(Table1[[#This Row],[eCommerce Hyperlink]],\"Book Weblink\")","v":"Book Weblink"},null,"2015","January 2015","Library","7.000 X 7.000",null,null,null,null,null,null,null,null,"Grade 1 - 2","Grade 1 - 3","When visiting the national monuments or attending a Fourth of July parade, it’s hard not to feel patriotic. Many US symbols that represent freedom and unity are on display at these places and events. But who decided the bald eagle would represent the United States? Readers learn the answer to this question, the history of the Liberty Bell, the writing of the national anthem, and much more. Colorful images enhance readers’ understanding of United States history and the symbols that remind us of it.    • The main content introduces the stories behind the US symbols most likely known to readers   • Age-appropriate language familiarizes readers with the idea of patriotism   • Students can use domain-specific vocabulary they’ve learned from the book to effectively explain the text  • A timeline of important events supports the historical context in each book","English",141.6,106.2,null,"24 pp.","https://www.garethstevens.com/9781482416350",null,{"$f":"Table1[[#This Row],[QTY]]*Table1[[#This Row],['# Books]]","v":0},{"$f":"Table1[[#This Row],[QTY]]*Table1[[#This Row],[S&L Price]]","v":0}]
[null,null,30,"Symbols of America",1,"The Bald Eagle","Library Bound Book",null,"978-1-4824-1866-8",{"$f":"HYPERLINK(Table1[[#This Row],[eCommerce Hyperlink]],\"Book Weblink\")","v":"Book Weblink"},null,"2015","January 2015","Library","7.000 X 7.000","Author","Maria Nelson","3.5","0.5","18",null,"J",null,"Grade 1 - 2","Grade 1 - 3","If you watch the majestic American bald eagle fly above the treetops, it’s easy to see why it stands for freedom and strength in the United States. As the national emblem, it’s seen on government buildings and documents, and is often used to symbolize national pride. Readers learn how the American bald eagle came to be the national bird of the United States and the many ways its image is used. Full-color photographs of the American bald eagle highlight its fierce beauty. A timeline guides readers through its creation as a national symbol.","English",23.6,17.7,"929.90973","24 pp.","https://www.garethstevens.com/9781482418668",null,{"$f":"Table1[[#This Row],[QTY]]*Table1[[#This Row],['# Books]]","v":0},{"$f":"Table1[[#This Row],[QTY]]*Table1[[#This Row],[S&L Price]]","v":0}]
[null,null,30,"Symbols of America",1,"The Bald Eagle","eBook",null,"978-1-4824-1868-2",{"$f":"HYPERLINK(Table1[[#This Row],[eCommerce Hyperlink]],\"Book Weblink\")","v":"Book Weblink"},null,"2015","January 2015",null,null,"Author","Maria Nelson","3.5","0.5","18",null,"J",null,"Grade 1 - 2","Grade 1 - 3","If you watch the majestic American bald eagle fly above the treetops, it’s easy to see why it stands for freedom and strength in the United States. As the national emblem, it’s seen on government buildings and documents, and is often used to symbolize national pride. Readers learn how the American bald eagle came to be the national bird of the United States and the many ways its image is used. Full-color photographs of the American bald eagle highlight its fierce beauty. A timeline guides readers through its creation as a national symbol.","English",23.6,17.7,"929.90973","24 pp.","https://www.garethstevens.com/9781482418682",null,{"$f":"Table1[[#This Row],[QTY]]*Table1[[#This Row],['# Books]]","v":0},{"$f":"Table1[[#This Row],[QTY]]*Table1[[#This Row],[S&L Price]]","v":0}]
[null,null,30,"Symbols of America",1,"The Liberty Bell","Library Bound Book",null,"978-1-4824-1870-5",{"$f":"HYPERLINK(Table1[[#This Row],[eCommerce Hyperlink]],\"Book Weblink\")","v":"Book Weblink"},null,"2015","January 2015","Library","7.000 X 7.000","Author","Maria Nelson","3.6","0.5","18",null,"J",null,"Grade 1 - 2","Grade 1 - 3","The Liberty Bell hasn’t been properly rung since 1846 when it cracked irreparably. However, its inability to ring doesn’t diminish it as a symbol of freedom in the United States. Readers are introduced to the history of the Liberty Bell from its casting to the present day. Historical images as well as full-color, modern photographs of the bell engage readers with the story of one of the nation’s most recognizable symbols. A timeline offers an additional guide to the interesting, accessible main content.","English",23.6,17.7,"974.8","24 pp.","https://www.garethstevens.com/9781482418705",null,{"$f":"Table1[[#This Row],[QTY]]*Table1[[#This Row],['# Books]]","v":0},{"$f":"Table1[[#This Row],[QTY]]*Table1[[#This Row],[S&L Price]]","v":0}]
[null,null,30,"Symbols of America",1,"The Liberty Bell","eBook",null,"978-1-4824-1872-9",{"$f":"HYPERLINK(Table1[[#This Row],[eCommerce Hyperlink]],\"Book Weblink\")","v":"Book Weblink"},null,"2015","January 2015",null,null,"Author","Maria Nelson","3.6","0.5","18",null,"J",null,"Grade 1 - 2","Grade 1 - 3","The Liberty Bell hasn’t been properly rung since 1846 when it cracked irreparably. However, its inability to ring doesn’t diminish it as a symbol of freedom in the United States. Readers are introduced to the history of the Liberty Bell from its casting to the present day. Historical images as well as full-color, modern photographs of the bell engage readers with the story of one of the nation’s most recognizable symbols. A timeline offers an additional guide to the interesting, accessible main content.","English",23.6,17.7,"974.8","24 pp.","https://www.garethstevens.com/9781482418729",null,{"$f":"Table1[[#This Row],[QTY]]*Table1[[#This Row],['# Books]]","v":0},{"$f":"Table1[[#This Row],[QTY]]*Table1[[#This Row],[S&L Price]]","v":0}]
[null,null,30,"Symbols of America",1,"The National Anthem","Library Bound Book",null,"978-1-4824-1874-3",{"$f":"HYPERLINK(Table1[[#This Row],[eCommerce Hyperlink]],\"Book Weblink\")","v":"Book Weblink"},null,"2015","January 2015","Library","7.000 X 7.000","Author","Maria Nelson","3.9","0.5","18",null,"J",null,"Grade 1 - 2","Grade 1 - 3","Most Americans know the famous words and tune of \"The Star-Spangled Banner.\" This national anthem was born from one man's experience during war and continues to remind us of the perseverance and strength of the United States. The symbolism of the national anthem is palpable in the story of Francis Scott Key's experience at Fort McHenry. Readers learn the story of Key's immortal words through engaging historical content.","English",23.6,17.7,"782.42","24 pp.","https://www.garethstevens.com/9781482418743",null,{"$f":"Table1[[#This Row],[QTY]]*Table1[[#This Row],['# Books]]","v":0},{"$f":"Table1[[#This Row],[QTY]]*Table1[[#This Row],[S&L Price]]","v":0}]
[null,null,30,"Symbols of America",1,"The National Anthem","eBook",null,"978-1-4824-1876-7",{"$f":"HYPERLINK(Table1[[#This Row],[eCommerce Hyperlink]],\"Book Weblink\")","v":"Book Weblink"},null,"2015","January 2015",null,null,"Author","Maria Nelson","3.9","0.5","18",null,"J",null,"Grade 1 - 2","Grade 1 - 3","Most Americans know the famous words and tune of \"The Star-Spangled Banner.\" This national anthem was born from one man's experience during war and continues to remind us of the perseverance and strength of the United States. The symbolism of the national anthem is palpable in the story of Francis Scott Key's experience at Fort McHenry. Readers learn the story of Key's immortal words through engaging historical content.","English",23.6,17.7,"782.42","24 pp.","https://www.garethstevens.com/9781482418767",null,{"$f":"Table1[[#This Row],[QTY]]*Table1[[#This Row],['# Books]]","v":0},{"$f":"Table1[[#This Row],[QTY]]*Table1[[#This Row],[S&L Price]]","v":0}]
[null,null,30,"Symbols of America",1,"The Presidential Seal","Library Bound Book",null,"978-1-4824-1887-3",{"$f":"HYPERLINK(Table1[[#This Row],[eCommerce Hyperlink]],\"Book Weblink\")","v":"Book Weblink"},null,"2015","January 2015","Library","7.000 X 7.000","Author","Walter LaPlante","3.6","0.5","18",null,"J",null,"Grade 1 - 2","Grade 1 - 3","The presidential seal is one of the most respected symbols of the United States. It authenticates documents signed by the president and is seen on the presidential flag. The story behind this important image dates back to the day the United States declared its independence. Readers learn what the design means while following along with a short timeline that guides them through significant dates in the seal’s past. Historical images and full-color photographs engage readers' eyes along with their minds.","English",23.6,17.7,"929.9","24 pp.","https://www.garethstevens.com/9781482418873",null,{"$f":"Table1[[#This Row],[QTY]]*Table1[[#This Row],['# Books]]","v":0},{"$f":"Table1[[#This Row],[QTY]]*Table1[[#This Row],[S&L Price]]","v":0}]
[null,null,30,"Symbols of America",1,"The Presidential Seal","eBook",null,"978-1-4824-1888-0",{"$f":"HYPERLINK(Table1[[#This Row],[eCommerce Hyperlink]],\"Book Weblink\")","v":"Book Weblink"},null,"2015","January 2015",null,null,"Author","Walter LaPlante","3.6","0.5","18",null,"J",null,"Grade 1 - 2","Grade 1 - 3","The presidential seal is one of the most respected symbols of the United States. It authenticates documents signed by the president and is seen on the presidential flag. The story behind this important image dates back to the day the United States declared its independence. Readers learn what the design means while following along with a short timeline that guides them through significant dates in the seal’s past. Historical images and full-color photographs engage readers' eyes along with their minds.","English",23.6,17.7,"929.9","24 pp.","https://www.garethstevens.com/9781482418880",null,{"$f":"Table1[[#This Row],[QTY]]*Table1[[#This Row],['# Books]]","v":0},{"$f":"Table1[[#This Row],[QTY]]*Table1[[#This Row],[S&L Price]]","v":0}]
[null,null,30,"Symbols of America",1,"The Statue of Liberty","Library Bound Book",null,"978-1-4824-1879-8",{"$f":"HYPERLINK(Table1[[#This Row],[eCommerce Hyperlink]],\"Book Weblink\")","v":"Book Weblink"},null,"2015","January 2015","Library","7.000 X 7.000","Author","Walter LaPlante","3.6","0.5","16",null,"J",null,"Grade 1 - 2","Grade 1 - 3","Standing tall over New York Harbor, the Statue of Liberty shines her light for all to see. This U.S. monument isn't just a great place to visit on a trip to New York City. It has represented U.S. freedom for more than 125 years. Readers learn that this U.S. symbol was a gift from France for the country's centennial. They also learn about the construction of this beautiful statue and other important historical context. Full-color and historical images showcase the building of the statue and its present majesty.","English",23.6,17.7,"974.7--dc23","24 pp.","https://www.garethstevens.com/9781482418798",null,{"$f":"Table1[[#This Row],[QTY]]*Table1[[#This Row],['# Books]]","v":0},{"$f":"Table1[[#This Row],[QTY]]*Table1[[#This Row],[S&L Price]]","v":0}]
[null,null,30,"Symbols of America",1,"The Statue of Liberty","eBook",null,"978-1-4824-1880-4",{"$f":"HYPERLINK(Table1[[#This Row],[eCommerce Hyperlink]],\"Book Weblink\")","v":"Book Weblink"},null,"2015","January 2015",null,null,"Author","Walter LaPlante","3.6","0.5","16",null,"J",null,"Grade 1 - 2","Grade 1 - 3","Standing tall over New York Harbor, the Statue of Liberty shines her light for all to see. This U.S. monument isn't just a great place to visit on a trip to New York City. It has represented U.S. freedom for more than 125 years. Readers learn that this U.S. symbol was a gift from France for the country's centennial. They also learn about the construction of this beautiful statue and other important historical context. Full-color and historical images showcase the building of the statue and its present majesty.","English",23.6,17.7,"974.7--dc23","24 pp.","https://www.garethstevens.com/9781482418804",null,{"$f":"Table1[[#This Row],[QTY]]*Table1[[#This Row],['# Books]]","v":0},{"$f":"Table1[[#This Row],[QTY]]*Table1[[#This Row],[S&L Price]]","v":0}]
[null,null,30,"Symbols of America",1,"The U.S. Flag","Library Bound Book",null,"978-1-4824-1883-5",{"$f":"HYPERLINK(Table1[[#This Row],[eCommerce Hyperlink]],\"Book Weblink\")","v":"Book Weblink"},null,"2015","January 2015","Library","7.000 X 7.000","Author","Walter LaPlante","3.4","0.5","18",null,"J",null,"Grade 1 - 2","Grade 1 - 3","The American flag flies from government buildings, schools, and often from homes. Great care is taken with it, and if anything happens to a U.S. flag, outrage often follows. While readers are likely familiar with saying the Pledge of Allegiance and celebrating Flag Day each June, they may not know why stars were added or what the colors of the flag have meant throughout U.S. history. The main content of this valuable addition to a social studies library covers both the historical and symbolic background of the American flag. Full-color photographs of flags through the years help readers understand its great significance through many eras.","English",23.6,17.7,"929.9","24 pp.","https://www.garethstevens.com/9781482418835",null,{"$f":"Table1[[#This Row],[QTY]]*Table1[[#This Row],['# Books]]","v":0},{"$f":"Table1[[#This Row],[QTY]]*Table1[[#This Row],[S&L Price]]","v":0}]
[null,null,30,"Symbols of America",1,"The U.S. Flag","eBook",null,"978-1-4824-1884-2",{"$f":"HYPERLINK(Table1[[#This Row],[eCommerce Hyperlink]],\"Book Weblink\")","v":"Book Weblink"},null,"2015","January 2015",null,null,"Author","Walter LaPlante","3.4","0.5","18",null,"J",null,"Grade 1 - 2","Grade 1 - 3","The American flag flies from government buildings, schools, and often from homes. Great care is taken with it, and if anything happens to a U.S. flag, outrage often follows. While readers are likely familiar with saying the Pledge of Allegiance and celebrating Flag Day each June, they may not know why stars were added or what the colors of the flag have meant throughout U.S. history. The main content of this valuable addition to a social studies library covers both the historical and symbolic background of the American flag. Full-color photographs of flags through the years help readers understand its great significance through many eras.","English",23.6,17.7,"929.9","24 pp.","https://www.garethstevens.com/9781482418842",null,{"$f":"Table1[[#This Row],[QTY]]*Table1[[#This Row],['# Books]]","v":0},{"$f":"Table1[[#This Row],[QTY]]*Table1[[#This Row],[S&L Price]]","v":0}]
[null,null,30,"Symbols of America",6,"Symbols of America: Set 2","Library Set",null,"978-1-5382-2948-4",{"$f":"HYPERLINK(Table1[[#This Row],[eCommerce Hyperlink]],\"Book Weblink\")","v":"Book Weblink"},null,"2019","January 2019","Library","7.000 X 7.000",null,null,null,null,null,null,null,null,"Grade 1 - 2","Grade 1 - 3","People around the world know the White House is where the U.S. president lives by just looking at a picture of it. To Americans, images of the Lincoln Memorial, Washington Monument, and Mount Rushmore are equally recognizable and meaningful. But who is Uncle Sam, and why does he stand for America? In this series, readers explore the history of well-known American landmarks, images, and places. Questions about why the Washington Monument is more than one color and who is on Mount Rushmore are answered in age-appropriate detail, complemented by present-day and historical photographs. Features include: Concluding timelines help readers review what they've read. Historical context supports the social studies curriculum. Expanded lists of symbols encourage readers to consider history in the world around them.","English",141.6,106.2,null,"24 pp.","https://www.garethstevens.com/9781538229484",null,{"$f":"Table1[[#This Row],[QTY]]*Table1[[#This Row],['# Books]]","v":0},{"$f":"Table1[[#This Row],[QTY]]*Table1[[#This Row],[S&L Price]]","v":0}]
[null,null,30,"Symbols of America",1,"Arlington National Cemetery","Library Bound Book",null,"978-1-5382-2897-5",{"$f":"HYPERLINK(Table1[[#This Row],[eCommerce Hyperlink]],\"Book Weblink\")","v":"Book Weblink"},null,"2019","January 2019","Library","7.000 X 7.000","Author","Barbara M. Linde","3.9","0.5",null,null,"H",null,"Grade 1 - 2","Grade 1 - 3","The final resting place for many of America's heroes is located only a few miles from our nation's capital. This high-interest text will take readers on a tour of the cemetery and point out the graves of some well-known patriots, including President John F. Kennedy, Jr. A detailed map guides readers as they locate sections and specific grave sites. Descriptions of ceremonies help readers understand how these events show respect for those who gave their lives in the service of their country. Photographs such as the changing of the guard at the Tomb of the Unknowns enhance the text.","English",23.6,17.7,"975.5/295--dc23","24 pp.","https://www.garethstevens.com/9781538228975",null,{"$f":"Table1[[#This Row],[QTY]]*Table1[[#This Row],['# Books]]","v":0},{"$f":"Table1[[#This Row],[QTY]]*Table1[[#This Row],[S&L Price]]","v":0}]
[null,null,30,"Symbols of America",1,"Arlington National Cemetery","eBook",null,"978-1-5382-3039-8",{"$f":"HYPERLINK(Table1[[#This Row],[eCommerce Hyperlink]],\"Book Weblink\")","v":"Book Weblink"},null,"2019","January 2019",null,null,"Author","Barbara M. Linde","3.9","0.5",null,null,"H",null,"Grade 1 - 2","Grade 1 - 3","The final resting place for many of America's heroes is located only a few miles from our nation's capital. This high-interest text will take readers on a tour of the cemetery and point out the graves of some well-known patriots, including President John F. Kennedy, Jr. A detailed map guides readers as they locate sections and specific grave sites. Descriptions of ceremonies help readers understand how these events show respect for those who gave their lives in the service of their country. Photographs such as the changing of the guard at the Tomb of the Unknowns enhance the text.","English",23.6,17.7,"975.5/295--dc23","24 pp.","https://www.garethstevens.com/9781538230398",null,{"$f":"Table1[[#This Row],[QTY]]*Table1[[#This Row],['# Books]]","v":0},{"$f":"Table1[[#This Row],[QTY]]*Table1[[#This Row],[S&L Price]]","v":0}]
[null,null,30,"Symbols of America",1,"Mount Rushmore","Library Bound Book",null,"978-1-5382-2898-2",{"$f":"HYPERLINK(Table1[[#This Row],[eCommerce Hyperlink]],\"Book Weblink\")","v":"Book Weblink"},null,"2019","January 2019","Library","7.000 X 7.000","Author","Barbara M. Linde","3.1","0.5",null,null,"H",null,"Grade 1 - 2","Grade 1 - 3","Why would anyone want to carve enormous faces into a piece of solid rock in the Black Hills of South Dakota? Why not! This book whisks readers away to view the incredible stone monument. Each spread is filled with age-appropriate details about the \"Shrine of Democracy.\" Readers will learn about the initial idea to promote tourism, how the monument was carved, funding difficulties, the numbers of workers, the number of yearly visitors, and how the monument got its name. Eye-catching photographs help readers understand the massive scope of this project.","English",23.6,17.7,"363.6'80973--dc23","24 pp.","https://www.garethstevens.com/9781538228982",null,{"$f":"Table1[[#This Row],[QTY]]*Table1[[#This Row],['# Books]]","v":0},{"$f":"Table1[[#This Row],[QTY]]*Table1[[#This Row],[S&L Price]]","v":0}]
[null,null,30,"Symbols of America",1,"Mount Rushmore","eBook",null,"978-1-5382-3040-4",{"$f":"HYPERLINK(Table1[[#This Row],[eCommerce Hyperlink]],\"Book Weblink\")","v":"Book Weblink"},null,"2019","January 2019",null,null,"Author","Barbara M. Linde","3.1","0.5",null,null,"H",null,"Grade 1 - 2","Grade 1 - 3","Why would anyone want to carve enormous faces into a piece of solid rock in the Black Hills of South Dakota? Why not! This book whisks readers away to view the incredible stone monument. Each spread is filled with age-appropriate details about the \"Shrine of Democracy.\" Readers will learn about the initial idea to promote tourism, how the monument was carved, funding difficulties, the numbers of workers, the number of yearly visitors, and how the monument got its name. Eye-catching photographs help readers understand the massive scope of this project.","English",23.6,17.7,"363.6'80973--dc23","24 pp.","https://www.garethstevens.com/9781538230404",null,{"$f":"Table1[[#This Row],[QTY]]*Table1[[#This Row],['# Books]]","v":0},{"$f":"Table1[[#This Row],[QTY]]*Table1[[#This Row],[S&L Price]]","v":0}]
[null,null,30,"Symbols of America",1,"The Lincoln Memorial","Library Bound Book",null,"978-1-5382-2899-9",{"$f":"HYPERLINK(Table1[[#This Row],[eCommerce Hyperlink]],\"Book Weblink\")","v":"Book Weblink"},null,"2019","January 2019","Library","7.000 X 7.000","Author","Barbara M. Linde","3.5","0.5",null,null,"H",null,"Grade 1 - 2","Grade 1 - 3","Abraham Lincoln was a giant of a president, so it befits him to have a 19 x 19-feet marble statue enclosed in an enormous building on the mall in Washington, D.C. Each spread in this book is packed with interesting, accessible text and photographs that bring the story of Abraham Lincoln's Memorial into sharp focus. Readers will feel like they are on a virtual tour of the statue, building, and grounds as they learn about Lincoln and the builders of his historic memorial.","English",23.6,17.7,"975.3--dc23","24 pp.","https://www.garethstevens.com/9781538228999",null,{"$f":"Table1[[#This Row],[QTY]]*Table1[[#This Row],['# Books]]","v":0},{"$f":"Table1[[#This Row],[QTY]]*Table1[[#This Row],[S&L Price]]","v":0}]
[null,null,30,"Symbols of America",1,"The Lincoln Memorial","eBook",null,"978-1-5382-3041-1",{"$f":"HYPERLINK(Table1[[#This Row],[eCommerce Hyperlink]],\"Book Weblink\")","v":"Book Weblink"},null,"2019","January 2019",null,null,"Author","Barbara M. Linde","3.5","0.5",null,null,"H",null,"Grade 1 - 2","Grade 1 - 3","Abraham Lincoln was a giant of a president, so it befits him to have a 19 x 19-feet marble statue enclosed in an enormous building on the mall in Washington, D.C. Each spread in this book is packed with interesting, accessible text and photographs that bring the story of Abraham Lincoln's Memorial into sharp focus. Readers will feel like they are on a virtual tour of the statue, building, and grounds as they learn about Lincoln and the builders of his historic memorial.","English",23.6,17.7,"975.3--dc23","24 pp.","https://www.garethstevens.com/9781538230411",null,{"$f":"Table1[[#This Row],[QTY]]*Table1[[#This Row],['# Books]]","v":0},{"$f":"Table1[[#This Row],[QTY]]*Table1[[#This Row],[S&L Price]]","v":0}]
[null,null,30,"Symbols of America",1,"The Washington Monument","Library Bound Book",null,"978-1-5382-2900-2",{"$f":"HYPERLINK(Table1[[#This Row],[eCommerce Hyperlink]],\"Book Weblink\")","v":"Book Weblink"},null,"2019","January 2019","Library","7.000 X 7.000","Author","Barbara M. Linde","3.3","0.5",null,null,"H",null,"Grade 1 - 2","Grade 1 - 3","This 555-foot high marble obelisk is an imposing presence on the National Mall, much as George Washington was an imposing presence during his time as president and now in our nation's history. From its inception to its current renovations, inquisitive readers will learn how and when the monument was built, and what happened when the project ran out of money. Eye-catching photographs show the inside and the outside of the monument. Readers will surely be motivated to put a visit to the monument on their wish lists.","English",23.6,17.7,"975.3--dc23","24 pp.","https://www.garethstevens.com/9781538229002",null,{"$f":"Table1[[#This Row],[QTY]]*Table1[[#This Row],['# Books]]","v":0},{"$f":"Table1[[#This Row],[QTY]]*Table1[[#This Row],[S&L Price]]","v":0}]
[null,null,30,"Symbols of America",1,"The Washington Monument","eBook",null,"978-1-5382-3042-8",{"$f":"HYPERLINK(Table1[[#This Row],[eCommerce Hyperlink]],\"Book Weblink\")","v":"Book Weblink"},null,"2019","January 2019",null,null,"Author","Barbara M. Linde","3.3","0.5",null,null,"H",null,"Grade 1 - 2","Grade 1 - 3","This 555-foot high marble obelisk is an imposing presence on the National Mall, much as George Washington was an imposing presence during his time as president and now in our nation's history. From its inception to its current renovations, inquisitive readers will learn how and when the monument was built, and what happened when the project ran out of money. Eye-catching photographs show the inside and the outside of the monument. Readers will surely be motivated to put a visit to the monument on their wish lists.","English",23.6,17.7,"975.3--dc23","24 pp.","https://www.garethstevens.com/9781538230428",null,{"$f":"Table1[[#This Row],[QTY]]*Table1[[#This Row],['# Books]]","v":0},{"$f":"Table1[[#This Row],[QTY]]*Table1[[#This Row],[S&L Price]]","v":0}]
[null,null,30,"Symbols of America",1,"The White House","Library Bound Book",null,"978-1-5382-2901-9",{"$f":"HYPERLINK(Table1[[#This Row],[eCommerce Hyperlink]],\"Book Weblink\")","v":"Book Weblink"},null,"2019","January 2019","Library","7.000 X 7.000","Author","Barbara M. Linde","3.4","0.5",null,null,"H",null,"Grade 1 - 2","Grade 1 - 3","The most famous address in Washington, D.C., is 1600 Pennsylvania Avenue. The White House has been the home and the office of our country's presidents since 1792; only George Washington never lived there. The house has four main purposes. The East Wing is the home to the First Family. The President and staff have offices in the West Wing. Foreign heads of state are greeted here. Displays of items collected by each president serve as a history museum. Readers join a tour of the Executive Mansion as they read, growing to understand this symbol of freedom and democracy.","English",23.6,17.7,"975.3--dc23","24 pp.","https://www.garethstevens.com/9781538229019",null,{"$f":"Table1[[#This Row],[QTY]]*Table1[[#This Row],['# Books]]","v":0},{"$f":"Table1[[#This Row],[QTY]]*Table1[[#This Row],[S&L Price]]","v":0}]
[null,null,30,"Symbols of America",1,"The White House","eBook",null,"978-1-5382-3043-5",{"$f":"HYPERLINK(Table1[[#This Row],[eCommerce Hyperlink]],\"Book Weblink\")","v":"Book Weblink"},null,"2019","January 2019",null,null,"Author","Barbara M. Linde","3.4","0.5",null,null,"H",null,"Grade 1 - 2","Grade 1 - 3","The most famous address in Washington, D.C., is 1600 Pennsylvania Avenue. The White House has been the home and the office of our country's presidents since 1792; only George Washington never lived there. The house has four main purposes. The East Wing is the home to the First Family. The President and staff have offices in the West Wing. Foreign heads of state are greeted here. Displays of items collected by each president serve as a history museum. Readers join a tour of the Executive Mansion as they read, growing to understand this symbol of freedom and democracy.","English",23.6,17.7,"975.3--dc23","24 pp.","https://www.garethstevens.com/9781538230435",null,{"$f":"Table1[[#This Row],[QTY]]*Table1[[#This Row],['# Books]]","v":0},{"$f":"Table1[[#This Row],[QTY]]*Table1[[#This Row],[S&L Price]]","v":0}]
[null,null,30,"Symbols of America",1,"Uncle Sam","Library Bound Book",null,"978-1-5382-2902-6",{"$f":"HYPERLINK(Table1[[#This Row],[eCommerce Hyperlink]],\"Book Weblink\")","v":"Book Weblink"},null,"2019","January 2019","Library","7.000 X 7.000","Author","Barbara M. Linde","3.3","0.5",null,null,"H",null,"Grade 1 - 2","Grade 1 - 3","Was there really an Uncle Sam? Yes! He was Samuel Wilson, who sent barrels of meat marked \"U.S.\" to American soldiers during the War of 1812.The soldiers called it \"Uncle Sam's\" meat, and an icon was born. Cartoonist Thomas Nast drew the familiar portrait of the man in a top hat and striped pants. Uncle Sam's image has appeared in political ads and on postage stamps. Costumed interpreters take on his persona at historic sites, including Mount Vernon. This high-interest text will engage readers and leave them wanting to find out more about one of America's most famous symbols.","English",23.6,17.7,"398.20973/02--dc23","24 pp.","https://www.garethstevens.com/9781538229026",null,{"$f":"Table1[[#This Row],[QTY]]*Table1[[#This Row],['# Books]]","v":0},{"$f":"Table1[[#This Row],[QTY]]*Table1[[#This Row],[S&L Price]]","v":0}]
[null,null,30,"Symbols of America",1,"Uncle Sam","eBook",null,"978-1-5382-3044-2",{"$f":"HYPERLINK(Table1[[#This Row],[eCommerce Hyperlink]],\"Book Weblink\")","v":"Book Weblink"},null,"2019","January 2019",null,null,"Author","Barbara M. Linde","3.3","0.5",null,null,"H",null,"Grade 1 - 2","Grade 1 - 3","Was there really an Uncle Sam? Yes! He was Samuel Wilson, who sent barrels of meat marked \"U.S.\" to American soldiers during the War of 1812.The soldiers called it \"Uncle Sam's\" meat, and an icon was born. Cartoonist Thomas Nast drew the familiar portrait of the man in a top hat and striped pants. Uncle Sam's image has appeared in political ads and on postage stamps. Costumed interpreters take on his persona at historic sites, including Mount Vernon. This high-interest text will engage readers and leave them wanting to find out more about one of America's most famous symbols.","English",23.6,17.7,"398.20973/02--dc23","24 pp.","https://www.garethstevens.com/9781538230442",null,{"$f":"Table1[[#This Row],[QTY]]*Table1[[#This Row],['# Books]]","v":0},{"$f":"Table1[[#This Row],[QTY]]*Table1[[#This Row],[S&L Price]]","v":0}]
[null,null,30,"The History of Our Holidays",6,"The History of Our Holidays: Set 1","Library Set",null,"978-1-4824-4290-8",{"$f":"HYPERLINK(Table1[[#This Row],[eCommerce Hyperlink]],\"Book Weblink\")","v":"Book Weblink"},null,"2016","January 2016","Library","7.000 X 7.000",null,null,null,null,null,null,null,null,"Grade 1 - 2","Grade 1 - 3","It’s common knowledge how many of our favorite holidays began, but others are more mysterious. Readers may wonder why they dress up on Halloween, wave Mexican flags on Cinco de Mayo, and watch the actions of a furry creature on Groundhog Day. The origins of our holidays are more colorful and surprising than most would imagine. In fact, they are windows into fascinating cultures and absorbing historical events. This accessible series—full of vivid photographs—is a must-read in any social studies and history collection.\n• High-interest topic will appeal to readers of all levels\n• Understanding connections between historical events is a key idea of the Common Core Informational Text standards\n• Historical and present-day photographs demonstrate cultural traditions in action","English",141.6,106.2,null,"24 pp.","https://www.garethstevens.com/9781482442908",null,{"$f":"Table1[[#This Row],[QTY]]*Table1[[#This Row],['# Books]]","v":0},{"$f":"Table1[[#This Row],[QTY]]*Table1[[#This Row],[S&L Price]]","v":0}]
[null,null,30,"The History of Our Holidays",1,"April Fools' Day: What a Joke!","Library Bound Book",null,"978-1-4824-3884-0",{"$f":"HYPERLINK(Table1[[#This Row],[eCommerce Hyperlink]],\"Book Weblink\")","v":"Book Weblink"},null,"2016","January 2016","Library","7.000 X 7.000","Author","Theodore Jones","3","0.5",null,null,"I",null,"Grade 1 - 2","Grade 1 - 3","“April Fools!” For anyone who’s even been the victim of an April Fools’ Day joke or who’s planning to pull the best prank yet, this fun book takes them inside the possible origins of an amusing holiday. Similar holidays have been practiced for centuries by several cultures, including the ancient Romans. Colorful photographs of celebrations around the world as well as snapshots of the funniest pranks will have readers laughing. No fooling!","English",23.6,17.7,"394.262--dc23","24 pp.","https://www.garethstevens.com/9781482438840",null,{"$f":"Table1[[#This Row],[QTY]]*Table1[[#This Row],['# Books]]","v":0},{"$f":"Table1[[#This Row],[QTY]]*Table1[[#This Row],[S&L Price]]","v":0}]
[null,null,30,"The History of Our Holidays",1,"April Fools' Day: What a Joke!","eBook",null,"978-1-4824-3885-7",{"$f":"HYPERLINK(Table1[[#This Row],[eCommerce Hyperlink]],\"Book Weblink\")","v":"Book Weblink"},null,"2016","January 2016",null,null,"Author","Theodore Jones","3","0.5",null,null,"I",null,"Grade 1 - 2","Grade 1 - 3","“April Fools!” For anyone who’s even been the victim of an April Fools’ Day joke or who’s planning to pull the best prank yet, this fun book takes them inside the possible origins of an amusing holiday. Similar holidays have been practiced for centuries by several cultures, including the ancient Romans. Colorful photographs of celebrations around the world as well as snapshots of the funniest pranks will have readers laughing. No fooling!","English",23.6,17.7,"394.262--dc23","24 pp.","https://www.garethstevens.com/9781482438857",null,{"$f":"Table1[[#This Row],[QTY]]*Table1[[#This Row],['# Books]]","v":0},{"$f":"Table1[[#This Row],[QTY]]*Table1[[#This Row],[S&L Price]]","v":0}]
[null,null,30,"The History of Our Holidays",1,"Celebrating Day of the Dead","Library Bound Book",null,"978-1-4824-3888-8",{"$f":"HYPERLINK(Table1[[#This Row],[eCommerce Hyperlink]],\"Book Weblink\")","v":"Book Weblink"},null,"2016","January 2016","Library","7.000 X 7.000","Author","Theodore Jones","3","0.5",null,null,"I",null,"Grade 1 - 2","Grade 1 - 3","The Day of the Dead, or Día de los Muertos, may sound a bit scary. However, this enlightening book explains to readers how this special holiday is actually a day of joy as well as remembrance for millions of people in Latin America and the United States. The symbols, customs, and origins of the holiday are discussed in accessible text, while vivid photographs illustrate the presented concepts.","English",23.6,17.7,"394.266--dc23","24 pp.","https://www.garethstevens.com/9781482438888",null,{"$f":"Table1[[#This Row],[QTY]]*Table1[[#This Row],['# Books]]","v":0},{"$f":"Table1[[#This Row],[QTY]]*Table1[[#This Row],[S&L Price]]","v":0}]
[null,null,30,"The History of Our Holidays",1,"Celebrating Day of the Dead","eBook",null,"978-1-4824-3889-5",{"$f":"HYPERLINK(Table1[[#This Row],[eCommerce Hyperlink]],\"Book Weblink\")","v":"Book Weblink"},null,"2016","January 2016",null,null,"Author","Theodore Jones","3","0.5",null,null,"I",null,"Grade 1 - 2","Grade 1 - 3","The Day of the Dead, or Día de los Muertos, may sound a bit scary. However, this enlightening book explains to readers how this special holiday is actually a day of joy as well as remembrance for millions of people in Latin America and the United States. The symbols, customs, and origins of the holiday are discussed in accessible text, while vivid photographs illustrate the presented concepts.","English",23.6,17.7,"394.266--dc23","24 pp.","https://www.garethstevens.com/9781482438895",null,{"$f":"Table1[[#This Row],[QTY]]*Table1[[#This Row],['# Books]]","v":0},{"$f":"Table1[[#This Row],[QTY]]*Table1[[#This Row],[S&L Price]]","v":0}]
[null,null,30,"The History of Our Holidays",1,"Halloween's Spooky History","Library Bound Book",null,"978-1-4824-3892-5",{"$f":"HYPERLINK(Table1[[#This Row],[eCommerce Hyperlink]],\"Book Weblink\")","v":"Book Weblink"},null,"2016","January 2016","Library","7.000 X 7.000","Author","Theodore Jones","3.1","0.5",null,null,"I",null,"Grade 1 - 2","Grade 1 - 3","Costumes, jack-o’-lanterns, and trick-or-treating—these are all parts of the modern traditions of Halloween. Readers might wonder where this strange but fun holiday came from. This informative volume has the surprising answers. Both ancient beliefs and modern customs are covered in this comprehensible guide to Halloween’s history. Colorful, informative photographs support and enhance the text.","English",23.6,17.7,"394.2646--dc23","24 pp.","https://www.garethstevens.com/9781482438925",null,{"$f":"Table1[[#This Row],[QTY]]*Table1[[#This Row],['# Books]]","v":0},{"$f":"Table1[[#This Row],[QTY]]*Table1[[#This Row],[S&L Price]]","v":0}]
[null,null,30,"The History of Our Holidays",1,"Halloween's Spooky History","eBook",null,"978-1-4824-3893-2",{"$f":"HYPERLINK(Table1[[#This Row],[eCommerce Hyperlink]],\"Book Weblink\")","v":"Book Weblink"},null,"2016","January 2016",null,null,"Author","Theodore Jones","3.1","0.5",null,null,"I",null,"Grade 1 - 2","Grade 1 - 3","Costumes, jack-o’-lanterns, and trick-or-treating—these are all parts of the modern traditions of Halloween. Readers might wonder where this strange but fun holiday came from. This informative volume has the surprising answers. Both ancient beliefs and modern customs are covered in this comprehensible guide to Halloween’s history. Colorful, informative photographs support and enhance the text.","English",23.6,17.7,"394.2646--dc23","24 pp.","https://www.garethstevens.com/9781482438932",null,{"$f":"Table1[[#This Row],[QTY]]*Table1[[#This Row],['# Books]]","v":0},{"$f":"Table1[[#This Row],[QTY]]*Table1[[#This Row],[S&L Price]]","v":0}]
[null,null,30,"The History of Our Holidays",1,"The History of Juneteenth","Library Bound Book",null,"978-1-4824-3896-3",{"$f":"HYPERLINK(Table1[[#This Row],[eCommerce Hyperlink]],\"Book Weblink\")","v":"Book Weblink"},null,"2016","January 2016","Library","7.000 X 7.000","Author","Maximilian Smith","3.8","0.5",null,null,"J",null,"Grade 1 - 2","Grade 1 - 3","Juneteenth is usually celebrated on June 19. It honors the day in 1865 when Union troops swept into Galveston, Texas, and told the elated slaves there that they were free. This accessible volume delves into the American Civil War, the Emancipation Proclamation, and the events that led to this special holiday for African Americans and everyone who celebrates the end of slavery in the United States. Carefully chosen photographs reflect this special commemoration, both in the past and today.","English",23.6,17.7,"394.263--dc23","24 pp.","https://www.garethstevens.com/9781482438963",null,{"$f":"Table1[[#This Row],[QTY]]*Table1[[#This Row],['# Books]]","v":0},{"$f":"Table1[[#This Row],[QTY]]*Table1[[#This Row],[S&L Price]]","v":0}]
[null,null,30,"The History of Our Holidays",1,"The History of Juneteenth","eBook",null,"978-1-4824-3897-0",{"$f":"HYPERLINK(Table1[[#This Row],[eCommerce Hyperlink]],\"Book Weblink\")","v":"Book Weblink"},null,"2016","January 2016",null,null,"Author","Maximilian Smith","3.8","0.5",null,null,"J",null,"Grade 1 - 2","Grade 1 - 3","Juneteenth is usually celebrated on June 19. It honors the day in 1865 when Union troops swept into Galveston, Texas, and told the elated slaves there that they were free. This accessible volume delves into the American Civil War, the Emancipation Proclamation, and the events that led to this special holiday for African Americans and everyone who celebrates the end of slavery in the United States. Carefully chosen photographs reflect this special commemoration, both in the past and today.","English",23.6,17.7,"394.263--dc23","24 pp.","https://www.garethstevens.com/9781482438970",null,{"$f":"Table1[[#This Row],[QTY]]*Table1[[#This Row],['# Books]]","v":0},{"$f":"Table1[[#This Row],[QTY]]*Table1[[#This Row],[S&L Price]]","v":0}]
[null,null,30,"The History of Our Holidays",1,"The Story of Cinco de Mayo","Library Bound Book",null,"978-1-4824-3900-7",{"$f":"HYPERLINK(Table1[[#This Row],[eCommerce Hyperlink]],\"Book Weblink\")","v":"Book Weblink"},null,"2016","January 2016","Library","7.000 X 7.000","Author","Maximilian Smith","3.9","0.5",null,null,"J",null,"Grade 1 - 2","Grade 1 - 3","Cinco de Mayo is often mistaken as a celebration of Mexican independence. The true story behind this holiday is a remarkable battle in which an outnumbered Mexican force, including many farmworkers, defeated the powerful French army outside Mexico City in 1862. Readers will enjoy learning more about this battle as well as how people celebrate on May 5 each year. Colorful photographs and illustrations further enhance the accessible text.","English",23.6,17.7,"394.262--dc23","24 pp.","https://www.garethstevens.com/9781482439007",null,{"$f":"Table1[[#This Row],[QTY]]*Table1[[#This Row],['# Books]]","v":0},{"$f":"Table1[[#This Row],[QTY]]*Table1[[#This Row],[S&L Price]]","v":0}]
[null,null,30,"The History of Our Holidays",1,"The Story of Cinco de Mayo","eBook",null,"978-1-4824-3831-4",{"$f":"HYPERLINK(Table1[[#This Row],[eCommerce Hyperlink]],\"Book Weblink\")","v":"Book Weblink"},null,"2016","January 2016",null,null,"Author","Maximilian Smith","3.9","0.5",null,null,"J",null,"Grade 1 - 2","Grade 1 - 3","Cinco de Mayo is often mistaken as a celebration of Mexican independence. The true story behind this holiday is a remarkable battle in which an outnumbered Mexican force, including many farmworkers, defeated the powerful French army outside Mexico City in 1862. Readers will enjoy learning more about this battle as well as how people celebrate on May 5 each year. Colorful photographs and illustrations further enhance the accessible text.","English",23.6,17.7,"394.262--dc23","24 pp.","https://www.garethstevens.com/9781482438314",null,{"$f":"Table1[[#This Row],[QTY]]*Table1[[#This Row],['# Books]]","v":0},{"$f":"Table1[[#This Row],[QTY]]*Table1[[#This Row],[S&L Price]]","v":0}]
[null,null,30,"The History of Our Holidays",1,"What Is Groundhog Day?","Library Bound Book",null,"978-1-4824-3834-5",{"$f":"HYPERLINK(Table1[[#This Row],[eCommerce Hyperlink]],\"Book Weblink\")","v":"Book Weblink"},null,"2016","January 2016","Library","7.000 X 7.000","Author","Maximilian Smith","3.4","0.5",null,null,"J",null,"Grade 1 - 2","Grade 1 - 3","Each year on February 2, thousands of people descend on the small town of Punxsutawney, Pennsylvania. They await the weather predictions of a furry little groundhog called Punxsutawney Phil. He’s said to be able to correctly forecast if there will be 6 more weeks of winter or if spring will come early. Readers of this charming volume will learn how this tradition got started and just how accurate Phil has been over the years.","English",23.6,17.7,"394.261--dc23","24 pp.","https://www.garethstevens.com/9781482438345",null,{"$f":"Table1[[#This Row],[QTY]]*Table1[[#This Row],['# Books]]","v":0},{"$f":"Table1[[#This Row],[QTY]]*Table1[[#This Row],[S&L Price]]","v":0}]
[null,null,30,"The History of Our Holidays",1,"What Is Groundhog Day?","eBook",null,"978-1-4824-3835-2",{"$f":"HYPERLINK(Table1[[#This Row],[eCommerce Hyperlink]],\"Book Weblink\")","v":"Book Weblink"},null,"2016","January 2016",null,null,"Author","Maximilian Smith",null,null,null,null,"J",null,"Grade 1 - 2","Grade 1 - 3","Each year on February 2, thousands of people descend on the small town of Punxsutawney, Pennsylvania. They await the weather predictions of a furry little groundhog called Punxsutawney Phil. He’s said to be able to correctly forecast if there will be 6 more weeks of winter or if spring will come early. Readers of this charming volume will learn how this tradition got started and just how accurate Phil has been over the years.","English",23.6,17.7,"394.261--dc23","24 pp.","https://www.garethstevens.com/9781482438352",null,{"$f":"Table1[[#This Row],[QTY]]*Table1[[#This Row],['# Books]]","v":0},{"$f":"Table1[[#This Row],[QTY]]*Table1[[#This Row],[S&L Price]]","v":0}]
[null,null,30,"The History of Our Holidays",6,"The History of Our Holidays: Set 2","Library Set",null,"978-1-5382-4153-0",{"$f":"HYPERLINK(Table1[[#This Row],[eCommerce Hyperlink]],\"Book Weblink\")","v":"Book Weblink"},null,"2020","August 2019","Library","7.000 X 7.000",null,null,null,null,null,null,null,null,"Grade 1 - 2","Grade 1 - 3","Let's celebrate! Everyone loves a good party, no matter the reason. Knowing the explanations behind the celebrations can make a big bash an even bigger blast. A continuation of our popular series, these compelling books offer readers a look into holidays both joyful and ceremonial. Kwanzaa, Chinese New Year, and the Fourth of July are among the special days examined through fun and simple text. Accompanying photographs emphasize the most interesting aspects of these celebrations. Features include: Special vocabulary terms that highlight important characteristics of each celebration. Provides opportunities for learning about history, culture, and science. Achievable text allows readers to practice fluency, a requirement of the English Language Arts Common Core.","English",141.6,106.2,null,"24 pp.","https://www.garethstevens.com/9781538241530",null,{"$f":"Table1[[#This Row],[QTY]]*Table1[[#This Row],['# Books]]","v":0},{"$f":"Table1[[#This Row],[QTY]]*Table1[[#This Row],[S&L Price]]","v":0}]
[null,null,30,"The History of Our Holidays",1,"Celebrating Earth Day","Library Bound Book",null,"978-1-5382-3860-8",{"$f":"HYPERLINK(Table1[[#This Row],[eCommerce Hyperlink]],\"Book Weblink\")","v":"Book Weblink"},null,"2020","August 2019","Library","7.000 X 7.000","Author","Barbara Linde","2.5","0.5",null,null,"I",null,"Grade 1 - 2","Grade 1 - 3","Children around the world know that Earth Day is a holiday to show support for environmental causes, such as tree-planting initiatives or beach cleanups. But it actually started in 1970 as a way to protest the issues concerning the environment. Written in accessible language and with appropriate content, this volume introduces readers to the reasons we still celebrate Earth Day today. It encourages care for Earth and a sense of responsibility for the world around us. Full-color photographs show the beautiful world around us and what readers can do to take part on April 22 next year.","English",23.6,17.7,"394.262--dc23","24 pp.","https://www.garethstevens.com/9781538238608",null,{"$f":"Table1[[#This Row],[QTY]]*Table1[[#This Row],['# Books]]","v":0},{"$f":"Table1[[#This Row],[QTY]]*Table1[[#This Row],[S&L Price]]","v":0}]
[null,null,30,"The History of Our Holidays",1,"Celebrating Earth Day","eBook",null,"978-1-5382-3861-5",{"$f":"HYPERLINK(Table1[[#This Row],[eCommerce Hyperlink]],\"Book Weblink\")","v":"Book Weblink"},null,"2020","August 2019",null,null,"Author","Barbara Linde","2.5","0.5",null,null,"I",null,"Grade 1 - 2","Grade 1 - 3","Children around the world know that Earth Day is a holiday to show support for environmental causes, such as tree-planting initiatives or beach cleanups. But it actually started in 1970 as a way to protest the issues concerning the environment. Written in accessible language and with appropriate content, this volume introduces readers to the reasons we still celebrate Earth Day today. It encourages care for Earth and a sense of responsibility for the world around us. Full-color photographs show the beautiful world around us and what readers can do to take part on April 22 next year.","English",23.6,17.7,"394.262--dc23","24 pp.","https://www.garethstevens.com/9781538238615",null,{"$f":"Table1[[#This Row],[QTY]]*Table1[[#This Row],['# Books]]","v":0},{"$f":"Table1[[#This Row],[QTY]]*Table1[[#This Row],[S&L Price]]","v":0}]
[null,null,30,"The History of Our Holidays",1,"Celebrating Kwanzaa","Library Bound Book",null,"978-1-5382-3880-6",{"$f":"HYPERLINK(Table1[[#This Row],[eCommerce Hyperlink]],\"Book Weblink\")","v":"Book Weblink"},null,"2020","August 2019","Library","7.000 X 7.000","Author","Barbara Linde","3.1","0.5",null,null,"J",null,"Grade 1 - 2","Grade 1 - 3","Most people will have heard of Kwanzaa. Many people are familiar with the bright colors and fun associated with the holiday, but many don't know why or when it's celebrated. Meant to celebrate the unity between African Americans and their African roots, Kwanzaa began in the 1960s. In this book, readers learn about Kwanzaa's creation and the many ways people celebrate this time after the Christmas season. Full-color photographs draw all readers into the fascinating history and celebration of Kwanzaa, honoring diversity and introducing cultural traditions they may be unfamiliar with.","English",23.6,17.7,"394.2612--dc23","24 pp.","https://www.garethstevens.com/9781538238806",null,{"$f":"Table1[[#This Row],[QTY]]*Table1[[#This Row],['# Books]]","v":0},{"$f":"Table1[[#This Row],[QTY]]*Table1[[#This Row],[S&L Price]]","v":0}]
[null,null,30,"The History of Our Holidays",1,"Celebrating Kwanzaa","eBook",null,"978-1-5382-3881-3",{"$f":"HYPERLINK(Table1[[#This Row],[eCommerce Hyperlink]],\"Book Weblink\")","v":"Book Weblink"},null,"2020","August 2019",null,null,"Author","Barbara Linde","3.1","0.5",null,null,"J",null,"Grade 1 - 2","Grade 1 - 3","Most people will have heard of Kwanzaa. Many people are familiar with the bright colors and fun associated with the holiday, but many don't know why or when it's celebrated. Meant to celebrate the unity between African Americans and their African roots, Kwanzaa began in the 1960s. In this book, readers learn about Kwanzaa's creation and the many ways people celebrate this time after the Christmas season. Full-color photographs draw all readers into the fascinating history and celebration of Kwanzaa, honoring diversity and introducing cultural traditions they may be unfamiliar with.","English",23.6,17.7,"394.2612--dc23","24 pp.","https://www.garethstevens.com/9781538238813",null,{"$f":"Table1[[#This Row],[QTY]]*Table1[[#This Row],['# Books]]","v":0},{"$f":"Table1[[#This Row],[QTY]]*Table1[[#This Row],[S&L Price]]","v":0}]
[null,null,30,"The History of Our Holidays",1,"Celebrating the Chinese New Year","Library Bound Book",null,"978-1-5382-3864-6",{"$f":"HYPERLINK(Table1[[#This Row],[eCommerce Hyperlink]],\"Book Weblink\")","v":"Book Weblink"},null,"2020","August 2019","Library","7.000 X 7.000","Author","Barbara Linde","2.8","0.5",null,null,"I",null,"Grade 1 - 2","Grade 1 - 3","Many cultures had their own way of counting the year before the western calendar became accepted around the world. The Chinese New Year, one of the biggest holidays in modern China, is based on an ancient lunar calendar. Readers explore the long history of this celebration as well as find out about the animals associated with particular years, the food, and ways people still celebrate it today. Amazing full-color photographs show off the fun of the Chinese New Year in history and today to correlate with the text for beginning readers.","English",23.6,17.7,"394.261--dc23","24 pp.","https://www.garethstevens.com/9781538238646",null,{"$f":"Table1[[#This Row],[QTY]]*Table1[[#This Row],['# Books]]","v":0},{"$f":"Table1[[#This Row],[QTY]]*Table1[[#This Row],[S&L Price]]","v":0}]
[null,null,30,"The History of Our Holidays",1,"Celebrating the Chinese New Year","eBook",null,"978-1-5382-3865-3",{"$f":"HYPERLINK(Table1[[#This Row],[eCommerce Hyperlink]],\"Book Weblink\")","v":"Book Weblink"},null,"2020","August 2019",null,null,"Author","Barbara Linde","2.8","0.5",null,null,"I",null,"Grade 1 - 2","Grade 1 - 3","Many cultures had their own way of counting the year before the western calendar became accepted around the world. The Chinese New Year, one of the biggest holidays in modern China, is based on an ancient lunar calendar. Readers explore the long history of this celebration as well as find out about the animals associated with particular years, the food, and ways people still celebrate it today. Amazing full-color photographs show off the fun of the Chinese New Year in history and today to correlate with the text for beginning readers.","English",23.6,17.7,"394.261--dc23","24 pp.","https://www.garethstevens.com/9781538238653",null,{"$f":"Table1[[#This Row],[QTY]]*Table1[[#This Row],['# Books]]","v":0},{"$f":"Table1[[#This Row],[QTY]]*Table1[[#This Row],[S&L Price]]","v":0}]
[null,null,30,"The History of Our Holidays",1,"The History of Presidents' Day","Library Bound Book",null,"978-1-5382-3868-4",{"$f":"HYPERLINK(Table1[[#This Row],[eCommerce Hyperlink]],\"Book Weblink\")","v":"Book Weblink"},null,"2020","August 2019","Library","7.000 X 7.000","Author","Barbara Linde","3.3","0.5",null,null,"I",null,"Grade 1 - 2","Grade 1 - 3","Presidents' Day started out on George Washington's birthday and was established as a federal holiday in 1885. Today, it celebrates all U.S. presidents and is always celebrated on the third Monday in February. How and why was this change made? In this book, readers find out the answer and more. Carefully chosen photographs correlate with the text written especially for young readers. The historical context included complements the early elementary social studies curriculum as well as encourages an understanding of the role of the president in our nation.","English",23.6,17.7,"394.261--dc23","24 pp.","https://www.garethstevens.com/9781538238684",null,{"$f":"Table1[[#This Row],[QTY]]*Table1[[#This Row],['# Books]]","v":0},{"$f":"Table1[[#This Row],[QTY]]*Table1[[#This Row],[S&L Price]]","v":0}]
[null,null,30,"The History of Our Holidays",1,"The History of Presidents' Day","eBook",null,"978-1-5382-3869-1",{"$f":"HYPERLINK(Table1[[#This Row],[eCommerce Hyperlink]],\"Book Weblink\")","v":"Book Weblink"},null,"2020","August 2019",null,null,"Author","Barbara Linde","3.3","0.5",null,null,"I",null,"Grade 1 - 2","Grade 1 - 3","Presidents' Day started out on George Washington's birthday and was established as a federal holiday in 1885. Today, it celebrates all U.S. presidents and is always celebrated on the third Monday in February. How and why was this change made? In this book, readers find out the answer and more. Carefully chosen photographs correlate with the text written especially for young readers. The historical context included complements the early elementary social studies curriculum as well as encourages an understanding of the role of the president in our nation.","English",23.6,17.7,"394.261--dc23","24 pp.","https://www.garethstevens.com/9781538238691",null,{"$f":"Table1[[#This Row],[QTY]]*Table1[[#This Row],['# Books]]","v":0},{"$f":"Table1[[#This Row],[QTY]]*Table1[[#This Row],[S&L Price]]","v":0}]
[null,null,30,"The History of Our Holidays",1,"The History of the Fourth of July","Library Bound Book",null,"978-1-5382-3872-1",{"$f":"HYPERLINK(Table1[[#This Row],[eCommerce Hyperlink]],\"Book Weblink\")","v":"Book Weblink"},null,"2020","August 2019","Library","7.000 X 7.000","Author","Barbara Linde","3.3","0.5",null,null,"I",null,"Grade 1 - 2","Grade 1 - 3","Going to a fireworks display is a popular way to celebrate the Fourth of July, but why is that? And why do we use July 4 as the day to honor United States independence? These and many other questions about the history of the Fourth of July are answered for curious readers in this fun, patriotic volume. Historical images and full-color photographs correlate closely with the text, showing the Founding Fathers and modern July 4th events. Written especially for beginning readers, the main content provides just the right amount of historical context and supports early elementary social studies curricula.","English",23.6,17.7,"394.2634--dc23","24 pp.","https://www.garethstevens.com/9781538238721",null,{"$f":"Table1[[#This Row],[QTY]]*Table1[[#This Row],['# Books]]","v":0},{"$f":"Table1[[#This Row],[QTY]]*Table1[[#This Row],[S&L Price]]","v":0}]
[null,null,30,"The History of Our Holidays",1,"The History of the Fourth of July","eBook",null,"978-1-5382-3873-8",{"$f":"HYPERLINK(Table1[[#This Row],[eCommerce Hyperlink]],\"Book Weblink\")","v":"Book Weblink"},null,"2020","August 2019",null,null,"Author","Barbara Linde","3.3","0.5",null,null,"I",null,"Grade 1 - 2","Grade 1 - 3","Going to a fireworks display is a popular way to celebrate the Fourth of July, but why is that? And why do we use July 4 as the day to honor United States independence? These and many other questions about the history of the Fourth of July are answered for curious readers in this fun, patriotic volume. Historical images and full-color photographs correlate closely with the text, showing the Founding Fathers and modern July 4th events. Written especially for beginning readers, the main content provides just the right amount of historical context and supports early elementary social studies curricula.","English",23.6,17.7,"394.2634--dc23","24 pp.","https://www.garethstevens.com/9781538238738",null,{"$f":"Table1[[#This Row],[QTY]]*Table1[[#This Row],['# Books]]","v":0},{"$f":"Table1[[#This Row],[QTY]]*Table1[[#This Row],[S&L Price]]","v":0}]
[null,null,30,"The History of Our Holidays",1,"The Story of Hanukkah","Library Bound Book",null,"978-1-5382-3876-9",{"$f":"HYPERLINK(Table1[[#This Row],[eCommerce Hyperlink]],\"Book Weblink\")","v":"Book Weblink"},null,"2020","August 2019","Library","7.000 X 7.000","Author","Barbara Linde","3.1","0.5",null,null,"J",null,"Grade 1 - 2","Grade 1 - 3","Even the smallest Jewish children know the amazing story of the oil that didn't run out for 8 days and nights. This is the story of Hanukkah, a beautiful tale of rededicating a temple and the unity of a people against adversity. This text inspires readers as well as explains the history of a holiday important to as many as 15 million people on Earth who identify as part of the Jewish faith. Encouraging cultural understanding and exploration, the main content is written for beginning readers.","English",23.6,17.7,"296.4/35--dc23","24 pp.","https://www.garethstevens.com/9781538238769",null,{"$f":"Table1[[#This Row],[QTY]]*Table1[[#This Row],['# Books]]","v":0},{"$f":"Table1[[#This Row],[QTY]]*Table1[[#This Row],[S&L Price]]","v":0}]
[null,null,30,"The History of Our Holidays",1,"The Story of Hanukkah","eBook",null,"978-1-5382-3877-6",{"$f":"HYPERLINK(Table1[[#This Row],[eCommerce Hyperlink]],\"Book Weblink\")","v":"Book Weblink"},null,"2020","August 2019",null,null,"Author","Barbara Linde","3.1","0.5",null,null,"J",null,"Grade 1 - 2","Grade 1 - 3","Even the smallest Jewish children know the amazing story of the oil that didn't run out for 8 days and nights. This is the story of Hanukkah, a beautiful tale of rededicating a temple and the unity of a people against adversity. This text inspires readers as well as explains the history of a holiday important to as many as 15 million people on Earth who identify as part of the Jewish faith. Encouraging cultural understanding and exploration, the main content is written for beginning readers.","English",23.6,17.7,"296.4/35--dc23","24 pp.","https://www.garethstevens.com/9781538238776",null,{"$f":"Table1[[#This Row],[QTY]]*Table1[[#This Row],['# Books]]","v":0},{"$f":"Table1[[#This Row],[QTY]]*Table1[[#This Row],[S&L Price]]","v":0}]
[null,13,31,"Looking at Literature",6,"Looking at Literature","Library Set",null,"978-1-5382-6662-5",{"$f":"HYPERLINK(Table1[[#This Row],[eCommerce Hyperlink]],\"Book Weblink\")","v":"Book Weblink"},null,"2022","August 2021","Library","7.000 X 7.000",null,null,null,null,null,null,null,null,"Grade 1 - 2","Grade 1 - 3","In order to cultivate a love of reading and a respect for the written word, developing readers need to become familiar with a variety of literary works, such as fables, folktales, and myths. While they may gravitate toward fiction, exposure to poetry and autobiographies can inspire an interest in the genre and appreciation for its value. Through at-level accessible narratives and helpful accompanying images, this inviting introduction to the world of literature describes different kinds, how they're constructed, their importance to peoples of the past and today, and how one might try to write in a similar way. Features include: Provides a solid foundation for further exploration of each genre. Encourages readers to seek out new literary experiences. ELA curricula expect learners to read and comprehend a variety of texts, including fictional and informational works. Each genre's link to history and culture is noted, creating possibilities for cross-curricular connections.","English",141.6,106.2,null,"24 pp.","https://www.garethstevens.com/9781538266625",null,{"$f":"Table1[[#This Row],[QTY]]*Table1[[#This Row],['# Books]]","v":0},{"$f":"Table1[[#This Row],[QTY]]*Table1[[#This Row],[S&L Price]]","v":0}]
[null,13,31,"Looking at Literature",1,"My First Look at Fables","Library Bound Book",null,"978-1-5382-6391-4",{"$f":"HYPERLINK(Table1[[#This Row],[eCommerce Hyperlink]],\"Book Weblink\")","v":"Book Weblink"},null,"2022","August 2021","Library","7.000 X 7.000","Author","Rosie Banks",null,null,null,null,"I",null,"Grade 1 - 2","Grade 1 - 3","The fables of Aesop are over 2,500 years old, yet we still recount them and ponder the lessons his animal characters deliver. Humans have found fables to be an effective way to reflect on people's behaviors and suggest wiser ways of behaving. Readers of this beneficial and accessible book will learn about this genre of literature and its writers. They'll examine the elements of fables and be invited to demonstrate their knowledge by writing their own.","English",23.6,17.7,"398.2--dc23","24 pp.","https://www.garethstevens.com/9781538263914",null,{"$f":"Table1[[#This Row],[QTY]]*Table1[[#This Row],['# Books]]","v":0},{"$f":"Table1[[#This Row],[QTY]]*Table1[[#This Row],[S&L Price]]","v":0}]
[null,13,31,"Looking at Literature",1,"My First Look at Fables","eBook",null,"978-1-5382-6392-1",{"$f":"HYPERLINK(Table1[[#This Row],[eCommerce Hyperlink]],\"Book Weblink\")","v":"Book Weblink"},null,"2022","August 2021",null,null,"Author","Rosie Banks",null,null,null,null,"I",null,"Grade 1 - 2","Grade 1 - 3","The fables of Aesop are over 2,500 years old, yet we still recount them and ponder the lessons his animal characters deliver. Humans have found fables to be an effective way to reflect on people's behaviors and suggest wiser ways of behaving. Readers of this beneficial and accessible book will learn about this genre of literature and its writers. They'll examine the elements of fables and be invited to demonstrate their knowledge by writing their own.","English",23.6,17.7,"398.2--dc23","24 pp.","https://www.garethstevens.com/9781538263921",null,{"$f":"Table1[[#This Row],[QTY]]*Table1[[#This Row],['# Books]]","v":0},{"$f":"Table1[[#This Row],[QTY]]*Table1[[#This Row],[S&L Price]]","v":0}]
[null,13,31,"Looking at Literature",1,"My First Look at Fairy Tales","Library Bound Book",null,"978-1-5382-6395-2",{"$f":"HYPERLINK(Table1[[#This Row],[eCommerce Hyperlink]],\"Book Weblink\")","v":"Book Weblink"},null,"2022","August 2021","Library","7.000 X 7.000","Author","Rosie Banks",null,null,null,null,"I",null,"Grade 1 - 2","Grade 1 - 3","Fairy tales are beloved stories for our youngest readers for a reason: they're magical. Often that magic is in a character, such as a fairy or witch. Sometimes it's just woven through the story. Even though some fairy tales are hundreds of years old, they continue to appeal to new generations. This fascinating look at fairy tales helps young readers recognize a common theme or purpose in fairy tales. It will introduce them to famous fairy tale authors, such as Hans Christian Anderson. Accessible text and beautiful images make this high-interest topic an entertaining and educational experience.","English",23.6,17.7,"398.2--dc23","24 pp.","https://www.garethstevens.com/9781538263952",null,{"$f":"Table1[[#This Row],[QTY]]*Table1[[#This Row],['# Books]]","v":0},{"$f":"Table1[[#This Row],[QTY]]*Table1[[#This Row],[S&L Price]]","v":0}]
[null,13,31,"Looking at Literature",1,"My First Look at Fairy Tales","eBook",null,"978-1-5382-6396-9",{"$f":"HYPERLINK(Table1[[#This Row],[eCommerce Hyperlink]],\"Book Weblink\")","v":"Book Weblink"},null,"2022","August 2021",null,null,"Author","Rosie Banks",null,null,null,null,"I",null,"Grade 1 - 2","Grade 1 - 3","Fairy tales are beloved stories for our youngest readers for a reason: they're magical. Often that magic is in a character, such as a fairy or witch. Sometimes it's just woven through the story. Even though some fairy tales are hundreds of years old, they continue to appeal to new generations. This fascinating look at fairy tales helps young readers recognize a common theme or purpose in fairy tales. It will introduce them to famous fairy tale authors, such as Hans Christian Anderson. Accessible text and beautiful images make this high-interest topic an entertaining and educational experience.","English",23.6,17.7,"398.2--dc23","24 pp.","https://www.garethstevens.com/9781538263969",null,{"$f":"Table1[[#This Row],[QTY]]*Table1[[#This Row],['# Books]]","v":0},{"$f":"Table1[[#This Row],[QTY]]*Table1[[#This Row],[S&L Price]]","v":0}]
[null,13,31,"Looking at Literature",1,"My First Look at Folktales","Library Bound Book",null,"978-1-5382-6399-0",{"$f":"HYPERLINK(Table1[[#This Row],[eCommerce Hyperlink]],\"Book Weblink\")","v":"Book Weblink"},null,"2022","August 2021","Library","7.000 X 7.000","Author","Rosie Banks",null,null,null,null,"I",null,"Grade 1 - 2","Grade 1 - 3","Folktales are stories that have been passed down for generations. Many of the most treasured tales have survived because of the oral tradition. This practice existed across many cultures. Readers of this informative and comprehensible book will learn what makes a story a folktale. They'll be introduced to famous folktales they should know, such as the Arabian Nights from the Middle East and the Anansi tales of western Africa. Beautiful imagery from these stories help support the information and will make readers excited to explore more about this genre of literature.","English",23.6,17.7,"398.2--dc23","24 pp.","https://www.garethstevens.com/9781538263990",null,{"$f":"Table1[[#This Row],[QTY]]*Table1[[#This Row],['# Books]]","v":0},{"$f":"Table1[[#This Row],[QTY]]*Table1[[#This Row],[S&L Price]]","v":0}]
[null,13,31,"Looking at Literature",1,"My First Look at Folktales","eBook",null,"978-1-5382-6400-3",{"$f":"HYPERLINK(Table1[[#This Row],[eCommerce Hyperlink]],\"Book Weblink\")","v":"Book Weblink"},null,"2022","August 2021",null,null,"Author","Rosie Banks",null,null,null,null,"I",null,"Grade 1 - 2","Grade 1 - 3","Folktales are stories that have been passed down for generations. Many of the most treasured tales have survived because of the oral tradition. This practice existed across many cultures. Readers of this informative and comprehensible book will learn what makes a story a folktale. They'll be introduced to famous folktales they should know, such as the Arabian Nights from the Middle East and the Anansi tales of western Africa. Beautiful imagery from these stories help support the information and will make readers excited to explore more about this genre of literature.","English",23.6,17.7,"398.2--dc23","24 pp.","https://www.garethstevens.com/9781538264003",null,{"$f":"Table1[[#This Row],[QTY]]*Table1[[#This Row],['# Books]]","v":0},{"$f":"Table1[[#This Row],[QTY]]*Table1[[#This Row],[S&L Price]]","v":0}]
[null,13,31,"Looking at Literature",1,"My First Look at Myths","Library Bound Book",null,"978-1-5382-6403-4",{"$f":"HYPERLINK(Table1[[#This Row],[eCommerce Hyperlink]],\"Book Weblink\")","v":"Book Weblink"},null,"2022","August 2021","Library","7.000 X 7.000","Author","Rosie Banks",null,null,null,null,"I",null,"Grade 1 - 2","Grade 1 - 3","People have always wanted to know why certain things happen. Before science had developed, myths provided answers, comfort, and guidance. Diverse cultures around the world treasured their own myths, passing them down to new generations. Readers of this valuable book will love learning about different myths, perhaps recognizing familiar characters still used in today's entertainment. They'll discover the important role myths had in answering people's essential life questions. Stunning artwork accompanies the accessible at-level text.","English",23.6,17.7,"398.2--dc23","24 pp.","https://www.garethstevens.com/9781538264034",null,{"$f":"Table1[[#This Row],[QTY]]*Table1[[#This Row],['# Books]]","v":0},{"$f":"Table1[[#This Row],[QTY]]*Table1[[#This Row],[S&L Price]]","v":0}]
[null,13,31,"Looking at Literature",1,"My First Look at Myths","eBook",null,"978-1-5382-6404-1",{"$f":"HYPERLINK(Table1[[#This Row],[eCommerce Hyperlink]],\"Book Weblink\")","v":"Book Weblink"},null,"2022","August 2021",null,null,"Author","Rosie Banks",null,null,null,null,"I",null,"Grade 1 - 2","Grade 1 - 3","People have always wanted to know why certain things happen. Before science had developed, myths provided answers, comfort, and guidance. Diverse cultures around the world treasured their own myths, passing them down to new generations. Readers of this valuable book will love learning about different myths, perhaps recognizing familiar characters still used in today's entertainment. They'll discover the important role myths had in answering people's essential life questions. Stunning artwork accompanies the accessible at-level text.","English",23.6,17.7,"398.2--dc23","24 pp.","https://www.garethstevens.com/9781538264041",null,{"$f":"Table1[[#This Row],[QTY]]*Table1[[#This Row],['# Books]]","v":0},{"$f":"Table1[[#This Row],[QTY]]*Table1[[#This Row],[S&L Price]]","v":0}]
[null,13,31,"Looking at Literature",1,"My First Look at Poetry","Library Bound Book",null,"978-1-5382-6407-2",{"$f":"HYPERLINK(Table1[[#This Row],[eCommerce Hyperlink]],\"Book Weblink\")","v":"Book Weblink"},null,"2022","August 2021","Library","7.000 X 7.000","Author","Rosie Banks",null,null,null,null,"I",null,"Grade 1 - 2","Grade 1 - 3","Perhaps the best way to develop a love for language is to read it and hear it in the form of poetry. Rhythm, repetition, alliteration, and other literary devices can hone readers' ears to appreciate this beloved genre and open their minds to reading and writing poems themselves. At-level examples of poetry and simple explanations are presented through comprehensible text, perfect for emerging readers. Poetry is an aid to language development and an outlet for creativity and self-expression. Your readers will appreciate this volume and what it can do for them.","English",23.6,17.7,"808.1--dc23","24 pp.","https://www.garethstevens.com/9781538264072",null,{"$f":"Table1[[#This Row],[QTY]]*Table1[[#This Row],['# Books]]","v":0},{"$f":"Table1[[#This Row],[QTY]]*Table1[[#This Row],[S&L Price]]","v":0}]
[null,13,31,"Looking at Literature",1,"My First Look at Poetry","eBook",null,"978-1-5382-6408-9",{"$f":"HYPERLINK(Table1[[#This Row],[eCommerce Hyperlink]],\"Book Weblink\")","v":"Book Weblink"},null,"2022","August 2021",null,null,"Author","Rosie Banks",null,null,null,null,"I",null,"Grade 1 - 2","Grade 1 - 3","Perhaps the best way to develop a love for language is to read it and hear it in the form of poetry. Rhythm, repetition, alliteration, and other literary devices can hone readers' ears to appreciate this beloved genre and open their minds to reading and writing poems themselves. At-level examples of poetry and simple explanations are presented through comprehensible text, perfect for emerging readers. Poetry is an aid to language development and an outlet for creativity and self-expression. Your readers will appreciate this volume and what it can do for them.","English",23.6,17.7,"808.1--dc23","24 pp.","https://www.garethstevens.com/9781538264089",null,{"$f":"Table1[[#This Row],[QTY]]*Table1[[#This Row],['# Books]]","v":0},{"$f":"Table1[[#This Row],[QTY]]*Table1[[#This Row],[S&L Price]]","v":0}]
[null,13,31,"Looking at Literature",1,"My First Look at Primary Sources","Library Bound Book",null,"978-1-5382-6411-9",{"$f":"HYPERLINK(Table1[[#This Row],[eCommerce Hyperlink]],\"Book Weblink\")","v":"Book Weblink"},null,"2022","August 2021","Library","7.000 X 7.000","Author","Rosie Banks",null,null,null,null,"I",null,"Grade 1 - 2","Grade 1 - 3","Speeches, autobiographies, diaries, letters, and similar nonfiction resources are essential materials that speak to the human experience. The primary source is an indispensable concept as students hone research skills in the elementary classroom. With this important introduction to primary sources, early readers will discover how these first-hand accounts help them learn about people, events, and time periods. They'll realize they can create their own primary sources to share their experience with future generations.","English",23.6,17.7,"907.2--dc23","24 pp.","https://www.garethstevens.com/9781538264119",null,{"$f":"Table1[[#This Row],[QTY]]*Table1[[#This Row],['# Books]]","v":0},{"$f":"Table1[[#This Row],[QTY]]*Table1[[#This Row],[S&L Price]]","v":0}]
[null,13,31,"Looking at Literature",1,"My First Look at Primary Sources","eBook",null,"978-1-5382-6412-6",{"$f":"HYPERLINK(Table1[[#This Row],[eCommerce Hyperlink]],\"Book Weblink\")","v":"Book Weblink"},null,"2022","August 2021",null,null,"Author","Rosie Banks",null,null,null,null,"I",null,"Grade 1 - 2","Grade 1 - 3","Speeches, autobiographies, diaries, letters, and similar nonfiction resources are essential materials that speak to the human experience. The primary source is an indispensable concept as students hone research skills in the elementary classroom. With this important introduction to primary sources, early readers will discover how these first-hand accounts help them learn about people, events, and time periods. They'll realize they can create their own primary sources to share their experience with future generations.","English",23.6,17.7,"907.2--dc23","24 pp.","https://www.garethstevens.com/9781538264126",null,{"$f":"Table1[[#This Row],[QTY]]*Table1[[#This Row],['# Books]]","v":0},{"$f":"Table1[[#This Row],[QTY]]*Table1[[#This Row],[S&L Price]]","v":0}]
[null,15,32,"A Look at the Human Body",6,"A Look at the Human Body","Library Set",null,"978-1-5382-6675-5",{"$f":"HYPERLINK(Table1[[#This Row],[eCommerce Hyperlink]],\"Book Weblink\")","v":"Book Weblink"},null,"2022","August 2021","Library","6.500 X 9.125",null,null,null,null,null,null,null,null,"Grade 2","Grade 5 - 8","From breaking down the food we eat to sending messages to our brain so we can put one foot in front of the other, the human body does a lot, often with little conscious effort from its owner. With the help of this informative set, readers get a close look at some of the most incredible systems of the human body. Accessible narratives correlate closely with eye-catching photographs, keeping developing readers engaged. Features include: Low reading level to help struggling readers understand concepts central to upper elementary science curricula. Glossaries familiarize readers with key science vocabulary. Colorful photographs and fact boxes aid in reading comprehension.","English",165.6,124.2,null,"32 pp.","https://www.garethstevens.com/9781538266755",null,{"$f":"Table1[[#This Row],[QTY]]*Table1[[#This Row],['# Books]]","v":0},{"$f":"Table1[[#This Row],[QTY]]*Table1[[#This Row],[S&L Price]]","v":0}]
[null,15,32,"A Look at the Human Body",1,"The Circulatory System","Library Bound Book",null,"978-1-5382-6607-6",{"$f":"HYPERLINK(Table1[[#This Row],[eCommerce Hyperlink]],\"Book Weblink\")","v":"Book Weblink"},null,"2022","August 2021","Library","6.500 X 9.125","Author","Jonas Edwards",null,null,null,null,"J",null,"Grade 2","Grade 5 - 8","Most people know that blood is always flowing through our bodies, but many don't know how or why this happens. Readers of this informative volume will learn about the circulatory system to find the answers. This essential system not only carries blood to and from the heart, but also brings oxygen, nutrients, and other materials around the body. Accessible text and eye-catching images support struggling readers in learning about this key concept from the upper elementary science curriculum.","English",27.6,20.7,"612.1","32 pp.","https://www.garethstevens.com/9781538266076",null,{"$f":"Table1[[#This Row],[QTY]]*Table1[[#This Row],['# Books]]","v":0},{"$f":"Table1[[#This Row],[QTY]]*Table1[[#This Row],[S&L Price]]","v":0}]
[null,15,32,"A Look at the Human Body",1,"The Circulatory System","eBook",null,"978-1-5382-6608-3",{"$f":"HYPERLINK(Table1[[#This Row],[eCommerce Hyperlink]],\"Book Weblink\")","v":"Book Weblink"},null,"2022","August 2021",null,null,"Author","Jonas Edwards",null,null,null,null,"J",null,"Grade 2","Grade 5 - 8","Most people know that blood is always flowing through our bodies, but many don't know how or why this happens. Readers of this informative volume will learn about the circulatory system to find the answers. This essential system not only carries blood to and from the heart, but also brings oxygen, nutrients, and other materials around the body. Accessible text and eye-catching images support struggling readers in learning about this key concept from the upper elementary science curriculum.","English",27.6,20.7,"612.1","32 pp.","https://www.garethstevens.com/9781538266083",null,{"$f":"Table1[[#This Row],[QTY]]*Table1[[#This Row],['# Books]]","v":0},{"$f":"Table1[[#This Row],[QTY]]*Table1[[#This Row],[S&L Price]]","v":0}]
[null,15,32,"A Look at the Human Body",1,"The Digestive System","Library Bound Book",null,"978-1-5382-6611-3",{"$f":"HYPERLINK(Table1[[#This Row],[eCommerce Hyperlink]],\"Book Weblink\")","v":"Book Weblink"},null,"2022","August 2021","Library","6.500 X 9.125","Author","Jonas Edwards",null,null,null,null,"J",null,"Grade 2","Grade 5 - 8","When we eat food, we don't need to think about how our bodies will break it down. The digestive system takes care of that for us. Readers will learn the ins and outs of the human digestive system. They'll see how the system starts working as soon as food enters the mouth and doesn't stop until it's taken what the body needs and expelled the rest. Concise text is written at a low reading level, helping struggling readers understand this important scientific concept.","English",27.6,20.7,"612.3","32 pp.","https://www.garethstevens.com/9781538266113",null,{"$f":"Table1[[#This Row],[QTY]]*Table1[[#This Row],['# Books]]","v":0},{"$f":"Table1[[#This Row],[QTY]]*Table1[[#This Row],[S&L Price]]","v":0}]
[null,15,32,"A Look at the Human Body",1,"The Digestive System","eBook",null,"978-1-5382-6612-0",{"$f":"HYPERLINK(Table1[[#This Row],[eCommerce Hyperlink]],\"Book Weblink\")","v":"Book Weblink"},null,"2022","August 2021",null,null,"Author","Jonas Edwards",null,null,null,null,"J",null,"Grade 2","Grade 5 - 8","When we eat food, we don't need to think about how our bodies will break it down. The digestive system takes care of that for us. Readers will learn the ins and outs of the human digestive system. They'll see how the system starts working as soon as food enters the mouth and doesn't stop until it's taken what the body needs and expelled the rest. Concise text is written at a low reading level, helping struggling readers understand this important scientific concept.","English",27.6,20.7,"612.3","32 pp.","https://www.garethstevens.com/9781538266120",null,{"$f":"Table1[[#This Row],[QTY]]*Table1[[#This Row],['# Books]]","v":0},{"$f":"Table1[[#This Row],[QTY]]*Table1[[#This Row],[S&L Price]]","v":0}]
[null,15,32,"A Look at the Human Body",1,"The Endocrine System","Library Bound Book",null,"978-1-5382-6615-1",{"$f":"HYPERLINK(Table1[[#This Row],[eCommerce Hyperlink]],\"Book Weblink\")","v":"Book Weblink"},null,"2022","August 2021","Library","6.500 X 9.125","Author","Jonas Edwards",null,null,null,null,"J",null,"Grade 2","Grade 5 - 8","The chemical messengers of the human body are known as hormones. The glands that make and release these hormones make up the endocrine system. This educational volume shows readers how this important system impacts almost every part of the human body. Concise and manageable text is paired with attention-grabbing images, helping readers of many ages and levels develop a deeper understanding of the endocrine system. This engaging book is a convenient guide for struggling readers to learn about this key concept from the upper elementary science curriculum.","English",27.6,20.7,"612.4--dc23","32 pp.","https://www.garethstevens.com/9781538266151",null,{"$f":"Table1[[#This Row],[QTY]]*Table1[[#This Row],['# Books]]","v":0},{"$f":"Table1[[#This Row],[QTY]]*Table1[[#This Row],[S&L Price]]","v":0}]
[null,15,32,"A Look at the Human Body",1,"The Endocrine System","eBook",null,"978-1-5382-6616-8",{"$f":"HYPERLINK(Table1[[#This Row],[eCommerce Hyperlink]],\"Book Weblink\")","v":"Book Weblink"},null,"2022","August 2021",null,null,"Author","Jonas Edwards",null,null,null,null,"J",null,"Grade 2","Grade 5 - 8","The chemical messengers of the human body are known as hormones. The glands that make and release these hormones make up the endocrine system. This educational volume shows readers how this important system impacts almost every part of the human body. Concise and manageable text is paired with attention-grabbing images, helping readers of many ages and levels develop a deeper understanding of the endocrine system. This engaging book is a convenient guide for struggling readers to learn about this key concept from the upper elementary science curriculum.","English",27.6,20.7,"612.4--dc23","32 pp.","https://www.garethstevens.com/9781538266168",null,{"$f":"Table1[[#This Row],[QTY]]*Table1[[#This Row],['# Books]]","v":0},{"$f":"Table1[[#This Row],[QTY]]*Table1[[#This Row],[S&L Price]]","v":0}]
[null,15,32,"A Look at the Human Body",1,"The Muscular System","Library Bound Book",null,"978-1-5382-6619-9",{"$f":"HYPERLINK(Table1[[#This Row],[eCommerce Hyperlink]],\"Book Weblink\")","v":"Book Weblink"},null,"2022","August 2021","Library","6.500 X 9.125","Author","Jonas Edwards",null,null,null,null,"J",null,"Grade 2","Grade 5 - 8","Muscles help us move from place to place, but they also help important parts of our bodies work, keeping us alive and well. This engaging volume helps readers of many ages and levels understand how the muscular system works, from its processes to the different kinds of muscles humans have. Accessible text supports lower-level readers. Eye-catching images and interesting fact boxes emphasize key concepts related to upper elementary science curricula. This informative guide makes an excellent supplement for readers studying the human body.","English",27.6,20.7,"612.7/4--dc23","32 pp.","https://www.garethstevens.com/9781538266199",null,{"$f":"Table1[[#This Row],[QTY]]*Table1[[#This Row],['# Books]]","v":0},{"$f":"Table1[[#This Row],[QTY]]*Table1[[#This Row],[S&L Price]]","v":0}]
[null,15,32,"A Look at the Human Body",1,"The Muscular System","eBook",null,"978-1-5382-6620-5",{"$f":"HYPERLINK(Table1[[#This Row],[eCommerce Hyperlink]],\"Book Weblink\")","v":"Book Weblink"},null,"2022","August 2021",null,null,"Author","Jonas Edwards",null,null,null,null,"J",null,"Grade 2","Grade 5 - 8","Muscles help us move from place to place, but they also help important parts of our bodies work, keeping us alive and well. This engaging volume helps readers of many ages and levels understand how the muscular system works, from its processes to the different kinds of muscles humans have. Accessible text supports lower-level readers. Eye-catching images and interesting fact boxes emphasize key concepts related to upper elementary science curricula. This informative guide makes an excellent supplement for readers studying the human body.","English",27.6,20.7,"612.7/4--dc23","32 pp.","https://www.garethstevens.com/9781538266205",null,{"$f":"Table1[[#This Row],[QTY]]*Table1[[#This Row],['# Books]]","v":0},{"$f":"Table1[[#This Row],[QTY]]*Table1[[#This Row],[S&L Price]]","v":0}]
[null,15,32,"A Look at the Human Body",1,"The Nervous System","Library Bound Book",null,"978-1-5382-6627-4",{"$f":"HYPERLINK(Table1[[#This Row],[eCommerce Hyperlink]],\"Book Weblink\")","v":"Book Weblink"},null,"2022","August 2021","Library","6.500 X 9.125","Author","Jonas Edwards",null,null,null,null,"J",null,"Grade 2","Grade 5 - 8","All day long, the human body is sending messages between the brain and other body parts. These messages control the body's movements and many other basic functions. This busy communication superhighway is the result of none other than the nervous system. This volume's engaging narrative is written at a low level, giving struggling readers an opportunity to learn about this key concept from the upper elementary science curriculum. Eye-catching photographs draw readers into the text and keep them engaged.","English",27.6,20.7,"612.8--dc23","32 pp.","https://www.garethstevens.com/9781538266274",null,{"$f":"Table1[[#This Row],[QTY]]*Table1[[#This Row],['# Books]]","v":0},{"$f":"Table1[[#This Row],[QTY]]*Table1[[#This Row],[S&L Price]]","v":0}]
[null,15,32,"A Look at the Human Body",1,"The Nervous System","eBook",null,"978-1-5382-6628-1",{"$f":"HYPERLINK(Table1[[#This Row],[eCommerce Hyperlink]],\"Book Weblink\")","v":"Book Weblink"},null,"2022","August 2021",null,null,"Author","Jonas Edwards",null,null,null,null,"J",null,"Grade 2","Grade 5 - 8","All day long, the human body is sending messages between the brain and other body parts. These messages control the body's movements and many other basic functions. This busy communication superhighway is the result of none other than the nervous system. This volume's engaging narrative is written at a low level, giving struggling readers an opportunity to learn about this key concept from the upper elementary science curriculum. Eye-catching photographs draw readers into the text and keep them engaged.","English",27.6,20.7,"612.8--dc23","32 pp.","https://www.garethstevens.com/9781538266281",null,{"$f":"Table1[[#This Row],[QTY]]*Table1[[#This Row],['# Books]]","v":0},{"$f":"Table1[[#This Row],[QTY]]*Table1[[#This Row],[S&L Price]]","v":0}]
[null,15,32,"A Look at the Human Body",1,"The Skeletal System","Library Bound Book",null,"978-1-5382-6631-1",{"$f":"HYPERLINK(Table1[[#This Row],[eCommerce Hyperlink]],\"Book Weblink\")","v":"Book Weblink"},null,"2022","August 2021","Library","6.500 X 9.125","Author","Jonas Edwards",null,null,null,null,"J",null,"Grade 2","Grade 5 - 8","An adult has 206 bones in their body, but the skeletal system includes much more than these bones. It also includes cartilage, ligaments, and tendons, altogether making up about one-fifth of a human's total body weight. Your readers will learn about this incredible system that is the framework of their bodies. Eye-catching photographs correlate closely with engaging, accessible text, encouraging a deeper understanding of the key scientific concepts discussed. Concise fact boxes present additional information in separate, manageable sections.","English",27.6,20.7,"612.7/51--dc23","32 pp.","https://www.garethstevens.com/9781538266311",null,{"$f":"Table1[[#This Row],[QTY]]*Table1[[#This Row],['# Books]]","v":0},{"$f":"Table1[[#This Row],[QTY]]*Table1[[#This Row],[S&L Price]]","v":0}]
[null,15,32,"A Look at the Human Body",1,"The Skeletal System","eBook",null,"978-1-5382-6632-8",{"$f":"HYPERLINK(Table1[[#This Row],[eCommerce Hyperlink]],\"Book Weblink\")","v":"Book Weblink"},null,"2022","August 2021",null,null,"Author","Jonas Edwards",null,null,null,null,"J",null,"Grade 2","Grade 5 - 8","An adult has 206 bones in their body, but the skeletal system includes much more than these bones. It also includes cartilage, ligaments, and tendons, altogether making up about one-fifth of a human's total body weight. Your readers will learn about this incredible system that is the framework of their bodies. Eye-catching photographs correlate closely with engaging, accessible text, encouraging a deeper understanding of the key scientific concepts discussed. Concise fact boxes present additional information in separate, manageable sections.","English",27.6,20.7,"612.7/51--dc23","32 pp.","https://www.garethstevens.com/9781538266328",null,{"$f":"Table1[[#This Row],[QTY]]*Table1[[#This Row],['# Books]]","v":0},{"$f":"Table1[[#This Row],[QTY]]*Table1[[#This Row],[S&L Price]]","v":0}]
[null,null,33,"A Look at Chemistry",6,"A Look at Chemistry","Library Set",null,"978-1-5382-3016-9",{"$f":"HYPERLINK(Table1[[#This Row],[eCommerce Hyperlink]],\"Book Weblink\")","v":"Book Weblink"},null,"2019","January 2019","Library","6.500 X 9.125",null,null,null,null,null,null,null,null,"Grade 2","Grade 5 - 8","Understanding what the world around us is made of is essential to grasping upper-level science principles. However, concepts such as atoms, the pH scale, and states of matter can seem complicated, especially to a struggling reader. This informative set tackles these basic chemistry concepts as well as molecules, elements, and the periodic table to prepare all readers for success in their science studies now and in the future. Diagrams and graphic organizers assist readers as they encounter chemistry topics for the first time or as a review. Features include: An expanded glossary allows for inclusion of vocabulary integral to chemistry topics. Content prepares readers for chemistry concepts found in the Next Generation Science Standards. Fact boxes on each spread further explain difficult topics and expound on main content information.","English",165.6,124.2,null,"32 pp.","https://www.garethstevens.com/9781538230169",null,{"$f":"Table1[[#This Row],[QTY]]*Table1[[#This Row],['# Books]]","v":0},{"$f":"Table1[[#This Row],[QTY]]*Table1[[#This Row],[S&L Price]]","v":0}]
[null,null,33,"A Look at Chemistry",1,"Atoms","Library Bound Book",null,"978-1-5382-3010-7",{"$f":"HYPERLINK(Table1[[#This Row],[eCommerce Hyperlink]],\"Book Weblink\")","v":"Book Weblink"},null,"2019","January 2019","Library","6.500 X 9.125","Author","Kennon O'Mara",null,null,null,null,"I","800L","Grade 2","Grade 5 - 8","If you've ever played with building blocks, you know a bit about how atoms work already. They're the building blocks of nature. In fact, everything in nature is made up of the super-small particles called atoms. This accessible book is an inviting look at the basic units of all matter. Young scientists will discover how atoms combine to form elements and how they're used to produce energy. Fascinating fact boxes and helpful diagrams take the mystery out of essential chemistry concepts.","English",27.6,20.7,"541/.24--dc23","32 pp.","https://www.garethstevens.com/9781538230107",null,{"$f":"Table1[[#This Row],[QTY]]*Table1[[#This Row],['# Books]]","v":0},{"$f":"Table1[[#This Row],[QTY]]*Table1[[#This Row],[S&L Price]]","v":0}]
[null,null,33,"A Look at Chemistry",1,"Atoms","eBook",null,"978-1-5382-3099-2",{"$f":"HYPERLINK(Table1[[#This Row],[eCommerce Hyperlink]],\"Book Weblink\")","v":"Book Weblink"},null,"2019","January 2019",null,null,"Author","Kennon O'Mara",null,null,null,null,"I","800L","Grade 2","Grade 5 - 8","If you've ever played with building blocks, you know a bit about how atoms work already. They're the building blocks of nature. In fact, everything in nature is made up of the super-small particles called atoms. This accessible book is an inviting look at the basic units of all matter. Young scientists will discover how atoms combine to form elements and how they're used to produce energy. Fascinating fact boxes and helpful diagrams take the mystery out of essential chemistry concepts.","English",27.6,20.7,"541/.24--dc23","32 pp.","https://www.garethstevens.com/9781538230992",null,{"$f":"Table1[[#This Row],[QTY]]*Table1[[#This Row],['# Books]]","v":0},{"$f":"Table1[[#This Row],[QTY]]*Table1[[#This Row],[S&L Price]]","v":0}]
[null,null,33,"A Look at Chemistry",1,"Elements","Library Bound Book",null,"978-1-5382-3011-4",{"$f":"HYPERLINK(Table1[[#This Row],[eCommerce Hyperlink]],\"Book Weblink\")","v":"Book Weblink"},null,"2019","January 2019","Library","6.500 X 9.125","Author","Kennon O'Mara",null,null,null,null,"I","810L","Grade 2","Grade 5 - 8","Elements create everything around us, from the air we breathe to our very bodies. Some elements are abundant, such as hydrogen and carbon, while others are rare or only created in laboratories. How elements join to create molecules and compounds, and the matter around us, is an amazing discovery that scientists are still investigating. Readers will appreciate the accessible look at elements in this intriguing book, which includes comprehensible fact boxes, helpful diagrams, and essential elementary chemistry facts.","English",27.6,20.7,"546--dc23","32 pp.","https://www.garethstevens.com/9781538230114",null,{"$f":"Table1[[#This Row],[QTY]]*Table1[[#This Row],['# Books]]","v":0},{"$f":"Table1[[#This Row],[QTY]]*Table1[[#This Row],[S&L Price]]","v":0}]
[null,null,33,"A Look at Chemistry",1,"Elements","eBook",null,"978-1-5382-3100-5",{"$f":"HYPERLINK(Table1[[#This Row],[eCommerce Hyperlink]],\"Book Weblink\")","v":"Book Weblink"},null,"2019","January 2019",null,null,"Author","Kennon O'Mara",null,null,null,null,"I","810L","Grade 2","Grade 5 - 8","Elements create everything around us, from the air we breathe to our very bodies. Some elements are abundant, such as hydrogen and carbon, while others are rare or only created in laboratories. How elements join to create molecules and compounds, and the matter around us, is an amazing discovery that scientists are still investigating. Readers will appreciate the accessible look at elements in this intriguing book, which includes comprehensible fact boxes, helpful diagrams, and essential elementary chemistry facts.","English",27.6,20.7,"546--dc23","32 pp.","https://www.garethstevens.com/9781538231005",null,{"$f":"Table1[[#This Row],[QTY]]*Table1[[#This Row],['# Books]]","v":0},{"$f":"Table1[[#This Row],[QTY]]*Table1[[#This Row],[S&L Price]]","v":0}]
[null,null,33,"A Look at Chemistry",1,"Molecules","Library Bound Book",null,"978-1-5382-3012-1",{"$f":"HYPERLINK(Table1[[#This Row],[eCommerce Hyperlink]],\"Book Weblink\")","v":"Book Weblink"},null,"2019","January 2019","Library","6.500 X 9.125","Author","Kennon O'Mara",null,null,null,null,"J","830L","Grade 2","Grade 5 - 8","Molecules may be minuscule, but life wouldn't exist without them. This approachable look at an important chemistry topic takes young scientists on a tour of the world at the atomic level. They'll learn how atoms combine to form molecules and about some familiar and vital molecules, such as carbon dioxide. Thought-provoking fact boxes offer even more interesting information, while useful diagrams help learners visualize the amazing processes of nature.","English",27.6,20.7,"539/.6--dc23","32 pp.","https://www.garethstevens.com/9781538230121",null,{"$f":"Table1[[#This Row],[QTY]]*Table1[[#This Row],['# Books]]","v":0},{"$f":"Table1[[#This Row],[QTY]]*Table1[[#This Row],[S&L Price]]","v":0}]
[null,null,33,"A Look at Chemistry",1,"Molecules","eBook",null,"978-1-5382-3101-2",{"$f":"HYPERLINK(Table1[[#This Row],[eCommerce Hyperlink]],\"Book Weblink\")","v":"Book Weblink"},null,"2019","January 2019",null,null,"Author","Kennon O'Mara",null,null,null,null,"J","830L","Grade 2","Grade 5 - 8","Molecules may be minuscule, but life wouldn't exist without them. This approachable look at an important chemistry topic takes young scientists on a tour of the world at the atomic level. They'll learn how atoms combine to form molecules and about some familiar and vital molecules, such as carbon dioxide. Thought-provoking fact boxes offer even more interesting information, while useful diagrams help learners visualize the amazing processes of nature.","English",27.6,20.7,"539/.6--dc23","32 pp.","https://www.garethstevens.com/9781538231012",null,{"$f":"Table1[[#This Row],[QTY]]*Table1[[#This Row],['# Books]]","v":0},{"$f":"Table1[[#This Row],[QTY]]*Table1[[#This Row],[S&L Price]]","v":0}]
[null,null,33,"A Look at Chemistry",1,"States of Matter","Library Bound Book",null,"978-1-5382-3013-8",{"$f":"HYPERLINK(Table1[[#This Row],[eCommerce Hyperlink]],\"Book Weblink\")","v":"Book Weblink"},null,"2019","January 2019","Library","6.500 X 9.125","Author","Mary Griffin",null,null,null,null,"I","710L","Grade 2","Grade 5 - 8","Many people are familiar with the states of matter called solid, liquid, and gas, but they may not have heard of the other two states, plasmas and Bose-Einstein condensates. In this notable book, readers will learn what all these states are as well as what happens to matter to trigger a change from one form to another. The comprehensible text is supported by helpful images, diagrams, and fact boxes as well as vocabulary that serves to highlight key science terms.","English",27.6,20.7,"530.4--dc23","32 pp.","https://www.garethstevens.com/9781538230138",null,{"$f":"Table1[[#This Row],[QTY]]*Table1[[#This Row],['# Books]]","v":0},{"$f":"Table1[[#This Row],[QTY]]*Table1[[#This Row],[S&L Price]]","v":0}]
[null,null,33,"A Look at Chemistry",1,"States of Matter","eBook",null,"978-1-5382-3102-9",{"$f":"HYPERLINK(Table1[[#This Row],[eCommerce Hyperlink]],\"Book Weblink\")","v":"Book Weblink"},null,"2019","January 2019",null,null,"Author","Mary Griffin",null,null,null,null,"I","710L","Grade 2","Grade 5 - 8","Many people are familiar with the states of matter called solid, liquid, and gas, but they may not have heard of the other two states, plasmas and Bose-Einstein condensates. In this notable book, readers will learn what all these states are as well as what happens to matter to trigger a change from one form to another. The comprehensible text is supported by helpful images, diagrams, and fact boxes as well as vocabulary that serves to highlight key science terms.","English",27.6,20.7,"530.4--dc23","32 pp.","https://www.garethstevens.com/9781538231029",null,{"$f":"Table1[[#This Row],[QTY]]*Table1[[#This Row],['# Books]]","v":0},{"$f":"Table1[[#This Row],[QTY]]*Table1[[#This Row],[S&L Price]]","v":0}]
[null,null,33,"A Look at Chemistry",1,"The Periodic Table","Library Bound Book",null,"978-1-5382-3014-5",{"$f":"HYPERLINK(Table1[[#This Row],[eCommerce Hyperlink]],\"Book Weblink\")","v":"Book Weblink"},null,"2019","January 2019","Library","6.500 X 9.125","Author","Mary Griffin",null,null,null,null,"J","800L","Grade 2","Grade 5 - 8","The periodic table is the way scientists have organized the known elements, but up-and-coming scientists can learn much from the periodic table as well. Your readers will learn how to read the periodic table, including what an element's atomic number means and what the rows and columns signify. They'll gather facts about common and interesting elements and even discover how they can predict how elements might chemically react from their position in the table. Fact boxes and images add additional information to the accessible text.","English",27.6,20.7,"546'.8--dc23","32 pp.","https://www.garethstevens.com/9781538230145",null,{"$f":"Table1[[#This Row],[QTY]]*Table1[[#This Row],['# Books]]","v":0},{"$f":"Table1[[#This Row],[QTY]]*Table1[[#This Row],[S&L Price]]","v":0}]
[null,null,33,"A Look at Chemistry",1,"The Periodic Table","eBook",null,"978-1-5382-3103-6",{"$f":"HYPERLINK(Table1[[#This Row],[eCommerce Hyperlink]],\"Book Weblink\")","v":"Book Weblink"},null,"2019","January 2019",null,null,"Author","Mary Griffin",null,null,null,null,"J","800L","Grade 2","Grade 5 - 8","The periodic table is the way scientists have organized the known elements, but up-and-coming scientists can learn much from the periodic table as well. Your readers will learn how to read the periodic table, including what an element's atomic number means and what the rows and columns signify. They'll gather facts about common and interesting elements and even discover how they can predict how elements might chemically react from their position in the table. Fact boxes and images add additional information to the accessible text.","English",27.6,20.7,"546'.8--dc23","32 pp.","https://www.garethstevens.com/9781538231036",null,{"$f":"Table1[[#This Row],[QTY]]*Table1[[#This Row],['# Books]]","v":0},{"$f":"Table1[[#This Row],[QTY]]*Table1[[#This Row],[S&L Price]]","v":0}]
[null,null,33,"A Look at Chemistry",1,"The pH Scale","Library Bound Book",null,"978-1-5382-3015-2",{"$f":"HYPERLINK(Table1[[#This Row],[eCommerce Hyperlink]],\"Book Weblink\")","v":"Book Weblink"},null,"2019","January 2019","Library","6.500 X 9.125","Author","Mary Griffin",null,null,null,null,"J","830L","Grade 2","Grade 5 - 8","The pH scale measures how acidic or basic a substance is, ranging from 0 to 14. Readers will learn how certain substances rank on the pH scale, what happens when acids and bases are mixed, and how water can make a substance either acidic or basic. These significant science concepts are discussed in approachable text and supported by motivating fact boxes, charts, images, and photographs.","English",27.6,20.7,"541/.3728--dc23","32 pp.","https://www.garethstevens.com/9781538230152",null,{"$f":"Table1[[#This Row],[QTY]]*Table1[[#This Row],['# Books]]","v":0},{"$f":"Table1[[#This Row],[QTY]]*Table1[[#This Row],[S&L Price]]","v":0}]
[null,null,33,"A Look at Chemistry",1,"The pH Scale","eBook",null,"978-1-5382-3104-3",{"$f":"HYPERLINK(Table1[[#This Row],[eCommerce Hyperlink]],\"Book Weblink\")","v":"Book Weblink"},null,"2019","January 2019",null,null,"Author","Mary Griffin",null,null,null,null,"J","830L","Grade 2","Grade 5 - 8","The pH scale measures how acidic or basic a substance is, ranging from 0 to 14. Readers will learn how certain substances rank on the pH scale, what happens when acids and bases are mixed, and how water can make a substance either acidic or basic. These significant science concepts are discussed in approachable text and supported by motivating fact boxes, charts, images, and photographs.","English",27.6,20.7,"541/.3728--dc23","32 pp.","https://www.garethstevens.com/9781538231043",null,{"$f":"Table1[[#This Row],[QTY]]*Table1[[#This Row],['# Books]]","v":0},{"$f":"Table1[[#This Row],[QTY]]*Table1[[#This Row],[S&L Price]]","v":0}]
[null,null,33,"A Look at Life Science",6,"A Look at Life Science","Library Set",null,"978-1-5382-4900-0",{"$f":"HYPERLINK(Table1[[#This Row],[eCommerce Hyperlink]],\"Book Weblink\")","v":"Book Weblink"},null,"2020","January 2020","Library","6.500 X 9.125",null,null,null,null,null,null,null,null,"Grade 2","Grade 5 - 8","Everyone knows what a plant or animal is, but sometimes, what we might call a plant is actually a protist. Or is it a fungus? The six major groups of organisms on Earth are an essential part of life science curricula. Written especially for struggling readers or those in need of review, each book in this set focuses on one group, including its main physical characteristics, ways of making or consuming food, and examples of different kinds within its major grouping. Features include: Expanded glossaries allow readers access to quick explanations of important vocabulary. Fact boxes provide readers more context within the science curriculum or provide further explanation of the main texts. Graphic organizers emphasize important concepts.","English",165.6,124.2,null,"32 pp.","https://www.garethstevens.com/9781538249000",null,{"$f":"Table1[[#This Row],[QTY]]*Table1[[#This Row],['# Books]]","v":0},{"$f":"Table1[[#This Row],[QTY]]*Table1[[#This Row],[S&L Price]]","v":0}]
[null,null,33,"A Look at Life Science",1,"What Are Animals?","Library Bound Book",null,"978-1-5382-4845-4",{"$f":"HYPERLINK(Table1[[#This Row],[eCommerce Hyperlink]],\"Book Weblink\")","v":"Book Weblink"},null,"2020","January 2020","Library","6.500 X 9.125","Author","Kate Mikoley",null,null,null,null,"I",null,"Grade 2","Grade 5 - 8","Wildlife plays an important role in the environment. With the help of this engaging volume, readers of many ages and levels will learn all about many of the fascinating animals that inhabit the planet. They will find out what makes an animal an animal. They will also learn fun facts about some of their favorite creatures. Eye-catching photographs correlate closely with concise, accessible text that supports elementary life science curricula. A must-have for animal lovers, this informative book will be a popular addition to your collection.","English",27.6,20.7,"590--dc23","32 pp.","https://www.garethstevens.com/9781538248454",null,{"$f":"Table1[[#This Row],[QTY]]*Table1[[#This Row],['# Books]]","v":0},{"$f":"Table1[[#This Row],[QTY]]*Table1[[#This Row],[S&L Price]]","v":0}]
[null,null,33,"A Look at Life Science",1,"What Are Animals?","eBook",null,"978-1-5382-4846-1",{"$f":"HYPERLINK(Table1[[#This Row],[eCommerce Hyperlink]],\"Book Weblink\")","v":"Book Weblink"},null,"2020","January 2020",null,null,"Author","Kate Mikoley",null,null,null,null,"I",null,"Grade 2","Grade 5 - 8","Wildlife plays an important role in the environment. With the help of this engaging volume, readers of many ages and levels will learn all about many of the fascinating animals that inhabit the planet. They will find out what makes an animal an animal. They will also learn fun facts about some of their favorite creatures. Eye-catching photographs correlate closely with concise, accessible text that supports elementary life science curricula. A must-have for animal lovers, this informative book will be a popular addition to your collection.","English",27.6,20.7,"590--dc23","32 pp.","https://www.garethstevens.com/9781538248461",null,{"$f":"Table1[[#This Row],[QTY]]*Table1[[#This Row],['# Books]]","v":0},{"$f":"Table1[[#This Row],[QTY]]*Table1[[#This Row],[S&L Price]]","v":0}]
[null,null,33,"A Look at Life Science",1,"What Are Archaea?","Library Bound Book",null,"978-1-5382-4849-2",{"$f":"HYPERLINK(Table1[[#This Row],[eCommerce Hyperlink]],\"Book Weblink\")","v":"Book Weblink"},null,"2020","January 2020","Library","6.500 X 9.125","Author","Kate Mikoley",null,null,null,null,"J",null,"Grade 2","Grade 5 - 8","Archaea are microorganisms often found living in very extreme conditions. They are known to survive in very hot environments, such as hydrothermal vents and hot springs. They can also live in very acidic habitats and even inside of animals. With the help of this engaging book, readers will develop a strong understanding of these fascinating organisms. Accessible, age-appropriate text helps readers of many levels learn important details related to elementary life science curricula. Meanwhile, colorful photographs reinforce key concepts and hold readers' attention.","English",27.6,20.7,"579.3/21--dc23","32 pp.","https://www.garethstevens.com/9781538248492",null,{"$f":"Table1[[#This Row],[QTY]]*Table1[[#This Row],['# Books]]","v":0},{"$f":"Table1[[#This Row],[QTY]]*Table1[[#This Row],[S&L Price]]","v":0}]
[null,null,33,"A Look at Life Science",1,"What Are Archaea?","eBook",null,"978-1-5382-4850-8",{"$f":"HYPERLINK(Table1[[#This Row],[eCommerce Hyperlink]],\"Book Weblink\")","v":"Book Weblink"},null,"2020","January 2020",null,null,"Author","Kate Mikoley",null,null,null,null,"J",null,"Grade 2","Grade 5 - 8","Archaea are microorganisms often found living in very extreme conditions. They are known to survive in very hot environments, such as hydrothermal vents and hot springs. They can also live in very acidic habitats and even inside of animals. With the help of this engaging book, readers will develop a strong understanding of these fascinating organisms. Accessible, age-appropriate text helps readers of many levels learn important details related to elementary life science curricula. Meanwhile, colorful photographs reinforce key concepts and hold readers' attention.","English",27.6,20.7,"579.3/21--dc23","32 pp.","https://www.garethstevens.com/9781538248508",null,{"$f":"Table1[[#This Row],[QTY]]*Table1[[#This Row],['# Books]]","v":0},{"$f":"Table1[[#This Row],[QTY]]*Table1[[#This Row],[S&L Price]]","v":0}]
[null,null,33,"A Look at Life Science",1,"What Are Bacteria?","Library Bound Book",null,"978-1-5382-4853-9",{"$f":"HYPERLINK(Table1[[#This Row],[eCommerce Hyperlink]],\"Book Weblink\")","v":"Book Weblink"},null,"2020","January 2020","Library","6.500 X 9.125","Author","Kate Mikoley",null,null,null,null,"I",null,"Grade 2","Grade 5 - 8","For many people, the word \"bacteria\" evokes thoughts of harmful germs and illness. While it's true bacteria can often be responsible for getting a person sick, they can also be very helpful. Readers of this innovative book will learn about the good and the bad sides of bacteria, and why humans and other animals would never be able to thrive without them. Key topics are presented using concise text paired with colorful photographs, helping readers of many levels to understand important life science concepts.","English",27.6,20.7,"579.3--dc23","32 pp.","https://www.garethstevens.com/9781538248539",null,{"$f":"Table1[[#This Row],[QTY]]*Table1[[#This Row],['# Books]]","v":0},{"$f":"Table1[[#This Row],[QTY]]*Table1[[#This Row],[S&L Price]]","v":0}]
[null,null,33,"A Look at Life Science",1,"What Are Bacteria?","eBook",null,"978-1-5382-4854-6",{"$f":"HYPERLINK(Table1[[#This Row],[eCommerce Hyperlink]],\"Book Weblink\")","v":"Book Weblink"},null,"2020","January 2020",null,null,"Author","Kate Mikoley",null,null,null,null,"I",null,"Grade 2","Grade 5 - 8","For many people, the word \"bacteria\" evokes thoughts of harmful germs and illness. While it's true bacteria can often be responsible for getting a person sick, they can also be very helpful. Readers of this innovative book will learn about the good and the bad sides of bacteria, and why humans and other animals would never be able to thrive without them. Key topics are presented using concise text paired with colorful photographs, helping readers of many levels to understand important life science concepts.","English",27.6,20.7,"579.3--dc23","32 pp.","https://www.garethstevens.com/9781538248546",null,{"$f":"Table1[[#This Row],[QTY]]*Table1[[#This Row],['# Books]]","v":0},{"$f":"Table1[[#This Row],[QTY]]*Table1[[#This Row],[S&L Price]]","v":0}]
[null,null,33,"A Look at Life Science",1,"What Are Fungi?","Library Bound Book",null,"978-1-5382-4857-7",{"$f":"HYPERLINK(Table1[[#This Row],[eCommerce Hyperlink]],\"Book Weblink\")","v":"Book Weblink"},null,"2020","January 2020","Library","6.500 X 9.125","Author","Kate Mikoley",null,null,null,null,"J",null,"Grade 2","Grade 5 - 8","It may sound like a gross fact, but the world is full of fungi. These organisms are important life forms. Readers of this innovative book will learn all about fungi and their role in the environment. Short, manageable sections of text relate closely to the colorful photographs, encouraging a deeper understanding of the subject matter. The high-interest topic helps reinforce key concepts in the elementary life science curricula, while accessible content appeals to developing readers.","English",27.6,20.7,"579.5--dc23","32 pp.","https://www.garethstevens.com/9781538248577",null,{"$f":"Table1[[#This Row],[QTY]]*Table1[[#This Row],['# Books]]","v":0},{"$f":"Table1[[#This Row],[QTY]]*Table1[[#This Row],[S&L Price]]","v":0}]
[null,null,33,"A Look at Life Science",1,"What Are Fungi?","eBook",null,"978-1-5382-4858-4",{"$f":"HYPERLINK(Table1[[#This Row],[eCommerce Hyperlink]],\"Book Weblink\")","v":"Book Weblink"},null,"2020","January 2020",null,null,"Author","Kate Mikoley",null,null,null,null,"J",null,"Grade 2","Grade 5 - 8","It may sound like a gross fact, but the world is full of fungi. These organisms are important life forms. Readers of this innovative book will learn all about fungi and their role in the environment. Short, manageable sections of text relate closely to the colorful photographs, encouraging a deeper understanding of the subject matter. The high-interest topic helps reinforce key concepts in the elementary life science curricula, while accessible content appeals to developing readers.","English",27.6,20.7,"579.5--dc23","32 pp.","https://www.garethstevens.com/9781538248584",null,{"$f":"Table1[[#This Row],[QTY]]*Table1[[#This Row],['# Books]]","v":0},{"$f":"Table1[[#This Row],[QTY]]*Table1[[#This Row],[S&L Price]]","v":0}]
[null,null,33,"A Look at Life Science",1,"What Are Plants?","Library Bound Book",null,"978-1-5382-4861-4",{"$f":"HYPERLINK(Table1[[#This Row],[eCommerce Hyperlink]],\"Book Weblink\")","v":"Book Weblink"},null,"2020","January 2020","Library","6.500 X 9.125","Author","Kate Mikoley",null,null,null,null,"I",null,"Grade 2","Grade 5 - 8","Besides animals, plants are commonly the most well-known living things. Readers of this captivating volume will learn all about plants, from the basics of what constitutes a plant to how they are able to survive in different kinds of environments. A dynamic page layout features simple and accessible text paired closely with eye-catching photographs. Thought-provoking content helps readers develop a strong grasp of important life science concepts. Developing readers will be excited to pick up this informative volume.","English",27.6,20.7,"580--dc23","32 pp.","https://www.garethstevens.com/9781538248614",null,{"$f":"Table1[[#This Row],[QTY]]*Table1[[#This Row],['# Books]]","v":0},{"$f":"Table1[[#This Row],[QTY]]*Table1[[#This Row],[S&L Price]]","v":0}]
[null,null,33,"A Look at Life Science",1,"What Are Plants?","eBook",null,"978-1-5382-4862-1",{"$f":"HYPERLINK(Table1[[#This Row],[eCommerce Hyperlink]],\"Book Weblink\")","v":"Book Weblink"},null,"2020","January 2020",null,null,"Author","Kate Mikoley",null,null,null,null,"I",null,"Grade 2","Grade 5 - 8","Besides animals, plants are commonly the most well-known living things. Readers of this captivating volume will learn all about plants, from the basics of what constitutes a plant to how they are able to survive in different kinds of environments. A dynamic page layout features simple and accessible text paired closely with eye-catching photographs. Thought-provoking content helps readers develop a strong grasp of important life science concepts. Developing readers will be excited to pick up this informative volume.","English",27.6,20.7,"580--dc23","32 pp.","https://www.garethstevens.com/9781538248621",null,{"$f":"Table1[[#This Row],[QTY]]*Table1[[#This Row],['# Books]]","v":0},{"$f":"Table1[[#This Row],[QTY]]*Table1[[#This Row],[S&L Price]]","v":0}]
[null,null,33,"A Look at Life Science",1,"What Are Protists?","Library Bound Book",null,"978-1-5382-4865-2",{"$f":"HYPERLINK(Table1[[#This Row],[eCommerce Hyperlink]],\"Book Weblink\")","v":"Book Weblink"},null,"2020","January 2020","Library","6.500 X 9.125","Author","Kate Mikoley",null,null,null,null,"J",null,"Grade 2","Grade 5 - 8","When people think of life forms, they often think of animals and plants. Not all organisms fit into these two groups. Protists are a hugely diverse group of organisms. They are usually tiny and made up of just a single cell. This valuable resource features colorful photographs that correlate very closely to details of the narrative, encouraging readers to develop a deeper understanding of the book's material as well as key concepts related to elementary life science curricula.","English",27.6,20.7,"579--dc23","32 pp.","https://www.garethstevens.com/9781538248652",null,{"$f":"Table1[[#This Row],[QTY]]*Table1[[#This Row],['# Books]]","v":0},{"$f":"Table1[[#This Row],[QTY]]*Table1[[#This Row],[S&L Price]]","v":0}]
[null,null,33,"A Look at Life Science",1,"What Are Protists?","eBook",null,"978-1-5382-4866-9",{"$f":"HYPERLINK(Table1[[#This Row],[eCommerce Hyperlink]],\"Book Weblink\")","v":"Book Weblink"},null,"2020","January 2020",null,null,"Author","Kate Mikoley",null,null,null,null,"J",null,"Grade 2","Grade 5 - 8","When people think of life forms, they often think of animals and plants. Not all organisms fit into these two groups. Protists are a hugely diverse group of organisms. They are usually tiny and made up of just a single cell. This valuable resource features colorful photographs that correlate very closely to details of the narrative, encouraging readers to develop a deeper understanding of the book's material as well as key concepts related to elementary life science curricula.","English",27.6,20.7,"579--dc23","32 pp.","https://www.garethstevens.com/9781538248669",null,{"$f":"Table1[[#This Row],[QTY]]*Table1[[#This Row],['# Books]]","v":0},{"$f":"Table1[[#This Row],[QTY]]*Table1[[#This Row],[S&L Price]]","v":0}]
[null,null,33,"A Look at Nature's Cycles",6,"A Look at Nature's Cycles","Library Set",null,"978-1-5382-4157-8",{"$f":"HYPERLINK(Table1[[#This Row],[eCommerce Hyperlink]],\"Book Weblink\")","v":"Book Weblink"},null,"2020","August 2019","Library","6.500 X 9.125",null,null,null,null,null,null,null,null,"Grade 2","Grade 5 - 8","In order to explain the many intricate processes on Earth, scientists often create models. Whether it's how water moves through the Earth, its bodies of water, and the atmosphere, or how energy moves throughout an ecosystem, these models help students understand the world around them. This set gives a simple overview of food chains and webs, the carbon cycle, cycles in space, and others, for struggling readers in need of extra help in science class. With helpful diagrams and curriculum-correlated text, this set is a must-have for schools and libraries. Features include: A low reading level makes upper elementary concepts available to struggling readers. Provides a succinct review for test or class preparation. Supports several of the Next Generation Science Standards.","English",165.6,124.2,null,"32 pp.","https://www.garethstevens.com/9781538241578",null,{"$f":"Table1[[#This Row],[QTY]]*Table1[[#This Row],['# Books]]","v":0},{"$f":"Table1[[#This Row],[QTY]]*Table1[[#This Row],[S&L Price]]","v":0}]
[null,null,33,"A Look at Nature's Cycles",1,"Cycles in Space","Library Bound Book",null,"978-1-5382-4104-2",{"$f":"HYPERLINK(Table1[[#This Row],[eCommerce Hyperlink]],\"Book Weblink\")","v":"Book Weblink"},null,"2020","August 2019","Library","6.500 X 9.125","Author","Bray Jacobson","4.5","0.5",null,null,"J",null,"Grade 2","Grade 5 - 8","As Earth moves around the sun, the seasons on Earth change. The movement of the moon affects the tides in Earth's oceans. What happens in space has an influence on our lives. In this book, readers explore the cycles in the space that most affect us and the space science taught in upper elementary science classes. Accessible language and simple explanations make this the perfect introduction to Earth's cycles for readers struggling with traditional textbooks. Diagrams of each cycle provide a great review of each cycle as well as another way to understand each concept.","English",27.6,20.7,"523.002--dc23","32 pp.","https://www.garethstevens.com/9781538241042",null,{"$f":"Table1[[#This Row],[QTY]]*Table1[[#This Row],['# Books]]","v":0},{"$f":"Table1[[#This Row],[QTY]]*Table1[[#This Row],[S&L Price]]","v":0}]
[null,null,33,"A Look at Nature's Cycles",1,"Cycles in Space","eBook",null,"978-1-5382-4105-9",{"$f":"HYPERLINK(Table1[[#This Row],[eCommerce Hyperlink]],\"Book Weblink\")","v":"Book Weblink"},null,"2020","August 2019",null,null,"Author","Bray Jacobson","4.5","0.5",null,null,"J",null,"Grade 2","Grade 5 - 8","As Earth moves around the sun, the seasons on Earth change. The movement of the moon affects the tides in Earth's oceans. What happens in space has an influence on our lives. In this book, readers explore the cycles in the space that most affect us and the space science taught in upper elementary science classes. Accessible language and simple explanations make this the perfect introduction to Earth's cycles for readers struggling with traditional textbooks. Diagrams of each cycle provide a great review of each cycle as well as another way to understand each concept.","English",27.6,20.7,"523.002--dc23","32 pp.","https://www.garethstevens.com/9781538241059",null,{"$f":"Table1[[#This Row],[QTY]]*Table1[[#This Row],['# Books]]","v":0},{"$f":"Table1[[#This Row],[QTY]]*Table1[[#This Row],[S&L Price]]","v":0}]
[null,null,33,"A Look at Nature's Cycles",1,"Food Chains and Webs","Library Bound Book",null,"978-1-5382-4108-0",{"$f":"HYPERLINK(Table1[[#This Row],[eCommerce Hyperlink]],\"Book Weblink\")","v":"Book Weblink"},null,"2020","August 2019","Library","6.500 X 9.125","Author","Bray Jacobson","5.0","0.5",null,null,"J",null,"Grade 2","Grade 5 - 8","All organisms in an ecosystem are connected. Some are predator, some are prey, and others are just there to help decomposition. What's more, food chains and food webs are a crucial part of the Earth and life science curricula. Written for struggling upper elementary readers, the main content highlights the most important points, as well as the essential vocabulary relating to food chains and webs. Full-color diagrams aid readers' comprehension.","English",27.6,20.7,"577/.16--dc23","32 pp.","https://www.garethstevens.com/9781538241080",null,{"$f":"Table1[[#This Row],[QTY]]*Table1[[#This Row],['# Books]]","v":0},{"$f":"Table1[[#This Row],[QTY]]*Table1[[#This Row],[S&L Price]]","v":0}]
[null,null,33,"A Look at Nature's Cycles",1,"Food Chains and Webs","eBook",null,"978-1-5382-4109-7",{"$f":"HYPERLINK(Table1[[#This Row],[eCommerce Hyperlink]],\"Book Weblink\")","v":"Book Weblink"},null,"2020","August 2019",null,null,"Author","Bray Jacobson","5.0","0.5",null,null,"J",null,"Grade 2","Grade 5 - 8","All organisms in an ecosystem are connected. Some are predator, some are prey, and others are just there to help decomposition. What's more, food chains and food webs are a crucial part of the Earth and life science curricula. Written for struggling upper elementary readers, the main content highlights the most important points, as well as the essential vocabulary relating to food chains and webs. Full-color diagrams aid readers' comprehension.","English",27.6,20.7,"577/.16--dc23","32 pp.","https://www.garethstevens.com/9781538241097",null,{"$f":"Table1[[#This Row],[QTY]]*Table1[[#This Row],['# Books]]","v":0},{"$f":"Table1[[#This Row],[QTY]]*Table1[[#This Row],[S&L Price]]","v":0}]
[null,null,33,"A Look at Nature's Cycles",1,"The Carbon Cycle","Library Bound Book",null,"978-1-5382-4112-7",{"$f":"HYPERLINK(Table1[[#This Row],[eCommerce Hyperlink]],\"Book Weblink\")","v":"Book Weblink"},null,"2020","August 2019","Library","6.500 X 9.125","Author","Bray Jacobson","5.5","0.5",null,null,"J",null,"Grade 2","Grade 5 - 8","Life on Earth depends on carbon. In fact, about 18.5 percent of a human body's mass is carbon. How carbon is taking in and given off through animals' breathing, the burning of fossil fuels, and more can be shown in the model known as the carbon cycle. Though this concept can be confusing, all readers have a chance to understand this concept through the text and simple diagrams in this book. Both struggling readers and those looking for review can find the most important components and vocabulary of the carbon cycle in low-level, accessible text.","English",27.6,20.7,"577.144--dc23","32 pp.","https://www.garethstevens.com/9781538241127",null,{"$f":"Table1[[#This Row],[QTY]]*Table1[[#This Row],['# Books]]","v":0},{"$f":"Table1[[#This Row],[QTY]]*Table1[[#This Row],[S&L Price]]","v":0}]
[null,null,33,"A Look at Nature's Cycles",1,"The Carbon Cycle","eBook",null,"978-1-5382-4113-4",{"$f":"HYPERLINK(Table1[[#This Row],[eCommerce Hyperlink]],\"Book Weblink\")","v":"Book Weblink"},null,"2020","August 2019",null,null,"Author","Bray Jacobson","5.5","0.5",null,null,"J",null,"Grade 2","Grade 5 - 8","Life on Earth depends on carbon. In fact, about 18.5 percent of a human body's mass is carbon. How carbon is taking in and given off through animals' breathing, the burning of fossil fuels, and more can be shown in the model known as the carbon cycle. Though this concept can be confusing, all readers have a chance to understand this concept through the text and simple diagrams in this book. Both struggling readers and those looking for review can find the most important components and vocabulary of the carbon cycle in low-level, accessible text.","English",27.6,20.7,"577.144--dc23","32 pp.","https://www.garethstevens.com/9781538241134",null,{"$f":"Table1[[#This Row],[QTY]]*Table1[[#This Row],['# Books]]","v":0},{"$f":"Table1[[#This Row],[QTY]]*Table1[[#This Row],[S&L Price]]","v":0}]
[null,null,33,"A Look at Nature's Cycles",1,"The Nitrogen Cycle","Library Bound Book",null,"978-1-5382-4116-5",{"$f":"HYPERLINK(Table1[[#This Row],[eCommerce Hyperlink]],\"Book Weblink\")","v":"Book Weblink"},null,"2020","August 2019","Library","6.500 X 9.125","Author","Santana Hunt","5.3","0.5",null,null,"J",null,"Grade 2","Grade 5 - 8","There are many steps in the nitrogen cycle that include difficult concepts and words: denitrification, prokaryotes, ammonia, and more. With the help of this understandable book, even struggling readers will grasp this cycle of nature. Low-level language, fact boxes, and an extended glossary provide readers with essential vocabulary explanations that allow them to further understand each step of the cycle. Full-color diagrams aid readers' comprehension as they move through the cycle from start to finish, and then around again.","English",27.6,20.7,"577.145--dc23","32 pp.","https://www.garethstevens.com/9781538241165",null,{"$f":"Table1[[#This Row],[QTY]]*Table1[[#This Row],['# Books]]","v":0},{"$f":"Table1[[#This Row],[QTY]]*Table1[[#This Row],[S&L Price]]","v":0}]
[null,null,33,"A Look at Nature's Cycles",1,"The Nitrogen Cycle","eBook",null,"978-1-5382-4117-2",{"$f":"HYPERLINK(Table1[[#This Row],[eCommerce Hyperlink]],\"Book Weblink\")","v":"Book Weblink"},null,"2020","August 2019",null,null,"Author","Santana Hunt","5.3","0.5",null,null,"J",null,"Grade 2","Grade 5 - 8","There are many steps in the nitrogen cycle that include difficult concepts and words: denitrification, prokaryotes, ammonia, and more. With the help of this understandable book, even struggling readers will grasp this cycle of nature. Low-level language, fact boxes, and an extended glossary provide readers with essential vocabulary explanations that allow them to further understand each step of the cycle. Full-color diagrams aid readers' comprehension as they move through the cycle from start to finish, and then around again.","English",27.6,20.7,"577.145--dc23","32 pp.","https://www.garethstevens.com/9781538241172",null,{"$f":"Table1[[#This Row],[QTY]]*Table1[[#This Row],['# Books]]","v":0},{"$f":"Table1[[#This Row],[QTY]]*Table1[[#This Row],[S&L Price]]","v":0}]
[null,null,33,"A Look at Nature's Cycles",1,"The Oxygen Cycle","Library Bound Book",null,"978-1-5382-4120-2",{"$f":"HYPERLINK(Table1[[#This Row],[eCommerce Hyperlink]],\"Book Weblink\")","v":"Book Weblink"},null,"2020","August 2019","Library","6.500 X 9.125","Author","Santana Hunt","5.1","0.5",null,null,"J",null,"Grade 2","Grade 5 - 8","The movement of oxygen from product of photosynthesis, through the human system, water, and Earth's atmosphere is a scientific model called the oxygen cycle. And it's essential for life on Earth to continue. Through accessible language and full-color diagrams and photographs, this book explains an important natural cycle to readers of all levels, particularly those struggling to understand a standard text book. Fact boxes and an extended glossary allow for the inclusion of the most important science vocabulary so all readers have the ability to understand, speak, and write about the topic.","English",27.6,20.7,"551.51/12--dc23","32 pp.","https://www.garethstevens.com/9781538241202",null,{"$f":"Table1[[#This Row],[QTY]]*Table1[[#This Row],['# Books]]","v":0},{"$f":"Table1[[#This Row],[QTY]]*Table1[[#This Row],[S&L Price]]","v":0}]
[null,null,33,"A Look at Nature's Cycles",1,"The Oxygen Cycle","eBook",null,"978-1-5382-4121-9",{"$f":"HYPERLINK(Table1[[#This Row],[eCommerce Hyperlink]],\"Book Weblink\")","v":"Book Weblink"},null,"2020","August 2019",null,null,"Author","Santana Hunt","5.1","0.5",null,null,"J",null,"Grade 2","Grade 5 - 8","The movement of oxygen from product of photosynthesis, through the human system, water, and Earth's atmosphere is a scientific model called the oxygen cycle. And it's essential for life on Earth to continue. Through accessible language and full-color diagrams and photographs, this book explains an important natural cycle to readers of all levels, particularly those struggling to understand a standard text book. Fact boxes and an extended glossary allow for the inclusion of the most important science vocabulary so all readers have the ability to understand, speak, and write about the topic.","English",27.6,20.7,"551.51/12--dc23","32 pp.","https://www.garethstevens.com/9781538241219",null,{"$f":"Table1[[#This Row],[QTY]]*Table1[[#This Row],['# Books]]","v":0},{"$f":"Table1[[#This Row],[QTY]]*Table1[[#This Row],[S&L Price]]","v":0}]
[null,null,33,"A Look at Nature's Cycles",1,"The Water Cycle","Library Bound Book",null,"978-1-5382-4124-0",{"$f":"HYPERLINK(Table1[[#This Row],[eCommerce Hyperlink]],\"Book Weblink\")","v":"Book Weblink"},null,"2020","August 2019","Library","6.500 X 9.125","Author","Santana Hunt","4.6","0.5",null,null,"J",null,"Grade 2","Grade 5 - 8","Understanding the water cycle provides a solid foundation for comprehending weather and even some climate change topics. It's also a part of many elementary science curricula and important for everyone to understand, even struggling readers. This book aims to bring all learners up to speed on the basics of the water cycle, from precipitation to evaporation, and includes fact boxes to provide more vocabulary and concept context. Diagrams and full-color photographs complement the low-level text and simply stated science information.","English",27.6,20.7,"551.48--dc23","32 pp.","https://www.garethstevens.com/9781538241240",null,{"$f":"Table1[[#This Row],[QTY]]*Table1[[#This Row],['# Books]]","v":0},{"$f":"Table1[[#This Row],[QTY]]*Table1[[#This Row],[S&L Price]]","v":0}]
[null,null,33,"A Look at Nature's Cycles",1,"The Water Cycle","eBook",null,"978-1-5382-4125-7",{"$f":"HYPERLINK(Table1[[#This Row],[eCommerce Hyperlink]],\"Book Weblink\")","v":"Book Weblink"},null,"2020","August 2019",null,null,"Author","Santana Hunt","4.6","0.5",null,null,"J",null,"Grade 2","Grade 5 - 8","Understanding the water cycle provides a solid foundation for comprehending weather and even some climate change topics. It's also a part of many elementary science curricula and important for everyone to understand, even struggling readers. This book aims to bring all learners up to speed on the basics of the water cycle, from precipitation to evaporation, and includes fact boxes to provide more vocabulary and concept context. Diagrams and full-color photographs complement the low-level text and simply stated science information.","English",27.6,20.7,"551.48--dc23","32 pp.","https://www.garethstevens.com/9781538241257",null,{"$f":"Table1[[#This Row],[QTY]]*Table1[[#This Row],['# Books]]","v":0},{"$f":"Table1[[#This Row],[QTY]]*Table1[[#This Row],[S&L Price]]","v":0}]
[null,null,33,"A Look at Space Science",6,"A Look at Space Science","Library Set",null,"978-1-5382-5972-6",{"$f":"HYPERLINK(Table1[[#This Row],[eCommerce Hyperlink]],\"Book Weblink\")","v":"Book Weblink"},null,"2021","August 2020","Library","6.500 X 9.125",null,null,null,null,null,null,null,null,"Grade 2","Grade 5 - 8","While humans have always wondered about the stars and planets above, we're just beginning to understand what's going on outside Earth's atmosphere, and it's amazing. Budding astrophysicists will love learning about black holes, asteroids, and the sun in the accessible explanations of this carefully researched set. Spectacular images and the most fascinating facts will satisfy the most inquisitive future scientists. Features include: Supports understanding of space systems, which is a Next Generation Science standard. Achievable narratives make challenging science topics comprehensible to developing readers. Diagrams and illustrations illuminate essential concepts.","English",165.6,124.2,null,"32 pp.","https://www.garethstevens.com/9781538259726",null,{"$f":"Table1[[#This Row],[QTY]]*Table1[[#This Row],['# Books]]","v":0},{"$f":"Table1[[#This Row],[QTY]]*Table1[[#This Row],[S&L Price]]","v":0}]
[null,null,33,"A Look at Space Science",1,"Black Holes","Library Bound Book",null,"978-1-5382-5944-3",{"$f":"HYPERLINK(Table1[[#This Row],[eCommerce Hyperlink]],\"Book Weblink\")","v":"Book Weblink"},null,"2021","August 2020","Library","6.500 X 9.125","Author","Bert Wilberforce",null,null,null,null,"K",null,"Grade 2","Grade 5 - 8","Black holes are neither holes nor black. They're invisible and packed with matter! Future astronomers will find out many more fascinating facts about these space phenomena with this intriguing book. Carefully crafted text encapsulates the most important information about black holes, such as how scientists locate them and their significance in a star's life cycle. Amazing photographs support critical concepts and inspire a true appreciation of the spectacles of space.","English",27.6,20.7,"523.8/875--dc23","32 pp.","https://www.garethstevens.com/9781538259443",null,{"$f":"Table1[[#This Row],[QTY]]*Table1[[#This Row],['# Books]]","v":0},{"$f":"Table1[[#This Row],[QTY]]*Table1[[#This Row],[S&L Price]]","v":0}]
[null,null,33,"A Look at Space Science",1,"Black Holes","eBook",null,"978-1-5382-5945-0",{"$f":"HYPERLINK(Table1[[#This Row],[eCommerce Hyperlink]],\"Book Weblink\")","v":"Book Weblink"},null,"2021","August 2020",null,null,"Author","Bert Wilberforce",null,null,null,null,"K",null,"Grade 2","Grade 5 - 8","Black holes are neither holes nor black. They're invisible and packed with matter! Future astronomers will find out many more fascinating facts about these space phenomena with this intriguing book. Carefully crafted text encapsulates the most important information about black holes, such as how scientists locate them and their significance in a star's life cycle. Amazing photographs support critical concepts and inspire a true appreciation of the spectacles of space.","English",27.6,20.7,"523.8/875--dc23","32 pp.","https://www.garethstevens.com/9781538259450",null,{"$f":"Table1[[#This Row],[QTY]]*Table1[[#This Row],['# Books]]","v":0},{"$f":"Table1[[#This Row],[QTY]]*Table1[[#This Row],[S&L Price]]","v":0}]
[null,null,33,"A Look at Space Science",1,"Comets, Asteroids, and Meteoroids","Library Bound Book",null,"978-1-5382-5932-0",{"$f":"HYPERLINK(Table1[[#This Row],[eCommerce Hyperlink]],\"Book Weblink\")","v":"Book Weblink"},null,"2021","August 2020","Library","6.500 X 9.125","Author","Bert Wilberforce",null,null,null,null,"K",null,"Grade 2","Grade 5 - 8","Planets aren't the only objects beyond Earth's atmosphere. This valuable volume explains the difference between comets, asteroids, and meteoroids, their origins, and their significance to us on Earth. Readers will find out about famous comets, the dangers of asteroids, and what a meteoroid has to do with a falling star. A complement to space science curricula, there's plenty of astronomy vocabulary and eye-catching images to capture the interest of stargazers.","English",27.6,20.7,"523.5--dc23","32 pp.","https://www.garethstevens.com/9781538259320",null,{"$f":"Table1[[#This Row],[QTY]]*Table1[[#This Row],['# Books]]","v":0},{"$f":"Table1[[#This Row],[QTY]]*Table1[[#This Row],[S&L Price]]","v":0}]
[null,null,33,"A Look at Space Science",1,"Comets, Asteroids, and Meteoroids","eBook",null,"978-1-5382-5933-7",{"$f":"HYPERLINK(Table1[[#This Row],[eCommerce Hyperlink]],\"Book Weblink\")","v":"Book Weblink"},null,"2021","August 2020",null,null,"Author","Bert Wilberforce",null,null,null,null,"K",null,"Grade 2","Grade 5 - 8","Planets aren't the only objects beyond Earth's atmosphere. This valuable volume explains the difference between comets, asteroids, and meteoroids, their origins, and their significance to us on Earth. Readers will find out about famous comets, the dangers of asteroids, and what a meteoroid has to do with a falling star. A complement to space science curricula, there's plenty of astronomy vocabulary and eye-catching images to capture the interest of stargazers.","English",27.6,20.7,"523.5--dc23","32 pp.","https://www.garethstevens.com/9781538259337",null,{"$f":"Table1[[#This Row],[QTY]]*Table1[[#This Row],['# Books]]","v":0},{"$f":"Table1[[#This Row],[QTY]]*Table1[[#This Row],[S&L Price]]","v":0}]
[null,null,33,"A Look at Space Science",1,"Galaxies","Library Bound Book",null,"978-1-5382-5936-8",{"$f":"HYPERLINK(Table1[[#This Row],[eCommerce Hyperlink]],\"Book Weblink\")","v":"Book Weblink"},null,"2021","August 2020","Library","6.500 X 9.125","Author","Bert Wilberforce",null,null,null,null,"K",null,"Grade 2","Grade 5 - 8","Most young astronomers know that Earth is located in the Milky Way galaxy, but they might not know what that means or what lies beyond. Understanding our galaxy and others will help them comprehend more about how the universe works. Your readers will discover many amazing and memorable facts about galaxies, including their differing shapes, numbers of stars, and constant movement. They'll especially love the mind-boggling images of the depths of space.","English",27.6,20.7,"523.1/12--dc23","32 pp.","https://www.garethstevens.com/9781538259368",null,{"$f":"Table1[[#This Row],[QTY]]*Table1[[#This Row],['# Books]]","v":0},{"$f":"Table1[[#This Row],[QTY]]*Table1[[#This Row],[S&L Price]]","v":0}]
[null,null,33,"A Look at Space Science",1,"Galaxies","eBook",null,"978-1-5382-5937-5",{"$f":"HYPERLINK(Table1[[#This Row],[eCommerce Hyperlink]],\"Book Weblink\")","v":"Book Weblink"},null,"2021","August 2020",null,null,"Author","Bert Wilberforce",null,null,null,null,"K",null,"Grade 2","Grade 5 - 8","Most young astronomers know that Earth is located in the Milky Way galaxy, but they might not know what that means or what lies beyond. Understanding our galaxy and others will help them comprehend more about how the universe works. Your readers will discover many amazing and memorable facts about galaxies, including their differing shapes, numbers of stars, and constant movement. They'll especially love the mind-boggling images of the depths of space.","English",27.6,20.7,"523.1/12--dc23","32 pp.","https://www.garethstevens.com/9781538259375",null,{"$f":"Table1[[#This Row],[QTY]]*Table1[[#This Row],['# Books]]","v":0},{"$f":"Table1[[#This Row],[QTY]]*Table1[[#This Row],[S&L Price]]","v":0}]
[null,null,33,"A Look at Space Science",1,"The Moon","Library Bound Book",null,"978-1-5382-5928-3",{"$f":"HYPERLINK(Table1[[#This Row],[eCommerce Hyperlink]],\"Book Weblink\")","v":"Book Weblink"},null,"2021","August 2020","Library","6.500 X 9.125","Author","Bert Wilberforce",null,null,null,null,"K",null,"Grade 2","Grade 5 - 8","Our moon has long been a source of wonder for people looking up at the night sky. Young space explorers will find all they need to know about Earth's only natural satellite with this vivid volume full of beautiful photographs of the moon in all its phases. They'll learn about the moon's size, its effect on Earth's tides, and what exactly they can expect if they ever touch down on its surface. Accessible text, intriguing fact boxes, and beneficial diagrams throughout this book will engage readers.","English",27.6,20.7,"523.3--dc23","32 pp.","https://www.garethstevens.com/9781538259283",null,{"$f":"Table1[[#This Row],[QTY]]*Table1[[#This Row],['# Books]]","v":0},{"$f":"Table1[[#This Row],[QTY]]*Table1[[#This Row],[S&L Price]]","v":0}]
[null,null,33,"A Look at Space Science",1,"The Moon","eBook",null,"978-1-5382-5929-0",{"$f":"HYPERLINK(Table1[[#This Row],[eCommerce Hyperlink]],\"Book Weblink\")","v":"Book Weblink"},null,"2021","August 2020",null,null,"Author","Bert Wilberforce",null,null,null,null,"K",null,"Grade 2","Grade 5 - 8","Our moon has long been a source of wonder for people looking up at the night sky. Young space explorers will find all they need to know about Earth's only natural satellite with this vivid volume full of beautiful photographs of the moon in all its phases. They'll learn about the moon's size, its effect on Earth's tides, and what exactly they can expect if they ever touch down on its surface. Accessible text, intriguing fact boxes, and beneficial diagrams throughout this book will engage readers.","English",27.6,20.7,"523.3--dc23","32 pp.","https://www.garethstevens.com/9781538259290",null,{"$f":"Table1[[#This Row],[QTY]]*Table1[[#This Row],['# Books]]","v":0},{"$f":"Table1[[#This Row],[QTY]]*Table1[[#This Row],[S&L Price]]","v":0}]
[null,null,33,"A Look at Space Science",1,"The Planets","Library Bound Book",null,"978-1-5382-5920-7",{"$f":"HYPERLINK(Table1[[#This Row],[eCommerce Hyperlink]],\"Book Weblink\")","v":"Book Weblink"},null,"2021","August 2020","Library","6.500 X 9.125","Author","Bert Wilberforce",null,null,null,null,"K",null,"Grade 2","Grade 5 - 8","For many years, people believed there were nine planets that orbited the sun. Now we say there are eight. What happened to the ninth planet, Pluto? What are the different planets like? What exactly makes a planet a planet? These are the many intriguing questions answered with this high-interest book, crafted to be accessible for readers of all levels. Young astronomers will be especially fascinated by the stunning photographs and the \"Make the Grade\" fact boxes.","English",27.6,20.7,"523.4--dc23","32 pp.","https://www.garethstevens.com/9781538259207",null,{"$f":"Table1[[#This Row],[QTY]]*Table1[[#This Row],['# Books]]","v":0},{"$f":"Table1[[#This Row],[QTY]]*Table1[[#This Row],[S&L Price]]","v":0}]
[null,null,33,"A Look at Space Science",1,"The Planets","eBook",null,"978-1-5382-5921-4",{"$f":"HYPERLINK(Table1[[#This Row],[eCommerce Hyperlink]],\"Book Weblink\")","v":"Book Weblink"},null,"2021","August 2020",null,null,"Author","Bert Wilberforce",null,null,null,null,"K",null,"Grade 2","Grade 5 - 8","For many years, people believed there were nine planets that orbited the sun. Now we say there are eight. What happened to the ninth planet, Pluto? What are the different planets like? What exactly makes a planet a planet? These are the many intriguing questions answered with this high-interest book, crafted to be accessible for readers of all levels. Young astronomers will be especially fascinated by the stunning photographs and the \"Make the Grade\" fact boxes.","English",27.6,20.7,"523.4--dc23","32 pp.","https://www.garethstevens.com/9781538259214",null,{"$f":"Table1[[#This Row],[QTY]]*Table1[[#This Row],['# Books]]","v":0},{"$f":"Table1[[#This Row],[QTY]]*Table1[[#This Row],[S&L Price]]","v":0}]
[null,null,33,"A Look at Space Science",1,"The Sun and Other Stars","Library Bound Book",null,"978-1-5382-5924-5",{"$f":"HYPERLINK(Table1[[#This Row],[eCommerce Hyperlink]],\"Book Weblink\")","v":"Book Weblink"},null,"2021","August 2020","Library","6.500 X 9.125","Author","Bert Wilberforce",null,null,null,null,"K",null,"Grade 2","Grade 5 - 8","Many young learners are astonished to discover that the sun is a star. As the sole star of our solar system, all life on Earth depends on the sun. The most amazing and engrossing facts about the sun are found in this stellar volume, including its structure, temperature, and age. Readers will learn about the twinkling lights they see in the night sky, which are other stars light-years away. This motivating book with its incredible images and entertaining narrative is a must for every space science collection.","English",27.6,20.7,"523.8--dc23","32 pp.","https://www.garethstevens.com/9781538259245",null,{"$f":"Table1[[#This Row],[QTY]]*Table1[[#This Row],['# Books]]","v":0},{"$f":"Table1[[#This Row],[QTY]]*Table1[[#This Row],[S&L Price]]","v":0}]
[null,null,33,"A Look at Space Science",1,"The Sun and Other Stars","eBook",null,"978-1-5382-5925-2",{"$f":"HYPERLINK(Table1[[#This Row],[eCommerce Hyperlink]],\"Book Weblink\")","v":"Book Weblink"},null,"2021","August 2020",null,null,"Author","Bert Wilberforce",null,null,null,null,"K",null,"Grade 2","Grade 5 - 8","Many young learners are astonished to discover that the sun is a star. As the sole star of our solar system, all life on Earth depends on the sun. The most amazing and engrossing facts about the sun are found in this stellar volume, including its structure, temperature, and age. Readers will learn about the twinkling lights they see in the night sky, which are other stars light-years away. This motivating book with its incredible images and entertaining narrative is a must for every space science collection.","English",27.6,20.7,"523.8--dc23","32 pp.","https://www.garethstevens.com/9781538259252",null,{"$f":"Table1[[#This Row],[QTY]]*Table1[[#This Row],['# Books]]","v":0},{"$f":"Table1[[#This Row],[QTY]]*Table1[[#This Row],[S&L Price]]","v":0}]
[null,16,34,"A Look at U.S. History",24,"A Look at U.S. History: Sets 1 – 4","Library Set",null,"978-1-5382-6725-7",{"$f":"HYPERLINK(Table1[[#This Row],[eCommerce Hyperlink]],\"Book Weblink\")","v":"Book Weblink"},null,"2022","August 2021","Library","6.500 X 9.125",null,null,null,null,null,null,null,null,"Grade 2","Grade 5 - 8","Knowledge of key episodes of U.S. history becomes increasingly important as students proceed through elementary and middle school. Sometimes, young historians find reading about complex topics too challenging and miss out on significant points of the curricula. This admired collection offers accessible, simplified overviews of fundamental social studies topics, including the Constitution, the American Revolution, and the Gettysburg Address. Each volume features a concluding timeline to help readers review important events and dates about each area of focus. Features include: Extended glossaries that define essential vocabulary terms important to the discussion of U.S. history topics. Principal historical figures, documents, and events are engagingly introduced. Fact boxes add relevant, interesting information.","English",662.4,496.8,null,"32 pp.","https://www.garethstevens.com/9781538267257",null,{"$f":"Table1[[#This Row],[QTY]]*Table1[[#This Row],['# Books]]","v":0},{"$f":"Table1[[#This Row],[QTY]]*Table1[[#This Row],[S&L Price]]","v":0}]
[null,16,34,"A Look at U.S. History",1,"The California Gold Rush","Library Bound Book",null,"978-1-5382-6635-9",{"$f":"HYPERLINK(Table1[[#This Row],[eCommerce Hyperlink]],\"Book Weblink\")","v":"Book Weblink"},null,"2022","August 2021","Library","6.500 X 9.125","Author","Beatrice Harris",null,null,null,null,"J",null,"Grade 2","Grade 5 - 8","The California Gold Rush, which began after the discovery of gold in 1848, was about much more than people trying to strike it rich. It was a total reshaping of the United States because of thousands making the arduous trek to the West Coast by land and sea. Some even came from Asia and Europe. In this noteworthy book, this important episode in American history is told through text crafted for the struggling reader. Interesting fact boxes and carefully selected images and photographs are especially motivating.","English",27.6,20.7,"979.4","32 pp.","https://www.garethstevens.com/9781538266359",null,{"$f":"Table1[[#This Row],[QTY]]*Table1[[#This Row],['# Books]]","v":0},{"$f":"Table1[[#This Row],[QTY]]*Table1[[#This Row],[S&L Price]]","v":0}]
[null,16,34,"A Look at U.S. History",1,"The California Gold Rush","eBook",null,"978-1-5382-6636-6",{"$f":"HYPERLINK(Table1[[#This Row],[eCommerce Hyperlink]],\"Book Weblink\")","v":"Book Weblink"},null,"2022","August 2021",null,null,"Author","Beatrice Harris",null,null,null,null,"J",null,"Grade 2","Grade 5 - 8","The California Gold Rush, which began after the discovery of gold in 1848, was about much more than people trying to strike it rich. It was a total reshaping of the United States because of thousands making the arduous trek to the West Coast by land and sea. Some even came from Asia and Europe. In this noteworthy book, this important episode in American history is told through text crafted for the struggling reader. Interesting fact boxes and carefully selected images and photographs are especially motivating.","English",27.6,20.7,"979.4","32 pp.","https://www.garethstevens.com/9781538266366",null,{"$f":"Table1[[#This Row],[QTY]]*Table1[[#This Row],['# Books]]","v":0},{"$f":"Table1[[#This Row],[QTY]]*Table1[[#This Row],[S&L Price]]","v":0}]
[null,16,34,"A Look at U.S. History",1,"The Constitutional Convention","Library Bound Book",null,"978-1-5382-6639-7",{"$f":"HYPERLINK(Table1[[#This Row],[eCommerce Hyperlink]],\"Book Weblink\")","v":"Book Weblink"},null,"2022","August 2021","Library","6.500 X 9.125","Author","Beatrice Harris",null,null,null,null,"J",null,"Grade 2","Grade 5 - 8","Far from the well-ordered, solemn conference some might think of, the Constitutional Convention of 1787 was filled with disagreements, debates, and near-disasters. Yet, the framers of the Constitution pushed on to save the new nation from falling apart. The result was the remarkable document the United States government still uses as its foundation. Readers of this accessible book, perfect for struggling readers, will learn the story of the convention, who showed up, who didn't, and the final fight for ratification. Historical images shed light on the time period. Fact boxes add further interesting details about this important event.","English",27.6,20.7,"342.7302/42--dc23","32 pp.","https://www.garethstevens.com/9781538266397",null,{"$f":"Table1[[#This Row],[QTY]]*Table1[[#This Row],['# Books]]","v":0},{"$f":"Table1[[#This Row],[QTY]]*Table1[[#This Row],[S&L Price]]","v":0}]
[null,16,34,"A Look at U.S. History",1,"The Constitutional Convention","eBook",null,"978-1-5382-6640-3",{"$f":"HYPERLINK(Table1[[#This Row],[eCommerce Hyperlink]],\"Book Weblink\")","v":"Book Weblink"},null,"2022","August 2021",null,null,"Author","Beatrice Harris",null,null,null,null,"J",null,"Grade 2","Grade 5 - 8","Far from the well-ordered, solemn conference some might think of, the Constitutional Convention of 1787 was filled with disagreements, debates, and near-disasters. Yet, the framers of the Constitution pushed on to save the new nation from falling apart. The result was the remarkable document the United States government still uses as its foundation. Readers of this accessible book, perfect for struggling readers, will learn the story of the convention, who showed up, who didn't, and the final fight for ratification. Historical images shed light on the time period. Fact boxes add further interesting details about this important event.","English",27.6,20.7,"342.7302/42--dc23","32 pp.","https://www.garethstevens.com/9781538266403",null,{"$f":"Table1[[#This Row],[QTY]]*Table1[[#This Row],['# Books]]","v":0},{"$f":"Table1[[#This Row],[QTY]]*Table1[[#This Row],[S&L Price]]","v":0}]
[null,16,34,"A Look at U.S. History",1,"The Gettysburg Address","Library Bound Book",null,"978-1-5382-6643-4",{"$f":"HYPERLINK(Table1[[#This Row],[eCommerce Hyperlink]],\"Book Weblink\")","v":"Book Weblink"},null,"2022","August 2021","Library","6.500 X 9.125","Author","Beatrice Harris",null,null,null,null,"J",null,"Grade 2","Grade 5 - 8","In 1863, President Abraham Lincoln delivered a solemn address on the site of one of the bloodiest battles of the Civil War. The statement, written to consecrate a cemetery for fallen soldiers, became one of the most memorable, quoted, and admired addresses in American history. With this inspiring book, young historians learn about the background of this historic event, how the address was received, and the words that resonate even today. Striking images and photographs give context to the accessible text, which is crafted for readers who need extra support. This resource is a valuable addition to any social studies collection, classroom, and library.","English",27.6,20.7,"973.7’349--dc23","32 pp.","https://www.garethstevens.com/9781538266434",null,{"$f":"Table1[[#This Row],[QTY]]*Table1[[#This Row],['# Books]]","v":0},{"$f":"Table1[[#This Row],[QTY]]*Table1[[#This Row],[S&L Price]]","v":0}]
[null,16,34,"A Look at U.S. History",1,"The Gettysburg Address","eBook",null,"978-1-5382-6644-1",{"$f":"HYPERLINK(Table1[[#This Row],[eCommerce Hyperlink]],\"Book Weblink\")","v":"Book Weblink"},null,"2022","August 2021",null,null,"Author","Beatrice Harris",null,null,null,null,"J",null,"Grade 2","Grade 5 - 8","In 1863, President Abraham Lincoln delivered a solemn address on the site of one of the bloodiest battles of the Civil War. The statement, written to consecrate a cemetery for fallen soldiers, became one of the most memorable, quoted, and admired addresses in American history. With this inspiring book, young historians learn about the background of this historic event, how the address was received, and the words that resonate even today. Striking images and photographs give context to the accessible text, which is crafted for readers who need extra support. This resource is a valuable addition to any social studies collection, classroom, and library.","English",27.6,20.7,"973.7’349--dc23","32 pp.","https://www.garethstevens.com/9781538266441",null,{"$f":"Table1[[#This Row],[QTY]]*Table1[[#This Row],['# Books]]","v":0},{"$f":"Table1[[#This Row],[QTY]]*Table1[[#This Row],[S&L Price]]","v":0}]
[null,17,35,"A Look at U.S. History",1,"The Thirteen Colonies","Library Bound Book",null,"978-1-4824-6041-4",{"$f":"HYPERLINK(Table1[[#This Row],[eCommerce Hyperlink]],\"Book Weblink\")","v":"Book Weblink"},null,"2018","August 2017","Library","6.500 X 9.125","Author","Bray Jacobson","5","0.5",null,null,"J","840L","Grade 2","Grade 5 - 8","Students often spend a long time learning about the early European settlements, such as Jamestown, and the founding the 13 British colonies that became the United States. Remembering and digesting so much information can be difficult, especially for struggling readers. Through accessible language and simple sentences, this book allows readers to review the history of the 13 colonies no matter the level at which they read. A concluding timeline helps readers chronologically order main events of the social studies curriculum while fact boxes offer explanations for important terms and more detail when needed.","English",27.6,20.7,"973.2--dc23","32 pp.","https://www.garethstevens.com/9781482460414",null,{"$f":"Table1[[#This Row],[QTY]]*Table1[[#This Row],['# Books]]","v":0},{"$f":"Table1[[#This Row],[QTY]]*Table1[[#This Row],[S&L Price]]","v":0}]
[null,17,35,"A Look at U.S. History",1,"The Thirteen Colonies","eBook",null,"978-1-4824-6042-1",{"$f":"HYPERLINK(Table1[[#This Row],[eCommerce Hyperlink]],\"Book Weblink\")","v":"Book Weblink"},null,"2018","August 2017",null,null,"Author","Bray Jacobson","5","0.5",null,null,"J","840L","Grade 2","Grade 5 - 8","Students often spend a long time learning about the early European settlements, such as Jamestown, and the founding the 13 British colonies that became the United States. Remembering and digesting so much information can be difficult, especially for struggling readers. Through accessible language and simple sentences, this book allows readers to review the history of the 13 colonies no matter the level at which they read. A concluding timeline helps readers chronologically order main events of the social studies curriculum while fact boxes offer explanations for important terms and more detail when needed.","English",27.6,20.7,"973.2--dc23","32 pp.","https://www.garethstevens.com/9781482460421",null,{"$f":"Table1[[#This Row],[QTY]]*Table1[[#This Row],['# Books]]","v":0},{"$f":"Table1[[#This Row],[QTY]]*Table1[[#This Row],[S&L Price]]","v":0}]
[null,17,35,"A Look at U.S. History",1,"The U.S. Constitution","Library Bound Book",null,"978-1-4824-6045-2",{"$f":"HYPERLINK(Table1[[#This Row],[eCommerce Hyperlink]],\"Book Weblink\")","v":"Book Weblink"},null,"2018","August 2017","Library","6.500 X 9.125","Author","Bray Jacobson","5.5","0.5",null,null,"J","920L","Grade 2","Grade 5 - 8","The highest law in the United States isn't written in modern English. Yet students are expected to know and understand much of what it says, as well as facts about how and why it was written. Readers are presented with the most important points of the history of the Constitution and its contents in this book. The main content gives simple explanations of important social studies curriculum topics, from the compromises needed to write the Constitution to the Bill of Rights. Fact boxes, a concluding timeline, and historical images offer readers even more detail needed for a full overview of the document.","English",27.6,20.7,"342.7302/9--dc23","32 pp.","https://www.garethstevens.com/9781482460452",null,{"$f":"Table1[[#This Row],[QTY]]*Table1[[#This Row],['# Books]]","v":0},{"$f":"Table1[[#This Row],[QTY]]*Table1[[#This Row],[S&L Price]]","v":0}]
[null,17,35,"A Look at U.S. History",1,"The U.S. Constitution","eBook",null,"978-1-4824-6046-9",{"$f":"HYPERLINK(Table1[[#This Row],[eCommerce Hyperlink]],\"Book Weblink\")","v":"Book Weblink"},null,"2018","August 2017",null,null,"Author","Bray Jacobson","5.5","0.5",null,null,"J","920L","Grade 2","Grade 5 - 8","The highest law in the United States isn't written in modern English. Yet students are expected to know and understand much of what it says, as well as facts about how and why it was written. Readers are presented with the most important points of the history of the Constitution and its contents in this book. The main content gives simple explanations of important social studies curriculum topics, from the compromises needed to write the Constitution to the Bill of Rights. Fact boxes, a concluding timeline, and historical images offer readers even more detail needed for a full overview of the document.","English",27.6,20.7,"342.7302/9--dc23","32 pp.","https://www.garethstevens.com/9781482460469",null,{"$f":"Table1[[#This Row],[QTY]]*Table1[[#This Row],['# Books]]","v":0},{"$f":"Table1[[#This Row],[QTY]]*Table1[[#This Row],[S&L Price]]","v":0}]
[null,17,35,"A Look at U.S. History",1,"The Industrial Revolution","Library Bound Book",null,"978-1-5382-2127-3",{"$f":"HYPERLINK(Table1[[#This Row],[eCommerce Hyperlink]],\"Book Weblink\")","v":"Book Weblink"},null,"2019","August 2018","Library","6.500 X 9.125","Author","Seth Lynch","4.9","0.5",null,null,"J",null,"Grade 2","Grade 5 - 8","Once the Industrial Revolution made it to the United States, the workforce changed forever. Not only that, family life, childhood, and the economy changed, too. A complex topic with many facets, the Industrial Revolution is covered in accessible language in this book. Written with social studies curricula in mind, the main content includes age-appropriate detail, such as important dates, people, and vocabulary readers will likely need in the classroom. Developing readers and those in need of review need look no further than this volume to enhance or refresh their knowledge of this key time period in American history.","English",27.6,20.7,"330.973'08--dc23","32 pp.","https://www.garethstevens.com/9781538221273",null,{"$f":"Table1[[#This Row],[QTY]]*Table1[[#This Row],['# Books]]","v":0},{"$f":"Table1[[#This Row],[QTY]]*Table1[[#This Row],[S&L Price]]","v":0}]
[null,17,35,"A Look at U.S. History",1,"The Industrial Revolution","eBook",null,"978-1-5382-2128-0",{"$f":"HYPERLINK(Table1[[#This Row],[eCommerce Hyperlink]],\"Book Weblink\")","v":"Book Weblink"},null,"2019","August 2018",null,null,"Author","Seth Lynch","4.9","0.5",null,null,"J",null,"Grade 2","Grade 5 - 8","Once the Industrial Revolution made it to the United States, the workforce changed forever. Not only that, family life, childhood, and the economy changed, too. A complex topic with many facets, the Industrial Revolution is covered in accessible language in this book. Written with social studies curricula in mind, the main content includes age-appropriate detail, such as important dates, people, and vocabulary readers will likely need in the classroom. Developing readers and those in need of review need look no further than this volume to enhance or refresh their knowledge of this key time period in American history.","English",27.6,20.7,"330.973'08--dc23","32 pp.","https://www.garethstevens.com/9781538221280",null,{"$f":"Table1[[#This Row],[QTY]]*Table1[[#This Row],['# Books]]","v":0},{"$f":"Table1[[#This Row],[QTY]]*Table1[[#This Row],[S&L Price]]","v":0}]
[null,17,35,"A Look at U.S. History",1,"The Louisiana Purchase","Library Bound Book",null,"978-1-5382-2131-0",{"$f":"HYPERLINK(Table1[[#This Row],[eCommerce Hyperlink]],\"Book Weblink\")","v":"Book Weblink"},null,"2019","August 2018","Library","6.500 X 9.125","Author","Seth Lynch","5.2","0.5",null,null,"J",null,"Grade 2","Grade 5 - 8","When the Louisiana Territory was added to the United States in 1803, it about doubled the size of the young nation. It took years to clarify its boundaries and explore every square mile. How this momentous purchase came to be and its implications on the future of the United States are explained in detail in this book. Uncomplicated maps and simple language help developing readers and those in need of review to understand the many changes in this land that started with its purchase in 1803.","English",27.6,20.7,"973.4/6--dc23","32 pp.","https://www.garethstevens.com/9781538221310",null,{"$f":"Table1[[#This Row],[QTY]]*Table1[[#This Row],['# Books]]","v":0},{"$f":"Table1[[#This Row],[QTY]]*Table1[[#This Row],[S&L Price]]","v":0}]
[null,17,35,"A Look at U.S. History",1,"The Louisiana Purchase","eBook",null,"978-1-5382-2132-7",{"$f":"HYPERLINK(Table1[[#This Row],[eCommerce Hyperlink]],\"Book Weblink\")","v":"Book Weblink"},null,"2019","August 2018",null,null,"Author","Seth Lynch","5.2","0.5",null,null,"J",null,"Grade 2","Grade 5 - 8","When the Louisiana Territory was added to the United States in 1803, it about doubled the size of the young nation. It took years to clarify its boundaries and explore every square mile. How this momentous purchase came to be and its implications on the future of the United States are explained in detail in this book. Uncomplicated maps and simple language help developing readers and those in need of review to understand the many changes in this land that started with its purchase in 1803.","English",27.6,20.7,"973.4/6--dc23","32 pp.","https://www.garethstevens.com/9781538221327",null,{"$f":"Table1[[#This Row],[QTY]]*Table1[[#This Row],['# Books]]","v":0},{"$f":"Table1[[#This Row],[QTY]]*Table1[[#This Row],[S&L Price]]","v":0}]
[null,17,35,"A Look at U.S. History",1,"Women's Suffrage","Library Bound Book",null,"978-1-5382-2135-8",{"$f":"HYPERLINK(Table1[[#This Row],[eCommerce Hyperlink]],\"Book Weblink\")","v":"Book Weblink"},null,"2019","August 2018","Library","6.500 X 9.125","Author","Seth Lynch","5.2","0.5",null,null,"J",null,"Grade 2","Grade 5 - 8","From the formal beginning of the women's suffrage movement in the United States to the passage of the Nineteenth Amendment, the journey to women's right to vote is endlessly fascinating. Leaders such as Elizabeth Cady Stanton and Alice Paul are part of this volume, which covers important curriculum points, including the Seneca Falls Convention and its Declaration of Sentiments. The main text succinctly introduces important events and groups as well as provides historical context outside of the suffrage movement. A concluding timeline aids readers in need of further review.","English",27.6,20.7,"324.6/230973--dc23","32 pp.","https://www.garethstevens.com/9781538221358",null,{"$f":"Table1[[#This Row],[QTY]]*Table1[[#This Row],['# Books]]","v":0},{"$f":"Table1[[#This Row],[QTY]]*Table1[[#This Row],[S&L Price]]","v":0}]
[null,17,35,"A Look at U.S. History",1,"Women's Suffrage","eBook",null,"978-1-5382-2136-5",{"$f":"HYPERLINK(Table1[[#This Row],[eCommerce Hyperlink]],\"Book Weblink\")","v":"Book Weblink"},null,"2019","August 2018",null,null,"Author","Seth Lynch","5.2","0.5",null,null,"J",null,"Grade 2","Grade 5 - 8","From the formal beginning of the women's suffrage movement in the United States to the passage of the Nineteenth Amendment, the journey to women's right to vote is endlessly fascinating. Leaders such as Elizabeth Cady Stanton and Alice Paul are part of this volume, which covers important curriculum points, including the Seneca Falls Convention and its Declaration of Sentiments. The main text succinctly introduces important events and groups as well as provides historical context outside of the suffrage movement. A concluding timeline aids readers in need of further review.","English",27.6,20.7,"324.6/230973--dc23","32 pp.","https://www.garethstevens.com/9781538221365",null,{"$f":"Table1[[#This Row],[QTY]]*Table1[[#This Row],['# Books]]","v":0},{"$f":"Table1[[#This Row],[QTY]]*Table1[[#This Row],[S&L Price]]","v":0}]
[null,17,35,"A Look at U.S. History",1,"The Great Depression","Library Bound Book",null,"978-1-5382-4877-5",{"$f":"HYPERLINK(Table1[[#This Row],[eCommerce Hyperlink]],\"Book Weblink\")","v":"Book Weblink"},null,"2020","January 2020","Library","6.500 X 9.125","Author","John O'Mara",null,null,null,null,"K",null,"Grade 2","Grade 5 - 8","The Great Depression was a terrible time in the United States. Americans had never known such hunger and poverty. This crisis lasted 10 years. What happened to cause this catastrophe, how it finally ended, and the lasting effects it had on the nation are all addressed in this invaluable look at a critical period in American history. Engaging and accessible text is supported by striking historical images and interesting fact boxes. A timeline summarizes and reinforces the most essential concepts.","English",27.6,20.7,"330.973/0916--dc23","32 pp.","https://www.garethstevens.com/9781538248775",null,{"$f":"Table1[[#This Row],[QTY]]*Table1[[#This Row],['# Books]]","v":0},{"$f":"Table1[[#This Row],[QTY]]*Table1[[#This Row],[S&L Price]]","v":0}]
[null,17,35,"A Look at U.S. History",1,"The Great Depression","eBook",null,"978-1-5382-4878-2",{"$f":"HYPERLINK(Table1[[#This Row],[eCommerce Hyperlink]],\"Book Weblink\")","v":"Book Weblink"},null,"2020","January 2020",null,null,"Author","John O'Mara",null,null,null,null,"K",null,"Grade 2","Grade 5 - 8","The Great Depression was a terrible time in the United States. Americans had never known such hunger and poverty. This crisis lasted 10 years. What happened to cause this catastrophe, how it finally ended, and the lasting effects it had on the nation are all addressed in this invaluable look at a critical period in American history. Engaging and accessible text is supported by striking historical images and interesting fact boxes. A timeline summarizes and reinforces the most essential concepts.","English",27.6,20.7,"330.973/0916--dc23","32 pp.","https://www.garethstevens.com/9781538248782",null,{"$f":"Table1[[#This Row],[QTY]]*Table1[[#This Row],['# Books]]","v":0},{"$f":"Table1[[#This Row],[QTY]]*Table1[[#This Row],[S&L Price]]","v":0}]
[null,17,35,"A Look at U.S. History",1,"The Panama Canal","Library Bound Book",null,"978-1-5382-4881-2",{"$f":"HYPERLINK(Table1[[#This Row],[eCommerce Hyperlink]],\"Book Weblink\")","v":"Book Weblink"},null,"2020","January 2020","Library","6.500 X 9.125","Author","Marie Roesser",null,null,null,null,"K",null,"Grade 2","Grade 5 - 8","The Panama Canal is only about 40 miles long, but this narrow channel connects the Atlantic and Pacific Oceans. It saves ocean vessels from going around South America, which would otherwise be a 9,000-mile journey. Readers will learn about the canal's creation, how the United States became involved, and about the 40,000 people who worked on it over 10 years. They'll especially appreciate the amazing photographs of construction from the early 1900s as well as fact boxes that delve more deeply into the details of how the canal functions.","English",27.6,20.7,"972.87/​5--dc23","32 pp.","https://www.garethstevens.com/9781538248812",null,{"$f":"Table1[[#This Row],[QTY]]*Table1[[#This Row],['# Books]]","v":0},{"$f":"Table1[[#This Row],[QTY]]*Table1[[#This Row],[S&L Price]]","v":0}]
[null,17,35,"A Look at U.S. History",1,"The Panama Canal","eBook",null,"978-1-5382-4882-9",{"$f":"HYPERLINK(Table1[[#This Row],[eCommerce Hyperlink]],\"Book Weblink\")","v":"Book Weblink"},null,"2020","January 2020",null,null,"Author","Marie Roesser",null,null,null,null,"K",null,"Grade 2","Grade 5 - 8","The Panama Canal is only about 40 miles long, but this narrow channel connects the Atlantic and Pacific Oceans. It saves ocean vessels from going around South America, which would otherwise be a 9,000-mile journey. Readers will learn about the canal's creation, how the United States became involved, and about the 40,000 people who worked on it over 10 years. They'll especially appreciate the amazing photographs of construction from the early 1900s as well as fact boxes that delve more deeply into the details of how the canal functions.","English",27.6,20.7,"972.87/​5--dc23","32 pp.","https://www.garethstevens.com/9781538248829",null,{"$f":"Table1[[#This Row],[QTY]]*Table1[[#This Row],['# Books]]","v":0},{"$f":"Table1[[#This Row],[QTY]]*Table1[[#This Row],[S&L Price]]","v":0}]
[null,17,35,"A Look at U.S. History",1,"The Spanish-American War","Library Bound Book",null,"978-1-5382-4885-0",{"$f":"HYPERLINK(Table1[[#This Row],[eCommerce Hyperlink]],\"Book Weblink\")","v":"Book Weblink"},null,"2020","January 2020","Library","6.500 X 9.125","Author","Marie Roesser",null,null,null,null,"K",null,"Grade 2","Grade 5 - 8","A war between Spain and the United States was waged in 1898 in the Caribbean and in the Philippines. It forced Spain out of Cuba and established the United States as a true world power. Young historians will learn the causes of the war, each side's military maneuvers, and the conflict's aftereffects, all clearly explained in comprehensible text especially for the struggling reader. Remarkable photographs and images of the war will help visual learners connect with the material.","English",27.6,20.7,"973.8'9--dc23","32 pp.","https://www.garethstevens.com/9781538248850",null,{"$f":"Table1[[#This Row],[QTY]]*Table1[[#This Row],['# Books]]","v":0},{"$f":"Table1[[#This Row],[QTY]]*Table1[[#This Row],[S&L Price]]","v":0}]
[null,17,35,"A Look at U.S. History",1,"The Spanish-American War","eBook",null,"978-1-5382-4886-7",{"$f":"HYPERLINK(Table1[[#This Row],[eCommerce Hyperlink]],\"Book Weblink\")","v":"Book Weblink"},null,"2020","January 2020",null,null,"Author","Marie Roesser",null,null,null,null,"K",null,"Grade 2","Grade 5 - 8","A war between Spain and the United States was waged in 1898 in the Caribbean and in the Philippines. It forced Spain out of Cuba and established the United States as a true world power. Young historians will learn the causes of the war, each side's military maneuvers, and the conflict's aftereffects, all clearly explained in comprehensible text especially for the struggling reader. Remarkable photographs and images of the war will help visual learners connect with the material.","English",27.6,20.7,"973.8'9--dc23","32 pp.","https://www.garethstevens.com/9781538248867",null,{"$f":"Table1[[#This Row],[QTY]]*Table1[[#This Row],['# Books]]","v":0},{"$f":"Table1[[#This Row],[QTY]]*Table1[[#This Row],[S&L Price]]","v":0}]
[null,17,35,"A Look at U.S. History",1,"The Transcontinental Railroad","Library Bound Book",null,"978-1-5382-4889-8",{"$f":"HYPERLINK(Table1[[#This Row],[eCommerce Hyperlink]],\"Book Weblink\")","v":"Book Weblink"},null,"2020","January 2020","Library","6.500 X 9.125","Author","John O'Mara",null,null,null,null,"J",null,"Grade 2","Grade 5 - 8","A transcontinental railroad spanning the United States was once thought to be impossible. After a practical route was found, about 1,800 miles of track were laid from Nebraska to California in just 6 years. This railroad changed the nation, connecting the East and West Coast and making travel and communication easier than ever. Readers will be fascinated by the amazing tale of this railroad and the striking photographs that support this accessible narrative.","English",27.6,20.7,"385.0973--dc23","32 pp.","https://www.garethstevens.com/9781538248898",null,{"$f":"Table1[[#This Row],[QTY]]*Table1[[#This Row],['# Books]]","v":0},{"$f":"Table1[[#This Row],[QTY]]*Table1[[#This Row],[S&L Price]]","v":0}]
[null,17,35,"A Look at U.S. History",1,"The Transcontinental Railroad","eBook",null,"978-1-5382-4890-4",{"$f":"HYPERLINK(Table1[[#This Row],[eCommerce Hyperlink]],\"Book Weblink\")","v":"Book Weblink"},null,"2020","January 2020",null,null,"Author","John O'Mara",null,null,null,null,"J",null,"Grade 2","Grade 5 - 8","A transcontinental railroad spanning the United States was once thought to be impossible. After a practical route was found, about 1,800 miles of track were laid from Nebraska to California in just 6 years. This railroad changed the nation, connecting the East and West Coast and making travel and communication easier than ever. Readers will be fascinated by the amazing tale of this railroad and the striking photographs that support this accessible narrative.","English",27.6,20.7,"385.0973--dc23","32 pp.","https://www.garethstevens.com/9781538248904",null,{"$f":"Table1[[#This Row],[QTY]]*Table1[[#This Row],['# Books]]","v":0},{"$f":"Table1[[#This Row],[QTY]]*Table1[[#This Row],[S&L Price]]","v":0}]
[null,16,35,"A Look at U.S. History",1,"The Lewis and Clark Expedition","Library Bound Book",null,"978-1-5382-6647-2",{"$f":"HYPERLINK(Table1[[#This Row],[eCommerce Hyperlink]],\"Book Weblink\")","v":"Book Weblink"},null,"2022","August 2021","Library","6.500 X 9.125","Author","Beatrice Harris",null,null,null,null,"J",null,"Grade 2","Grade 5 - 8","The story of the Lewis and Clark Expedition, which is the journey of exploration across the Louisiana Territory and Pacific Northwest, is one of the most exciting in American history. This beneficial volume is an asset to any social studies curricula. Readers are invited into the Corps of Discovery to follow Meriwether Lewis and William Clark on their historic trek. They'll learn about the expedition's goals, achievements, and the hardships and surprises they encountered along the way. Beautiful images accompany the narrative, which was written to support and motivate all levels of readers.","English",27.6,20.7,"917.804/2--dc23","32 pp.","https://www.garethstevens.com/9781538266472",null,{"$f":"Table1[[#This Row],[QTY]]*Table1[[#This Row],['# Books]]","v":0},{"$f":"Table1[[#This Row],[QTY]]*Table1[[#This Row],[S&L Price]]","v":0}]
[null,16,35,"A Look at U.S. History",1,"The Lewis and Clark Expedition","eBook",null,"978-1-5382-6648-9",{"$f":"HYPERLINK(Table1[[#This Row],[eCommerce Hyperlink]],\"Book Weblink\")","v":"Book Weblink"},null,"2022","August 2021",null,null,"Author","Beatrice Harris",null,null,null,null,"J",null,"Grade 2","Grade 5 - 8","The story of the Lewis and Clark Expedition, which is the journey of exploration across the Louisiana Territory and Pacific Northwest, is one of the most exciting in American history. This beneficial volume is an asset to any social studies curricula. Readers are invited into the Corps of Discovery to follow Meriwether Lewis and William Clark on their historic trek. They'll learn about the expedition's goals, achievements, and the hardships and surprises they encountered along the way. Beautiful images accompany the narrative, which was written to support and motivate all levels of readers.","English",27.6,20.7,"917.804/2--dc23","32 pp.","https://www.garethstevens.com/9781538266489",null,{"$f":"Table1[[#This Row],[QTY]]*Table1[[#This Row],['# Books]]","v":0},{"$f":"Table1[[#This Row],[QTY]]*Table1[[#This Row],[S&L Price]]","v":0}]
[null,16,35,"A Look at U.S. History",1,"The Trail of Tears","Library Bound Book",null,"978-1-5382-6651-9",{"$f":"HYPERLINK(Table1[[#This Row],[eCommerce Hyperlink]],\"Book Weblink\")","v":"Book Weblink"},null,"2022","August 2021","Library","6.500 X 9.125","Author","Beatrice Harris",null,null,null,null,"J",null,"Grade 2","Grade 5 - 8","Even the name, \"Trail of Tears,\" evokes the great sadness of the compulsory relocation of Native Americans in the 1830s. This accessible book shares the tragic account of what happened when the U.S. government forcibly removed native peoples from their homelands and resettled them thousands of miles away. Readers will learn why this occurred and its terrible consequences. Maps, historic images, and fact boxes shed light on this devastating incident. The carefully crafted text is especially designed for struggling readers and those who need an approachable review of this controversial subject.","English",27.6,20.7,"975.004","32 pp.","https://www.garethstevens.com/9781538266519",null,{"$f":"Table1[[#This Row],[QTY]]*Table1[[#This Row],['# Books]]","v":0},{"$f":"Table1[[#This Row],[QTY]]*Table1[[#This Row],[S&L Price]]","v":0}]
[null,16,35,"A Look at U.S. History",1,"The Trail of Tears","eBook",null,"978-1-5382-6652-6",{"$f":"HYPERLINK(Table1[[#This Row],[eCommerce Hyperlink]],\"Book Weblink\")","v":"Book Weblink"},null,"2022","August 2021",null,null,"Author","Beatrice Harris",null,null,null,null,"J",null,"Grade 2","Grade 5 - 8","Even the name, \"Trail of Tears,\" evokes the great sadness of the compulsory relocation of Native Americans in the 1830s. This accessible book shares the tragic account of what happened when the U.S. government forcibly removed native peoples from their homelands and resettled them thousands of miles away. Readers will learn why this occurred and its terrible consequences. Maps, historic images, and fact boxes shed light on this devastating incident. The carefully crafted text is especially designed for struggling readers and those who need an approachable review of this controversial subject.","English",27.6,20.7,"975.004","32 pp.","https://www.garethstevens.com/9781538266526",null,{"$f":"Table1[[#This Row],[QTY]]*Table1[[#This Row],['# Books]]","v":0},{"$f":"Table1[[#This Row],[QTY]]*Table1[[#This Row],[S&L Price]]","v":0}]
[null,16,35,"A Look at U.S. History",1,"Westward Expansion","Library Bound Book",null,"978-1-5382-6655-7",{"$f":"HYPERLINK(Table1[[#This Row],[eCommerce Hyperlink]],\"Book Weblink\")","v":"Book Weblink"},null,"2022","August 2021","Library","6.500 X 9.125","Author","Beatrice Harris",null,null,null,null,"J",null,"Grade 2","Grade 5 - 8","In the 1800s, American began to push west, sometimes into lands that weren't yet a part of the United States. This movement came to be called western expansion. Some believed the nation had a right to this land, and that it was the country's destiny. However, this romantic view doesn't reveal what this settlement meant: bloody conflicts, Native American displacement, and a renewed battle over slavery. This insightful volume provides the information that readers need to know about this critical curricular topic through thought-provoking images and achievable content. This volume will thrill readers who want more support than what is typically presented in history texts.","English",27.6,20.7,"978--dc23","32 pp.","https://www.garethstevens.com/9781538266557",null,{"$f":"Table1[[#This Row],[QTY]]*Table1[[#This Row],['# Books]]","v":0},{"$f":"Table1[[#This Row],[QTY]]*Table1[[#This Row],[S&L Price]]","v":0}]
[null,16,35,"A Look at U.S. History",1,"Westward Expansion","eBook",null,"978-1-5382-6656-4",{"$f":"HYPERLINK(Table1[[#This Row],[eCommerce Hyperlink]],\"Book Weblink\")","v":"Book Weblink"},null,"2022","August 2021",null,null,"Author","Beatrice Harris",null,null,null,null,"J",null,"Grade 2","Grade 5 - 8","In the 1800s, American began to push west, sometimes into lands that weren't yet a part of the United States. This movement came to be called western expansion. Some believed the nation had a right to this land, and that it was the country's destiny. However, this romantic view doesn't reveal what this settlement meant: bloody conflicts, Native American displacement, and a renewed battle over slavery. This insightful volume provides the information that readers need to know about this critical curricular topic through thought-provoking images and achievable content. This volume will thrill readers who want more support than what is typically presented in history texts.","English",27.6,20.7,"978--dc23","32 pp.","https://www.garethstevens.com/9781538266564",null,{"$f":"Table1[[#This Row],[QTY]]*Table1[[#This Row],['# Books]]","v":0},{"$f":"Table1[[#This Row],[QTY]]*Table1[[#This Row],[S&L Price]]","v":0}]
[null,17,34,"A Look at U.S. History",1,"The American Revolution","Library Bound Book",null,"978-1-4824-6025-4",{"$f":"HYPERLINK(Table1[[#This Row],[eCommerce Hyperlink]],\"Book Weblink\")","v":"Book Weblink"},null,"2018","August 2017","Library","6.500 X 9.125","Author","Peter Castellano",null,null,null,null,"J","840L","Grade 2","Grade 5 - 8","Understanding the events of the American Revolution is key to learning more about the history of the United States. When readers encounter this important topic in social studies classes, they often must be able to explain the causes, main events, and results of the war. Through simple explanations and language, this book gives readers of all levels an overview of these aspects of the Revolutionary War in a format perfect for test review or quick reference. A timeline helps readers keep events in order, and fact boxes explain more difficult terms and subject matter.","English",27.6,20.7,"973.3--dc23","32 pp.","https://www.garethstevens.com/9781482460254",null,{"$f":"Table1[[#This Row],[QTY]]*Table1[[#This Row],['# Books]]","v":0},{"$f":"Table1[[#This Row],[QTY]]*Table1[[#This Row],[S&L Price]]","v":0}]
[null,17,34,"A Look at U.S. History",1,"The American Revolution","eBook",null,"978-1-4824-6026-1",{"$f":"HYPERLINK(Table1[[#This Row],[eCommerce Hyperlink]],\"Book Weblink\")","v":"Book Weblink"},null,"2018","August 2017",null,null,"Author","Peter Castellano",null,null,null,null,"J","840L","Grade 2","Grade 5 - 8","Understanding the events of the American Revolution is key to learning more about the history of the United States. When readers encounter this important topic in social studies classes, they often must be able to explain the causes, main events, and results of the war. Through simple explanations and language, this book gives readers of all levels an overview of these aspects of the Revolutionary War in a format perfect for test review or quick reference. A timeline helps readers keep events in order, and fact boxes explain more difficult terms and subject matter.","English",27.6,20.7,"973.3--dc23","32 pp.","https://www.garethstevens.com/9781482460261",null,{"$f":"Table1[[#This Row],[QTY]]*Table1[[#This Row],['# Books]]","v":0},{"$f":"Table1[[#This Row],[QTY]]*Table1[[#This Row],[S&L Price]]","v":0}]
[null,17,34,"A Look at U.S. History",1,"The Articles of Confederation","Library Bound Book",null,"978-1-4824-6037-7",{"$f":"HYPERLINK(Table1[[#This Row],[eCommerce Hyperlink]],\"Book Weblink\")","v":"Book Weblink"},null,"2018","August 2017","Library","6.500 X 9.125","Author","Bray Jacobson","5.7","0.5",null,null,"J","940L","Grade 2","Grade 5 - 8","It can be confusing to learn that the U.S. Constitution wasn't the first document governing the United States. The Articles of Confederation was a problematic document, and the social studies curriculum commonly asks students to understand why and its effect on the Constitution. This volume summarizes the writing of the Articles as well as its problems for readers unfamiliar with the document or in need of reviewing it. Key definitions and explanations are offered in short fact boxes, ensuring that readers of all levels can understand the Articles of Confederation.","English",27.6,20.7,"342.7302--dc23","32 pp.","https://www.garethstevens.com/9781482460377",null,{"$f":"Table1[[#This Row],[QTY]]*Table1[[#This Row],['# Books]]","v":0},{"$f":"Table1[[#This Row],[QTY]]*Table1[[#This Row],[S&L Price]]","v":0}]
[null,17,34,"A Look at U.S. History",1,"The Articles of Confederation","eBook",null,"978-1-4824-6038-4",{"$f":"HYPERLINK(Table1[[#This Row],[eCommerce Hyperlink]],\"Book Weblink\")","v":"Book Weblink"},null,"2018","August 2017",null,null,"Author","Bray Jacobson","5.7","0.5",null,null,"J","940L","Grade 2","Grade 5 - 8","It can be confusing to learn that the U.S. Constitution wasn't the first document governing the United States. The Articles of Confederation was a problematic document, and the social studies curriculum commonly asks students to understand why and its effect on the Constitution. This volume summarizes the writing of the Articles as well as its problems for readers unfamiliar with the document or in need of reviewing it. Key definitions and explanations are offered in short fact boxes, ensuring that readers of all levels can understand the Articles of Confederation.","English",27.6,20.7,"342.7302--dc23","32 pp.","https://www.garethstevens.com/9781482460384",null,{"$f":"Table1[[#This Row],[QTY]]*Table1[[#This Row],['# Books]]","v":0},{"$f":"Table1[[#This Row],[QTY]]*Table1[[#This Row],[S&L Price]]","v":0}]
[null,17,34,"A Look at U.S. History",1,"The Civil War","Library Bound Book",null,"978-1-4824-6029-2",{"$f":"HYPERLINK(Table1[[#This Row],[eCommerce Hyperlink]],\"Book Weblink\")","v":"Book Weblink"},null,"2018","August 2017","Library","6.500 X 9.125","Author","Peter Castellano","5.3","0.5",null,null,"J","860L","Grade 2","Grade 5 - 8","The Civil War is a major part of the social studies curriculum. However, it can be overwhelming to cover the causes of the war, its main events, and the immediate results. This book summarizes the most important points of the Civil War in an accessible way appropriate for many reading levels. Fact boxes explain key terms and add crucial details to the main content. Historical images and a concluding timeline help both new readers and those reviewing the topic to better understand a complex sequence of events easily.","English",27.6,20.7,"973.7--dc23","32 pp.","https://www.garethstevens.com/9781482460292",null,{"$f":"Table1[[#This Row],[QTY]]*Table1[[#This Row],['# Books]]","v":0},{"$f":"Table1[[#This Row],[QTY]]*Table1[[#This Row],[S&L Price]]","v":0}]
[null,17,34,"A Look at U.S. History",1,"The Civil War","eBook",null,"978-1-4824-6030-8",{"$f":"HYPERLINK(Table1[[#This Row],[eCommerce Hyperlink]],\"Book Weblink\")","v":"Book Weblink"},null,"2018","August 2017",null,null,"Author","Peter Castellano","5.3","0.5",null,null,"J","860L","Grade 2","Grade 5 - 8","The Civil War is a major part of the social studies curriculum. However, it can be overwhelming to cover the causes of the war, its main events, and the immediate results. This book summarizes the most important points of the Civil War in an accessible way appropriate for many reading levels. Fact boxes explain key terms and add crucial details to the main content. Historical images and a concluding timeline help both new readers and those reviewing the topic to better understand a complex sequence of events easily.","English",27.6,20.7,"973.7--dc23","32 pp.","https://www.garethstevens.com/9781482460308",null,{"$f":"Table1[[#This Row],[QTY]]*Table1[[#This Row],['# Books]]","v":0},{"$f":"Table1[[#This Row],[QTY]]*Table1[[#This Row],[S&L Price]]","v":0}]
[null,17,34,"A Look at U.S. History",1,"The Declaration of Independence","Library Bound Book",null,"978-1-4824-6033-9",{"$f":"HYPERLINK(Table1[[#This Row],[eCommerce Hyperlink]],\"Book Weblink\")","v":"Book Weblink"},null,"2018","August 2017","Library","6.500 X 9.125","Author","Peter Castellano","5.5","0.5",null,null,"J","940L","Grade 2","Grade 5 - 8","Not only did the Declaration of Independence help set U.S. history in motion, the document was influential to other revolutions around the world. Therefore, it's crucial to understand the meaning of the Declaration of Independence in order to continue exploring the social studies curriculum. Readers are presented with the most important aspects of the document, including why it was written, the writing process, and its impact on American independence. Written in simple language, this volume will be useful in test review or as an introduction to the history of the Declaration of Independence.","English",27.6,20.7,"973.3'13--dc23","32 pp.","https://www.garethstevens.com/9781482460339",null,{"$f":"Table1[[#This Row],[QTY]]*Table1[[#This Row],['# Books]]","v":0},{"$f":"Table1[[#This Row],[QTY]]*Table1[[#This Row],[S&L Price]]","v":0}]
[null,17,34,"A Look at U.S. History",1,"The Declaration of Independence","eBook",null,"978-1-4824-6034-6",{"$f":"HYPERLINK(Table1[[#This Row],[eCommerce Hyperlink]],\"Book Weblink\")","v":"Book Weblink"},null,"2018","August 2017",null,null,"Author","Peter Castellano","5.5","0.5",null,null,"J","940L","Grade 2","Grade 5 - 8","Not only did the Declaration of Independence help set U.S. history in motion, the document was influential to other revolutions around the world. Therefore, it's crucial to understand the meaning of the Declaration of Independence in order to continue exploring the social studies curriculum. Readers are presented with the most important aspects of the document, including why it was written, the writing process, and its impact on American independence. Written in simple language, this volume will be useful in test review or as an introduction to the history of the Declaration of Independence.","English",27.6,20.7,"973.3'13--dc23","32 pp.","https://www.garethstevens.com/9781482460346",null,{"$f":"Table1[[#This Row],[QTY]]*Table1[[#This Row],['# Books]]","v":0},{"$f":"Table1[[#This Row],[QTY]]*Table1[[#This Row],[S&L Price]]","v":0}]
[null,17,34,"A Look at U.S. History",1,"The Bill of Rights","Library Bound Book",null,"978-1-5382-2115-0",{"$f":"HYPERLINK(Table1[[#This Row],[eCommerce Hyperlink]],\"Book Weblink\")","v":"Book Weblink"},null,"2019","August 2018","Library","6.500 X 9.125","Author","Seth Lynch","5.6","0.5",null,null,"J",null,"Grade 2","Grade 5 - 8","Though it was written more than 200 years ago, the first 10 amendments included in the Bill of Rights are still being interpreted today. Understanding how these additions to the Constitution came about is a key topic of the social studies curriculum, and it's also essential for understanding the modern political conversation. All readers can benefit from the concise explanation of why the Bill of Rights was written and what each amendment states. Students struggling with reading are better able to grasp knowledge needed in the classroom by using this excellent volume as a review.","English",27.6,20.7,"342.7308'5--dc23","32 pp.","https://www.garethstevens.com/9781538221150",null,{"$f":"Table1[[#This Row],[QTY]]*Table1[[#This Row],['# Books]]","v":0},{"$f":"Table1[[#This Row],[QTY]]*Table1[[#This Row],[S&L Price]]","v":0}]
[null,17,34,"A Look at U.S. History",1,"The Bill of Rights","eBook",null,"978-1-5382-2116-7",{"$f":"HYPERLINK(Table1[[#This Row],[eCommerce Hyperlink]],\"Book Weblink\")","v":"Book Weblink"},null,"2019","August 2018",null,null,"Author","Seth Lynch","5.6","0.5",null,null,"J",null,"Grade 2","Grade 5 - 8","Though it was written more than 200 years ago, the first 10 amendments included in the Bill of Rights are still being interpreted today. Understanding how these additions to the Constitution came about is a key topic of the social studies curriculum, and it's also essential for understanding the modern political conversation. All readers can benefit from the concise explanation of why the Bill of Rights was written and what each amendment states. Students struggling with reading are better able to grasp knowledge needed in the classroom by using this excellent volume as a review.","English",27.6,20.7,"342.7308'5--dc23","32 pp.","https://www.garethstevens.com/9781538221167",null,{"$f":"Table1[[#This Row],[QTY]]*Table1[[#This Row],['# Books]]","v":0},{"$f":"Table1[[#This Row],[QTY]]*Table1[[#This Row],[S&L Price]]","v":0}]
[null,17,34,"A Look at U.S. History",1,"The Emancipation Proclamation","Library Bound Book",null,"978-1-5382-2119-8",{"$f":"HYPERLINK(Table1[[#This Row],[eCommerce Hyperlink]],\"Book Weblink\")","v":"Book Weblink"},null,"2019","August 2018","Library","6.500 X 9.125","Author","Seth Lynch","5.8","0.5",null,null,"J",null,"Grade 2","Grade 5 - 8","In 1862, the American Civil War was underway, actively tearing the United States apart. At the start of the war, President Abraham Lincoln's main goal was preserving the Union, but he was now ready to make a stand on slavery. The Emancipation Proclamation was one of the most important documents of its time, but its contents can be confusing. This volume gives readers context for the proclamation, as well as explains what it says and its results, in uncomplicated language appropriate for those reading below level and those looking for a review of this subject.","English",27.6,20.7,"973.7092--dc23","32 pp.","https://www.garethstevens.com/9781538221198",null,{"$f":"Table1[[#This Row],[QTY]]*Table1[[#This Row],['# Books]]","v":0},{"$f":"Table1[[#This Row],[QTY]]*Table1[[#This Row],[S&L Price]]","v":0}]
[null,17,34,"A Look at U.S. History",1,"The Emancipation Proclamation","eBook",null,"978-1-5382-2120-4",{"$f":"HYPERLINK(Table1[[#This Row],[eCommerce Hyperlink]],\"Book Weblink\")","v":"Book Weblink"},null,"2019","August 2018",null,null,"Author","Seth Lynch","5.8","0.5",null,null,"J",null,"Grade 2","Grade 5 - 8","In 1862, the American Civil War was underway, actively tearing the United States apart. At the start of the war, President Abraham Lincoln's main goal was preserving the Union, but he was now ready to make a stand on slavery. The Emancipation Proclamation was one of the most important documents of its time, but its contents can be confusing. This volume gives readers context for the proclamation, as well as explains what it says and its results, in uncomplicated language appropriate for those reading below level and those looking for a review of this subject.","English",27.6,20.7,"973.7092--dc23","32 pp.","https://www.garethstevens.com/9781538221204",null,{"$f":"Table1[[#This Row],[QTY]]*Table1[[#This Row],['# Books]]","v":0},{"$f":"Table1[[#This Row],[QTY]]*Table1[[#This Row],[S&L Price]]","v":0}]
[null,17,34,"A Look at U.S. History",1,"The French and Indian War","Library Bound Book",null,"978-1-5382-2123-5",{"$f":"HYPERLINK(Table1[[#This Row],[eCommerce Hyperlink]],\"Book Weblink\")","v":"Book Weblink"},null,"2019","August 2018","Library","6.500 X 9.125","Author","Seth Lynch","5.5","0.5",null,null,"J",null,"Grade 2","Grade 5 - 8","The French and Indian War was just one part of a global conflict between France and Great Britain and their allies. However, for U.S. citizens, it marked the beginning of the revolutionary era. As one of the causes of the American Revolution, the French and Indian War is a staple of social studies curriculums. In this volume, its complexities are pared down to the most important facts to give struggling readers a better chance to understand them. A concluding timeline provides all readers a way to review the major points of this history-making war.","English",27.6,20.7,"973.2/6--dc23","32 pp.","https://www.garethstevens.com/9781538221235",null,{"$f":"Table1[[#This Row],[QTY]]*Table1[[#This Row],['# Books]]","v":0},{"$f":"Table1[[#This Row],[QTY]]*Table1[[#This Row],[S&L Price]]","v":0}]
[null,17,34,"A Look at U.S. History",1,"The French and Indian War","eBook",null,"978-1-5382-2124-2",{"$f":"HYPERLINK(Table1[[#This Row],[eCommerce Hyperlink]],\"Book Weblink\")","v":"Book Weblink"},null,"2019","August 2018",null,null,"Author","Seth Lynch","5.5","0.5",null,null,"J",null,"Grade 2","Grade 5 - 8","The French and Indian War was just one part of a global conflict between France and Great Britain and their allies. However, for U.S. citizens, it marked the beginning of the revolutionary era. As one of the causes of the American Revolution, the French and Indian War is a staple of social studies curriculums. In this volume, its complexities are pared down to the most important facts to give struggling readers a better chance to understand them. A concluding timeline provides all readers a way to review the major points of this history-making war.","English",27.6,20.7,"973.2/6--dc23","32 pp.","https://www.garethstevens.com/9781538221242",null,{"$f":"Table1[[#This Row],[QTY]]*Table1[[#This Row],['# Books]]","v":0},{"$f":"Table1[[#This Row],[QTY]]*Table1[[#This Row],[S&L Price]]","v":0}]
[null,17,34,"A Look at U.S. History",1,"The Civil Rights Movement","Library Bound Book",null,"978-1-5382-4869-0",{"$f":"HYPERLINK(Table1[[#This Row],[eCommerce Hyperlink]],\"Book Weblink\")","v":"Book Weblink"},null,"2020","January 2020","Library","6.500 X 9.125","Author","John O'Mara",null,null,null,null,"J",null,"Grade 2","Grade 5 - 8","The rights of a nation's citizens are civil rights. In the 1950s and 1960s, black Americans organized a movement to demand these rights, including equal education, the right to vote, and many other freedoms. This significant and accessible volume takes readers through the key events of the movement, including its victories and disappointments. Central figures such as Martin Luther King, Jr. and Malcolm X are featured, and a timeline helps readers understand the movement's progression.","English",27.6,20.7,"323.1196'073--dc23","32 pp.","https://www.garethstevens.com/9781538248690",null,{"$f":"Table1[[#This Row],[QTY]]*Table1[[#This Row],['# Books]]","v":0},{"$f":"Table1[[#This Row],[QTY]]*Table1[[#This Row],[S&L Price]]","v":0}]
[null,17,34,"A Look at U.S. History",1,"The Civil Rights Movement","eBook",null,"978-1-5382-4870-6",{"$f":"HYPERLINK(Table1[[#This Row],[eCommerce Hyperlink]],\"Book Weblink\")","v":"Book Weblink"},null,"2020","January 2020",null,null,"Author","John O'Mara",null,null,null,null,"J",null,"Grade 2","Grade 5 - 8","The rights of a nation's citizens are civil rights. In the 1950s and 1960s, black Americans organized a movement to demand these rights, including equal education, the right to vote, and many other freedoms. This significant and accessible volume takes readers through the key events of the movement, including its victories and disappointments. Central figures such as Martin Luther King, Jr. and Malcolm X are featured, and a timeline helps readers understand the movement's progression.","English",27.6,20.7,"323.1196'073--dc23","32 pp.","https://www.garethstevens.com/9781538248706",null,{"$f":"Table1[[#This Row],[QTY]]*Table1[[#This Row],['# Books]]","v":0},{"$f":"Table1[[#This Row],[QTY]]*Table1[[#This Row],[S&L Price]]","v":0}]
[null,17,34,"A Look at U.S. History",1,"The Dust Bowl","Library Bound Book",null,"978-1-5382-4873-7",{"$f":"HYPERLINK(Table1[[#This Row],[eCommerce Hyperlink]],\"Book Weblink\")","v":"Book Weblink"},null,"2020","January 2020","Library","6.500 X 9.125","Author","Marie Roesser",null,null,null,null,"K",null,"Grade 2","Grade 5 - 8","Most people have at least seen a snowstorm on television, but imagine a storm of dust instead of snow. These were called \"black blizzards\" in the Dust Bowl, which was the name for the Great Plains of the United States during the 1930s. Readers will learn what transformed green farmland and lush grassland into a disaster area, forcing thousands to leave, and finally how the land was restored. Stunning photographs reflect the conditions, while Make the Grade fact boxes offer more information about this significant period in American history.","English",27.6,20.7,"978/.032--dc23","32 pp.","https://www.garethstevens.com/9781538248737",null,{"$f":"Table1[[#This Row],[QTY]]*Table1[[#This Row],['# Books]]","v":0},{"$f":"Table1[[#This Row],[QTY]]*Table1[[#This Row],[S&L Price]]","v":0}]
[null,17,34,"A Look at U.S. History",1,"The Dust Bowl","eBook",null,"978-1-5382-4874-4",{"$f":"HYPERLINK(Table1[[#This Row],[eCommerce Hyperlink]],\"Book Weblink\")","v":"Book Weblink"},null,"2020","January 2020",null,null,"Author","Marie Roesser",null,null,null,null,"K",null,"Grade 2","Grade 5 - 8","Most people have at least seen a snowstorm on television, but imagine a storm of dust instead of snow. These were called \"black blizzards\" in the Dust Bowl, which was the name for the Great Plains of the United States during the 1930s. Readers will learn what transformed green farmland and lush grassland into a disaster area, forcing thousands to leave, and finally how the land was restored. Stunning photographs reflect the conditions, while Make the Grade fact boxes offer more information about this significant period in American history.","English",27.6,20.7,"978/.032--dc23","32 pp.","https://www.garethstevens.com/9781538248744",null,{"$f":"Table1[[#This Row],[QTY]]*Table1[[#This Row],['# Books]]","v":0},{"$f":"Table1[[#This Row],[QTY]]*Table1[[#This Row],[S&L Price]]","v":0}]
[null,null,36,"A Look at Ancient Civilizations",6,"A Look at Ancient Civilizations","Library Set",null,"978-1-5382-3009-1",{"$f":"HYPERLINK(Table1[[#This Row],[eCommerce Hyperlink]],\"Book Weblink\")","v":"Book Weblink"},null,"2019","January 2019","Library","6.500 X 9.125",null,null,null,null,null,null,null,null,"Grade 2","Grade 5 - 8","When study of ancient world cultures begins, students are expected to have the skills to read independently about and understand Ancient Indian society, Ancient Chinese conquests, and the art of Ancient Greece. Some students may find this challenging as they struggle to read at the level of these curriculum topics. Written with these readers in mind, this series gives an overview of the often-studied civilizations of Mesopotamia, Rome, and Egypt. Important events, people, and dates are highlighted in the main content, as well as major cultural achievements. Historical images further illustrate the civilizations of our world's past. Features include: Expanded glossaries allow for inclusion of vocabulary integral to social studies topics. Fact boxes on each spread further explain difficult topics and expound on main content information. Concluding timelines allow readers an additional way to review what they need to know.","English",165.6,124.2,null,"32 pp.","https://www.garethstevens.com/9781538230091",null,{"$f":"Table1[[#This Row],[QTY]]*Table1[[#This Row],['# Books]]","v":0},{"$f":"Table1[[#This Row],[QTY]]*Table1[[#This Row],[S&L Price]]","v":0}]
[null,null,36,"A Look at Ancient Civilizations",1,"Ancient China","Library Bound Book",null,"978-1-5382-3004-6",{"$f":"HYPERLINK(Table1[[#This Row],[eCommerce Hyperlink]],\"Book Weblink\")","v":"Book Weblink"},null,"2019","January 2019","Library","6.500 X 9.125","Author","Daniel R. Faust",null,null,null,null,"J","890L","Grade 2","Grade 5 - 8","China is unique among the four great ancient civilizations in that it has changed very little over the millennia. Unlike India, Egypt, and Mesopotamia, China's impassable mountains and vast deserts protected China from invasion. Free from foreign interference, China's great dynasties, like the Qin and the Han, flourished. Many of the things we associate with modern China, like the Great Wall, expensive silks, and beautiful calligraphy, all date to ancient times. Help your struggling readers better understand ancient history with this accessible text. Full-color photographs, maps, and a timeline of important events provide additional context.","English",27.6,20.7,"931--dc23","32 pp.","https://www.garethstevens.com/9781538230046",null,{"$f":"Table1[[#This Row],[QTY]]*Table1[[#This Row],['# Books]]","v":0},{"$f":"Table1[[#This Row],[QTY]]*Table1[[#This Row],[S&L Price]]","v":0}]
[null,null,36,"A Look at Ancient Civilizations",1,"Ancient China","eBook",null,"978-1-5382-3106-7",{"$f":"HYPERLINK(Table1[[#This Row],[eCommerce Hyperlink]],\"Book Weblink\")","v":"Book Weblink"},null,"2019","January 2019",null,null,"Author","Daniel R. Faust",null,null,null,null,"J","890L","Grade 2","Grade 5 - 8","China is unique among the four great ancient civilizations in that it has changed very little over the millennia. Unlike India, Egypt, and Mesopotamia, China's impassable mountains and vast deserts protected China from invasion. Free from foreign interference, China's great dynasties, like the Qin and the Han, flourished. Many of the things we associate with modern China, like the Great Wall, expensive silks, and beautiful calligraphy, all date to ancient times. Help your struggling readers better understand ancient history with this accessible text. Full-color photographs, maps, and a timeline of important events provide additional context.","English",27.6,20.7,"931--dc23","32 pp.","https://www.garethstevens.com/9781538231067",null,{"$f":"Table1[[#This Row],[QTY]]*Table1[[#This Row],['# Books]]","v":0},{"$f":"Table1[[#This Row],[QTY]]*Table1[[#This Row],[S&L Price]]","v":0}]
[null,null,36,"A Look at Ancient Civilizations",1,"Ancient Egypt","Library Bound Book",null,"978-1-5382-3005-3",{"$f":"HYPERLINK(Table1[[#This Row],[eCommerce Hyperlink]],\"Book Weblink\")","v":"Book Weblink"},null,"2019","January 2019","Library","6.500 X 9.125","Author","Daniel R. Faust",null,null,null,null,"J","930L","Grade 2","Grade 5 - 8","How were the Great Pyramids built? Why were certain people turned into mummies? Readers journey down the Nile River into the heart of ancient Egypt and find out the answers. From the magnificent temples to the mysterious Sphinx, ancient Egypt has fascinated professional and amateur historians for centuries. Accessible text and full-color photographs guide readers through the rise and fall of one of the world's earliest civilizations. Maps, biographies of key figures, and a timeline of important dates support the text and provide additional information.","English",27.6,20.7,"932--dc23","32 pp.","https://www.garethstevens.com/9781538230053",null,{"$f":"Table1[[#This Row],[QTY]]*Table1[[#This Row],['# Books]]","v":0},{"$f":"Table1[[#This Row],[QTY]]*Table1[[#This Row],[S&L Price]]","v":0}]
[null,null,36,"A Look at Ancient Civilizations",1,"Ancient Egypt","eBook",null,"978-1-5382-3107-4",{"$f":"HYPERLINK(Table1[[#This Row],[eCommerce Hyperlink]],\"Book Weblink\")","v":"Book Weblink"},null,"2019","January 2019",null,null,"Author","Daniel R. Faust",null,null,null,null,"J","930L","Grade 2","Grade 5 - 8","How were the Great Pyramids built? Why were certain people turned into mummies? Readers journey down the Nile River into the heart of ancient Egypt and find out the answers. From the magnificent temples to the mysterious Sphinx, ancient Egypt has fascinated professional and amateur historians for centuries. Accessible text and full-color photographs guide readers through the rise and fall of one of the world's earliest civilizations. Maps, biographies of key figures, and a timeline of important dates support the text and provide additional information.","English",27.6,20.7,"932--dc23","32 pp.","https://www.garethstevens.com/9781538231074",null,{"$f":"Table1[[#This Row],[QTY]]*Table1[[#This Row],['# Books]]","v":0},{"$f":"Table1[[#This Row],[QTY]]*Table1[[#This Row],[S&L Price]]","v":0}]
[null,null,36,"A Look at Ancient Civilizations",1,"Ancient Greece","Library Bound Book",null,"978-1-5382-3006-0",{"$f":"HYPERLINK(Table1[[#This Row],[eCommerce Hyperlink]],\"Book Weblink\")","v":"Book Weblink"},null,"2019","January 2019","Library","6.500 X 9.125","Author","Daniel R. Faust",null,null,null,null,"J","970L","Grade 2","Grade 5 - 8","From art and architecture to politics, philosophy, and mathematics, \"western civilization\" owes a great deal to the achievements of ancient Greece, but what do we really know about this long-gone civilization? How did geography influence the politics of the Greek city-states? What's the difference between an agora and an acropolis? This book takes readers several thousand years into the past, when independent city-states ruled the Mediterranean Sea, to find the answers. Full-color photographs and maps, accompanied by accessible text, introduce readers to the many contributions the ancient Greeks have made to our modern society.","English",27.6,20.7,"938--dc23","32 pp.","https://www.garethstevens.com/9781538230060",null,{"$f":"Table1[[#This Row],[QTY]]*Table1[[#This Row],['# Books]]","v":0},{"$f":"Table1[[#This Row],[QTY]]*Table1[[#This Row],[S&L Price]]","v":0}]
[null,null,36,"A Look at Ancient Civilizations",1,"Ancient Greece","eBook",null,"978-1-5382-3108-1",{"$f":"HYPERLINK(Table1[[#This Row],[eCommerce Hyperlink]],\"Book Weblink\")","v":"Book Weblink"},null,"2019","January 2019",null,null,"Author","Daniel R. Faust",null,null,null,null,"J","970L","Grade 2","Grade 5 - 8","From art and architecture to politics, philosophy, and mathematics, \"western civilization\" owes a great deal to the achievements of ancient Greece, but what do we really know about this long-gone civilization? How did geography influence the politics of the Greek city-states? What's the difference between an agora and an acropolis? This book takes readers several thousand years into the past, when independent city-states ruled the Mediterranean Sea, to find the answers. Full-color photographs and maps, accompanied by accessible text, introduce readers to the many contributions the ancient Greeks have made to our modern society.","English",27.6,20.7,"938--dc23","32 pp.","https://www.garethstevens.com/9781538231081",null,{"$f":"Table1[[#This Row],[QTY]]*Table1[[#This Row],['# Books]]","v":0},{"$f":"Table1[[#This Row],[QTY]]*Table1[[#This Row],[S&L Price]]","v":0}]
[null,null,36,"A Look at Ancient Civilizations",1,"Ancient India","Library Bound Book",null,"978-1-5382-3003-9",{"$f":"HYPERLINK(Table1[[#This Row],[eCommerce Hyperlink]],\"Book Weblink\")","v":"Book Weblink"},null,"2019","January 2019","Library","6.500 X 9.125","Author","Daniel R. Faust",null,null,null,null,"J","890L","Grade 2","Grade 5 - 8","India is considered one of the great ancient civilizations of the Old World. From the earliest settlements along the Indus River to the golden age of the Gupta Empire, the cultural contributions of ancient India are an important component of the human story. Readers will travel back in time and witness how religion, art, and literature helped craft the India we know today. Maps, full-color photographs, and biographies of important historical figures will enhance the reading experience and engage reluctant and struggling readers.","English",27.6,20.7,"934--dc23","32 pp.","https://www.garethstevens.com/9781538230039",null,{"$f":"Table1[[#This Row],[QTY]]*Table1[[#This Row],['# Books]]","v":0},{"$f":"Table1[[#This Row],[QTY]]*Table1[[#This Row],[S&L Price]]","v":0}]
[null,null,36,"A Look at Ancient Civilizations",1,"Ancient India","eBook",null,"978-1-5382-3105-0",{"$f":"HYPERLINK(Table1[[#This Row],[eCommerce Hyperlink]],\"Book Weblink\")","v":"Book Weblink"},null,"2019","January 2019",null,null,"Author","Daniel R. Faust",null,null,null,null,"J","890L","Grade 2","Grade 5 - 8","India is considered one of the great ancient civilizations of the Old World. From the earliest settlements along the Indus River to the golden age of the Gupta Empire, the cultural contributions of ancient India are an important component of the human story. Readers will travel back in time and witness how religion, art, and literature helped craft the India we know today. Maps, full-color photographs, and biographies of important historical figures will enhance the reading experience and engage reluctant and struggling readers.","English",27.6,20.7,"934--dc23","32 pp.","https://www.garethstevens.com/9781538231050",null,{"$f":"Table1[[#This Row],[QTY]]*Table1[[#This Row],['# Books]]","v":0},{"$f":"Table1[[#This Row],[QTY]]*Table1[[#This Row],[S&L Price]]","v":0}]
[null,null,36,"A Look at Ancient Civilizations",1,"Ancient Mesopotamia","Library Bound Book",null,"978-1-5382-3007-7",{"$f":"HYPERLINK(Table1[[#This Row],[eCommerce Hyperlink]],\"Book Weblink\")","v":"Book Weblink"},null,"2019","January 2019","Library","6.500 X 9.125","Author","Daniel R. Faust",null,null,null,null,"J","900L","Grade 2","Grade 5 - 8","Located between the Tigris and Euphrates Rivers in modern-day Iraq, the region known as Mesopotamia, Greek for \"between two rivers,\" is often called the \"cradle of civilization.\" The region is known for the rise of the first cities, as well as the invention of writing. Readers will discover that the various empires of the region, like Babylon and Sumer, made many important contributions to law, politics, mathematics, and agriculture. Simple text and full-color photographs will engage struggling and reluctant readers alike. Maps and a timeline of key dates provide additional information.","English",27.6,20.7,"935--dc23","32 pp.","https://www.garethstevens.com/9781538230077",null,{"$f":"Table1[[#This Row],[QTY]]*Table1[[#This Row],['# Books]]","v":0},{"$f":"Table1[[#This Row],[QTY]]*Table1[[#This Row],[S&L Price]]","v":0}]
[null,null,36,"A Look at Ancient Civilizations",1,"Ancient Mesopotamia","eBook",null,"978-1-5382-3109-8",{"$f":"HYPERLINK(Table1[[#This Row],[eCommerce Hyperlink]],\"Book Weblink\")","v":"Book Weblink"},null,"2019","January 2019",null,null,"Author","Daniel R. Faust",null,null,null,null,"J","900L","Grade 2","Grade 5 - 8","Located between the Tigris and Euphrates Rivers in modern-day Iraq, the region known as Mesopotamia, Greek for \"between two rivers,\" is often called the \"cradle of civilization.\" The region is known for the rise of the first cities, as well as the invention of writing. Readers will discover that the various empires of the region, like Babylon and Sumer, made many important contributions to law, politics, mathematics, and agriculture. Simple text and full-color photographs will engage struggling and reluctant readers alike. Maps and a timeline of key dates provide additional information.","English",27.6,20.7,"935--dc23","32 pp.","https://www.garethstevens.com/9781538231098",null,{"$f":"Table1[[#This Row],[QTY]]*Table1[[#This Row],['# Books]]","v":0},{"$f":"Table1[[#This Row],[QTY]]*Table1[[#This Row],[S&L Price]]","v":0}]
[null,null,36,"A Look at Ancient Civilizations",1,"Ancient Rome","Library Bound Book",null,"978-1-5382-3008-4",{"$f":"HYPERLINK(Table1[[#This Row],[eCommerce Hyperlink]],\"Book Weblink\")","v":"Book Weblink"},null,"2019","January 2019","Library","6.500 X 9.125","Author","Daniel R. Faust",null,null,null,null,"J","940L","Grade 2","Grade 5 - 8","All roads lead to Rome. Or they did. What had started as a small town on the Tiber River in central Italy would eventually grow to become a vast empire covering most of the known world, including England, western Europe, northern Africa, and western Asia. Although the Roman Empire fell in the 5th century, many of its accomplishments live on in our modern world. Readers will learn about the advancements Rome made in politics, architecture, law, and the arts. Accessible text is paired with full-color photographs, maps, and biographies of important historical figures.","English",27.6,20.7,"937--dc23","32 pp.","https://www.garethstevens.com/9781538230084",null,{"$f":"Table1[[#This Row],[QTY]]*Table1[[#This Row],['# Books]]","v":0},{"$f":"Table1[[#This Row],[QTY]]*Table1[[#This Row],[S&L Price]]","v":0}]
[null,null,36,"A Look at Ancient Civilizations",1,"Ancient Rome","eBook",null,"978-1-5382-3110-4",{"$f":"HYPERLINK(Table1[[#This Row],[eCommerce Hyperlink]],\"Book Weblink\")","v":"Book Weblink"},null,"2019","January 2019",null,null,"Author","Daniel R. Faust",null,null,null,null,"J","940L","Grade 2","Grade 5 - 8","All roads lead to Rome. Or they did. What had started as a small town on the Tiber River in central Italy would eventually grow to become a vast empire covering most of the known world, including England, western Europe, northern Africa, and western Asia. Although the Roman Empire fell in the 5th century, many of its accomplishments live on in our modern world. Readers will learn about the advancements Rome made in politics, architecture, law, and the arts. Accessible text is paired with full-color photographs, maps, and biographies of important historical figures.","English",27.6,20.7,"937--dc23","32 pp.","https://www.garethstevens.com/9781538231104",null,{"$f":"Table1[[#This Row],[QTY]]*Table1[[#This Row],['# Books]]","v":0},{"$f":"Table1[[#This Row],[QTY]]*Table1[[#This Row],[S&L Price]]","v":0}]
[null,null,36,"A Look at U.S. Elections",6,"A Look at U.S. Elections","Library Set",null,"978-1-5382-5973-3",{"$f":"HYPERLINK(Table1[[#This Row],[eCommerce Hyperlink]],\"Book Weblink\")","v":"Book Weblink"},null,"2021","August 2020","Library","6.500 X 9.125",null,null,null,null,null,null,null,null,"Grade 2","Grade 5 - 8","Getting voters to the polls starts with educating people on how elections work and why they are important. While readers of these engaging volumes may not be old enough to vote in elections yet, they're never too young to start learning about them. From primaries and general elections to voting laws that changed history and the most famous presidential elections, this set offers a comprehensive guide to the past and present American voting process. Features include: Highlights the importance of civic responsibility, especially voting. Covers important curriculum topics including history and government. Fact boxes and photographs further clarify central concepts.","English",165.6,124.2,null,"32 pp.","https://www.garethstevens.com/9781538259733",null,{"$f":"Table1[[#This Row],[QTY]]*Table1[[#This Row],['# Books]]","v":0},{"$f":"Table1[[#This Row],[QTY]]*Table1[[#This Row],[S&L Price]]","v":0}]
[null,null,36,"A Look at U.S. Elections",1,"Famous Presidential Elections","Library Bound Book",null,"978-1-5382-5968-9",{"$f":"HYPERLINK(Table1[[#This Row],[eCommerce Hyperlink]],\"Book Weblink\")","v":"Book Weblink"},null,"2021","August 2020","Library","6.500 X 9.125","Author","Kathryn Wesgate",null,null,null,null,"K",null,"Grade 2","Grade 5 - 8","The first presidential election in the United States was carried out in a very different way than elections as we know them today. Over the years there have been many prominent and memorable elections to decide the president. The history of presidential elections is ripe with terrific stories. Written at a low reading level, this accessible guide uses simple language to reinforce key social studies concepts that are central to upper elementary curricula. Full-color photographs and engaging fact boxes offer further information and support a strong comprehension of the material.","English",27.6,20.7,"324.6'3--dc23","32 pp.","https://www.garethstevens.com/9781538259689",null,{"$f":"Table1[[#This Row],[QTY]]*Table1[[#This Row],['# Books]]","v":0},{"$f":"Table1[[#This Row],[QTY]]*Table1[[#This Row],[S&L Price]]","v":0}]
[null,null,36,"A Look at U.S. Elections",1,"Famous Presidential Elections","eBook",null,"978-1-5382-5969-6",{"$f":"HYPERLINK(Table1[[#This Row],[eCommerce Hyperlink]],\"Book Weblink\")","v":"Book Weblink"},null,"2021","August 2020",null,null,"Author","Kathryn Wesgate",null,null,null,null,"K",null,"Grade 2","Grade 5 - 8","The first presidential election in the United States was carried out in a very different way than elections as we know them today. Over the years there have been many prominent and memorable elections to decide the president. The history of presidential elections is ripe with terrific stories. Written at a low reading level, this accessible guide uses simple language to reinforce key social studies concepts that are central to upper elementary curricula. Full-color photographs and engaging fact boxes offer further information and support a strong comprehension of the material.","English",27.6,20.7,"324.6'3--dc23","32 pp.","https://www.garethstevens.com/9781538259696",null,{"$f":"Table1[[#This Row],[QTY]]*Table1[[#This Row],['# Books]]","v":0},{"$f":"Table1[[#This Row],[QTY]]*Table1[[#This Row],[S&L Price]]","v":0}]
[null,null,36,"A Look at U.S. Elections",1,"How Does Voting Work?","Library Bound Book",null,"978-1-5382-5960-3",{"$f":"HYPERLINK(Table1[[#This Row],[eCommerce Hyperlink]],\"Book Weblink\")","v":"Book Weblink"},null,"2021","August 2020","Library","6.500 X 9.125","Author","Kathryn Wesgate",null,null,null,null,"K",null,"Grade 2","Grade 5 - 8","Even for adults, elections can be difficult to fully understand. How do you register to vote? What happens at the polls? How do you know whom to vote for? This compelling volume provides the answers to these questions and many more through an accessible narrative, captivating photographs, and attention-grabbing fact boxes. Written at a low reading level, this book offers a simple overview of important curriculum topics for upper elementary struggling readers.","English",27.6,20.7,"324.6/50973--dc23","32 pp.","https://www.garethstevens.com/9781538259603",null,{"$f":"Table1[[#This Row],[QTY]]*Table1[[#This Row],['# Books]]","v":0},{"$f":"Table1[[#This Row],[QTY]]*Table1[[#This Row],[S&L Price]]","v":0}]
[null,null,36,"A Look at U.S. Elections",1,"How Does Voting Work?","eBook",null,"978-1-5382-5961-0",{"$f":"HYPERLINK(Table1[[#This Row],[eCommerce Hyperlink]],\"Book Weblink\")","v":"Book Weblink"},null,"2021","August 2020",null,null,"Author","Kathryn Wesgate",null,null,null,null,"K",null,"Grade 2","Grade 5 - 8","Even for adults, elections can be difficult to fully understand. How do you register to vote? What happens at the polls? How do you know whom to vote for? This compelling volume provides the answers to these questions and many more through an accessible narrative, captivating photographs, and attention-grabbing fact boxes. Written at a low reading level, this book offers a simple overview of important curriculum topics for upper elementary struggling readers.","English",27.6,20.7,"324.6/50973--dc23","32 pp.","https://www.garethstevens.com/9781538259610",null,{"$f":"Table1[[#This Row],[QTY]]*Table1[[#This Row],['# Books]]","v":0},{"$f":"Table1[[#This Row],[QTY]]*Table1[[#This Row],[S&L Price]]","v":0}]
[null,null,36,"A Look at U.S. Elections",1,"Landmark Voting Laws","Library Bound Book",null,"978-1-5382-5964-1",{"$f":"HYPERLINK(Table1[[#This Row],[eCommerce Hyperlink]],\"Book Weblink\")","v":"Book Weblink"},null,"2021","August 2020","Library","6.500 X 9.125","Author","Kathryn Wesgate",null,null,null,null,"K",null,"Grade 2","Grade 5 - 8","If it weren't for some very significant moments in history, elections would look quite different than they do today. Readers will learn about some of the most important voting laws in the United States, from laws set forth in the Constitution to the key amendments that changed them. Readers learn about landmark legislation that changed history and shaped what the United States has become, such as the Voting Rights Act of 1965. Accessible text supports readers of all levels in understanding this key topic of the upper elementary curriculum.","English",27.6,20.7,"342.73/07--dc23","32 pp.","https://www.garethstevens.com/9781538259641",null,{"$f":"Table1[[#This Row],[QTY]]*Table1[[#This Row],['# Books]]","v":0},{"$f":"Table1[[#This Row],[QTY]]*Table1[[#This Row],[S&L Price]]","v":0}]
[null,null,36,"A Look at U.S. Elections",1,"Landmark Voting Laws","eBook",null,"978-1-5382-5965-8",{"$f":"HYPERLINK(Table1[[#This Row],[eCommerce Hyperlink]],\"Book Weblink\")","v":"Book Weblink"},null,"2021","August 2020",null,null,"Author","Kathryn Wesgate",null,null,null,null,"K",null,"Grade 2","Grade 5 - 8","If it weren't for some very significant moments in history, elections would look quite different than they do today. Readers will learn about some of the most important voting laws in the United States, from laws set forth in the Constitution to the key amendments that changed them. Readers learn about landmark legislation that changed history and shaped what the United States has become, such as the Voting Rights Act of 1965. Accessible text supports readers of all levels in understanding this key topic of the upper elementary curriculum.","English",27.6,20.7,"342.73/07--dc23","32 pp.","https://www.garethstevens.com/9781538259658",null,{"$f":"Table1[[#This Row],[QTY]]*Table1[[#This Row],['# Books]]","v":0},{"$f":"Table1[[#This Row],[QTY]]*Table1[[#This Row],[S&L Price]]","v":0}]
[null,null,36,"A Look at U.S. Elections",1,"Primaries and Caucuses","eBook",null,"978-1-5382-5957-3",{"$f":"HYPERLINK(Table1[[#This Row],[eCommerce Hyperlink]],\"Book Weblink\")","v":"Book Weblink"},null,"2021","August 2020",null,null,"Author","Kathryn Wesgate",null,null,null,null,"K",null,"Grade 2","Grade 5 - 8","Many voters take part in general elections yet they're largely unaware of how primaries and caucuses work. Your readers will learn about the important processes that help select candidates. Struggling readers are able to utilize accessible text to learn about this key facet of the upper elementary social studies curriculum. Eye-catching photographs and educational fact boxes further illustrate important ideas and encourage readers to learn about politics at an early age.","English",27.6,20.7,"324.273/15--dc23","32 pp.","https://www.garethstevens.com/9781538259573",null,{"$f":"Table1[[#This Row],[QTY]]*Table1[[#This Row],['# Books]]","v":0},{"$f":"Table1[[#This Row],[QTY]]*Table1[[#This Row],[S&L Price]]","v":0}]
[null,null,36,"A Look at U.S. Elections",1,"The History of Political Parties","eBook",null,"978-1-5382-5949-8",{"$f":"HYPERLINK(Table1[[#This Row],[eCommerce Hyperlink]],\"Book Weblink\")","v":"Book Weblink"},null,"2021","August 2020",null,null,"Author","Kathryn Wesgate",null,null,null,null,"K",null,"Grade 2","Grade 5 - 8","Readers may know that the Democratic and Republican Parties are the two main political parties in the United States now, but that hasn't always been the case. The parties have also changed quite a bit over time. This informative volume helps readers learn about key facts, individuals, and events involved in the history of political parties in the United States. Accessible text helps struggling readers understand this crucial part of the upper elementary social studies curriculum.","English",27.6,20.7,"324.273--dc23","32 pp.","https://www.garethstevens.com/9781538259498",null,{"$f":"Table1[[#This Row],[QTY]]*Table1[[#This Row],['# Books]]","v":0},{"$f":"Table1[[#This Row],[QTY]]*Table1[[#This Row],[S&L Price]]","v":0}]
[null,null,36,"A Look at World History",1,"The Byzantine Empire","eBook",null,"978-1-5382-4133-2",{"$f":"HYPERLINK(Table1[[#This Row],[eCommerce Hyperlink]],\"Book Weblink\")","v":"Book Weblink"},null,"2020","August 2019",null,null,"Author","Mary Griffin",null,null,null,null,"K",null,"Grade 2","Grade 5 - 8","Byzantine art and architecture are admired throughout the world, but many people are less familiar with the influential empire that produced it. Young historians will learn about the world power that was born out of the Roman Empire and lasted nearly 1,000 years after Rome fell. They'll read about important rulers such as Justinian and Constantine and how the Crusades finally caused the destruction of the mighty domain. Aspects of culture such as religion, art, and architecture are explained and beautifully displayed in the featured full-color artwork.","English",27.6,20.7,"949.5/02--dc23","32 pp.","https://www.garethstevens.com/9781538241332",null,{"$f":"Table1[[#This Row],[QTY]]*Table1[[#This Row],['# Books]]","v":0},{"$f":"Table1[[#This Row],[QTY]]*Table1[[#This Row],[S&L Price]]","v":0}]
[null,null,36,"A Look at World History",1,"The Middle Ages","eBook",null,"978-1-5382-4141-7",{"$f":"HYPERLINK(Table1[[#This Row],[eCommerce Hyperlink]],\"Book Weblink\")","v":"Book Weblink"},null,"2020","August 2019",null,null,"Author","Marie Roesser",null,null,null,null,"J",null,"Grade 2","Grade 5 - 8","The Middles Ages aren't just an uninteresting period of history trapped between ancient times and the Renaissance, as the name suggests. It's 1,000 years of fascinating historical events, including the Crusades, the Black Death, and the longest war that has ever been fought. This comprehensible book takes young historians on the journey from the beginning of medieval times to the end. Maps, historical artwork, and a timeline help readers understand the essential moments of the Middle Ages.","English",27.6,20.7,"940.1--dc23","32 pp.","https://www.garethstevens.com/9781538241417",null,{"$f":"Table1[[#This Row],[QTY]]*Table1[[#This Row],['# Books]]","v":0},{"$f":"Table1[[#This Row],[QTY]]*Table1[[#This Row],[S&L Price]]","v":0}]
[null,18,37,"Superstars of Wrestling",1,"\"The American Nightmare\" Cody","Library Bound Book",null,"978-1-5382-6583-3",{"$f":"HYPERLINK(Table1[[#This Row],[eCommerce Hyperlink]],\"Book Weblink\")","v":"Book Weblink"},null,"2022","August 2021","Library","6.500 X 9.125","Author","Benjamin Proudfit",null,null,null,null,"J",null,"Grade 1 - 2","Grade 3 - 6","The son of pro wrestling legend Dusty Rhodes, Cody has wrestling in his blood. He wrestled for the WWE for many years before striking out as an indie wrestler. In 2019, he helped launch a new pro wrestling company, All-Elite Wrestling. His incredible story of pursuing a dream and working hard to make it happen will inspire readers. Lower-level text for a high-interest biography and full-color photographs from the span on Cody's career make this book a must-read for both sports fans and future entrepreneurs.","English",27.6,20.7,"796.812092","32 pp.","https://www.garethstevens.com/9781538265833",null,{"$f":"Table1[[#This Row],[QTY]]*Table1[[#This Row],['# Books]]","v":0},{"$f":"Table1[[#This Row],[QTY]]*Table1[[#This Row],[S&L Price]]","v":0}]
[null,18,37,"Superstars of Wrestling",1,"Kenny Omega","eBook",null,"978-1-5382-6592-5",{"$f":"HYPERLINK(Table1[[#This Row],[eCommerce Hyperlink]],\"Book Weblink\")","v":"Book Weblink"},null,"2022","August 2021",null,null,"Author","Benjamin Proudfit",null,null,null,null,"J",null,"Grade 1 - 2","Grade 3 - 6","As a member of Bullet Club, Kenny Omega became one of the biggest draws in the pro wrestling world. His matches with Okada in New Japan Pro Wrestling are considered by many to be some of the greatest of all time. How did Kenny Omega end up where he is today? Many fans may know his name, but not his backstory. Low-level text supported by full-color photographs of Kenny Omega's career take readers beyond the ring to learn how a young man from Canada became a wrestling superstar.","English",27.6,20.7,"796.812092","32 pp.","https://www.garethstevens.com/9781538265925",null,{"$f":"Table1[[#This Row],[QTY]]*Table1[[#This Row],['# Books]]","v":0},{"$f":"Table1[[#This Row],[QTY]]*Table1[[#This Row],[S&L Price]]","v":0}]
[null,18,37,"Superstars of Wrestling",1,"Seth Rollins","eBook",null,"978-1-5382-6604-5",{"$f":"HYPERLINK(Table1[[#This Row],[eCommerce Hyperlink]],\"Book Weblink\")","v":"Book Weblink"},null,"2022","August 2021",null,null,"Author","Benjamin Proudfit",null,null,null,null,"J",null,"Grade 1 - 2","Grade 3 - 6","From \"the architect\" to \"the king slayer,\" WWE superstar Seth Rollins has been known by some iconic nicknames. A staple in WWE main events for many years now, Rollins always brings a fire and persistence to his wrestling that fans appreciate and other wrestlers admire. But he started as just a kid from Iowa with a dream. This volume follows his path to the ring through his career as an indie wrestler to headlining WrestleMania, complete with full-color photographs of some of his best matches. Low-level text and an engaging tone draw in struggling and emerging readers.","English",27.6,20.7,"796.812092","32 pp.","https://www.garethstevens.com/9781538266045",null,{"$f":"Table1[[#This Row],[QTY]]*Table1[[#This Row],['# Books]]","v":0},{"$f":"Table1[[#This Row],[QTY]]*Table1[[#This Row],[S&L Price]]","v":0}]
[null,null,37,"Superstars of Wrestling",1,"Beth Phoenix","eBook",null,"978-1-4339-8515-7",{"$f":"HYPERLINK(Table1[[#This Row],[eCommerce Hyperlink]],\"Book Weblink\")","v":"Book Weblink"},null,"2013","January 2013",null,null,"Author","Ryan Nagelhout","2.7","0.5","16","16","I",null,"Grade 1","Grade 3 - 6","Winning a coloring contest was the spark that got Beth Phoenix into wrestling. Detailing her rise as a WWE Superstar, this book is sure to spark interest in any young reader. With full-color photographs, a detailed timeline of key events in Beth’s life, and easy-to-read chapters detailing her career and charity work, this book will satisfy even the most dedicated of wrestling fans.","English",27.6,20.7,"796.812092","32 pp.","https://www.garethstevens.com/9781433985157",null,{"$f":"Table1[[#This Row],[QTY]]*Table1[[#This Row],['# Books]]","v":0},{"$f":"Table1[[#This Row],[QTY]]*Table1[[#This Row],[S&L Price]]","v":0}]
[null,null,37,"Superstars of Wrestling",1,"Randy Orton","eBook",null,"978-1-4339-8534-8",{"$f":"HYPERLINK(Table1[[#This Row],[eCommerce Hyperlink]],\"Book Weblink\")","v":"Book Weblink"},null,"2013","January 2013",null,null,"Author","Ryan Nagelhout","2.8","0.5","16","16","I",null,"Grade 1","Grade 3 - 6","Randy Orton has wrestling in his DNA. The son of a WWE legend has made a name for himself in the ring. Detailing his rise as a WWE Superstar, this book is sure to spark interest in any young reader. Featuring full-color photographs, a detailed timeline of key events in Orton’s life, and easy-to-read chapters, this book will take readers from his early days watching his dad wrestle to starting a career of his own. It’s sure to satisfy even the most dedicated of wrestling fans.","English",27.6,20.7,"796.812092","32 pp.","https://www.garethstevens.com/9781433985348",null,{"$f":"Table1[[#This Row],[QTY]]*Table1[[#This Row],['# Books]]","v":0},{"$f":"Table1[[#This Row],[QTY]]*Table1[[#This Row],[S&L Price]]","v":0}]
[null,19,37,"Superstars of Wrestling",1,"Brock Lesnar","Library Bound Book",null,"978-1-5382-2095-5",{"$f":"HYPERLINK(Table1[[#This Row],[eCommerce Hyperlink]],\"Book Weblink\")","v":"Book Weblink"},null,"2019","August 2018","Library","6.500 X 9.125","Author","Benjamin Proudfit",null,null,null,null,"I",null,"Grade 1 - 2","Grade 3 - 6","Brock Lesnar is a name known throughout the sports world as a WWE superstar but also as a NCAA champion in amateur wrestling and a terrifyingly good MMA fighter in the UFC. Readers have a chance to follow his journey from the mat to the ring and then to the octagon in this fascinating look at the life of Brock Lesnar. Photographs from each phase of his career keep even reluctant readers turning pages to find out just how he became such a force in every sport he attempts.","English",27.6,20.7,"796.812092--dc23","32 pp.","https://www.garethstevens.com/9781538220955",null,{"$f":"Table1[[#This Row],[QTY]]*Table1[[#This Row],['# Books]]","v":0},{"$f":"Table1[[#This Row],[QTY]]*Table1[[#This Row],[S&L Price]]","v":0}]
[null,19,37,"Superstars of Wrestling",1,"Daniel Bryan","Library Bound Book",null,"978-1-5382-2103-7",{"$f":"HYPERLINK(Table1[[#This Row],[eCommerce Hyperlink]],\"Book Weblink\")","v":"Book Weblink"},null,"2019","August 2018","Library","6.500 X 9.125","Author","Benjamin Proudfit",null,null,null,null,"I",null,"Grade 1 - 2","Grade 3 - 6","When Daniel Bryan, aka Bryan Danielson, won the WWE World Heavyweight Championship at Wrestlemania XXX, his legacy as a fan favorite, talented athlete, and inspiring figure was cemented. A tough injury hasn't lessened his draw, though, with fans cheering his signature \"Yes!\" chant each time he appears. This book covers the life and career of one of the most beloved modern WWE superstars in age-appropriate language perfect for struggling readers. High-octane photographs of Daniel Bryan throughout his career only make the main text more exciting.","English",27.6,20.7,"796.812092--dc23","32 pp.","https://www.garethstevens.com/9781538221037",null,{"$f":"Table1[[#This Row],[QTY]]*Table1[[#This Row],['# Books]]","v":0},{"$f":"Table1[[#This Row],[QTY]]*Table1[[#This Row],[S&L Price]]","v":0}]
[null,19,37,"Superstars of Wrestling",1,"Daniel Bryan","eBook",null,"978-1-5382-2104-4",{"$f":"HYPERLINK(Table1[[#This Row],[eCommerce Hyperlink]],\"Book Weblink\")","v":"Book Weblink"},null,"2019","August 2018",null,null,"Author","Benjamin Proudfit",null,null,null,null,"I",null,"Grade 1 - 2","Grade 3 - 6","When Daniel Bryan, aka Bryan Danielson, won the WWE World Heavyweight Championship at Wrestlemania XXX, his legacy as a fan favorite, talented athlete, and inspiring figure was cemented. A tough injury hasn't lessened his draw, though, with fans cheering his signature \"Yes!\" chant each time he appears. This book covers the life and career of one of the most beloved modern WWE superstars in age-appropriate language perfect for struggling readers. High-octane photographs of Daniel Bryan throughout his career only make the main text more exciting.","English",27.6,20.7,"796.812092--dc23","32 pp.","https://www.garethstevens.com/9781538221044",null,{"$f":"Table1[[#This Row],[QTY]]*Table1[[#This Row],['# Books]]","v":0},{"$f":"Table1[[#This Row],[QTY]]*Table1[[#This Row],[S&L Price]]","v":0}]
[null,null,38,"Motorsports Maniacs",6,"Motorsports Maniacs","Library Set",null,"978-1-5382-4166-0",{"$f":"HYPERLINK(Table1[[#This Row],[eCommerce Hyperlink]],\"Book Weblink\")","v":"Book Weblink"},null,"2020","August 2019","Library","6.500 X 9.125",null,null,null,null,null,null,null,null,"Grade 1 - 2","Grade 3 - 6","Few things are as impressive as seeing cars compete to survive a demolition derby, or monster trucks crush obstacles in their way, or vehicles veer off course in an off-road race. That's why all these enthralling events are major attractions around the world. This sensational series takes readers to the sidelines of some wild motorsports. They'll learn the rules of each event, how to win, and some of the historic moments that spectators will never forget. Features include: Show-stopping photographs and intriguing fact boxes support the accessible text. High-interest topics were chosen for their appeal to a wide range of readers. Various text features, including graphic organizers, help readers locate important information, which is a key standard of the English Language Arts Common Core.","English",165.6,124.2,null,"32 pp.","https://www.garethstevens.com/9781538241660",null,{"$f":"Table1[[#This Row],[QTY]]*Table1[[#This Row],['# Books]]","v":0},{"$f":"Table1[[#This Row],[QTY]]*Table1[[#This Row],[S&L Price]]","v":0}]
[null,null,38,"Motorsports Maniacs",1,"Lawn Mower Racing","Library Bound Book",null,"978-1-5382-4088-5",{"$f":"HYPERLINK(Table1[[#This Row],[eCommerce Hyperlink]],\"Book Weblink\")","v":"Book Weblink"},null,"2020","August 2019","Library","6.500 X 9.125","Author","Kate Mikoley","4.8","0.5",null,null,"J",null,"Grade 1 - 2","Grade 3 - 6","Lawn mowers aren't just for cutting the grass anymore. With the help of this thrilling volume, readers of many ages and levels learn all about the fascinating and unique motorsport called lawn mower racing. Competitors in this sport take an average lawn mower and amp it up into a wild, racing machine. Simple and concise text is presented in a way that is captivating. Eye-popping photographs attract and hold attention. This high-interest volume will certainly be a popular addition to any library and classroom.","English",27.6,20.7,"629.228--dc23","32 pp.","https://www.garethstevens.com/9781538240885",null,{"$f":"Table1[[#This Row],[QTY]]*Table1[[#This Row],['# Books]]","v":0},{"$f":"Table1[[#This Row],[QTY]]*Table1[[#This Row],[S&L Price]]","v":0}]
[null,null,38,"Race for Your Life!",6,"Race for Your Life!","Library Set",null,"978-1-5382-5979-5",{"$f":"HYPERLINK(Table1[[#This Row],[eCommerce Hyperlink]],\"Book Weblink\")","v":"Book Weblink"},null,"2021","August 2020","Library","6.500 X 9.125",null,null,null,null,null,null,null,null,"Grade 1 - 2","Grade 3 - 6","There's nothing more amazing than hearing stories of people pushing their bodies and skills to the limit. The races in this set, from 24 Hours of Le Mans to the Antarctica Marathon, are true tests of the outer bounds of what humans can endure. Each book profiles a different endurance race, explaining how each is performed, the incredible training individuals and teams must go through before race day, and the challenges of participating in the race. Complete with full-color photographs of each race, this set shows readers how hard work and dedication can pay off with an incredible accomplishment. Features include: Introduces real athletes who have completed each race. High-interest topic that draws in developing readers. Written at a lower reading level to appeal to many readers.","English",165.6,124.2,null,"32 pp.","https://www.garethstevens.com/9781538259795",null,{"$f":"Table1[[#This Row],[QTY]]*Table1[[#This Row],['# Books]]","v":0},{"$f":"Table1[[#This Row],[QTY]]*Table1[[#This Row],[S&L Price]]","v":0}]
[null,null,38,"Race for Your Life!",1,"24 Hours of Le Mans","eBook",null,"978-1-5382-5897-2",{"$f":"HYPERLINK(Table1[[#This Row],[eCommerce Hyperlink]],\"Book Weblink\")","v":"Book Weblink"},null,"2021","August 2020",null,null,"Author","Kate Mikoley",null,null,null,null,"J",null,"Grade 1 - 2","Grade 3 - 6","For many automobile races, the winner is the person who drives a set distance the fastest, but for the 24 Hours of Le Mans, it's all about who can travel the farthest in 24 hours. This informative volume presents an exciting overview of what it's like to compete in this intense race. Striking photographs and concise fact boxes support the comprehension of key facts, while low-level text ensures readers of many ages and levels can enjoy this high-interest book.","English",27.6,20.7,"796.720944--dc23","32 pp.","https://www.garethstevens.com/9781538258972",null,{"$f":"Table1[[#This Row],[QTY]]*Table1[[#This Row],['# Books]]","v":0},{"$f":"Table1[[#This Row],[QTY]]*Table1[[#This Row],[S&L Price]]","v":0}]
[null,null,38,"Race for Your Life!",1,"The Iditarod","eBook",null,"978-1-5382-5905-4",{"$f":"HYPERLINK(Table1[[#This Row],[eCommerce Hyperlink]],\"Book Weblink\")","v":"Book Weblink"},null,"2021","August 2020",null,null,"Author","Kate Mikoley",null,null,null,null,"J",null,"Grade 1 - 2","Grade 3 - 6","Every year, dozens of mushers and even more dogs take part in an icy dogsled race across Alaska, crossing mountain ranges and frozen bodies of water. The Iditarod, often referred to as the \"last great race on Earth,\" is a unique event with a rich history. Readers will learn about this wild race and see how racers overcome incredible obstacles along the way. Low-level text helps struggling readers understand this high-interest event, while colorful photographs give readers an up-close look at the race's harsh course.","English",27.6,20.7,"798.83--dc23","32 pp.","https://www.garethstevens.com/9781538259054",null,{"$f":"Table1[[#This Row],[QTY]]*Table1[[#This Row],['# Books]]","v":0},{"$f":"Table1[[#This Row],[QTY]]*Table1[[#This Row],[S&L Price]]","v":0}]
[null,null,38,"The Human Behind the Hero",6,"The Human Behind the Hero: Set 1","Library Set",null,"978-1-5382-4906-2",{"$f":"HYPERLINK(Table1[[#This Row],[eCommerce Hyperlink]],\"Book Weblink\")","v":"Book Weblink"},null,"2020","January 2020","Library","6.500 X 9.125",null,null,null,null,null,null,null,null,"Grade 1 - 2","Grade 3 - 6","Most superheroes have an alter ego. Some, like Superman's Clark Kent, work a day job. Or, like Star-Lord's Peter Quill, they might fly around the galaxy when not saving it. But the superheroes on movie screens are played by talented men and women who work hard to look and sound exactly right to play both the hero and alter ego. This set takes readers behind the scenes of these actors' lives, from their beginnings on screen to the preparation they went through to become our favorite heroes. Full-color images showcase incredible transformations, costumes, and more. Features include: High-interest topic is written at a lower reading level for all readers to enjoy. Fact boxes give readers even more insight into the characters and actors they love. Includes a timeline of each actor's career.","English",165.6,124.2,null,"32 pp.","https://www.garethstevens.com/9781538249062",null,{"$f":"Table1[[#This Row],[QTY]]*Table1[[#This Row],['# Books]]","v":0},{"$f":"Table1[[#This Row],[QTY]]*Table1[[#This Row],[S&L Price]]","v":0}]
[null,null,38,"The Human Behind the Hero",1,"Chris Pratt Is Star-Lord®","eBook",null,"978-1-5382-4830-0",{"$f":"HYPERLINK(Table1[[#This Row],[eCommerce Hyperlink]],\"Book Weblink\")","v":"Book Weblink"},null,"2020","January 2020",null,null,"Author","Katie Kawa","4.8","0.5",null,null,"J",null,"Grade 1 - 2","Grade 3 - 6","It took a lot of hard work for Chris Pratt to transform into Peter Quill, also known as Star-Lord. Readers are sure to be entertained as they trace his path from humble beginnings to Guardian of the Galaxy. Exciting details about his training, his other projects, and his charity work are included in the main narrative and fact boxes. An informative timeline and full-color photographs give readers a behind-the-scenes look at the making of a superhero. Readers at a variety of levels will enjoy the way this high-interest topic is presented, using accessible language that encourages independent reading.","English",27.6,20.7,"791.4302/8092--dc23","32 pp.","https://www.garethstevens.com/9781538248300",null,{"$f":"Table1[[#This Row],[QTY]]*Table1[[#This Row],['# Books]]","v":0},{"$f":"Table1[[#This Row],[QTY]]*Table1[[#This Row],[S&L Price]]","v":0}]
[null,null,38,"The Human Behind the Hero",1,"Scarlett Johansson Is Black Widow®","eBook",null,"978-1-5382-4838-6",{"$f":"HYPERLINK(Table1[[#This Row],[eCommerce Hyperlink]],\"Book Weblink\")","v":"Book Weblink"},null,"2020","January 2020",null,null,"Author","Katie Kawa","4.8","0.5",null,null,"J",null,"Grade 1 - 2","Grade 3 - 6","The woman who has played Black Widow for more than 10 years has a devoted following of fans. This engaging and accessible biography is written with those fans in mind, as well as readers who are looking for a fun introduction to the world of superheroes. The achievable reading level makes this high-interest topic accessible for a wide variety of readers, and the full-color photographs appeal to readers who are interested in a look behind the scenes of their favorite movies. Additional information about Johansson's life and career are presented through fun facts boxes and a comprehensive timeline.","English",27.6,20.7,"791.4302'8092--dc23","32 pp.","https://www.garethstevens.com/9781538248386",null,{"$f":"Table1[[#This Row],[QTY]]*Table1[[#This Row],['# Books]]","v":0},{"$f":"Table1[[#This Row],[QTY]]*Table1[[#This Row],[S&L Price]]","v":0}]
[null,null,38,"Tough Trucks",1,"Chevrolet Trucks","eBook",null,"978-1-5382-3114-2",{"$f":"HYPERLINK(Table1[[#This Row],[eCommerce Hyperlink]],\"Book Weblink\")","v":"Book Weblink"},null,"2019","January 2019",null,null,"Author","Seth Lynch","4.4","0.5",null,null,"J",null,"Grade 1 - 2","Grade 3 - 6","The Chevy Silverado 1500 is a powerful pickup with a towing capacity of up to 12,500 pounds! A version of the Silverado has been on the market more than 20 years and is one of the most beloved trucks out there. Readers are introduced to the history of Chevy trucks as well as the modern vehicles on the road today. The accessible main text, including fact boxes, is complemented by full-color photographs of some of Chevy's best trucks out now and interesting historical photographs of trucks from the early 1900s.","English",27.6,20.7,"629.223/2--dc23","32 pp.","https://www.garethstevens.com/9781538231142",null,{"$f":"Table1[[#This Row],[QTY]]*Table1[[#This Row],['# Books]]","v":0},{"$f":"Table1[[#This Row],[QTY]]*Table1[[#This Row],[S&L Price]]","v":0}]
[null,null,38,"Tough Trucks",1,"GMC Trucks","eBook",null,"978-1-5382-3112-8",{"$f":"HYPERLINK(Table1[[#This Row],[eCommerce Hyperlink]],\"Book Weblink\")","v":"Book Weblink"},null,"2019","January 2019",null,null,"Author","Seth Lynch","4.7","0.5",null,null,"J",null,"Grade 1 - 2","Grade 3 - 6","The sleek GMC Sierra 1500 looks great from the outside, but inside it's even better. GMC has equipped it with the latest in vehicle technology such as 4G Wi-Fi! Part of General Motors, GMC exclusively makes trucks and utility vehicles, making it one of the best truck companies out there. Readers learn all about the history of GMC trucks in the accessible main text, accompanied by historical photographs that will fascinate modern readers. Full-color photographs show the latest GMC models and some of the coolest ones from their past lines, prompting developing readers to pick up this high-interest book.","English",27.6,20.7,"629.224--dc23","32 pp.","https://www.garethstevens.com/9781538231128",null,{"$f":"Table1[[#This Row],[QTY]]*Table1[[#This Row],['# Books]]","v":0},{"$f":"Table1[[#This Row],[QTY]]*Table1[[#This Row],[S&L Price]]","v":0}]
[null,null,38,"Tough Trucks",1,"Toyota Trucks","eBook",null,"978-1-5382-3111-1",{"$f":"HYPERLINK(Table1[[#This Row],[eCommerce Hyperlink]],\"Book Weblink\")","v":"Book Weblink"},null,"2019","January 2019",null,null,"Author","Seth Lynch","4.7","0.5",null,null,"J",null,"Grade 1 - 2","Grade 3 - 6","Mid-size pickup Toyota Tacoma is one of the most popular trucks around. With varying models, including one especially for off-roading, people from parents to those in need of hauling capacity are finding Toyota's truck the perfect fit. Readers of all levels can enjoy learning about the history of Toyota and their trucks in this book. Written in accessible language with reluctant readers in mind, the main content covers truck specs, fascinating facts, and the future of Toyota trucks on the road.","English",27.6,20.7,"629.224--dc23","32 pp.","https://www.garethstevens.com/9781538231111",null,{"$f":"Table1[[#This Row],[QTY]]*Table1[[#This Row],['# Books]]","v":0},{"$f":"Table1[[#This Row],[QTY]]*Table1[[#This Row],[S&L Price]]","v":0}]
[null,20,39,"Fun Fact File: Habitats",1,"20 Fun Facts About Forest Habitats","Library Bound Book",null,"978-1-5382-6443-0",{"$f":"HYPERLINK(Table1[[#This Row],[eCommerce Hyperlink]],\"Book Weblink\")","v":"Book Weblink"},null,"2022","August 2021","Library","8.500 X 8.500","Author","Char Light",null,null,null,null,"M",null,"Grade 2 - 3","Grade 2 - 5","Forests are growing all over the world. They're one of the most familiar habitats, but they come in some truly bizarre and beautiful forms. Readers will learn cool facts about different forest habitats around the globe. They'll meet the animals and plants that call forests of all kinds home. Beautiful full-color photographs and graphic organizers illustrate key concepts in a fun way. Avid and struggling readers alike will flock to this fun and informative book.","English",26.95,19.7,"577.3--dc23","32 pp.","https://www.garethstevens.com/9781538264430",null,{"$f":"Table1[[#This Row],[QTY]]*Table1[[#This Row],['# Books]]","v":0},{"$f":"Table1[[#This Row],[QTY]]*Table1[[#This Row],[S&L Price]]","v":0}]
[null,20,39,"Fun Fact File: Habitats",1,"20 Fun Facts About Forest Habitats","eBook",null,"978-1-5382-6444-7",{"$f":"HYPERLINK(Table1[[#This Row],[eCommerce Hyperlink]],\"Book Weblink\")","v":"Book Weblink"},null,"2022","August 2021",null,null,"Author","Char Light",null,null,null,null,"M",null,"Grade 2 - 3","Grade 2 - 5","Forests are growing all over the world. They're one of the most familiar habitats, but they come in some truly bizarre and beautiful forms. Readers will learn cool facts about different forest habitats around the globe. They'll meet the animals and plants that call forests of all kinds home. Beautiful full-color photographs and graphic organizers illustrate key concepts in a fun way. Avid and struggling readers alike will flock to this fun and informative book.","English",26.95,19.7,"577.3--dc23","32 pp.","https://www.garethstevens.com/9781538264447",null,{"$f":"Table1[[#This Row],[QTY]]*Table1[[#This Row],['# Books]]","v":0},{"$f":"Table1[[#This Row],[QTY]]*Table1[[#This Row],[S&L Price]]","v":0}]
[null,20,39,"Fun Fact File: Habitats",1,"20 Fun Facts About Wetland Habitats","Library Bound Book",null,"978-1-5382-6459-1",{"$f":"HYPERLINK(Table1[[#This Row],[eCommerce Hyperlink]],\"Book Weblink\")","v":"Book Weblink"},null,"2022","August 2021","Library","8.500 X 8.500","Author","Therese M. Shea",null,null,null,null,"M",null,"Grade 2 - 3","Grade 2 - 5","What do bogs, marshes, and swamps have in common? They're all kinds of wetlands, which are fascinating ecosystems that are home to myriad species of plants, animals, and microbes. These organisms are adapted to both dry and watery conditions. In this valuable volume, the most interesting and informative facts about wetlands are presented through accessible text and colorful photographs. Essential concepts of the elementary science classroom, such as adaptations and habitats, are given special attention. Graphic organizers help clarify and review key ideas for budding ecologists.","English",26.95,19.7,"577.68--dc23","32 pp.","https://www.garethstevens.com/9781538264591",null,{"$f":"Table1[[#This Row],[QTY]]*Table1[[#This Row],['# Books]]","v":0},{"$f":"Table1[[#This Row],[QTY]]*Table1[[#This Row],[S&L Price]]","v":0}]
[null,null,40,"Fun Fact File: Body Systems",6,"Fun Fact File: Body Systems","Library Set",null,"978-1-5382-2962-0",{"$f":"HYPERLINK(Table1[[#This Row],[eCommerce Hyperlink]],\"Book Weblink\")","v":"Book Weblink"},null,"2019","January 2019","Library","8.500 X 8.500",null,null,null,null,null,null,null,null,"Grade 2 - 3","Grade 2 - 5","In and on a 200-pound adult, there are about 2 to 6 pounds of bacteria. Yes, you read that correctly, pounds! The population of these important microorganisms is just one fascinating fact readers learn about the systems of the human body in this series. A continuation of our popular Fun Fact File format, this series provides an overview of the inner workings of the body through funny, intriguing, and sometimes gross true facts. Written in an accessible tone and with age-appropriate language, the fun facts engage readers with life science information they'll want to share with friends and their science teacher alike. Features include: Diagrams of each body system aid readers' understanding of the science content. Encourages body literacy in young readers. Fresh, new design to the long-standing series.","English",157.5,118.2,null,"32 pp.","https://www.garethstevens.com/9781538229620",null,{"$f":"Table1[[#This Row],[QTY]]*Table1[[#This Row],['# Books]]","v":0},{"$f":"Table1[[#This Row],[QTY]]*Table1[[#This Row],[S&L Price]]","v":0}]
[null,null,40,"Fun Fact File: Body Systems",1,"20 Fun Facts About the Muscular System","eBook",null,"978-1-5382-3064-0",{"$f":"HYPERLINK(Table1[[#This Row],[eCommerce Hyperlink]],\"Book Weblink\")","v":"Book Weblink"},null,"2019","January 2019",null,null,"Author","Tayler Cole",null,null,null,null,"M","820L","Grade 2 - 3","Grade 2 - 5","Muscles do far more than help us lift heavy things off the ground. Muscles make the heart work well and move food through the stomach. They allow us to walk, swim, and even draw! In the fun fact file format, this book introduces readers to the most interesting aspects of the muscular system, including information from the science curriculum, through engaging and sometimes gross tidbits! Detailed diagrams and full-color photographs support each fascinating fact, guiding readers to better body literacy and understanding of this important body system.","English",26.25,19.7,"612.7/4--dc23","32 pp.","https://www.garethstevens.com/9781538230640",null,{"$f":"Table1[[#This Row],[QTY]]*Table1[[#This Row],['# Books]]","v":0},{"$f":"Table1[[#This Row],[QTY]]*Table1[[#This Row],[S&L Price]]","v":0}]
[null,null,40,"Fun Fact File: Body Systems",1,"20 Fun Facts About the Skeletal System","Library Bound Book",null,"978-1-5382-2926-2",{"$f":"HYPERLINK(Table1[[#This Row],[eCommerce Hyperlink]],\"Book Weblink\")","v":"Book Weblink"},null,"2019","January 2019","Library","8.500 X 8.500","Author","Theresa Emminizer",null,null,null,null,"M","770L","Grade 2 - 3","Grade 2 - 5","Readers will bone up on their knowledge of the human body with this enlightening text about the skeletal system. The skeleton forms framework for the entire body. It protects the organs, stores minerals, and makes it possible for the body to move and function. Readers will study the parts of the skeletal system, learn about types of bones, and discover how the body changes over time. Useful diagrams help readers visualize abstract concepts, and attention-grabbing photographs enrich the comprehensive text.","English",26.25,19.7,"611/.71--dc23","32 pp.","https://www.garethstevens.com/9781538229262",null,{"$f":"Table1[[#This Row],[QTY]]*Table1[[#This Row],['# Books]]","v":0},{"$f":"Table1[[#This Row],[QTY]]*Table1[[#This Row],[S&L Price]]","v":0}]
[null,null,40,"Fun Fact File: Engineering Marvels",1,"20 Fun Facts About Famous Canals and Seaways","eBook",null,"978-1-5382-4657-3",{"$f":"HYPERLINK(Table1[[#This Row],[eCommerce Hyperlink]],\"Book Weblink\")","v":"Book Weblink"},null,"2020","January 2020",null,null,"Author","Caitie McAneney","5.3","0.5",null,null,"M",null,"Grade 2 - 3","Grade 2 - 5","Canals and seaways have opened our world to further travel, trade, and exploration. This book introduces readers to famous canals and seaways around the globe, from the Panama Canal to the Saint Lawrence Seaway. These engineering marvels have reshaped the landscape and the economies of their regions. Eye-catching photographs and fun facts will grab the attention of readers, especially aspiring engineers, as they learn all about the amazing man-made waterways of our world.","English",26.95,19.7,"627/.13--dc23","32 pp.","https://www.garethstevens.com/9781538246573",null,{"$f":"Table1[[#This Row],[QTY]]*Table1[[#This Row],['# Books]]","v":0},{"$f":"Table1[[#This Row],[QTY]]*Table1[[#This Row],[S&L Price]]","v":0}]
[null,null,40,"Fun Fact File: Engineering Marvels",1,"20 Fun Facts About Famous Roads and Highways","eBook",null,"978-1-5382-4665-8",{"$f":"HYPERLINK(Table1[[#This Row],[eCommerce Hyperlink]],\"Book Weblink\")","v":"Book Weblink"},null,"2020","January 2020",null,null,"Author","Kate Light","5","0.5",null,null,"L",null,"Grade 2 - 3","Grade 2 - 5","Buckle up for brutal switchbacks, perilous plunges, stupendous speeds, and ludicrous lengths! This ride of a lifetime will transport readers down famous roads and highways all over the globe. They'll explore engineering marvels from the iconic Route 66 to record-breaking roads. They'll learn about the design behind the fastest, longest, and steepest roads, and marvel at the strangest roads ever built. Stunning photographs of these epic roads and highways will captivate and engage readers. Summarized in easily digestible fun facts, this accessible narrative also introduces readers to STEM-related curricula.","English",26.95,19.7,"388.1--dc23","32 pp.","https://www.garethstevens.com/9781538246658",null,{"$f":"Table1[[#This Row],[QTY]]*Table1[[#This Row],['# Books]]","v":0},{"$f":"Table1[[#This Row],[QTY]]*Table1[[#This Row],[S&L Price]]","v":0}]
[null,null,40,"Fun Fact File: North American Animals",6,"Fun Fact File: North American Animals","Library Set",null,"978-1-5382-5992-4",{"$f":"HYPERLINK(Table1[[#This Row],[eCommerce Hyperlink]],\"Book Weblink\")","v":"Book Weblink"},null,"2021","August 2020","Library","8.500 X 8.500",null,null,null,null,null,null,null,null,"Grade 2 - 3","Grade 2 - 5","North America is home to many fascinating animals, from bald eagles to bullfrogs. These stimulating volumes offer a fun way to learn about some of the many animals living on the world's third largest continent. Readers may know that rattlesnakes are venomous, but they might not know how they get their rattles. This is just one piece of interesting information this enriching set has to offer. Colorful photographs and easy-to-comprehend sections of text will keep readers of many levels turning the pages. Features include: Supports key aspects of the elementary science curriculum. Attention-grabbing photographs provide up-close views of animals. Graphic organizers aid in comprehension of important concepts.","English",161.69999999999999,118.2,null,"32 pp.","https://www.garethstevens.com/9781538259924",null,{"$f":"Table1[[#This Row],[QTY]]*Table1[[#This Row],['# Books]]","v":0},{"$f":"Table1[[#This Row],[QTY]]*Table1[[#This Row],[S&L Price]]","v":0}]
[null,null,40,"Fun Fact File: North American Animals",1,"20 Fun Facts About Beavers","eBook",null,"978-1-5382-5763-0",{"$f":"HYPERLINK(Table1[[#This Row],[eCommerce Hyperlink]],\"Book Weblink\")","v":"Book Weblink"},null,"2021","August 2020",null,null,"Author","Charlie Light",null,null,null,null,"N",null,"Grade 2 - 3","Grade 2 - 5","Wetlands are home to all kinds of lush wildlife, but who makes this habitat possible? Readers will meet nature's lumberjack and architect. They'll learn about the beaver's habitats, diet, adaptations, and about the vital role that beavers play in wetland ecosystems. This accessible narrative is formatted into 20 fun fact sections accompanied by captivating photographs and graphic organizers. It will encourage a passion for protecting the environment and the creatures who build it, one dam at a time.","English",26.95,19.7,"599.37--dc23","32 pp.","https://www.garethstevens.com/9781538257630",null,{"$f":"Table1[[#This Row],[QTY]]*Table1[[#This Row],['# Books]]","v":0},{"$f":"Table1[[#This Row],[QTY]]*Table1[[#This Row],[S&L Price]]","v":0}]
[null,null,40,"Fun Fact File: North American Animals",1,"20 Fun Facts About Monarch Butterflies","eBook",null,"978-1-5382-5769-2",{"$f":"HYPERLINK(Table1[[#This Row],[eCommerce Hyperlink]],\"Book Weblink\")","v":"Book Weblink"},null,"2021","August 2020",null,null,"Author","Vanessa Oswald",null,null,null,null,"N",null,"Grade 2 - 3","Grade 2 - 5","Monarch butterflies are among the most recognized butterflies in the world due to their unique coloring. They also go on a migration journey that can be more than 2,000 miles long. Readers will explore the life of the monarch butterfly and learn fun facts. Age-appropriate text is paired with eye-catching photographs that hold readers' attention. Engaging diagrams and a useful glossary present this elementary life science topic in a way that is easy for young readers to understand.","English",26.95,19.7,"595.78/9--dc23","32 pp.","https://www.garethstevens.com/9781538257692",null,{"$f":"Table1[[#This Row],[QTY]]*Table1[[#This Row],['# Books]]","v":0},{"$f":"Table1[[#This Row],[QTY]]*Table1[[#This Row],[S&L Price]]","v":0}]
[null,null,40,"Fun Fact File: World Wonders!",1,"20 Fun Facts About Easter Island","eBook",null,"978-1-4824-0448-7",{"$f":"HYPERLINK(Table1[[#This Row],[eCommerce Hyperlink]],\"Book Weblink\")","v":"Book Weblink"},null,"2014","January 2014",null,null,"Author","Heather Moore Niver","5","0.5","28",null,"M","900L","Grade 2 - 3","Grade 2 - 5","On an island in the Pacific Ocean more than 1,000 miles from the nearest habitable location, ancient people constructed hundreds of enormous stone heads. No one is sure exactly how they moved the giant statues into place. In fact, no one really knows how people got there in the first place! Readers are sure to enjoy learning about the mystery surrounding Easter Island. Colorful images of the moai, flora, fauna, and more help transport readers to this amazing world wonder.","English",27.25,20.440000000000001,"996.18","32 pp.","https://www.garethstevens.com/9781482404487",null,{"$f":"Table1[[#This Row],[QTY]]*Table1[[#This Row],['# Books]]","v":0},{"$f":"Table1[[#This Row],[QTY]]*Table1[[#This Row],[S&L Price]]","v":0}]
[null,null,40,"Fun Fact File: World Wonders!",1,"20 Fun Facts About the Colosseum","eBook",null,"978-1-4824-0463-0",{"$f":"HYPERLINK(Table1[[#This Row],[eCommerce Hyperlink]],\"Book Weblink\")","v":"Book Weblink"},null,"2014","January 2014",null,null,"Author","Drew Nelson",null,null,"28",null,"M","860L","Grade 2 - 3","Grade 2 - 5","For thousands of years, the Roman Colosseum has been a source of entertainment and awe. Ancient Romans flocked to the amphitheater to see gladiatorial fights, exotic animals, and even naval battles. Although it fell into disuse, today people from around the world come to Rome to see this amazing historic structure in person. The colorful and in-depth photographs take readers around and inside the Colosseum, and illustrations and charts help readers make the most of their reading experience.","English",27.25,20.440000000000001,"937.6","32 pp.","https://www.garethstevens.com/9781482404630",null,{"$f":"Table1[[#This Row],[QTY]]*Table1[[#This Row],['# Books]]","v":0},{"$f":"Table1[[#This Row],[QTY]]*Table1[[#This Row],[S&L Price]]","v":0}]
[null,null,40,"Fun Fact File: World Wonders!",1,"20 Fun Facts About the Great Pyramid","eBook",null,"978-1-4824-0468-5",{"$f":"HYPERLINK(Table1[[#This Row],[eCommerce Hyperlink]],\"Book Weblink\")","v":"Book Weblink"},null,"2014","January 2014",null,null,"Author","Kristen Rajczak Nelson",null,null,"30",null,"N","930L","Grade 2 - 3","Grade 2 - 5","There are many ancient pyramids in Egypt, but there’s only one Great Pyramid. Completed around 2550 BC, it is the largest pyramid of the ancient world. Although it was originally a tomb for an Egyptian emperor, today the pyramid is a link to the past, as well as a highly popular destination for world travelers. Dazzling photographs of the Great Pyramid and others from around the world are sure to intrigue and educate readers, and illustrations and graphic organizers help readers learn more from the text.","English",27.25,20.440000000000001,"932","32 pp.","https://www.garethstevens.com/9781482404685",null,{"$f":"Table1[[#This Row],[QTY]]*Table1[[#This Row],['# Books]]","v":0},{"$f":"Table1[[#This Row],[QTY]]*Table1[[#This Row],[S&L Price]]","v":0}]
[null,null,40,"Fun Fact File: World Wonders!",6,"Fun Fact File: World Wonders!: Set 2","Library Set",null,"978-1-5382-3924-7",{"$f":"HYPERLINK(Table1[[#This Row],[eCommerce Hyperlink]],\"Book Weblink\")","v":"Book Weblink"},null,"2020","August 2019","Library","8.500 X 8.500",null,null,null,null,null,null,null,null,"Grade 2 - 3","Grade 2 - 5","Considered one of the seven wonders of the ancient world, the Hanging Gardens of Babylon were an incredible feat of human work. But were they simply a work of fiction? Readers can consider all sides, as well as why the Tower of Pisa leans, and how the Grand Canyon formed with this continuation of our popular series. Through the fun fact format, readers can find out the most exciting, interesting, and curious parts of these world wonders. Beautiful, full-color photographs draw readers to keep turning the pages and may even inspire a world traveler or two. Features include: Historical context and cultural information in support of the social studies curriculum. Maps, timelines, and other graphic organizers offer readers more information and a chance to practice other reading comprehension skills. Fun fact format engages readers of all abilities.","English",157.5,118.2,null,"32 pp.","https://www.garethstevens.com/9781538239247",null,{"$f":"Table1[[#This Row],[QTY]]*Table1[[#This Row],['# Books]]","v":0},{"$f":"Table1[[#This Row],[QTY]]*Table1[[#This Row],[S&L Price]]","v":0}]
[null,null,40,"Fun Fact File: World Wonders!",1,"20 Fun Facts About the Grand Canyon","Library Bound Book",null,"978-1-5382-3772-4",{"$f":"HYPERLINK(Table1[[#This Row],[eCommerce Hyperlink]],\"Book Weblink\")","v":"Book Weblink"},null,"2020","August 2019","Library","8.500 X 8.500","Author","Emily Mahoney","5.3","0.5",null,null,"L",null,"Grade 2 - 3","Grade 2 - 5","The Grand Canyon is one of the most majestic sites in the United States, and its views have been wowing visitors for centuries. This text contains beautiful pictures that encourage even the most resistant readers to learn more about this natural wonder, and the easy-to-read fun fact format will have readers wanting to plan a trip to the Grand Canyon. They'll learn about this spectacular area, the plants and animals that live there, and fun activities for visitors.","English",26.25,19.7,"979.1'32--dc23","32 pp.","https://www.garethstevens.com/9781538237724",null,{"$f":"Table1[[#This Row],[QTY]]*Table1[[#This Row],['# Books]]","v":0},{"$f":"Table1[[#This Row],[QTY]]*Table1[[#This Row],[S&L Price]]","v":0}]
[null,null,40,"Fun Fact File: World Wonders!",1,"20 Fun Facts About the Hanging Gardens of Babylon","eBook",null,"978-1-5382-3781-6",{"$f":"HYPERLINK(Table1[[#This Row],[eCommerce Hyperlink]],\"Book Weblink\")","v":"Book Weblink"},null,"2020","August 2019",null,null,"Author","Emily Mahoney","5.4","0.5",null,null,"N",null,"Grade 2 - 3","Grade 2 - 5","The Hanging Gardens of Babylon may not actually contain hanging plants, but they do contain mysteries all their own, including speculation that they never even existed. Readers travel back in time to learn about this fascinating world wonder through interesting facts, historical images, and helpful graphic organizers. Accessible text emphasizes the history of this fascinating wonder as well as the civilization that created it. This book's fun fact format appeals to struggling readers as well.","English",26.25,19.7,"935/.5--dc23","32 pp.","https://www.garethstevens.com/9781538237816",null,{"$f":"Table1[[#This Row],[QTY]]*Table1[[#This Row],['# Books]]","v":0},{"$f":"Table1[[#This Row],[QTY]]*Table1[[#This Row],[S&L Price]]","v":0}]
[null,null,41,"Amazing Origami",1,"Monsters","Library Bound Book",null,"978-1-5382-4176-9",{"$f":"HYPERLINK(Table1[[#This Row],[eCommerce Hyperlink]],\"Book Weblink\")","v":"Book Weblink"},null,"2020","August 2019","Library","8.500 X 11.00","Author","Joe Fullman",null,null,null,null,"M",null,"Grade 2 - 3","Grade 2 - 5","Not every monster should be feared; some monsters are just plain fun! Readers will love making the entertaining origami monsters in this delightful book as well as sharing them with friends and family. Step-by-step instructions are paired with useful photographs, making each project achievable for the young artist. Readers can also choose their origami artwork according to its category of difficulty. This high-interest subject will attract all levels of readers, helping them construct a magnificent monster kingdom.","English",27.6,20.7,"736'.982--dc23","32 pp.","https://www.garethstevens.com/9781538241769",null,{"$f":"Table1[[#This Row],[QTY]]*Table1[[#This Row],['# Books]]","v":0},{"$f":"Table1[[#This Row],[QTY]]*Table1[[#This Row],[S&L Price]]","v":0}]
[null,null,41,"Amazing Origami",1,"Zombies and the Undead","Library Bound Book",null,"978-1-5382-4178-3",{"$f":"HYPERLINK(Table1[[#This Row],[eCommerce Hyperlink]],\"Book Weblink\")","v":"Book Weblink"},null,"2020","August 2019","Library","8.500 X 11.00","Author","Joe Fullman",null,null,null,null,"M",null,"Grade 2 - 3","Grade 2 - 5","Whether it's because of their gross, rotting skin or peculiar hunger for brains, zombies have remained in the spotlight as the favorite creepy creature of popular culture. With just a few colorful pieces of paper and this high-interest book, origami artists can make their own army of the undead with the help of simple directions supported by vivid photographs of timeless techniques. They'll also increase their skill level with each project they complete and be able to employ the methods they learn in future origami undertakings.","English",27.6,20.7,"736'.982--dc23","32 pp.","https://www.garethstevens.com/9781538241783",null,{"$f":"Table1[[#This Row],[QTY]]*Table1[[#This Row],['# Books]]","v":0},{"$f":"Table1[[#This Row],[QTY]]*Table1[[#This Row],[S&L Price]]","v":0}]
[null,null,41,"Amazing Origami",1,"Jungle Origami","Library Bound Book",null,"978-1-4824-5930-2",{"$f":"HYPERLINK(Table1[[#This Row],[eCommerce Hyperlink]],\"Book Weblink\")","v":"Book Weblink"},null,"2017","January 2017","Library","8.500 X 11.00","Author","Joe Fullman",null,null,null,null,"L",null,"Grade 2 - 3","Grade 2 - 5","From tigers to butterflies, jungle animals are some of the most beautiful in the world. They’re almost as beautiful when fashioned out of paper through origami! In this book, readers choose from a gorilla, frog, parrot, and more jungle animals to practice their paper-folding skills. An introduction shows common folds and explains terms used in the book to help new origamists complete their first project. Each craft contains step-by-step instructions and full-color photographs of each step to guide readers through the folds to create their animal.","English",27.6,20.7,"736.982--dc23","32 pp.","https://www.garethstevens.com/9781482459302",null,{"$f":"Table1[[#This Row],[QTY]]*Table1[[#This Row],['# Books]]","v":0},{"$f":"Table1[[#This Row],[QTY]]*Table1[[#This Row],[S&L Price]]","v":0}]
[null,null,41,"Amazing Origami",1,"Ocean Origami","eBook",null,"978-1-4824-5935-7",{"$f":"HYPERLINK(Table1[[#This Row],[eCommerce Hyperlink]],\"Book Weblink\")","v":"Book Weblink"},null,"2017","January 2017",null,null,"Author","Joe Fullman",null,null,null,null,"L",null,"Grade 2 - 3","Grade 2 - 5","Blue whales and squid aren’t usually seen on a trip to the beach. Using the ancient art of paper folding, readers can have these and other ocean animals nearby any time they want! Whether new to origami or an old pro, readers can choose a project appropriate for their skill level. A brief introduction provides the folds readers need to know and each project is ranked easy, medium, or hard to further help them choose the right one to start with. Step-by-step instructions accompanied by full-color photographs guide readers through each craft for hours of crafting fun.","English",27.6,20.7,"736.982--dc23","32 pp.","https://www.garethstevens.com/9781482459357",null,{"$f":"Table1[[#This Row],[QTY]]*Table1[[#This Row],['# Books]]","v":0},{"$f":"Table1[[#This Row],[QTY]]*Table1[[#This Row],[S&L Price]]","v":0}]
[null,null,41,"Amazing Origami",1,"Dinosaur World","eBook",null,"978-1-5382-3475-4",{"$f":"HYPERLINK(Table1[[#This Row],[eCommerce Hyperlink]],\"Book Weblink\")","v":"Book Weblink"},null,"2019","January 2019",null,null,"Author","Joe Fullman",null,null,null,null,"L",null,"Grade 2 - 3","Grade 2 - 5","Though we share the same planet, the environment dinosaurs lived in was quite different from the world as we know it today. Readers of this engaging volume will not only learn about the world dinosaurs knew as home, but they'll also make their own unique dinosaur art. They'll learn all about origami, from the very basics to the more intricate folds, and get to choose whether they prefer an easy, medium, or hard activity. Each project features easy-to-follow step-by-step instructions, colorful images, and interesting facts to guide readers on their artistic journey.","English",27.6,20.7,"736'.982--dc23","32 pp.","https://www.garethstevens.com/9781538234754",null,{"$f":"Table1[[#This Row],[QTY]]*Table1[[#This Row],['# Books]]","v":0},{"$f":"Table1[[#This Row],[QTY]]*Table1[[#This Row],[S&L Price]]","v":0}]
[null,null,41,"Amazing Origami",1,"Sea Monsters and Flying Monsters","eBook",null,"978-1-5382-3471-6",{"$f":"HYPERLINK(Table1[[#This Row],[eCommerce Hyperlink]],\"Book Weblink\")","v":"Book Weblink"},null,"2019","January 2019",null,null,"Author","Joe Fullman",null,null,null,null,"L",null,"Grade 2 - 3","Grade 2 - 5","With the right folds, a simple piece of paper can become a magnificent monster. Each exciting project in this book features an incredible creature, whether it's known for soaring through the sky or swimming in the sea. Readers follow along with step-by-step instructions to learn the skills of the Japanese art of paper folding, also known as origami. Colorful images correlate closely with the accessible text, aiding in readers' understanding of each exciting activity.","English",27.6,20.7,"736'.982--dc23","32 pp.","https://www.garethstevens.com/9781538234716",null,{"$f":"Table1[[#This Row],[QTY]]*Table1[[#This Row],['# Books]]","v":0},{"$f":"Table1[[#This Row],[QTY]]*Table1[[#This Row],[S&L Price]]","v":0}]
[null,null,42,"How to Draw Zentangle® Art",1,"Drawing Zentangle® Nature","eBook",null,"978-1-5382-4223-0",{"$f":"HYPERLINK(Table1[[#This Row],[eCommerce Hyperlink]],\"Book Weblink\")","v":"Book Weblink"},null,"2020","August 2019",null,null,"Author","Jane Marbaix",null,null,null,null,"M",null,"Grade 3","Grade 3 - 5","The beauty of nature has inspired some of the world's greatest artwork. Now, with the help of Zentangle art, artists of all capabilities can create their own nature-themed masterpieces. This engaging volume uses colorful illustrations and concise step-by-step instructions to introduce readers to Zentangle patterns that combine to make beautiful works of art. Unique projects encourage readers to relax, stay focused, and find their own creativity. An increasingly popular method of drawing paired with the accessibility of these projects make for a high-interest book, sure to fly off the shelves.","English",27.6,20.7,"743'.83--dc23","32 pp.","https://www.garethstevens.com/9781538242230",null,{"$f":"Table1[[#This Row],[QTY]]*Table1[[#This Row],['# Books]]","v":0},{"$f":"Table1[[#This Row],[QTY]]*Table1[[#This Row],[S&L Price]]","v":0}]
[null,null,42,"How to Draw Zentangle® Art",1,"Drawing Zentangle® Ocean Life","eBook",null,"978-1-5382-4224-7",{"$f":"HYPERLINK(Table1[[#This Row],[eCommerce Hyperlink]],\"Book Weblink\")","v":"Book Weblink"},null,"2020","August 2019",null,null,"Author","Jane Marbaix",null,null,null,null,"M",null,"Grade 3","Grade 3 - 5","The ocean is a vast, beautiful expanse that inspires wonder and curiosity. With the help of this accessible volume on Zentangle art, readers of all ages and skill levels can learn how to capture some of that beauty on paper. Each project features easy-to-follow instructions paired with colorful illustrations to guide both new and experienced artists every step of the way. Structured designs formed with simple lines and shapes encourage mindfulness and relaxation, while a beautiful finished masterpiece will ignite feelings of self-confidence and pride.","English",27.6,20.7,"743.6'7--dc23","32 pp.","https://www.garethstevens.com/9781538242247",null,{"$f":"Table1[[#This Row],[QTY]]*Table1[[#This Row],['# Books]]","v":0},{"$f":"Table1[[#This Row],[QTY]]*Table1[[#This Row],[S&L Price]]","v":0}]
[null,null,42,"How to Draw Zentangle® Art",1,"Drawing Zentangle® Bugs and Butterflies","eBook",null,"978-1-5382-0842-7",{"$f":"HYPERLINK(Table1[[#This Row],[eCommerce Hyperlink]],\"Book Weblink\")","v":"Book Weblink"},null,"2018","August 2017",null,null,"Author, Illustrated by","Catherine Ard, Hannah Geddes",null,null,null,null,"M",null,"Grade 3","Grade 3 - 5","Billions of insects buzz, swoop, and crawl all over the world, but we rarely take the time to notice their bizarre beauty. This Zentangle® guide uses the strange shapes of bees, butterflies, stage beetles, and other bugs as the basis for beautiful designs. Step-by-step instructions help readers divide the outlines of these unusual creatures into smaller shapes. Readers learn basic Zentangle® patterns they can mix and match as they fill in their insects. They’ll use essential art techniques, such as shading, to make their creatures pop off the page. This therapeutic art form relaxes readers as they doodle unique creations. They’ll be thrilled as patterns build on each other to create intricate insects.","English",27.6,20.7,"741.201’9--dc23","32 pp.","https://www.garethstevens.com/9781538208427",null,{"$f":"Table1[[#This Row],[QTY]]*Table1[[#This Row],['# Books]]","v":0},{"$f":"Table1[[#This Row],[QTY]]*Table1[[#This Row],[S&L Price]]","v":0}]
[null,null,42,"How to Draw Zentangle® Art",1,"Drawing Zentangle® Sea Life","Library Bound Book",null,"978-1-5382-0719-2",{"$f":"HYPERLINK(Table1[[#This Row],[eCommerce Hyperlink]],\"Book Weblink\")","v":"Book Weblink"},null,"2018","August 2017","Library","8.500 X 11.00","Author, Illustrated by","Catherine Ard, Hannah Geddes",null,null,null,null,"M",null,"Grade 3","Grade 3 - 5","Sea creatures are some of the most bizarre and beautiful life-forms on our planet. Readers will learn to create Zentangle® seals, jellyfish, dolphins and other marine creatures that look as intricately gorgeous as their living counterparts. This hands-on guide introduces readers to basic Zentangle® patterns they can mix and match in original designs. Simple step-by-step instructions show readers a basic outline for each creature, how to divide into smaller shapes, and suggested patterns. A therapeutic art form, Zentangle® will give readers a sense of peace as they doodle original works. They’ll be amazed at how combining patterns can lead to complex, sea-inspired designs.","English",27.6,20.7,"741.201’9--dc23","32 pp.","https://www.garethstevens.com/9781538207192",null,{"$f":"Table1[[#This Row],[QTY]]*Table1[[#This Row],['# Books]]","v":0},{"$f":"Table1[[#This Row],[QTY]]*Table1[[#This Row],[S&L Price]]","v":0}]
[null,null,42,"How to Draw Zentangle® Art",1,"Drawing Zentangle® Sea Life","eBook",null,"978-1-5382-0711-6",{"$f":"HYPERLINK(Table1[[#This Row],[eCommerce Hyperlink]],\"Book Weblink\")","v":"Book Weblink"},null,"2018","August 2017",null,null,"Author, Illustrated by","Catherine Ard, Hannah Geddes",null,null,null,null,"M",null,"Grade 3","Grade 3 - 5","Sea creatures are some of the most bizarre and beautiful life-forms on our planet. Readers will learn to create Zentangle® seals, jellyfish, dolphins and other marine creatures that look as intricately gorgeous as their living counterparts. This hands-on guide introduces readers to basic Zentangle® patterns they can mix and match in original designs. Simple step-by-step instructions show readers a basic outline for each creature, how to divide into smaller shapes, and suggested patterns. A therapeutic art form, Zentangle® will give readers a sense of peace as they doodle original works. They’ll be amazed at how combining patterns can lead to complex, sea-inspired designs.","English",27.6,20.7,"741.201’9--dc23","32 pp.","https://www.garethstevens.com/9781538207116",null,{"$f":"Table1[[#This Row],[QTY]]*Table1[[#This Row],['# Books]]","v":0},{"$f":"Table1[[#This Row],[QTY]]*Table1[[#This Row],[S&L Price]]","v":0}]
[null,null,42,"Make a Masterpiece",1,"Charcoal","eBook",null,"978-1-5382-3591-1",{"$f":"HYPERLINK(Table1[[#This Row],[eCommerce Hyperlink]],\"Book Weblink\")","v":"Book Weblink"},null,"2019","January 2019",null,null,"Author","Alix Wood",null,null,null,null,"O",null,"Grade 3 - 4","Grade 3 - 5","For young artists who don't mind getting a little messy, charcoal can be a thrilling new art form to master. This engaging guide is the perfect tool for young artists who want to learn this expressive black-and-white medium. Creative projects help young artists master the fundamentals of working with charcoals as they make their own incredible works of art. Step-by-step instructions with full-color photographs make each project accessible. With a gorgeous design and simple instructions, young artists will flock to this informative volume.","English",27.6,20.7,"741.2'2--dc23","32 pp.","https://www.garethstevens.com/9781538235911",null,{"$f":"Table1[[#This Row],[QTY]]*Table1[[#This Row],['# Books]]","v":0},{"$f":"Table1[[#This Row],[QTY]]*Table1[[#This Row],[S&L Price]]","v":0}]
[null,null,42,"Make a Masterpiece",1,"Pastels","eBook",null,"978-1-5382-3589-8",{"$f":"HYPERLINK(Table1[[#This Row],[eCommerce Hyperlink]],\"Book Weblink\")","v":"Book Weblink"},null,"2019","January 2019",null,null,"Author","Alix Wood",null,null,null,null,"O",null,"Grade 3 - 4","Grade 3 - 5","Pastels can create smooth, creamy colors, or rough, waxy textures. An expressive art form full of emotion, pastels are perfect for young artists who want to dive into color, and get a bit messy. This guide to pastels gives readers the tools they need to begin making their own masterpieces. Each engaging project helps young artists build their skills while creating. Step-by-step instructions with full-color photographs guide readers seamlessly through each project. This beautifully designed volume will be a valuable tool for any art curriculum.","English",27.6,20.7,"741.2'35--dc23","32 pp.","https://www.garethstevens.com/9781538235898",null,{"$f":"Table1[[#This Row],[QTY]]*Table1[[#This Row],['# Books]]","v":0},{"$f":"Table1[[#This Row],[QTY]]*Table1[[#This Row],[S&L Price]]","v":0}]
[null,null,43,"Great Artists",6,"Great Artists: Set 2","Library Set",null,"978-1-5382-8148-2",null,null,"2023","August 2022","Library","8.500 X 11.00",null,null,null,null,null,null,null,null,"Grade 4 - 6","Grade 4 - 6","Often great artists are known by their most famous pieces. Degas is known for his paintings and sculptures of ballet dancers. Renoir made many paintings of people. But there’s more to every artist than just these few pieces! In this set, readers are introduced to some of the most influential artists ever, including Rembrandt, J. M. W. Turner, and Monet. A continuation of our celebrated series, these six books examine the lives and techniques of artists and conclude with an activity inviting readers to try out each artist’s style for themselves.","English",165.6,124.2,null,"32 pp.","https://www.garethstevens.com/9781538281482",null,{"$f":"Table1[[#This Row],[QTY]]*Table1[[#This Row],['# Books]]","v":0},{"$f":"Table1[[#This Row],[QTY]]*Table1[[#This Row],[S&L Price]]","v":0}]
[null,null,43,"Great Artists",1,"J. M. W. Turner","Library Bound Book",null,"978-1-5382-7707-2",null,null,"2023","August 2022","Library","8.500 X 11.00","Author","Craig Boutland",null,null,null,null,"S",null,"Grade 4 - 6","Grade 4 - 6","The beautiful landscapes of J. W. Turner are considered to be part of the Romantic movement. Turner was an English painter who loved to paint outside and use natural light. He even painted in the rain! In this introduction to Turner and his work, his life, techniques, and major pieces are discussed, including Interior of Salisbury Cathedral and Calias Pier. To conclude the book, an activity invites readers to create a work inspired by what they have learned about Turner throughout the book.","English",27.6,20.7,"759.2--dc23","32 pp.","https://www.garethstevens.com/9781538277072",null,{"$f":"Table1[[#This Row],[QTY]]*Table1[[#This Row],['# Books]]","v":0},{"$f":"Table1[[#This Row],[QTY]]*Table1[[#This Row],[S&L Price]]","v":0}]
[null,null,43,"Great Artists",1,"Pierre-Auguste Renoir","eBook",null,"978-1-5382-7712-6",null,null,"2023","August 2022",null,null,"Author","Craig Boutland",null,null,null,null,"S",null,"Grade 4 - 6","Grade 4 - 6","Today, Renoir is known for his masterful paintings. But, at the beginning of his artistic career, he painted plates and cups! Readers are introduced to this important French Impressionist through interesting biographical information and accessible discussion of the techniques he used to achieve his beautiful works, including Bouquet of Chrysanthemums and The Frog Pond. Full-color images of his work accompany the at-level text. An activity at the end invites readers to use what they have learned about Renoir and create a work inspired by his technique.","English",27.6,20.7,"759.4--dc23","32 pp.","https://www.garethstevens.com/9781538277126","http://www.epointplus.com/embed/9781538277126/?login=cyberrep&password=cyberrep",{"$f":"Table1[[#This Row],[QTY]]*Table1[[#This Row],['# Books]]","v":0},{"$f":"Table1[[#This Row],[QTY]]*Table1[[#This Row],[S&L Price]]","v":0}]
[null,null,43,"Great Artists",1,"Georges Seurat","Library Bound Book",null,"978-1-4824-1455-4",{"$f":"HYPERLINK(Table1[[#This Row],[eCommerce Hyperlink]],\"Book Weblink\")","v":"Book Weblink"},null,"2015","August 2014","Library","8.500 X 11.00","Author","Iain Zaczek",null,null,"40",null,"R",null,"Grade 4","Grade 3 - 6","When one thinks of Georges Seurat, one artistic technique should come to mind: pointillism. Through Seurat’s study of color and light, he came to use tiny dots to create gorgeous, unique colors. Readers see full-color photographs of some of his most famous pieces, such as A Sunday Afternoon on La Grande Jatte. Close-up images of small parts of the works call readers’ attention to interesting details, like the child in this painting who’s looking straight out of the canvas. Through clear instructions, readers can learn how to do a pointillist painting, too—if they have the patience!","English",27.6,20.7,"759.4","32 pp.","https://www.garethstevens.com/9781482414554",null,{"$f":"Table1[[#This Row],[QTY]]*Table1[[#This Row],['# Books]]","v":0},{"$f":"Table1[[#This Row],[QTY]]*Table1[[#This Row],[S&L Price]]","v":0}]
[null,null,43,"Great Artists",1,"Mary Cassatt","eBook",null,"978-1-4824-1379-3",{"$f":"HYPERLINK(Table1[[#This Row],[eCommerce Hyperlink]],\"Book Weblink\")","v":"Book Weblink"},null,"2015","August 2014",null,null,"Author","Iain Zaczek",null,null,"40",null,"R",null,"Grade 4","Grade 3 - 6","Mary Cassatt said, “There are two ways for a painter: the broad and easy one or the narrow and hard one.” Though born in Pennsylvania, Cassatt studied traditional art in Europe, but was eventually influenced by the Impressionists and Japanese prints. Full-color photographs of her works, including At the Opera, demonstrate her techniques, which readers can learn to emulate. Details and interesting trivia about her pieces are called out, such as the reason the figure in Young Woman Sewing in a Garden is wearing white. Cassatt wanted other colors to be reflected on it!","English",27.6,20.7,"759.13","32 pp.","https://www.garethstevens.com/9781482413793",null,{"$f":"Table1[[#This Row],[QTY]]*Table1[[#This Row],['# Books]]","v":0},{"$f":"Table1[[#This Row],[QTY]]*Table1[[#This Row],[S&L Price]]","v":0}]
[null,null,44,"Greatest of All Time: Sports Stars",1,"The Greatest Baseball Players of All Time","Library Bound Book",null,"978-1-5382-4773-0",{"$f":"HYPERLINK(Table1[[#This Row],[eCommerce Hyperlink]],\"Book Weblink\")","v":"Book Weblink"},null,"2020","January 2020","Library","8.500 X 11.00","Author","Michael Rajczak","5.8","0.5",null,null,"O",null,"Grade 3 - 4","Grade 3 - 6","What makes a baseball player one of the greatest of all time? Some say a player should be a member of the Baseball Hall of Fame. Others think it has something to do with home runs or strikeouts. Nearly 20,000 people have played Major League Baseball since the first official game in 1871. In this fan-pleasing volume, readers discover amazing facts about great hitters like Babe Ruth and Hank Aaron. Was old-timer Horus Wagner or recently retired Derek Jeter the best shortstop? Readers will decide. Position by position, this fascinating book, replete with action-packed photographs, highlights the best of the best.","English",27.6,20.7,"796.3570922--dc23","32 pp.","https://www.garethstevens.com/9781538247730",null,{"$f":"Table1[[#This Row],[QTY]]*Table1[[#This Row],['# Books]]","v":0},{"$f":"Table1[[#This Row],[QTY]]*Table1[[#This Row],[S&L Price]]","v":0}]
[null,null,44,"Greatest of All Time: Sports Stars",1,"The Greatest Football Players of All Time","Library Bound Book",null,"978-1-5382-4781-5",{"$f":"HYPERLINK(Table1[[#This Row],[eCommerce Hyperlink]],\"Book Weblink\")","v":"Book Weblink"},null,"2020","January 2020","Library","8.500 X 11.00","Author","Matt Jankowski","5.7","0.5",null,null,"O",null,"Grade 3 - 4","Grade 3 - 6","\"Hut, Hut, Hike!\" This engaging volume serves as an introduction to some of the greatest athletes to grace the gridiron. Readers will discover the players who dominated their respective eras and see where their current favorites rank among the best of the best. The compelling text is organized by position so that any aspiring player can find an athlete to admire and strive to emulate. With gritty, star-studded photographs and flashy statistics tables, developing readers will go deep into this exciting text, learning as they imagine what it was like to play against the greatest of all time.","English",27.6,20.7,"796.3320922--dc23","32 pp.","https://www.garethstevens.com/9781538247815",null,{"$f":"Table1[[#This Row],[QTY]]*Table1[[#This Row],['# Books]]","v":0},{"$f":"Table1[[#This Row],[QTY]]*Table1[[#This Row],[S&L Price]]","v":0}]
[null,null,44,"Greatest of All Time: Sports Stars",1,"The Greatest Track Stars of All Time","eBook",null,"978-1-5382-4790-7",{"$f":"HYPERLINK(Table1[[#This Row],[eCommerce Hyperlink]],\"Book Weblink\")","v":"Book Weblink"},null,"2020","January 2020",null,null,"Author","Matt Jankowski","6.0","0.5",null,null,"P",null,"Grade 3 - 4","Grade 3 - 6","\"On your mark, get set, go!\" Readers will see if they can keep up as they race to read more about the fastest sprinters, longest jumpers, and strongest throwers of track and field. The inspiring text informs on each aspect of track and field, so every aspiring athlete can find a role model for their event. Readers will find stories of strength, resolve, and endurance among the featured athletes. Thrilling photographs and exciting graphics help readers envision themselves on the track alongside their favorite competitors.","English",27.6,20.7,"796.420922--dc23","32 pp.","https://www.garethstevens.com/9781538247907",null,{"$f":"Table1[[#This Row],[QTY]]*Table1[[#This Row],['# Books]]","v":0},{"$f":"Table1[[#This Row],[QTY]]*Table1[[#This Row],[S&L Price]]","v":0}]
[null,21,44,"History's Famous Friendships",1,"George Washington and Alexander Hamilton","Library Bound Book",null,"978-1-5382-6491-1",{"$f":"HYPERLINK(Table1[[#This Row],[eCommerce Hyperlink]],\"Book Weblink\")","v":"Book Weblink"},null,"2022","August 2021","Library","8.500 X 8.500","Author","Katie Kawa","4.8","0.5",null,null,"N",null,"Grade 2 - 3","Grade 2 - 5","George Washington and Alexander Hamilton were two of the most famous Founding Fathers. They fought for American independence and then worked to build the United States into a strong and stable country. Along the way, they also became friends. The story of their friendship and how it helped shape the United States is presented through engaging text that balances historical context with a relatable narrative. Featuring fun fact boxes, quotes from primary sources, and an eye-catching design, this high-interest look at history and social studies topics will keep young readers entertained as they learn.","English",27.6,20.7,"973.3092/2--dc23","32 pp.","https://www.garethstevens.com/9781538264911",null,{"$f":"Table1[[#This Row],[QTY]]*Table1[[#This Row],['# Books]]","v":0},{"$f":"Table1[[#This Row],[QTY]]*Table1[[#This Row],[S&L Price]]","v":0}]
[null,21,44,"History's Famous Friendships",1,"John Adams and Thomas Jefferson","Library Bound Book",null,"978-1-5382-6499-7",{"$f":"HYPERLINK(Table1[[#This Row],[eCommerce Hyperlink]],\"Book Weblink\")","v":"Book Weblink"},null,"2022","August 2021","Library","8.500 X 8.500","Author","Jill Keppeler","4.9","0.5",null,null,"N",null,"Grade 2 - 3","Grade 2 - 5","Great friendships are not always easy. The friendship between Founding Fathers John Adams and Thomas Jefferson was downright rocky, so much so that they're sometimes called the \"Founding Frenemies.\" With this unique book, readers will learn about the relationship, friendly and otherwise, between two of the United States' most well-known founders. Readers follow along from their first meeting as delegates in the Continental Congress in 1775 to their deaths on the same day in 1826. Primary sources offer insight into their often-adversarial friendship. Historical photographs provide a window into the era.","English",27.6,20.7,"973.3092/2--dc23","32 pp.","https://www.garethstevens.com/9781538264997",null,{"$f":"Table1[[#This Row],[QTY]]*Table1[[#This Row],['# Books]]","v":0},{"$f":"Table1[[#This Row],[QTY]]*Table1[[#This Row],[S&L Price]]","v":0}]
[null,21,44,"History's Famous Friendships",1,"John Adams and Thomas Jefferson","eBook",null,"978-1-5382-6500-0",{"$f":"HYPERLINK(Table1[[#This Row],[eCommerce Hyperlink]],\"Book Weblink\")","v":"Book Weblink"},null,"2022","August 2021",null,null,"Author","Jill Keppeler","4.9","0.5",null,null,"N",null,"Grade 2 - 3","Grade 2 - 5","Great friendships are not always easy. The friendship between Founding Fathers John Adams and Thomas Jefferson was downright rocky, so much so that they're sometimes called the \"Founding Frenemies.\" With this unique book, readers will learn about the relationship, friendly and otherwise, between two of the United States' most well-known founders. Readers follow along from their first meeting as delegates in the Continental Congress in 1775 to their deaths on the same day in 1826. Primary sources offer insight into their often-adversarial friendship. Historical photographs provide a window into the era.","English",27.6,20.7,"973.3092/2--dc23","32 pp.","https://www.garethstevens.com/9781538265000",null,{"$f":"Table1[[#This Row],[QTY]]*Table1[[#This Row],['# Books]]","v":0},{"$f":"Table1[[#This Row],[QTY]]*Table1[[#This Row],[S&L Price]]","v":0}]
[null,null,45,"Be a Scientist!",6,"Be a Scientist!: Set 1","Library Set",null,"978-1-4824-1177-5",{"$f":"HYPERLINK(Table1[[#This Row],[eCommerce Hyperlink]],\"Book Weblink\")","v":"Book Weblink"},null,"2015","August 2014","Library","7.750 X 10.00",null,null,null,null,null,null,null,null,"Grade 3 - 4","Grade 3 - 6","There are few careers more interesting and beneficial than that of a scientist. This in-depth series gives readers a chance to explore the most fascinating science professions. Readers will learn what it's like to go on an archaeological dig and gain a better understanding of the work behind a meteorologist's forecast. The day-to-day duties and the surprising, and even exciting, facets of each career are investigated as well as the requisite path of education. Breakthroughs and anecdotes of actual scientists add real-world context to each book.   • Colorful photographs present real-life scientists in action   • Supports the elementary science curriculum while inspiring future scientists      • Sidebar topics enhance text and add to the attractive page layout ","English",165.6,124.2,null,"32 pp.","https://www.garethstevens.com/9781482411775",null,{"$f":"Table1[[#This Row],[QTY]]*Table1[[#This Row],['# Books]]","v":0},{"$f":"Table1[[#This Row],[QTY]]*Table1[[#This Row],[S&L Price]]","v":0}]
[null,null,45,"Be a Scientist!",1,"Be a Zoologist","Library Bound Book",null,"978-1-4824-1477-6",{"$f":"HYPERLINK(Table1[[#This Row],[eCommerce Hyperlink]],\"Book Weblink\")","v":"Book Weblink"},null,"2015","August 2014","Library","7.750 X 10.00","Author","Blair Belton",null,null,"40",null,"R",null,"Grade 3 - 4","Grade 3 - 6","People pursuing careers in zoology usually focus on certain groups of animals. Herpetologists study reptiles and amphibians, and entomologists are experts on insects. They don't just work at zoos, either. They're teachers, writers, researchers, and more. Some zoologists work in labs and classrooms, while others travel the oceans and trek over mountains. A deep interest in animals and understanding of biology is needed to succeed in this high-interest career. Animal lovers will enjoy learning about different kinds of animals as well as considering the many facets of this profession.","English",27.6,20.7,"590.92","32 pp.","https://www.garethstevens.com/9781482414776",null,{"$f":"Table1[[#This Row],[QTY]]*Table1[[#This Row],['# Books]]","v":0},{"$f":"Table1[[#This Row],[QTY]]*Table1[[#This Row],[S&L Price]]","v":0}]
[null,null,45,"Be a Scientist!",1,"Be an Archaeologist","eBook",null,"978-1-4824-1410-3",{"$f":"HYPERLINK(Table1[[#This Row],[eCommerce Hyperlink]],\"Book Weblink\")","v":"Book Weblink"},null,"2015","August 2014",null,null,"Author","Mark J. Harasymiw ",null,null,"40",null,"Q","980L","Grade 3 - 4","Grade 3 - 6","Archaeologists have opened whole new worlds to people, such as ancient Egypt and prehistoric America. However, an archaeological dig requires a lot of meticulous preparation, research, and labor. Readers are given a glimpse into the hard work that archaeologists do as well as the excitement of the discoveries. The USS Monitor and the tomb of King Tutankhamun are highlighted as two of the great findings of the past century. Readers are encouraged to begin laying the educational foundation they'll need to pursue this thrilling career.","English",27.6,20.7,"930.1","32 pp.","https://www.garethstevens.com/9781482414103",null,{"$f":"Table1[[#This Row],[QTY]]*Table1[[#This Row],['# Books]]","v":0},{"$f":"Table1[[#This Row],[QTY]]*Table1[[#This Row],[S&L Price]]","v":0}]
[null,null,45,"Be a Scientist!",1,"Be a Computer Scientist","eBook",null,"978-1-5382-3081-7",{"$f":"HYPERLINK(Table1[[#This Row],[eCommerce Hyperlink]],\"Book Weblink\")","v":"Book Weblink"},null,"2019","January 2019",null,null,"Author","Jonathan E. Bard",null,null,null,null,"R",null,"Grade 3 - 4","Grade 3 - 6","From the fast-paced world of social media and data security, to the cutting-edge research on cancer and other complex diseases, computer scientists are hard at work writing programs to collect, store, protect, and analyze huge amounts of data. Readers will be introduced to the incredibly diverse and in-demand career options available to people with computer science expertise. Projected to be one of the fastest-growing industries over the next 10 years, there's no better time to learning about becoming a computer scientist.","English",27.6,20.7,"004.023--dc23","32 pp.","https://www.garethstevens.com/9781538230817",null,{"$f":"Table1[[#This Row],[QTY]]*Table1[[#This Row],['# Books]]","v":0},{"$f":"Table1[[#This Row],[QTY]]*Table1[[#This Row],[S&L Price]]","v":0}]
[null,null,45,"Be a Scientist!",1,"Be a Microbiologist","Library Bound Book",null,"978-1-5382-2998-9",{"$f":"HYPERLINK(Table1[[#This Row],[eCommerce Hyperlink]],\"Book Weblink\")","v":"Book Weblink"},null,"2019","January 2019","Library","8.500 X 11.00","Author","Zelda Salt",null,null,null,null,"R",null,"Grade 3 - 4","Grade 3 - 6","Has anyone ever told you to \"think big?\" Microbiologists do the opposite: think small, so small they can only see it with a microscope. Readers learn that though microbiologists study the smallest organisms on Earth, they ask big questions about life processes, like sickness and health, and everyday questions, such as how bread is made. Including the schooling, training, and daily tasks of these incredible scientists, the main content also covers information readers will encounter in the science classroom, such as how bacteria grow, methods for experiments, and perhaps how to bake a better loaf of bread.","English",27.6,20.7,"579.023--dc23","32 pp.","https://www.garethstevens.com/9781538229989",null,{"$f":"Table1[[#This Row],[QTY]]*Table1[[#This Row],['# Books]]","v":0},{"$f":"Table1[[#This Row],[QTY]]*Table1[[#This Row],[S&L Price]]","v":0}]
[null,null,45,"Before They Were President",6,"Before They Were President: Set 1","Library Set",null,"978-1-5382-1279-0",{"$f":"HYPERLINK(Table1[[#This Row],[eCommerce Hyperlink]],\"Book Weblink\")","v":"Book Weblink"},null,"2018","January 2018","Library","8.500 X 8.500",null,null,null,null,null,null,null,null,"Grade 2 - 3","Grade 2 - 5","The path to the presidency is different for everyone. This timely series explores that path and the many reasons why people aspire to become President. Readers learn how an ordinary person gains the trust of the American people, and about their lives before becoming Commander in Chief. From Teddy Roosevelt's service in the military to Abraham Lincoln's incredible debate skills, every president's past is remarkable and shapes the future of the United States under their presidency.","English",141.6,106.2,null,"24 pp.","https://www.garethstevens.com/9781538212790",null,{"$f":"Table1[[#This Row],[QTY]]*Table1[[#This Row],['# Books]]","v":0},{"$f":"Table1[[#This Row],[QTY]]*Table1[[#This Row],[S&L Price]]","v":0}]
[null,null,45,"Before They Were President",1,"Before Andrew Jackson Was President","eBook",null,"978-1-5382-1063-5",{"$f":"HYPERLINK(Table1[[#This Row],[eCommerce Hyperlink]],\"Book Weblink\")","v":"Book Weblink"},null,"2018","January 2018",null,null,"Author","Michael Rajczak","5.1","0.5",null,null,"L",null,"Grade 2 - 3","Grade 2 - 5","Andrew Jackson took his fame from the War of 1812 and became the people's president. But before his inauguration lay a fascinating story waiting to be told, from Jackson's military career to his origins as an orphan from South Carolina. After losing much of his family during the American Revolution, Jackson followed his family into a military life and became famous for his efforts in New Orleans during the second war with the British. Through timelines and other exciting graphical elements, Jackson's life is brought into sharp focus for readers looking for a fuller picture of presidential history.","English",23.6,17.7,"973.56092--dc23","24 pp.","https://www.garethstevens.com/9781538210635",null,{"$f":"Table1[[#This Row],[QTY]]*Table1[[#This Row],['# Books]]","v":0},{"$f":"Table1[[#This Row],[QTY]]*Table1[[#This Row],[S&L Price]]","v":0}]
[null,null,45,"Before They Were President",1,"Before John F. Kennedy Was President","eBook",null,"978-1-5382-1075-8",{"$f":"HYPERLINK(Table1[[#This Row],[eCommerce Hyperlink]],\"Book Weblink\")","v":"Book Weblink"},null,"2018","January 2018",null,null,"Author","Katie Kawa","4.8","0.5",null,null,"L",null,"Grade 2 - 3","Grade 2 - 5","The story of Kennedy's presidency ends in tragedy, but his young life is full of amazing stories. From his strict upbringing in a house of nine children to meeting his future wife Jacqueline, Kennedy's life before he took office was as exciting as his presidency. Through engaging graphic elements and a thorough timeline, readers experience Kennedy's youth and rise to political power. From a house in Brookline, Massachusetts, to 1600 Pennsylvania Avenue, Kennedy's story is one of the great American legends that actually happened.","English",23.6,17.7,"973.922092--dc23","24 pp.","https://www.garethstevens.com/9781538210758",null,{"$f":"Table1[[#This Row],[QTY]]*Table1[[#This Row],['# Books]]","v":0},{"$f":"Table1[[#This Row],[QTY]]*Table1[[#This Row],[S&L Price]]","v":0}]
[null,null,45,"Before They Were President",1,"Before Barack Obama Was President","eBook",null,"978-1-5382-3050-3",{"$f":"HYPERLINK(Table1[[#This Row],[eCommerce Hyperlink]],\"Book Weblink\")","v":"Book Weblink"},null,"2019","January 2019",null,null,"Author","Julia McDonnell","5.2","0.5",null,null,"L",null,"Grade 2 - 3","Grade 2 - 5","American presidents' administrations are thoroughly studied, analyzed, and chronicled. What about these politicians' lives before being elected to the country's highest office? Barack Obama's unique story and life experiences, both the triumphant and the challenging, will give young readers insight into his road to the White House. They'll follow him from his earliest days in Hawaii to his historic 2008 election, learning interesting tidbits along the way, such as the fact that he had a pet ape named Tata. Details about the events and lessons that shaped him into America's 44th president are shared. Photographs, maps, quotes, and \"fun facts\" supplement this biography and engage readers of all levels.","English",23.6,17.7,"973.932092--dc23","24 pp.","https://www.garethstevens.com/9781538230503",null,{"$f":"Table1[[#This Row],[QTY]]*Table1[[#This Row],['# Books]]","v":0},{"$f":"Table1[[#This Row],[QTY]]*Table1[[#This Row],[S&L Price]]","v":0}]
[null,null,45,"Before They Were President",1,"Before George Washington Was President","eBook",null,"978-1-5382-3053-4",{"$f":"HYPERLINK(Table1[[#This Row],[eCommerce Hyperlink]],\"Book Weblink\")","v":"Book Weblink"},null,"2019","January 2019",null,null,"Author","Janey Levy","5.1","0.5",null,null,"L",null,"Grade 2 - 3","Grade 2 - 5","Everyone knows George Washington was the first president of the young United States. Most also know that before he was president, Washington was the commander of the Continental army during the American Revolution. But Washington had a busy life long before the war. Readers of this lively biography will discover what life was like for the young Washington, from his childhood in rural Virginia through his surveying and military career to his early political life. Each spread contains accessible text and vivid images, plus captions and fact boxes that enhance the main text with additional information.","English",23.6,17.7,"973.4'1092--dc23","24 pp.","https://www.garethstevens.com/9781538230534",null,{"$f":"Table1[[#This Row],[QTY]]*Table1[[#This Row],['# Books]]","v":0},{"$f":"Table1[[#This Row],[QTY]]*Table1[[#This Row],[S&L Price]]","v":0}]
[null,null,45,"Before They Were President",1,"Before Ulysses S. Grant Was President","eBook",null,"978-1-5382-3055-8",{"$f":"HYPERLINK(Table1[[#This Row],[eCommerce Hyperlink]],\"Book Weblink\")","v":"Book Weblink"},null,"2019","January 2019",null,null,"Author","Mark Harasymiw","5.2","0.5",null,null,"M","890L","Grade 2 - 3","Grade 2 - 5","Before he became president of the United States in 1869, Ulysses S. Grant led quite an exciting life. He grew up on a farm in Ohio, went to college at West Point, and joined the U.S. Army. He then fought in the Mexican-American War and later the American Civil War. In fact, by the end of the Civil War, he was the highest ranked general in the Union army. Besides significant information like this, readers of this thought-provoking book will also learn how the military man became involved in politics. Striking images and fact boxes supplement this noteworthy biography.","English",23.6,17.7,"973.8/2092--dc23","24 pp.","https://www.garethstevens.com/9781538230558",null,{"$f":"Table1[[#This Row],[QTY]]*Table1[[#This Row],['# Books]]","v":0},{"$f":"Table1[[#This Row],[QTY]]*Table1[[#This Row],[S&L Price]]","v":0}]
[null,null,45,"Digital Insiders",1,"Gamers and Streamers","eBook",null,"978-1-5382-4754-9",{"$f":"HYPERLINK(Table1[[#This Row],[eCommerce Hyperlink]],\"Book Weblink\")","v":"Book Weblink"},null,"2020","January 2020",null,null,"Author, Author","Jonathan Bard, Mariel Bard",null,null,null,null,"P",null,"Grade 3 - 4","Grade 3 - 6","No longer are sports played only on a field or in an arena. Professional gaming leagues are gaining worldwide recognition for their exciting competitions and star players, most of whom rose to fame through online streaming. From the first video game tournament held in 1972 to today, gaming has come a long way. Major sports organizations, like the NBA and MLS, are sponsoring their own eSports leagues. This attention-grabbing volume dives into the rise of online games, the gamers who play them, and how gamers make a living as full-time streamers. Also discussed are online privacy best practices.","English",27.6,20.7,"794.8--dc23","32 pp.","https://www.garethstevens.com/9781538247549",null,{"$f":"Table1[[#This Row],[QTY]]*Table1[[#This Row],['# Books]]","v":0},{"$f":"Table1[[#This Row],[QTY]]*Table1[[#This Row],[S&L Price]]","v":0}]
[null,null,45,"Digital Insiders",1,"Online Journalists","eBook",null,"978-1-5382-4758-7",{"$f":"HYPERLINK(Table1[[#This Row],[eCommerce Hyperlink]],\"Book Weblink\")","v":"Book Weblink"},null,"2020","January 2020",null,null,"Author","Jill Keppeler",null,null,null,null,"Q",null,"Grade 3 - 4","Grade 3 - 6","Journalism has been a profession for a long time, but as news sources move online, it's changing into a field that makes increasing use of social media and other tools. This informative volume will show would-be writers and reporters how online journalists use these tools to investigate and deliver news, and how they can learn how to do this themselves. History and examples of online journalism will pull readers in, and tips for recognizing good sources and following journalism ethics codes will point budding journalists in the right direction.","English",27.6,20.7,"808'.06607--dc23","32 pp.","https://www.garethstevens.com/9781538247587",null,{"$f":"Table1[[#This Row],[QTY]]*Table1[[#This Row],['# Books]]","v":0},{"$f":"Table1[[#This Row],[QTY]]*Table1[[#This Row],[S&L Price]]","v":0}]
[null,null,45,"Digital Insiders",1,"Social Media Influencers","Library Bound Book",null,"978-1-5382-4765-5",{"$f":"HYPERLINK(Table1[[#This Row],[eCommerce Hyperlink]],\"Book Weblink\")","v":"Book Weblink"},null,"2020","January 2020","Library","8.500 X 11.00","Author","Abby Badach Doyle",null,null,null,null,"P",null,"Grade 3 - 4","Grade 3 - 6","It seems crazy, but you really can make hundreds of thousands of dollars just by posting pictures online. \"Social media influencer\" is a real job for many people, and even some pets. This on-trend volume is filled with relatable examples similar to the posts young readers may see in feeds every day. Better yet, this book is a clever way to teach critical thinking skills, like how to spot an advertisement and why it matters if your favorite Instagrammer was paid to review a product. Developing readers will be hooked by this fun and educational look behind the scenes.","English",27.6,20.7,"302.23'1--dc23","32 pp.","https://www.garethstevens.com/9781538247655",null,{"$f":"Table1[[#This Row],[QTY]]*Table1[[#This Row],['# Books]]","v":0},{"$f":"Table1[[#This Row],[QTY]]*Table1[[#This Row],[S&L Price]]","v":0}]
[null,null,45,"Heroes of Black History",1,"Buffalo Soldiers","Library Bound Book",null,"978-1-4824-2902-2",{"$f":"HYPERLINK(Table1[[#This Row],[eCommerce Hyperlink]],\"Book Weblink\")","v":"Book Weblink"},null,"2016","August 2015","Library","8.500 X 11.00","Author","Christine Honders","6.3","0.5","40",null,"Q","1030L","Grade 3 - 4","Grade 3 - 6","In the mid-1880s, the first black regiments of the US Army were nicknamed \"buffalo soldiers\" by Native Americans, a name that stuck. In the nearly 85 years of service that followed, buffalo soldiers served on the western frontier as well as in conflicts in Cuba, the Philippines, and Mexico. These courageous men became known for their discipline, among other admirable qualities. Sadly, they continued to face great prejudice in their own country despite stellar military records. Photographs of the soldiers, accounts of their exploits, and a timeline highlighting important moments of service further reveal the bravery of these troops.","English",27.6,20.7,"973.8","32 pp.","https://www.garethstevens.com/9781482429022",null,{"$f":"Table1[[#This Row],[QTY]]*Table1[[#This Row],['# Books]]","v":0},{"$f":"Table1[[#This Row],[QTY]]*Table1[[#This Row],[S&L Price]]","v":0}]
[null,null,45,"Heroes of Black History",1,"Sojourner Truth","Library Bound Book",null,"978-1-4824-2914-5",{"$f":"HYPERLINK(Table1[[#This Row],[eCommerce Hyperlink]],\"Book Weblink\")","v":"Book Weblink"},null,"2016","August 2015","Library","8.500 X 11.00","Author","Heather Moore Niver","5.3","0.5","40",null,"R","840L","Grade 3 - 4","Grade 3 - 6","Sojourner Truth is best known for her famous speech at the Ohio Women's Rights Convention in 1851 in which she asked, \"Ain't I a woman?\"  Born into slavery in 1797, she escaped to freedom with her baby daughter by 1826. But freedom held hardships for Truth, too. Despite all odds, this extraordinary woman fought for rights for both blacks and women as well as other disenfranchised populations. This in-depth account of the fascinating life of the abolitionist is a must-read in any social studies collection.","English",27.6,20.7,"306.3","32 pp.","https://www.garethstevens.com/9781482429145",null,{"$f":"Table1[[#This Row],[QTY]]*Table1[[#This Row],['# Books]]","v":0},{"$f":"Table1[[#This Row],[QTY]]*Table1[[#This Row],[S&L Price]]","v":0}]
[null,null,45,"Heroes of Black History",1,"W. E. B. Du Bois","eBook",null,"978-1-4824-2923-7",{"$f":"HYPERLINK(Table1[[#This Row],[eCommerce Hyperlink]],\"Book Weblink\")","v":"Book Weblink"},null,"2016","August 2015",null,null,"Author","Hilary Lochte","6.9","0.5","40",null,"R",null,"Grade 3 - 4","Grade 3 - 6","W. E. B. DuBois tackled the great question of the early twentieth century: How could African Americans gain equal footing with whites in the United States? He studied the social conditions of blacks for more than a decade before espousing protest and agitation as vehicles for change. This stand and black nationalist ideas put him at odds with other reformers of the day, such as Booker T. Washington. This outstanding biography of the great leader details his life as well as his roles in the Niagara Movement and the NAACP.","English",27.6,20.7,"323.092--dc23","32 pp.","https://www.garethstevens.com/9781482429237",null,{"$f":"Table1[[#This Row],[QTY]]*Table1[[#This Row],['# Books]]","v":0},{"$f":"Table1[[#This Row],[QTY]]*Table1[[#This Row],[S&L Price]]","v":0}]
[null,null,45,"Heroes of Black History",1,"Jackie Robinson","Library Bound Book",null,"978-1-5382-3018-3",{"$f":"HYPERLINK(Table1[[#This Row],[eCommerce Hyperlink]],\"Book Weblink\")","v":"Book Weblink"},null,"2019","January 2019","Library","8.500 X 11.00","Author","Katie Kawa","6.2","0.5",null,null,"R","1050L","Grade 3 - 4","Grade 3 - 6","Jackie Robinson became the first African American Major League Baseball player, and the story of how he broke baseball's color barrier brings the worlds of sports and history together. How was he chosen to break this barrier, and what struggles did he have to face once he joined the Brooklyn Dodgers? These questions and many more are answered through age-appropriate text, including sidebars that provide additional information about this member of the Baseball Hall of Fame. Graphic organizers and photographs enhance the exciting story of a man whose groundbreaking career continues to inspire athletes around the world.","English",27.6,20.7,"796.357092--dc23","32 pp.","https://www.garethstevens.com/9781538230183",null,{"$f":"Table1[[#This Row],[QTY]]*Table1[[#This Row],['# Books]]","v":0},{"$f":"Table1[[#This Row],[QTY]]*Table1[[#This Row],[S&L Price]]","v":0}]
[null,null,45,"Heroes of Black History",1,"Maya Angelou","Library Bound Book",null,"978-1-5382-3022-0",{"$f":"HYPERLINK(Table1[[#This Row],[eCommerce Hyperlink]],\"Book Weblink\")","v":"Book Weblink"},null,"2019","January 2019","Library","8.500 X 11.00","Author","Jill Keppeler","5.9","0.5",null,null,"R","1010L","Grade 3 - 4","Grade 3 - 6","From the day she was born in 1928, Maya Angelou, born Marguerite Annie Johnson, lived a life full of trials and triumph, struggle and success, and the magic and the power of words. This book tells the inspiring and powerful story of the girl from rural Arkansas who rose to become one of the most beloved writers in the United States and the world. Through photographs and stories, young readers will learn more about the life and words of this amazing American storyteller.","English",27.6,20.7,"818'.5409--dc23","32 pp.","https://www.garethstevens.com/9781538230220",null,{"$f":"Table1[[#This Row],[QTY]]*Table1[[#This Row],['# Books]]","v":0},{"$f":"Table1[[#This Row],[QTY]]*Table1[[#This Row],[S&L Price]]","v":0}]
[null,null,45,"Heroes of Black History",1,"Booker T. Washington","Library Bound Book",null,"978-1-5382-5808-8",{"$f":"HYPERLINK(Table1[[#This Row],[eCommerce Hyperlink]],\"Book Weblink\")","v":"Book Weblink"},null,"2021","August 2020","Library","8.500 X 11.00","Author","Janey Levy","5.9","0.5",null,null,"Q",null,"Grade 3 - 4","Grade 3 - 6","Booker T. Washington has been described as the most famous and influential black man in the United States between 1895 and 1915. Born into slavery, his childhood was marked by poverty and hard labor. This compelling biography traces Washington's life. Readers learn details about his early years, his determined struggle to achieve an education, and his rise as an influential black leader. His sometimes-controversial ideas about how blacks should work to achieve equality in American society are explored. This accessible narrative is complemented by historical photographs, sidebars, and a detailed timeline.","English",27.6,20.7,"370.92--dc23","32 pp.","https://www.garethstevens.com/9781538258088",null,{"$f":"Table1[[#This Row],[QTY]]*Table1[[#This Row],['# Books]]","v":0},{"$f":"Table1[[#This Row],[QTY]]*Table1[[#This Row],[S&L Price]]","v":0}]
[null,null,45,"Heroes of Black History",1,"Muhammad Ali","Library Bound Book",null,"978-1-5382-5796-8",{"$f":"HYPERLINK(Table1[[#This Row],[eCommerce Hyperlink]],\"Book Weblink\")","v":"Book Weblink"},null,"2021","August 2020","Library","8.500 X 11.00","Author","Michael Rajczak","5.5","0.5",null,null,"Q",null,"Grade 3 - 4","Grade 3 - 6","Muhammad Ali may have been the greatest athlete of the 20th century. He won two Golden Gloves titles and recorded many victories during his incredible boxing career. In 1960 he won the gold medal for boxing at the Olympics in Rome, Italy. Later, he became and activist and philanthropist, leaving a legacy out of the boxing ring as well as in it. Readers explore the rich life of a great champion who also became a living symbol of hope and peace in this inspiring biography.","English",27.6,20.7,"796.83092--dc23","32 pp.","https://www.garethstevens.com/9781538257968",null,{"$f":"Table1[[#This Row],[QTY]]*Table1[[#This Row],['# Books]]","v":0},{"$f":"Table1[[#This Row],[QTY]]*Table1[[#This Row],[S&L Price]]","v":0}]
[null,null,45,"Heroes of Black History",1,"Toni Morrison","Library Bound Book",null,"978-1-5382-5804-0",{"$f":"HYPERLINK(Table1[[#This Row],[eCommerce Hyperlink]],\"Book Weblink\")","v":"Book Weblink"},null,"2021","August 2020","Library","8.500 X 11.00","Author","Janey Levy","5.6","0.5",null,null,"Q",null,"Grade 3 - 4","Grade 3 - 6","Toni Morrison was one of the most celebrated writers of the 20th and early 21st centuries. She was the first African American woman to win the Nobel Prize in Literature and she received numerous other awards. This fascinating volume traces Morrison's life from her childhood in Lorain, Ohio, through her marriage, academic career, editing career, and writing success. Accessible text provides important social studies material while vivid photographs impart touching and important moments. Sidebars and a detailed timeline enrich the narrative.","English",27.6,20.7,"813/.54--dc23","32 pp.","https://www.garethstevens.com/9781538258040",null,{"$f":"Table1[[#This Row],[QTY]]*Table1[[#This Row],['# Books]]","v":0},{"$f":"Table1[[#This Row],[QTY]]*Table1[[#This Row],[S&L Price]]","v":0}]
[null,null,45,"Meet the Greats",1,"Florence Nightingale","Library Bound Book",null,"978-1-4824-5950-0",{"$f":"HYPERLINK(Table1[[#This Row],[eCommerce Hyperlink]],\"Book Weblink\")","v":"Book Weblink"},null,"2017","January 2017","Library","7.250 X 9.250","Author","Tim Cooke","5.8","1",null,null,"U","850L","Grade 5","Grade 4 - 6","Florence Nightingale’s name is perhaps more familiar than her reputation as the founder of modern nursing. This notable biography, full of striking photographs and images, explains how this remarkable woman bucked societal pressure to become a nurse—the “Lady with the Lamp.” Nightingale’s work in military hospitals during the Crimean War was the beginning of great reforms in hospitals all over the world. Spellbound readers will be aghast to learn of the appalling conditions of hospitals of the 19th century and grateful for Nightingale’s persistence in improving medical care.","English",34.270000000000003,25.7,"610.73--dc23","48 pp.","https://www.garethstevens.com/9781482459500",null,{"$f":"Table1[[#This Row],[QTY]]*Table1[[#This Row],['# Books]]","v":0},{"$f":"Table1[[#This Row],[QTY]]*Table1[[#This Row],[S&L Price]]","v":0}]
[null,null,45,"Meet the Greats",1,"Martin Luther King Jr.","Library Bound Book",null,"978-1-4824-5954-8",{"$f":"HYPERLINK(Table1[[#This Row],[eCommerce Hyperlink]],\"Book Weblink\")","v":"Book Weblink"},null,"2017","January 2017","Library","7.250 X 9.250","Author","Tim Cooke","6.1","1",null,null,"T",null,"Grade 5","Grade 4 - 6","Martin Luther King Jr., the iconic civil rights leader, was born into a world where he did not enjoy the same rights or opportunities as white Americans. Yet, he prompted great societal change through remarkable, peaceful means. This compelling and comprehensive biography takes readers on the journey of King’s life from young Georgia pastor to the iconic trailblazer who met a tragic end. A timeline provides a summary of significant moments in King’s life. His key speeches and books are noted as well, so readers can continue to experience this extraordinary man’s powerful words, still relevant today.","English",34.270000000000003,25.7,"323.092--dc23","48 pp.","https://www.garethstevens.com/9781482459548",null,{"$f":"Table1[[#This Row],[QTY]]*Table1[[#This Row],['# Books]]","v":0},{"$f":"Table1[[#This Row],[QTY]]*Table1[[#This Row],[S&L Price]]","v":0}]
[null,null,45,"Meet the Greats",6,"Meet the Greats: Set 2","Library Set",null,"978-1-5382-2721-3",{"$f":"HYPERLINK(Table1[[#This Row],[eCommerce Hyperlink]],\"Book Weblink\")","v":"Book Weblink"},null,"2019","August 2018","Library","7.250 X 9.250",null,null,null,null,null,null,null,null,"Grade 5","Grade 4 - 6","Throughout history, there are many heroic figures whose names and wonderful accomplishments have stood the test of time. This moving set of Meet the Greats introduces readers to more of the \"greats\" who have shaped our world for the better: Anne Frank, Mahatma Gandhi, Malala Yousafzai, Pope Francis, Barack Obama, and Princess Diana. Each volume features a comprehensive biography, enhanced by fact boxes full of quick, bite-sized information. Charming illustrations and full-color photographs of these world-changing figures bring their stories to life. Each of these important figures will inspire and amaze readers, while the unique and playful format of this innovative series will encourage a passion for history. Features include: \"Quick Fact\" boxes highlight important information. Biographies help readers engage with Common Core reading standards, such as chronology and cause and effect. Colorful, playful design makes reading fun.","English",205.62,154.19999999999999,null,"48 pp.","https://www.garethstevens.com/9781538227213",null,{"$f":"Table1[[#This Row],[QTY]]*Table1[[#This Row],['# Books]]","v":0},{"$f":"Table1[[#This Row],[QTY]]*Table1[[#This Row],[S&L Price]]","v":0}]
[null,null,45,"Meet the Greats",1,"Mahatma Gandhi","Library Bound Book",null,"978-1-5382-2584-4",{"$f":"HYPERLINK(Table1[[#This Row],[eCommerce Hyperlink]],\"Book Weblink\")","v":"Book Weblink"},null,"2019","August 2018","Library","7.250 X 9.250","Author","Tim Cooke","6.2","1",null,null,"U","910L","Grade 5","Grade 4 - 6","One of the most well-known activists in human history, Mahatma Gandhi's life story is a fascinating one. An iconic leader of peaceful protests, Gandhi led acts of civil disobedience in the fight for India's independence from Britain. Readers of this biography will learn all about Gandhi's life, from his childhood to his incredible achievements in politics and activism. Stunning photographs and images illustrate the story of Gandhi's life, while fun fact boxes capture important information. This peaceful leader's life story is sure to inspire readers and encourage a passion for activism.","English",34.270000000000003,25.7,"954.03'5092--dc23","48 pp.","https://www.garethstevens.com/9781538225844",null,{"$f":"Table1[[#This Row],[QTY]]*Table1[[#This Row],['# Books]]","v":0},{"$f":"Table1[[#This Row],[QTY]]*Table1[[#This Row],[S&L Price]]","v":0}]
[null,null,45,"Meet the Greats",1,"Mahatma Gandhi","eBook",null,"978-1-5382-2586-8",{"$f":"HYPERLINK(Table1[[#This Row],[eCommerce Hyperlink]],\"Book Weblink\")","v":"Book Weblink"},null,"2019","August 2018",null,null,"Author","Tim Cooke","6.2","1",null,null,"U","910L","Grade 5","Grade 4 - 6","One of the most well-known activists in human history, Mahatma Gandhi's life story is a fascinating one. An iconic leader of peaceful protests, Gandhi led acts of civil disobedience in the fight for India's independence from Britain. Readers of this biography will learn all about Gandhi's life, from his childhood to his incredible achievements in politics and activism. Stunning photographs and images illustrate the story of Gandhi's life, while fun fact boxes capture important information. This peaceful leader's life story is sure to inspire readers and encourage a passion for activism.","English",34.270000000000003,25.7,"954.03'5092--dc23","48 pp.","https://www.garethstevens.com/9781538225868",null,{"$f":"Table1[[#This Row],[QTY]]*Table1[[#This Row],['# Books]]","v":0},{"$f":"Table1[[#This Row],[QTY]]*Table1[[#This Row],[S&L Price]]","v":0}]
[null,null,45,"Meet the Greats",1,"Princess Diana","Library Bound Book",null,"978-1-5382-2581-3",{"$f":"HYPERLINK(Table1[[#This Row],[eCommerce Hyperlink]],\"Book Weblink\")","v":"Book Weblink"},null,"2019","August 2018","Library","7.250 X 9.250","Author","Tim Cooke","6.1","1",null,null,"U","930L","Grade 5","Grade 4 - 6","The royal family of Britain has always been in the spotlight, but few figures have been as beloved as Princess Diana. When Lady Diana Spencer married Prince Charles in 1981 at St. Paul's Cathedral, there were 600,000 people in the streets of London and a TV audience of 750 million viewers. This beautiful biography shows readers the life and work of Princess Diana, who used her celebrity status to do amazing charitable works. One of her most passionate causes was raising awareness of AIDS and challenging the stigma these patients faced. Full-color photographs and images illustrate Princess Diana's story, while fun fact boxes offer bite-sized bits of information.","English",34.270000000000003,25.7,"941.085092--dc23","48 pp.","https://www.garethstevens.com/9781538225813",null,{"$f":"Table1[[#This Row],[QTY]]*Table1[[#This Row],['# Books]]","v":0},{"$f":"Table1[[#This Row],[QTY]]*Table1[[#This Row],[S&L Price]]","v":0}]
[null,null,45,"Meet the Greats",1,"Geronimo","Library Bound Book",null,"978-1-5382-5241-3",{"$f":"HYPERLINK(Table1[[#This Row],[eCommerce Hyperlink]],\"Book Weblink\")","v":"Book Weblink"},null,"2020","January 2020","Library","7.250 X 9.250","Author","Tim Cooke","6","1",null,null,"U",null,"Grade 5","Grade 4 - 6","Apache warrior Geronimo was a survivor. He spent most of his life fighting soldiers who wanted to take his tribe's lands. His bravery and military skills were widely admired, even by his enemies. This respectful and accessible biography of the Native American leader tells readers about Geronimo's motivations and his dreams for his people. The colorful and inviting format, fact boxes, and historical photographs make this an invaluable book for learning about both Native American and U.S. history.","English",34.270000000000003,25.7,"979'.004972--dc23","48 pp.","https://www.garethstevens.com/9781538252413",null,{"$f":"Table1[[#This Row],[QTY]]*Table1[[#This Row],['# Books]]","v":0},{"$f":"Table1[[#This Row],[QTY]]*Table1[[#This Row],[S&L Price]]","v":0}]
[null,null,45,"Meet the Greats",1,"Michelle Obama","eBook",null,"978-1-5382-5248-2",{"$f":"HYPERLINK(Table1[[#This Row],[eCommerce Hyperlink]],\"Book Weblink\")","v":"Book Weblink"},null,"2020","January 2020",null,null,"Author","Tim Cooke","5.9","1",null,null,"U",null,"Grade 5","Grade 4 - 6","Michelle Robinson was a young, ambitious lawyer from Chicago when she met her husband-to-be Barack Obama. Michelle juggled her career and two daughters while supporting her husband's political career, which led him to the White House as the first black president. After Barack left office, Michelle continued to be a global figurehead for advancing women's rights. This accessible biography, which features interesting fact boxes, vivid photographs, and fun cartoon Michelles, has all the information readers want to know about this dynamic woman.","English",34.270000000000003,25.7,"973.932092--dc23","48 pp.","https://www.garethstevens.com/9781538252482",null,{"$f":"Table1[[#This Row],[QTY]]*Table1[[#This Row],['# Books]]","v":0},{"$f":"Table1[[#This Row],[QTY]]*Table1[[#This Row],[S&L Price]]","v":0}]
[null,null,45,"Women Who Made History",4,"Women Who Made History","Library Set",null,"978-1-5382-4315-2",{"$f":"HYPERLINK(Table1[[#This Row],[eCommerce Hyperlink]],\"Book Weblink\")","v":"Book Weblink"},null,"2020","August 2019","Library","6.500 X 9.125",null,null,null,null,null,null,null,null,"Grade 5","Grade 4 - 6","From human rights activists to scientists, it's no secret that some of the most important figures in history have been women. This engaging and informative set introduces readers to strong female leaders they may be unfamiliar with and provides deeper insight on those they likely already know about. Short, but detailed biographies tell what each featured person did to make history. Colorful illustrations are paired with stimulating and factual texts, making for high-interest volumes that are an essential supplement to elementary social studies curricula. Features include: Colorful illustrations engage developing readers. Detailed, factual biographies encourage interest in historical female role models. Well-known and lesser-known figures are featured, providing an excellent resource to be paired with elementary social studies curricula.","English",131.80000000000001,98.8,null,"48 pp.","https://www.garethstevens.com/9781538243152",null,{"$f":"Table1[[#This Row],[QTY]]*Table1[[#This Row],['# Books]]","v":0},{"$f":"Table1[[#This Row],[QTY]]*Table1[[#This Row],[S&L Price]]","v":0}]
[null,null,45,"Women Who Made History",1,"Adventurers and Athletes","eBook",null,"978-1-5382-4314-5",{"$f":"HYPERLINK(Table1[[#This Row],[eCommerce Hyperlink]],\"Book Weblink\")","v":"Book Weblink"},null,"2020","August 2019",null,null,"Author","Julia Adams","6.8","1",null,null,"U",null,"Grade 5","Grade 4 - 6","From sports stars such as tennis icon Serena Williams to aviators and mountaineers, many women have overcome great hurdles to succeed as athletes and adventurers. These women have made history in their own rights and have paved the way for future generations to do so as well. This engaging resource tells the stories of these incredible women. Brief but detailed biographies hold readers' attention while colorful illustrations bring the stories into splendid detail. This high-interest volume pairs well with social studies curricula and is sure to be a popular addition to any library and classroom.","English",32.950000000000003,24.7,"796.092'52--dc23","48 pp.","https://www.garethstevens.com/9781538243145",null,{"$f":"Table1[[#This Row],[QTY]]*Table1[[#This Row],['# Books]]","v":0},{"$f":"Table1[[#This Row],[QTY]]*Table1[[#This Row],[S&L Price]]","v":0}]
[null,23,46,"InfoPics",1,"Animals","Library Bound Book",null,"978-1-5382-7082-0",{"$f":"HYPERLINK(Table1[[#This Row],[eCommerce Hyperlink]],\"Book Weblink\")","v":"Book Weblink"},null,"2022","January 2022","Library","8.500 X 8.500","Author","Harriet Brundle",null,null,null,null,"L",null,"Grade 2 - 3","Grade 2 - 4","There isn’t a better introduction to animals for young readers than this book! Friendly illustrations are paired with simple text to outline the main groups of animals readers will encounter in science class and the world around them: reptiles, mammals, birds, fish, and even invertebrates. Vocabulary terms important to the discussion of animals is highlighted in text and in the glossary. Cute bears, frogs, and fish will draw in the newest readers while the main content teaches the features of the basic animal groups through achievable language and information.","English",23.6,17.7,"590","24 pp.","https://www.garethstevens.com/9781538270820",null,{"$f":"Table1[[#This Row],[QTY]]*Table1[[#This Row],['# Books]]","v":0},{"$f":"Table1[[#This Row],[QTY]]*Table1[[#This Row],[S&L Price]]","v":0}]
[null,23,46,"InfoPics",1,"Pollution","Library Bound Book",null,"978-1-5382-7094-3",{"$f":"HYPERLINK(Table1[[#This Row],[eCommerce Hyperlink]],\"Book Weblink\")","v":"Book Weblink"},null,"2022","January 2022","Library","8.500 X 8.500","Author","Harriet Brundle",null,null,null,null,"L",null,"Grade 2 - 3","Grade 2 - 4","It’s been reported that about 90 percent of the population on Earth breathe polluted air. Statistics like that make it even more important that conversations about pollution and conservation are had with the youngest children to start them on a path to care for the Earth. This book introduces these concepts in a fun, simple way that new readers will be able to understand. Colorful illustrations draw in reluctant readers and encourage them to keep turning the pages about this important topic.","English",23.6,17.7,"363.73","24 pp.","https://www.garethstevens.com/9781538270943",null,{"$f":"Table1[[#This Row],[QTY]]*Table1[[#This Row],['# Books]]","v":0},{"$f":"Table1[[#This Row],[QTY]]*Table1[[#This Row],[S&L Price]]","v":0}]
[null,null,47,"Escape!",1,"The Empty Science Lab: Solve Your Way Out!","Library Bound Book",null,"978-1-5382-7723-2",null,null,"2023","August 2022","Library","8.500 X 11.00","Author","Kevin Wood",null,null,null,null,"P",null,"Grade 3 - 4","Grade 3 - 6","An unlocked door to a secret science lab would be hard for any student to ignore! But what if you snuck in—and the door locked behind you? In this book, readers need to solve puzzles and find codes throughout the pictures and text in order to escape! Science terms and concepts, such as animal classification, the human body, and the pH scale, are described as part of the story. The problem-solving and critical thinking readers use to puzzle through this book are important components of any STEAM subject.","English",27.6,20.7,"793.73--dc23","32 pp.","https://www.garethstevens.com/9781538277232",null,{"$f":"Table1[[#This Row],[QTY]]*Table1[[#This Row],['# Books]]","v":0},{"$f":"Table1[[#This Row],[QTY]]*Table1[[#This Row],[S&L Price]]","v":0}]
[null,null,47,"Escape!",1,"The Hacker's Hideout: Solve Your Way Out!","Library Bound Book",null,"978-1-5382-7731-7",null,null,"2023","August 2022","Library","8.500 X 11.00","Author","Kevin Wood",null,null,null,null,"P",null,"Grade 3 - 4","Grade 3 - 6","Touring a hacker’s hideout might be exciting—if you could get out! Readers of this book have wandered where they shouldn’t be and need to use technology knowledge they have and acquire while reading this book to find clues hidden throughout the book. They solve puzzles using technology topics like Boolean logic, binary, and Morse code, as well as critical thinking in order to escape. This title engages readers while supporting STEAM concepts and curricula.","English",27.6,20.7,"793.73--dc23","32 pp.","https://www.garethstevens.com/9781538277317",null,{"$f":"Table1[[#This Row],[QTY]]*Table1[[#This Row],['# Books]]","v":0},{"$f":"Table1[[#This Row],[QTY]]*Table1[[#This Row],[S&L Price]]","v":0}]
[null,null,48,"Engineering Power!",1,"Machines at Sea","eBook",null,"978-1-5382-7756-0",null,null,"2023","August 2022",null,null,"Author","Kay Barnham",null,null,null,null,"Q",null,"Grade 4 - 5","Grade 4 - 6","The deep ocean is one of the last unexplored places on Earth. But, in order to get to it, some pretty high-tech machines are needed! This STEM set brings together science and engineering in a fun way: through amazing vehicles, including hovercraft and sea planes. Sections on each sea-going machine include clear diagrams, comprehensive explanations about how they work, and full-color photographs about some the coolest examples out there today. Information about how different machines came to be aids readers’ understanding of technology development.","English",27.6,20.7,"623.82--dc23","32 pp.","https://www.garethstevens.com/9781538277560","http://www.epointplus.com/embed/9781538277560/?login=cyberrep&password=cyberrep",{"$f":"Table1[[#This Row],[QTY]]*Table1[[#This Row],['# Books]]","v":0},{"$f":"Table1[[#This Row],[QTY]]*Table1[[#This Row],[S&L Price]]","v":0}]
[null,null,48,"Engineering Power!",1,"Machines on Land","Library Bound Book",null,"978-1-5382-7767-6",null,null,"2023","August 2022","Library","8.500 X 11.00","Author","Kay Barnham",null,null,null,null,"Q",null,"Grade 4 - 5","Grade 4 - 6","Machines developed for use on land change the way the world works. When tanks were first built, they changed the course of a war. Cars changed how people move—and now electric cars are doing it again! Mag-Lev trains are amazing feats of engineering that move faster than anyone 100 years ago would have thought possible! Readers of this compelling volume explore the science and engineering behind many kinds of machines that go on land, including full-color photographs and helpful diagrams.","English",27.6,20.7,"629.222--dc23","32 pp.","https://www.garethstevens.com/9781538277676",null,{"$f":"Table1[[#This Row],[QTY]]*Table1[[#This Row],['# Books]]","v":0},{"$f":"Table1[[#This Row],[QTY]]*Table1[[#This Row],[S&L Price]]","v":0}]
[null,null,49,"Fact or Fiction?",1,"Do Aliens Exist?","eBook",null,"978-1-5382-8070-6",null,null,"2023","August 2022",null,null,"Author","Peter Finn",null,null,null,null,"R",null,"Grade 4 - 5","Grade 4 - 6","Are they out there? The many movies and TV shows about aliens tell us that people continue to be extremely interested in the possibility of extraterrestrial life. This entertaining yet thoughtful volume presents information about aliens and UFOs through personal and historical accounts as well as possible scientific explanations for supposed encounters. Thought-provoking sidebars and fact boxes and vivid images will keep even the most reluctant readers interested. They’ll be able to decide for themselves about the title’s query based on the evidence presented.","English",27.6,20.7,"576.8/39--dc23","32 pp.","https://www.garethstevens.com/9781538280706","http://www.epointplus.com/embed/9781538280706/?login=cyberrep&password=cyberrep",{"$f":"Table1[[#This Row],[QTY]]*Table1[[#This Row],['# Books]]","v":0},{"$f":"Table1[[#This Row],[QTY]]*Table1[[#This Row],[S&L Price]]","v":0}]
[null,null,49,"Fact or Fiction?",1,"Do Dragons Exist?","Library Bound Book",null,"978-1-5382-8073-7",null,null,"2023","August 2022","Library","8.500 X 11.00","Author","Peter Finn",null,null,null,null,"R",null,"Grade 4 - 5","Grade 4 - 6","Dragons have been culturally significant for thousands of years—and they’re still a part of today’s pop culture. Delving deep into the mythology of dragons across the globe, this intriguing text also informs readers about possible scientific explanations, such as mistaking dinosaur fossils for dragon bones. Among the dragons in the discussion are the antagonists in Beowulf and the Saint George story and the many dragon gods of ancient Chinese and Japanese myths. Beautiful images, exciting stories, and historical facts abound in this entertaining and well-designed volume, which is an excellent addition to any social studies collection.","English",27.6,20.7,"398.24/54--dc23","32 pp.","https://www.garethstevens.com/9781538280737",null,{"$f":"Table1[[#This Row],[QTY]]*Table1[[#This Row],['# Books]]","v":0},{"$f":"Table1[[#This Row],[QTY]]*Table1[[#This Row],[S&L Price]]","v":0}]
[null,null,49,"Fact or Fiction?",1,"Do Mermaids Exist?","eBook",null,"978-1-5382-8082-9",null,null,"2023","August 2022",null,null,"Author","Peter Finn",null,null,null,null,"R",null,"Grade 4 - 5","Grade 4 - 6","For thousands of years, sailors have watched the ocean from the decks of their ships. And many returned from their voyages with tales of mermaids! This accessible text brings together myths from cultures all over the world and highlights the interesting stories of P. T. Barnum’s Feejee Mermaid of the 1800s as well as the original “Little Mermaid” fairytale. Readers will explore possible scientific explanations for the many merfolk sightings and consider what they believe. Bright images, a playful design, and graphic elements will keep readers of all levels motivated. A broad spectrum of ideas encourages critical thinking.","English",27.6,20.7,"398.21--dc23","32 pp.","https://www.garethstevens.com/9781538280829","http://www.epointplus.com/embed/9781538280829/?login=cyberrep&password=cyberrep",{"$f":"Table1[[#This Row],[QTY]]*Table1[[#This Row],['# Books]]","v":0},{"$f":"Table1[[#This Row],[QTY]]*Table1[[#This Row],[S&L Price]]","v":0}]
[null,null,50,"Geek Out!",1,"The Modern Nerd's Guide to Cosplay","Library Bound Book",null,"978-1-5382-1199-1",{"$f":"HYPERLINK(Table1[[#This Row],[eCommerce Hyperlink]],\"Book Weblink\")","v":"Book Weblink"},null,"2018","January 2018","Library","8.500 X 11.00","Author","Kristen Rajczak Nelson",null,null,"34",null,"O",null,"Grade 3 - 4","Grade 3 - 6","The detailed craft of creating a unique costume, props, and makeup to bring both beloved and reviled characters to life has become a serious art form in the past decade. Today, cosplay is one of the hottest hobbies around, with huge international conventions and competitions making headlines around the world. In this volume, filled with insider info, helpful tips, spectacular color photographs, and dynamic graphics, readers learn not only how to enter the world of cosplay, but how to conquer it.","English",27.6,20.7,"793.93--dc23","32 pp.","https://www.garethstevens.com/9781538211991",null,{"$f":"Table1[[#This Row],[QTY]]*Table1[[#This Row],['# Books]]","v":0},{"$f":"Table1[[#This Row],[QTY]]*Table1[[#This Row],[S&L Price]]","v":0}]
[null,null,50,"Geek Out!",1,"The Modern Nerd's Guide to LARPing","eBook",null,"978-1-5382-1212-7",{"$f":"HYPERLINK(Table1[[#This Row],[eCommerce Hyperlink]],\"Book Weblink\")","v":"Book Weblink"},null,"2018","January 2018",null,null,"Author","Mike Sciandra",null,null,"34",null,"O",null,"Grade 3 - 4","Grade 3 - 6","LARPing, or live-action role playing, is one of the hottest hobbies today. Its devoted participants develop detailed characters, inventing names and personalities, as well as costumes and props. The improvisational nature and opportunity for creativity at LARP events makes for a new experience every time. Readers will dive headfirst into this fascinating pastime, guided by experienced LARPer and writer Michael Sciandra through the ins and outs of participation. Age-appropriate engaging text and full-color photography from actual LARPers brings readers into this whole new exciting world.","English",27.6,20.7,"793.93--dc23","32 pp.","https://www.garethstevens.com/9781538212127",null,{"$f":"Table1[[#This Row],[QTY]]*Table1[[#This Row],['# Books]]","v":0},{"$f":"Table1[[#This Row],[QTY]]*Table1[[#This Row],[S&L Price]]","v":0}]
[null,null,50,"Geek Out!",1,"The Modern Nerd's Guide to Robot Battles","eBook",null,"978-1-5382-1216-5",{"$f":"HYPERLINK(Table1[[#This Row],[eCommerce Hyperlink]],\"Book Weblink\")","v":"Book Weblink"},null,"2018","January 2018",null,null,"Author","Melissa Raé Shofner",null,null,null,null,"O","1000L","Grade 3 - 4","Grade 3 - 6","Robot battling is one of the hottest hobbies out there, with dedicated television shows, international stars, and crazy, freaky, metal creations. Now, the inside scoop on the wild world of robot battling is available to budding enthusiasts everywhere. Filled with insider know-how, action-packed graphics, and dynamic color photographs, this volume guides readers through this imaginative world of automated competition. The exciting yet accessible language inspires and engages with every turn of the page, ensuring this book will be a hit in any collection.","English",27.6,20.7,"629.8'92--dc23","32 pp.","https://www.garethstevens.com/9781538212165",null,{"$f":"Table1[[#This Row],[QTY]]*Table1[[#This Row],['# Books]]","v":0},{"$f":"Table1[[#This Row],[QTY]]*Table1[[#This Row],[S&L Price]]","v":0}]
[null,null,50,"Geek Out!",1,"A Modern Nerd's Guide to Conventions","Library Bound Book",null,"978-1-5382-4012-0",{"$f":"HYPERLINK(Table1[[#This Row],[eCommerce Hyperlink]],\"Book Weblink\")","v":"Book Weblink"},null,"2020","August 2019","Library","8.500 X 11.00","Author","Katie Kawa",null,null,null,null,"O",null,"Grade 3 - 4","Grade 3 - 6","Where can fans meet up, get autographs from their favorite stars, and buy cool merchandise? They can do all these things at conventions. There are many things fans need to know before attending their first \"con,\" and they'll find it all in this age-appropriate guide. The engaging text and eye-catching sidebars, graphic organizers, and colorful photographs highlight many kinds of fan conventions. Whether a young fan dreams of traveling to San Diego for Comic-Con International or plans to attend a smaller con in their city, this guide will make sure they're prepared.","English",27.6,20.7,"741.5--dc23","32 pp.","https://www.garethstevens.com/9781538240120",null,{"$f":"Table1[[#This Row],[QTY]]*Table1[[#This Row],['# Books]]","v":0},{"$f":"Table1[[#This Row],[QTY]]*Table1[[#This Row],[S&L Price]]","v":0}]
[null,null,50,"Geek Out!",1,"A Modern Nerd's Guide to Miniatures","eBook",null,"978-1-5382-4021-2",{"$f":"HYPERLINK(Table1[[#This Row],[eCommerce Hyperlink]],\"Book Weblink\")","v":"Book Weblink"},null,"2020","August 2019",null,null,"Author","Amanda Vink",null,null,null,null,"P",null,"Grade 3 - 4","Grade 3 - 6","The world of miniatures is huge! People of all ages enjoy assembling and painting scale models of characters for their favorite tabletop games. From warriors and workers to monsters and other mythological creatures, there are unlimited possibilities. This book explores several different types of miniatures, with a focus on where to find them, how to design them, and where to play with them. Other miniatures, such as dollhouses, fairy gardens, and historical dioramas, are also discussed. Vivid images on each page give readers a chance to see these tiny creations in great detail. Captions and sidebars provide more information about how to get involved with this fascinating and fun hobby.","English",27.6,20.7,"745.5928--dc23","32 pp.","https://www.garethstevens.com/9781538240212",null,{"$f":"Table1[[#This Row],[QTY]]*Table1[[#This Row],['# Books]]","v":0},{"$f":"Table1[[#This Row],[QTY]]*Table1[[#This Row],[S&L Price]]","v":0}]
[null,null,50,"Grammar Magic!",6,"Grammar Magic!","Library Set",null,"978-1-5382-4901-7",{"$f":"HYPERLINK(Table1[[#This Row],[eCommerce Hyperlink]],\"Book Weblink\")","v":"Book Weblink"},null,"2021","August 2020","Library","8.500 X 8.500",null,null,null,null,null,null,null,null,"Grade 2 - 3","Grade 2 - 5","While important skills to master, the rules of grammar can be quite dry. They also can be pretty confusing. What letters do apostrophes replace in contractions? What nouns aren't made plural by using the letter S? Lucky for young readers, they find help with these questions through this magical set. Written by a literacy specialist and reading teacher, rules of grammar are presented through interaction with magical beings like mermaids, elves, and wizards. Including examples and explanations of grammar rules commonly part of the language arts curriculum, this set makes compound sentences, verb tenses, and collective nouns enchanting and magical. Features include: Unique illustrations that correlate directly to the narratives. Topics directly tie in to the Language Arts curriculum, first through third grade. Fact boxes give each magical being more context in history and pop culture. Written by a literacy specialist and reading teacher.","English",141.6,106.2,null,"24 pp.","https://www.garethstevens.com/9781538249017",null,{"$f":"Table1[[#This Row],[QTY]]*Table1[[#This Row],['# Books]]","v":0},{"$f":"Table1[[#This Row],[QTY]]*Table1[[#This Row],[S&L Price]]","v":0}]
[null,null,50,"Grammar Magic!",1,"Learn Collective Nouns with Mermaids","Library Bound Book",null,"978-1-5382-4733-4",{"$f":"HYPERLINK(Table1[[#This Row],[eCommerce Hyperlink]],\"Book Weblink\")","v":"Book Weblink"},null,"2021","August 2020","Library","8.500 X 8.500","Author","Emily Mahoney",null,null,null,null,"K",null,"Grade 2 - 3","Grade 2 - 5","Collective nouns may not seem all that interesting to young readers, but this volume, which features facts about mermaids, makes collective nouns extremely engaging. Let the mythical mermaids take readers on a journey of learning about different and sometimes amusing collective nouns. Even developing learners will chuckle while reading about a gaggle of geese or an army of caterpillars. Beautiful illustrations add to the wonder of this book, while Magical Fact boxes provide information about mysterious mermaid legends.","English",23.6,17.7,"425/.54--dc23","24 pp.","https://www.garethstevens.com/9781538247334",null,{"$f":"Table1[[#This Row],[QTY]]*Table1[[#This Row],['# Books]]","v":0},{"$f":"Table1[[#This Row],[QTY]]*Table1[[#This Row],[S&L Price]]","v":0}]
[null,null,50,"Grammar Magic!",1,"Learn Irregular Plural Nouns with Elves","eBook",null,"978-1-5382-4738-9",{"$f":"HYPERLINK(Table1[[#This Row],[eCommerce Hyperlink]],\"Book Weblink\")","v":"Book Weblink"},null,"2021","August 2020",null,null,"Author","Emily Mahoney",null,null,null,null,"L",null,"Grade 2 - 3","Grade 2 - 5","There are many rules for irregular plural nouns, but let the magical elves in this vibrant volume make learning those rules easy! Some might think that elves just make toys in Santa's workshop, but they are also experts on irregular plural nouns. Young readers will learn general rules as well as exceptions, in addition to facts about elves in the Magical Facts boxes. Engaging illustrations help this grammar concept become easily accessible for authentic learning.","English",23.6,17.7,"425/.54--dc23","24 pp.","https://www.garethstevens.com/9781538247389",null,{"$f":"Table1[[#This Row],[QTY]]*Table1[[#This Row],['# Books]]","v":0},{"$f":"Table1[[#This Row],[QTY]]*Table1[[#This Row],[S&L Price]]","v":0}]
[null,null,50,"Supernatural Science",1,"Ghost Investigators","Library Bound Book",null,"978-1-5382-5304-5",{"$f":"HYPERLINK(Table1[[#This Row],[eCommerce Hyperlink]],\"Book Weblink\")","v":"Book Weblink"},null,"2020","January 2020","Library","8.500 X 11.00","Author","Madeline Tyler",null,null,null,null,"S",null,"Grade 4 - 5","Grade 4 - 6","It's time to gather ghosts, find phantoms, and assemble apparitions using the soundest methods of science. This mission isn't for the faint-hearted, though. It's perfect for the budding scientist willing to gather evidence of cold spots, disembodied voices, or paranormal orbs, and then analyze the results of their intrepid investigations. This attention-grabbing book offers an opportunity to collect actual scientific proof of paranormal phenomenon, while introducing and reinforcing key ideas of scientific experiments that can be applied in both a haunted house and a science lab.","English",27.6,20.7,"133.1--dc23","32 pp.","https://www.garethstevens.com/9781538253045",null,{"$f":"Table1[[#This Row],[QTY]]*Table1[[#This Row],['# Books]]","v":0},{"$f":"Table1[[#This Row],[QTY]]*Table1[[#This Row],[S&L Price]]","v":0}]
[null,null,50,"Supernatural Science",1,"Zombie Investigators","Library Bound Book",null,"978-1-5382-5313-7",{"$f":"HYPERLINK(Table1[[#This Row],[eCommerce Hyperlink]],\"Book Weblink\")","v":"Book Weblink"},null,"2020","January 2020","Library","8.500 X 11.00","Author","Madeline Tyler",null,null,null,null,"S",null,"Grade 4 - 5","Grade 4 - 6","It might be a matter of life and death whether the stink coming from a sibling's bedroom is smelly socks or the odor of the undead, as in zombies! So, the real-life scientific methods and vocabulary in this entertaining and enlightening volume could save a life. Readers will be riveted as they're carefully trained to become paranormal investigators. They'll learn to make predictions, identify variables, analyze outcomes, and possibly avert a zombie apocalypse. They'll also delve into intriguing information about the mythology of zombies as well as bizarre zombie-like behaviors found in nature.","English",27.6,20.7,"398.21--dc23","32 pp.","https://www.garethstevens.com/9781538253137",null,{"$f":"Table1[[#This Row],[QTY]]*Table1[[#This Row],['# Books]]","v":0},{"$f":"Table1[[#This Row],[QTY]]*Table1[[#This Row],[S&L Price]]","v":0}]
[null,null,50,"Surviving the Impossible",1,"Surviving a Robot Revolution","Library Bound Book",null,"978-1-5382-1420-6",{"$f":"HYPERLINK(Table1[[#This Row],[eCommerce Hyperlink]],\"Book Weblink\")","v":"Book Weblink"},null,"2018","January 2018","Library","8.500 X 11.00","Author","Charlie Ogden",null,null,null,null,"Q",null,"Grade 4 - 5","Grade 4 - 6","Many people have maintained a certain suspicion toward robots, especially as they've become more integrated into our lives. They work in factories and hospitals, aid in law enforcement, and even vacuum our homes. Some wonder: What would happen if robots take over? Keep calm. All the answers to surviving the robot revolution are in this electrifying volume, which describes the best strategies to battle the malevolent forces of artificial intelligence. Readers will love this page-turning experience, which includes accessible text and thrilling images that stir the imagination.","English",27.6,20.7,"006.3--dc23","32 pp.","https://www.garethstevens.com/9781538214206",null,{"$f":"Table1[[#This Row],[QTY]]*Table1[[#This Row],['# Books]]","v":0},{"$f":"Table1[[#This Row],[QTY]]*Table1[[#This Row],[S&L Price]]","v":0}]
[null,null,50,"Surviving the Impossible",1,"Surviving a Robot Revolution","eBook",null,"978-1-5382-1421-3",{"$f":"HYPERLINK(Table1[[#This Row],[eCommerce Hyperlink]],\"Book Weblink\")","v":"Book Weblink"},null,"2018","January 2018",null,null,"Author","Charlie Ogden",null,null,null,null,"Q",null,"Grade 4 - 5","Grade 4 - 6","Many people have maintained a certain suspicion toward robots, especially as they've become more integrated into our lives. They work in factories and hospitals, aid in law enforcement, and even vacuum our homes. Some wonder: What would happen if robots take over? Keep calm. All the answers to surviving the robot revolution are in this electrifying volume, which describes the best strategies to battle the malevolent forces of artificial intelligence. Readers will love this page-turning experience, which includes accessible text and thrilling images that stir the imagination.","English",27.6,20.7,"006.3--dc23","32 pp.","https://www.garethstevens.com/9781538214213",null,{"$f":"Table1[[#This Row],[QTY]]*Table1[[#This Row],['# Books]]","v":0},{"$f":"Table1[[#This Row],[QTY]]*Table1[[#This Row],[S&L Price]]","v":0}]
[null,null,50,"Surviving the Impossible",1,"Surviving the Yellowstone Supervolcano","Library Bound Book",null,"978-1-5382-1426-8",{"$f":"HYPERLINK(Table1[[#This Row],[eCommerce Hyperlink]],\"Book Weblink\")","v":"Book Weblink"},null,"2018","January 2018","Library","8.500 X 11.00","Author","Charlie Ogden",null,null,null,null,"Q",null,"Grade 4 - 5","Grade 4 - 6","Many people are surprised by the existence of a volcano in Yellowstone Park, so they might be even more alarmed to learn that some scientists think the area is home to a \"supervolcano.\" It's entirely possible that this opening in Earth's crust will erupt with mind-boggling results. Volcanologists closely monitor the seismic activity in this region, but it can't hurt to be prepared. This high-interest book combines science knowledge with survival know-how and explains the best way to survive a volcanic eruption and its aftermath. After researching the accessible advice, readers will develop their own fail-safe strategy to survive the Yellowstone supervolcano and similar disasters.","English",27.6,20.7,"551.21--dc23","32 pp.","https://www.garethstevens.com/9781538214268",null,{"$f":"Table1[[#This Row],[QTY]]*Table1[[#This Row],['# Books]]","v":0},{"$f":"Table1[[#This Row],[QTY]]*Table1[[#This Row],[S&L Price]]","v":0}]
[null,null,50,"Surviving the Impossible",1,"Surviving a Megatsunami","Library Bound Book",null,"978-1-5382-3508-9",{"$f":"HYPERLINK(Table1[[#This Row],[eCommerce Hyperlink]],\"Book Weblink\")","v":"Book Weblink"},null,"2019","January 2019","Library","8.500 X 11.00","Author","Madeline Tyler",null,null,null,null,"Q",null,"Grade 4 - 5","Grade 4 - 6","A monstrous megatsunami sounds like the plot of thrilling action movie, but could this catastrophic natural disaster really be in our future? As climate change continues to impact the planet in dangerous and destructive ways, it's best to be prepared. This volume introduces readers to the concept of extreme storms in an entertaining way. They'll learn survival tips for situations ranging from silly to scary. A chilling design with creepy, full-color images add to the excitement. Even reluctant readers will be drawn to this spooky, high-interest topic.","English",27.6,20.7,"551.46'37--dc23","32 pp.","https://www.garethstevens.com/9781538235089",null,{"$f":"Table1[[#This Row],[QTY]]*Table1[[#This Row],['# Books]]","v":0},{"$f":"Table1[[#This Row],[QTY]]*Table1[[#This Row],[S&L Price]]","v":0}]
[null,null,50,"Surviving the Impossible",1,"Surviving a Vampire Invasion","eBook",null,"978-1-5382-3517-1",{"$f":"HYPERLINK(Table1[[#This Row],[eCommerce Hyperlink]],\"Book Weblink\")","v":"Book Weblink"},null,"2019","January 2019",null,null,"Author","Madeline Tyler",null,null,null,null,"Q",null,"Grade 4 - 5","Grade 4 - 6","They're immortal, nocturnal, and out for blood! These undead monsters are creeping out of their coffins, and time's running out. Who will make it out alive with their throat un-bitten? The readers of this ultimate vampire survival guide will. They'll learn survival tips for situations ranging from silly to bone-chillingly scary. Spooky full-color photographs and an eerie design add to the adventure. This high-interest, entertaining topic is sure to draw in even reluctant readers, making it a fun and valuable addition to any library or classroom. Grab this guide and fresh clove of garlic before it's too late.","English",27.6,20.7,"398.21--dc23","32 pp.","https://www.garethstevens.com/9781538235171",null,{"$f":"Table1[[#This Row],[QTY]]*Table1[[#This Row],['# Books]]","v":0},{"$f":"Table1[[#This Row],[QTY]]*Table1[[#This Row],[S&L Price]]","v":0}]
[null,null,50,"Surviving the Impossible",1,"Surviving the Rise of the Mummies","Library Bound Book",null,"978-1-5382-3528-7",{"$f":"HYPERLINK(Table1[[#This Row],[eCommerce Hyperlink]],\"Book Weblink\")","v":"Book Weblink"},null,"2019","January 2019","Library","8.500 X 11.00","Author","Madeline Tyler",null,null,null,null,"Q",null,"Grade 4 - 5","Grade 4 - 6","What's skeletal, cursed, and wrapped with ancient, moldy cloth all over? Mummies out for murder! They're rising from slumber and ready to rumble across the globe. How will humanity survive? Readers of this ultimate survival guide to mummy attacks will be prepared to beat this cursed apocalypse. They'll learn survival tips for every step of this gruesome journey. Vivid full-color photographs and a spooky design immerse readers in a bone-chilling adventure. This high-interest topic is sure to lure in even reluctant readers, making it a valuable addition to any library or classroom.","English",27.6,20.7,"393'.3--dc23","32 pp.","https://www.garethstevens.com/9781538235287",null,{"$f":"Table1[[#This Row],[QTY]]*Table1[[#This Row],['# Books]]","v":0},{"$f":"Table1[[#This Row],[QTY]]*Table1[[#This Row],[S&L Price]]","v":0}]
[null,null,50,"The Museum of Phobias",1,"The Harrowing Human Gallery","Library Bound Book",null,"978-1-5382-6000-5",{"$f":"HYPERLINK(Table1[[#This Row],[eCommerce Hyperlink]],\"Book Weblink\")","v":"Book Weblink"},null,"2021","August 2020","Library","8.500 X 11.00","Author, Designed by","John Wood, Danielle Jones",null,null,null,null,"P",null,"Grade 3 - 4","Grade 3 - 6","Try to conjure up an idea of the most horrifying Halloween witch and then imagine that she's real. For those with wiccaphobia, which is a fear of witches, this horror goes a step further by lasting all year long. From genuphobia, or the fear of knees, to odontophobia, or the fear of dentists and teeth, the phobias in this book run the gamut of fears having to do with people. Vibrant photographs and graphics engagingly display each vivid description like a museum exhibit. Including the nervous system's response to fear and other strangely scientific information, this book is more than interesting...it's unbelievable!","English",27.6,20.7,"616.85'225--dc23","32 pp.","https://www.garethstevens.com/9781538260005",null,{"$f":"Table1[[#This Row],[QTY]]*Table1[[#This Row],['# Books]]","v":0},{"$f":"Table1[[#This Row],[QTY]]*Table1[[#This Row],[S&L Price]]","v":0}]
[null,null,50,"The Museum of Phobias",1,"The Nightmare Nature Tour","eBook",null,"978-1-5382-6009-8",{"$f":"HYPERLINK(Table1[[#This Row],[eCommerce Hyperlink]],\"Book Weblink\")","v":"Book Weblink"},null,"2021","August 2020",null,null,"Author, Designed by","John Wood, Danielle Jones",null,null,null,null,"P",null,"Grade 3 - 4","Grade 3 - 6","Nature presents us with some awesome, powerful, earth-shaking events. Many people suffer with phobias related to Earth's wonders, such as astraphobia, which is the fear of thunder and lightning. While being scared of thunderous sounds is natural, phobias tip the scale because now your heart is pounding, your body is shaking, and you're so overwhelmed by your feelings that it is extreme or irrational. This book takes a voyage through the phobias we encounter in nature. Through vivid descriptions of what a person goes through when they fear waves, bright light, shadows, and other natural phenomena, inquisitive readers investigate how fear has evolved over time. Sidebars and vibrant photographs highlight each phobia.","English",27.6,20.7,"616.85'225--dc23","32 pp.","https://www.garethstevens.com/9781538260098",null,{"$f":"Table1[[#This Row],[QTY]]*Table1[[#This Row],['# Books]]","v":0},{"$f":"Table1[[#This Row],[QTY]]*Table1[[#This Row],[S&L Price]]","v":0}]
[null,null,51,"The Funniest Events in History",1,"Ancient Greece: A Graphic Novel","eBook",null,"978-1-5382-7500-9",null,null,"2023","August 2022",null,null,"Illustrated by","Jordi Bayarri",null,null,null,null,"P",null,"Grade 3 - 4","Grade 3 - 5","Ancient Greek studies are all about philosophers, incredible artworks, and the gods and goddesses. But there were regular families living there too! In this entertaining graphic novel, an ancient Greek family lives through some of the most important discoveries of the time: democracy, the crane, and cartography. Told through three chapters and including an appendix of historical context, the main content gives readers a new, fun perspective of ancient Greece while still understanding the facts needed for social studies classes. Bold illustrations make this a unique choice for elementary libraries.","English",35.6,26.7,"932’.01--dc23","64 pp.","https://www.garethstevens.com/9781538275009","http://www.epointplus.com/embed/9781538275009/?login=cyberrep&password=cyberrep",{"$f":"Table1[[#This Row],[QTY]]*Table1[[#This Row],['# Books]]","v":0},{"$f":"Table1[[#This Row],[QTY]]*Table1[[#This Row],[S&L Price]]","v":0}]
[null,null,52,"A Graphic History of the American West",1,"The Battle of the Alamo","Library Bound Book",null,"978-1-4339-6727-6",{"$f":"HYPERLINK(Table1[[#This Row],[eCommerce Hyperlink]],\"Book Weblink\")","v":"Book Weblink"},null,"2012","January 2012","Library","6.500 X 9.000","Author, Illustrated by","Gary Jeffrey, Nick Spender","3.9","0.5","34","30","L","780L","Grade 3","Grade 3 - 8","The defense of the Alamo by an army of Texans is a legendary tale of loyalty and sacrifice. In this exciting book readers explore the incredible story behind the event. They uncover fascinating facts about the brave men who tried to protect the Alamo from Mexican forces even when all hope was lost. Told in the action-packed style of a graphic novel, this story of courage and sacrifice is presented for readers in thrilling detail. Through accessible text and engaging illustrations, this book takes readers into the heart of the Alamo in a way that is both educational and highly entertaining.","English",25.95,19.45,"976.4","24 pp.","https://www.garethstevens.com/9781433967276",null,{"$f":"Table1[[#This Row],[QTY]]*Table1[[#This Row],['# Books]]","v":0},{"$f":"Table1[[#This Row],[QTY]]*Table1[[#This Row],[S&L Price]]","v":0}]
[null,null,52,"A Graphic History of the American West",1,"The Gold Rush","Library Bound Book",null,"978-1-4339-6739-9",{"$f":"HYPERLINK(Table1[[#This Row],[eCommerce Hyperlink]],\"Book Weblink\")","v":"Book Weblink"},null,"2012","January 2012","Library","6.500 X 9.000","Author, Illustrated by","Gary Jeffrey, Emanuele Boccanfuso","4.4","0.5","34","30","M","870L","Grade 3","Grade 3 - 8","In 1848 America was changed forever by the discovery of gold in California. It led to the growth of cities like San Francisco, altered the way Americans thought about earning money, and brought thousands of fortune-seekers to the West. In this book, readers explore the fascinating story of the gold rush in terms of both its causes and effects. They also gain a more personal view of this period in American history, journeying alongside a New York farmer, William Swain, as he travels west to find gold. Presented in the style of a graphic novel, Swain’s adventures are sure to excite readers. Detailed drawings and easy-to-follow text ensure accessibility to even the most reluctant readers.","English",25.95,19.45,"979.4","24 pp.","https://www.garethstevens.com/9781433967399",null,{"$f":"Table1[[#This Row],[QTY]]*Table1[[#This Row],['# Books]]","v":0},{"$f":"Table1[[#This Row],[QTY]]*Table1[[#This Row],[S&L Price]]","v":0}]
[null,null,52,"A Graphic History of the Civil Rights Movement",6,"A Graphic History of the Civil Rights Movement","Library Set",null,"978-1-4339-7695-7",{"$f":"HYPERLINK(Table1[[#This Row],[eCommerce Hyperlink]],\"Book Weblink\")","v":"Book Weblink"},null,"2013","August 2012","Library","6.500 X 9.000",null,null,null,null,null,null,null,null,"Grade 3","Grade 3 - 8","This engaging and educational series presents pivotal moments in the civil rights movement in a new and exciting way. Depicted in the style of a graphic novel, these incredible stories make history come alive for even the most reluctant readers. Engaging, accessible text is accompanied with captivating artwork. This vibrant approach to American history places readers in the middle of critical moments in the fight for civil rights, including the legal battles to overturn segregation laws and the famous march on Washington. Readers will be introduced to the individuals who came to personify the civil rights movement, including Rosa Parks, Thurgood Marshall, and Martin Luther King Jr.  • Graphic-novel form and accessible text appeal to reluctant readers • Presents firsthand accounts of major moments in the history of the American civil rights movement • Brief introduction to each book provides historical context for the featured event • Detailed illustrations enhance understanding and excitement • Conclusion in each book details the lasting effect of each event • Glossary and index guide readers as they navigate each book ","English",155.69999999999999,116.7,null,"24 pp.","https://www.garethstevens.com/9781433976957",null,{"$f":"Table1[[#This Row],[QTY]]*Table1[[#This Row],['# Books]]","v":0},{"$f":"Table1[[#This Row],[QTY]]*Table1[[#This Row],[S&L Price]]","v":0}]
[null,null,52,"A Graphic History of the Civil Rights Movement",1,"Medgar Evers and the NAACP","Library Bound Book",null,"978-1-4339-7495-3",{"$f":"HYPERLINK(Table1[[#This Row],[eCommerce Hyperlink]],\"Book Weblink\")","v":"Book Weblink"},null,"2013","August 2012","Library","6.500 X 9.000","Author","Gary Jeffrey","5.3","0.5","30","24","M",null,"Grade 3","Grade 3 - 8","Medgar Evers’s story of courage, dignity, and sacrifice is a reminder of the high price some paid to ensure that the United States would meet its promise of equal rights and equal opportunity for all. After fighting for his country in World War II, Evers came home to a nation that treated him as a second-class citizen. He joined the NAACP and worked tirelessly to change conditions for African Americans. He paid a terrible price for his efforts—his life was taken by a white supremacist. Through powerful illustrations and accessible text, this dramatic graphic novel highlights Evers’s courage and dignity during a dark period in American history.","English",25.95,19.45,"323.092","24 pp.","https://www.garethstevens.com/9781433974953",null,{"$f":"Table1[[#This Row],[QTY]]*Table1[[#This Row],['# Books]]","v":0},{"$f":"Table1[[#This Row],[QTY]]*Table1[[#This Row],[S&L Price]]","v":0}]
[null,null,52,"A Graphic History of the Civil Rights Movement",1,"Rosa Parks and the Montgomery Bus Boycott","Library Bound Book",null,"978-1-4339-7499-1",{"$f":"HYPERLINK(Table1[[#This Row],[eCommerce Hyperlink]],\"Book Weblink\")","v":"Book Weblink"},null,"2013","August 2012","Library","6.500 X 9.000","Author","Gary Jeffrey","4.4","0.5","30","24","M","840L","Grade 3","Grade 3 - 8","The Montgomery bus boycott was a pivotal event that launched the civil rights movement and helped transform American society. This epic tale of courage and peaceful resistance began with a simple “No” spoken by an African American seamstress. When Rosa Parks, exhausted after a long day at work, refused to give up her bus seat for a white man, she defied the strict segregation laws that made blacks second-class citizens. What followed was a test of courage and resolve that ultimately reshaped the nation. Using powerful illustrations and accessible text, this exciting graphic novel tells the story of actions, arrests, and the dramatic events that followed.","English",25.95,19.45,"323.092","24 pp.","https://www.garethstevens.com/9781433974991",null,{"$f":"Table1[[#This Row],[QTY]]*Table1[[#This Row],['# Books]]","v":0},{"$f":"Table1[[#This Row],[QTY]]*Table1[[#This Row],[S&L Price]]","v":0}]
[null,null,52,"A Graphic History of the Civil Rights Movement",1,"The Little Rock Nine and the Fight for Equal Education","eBook",null,"978-1-4339-7486-1",{"$f":"HYPERLINK(Table1[[#This Row],[eCommerce Hyperlink]],\"Book Weblink\")","v":"Book Weblink"},null,"2013","August 2012",null,null,"Author","Gary Jeffrey","4.3","0.5","30","26","N","850L","Grade 3","Grade 3 - 8","The story of a group of African American students known as the Little Rock Nine is a saga of incredible courage and grace. Following the 1954 Supreme Court ruling that struck down school segregation, black leaders turned their attention to the next challenge: getting African American students into white schools. In Little Rock, Arkansas, a small group of African American students were selected to integrate the high school. This taut, thrilling graphic novel plunges readers into the cauldron of hate, bigotry, and fear the students faced. Powerful illustrations grip readers, and accessible text presents the emotionally charged events in readily understandable language.","English",25.95,19.45,"379.2","24 pp.","https://www.garethstevens.com/9781433974861",null,{"$f":"Table1[[#This Row],[QTY]]*Table1[[#This Row],['# Books]]","v":0},{"$f":"Table1[[#This Row],[QTY]]*Table1[[#This Row],[S&L Price]]","v":0}]
[null,null,52,"Graphic Heroes of the American Revolution",1,"George Washington and the Winter at Valley Forge","eBook",null,"978-1-4339-6055-0",{"$f":"HYPERLINK(Table1[[#This Row],[eCommerce Hyperlink]],\"Book Weblink\")","v":"Book Weblink"},null,"2012","August 2011",null,null,"Author","Nick Spender","4.4","0.5","20","24","L","700L","Grade 3","Grade 3 - 8","The survival of the American troops during the brutal winter at Valley Forge is one of the most harrowing tales of the Revolutionary War. In this book, readers witness the dedication of a civilian army that persevered through a fatal lack of supplies in order to continue the fight for independence from Britain. Readers discover George Washington before his days as president, serving as the impassioned military leader who kept his men together during such a trying time. Presented in graphic-novel form with accessible text and detailed artwork, this book is sure to keep even the most reluctant readers interested in this amazing tale and its historical context.","English",25.95,19.45,"973.3","24 pp.","https://www.garethstevens.com/9781433960550",null,{"$f":"Table1[[#This Row],[QTY]]*Table1[[#This Row],['# Books]]","v":0},{"$f":"Table1[[#This Row],[QTY]]*Table1[[#This Row],[S&L Price]]","v":0}]
[null,null,52,"Graphic Heroes of the American Revolution",1,"Samuel Adams and the Boston Tea Party","Library Bound Book",null,"978-1-4339-6022-2",{"$f":"HYPERLINK(Table1[[#This Row],[eCommerce Hyperlink]],\"Book Weblink\")","v":"Book Weblink"},null,"2012","August 2011","Library","6.500 X 9.000","Author","Gary Jeffrey","3.6","0.5","30","24","M","700L","Grade 3","Grade 3 - 8","Samuel Adams is one of the most well known figures in the American fight for independence. His impassioned speeches helped motivate colonists to take action against British taxes, which led to the famous act of rebellion known as the Boston Tea Party. Told in the form of a graphic novel, this book will engage even the most reluctant of readers and provoke their interest in learning history. Detailed drawings and accessible text bring readers into the world of one of the most important events on the road to the American Revolution.","English",25.95,19.45,"973.3","24 pp.","https://www.garethstevens.com/9781433960222",null,{"$f":"Table1[[#This Row],[QTY]]*Table1[[#This Row],['# Books]]","v":0},{"$f":"Table1[[#This Row],[QTY]]*Table1[[#This Row],[S&L Price]]","v":0}]
[null,null,52,"Graphic Heroes of the American Revolution",1,"Thomas Paine Writes Common Sense","eBook",null,"978-1-4339-6060-4",{"$f":"HYPERLINK(Table1[[#This Row],[eCommerce Hyperlink]],\"Book Weblink\")","v":"Book Weblink"},null,"2012","August 2011",null,null,"Author","Gary Jeffrey","4.6","0.5","20","24","L","720L","Grade 3","Grade 3 - 8","The words of Thomas Paine truly inspired the fight for American independence. He helped define the aims of the Revolutionary War. He even rode alongside George Washington in the 1783 parade celebrating America’s victory. This book teaches readers about his journey from making corsets in England to fanning the flames of revolution in America. Told in the exciting style of a graphic novel, Paine’s creation of the revolutionary pamphlet Common Sense is presented for even the most reluctant readers to enjoy. Accessible text and engaging drawings allow readers to explore the development of Paine’s pamphlet and its impact on both the soldiers fighting for independence and those on the home front. ","English",25.95,19.45,"320.01","24 pp.","https://www.garethstevens.com/9781433960604",null,{"$f":"Table1[[#This Row],[QTY]]*Table1[[#This Row],['# Books]]","v":0},{"$f":"Table1[[#This Row],[QTY]]*Table1[[#This Row],[S&L Price]]","v":0}]
[null,null,52,"Graphic Mythical Creatures",1,"Ogres","eBook",null,"978-1-4339-6038-3",{"$f":"HYPERLINK(Table1[[#This Row],[eCommerce Hyperlink]],\"Book Weblink\")","v":"Book Weblink"},null,"2012","August 2011",null,null,"Author","Gary Jeffrey","3.9","0.5","20","24","L",null,"Grade 3","Grade 3 - 5","Ogres have been featured in fairy tales and folklore long before the misanthropic, but lovable, Shrek. Fascinating facts teach readers about ogres of many traditions, from Japanese legends to popular fairy tales. The featured legend of Tom Hickathrift and his exciting battle with the ogre of Tilney Marsh is presented in graphic-novel form, which enlivens it through accessible text and engaging drawings. Readers will even find out how ogres are involved in the story of the popular character Puss in Boots.","English",25.95,19.45,"398.21--dc23","24 pp.","https://www.garethstevens.com/9781433960383",null,{"$f":"Table1[[#This Row],[QTY]]*Table1[[#This Row],['# Books]]","v":0},{"$f":"Table1[[#This Row],[QTY]]*Table1[[#This Row],[S&L Price]]","v":0}]
[null,null,52,"Graphic Mythical Creatures",1,"Werewolves","eBook",null,"978-1-4339-6050-5",{"$f":"HYPERLINK(Table1[[#This Row],[eCommerce Hyperlink]],\"Book Weblink\")","v":"Book Weblink"},null,"2012","August 2011",null,null,"Author","Gary Jeffrey","3.5","0.5","20","24","L",null,"Grade 3","Grade 3 - 5","Werewolves are some of the most feared mythical creatures ever imagined. In this exciting resource, readers discover legends of werewolves that have been told throughout the world, from France to the United States. The featured tale of the werewolf of Klein-Krams is presented in gripping graphic-novel form, with eye-catching artwork and accessible text that even the most reluctant readers will enjoy. Fascinating facts explain how this story and others like it originated. Readers will even learn important lessons like what it takes to defeat a werewolf.","English",25.95,19.45,"398.24--dc23","24 pp.","https://www.garethstevens.com/9781433960505",null,{"$f":"Table1[[#This Row],[QTY]]*Table1[[#This Row],['# Books]]","v":0},{"$f":"Table1[[#This Row],[QTY]]*Table1[[#This Row],[S&L Price]]","v":0}]
[null,null,52,"Graphic Mythical Creatures",1,"Centaurs","eBook",null,"978-1-4339-6752-8",{"$f":"HYPERLINK(Table1[[#This Row],[eCommerce Hyperlink]],\"Book Weblink\")","v":"Book Weblink"},null,"2012","January 2012",null,null,"Author, Illustrated by","Gary Jeffrey, Allesandro Poluzzi","3.5","0.5","24","34","N",null,"Grade 3","Grade 3 - 5","A centaur is one of the wildest creations in Greek mythology. In this book, readers explore fascinating tales about centaurs and the dangers they were thought to pose to both themselves and humans. The featured story of “Hercules and the Centaurs” is presented in exciting graphic-novel form, using engaging artwork and accessible text to draw reluctant readers into the world of these wild and powerful creatures. Legendary centaur battles and thrilling tales of kidnappings and rescues are sure to keep readers engaged and pages turning.","English",25.95,19.45,"398.210938","24 pp.","https://www.garethstevens.com/9781433967528",null,{"$f":"Table1[[#This Row],[QTY]]*Table1[[#This Row],['# Books]]","v":0},{"$f":"Table1[[#This Row],[QTY]]*Table1[[#This Row],[S&L Price]]","v":0}]
[null,null,52,"Graphic Mythical Creatures",1,"Mermaids","eBook",null,"978-1-4339-6764-1",{"$f":"HYPERLINK(Table1[[#This Row],[eCommerce Hyperlink]],\"Book Weblink\")","v":"Book Weblink"},null,"2012","January 2012",null,null,"Author, Illustrated by","Gary Jeffrey, Emanuele Boccanfuso","4.3","0.5","20","34","M",null,"Grade 3","Grade 3 - 5","Mermaids have been a part of mythology for thousands of years, captivating people from the days of ancient Greece through modern times. In this book, readers explore exciting stories of these dangerously charming creatures, from the deadly Russian rusalka to the helpful jengu of Cameroon. In addition to these intriguing legends, readers discover the British tale of a kindly mermaid and her magical comb. Presented in eye-catching graphic-novel form, this story is sure to engage reluctant readers with its detailed drawings and easy-to-follow text. All your readers are able to explore a world of undersea stories like never before in this book.","English",25.95,19.45,"398.21--dc23","24 pp.","https://www.garethstevens.com/9781433967641",null,{"$f":"Table1[[#This Row],[QTY]]*Table1[[#This Row],['# Books]]","v":0},{"$f":"Table1[[#This Row],[QTY]]*Table1[[#This Row],[S&L Price]]","v":0}]
[null,null,52,"Graphic Mythical Heroes",1,"Achilles and the Trojan War","Library Bound Book",null,"978-1-4339-7507-3",{"$f":"HYPERLINK(Table1[[#This Row],[eCommerce Hyperlink]],\"Book Weblink\")","v":"Book Weblink"},null,"2013","August 2012","Library","6.500 X 9.000","Author, Illustrated by","Gary Jeffrey, Nick Spender","4.1","0.5","24","22","L",null,"Grade 3","Grade 3 - 5","On the fields of battle, no man could match the part-god Achilles. However, he let others lead the Greeks during the Trojan War when he felt dishonored by Agamemnon—only vengeance could bring this mythical hero back to fight. With accessible content and action-packed illustrations, this graphic novel launches readers into the epic battle scenes that follow Achilles’s bloody return to war outside the walls of Troy. Readers will be captivated by his incredible deeds the discovery of his ultimate weakness.","English",25.95,19.45,"398.20938/01","24 pp.","https://www.garethstevens.com/9781433975073",null,{"$f":"Table1[[#This Row],[QTY]]*Table1[[#This Row],['# Books]]","v":0},{"$f":"Table1[[#This Row],[QTY]]*Table1[[#This Row],[S&L Price]]","v":0}]
[null,null,52,"Graphic Mythical Heroes",1,"Jason and the Argonauts","eBook",null,"978-1-4339-7518-9",{"$f":"HYPERLINK(Table1[[#This Row],[eCommerce Hyperlink]],\"Book Weblink\")","v":"Book Weblink"},null,"2013","August 2012",null,null,"Author, Illustrated by","Gary Jeffrey, Dheeraj Verma","4","0.5","24","22","L",null,"Grade 3","Grade 3 - 5","Jason bested many mythical beasts in his quest for the Golden Fleece, and for his rightful place as king of Iolcus. He and his trusty crew, the Argonauts, proved heroic time and again while completing their impossible task. Just as the goddess Hera and the sorceress Medea helped Jason on his journey, accessible content and exciting illustrations will help readers follow the thrilling story of this graphic novel. Full of danger and deceit, its panels will plunge readers into the awesome world of myth.","English",25.95,19.45,"398.20938--dc23","24 pp.","https://www.garethstevens.com/9781433975189",null,{"$f":"Table1[[#This Row],[QTY]]*Table1[[#This Row],['# Books]]","v":0},{"$f":"Table1[[#This Row],[QTY]]*Table1[[#This Row],[S&L Price]]","v":0}]
[null,null,52,"Graphic Mythical Heroes",1,"Odysseus and the Odyssey","eBook",null,"978-1-4339-7522-6",{"$f":"HYPERLINK(Table1[[#This Row],[eCommerce Hyperlink]],\"Book Weblink\")","v":"Book Weblink"},null,"2013","August 2012",null,null,"Author, Illustrated by","Gary Jeffrey, Allesandro Poluzzi","4.2","0.5","24","22","L",null,"Grade 3","Grade 3 - 5","The story of Odysseus’s journey around the mythical world is full of peril, including the potion of the witch Circe and the temptation of the sirens. Following the Trojan War, Odysseus tries to bring 12 ships full of men home to Ithaca, only to arrive 20 years later alone. Readers will live through many trials alongside Odysseus in this fast-paced graphic novel. Depicted in full-color illustration and related through accessible content, Odysseus’s feats will engage readers from the beginning of his odyssey to his triumphant return to his homeland.","English",25.95,19.45,"398.20938","24 pp.","https://www.garethstevens.com/9781433975226",null,{"$f":"Table1[[#This Row],[QTY]]*Table1[[#This Row],['# Books]]","v":0},{"$f":"Table1[[#This Row],[QTY]]*Table1[[#This Row],[S&L Price]]","v":0}]
[null,null,53,"Canines in the Wild",1,"Dingoes in the Wild","Library Bound Book",null,"978-1-5382-7961-8",null,null,"2023","August 2022","Library","8.500 X 8.500","Author","Natalie Humphrey",null,null,null,null,"L",null,"Grade 2 - 3","Grade 2 - 5","Opportunistic dingoes wait for the perfect moment to pounce on small prey such as rabbits, rodents, and lizards. Early readers will learn more about dingo adaptations and behavior with this intriguing title. It features text that is carefully crafted to be engaging and accessible to early readers. It also explains other key ideas about dingoes including their vocalizations, habitat, and decreasing population due to breeding with domestic dogs. Thought-provoking fact-boxes, fascinating full-color photos, a graphic organizer, and a vocabulary-enhancing glossary all aid in reading comprehension. Armed with the knowledge in this text, aspiring biologists will be more informed about the dingo’s unique characteristics and ecological importance!","English",23.6,17.7,"599.77’2--dc23","24 pp.","https://www.garethstevens.com/9781538279618",null,{"$f":"Table1[[#This Row],[QTY]]*Table1[[#This Row],['# Books]]","v":0},{"$f":"Table1[[#This Row],[QTY]]*Table1[[#This Row],[S&L Price]]","v":0}]
[null,null,53,"Canines in the Wild",1,"Wolves in the Wild","eBook",null,"978-1-5382-7966-3",null,null,"2023","August 2022",null,null,"Author","Natalie Humphrey",null,null,null,null,"L",null,"Grade 2 - 3","Grade 2 - 5","Although a wolf’s mournful howl is often associated with a full moon, they don’t wait for this lunar phase to make their recognizable vocalization—Wolves howl whenever they want to communicate with other wolves. Young readers will learn more about the key ideas of wolf behavior and adaptations with this intriguing title. The explanatory text is thoughtfully written with early readers in mind and also covers wolf habitats, their ecological importance, and the threats they face from humans. This title additionally features fascinating fact-boxes, full-color photos, and a helpful graphic organizer to aid with reading comprehension. After reading this text, which aims to enhance any life science curricula, budding biologists are sure to be captivated in the often-misunderstood world of wolves.","English",23.6,17.7,"599.773--dc23","24 pp.","https://www.garethstevens.com/9781538279663","http://www.epointplus.com/embed/9781538279663/?login=cyberrep&password=cyberrep",{"$f":"Table1[[#This Row],[QTY]]*Table1[[#This Row],['# Books]]","v":0},{"$f":"Table1[[#This Row],[QTY]]*Table1[[#This Row],[S&L Price]]","v":0}]
[null,null,54,"Deadly Snakes",1,"Deadly Cobras","Library Bound Book",null,"978-1-5382-7977-9",null,null,"2023","August 2022","Library","8.500 X 8.500","Author","Monika Davies",null,null,null,null,"L",null,"Grade 2 - 3","Grade 2 - 5","If ever you spy a hooded snake rising from the ground, it’s imperative you keep away! Cobras are venomous—and that venom is deadly. Cobras have incredible senses and ways of hunting that readers learn all about in this book. Accompanied by full-color photographs of cobras in action, the main text introduces readers to all the different kinds of cobras and details their diet, body, behavior, habitat, and even their life cycle. Science content is both intriguing and supportive of classroom learning.","English",23.6,17.7,"597.96/42--dc23","24 pp.","https://www.garethstevens.com/9781538279779",null,{"$f":"Table1[[#This Row],[QTY]]*Table1[[#This Row],['# Books]]","v":0},{"$f":"Table1[[#This Row],[QTY]]*Table1[[#This Row],[S&L Price]]","v":0}]
[null,null,54,"Deadly Snakes",1,"Deadly Cobras","eBook",null,"978-1-5382-7978-6",null,null,"2023","August 2022",null,null,"Author","Monika Davies",null,null,null,null,"L",null,"Grade 2 - 3","Grade 2 - 5","If ever you spy a hooded snake rising from the ground, it’s imperative you keep away! Cobras are venomous—and that venom is deadly. Cobras have incredible senses and ways of hunting that readers learn all about in this book. Accompanied by full-color photographs of cobras in action, the main text introduces readers to all the different kinds of cobras and details their diet, body, behavior, habitat, and even their life cycle. Science content is both intriguing and supportive of classroom learning.","English",23.6,17.7,"597.96/42--dc23","24 pp.","https://www.garethstevens.com/9781538279786","http://www.epointplus.com/embed/9781538279786/?login=cyberrep&password=cyberrep",{"$f":"Table1[[#This Row],[QTY]]*Table1[[#This Row],['# Books]]","v":0},{"$f":"Table1[[#This Row],[QTY]]*Table1[[#This Row],[S&L Price]]","v":0}]
[null,null,54,"Deadly Snakes",1,"Deadly Sea Snakes","eBook",null,"978-1-5382-7990-8",null,null,"2023","August 2022",null,null,"Author","Monika Davies",null,null,null,null,"L",null,"Grade 2 - 3","Grade 2 - 5","Sea snakes are some of the most venomous underwater predators. Their unlucky prey includes fish, eels, and crustaceans. How they hunt and kill is fascinating and enough to engage even the most reluctant reader with science content. In this book, readers find sea snakes on the hunt, in their habitat, and going through their life cycle. Fact boxes highlight their incredible senses and abilities, while full-color photographs show off their color and swimming slither.","English",23.6,17.7,"597.96/5--dc23","24 pp.","https://www.garethstevens.com/9781538279908","http://www.epointplus.com/embed/9781538279908/?login=cyberrep&password=cyberrep",{"$f":"Table1[[#This Row],[QTY]]*Table1[[#This Row],['# Books]]","v":0},{"$f":"Table1[[#This Row],[QTY]]*Table1[[#This Row],[S&L Price]]","v":0}]
[null,null,55,"Forest Creatures",1,"Bobcats in the Forest","eBook",null,"978-1-5382-7910-6",null,null,"2023","August 2022",null,null,"Author","Donna Reynolds",null,null,null,null,"L",null,"Grade 2 - 3","Grade 2 - 5","Bobcats may look more like housecats than a tiger or lion does, but they are much fiercer than an ordinary pet. Their shy nature means they are rarely a threat to humans. In fact, they generally avoid humans so completely that it is rare to see one at all. This lack of firsthand observation means people tend to know very little about these beautiful and independent animals. Through engaging main text, augmented with informative fact boxes and full-color photographs, readers learn about the bobcat’s behavioral patterns, diet, habitat, and more.","English",23.6,17.7,"599.75/36--dc23","24 pp.","https://www.garethstevens.com/9781538279106","http://www.epointplus.com/embed/9781538279106/?login=cyberrep&password=cyberrep",{"$f":"Table1[[#This Row],[QTY]]*Table1[[#This Row],['# Books]]","v":0},{"$f":"Table1[[#This Row],[QTY]]*Table1[[#This Row],[S&L Price]]","v":0}]
[null,null,55,"Forest Creatures",1,"Skunks in the Forest","Library Bound Book",null,"978-1-5382-7925-0",null,null,"2023","August 2022","Library","8.500 X 8.500","Author","Jennifer Lombardo",null,null,null,null,"L",null,"Grade 2 - 3","Grade 2 - 5","Many people dislike skunks, but this is primarily due to misconceptions about them. For instance, they are not normally smelly creatures, and they do not pose a threat to humans. In fact, they are beneficial, as they eat creatures that tend to ruin gardens. They also scavenge animal carcasses, which removes carrion from the environment. Through full-color photographs, informative fact boxes, and a detailed graphic organizer, readers learn all about the vital role skunks play in a forest ecosystem. A list of books and websites provides a jumping-off point for further research.","English",23.6,17.7,"599.76/8--dc23","24 pp.","https://www.garethstevens.com/9781538279250",null,{"$f":"Table1[[#This Row],[QTY]]*Table1[[#This Row],['# Books]]","v":0},{"$f":"Table1[[#This Row],[QTY]]*Table1[[#This Row],[S&L Price]]","v":0}]
[null,null,55,"Forest Creatures",1,"Wild Boars in the Forest","eBook",null,"978-1-5382-7930-4",null,null,"2023","August 2022",null,null,"Author","Donna Reynolds",null,null,null,null,"L",null,"Grade 2 - 3","Grade 2 - 5","In wild boars’ native habitats of Eurasia and North Africa, they play important ecological roles. Their activity in the forest creates habitats for other creatures and spreads seeds to other locations, promoting biodiversity. Sadly, as an invasive species in the Americas, they often do more harm than good. This volume examines the ways wild boars affect the environment around them. Through the engaging main text, enhanced with full-color photographs and a detailed graphic organizer, readers learn about these intelligent animals’ behavior, habitat, diet, and more.","English",23.6,17.7,"599.63/32--dc23","24 pp.","https://www.garethstevens.com/9781538279304","http://www.epointplus.com/embed/9781538279304/?login=cyberrep&password=cyberrep",{"$f":"Table1[[#This Row],[QTY]]*Table1[[#This Row],['# Books]]","v":0},{"$f":"Table1[[#This Row],[QTY]]*Table1[[#This Row],[S&L Price]]","v":0}]
[null,30,56,"Predators on the Prowl",1,"Killer Fish","eBook",null,"978-1-5382-7426-2",{"$f":"HYPERLINK(Table1[[#This Row],[eCommerce Hyperlink]],\"Book Weblink\")","v":"Book Weblink"},{"$f":"HYPERLINK(Table1[[#This Row],[EPP Hyperlink]],\"EPP Weblink\")","v":"EPP Weblink"},"2022","January 2022",null,null,"Author","Mignonne Gunasekara",null,null,null,null,"L",null,"Grade 3 - 4","Grade 2 - 5","The great white shark and the barracuda are fish with bad reputations. They’re known for being fierce and scary predators—and they are! In this book, readers are introduced to even more predatory fish, including those with sharp teeth, venomous spines, and lures to trick prey into their mouths. Up-close photographs give readers a front row seat to the predators in action and enable them to see their weapons—or the important body parts they use to hunt. Age-appropriate text and details will spark the curiosity of animal lovers everywhere.","English",23.6,17.7,"591.77","24 pp.","https://www.garethstevens.com/9781538274262","http://www.epointplus.com/embed/9781538274262/?login=cyberrep&password=cyberrep",{"$f":"Table1[[#This Row],[QTY]]*Table1[[#This Row],['# Books]]","v":0},{"$f":"Table1[[#This Row],[QTY]]*Table1[[#This Row],[S&L Price]]","v":0}]
[null,null,57,"Return from Extinction",6,"Return from Extinction","Library Set",null,"978-1-5382-8160-4",null,null,"2023","August 2022","Library","8.500 X 11.00",null,null,null,null,null,null,null,null,"Grade 3 - 4","Grade 3 - 6","Many amazing animals on Earth are endangered—and some are even going extinct. This series introduces readers to animals that have returned from the brink of extinction through conservation efforts, including bald eagles, manatees, and gray wolves. Readers will learn about each animal’s habitat, behavior, and needs, as well as the reasons for their population decline. Each book also details how conservation efforts allowed these animals to reach sustainable populations once more. Brilliant photographs are paired with exciting text to give readers a strong connection to real-world ecological events. Readers are sure to gain an understanding of how human behaviors can harm animals, as well as an appreciation for the resilience of nature.","English",165.6,124.2,null,"32 pp.","https://www.garethstevens.com/9781538281604",null,{"$f":"Table1[[#This Row],[QTY]]*Table1[[#This Row],['# Books]]","v":0},{"$f":"Table1[[#This Row],[QTY]]*Table1[[#This Row],[S&L Price]]","v":0}]
[null,null,57,"Return from Extinction",1,"The Gray Wolf","eBook",null,"978-1-5382-8030-0",null,null,"2023","August 2022",null,null,"Author","Leonard Clasky",null,null,null,null,"P",null,"Grade 3 - 4","Grade 3 - 6","The gray wolf was once a top predator in North America, revered by Native Americans. Once white settlers arrived, wolf populations fell dramatically. This book tells the story of the gray wolf’s population plunge due to systematic killing programs, and its victorious rise thanks to conservation programs. Readers will learn about wolf adaptations and behavior, as well as its impact on its ecosystem. This book highlights the work of the Yellowstone Wolf Project to bring gray wolves back to Yellowstone National Park. Graphic organizers and brilliant photographs allow readers to deeply connect with the text. Readers will surely appreciate the resilience of the great gray wolf.","English",27.6,20.7,"599.77309787/52--dc23","32 pp.","https://www.garethstevens.com/9781538280300","http://www.epointplus.com/embed/9781538280300/?login=cyberrep&password=cyberrep",{"$f":"Table1[[#This Row],[QTY]]*Table1[[#This Row],['# Books]]","v":0},{"$f":"Table1[[#This Row],[QTY]]*Table1[[#This Row],[S&L Price]]","v":0}]
[null,null,57,"Return from Extinction",1,"The Manatee","eBook",null,"978-1-5382-8038-6",null,null,"2023","August 2022",null,null,"Author","Leonard Clasky",null,null,null,null,"P",null,"Grade 3 - 4","Grade 3 - 6","When European explorers first saw manatees in the New World, they believed these large, graceful swimmers were mermaids! But while manatees were well adapted to their marine environments, they were not ready for human carelessness. In recent decades, many manatees have been killed by boats and habitat loss, and the population plummeted. This book explores the issues surrounding manatee survival. It takes a look at how people were the problem when it came to endangering manatees—and how people can be the solution. Graphic organizers and exciting photographs are paired with fascinating facts to hook readers. Readers are sure to experience a deep dive into the world of this underwater marvel—the manatee.","English",27.6,20.7,"599.55--dc23","32 pp.","https://www.garethstevens.com/9781538280386","http://www.epointplus.com/embed/9781538280386/?login=cyberrep&password=cyberrep",{"$f":"Table1[[#This Row],[QTY]]*Table1[[#This Row],['# Books]]","v":0},{"$f":"Table1[[#This Row],[QTY]]*Table1[[#This Row],[S&L Price]]","v":0}]
[null,31,58,"The World's Most",1,"World's Most Endangered Animals","Library Bound Book",null,"978-1-5382-7465-1",{"$f":"HYPERLINK(Table1[[#This Row],[eCommerce Hyperlink]],\"Book Weblink\")","v":"Book Weblink"},null,"2022","January 2022","Library","8.500 X 11.00","Author","Karen McGhee",null,null,null,null,"V",null,"Grade 5 - 6","Grade 4 - 6","The many reasons animals are endangered have so much to do with people: poaching, overfishing, collecting, pet trade, traditional medicine, and more. But, the number one reason the animals featured in this book are in danger of dying out is habitat loss. Readers learn what people are doing to cause this as well as how captive breeding program and protected lands are trying to reverse what we’d done. Rare species are highlighted on each page with full-color photographs making them real for readers.","English",27.6,20.7,"591.68","32 pp.","https://www.garethstevens.com/9781538274651",null,{"$f":"Table1[[#This Row],[QTY]]*Table1[[#This Row],['# Books]]","v":0},{"$f":"Table1[[#This Row],[QTY]]*Table1[[#This Row],[S&L Price]]","v":0}]
[null,31,58,"The World's Most",1,"World's Most Extreme Animals","eBook",null,"978-1-5382-7470-5",{"$f":"HYPERLINK(Table1[[#This Row],[eCommerce Hyperlink]],\"Book Weblink\")","v":"Book Weblink"},{"$f":"HYPERLINK(Table1[[#This Row],[EPP Hyperlink]],\"EPP Weblink\")","v":"EPP Weblink"},"2022","January 2022",null,null,"Author","Karen McGhee",null,null,null,null,"V",null,"Grade 5 - 6","Grade 4 - 6","From the exceptionally large molars of the panda bear to a crab that can punch at a high speed, animal adaptations can be spectacular—and extreme! In this book, dozens of animals from all over the world are described in incredible detail with accompanying full-color photographs. Spiders with a superlong leg span, whales that click at decibel levels like that of an airplane, and more will engage readers with the animal kingdom in a new and exciting way. Divided by continent, this book also aids readers’ understanding of differences in habitat and animal type by geographic location.","English",27.6,20.7,"590","32 pp.","https://www.garethstevens.com/9781538274705","http://www.epointplus.com/embed/9781538274705/?login=cyberrep&password=cyberrep",{"$f":"Table1[[#This Row],[QTY]]*Table1[[#This Row],['# Books]]","v":0},{"$f":"Table1[[#This Row],[QTY]]*Table1[[#This Row],[S&L Price]]","v":0}]
[null,null,59,"Wow, That's Woolly!",1,"Angora Rabbits","Library Bound Book",null,"978-1-5382-7937-3",null,null,"2023","August 2022","Library","8.500 X 8.500","Author","Beth Gottlieb",null,null,null,null,"L",null,"Grade 2 - 3","Grade 2 - 5","One of the most prized kinds of wool in the world is made from a small, fluffy mammal: the Angora rabbit! These quiet animals are fairly easy to keep and don’t cost much to take care of. But, their wool can be sold for a lot of money. In this book, readers learn about one of the softest, warmest wools on Earth as well as how Angora rabbits are cared for and the different ways their wool is harvested. Full-color photographs bring readers close to the long, lustrous fur of Angora rabbits while they learn all about this awesome animal.","English",23.6,17.7,"636.932/2--dc23","24 pp.","https://www.garethstevens.com/9781538279373",null,{"$f":"Table1[[#This Row],[QTY]]*Table1[[#This Row],['# Books]]","v":0},{"$f":"Table1[[#This Row],[QTY]]*Table1[[#This Row],[S&L Price]]","v":0}]
[null,null,59,"Wow, That's Woolly!",1,"Angora Rabbits","eBook",null,"978-1-5382-7938-0",null,null,"2023","August 2022",null,null,"Author","Beth Gottlieb",null,null,null,null,"L",null,"Grade 2 - 3","Grade 2 - 5","One of the most prized kinds of wool in the world is made from a small, fluffy mammal: the Angora rabbit! These quiet animals are fairly easy to keep and don’t cost much to take care of. But, their wool can be sold for a lot of money. In this book, readers learn about one of the softest, warmest wools on Earth as well as how Angora rabbits are cared for and the different ways their wool is harvested. Full-color photographs bring readers close to the long, lustrous fur of Angora rabbits while they learn all about this awesome animal.","English",23.6,17.7,"636.932/2--dc23","24 pp.","https://www.garethstevens.com/9781538279380","http://www.epointplus.com/embed/9781538279380/?login=cyberrep&password=cyberrep",{"$f":"Table1[[#This Row],[QTY]]*Table1[[#This Row],['# Books]]","v":0},{"$f":"Table1[[#This Row],[QTY]]*Table1[[#This Row],[S&L Price]]","v":0}]
[null,null,59,"Wow, That's Woolly!",1,"Llamas","Library Bound Book",null,"978-1-5382-7949-6",null,null,"2023","August 2022","Library","8.500 X 8.500","Author","Beth Gottlieb",null,null,null,null,"L",null,"Grade 2 - 3","Grade 2 - 5","Llamas have become a popular animal in recent years because of their cute, if odd looking, face and body. But llamas are more than just a cool mammal. They are very useful to people as pack animals and wool producers. Their wool can be made into cloth, just like sheep or alpacas. This volume covers llama life, size, and look, as well as the features of their wool and how it is harvested and used. Complete with full-color photographs of llamas and llama wool goods, the main content is written with young readers in mind.","English",23.6,17.7,"636.2/966--dc23","24 pp.","https://www.garethstevens.com/9781538279496",null,{"$f":"Table1[[#This Row],[QTY]]*Table1[[#This Row],['# Books]]","v":0},{"$f":"Table1[[#This Row],[QTY]]*Table1[[#This Row],[S&L Price]]","v":0}]
[null,28,60,"Animal Pals",1,"Ants and Aphids","Library Bound Book",null,"978-1-5382-6672-4",{"$f":"HYPERLINK(Table1[[#This Row],[eCommerce Hyperlink]],\"Book Weblink\")","v":"Book Weblink"},null,"2022","August 2021","Library","8.500 X 8.500","Author","Janey Levy","4.9","0.5",null,null,"M",null,"Grade 2 - 3","Grade 2 - 5","Ants and aphids are insects common around homes and gardens. Homeowners, gardeners, and picnickers often consider them pests, but these insects have fascinating secret lives. Many ant and aphid species form truly remarkable mutualistic relationships. This delightful volume will captivate young readers as they discover the surprising world of ants and aphids together. An entertaining and accessible narrative addresses important science concepts. Fun facts and a graphic organizer offer even more information in comprehensible ways for all levels of readers.","English",23.6,17.7,"595.79","24 pp.","https://www.garethstevens.com/9781538266724",null,{"$f":"Table1[[#This Row],[QTY]]*Table1[[#This Row],['# Books]]","v":0},{"$f":"Table1[[#This Row],[QTY]]*Table1[[#This Row],[S&L Price]]","v":0}]
[null,28,60,"Animal Pals",1,"Rhinos and Oxpeckers","eBook",null,"978-1-5382-6686-1",{"$f":"HYPERLINK(Table1[[#This Row],[eCommerce Hyperlink]],\"Book Weblink\")","v":"Book Weblink"},null,"2022","August 2021",null,null,"Author","Janey Levy","4.8","0.5",null,null,"M",null,"Grade 2 - 3","Grade 2 - 5","A bird in the hand is worth two in the bush, or so the saying goes. But what about a bird on your back that can help rid you of parasites and warn you of danger? That's what oxpeckers do for rhinos. At least that's what was believed until recent research suggested the relationship may be more complicated. This fascinating volume will captivate young readers as they discover the complex relationship between rhinos and oxpeckers. Age-appropriate text covers important science concepts while remaining entertaining. A graphic organizer and fast facts help cement newly learned information.","English",23.6,17.7,"599.66","24 pp.","https://www.garethstevens.com/9781538266861",null,{"$f":"Table1[[#This Row],[QTY]]*Table1[[#This Row],['# Books]]","v":0},{"$f":"Table1[[#This Row],[QTY]]*Table1[[#This Row],[S&L Price]]","v":0}]
[null,28,60,"Animal Pals",1,"Warthogs and Mongooses","Library Bound Book",null,"978-1-5382-6697-7",{"$f":"HYPERLINK(Table1[[#This Row],[eCommerce Hyperlink]],\"Book Weblink\")","v":"Book Weblink"},null,"2022","August 2021","Library","8.500 X 8.500","Author","Janey Levy","4.9","0.5",null,null,"M",null,"Grade 2 - 3","Grade 2 - 5","In the animal world, it's rare for two mammal species to form a mutualistic relationship. It's especially rare for that to happen when neither species is a primate, but that's exactly what happens between warthogs and banded mongooses. Young readers will be thrilled to discover these contrasting creatures and the fascinating bond between them. Accessible text addresses important science concepts and lively images bring this relationship into full focus. Fun facts and a graphic organizer enhance the narrative.","English",23.6,17.7,"599.63","24 pp.","https://www.garethstevens.com/9781538266977",null,{"$f":"Table1[[#This Row],[QTY]]*Table1[[#This Row],['# Books]]","v":0},{"$f":"Table1[[#This Row],[QTY]]*Table1[[#This Row],[S&L Price]]","v":0}]
[null,29,60,"Animal vs. Animal",1,"Who’s the Biggest?","eBook",null,"978-1-5345-3737-8",{"$f":"HYPERLINK(Table1[[#This Row],[eCommerce Hyperlink]],\"Book Weblink\")","v":"Book Weblink"},null,"2022","August 2021",null,null,"Author","Emilie Dufresne",null,null,null,null,"L",null,"Grade 2 - 3","Grade 2 - 5","How is “biggest” defined in the animal kingdom? If it means tallest, the giraffe is a contender. If it means heaviest, male polar bears can weigh in at almost up to 1,000 pounds! In this charming spin on animal books, two supersized animals meet in an imaginary face off to see who’s bigger. Each animal is profiled with fun facts, showcased in a creative layout with full-color images. Including age-appropriate content and language, the main text draws in readers of all abilities and supplements classroom learning.","English",25.6,20.43,"591.4’1","24 pp.","https://www.garethstevens.com/9781534537378",null,{"$f":"Table1[[#This Row],[QTY]]*Table1[[#This Row],['# Books]]","v":0},{"$f":"Table1[[#This Row],[QTY]]*Table1[[#This Row],[S&L Price]]","v":0}]
[null,29,60,"Animal vs. Animal",1,"Who’s the Fastest?","Library Bound Book",null,"978-1-5345-3760-6",{"$f":"HYPERLINK(Table1[[#This Row],[eCommerce Hyperlink]],\"Book Weblink\")","v":"Book Weblink"},null,"2022","August 2021","Library","8.500 X 8.500","Author","Kirsty Holmes",null,null,null,null,"L",null,"Grade 2 - 3","Grade 2 - 5","Imagine being able to set up a race between two of the fasted land animals on Earth, the cheetah and the springbok, which is a type of antelope. Of course, these two would never meet in the wild, much less a racetrack! In this book, though, readers get to see this epic match up, among others, and decide just who the fastest is. Written in a playful tone and including age-appropriate facts in each animal’s profile, the main content is engaging for readers of all levels and abilities.","English",25.6,20.43,"591.5’7","24 pp.","https://www.garethstevens.com/9781534537606",null,{"$f":"Table1[[#This Row],[QTY]]*Table1[[#This Row],['# Books]]","v":0},{"$f":"Table1[[#This Row],[QTY]]*Table1[[#This Row],[S&L Price]]","v":0}]
[null,26,61,"Bizarre Beast Battles",18,"Bizarre Beast Battles: Sets 1 – 3","Library Set",null,"978-1-5382-6678-6",{"$f":"HYPERLINK(Table1[[#This Row],[eCommerce Hyperlink]],\"Book Weblink\")","v":"Book Weblink"},null,"2022","August 2021","Library","8.500 X 8.500",null,null,null,null,null,null,null,null,"Grade 2 - 3","Grade 2 - 5","When animals of different species are at odds, their unique adaptations are on display. The creatures in this popular, action-packed collection are unlikely opponents, but an imaginative \"matchup\" allows readers to discover their traits and weigh in on who might be the winner in a real-life clash. An eye-catching design and loads of thought-provoking statistics will excite readers about bizarre beast battles comparing strength, size, intelligence, and more. Featured animals, such as the great white shark, Tyrannosaurus rex, and boa constrictor, were selected for their high-interest appeal. Features include: Bite-size fact boxes and thrilling photographs of animals make this a motivating set for developing readers. Each volume encourages readers to construct an opinion about \"the winner\" using fact-based evidence. Animal adaptations are a key component of elementary science curricula, including the Next Generation Science Standards.","English",424.8,318.60000000000002,null,"24 pp.","https://www.garethstevens.com/9781538266786",null,{"$f":"Table1[[#This Row],[QTY]]*Table1[[#This Row],['# Books]]","v":0},{"$f":"Table1[[#This Row],[QTY]]*Table1[[#This Row],[S&L Price]]","v":0}]
[null,26,61,"Bizarre Beast Battles",1,"Cassowary vs. Rhinoceros","eBook",null,"978-1-5382-6472-0",{"$f":"HYPERLINK(Table1[[#This Row],[eCommerce Hyperlink]],\"Book Weblink\")","v":"Book Weblink"},null,"2022","August 2021",null,null,"Author","Janey Levy","4.1","0.5",null,null,"M",null,"Grade 2 - 3","Grade 2 - 5","Imagine a battle between a bird and a rhinoceros. It might seem obvious that the rhinoceros would triumph, but the outcome isn't so clear when the bird in question is a cassowary. This is a large, heavy creature with a reputation as the world's deadliest bird. Young readers will thrill at the knowledge they uncover as they try to figure out which of these fascinating animals might prove victorious if they were to confront each other. Age-appropriate text addresses important science concepts. Vibrant images support the narrative and striking statistics enrich the accessible information.","English",23.6,17.7,"598.5/3--dc23","24 pp.","https://www.garethstevens.com/9781538264720",null,{"$f":"Table1[[#This Row],[QTY]]*Table1[[#This Row],['# Books]]","v":0},{"$f":"Table1[[#This Row],[QTY]]*Table1[[#This Row],[S&L Price]]","v":0}]
[null,26,61,"Bizarre Beast Battles",1,"Kangaroo vs. Gorilla","Library Bound Book",null,"978-1-5382-6479-9",{"$f":"HYPERLINK(Table1[[#This Row],[eCommerce Hyperlink]],\"Book Weblink\")","v":"Book Weblink"},null,"2022","August 2021","Library","8.500 X 8.500","Author","Janey Levy","4","0.5",null,null,"M",null,"Grade 2 - 3","Grade 2 - 5","A conflict between two herbivores might not sound like much of a battle, but when those plant eaters are powerful animals like a kangaroo and a gorilla, one can envision a real clash. Discoveries about the lives of these animals will enthrall young readers as they try to guess which might triumph in an imaginary encounter between the two. Accessible text with stunning statistics highlights important science concepts. Powerful, eye-catching images help maintain enthusiasm for the newly learned information.","English",23.6,17.7,"599.2/22--dc23","24 pp.","https://www.garethstevens.com/9781538264799",null,{"$f":"Table1[[#This Row],[QTY]]*Table1[[#This Row],['# Books]]","v":0},{"$f":"Table1[[#This Row],[QTY]]*Table1[[#This Row],[S&L Price]]","v":0}]
[null,27,61,"Bizarre Beast Battles",1,"Cheetah vs. Ostrich","eBook",null,"978-1-4824-2787-5",{"$f":"HYPERLINK(Table1[[#This Row],[eCommerce Hyperlink]],\"Book Weblink\")","v":"Book Weblink"},null,"2016","August 2015",null,null,"Author","Charlotte Herriott","4.3","0.5","30",null,"N","860L","Grade 2 - 3","Grade 2 - 5","Cheetahs and ostriches can definitely fend for themselves in their native Africa. Cheetahs have incredible speed; they're the fastest land animals. Ostriches are the largest birds, but they also have a kick so deadly it's been known to kill lions. What might happen if these two beasts squared off is anyone's guess. Both are equipped to do some damage. Readers can decide which they think would be the victor using the exciting information and vivid action photographs they'll find on each page of this engaging volume.","English",23.6,17.7,"590.96","24 pp.","https://www.garethstevens.com/9781482427875",null,{"$f":"Table1[[#This Row],[QTY]]*Table1[[#This Row],['# Books]]","v":0},{"$f":"Table1[[#This Row],[QTY]]*Table1[[#This Row],[S&L Price]]","v":0}]
[null,27,61,"Bizarre Beast Battles",1,"T. Rex vs. Crocodile","Library Bound Book",null,"978-1-4824-2802-5",{"$f":"HYPERLINK(Table1[[#This Row],[eCommerce Hyperlink]],\"Book Weblink\")","v":"Book Weblink"},null,"2016","August 2015","Library","8.500 X 8.500","Author","Michael Sabatino","4.8","0.5","28",null,"M","960L","Grade 2 - 3","Grade 2 - 5","Tyrannosaurus rex was one of the largest meat-eating dinosaurs that ever lived. It could chomp up to 500 pounds of meat and bone in a single bite! While crocodiles don't compare in size, they're some of the largest carnivores alive today and one of the most feared man-eaters. This cleverly crafted volume invites readers into the worlds of these predators and asks them to envision what would happen if these beasts went head-to-head in the ultimate beast battle. Color photographs, dynamic illustrations, and imaginative text brings the action to life.","English",23.6,17.7,"567.9--dc23","24 pp.","https://www.garethstevens.com/9781482428025",null,{"$f":"Table1[[#This Row],[QTY]]*Table1[[#This Row],['# Books]]","v":0},{"$f":"Table1[[#This Row],[QTY]]*Table1[[#This Row],[S&L Price]]","v":0}]
[null,27,61,"Bizarre Beast Battles",1,"Africanized Honeybee vs. Army Ant","eBook",null,"978-1-5382-1926-3",{"$f":"HYPERLINK(Table1[[#This Row],[eCommerce Hyperlink]],\"Book Weblink\")","v":"Book Weblink"},null,"2019","August 2018",null,null,"Author","Therese M. Shea","4.2","0.5",null,null,"M",null,"Grade 2 - 3","Grade 2 - 5","Africanized honeybees, also known as killer bees, and army ants are both tiny animals that really strike fear in many people. In this action-packed volume, readers will follow along with a battle of the insects and decide who they think would be the ultimate victor. Readers will learn about factors such as adaptations, size, and sting. They'll use the information to make an educated guess about which insect they think would win if such a battle were to really break out. This imaginative, high-interest book is loaded with eye-catching graphics and facts that support important elementary science concepts.","English",23.6,17.7,"595.79'9--dc23","24 pp.","https://www.garethstevens.com/9781538219263",null,{"$f":"Table1[[#This Row],[QTY]]*Table1[[#This Row],['# Books]]","v":0},{"$f":"Table1[[#This Row],[QTY]]*Table1[[#This Row],[S&L Price]]","v":0}]
[null,27,61,"Bizarre Beast Battles",1,"Hippo vs. Polar Bear","eBook",null,"978-1-5382-1928-7",{"$f":"HYPERLINK(Table1[[#This Row],[eCommerce Hyperlink]],\"Book Weblink\")","v":"Book Weblink"},null,"2019","August 2018",null,null,"Author","Janey Levy","4","0.5",null,null,"M",null,"Grade 2 - 3","Grade 2 - 5","Hippos and polar bears are both fairly large mammals that spend much of their time in water, but is that where their similarities end? Readers of this captivating book will find out the answer to that and many more questions as they imagine these two beasts battling it out. Colorful photographs and a dynamic page layout assist with the understanding of key elementary science concepts. After reading all the facts, readers can judge this epic battle themselves and determine which animal they think would come out on top.","English",23.6,17.7,"599.63'5--dc23","24 pp.","https://www.garethstevens.com/9781538219287",null,{"$f":"Table1[[#This Row],[QTY]]*Table1[[#This Row],['# Books]]","v":0},{"$f":"Table1[[#This Row],[QTY]]*Table1[[#This Row],[S&L Price]]","v":0}]
[null,27,61,"Bizarre Beast Battles",1,"Red-Tailed Hawk vs. Burmese Python","Library Bound Book",null,"978-1-5382-1935-5",{"$f":"HYPERLINK(Table1[[#This Row],[eCommerce Hyperlink]],\"Book Weblink\")","v":"Book Weblink"},null,"2019","August 2018","Library","8.500 X 8.500","Author","Theresa Morlock","4.5","0.5",null,null,"M",null,"Grade 2 - 3","Grade 2 - 5","A bird and a snake may not seem like they could have much in common, but the red-tailed hawk and Burmese python are both skilled hunters. In a fight, they'd each bring quite a bit to the table. This thrilling book is packed with information that compares and contrasts these two carnivores. Eye-catching photographs help readers visualize these two animals in a battle. Habitats and adaptations are just a couple of the important science concepts that this exciting book discusses.","English",23.6,17.7,"598.9'44--dc23","24 pp.","https://www.garethstevens.com/9781538219355",null,{"$f":"Table1[[#This Row],[QTY]]*Table1[[#This Row],['# Books]]","v":0},{"$f":"Table1[[#This Row],[QTY]]*Table1[[#This Row],[S&L Price]]","v":0}]
[null,27,61,"Bizarre Beast Battles",1,"Velociraptor vs. Bull Shark","eBook",null,"978-1-5382-1944-7",{"$f":"HYPERLINK(Table1[[#This Row],[eCommerce Hyperlink]],\"Book Weblink\")","v":"Book Weblink"},null,"2019","August 2018",null,null,"Author","Caitie McAneney","4.4","0.5",null,null,"M",null,"Grade 2 - 3","Grade 2 - 5","Who would win in a fight between a feathered dinosaur and an aggressive shark? We'll probably never know the true answer, but this high-interest volume helps readers imagine and understand the battle that could ensue if the two creatures were to ever meet. Eye-catching graphics paired with concise facts make for a lively and engaging page layout that helps to reinforce key elementary science concepts. Readers will weigh the information they're given, including factors such as size and speed, and use it to decide who they think would come out on top in this imaginative matchup.","English",23.6,17.7,"567.912--dc23","24 pp.","https://www.garethstevens.com/9781538219447",null,{"$f":"Table1[[#This Row],[QTY]]*Table1[[#This Row],['# Books]]","v":0},{"$f":"Table1[[#This Row],[QTY]]*Table1[[#This Row],[S&L Price]]","v":0}]
[null,null,62,"Beastly Books for the Brave",1,"This Book Has Teeth!","Library Bound Book",null,"978-1-5382-3361-0",{"$f":"HYPERLINK(Table1[[#This Row],[eCommerce Hyperlink]],\"Book Weblink\")","v":"Book Weblink"},null,"2020","August 2019","Library","8.500 X 8.500","Author","Theresa Emminizer","4.7","0.5",null,null,"L",null,"Grade 2 - 3","Grade 2 - 5","Your readers will want to take a bite out of this riveting book, which showcases some of nature's most extraordinary dental adaptations. Readers will study the menacing teeth of the great white shark, observe the jaguar's formidable fangs, and learn not to underestimate the gnashing incisors of a hippopotamus. Each fascinating chapter incorporates vibrant photographs that make the information pop. Supplementary fact boxes expand on the high interest material. Packed with memorable facts about wild predators and their ecosystems, this book explores key science concepts in a compelling way.","English",23.6,17.7,"591.47--dc23","24 pp.","https://www.garethstevens.com/9781538233610",null,{"$f":"Table1[[#This Row],[QTY]]*Table1[[#This Row],['# Books]]","v":0},{"$f":"Table1[[#This Row],[QTY]]*Table1[[#This Row],[S&L Price]]","v":0}]
[null,null,62,"Beastly Books for the Brave",1,"This Book Scratches!","eBook",null,"978-1-5382-3370-2",{"$f":"HYPERLINK(Table1[[#This Row],[eCommerce Hyperlink]],\"Book Weblink\")","v":"Book Weblink"},null,"2020","August 2019",null,null,"Author","Sarah Machajewski","4.5","0.5",null,null,"L",null,"Grade 2 - 3","Grade 2 - 5","Swipe! Scratch! Watch out for the animals on the attack! This elementary science book introduces readers to animals that scratch. From big cats to beastly bears, readers will delight in learning more about their favorite animals and why they scratch. Through exploring physical characteristics, habitat, environment, and life cycles readers will learn how this behavior is a survival instinct and a unique kind of defense. Fact boxes and impactful images offer opportunities for additional learning.","English",23.6,17.7,"591.47'9--dc23","24 pp.","https://www.garethstevens.com/9781538233702",null,{"$f":"Table1[[#This Row],[QTY]]*Table1[[#This Row],['# Books]]","v":0},{"$f":"Table1[[#This Row],[QTY]]*Table1[[#This Row],[S&L Price]]","v":0}]
[null,null,62,"Blue Ribbon Animals",1,"Showing Chickens at the Fair","eBook",null,"978-1-5382-3068-8",{"$f":"HYPERLINK(Table1[[#This Row],[eCommerce Hyperlink]],\"Book Weblink\")","v":"Book Weblink"},null,"2019","January 2019",null,null,"Author","Jennifer Wendt","4.2","0.5",null,null,"L",null,"Grade 2 - 3","Grade 2 - 5","You probably think of chicken in terms of the yummy sandwich or dinner staple that Americans love. However, some people think of chicken in a totally different way. These people know the ins and outs of what it takes to show chickens at a fair. Details about how to make these animals look their best engage readers, and pictures and fact boxes wow anyone who is interested in learning more about what it takes to bring home the prize for best chicken at the fair.","English",23.6,17.7,"636.5--dc23","24 pp.","https://www.garethstevens.com/9781538230688",null,{"$f":"Table1[[#This Row],[QTY]]*Table1[[#This Row],['# Books]]","v":0},{"$f":"Table1[[#This Row],[QTY]]*Table1[[#This Row],[S&L Price]]","v":0}]
[null,null,62,"Blue Ribbon Animals",1,"Showing Pigs at the Fair","Library Bound Book",null,"978-1-5382-2930-9",{"$f":"HYPERLINK(Table1[[#This Row],[eCommerce Hyperlink]],\"Book Weblink\")","v":"Book Weblink"},null,"2019","January 2019","Library","8.500 X 8.500","Author","Jennifer Wendt","3.9","0.5",null,null,"L",null,"Grade 2 - 3","Grade 2 - 5","Showing pigs at the fair can be a challenging job, since pigs love mud and getting dirty! Readers learn the rules and requirements that must be followed in order to produce and show a blue-ribbon-worthy pig at the fair. Different divisions, age requirements, and how to spruce up your swine for showing are just some of the topics that intrigue readers, while vivid pictures will support the interesting information written by an expert on the subject.","English",23.6,17.7,"636.4--dc23","24 pp.","https://www.garethstevens.com/9781538229309",null,{"$f":"Table1[[#This Row],[QTY]]*Table1[[#This Row],['# Books]]","v":0},{"$f":"Table1[[#This Row],[QTY]]*Table1[[#This Row],[S&L Price]]","v":0}]
[null,null,62,"Blue Ribbon Animals",1,"Showing Rabbits at the Fair","eBook",null,"978-1-5382-3072-5",{"$f":"HYPERLINK(Table1[[#This Row],[eCommerce Hyperlink]],\"Book Weblink\")","v":"Book Weblink"},null,"2019","January 2019",null,null,"Author","Jennifer Wendt","3.9","0.5",null,null,"L",null,"Grade 2 - 3","Grade 2 - 5","Rabbit owners and lovers are in for a treat with this engaging and informative book that shows readers how to get their rabbits ready to show at the fair. With detailed information about every step of the process, the main content shows young readers just how fun it can be to show a rabbit. Types of rabbits and what judges are looking for are included to guide those interested in taking up this unique hobby. Graphic organizers and tips support responsibility and independence in young readers and encourage them to show their rabbit at the fair.","English",23.6,17.7,"632/.6932--dc23","24 pp.","https://www.garethstevens.com/9781538230725",null,{"$f":"Table1[[#This Row],[QTY]]*Table1[[#This Row],['# Books]]","v":0},{"$f":"Table1[[#This Row],[QTY]]*Table1[[#This Row],[S&L Price]]","v":0}]
[null,null,62,"Deadly Biters",1,"Grizzly Bears Bite!","eBook",null,"978-1-5382-5773-9",{"$f":"HYPERLINK(Table1[[#This Row],[eCommerce Hyperlink]],\"Book Weblink\")","v":"Book Weblink"},null,"2021","August 2020",null,null,"Author","Janey Levy",null,null,null,null,"M",null,"Grade 2 - 3","Grade 2 - 5","Grizzly bears are a powerful, intimidating subspecies of brown bear. Just how threatening humans find them is revealed by the final part of their scientific name: Ursus arctos horribilis. Though much of their diet consists of fruit and nuts, make no mistake, these animals are apex predators. They have the teeth and bite to prove it. Young readers will be delighted with what they learn about these formidable animals and their bite. Spectacular, detailed photographs bring grizzlies up-close and personal while an accessible narrative shares important life science concepts. This reading and learning experience is enhanced by fact boxes, a graphic organizer, and glossary.","English",23.6,17.7,"599.784--dc23","24 pp.","https://www.garethstevens.com/9781538257739",null,{"$f":"Table1[[#This Row],[QTY]]*Table1[[#This Row],['# Books]]","v":0},{"$f":"Table1[[#This Row],[QTY]]*Table1[[#This Row],[S&L Price]]","v":0}]
[null,null,62,"Deadly Biters",1,"Nile Crocodiles Bite!","Library Bound Book",null,"978-1-5382-5780-7",{"$f":"HYPERLINK(Table1[[#This Row],[eCommerce Hyperlink]],\"Book Weblink\")","v":"Book Weblink"},null,"2021","August 2020","Library","8.500 X 8.500","Author","Janey Levy",null,null,null,null,"M",null,"Grade 2 - 3","Grade 2 - 5","American crocodiles and American alligators are formidable, but neither holds a candle to the fearsome Nile crocodile. Nile crocodiles have the strongest bite in the world at 5,000 pounds per square inch. With this fascinating volume, young readers discover intriguing facts about these animals and their lives. Special attention is given to their bite, how it works, and why and when they bite. Accessible text addresses important science concepts while colorful photographs display remarkable images. Fact boxes and a graphic organizer enrich this learning experience.","English",23.6,17.7,"597.98'2--dc23","24 pp.","https://www.garethstevens.com/9781538257807",null,{"$f":"Table1[[#This Row],[QTY]]*Table1[[#This Row],['# Books]]","v":0},{"$f":"Table1[[#This Row],[QTY]]*Table1[[#This Row],[S&L Price]]","v":0}]
[null,null,62,"Nature's Freak Show: Ugly Beasts",1,"The Beastly Elephant Seal","Library Bound Book",null,"978-1-5382-4604-7",{"$f":"HYPERLINK(Table1[[#This Row],[eCommerce Hyperlink]],\"Book Weblink\")","v":"Book Weblink"},null,"2020","January 2020","Library","8.500 X 8.500","Author","Janey Levy","4.6","0.5",null,null,"L",null,"Grade 2 - 3","Grade 2 - 5","Many of the seals and sea lions that people are familiar with are appealing, cute animals, but no one is likely to use those words to describe male elephant seals. These enormous \"elephants of the sea\" have an inflatable trunk-like proboscis they use to produce booming noises that can be heard miles away. Engaged readers will learn this and more about the lives of these remarkable animals. Accessible text addresses important science concepts, while lively images dazzle the eyes. Fact boxes and a graphic organizer enhance the narrative.","English",23.6,17.7,"599.79/4--dc23","24 pp.","https://www.garethstevens.com/9781538246047",null,{"$f":"Table1[[#This Row],[QTY]]*Table1[[#This Row],['# Books]]","v":0},{"$f":"Table1[[#This Row],[QTY]]*Table1[[#This Row],[S&L Price]]","v":0}]
[null,null,62,"Nature's Freak Show: Ugly Beasts",1,"The Bizarre California Condor","Library Bound Book",null,"978-1-5382-4608-5",{"$f":"HYPERLINK(Table1[[#This Row],[eCommerce Hyperlink]],\"Book Weblink\")","v":"Book Weblink"},null,"2020","January 2020","Library","8.500 X 8.500","Author","Janey Levy","4.9","0.5",null,null,"M",null,"Grade 2 - 3","Grade 2 - 5","Many people enjoy feeding colorful wild birds or even keeping birds as pets, but some wild birds are strange-looking. Some people might even consider them ugly. The California condor, with its bald head and glaring eyes, is one of these birds. This engaging volume introduces readers to intriguing facts about these birds, including why their head is bald, how the skin on their head expresses emotions, and their attention to cleanliness. Accessible text addresses important elementary science concepts, while vibrant images bring these bizarre birds into sharp focus.","English",23.6,17.7,"598.9/2--dc23","24 pp.","https://www.garethstevens.com/9781538246085",null,{"$f":"Table1[[#This Row],[QTY]]*Table1[[#This Row],['# Books]]","v":0},{"$f":"Table1[[#This Row],[QTY]]*Table1[[#This Row],[S&L Price]]","v":0}]
[null,null,62,"Nature's Freak Show: Ugly Beasts",1,"The Unsightly Aye-Aye","Library Bound Book",null,"978-1-5382-4624-5",{"$f":"HYPERLINK(Table1[[#This Row],[eCommerce Hyperlink]],\"Book Weblink\")","v":"Book Weblink"},null,"2020","January 2020","Library","8.500 X 8.500","Author","Janey Levy","4.3","0.5",null,null,"M",null,"Grade 2 - 3","Grade 2 - 5","Aye-ayes belong to the animal group known as primates, which includes not only humans, but apes and monkeys. Aye-ayes lack the majesty of a gorilla or the cuteness of a monkey. Aye-ayes are so strange looking they were originally classified as rodents. Readers of this absorbing volume will discover fascinating facts about these odd animals, who have big eyes, enormous ears, and elongated fingers, and who use echolocation to find food. Accessible text addresses elementary science concepts, while colorful images dazzle the eyes. Fact boxes and a graphic organizer enrich the narrative.","English",23.6,17.7,"599.8'3--dc23","24 pp.","https://www.garethstevens.com/9781538246245",null,{"$f":"Table1[[#This Row],[QTY]]*Table1[[#This Row],['# Books]]","v":0},{"$f":"Table1[[#This Row],[QTY]]*Table1[[#This Row],[S&L Price]]","v":0}]
[null,null,62,"Nature's Freak Show: Ugly Beasts",1,"The Unsightly Aye-Aye","eBook",null,"978-1-5382-4625-2",{"$f":"HYPERLINK(Table1[[#This Row],[eCommerce Hyperlink]],\"Book Weblink\")","v":"Book Weblink"},null,"2020","January 2020",null,null,"Author","Janey Levy","4.3","0.5",null,null,"M",null,"Grade 2 - 3","Grade 2 - 5","Aye-ayes belong to the animal group known as primates, which includes not only humans, but apes and monkeys. Aye-ayes lack the majesty of a gorilla or the cuteness of a monkey. Aye-ayes are so strange looking they were originally classified as rodents. Readers of this absorbing volume will discover fascinating facts about these odd animals, who have big eyes, enormous ears, and elongated fingers, and who use echolocation to find food. Accessible text addresses elementary science concepts, while colorful images dazzle the eyes. Fact boxes and a graphic organizer enrich the narrative.","English",23.6,17.7,"599.8'3--dc23","24 pp.","https://www.garethstevens.com/9781538246252",null,{"$f":"Table1[[#This Row],[QTY]]*Table1[[#This Row],['# Books]]","v":0},{"$f":"Table1[[#This Row],[QTY]]*Table1[[#This Row],[S&L Price]]","v":0}]
[null,24,63,"Science Adventure Stories",1,"Escape from Atomic Island","eBook",null,"978-1-5382-6996-1",{"$f":"HYPERLINK(Table1[[#This Row],[eCommerce Hyperlink]],\"Book Weblink\")","v":"Book Weblink"},null,"2022","August 2021",null,null,"Author, Illustrated by","Alex Woolf, Geraldine Rodriguez",null,null,null,null,"O",null,"Grade 3 - 4","Grade 3 - 6","Three young volunteers at the Metro City Science Museum discover they’ve actually volunteered for a great adventure after the museum’s most prized exhibit is stolen by the evil Dr. Smasher. To recover it, they must use their knowledge of matter to survive an erupting volcano, operate a submarine, and ultimately outwit the wicked villain. Readers are invited to help fight crime, too, by learning about properties of matter and solving puzzles throughout this interactive adventure. This entertaining, high-interest volume, with its close ties to curricular content, is a motivating addition to any science collection.","English",27.6,20.7,"[Fic]--dc23","32 pp.","https://www.garethstevens.com/9781538269961",null,{"$f":"Table1[[#This Row],[QTY]]*Table1[[#This Row],['# Books]]","v":0},{"$f":"Table1[[#This Row],[QTY]]*Table1[[#This Row],[S&L Price]]","v":0}]
[null,25,63,"Under Our Feet",4,"Under Our Feet","Library Set",null,"978-1-5382-7064-6",{"$f":"HYPERLINK(Table1[[#This Row],[eCommerce Hyperlink]],\"Book Weblink\")","v":"Book Weblink"},null,"2022","August 2021","Library","8.500 X 11.00",null,null,null,null,null,null,null,null,"Grade 2 - 3","Grade 2 - 4","Have you ever wondered what’s under your front lawn or the sidewalk you walk on in front of your house? This unique and entertaining set will answer all your questions and more! From what makes up and lives in dirt to famous fossil finds, each book focuses on one major category concerning what might be found under our feet: soil, fossils, rocks, and even people—bones! Written using age-appropriate examples and language, this set augments the elementary science curriculum and encourages curiosity in budding scientists.","English",110.4,82.8,null,"32 pp.","https://www.garethstevens.com/9781538270646",null,{"$f":"Table1[[#This Row],[QTY]]*Table1[[#This Row],['# Books]]","v":0},{"$f":"Table1[[#This Row],[QTY]]*Table1[[#This Row],[S&L Price]]","v":0}]
[null,25,63,"Under Our Feet",1,"Rocks","Library Bound Book",null,"978-1-5382-7055-4",{"$f":"HYPERLINK(Table1[[#This Row],[eCommerce Hyperlink]],\"Book Weblink\")","v":"Book Weblink"},null,"2022","August 2021","Library","8.500 X 11.00","Author","Kirsty Holmes",null,null,null,null,"N",null,"Grade 2 - 3","Grade 2 - 4","While rocks seem like ordinary objects under our shoes, they’re evidence of a cycle that’s been repeating for billions of years on Earth. This beautifully designed book, beneficial to any elementary science library, highlights need-to-know information for young geologists, such as the three main groups of rocks and the rock cycle. Plentiful images displaying the different characteristics of rocks, fun fact boxes, and key vocabulary terms ensure that readers not only are provided with curricular content but also that they comprehend it and come to appreciate rocks for their contribution to our planet!","English",27.6,20.7,"552","32 pp.","https://www.garethstevens.com/9781538270554",null,{"$f":"Table1[[#This Row],[QTY]]*Table1[[#This Row],['# Books]]","v":0},{"$f":"Table1[[#This Row],[QTY]]*Table1[[#This Row],[S&L Price]]","v":0}]
[null,null,64,"Nature's Revenge",1,"Blustery Blizzards","Library Bound Book",null,"978-1-5382-8045-4",null,null,"2023","August 2022","Library","8.500 X 11.00","Author","Charlotte Taylor",null,null,null,null,"R",null,"Grade 3 - 4","Grade 3 - 6","Blizzards are known for snow—but there doesn’t even need to be a ton a snow for a storm to be called a blizzard! What storms qualify as “blizzards,” how they’re predicted and why blizzards are so dangerous are all covered in this engaging book. Readers are introduced to some of the worst blizzards in history, complete with photographs of the blowing snow and destruction they may have caused. Safety tips and survival skills are included for readers in blizzard-prone areas.","English",27.6,20.7,"551.55/5--dc23","32 pp.","https://www.garethstevens.com/9781538280454",null,{"$f":"Table1[[#This Row],[QTY]]*Table1[[#This Row],['# Books]]","v":0},{"$f":"Table1[[#This Row],[QTY]]*Table1[[#This Row],[S&L Price]]","v":0}]
[null,null,64,"Nature's Revenge",1,"Horrible Hurricanes","eBook",null,"978-1-5382-8050-8",null,null,"2023","August 2022",null,null,"Author","Charlotte Taylor",null,null,null,null,"R",null,"Grade 3 - 4","Grade 3 - 6","There’s no question about it: Hurricanes are becoming more frequent and getting worse as climate change occurs. These incredible forces of nature form over warm ocean waters near the equator. Their violent winds and heavy rains can cause great destruction and even loss of life. Luckily, technology has progressed enough that many places get at least some warning before a storm hits. In this book, readers learn more about what causes a hurricane, how they are classified and named, and how hurricanes are predicted. Safety tips for before, during, and after a storm are also included.","English",27.6,20.7,"551.55’2--dc23","32 pp.","https://www.garethstevens.com/9781538280508","http://www.epointplus.com/embed/9781538280508/?login=cyberrep&password=cyberrep",{"$f":"Table1[[#This Row],[QTY]]*Table1[[#This Row],['# Books]]","v":0},{"$f":"Table1[[#This Row],[QTY]]*Table1[[#This Row],[S&L Price]]","v":0}]
[null,null,64,"Nature's Revenge",1,"Twisting Tornadoes","Library Bound Book",null,"978-1-5382-8061-4",null,null,"2023","August 2022","Library","8.500 X 11.00","Author","Charlotte Taylor",null,null,null,null,"R",null,"Grade 3 - 4","Grade 3 - 6","Tornadoes are some of the most dangerous forces of nature on Earth. Winds can swirl up to 300 miles per hour, destroying whatever is in their path. No matter the size of a tornado, any preparation or prediction is key for survival and mitigating damage. This book gives readers the facts behind what causes tornadoes and the reality of what happens when one hits. Real-life tornadoes are shown in examples and photographs, giving readers a front row seat to some of the most destructive tornadoes ever.","English",27.6,20.7,"551.55’3--dc23","32 pp.","https://www.garethstevens.com/9781538280614",null,{"$f":"Table1[[#This Row],[QTY]]*Table1[[#This Row],['# Books]]","v":0},{"$f":"Table1[[#This Row],[QTY]]*Table1[[#This Row],[S&L Price]]","v":0}]
[null,null,65,"Earth Under Construction!",1,"Earthquakes Reshape Earth!","Library Bound Book",null,"978-1-5382-5840-8",{"$f":"HYPERLINK(Table1[[#This Row],[eCommerce Hyperlink]],\"Book Weblink\")","v":"Book Weblink"},null,"2021","August 2020","Library","8.500 X 11.00","Author","Charlie Light",null,null,null,null,"R",null,"Grade 3 - 4","Grade 3 - 6","Earthquakes are among the heaviest hitters in the world of natural phenomena that shape our planet. Not only can they cause massive amounts of damage on their own, they can also cause other disasters, such as tsunamis and avalanches. Daring readers will learn how and why earthquakes occur. They'll encounter key science concepts such as the tectonic plates theory and the Richter scale. Graphic organizers and interesting sidebars summarize difficult concepts into easy-to-comprehend sections while vivid photographs capture readers' attention.","English",27.6,20.7,"551.22--dc23","32 pp.","https://www.garethstevens.com/9781538258408",null,{"$f":"Table1[[#This Row],[QTY]]*Table1[[#This Row],['# Books]]","v":0},{"$f":"Table1[[#This Row],[QTY]]*Table1[[#This Row],[S&L Price]]","v":0}]
[null,null,65,"Earth Under Construction!",1,"Plate Tectonics Reshape Earth!","Library Bound Book",null,"978-1-5382-5824-8",{"$f":"HYPERLINK(Table1[[#This Row],[eCommerce Hyperlink]],\"Book Weblink\")","v":"Book Weblink"},null,"2021","August 2020","Library","8.500 X 11.00","Author","Abby Badach Doyle",null,null,null,null,"R",null,"Grade 3 - 4","Grade 3 - 6","Have you ever noticed how some continents seem like they could fit together like puzzle pieces? That's because millions of years ago they did. This exciting book dives deep to explain the action-packed science of tectonic plates. Colorful maps point out where to find the Earth's major and minor tectonic plates. Dramatic photographs and vivid diagrams show what happens when they collide. Curious readers will love this high-interest take on geology because even when standing still, the ground beneath our feet is slowly on the move.","English",27.6,20.7,"551.1'36--dc23","32 pp.","https://www.garethstevens.com/9781538258248",null,{"$f":"Table1[[#This Row],[QTY]]*Table1[[#This Row],['# Books]]","v":0},{"$f":"Table1[[#This Row],[QTY]]*Table1[[#This Row],[S&L Price]]","v":0}]
[null,null,65,"Liftoff! Space Exploration",1,"Destination Mars","Library Bound Book",null,"978-1-5382-5872-9",{"$f":"HYPERLINK(Table1[[#This Row],[eCommerce Hyperlink]],\"Book Weblink\")","v":"Book Weblink"},null,"2021","August 2020","Library","6.500 X 9.125","Author","Nathan Miloszewski",null,null,null,null,"U",null,"Grade 4 - 5","Grade 4 - 6","Is there life on Mars? Could humankind eventually colonize the red planet? NASA and other space agencies have been working to answer these questions for decades. From high-powered telescopes to the Mars rovers, the tools used to explore Mars are incredible pieces of technology. What they've discovered about Mars is even more amazing. Your readers will travel through the history of study of the fourth planet from the sun, including the missions to Mars so far and what modern scientists are doing to learn more.","English",27.6,20.7,"559.9/23--dc23","32 pp.","https://www.garethstevens.com/9781538258729",null,{"$f":"Table1[[#This Row],[QTY]]*Table1[[#This Row],['# Books]]","v":0},{"$f":"Table1[[#This Row],[QTY]]*Table1[[#This Row],[S&L Price]]","v":0}]
[null,null,65,"Liftoff! Space Exploration",1,"Observing Earth: Investigating Earth's Atmosphere","Library Bound Book",null,"978-1-5382-5892-7",{"$f":"HYPERLINK(Table1[[#This Row],[eCommerce Hyperlink]],\"Book Weblink\")","v":"Book Weblink"},null,"2021","August 2020","Library","6.500 X 9.125","Author","Charlie Light",null,null,null,null,"U",null,"Grade 4 - 5","Grade 4 - 6","Onward and, more importantly, upward! This informative book takes readers on a journey up through the layers of Earth's atmosphere, detailing the unique scientific features of each layer and the history of humans exploring these great heights. Fun fact boxes and gorgeous photographs will dazzle developing readers. With graphic organizers and sidebars to illustrate complex concepts, this volume clearly connects key scientific principles about our planet's atmosphere to significant moments in the history of space exploration.","English",27.6,20.7,"551.51--dc23","32 pp.","https://www.garethstevens.com/9781538258927",null,{"$f":"Table1[[#This Row],[QTY]]*Table1[[#This Row],['# Books]]","v":0},{"$f":"Table1[[#This Row],[QTY]]*Table1[[#This Row],[S&L Price]]","v":0}]
[null,null,65,"Liftoff! Space Exploration",1,"To The Milky Way and Beyond: Exploration Outside the Solar System","Library Bound Book",null,"978-1-5382-5884-2",{"$f":"HYPERLINK(Table1[[#This Row],[eCommerce Hyperlink]],\"Book Weblink\")","v":"Book Weblink"},null,"2021","August 2020","Library","6.500 X 9.125","Author","Charlie Light",null,null,null,null,"U",null,"Grade 4 - 5","Grade 4 - 6","The first artificial satellite launched on October 5, 1957, forever changing humanity's relationship with the mysterious galaxy we call home. Since then, we have ventured farther into the Milky Way, making incredible scientific discoveries. This fascinating, interdisciplinary volume takes readers through the history of space exploration and into the final frontier of human travel. They'll learn key scientific concepts about the universe, such as the different types of galaxies and how we measure space travel. Vivid photographs and graphic organizers provide captivating visuals. Fun fact boxes and informative sidebars provide smaller, understandable chunks of amazing data.","English",27.6,20.7,"523.1/12--dc23","32 pp.","https://www.garethstevens.com/9781538258842",null,{"$f":"Table1[[#This Row],[QTY]]*Table1[[#This Row],['# Books]]","v":0},{"$f":"Table1[[#This Row],[QTY]]*Table1[[#This Row],[S&L Price]]","v":0}]
[null,null,65,"Polluted Planet",1,"Nuclear Nightmare!","Library Bound Book",null,"978-1-5382-5295-6",{"$f":"HYPERLINK(Table1[[#This Row],[eCommerce Hyperlink]],\"Book Weblink\")","v":"Book Weblink"},null,"2020","January 2020","Library","8.500 X 11.00","Author","Robin Twiddy",null,null,null,null,"Q",null,"Grade 4 - 5","Grade 4 - 6","Nuclear power provides almost 15 percent of the world's electricity, but this energy doesn't come without a cost. Past nuclear accidents have had disastrous effects on the environment and future accidents could cause an even larger catastrophe. Looming large-scale are the devastating effects of nuclear warfare. With this arresting book, which is a clever mix of fact and fiction, readers join young Shona as she leaves a bunker she was born in for the first time. Through Shona's journal and photographs, they discover a possible dreadful future and how such a disaster could be avoided in real life.","English",27.6,20.7,"333.792'4--dc23","32 pp.","https://www.garethstevens.com/9781538252956",null,{"$f":"Table1[[#This Row],[QTY]]*Table1[[#This Row],['# Books]]","v":0},{"$f":"Table1[[#This Row],[QTY]]*Table1[[#This Row],[S&L Price]]","v":0}]
[null,null,65,"Polluted Planet",1,"Toxic Terror!","Library Bound Book",null,"978-1-5382-5301-4",{"$f":"HYPERLINK(Table1[[#This Row],[eCommerce Hyperlink]],\"Book Weblink\")","v":"Book Weblink"},null,"2020","January 2020","Library","8.500 X 11.00","Author","Robin Twiddy",null,null,null,null,"Q",null,"Grade 4 - 5","Grade 4 - 6","Angelina Butterworth couldn't understand why people kept polluting our planet until the day she discovered it was the diabolical plan of aliens bent on destroying Earth! In this entertaining and instructive narrative, readers will be on the edge of their seats as they find out if Angelina can escape the slimy tentacles of the evil Toxlings while learning what people can do in real life to stop our world from becoming an actual toxic wasteland. This valuable volume shows that science fiction can teach us important facts, and even help save our planet.","English",27.6,20.7,"363.17--dc23","32 pp.","https://www.garethstevens.com/9781538253014",null,{"$f":"Table1[[#This Row],[QTY]]*Table1[[#This Row],['# Books]]","v":0},{"$f":"Table1[[#This Row],[QTY]]*Table1[[#This Row],[S&L Price]]","v":0}]
[null,null,65,"Polluted Planet",1,"Toxic Terror!","eBook",null,"978-1-5382-5302-1",{"$f":"HYPERLINK(Table1[[#This Row],[eCommerce Hyperlink]],\"Book Weblink\")","v":"Book Weblink"},null,"2020","January 2020",null,null,"Author","Robin Twiddy",null,null,null,null,"Q",null,"Grade 4 - 5","Grade 4 - 6","Angelina Butterworth couldn't understand why people kept polluting our planet until the day she discovered it was the diabolical plan of aliens bent on destroying Earth! In this entertaining and instructive narrative, readers will be on the edge of their seats as they find out if Angelina can escape the slimy tentacles of the evil Toxlings while learning what people can do in real life to stop our world from becoming an actual toxic wasteland. This valuable volume shows that science fiction can teach us important facts, and even help save our planet.","English",27.6,20.7,"363.17--dc23","32 pp.","https://www.garethstevens.com/9781538253021",null,{"$f":"Table1[[#This Row],[QTY]]*Table1[[#This Row],['# Books]]","v":0},{"$f":"Table1[[#This Row],[QTY]]*Table1[[#This Row],[S&L Price]]","v":0}]
[null,null,66,"Body Bits",1,"Awesome Dinosaur Body Facts","eBook",null,"978-1-5382-7776-8",null,null,"2023","August 2022",null,null,"Author, Illustrated by","Paul Mason, Dave Smith",null,null,null,null,"O",null,"Grade 4","Grade 3 - 6","Dinosaurs have certainly captivated audiences in movies and television shows. It can be hard to imagine such incredible creatures once walked the Earth! This fascinating title will reveal to curious readers the range of unique body parts dinosaurs possessed to make them uniquely adapted to their ecosystems. Explanatory text and compelling fact-boxes are enhanced by dynamic spreads featuring vivid photographs and humorous illustrations. This lively title is sure to add intrigue to any life sciences curricula!","English",27.6,20.7,"567.9--dc23","32 pp.","https://www.garethstevens.com/9781538277768","http://www.epointplus.com/embed/9781538277768/?login=cyberrep&password=cyberrep",{"$f":"Table1[[#This Row],[QTY]]*Table1[[#This Row],['# Books]]","v":0},{"$f":"Table1[[#This Row],[QTY]]*Table1[[#This Row],[S&L Price]]","v":0}]
[null,null,67,"Plants with Superpowers",1,"Plants Can Eat Meat!","eBook",null,"978-1-5382-7890-1",null,null,"2023","August 2022",null,null,"Author","Monika Davies",null,null,null,null,"L",null,"Grade 2 - 3","Grade 2 - 5","A plant may look beautiful. It may seem like it wouldn’t hurt a fly—but some of them definitely would! In this book, readers learn about Venus fly traps, pitcher plants, and more, as well as the ways they are able to eat animals and insects whole. The main text discusses how being carnivorous is actually a defense, and how it helps these special plants survive. Full-color images and age-appropriate exploration of important science lessons are designed to complement classroom learning.","English",23.6,17.7,"583/.887--dc23","24 pp.","https://www.garethstevens.com/9781538278901","http://www.epointplus.com/embed/9781538278901/?login=cyberrep&password=cyberrep",{"$f":"Table1[[#This Row],[QTY]]*Table1[[#This Row],['# Books]]","v":0},{"$f":"Table1[[#This Row],[QTY]]*Table1[[#This Row],[S&L Price]]","v":0}]
[null,null,67,"Plants with Superpowers",1,"Plants Can Mimic!","Library Bound Book",null,"978-1-5382-7897-0",null,null,"2023","August 2022","Library","8.500 X 8.500","Author","Monika Davies",null,null,null,null,"L",null,"Grade 2 - 3","Grade 2 - 5","Mimicry is common among insects in the animal kingdom. In this book, readers discover that plants do it too! It’s a defense mechanism that keeps these plants from being disturbed, or worse, eaten! The achievable main text shares with readers how plants evolved to mimic and the ways it helps them survive in their habitat. With a fun design and full-color photographs of the plants discussed, this volume rounds out any discussion of plants’ role in their ecosystem.","English",23.6,17.7,"581.4’7--dc23","24 pp.","https://www.garethstevens.com/9781538278970",null,{"$f":"Table1[[#This Row],[QTY]]*Table1[[#This Row],['# Books]]","v":0},{"$f":"Table1[[#This Row],[QTY]]*Table1[[#This Row],[S&L Price]]","v":0}]
[null,null,68,"The Top Secret Life of Plants",6,"The Top Secret Life of Plants","Library Set",null,"978-1-5382-3402-0",{"$f":"HYPERLINK(Table1[[#This Row],[eCommerce Hyperlink]],\"Book Weblink\")","v":"Book Weblink"},null,"2020","August 2019","Library","8.500 X 8.500",null,null,null,null,null,null,null,null,"Grade 2 - 3","Grade 2 - 5","Plants seem like peaceful, inactive organisms, but there's so much going on that people don't immediately notice. In this series, readers explore the confidential happenings of plants under the soil, in the air around plants, and more. Mysterious topics, such as the spread of invasive species and plants that survive wildfires, captivate readers as they also engage with information they're likely to encounter in science class. Nothing is classified in these books, which feature beautiful, full-color photographs to complement the main text and show readers plants that are both familiar and exotic. Features include: Addresses science curriculum topics, including plant life cycles and the process of photosynthesis. Fun fact boxes throughout each book offer more explanation for important science concepts and vocabulary. Examples of each type of plant paired with photographs will encourage future horticulturists to spot plants around them.","English",141.6,106.2,null,"24 pp.","https://www.garethstevens.com/9781538234020",null,{"$f":"Table1[[#This Row],[QTY]]*Table1[[#This Row],['# Books]]","v":0},{"$f":"Table1[[#This Row],[QTY]]*Table1[[#This Row],[S&L Price]]","v":0}]
[null,null,68,"The Top Secret Life of Plants",1,"How Plants Spread Seeds","Library Bound Book",null,"978-1-5382-3385-6",{"$f":"HYPERLINK(Table1[[#This Row],[eCommerce Hyperlink]],\"Book Weblink\")","v":"Book Weblink"},null,"2020","August 2019","Library","8.500 X 8.500","Author","Janey Levy","4.4","0.5",null,null,"L",null,"Grade 2 - 3","Grade 2 - 5","How do plants make new plants? They make seeds and they make sure their seeds reach places with good growing conditions. With this engaging book, readers will discover how seeds form, why they need to spread away from the parent plant, and the many clever ways plants have developed to spread their seeds. Vibrant photographs, age-appropriate text, fact boxes, and graphic organizers all contribute to supporting important elementary science concepts.","English",23.6,17.7,"581.4/67--dc23","24 pp.","https://www.garethstevens.com/9781538233856",null,{"$f":"Table1[[#This Row],[QTY]]*Table1[[#This Row],['# Books]]","v":0},{"$f":"Table1[[#This Row],[QTY]]*Table1[[#This Row],[S&L Price]]","v":0}]
[null,null,68,"The Top Secret Life of Plants",1,"Meat-Eating Plants","eBook",null,"978-1-5382-3394-8",{"$f":"HYPERLINK(Table1[[#This Row],[eCommerce Hyperlink]],\"Book Weblink\")","v":"Book Weblink"},null,"2020","August 2019",null,null,"Author","Sarah Machajewski","4.2","0.5",null,null,"L",null,"Grade 2 - 3","Grade 2 - 5","The secret is out! Plants are some of the wild kingdom's fiercest predators. Young plant lovers will delight in learning all about carnivorous plants. Through engaging language and high impact photographs, this book covers predatory plants' life cycles, where in the world they're found, and the secretive methods they use to catch their prey. By the end of this book, readers will know to think twice about unsuspecting plants, and be inspired to investigate all kinds of plant secrets.","English",23.6,17.7,"583/.887--dc23","24 pp.","https://www.garethstevens.com/9781538233948",null,{"$f":"Table1[[#This Row],[QTY]]*Table1[[#This Row],['# Books]]","v":0},{"$f":"Table1[[#This Row],[QTY]]*Table1[[#This Row],[S&L Price]]","v":0}]
[null,null,68,"What Goes On Inside Your Brain?",1,"Emotion and Your Brain","eBook",null,"978-1-5382-3571-3",{"$f":"HYPERLINK(Table1[[#This Row],[eCommerce Hyperlink]],\"Book Weblink\")","v":"Book Weblink"},null,"2019","January 2019",null,null,"Author","Robert Snedden",null,null,null,null,"U",null,"Grade 4 - 5","Grade 4 - 6","From the time we are young, we are taught about emotions and how to identify them in ourselves and others. And yet, they can be an elusive and mysterious topic for study. Emotional responses can be so powerful that they feel out of our control. What is happening in our minds as we experience the range of our emotional spectrum? Readers look at human emotion through the lens of the neuroscientist and follow all the brain functions and processes that help us feel our feelings. This book teaches essential body and brain science in a way that is exciting and accessible.","English",32.950000000000003,24.7,"152.4--dc23","48 pp.","https://www.garethstevens.com/9781538235713",null,{"$f":"Table1[[#This Row],[QTY]]*Table1[[#This Row],['# Books]]","v":0},{"$f":"Table1[[#This Row],[QTY]]*Table1[[#This Row],[S&L Price]]","v":0}]
[null,null,68,"What Goes On Inside Your Brain?",1,"Memory and Your Brain","Library Bound Book",null,"978-1-5382-3564-5",{"$f":"HYPERLINK(Table1[[#This Row],[eCommerce Hyperlink]],\"Book Weblink\")","v":"Book Weblink"},null,"2019","January 2019","Library","7.250 X 9.250","Author","Robyn Hardyman",null,null,null,null,"U",null,"Grade 4 - 5","Grade 4 - 6","Memory is the fundamental thing that shapes who we are. A combination of all our good memories, bad memories, short-term, and long-term memories are all stored in our brain and are incredibly precious to us. How and where does our brain organize all these memories? What must happen biologically for us to recall something? There is so much we are still learning about when it comes to memory, and this book covers everything from the basics to the most current investigations in this field of study. This book will capture young readers in a way that is sure to be unforgettable.","English",32.950000000000003,24.7,"153.1'2--dc23","48 pp.","https://www.garethstevens.com/9781538235645",null,{"$f":"Table1[[#This Row],[QTY]]*Table1[[#This Row],['# Books]]","v":0},{"$f":"Table1[[#This Row],[QTY]]*Table1[[#This Row],[S&L Price]]","v":0}]
[null,null,68,"What Goes On Inside Your Brain?",1,"The Senses and Your Brain","eBook",null,"978-1-5382-3559-1",{"$f":"HYPERLINK(Table1[[#This Row],[eCommerce Hyperlink]],\"Book Weblink\")","v":"Book Weblink"},null,"2019","January 2019",null,null,"Author","Robyn Hardyman",null,null,null,null,"U",null,"Grade 4 - 5","Grade 4 - 6","The brain is a key figure in responding to situations as they arise. It wouldn't know what is happening outside our bodies without the senses, though. How does information travel from our senses to our brains? What happens after the brain receives the information? This book delves into the basic science of the senses, along with ways that our senses can even trick the brain, such as phantom limbs and optical illusions. Young readers take an exciting tour through the body's senses and nervous system in this accessible book on our astonishing minds.","English",32.950000000000003,24.7,"612.8--dc23","48 pp.","https://www.garethstevens.com/9781538235591",null,{"$f":"Table1[[#This Row],[QTY]]*Table1[[#This Row],['# Books]]","v":0},{"$f":"Table1[[#This Row],[QTY]]*Table1[[#This Row],[S&L Price]]","v":0}]
[null,null,68,"World's Weirdest Plants",1,"Cacti Barely Need Water!","Library Bound Book",null,"978-1-4824-5605-9",{"$f":"HYPERLINK(Table1[[#This Row],[eCommerce Hyperlink]],\"Book Weblink\")","v":"Book Weblink"},null,"2017","January 2017","Library","8.500 X 8.500","Author","Tayler Cole","4.8","0.5",null,null,"L",null,"Grade 2 - 3","Grade 2 - 5","Deserts aren’t home to many plants. Those that live in such dry, hot environments need to have special adaptations to thrive. The many kinds of cacti do! Readers explore the ways cacti conserve water, their unique habitats, and the features that make them a weird plant, compared to the tulips in your garden! From spines to flowers, full-color photographs and a plant diagram show readers what many species of cacti look like. The main content covers many topics included in the science curriculum, including plant life cycles and structures.","English",23.6,17.7,"583’.56--dc23","24 pp.","https://www.garethstevens.com/9781482456059",null,{"$f":"Table1[[#This Row],[QTY]]*Table1[[#This Row],['# Books]]","v":0},{"$f":"Table1[[#This Row],[QTY]]*Table1[[#This Row],[S&L Price]]","v":0}]
[null,null,68,"World's Weirdest Plants",1,"Pitcher Plants Eat Meat!","Library Bound Book",null,"978-1-4824-5636-3",{"$f":"HYPERLINK(Table1[[#This Row],[eCommerce Hyperlink]],\"Book Weblink\")","v":"Book Weblink"},null,"2017","January 2017","Library","8.500 X 8.500","Author","Barbara M. Linde","4.6","0.5",null,null,"L",null,"Grade 2 - 3","Grade 2 - 5","Plants only make their own food—right? Not pitcher plants! Most pitcher plants draw in insects with their sweet-smelling nectar and slowly digest them. There is one kind of pitcher plant that likes to snack on tree shrews, too. The bizarre eating habits of the pitcher plant are sure to fascinate and delight readers as they learn how this plant’s digestive system works, its habitat, and more. Full-color photographs and a simple diagram allow readers to see clearly the unique structures of this weird plant.","English",23.6,17.7,"581.6--dc23","24 pp.","https://www.garethstevens.com/9781482456363",null,{"$f":"Table1[[#This Row],[QTY]]*Table1[[#This Row],['# Books]]","v":0},{"$f":"Table1[[#This Row],[QTY]]*Table1[[#This Row],[S&L Price]]","v":0}]
[null,null,68,"World's Weirdest Plants",1,"Pitcher Plants Eat Meat!","eBook",null,"978-1-4824-5638-7",{"$f":"HYPERLINK(Table1[[#This Row],[eCommerce Hyperlink]],\"Book Weblink\")","v":"Book Weblink"},null,"2017","January 2017",null,null,"Author","Barbara M. Linde","4.6","0.5",null,null,"L",null,"Grade 2 - 3","Grade 2 - 5","Plants only make their own food—right? Not pitcher plants! Most pitcher plants draw in insects with their sweet-smelling nectar and slowly digest them. There is one kind of pitcher plant that likes to snack on tree shrews, too. The bizarre eating habits of the pitcher plant are sure to fascinate and delight readers as they learn how this plant’s digestive system works, its habitat, and more. Full-color photographs and a simple diagram allow readers to see clearly the unique structures of this weird plant.","English",23.6,17.7,"581.6--dc23","24 pp.","https://www.garethstevens.com/9781482456387",null,{"$f":"Table1[[#This Row],[QTY]]*Table1[[#This Row],['# Books]]","v":0},{"$f":"Table1[[#This Row],[QTY]]*Table1[[#This Row],[S&L Price]]","v":0}]
[null,null,68,"World's Weirdest Plants",1,"Banyan Trees Strangle Their Host!","Library Bound Book",null,"978-1-5382-4632-0",{"$f":"HYPERLINK(Table1[[#This Row],[eCommerce Hyperlink]],\"Book Weblink\")","v":"Book Weblink"},null,"2020","January 2020","Library","8.500 X 8.500","Author","Janey Levy","4.5","0.5",null,null,"M",null,"Grade 2 - 3","Grade 2 - 5","Banyan trees are fig trees that are often known by another name: strangler figs. There's a good reason for that; the seeds land on other trees and sprout there, sending down roots that slowly strangle the host tree. Readers of this absorbing volume will discover fascinating facts about this odd plant, including how it grows and its ecological importance. Age-appropriate text addresses important elementary science concepts, while colorful images enliven the narrative. Fact boxes summarize interesting information and a graphic organizer enriches essential concepts.","English",23.6,17.7,"583/.648--dc23","24 pp.","https://www.garethstevens.com/9781538246320",null,{"$f":"Table1[[#This Row],[QTY]]*Table1[[#This Row],['# Books]]","v":0},{"$f":"Table1[[#This Row],[QTY]]*Table1[[#This Row],[S&L Price]]","v":0}]
[null,null,68,"World's Weirdest Plants",1,"Bladderworts Have a Vacuum Trap!","eBook",null,"978-1-5382-4637-5",{"$f":"HYPERLINK(Table1[[#This Row],[eCommerce Hyperlink]],\"Book Weblink\")","v":"Book Weblink"},null,"2020","January 2020",null,null,"Author","Janey Levy","4.6","0.5",null,null,"M",null,"Grade 2 - 3","Grade 2 - 5","Plants are the starting point in most food chains. Carnivorous plants, however, buck the natural order system. Bladderworts belong to this group of plants, and they have a unique method for capturing prey: a vacuum trap. Readers will discover intriguing facts about this unusual plant, including where it's found, how its trap works, and how fast the trap works. Age-appropriate text addresses important elementary science concepts, while colorful images enliven and support the narrative. Go-to fact boxes share fun tidbits and a graphic organizer helps readers visually digest the new information they're learning about this clever, interesting tree.","English",23.6,17.7,"583/.96--dc23","24 pp.","https://www.garethstevens.com/9781538246375",null,{"$f":"Table1[[#This Row],[QTY]]*Table1[[#This Row],['# Books]]","v":0},{"$f":"Table1[[#This Row],[QTY]]*Table1[[#This Row],[S&L Price]]","v":0}]
[null,null,68,"World's Weirdest Plants",1,"Mangroves Grow in Salt Water!","eBook",null,"978-1-5382-4649-8",{"$f":"HYPERLINK(Table1[[#This Row],[eCommerce Hyperlink]],\"Book Weblink\")","v":"Book Weblink"},null,"2020","January 2020",null,null,"Author","Janey Levy","5.1","0.5",null,null,"M",null,"Grade 2 - 3","Grade 2 - 5","Few people would think of watering their garden or houseplants with salt water because it would be deadly, but mangroves are extraordinary plants that are able to thrive in salt water. Readers of this absorbing volume will discover fascinating information about this strange tree, including how it's able to grow in salt water, its importance in its ecosystem, and the threats it faces in the world today. Age-appropriate text addresses important elementary science concepts, while vibrant images enliven and support the narrative. A graphic organizer enriches the learning experience and fast fact boxes share additional, interesting information.","English",23.6,17.7,"583/.69--dc23","24 pp.","https://www.garethstevens.com/9781538246498",null,{"$f":"Table1[[#This Row],[QTY]]*Table1[[#This Row],['# Books]]","v":0},{"$f":"Table1[[#This Row],[QTY]]*Table1[[#This Row],[S&L Price]]","v":0}]
[null,32,69,"The Facts on Matter",1,"What Are Compounds?","eBook",null,"978-1-5382-6706-6",{"$f":"HYPERLINK(Table1[[#This Row],[eCommerce Hyperlink]],\"Book Weblink\")","v":"Book Weblink"},{"$f":"HYPERLINK(Table1[[#This Row],[EPP Hyperlink]],\"EPP Weblink\")","v":"EPP Weblink"},"2022","January 2022",null,null,"Author","Elise Tobler",null,null,null,null,"N",null,"Grade 2 - 3","Grade 2 - 5","In chemistry, compounds are made whenever two or more different elements come together. You use compounds every day, probably without realizing it. If you're baking a cake, you're using compounds. If you're swimming, you're using compounds. When you breathe, you're actually making compounds, because you inhale oxygen, and exhale carbon dioxide. What other compounds are there? Elementary readers will explore all four kinds of compounds and discover why they're essential for everyday life, with simple diagrams and age-appropriate vocabulary.","English",23.6,17.7,"546","24 pp.","https://www.garethstevens.com/9781538267066","http://www.epointplus.com/embed/9781538267066/?login=cyberrep&password=cyberrep",{"$f":"Table1[[#This Row],[QTY]]*Table1[[#This Row],['# Books]]","v":0},{"$f":"Table1[[#This Row],[QTY]]*Table1[[#This Row],[S&L Price]]","v":0}]
[null,32,69,"The Facts on Matter",1,"What Are the Properties of Matter?","Library Bound Book",null,"978-1-5382-6717-2",{"$f":"HYPERLINK(Table1[[#This Row],[eCommerce Hyperlink]],\"Book Weblink\")","v":"Book Weblink"},null,"2022","January 2022","Library","8.500 X 8.500","Author","Elise Tobler",null,null,null,null,"N",null,"Grade 2 - 3","Grade 2 - 5","Matter is anything that takes up space, including us. Everything that takes up space has different properties, like weight, length, color, and odor. Sneakers have different properties than peanut butter. The state of the matter will also change its properties; water has different properties when it is a liquid than it does as a solid. Readers will explore the properties of matter and how they interact with each of them every day without even realizing it.","English",23.6,17.7,"530.4","24 pp.","https://www.garethstevens.com/9781538267172",null,{"$f":"Table1[[#This Row],[QTY]]*Table1[[#This Row],['# Books]]","v":0},{"$f":"Table1[[#This Row],[QTY]]*Table1[[#This Row],[S&L Price]]","v":0}]
[null,null,70,"The Tech-Head Guide",1,"AI","Library Bound Book",null,"978-1-5382-7739-3",null,null,"2023","August 2022","Library","8.500 X 11.00","Author","William Potter",null,null,null,null,"R",null,"Grade 4 - 5","Grade 4 - 6","The phrase “artificial intelligence,” or AI, brings to mind interactions with computers that speak to people with human-like voices such as Jarvis in the Iron Man movies. AI is much more than that—which is both exciting and terrifying! AI is used in health care, education, and even in our houses. Alexa and Google Home products are artificial intelligence! In this book, readers find out all this and more, including the history of AI and what its future may be. Both the positives and negatives are explored in the comprehensive text.","English",27.6,20.7,"006.3--dc23","32 pp.","https://www.garethstevens.com/9781538277393",null,{"$f":"Table1[[#This Row],[QTY]]*Table1[[#This Row],['# Books]]","v":0},{"$f":"Table1[[#This Row],[QTY]]*Table1[[#This Row],[S&L Price]]","v":0}]
[null,null,70,"The Tech-Head Guide",1,"Drones","eBook",null,"978-1-5382-7748-5",null,null,"2023","August 2022",null,null,"Author","William Potter",null,null,null,null,"R",null,"Grade 4 - 5","Grade 4 - 6","Years ago, drones as they’re used today likely sounded like science-fiction! Drones are used in the military to take on missions too dangerous for people. But, they’re also used to shoot movies and may be used to deliver food and medicine soon! This book is the essential guide to everything drones: their history, a drone’s main parts, learning how to control one, and more. Full of full-color photographs of actual drones, this book also presents readers with potential problems with drone use and laws that have been put in place.","English",27.6,20.7,"629.133’39--dc23","32 pp.","https://www.garethstevens.com/9781538277485","http://www.epointplus.com/embed/9781538277485/?login=cyberrep&password=cyberrep",{"$f":"Table1[[#This Row],[QTY]]*Table1[[#This Row],['# Books]]","v":0},{"$f":"Table1[[#This Row],[QTY]]*Table1[[#This Row],[S&L Price]]","v":0}]
[null,22,71,"First Coding",1,"Debugging Code","Library Bound Book",null,"978-1-5382-7441-5",{"$f":"HYPERLINK(Table1[[#This Row],[eCommerce Hyperlink]],\"Book Weblink\")","v":"Book Weblink"},null,"2022","January 2022","Library","8.500 X 8.500","Author","Sam Thompson",null,null,null,null,"L",null,"Grade 2 - 3","Grade 2 - 4","Bugs are mistakes in code. A bug can make a program work incorrectly or even crash a computer. So, debugging code is one of the most important tasks that programmers have to tackle! This accessible, at-level book teaches readers about debugging and how it’s crucial to their everyday digital activities—such as playing their favorite computer games. Readers will especially enjoy the photographs of young programmers like themselves at work as well as learning about two famous programmers—Grace Hopper and Alan Turing—and how what they accomplished through their knowledge of coding.","English",23.6,17.7,"004.2’4","24 pp.","https://www.garethstevens.com/9781538274415",null,{"$f":"Table1[[#This Row],[QTY]]*Table1[[#This Row],['# Books]]","v":0},{"$f":"Table1[[#This Row],[QTY]]*Table1[[#This Row],[S&L Price]]","v":0}]
[null,22,71,"First Coding",1,"Logic","eBook",null,"978-1-5382-7446-0",{"$f":"HYPERLINK(Table1[[#This Row],[eCommerce Hyperlink]],\"Book Weblink\")","v":"Book Weblink"},{"$f":"HYPERLINK(Table1[[#This Row],[EPP Hyperlink]],\"EPP Weblink\")","v":"EPP Weblink"},"2022","January 2022",null,null,"Author","Sam Thompson",null,null,null,null,"L",null,"Grade 2 - 3","Grade 2 - 4","Logic helps a computer to “think,” but it’s the computer programmer who places logic in their coding to make a program run properly. In this excellent introduction to computer logic, promising programmers are presented with the basics of logic design, such as true and false statements, if and then conditionals, and more. The concepts of logic gates and mathematical symbols in coding are also introduced cleverly with clear, at-level language and colorful images to help readers understand in a visual way. Finally, they’ll read about how logic—and coding—accomplishes fascinating tasks, such as running their favorite video games.","English",23.6,17.7,"005.101’5113","24 pp.","https://www.garethstevens.com/9781538274460","http://www.epointplus.com/embed/9781538274460/?login=cyberrep&password=cyberrep",{"$f":"Table1[[#This Row],[QTY]]*Table1[[#This Row],['# Books]]","v":0},{"$f":"Table1[[#This Row],[QTY]]*Table1[[#This Row],[S&L Price]]","v":0}]
[null,22,71,"First Coding",1,"Using Digital Technology","eBook",null,"978-1-5382-7458-3",{"$f":"HYPERLINK(Table1[[#This Row],[eCommerce Hyperlink]],\"Book Weblink\")","v":"Book Weblink"},{"$f":"HYPERLINK(Table1[[#This Row],[EPP Hyperlink]],\"EPP Weblink\")","v":"EPP Weblink"},"2022","January 2022",null,null,"Author","Sam Thompson",null,null,null,null,"M",null,"Grade 2 - 3","Grade 2 - 4","Digital technology surrounds us. Our tablets, computers, and smartphones are just some of the vital tools that we use daily—if not hourly. Those devices would be useless without clever coding that might mystify some. This motivating book will enlighten budding techies by teaching them about well-known programming languages, basic computer parts, and the work of famous programmers. Key vocabulary is explained in an inviting and encouraging way. This accessible text accompanied by carefully selected photographs will inspire confidence in readers hoping to become coders themselves.","English",23.6,17.7,"004","24 pp.","https://www.garethstevens.com/9781538274583","http://www.epointplus.com/embed/9781538274583/?login=cyberrep&password=cyberrep",{"$f":"Table1[[#This Row],[QTY]]*Table1[[#This Row],['# Books]]","v":0},{"$f":"Table1[[#This Row],[QTY]]*Table1[[#This Row],[S&L Price]]","v":0}]
[null,null,72,"Accidental Scientific Discoveries that Changed the World",1,"Oops! It's Penicillin!","Library Bound Book",null,"978-1-5382-3992-6",{"$f":"HYPERLINK(Table1[[#This Row],[eCommerce Hyperlink]],\"Book Weblink\")","v":"Book Weblink"},null,"2020","August 2019","Library","8.500 X 11.00","Author, Author","Jonathan Bard, Mariel Bard","6","0.5",null,null,"Q",null,"Grade 3 - 4","Grade 3 - 6","One of the single greatest leaps forward in human healthcare happened because of an accident in a laboratory. This serendipitous event was the result of a summer vacation in Scotland and an unattended experiment. Dr. Alexander Fleming discovered penicillin, one of the first antibiotics, in 1928 when he noticed that mold had gotten into a petri dish and it had prevented bacteria from growing. This book explores Fleming's accidental discovery, the science behind antibiotics, and the dawn of the era of antibiotics.","English",27.6,20.7,"615.3/295654--dc23","32 pp.","https://www.garethstevens.com/9781538239926",null,{"$f":"Table1[[#This Row],[QTY]]*Table1[[#This Row],['# Books]]","v":0},{"$f":"Table1[[#This Row],[QTY]]*Table1[[#This Row],[S&L Price]]","v":0}]
[null,null,72,"Accidental Scientific Discoveries that Changed the World",1,"Oops! It's Penicillin!","eBook",null,"978-1-5382-3993-3",{"$f":"HYPERLINK(Table1[[#This Row],[eCommerce Hyperlink]],\"Book Weblink\")","v":"Book Weblink"},null,"2020","August 2019",null,null,"Author, Author","Jonathan Bard, Mariel Bard","6","0.5",null,null,"Q",null,"Grade 3 - 4","Grade 3 - 6","One of the single greatest leaps forward in human healthcare happened because of an accident in a laboratory. This serendipitous event was the result of a summer vacation in Scotland and an unattended experiment. Dr. Alexander Fleming discovered penicillin, one of the first antibiotics, in 1928 when he noticed that mold had gotten into a petri dish and it had prevented bacteria from growing. This book explores Fleming's accidental discovery, the science behind antibiotics, and the dawn of the era of antibiotics.","English",27.6,20.7,"615.3/295654--dc23","32 pp.","https://www.garethstevens.com/9781538239933",null,{"$f":"Table1[[#This Row],[QTY]]*Table1[[#This Row],['# Books]]","v":0},{"$f":"Table1[[#This Row],[QTY]]*Table1[[#This Row],[S&L Price]]","v":0}]
[null,null,72,"Accidental Scientific Discoveries that Changed the World",1,"Oops! They're Microwaves!","eBook",null,"978-1-5382-4001-4",{"$f":"HYPERLINK(Table1[[#This Row],[eCommerce Hyperlink]],\"Book Weblink\")","v":"Book Weblink"},null,"2020","August 2019",null,null,"Author","Nick Wojtan","6.1","0.5",null,null,"R",null,"Grade 3 - 4","Grade 3 - 6","In 1945, invisible waves such as radio waves and microwaves had already changed the world. As World War II raged on, microwaves were an important tool for the Allied war effort as they were used to spot incoming enemy airplanes and ships. Today microwaves are now part of daily life on a much smaller scale. Instead of watching movement, the energy of microwaves is used to heat up your favorite meals and leftovers, quickly, at any time, with the push of a few buttons. Readers will learn it's an amazing technological advancement that was discovered completely by accident.","English",27.6,20.7,"621.381/3--dc23","32 pp.","https://www.garethstevens.com/9781538240014",null,{"$f":"Table1[[#This Row],[QTY]]*Table1[[#This Row],['# Books]]","v":0},{"$f":"Table1[[#This Row],[QTY]]*Table1[[#This Row],[S&L Price]]","v":0}]
[null,null,72,"Computing for Kids",1,"Computer Programs and Coding","eBook",null,"978-1-5382-5257-4",{"$f":"HYPERLINK(Table1[[#This Row],[eCommerce Hyperlink]],\"Book Weblink\")","v":"Book Weblink"},null,"2020","January 2020",null,null,"Author","Nancy Dickmann",null,null,null,null,"M",null,"Grade 3","Grade 3 - 5","Computers communicate differently than people. Coders write algorithms in different computer languages that give computers clear instructions on how to work. This book explores the first computer communications and how coding works. Readers will learn about binary, the 0s and 1s that make up the base of all computer programming, as well as how coders find problems and fix mistakes. Perfect for the young coding enthusiast and the beginner, this book uses simple infographics and language to present complex ideas in a captivating manner.","English",27.6,20.7,"005.1--dc23","32 pp.","https://www.garethstevens.com/9781538252574",null,{"$f":"Table1[[#This Row],[QTY]]*Table1[[#This Row],['# Books]]","v":0},{"$f":"Table1[[#This Row],[QTY]]*Table1[[#This Row],[S&L Price]]","v":0}]
[null,null,72,"Computing for Kids",1,"Robots and Artificial Intelligence","Library Bound Book",null,"978-1-5382-5265-9",{"$f":"HYPERLINK(Table1[[#This Row],[eCommerce Hyperlink]],\"Book Weblink\")","v":"Book Weblink"},null,"2020","January 2020","Library","8.500 X 8.500","Author","Nancy Dickmann",null,null,null,null,"M",null,"Grade 3","Grade 3 - 5","Your readers will discover different tasks robots handle in the world and how robots are put together. This book explores how robots ingest data from their surroundings, and how they function. Budding engineers will also discover some of the intricacies of artificial intelligence, including what it takes to make a machine that can pass as a human. Compelling infographics and simple language make complex mechanics easier to understand. There's a lot to discover about robots, let the journey begin!","English",27.6,20.7,"629.8'924--dc23","32 pp.","https://www.garethstevens.com/9781538252659",null,{"$f":"Table1[[#This Row],[QTY]]*Table1[[#This Row],['# Books]]","v":0},{"$f":"Table1[[#This Row],[QTY]]*Table1[[#This Row],[S&L Price]]","v":0}]
[null,null,72,"Engineering Our World",1,"How a Car Is Made","Library Bound Book",null,"978-1-4824-3925-0",{"$f":"HYPERLINK(Table1[[#This Row],[eCommerce Hyperlink]],\"Book Weblink\")","v":"Book Weblink"},null,"2016","January 2016","Library","8.500 X 8.500","Author","Sam Aloian","4.9","0.5",null,null,"N","940L","Grade 2 - 3","Grade 2 - 5","Automobiles are an essential part of life for many, but few really understand how that car arrives in their garage in the first place. This book takes an exciting look at just how interesting that process is, from the design phase in an engineer’s office to the floor of a factory where it is assembled piece by piece by both people and machines. Full-color photographs bring the process to life in vivid detail, and a step-by-step how-to guide explains how readers can even build their very own model car.","English",23.6,17.7,"629.2'3--dc23","24 pp.","https://www.garethstevens.com/9781482439250",null,{"$f":"Table1[[#This Row],[QTY]]*Table1[[#This Row],['# Books]]","v":0},{"$f":"Table1[[#This Row],[QTY]]*Table1[[#This Row],[S&L Price]]","v":0}]
[null,null,72,"Engineering Our World",1,"How a Plane Is Made","eBook",null,"978-1-4824-3934-2",{"$f":"HYPERLINK(Table1[[#This Row],[eCommerce Hyperlink]],\"Book Weblink\")","v":"Book Weblink"},null,"2016","January 2016",null,null,"Author","Amy Hayes","4.6","0.5",null,null,"N","860L","Grade 2 - 3","Grade 2 - 5","From the largest cargo planes and passenger jets to the smallest of single-engine crafts, airplanes are modern marvels. But just how do people build planes and what keeps them safe in the air? This exciting book takes readers inside the hangars where bolts and metal are turned into winged creations ready to take people all around the world. Amazing photographs show the aircraft construction process step-by-step, while engaging text gives a strong technical explanation of the science at work during every flight in this innovative STEM book.","English",23.6,17.7,"629.134--dc23","24 pp.","https://www.garethstevens.com/9781482439342",null,{"$f":"Table1[[#This Row],[QTY]]*Table1[[#This Row],['# Books]]","v":0},{"$f":"Table1[[#This Row],[QTY]]*Table1[[#This Row],[S&L Price]]","v":0}]
[null,null,72,"Engineering Our World",6,"Engineering Our World: Set 2","Library Set",null,"978-1-5382-4907-9",{"$f":"HYPERLINK(Table1[[#This Row],[eCommerce Hyperlink]],\"Book Weblink\")","v":"Book Weblink"},null,"2021","August 2020","Library","8.500 X 8.500",null,null,null,null,null,null,null,null,"Grade 2 - 3","Grade 2 - 5","Some things we take for granted are really amazing engineering accomplishments, like the roof over our heads. This inviting set encourages young engineers to consider aspects of engineering that help make certain structures possible, such as a house, an aircraft carrier, a submarine, and a roller coaster. Readers will come to understand the process of construction, from an idea to the finishing touches, through comprehensible text and accompanying images. Fact boxes supply further fascinating information about the high-interest topics. Features include: Concluding, step-by-step projects that readers can complete to better understand key engineering concepts. Supports STEM curricula in combination with appealing subjects. Supports understanding the steps of a technical procedure in a text (an ELA standard).","English",141.6,106.2,null,"24 pp.","https://www.garethstevens.com/9781538249079",null,{"$f":"Table1[[#This Row],[QTY]]*Table1[[#This Row],['# Books]]","v":0},{"$f":"Table1[[#This Row],[QTY]]*Table1[[#This Row],[S&L Price]]","v":0}]
[null,null,72,"Engineering Our World",1,"How a Roller Coaster Is Built","eBook",null,"978-1-5382-4710-5",{"$f":"HYPERLINK(Table1[[#This Row],[eCommerce Hyperlink]],\"Book Weblink\")","v":"Book Weblink"},null,"2021","August 2020",null,null,"Author","Kate Mikoley",null,null,null,null,"L",null,"Grade 2 - 3","Grade 2 - 5","Anyone who has visited an amusement park has likely seen the hills and loops of a roller coaster. For those who have felt the thrill of the ride, it's often the excitement of that first drop or the speed that follows that keeps them coming back for more. Before anyone can experience the adventure of a roller coaster, a lot of hard work must go into building it. Readers of this high-interest resource will learn all about the science and mechanics behind the construction of roller coasters. Aspiring engineers and amusement park enthusiasts alike will be captivated by this informative volume.","English",23.6,17.7,"791.06/8028--dc23","24 pp.","https://www.garethstevens.com/9781538247105",null,{"$f":"Table1[[#This Row],[QTY]]*Table1[[#This Row],['# Books]]","v":0},{"$f":"Table1[[#This Row],[QTY]]*Table1[[#This Row],[S&L Price]]","v":0}]
[null,null,72,"Engineering Our World",1,"How a Submarine Is Built","Library Bound Book",null,"978-1-5382-4717-4",{"$f":"HYPERLINK(Table1[[#This Row],[eCommerce Hyperlink]],\"Book Weblink\")","v":"Book Weblink"},null,"2021","August 2020","Library","8.500 X 8.500","Author","Tanya Dellaccio",null,null,null,null,"M",null,"Grade 2 - 3","Grade 2 - 5","The first submarine was built in the 1600s. Engineering capabilities have advanced immensely since then, making submarines one of the world's most interesting means of transportation. Engrossed readers will learn about the ingenious engineering behind submarines, from construction to the ins-and-outs of how they work. STEM concepts help readers understand the science that makes submarines possible. Accessible text paired with full-color photographs and intriguing fact boxes will draw readers in and aboard this underwater marvel.","English",23.6,17.7,"623.82/05--dc23","24 pp.","https://www.garethstevens.com/9781538247174",null,{"$f":"Table1[[#This Row],[QTY]]*Table1[[#This Row],['# Books]]","v":0},{"$f":"Table1[[#This Row],[QTY]]*Table1[[#This Row],[S&L Price]]","v":0}]
[null,null,72,"Flowchart Smart",1,"The Science of Forces","Library Bound Book",null,"978-1-4824-4137-6",{"$f":"HYPERLINK(Table1[[#This Row],[eCommerce Hyperlink]],\"Book Weblink\")","v":"Book Weblink"},null,"2016","January 2016","Library","7.250 X 9.250","Author","Mary Colson",null,null,"50",null,"T","1010L","Grade 4 - 5","Grade 4 - 6","Forces move everything around us. That may sound scary and complicated, but this book shows readers that forces like friction and other laws of motion can be fascinating and fun! Innovative flowcharts bring these abstract concepts to life via brilliant photographs matched with fact boxes showing readers how the moon impacts tides on Earth, and how magnetic forces act on matter throughout the universe. From the tectonic plates that move Earth’s crust to the forces rockets must overcome to leave Earth’s atmosphere and reach outer space, there are plenty of fantastic forces to explore in this informative book.","English",32.950000000000003,24.7,"531--dc23","48 pp.","https://www.garethstevens.com/9781482441376",null,{"$f":"Table1[[#This Row],[QTY]]*Table1[[#This Row],['# Books]]","v":0},{"$f":"Table1[[#This Row],[QTY]]*Table1[[#This Row],[S&L Price]]","v":0}]
[null,null,72,"Flowchart Smart",1,"The Science of Light","eBook",null,"978-1-4824-4146-8",{"$f":"HYPERLINK(Table1[[#This Row],[eCommerce Hyperlink]],\"Book Weblink\")","v":"Book Weblink"},null,"2016","January 2016",null,null,"Author","Mary Colson",null,null,"50",null,"T","950L","Grade 4 - 5","Grade 4 - 6","Light is an amazing thing. It allows us to see, sure, but how is it made? This book takes a look at the science behind the creation, travel, and appearance of light. From how fast light travels to the materials that create it, the science behind illumination is fascinating and essential to understanding human life. Informative flowcharts bring the context to life with bright photographs and fact boxes explaining how the human eye sees and reacts to light and how some animals can even see in the dark!","English",32.950000000000003,24.7,"535--dc23","48 pp.","https://www.garethstevens.com/9781482441468",null,{"$f":"Table1[[#This Row],[QTY]]*Table1[[#This Row],['# Books]]","v":0},{"$f":"Table1[[#This Row],[QTY]]*Table1[[#This Row],[S&L Price]]","v":0}]
[null,null,72,"Flowchart Smart",6,"Flowchart Smart: Set 2","Library Set",null,"978-1-5382-0612-6",{"$f":"HYPERLINK(Table1[[#This Row],[eCommerce Hyperlink]],\"Book Weblink\")","v":"Book Weblink"},null,"2018","August 2017","Library","7.250 X 9.250",null,null,null,null,null,null,null,null,"Grade 4 - 5","Grade 4 - 6","What makes the heart pump? How does oxygen circulate the body? Prepare to be swept away in a flow of anatomical knowledge! Readers of this innovative series will learn about crucial organs and systems of the human body. Flowcharts at the end of each chapter recap important information in bite-sized chunks and help the reader visualize bodily processes. Colorful graphics will entice even reluctant readers. The unique combination of text and visuals allows readers to grasp complicated concepts in a fun and engaging way. This expansion of the popular Flowchart Smart series offers a new round of accessible, information-rich books.","English",197.7,148.19999999999999,null,"48 pp.","https://www.garethstevens.com/9781538206126",null,{"$f":"Table1[[#This Row],[QTY]]*Table1[[#This Row],['# Books]]","v":0},{"$f":"Table1[[#This Row],[QTY]]*Table1[[#This Row],[S&L Price]]","v":0}]
[null,null,72,"Flowchart Smart",1,"The Science of the Heart and Circulatory System","Library Bound Book",null,"978-1-5382-0693-5",{"$f":"HYPERLINK(Table1[[#This Row],[eCommerce Hyperlink]],\"Book Weblink\")","v":"Book Weblink"},null,"2018","August 2017","Library","7.250 X 9.250","Author, Author","Louise Spilsbury, Richard Spilsbury",null,null,null,null,"T",null,"Grade 4 - 5","Grade 4 - 6","What makes our hearts pump? How does blood circulate throughout our bodies? Curious readers will love this innovative look at the human heart and circulatory system. Clean, simple flowcharts located at the end of each chapter break down complex processes into bite-sized information. This allows readers to visualize and retain essential curriculum materials while having fun. Colorful graphics and clear language further ensure the accessibility of this important information. Even readers who are reluctant to study science will be eager to explore this unique, visually rich book. All libraries will have a place for this engaging look at the human heart and circulatory system.","English",32.950000000000003,24.7,"612.1--dc23","48 pp.","https://www.garethstevens.com/9781538206935",null,{"$f":"Table1[[#This Row],[QTY]]*Table1[[#This Row],['# Books]]","v":0},{"$f":"Table1[[#This Row],[QTY]]*Table1[[#This Row],[S&L Price]]","v":0}]
[null,null,72,"Flowchart Smart",1,"The Science of the Senses","eBook",null,"978-1-5382-0689-8",{"$f":"HYPERLINK(Table1[[#This Row],[eCommerce Hyperlink]],\"Book Weblink\")","v":"Book Weblink"},null,"2018","August 2017",null,null,"Author, Author","Louise Spilsbury, Richard Spilsbury",null,null,null,null,"T",null,"Grade 4 - 5","Grade 4 - 6","Taste, touch, sight, hearing, and smell: these five senses help us navigate the world, process information about our surroundings, and stimulate responses in our bodies. Readers will learn the science behind our amazing senses in this innovative book. Each chapter recaps essential information through clean, simple flowcharts. This helps readers visualize and retain crucial material while having fun. Even readers who are reluctant to engage with science curriculum will gravitate to this accessible and intriguing look at the human senses. Colorful graphics, clear language, and a unique format ensure this book will be popular in any library.","English",32.950000000000003,24.7,"612.8--dc23","48 pp.","https://www.garethstevens.com/9781538206898",null,{"$f":"Table1[[#This Row],[QTY]]*Table1[[#This Row],['# Books]]","v":0},{"$f":"Table1[[#This Row],[QTY]]*Table1[[#This Row],[S&L Price]]","v":0}]
[null,null,72,"Flowchart Smart",1,"Landforms","eBook",null,"978-1-5382-3487-7",{"$f":"HYPERLINK(Table1[[#This Row],[eCommerce Hyperlink]],\"Book Weblink\")","v":"Book Weblink"},null,"2019","January 2019",null,null,"Author, Author","Richard Spilsbury, Louise Spilsbury",null,null,null,null,"T",null,"Grade 4 - 5","Grade 4 - 6","Can land form where there wasn't any before? What about valleys and canyons? Through accessible language and colorful, fun flowcharts, readers learn the answers to these questions and more in this book. From how the continents arrived where they are today to how volcanoes form islands, the main text is full of incredible, and Earth science curriculum-supporting, knowledge for curious readers to discover. Full-color photographs accompany the text to take readers to the tops of mountains, the ocean coast, and deep into the Grand Canyon.","English",32.950000000000003,24.7,"551.41--dc23","48 pp.","https://www.garethstevens.com/9781538234877",null,{"$f":"Table1[[#This Row],[QTY]]*Table1[[#This Row],['# Books]]","v":0},{"$f":"Table1[[#This Row],[QTY]]*Table1[[#This Row],[S&L Price]]","v":0}]
[null,null,72,"Flowchart Smart",1,"Pollution","eBook",null,"978-1-5382-3493-8",{"$f":"HYPERLINK(Table1[[#This Row],[eCommerce Hyperlink]],\"Book Weblink\")","v":"Book Weblink"},null,"2019","January 2019",null,null,"Author, Author","Richard Spilsbury, Louise Spilsbury",null,null,null,null,"T",null,"Grade 4 - 5","Grade 4 - 6","One of the ways disease spreads in developing countries is through polluted water. This topic is a serious one for young readers to understand. In this book, the issues of pollution are explained in age-appropriate detail, complete with full-color photographs of air, land, and water pollution. In addition, each engaging topic concludes with a helpful flowchart to review how acid rain works, how bacteria enter drinking water, and the ways algal blooms form. This volume is a great resource for both science and social studies students learning to understand the importance of conservation and respect for the world around us.","English",32.950000000000003,24.7,"363.73--dc23","48 pp.","https://www.garethstevens.com/9781538234938",null,{"$f":"Table1[[#This Row],[QTY]]*Table1[[#This Row],['# Books]]","v":0},{"$f":"Table1[[#This Row],[QTY]]*Table1[[#This Row],[S&L Price]]","v":0}]
[null,null,72,"Flowchart Smart",1,"The Rock Cycle","Library Bound Book",null,"978-1-5382-3477-8",{"$f":"HYPERLINK(Table1[[#This Row],[eCommerce Hyperlink]],\"Book Weblink\")","v":"Book Weblink"},null,"2019","January 2019","Library","7.250 X 9.250","Author, Author","Richard Spilsbury, Louise Spilsbury",null,null,null,null,"T",null,"Grade 4 - 5","Grade 4 - 6","Within the rock cycle, there are so many other processes! Weather, erosion, and the creation of metamorphic, igneous, and sedimentary rock are all part of the greater process scientists call the rock cycle. In this colorful and engaging volume, readers read about each process in accessible language and then review it in an easy-to-follow flowchart. Full of Earth science content that supports classroom learning, the main content guides readers through important subject areas including what rock is made of, how minerals are used, and metal mining. Full-color photographs correlate to and complement each chapter.","English",32.950000000000003,24.7,"552--dc23","48 pp.","https://www.garethstevens.com/9781538234778",null,{"$f":"Table1[[#This Row],[QTY]]*Table1[[#This Row],['# Books]]","v":0},{"$f":"Table1[[#This Row],[QTY]]*Table1[[#This Row],[S&L Price]]","v":0}]
[null,null,72,"Flowchart Smart",6,"Flowchart Smart: Set 4","Library Set",null,"978-1-5382-5333-5",{"$f":"HYPERLINK(Table1[[#This Row],[eCommerce Hyperlink]],\"Book Weblink\")","v":"Book Weblink"},null,"2020","January 2020","Library","7.250 X 9.250",null,null,null,null,null,null,null,null,"Grade 4 - 5","Grade 4 - 6","The organisms in an ecosystem are interdependent; they are linked. The most effective way to demonstrate the connections between life forms is visual, with the graphic organizers called flowcharts. This beneficial set, a boon to any life science collection, examines critical ecosystems including deserts, rain forests, and oceans, and the interactions of their inhabitants, both plant and animal. Flowcharts highlight important concepts in each chapter, such as the formation of deltas and the life cycle of a frog. Colorful photographs will make readers excited about many aspects of environmental science. Features include: Multiple STEM topics are covered throughout the volumes. Each book concludes with a report about the future of the ecosystem, touching on conservation and climate change. Supports interpreting information presented visually, which is an informational text standard of the Common Core.","English",197.7,148.19999999999999,null,"48 pp.","https://www.garethstevens.com/9781538253335",null,{"$f":"Table1[[#This Row],[QTY]]*Table1[[#This Row],['# Books]]","v":0},{"$f":"Table1[[#This Row],[QTY]]*Table1[[#This Row],[S&L Price]]","v":0}]
[null,null,72,"Flowchart Smart",1,"The Science of Mountains","Library Bound Book",null,"978-1-5382-5225-3",{"$f":"HYPERLINK(Table1[[#This Row],[eCommerce Hyperlink]],\"Book Weblink\")","v":"Book Weblink"},null,"2020","January 2020","Library","7.250 X 9.250","Author","Louise Spilsbury",null,null,null,null,"T",null,"Grade 4 - 5","Grade 4 - 6","For all those young scientists who aren't mountain climbers, this lively look at high-altitude ecosystems takes us to the highest peaks to learn about the amazing interactions between plants and animals of the mountains. From high-flying bees that pollinate the flowers to lumbering bears who spread seeds for plant growth, mountain organisms need each other in a multitude of ways. Flowcharts throughout this brightly designed book elucidate important concepts such as mountain food chains and the effects of climate change on mountain ecosystems.","English",32.950000000000003,24.7,"551.43'2--dc23","48 pp.","https://www.garethstevens.com/9781538252253",null,{"$f":"Table1[[#This Row],[QTY]]*Table1[[#This Row],['# Books]]","v":0},{"$f":"Table1[[#This Row],[QTY]]*Table1[[#This Row],[S&L Price]]","v":0}]
[null,null,72,"Flowchart Smart",1,"The Science of Wetlands","eBook",null,"978-1-5382-5236-9",{"$f":"HYPERLINK(Table1[[#This Row],[eCommerce Hyperlink]],\"Book Weblink\")","v":"Book Weblink"},null,"2020","January 2020",null,null,"Author","Louise Spilsbury",null,null,null,null,"T",null,"Grade 4 - 5","Grade 4 - 6","Wetlands are complex ecosystems necessary for the health of our planet. In recent years, governments and environmental organizations have worked to protect these habitats and the organisms that can only thrive within their unique ecosystems. This enlightening volume takes readers into marshy wetlands, introducing them to high-interest animals and plants such as hulking hippos and the carnivorous Venus flytrap. Each stimulating chapter contains a flowchart that highlights key earth science concepts, including life cycles and food chains. Breathtaking photographs of wildlife and an accessible narrative make this book a memorable journey into a critical ecosystem.","English",32.950000000000003,24.7,"333.91'8--dc23","48 pp.","https://www.garethstevens.com/9781538252369",null,{"$f":"Table1[[#This Row],[QTY]]*Table1[[#This Row],['# Books]]","v":0},{"$f":"Table1[[#This Row],[QTY]]*Table1[[#This Row],[S&L Price]]","v":0}]
[null,null,72,"Freaky True Science",1,"Freaky Animal Stories","eBook",null,"978-1-4824-2951-0",{"$f":"HYPERLINK(Table1[[#This Row],[eCommerce Hyperlink]],\"Book Weblink\")","v":"Book Weblink"},null,"2016","August 2015",null,null,"Author","Michael Canfield",null,null,null,null,"T",null,"Grade 4 - 5","Grade 4 - 6","Animals are a wild and wonderful part of our world. However, some animals and their stories are a little wilder than others! This fascinating book explores some of the animal kingdom’s freakiest specimens and strangest scenarios—like the true tale of a two-headed housecat named “Frankenlouie,” and of a chicken named Mike who lived for 18 months after getting his head chopped off! High-interest subject matter and amazingly freaky photographs will captivate readers, and enthralling sidebars and fact boxes present even more unbelievable—but true!—information about some of the most outrageous animals on Earth.","English",27.6,20.7,"590","32 pp.","https://www.garethstevens.com/9781482429510",null,{"$f":"Table1[[#This Row],[QTY]]*Table1[[#This Row],['# Books]]","v":0},{"$f":"Table1[[#This Row],[QTY]]*Table1[[#This Row],[S&L Price]]","v":0}]
[null,null,72,"Freaky True Science",1,"Freaky Stories About Our Bodies","Library Bound Book",null,"978-1-4824-2962-6",{"$f":"HYPERLINK(Table1[[#This Row],[eCommerce Hyperlink]],\"Book Weblink\")","v":"Book Weblink"},null,"2016","August 2015","Library","6.500 X 9.125","Author","Kristen Rajczak Nelson",null,null,null,null,"T","980L","Grade 4 - 5","Grade 4 - 6","Today, science offers explanations of things people once found freaky, and the human body is no exception. Everything our body does has a purpose, from our seemingly gross bodily fluids to the weird and wild ways we stay healthy. Readers take a journey through the human body, learning why (almost) every organ has a purpose and how the old adage “What doesn’t kill you makes you stronger” is actually true in some ways. From the bacteria that fills our bodies to babies’ lack of kneecaps when they’re born, no stone is left unturned in this freakish compilation of all things anatomical. Vivid color images and fascinating fun facts and sidebars offer even more bodily knowledge.","English",27.6,20.7,"610.2","32 pp.","https://www.garethstevens.com/9781482429626",null,{"$f":"Table1[[#This Row],[QTY]]*Table1[[#This Row],['# Books]]","v":0},{"$f":"Table1[[#This Row],[QTY]]*Table1[[#This Row],[S&L Price]]","v":0}]
[null,null,72,"Freaky True Science",1,"Freaky Weather Stories","eBook",null,"978-1-4824-2971-8",{"$f":"HYPERLINK(Table1[[#This Row],[eCommerce Hyperlink]],\"Book Weblink\")","v":"Book Weblink"},null,"2016","August 2015",null,null,"Author","Therese M. Shea",null,null,null,null,"T",null,"Grade 4 - 5","Grade 4 - 6","People around the globe have to deal with all kinds of freaky weather events, from the fury of blinding blizzards to the destruction of howling hurricanes. No place on Earth is safe from nature's wicked weather. Readers take a wild ride through some of Earth’s strangest weather scenarios, such as record-setting hailstones, frogs dropping from the sky, and \"fire tornadoes,\" which are vortexes of air that pick up flames from forest fires and shoot them hundreds of feet into the air. Vivid photographs capture the intensity of nature's wrath, and captivating fact boxes and detailed sidebars add even more high-interest content.","English",27.6,20.7,"551.6--dc23","32 pp.","https://www.garethstevens.com/9781482429718",null,{"$f":"Table1[[#This Row],[QTY]]*Table1[[#This Row],['# Books]]","v":0},{"$f":"Table1[[#This Row],[QTY]]*Table1[[#This Row],[S&L Price]]","v":0}]
[null,null,72,"Freaky True Science",1,"Freaky Stories About Inventions","eBook",null,"978-1-4824-4830-6",{"$f":"HYPERLINK(Table1[[#This Row],[eCommerce Hyperlink]],\"Book Weblink\")","v":"Book Weblink"},null,"2017","August 2016",null,null,"Author","Michael Canfield","6","1",null,null,"T","1010L","Grade 4 - 5","Grade 4 - 6","Some of the wildest inventions came from clever minds that wanted to change the world. But some of these inventions are truly strange. From crazy early flying machines to wacky mash-ups like a gun that takes pictures, there are many crazy creations that lived short lives. Even practical inventions of the past—like the phonograph—look strange compared to modern inventions such as televisions and MP3 players. This book takes a look at some of the strangest inventors and inventions made throughout time, as well as why these inventions failed or evolved into something we use today.","English",27.6,20.7,"609--dc23","32 pp.","https://www.garethstevens.com/9781482448306",null,{"$f":"Table1[[#This Row],[QTY]]*Table1[[#This Row],['# Books]]","v":0},{"$f":"Table1[[#This Row],[QTY]]*Table1[[#This Row],[S&L Price]]","v":0}]
[null,null,72,"Freaky True Science",1,"Freaky Stories About the Paranormal","Library Bound Book",null,"978-1-4824-4849-8",{"$f":"HYPERLINK(Table1[[#This Row],[eCommerce Hyperlink]],\"Book Weblink\")","v":"Book Weblink"},null,"2017","August 2016","Library","6.500 X 9.125","Author","M. H. Seeley","6.4","1",null,null,"T",null,"Grade 4 - 5","Grade 4 - 6","Aliens, ghosts, and cryptids may all fall under the category of “strange” or “unusual,” but all are classified as paranormal. There are plenty of spooky and scary stories throughout history. From Abraham Lincoln’s doppelganger to the mysteries of the Bermuda Triangle and even the feeling of déjà vu, there are many unexplained phenomena. Even some aspects of history itself are still a mystery, like the Antikythera mechanism found in a Greek shipwreck. This book shows readers that there is often a blurry line between fact and the paranormal, and sometimes fact is even stranger than fiction!","English",27.6,20.7,"130--dc23","32 pp.","https://www.garethstevens.com/9781482448498",null,{"$f":"Table1[[#This Row],[QTY]]*Table1[[#This Row],['# Books]]","v":0},{"$f":"Table1[[#This Row],[QTY]]*Table1[[#This Row],[S&L Price]]","v":0}]
[null,null,72,"Freaky True Science",1,"More Freaky Animal Stories","eBook",null,"978-1-5382-4057-1",{"$f":"HYPERLINK(Table1[[#This Row],[eCommerce Hyperlink]],\"Book Weblink\")","v":"Book Weblink"},null,"2020","August 2019",null,null,"Author","Janey Levy","5.6","1",null,null,"T",null,"Grade 4 - 5","Grade 4 - 6","Animals are a familiar part of most people's lives, from household pets to farm animals to backyard birds, but the animal world holds an enormous number of weird and freaky stories. This fascinating book is the second volume in this popular series to explore such stories. Readers will be thrilled to learn about animal oddities like creatures with night-vision goggles, organisms that are almost invisible, and even the swarm of bees that followed a car for two days to rescue their trapped queen. Absorbing text and vivid images will keep readers engaged. Captions, sidebars, fun facts, and a graphic organizer enrich the narrative.","English",27.6,20.7,"590--dc23","32 pp.","https://www.garethstevens.com/9781538240571",null,{"$f":"Table1[[#This Row],[QTY]]*Table1[[#This Row],['# Books]]","v":0},{"$f":"Table1[[#This Row],[QTY]]*Table1[[#This Row],[S&L Price]]","v":0}]
[null,null,72,"Freaky True Science",1,"More Freaky Space Stories","Library Bound Book",null,"978-1-5382-4064-9",{"$f":"HYPERLINK(Table1[[#This Row],[eCommerce Hyperlink]],\"Book Weblink\")","v":"Book Weblink"},null,"2020","August 2019","Library","6.500 X 9.125","Author","Eric Keppeler","5.6","1",null,null,"T",null,"Grade 4 - 5","Grade 4 - 6","Space is infinite. There are never-ending mysteries in its starry reaches, and we're still learning about them. In this detailed, fascinating book, young readers will learn more about freaky stories of space, including weird planets, strange stars, unexplained phenomena, and tales of the brave people who've traveled into this final frontier. Intriguing facts and historic photographs will catch students' interest as they investigate these mysteries and learn more about the universe in which we live and beyond.","English",27.6,20.7,"520--dc23","32 pp.","https://www.garethstevens.com/9781538240649",null,{"$f":"Table1[[#This Row],[QTY]]*Table1[[#This Row],['# Books]]","v":0},{"$f":"Table1[[#This Row],[QTY]]*Table1[[#This Row],[S&L Price]]","v":0}]
[null,null,72,"Freaky True Science",1,"More Freaky Weather Stories","Library Bound Book",null,"978-1-5382-4076-2",{"$f":"HYPERLINK(Table1[[#This Row],[eCommerce Hyperlink]],\"Book Weblink\")","v":"Book Weblink"},null,"2020","August 2019","Library","6.500 X 9.125","Author","Grace Vail","5.5","0.5",null,null,"T",null,"Grade 4 - 5","Grade 4 - 6","Weather is one of the most amazing forces on Earth. Sometimes it's mild, sometimes it's wild, and sometimes it's downright freaky! This book explores the weirdest weather on record, including dramatic temperature changes, deadly precipitation, and weather events where and when they shouldn't be. Readers will be captivated by stories of fog tsunamis, never-ending lightning storms, and rainbows created by moonlight. Full-color photographs bring these and other incredible weather phenomena into detailed, thrilling focus. Fact boxes and sidebars provide more information about the freaky true science behind Earth's craziest weather.","English",27.6,20.7,"551.5--dc23","32 pp.","https://www.garethstevens.com/9781538240762",null,{"$f":"Table1[[#This Row],[QTY]]*Table1[[#This Row],['# Books]]","v":0},{"$f":"Table1[[#This Row],[QTY]]*Table1[[#This Row],[S&L Price]]","v":0}]
[null,null,72,"Freaky True Science",1,"More Freaky Weather Stories","eBook",null,"978-1-5382-4077-9",{"$f":"HYPERLINK(Table1[[#This Row],[eCommerce Hyperlink]],\"Book Weblink\")","v":"Book Weblink"},null,"2020","August 2019",null,null,"Author","Grace Vail","5.5","0.5",null,null,"T",null,"Grade 4 - 5","Grade 4 - 6","Weather is one of the most amazing forces on Earth. Sometimes it's mild, sometimes it's wild, and sometimes it's downright freaky! This book explores the weirdest weather on record, including dramatic temperature changes, deadly precipitation, and weather events where and when they shouldn't be. Readers will be captivated by stories of fog tsunamis, never-ending lightning storms, and rainbows created by moonlight. Full-color photographs bring these and other incredible weather phenomena into detailed, thrilling focus. Fact boxes and sidebars provide more information about the freaky true science behind Earth's craziest weather.","English",27.6,20.7,"551.5--dc23","32 pp.","https://www.garethstevens.com/9781538240779",null,{"$f":"Table1[[#This Row],[QTY]]*Table1[[#This Row],['# Books]]","v":0},{"$f":"Table1[[#This Row],[QTY]]*Table1[[#This Row],[S&L Price]]","v":0}]
[null,null,72,"Mother Nature Is Trying to Kill Me!",1,"Deadly Diseases","eBook",null,"978-1-5382-3965-0",{"$f":"HYPERLINK(Table1[[#This Row],[eCommerce Hyperlink]],\"Book Weblink\")","v":"Book Weblink"},null,"2020","August 2019",null,null,"Author","Janey Levy","5.1","0.5",null,null,"M",null,"Grade 2 - 3","Grade 2 - 5","Everyone's had experience with diseases such as the common cold, but some diseases are deadly and they may kill quickly, in terrifying ways. Readers will learn about lethal diseases such as Ebola, cholera, meningitis, plague, and necrotizing fasciitis and the sometimes-gross ways they kill. The accessible and absorbing text supports important elementary science concepts. Eye-catching photographs vividly bring concepts into detailed focus, while fact boxes, captions, and a graphic organizer enrich the main text.","English",23.6,17.7,"616.9--dc23","24 pp.","https://www.garethstevens.com/9781538239650",null,{"$f":"Table1[[#This Row],[QTY]]*Table1[[#This Row],['# Books]]","v":0},{"$f":"Table1[[#This Row],[QTY]]*Table1[[#This Row],[S&L Price]]","v":0}]
[null,null,72,"Mother Nature Is Trying to Kill Me!",1,"Savage Animals","Library Bound Book",null,"978-1-5382-3980-3",{"$f":"HYPERLINK(Table1[[#This Row],[eCommerce Hyperlink]],\"Book Weblink\")","v":"Book Weblink"},null,"2020","August 2019","Library","8.500 X 8.500","Author","Janey Levy","4.5","0.5",null,null,"L",null,"Grade 2 - 3","Grade 2 - 5","Most people have some contact with small wild animals on a regular basis. Many people enjoy feeding wild birds and squirrels, but not all wild animals are friendly, and some are downright savage. Readers of this volume learn about some of the world's most aggressive animals, including some that may come as a surprise. The list of savage animals includes not only saltwater crocodiles, sharks, and bears, but also rhinos, elephants, and hippos. Age-appropriate text supports important elementary science concepts. Vivid, eye-catching photographs support the nonfiction narrative, and captions, fact boxes, and a graphic organizer enrich the main text.","English",23.6,17.7,"591.6/5--dc23","24 pp.","https://www.garethstevens.com/9781538239803",null,{"$f":"Table1[[#This Row],[QTY]]*Table1[[#This Row],['# Books]]","v":0},{"$f":"Table1[[#This Row],[QTY]]*Table1[[#This Row],[S&L Price]]","v":0}]
[null,null,72,"Science in Infographics",1,"Forces","Library Bound Book",null,"978-1-5382-4302-2",{"$f":"HYPERLINK(Table1[[#This Row],[eCommerce Hyperlink]],\"Book Weblink\")","v":"Book Weblink"},null,"2020","August 2019","Library","8.000 X 10.00","Author, Author","Jon Richards, Ed Simkins",null,null,null,null,"S",null,"Grade 4 - 5","Grade 4 - 6","Physical forces affect us in big and little ways every day. To ride a bike, one must push down on the pedals. To cut through paper with scissors, pressure must be applied. Even Earth and all the planets in our solar system move around the sun by the forces of gravity. Through visually pleasing and informative infographics, readers are presented with scientific concepts that are manageable and that make sense in the context of their everyday lives.","English",27.6,20.7,"531'.6--dc23","32 pp.","https://www.garethstevens.com/9781538243022",null,{"$f":"Table1[[#This Row],[QTY]]*Table1[[#This Row],['# Books]]","v":0},{"$f":"Table1[[#This Row],[QTY]]*Table1[[#This Row],[S&L Price]]","v":0}]
[null,null,72,"Science in Infographics",1,"Light and Sound","eBook",null,"978-1-5382-4294-0",{"$f":"HYPERLINK(Table1[[#This Row],[eCommerce Hyperlink]],\"Book Weblink\")","v":"Book Weblink"},null,"2020","August 2019",null,null,"Author, Author","Jon Richards, Ed Simkins",null,null,null,null,"S",null,"Grade 4 - 5","Grade 4 - 6","Readers will explore how our senses react to traveling light and sound waves. They'll learn how humans have altered waves to do incredible things, such as building electric guitars and looking through telescopes into space. Accessible language and full-color icons, graphics, and pictograms make this the perfect introduction to scientific concepts, and it is a great solution for those who learn best by visualization.","English",27.6,20.7,"535--dc23","32 pp.","https://www.garethstevens.com/9781538242940",null,{"$f":"Table1[[#This Row],[QTY]]*Table1[[#This Row],['# Books]]","v":0},{"$f":"Table1[[#This Row],[QTY]]*Table1[[#This Row],[S&L Price]]","v":0}]
[null,null,72,"Science in Infographics",1,"Plants","Library Bound Book",null,"978-1-5382-4281-0",{"$f":"HYPERLINK(Table1[[#This Row],[eCommerce Hyperlink]],\"Book Weblink\")","v":"Book Weblink"},null,"2020","August 2019","Library","8.000 X 10.00","Author, Author","Jon Richards, Ed Simkins",null,null,null,null,"S",null,"Grade 4 - 5","Grade 4 - 6","It is estimated that there are over 400 thousand different kinds of plants on earth. People use plants in all sorts of different ways: for decoration, food, medicine, and even as a source of the oxygen we breathe. This book presents diverse plants in beautiful infographics, which are supplemented by icons and graphs. Simple language helps readers appreciate where certain plants grow and under what conditions, from the recognizable apple tree to the exotic Venus fly trap.","English",27.6,20.7,"581--dc23","32 pp.","https://www.garethstevens.com/9781538242810",null,{"$f":"Table1[[#This Row],[QTY]]*Table1[[#This Row],['# Books]]","v":0},{"$f":"Table1[[#This Row],[QTY]]*Table1[[#This Row],[S&L Price]]","v":0}]
[null,null,72,"The Science of Optical Illusions",1,"Movers and Shakers\t","Library Bound Book",null,"978-1-5382-4186-8",{"$f":"HYPERLINK(Table1[[#This Row],[eCommerce Hyperlink]],\"Book Weblink\")","v":"Book Weblink"},null,"2020","August 2019","Library","8.500 X 11.00","Author","Anna Claybourne",null,null,null,null,"T",null,"Grade 4 - 5","Grade 4 - 6","Something that's been printed on paper can't possibly be able to move, right? Because of how our brain works, though, it's possible to create images that seem to move or shake. On every page of this book, readers can test out different optical illusions while learning how they work. Facts boxes add mind-boggling details about how the human brain deals with certain kinds of art, images, and see the world around us to create optical illusions. With fun ways to incorporate many aspects of STEAM, this book will leave readers dizzy with delight.","English",27.6,20.7,"152.14'8--dc23","32 pp.","https://www.garethstevens.com/9781538241868",null,{"$f":"Table1[[#This Row],[QTY]]*Table1[[#This Row],['# Books]]","v":0},{"$f":"Table1[[#This Row],[QTY]]*Table1[[#This Row],[S&L Price]]","v":0}]
[null,null,72,"Totally Toxic",4,"Totally Toxic","Library Set",null,"978-1-5382-3598-0",{"$f":"HYPERLINK(Table1[[#This Row],[eCommerce Hyperlink]],\"Book Weblink\")","v":"Book Weblink"},null,"2019","January 2019","Library","7.250 X 9.250",null,null,null,null,null,null,null,null,"Grade 4 - 5","Grade 4 - 6","Humans have only lived on Earth for approximately 200,000 years, yet we have created quite a dent in the well-being of the planet. Toxins have found their way into every aspect of our environment, from the water we drink to the air we breathe. In this edgy series, readers are asked to face the truth about the ongoing damage that is being done by people on a corporate, private, and individual scale. These unique volumes invigorate the budding environmental activist with in-depth information and close-up looks at the repercussions of toxins on Earth. Features include: High-interest subject matter will appeal to readers of several levels. Supports the Next Generation Science Standards by challenging students to investigate, question, and analyze data provided by specific case studies. Each book encourages readers to conduct their own scientific investigation with a hands-on activity in the final spread.","English",131.80000000000001,98.8,null,"48 pp.","https://www.garethstevens.com/9781538235980",null,{"$f":"Table1[[#This Row],[QTY]]*Table1[[#This Row],['# Books]]","v":0},{"$f":"Table1[[#This Row],[QTY]]*Table1[[#This Row],[S&L Price]]","v":0}]
[null,null,72,"Totally Toxic",1,"Poisoned Rivers and Lakes","Library Bound Book",null,"978-1-5382-3501-0",{"$f":"HYPERLINK(Table1[[#This Row],[eCommerce Hyperlink]],\"Book Weblink\")","v":"Book Weblink"},null,"2019","January 2019","Library","7.250 X 9.250","Author","Honor Head","7.4","1",null,null,"T",null,"Grade 4 - 5","Grade 4 - 6","We need the fresh water found in rivers, lakes, and streams to survive, to drink, for sanitation, to help food grow, as power, and for recreation. How did our small supply of fresh water get so polluted? What are the biggest threats to the safety of our freshwater, and why? Complex biology, earth science, and chemistry are all presented to the reader in a way that is both age-appropriate and exciting. This book is an intersection between environmental science and environmental responsibility that empowers readers to learn more, think more, and do more.","English",32.950000000000003,24.7,"363.739'4--dc23","48 pp.","https://www.garethstevens.com/9781538235010",null,{"$f":"Table1[[#This Row],[QTY]]*Table1[[#This Row],['# Books]]","v":0},{"$f":"Table1[[#This Row],[QTY]]*Table1[[#This Row],[S&L Price]]","v":0}]
[null,null,72,"Totally Toxic",1,"Poisoned Wetlands","eBook",null,"978-1-5382-3499-0",{"$f":"HYPERLINK(Table1[[#This Row],[eCommerce Hyperlink]],\"Book Weblink\")","v":"Book Weblink"},null,"2019","January 2019",null,null,"Author","Honor Head","7.4","1",null,null,"T",null,"Grade 4 - 5","Grade 4 - 6","Earth's wetlands are crucially important land areas that can easily get overlooked when talking about bodies of water. Wetlands hold some of the most concentrated biodiversity of any ecosystem and act as a filter to help keep our water clean. This book explores the danger facing our wetlands, and what is at stake if we do not reverse the damage. The final spread gives readers the chance to conduct their own environmental investigation with guidelines on how to observe, monitor, and analyze the health of a wetland area. This volume introduces an important part of our ecosystem to the reader's attention and inspires scientists of all levels to take action.","English",32.950000000000003,24.7,"577.68--dc23","48 pp.","https://www.garethstevens.com/9781538234990",null,{"$f":"Table1[[#This Row],[QTY]]*Table1[[#This Row],['# Books]]","v":0},{"$f":"Table1[[#This Row],[QTY]]*Table1[[#This Row],[S&L Price]]","v":0}]
[null,null,72,"Ultimate Science Lab",1,"Experiments with Movement","eBook",null,"978-1-5382-3545-4",{"$f":"HYPERLINK(Table1[[#This Row],[eCommerce Hyperlink]],\"Book Weblink\")","v":"Book Weblink"},null,"2019","January 2019",null,null,"Author","Anna Claybourne",null,null,null,null,"S",null,"Grade 4 - 5","Grade 4 - 6","Hands-on experiments are an excellent way to get to know how different scientific concepts work. In this engaging book, readers learn all about movement by following along with step-by-step instructions and completing fun, informative activities. Each project is ranked from easy to hard so readers can effortlessly find the project best suited for them. Colorful illustrations supplement each experiment and correlate closely to the text, helping to guide readers through each of the steps. This captivating collection of high-interest projects is sure to be a popular addition to any library or classroom.","English",27.6,20.7,"531'.11078--dc23","32 pp.","https://www.garethstevens.com/9781538235454",null,{"$f":"Table1[[#This Row],[QTY]]*Table1[[#This Row],['# Books]]","v":0},{"$f":"Table1[[#This Row],[QTY]]*Table1[[#This Row],[S&L Price]]","v":0}]
[null,null,72,"Ultimate Science Lab",1,"Noisy Experiments","Library Bound Book",null,"978-1-5382-3532-4",{"$f":"HYPERLINK(Table1[[#This Row],[eCommerce Hyperlink]],\"Book Weblink\")","v":"Book Weblink"},null,"2019","January 2019","Library","8.500 X 11.00","Author","Anna Claybourne",null,null,null,null,"S",null,"Grade 4 - 5","Grade 4 - 6","Sometimes in life things are bound to get noisy, and if that's the case, why not learn from them? With the help of this informative book, readers perform exciting experiments and learn why and how certain items make certain sounds. Accessible step-by-step instructions correlate closely with eye-popping illustrations, ensuring readers of many ages and levels can follow along with these amazing activities. Each exciting project encourages readers to use their critical thinking skills and draw conclusions based on the experiments they perform.","English",27.6,20.7,"534.078--dc23","32 pp.","https://www.garethstevens.com/9781538235324",null,{"$f":"Table1[[#This Row],[QTY]]*Table1[[#This Row],['# Books]]","v":0},{"$f":"Table1[[#This Row],[QTY]]*Table1[[#This Row],[S&L Price]]","v":0}]
[null,null,73,"Count with Me",1,"Counting with Fairies","Library Bound Book",null,"978-1-5382-8176-5",null,null,"2023","August 2022","Library","8.500 X 8.500","Author, Illustrated by","Robin Twiddy, Amy Li",null,null,null,null,"D",null,"Grade 1","Grade K - 2","Ten fairies arrive at the park, ready to grant children wishes! That’s the magical, high-interest premise of this lively and lovely counting book. As readers count along with the inviting narration, they’ll learn new vocabulary with the help of text-supporting illustrations. The amusing story, as well as the rhythm and rhyme of the text, is a motivating way to provide opportunities for number practice and assessments of reading and math skills at an early level.","English",23.6,17.7,"513.2’11--dc23","24 pp.","https://www.garethstevens.com/9781538281765",null,{"$f":"Table1[[#This Row],[QTY]]*Table1[[#This Row],['# Books]]","v":0},{"$f":"Table1[[#This Row],[QTY]]*Table1[[#This Row],[S&L Price]]","v":0}]
[null,null,73,"Count with Me",1,"Counting with Monsters","Library Bound Book",null,"978-1-5382-8180-2",null,null,"2023","August 2022","Library","8.500 X 8.500","Author, Illustrated by","Madeline Tyler, Amy Li",null,null,null,null,"D",null,"Grade 1","Grade K - 2","Even monsters have to go to bed! That’s the charming premise of this math-oriented story. Readers will exercise their knowledge of numbers as they follow along with the easy-to-understand text. They’ll read how these ten silly monsters need to brush their colorful spots, scrub their stinky feet, and tuck in their not-so-terrible tails as they get ready to snooze. Each page offers a chance to practice counting, while learning what these cute characters have to do next. A concluding question offers an opportunity for assessment.","English",23.6,17.7,"513.2’11--dc23","24 pp.","https://www.garethstevens.com/9781538281802",null,{"$f":"Table1[[#This Row],[QTY]]*Table1[[#This Row],['# Books]]","v":0},{"$f":"Table1[[#This Row],[QTY]]*Table1[[#This Row],[S&L Price]]","v":0}]
[null,null,73,"Count with Me",1,"Counting with Superheroes","eBook",null,"978-1-5382-8185-7",null,null,"2023","August 2022",null,null,"Author, Illustrated by","John Wood, Amy Li",null,null,null,null,"D",null,"Grade 1","Grade K - 2","Superheroes—and math—to the rescue! Young readers are introduced to ten heroes with extraordinary powers to match the many dangers they face in this exciting volume, such as three scary snowmen, eight trapdoors, and ten threatening storm clouds. While they're engrossed by the high-interest topic, they’ll practice counting in each number-oriented rescue situation. Sentences are carefully crafted at the emerging reader’s level, while the colorful illustrations provide support for vocabulary acquisition.","English",23.6,17.7,"513.2’11--dc23","24 pp.","https://www.garethstevens.com/9781538281857","http://www.epointplus.com/embed/9781538281857/?login=cyberrep&password=cyberrep",{"$f":"Table1[[#This Row],[QTY]]*Table1[[#This Row],['# Books]]","v":0},{"$f":"Table1[[#This Row],[QTY]]*Table1[[#This Row],[S&L Price]]","v":0}]
[null,null,74,"Math Adventure Stories",1,"The Mysterious City of El Numero","Library Bound Book",null,"978-1-5382-5277-2",{"$f":"HYPERLINK(Table1[[#This Row],[eCommerce Hyperlink]],\"Book Weblink\")","v":"Book Weblink"},null,"2021","August 2020","Library","8.500 X 11.00","Author, Illustrated by","William Potter, Rayanne Vieira",null,null,null,null,"O",null,"Grade 3 - 4","Grade 3 - 6","Daisy and Dale's father, adventurer Darren Deed, has gone missing during a mission to South America. After the kids receive a mysterious package in the mail, clues unravel that might lead to his whereabouts. He's possibly in the mysterious city of El Numero. Daisy and Dale need readers' help, and math skills, as they attempt to rescue their father. This clever volume seamlessly combines an exciting adventure story with need-to-know math concepts and is packed with appealing illustrations. After solving problems in this fantasy world, readers will find themselves making more math connections in their own lives.","English",27.6,20.7,"793.74--dc23","32 pp.","https://www.garethstevens.com/9781538252772",null,{"$f":"Table1[[#This Row],[QTY]]*Table1[[#This Row],['# Books]]","v":0},{"$f":"Table1[[#This Row],[QTY]]*Table1[[#This Row],[S&L Price]]","v":0}]
[null,null,75,"Monsters Do Math!",12,"Monsters Do Math!: Sets 1 – 2","Library Set",null,"978-1-5382-5987-0",{"$f":"HYPERLINK(Table1[[#This Row],[eCommerce Hyperlink]],\"Book Weblink\")","v":"Book Weblink"},null,"2021","August 2020","Library","8.500 X 8.500",null,null,null,null,null,null,null,null,"Grade 2 - 3","Grade 2 - 5","Most people use math all the time, from adding dollar bills to pay for a movie to dividing up a cake into slices, but what do monsters think of math? This engaging, fun approach to the math curriculum reinforces the addition, subtraction, and word problem skills that readers learn in class. Colorful zombies, banshees, ogres, and werewolves offer readers math tips throughout the books. Fact boxes full of engaging and sometimes scary monster information make this set a must-have for monster aficionados as well as future mathematicians. Features include: Hand-drawn, original illustrations. High-interest approach that attracts struggling learners and readers. Math questions within the texts allow readers to apply what they've learned and check their work with answer keys.","English",283.2,212.4,null,"24 pp.","https://www.garethstevens.com/9781538259870",null,{"$f":"Table1[[#This Row],[QTY]]*Table1[[#This Row],['# Books]]","v":0},{"$f":"Table1[[#This Row],[QTY]]*Table1[[#This Row],[S&L Price]]","v":0}]
[null,null,75,"Monsters Do Math!",1,"Dragons Dig for Data!","Library Bound Book",null,"978-1-5382-5725-8",{"$f":"HYPERLINK(Table1[[#This Row],[eCommerce Hyperlink]],\"Book Weblink\")","v":"Book Weblink"},null,"2021","August 2020","Library","8.500 X 8.500","Author","Therese M. Shea",null,null,null,null,"L",null,"Grade 2 - 3","Grade 2 - 5","Math is all about data. It's essential to understand the questions it can answer for you and how to gather it. Readers will be especially interested to learn what a dragon does with data in the entertaining pages of this unique book. The narrative engagingly instructs on building math skills while sharing details about the mythology of these dreaded beasts. Stellar illustrations capture the imagination. Readers will be able to assess their understanding of the math concepts through word problems and other questions throughout the text.","English",23.6,17.7,"507.2'1--dc23","24 pp.","https://www.garethstevens.com/9781538257258",null,{"$f":"Table1[[#This Row],[QTY]]*Table1[[#This Row],['# Books]]","v":0},{"$f":"Table1[[#This Row],[QTY]]*Table1[[#This Row],[S&L Price]]","v":0}]
[null,null,75,"Monsters Do Math!",1,"The Loch Ness Monster Loves to Measure!","Library Bound Book",null,"978-1-5382-5733-3",{"$f":"HYPERLINK(Table1[[#This Row],[eCommerce Hyperlink]],\"Book Weblink\")","v":"Book Weblink"},null,"2021","August 2020","Library","8.500 X 8.500","Author","Therese M. Shea",null,null,null,null,"L",null,"Grade 2 - 3","Grade 2 - 5","Learning to measure using different units as well as different measuring tools is essential for budding mathematicians and scientists. Vital measurement concepts are introduced in this vibrant volume featuring the elusive Loch Ness monster. Yes, \"Nessie\" has come to the surface to guide readers in learning tips and tricks to become measurement experts. Amusement and education collide on these bright pages, which provide loads of math information, quiz questions, and fascinating lore about the Loch Ness monster.","English",23.6,17.7,"530.8--dc23","24 pp.","https://www.garethstevens.com/9781538257333",null,{"$f":"Table1[[#This Row],[QTY]]*Table1[[#This Row],['# Books]]","v":0},{"$f":"Table1[[#This Row],[QTY]]*Table1[[#This Row],[S&L Price]]","v":0}]
[null,null,75,"Monsters Do Math!",1,"Mummies Multiply!","eBook",null,"978-1-5382-3075-6",{"$f":"HYPERLINK(Table1[[#This Row],[eCommerce Hyperlink]],\"Book Weblink\")","v":"Book Weblink"},null,"2019","January 2019",null,null,"Author","Therese M. Shea",null,null,null,null,"L",null,"Grade 2 - 3","Grade 2 - 5","Archaeologists have discovered an ancient tomb. They pry open a passage and out comes a mummy. But it is not just a mummy, it's a multiplying mummy! This entertaining yet educational volume uses beautifully illustrated mummies to teach young mathematicians about the fundamentals of multiplication, including skills highlighted in the Common Core. They'll also learn fun facts about mummies of ancient Egypt and other cultures. History and math collide in this \"must have\" for every elementary library collection or classroom.","English",23.6,17.7,"513.2'13--dc23","24 pp.","https://www.garethstevens.com/9781538230756",null,{"$f":"Table1[[#This Row],[QTY]]*Table1[[#This Row],['# Books]]","v":0},{"$f":"Table1[[#This Row],[QTY]]*Table1[[#This Row],[S&L Price]]","v":0}]
[null,null,75,"Monsters Do Math!",1,"Werewolves Do Word Problems!","Library Bound Book",null,"978-1-5382-2936-1",{"$f":"HYPERLINK(Table1[[#This Row],[eCommerce Hyperlink]],\"Book Weblink\")","v":"Book Weblink"},null,"2019","January 2019","Library","8.500 X 8.500","Author","Therese M. Shea",null,null,null,null,"K",null,"Grade 2 - 3","Grade 2 - 5","It's a full moon. Watch out for werewolves, and word problems?! In this fun take on traditional math books, werewolves are the instructors as well as models to help readers learn about one- and two-step word problems, an important standard of the Common Core. Delightful illustrations help young mathematicians master how to set up and solve equations, while fascinating fact boxes supply information about the famous fantasy creatures in this fun, high-interest volume.","English",23.6,17.7,"510.76--dc23","24 pp.","https://www.garethstevens.com/9781538229361",null,{"$f":"Table1[[#This Row],[QTY]]*Table1[[#This Row],['# Books]]","v":0},{"$f":"Table1[[#This Row],[QTY]]*Table1[[#This Row],[S&L Price]]","v":0}]
[null,null,76,"What Do You Think?",1,"Are Some Sports Unsafe for Kids?","Library Bound Book",null,"978-1-5382-7865-9",null,null,"2023","August 2022","Library","8.500 X 8.500","Author","Raymie Davis",null,null,null,null,"M",null,"Grade 2 - 3","Grade 2 - 5","Sports are fun activities that help kids get outside, exercise, and learn to work together on a team. But they can also cause serious injuries such as concussions and broken bones. Some people argue sports are essential to a healthy childhood, while others say that avoiding certain sports can keep kids safe. This hot topic is examined from both sides in this book. Readers will look at arguments for and against certain sports. Fact boxes and a graphic organizer provide information in a clear way. Readers will hone their skills of critical thinking with this important topic.","English",23.6,17.7,"796.083--dc23","24 pp.","https://www.garethstevens.com/9781538278659",null,{"$f":"Table1[[#This Row],[QTY]]*Table1[[#This Row],['# Books]]","v":0},{"$f":"Table1[[#This Row],[QTY]]*Table1[[#This Row],[S&L Price]]","v":0}]
[null,null,76,"What Do You Think?",1,"Should Students Wear Uniforms?","eBook",null,"978-1-5382-7874-1",null,null,"2023","August 2022",null,null,"Author","Raymie Davis",null,null,null,null,"M",null,"Grade 2 - 3","Grade 2 - 5","What a person wears is a major part of their identity. That makes the issue of school uniforms an important topic that will resonate with young people. Some people think that school uniforms help create a feeling of equality and get rid of distractions. Other people think that students should be able to express themselves through their chosen clothing at school. Readers will look at different arguments for and against the use of school uniforms. Through accessible text, fact boxes, and a graphic organizer, readers will have the tools they need to hone their critical thinking skills with a relatable topic.","English",23.6,17.7,"371.8--dc23","24 pp.","https://www.garethstevens.com/9781538278741","http://www.epointplus.com/embed/9781538278741/?login=cyberrep&password=cyberrep",{"$f":"Table1[[#This Row],[QTY]]*Table1[[#This Row],['# Books]]","v":0},{"$f":"Table1[[#This Row],[QTY]]*Table1[[#This Row],[S&L Price]]","v":0}]
[null,null,76,"What Do You Think?",1,"What Should We Do About Homelessness?","eBook",null,"978-1-5382-7886-4",null,null,"2023","August 2022",null,null,"Author","Raymie Davis",null,null,null,null,"M",null,"Grade 2 - 3","Grade 2 - 5","Homelessness is an issue that affects people all around the world, including many children. But how can we help people experiencing homelessness? This book introduces arguments for different approaches to dealing with the issue of homelessness. Readers will learn the common reasons behind homelessness and how different solutions may help. Readers will be able to create an informed opinion through examining arguments, reading fact boxes, and exploring a graphic organizer. This important topic allows readers to apply critical thinking skills to a real-world situation.","English",23.6,17.7,"362.5/92--dc23","24 pp.","https://www.garethstevens.com/9781538278864","http://www.epointplus.com/embed/9781538278864/?login=cyberrep&password=cyberrep",{"$f":"Table1[[#This Row],[QTY]]*Table1[[#This Row],['# Books]]","v":0},{"$f":"Table1[[#This Row],[QTY]]*Table1[[#This Row],[S&L Price]]","v":0}]
[null,null,77,"The Constitution Explained!",6,"The Constitution Explained!","Library Set",null,"978-1-5382-5975-7",{"$f":"HYPERLINK(Table1[[#This Row],[eCommerce Hyperlink]],\"Book Weblink\")","v":"Book Weblink"},null,"2021","August 2020","Library","6.500 X 9.125",null,null,null,null,null,null,null,null,"Grade 4 - 5","Grade 4 - 6","The U.S. Constitution is the backbone of the nation. This written document details how the American government works as well as the powers that each branch wields. The oldest written constitution still in use, the Constitution has only been amended 27 times since 1789, with the Bill of Rights and other amendments that further define the liberties of American citizens. This essential set defines and presents the Constitution in comprehensible parts and connects it to the lives of everyday Americans. A must for every social studies class and library, readers will learn more about the nation's framework and why the Constitution will continue to be its vital foundation. Features include: Complex language of the Constitution is explained in an accessible way. Connections to modern events make the topics relevant to readers' lives. Supports both history and government curricular content in elementary classrooms. Historical images and an appealing design attract young historians.","English",165.6,124.2,null,"32 pp.","https://www.garethstevens.com/9781538259757",null,{"$f":"Table1[[#This Row],[QTY]]*Table1[[#This Row],['# Books]]","v":0},{"$f":"Table1[[#This Row],[QTY]]*Table1[[#This Row],[S&L Price]]","v":0}]
[null,null,77,"The Constitution Explained!",1,"The Bill of Rights: Guaranteeing Liberty","eBook",null,"978-1-5382-5869-9",{"$f":"HYPERLINK(Table1[[#This Row],[eCommerce Hyperlink]],\"Book Weblink\")","v":"Book Weblink"},null,"2021","August 2020",null,null,"Author","Janey Levy",null,null,null,null,"U",null,"Grade 4 - 5","Grade 4 - 6","The Bill of Rights is an exceptionally important part of the Constitution. Not only does the Bill of Rights guarantee individual liberties and place limits on government powers, but without the addition of this section, the Constitution itself might never have been approved. This absorbing volume discusses the Bill of Rights and how it came to be, the language of each amendment, and how amendments have been interpreted. Intriguing controversies surrounding some of the amendments are explained. Sidebars, fact boxes, and graphic organizers enrich the learning experience.","English",27.6,20.7,"342.7303--dc23","32 pp.","https://www.garethstevens.com/9781538258699",null,{"$f":"Table1[[#This Row],[QTY]]*Table1[[#This Row],['# Books]]","v":0},{"$f":"Table1[[#This Row],[QTY]]*Table1[[#This Row],[S&L Price]]","v":0}]
[null,null,77,"The Constitution Explained!",1,"The Constitution's Last Four Articles: From States' Rights to Amendments","Library Bound Book",null,"978-1-5382-5864-4",{"$f":"HYPERLINK(Table1[[#This Row],[eCommerce Hyperlink]],\"Book Weblink\")","v":"Book Weblink"},null,"2021","August 2020","Library","6.500 X 9.125","Author","Sarah Machajewski",null,null,null,null,"U",null,"Grade 4 - 5","Grade 4 - 6","The U.S. Constitution famously opens with \"We the people.\" What about the rest of it? This valuable volume takes readers on a deep dive into the Constitution and its last four articles. Covering Articles IV to VI, the accessible narrative explains important concepts like states' rights, amendments, laws and treaties, and the process for ratification. Written to support elementary social studies curricula, readers will be at ease with the age-appropriate language, helpful images, and high-impact features such as sidebars, fact boxes, and graphic organizers.","English",27.6,20.7,"342.7302/9--dc23","32 pp.","https://www.garethstevens.com/9781538258644",null,{"$f":"Table1[[#This Row],[QTY]]*Table1[[#This Row],['# Books]]","v":0},{"$f":"Table1[[#This Row],[QTY]]*Table1[[#This Row],[S&L Price]]","v":0}]
[null,33,77,"U.S. Government Q & A!",1,"How Are New States Added?","eBook",null,"978-1-5382-6420-1",{"$f":"HYPERLINK(Table1[[#This Row],[eCommerce Hyperlink]],\"Book Weblink\")","v":"Book Weblink"},null,"2022","August 2021",null,null,"Author","Ben Schaefer",null,null,null,null,"M",null,"Grade 2 - 3","Grade 2 - 5","For more than 60 years, there have been 50 states in the United States of America, and 50 stars on the American flag, but it wasn't always that way. The United States started with only 13 states. Young readers will learn about how America grew from 13 to 50 states in the nearly 250 years since the country's founding. This book answers questions about the process of adding new states and how a territory can apply to be a state. Cool facts about some of the more recently added states will intrigue readers.","English",23.6,17.7,"973","24 pp.","https://www.garethstevens.com/9781538264201",null,{"$f":"Table1[[#This Row],[QTY]]*Table1[[#This Row],['# Books]]","v":0},{"$f":"Table1[[#This Row],[QTY]]*Table1[[#This Row],[S&L Price]]","v":0}]
[null,33,77,"U.S. Government Q & A!",1,"What Are Checks and Balances?","eBook",null,"978-1-5382-6424-9",{"$f":"HYPERLINK(Table1[[#This Row],[eCommerce Hyperlink]],\"Book Weblink\")","v":"Book Weblink"},null,"2022","August 2021",null,null,"Author","Michael Rajczak",null,null,null,null,"M",null,"Grade 2 - 3","Grade 2 - 5","America had just won their war for Independence. It was time to set up a brand-new government. They knew they did not want to put too much power into the hands of one leader. Instead, they created three equal branches of government: the executive branch, the legislative branch, and the judicial branch. How could this new government make sure that one branch didn't gain too much power? Readers explore how the system of checks and balances works with examples of each type of check and balance. Additional information is presented in an easily understood graphic organizer.","English",23.6,17.7,"320.473","24 pp.","https://www.garethstevens.com/9781538264249",null,{"$f":"Table1[[#This Row],[QTY]]*Table1[[#This Row],['# Books]]","v":0},{"$f":"Table1[[#This Row],[QTY]]*Table1[[#This Row],[S&L Price]]","v":0}]
[null,33,77,"U.S. Government Q & A!",1,"Why Does Congress Have Two Houses?","Library Bound Book",null,"978-1-5382-6435-5",{"$f":"HYPERLINK(Table1[[#This Row],[eCommerce Hyperlink]],\"Book Weblink\")","v":"Book Weblink"},null,"2022","August 2021","Library","8.500 X 8.500","Author","Julia McDonnell",null,null,null,null,"M",null,"Grade 2 - 3","Grade 2 - 5","When the framers of the Constitution were creating a new government, representation was an issue near and dear to their patriotic hearts. After all, \"No Taxation Without Representation\" was a reason they'd just fought with Britain. They decided on a legislative branch with two houses, each with its own powers and limitations. Why did they choose this system? Which famous figures battled over this bicameral vision? Over 200 years later, how has it changed, and does it still fulfill their expectations? Historical data, fun facts, and quotes from important Americans teach students about the law-making branch of government.","English",23.6,17.7,"328.73","24 pp.","https://www.garethstevens.com/9781538264355",null,{"$f":"Table1[[#This Row],[QTY]]*Table1[[#This Row],['# Books]]","v":0},{"$f":"Table1[[#This Row],[QTY]]*Table1[[#This Row],[S&L Price]]","v":0}]
[null,34,78,"That's Ancient!",1,"The Advances of Ancient Mesopotamia","Library Bound Book",null,"978-1-5382-6563-5",{"$f":"HYPERLINK(Table1[[#This Row],[eCommerce Hyperlink]],\"Book Weblink\")","v":"Book Weblink"},null,"2022","January 2022","Library","6.500 X 9.125","Author","Janey Levy",null,null,null,null,"T",null,"Grade 4 - 5","Grade 4 - 6","The very name Mesopotamia is evocative. This land, whose name means \"between two rivers,\" is also known as the Fertile Crescent. It's the Cradle of Civilization. Cities grew here. Agriculture was established. Writing was invented. But the cultures of Mesopotamia left the world many more inventions. Readers will be spellbound as they discover the extraordinary accomplishments of Mesopotamian cultures. Extensively researched text covers important social studies concepts. Fact boxes, sidebars, and graphic organizers enhance this trip into the exotic past.","English",27.6,20.7,"935--dc23","32 pp.","https://www.garethstevens.com/9781538265635",null,{"$f":"Table1[[#This Row],[QTY]]*Table1[[#This Row],['# Books]]","v":0},{"$f":"Table1[[#This Row],[QTY]]*Table1[[#This Row],[S&L Price]]","v":0}]
[null,34,78,"That's Ancient!",1,"The Innovations of the Ancient Americas","eBook",null,"978-1-5382-6576-5",{"$f":"HYPERLINK(Table1[[#This Row],[eCommerce Hyperlink]],\"Book Weblink\")","v":"Book Weblink"},{"$f":"HYPERLINK(Table1[[#This Row],[EPP Hyperlink]],\"EPP Weblink\")","v":"EPP Weblink"},"2022","January 2022",null,null,"Author","Janey Levy",null,null,null,null,"T",null,"Grade 4 - 5","Grade 4 - 6","Thousands of years before Europeans reached the shores of the Americas, the ancestors of the Americas' native peoples arrived. These early people gave rise to great civilizations with a remarkable list of achievements. These accomplishments range from the birchbark canoe to the first organized game in the history of sports. This engrossing volume will fascinate readers as they discover the achievements of the ancient Americans. Thoroughly researched content highlights important social studies concepts. Thrilling images, fact boxes, sidebars, and graphic organizers support the narrative.","English",27.6,20.7,"970.01/1--dc23","32 pp.","https://www.garethstevens.com/9781538265765","http://www.epointplus.com/embed/9781538265765/?login=cyberrep&password=cyberrep",{"$f":"Table1[[#This Row],[QTY]]*Table1[[#This Row],['# Books]]","v":0},{"$f":"Table1[[#This Row],[QTY]]*Table1[[#This Row],[S&L Price]]","v":0}]
[null,null,79,"History Just Before You Were Born",6,"History Just Before You Were Born","Library Set",null,"978-1-5382-3031-2",{"$f":"HYPERLINK(Table1[[#This Row],[eCommerce Hyperlink]],\"Book Weblink\")","v":"Book Weblink"},null,"2019","January 2019","Library","6.500 X 9.125",null,null,null,null,null,null,null,null,"Grade 4 - 5","Grade 4 - 6","Certain seminal events of recent history have sent out shockwaves that are still reverberating throughout our lives. September 11, Hurricane Katrina, and the AIDS crisis are a few of these life-changing occurrences. Readers of these meticulously researched volumes will learn about the fascinating story of each event and its consequences, particularly the effects we see in our everyday lives. The stunning design includes historical photographs as well as timelines that summarize essential points of information. This impressive series fills in the gaps in social studies texts, making it an indispensable part of every history collection. Features include: Historical and scientific information is woven into the text. Sidebars and fact boxes offer additional data and contribute to the eye-catching layout. Comprehending the relationships between individuals and events in informational texts is a key idea of the English Language Arts Common Core.","English",165.6,124.2,null,"32 pp.","https://www.garethstevens.com/9781538230312",null,{"$f":"Table1[[#This Row],[QTY]]*Table1[[#This Row],['# Books]]","v":0},{"$f":"Table1[[#This Row],[QTY]]*Table1[[#This Row],[S&L Price]]","v":0}]
[null,null,79,"History Just Before You Were Born",1,"The AIDS Crisis","Library Bound Book",null,"978-1-5382-3025-1",{"$f":"HYPERLINK(Table1[[#This Row],[eCommerce Hyperlink]],\"Book Weblink\")","v":"Book Weblink"},null,"2019","January 2019","Library","6.500 X 9.125","Author","Katie Kawa","6.8","1",null,null,"T",null,"Grade 4 - 5","Grade 4 - 6","Acquired immune deficiency syndrome, commonly known as AIDS, has claimed millions of lives. How did this epidemic begin? How did it change life in the United States and around the world? Readers discover the answers to these and other important questions as they examine this tragic development in history and its continued global effects. Age-appropriate text presents essential information in a sensitive manner, and additional details are provided in sidebars and fact boxes. Vivid photographs and graphic organizers complement the text, and a detailed timeline summarizes this comprehensive look at a medical crisis that changed the world.","English",27.6,20.7,"362.19697/92--dc23","32 pp.","https://www.garethstevens.com/9781538230251",null,{"$f":"Table1[[#This Row],[QTY]]*Table1[[#This Row],['# Books]]","v":0},{"$f":"Table1[[#This Row],[QTY]]*Table1[[#This Row],[S&L Price]]","v":0}]
[null,null,79,"History Just Before You Were Born",1,"The Human Genome Project","Library Bound Book",null,"978-1-5382-3028-2",{"$f":"HYPERLINK(Table1[[#This Row],[eCommerce Hyperlink]],\"Book Weblink\")","v":"Book Weblink"},null,"2019","January 2019","Library","6.500 X 9.125","Author","Janey Levy","7.1","1",null,null,"T",null,"Grade 4 - 5","Grade 4 - 6","The Human Genome Project was a groundbreaking, life-altering development of the late 20th century and a major evolution in science and medicine. Readers of this remarkable volume will follow the scientists of the international, collaborative research program as they map the human genome. They'll learn about the science behind the project as well as the scientific and medical possibilities opened by it. Vivid photographs support the fascinating text, and sidebars, fact boxes, and captions enrich your reader's experience.","English",27.6,20.7,"611/.0181663--dc23","32 pp.","https://www.garethstevens.com/9781538230282",null,{"$f":"Table1[[#This Row],[QTY]]*Table1[[#This Row],['# Books]]","v":0},{"$f":"Table1[[#This Row],[QTY]]*Table1[[#This Row],[S&L Price]]","v":0}]
[null,null,79,"History on the High Seas",1,"Aboard the Amistad","Library Bound Book",null,"978-1-5382-3792-2",{"$f":"HYPERLINK(Table1[[#This Row],[eCommerce Hyperlink]],\"Book Weblink\")","v":"Book Weblink"},null,"2020","August 2019","Library","8.500 X 8.500","Author","Caitie McAneney","5.1","0.5",null,null,"M",null,"Grade 2 - 3","Grade 2 - 5","The mutiny that raged aboard the Amistad made it one of the most famous ships in history. The vessel was a product of a dying slave trade, and the events on board were a testament to the strength of its captives who fought for their freedom. Through riveting facts, striking artwork, and a fictional account of the happenings, readers will learn of the horrors of the slave trade and the bloody revolt that happened aboard.","English",23.6,17.7,"326.097309034--dc23","24 pp.","https://www.garethstevens.com/9781538237922",null,{"$f":"Table1[[#This Row],[QTY]]*Table1[[#This Row],['# Books]]","v":0},{"$f":"Table1[[#This Row],[QTY]]*Table1[[#This Row],[S&L Price]]","v":0}]
[null,null,79,"History on the High Seas",1,"Aboard the Santa María","eBook",null,"978-1-5382-3801-1",{"$f":"HYPERLINK(Table1[[#This Row],[eCommerce Hyperlink]],\"Book Weblink\")","v":"Book Weblink"},null,"2020","August 2019",null,null,"Author","Kate Mikoley","4.3","0.5",null,null,"M",null,"Grade 2 - 3","Grade 2 - 5","The Santa Maria may not have been the only ship Christopher Columbus used on his explorations, but it was by far the biggest. Readers of this high-interest volume will learn all about the flagship, from its journey across the sea to its fateful ending off the coast of Haiti. Engaging fictional narratives give readers an idea of what life would have been like for those on board. Colorful photographs and accessible text provide insight into the historical journey of this famous vessel.","English",23.6,17.7,"970.01/5092--dc23","24 pp.","https://www.garethstevens.com/9781538238011",null,{"$f":"Table1[[#This Row],[QTY]]*Table1[[#This Row],['# Books]]","v":0},{"$f":"Table1[[#This Row],[QTY]]*Table1[[#This Row],[S&L Price]]","v":0}]
[null,null,79,"Journey to the Past: Investigating Primary Sources",6,"Journey to the Past: Investigating Primary Sources","Library Set",null,"978-1-5382-4164-6",{"$f":"HYPERLINK(Table1[[#This Row],[eCommerce Hyperlink]],\"Book Weblink\")","v":"Book Weblink"},null,"2020","August 2019","Library","6.500 X 9.125",null,null,null,null,null,null,null,null,"Grade 4 - 5","Grade 4 - 6","From the revolutionary era to today, there is so much for readers to learn and understand about primary sources, including how they've changed over time. From diaries to statues, primary sources provide invaluable information, however, they take skill to analyze. This set guides readers through the analysis of a single kind of primary source throughout American history. The main text provides historical context for each source as well as highlights how information is gathered through labeled photographs and classroom-supporting research techniques. This unique set gives readers a new perspective about how history is studied and made today. Features include: At least seven primary sources, both historical and modern. Encourages media literacy and an understanding of bias. Asks readers questions about each primary source for further analysis.","English",165.6,124.2,null,"32 pp.","https://www.garethstevens.com/9781538241646",null,{"$f":"Table1[[#This Row],[QTY]]*Table1[[#This Row],['# Books]]","v":0},{"$f":"Table1[[#This Row],[QTY]]*Table1[[#This Row],[S&L Price]]","v":0}]
[null,null,79,"Journey to the Past: Investigating Primary Sources",1,"Diaries and Autobiographies Throughout American History","Library Bound Book",null,"978-1-5382-4036-6",{"$f":"HYPERLINK(Table1[[#This Row],[eCommerce Hyperlink]],\"Book Weblink\")","v":"Book Weblink"},null,"2020","August 2019","Library","6.500 X 9.125","Author","Abby Badach Doyle",null,null,null,null,"S",null,"Grade 4 - 5","Grade 4 - 6","To many people, a diary is like a trusted friend and somewhere secretive to share their true thoughts and feelings. In this book, readers explore more than 200 years of American history through the eyes of real people who lived through it and chronicled their experience. Readers learn what makes diaries and autobiographies different, why they matter, and how to think critically to read them like a historian. From the American Revolution to the 21st century, we'll get personal with history and notable Americans in their own words.","English",27.6,20.7,"920--dc23","32 pp.","https://www.garethstevens.com/9781538240366",null,{"$f":"Table1[[#This Row],[QTY]]*Table1[[#This Row],['# Books]]","v":0},{"$f":"Table1[[#This Row],[QTY]]*Table1[[#This Row],[S&L Price]]","v":0}]
[null,null,79,"Journey to the Past: Investigating Primary Sources",1,"Landmarks Throughout American History","Library Bound Book",null,"978-1-5382-4040-3",{"$f":"HYPERLINK(Table1[[#This Row],[eCommerce Hyperlink]],\"Book Weblink\")","v":"Book Weblink"},null,"2020","August 2019","Library","6.500 X 9.125","Author","Michael Rajczak",null,null,null,null,"T",null,"Grade 4 - 5","Grade 4 - 6","Have you ever heard the expression, \"You had to be there?\" When you visit a national landmark, you have the chance to experience a primary source and history firsthand. Readers will explore the fascinating history of the United States by visiting such landmarks as Independence Hall, the White House, Gettysburg Cemetery, and other amazing places. They'll get a taste of our how our national landmarks act as exciting primary sources. This volume offers accessible, interpretive text, and full-color photographs of spell-binding landmarks.","English",27.6,20.7,"973--dc23","32 pp.","https://www.garethstevens.com/9781538240403",null,{"$f":"Table1[[#This Row],[QTY]]*Table1[[#This Row],['# Books]]","v":0},{"$f":"Table1[[#This Row],[QTY]]*Table1[[#This Row],[S&L Price]]","v":0}]
[null,null,79,"Journey to the Past: Investigating Primary Sources",1,"Newspapers Throughout American History","eBook",null,"978-1-5382-4049-6",{"$f":"HYPERLINK(Table1[[#This Row],[eCommerce Hyperlink]],\"Book Weblink\")","v":"Book Weblink"},null,"2020","August 2019",null,null,"Author","Jill Keppeler",null,null,null,null,"T",null,"Grade 4 - 5","Grade 4 - 6","The United States' Founding Fathers knew how important a free press could be to their great experiment in democracy. It was so important that they protected that freedom in the First Amendment to the U.S. Constitution. Throughout the history of the United States, newspapers have documented the ins and outs and ups and downs of the country. This intriguing volume showcases these primary sources of American history, from the earliest reports on revolutionary feelings in New England to the muckrakers of the Progressive Era to the devastating headlines that followed the September 11, 2001, attacks on New York.","English",27.6,20.7,"070.172--dc23","32 pp.","https://www.garethstevens.com/9781538240496",null,{"$f":"Table1[[#This Row],[QTY]]*Table1[[#This Row],['# Books]]","v":0},{"$f":"Table1[[#This Row],[QTY]]*Table1[[#This Row],[S&L Price]]","v":0}]
[null,null,79,"The Nasty Past",1,"Disaster","Library Bound Book",null,"978-1-5382-5283-3",{"$f":"HYPERLINK(Table1[[#This Row],[eCommerce Hyperlink]],\"Book Weblink\")","v":"Book Weblink"},null,"2020","January 2020","Library","8.500 X 11.00","Author","John Wood","5.5","1",null,null,"T",null,"Grade 5","Grade 4 - 6","Certain disasters have left such an indelible mark on history that people never tire of learning about them and wanting to discover more details. That's true of the dreadful disasters in this captivating book, which describes what happened in a sensitive and accessible way. As riveted readers learn about history's biggest catastrophes, they'll feel like they're on the scene, including the deck of the Titanic and at the foot of an explosive volcano. Vivid photographs throughout the exciting design bring the nasty past to the present.","English",27.6,20.7,"363.3409--dc23","32 pp.","https://www.garethstevens.com/9781538252833",null,{"$f":"Table1[[#This Row],[QTY]]*Table1[[#This Row],['# Books]]","v":0},{"$f":"Table1[[#This Row],[QTY]]*Table1[[#This Row],[S&L Price]]","v":0}]
[null,null,79,"World's Scariest Places",6,"World's Scariest Places: Set 1","Library Set",null,"978-1-4824-5863-3",{"$f":"HYPERLINK(Table1[[#This Row],[eCommerce Hyperlink]],\"Book Weblink\")","v":"Book Weblink"},null,"2017","January 2017","Library","6.500 X 9.125",null,null,null,null,null,null,null,null,"Grade 4 - 5","Grade 4 - 6","For anyone whose imagination stirs after hearing a mournful cry in the night, who swears they have spied an otherworldly specter, or who just relishes hearing about the spooky and macabre, this series of the supernatural is a trove of spine-tingling tales. Each eerie volume focuses on a particular kind of location that seems to be a lightning rod for unearthly events, such as cemeteries, battlefields, and abandoned hospitals. Accounts of creepy encounters are intertwined with fascinating historical background information supported by striking photographs.","English",165.6,124.2,null,"32 pp.","https://www.garethstevens.com/9781482458633",null,{"$f":"Table1[[#This Row],[QTY]]*Table1[[#This Row],['# Books]]","v":0},{"$f":"Table1[[#This Row],[QTY]]*Table1[[#This Row],[S&L Price]]","v":0}]
[null,null,79,"World's Scariest Places",1,"Creepy Cemeteries","Library Bound Book",null,"978-1-4824-5903-6",{"$f":"HYPERLINK(Table1[[#This Row],[eCommerce Hyperlink]],\"Book Weblink\")","v":"Book Weblink"},null,"2017","January 2017","Library","6.500 X 9.125","Author","Alix Wood",null,null,null,null,"T","870L","Grade 4 - 5","Grade 4 - 6","Cemeteries are the final resting places of our dead. Yet, some swear not all who are resting in cemeteries are resting! The supernatural lore surrounding certain graveyards and burial grounds around the world is abundant, but this bloodcurdling book focuses on the most fascinatingly frightening, including Bachelor’s Grove Cemetery of Chicago, Illinois, and the Hanging Coffins of Sagada in the Philippines. Readers will love learning about the invisible hands that torment visitors of Greyfriars Churchyard in Edinburgh, Scotland, too. Such stories supported by some equally scary photographs will delight all those who love a good scare.","English",27.6,20.7,"133.1’22--dc23","32 pp.","https://www.garethstevens.com/9781482459036",null,{"$f":"Table1[[#This Row],[QTY]]*Table1[[#This Row],['# Books]]","v":0},{"$f":"Table1[[#This Row],[QTY]]*Table1[[#This Row],[S&L Price]]","v":0}]
[null,null,79,"World's Scariest Places",1,"Haunted Houses","Library Bound Book",null,"978-1-4824-5914-2",{"$f":"HYPERLINK(Table1[[#This Row],[eCommerce Hyperlink]],\"Book Weblink\")","v":"Book Weblink"},null,"2017","January 2017","Library","6.500 X 9.125","Author","Alix Wood",null,null,null,null,"S","910L","Grade 4 - 5","Grade 4 - 6","Some of the world’s most haunted houses are also the most famous! Riveted readers will be astounded to learn that the White House is among them, as well as China’s Forbidden City. They’ll understand why these and other spooky structures around the world earned their eerie reputations as they learn about the history surrounding each. Thought-provoking sidebars, a helpful map, and an arresting design and photographs make this volume a truly motivating and memorable experience.","English",27.6,20.7,"133.1’22--dc23--dc23","32 pp.","https://www.garethstevens.com/9781482459142",null,{"$f":"Table1[[#This Row],[QTY]]*Table1[[#This Row],['# Books]]","v":0},{"$f":"Table1[[#This Row],[QTY]]*Table1[[#This Row],[S&L Price]]","v":0}]
[null,null,79,"World's Scariest Places",1,"Creepy UFO Sites","Library Bound Book",null,"978-1-5382-4201-8",{"$f":"HYPERLINK(Table1[[#This Row],[eCommerce Hyperlink]],\"Book Weblink\")","v":"Book Weblink"},null,"2020","August 2019","Library","6.500 X 9.125","Author","Alix Wood","5.6","0.5",null,null,"S",null,"Grade 4 - 5","Grade 4 - 6","On a dark and stormy night the wind rises, blustering through the trees. Dogs bark and whimper as a high-pitched, other-worldly whirring grows louder. The clouds part to reveal an enormous flying object. Could it be a UFO? In this beguiling book, readers will learn about the historic sites that have been visited by creepy UFOs. Striking photographs and sensational sidebars will captivate readers. This fascinating and spine-tingling text will provoke even the most doubtful readers to ask themselves: Are we alone?","English",27.6,20.7,"001.942--dc23","32 pp.","https://www.garethstevens.com/9781538242018",null,{"$f":"Table1[[#This Row],[QTY]]*Table1[[#This Row],['# Books]]","v":0},{"$f":"Table1[[#This Row],[QTY]]*Table1[[#This Row],[S&L Price]]","v":0}]
[null,null,79,"World's Scariest Places",1,"Ghostly Mansions","eBook",null,"978-1-5382-4228-5",{"$f":"HYPERLINK(Table1[[#This Row],[eCommerce Hyperlink]],\"Book Weblink\")","v":"Book Weblink"},null,"2020","August 2019",null,null,"Author","Alix Wood","5.6","0.5",null,null,"S",null,"Grade 4 - 5","Grade 4 - 6","Have you ever heard strange footsteps on the stairs, or the blood-curdling sound of a disembodied moan? Perhaps you've felt goose bumps rise on the back of your neck as a door creaks open inexplicably. Readers are invited to cross the threshold of the world's spookiest mansions in this hair-raising read. Offering insight into the historical context of each petrifying place, this informative text is supplemented by fascinating sidebars and a dynamic design that will captivate readers' imaginations.","English",27.6,20.7,"133.1'22--dc23","32 pp.","https://www.garethstevens.com/9781538242285",null,{"$f":"Table1[[#This Row],[QTY]]*Table1[[#This Row],['# Books]]","v":0},{"$f":"Table1[[#This Row],[QTY]]*Table1[[#This Row],[S&L Price]]","v":0}]
[null,null,79,"World's Scariest Places",1,"Spooky Schools","Library Bound Book",null,"978-1-5382-4197-4",{"$f":"HYPERLINK(Table1[[#This Row],[eCommerce Hyperlink]],\"Book Weblink\")","v":"Book Weblink"},null,"2020","August 2019","Library","6.500 X 9.125","Author","Alix Wood","5.5","0.5",null,null,"S",null,"Grade 4 - 5","Grade 4 - 6","To most young students, schools seem to be unexceptional, even tedious places. Little do they know that schools are some of the spookiest places on Earth. Highlighting famously haunted schools from history, this bone-chilling book invites readers to step into creepy classrooms and learn just what makes these schools so scary. With thought-provoking sidebars and vibrant photographs that make the information pop, this delightfully disturbing text will capture readers' attention as surely as nails screeching against a chalkboard.","English",27.6,20.7,"133.1'22--dc23","32 pp.","https://www.garethstevens.com/9781538241974",null,{"$f":"Table1[[#This Row],[QTY]]*Table1[[#This Row],['# Books]]","v":0},{"$f":"Table1[[#This Row],[QTY]]*Table1[[#This Row],[S&L Price]]","v":0}]
[null,null,80,"Exposed! More Myths About American History",1,"Columbus Didn't Discover America: Exposing Myths About Explorers in the Americas","Library Bound Book",null,"978-1-5382-3744-1",{"$f":"HYPERLINK(Table1[[#This Row],[eCommerce Hyperlink]],\"Book Weblink\")","v":"Book Weblink"},null,"2020","August 2019","Library","8.500 X 8.500","Author","Janey Levy",null,null,null,null,"M",null,"Grade 2 - 3","Grade 2 - 5","It's something many Americans are certain is a solid fact: Columbus discovered America. While he is not with us to prove or disprove this fact, we now know that Columbus just wasn't the guy. First, Columbus never landed on the North American mainland. Second, how can someone \"discover\" a place that's already home to millions of people? In this lively and engaging book, readers will uncover the truth behind many myths about explorers in the Americas. Accessible text addresses important elementary social studies topics. Vivid images enliven the design, while captions, fact boxes, and a graphic organizer enrich the main content.","English",26.25,19.7,"970.01'5092--dc23","32 pp.","https://www.garethstevens.com/9781538237441",null,{"$f":"Table1[[#This Row],[QTY]]*Table1[[#This Row],['# Books]]","v":0},{"$f":"Table1[[#This Row],[QTY]]*Table1[[#This Row],[S&L Price]]","v":0}]
[null,null,80,"Exposed! More Myths About American History",1,"Cowboys Didn't Always Wear Hats: Exposing Myths About the Wild West","eBook",null,"978-1-5382-3749-6",{"$f":"HYPERLINK(Table1[[#This Row],[eCommerce Hyperlink]],\"Book Weblink\")","v":"Book Weblink"},null,"2020","August 2019",null,null,"Author","Jill Keppeler",null,null,null,null,"N",null,"Grade 2 - 3","Grade 2 - 5","The term \"Wild West\" brings to mind certain images: cowboys, settlers, gunfights, and outlaws. But the American West wasn't always as wild as popular images and stories often suggest. Its famous heroes were sometimes its villains or vice versa. In this informative volume, young readers will learn facts that bust the myths of the Old West, bringing a more realistic and diverse angle to tales of cowboys and Indians repeated in books, television shows, and movies throughout the years.","English",26.25,19.7,"978--dc23","32 pp.","https://www.garethstevens.com/9781538237496",null,{"$f":"Table1[[#This Row],[QTY]]*Table1[[#This Row],['# Books]]","v":0},{"$f":"Table1[[#This Row],[QTY]]*Table1[[#This Row],[S&L Price]]","v":0}]
[null,null,80,"Exposed! Myths About Early American History",6,"Exposed! Myths About Early American History","Library Set",null,"978-1-4824-5872-5",{"$f":"HYPERLINK(Table1[[#This Row],[eCommerce Hyperlink]],\"Book Weblink\")","v":"Book Weblink"},null,"2017","January 2017","Library","8.500 X 8.500",null,null,null,null,null,null,null,null,"Grade 2 - 3","Grade 2 - 5","Some myths are so entrenched in our culture that they’re passed down as facts from generation to generation. This entertaining and enlightening series takes on the most famous pieces of lore. Young historians will be surprised that George Washington did not have wooden teeth, and Betsy Ross did not make the first American flag. Readers will be eager to find out the truth about each. Every myth serves as a doorway to more facts about American history topics, including Independence Day, the Constitutional Convention, and colonial history. Relevant images and graphic organizers support and enhance each volume.","English",157.5,118.2,null,"32 pp.","https://www.garethstevens.com/9781482458725",null,{"$f":"Table1[[#This Row],[QTY]]*Table1[[#This Row],['# Books]]","v":0},{"$f":"Table1[[#This Row],[QTY]]*Table1[[#This Row],[S&L Price]]","v":0}]
[null,null,80,"Exposed! Myths About Early American History",1,"Paul Revere Didn't Say \"The British Are Coming!\": Exposing Myths About the American Revolution","Library Bound Book",null,"978-1-4824-5729-2",{"$f":"HYPERLINK(Table1[[#This Row],[eCommerce Hyperlink]],\"Book Weblink\")","v":"Book Weblink"},null,"2017","January 2017","Library","8.500 X 8.500","Author","Shalini Saxena","6.1","0.5",null,null,"M",null,"Grade 2 - 3","Grade 2 - 5","Who yelled “The British are coming!” on the night of April 18, 1775? It wasn’t Paul Revere! He also wasn’t the only one riding to warn American patriots that night. It turns out his legendary ride is full of actual legends. This exceptional and fun book focuses on the American Revolution in an entertaining format. Each dispelled myth is paired with accessible, fact-filled information. Info boxes and historical images abound in this well-designed work.","English",26.25,19.7,"973.3--dc23","32 pp.","https://www.garethstevens.com/9781482457292",null,{"$f":"Table1[[#This Row],[QTY]]*Table1[[#This Row],['# Books]]","v":0},{"$f":"Table1[[#This Row],[QTY]]*Table1[[#This Row],[S&L Price]]","v":0}]
[null,null,80,"Exposed! Myths About Early American History",1,"Paul Revere Didn't Say \"The British Are Coming!\": Exposing Myths About the American Revolution","eBook",null,"978-1-4824-5730-8",{"$f":"HYPERLINK(Table1[[#This Row],[eCommerce Hyperlink]],\"Book Weblink\")","v":"Book Weblink"},null,"2017","January 2017",null,null,"Author","Shalini Saxena","6.1","0.5",null,null,"M",null,"Grade 2 - 3","Grade 2 - 5","Who yelled “The British are coming!” on the night of April 18, 1775? It wasn’t Paul Revere! He also wasn’t the only one riding to warn American patriots that night. It turns out his legendary ride is full of actual legends. This exceptional and fun book focuses on the American Revolution in an entertaining format. Each dispelled myth is paired with accessible, fact-filled information. Info boxes and historical images abound in this well-designed work.","English",26.25,19.7,"973.3--dc23","32 pp.","https://www.garethstevens.com/9781482457308",null,{"$f":"Table1[[#This Row],[QTY]]*Table1[[#This Row],['# Books]]","v":0},{"$f":"Table1[[#This Row],[QTY]]*Table1[[#This Row],[S&L Price]]","v":0}]
[null,null,80,"Exposed! Myths About Early American History",1,"Thomas Jefferson Didn't Sign the Constitution: Exposing Myths About the Constitutional Convention","eBook",null,"978-1-4824-5738-4",{"$f":"HYPERLINK(Table1[[#This Row],[eCommerce Hyperlink]],\"Book Weblink\")","v":"Book Weblink"},null,"2017","January 2017",null,null,"Author","Barbara M. Linde","5.6","0.5",null,null,"N","830L","Grade 2 - 3","Grade 2 - 5","When many think of the Constitution, they think of the Founding Fathers: Thomas Jefferson, John Adams, Benjamin Franklin...but neither Jefferson nor Adams even signed it. Facts like this will surprise readers, while further information will enlighten them about both the crucial document called the U.S. Constitution as well as about its creation and ratification. This essential volume is a significant addition to any elementary social studies collection.","English",26.25,19.7,"342.7302’9--dc23","32 pp.","https://www.garethstevens.com/9781482457384",null,{"$f":"Table1[[#This Row],[QTY]]*Table1[[#This Row],['# Books]]","v":0},{"$f":"Table1[[#This Row],[QTY]]*Table1[[#This Row],[S&L Price]]","v":0}]
[null,null,80,"Map Basics",1,"Latitude and Longitude","eBook",null,"978-1-4824-1081-5",{"$f":"HYPERLINK(Table1[[#This Row],[eCommerce Hyperlink]],\"Book Weblink\")","v":"Book Weblink"},null,"2015","August 2014",null,null,"Author","Kristen Rajczak Nelson",null,null,"20",null,"L","980L","Grade 2 - 3","Grade 2 - 5","Even in such a tech-savvy culture as ours, understanding latitude and longitude coordinates has many uses. Coordinates can help hikers find their way when lost on a difficult trail and geocache enthusiasts locate their treasure. Even more importantly, they can help communicate location no matter what language is being spoken. Readers learn all about the development, use, and accuracy of the grid mapping system of latitude and longitude. Covering the equator, Prime Meridian, and more, the main content complements important topics from the social studies curriculum. Full-color maps aid readers’ understanding as fact boxes clarify key information.","English",23.6,17.7,"526","24 pp.","https://www.garethstevens.com/9781482410815",null,{"$f":"Table1[[#This Row],[QTY]]*Table1[[#This Row],['# Books]]","v":0},{"$f":"Table1[[#This Row],[QTY]]*Table1[[#This Row],[S&L Price]]","v":0}]
[null,null,80,"Map Basics",1,"The Compass Rose and Cardinal Directions","eBook",null,"978-1-4824-1086-0",{"$f":"HYPERLINK(Table1[[#This Row],[eCommerce Hyperlink]],\"Book Weblink\")","v":"Book Weblink"},null,"2015","August 2014",null,null,"Author","Caitie McAneney",null,null,"24",null,"L",null,"Grade 2 - 3","Grade 2 - 5","One of the most recognizable map symbols, the compass rose, is also the most useful. It shows the cardinal directions, and, when used with a compass, it can help hikers and orienteers reach their destination. Readers are introduced to the compass rose and the cardinal and intermediate directions it displays. Detailed examples lead readers through using a compass rose on a map. Full-color images accompany important map skills, engaging readers with content consistent with the social studies curriculum.","English",23.6,17.7,"912.01","24 pp.","https://www.garethstevens.com/9781482410860",null,{"$f":"Table1[[#This Row],[QTY]]*Table1[[#This Row],['# Books]]","v":0},{"$f":"Table1[[#This Row],[QTY]]*Table1[[#This Row],[S&L Price]]","v":0}]
[null,null,80,"Map Basics",6,"Map Basics: Set 2","Library Set",null,"978-1-5382-2961-3",{"$f":"HYPERLINK(Table1[[#This Row],[eCommerce Hyperlink]],\"Book Weblink\")","v":"Book Weblink"},null,"2019","January 2019","Library","8.500 X 8.500",null,null,null,null,null,null,null,null,"Grade 2 - 3","Grade 2 - 5","Social studies textbooks are often full of different kinds of maps and most students have a chance to interact with U.S. maps or globes in their classrooms. Often, these maps help them figure out where something is in the world, but maps can share a lot more information than just location! Topographical maps show the contours of the land. Resource maps show where natural resources can be found and how abundant they are. This series gives readers the tools they need to identify, interpret, and use different kinds of maps, including road maps, climate maps, and physical maps. Features include: Fun fact boxes give historical and social context of map usage. An activity in each book engages readers with the geography content they've just learned. Domain-specific vocabulary ensures readers' classroom success.","English",141.6,106.2,null,"24 pp.","https://www.garethstevens.com/9781538229613",null,{"$f":"Table1[[#This Row],[QTY]]*Table1[[#This Row],['# Books]]","v":0},{"$f":"Table1[[#This Row],[QTY]]*Table1[[#This Row],[S&L Price]]","v":0}]
[null,null,80,"Map Basics",1,"All About Political Maps","Library Bound Book",null,"978-1-5382-2917-0",{"$f":"HYPERLINK(Table1[[#This Row],[eCommerce Hyperlink]],\"Book Weblink\")","v":"Book Weblink"},null,"2019","January 2019","Library","8.500 X 8.500","Author","Barbara M. Linde",null,null,null,null,"M",null,"Grade 2 - 3","Grade 2 - 5","Which state is south of Maryland and north of North Carolina? How many states border California? How many countries are there in South America? As students read this book, they'll gain a better understanding of the locations of countries of the world. Using a map legend, they'll identify state and country capitals and other cities. They'll see how various landforms create natural borders. After comparing political maps of the United States at different times, students will be able to explain how the country grew. An activity concludes the book to help readers apply what they've learned.","English",23.6,17.7,"912.01'4--dc23","24 pp.","https://www.garethstevens.com/9781538229170",null,{"$f":"Table1[[#This Row],[QTY]]*Table1[[#This Row],['# Books]]","v":0},{"$f":"Table1[[#This Row],[QTY]]*Table1[[#This Row],[S&L Price]]","v":0}]
[null,null,80,"Map Basics",1,"All About Road Maps and GPS","eBook",null,"978-1-5382-3060-2",{"$f":"HYPERLINK(Table1[[#This Row],[eCommerce Hyperlink]],\"Book Weblink\")","v":"Book Weblink"},null,"2019","January 2019",null,null,"Author","Barbara M. Linde",null,null,null,null,"M",null,"Grade 2 - 3","Grade 2 - 5","What highways go from Maine to Florida? What's the distance from Los Angeles to San Francisco? How do I get to my friend's house? How does GPS work? As readers enjoy this volume, they will find answers to these questions and more. Readers learn to use the map key to identify different types of roads. They'll plan routes for long and short trips, calculating distances with the scale of miles. After studying diagrams of the GPS, they will give a basic explanation of how it works.","English",23.6,17.7,"912.01'4--dc23","24 pp.","https://www.garethstevens.com/9781538230602",null,{"$f":"Table1[[#This Row],[QTY]]*Table1[[#This Row],['# Books]]","v":0},{"$f":"Table1[[#This Row],[QTY]]*Table1[[#This Row],[S&L Price]]","v":0}]
[null,null,80,"Team Time Machine: American Revolution",1,"Team Time Machine Crosses the Delaware","eBook",null,"978-1-5382-4677-1",{"$f":"HYPERLINK(Table1[[#This Row],[eCommerce Hyperlink]],\"Book Weblink\")","v":"Book Weblink"},null,"2020","January 2020",null,null,"Author","Amanda Vink","5","0.5",null,null,"M",null,"Grade 2 - 3","Grade 2 - 5","What's better than experiencing history first-hand?! Team Time Machine goes on another adventure in this exciting book. This time, Mia, Ben, and Sam meet General George Washington on the night he prepares his troops to cross the Delaware River. Readers join the team as they find out more about the American Revolution through first-hand accounts and by experiencing personally the icy waters that lead to the Battle of Trenton. An engaging narrative and relatable characters ensure the interest of adventure lovers.","English",27.6,20.7,"973.3--dc23","32 pp.","https://www.garethstevens.com/9781538246771",null,{"$f":"Table1[[#This Row],[QTY]]*Table1[[#This Row],['# Books]]","v":0},{"$f":"Table1[[#This Row],[QTY]]*Table1[[#This Row],[S&L Price]]","v":0}]
[null,null,80,"Team Time Machine: American Revolution",1,"Team Time Machine Joins the Boston Tea Party","Library Bound Book",null,"978-1-5382-4684-9",{"$f":"HYPERLINK(Table1[[#This Row],[eCommerce Hyperlink]],\"Book Weblink\")","v":"Book Weblink"},null,"2020","January 2020","Library","8.500 X 8.500","Author","Therese M. Shea","4.5","0.5",null,null,"L",null,"Grade 2 - 3","Grade 2 - 5","Even the youngest Americans have heard something about the Boston Tea Party, an event before the American Revolution in which patriots dressed as Native Americans and dumped chests of tea into Boston Harbor. Why they did this might not be so clear. In this exciting book, a group of young historians who call themselves Team Time Machine go back to the year 1773 to find out. This high-interest look at an important historical event will motivate all levels of readers to immerse themselves in the past and learn how compelling history can be with a touch of imagination.","English",27.6,20.7,"973.3/115--dc23","32 pp.","https://www.garethstevens.com/9781538246849",null,{"$f":"Table1[[#This Row],[QTY]]*Table1[[#This Row],['# Books]]","v":0},{"$f":"Table1[[#This Row],[QTY]]*Table1[[#This Row],[S&L Price]]","v":0}]
[null,null,80,"Team Time Machine: American Revolution",1,"Team Time Machine Witnesses the Siege at Yorktown","eBook",null,"978-1-5382-4697-9",{"$f":"HYPERLINK(Table1[[#This Row],[eCommerce Hyperlink]],\"Book Weblink\")","v":"Book Weblink"},null,"2020","January 2020",null,null,"Author","Jill Keppeler","4.4","0.5",null,null,"M",null,"Grade 2 - 3","Grade 2 - 5","It's the battle where the world turned upside down and Team Time Machine is on the scene! The squad travels back to 1781 to learn more about the siege of Yorktown, the final major military conflict of the American Revolution. Young readers will be fascinated by the kid's-eye view of these pivotal events, in a topic that's integral to the elementary social studies curriculum. Interesting fact boxes, colorful photographs, and bright artwork pull readers into the stories behind this important historical event.","English",27.6,20.7,"973.3'37--dc23","32 pp.","https://www.garethstevens.com/9781538246979",null,{"$f":"Table1[[#This Row],[QTY]]*Table1[[#This Row],['# Books]]","v":0},{"$f":"Table1[[#This Row],[QTY]]*Table1[[#This Row],[S&L Price]]","v":0}]
[null,null,80,"Team Time Machine: The New Nation",1,"Team Time Machine Picks a President in the Election of 1800","Library Bound Book",null,"978-1-5382-5705-0",{"$f":"HYPERLINK(Table1[[#This Row],[eCommerce Hyperlink]],\"Book Weblink\")","v":"Book Weblink"},null,"2021","August 2020","Library","8.500 X 8.500","Author","Elizabeth Krajnik",null,null,null,null,"M",null,"Grade 2 - 3","Grade 2 - 5","In the early days of the United States, people voted for the president and vice president on the same ballot. In the presidential election of 1800, Thomas Jefferson and Aaron Burr received the same number of electoral votes. In this fictional blast to the past, Gaby, Zoe, and Will witness the tie-breaking decision that led to the election of the nation's third president. Readers learn more about America's early political beginnings with humor and intrigue, while historical images and fact boxes provide them with the information they need to understand how the election process in the United States has changed since 1800.","English",27.6,20.7,"324.60973--dc23","32 pp.","https://www.garethstevens.com/9781538257050",null,{"$f":"Table1[[#This Row],[QTY]]*Table1[[#This Row],['# Books]]","v":0},{"$f":"Table1[[#This Row],[QTY]]*Table1[[#This Row],[S&L Price]]","v":0}]
[null,null,80,"Team Time Machine: The New Nation",1,"Team Time Machine Wins the War of 1812","eBook",null,"978-1-5382-5718-0",{"$f":"HYPERLINK(Table1[[#This Row],[eCommerce Hyperlink]],\"Book Weblink\")","v":"Book Weblink"},null,"2021","August 2020",null,null,"Author","Shannon H. Harts",null,null,null,null,"M",null,"Grade 2 - 3","Grade 2 - 5","Three young friends from modern times suddenly find themselves face-to-face with sailors and famous warships from the War of 1812 in this exciting time-travel saga. Mia, Ben, and Sam are part of Team Time Machine, which means they can travel through time using books to power a time machine in a special library. When setting out to uncover the story behind the United States' national anthem, the team discovers an unexpected adventure and learns the War of 1812's historical significance. With engaging dialogue, informative fact boxes, and amusing illustrated characters, this book makes learning curricular social studies content fun and memorable.","English",27.6,20.7,"973.5/2--dc23","32 pp.","https://www.garethstevens.com/9781538257180",null,{"$f":"Table1[[#This Row],[QTY]]*Table1[[#This Row],['# Books]]","v":0},{"$f":"Table1[[#This Row],[QTY]]*Table1[[#This Row],[S&L Price]]","v":0}]
[null,null,80,"Team Time Machine: The New Nation",1,"Team Time Machine Witnesses the Louisiana Purchase","Library Bound Book",null,"978-1-5382-5709-8",{"$f":"HYPERLINK(Table1[[#This Row],[eCommerce Hyperlink]],\"Book Weblink\")","v":"Book Weblink"},null,"2021","August 2020","Library","8.500 X 8.500","Author","Kate Mikoley",null,null,null,null,"M",null,"Grade 2 - 3","Grade 2 - 5","The Louisiana Purchase doubled the size of the United States in 1803 and it increased the wealth and strength of the nation. In addition, it was a great bargain! Readers follow along with three friends named Mia, Ben, and Sam as they use a time machine to travel back to the days of this historic transaction. Engaging dialogue and friendly characters hold the attention of enthusiastic and developing readers alike. Informative content reinforces key social studies concepts, making this an amusing guide that supports important curricular topics.","English",27.6,20.7,"973.4/6--dc23","32 pp.","https://www.garethstevens.com/9781538257098",null,{"$f":"Table1[[#This Row],[QTY]]*Table1[[#This Row],['# Books]]","v":0},{"$f":"Table1[[#This Row],[QTY]]*Table1[[#This Row],[S&L Price]]","v":0}]
[null,null,80,"Words That Shaped America",1,"The Most Powerful Presidential Words","eBook",null,"978-1-5382-4798-3",{"$f":"HYPERLINK(Table1[[#This Row],[eCommerce Hyperlink]],\"Book Weblink\")","v":"Book Weblink"},null,"2020","January 2020",null,null,"Author","Katie Kawa",null,null,null,null,"T",null,"Grade 4 - 5","Grade 4 - 6","\"Four score and seven years ago...\" \"The only thing we have to fear is fear itself.\" \"Ask not what your country can do for you, ask what you can do for your country.\" The words of American presidents have comforted and challenged Americans since the country's earliest days, and readers discover the riveting stories behind the most powerful presidential words in this unique look at American history. Filled with memorable quotes, detailed sidebars, graphic organizers, and historical and contemporary images, this reading experience expands on common social studies curriculum topics in creative ways.","English",27.6,20.7,"080.973--dc23","32 pp.","https://www.garethstevens.com/9781538247983",null,{"$f":"Table1[[#This Row],[QTY]]*Table1[[#This Row],['# Books]]","v":0},{"$f":"Table1[[#This Row],[QTY]]*Table1[[#This Row],[S&L Price]]","v":0}]
[null,null,80,"Words That Shaped America",1,"The Most Powerful Words About Women's Rights","Library Bound Book",null,"978-1-5382-4809-6",{"$f":"HYPERLINK(Table1[[#This Row],[eCommerce Hyperlink]],\"Book Weblink\")","v":"Book Weblink"},null,"2020","January 2020","Library","6.500 X 9.125","Author","Janey Levy",null,null,null,null,"S",null,"Grade 4 - 5","Grade 4 - 6","Today, women can have careers in fields such as medicine, engineering, and politics, but it wasn't always that way. Women couldn't even vote when the United States was founded. Readers of this powerful volume will discover the history of women's rights through the words of women who fought for them, including Abigail Adams urging her husband to \"Remember the Ladies,\" Elizabeth Cady Stanton's \"Declaration of Sentiments,\" Betty Friedan's The Feminine Mystique, and the contemporary #MeToo and #TimesUp movements. Vivid images support this empowering narrative, and sidebars, fact boxes, and a graphic organizer enhance the reading experience.","English",27.6,20.7,"305.4209--dc23","32 pp.","https://www.garethstevens.com/9781538248096",null,{"$f":"Table1[[#This Row],[QTY]]*Table1[[#This Row],['# Books]]","v":0},{"$f":"Table1[[#This Row],[QTY]]*Table1[[#This Row],[S&L Price]]","v":0}]
[null,null,80,"Words That Shaped America",1,"The Most Powerful Words of the Civil War","eBook",null,"978-1-5382-4818-8",{"$f":"HYPERLINK(Table1[[#This Row],[eCommerce Hyperlink]],\"Book Weblink\")","v":"Book Weblink"},null,"2020","January 2020",null,null,"Author","Jason Glaser",null,null,null,null,"S",null,"Grade 4 - 5","Grade 4 - 6","The Civil War was one of the darkest times in the history of the United States. From the new nation's very beginning, slavery was a battle between the country's economy and its morality. The \"slavery question\" was argued in courts, in Congress, in homes, in newspapers, and eventually on the battlefield. Through this striking volume, readers will come to understand the powerful statements that drove a country into war. Through simple, accessible text and photographs, young historians will feel themselves moved by those same words that nearly tore apart the United States.","English",27.6,20.7,"973.7--dc23","32 pp.","https://www.garethstevens.com/9781538248188",null,{"$f":"Table1[[#This Row],[QTY]]*Table1[[#This Row],['# Books]]","v":0},{"$f":"Table1[[#This Row],[QTY]]*Table1[[#This Row],[S&L Price]]","v":0}]
[null,null,81,"Totally into Fishing and Hunting",1,"Deer Hunting","eBook",null,"978-1-5382-8002-7",null,null,"2023","August 2022",null,null,"Author","Abby Badach Doyle",null,null,null,null,"M",null,"Grade 2 - 3","Grade 2 - 5","In many places in the United States, deer hunting is almost like a party! Family and friends gather when it’s deer season where they live. Different kinds of deer live across the country. Readers learn the basics of deer hunting in this book in preparation for their first outing. From where to hunt to how to stay safe, the main content offers age-appropriate information and fun facts for young readers. Full-color photographs show readers what to expect when they head out to hunt deer.","English",27.6,20.7,"799.2/765--dc23","32 pp.","https://www.garethstevens.com/9781538280027","http://www.epointplus.com/embed/9781538280027/?login=cyberrep&password=cyberrep",{"$f":"Table1[[#This Row],[QTY]]*Table1[[#This Row],['# Books]]","v":0},{"$f":"Table1[[#This Row],[QTY]]*Table1[[#This Row],[S&L Price]]","v":0}]
[null,null,81,"Totally into Fishing and Hunting",1,"Small Game Hunting","Library Bound Book",null,"978-1-5382-8013-3",null,null,"2023","August 2022","Library","8.500 X 8.500","Author","Abby Badach Doyle",null,null,null,null,"M",null,"Grade 2 - 3","Grade 2 - 5","Squirrels, small birds, rabbits, and coyotes are just some of the creatures that fall into the small-game category. Hunting for these small animals can be just as exciting as hunting larger animals. In this fact-filled volume, readers learn about safety, conservation, and hunting techniques for the many kinds of small game. Full-color photographs and age-appropriate details aim to prepare young readers for their first experience small-game hunting. Tips and tricks are provided in fact boxes and captions.","English",27.6,20.7,"799.2’5--dc23","32 pp.","https://www.garethstevens.com/9781538280133",null,{"$f":"Table1[[#This Row],[QTY]]*Table1[[#This Row],['# Books]]","v":0},{"$f":"Table1[[#This Row],[QTY]]*Table1[[#This Row],[S&L Price]]","v":0}]
[null,null,82,"Sports for Supergirls",1,"Aquatic Sports","eBook",null,"978-1-5382-4213-1",{"$f":"HYPERLINK(Table1[[#This Row],[eCommerce Hyperlink]],\"Book Weblink\")","v":"Book Weblink"},null,"2020","August 2019",null,null,"Author","Louise Spilsbury","6.8","1",null,null,"T",null,"Grade 4 - 5","Grade 4 - 6","Supergirls have been making their own waves in water sports. Women athletes have excelled at sports such as free diving, surfing, and white water kayaking. They've also sailed around the world. Readers of this thrilling text learn about the unusual world of water sports and also about skills athletes use to be successful. Intense photographs capture the excitement of water sports, and case studies of women athletes overcoming obstacles are inspirational, especially for young girls interested in high-energy, adventurous sports.","English",32.950000000000003,24.7,"797--dc23","48 pp.","https://www.garethstevens.com/9781538242131",null,{"$f":"Table1[[#This Row],[QTY]]*Table1[[#This Row],['# Books]]","v":0},{"$f":"Table1[[#This Row],[QTY]]*Table1[[#This Row],[S&L Price]]","v":0}]
[null,null,82,"Sports for Supergirls",1,"Snow and Ice Sports","eBook",null,"978-1-5382-4215-5",{"$f":"HYPERLINK(Table1[[#This Row],[eCommerce Hyperlink]],\"Book Weblink\")","v":"Book Weblink"},null,"2020","August 2019",null,null,"Author","Louise Spilsbury","6.8","1",null,null,"T",null,"Grade 4 - 5","Grade 4 - 6","When it's cold outside, super sports girls get out on the ice and into the snow. Ice climbing, snowboarding, and snowmobiling: these are just a few of the winter sports women have competed in and excelled. Readers learn about the different ways they too can get out during the winter. Stories of competitive women athletes and dramatic images inspire readers to get active, and information about technique and how to get involved in winter sports encourages safe practices.","English",32.950000000000003,24.7,"796.9--dc23","48 pp.","https://www.garethstevens.com/9781538242155",null,{"$f":"Table1[[#This Row],[QTY]]*Table1[[#This Row],['# Books]]","v":0},{"$f":"Table1[[#This Row],[QTY]]*Table1[[#This Row],[S&L Price]]","v":0}]
[null,null,82,"Sports for Supergirls",1,"Street Sports","Library Bound Book",null,"978-1-5382-4193-6",{"$f":"HYPERLINK(Table1[[#This Row],[eCommerce Hyperlink]],\"Book Weblink\")","v":"Book Weblink"},null,"2020","August 2019","Library","7.250 X 9.250","Author","Louise Spilsbury","6.7","1",null,null,"T",null,"Grade 4 - 5","Grade 4 - 6","Super sports girls are taking it to the streets! Readers of this text learn all about the supergirls of street sports: world-class cyclers, long boarders, and more. Some people even use street sports to commute to work. Photographs of impressive aerial tricks, practical information for beginners, and general tips for safe exercise practice get readers ready to run. In addition, this book provides readers with informative case studies of the top women performers in street sports, who are perfect role models for sports-loving girls.","English",32.950000000000003,24.7,"796.04'6--dc23","48 pp.","https://www.garethstevens.com/9781538241936",null,{"$f":"Table1[[#This Row],[QTY]]*Table1[[#This Row],['# Books]]","v":0},{"$f":"Table1[[#This Row],[QTY]]*Table1[[#This Row],[S&L Price]]","v":0}]
[null,null,83,"¡Nuestra maravillosa Tierra! (Our Exciting Earth!)",1,"Cañones (Canyons)","eBook",null,"978-1-5382-7586-3",null,null,"2023","August 2022",null,null,"Author, Translated by","Tanner Billings, Diana Osorio",null,null,null,null,"C",null,"Grade K","Grade Pre-K - 2","Canyons form over millions of years and provide us with some of the most awe-inspiring views on Earth. Readers of this engaging volume will learn all about these amazing formations—from how they form to where some of them are located. Low-ATOS level text introduces early readers to essential science curricula and correlates closely with colorful photographs, encouraging the development of strong comprehension skills. Budding geographers are sure to love this exciting exploration of one of nature’s most incredible types of landforms.","Spanish",23.6,17.7,"551.44/2--dc23","24 pp.","https://www.garethstevens.com/9781538275863","http://www.epointplus.com/embed/9781538275863/?login=cyberrep&password=cyberrep",{"$f":"Table1[[#This Row],[QTY]]*Table1[[#This Row],['# Books]]","v":0},{"$f":"Table1[[#This Row],[QTY]]*Table1[[#This Row],[S&L Price]]","v":0}]
[null,null,83,"¡Nuestra maravillosa Tierra! (Our Exciting Earth!)",1,"Lagos (Lakes)","Library Bound Book",null,"978-1-5382-7593-1",null,null,"2023","August 2022","Library","7.625 X 7.125","Author, Translated by","Tanner Billings, Diana Osorio",null,null,null,null,"C",null,"Grade K","Grade Pre-K - 2","Young readers are likely familiar with lakes on a basic level, but they may not know key details such as where the water that fills lakes comes from or where the world’s deepest lake is located. With this captivating guide, readers will love learning all sorts of fun facts about lakes. Engaging subject matter introduces early readers to important elementary science curricula. Eye-catching photographs correlate closely with low-ATOS level text, supporting the development of strong reading comprehension skills.","Spanish",23.6,17.7,"551.48/2--dc23","24 pp.","https://www.garethstevens.com/9781538275931",null,{"$f":"Table1[[#This Row],[QTY]]*Table1[[#This Row],['# Books]]","v":0},{"$f":"Table1[[#This Row],[QTY]]*Table1[[#This Row],[S&L Price]]","v":0}]
[null,35,84,"¡Veo veo! (Eye Spy!)",1,"Veo veo colores (I Spy Colors)","Library Bound Book",null,"978-1-5382-6783-7",{"$f":"HYPERLINK(Table1[[#This Row],[eCommerce Hyperlink]],\"Book Weblink\")","v":"Book Weblink"},null,"2022","January 2022","Library","7.000 X 7.000","Author","Marie Roesser",null,null,null,null,"B",null,"Grade K","Grade Pre-K - 1","\"I spy the color...red!\" There is no more effective learning strategy than to make the review of colors into a game. This vibrant volume helps beginning readers assess their understanding of all the colors of the rainbow and practice their emerging reading skills. They are asked to locate a familiar object of a certain color among other brightly colored objects. The entertaining images were specially selected to encourage vocabulary acquisition, reader motivation, and to cause amusement.","Spanish",23.6,17.7,"535.6","24 pp.","https://www.garethstevens.com/9781538267837",null,{"$f":"Table1[[#This Row],[QTY]]*Table1[[#This Row],['# Books]]","v":0},{"$f":"Table1[[#This Row],[QTY]]*Table1[[#This Row],[S&L Price]]","v":0}]
[null,35,84,"¡Veo veo! (Eye Spy!)",1,"Veo veo figuras (I Spy Shapes)","eBook",null,"978-1-5382-6800-1",{"$f":"HYPERLINK(Table1[[#This Row],[eCommerce Hyperlink]],\"Book Weblink\")","v":"Book Weblink"},{"$f":"HYPERLINK(Table1[[#This Row],[EPP Hyperlink]],\"EPP Weblink\")","v":"EPP Weblink"},"2022","January 2022",null,null,"Author","Marie Roesser",null,null,null,null,"B",null,"Grade K","Grade Pre-K - 1","Shape recognition is a fundamental part of pre-K and kindergarten classrooms. This fun book, with its appealing photographs, provides an entertaining way for young learners to practice their reading skills and hone their understanding of an important math standard. Throughout the accessible narrative, readers are asked to identify various shapes, such as triangles, rectangles, circles, and ovals, among multiple images, allowing many opportunities for assessment. Early readers will enjoy a feeling of accomplishment for mastering this crucial concept.","Spanish",23.6,17.7,"516/.154--dc23","24 pp.","https://www.garethstevens.com/9781538268001","http://www.epointplus.com/embed/9781538268001/?login=cyberrep&password=cyberrep",{"$f":"Table1[[#This Row],[QTY]]*Table1[[#This Row],['# Books]]","v":0},{"$f":"Table1[[#This Row],[QTY]]*Table1[[#This Row],[S&L Price]]","v":0}]
[null,35,84,"¡Veo veo! (Eye Spy!)",1,"Veo veo tamaños (I Spy Sizes)","Library Bound Book",null,"978-1-5382-6803-2",{"$f":"HYPERLINK(Table1[[#This Row],[eCommerce Hyperlink]],\"Book Weblink\")","v":"Book Weblink"},null,"2022","January 2022","Library","7.000 X 7.000","Author","Marie Roesser",null,null,null,null,"B",null,"Grade K","Grade Pre-K - 1","Identifying attributes of objects is a staple of early elementary education, and one of these attributes is size. This valuable volume provides an excellent opportunity for review and assessment of the appropriate use of size words, such as big, small, large, and little, along with other vocabulary that young readers should become familiar with. The at-level text is specially crafted to be achievable for beginning readers. They will find plenty of visual cues in the bright photographs featured throughout this engaging book.","Spanish",23.6,17.7,"153.7/52--dc23","24 pp.","https://www.garethstevens.com/9781538268032",null,{"$f":"Table1[[#This Row],[QTY]]*Table1[[#This Row],['# Books]]","v":0},{"$f":"Table1[[#This Row],[QTY]]*Table1[[#This Row],[S&L Price]]","v":0}]
[null,35,84,"¡Veo veo! (Eye Spy!)",1,"Veo veo tamaños (I Spy Sizes)","eBook",null,"978-1-5382-6804-9",{"$f":"HYPERLINK(Table1[[#This Row],[eCommerce Hyperlink]],\"Book Weblink\")","v":"Book Weblink"},{"$f":"HYPERLINK(Table1[[#This Row],[EPP Hyperlink]],\"EPP Weblink\")","v":"EPP Weblink"},"2022","January 2022",null,null,"Author","Marie Roesser",null,null,null,null,"B",null,"Grade K","Grade Pre-K - 1","Identifying attributes of objects is a staple of early elementary education, and one of these attributes is size. This valuable volume provides an excellent opportunity for review and assessment of the appropriate use of size words, such as big, small, large, and little, along with other vocabulary that young readers should become familiar with. The at-level text is specially crafted to be achievable for beginning readers. They will find plenty of visual cues in the bright photographs featured throughout this engaging book.","Spanish",23.6,17.7,"153.7/52--dc23","24 pp.","https://www.garethstevens.com/9781538268049","http://www.epointplus.com/embed/9781538268049/?login=cyberrep&password=cyberrep",{"$f":"Table1[[#This Row],[QTY]]*Table1[[#This Row],['# Books]]","v":0},{"$f":"Table1[[#This Row],[QTY]]*Table1[[#This Row],[S&L Price]]","v":0}]
[null,null,85,"Cuenta conmigo (Count with Me)",1,"Cuenta con superhéroes (Counting with Superheroes)","Library Bound Book",null,"978-1-5382-8192-5",null,null,"2023","August 2022","Library","8.500 X 8.500","Author, Illustrated by, Translated by","John Wood, Amy Li, Diana Osorio",null,null,null,null,"D",null,"Grade 1","Grade K - 2","Superheroes—and math—to the rescue! Young readers are introduced to ten heroes with extraordinary powers to match the many dangers they face in this exciting volume, such as three scary snowmen, eight trapdoors, and ten threatening storm clouds. While they're engrossed by the high-interest topic, they’ll practice counting in each number-oriented rescue situation. Sentences are carefully crafted at the emerging reader’s level, while the colorful illustrations provide support for vocabulary acquisition.","Spanish",23.6,17.7,"513.2’11--dc23","24 pp.","https://www.garethstevens.com/9781538281925",null,{"$f":"Table1[[#This Row],[QTY]]*Table1[[#This Row],['# Books]]","v":0},{"$f":"Table1[[#This Row],[QTY]]*Table1[[#This Row],[S&L Price]]","v":0}]
[null,null,85,"Cuenta conmigo (Count with Me)",1,"Cuenta con superhéroes (Counting with Superheroes)","eBook",null,"978-1-5382-8193-2",null,null,"2023","August 2022",null,null,"Author, Illustrated by, Translated by","John Wood, Amy Li, Diana Osorio",null,null,null,null,"D",null,"Grade 1","Grade K - 2","Superheroes—and math—to the rescue! Young readers are introduced to ten heroes with extraordinary powers to match the many dangers they face in this exciting volume, such as three scary snowmen, eight trapdoors, and ten threatening storm clouds. While they're engrossed by the high-interest topic, they’ll practice counting in each number-oriented rescue situation. Sentences are carefully crafted at the emerging reader’s level, while the colorful illustrations provide support for vocabulary acquisition.","Spanish",23.6,17.7,"513.2’11--dc23","24 pp.","https://www.garethstevens.com/9781538281932","http://www.epointplus.com/embed/9781538281932/?login=cyberrep&password=cyberrep",{"$f":"Table1[[#This Row],[QTY]]*Table1[[#This Row],['# Books]]","v":0},{"$f":"Table1[[#This Row],[QTY]]*Table1[[#This Row],[S&L Price]]","v":0}]
[null,null,86,"Los eventos divertidos de la historia (The Funniest Events in History)",1,"Edad de la Piedra (The Stone Age): una novela gráfica (A Graphic Novel)","Library Bound Book",null,"978-1-5382-7502-3",null,null,"2023","August 2022","Library","8.500 X 11.00","Illustrated by, Translated by","Jordi Bayarri, Diana Osorio",null,null,null,null,"P",null,"Grade 3 - 4","Grade 3 - 5","What better way to learn about the people of the Stone Age than through the story of a Stone Age family, trying out new discoveries? This graphic novel takes readers back in time in a fun and unique way. The book has three chapters that cover humanity’s major discoveries of the time: the discovery of fire, cave paintings, and the wheel. Entertaining characters answer questions readers may have about life during the Stone Age and how each discovery changed life for people that lived then. Bright, bold illustrations bring the Stone Age to life.","Spanish",35.6,26.7,"930.1’2--dc23","64 pp.","https://www.garethstevens.com/9781538275023",null,{"$f":"Table1[[#This Row],[QTY]]*Table1[[#This Row],['# Books]]","v":0},{"$f":"Table1[[#This Row],[QTY]]*Table1[[#This Row],[S&L Price]]","v":0}]
[null,null,87,"¡Es hora de comparar! (Time To Compare!)",1,"¿Cuál es diferente? (Which Is Different?)","eBook",null,"978-1-5382-6199-6",{"$f":"HYPERLINK(Table1[[#This Row],[eCommerce Hyperlink]],\"Book Weblink\")","v":"Book Weblink"},null,"2021","January 2021",null,null,"Author","Jagger Youssef",null,null,null,null,"B",null,"Grade K","Grade Pre-K - 1","Puzzle lovers enjoy spotting similarities and differences among groups of objects. This engaging book will seem like a game to riveted readers, as they learn to spot items that belong in certain categories and those that don't. They'll examine colors, shapes, and other attributes of high-interest objects. At-level text encourages readers to add new vocabulary words to their collection, while colorful photographs further enhance this reading experience.","Spanish",23.6,17.7,"153.7--dc23","24 pp.","https://www.garethstevens.com/9781538261996",null,{"$f":"Table1[[#This Row],[QTY]]*Table1[[#This Row],['# Books]]","v":0},{"$f":"Table1[[#This Row],[QTY]]*Table1[[#This Row],[S&L Price]]","v":0}]
[null,null,87,"¡Es hora de comparar! (Time To Compare!)",1,"¿Cuál es más largo? (Which Is Longer?)","eBook",null,"978-1-5382-6207-8",{"$f":"HYPERLINK(Table1[[#This Row],[eCommerce Hyperlink]],\"Book Weblink\")","v":"Book Weblink"},null,"2021","January 2021",null,null,"Author","Jagger Youssef",null,null,null,null,"B",null,"Grade K","Grade Pre-K - 1","Understanding measurable attributes such as length is an imperative skill for future mathematicians. This skill is also handy in daily life. This valuable volume provides practical examples to readers, asking them to compare the lengths of familiar objects on the colorful pages. Accessible text encourages vocabulary acquisition and allows beginning readers to build confidence in their emerging literacy.","Spanish",23.6,17.7,"530.8--dc23","24 pp.","https://www.garethstevens.com/9781538262078",null,{"$f":"Table1[[#This Row],[QTY]]*Table1[[#This Row],['# Books]]","v":0},{"$f":"Table1[[#This Row],[QTY]]*Table1[[#This Row],[S&L Price]]","v":0}]
[null,36,87,"¿Cómo crece? (How Does It Grow?)",6,"¿Cómo crece? (How Does It Grow?)","Library Set",null,"978-1-5382-6967-1",{"$f":"HYPERLINK(Table1[[#This Row],[eCommerce Hyperlink]],\"Book Weblink\")","v":"Book Weblink"},null,"2022","August 2021","Library","7.625 X 7.125",null,null,null,null,null,null,null,null,"Grade K","Grade Pre-K - 2","Flowers and trees are some of the first parts of the natural world that kids are able to see changes occur. From the growth of new plants to the changing leaves in fall, these changes are fascinating to watch. This set takes young readers from the start of growth from stem or seed to fruit, flower, and full-growth of banana plants, maple trees, grass, and other plants. Low-level text is paired with specially chosen colorful photographs to reinforce the information provided on each page. Features include: Close picture-to-text correlation aids young readers. Supports the Next Generation Science Standards for kindergarten by describing patterns of what plants need to survive. Encourages observation of the natural world.","Spanish",141.6,106.2,null,"24 pp.","https://www.garethstevens.com/9781538269671",null,{"$f":"Table1[[#This Row],[QTY]]*Table1[[#This Row],['# Books]]","v":0},{"$f":"Table1[[#This Row],[QTY]]*Table1[[#This Row],[S&L Price]]","v":0}]
[null,36,87,"¿Cómo crece? (How Does It Grow?)",1,"¿Cómo crecen los árboles de arce? (How Do Maple Trees Grow)","Library Bound Book",null,"978-1-5382-6815-5",{"$f":"HYPERLINK(Table1[[#This Row],[eCommerce Hyperlink]],\"Book Weblink\")","v":"Book Weblink"},null,"2022","August 2021","Library","7.625 X 7.125","Author, Translated by","Kathleen Connors, Diana Osorio",null,null,null,null,"C",null,"Grade K","Grade Pre-K - 2","Maple trees grow all across North America and many other places in the world. There are many different kinds, but all grow in the same way. Your readers will learn that they start as a seed, sprout, become a sapling, and years later, are a full-grown tree. They will learn about what trees need to stay alive: water, soil, and sun. Beautiful photographs draw readers in with the lovely leaves and characteristics of maple trees, complimenting the age-appropriate narrative.","Spanish",23.6,17.7,"664/.132--dc23","24 pp.","https://www.garethstevens.com/9781538268155",null,{"$f":"Table1[[#This Row],[QTY]]*Table1[[#This Row],['# Books]]","v":0},{"$f":"Table1[[#This Row],[QTY]]*Table1[[#This Row],[S&L Price]]","v":0}]
[null,36,87,"¿Cómo crece? (How Does It Grow?)",1,"¿Cómo crecen los pinos? (How Do Pine Trees Grow?)","eBook",null,"978-1-5382-6820-9",{"$f":"HYPERLINK(Table1[[#This Row],[eCommerce Hyperlink]],\"Book Weblink\")","v":"Book Weblink"},null,"2022","August 2021",null,null,"Author, Translated by","Kathleen Connors, Diana Osorio",null,null,null,null,"C",null,"Grade K","Grade Pre-K - 2","The pinecones found on the ground near a pine tree are an important part of the pine tree life cycle. They can hold hundreds of seeds. Like other plants, these seeds need soil, water, and sun. The seeds also need to be planted close to the surface of the soil. Beautiful photographs of full-grown pine trees, seeds sprouting, and seedlings correlate closely with the narrative, aiding beginning readers' comprehension in the fascinating life cycle of a pine tree.","Spanish",23.6,17.7,"585","24 pp.","https://www.garethstevens.com/9781538268209",null,{"$f":"Table1[[#This Row],[QTY]]*Table1[[#This Row],['# Books]]","v":0},{"$f":"Table1[[#This Row],[QTY]]*Table1[[#This Row],[S&L Price]]","v":0}]
[null,37,88,"Asombrosos animalitos (Busy Bugs)",1,"Abejas (Bees)","eBook",null,"978-1-5382-6908-4",{"$f":"HYPERLINK(Table1[[#This Row],[eCommerce Hyperlink]],\"Book Weblink\")","v":"Book Weblink"},null,"2022","August 2021",null,null,"Author, Translated by","Bray Jacobson, Diana Osorio",null,null,null,null,"C",null,"Grade K","Grade Pre-K - 2","There are thousands of species of bees, and not all are yellow and black. However, the telltale yellow and black of the honeybee and bumblebee are the best known. Beginning readers explore the world of bees and find out what keeps them busy all day. From flying from flower to flower to making honey, the details in this book are both familiar and new to curious future entomologists. Full-color detailed photographs complement the low-ATOS text, making it the perfect addition to any early elementary library or classroom.","Spanish",23.6,17.7,"595.79/9--dc23","24 pp.","https://www.garethstevens.com/9781538269084",null,{"$f":"Table1[[#This Row],[QTY]]*Table1[[#This Row],['# Books]]","v":0},{"$f":"Table1[[#This Row],[QTY]]*Table1[[#This Row],[S&L Price]]","v":0}]
[null,37,88,"Asombrosos animalitos (Busy Bugs)",1,"Hormigas (Ants)","Library Bound Book",null,"978-1-5382-6903-9",{"$f":"HYPERLINK(Table1[[#This Row],[eCommerce Hyperlink]],\"Book Weblink\")","v":"Book Weblink"},null,"2022","August 2021","Library","7.625 X 7.125","Author, Translated by","Bray Jacobson, Diana Osorio",null,null,null,null,"C",null,"Grade K","Grade Pre-K - 2","Ants are known as one of nature's hardest working animals. Their strength and persistence in bringing food to their colonies have been well documented. Now, beginning readers have a chance to learn about some of the littlest bugs in this volume written just for them. Complete with information about what ants eat, how they live, and generally how they stay so busy, this book is a must-have to satisfy the curiosity of your youngest naturalists. Eye-catching and unique photographs complement the low-ATOS text and aid in comprehension.","Spanish",23.6,17.7,"595.79/6--dc23","24 pp.","https://www.garethstevens.com/9781538269039",null,{"$f":"Table1[[#This Row],[QTY]]*Table1[[#This Row],['# Books]]","v":0},{"$f":"Table1[[#This Row],[QTY]]*Table1[[#This Row],[S&L Price]]","v":0}]
[null,37,88,"Asombrosos animalitos (Busy Bugs)",1,"Mariposas (Butterflies)","eBook",null,"978-1-5382-6916-9",{"$f":"HYPERLINK(Table1[[#This Row],[eCommerce Hyperlink]],\"Book Weblink\")","v":"Book Weblink"},null,"2022","August 2021",null,null,"Author, Translated by","Bray Jacobson, Diana Osorio",null,null,null,null,"C",null,"Grade K","Grade Pre-K - 2","Almost nothing is more naturally magical than seeing a butterfly alight on a flower in your garden before it flutters away. From the lovely orange of the monarch to the blues of the pipevine swallowtail, butterflies are found all over North America and are often one of the bugs young readers are able to identify on sight. Age-appropriate text explains about the butterfly life cycle, their food supply, and their bodies. Beautiful, detailed photographs of butterflies draw in readers and leave them wanting to spot a majestic butterfly in the wild.","Spanish",23.6,17.7,"595.78/9--dc23","24 pp.","https://www.garethstevens.com/9781538269169",null,{"$f":"Table1[[#This Row],[QTY]]*Table1[[#This Row],['# Books]]","v":0},{"$f":"Table1[[#This Row],[QTY]]*Table1[[#This Row],[S&L Price]]","v":0}]
[null,null,89,"¿A qué se dedican? (What Do They Do?)",1,"¿Cómo es el día de los conductores de autobuses? (What Do Bus Drivers Do All Day?)","eBook",null,"978-1-5382-6118-7",{"$f":"HYPERLINK(Table1[[#This Row],[eCommerce Hyperlink]],\"Book Weblink\")","v":"Book Weblink"},null,"2021","January 2021",null,null,"Author","Emily Mahoney",null,null,null,null,"K",null,"Grade 1 - 2","Grade 1 - 3","Kids might not know it, but there is much more to the job of a bus driver than just picking people up and dropping them off. From inspections to learning routes, this book explores the duties of a bus driver in an interesting and fun way. Colorful pictures and easy-to-read text encourages developing readers to learn about this important job that helps many members of a community.","Spanish",23.6,17.7,"388.3/22023--dc23","24 pp.","https://www.garethstevens.com/9781538261187",null,{"$f":"Table1[[#This Row],[QTY]]*Table1[[#This Row],['# Books]]","v":0},{"$f":"Table1[[#This Row],[QTY]]*Table1[[#This Row],[S&L Price]]","v":0}]
[null,null,89,"¿A qué se dedican? (What Do They Do?)",1,"¿Cómo es el día de los granjeros? (What Do Farmers Do All Day?)","Library Bound Book",null,"978-1-5382-6121-7",{"$f":"HYPERLINK(Table1[[#This Row],[eCommerce Hyperlink]],\"Book Weblink\")","v":"Book Weblink"},null,"2021","January 2021","Library","7.000 X 7.000","Author","Emily Mahoney",null,null,null,null,"K",null,"Grade 1 - 2","Grade 1 - 3","Farming is one of the most important jobs in our society, but what does a farmer really do all day? This book explores both agricultural and livestock farming in detail and describes the special skills and equipment that a farmer needs in order to ensure that the farm runs smoothly. Other aspects of working with animals and crops are explored, such as selling livestock and vegetables to people or businesses. Engaging visuals and interesting facts make this a great read for developing readers.","Spanish",23.6,17.7,"630.23--dc23","24 pp.","https://www.garethstevens.com/9781538261217",null,{"$f":"Table1[[#This Row],[QTY]]*Table1[[#This Row],['# Books]]","v":0},{"$f":"Table1[[#This Row],[QTY]]*Table1[[#This Row],[S&L Price]]","v":0}]
[null,null,89,"¿A qué se dedican? (What Do They Do?)",1,"¿Cómo es el día de los trabajadores de la construcción? (What Do Construction Workers Do All Day?)","eBook",null,"978-1-5382-6106-4",{"$f":"HYPERLINK(Table1[[#This Row],[eCommerce Hyperlink]],\"Book Weblink\")","v":"Book Weblink"},null,"2021","January 2021",null,null,"Author","Emily Mahoney",null,null,null,null,"K",null,"Grade 1 - 2","Grade 1 - 3","Construction workers have very physically demanding jobs, and their days can be very different depending on the project they're working on at the time. Excited readers will explore the world of demolition, building, designing, and creating with this engaging book about construction. Defined vocabulary words help make this narrative easily accessible for all readers. Detailed photographs convey what it's really like to work in construction.","Spanish",23.6,17.7,"624.023--dc23","24 pp.","https://www.garethstevens.com/9781538261064",null,{"$f":"Table1[[#This Row],[QTY]]*Table1[[#This Row],['# Books]]","v":0},{"$f":"Table1[[#This Row],[QTY]]*Table1[[#This Row],[S&L Price]]","v":0}]
[null,null,89,"Tenemos carácter (We've Got Character!)",1,"Yo espero mi turno (I Take Turns)","Library Bound Book",null,"978-1-5382-6085-2",{"$f":"HYPERLINK(Table1[[#This Row],[eCommerce Hyperlink]],\"Book Weblink\")","v":"Book Weblink"},null,"2021","January 2021","Library","7.000 X 7.000","Author","Charlotte Taylor","2.8","0.5",null,null,"K",null,"Grade 1 - 2","Grade 1 - 3","Having patience is challenging when there's something you really want to do, but you have to wait for it. You want to do it now! Thinking of others and waiting for your turn is an essential element of good character. Readers are encouraged to think about why and when we take turns. Each colorful spread presents a different real-life situation, like when Juan is hot and thirsty after playing soccer. He needs and wants a drink of water immediately, but his friends are thirsty too. Everyone takes turns at the fountain. Through relatable scenarios like this one, readers learn how to show consideration for others by taking turns.","Spanish",23.6,17.7,"179/.9--dc23","24 pp.","https://www.garethstevens.com/9781538260852",null,{"$f":"Table1[[#This Row],[QTY]]*Table1[[#This Row],['# Books]]","v":0},{"$f":"Table1[[#This Row],[QTY]]*Table1[[#This Row],[S&L Price]]","v":0}]
[null,null,89,"Tenemos carácter (We've Got Character!)",1,"Yo pido disculpas (I Say I'm Sorry)","Library Bound Book",null,"978-1-5382-6081-4",{"$f":"HYPERLINK(Table1[[#This Row],[eCommerce Hyperlink]],\"Book Weblink\")","v":"Book Weblink"},null,"2021","January 2021","Library","7.000 X 7.000","Author","Charlotte Taylor","2.7","0.5",null,null,"K",null,"Grade 1 - 2","Grade 1 - 3","Knowing when to say we're sorry means knowing when we've hurt someone, whether it was intentional or not. This is not always easy to do, especially for children. This book presents readers with a variety of relatable scenarios in which young people recognize the need for an apology. Readers follow Louis as he shares an embarrassing secret about Aaron with his other classmates, who make fun of Aaron. Louis feels bad for sharing Aaron's secret. What can he do? Each colorful spread presents a different real-life situation that will instill in readers the importance of knowing when to say, \"I'm sorry.\"","Spanish",23.6,17.7,"395--dc23","24 pp.","https://www.garethstevens.com/9781538260814",null,{"$f":"Table1[[#This Row],[QTY]]*Table1[[#This Row],['# Books]]","v":0},{"$f":"Table1[[#This Row],[QTY]]*Table1[[#This Row],[S&L Price]]","v":0}]
[null,null,89,"Tenemos carácter (We've Got Character!)",1,"Yo soy justo (I Am Fair)","eBook",null,"978-1-5382-6090-6",{"$f":"HYPERLINK(Table1[[#This Row],[eCommerce Hyperlink]],\"Book Weblink\")","v":"Book Weblink"},null,"2021","January 2021",null,null,"Author","Charlotte Taylor","2.7","0.5",null,null,"K",null,"Grade 1 - 2","Grade 1 - 3","Children often assume that being fair means that everyone gets the same number of cookies, but at the heart of fairness is consideration, respect, and caring for others. Your readers will encounter real-life situations in which young people figure out how to act fairly. They'll meet Ben and Jane who are playing on the swings at recess while other children wait to use the swings. What is the fair thing to do? Each spread consists of one of these relatable scenarios along with a full-color photograph. Fun, accessible text encourages readers to consider how they treat others as they discover what it means to be fair.","Spanish",23.6,17.7,"179/.9--dc23","24 pp.","https://www.garethstevens.com/9781538260906",null,{"$f":"Table1[[#This Row],[QTY]]*Table1[[#This Row],['# Books]]","v":0},{"$f":"Table1[[#This Row],[QTY]]*Table1[[#This Row],[S&L Price]]","v":0}]
[null,null,90,"Aprendemos sobre texturas (Let's Learn Textures!)",1,"¿Es rugoso? (What Is Bumpy?)","Library Bound Book",null,"978-1-5382-4976-5",{"$f":"HYPERLINK(Table1[[#This Row],[eCommerce Hyperlink]],\"Book Weblink\")","v":"Book Weblink"},null,"2020","January 2020","Library","7.000 X 7.000","Author","Emmett Martin",null,null,null,null,"B",null,"Grade K","Grade Pre-K - 1","Many objects could be described as bumpy: roads, footballs, and even a toad's skin. Learning to describe objects and discern how they're different from or like other objects is an important part of the early elementary curriculum. This carefully written, at-level narrative demonstrates the use of the adjective bumpy, aided by colorful pictures to aid readers' comprehension of each accessible sentence.","Spanish",23.6,17.7,"620.1/1292--dc23","24 pp.","https://www.garethstevens.com/9781538249765",null,{"$f":"Table1[[#This Row],[QTY]]*Table1[[#This Row],['# Books]]","v":0},{"$f":"Table1[[#This Row],[QTY]]*Table1[[#This Row],[S&L Price]]","v":0}]
[null,null,90,"Aprendemos sobre texturas (Let's Learn Textures!)",1,"¿Está mojado? (What Is Wet?)","Library Bound Book",null,"978-1-5382-4988-8",{"$f":"HYPERLINK(Table1[[#This Row],[eCommerce Hyperlink]],\"Book Weblink\")","v":"Book Weblink"},null,"2020","January 2020","Library","7.000 X 7.000","Author","Emmett Martin",null,null,null,null,"B",null,"Grade K","Grade Pre-K - 1","Few kids can resist jumping into a big puddle. Getting wet can be fun. Learning to describe objects as wet can be fun, too, as evidenced in the bright, entertaining photographs and simple, engaging text in this motivating book. Readers will love to identify the objects within these pages, selected to appeal to them, and use the objects to comprehend new vocabulary words in corresponding sentences.","Spanish",23.6,17.7,"620.1/1292--dc23","24 pp.","https://www.garethstevens.com/9781538249888",null,{"$f":"Table1[[#This Row],[QTY]]*Table1[[#This Row],['# Books]]","v":0},{"$f":"Table1[[#This Row],[QTY]]*Table1[[#This Row],[S&L Price]]","v":0}]
[null,null,90,"Conoce la ciencia espacial (A Look at Space Science)",1,"Agujeros negros (Black Holes)","Library Bound Book",null,"978-1-5382-6029-6",{"$f":"HYPERLINK(Table1[[#This Row],[eCommerce Hyperlink]],\"Book Weblink\")","v":"Book Weblink"},null,"2021","August 2020","Library","6.500 X 9.125","Author","Bert Wilberforce",null,null,null,null,"K",null,"Grade 2","Grade 5 - 8","Black holes are neither holes nor black. They're invisible and packed with matter! Future astronomers will find out many more fascinating facts about these space phenomena with this intriguing book. Carefully crafted text encapsulates the most important information about black holes, such as how scientists locate them and their significance in a star's life cycle. Amazing photographs support critical concepts and inspire a true appreciation of the spectacles of space.","Spanish",27.6,20.7,"523.8/875--dc23","32 pp.","https://www.garethstevens.com/9781538260296",null,{"$f":"Table1[[#This Row],[QTY]]*Table1[[#This Row],['# Books]]","v":0},{"$f":"Table1[[#This Row],[QTY]]*Table1[[#This Row],[S&L Price]]","v":0}]
[null,null,90,"Conoce la ciencia espacial (A Look at Space Science)",1,"La Luna (The Moon)","Library Bound Book",null,"978-1-5382-6025-8",{"$f":"HYPERLINK(Table1[[#This Row],[eCommerce Hyperlink]],\"Book Weblink\")","v":"Book Weblink"},null,"2021","August 2020","Library","6.500 X 9.125","Author","Bert Wilberforce",null,null,null,null,"K",null,"Grade 2","Grade 5 - 8","Our moon has long been a source of wonder for people looking up at the night sky. Young space explorers will find all they need to know about Earth's only natural satellite with this vivid volume full of beautiful photographs of the moon in all its phases. They'll learn about the moon's size, its effect on Earth's tides, and what exactly they can expect if they ever touch down on its surface. Accessible text, intriguing fact boxes, and beneficial diagrams throughout this book will engage readers.","Spanish",27.6,20.7,"523.3--dc23","32 pp.","https://www.garethstevens.com/9781538260258",null,{"$f":"Table1[[#This Row],[QTY]]*Table1[[#This Row],['# Books]]","v":0},{"$f":"Table1[[#This Row],[QTY]]*Table1[[#This Row],[S&L Price]]","v":0}]
[null,null,90,"Conoce la ciencia espacial (A Look at Space Science)",1,"Las galaxias (Galaxies)","Library Bound Book",null,"978-1-5382-6033-3",{"$f":"HYPERLINK(Table1[[#This Row],[eCommerce Hyperlink]],\"Book Weblink\")","v":"Book Weblink"},null,"2021","August 2020","Library","6.500 X 9.125","Author","Bert Wilberforce",null,null,null,null,"K",null,"Grade 2","Grade 5 - 8","Most young astronomers know that Earth is located in the Milky Way galaxy, but they might not know what that means or what lies beyond. Understanding our galaxy and others will help them comprehend more about how the universe works. Your readers will discover many amazing and memorable facts about galaxies, including their differing shapes, numbers of stars, and constant movement. They'll especially love the mind-boggling images of the depths of space.","Spanish",27.6,20.7,"523.1/12--dc23","32 pp.","https://www.garethstevens.com/9781538260333",null,{"$f":"Table1[[#This Row],[QTY]]*Table1[[#This Row],['# Books]]","v":0},{"$f":"Table1[[#This Row],[QTY]]*Table1[[#This Row],[S&L Price]]","v":0}]
[null,null,90,"Conoce la historia de Estados Unidos (A Look at U.S. History)",1,"La Declaración de Independencia (The Declaration of Independence)","Library Bound Book",null,"978-1-5382-4957-4",{"$f":"HYPERLINK(Table1[[#This Row],[eCommerce Hyperlink]],\"Book Weblink\")","v":"Book Weblink"},null,"2020","August 2019","Library","6.500 X 9.125","Author","Peter Castellano","5.6","0.5",null,null,"J",null,"Grade 2","Grade 5 - 8","Not only did the Declaration of Independence help set U.S. history in motion, the document was influential to other revolutions around the world. Therefore, it's crucial to understand the meaning of the Declaration of Independence in order to continue exploring the social studies curriculum. Readers are presented with the most important aspects of the document, including why it was written, the writing process, and its impact on American independence. Written in simple language, this volume will be useful in test review or as an introduction to the history of the Declaration of Independence.","Spanish",27.6,20.7,"973.3'13--dc23","32 pp.","https://www.garethstevens.com/9781538249574",null,{"$f":"Table1[[#This Row],[QTY]]*Table1[[#This Row],['# Books]]","v":0},{"$f":"Table1[[#This Row],[QTY]]*Table1[[#This Row],[S&L Price]]","v":0}]
[null,null,90,"Conoce la historia de Estados Unidos (A Look at U.S. History)",1,"Las trece colonias (The Thirteen Colonies)","Library Bound Book",null,"978-1-5382-4960-4",{"$f":"HYPERLINK(Table1[[#This Row],[eCommerce Hyperlink]],\"Book Weblink\")","v":"Book Weblink"},null,"2020","August 2019","Library","6.500 X 9.125","Author","Peter Castellano","5.1","0.5",null,null,"J",null,"Grade 2","Grade 5 - 8","Students often spend a long time learning about the early European settlements, such as Jamestown, and the founding the 13 British colonies that became the United States. Remembering and digesting so much information can be difficult, especially for struggling readers. Through accessible language and simple sentences, this book allows readers to review the history of the 13 colonies no matter the level at which they read. A concluding timeline helps readers chronologically order main events of the social studies curriculum while fact boxes offer explanations for important terms and more detail when needed.","Spanish",27.6,20.7,"973.3'13--dc23","32 pp.","https://www.garethstevens.com/9781538249604",null,{"$f":"Table1[[#This Row],[QTY]]*Table1[[#This Row],['# Books]]","v":0},{"$f":"Table1[[#This Row],[QTY]]*Table1[[#This Row],[S&L Price]]","v":0}]
[null,null,90,"Conoce la historia de Estados Unidos (A Look at U.S. History)",1,"El sufragio femenino (Women's Suffrage)","Library Bound Book",null,"978-1-5382-4945-1",{"$f":"HYPERLINK(Table1[[#This Row],[eCommerce Hyperlink]],\"Book Weblink\")","v":"Book Weblink"},null,"2020","August 2019","Library","6.500 X 9.125","Author","Seth Lynch","4.9","0.5",null,null,"J",null,"Grade 2","Grade 5 - 8","From the formal beginning of the women's suffrage movement in the United States to the passage of the Nineteenth Amendment, the journey to women's right to vote is endlessly fascinating. Leaders such as Elizabeth Cady Stanton and Alice Paul are part of this volume, which covers important curriculum points, including the Seneca Falls Convention and its Declaration of Sentiments. The main text succinctly introduces important events and groups as well as provides historical context outside of the suffrage movement. A concluding timeline aids readers in need of further review.","Spanish",27.6,20.7,"324.6/230973--dc23","32 pp.","https://www.garethstevens.com/9781538249451",null,{"$f":"Table1[[#This Row],[QTY]]*Table1[[#This Row],['# Books]]","v":0},{"$f":"Table1[[#This Row],[QTY]]*Table1[[#This Row],[S&L Price]]","v":0}]
[null,null,90,"Conoce la historia de Estados Unidos (A Look at U.S. History)",1,"El sufragio femenino (Women's Suffrage)","eBook",null,"978-1-5382-4946-8",{"$f":"HYPERLINK(Table1[[#This Row],[eCommerce Hyperlink]],\"Book Weblink\")","v":"Book Weblink"},null,"2020","August 2019",null,null,"Author","Seth Lynch","4.9","0.5",null,null,"J",null,"Grade 2","Grade 5 - 8","From the formal beginning of the women's suffrage movement in the United States to the passage of the Nineteenth Amendment, the journey to women's right to vote is endlessly fascinating. Leaders such as Elizabeth Cady Stanton and Alice Paul are part of this volume, which covers important curriculum points, including the Seneca Falls Convention and its Declaration of Sentiments. The main text succinctly introduces important events and groups as well as provides historical context outside of the suffrage movement. A concluding timeline aids readers in need of further review.","Spanish",27.6,20.7,"324.6/230973--dc23","32 pp.","https://www.garethstevens.com/9781538249468",null,{"$f":"Table1[[#This Row],[QTY]]*Table1[[#This Row],['# Books]]","v":0},{"$f":"Table1[[#This Row],[QTY]]*Table1[[#This Row],[S&L Price]]","v":0}]
[null,null,90,"Conoce la historia de Estados Unidos (A Look at U.S. History)",1,"La compra de Luisiana (The Louisiana Purchase)","eBook",null,"978-1-5382-4943-7",{"$f":"HYPERLINK(Table1[[#This Row],[eCommerce Hyperlink]],\"Book Weblink\")","v":"Book Weblink"},null,"2020","August 2019",null,null,"Author","Seth Lynch","5.3","0.5",null,null,"J",null,"Grade 2","Grade 5 - 8","When the Louisiana Territory was added to the United States in 1803, it about doubled the size of the young nation. It took years to clarify its boundaries and explore every square mile. How this momentous purchase came to be and its implications on the future of the United States are explained in detail in this book. Uncomplicated maps and simple language help developing readers and those in need of review to understand the many changes in this land that started with its purchase in 1803.","Spanish",27.6,20.7,"973.4/6--dc23","32 pp.","https://www.garethstevens.com/9781538249437",null,{"$f":"Table1[[#This Row],[QTY]]*Table1[[#This Row],['# Books]]","v":0},{"$f":"Table1[[#This Row],[QTY]]*Table1[[#This Row],[S&L Price]]","v":0}]
[null,null,90,"Conoce la historia de Estados Unidos (A Look at U.S. History)",1,"La Revolución Industrial (The Industrial Revolution)","Library Bound Book",null,"978-1-5382-4939-0",{"$f":"HYPERLINK(Table1[[#This Row],[eCommerce Hyperlink]],\"Book Weblink\")","v":"Book Weblink"},null,"2020","August 2019","Library","6.500 X 9.125","Author","Seth Lynch","5.7","0.5",null,null,"J",null,"Grade 2","Grade 5 - 8","Once the Industrial Revolution made it to the United States, the workforce changed forever. Not only that, family life, childhood, and the economy changed, too. A complex topic with many facets, the Industrial Revolution is covered in accessible language in this book. Written with social studies curricula in mind, the main content includes age-appropriate detail, such as important dates, people, and vocabulary readers will likely need in the classroom. Developing readers and those in need of review need look no further than this volume to enhance or refresh their knowledge of this key time period in American history.","Spanish",27.6,20.7,"330.973'08--dc23","32 pp.","https://www.garethstevens.com/9781538249390",null,{"$f":"Table1[[#This Row],[QTY]]*Table1[[#This Row],['# Books]]","v":0},{"$f":"Table1[[#This Row],[QTY]]*Table1[[#This Row],[S&L Price]]","v":0}]
[null,null,90,"Conoce la historia de Estados Unidos (A Look at U.S. History)",1,"El ferrocarril transcontinental (The Transcontinental Railroad)","eBook",null,"978-1-5382-5057-0",{"$f":"HYPERLINK(Table1[[#This Row],[eCommerce Hyperlink]],\"Book Weblink\")","v":"Book Weblink"},null,"2020","January 2020",null,null,"Author","John O'Mara",null,null,null,null,"J",null,"Grade 2","Grade 5 - 8","A transcontinental railroad spanning the United States was once thought to be impossible. After a practical route was found, about 1,800 miles of track were laid from Nebraska to California in just 6 years. This railroad changed the nation, connecting the East and West Coast and making travel and communication easier than ever. Readers will be fascinated by the amazing tale of this railroad and the striking photographs that support this accessible narrative.","Spanish",27.6,20.7,"385.0973--dc23","32 pp.","https://www.garethstevens.com/9781538250570",null,{"$f":"Table1[[#This Row],[QTY]]*Table1[[#This Row],['# Books]]","v":0},{"$f":"Table1[[#This Row],[QTY]]*Table1[[#This Row],[S&L Price]]","v":0}]
[null,null,90,"Conoce la historia de Estados Unidos (A Look at U.S. History)",1,"La Gran Depresión (The Great Depression)","eBook",null,"978-1-5382-5045-7",{"$f":"HYPERLINK(Table1[[#This Row],[eCommerce Hyperlink]],\"Book Weblink\")","v":"Book Weblink"},null,"2020","January 2020",null,null,"Author","John O'Mara",null,null,null,null,"K",null,"Grade 2","Grade 5 - 8","The Great Depression was a terrible time in the United States. Americans had never known such hunger and poverty. This crisis lasted 10 years. What happened to cause this catastrophe, how it finally ended, and the lasting effects it had on the nation are all addressed in this invaluable look at a critical period in American history. Engaging and accessible text is supported by striking historical images and interesting fact boxes. A timeline summarizes and reinforces the most essential concepts.","Spanish",27.6,20.7,"330.973/0916--dc23","32 pp.","https://www.garethstevens.com/9781538250457",null,{"$f":"Table1[[#This Row],[QTY]]*Table1[[#This Row],['# Books]]","v":0},{"$f":"Table1[[#This Row],[QTY]]*Table1[[#This Row],[S&L Price]]","v":0}]
[null,null,90,"Conoce las ciencias biológicas (A Look at Life Science)",6,"Conoce las ciencias biológicas (A Look at Life Science)","Library Set",null,"978-1-5382-5088-4",{"$f":"HYPERLINK(Table1[[#This Row],[eCommerce Hyperlink]],\"Book Weblink\")","v":"Book Weblink"},null,"2020","January 2020","Library","6.500 X 9.125",null,null,null,null,null,null,null,null,"Grade 2","Grade 5 - 8","Everyone knows what a plant or animal is, but sometimes, what we might call a plant is actually a protist. Or is it a fungus? The six major groups of organisms on Earth are an essential part of life science curricula. Written especially for struggling readers or those in need of review, each book in this set focuses on one group, including its main physical characteristics, ways of making or consuming food, and examples of different kinds within its major grouping. Features include: Expanded glossaries allow readers access to quick explanations of important vocabulary. Fact boxes provide readers more context within the science curriculum or provide further explanation of the main texts. Graphic organizers emphasize important concepts.","Spanish",165.6,124.2,null,"32 pp.","https://www.garethstevens.com/9781538250884",null,{"$f":"Table1[[#This Row],[QTY]]*Table1[[#This Row],['# Books]]","v":0},{"$f":"Table1[[#This Row],[QTY]]*Table1[[#This Row],[S&L Price]]","v":0}]
[null,null,90,"Conoce las ciencias biológicas (A Look at Life Science)",1,"Las plantas (What Are Plants?)","eBook",null,"978-1-5382-5077-8",{"$f":"HYPERLINK(Table1[[#This Row],[eCommerce Hyperlink]],\"Book Weblink\")","v":"Book Weblink"},null,"2020","January 2020",null,null,"Author","Kate Mikoley",null,null,null,null,"I",null,"Grade 2","Grade 5 - 8","Besides animals, plants are commonly the most well-known living things. Readers of this captivating volume will learn all about plants, from the basics of what constitutes a plant to how they are able to survive in different kinds of environments. A dynamic page layout features simple and accessible text paired closely with eye-catching photographs. Thought-provoking content helps readers develop a strong grasp of important life science concepts. Developing readers will be excited to pick up this informative volume.","Spanish",27.6,20.7,"580--dc23","32 pp.","https://www.garethstevens.com/9781538250778",null,{"$f":"Table1[[#This Row],[QTY]]*Table1[[#This Row],['# Books]]","v":0},{"$f":"Table1[[#This Row],[QTY]]*Table1[[#This Row],[S&L Price]]","v":0}]
[null,null,90,"Conoce las ciencias biológicas (A Look at Life Science)",1,"Los protistas (What Are Protists?)","eBook",null,"978-1-5382-5081-5",{"$f":"HYPERLINK(Table1[[#This Row],[eCommerce Hyperlink]],\"Book Weblink\")","v":"Book Weblink"},null,"2020","January 2020",null,null,"Author","Kate Mikoley",null,null,null,null,"J",null,"Grade 2","Grade 5 - 8","When people think of life forms, they often think of animals and plants. Not all organisms fit into these two groups. Protists are a hugely diverse group of organisms. They are usually tiny and made up of just a single cell. This valuable resource features colorful photographs that correlate very closely to details of the narrative, encouraging readers to develop a deeper understanding of the book's material as well as key concepts related to elementary life science curricula.","Spanish",27.6,20.7,"579--dc23","32 pp.","https://www.garethstevens.com/9781538250815",null,{"$f":"Table1[[#This Row],[QTY]]*Table1[[#This Row],['# Books]]","v":0},{"$f":"Table1[[#This Row],[QTY]]*Table1[[#This Row],[S&L Price]]","v":0}]
[null,null,90,"Conoce las elecciones de Estados Unidos (A Look At U.S. Elections)",1,"Elecciones presidenciales conocidas (Famous Presidential Elections)","Library Bound Book",null,"978-1-5382-6065-4",{"$f":"HYPERLINK(Table1[[#This Row],[eCommerce Hyperlink]],\"Book Weblink\")","v":"Book Weblink"},null,"2021","August 2020","Library","6.500 X 9.125","Author","Kathryn Wesgate",null,null,null,null,"K",null,"Grade 2","Grade 5 - 8","The first presidential election in the United States was carried out in a very different way than elections as we know them today. Over the years there have been many prominent and memorable elections to decide the president. The history of presidential elections is ripe with terrific stories. Written at a low reading level, this accessible guide uses simple language to reinforce key social studies concepts that are central to upper elementary curricula. Full-color photographs and engaging fact boxes offer further information and support a strong comprehension of the material.","Spanish",27.6,20.7,"324.6'3--dc23","32 pp.","https://www.garethstevens.com/9781538260654",null,{"$f":"Table1[[#This Row],[QTY]]*Table1[[#This Row],['# Books]]","v":0},{"$f":"Table1[[#This Row],[QTY]]*Table1[[#This Row],[S&L Price]]","v":0}]
[null,null,90,"Conoce las elecciones de Estados Unidos (A Look At U.S. Elections)",1,"La historia de los partidos políticos (The History of Political Parties)","eBook",null,"978-1-5382-6054-8",{"$f":"HYPERLINK(Table1[[#This Row],[eCommerce Hyperlink]],\"Book Weblink\")","v":"Book Weblink"},null,"2021","August 2020",null,null,"Author","Kathryn Wesgate",null,null,null,null,"K",null,"Grade 2","Grade 5 - 8","Readers may know that the Democratic and Republican Parties are the two main political parties in the United States now, but that hasn't always been the case. The parties have also changed quite a bit over time. This informative volume helps readers learn about key facts, individuals, and events involved in the history of political parties in the United States. Accessible text helps struggling readers understand this crucial part of the upper elementary social studies curriculum.","Spanish",27.6,20.7,"324.273--dc23","32 pp.","https://www.garethstevens.com/9781538260548",null,{"$f":"Table1[[#This Row],[QTY]]*Table1[[#This Row],['# Books]]","v":0},{"$f":"Table1[[#This Row],[QTY]]*Table1[[#This Row],[S&L Price]]","v":0}]
[null,null,91,"Conoce los ciclos de la naturaleza (A Look at Nature's Cycles)",6,"Conoce los ciclos de la naturaleza (A Look at Nature's Cycles)","Library Set",null,"978-1-5382-4413-5",{"$f":"HYPERLINK(Table1[[#This Row],[eCommerce Hyperlink]],\"Book Weblink\")","v":"Book Weblink"},null,"2020","August 2019","Library","6.500 X 9.125",null,null,null,null,null,null,null,null,"Grade 2","Grade 5 - 8","In order to explain the many intricate processes on Earth, scientists often create models. Whether it's how water moves through the Earth, its bodies of water, and the atmosphere, or how energy moves throughout an ecosystem, these models help students understand the world around them. This set gives a simple overview of food chains and webs, the carbon cycle, cycles in space, and others, for struggling readers in need of extra help in science class. With helpful diagrams and curriculum-correlated text, this set is a must-have for schools and libraries. Features include: A low reading level makes upper elementary concepts available to struggling readers. Provides a succinct review for test or class preparation. Supports several of the Next Generation Science Standards.","Spanish",165.6,124.2,null,"32 pp.","https://www.garethstevens.com/9781538244135",null,{"$f":"Table1[[#This Row],[QTY]]*Table1[[#This Row],['# Books]]","v":0},{"$f":"Table1[[#This Row],[QTY]]*Table1[[#This Row],[S&L Price]]","v":0}]
[null,null,91,"Conoce los ciclos de la naturaleza (A Look at Nature's Cycles)",1,"El ciclo del agua (The Water Cycle)","Library Bound Book",null,"978-1-5382-4377-0",{"$f":"HYPERLINK(Table1[[#This Row],[eCommerce Hyperlink]],\"Book Weblink\")","v":"Book Weblink"},null,"2020","August 2019","Library","6.500 X 9.125","Author, Translated by","Santana Hunt, Alberto Jiménez","4.2","0.5",null,null,"J",null,"Grade 2","Grade 5 - 8","Understanding the water cycle provides a solid foundation for comprehending weather and even some climate change topics. It's also a part of many elementary science curricula and important for everyone to understand, even struggling readers. This book aims to bring all learners up to speed on the basics of the water cycle, from precipitation to evaporation, and includes fact boxes to provide more vocabulary and concept context. Diagrams and full-color photographs complement the low-level text and simply stated science information.","Spanish",27.6,20.7,"551.48--dc23","32 pp.","https://www.garethstevens.com/9781538243770",null,{"$f":"Table1[[#This Row],[QTY]]*Table1[[#This Row],['# Books]]","v":0},{"$f":"Table1[[#This Row],[QTY]]*Table1[[#This Row],[S&L Price]]","v":0}]
[null,null,91,"Conoce los ciclos de la naturaleza (A Look at Nature's Cycles)",1,"El ciclo del nitrógeno (The Nitrogen Cycle)","eBook",null,"978-1-5382-4386-2",{"$f":"HYPERLINK(Table1[[#This Row],[eCommerce Hyperlink]],\"Book Weblink\")","v":"Book Weblink"},null,"2020","August 2019",null,null,"Author, Translated by","Santana Hunt, Alberto Jiménez","5.3","0.5",null,null,"J",null,"Grade 2","Grade 5 - 8","There are many steps in the nitrogen cycle that include difficult concepts and words: denitrification, prokaryotes, ammonia, and more. With the help of this understandable book, even struggling readers will grasp this cycle of nature. Low-level language, fact boxes, and an extended glossary provide readers with essential vocabulary explanations that allow them to further understand each step of the cycle. Full-color diagrams aid readers' comprehension as they move through the cycle from start to finish, and then around again.","Spanish",27.6,20.7,"577.145--dc23","32 pp.","https://www.garethstevens.com/9781538243862",null,{"$f":"Table1[[#This Row],[QTY]]*Table1[[#This Row],['# Books]]","v":0},{"$f":"Table1[[#This Row],[QTY]]*Table1[[#This Row],[S&L Price]]","v":0}]
[null,null,91,"Conoce los ciclos de la naturaleza (A Look at Nature's Cycles)",1,"El ciclo del oxígeno (The Oxygen Cycle)","Library Bound Book",null,"978-1-5382-4389-3",{"$f":"HYPERLINK(Table1[[#This Row],[eCommerce Hyperlink]],\"Book Weblink\")","v":"Book Weblink"},null,"2020","August 2019","Library","6.500 X 9.125","Author, Translated by","Santana Hunt, Alberto Jiménez","4.9","0.5",null,null,"J",null,"Grade 2","Grade 5 - 8","The movement of oxygen from product of photosynthesis, through the human system, water, and Earth's atmosphere is a scientific model called the oxygen cycle. And it's essential for life on Earth to continue. Through accessible language and full-color diagrams and photographs, this book explains an important natural cycle to readers of all levels, particularly those struggling to understand a standard text book. Fact boxes and an extended glossary allow for the inclusion of the most important science vocabulary so all readers have the ability to understand, speak, and write about the topic.","Spanish",27.6,20.7,"551.51/12--dc23","32 pp.","https://www.garethstevens.com/9781538243893",null,{"$f":"Table1[[#This Row],[QTY]]*Table1[[#This Row],['# Books]]","v":0},{"$f":"Table1[[#This Row],[QTY]]*Table1[[#This Row],[S&L Price]]","v":0}]
[null,null,91,"Las antiguas civilizaciones (A Look at Ancient Civilizations)",1,"La antigua China (Ancient China)","Library Bound Book",null,"978-1-5382-3668-0",{"$f":"HYPERLINK(Table1[[#This Row],[eCommerce Hyperlink]],\"Book Weblink\")","v":"Book Weblink"},null,"2019","January 2019","Library","6.500 X 9.125","Author, Translated by","Daniel R. Faust, Alberto Jiménez",null,null,null,null,"J",null,"Grade 2","Grade 5 - 8","China is unique among the four great ancient civilizations in that it has changed very little over the millennia. Unlike India, Egypt, and Mesopotamia, China's impassable mountains and vast deserts protected China from invasion. Free from foreign interference, China's great dynasties, like the Qin and the Han, flourished. Many of the things we associate with modern China, like the Great Wall, expensive silks, and beautiful calligraphy, all date to ancient times. Help your struggling readers better understand ancient history with this accessible text. Full-color photographs, maps, and a timeline of important events provide additional context.","Spanish",27.6,20.7,"931--dc23","32 pp.","https://www.garethstevens.com/9781538236680",null,{"$f":"Table1[[#This Row],[QTY]]*Table1[[#This Row],['# Books]]","v":0},{"$f":"Table1[[#This Row],[QTY]]*Table1[[#This Row],[S&L Price]]","v":0}]
[null,null,91,"Las antiguas civilizaciones (A Look at Ancient Civilizations)",1,"La antigua Roma (Ancient Rome)","Library Bound Book",null,"978-1-5382-3672-7",{"$f":"HYPERLINK(Table1[[#This Row],[eCommerce Hyperlink]],\"Book Weblink\")","v":"Book Weblink"},null,"2019","January 2019","Library","6.500 X 9.125","Author, Translated by","Daniel R. Faust, Alberto Jiménez",null,null,null,null,"J",null,"Grade 2","Grade 5 - 8","All roads lead to Rome. Or they did. What had started as a small town on the Tiber River in central Italy would eventually grow to become a vast empire covering most of the known world, including England, western Europe, northern Africa, and western Asia. Although the Roman Empire fell in the 5th century, many of its accomplishments live on in our modern world. Readers will learn about the advancements Rome made in politics, architecture, law, and the arts. Accessible text is paired with full-color photographs, maps, and biographies of important historical figures.","Spanish",27.6,20.7,"937--dc23","32 pp.","https://www.garethstevens.com/9781538236727",null,{"$f":"Table1[[#This Row],[QTY]]*Table1[[#This Row],['# Books]]","v":0},{"$f":"Table1[[#This Row],[QTY]]*Table1[[#This Row],[S&L Price]]","v":0}]
[null,null,91,"Nuestras comunidades (All Our Communities)",6,"Nuestras comunidades (All Our Communities)","Library Set",null,"978-1-5382-5214-7",{"$f":"HYPERLINK(Table1[[#This Row],[eCommerce Hyperlink]],\"Book Weblink\")","v":"Book Weblink"},null,"2020","January 2020","Library","7.000 X 7.000",null,null,null,null,null,null,null,null,"Grade 1 - 2","Grade 1 - 3","There is no doubt about it, people need each other. We form different communities so we can meet each other's various needs, such as education, safety, and friendship. So what does it mean to be a part of these diverse communities? Readers will find out through these accessible volumes written especially to benefit the early elementary classroom in relation to the social studies curricula. Friendly, at-level text and bright photographs of different communities allow readers to recognize themselves and their roles in their own unique communities. Features include: Vocabulary terms that highlight important concepts about communities. Encourages readers to consider what it means to be a good member of the communities in which they live. Supports numerous standards of the English Language Arts Common Core, including becoming proficient with the use of nonfiction text features.","Spanish",141.6,106.2,null,"24 pp.","https://www.garethstevens.com/9781538252147",null,{"$f":"Table1[[#This Row],[QTY]]*Table1[[#This Row],['# Books]]","v":0},{"$f":"Table1[[#This Row],[QTY]]*Table1[[#This Row],[S&L Price]]","v":0}]
[null,null,91,"Nuestras comunidades (All Our Communities)",1,"Eres parte de una comunidad estatal (You're Part of a State Community!)","Library Bound Book",null,"978-1-5382-5020-4",{"$f":"HYPERLINK(Table1[[#This Row],[eCommerce Hyperlink]],\"Book Weblink\")","v":"Book Weblink"},null,"2020","January 2020","Library","7.000 X 7.000","Author","Theresa Emminizer",null,null,null,null,"J",null,"Grade 1 - 2","Grade 1 - 3","Whether you're way up north in Alaska, in sunny southern Florida, or in the western Hawaiian Islands, you are part of a state community. With colorful photographs and accessible language, this engaging and educational book is designed to teach young readers about what it means to be part of a state community. Through real-life examples of active citizenship and cooperative efforts to achieve common goals, children will understand how they each have unique contributions to make as community members.","Spanish",23.6,17.7,"320.473--dc23","24 pp.","https://www.garethstevens.com/9781538250204",null,{"$f":"Table1[[#This Row],[QTY]]*Table1[[#This Row],['# Books]]","v":0},{"$f":"Table1[[#This Row],[QTY]]*Table1[[#This Row],[S&L Price]]","v":0}]
[null,null,91,"Nuestras comunidades (All Our Communities)",1,"Eres parte de una comunidad vecinal (You're Part of a Neighborhood Community!)","Library Bound Book",null,"978-1-5382-5032-7",{"$f":"HYPERLINK(Table1[[#This Row],[eCommerce Hyperlink]],\"Book Weblink\")","v":"Book Weblink"},null,"2020","January 2020","Library","7.000 X 7.000","Author","Theresa Emminizer",null,null,null,null,"I",null,"Grade 1 - 2","Grade 1 - 3","A neighborhood is more than a group of people living in the same area; it is a living, breathing community. What does it mean to be part of a neighborhood community? This book will help young readers learn the answer to this question and more. Using age-appropriate language and relatable, real-life examples of active citizenship, this educational text is designed to foster democratic values and skills and encourage children to develop a voice within their community.","Spanish",23.6,17.7,"307--dc23","24 pp.","https://www.garethstevens.com/9781538250327",null,{"$f":"Table1[[#This Row],[QTY]]*Table1[[#This Row],['# Books]]","v":0},{"$f":"Table1[[#This Row],[QTY]]*Table1[[#This Row],[S&L Price]]","v":0}]
[null,null,91,"Pequeñas biografías de grandes personajes (Little Biographies of Big People)",1,"César Chávez (Cesar Chavez)","eBook",null,"978-1-5382-1506-7",{"$f":"HYPERLINK(Table1[[#This Row],[eCommerce Hyperlink]],\"Book Weblink\")","v":"Book Weblink"},null,"2018","January 2018",null,null,"Author, Translated by","Joan Stoltman, Ana Maria Garcia","3.9","0.5",null,null,"J",null,"Grade 1 - 2","Grade 1 - 3","The story of Cesar Chavez is as topical and vital a story today as it was when it was an integral part of current events and not a story in history. This volume, dedicated to passing on the story of Chavez’s life to young readers, provides educators with an essential tool to teach social justice, workers’ rights, and how to stand up for your convictions through age-appropriate language and explanation of concepts. This inspiring biography follows Chavez’s journey from humble beginnings to becoming one of the most vital civil rights activists of our time.","Spanish",23.6,17.7,"331.88'13092--dc23","24 pp.","https://www.garethstevens.com/9781538215067",null,{"$f":"Table1[[#This Row],[QTY]]*Table1[[#This Row],['# Books]]","v":0},{"$f":"Table1[[#This Row],[QTY]]*Table1[[#This Row],[S&L Price]]","v":0}]
[null,null,91,"Pequeñas biografías de grandes personajes (Little Biographies of Big People)",1,"Michelle Obama","Library Bound Book",null,"978-1-5382-1528-9",{"$f":"HYPERLINK(Table1[[#This Row],[eCommerce Hyperlink]],\"Book Weblink\")","v":"Book Weblink"},null,"2018","January 2018","Library","7.000 X 7.000","Author, Translated by","Joan Stoltman, Ana Maria Garcia","3.9","0.5",null,null,"H",null,"Grade 1 - 2","Grade 1 - 3","Michelle Obama is easily recognizable to young readers, but has had a life few children have had the chance to learn about. This topical, engaging volume brings the story of an incredibly intelligent, motivated, deeply dedicated person to vivid life. Young readers will easily engage in Michelle Obama’s life through the meticulously uncomplicated, age-appropriate language and explanation of concepts provided throughout this inspiring story. This highly requested biography is sure to be a quick hit in any collection, educating and inspiring readers to achieve their maximum potential.","Spanish",23.6,17.7,"973.932092--dc23","24 pp.","https://www.garethstevens.com/9781538215289",null,{"$f":"Table1[[#This Row],[QTY]]*Table1[[#This Row],['# Books]]","v":0},{"$f":"Table1[[#This Row],[QTY]]*Table1[[#This Row],[S&L Price]]","v":0}]
[null,null,91,"Pequeñas biografías de grandes personajes (Little Biographies of Big People)",6,"Pequeñas biografías de grandes personajes (Little Biographies of Big People): Set 2","Library Set",null,"978-1-5382-3686-4",{"$f":"HYPERLINK(Table1[[#This Row],[eCommerce Hyperlink]],\"Book Weblink\")","v":"Book Weblink"},null,"2019","January 2019","Library","7.000 X 7.000",null,null,null,null,null,null,null,null,"Grade 1 - 2","Grade 1 - 3","From the inspirational story of Malala Yousafzai to the meteoric rise to fame of Dwayne \"The Rock\" Johnson, biographies of well-known people are an engaging way for young readers to learn about the world around them. These volumes add both historic and modern personalities to our ongoing series, introducing First Lady Melania Trump, Beethoven, Thomas Edison, and Jane Goodall to inquisitive young readers. Their life stories, from childhood to present day, are told in age-appropriate language and detail with accompanying, full-color photographs. Features include: Each book includes a famous quote from the subject. Addresses STEAM concepts with discussion of artists' and scientists' lives. Presents cultural backgrounds to support the social studies curriculum introduction of global cultures.","Spanish",141.6,106.2,null,"24 pp.","https://www.garethstevens.com/9781538236864",null,{"$f":"Table1[[#This Row],[QTY]]*Table1[[#This Row],['# Books]]","v":0},{"$f":"Table1[[#This Row],[QTY]]*Table1[[#This Row],[S&L Price]]","v":0}]
[null,null,91,"Pequeñas biografías de grandes personajes (Little Biographies of Big People)",1,"Dwayne Johnson","eBook",null,"978-1-5382-3649-9",{"$f":"HYPERLINK(Table1[[#This Row],[eCommerce Hyperlink]],\"Book Weblink\")","v":"Book Weblink"},null,"2019","January 2019",null,null,"Author, Translated by","Joan Stoltman, Ana Maria Garcia",null,null,null,null,"I",null,"Grade 1 - 2","Grade 1 - 3","Today, Dwayne Johnson, also known as The Rock, can be recognized for the many movies and TV shows he's appeared in, but not too long ago he was better known for his wrestling skills. In this captivating volume, readers follow along with the star's journey and see how he successfully transitioned from athlete to actor. This high-interest biography includes colorful photographs paired with age-appropriate text, and is sure to engage readers of all ages.","Spanish",23.6,17.7,"796.812092--dc23","24 pp.","https://www.garethstevens.com/9781538236499",null,{"$f":"Table1[[#This Row],[QTY]]*Table1[[#This Row],['# Books]]","v":0},{"$f":"Table1[[#This Row],[QTY]]*Table1[[#This Row],[S&L Price]]","v":0}]
[null,null,91,"Pequeñas biografías de grandes personajes (Little Biographies of Big People)",1,"Melania Trump","Library Bound Book",null,"978-1-5382-3660-4",{"$f":"HYPERLINK(Table1[[#This Row],[eCommerce Hyperlink]],\"Book Weblink\")","v":"Book Weblink"},null,"2019","January 2019","Library","7.000 X 7.000","Author, Translated by","Joan Stoltman, Ana Maria Garcia",null,null,null,null,"I",null,"Grade 1 - 2","Grade 1 - 3","Before she became First Lady of the United States, Melania Trump was known for being a model in the fashion industry. In this engaging volume, readers get to take a look into her life, from her early years in Europe and her emigration to the United States to her move into the White House. Colorful photographs paired with concise text make for a captivating book that is sure to appeal to readers of many ages and levels.","Spanish",23.6,17.7,"973.933092--dc23","24 pp.","https://www.garethstevens.com/9781538236604",null,{"$f":"Table1[[#This Row],[QTY]]*Table1[[#This Row],['# Books]]","v":0},{"$f":"Table1[[#This Row],[QTY]]*Table1[[#This Row],[S&L Price]]","v":0}]
[null,null,92,"¡Nuestra maravillosa Tierra! / Our Exciting Earth!",1,"Arrecifes / Reefs","Library Bound Book",null,"978-1-5382-7613-6",null,null,"2023","August 2022","Library","7.625 X 7.125","Author, Translated by","Tanner Billings, Diana Osorio",null,null,null,null,"C",null,"Grade K","Grade Pre-K - 2","Reefs are home to a wide variety of organisms, such as coral and many different plants. With the help of this captivating volume, early readers will learn all about the underwater areas that have been dubbed “rainforests of the sea.” Accessible text is paired with closely related photographs in order to support the development of strong reading comprehension skills. This easy-to-follow, low-ATOS guide is the perfect way to introduce young readers to important elementary science curricula.","Bilingual (Spanish, English)",23.6,17.7,"577.7/89--dc23","24 pp.","https://www.garethstevens.com/9781538276136",null,{"$f":"Table1[[#This Row],[QTY]]*Table1[[#This Row],['# Books]]","v":0},{"$f":"Table1[[#This Row],[QTY]]*Table1[[#This Row],[S&L Price]]","v":0}]
[null,null,92,"¡Nuestra maravillosa Tierra! / Our Exciting Earth!",1,"Cascadas / Waterfalls","eBook",null,"978-1-5382-7618-1",null,null,"2023","August 2022",null,null,"Author, Translated by","Tanner Billings, Diana Osorio",null,null,null,null,"C",null,"Grade K","Grade Pre-K - 2","From the towering Angel Falls of Venezuela to the magnificent Niagara Falls straddling the United States and Canada, breathtaking waterfalls can be found all over the world. Even the smallest waterfalls with barely a trickle of water are a beautiful part of nature. With the help of this easy-to-follow guide, early readers will learn key information about these beautiful formations. Low-ATOS text pairs closely with eye-catching photographs, helping young readers develop a strong understanding of the content.","Bilingual (Spanish, English)",23.6,17.7,"551.48/4--dc23","24 pp.","https://www.garethstevens.com/9781538276181","http://www.epointplus.com/embed/9781538276181/?login=cyberrep&password=cyberrep",{"$f":"Table1[[#This Row],[QTY]]*Table1[[#This Row],['# Books]]","v":0},{"$f":"Table1[[#This Row],[QTY]]*Table1[[#This Row],[S&L Price]]","v":0}]
[null,null,92,"¡Nuestra maravillosa Tierra! / Our Exciting Earth!",1,"Lagos / Lakes","Library Bound Book",null,"978-1-5382-7611-2",null,null,"2023","August 2022","Library","7.625 X 7.125","Author, Translated by","Tanner Billings, Diana Osorio",null,null,null,null,"C",null,"Grade K","Grade Pre-K - 2","Young readers are likely familiar with lakes on a basic level, but they may not know key details such as where the water that fills lakes comes from or where the world’s deepest lake is located. With this captivating guide, readers will love learning all sorts of fun facts about lakes. Engaging subject matter introduces early readers to important elementary science curricula. Eye-catching photographs correlate closely with low-ATOS level text, supporting the development of strong reading comprehension skills.","Bilingual (Spanish, English)",23.6,17.7,"551.48/2--dc23","24 pp.","https://www.garethstevens.com/9781538276112",null,{"$f":"Table1[[#This Row],[QTY]]*Table1[[#This Row],['# Books]]","v":0},{"$f":"Table1[[#This Row],[QTY]]*Table1[[#This Row],[S&L Price]]","v":0}]
[null,null,92,"¡Nuestra maravillosa Tierra! / Our Exciting Earth!",1,"Pantanos / Swamps","Library Bound Book",null,"978-1-5382-7615-0",null,null,"2023","August 2022","Library","7.625 X 7.125","Author, Translated by","Tanner Billings, Diana Osorio",null,null,null,null,"C",null,"Grade K","Grade Pre-K - 2","A swamp is an area of land that is often partially covered with water. This engaging volume fully covers the key facts about these wonderful wetlands. Accessible text is paired closely with colorful photographs, helping young readers develop a strong understanding of the book’s content. A picture glossary and simple index introduce beginning readers to common book elements, while the subject matter introduces them to concepts important to elementary science curricula. Young nature lovers are sure to enjoy this exciting and informative guide.","Bilingual (Spanish, English)",23.6,17.7,"577.68--dc23","24 pp.","https://www.garethstevens.com/9781538276150",null,{"$f":"Table1[[#This Row],[QTY]]*Table1[[#This Row],['# Books]]","v":0},{"$f":"Table1[[#This Row],[QTY]]*Table1[[#This Row],[S&L Price]]","v":0}]
[null,null,92,"¡Nuestra maravillosa Tierra! / Our Exciting Earth!",1,"Desiertos / Deserts","eBook",null,"978-1-5382-1513-5",{"$f":"HYPERLINK(Table1[[#This Row],[eCommerce Hyperlink]],\"Book Weblink\")","v":"Book Weblink"},null,"2018","January 2018",null,null,"Author, Translated by","Claire Romaine, Eida de la Vega","0.9","0.5",null,null,"C",null,"Grade K","Grade Pre-K - 2","Many people have preconceptions about biomes, especially deserts. They picture only hot, barren wastelands where nothing lives. This valuable volume teaches young Earth explorers some surprising facts about desert habitats. For example, some deserts don't have sand, and some are quite cold. They'll also learn how some resilient plants and animals survive in these arid environments. Beautiful images accompany the accessible low-ATOS text.","Bilingual (Spanish, English)",23.6,17.7,"577.54--dc23","24 pp.","https://www.garethstevens.com/9781538215135",null,{"$f":"Table1[[#This Row],[QTY]]*Table1[[#This Row],['# Books]]","v":0},{"$f":"Table1[[#This Row],[QTY]]*Table1[[#This Row],[S&L Price]]","v":0}]
[null,null,92,"¡Nuestra maravillosa Tierra! / Our Exciting Earth!",1,"Océanos / Oceans","eBook",null,"978-1-5382-1510-4",{"$f":"HYPERLINK(Table1[[#This Row],[eCommerce Hyperlink]],\"Book Weblink\")","v":"Book Weblink"},null,"2018","January 2018",null,null,"Author, Translated by","Claire Romaine, Eida de la Vega","0.9","0.5",null,null,"C",null,"Grade K","Grade Pre-K - 2","The ocean is certainly a mysterious place, and this volume takes readers on a grand tour of the deep. They'll meet ocean animals, such as sea turtles and blue whales, learn about ocean plants, and discover they can encounter marine creatures for themselves at low tide. This informative guide introduces aspiring oceanographers to some important elementary science vocabulary and concepts, supported by colorful photographs that perfectly match the accessible text.","Bilingual (Spanish, English)",23.6,17.7,"551.46--dc23","24 pp.","https://www.garethstevens.com/9781538215104",null,{"$f":"Table1[[#This Row],[QTY]]*Table1[[#This Row],['# Books]]","v":0},{"$f":"Table1[[#This Row],[QTY]]*Table1[[#This Row],[S&L Price]]","v":0}]
[null,38,93,"¡Veo veo! / Eye Spy!",1,"Veo veo colores / I Spy Colors","Library Bound Book",null,"978-1-5382-6925-1",{"$f":"HYPERLINK(Table1[[#This Row],[eCommerce Hyperlink]],\"Book Weblink\")","v":"Book Weblink"},null,"2022","January 2022","Library","7.000 X 7.000","Author","Marie Roesser",null,null,null,null,"B",null,"Grade K","Grade Pre-K - 1","\"I spy the color...red!\" There is no more effective learning strategy than to make the review of colors into a game. This vibrant volume helps beginning readers assess their understanding of all the colors of the rainbow and practice their emerging reading skills. They are asked to locate a familiar object of a certain color among other brightly colored objects. The entertaining images were specially selected to encourage vocabulary acquisition, reader motivation, and to cause amusement.","Bilingual (Spanish, English)",23.6,17.7,"535.6","24 pp.","https://www.garethstevens.com/9781538269251",null,{"$f":"Table1[[#This Row],[QTY]]*Table1[[#This Row],['# Books]]","v":0},{"$f":"Table1[[#This Row],[QTY]]*Table1[[#This Row],[S&L Price]]","v":0}]
[null,38,93,"¡Veo veo! / Eye Spy!",1,"Veo veo figuras / I Spy Shapes","eBook",null,"978-1-5382-6934-3",{"$f":"HYPERLINK(Table1[[#This Row],[eCommerce Hyperlink]],\"Book Weblink\")","v":"Book Weblink"},{"$f":"HYPERLINK(Table1[[#This Row],[EPP Hyperlink]],\"EPP Weblink\")","v":"EPP Weblink"},"2022","January 2022",null,null,"Author","Marie Roesser",null,null,null,null,"B",null,"Grade K","Grade Pre-K - 1","Shape recognition is a fundamental part of pre-K and kindergarten classrooms. This fun book, with its appealing photographs, provides an entertaining way for young learners to practice their reading skills and hone their understanding of an important math standard. Throughout the accessible narrative, readers are asked to identify various shapes, such as triangles, rectangles, circles, and ovals, among multiple images, allowing many opportunities for assessment. Early readers will enjoy a feeling of accomplishment for mastering this crucial concept.","Bilingual (Spanish, English)",23.6,17.7,"516/.154--dc23","24 pp.","https://www.garethstevens.com/9781538269343","http://www.epointplus.com/embed/9781538269343/?login=cyberrep&password=cyberrep",{"$f":"Table1[[#This Row],[QTY]]*Table1[[#This Row],['# Books]]","v":0},{"$f":"Table1[[#This Row],[QTY]]*Table1[[#This Row],[S&L Price]]","v":0}]
[null,38,93,"¡Veo veo! / Eye Spy!",1,"Veo veo tamaños / I Spy Sizes","eBook",null,"978-1-5382-6936-7",{"$f":"HYPERLINK(Table1[[#This Row],[eCommerce Hyperlink]],\"Book Weblink\")","v":"Book Weblink"},{"$f":"HYPERLINK(Table1[[#This Row],[EPP Hyperlink]],\"EPP Weblink\")","v":"EPP Weblink"},"2022","January 2022",null,null,"Author","Marie Roesser",null,null,null,null,"B",null,"Grade K","Grade Pre-K - 1","Identifying attributes of objects is a staple of early elementary education, and one of these attributes is size. This valuable volume provides an excellent opportunity for review and assessment of the appropriate use of size words, such as big, small, large, and little, along with other vocabulary that young readers should become familiar with. The at-level text is specially crafted to be achievable for beginning readers. They will find plenty of visual cues in the bright photographs featured throughout this engaging book.","Bilingual (Spanish, English)",23.6,17.7,"153.7/52--dc23","24 pp.","https://www.garethstevens.com/9781538269367","http://www.epointplus.com/embed/9781538269367/?login=cyberrep&password=cyberrep",{"$f":"Table1[[#This Row],[QTY]]*Table1[[#This Row],['# Books]]","v":0},{"$f":"Table1[[#This Row],[QTY]]*Table1[[#This Row],[S&L Price]]","v":0}]
[null,null,94,"¡Es hora de comparar! / Time to Compare!",1,"¿Cuál es diferente? / Which Is Different?","Library Bound Book",null,"978-1-5382-6011-1",{"$f":"HYPERLINK(Table1[[#This Row],[eCommerce Hyperlink]],\"Book Weblink\")","v":"Book Weblink"},null,"2021","January 2021","Library","7.000 X 7.000","Author","Jagger Youssef",null,null,null,null,"B",null,"Grade K","Grade Pre-K - 1","Puzzle lovers enjoy spotting similarities and differences among groups of objects. This engaging book will seem like a game to riveted readers, as they learn to spot items that belong in certain categories and those that don't. They'll examine colors, shapes, and other attributes of high-interest objects. At-level text encourages readers to add new vocabulary words to their collection, while colorful photographs further enhance this reading experience.","Bilingual (Spanish, English)",23.6,17.7,"153.7--dc23","24 pp.","https://www.garethstevens.com/9781538260111",null,{"$f":"Table1[[#This Row],[QTY]]*Table1[[#This Row],['# Books]]","v":0},{"$f":"Table1[[#This Row],[QTY]]*Table1[[#This Row],[S&L Price]]","v":0}]
[null,null,94,"¡Es hora de comparar! / Time to Compare!",1,"¿Cuál es más pesado? / Which Is Heavier?","Library Bound Book",null,"978-1-5382-6021-0",{"$f":"HYPERLINK(Table1[[#This Row],[eCommerce Hyperlink]],\"Book Weblink\")","v":"Book Weblink"},null,"2021","January 2021","Library","7.000 X 7.000","Author","Jagger Youssef",null,null,null,null,"B",null,"Grade K","Grade Pre-K - 1","Understanding properties of matter is key for future scientists. With this bright and beneficial book, readers are invited to use their sense of sight to compare the weight of objects. A concluding question allows them to determine which object is heavier and display their understanding of this valuable concept.","Bilingual (Spanish, English)",23.6,17.7,"530.8--dc23","24 pp.","https://www.garethstevens.com/9781538260210",null,{"$f":"Table1[[#This Row],[QTY]]*Table1[[#This Row],['# Books]]","v":0},{"$f":"Table1[[#This Row],[QTY]]*Table1[[#This Row],[S&L Price]]","v":0}]
[null,39,94,"¿Cómo crece? / How Does It Grow?",1,"¿Cómo crece el pasto? / How Does Grass Grow?","Library Bound Book",null,"978-1-5382-6947-3",{"$f":"HYPERLINK(Table1[[#This Row],[eCommerce Hyperlink]],\"Book Weblink\")","v":"Book Weblink"},null,"2022","August 2021","Library","7.625 X 7.125","Author","Kathleen Connors",null,null,null,null,"C",null,"Grade K","Grade Pre-K - 2","There are many kinds of grass, but when most people think of this green plant, they think of the kind found in backyards and parks. Grass is like many other plants with its roots, leaves, and needs of soil, water, and sun. Young readers find out that acres of grass come from the tiniest of seeds. With this knowledge, they'll never look at someone mowing the lawn in the same way again. Full-color photographs closely correlate with the accessible narrative, which is written especially for emerging readers.","Bilingual (Spanish, English)",23.6,17.7,"633.2","24 pp.","https://www.garethstevens.com/9781538269473",null,{"$f":"Table1[[#This Row],[QTY]]*Table1[[#This Row],['# Books]]","v":0},{"$f":"Table1[[#This Row],[QTY]]*Table1[[#This Row],[S&L Price]]","v":0}]
[null,39,94,"¿Cómo crece? / How Does It Grow?",1,"¿Cómo crecen los árboles de arce? / How Do Maple Trees Grow?","eBook",null,"978-1-5382-6942-8",{"$f":"HYPERLINK(Table1[[#This Row],[eCommerce Hyperlink]],\"Book Weblink\")","v":"Book Weblink"},null,"2022","August 2021",null,null,"Author","Kathleen Connors",null,null,null,null,"C",null,"Grade K","Grade Pre-K - 2","Maple trees grow all across North America and many other places in the world. There are many different kinds, but all grow in the same way. Your readers will learn that they start as a seed, sprout, become a sapling, and years later, are a full-grown tree. They will learn about what trees need to stay alive: water, soil, and sun. Beautiful photographs draw readers in with the lovely leaves and characteristics of maple trees, complimenting the age-appropriate narrative.","Bilingual (Spanish, English)",23.6,17.7,"664/.132--dc23","24 pp.","https://www.garethstevens.com/9781538269428",null,{"$f":"Table1[[#This Row],[QTY]]*Table1[[#This Row],['# Books]]","v":0},{"$f":"Table1[[#This Row],[QTY]]*Table1[[#This Row],[S&L Price]]","v":0}]
[null,39,94,"¿Cómo crece? / How Does It Grow?",1,"¿Cómo crecen los pinos? / How Do Pine Trees Grow?","Library Bound Book",null,"978-1-5382-6943-5",{"$f":"HYPERLINK(Table1[[#This Row],[eCommerce Hyperlink]],\"Book Weblink\")","v":"Book Weblink"},null,"2022","August 2021","Library","7.625 X 7.125","Author","Kathleen Connors",null,null,null,null,"C",null,"Grade K","Grade Pre-K - 2","The pinecones found on the ground near a pine tree are an important part of the pine tree life cycle. They can hold hundreds of seeds. Like other plants, these seeds need soil, water, and sun. The seeds also need to be planted close to the surface of the soil. Beautiful photographs of full-grown pine trees, seeds sprouting, and seedlings correlate closely with the narrative, aiding beginning readers' comprehension in the fascinating life cycle of a pine tree.","Bilingual (Spanish, English)",23.6,17.7,"585","24 pp.","https://www.garethstevens.com/9781538269435",null,{"$f":"Table1[[#This Row],[QTY]]*Table1[[#This Row],['# Books]]","v":0},{"$f":"Table1[[#This Row],[QTY]]*Table1[[#This Row],[S&L Price]]","v":0}]
[null,null,95,"Aprendemos sobre texturas / Let's Learn Textures!",1,"¿Es liso? / What Is Smooth?","Library Bound Book",null,"978-1-5382-5002-0",{"$f":"HYPERLINK(Table1[[#This Row],[eCommerce Hyperlink]],\"Book Weblink\")","v":"Book Weblink"},null,"2020","January 2020","Library","7.000 X 7.000","Author","Emmett Martin",null,null,null,null,"B",null,"Grade K","Grade Pre-K - 1","Understanding textures is a preliminary step in becoming an attentive observer of nature and the world around us. Comprehending textures, including smooth, is a standard of early elementary curricula. This attractive book explores the quality of smooth through achievable sentences and fun photographs of familiar objects perfectly matched to the text. Readers will be motivated to add \"smooth\" to their growing list of adjectives.","Bilingual (Spanish, English)",23.6,17.7,"620.1/1292--dc23","24 pp.","https://www.garethstevens.com/9781538250020",null,{"$f":"Table1[[#This Row],[QTY]]*Table1[[#This Row],['# Books]]","v":0},{"$f":"Table1[[#This Row],[QTY]]*Table1[[#This Row],[S&L Price]]","v":0}]
[null,null,95,"Aprendemos sobre texturas / Let's Learn Textures!",1,"¿Es suave? / What Is Soft?","eBook",null,"978-1-5382-5009-9",{"$f":"HYPERLINK(Table1[[#This Row],[eCommerce Hyperlink]],\"Book Weblink\")","v":"Book Weblink"},null,"2020","January 2020",null,null,"Author","Emmett Martin",null,null,null,null,"B",null,"Grade K","Grade Pre-K - 1","When people think of soft things, they immediately conjure up images of furry bunnies and similarly textured animals and objects. This inviting book helps young readers to do the same, as learning about textures is an important tenet of the early elementary curriculum. Carefully selected photographs of soft objects make the concept of texture clear to the reader as well as aid in vocabulary acquisition.","Bilingual (Spanish, English)",23.6,17.7,"620.1/123--dc23","24 pp.","https://www.garethstevens.com/9781538250099",null,{"$f":"Table1[[#This Row],[QTY]]*Table1[[#This Row],['# Books]]","v":0},{"$f":"Table1[[#This Row],[QTY]]*Table1[[#This Row],[S&L Price]]","v":0}]
[null,null,95,"Aprendemos sobre texturas / Let's Learn Textures!",1,"¿Está mojado? / What Is Wet?","Library Bound Book",null,"978-1-5382-5004-4",{"$f":"HYPERLINK(Table1[[#This Row],[eCommerce Hyperlink]],\"Book Weblink\")","v":"Book Weblink"},null,"2020","January 2020","Library","7.000 X 7.000","Author","Emmett Martin",null,null,null,null,"B",null,"Grade K","Grade Pre-K - 1","Few kids can resist jumping into a big puddle. Getting wet can be fun. Learning to describe objects as wet can be fun, too, as evidenced in the bright, entertaining photographs and simple, engaging text in this motivating book. Readers will love to identify the objects within these pages, selected to appeal to them, and use the objects to comprehend new vocabulary words in corresponding sentences.","Bilingual (Spanish, English)",23.6,17.7,"620.1/1292--dc23","24 pp.","https://www.garethstevens.com/9781538250044",null,{"$f":"Table1[[#This Row],[QTY]]*Table1[[#This Row],['# Books]]","v":0},{"$f":"Table1[[#This Row],[QTY]]*Table1[[#This Row],[S&L Price]]","v":0}]
[null,40,95,"Asombrosos animalitos / Busy Bugs",6,"Asombrosos animalitos / Busy Bugs","Library Set",null,"978-1-5382-6978-7",{"$f":"HYPERLINK(Table1[[#This Row],[eCommerce Hyperlink]],\"Book Weblink\")","v":"Book Weblink"},null,"2022","August 2021","Library","7.625 X 7.125",null,null,null,null,null,null,null,null,"Grade K","Grade Pre-K - 2","From ants to spiders, bugs are all around us. They always seem to be on a mission, and they are. They're trying to find food and shelter to survive, even if we don't see everything they do each day. Young readers are invited along with the bugs they know to find out how they stay busy. Food, homes, and bug bodies are discussed in each volume, complemented by colorful, detailed photographs. Whether beetles or butterflies, bugs have a lot to do, and this set makes it fun to learn about. Features include: Encourages observation of the natural world. Close picture-to-text correlation aids young readers. Supports the Next Generation Science Standards for kindergarten by describing patterns of what animals need to survive.","Bilingual (Spanish, English)",141.6,106.2,null,"24 pp.","https://www.garethstevens.com/9781538269787",null,{"$f":"Table1[[#This Row],[QTY]]*Table1[[#This Row],['# Books]]","v":0},{"$f":"Table1[[#This Row],[QTY]]*Table1[[#This Row],[S&L Price]]","v":0}]
[null,40,95,"Asombrosos animalitos / Busy Bugs",1,"Escarabajos / Beetles","eBook",null,"978-1-5382-6954-1",{"$f":"HYPERLINK(Table1[[#This Row],[eCommerce Hyperlink]],\"Book Weblink\")","v":"Book Weblink"},null,"2022","August 2021",null,null,"Author","Bray Jacobson",null,null,null,null,"C",null,"Grade K","Grade Pre-K - 2","There are so many kinds of beetles. From the odd-looking rhinoceros beetle to the familiar ladybug and the lovely firefly, beetles can be found all over the world in all kinds of environments. Young readers will learn cool details about these interesting bugs, including about their body structure, how they reproduce, and the ways they stay busy. Full-color photographs correlate to the low-ATOS text, allowing beginning readers an even better comprehension of the many facts about beetles. Whether enthusiastic or simply curious about bugs, readers will gain an appreciation of beetles when they're done with this book.","Bilingual (Spanish, English)",23.6,17.7,"595.76","24 pp.","https://www.garethstevens.com/9781538269541",null,{"$f":"Table1[[#This Row],[QTY]]*Table1[[#This Row],['# Books]]","v":0},{"$f":"Table1[[#This Row],[QTY]]*Table1[[#This Row],[S&L Price]]","v":0}]
[null,40,95,"Asombrosos animalitos / Busy Bugs",1,"Moscas / Flies","Library Bound Book",null,"978-1-5382-6957-2",{"$f":"HYPERLINK(Table1[[#This Row],[eCommerce Hyperlink]],\"Book Weblink\")","v":"Book Weblink"},null,"2022","August 2021","Library","7.625 X 7.125","Author","Bray Jacobson",null,null,null,null,"C",null,"Grade K","Grade Pre-K - 2","If it's summer and there's trash around, there are bound to be flies. But house flies are only one of many kinds of flies, and they're all fascinating bugs. Beginning readers ascend into the world of the fly in this fun introduction. Fly bodies and behavior are discussed in age-appropriate, low-ATOS text, supported by photographs that closely correlate with the narrative. From what they eat to how they are born, the details will leave readers mesmerized by the common buzzy, busy bugs they'll often see, but don't yet appreciate.","Bilingual (Spanish, English)",23.6,17.7,"595.7/35--dc23","24 pp.","https://www.garethstevens.com/9781538269572",null,{"$f":"Table1[[#This Row],[QTY]]*Table1[[#This Row],['# Books]]","v":0},{"$f":"Table1[[#This Row],[QTY]]*Table1[[#This Row],[S&L Price]]","v":0}]
[null,null,96,"Animales del zoológico / Zoo Animals",1,"Las nutrias / Otters at the Zoo","eBook",null,"978-1-5382-4362-6",{"$f":"HYPERLINK(Table1[[#This Row],[eCommerce Hyperlink]],\"Book Weblink\")","v":"Book Weblink"},null,"2020","August 2019",null,null,"Author, Translated by","Seth Lynch, Esther Ortiz","1.7","0.5",null,null,"C",null,"Grade K","Grade Pre-K - 2","Otters move so fast in their habitat at the zoo, sometimes it can be difficult to get a good look at them. With this book, beginning readers get much more up-close and personal with adorable otters. Including what otters eat and how they spend their time, the main content and language is age-appropriate for pre-K readers. Full-color photographs correlate to the otter information to further aid new readers as they swim along with otters at the zoo.","Bilingual (Spanish, English)",23.6,17.7,"599.769--dc23","24 pp.","https://www.garethstevens.com/9781538243626",null,{"$f":"Table1[[#This Row],[QTY]]*Table1[[#This Row],['# Books]]","v":0},{"$f":"Table1[[#This Row],[QTY]]*Table1[[#This Row],[S&L Price]]","v":0}]
[null,null,96,"Animales del zoológico / Zoo Animals",1,"Los renos / Reindeer at the Zoo","eBook",null,"978-1-5382-4363-3",{"$f":"HYPERLINK(Table1[[#This Row],[eCommerce Hyperlink]],\"Book Weblink\")","v":"Book Weblink"},null,"2020","August 2019",null,null,"Author, Translated by","Seth Lynch, Esther Ortiz","1.4","0.5",null,null,"C",null,"Grade K","Grade Pre-K - 2","Reindeer have a reputation of living at the North Pole, but they actually live in North America, Europe, and Siberia. Encountering Santa's mode of transport at the zoo can be magical. Learning all about what reindeer eat and how they spend their time in their zoo habitat will make visits to the zoo even better. With language and content perfect for beginning readers, this book enables readers to find out more about their favorite zoo exhibit all on their own.","Bilingual (Spanish, English)",23.6,17.7,"599.65/8--dc23","24 pp.","https://www.garethstevens.com/9781538243633",null,{"$f":"Table1[[#This Row],[QTY]]*Table1[[#This Row],['# Books]]","v":0},{"$f":"Table1[[#This Row],[QTY]]*Table1[[#This Row],[S&L Price]]","v":0}]
[null,null,96,"Animales del zoológico / Zoo Animals",1,"Avestruces / Ostriches at the Zoo","Library Bound Book",null,"978-1-4824-3233-6",{"$f":"HYPERLINK(Table1[[#This Row],[eCommerce Hyperlink]],\"Book Weblink\")","v":"Book Weblink"},null,"2016","August 2015","Library","7.625 X 7.125","Author","Finn Ward",null,null,null,null,"C",null,"Grade K","Grade Pre-K - 2","Ostriches are the largest birds on Earth, and many of these supersized animals call zoos home. These big birds don’t bury their heads in the sand like many believe, but they do all sorts of amazing things. Running more than 40 miles (64.4 km) per hour and using their wings to steer as they go, these big birds will wow beginning readers with their lives inside their zoo habitats. Through simple text and full-color photography readers will also learn how zookeepers take care of ostriches and make sure they live long, happy lives.","Bilingual (Spanish, English)",23.6,17.7,"598.5","24 pp.","https://www.garethstevens.com/9781482432336",null,{"$f":"Table1[[#This Row],[QTY]]*Table1[[#This Row],['# Books]]","v":0},{"$f":"Table1[[#This Row],[QTY]]*Table1[[#This Row],[S&L Price]]","v":0}]
[null,null,96,"Animales del zoológico / Zoo Animals",1,"Jirafas / Giraffes at the Zoo","Library Bound Book",null,"978-1-4824-3229-9",{"$f":"HYPERLINK(Table1[[#This Row],[eCommerce Hyperlink]],\"Book Weblink\")","v":"Book Weblink"},null,"2016","August 2015","Library","7.625 X 7.125","Author","Finn Ward",null,null,null,null,"C",null,"Grade K","Grade Pre-K - 2","Giraffes are the tallest land animals on Earth, and these big creatures have a lot to teach readers about zoo life. Through simple text and well-chosen photographs, beginning readers will love learning about a day in the life of a giraffe at the zoo. From their love of munching leaves to raising their young, giraffes are some of young readers’ favorite animals to see at the zoo.","Bilingual (Spanish, English)",23.6,17.7,"599.638","24 pp.","https://www.garethstevens.com/9781482432299",null,{"$f":"Table1[[#This Row],[QTY]]*Table1[[#This Row],['# Books]]","v":0},{"$f":"Table1[[#This Row],[QTY]]*Table1[[#This Row],[S&L Price]]","v":0}]
[null,null,96,"Animales del zoológico / Zoo Animals",1,"Osos polares / Polar Bears at the Zoo","Library Bound Book",null,"978-1-4824-3239-8",{"$f":"HYPERLINK(Table1[[#This Row],[eCommerce Hyperlink]],\"Book Weblink\")","v":"Book Weblink"},null,"2016","August 2015","Library","7.625 X 7.125","Author","Finn Ward",null,null,null,null,"C",null,"Grade K","Grade Pre-K - 2","Polar bears are huge, menacing mammals that hunt for food in the wild. In the zoo, though, these big, furry animals are almost cute! Beginning readers will love learning about these big bears as trainers take care of them and their adorable bear cubs. Polar bears love to spend their time in zoos munching on carrots and fish, or even playing on rocks before going for a swim. Through simple text and supporting photographs, readers discover fun facts about these impressive predators within the safe setting of a hometown zoo. Learning about these great animals is an exciting way to gain a better understanding of nature from the comfort of your hometown zoo.","Bilingual (Spanish, English)",23.6,17.7,"599.786","24 pp.","https://www.garethstevens.com/9781482432398",null,{"$f":"Table1[[#This Row],[QTY]]*Table1[[#This Row],['# Books]]","v":0},{"$f":"Table1[[#This Row],[QTY]]*Table1[[#This Row],[S&L Price]]","v":0}]
[null,null,96,"Nos encantan las ciencias / So into Science!",1,"Exploremos el bosque / Exploring the Forest","Library Bound Book",null,"978-1-5382-3636-9",{"$f":"HYPERLINK(Table1[[#This Row],[eCommerce Hyperlink]],\"Book Weblink\")","v":"Book Weblink"},null,"2019","January 2019","Library","7.625 X 7.125","Author, Translated by","Marie Roesser, Eida de la Vega","0.9","0.5",null,null,"C",null,"Grade K","Grade Pre-K - 2","Readers head into the forest and learn about just a few of the fascinating life-forms that call it home. Young forest rangers will learn to spot oak and maple seeds, how ants help forests grow, and more cool facts about this remarkable biome. Appealing low-ATOS text is coupled with perfectly chosen photographs to further engage readers. This charming book is a great resource to support the elementary science curriculum.","Bilingual (Spanish, English)",23.6,17.7,"577.3--dc23","24 pp.","https://www.garethstevens.com/9781538236369",null,{"$f":"Table1[[#This Row],[QTY]]*Table1[[#This Row],['# Books]]","v":0},{"$f":"Table1[[#This Row],[QTY]]*Table1[[#This Row],[S&L Price]]","v":0}]
[null,null,96,"Nos encantan las ciencias / So into Science!",1,"Exploremos el zoológico / Exploring the Zoo","Library Bound Book",null,"978-1-5382-3626-0",{"$f":"HYPERLINK(Table1[[#This Row],[eCommerce Hyperlink]],\"Book Weblink\")","v":"Book Weblink"},null,"2019","January 2019","Library","7.625 X 7.125","Author, Translated by","Emmett Martin, Eida de la Vega","0.9","0.5",null,null,"C",null,"Grade K","Grade Pre-K - 2","Science isn't just something you learn about in a book or in the classroom. There are plenty of science concepts to discover through a fun trip to the zoo. This exciting scenario is the gateway to some fascinating facts about elephants, lions, and other animals as well as an appreciation for wildlife. The accessible text is supported by colorful photographs of high-interest creatures that will charm readers of all levels.","Bilingual (Spanish, English)",23.6,17.7,"590.73--dc23","24 pp.","https://www.garethstevens.com/9781538236260",null,{"$f":"Table1[[#This Row],[QTY]]*Table1[[#This Row],['# Books]]","v":0},{"$f":"Table1[[#This Row],[QTY]]*Table1[[#This Row],[S&L Price]]","v":0}]
[null,11,null,"Tons of Trucks!",6,"Tons of Trucks!: Set 2","Library Set",null,"978-1-5382-6681-6",{"$f":"HYPERLINK(Table1[[#This Row],[eCommerce Hyperlink]],\"Book Weblink\")","v":"Book Weblink"},null,"2022","August 2021","Library","7.625 X 7.125",null,null,null,null,null,null,null,null,"Grade K","Grade Pre-K - 2","Honk! Honk! Big trucks coming through! Fire trucks, dump trucks, and garbage trucks will attract truck enthusiasts to this colorful and educational set. Each vibrant volume features the most interesting facts young readers want to know and up-close photographs show trucks and their parts in action. The accessible narratives make this set achievable and encouraging for beginning readers. Features include: Each volume is written at a low-ATOS level below 1.0. Carefully selected photographs provide visual clues for vocabulary terms. Picture glossaries and indexes help young readers hone their skills in navigating nonfiction books.","English",141.6,106.2,null,"24 pp.","https://www.garethstevens.com/9781538266816",null,{"$f":"Table1[[#This Row],[QTY]]*Table1[[#This Row],['# Books]]","v":0},{"$f":"Table1[[#This Row],[QTY]]*Table1[[#This Row],[S&L Price]]","v":0}]
[null,null,null,"Animals from Head to Tail",12,"Animals from Head to Tail: Sets 1 – 2","Library Set",null,"978-1-5382-5971-9",{"$f":"HYPERLINK(Table1[[#This Row],[eCommerce Hyperlink]],\"Book Weblink\")","v":"Book Weblink"},null,"2021","August 2020","Library","7.625 X 7.125",null,null,null,null,null,null,null,null,"Grade K - 2","Grade Pre-K - 2","So many young people would love to work in a zoo or become a veterinarian. This delightful set is the first step on that educational journey. Young readers will love this entertaining spotlight on animal adaptations and behaviors, which is a particularly essential concept of the early elementary science classroom. Low-ATOS narratives and vivid photographs explain and demonstrate the body parts that make a variety of animals truly unique, from an alligator's tail to a horse's mane. Features include: Valuable concepts are supported by helpful and appealing images. High-interest animal subjects will engage readers. Introduces and reinforces an understanding of a variety of science vocabulary terms.","English",283.2,212.4,null,"24 pp.","https://www.garethstevens.com/9781538259719",null,{"$f":"Table1[[#This Row],[QTY]]*Table1[[#This Row],['# Books]]","v":0},{"$f":"Table1[[#This Row],[QTY]]*Table1[[#This Row],[S&L Price]]","v":0}]
[null,null,null,"An Animal Family",18,"An Animal Family: Sets 1 – 3","Library Set",null,"978-1-5382-5983-2",{"$f":"HYPERLINK(Table1[[#This Row],[eCommerce Hyperlink]],\"Book Weblink\")","v":"Book Weblink"},null,"2021","August 2020","Library","7.625 X 7.125",null,null,null,null,null,null,null,null,"Grade K","Grade Pre-K - 2","Baby animals are an important part of an animal family. Watching cubs become bears and foals grow into horses is an important science lesson, but it teaches how animals make families too. This early reader collection uses simple but informative text paired with full-color photographs to show different animals caring for their young. Each animal family teaches young readers something new about the world around them. From calves and piglets on a farm to the seals and dolphins that care for their young in the ocean, readers will love exploring how animals of all shapes and sizes live and grow together. Features include: High-interest topic that appeals to developing readers. Introduction to informational-text features such as an index and table of contents. ATOS reading levels below 1.0.","English",424.8,318.60000000000002,null,"24 pp.","https://www.garethstevens.com/9781538259832",null,{"$f":"Table1[[#This Row],[QTY]]*Table1[[#This Row],['# Books]]","v":0},{"$f":"Table1[[#This Row],[QTY]]*Table1[[#This Row],[S&L Price]]","v":0}]
[null,null,null,"Everyday Mysteries",18,"Everyday Mysteries: Sets 1 – 3","Library Set",null,"978-1-5382-5765-4",{"$f":"HYPERLINK(Table1[[#This Row],[eCommerce Hyperlink]],\"Book Weblink\")","v":"Book Weblink"},null,"2021","August 2020","Library","7.000 X 7.000",null,null,null,null,null,null,null,null,"Grade 1 - 2","Grade 1 - 3","Why does that happen? Where does that come from? What happens next? These are the must-know questions of promising scientists and inquisitive investigators. This inspiring collection allows them to find the answers they seek about the world around them. Whether they're curious about nature, engineering, or the inner workings of their community, they'll come to understand the everyday processes happening around them. From where the recycling goes to how a rainbow appears, this appealing set engages readers with achievable narratives full of fascinating facts. Features include: A concluding, step-by-step diagram summarizes information in each book. Addresses both science and social studies topics. Each book's text is carefully crafted so that readers will make connections to their daily lives.","English",430.8,323.10000000000002,null,"24 pp.","https://www.garethstevens.com/9781538257654",null,{"$f":"Table1[[#This Row],[QTY]]*Table1[[#This Row],['# Books]]","v":0},{"$f":"Table1[[#This Row],[QTY]]*Table1[[#This Row],[S&L Price]]","v":0}]
[null,null,null,"Flowchart Smart",24,"Flowchart Smart: Sets 1 – 4","Library Set",null,"978-1-5382-5334-2",{"$f":"HYPERLINK(Table1[[#This Row],[eCommerce Hyperlink]],\"Book Weblink\")","v":"Book Weblink"},null,"2020","January 2020","Library","7.250 X 9.250",null,null,null,null,null,null,null,null,"Grade 4 - 5","Grade 4 - 6","Some science subjects are hard to grasp without real-life examples to guide the way to comprehension. This admired continuing series helps readers connect with the important curricular science topics they need to know, including physics, ecosystems, and human body systems. Eye-catching, accessible flowcharts help them review the most vital concepts so they can absorb the information and make it their own. Future scientists will be inspired by the bright design and helpful photographs featured throughout each must-have book. Features include: Flowcharts that encourage information retention and are especially helpful for visual learners. The animals and plants are chosen for their significance and high-interest appeal. Provides a valuable collection for tackling both STEM concepts and Common Core informational text skills.","English",790.8,592.79999999999995,null,"48 pp.","https://www.garethstevens.com/9781538253342",null,{"$f":"Table1[[#This Row],[QTY]]*Table1[[#This Row],['# Books]]","v":0},{"$f":"Table1[[#This Row],[QTY]]*Table1[[#This Row],[S&L Price]]","v":0}]
[null,null,null,"Engineering Our World",12,"Engineering Our World: Sets 1 – 2","Library Set",null,"978-1-5382-4908-6",{"$f":"HYPERLINK(Table1[[#This Row],[eCommerce Hyperlink]],\"Book Weblink\")","v":"Book Weblink"},null,"2021","August 2020","Library","8.500 X 8.500",null,null,null,null,null,null,null,null,"Grade 2 - 3","Grade 2 - 5","Nature produces incredible creations, but man-made structures can be truly marvelous. This STEM-related collection guides young engineers through the start-to-finish process of making important and interesting objects such as bridges, computers, satellites, and roller coasters. Along the way, they'll learn key concepts of construction, technology, and science as well as applicable vocabulary. Inspiring photographs will make them consider their own futures as engineers. Features include: Supports STEM concepts as well as introduces readers to STEM careers. Achievable activities for readers to exercise their own engineering skills. Provides opportunities for examining informational text elements, an important facet of the Common Core English Language Arts Standards.\n","English",283.2,212.4,null,"24 pp.","https://www.garethstevens.com/9781538249086",null,{"$f":"Table1[[#This Row],[QTY]]*Table1[[#This Row],['# Books]]","v":0},{"$f":"Table1[[#This Row],[QTY]]*Table1[[#This Row],[S&L Price]]","v":0}]
[null,null,null,"The History of Our Holidays",12,"The History of Our Holidays: Sets 1 – 2","Library Set",null,"978-1-5382-4154-7",{"$f":"HYPERLINK(Table1[[#This Row],[eCommerce Hyperlink]],\"Book Weblink\")","v":"Book Weblink"},null,"2020","August 2019","Library","7.000 X 7.000",null,null,null,null,null,null,null,null,"Grade 1 - 2","Grade 1 - 3","Many people celebrate holidays without even thinking about their long history or how the traditions associated with them originated. This engaging collection can help. Each entertaining book explains the background of a celebration as well as the special ways people mark the day. Full-color photographs offer captivating scenes of each holiday, including Hanukkah, Groundhog Day, and Presidents' Day. Readers will be inspired to mark their calendars for the next celebration. Features include: Achievable text and high-interest topics that appeal to all levels of readers. Offers lenses through which to study curricular topics such as history and world cultures. Reading informational texts with proficiency is a standard of the English Language Arts Common Core.","English",283.2,212.4,null,"24 pp.","https://www.garethstevens.com/9781538241547",null,{"$f":"Table1[[#This Row],[QTY]]*Table1[[#This Row],['# Books]]","v":0},{"$f":"Table1[[#This Row],[QTY]]*Table1[[#This Row],[S&L Price]]","v":0}]
[null,null,null,"Fun Fact File: World Wonders!",1,"20 Fun Facts About the Great Pyramid","Interactive eBook","Flash","978-1-4824-0469-2",{"$f":"HYPERLINK(Table1[[#This Row],[eCommerce Hyperlink]],\"Book Weblink\")","v":"Book Weblink"},null,"2014","January 2014",null,null,"Author","Kristen Rajczak Nelson",null,null,"30",null,"N","930L","Grade 2 - 3","Grade 2 - 5","There are many ancient pyramids in Egypt, but there’s only one Great Pyramid. Completed around 2550 BC, it is the largest pyramid of the ancient world. Although it was originally a tomb for an Egyptian emperor, today the pyramid is a link to the past, as well as a highly popular destination for world travelers. Dazzling photographs of the Great Pyramid and others from around the world are sure to intrigue and educate readers, and illustrations and graphic organizers help readers learn more from the text.","English",33.25,24.95,"932","32 pp.","https://www.garethstevens.com/9781482404692",null,{"$f":"Table1[[#This Row],[QTY]]*Table1[[#This Row],['# Books]]","v":0},{"$f":"Table1[[#This Row],[QTY]]*Table1[[#This Row],[S&L Price]]","v":0}]
[null,null,null,"Amazing Origami",1,"Floating Origami","eBook",null,"978-1-4824-4168-0",{"$f":"HYPERLINK(Table1[[#This Row],[eCommerce Hyperlink]],\"Book Weblink\")","v":"Book Weblink"},null,"2016","January 2016",null,null,"Author","Joe Fullman",null,null,null,null,"L",null,"Grade 2 - 3","Grade 2 - 5","For many, the fun of origami projects is in the folding. However, the crafts in this book provide tons of fun even after they're complete; they float! Use an origami canoe to carry a message to the middle of a lake, or play with a paper duck in the bathtub. Readers follow a series of steps to transform a square of paper into many cool floating origami creations, including a lotus flower. An introductory section highlights the basic folds and terms readers need to know and full-color photographs add further guidance to each step.","English",27.6,20.7,"736'.982--dc23","32 pp.","https://www.garethstevens.com/9781482441680",null,{"$f":"Table1[[#This Row],[QTY]]*Table1[[#This Row],['# Books]]","v":0},{"$f":"Table1[[#This Row],[QTY]]*Table1[[#This Row],[S&L Price]]","v":0}]
[null,null,null,"Amazing Origami",1,"Origami Games","Library Bound Book",null,"978-1-4824-4161-1",{"$f":"HYPERLINK(Table1[[#This Row],[eCommerce Hyperlink]],\"Book Weblink\")","v":"Book Weblink"},null,"2016","January 2016","Library","8.500 X 11.00","Author","Joe Fullman",null,null,null,null,"L",null,"Grade 2 - 3","Grade 2 - 5","Some of the best games are played using a few simple objects and a lot of imagination. Dice, dominoes, and even a basketball hoop are possible to make using origami techniques and a bit of paper. Simple instructions complete with full-color photographs guide readers through the folds and flaps needed to make fun origami games. An introductory section introduces those new to origami to the skills needed to make a spinning top and even a fortune-telling game.","English",27.6,20.7,"736'.982--dc23","32 pp.","https://www.garethstevens.com/9781482441611",null,{"$f":"Table1[[#This Row],[QTY]]*Table1[[#This Row],['# Books]]","v":0},{"$f":"Table1[[#This Row],[QTY]]*Table1[[#This Row],[S&L Price]]","v":0}]
[null,null,null,"Amazing Origami",1,"Origami Bugs","Library Bound Book",null,"978-1-4824-2199-6",{"$f":"HYPERLINK(Table1[[#This Row],[eCommerce Hyperlink]],\"Book Weblink\")","v":"Book Weblink"},null,"2015","January 2015","Library","8.500 X 11.00","Author","Catherine Ard",null,null,"24",null,"L",null,"Grade 2 - 3","Grade 2 - 5","Bugs can be squirmy, wriggly, and creepy. Origami bugs are just cool! With this engaging book and a few sheets of paper, young artists will read about and create bees, cicadas, butterflies, and other interesting insects. Colorful photographs, guiding illustrations, and numbered directions make each activity accessible, no matter the artist's level of proficiency. After completing this book, readers will want to make more origami creatures and other creations.","English",27.6,20.7,"736.982","32 pp.","https://www.garethstevens.com/9781482421996",null,{"$f":"Table1[[#This Row],[QTY]]*Table1[[#This Row],['# Books]]","v":0},{"$f":"Table1[[#This Row],[QTY]]*Table1[[#This Row],[S&L Price]]","v":0}]
[null,null,null,"Amazing Origami",1,"Origami Monsters","Library Bound Book",null,"978-1-4824-2201-6",{"$f":"HYPERLINK(Table1[[#This Row],[eCommerce Hyperlink]],\"Book Weblink\")","v":"Book Weblink"},null,"2015","January 2015","Library","8.500 X 11.00","Author","Catherine Ard",null,null,"24",null,"L",null,"Grade 2 - 3","Grade 2 - 5","Monsters are high-interest topics for today's readers, and activities about monsters make this book irresistible! In this entertaining volume, monster enthusiasts will love learning how to create origami figures of Dracula, Frankenstein, the Loch Ness Monster, and more. They'll become skilled at the basic folds and techniques needed for each project through illustrations and easy-to-follow instructions. After completing the fun activities in this book, readers can design and make their own ghoulish creations using the ancient art of paper folding.","English",27.6,20.7,"736.982","32 pp.","https://www.garethstevens.com/9781482422016",null,{"$f":"Table1[[#This Row],[QTY]]*Table1[[#This Row],['# Books]]","v":0},{"$f":"Table1[[#This Row],[QTY]]*Table1[[#This Row],[S&L Price]]","v":0}]
[null,null,null,"Amazing Origami",1,"Origami Space","Library Bound Book",null,"978-1-4824-2204-7",{"$f":"HYPERLINK(Table1[[#This Row],[eCommerce Hyperlink]],\"Book Weblink\")","v":"Book Weblink"},null,"2015","January 2015","Library","8.500 X 11.00","Author","Catherine Ard",null,null,"24",null,"L",null,"Grade 2 - 3","Grade 2 - 5","Future engineers will love using their hands to create the space-related projects in this fun book, including a rocket, a space shuttle, and even an alien and its spacecraft. They'll be amazed that a simple piece of paper can transform into such cool shapes, all through the Japanese art of paper folding. Numerous visual aids and thoughtfully explained directions guide readers through different challenges. The folds and methods they'll learn will help them establish a solid understanding for further origami endeavors. Science and art collide in this accessible and entertaining activity guide.","English",27.6,20.7,"736.982","32 pp.","https://www.garethstevens.com/9781482422047",null,{"$f":"Table1[[#This Row],[QTY]]*Table1[[#This Row],['# Books]]","v":0},{"$f":"Table1[[#This Row],[QTY]]*Table1[[#This Row],[S&L Price]]","v":0}]
[null,null,null,"Amazing Origami",1,"Origami Dinosaurs","eBook",null,"978-1-4339-9651-1",{"$f":"HYPERLINK(Table1[[#This Row],[eCommerce Hyperlink]],\"Book Weblink\")","v":"Book Weblink"},null,"2014","August 2013",null,null,"Author","Lisa Miles",null,null,"24","20","L",null,"Grade 2 - 3","Grade 2 - 5","What could be more exciting than learning about dinosaurs? Creating these fearsome creatures! Using the cool art of origami, readers will craft dinosaurs from just a piece of paper. Readers will be introduced to basic folding concepts as well as the bases used for many origami projects. Ranked from easy to hard, the projects are presented in an understandable, step-by-step format to help readers make paper diplodocuses and plesiosauruses, among others. Colorful pictures of each dinosaur, as well as pictures of each step of the process, complement the instructions, and captivating fact boxes enhance readers’ knowledge with information about each featured dinosaur.","English",28.6,21.45,"736","32 pp.","https://www.garethstevens.com/9781433996511",null,{"$f":"Table1[[#This Row],[QTY]]*Table1[[#This Row],['# Books]]","v":0},{"$f":"Table1[[#This Row],[QTY]]*Table1[[#This Row],[S&L Price]]","v":0}]
[null,null,null,"Amazing Origami",1,"Origami Sea Creatures","Library Bound Book",null,"978-1-4339-9660-3",{"$f":"HYPERLINK(Table1[[#This Row],[eCommerce Hyperlink]],\"Book Weblink\")","v":"Book Weblink"},null,"2014","August 2013","Library","8.500 X 11.00","Author","Lisa Miles",null,null,"24","20","L",null,"Grade 2 - 3","Grade 2 - 5","Readers will dive right in to the art of origami as they discover paper-folding projects featuring whales, seals, and other sea creatures! A step-by-step guide will help readers tackle each animal, including pictures of each step. Readers can choose easy, medium, or hard folding projects after learning the basic folds and common bases of origami. Short fact boxes and colorful photographs will keep readers interested even after they’ve completed lovely paper sharks, rays, and even penguins!","English",28.6,21.45,"736","32 pp.","https://www.garethstevens.com/9781433996603",null,{"$f":"Table1[[#This Row],[QTY]]*Table1[[#This Row],['# Books]]","v":0},{"$f":"Table1[[#This Row],[QTY]]*Table1[[#This Row],[S&L Price]]","v":0}]
[null,null,null,"Amazing Origami",1,"Origami Wild Animals","eBook",null,"978-1-4339-9667-2",{"$f":"HYPERLINK(Table1[[#This Row],[eCommerce Hyperlink]],\"Book Weblink\")","v":"Book Weblink"},null,"2014","August 2013",null,null,"Author","Lisa Miles",null,null,"24","20","L",null,"Grade 2 - 3","Grade 2 - 5","Wild animals have some cool physical characteristics. A giraffe’s long neck, a snake’s slithery body, and a panda’s black-and-white coat are all on display when readers create them using the folding techniques of origami! Including an introduction to basic folds and common paper-art bases, step-by-step instructions will guide readers through making origami wild animals. Pictures illustrate each step of the process so readers know just what to do. Ranked from easy to hard, the projects will engage readers with cool facts about each featured animal and amazing full-color photographs.","English",28.6,21.45,"736","32 pp.","https://www.garethstevens.com/9781433996672",null,{"$f":"Table1[[#This Row],[QTY]]*Table1[[#This Row],['# Books]]","v":0},{"$f":"Table1[[#This Row],[QTY]]*Table1[[#This Row],[S&L Price]]","v":0}]
[null,null,null,"Geek Out!",12,"Geek Out!: Sets 1 – 2","Library Set",null,"978-1-5382-4163-9",{"$f":"HYPERLINK(Table1[[#This Row],[eCommerce Hyperlink]],\"Book Weblink\")","v":"Book Weblink"},null,"2020","August 2019","Library","8.500 X 11.00",null,null,null,null,null,null,null,null,"Grade 3 - 4","Grade 3 - 6","Being a \"geek\" today is about loving something so much that you want to find out everything about it. Geeks are passionate, enthusiastic people with interests that range from cosplay to drone racing to writing fan fiction. This set guides young readers with an interest in esports or steampunk through the deep, incredibly fun worlds created by other geeks. Authentic photographs complement the age-appropriate content to help readers \"geek out\" about creating their own costumes, attending a convention for the first time, and even taking part in a video game tournament. Once they get started, the possibilities are endless! Features include: Encourages creative thinking, planning, and execution. Highlights the importance of community and making connections with other people. Offers advice and steps readers can take now to get started.","English",331.2,248.4,null,"32 pp.","https://www.garethstevens.com/9781538241639",null,{"$f":"Table1[[#This Row],[QTY]]*Table1[[#This Row],['# Books]]","v":0},{"$f":"Table1[[#This Row],[QTY]]*Table1[[#This Row],[S&L Price]]","v":0}]
[null,null,null,"LitLinks",1,"Jump Frog Jump / Frogs Paired Set","Fiction/NonFiction Pair",null,"978-1-4824-5347-8",{"$f":"HYPERLINK(Table1[[#This Row],[eCommerce Hyperlink]],\"Book Weblink\")","v":"Book Weblink"},null,"2017","August 2016",null,null,"Author","Various",null,null,null,null,null,null,"Grade Pre-K - 1","Grade Pre-K - 1","This paired set, along with a comprehensive learning guide, inspires student inquiry and invites critical thinking with paired fiction and nonfiction texts.","English",53.27,39.950000000000003,null,null,"https://www.garethstevens.com/9781482453478",null,{"$f":"Table1[[#This Row],[QTY]]*Table1[[#This Row],['# Books]]","v":0},{"$f":"Table1[[#This Row],[QTY]]*Table1[[#This Row],[S&L Price]]","v":0}]
[null,null,null,"LitLinks",10,"LitLinks Fiction/Nonfiction Paired Sets Grades K – 1","Fiction/NonFiction Pair",null,"978-1-4824-2317-4",{"$f":"HYPERLINK(Table1[[#This Row],[eCommerce Hyperlink]],\"Book Weblink\")","v":"Book Weblink"},null,"2015","August 2014",null,null,"Author","Various",null,null,null,null,null,null,"Grade K - 1","Grade K - 1","LitLinks pairs popular fiction and nonfiction texts that inspire student inquiry and invite critical thinking. The familiar format of fiction introduces a topic and gives the reader confidence to explore and compare its nonfiction counterpart. These paired sets along with a comprehensive learning guide let students demonstrate what they have learned from blending together narrative and expository elements. LitLinks paired fiction and nonfiction features: Provides opportunities for students to analyze and compare different perspectives. Develops critical reading and comprehension skills. Supports \"thinking across texts\" by illustrating how different authors treat the same topic. Builds background knowledge, a wider range of vocabulary, and enhances readers' comprehension of a specific topic. Contrasts craft and structures of fiction with craft and structures of informational texts.","English",532.70000000000005,399.5,null,null,"https://www.garethstevens.com/9781482423174",null,{"$f":"Table1[[#This Row],[QTY]]*Table1[[#This Row],['# Books]]","v":0},{"$f":"Table1[[#This Row],[QTY]]*Table1[[#This Row],[S&L Price]]","v":0}]
[null,null,null,"LitLinks",1,"Little Bear / Bear Cubs Paired Set","Fiction/NonFiction Pair",null,"978-1-4824-2307-5",{"$f":"HYPERLINK(Table1[[#This Row],[eCommerce Hyperlink]],\"Book Weblink\")","v":"Book Weblink"},null,"2015","August 2014",null,null,"Author","Various",null,null,null,null,null,null,"Grade K - 1","Grade K - 1","This paired set, along with a comprehensive learning guide, inspires student inquiry and invites critical thinking with paired fiction and nonfiction texts.","English",53.27,39.950000000000003,null,null,"https://www.garethstevens.com/9781482423075",null,{"$f":"Table1[[#This Row],[QTY]]*Table1[[#This Row],['# Books]]","v":0},{"$f":"Table1[[#This Row],[QTY]]*Table1[[#This Row],[S&L Price]]","v":0}]
[null,null,null,"LitLinks",1,"Winners Never Quit! / Soccer Paired Set","Fiction/NonFiction Pair",null,"978-1-4824-2316-7",{"$f":"HYPERLINK(Table1[[#This Row],[eCommerce Hyperlink]],\"Book Weblink\")","v":"Book Weblink"},null,"2015","August 2014",null,null,"Author","Various",null,null,null,null,null,null,"Grade K - 1","Grade K - 1","This paired set, along with a comprehensive learning guide, inspires student inquiry and invites critical thinking with paired fiction and nonfiction texts.","English",53.27,39.950000000000003,null,null,"https://www.garethstevens.com/9781482423167",null,{"$f":"Table1[[#This Row],[QTY]]*Table1[[#This Row],['# Books]]","v":0},{"$f":"Table1[[#This Row],[QTY]]*Table1[[#This Row],[S&L Price]]","v":0}]
[null,null,null,"LitLinks",1,"Mama Don't Allow / Louis Armstrong Paired Set","Fiction/NonFiction Pair",null,"978-1-4824-5361-4",{"$f":"HYPERLINK(Table1[[#This Row],[eCommerce Hyperlink]],\"Book Weblink\")","v":"Book Weblink"},null,"2017","August 2016",null,null,"Author","Various",null,null,null,null,null,null,"Grade Pre-K - 3","Grade Pre-K - 3","This paired set, along with a comprehensive learning guide, inspires student inquiry and invites critical thinking with paired fiction and nonfiction texts.","English",53.27,39.950000000000003,null,null,"https://www.garethstevens.com/9781482453614",null,{"$f":"Table1[[#This Row],[QTY]]*Table1[[#This Row],['# Books]]","v":0},{"$f":"Table1[[#This Row],[QTY]]*Table1[[#This Row],[S&L Price]]","v":0}]
[null,null,null,"LitLinks",10,"LitLinks Fiction/Nonfiction Paired Sets Grades 2 – 3","Fiction/NonFiction Pair",null,"978-1-4824-2328-0",{"$f":"HYPERLINK(Table1[[#This Row],[eCommerce Hyperlink]],\"Book Weblink\")","v":"Book Weblink"},null,"2015","August 2014",null,null,"Author","Various",null,null,null,null,null,null,"Grade 2 - 3","Grade 2 - 3","LitLinks pairs popular fiction and nonfiction texts that inspire student inquiry and invite critical thinking. The familiar format of fiction introduces a topic and gives the reader confidence to explore and compare its nonfiction counterpart. These paired sets along with a comprehensive learning guide let students demonstrate what they have learned from blending together narrative and expository elements. LitLinks paired fiction and nonfiction features: Provides opportunities for students to analyze and compare different perspectives. Develops critical reading and comprehension skills. Supports \"thinking across texts\" by illustrating how different authors treat the same topic. Builds background knowledge, a wider range of vocabulary, and enhances readers' comprehension of a specific topic. Contrasts craft and structures of fiction with craft and structures of informational texts.","English",532.70000000000005,399.5,null,null,"https://www.garethstevens.com/9781482423280",null,{"$f":"Table1[[#This Row],[QTY]]*Table1[[#This Row],['# Books]]","v":0},{"$f":"Table1[[#This Row],[QTY]]*Table1[[#This Row],[S&L Price]]","v":0}]
[null,null,null,"LitLinks",1,"Mr. Popper's Penguins / Penguins Paired Set","Fiction/NonFiction Pair",null,"978-1-4824-2324-2",{"$f":"HYPERLINK(Table1[[#This Row],[eCommerce Hyperlink]],\"Book Weblink\")","v":"Book Weblink"},null,"2015","August 2014",null,null,"Author","Various",null,null,null,null,null,null,"Grade 2 - 3","Grade 2 - 3","This paired set, along with a comprehensive learning guide, inspires student inquiry and invites critical thinking with paired fiction and nonfiction texts.","English",53.27,39.950000000000003,null,null,"https://www.garethstevens.com/9781482423242",null,{"$f":"Table1[[#This Row],[QTY]]*Table1[[#This Row],['# Books]]","v":0},{"$f":"Table1[[#This Row],[QTY]]*Table1[[#This Row],[S&L Price]]","v":0}]
[null,null,null,"LitLinks",9,"LitLinks Fiction/Nonfiction Paired Sets Grades 4 – 5","Fiction/NonFiction Pair",null,"978-1-4824-5393-5",{"$f":"HYPERLINK(Table1[[#This Row],[eCommerce Hyperlink]],\"Book Weblink\")","v":"Book Weblink"},null,"2017","August 2016",null,null,"Author","Various",null,null,null,null,null,null,"Grade 4 - 5","Grade 4 - 5","LitLinks pairs popular fiction and nonfiction texts that inspire student inquiry and invite critical thinking. The familiar format of fiction introduces a topic and gives the reader confidence to explore and compare its nonfiction counterpart. These paired sets along with a comprehensive learning guide let students demonstrate what they have learned from blending together narrative and expository elements. LitLinks paired fiction and nonfiction features: Provides opportunities for students to analyze and compare different perspectives. Develops critical reading and comprehension skills. Supports \"thinking across texts\" by illustrating how different authors treat the same topic. Builds background knowledge, a wider range of vocabulary, and enhances readers' comprehension of a specific topic. Contrasts craft and structures of fiction with craft and structures of informational texts.","English",612.66999999999996,459.5,null,null,"https://www.garethstevens.com/9781482453935",null,{"$f":"Table1[[#This Row],[QTY]]*Table1[[#This Row],['# Books]]","v":0},{"$f":"Table1[[#This Row],[QTY]]*Table1[[#This Row],[S&L Price]]","v":0}]
[null,null,null,"LitLinks",1,"The True Confessions of Charlotte Doyle / Meet the Pirates Paired Set","Fiction/NonFiction Pair",null,"978-1-4824-5375-1",{"$f":"HYPERLINK(Table1[[#This Row],[eCommerce Hyperlink]],\"Book Weblink\")","v":"Book Weblink"},null,"2017","August 2016",null,null,"Author","Various",null,null,null,null,null,null,"Grade 3 - 7","Grade 3 - 7","This paired set, along with a comprehensive learning guide, inspires student inquiry and invites critical thinking with paired fiction and nonfiction texts.","English",61.27,45.95,null,null,"https://www.garethstevens.com/9781482453751",null,{"$f":"Table1[[#This Row],[QTY]]*Table1[[#This Row],['# Books]]","v":0},{"$f":"Table1[[#This Row],[QTY]]*Table1[[#This Row],[S&L Price]]","v":0}]
[null,null,null,"LitLinks",10,"LitLinks Fiction/Nonfiction Paired Sets Grades 4 – 5","Fiction/NonFiction Pair",null,"978-1-4824-2339-6",{"$f":"HYPERLINK(Table1[[#This Row],[eCommerce Hyperlink]],\"Book Weblink\")","v":"Book Weblink"},null,"2015","August 2014",null,null,"Author","Various",null,null,null,null,null,null,"Grade 4 - 5","Grade 4 - 5","LitLinks pairs popular fiction and nonfiction texts that inspire student inquiry and invite critical thinking. The familiar format of fiction introduces a topic and gives the reader confidence to explore and compare its nonfiction counterpart. These paired sets along with a comprehensive learning guide let students demonstrate what they have learned from blending together narrative and expository elements. LitLinks paired fiction and nonfiction features: Provides opportunities for students to analyze and compare different perspectives. Develops critical reading and comprehension skills. Supports \"thinking across texts\" by illustrating how different authors treat the same topic. Builds background knowledge, a wider range of vocabulary, and enhances readers' comprehension of a specific topic. Contrasts craft and structures of fiction with craft and structures of informational texts.","English",612.66999999999996,459.5,null,null,"https://www.garethstevens.com/9781482423396",null,{"$f":"Table1[[#This Row],[QTY]]*Table1[[#This Row],['# Books]]","v":0},{"$f":"Table1[[#This Row],[QTY]]*Table1[[#This Row],[S&L Price]]","v":0}]
[null,null,null,"LitLinks",1,"Island of the Blue Dolphins / The Exploration of Australasia and the Pacific Paired Set","Fiction/NonFiction Pair",null,"978-1-4824-2338-9",{"$f":"HYPERLINK(Table1[[#This Row],[eCommerce Hyperlink]],\"Book Weblink\")","v":"Book Weblink"},null,"2015","August 2014",null,null,"Author","Various",null,null,null,null,null,null,"Grade 4 - 5","Grade 4 - 5","This paired set, along with a comprehensive learning guide, inspires student inquiry and invites critical thinking with paired fiction and nonfiction texts.","English",61.27,45.95,null,null,"https://www.garethstevens.com/9781482423389",null,{"$f":"Table1[[#This Row],[QTY]]*Table1[[#This Row],['# Books]]","v":0},{"$f":"Table1[[#This Row],[QTY]]*Table1[[#This Row],[S&L Price]]","v":0}]
[null,null,null,"LitLinks",1,"M.C. Higgins, the Great / Slavery in Early America Paired Set","Fiction/NonFiction Pair",null,"978-1-4824-2330-3",{"$f":"HYPERLINK(Table1[[#This Row],[eCommerce Hyperlink]],\"Book Weblink\")","v":"Book Weblink"},null,"2015","August 2014",null,null,"Author","Various",null,null,null,null,null,null,"Grade 4 - 5","Grade 4 - 5","This paired set, along with a comprehensive learning guide, inspires student inquiry and invites critical thinking with paired fiction and nonfiction texts.","English",61.27,45.95,null,null,"https://www.garethstevens.com/9781482423303",null,{"$f":"Table1[[#This Row],[QTY]]*Table1[[#This Row],['# Books]]","v":0},{"$f":"Table1[[#This Row],[QTY]]*Table1[[#This Row],[S&L Price]]","v":0}]
[null,null,null,"LitLinks",1,"Johnny Tremain / The American Revolution Paired Set","Fiction/NonFiction Pair",null,"978-1-4824-5377-5",{"$f":"HYPERLINK(Table1[[#This Row],[eCommerce Hyperlink]],\"Book Weblink\")","v":"Book Weblink"},null,"2017","August 2016",null,null,"Author","Various",null,null,null,null,null,null,"Grade 6 - 8","Grade 6 - 8","This paired set, along with a comprehensive learning guide, inspires student inquiry and invites critical thinking with paired fiction and nonfiction texts.","English",61.27,45.95,null,null,"https://www.garethstevens.com/9781482453775",null,{"$f":"Table1[[#This Row],[QTY]]*Table1[[#This Row],['# Books]]","v":0},{"$f":"Table1[[#This Row],[QTY]]*Table1[[#This Row],[S&L Price]]","v":0}]
[null,null,null,"LitLinks",1,"Huckleberry Finn / Slavery in Early America Paired Set","Fiction/NonFiction Pair",null,"978-1-4824-5380-5",{"$f":"HYPERLINK(Table1[[#This Row],[eCommerce Hyperlink]],\"Book Weblink\")","v":"Book Weblink"},null,"2017","August 2016",null,null,"Author","Various",null,null,null,null,null,null,"Grade 7 - 9","Grade 7 - 9","This paired set, along with a comprehensive learning guide, inspires student inquiry and invites critical thinking with paired fiction and nonfiction texts.","English",61.27,45.95,null,null,"https://www.garethstevens.com/9781482453805",null,{"$f":"Table1[[#This Row],[QTY]]*Table1[[#This Row],['# Books]]","v":0},{"$f":"Table1[[#This Row],[QTY]]*Table1[[#This Row],[S&L Price]]","v":0}]
[null,null,null,"LitLinks",1,"The Age of Miracles / Global Warming Paired Set","Fiction/NonFiction Pair",null,"978-1-4824-2345-7",{"$f":"HYPERLINK(Table1[[#This Row],[eCommerce Hyperlink]],\"Book Weblink\")","v":"Book Weblink"},null,"2015","August 2014",null,null,"Author","Various",null,null,null,null,null,null,"Grade 6 - 7","Grade 6 - 9","This paired set, along with a comprehensive learning guide, inspires student inquiry and invites critical thinking with paired fiction and nonfiction texts.","English",61.27,45.95,null,null,"https://www.garethstevens.com/9781482423457",null,{"$f":"Table1[[#This Row],[QTY]]*Table1[[#This Row],['# Books]]","v":0},{"$f":"Table1[[#This Row],[QTY]]*Table1[[#This Row],[S&L Price]]","v":0}]
[null,null,null,"LitLinks",1,"Sacrifice / Salem Witch Trials Paired Set","Fiction/NonFiction Pair",null,"978-1-4824-2340-2",{"$f":"HYPERLINK(Table1[[#This Row],[eCommerce Hyperlink]],\"Book Weblink\")","v":"Book Weblink"},null,"2015","August 2014",null,null,"Author","Various",null,null,null,null,null,null,"Grade 6 - 7","Grade 6 - 9","This paired set, along with a comprehensive learning guide, inspires student inquiry and invites critical thinking with paired fiction and nonfiction texts.","English",61.27,45.95,null,null,"https://www.garethstevens.com/9781482423402",null,{"$f":"Table1[[#This Row],[QTY]]*Table1[[#This Row],['# Books]]","v":0},{"$f":"Table1[[#This Row],[QTY]]*Table1[[#This Row],[S&L Price]]","v":0}]
[null,null,null,"LitLinks",1,"Will at the Battle of Gettysburg, 1863 / Timeline of the Civil War Paired Set","Fiction/NonFiction Pair",null,"978-1-4824-2343-3",{"$f":"HYPERLINK(Table1[[#This Row],[eCommerce Hyperlink]],\"Book Weblink\")","v":"Book Weblink"},null,"2015","August 2014",null,null,"Author","Various",null,null,null,null,null,null,"Grade 6 - 7","Grade 6 - 9","This paired set, along with a comprehensive learning guide, inspires student inquiry and invites critical thinking with paired fiction and nonfiction texts.","English",61.27,45.95,null,null,"https://www.garethstevens.com/9781482423433",null,{"$f":"Table1[[#This Row],[QTY]]*Table1[[#This Row],['# Books]]","v":0},{"$f":"Table1[[#This Row],[QTY]]*Table1[[#This Row],[S&L Price]]","v":0}]
[null,null,null,"Dinosaur School",1,"Dinosaur ABCs","eBook",null,"978-1-4339-7138-9",{"$f":"HYPERLINK(Table1[[#This Row],[eCommerce Hyperlink]],\"Book Weblink\")","v":"Book Weblink"},null,"2013","August 2012",null,null,"Author","Ava Saviola",null,"0","1","2","A","20L","Grade K","Grade K - 1","Beginning learners will delight in this vibrant, dinosaur-filled introduction to the most essential building block of reading—the letters of the alphabet. Prominently featuring each letter of the alphabet in both uppercase and lowercase forms, the text also presents simple sentences to clearly demonstrate an item that begins with each letter, such as “B is for book.” Illustrations of dinosaurs interacting with each appropriately chosen item make learning the alphabet fun and highly engaging for beginning readers. A concluding page lists each letter of the alphabet and corresponding image for additional reinforcement of this important and elemental reading concept.","English",24.6,18.45,"428.1","24 pp.","https://www.garethstevens.com/9781433971389",null,{"$f":"Table1[[#This Row],[QTY]]*Table1[[#This Row],['# Books]]","v":0},{"$f":"Table1[[#This Row],[QTY]]*Table1[[#This Row],[S&L Price]]","v":0}]
[null,null,null,"Dinosaur School",1,"Dinosaur Goes to the Doctor","Library Bound Book",null,"978-1-4824-4558-9",{"$f":"HYPERLINK(Table1[[#This Row],[eCommerce Hyperlink]],\"Book Weblink\")","v":"Book Weblink"},null,"2017","August 2016","Library","7.000 X 7.000","Author","Ken Alside","1.2","0.5",null,null,"B",null,"Grade K","Grade K - 1","The doctor's office can be intimidating for someone unsure of what to expect. In this story, the dinosaurs know that a trip to the doctor's office can be fun. Whether just visiting for a checkup or to get better after an illness, the doctor only wants to help little dinos get back to full health! Getting weighed, tapping on knees, and important questions from the doctor are all part of the journey in this exciting book for beginning readers that turns a scary situation into something fun.","English",23.6,17.7,"[E]--dc23","24 pp.","https://www.garethstevens.com/9781482445589",null,{"$f":"Table1[[#This Row],[QTY]]*Table1[[#This Row],['# Books]]","v":0},{"$f":"Table1[[#This Row],[QTY]]*Table1[[#This Row],[S&L Price]]","v":0}]
[null,null,null,"Dinosaur School",1,"Dinosaur Goes to the Store","Library Bound Book",null,"978-1-4824-4561-9",{"$f":"HYPERLINK(Table1[[#This Row],[eCommerce Hyperlink]],\"Book Weblink\")","v":"Book Weblink"},null,"2017","August 2016","Library","7.000 X 7.000","Author","Ken Alside","0.8","0.5",null,null,"B",null,"Grade K","Grade K - 1","One little dinosaur is having a birthday, and it's his family's job to get ready for the big party. This book takes beginning readers on a trip to the store the day before the big day, as two dinosaurs grab a shopping cart and make sure they have everything they need to host a great gathering of friends and family. From the ingredients needed to bake a cake to birthday presents and decorations, these dinos are on a mission to make it the best birthday party ever.","English",23.6,17.7,"[E]--dc23","24 pp.","https://www.garethstevens.com/9781482445619",null,{"$f":"Table1[[#This Row],[QTY]]*Table1[[#This Row],['# Books]]","v":0},{"$f":"Table1[[#This Row],[QTY]]*Table1[[#This Row],[S&L Price]]","v":0}]
[null,null,null,"Dinosaur School",1,"Dinosaur Birthday Party","Library Bound Book",null,"978-1-4824-0741-9",{"$f":"HYPERLINK(Table1[[#This Row],[eCommerce Hyperlink]],\"Book Weblink\")","v":"Book Weblink"},null,"2015","August 2014","Library","7.000 X 7.000","Author","Joyce Jeffries",null,null,"1",null,"A",null,"Grade K","Grade K - 1","Dinosaurs love to celebrate birthdays. The prehistoric creatures know how to throw a party, too! These fun dinos are getting ready for a big bash, and beginning readers ready to explore are invited to the party! With strong picture-text correlation, readers dive into both the setup and fun of a birthday party. Watching mom and dad dinos getting things ready and seeing friends arrive is a reading adventure readers will never forget, with colorful illustrations to help establish the early literacy skills and set a foundation for future reading success.","English",23.6,17.7,"793.2","24 pp.","https://www.garethstevens.com/9781482407419",null,{"$f":"Table1[[#This Row],[QTY]]*Table1[[#This Row],['# Books]]","v":0},{"$f":"Table1[[#This Row],[QTY]]*Table1[[#This Row],[S&L Price]]","v":0}]
[null,null,null,"Dinosaur School",1,"Dinosaurs at the Zoo","Library Bound Book",null,"978-1-4339-9045-8",{"$f":"HYPERLINK(Table1[[#This Row],[eCommerce Hyperlink]],\"Book Weblink\")","v":"Book Weblink"},null,"2014","August 2013","Library","7.000 X 7.000","Author","Alex Appleby",null,null,"1","1","A","0L","Grade K","Grade K - 1","What happens when dinosaurs take a field trip to the zoo? Matching accessible text with bright cartoon dinosaurs, readers can explore primary concepts while checking out the lions, tigers, and even snakes that call the zoo home! With the help of some dinosaur friends, budding learners will go on a fun zoo adventure that introduces them to many members of the animal kingdom while building their vocabulary.  • Colorful dinosaur illustrations will engage young learners • Accessible, large-type text promotes sight recognition of words • Strong picture-text correlation reinforces basic concepts • Age-appropriate and achievable content • Words to Know provides additional reinforcement  ","English",24.6,18.45,"590.73","24 pp.","https://www.garethstevens.com/9781433990458",null,{"$f":"Table1[[#This Row],[QTY]]*Table1[[#This Row],['# Books]]","v":0},{"$f":"Table1[[#This Row],[QTY]]*Table1[[#This Row],[S&L Price]]","v":0}]
[null,null,null,"Dinosaur School",1,"Dinosaurs on the Farm","eBook",null,"978-1-4339-9060-1",{"$f":"HYPERLINK(Table1[[#This Row],[eCommerce Hyperlink]],\"Book Weblink\")","v":"Book Weblink"},null,"2014","August 2013",null,null,"Author","Alex Appleby",null,null,"1","1","A","20L","Grade K","Grade K - 1","Beginning readers take a trip to the farm with exciting companions—dinosaurs! Important vocabulary skills are developed through accessible text and colorful illustrations about farm life, including farm animals, farm machines, and even farmers themselves. Early learners are guided through this text by charming cartoon dinosaurs, making this a reading experience that is both informative and entertaining. Young readers will be eager to learn more about farm life after their journey through this book!  • Strong picture-text correlation reinforces basic concepts • Colorful dinosaur illustrations will engage young learners • Age-appropriate and achievable content • Accessible, large-type text promotes sight recognition of words • Words to Know provides additional reinforcement    ","English",24.6,18.45,"630","24 pp.","https://www.garethstevens.com/9781433990601",null,{"$f":"Table1[[#This Row],[QTY]]*Table1[[#This Row],['# Books]]","v":0},{"$f":"Table1[[#This Row],[QTY]]*Table1[[#This Row],[S&L Price]]","v":0}]
[null,null,null,"Dinosaur School",1,"Hot and Cold","Library Bound Book",null,"978-1-4339-8091-6",{"$f":"HYPERLINK(Table1[[#This Row],[eCommerce Hyperlink]],\"Book Weblink\")","v":"Book Weblink"},null,"2013","January 2013","Library","7.000 X 7.000","Author","Joyce Jeffries",null,"0","1","1","A","130L","Grade K","Grade K - 1","The difference between \"hot\" and \"cold\" is demonstrated through bright illustrations and an accessible narrative. Featuring strong picture-to-text correlation, this book allows early learners to explore these antonyms independently and build strong vocabularies as they read. On each page, beginning readers discover dinosaurs interacting with objects of different temperature, including hot cocoa and cold ice cream. This concept is reviewed and highlighted in a concluding graphic organizer.","English",24.6,18.45,"536--dc23","24 pp.","https://www.garethstevens.com/9781433980916",null,{"$f":"Table1[[#This Row],[QTY]]*Table1[[#This Row],['# Books]]","v":0},{"$f":"Table1[[#This Row],[QTY]]*Table1[[#This Row],[S&L Price]]","v":0}]
[null,null,null,"Dinosaur School",1,"Hot and Cold","eBook",null,"978-1-4339-8094-7",{"$f":"HYPERLINK(Table1[[#This Row],[eCommerce Hyperlink]],\"Book Weblink\")","v":"Book Weblink"},null,"2013","January 2013",null,null,"Author","Joyce Jeffries",null,"0","1","1","A","130L","Grade K","Grade K - 1","The difference between \"hot\" and \"cold\" is demonstrated through bright illustrations and an accessible narrative. Featuring strong picture-to-text correlation, this book allows early learners to explore these antonyms independently and build strong vocabularies as they read. On each page, beginning readers discover dinosaurs interacting with objects of different temperature, including hot cocoa and cold ice cream. This concept is reviewed and highlighted in a concluding graphic organizer.","English",24.6,18.45,"536--dc23","24 pp.","https://www.garethstevens.com/9781433980947",null,{"$f":"Table1[[#This Row],[QTY]]*Table1[[#This Row],['# Books]]","v":0},{"$f":"Table1[[#This Row],[QTY]]*Table1[[#This Row],[S&L Price]]","v":0}]
[null,null,null,"Dinosaur School",1,"Near and Far","eBook",null,"978-1-4339-8102-9",{"$f":"HYPERLINK(Table1[[#This Row],[eCommerce Hyperlink]],\"Book Weblink\")","v":"Book Weblink"},null,"2013","January 2013",null,null,"Author","Joyce Jeffries",null,"0","1","1","A","60L","Grade K","Grade K - 1","The essential concept of distance is taught through an easy-to-follow narrative and illustrations featuring colorful dinosaurs. Beginning readers discover the difference between \"near\" and \"far\" with the help of this book's accessible text and vibrant cartoon dinosaurs, which are shown interacting with common vocabulary words, including cars and horses. Strong picture-to-text correlation helps early learners enhance their vocabularies and understanding of these antonyms.","English",24.6,18.45,"153.7--dc23","24 pp.","https://www.garethstevens.com/9781433981029",null,{"$f":"Table1[[#This Row],[QTY]]*Table1[[#This Row],['# Books]]","v":0},{"$f":"Table1[[#This Row],[QTY]]*Table1[[#This Row],[S&L Price]]","v":0}]
[null,null,null,"Dinosaur School",1,"Dinosaur Shapes","Library Bound Book",null,"978-1-4339-7147-1",{"$f":"HYPERLINK(Table1[[#This Row],[eCommerce Hyperlink]],\"Book Weblink\")","v":"Book Weblink"},null,"2013","August 2012","Library","7.000 X 7.000","Author","Ava Saviola",null,"0","1","2","A","70L","Grade K","Grade K - 1","Beginning learners are introduced to an important first concept, shape. With the help of fun cartoon dinosaurs, who proudly display each simple shape, readers will discover basic shape vocabulary. Labels and bold black outlines further reinforce understanding by showing where these shapes can be found all around us every day, such as the square shape of a window or the circle shape of a clock. A final page features an engaging summary of this very important concept where the dinosaur characters are holding each shape labeled with its respective name.","English",24.6,18.45,"516","24 pp.","https://www.garethstevens.com/9781433971471",null,{"$f":"Table1[[#This Row],[QTY]]*Table1[[#This Row],['# Books]]","v":0},{"$f":"Table1[[#This Row],[QTY]]*Table1[[#This Row],[S&L Price]]","v":0}]
[null,null,null,"Dinosaur School",1,"Dinosaurs in the Fall","Library Bound Book",null,"978-1-4824-0710-5",{"$f":"HYPERLINK(Table1[[#This Row],[eCommerce Hyperlink]],\"Book Weblink\")","v":"Book Weblink"},null,"2015","August 2014","Library","7.000 X 7.000","Author","Joyce Jeffries",null,null,"1",null,"A",null,"Grade K","Grade K - 1","When the weather starts to get colder, dinosaurs find new ways to have fun. In this innovative first concepts book, dinosaurs dive into autumn in a variety of ways. Readers will see dinos take walks, watch leaves fall, and pick apples off of trees with the help of colorful illustrations that add picture-text correlation to an engaging look at the changing seasons. With text designed to establish a foundation for future reading success, this book is sure to be a hit with readers year-round.","English",23.6,17.7,"508.2","24 pp.","https://www.garethstevens.com/9781482407105",null,{"$f":"Table1[[#This Row],[QTY]]*Table1[[#This Row],['# Books]]","v":0},{"$f":"Table1[[#This Row],[QTY]]*Table1[[#This Row],[S&L Price]]","v":0}]
[null,null,null,"Dinosaur School",1,"Dinosaurs in the Spring","Library Bound Book",null,"978-1-4824-0713-6",{"$f":"HYPERLINK(Table1[[#This Row],[eCommerce Hyperlink]],\"Book Weblink\")","v":"Book Weblink"},null,"2015","August 2014","Library","7.000 X 7.000","Author","Joyce Jeffries",null,null,"1",null,"A",null,"Grade K","Grade K - 1","Dinosaurs know how to have a good time when winter is over! As the snow melts and the flowers start to grow, readers will love watching dinos have fun in the spring. From watching the snow melt to watching the rain fall, dinos know there’s lots to do as the weather starts to get warmer. Readers will love seeing dinos explore nature in the springtime, seeing birds come back and have babies and even planting trees! This innovative first concepts book will establish early literacy skills in readers, providing a foundation for future reading success.","English",23.6,17.7,"508.2","24 pp.","https://www.garethstevens.com/9781482407136",null,{"$f":"Table1[[#This Row],[QTY]]*Table1[[#This Row],['# Books]]","v":0},{"$f":"Table1[[#This Row],[QTY]]*Table1[[#This Row],[S&L Price]]","v":0}]
[null,null,null,"What I Know",18,"What I Know: Sets 1 – 3","Library Set",null,"978-1-5382-1751-1",{"$f":"HYPERLINK(Table1[[#This Row],[eCommerce Hyperlink]],\"Book Weblink\")","v":"Book Weblink"},null,"2019","August 2018","Library","7.000 X 7.000",null,null,null,null,null,null,null,null,"Grade K","Grade Pre-K - 1","A strong connection to books and reading is the foundation to early literacy. This sought-after collection is a truly indispensable part of any early education library. Body parts, colors, opposites, community helpers, days of the week, sizes, shapes, and time are the varied areas of vocabulary covered by our bright and lively volumes. Beautiful full-color photographs are perfectly matched to the simple language that meets young learners where they are and allows them to develop further reading skills. Features include: Books' vibrant design will appeal to even reluctant readers. Accessible sentence construction supports readers in acquiring new vocabulary and builds on reading proficiency. Volumes provide ample opportunities to practice multiple skills connected to both foundational and informational reading standards of the English Language Arts Common Core.","English",424.8,318.60000000000002,null,"24 pp.","https://www.garethstevens.com/9781538217511",null,{"$f":"Table1[[#This Row],[QTY]]*Table1[[#This Row],['# Books]]","v":0},{"$f":"Table1[[#This Row],[QTY]]*Table1[[#This Row],[S&L Price]]","v":0}]
[null,null,null,"What I Know",1,"I Know Flat and Solid Shapes","Library Bound Book",null,"978-1-5382-1734-4",{"$f":"HYPERLINK(Table1[[#This Row],[eCommerce Hyperlink]],\"Book Weblink\")","v":"Book Weblink"},null,"2019","August 2018","Library","7.000 X 7.000","Author","Richard Little",null,null,null,null,"B","150L","Grade K","Grade Pre-K - 1","It is not just important for young learners to master familiar shapes like triangles, circles, and squares. Recognizing and identifying two-dimensional (\"flat\") or three-dimensional (\"solid\") shapes is a geometry standard of Common Core math. This helpful book, written to be accessible for our youngest learners, allows readers to compare 2-D shapes with their 3-D counterparts, such as a circle and sphere. Photographs clearly illustrate the qualities that define each. Concluding questions help readers review geometric terms.","English",23.6,17.7,"516/.15--dc23","24 pp.","https://www.garethstevens.com/9781538217344",null,{"$f":"Table1[[#This Row],[QTY]]*Table1[[#This Row],['# Books]]","v":0},{"$f":"Table1[[#This Row],[QTY]]*Table1[[#This Row],[S&L Price]]","v":0}]
[null,null,null,"What I Know",1,"I Know Size Words","Library Bound Book",null,"978-1-5382-1746-7",{"$f":"HYPERLINK(Table1[[#This Row],[eCommerce Hyperlink]],\"Book Weblink\")","v":"Book Weblink"},null,"2019","August 2018","Library","7.000 X 7.000","Author","Rosie Banks",null,null,null,null,"B",null,"Grade K","Grade Pre-K - 1","Size words, such as large, small, short, and long, aren't just an important part of a burgeoning bank of vocabulary words. They're a crucial component of learning the skills of comparison and classification, early standards of Common Core math. The size words in this useful book are paired with colorful photographs that will help readers with comprehension of the accessible sentences. A final activity allows them to review the vocabulary and apply their knowledge, an excellent opportunity for assessment.","English",23.6,17.7,"428.1--dc23","24 pp.","https://www.garethstevens.com/9781538217467",null,{"$f":"Table1[[#This Row],[QTY]]*Table1[[#This Row],['# Books]]","v":0},{"$f":"Table1[[#This Row],[QTY]]*Table1[[#This Row],[S&L Price]]","v":0}]
[null,null,null,"What I Know",1,"I Know Opposites","Library Bound Book",null,"978-1-4824-6299-9",{"$f":"HYPERLINK(Table1[[#This Row],[eCommerce Hyperlink]],\"Book Weblink\")","v":"Book Weblink"},null,"2018","August 2017","Library","7.000 X 7.000","Author","Colin Matthews",null,null,"2",null,"B","190L","Grade K","Grade Pre-K - 1","The concept of opposites is a crucial one at the early elementary level. Learning opposites opens up a reader’s vocabulary and ability to communicate. This colorful volume is a helpful aid for teaching and reviewing opposites, displaying opposite pairs visually next to the accompanying accessible text. Readers are encouraged to identify opposites in their own world, reinforcing these essential ideas in their daily lives.","English",23.6,17.7,"428.1--dc23","24 pp.","https://www.garethstevens.com/9781482462999",null,{"$f":"Table1[[#This Row],[QTY]]*Table1[[#This Row],['# Books]]","v":0},{"$f":"Table1[[#This Row],[QTY]]*Table1[[#This Row],[S&L Price]]","v":0}]
[null,null,null,"What I Know",1,"I Know Places Around Town","eBook",null,"978-1-4824-6308-8",{"$f":"HYPERLINK(Table1[[#This Row],[eCommerce Hyperlink]],\"Book Weblink\")","v":"Book Weblink"},null,"2018","August 2017",null,null,"Author","Trisha James",null,null,null,null,"B","150L","Grade K","Grade Pre-K - 1","The zoo, school, town library, and the police station. These are just a few of the places that are visited in this narrative. Readers also view a bakery, the hospital, the playground, and most importantly, the ice cream shop.","English",23.6,17.7,"307.76--dc23","24 pp.","https://www.garethstevens.com/9781482463088",null,{"$f":"Table1[[#This Row],[QTY]]*Table1[[#This Row],['# Books]]","v":0},{"$f":"Table1[[#This Row],[QTY]]*Table1[[#This Row],[S&L Price]]","v":0}]
[null,null,null,"What I Know",1,"I Know Body Parts","eBook",null,"978-1-4824-5463-5",{"$f":"HYPERLINK(Table1[[#This Row],[eCommerce Hyperlink]],\"Book Weblink\")","v":"Book Weblink"},null,"2017","January 2017",null,null,"Author","Mary Rose Osburn",null,null,null,null,"B","120L","Grade K","Grade Pre-K - 1","Knowing body parts and accompanying vocabulary are essential topics in both health and science elementary curricula. In this helpful volume, close text and image correlation make fundamental concepts comprehensible. Readers will recognize the body parts in each colorful photograph and associate them with their own. Finally, they’ll consider how they use their many body parts in their daily lives.","English",23.6,17.7,"612--dc23","24 pp.","https://www.garethstevens.com/9781482454635",null,{"$f":"Table1[[#This Row],[QTY]]*Table1[[#This Row],['# Books]]","v":0},{"$f":"Table1[[#This Row],[QTY]]*Table1[[#This Row],[S&L Price]]","v":0}]
[null,null,null,"What I Know",1,"I Know Numbers","eBook",null,"978-1-4824-5469-7",{"$f":"HYPERLINK(Table1[[#This Row],[eCommerce Hyperlink]],\"Book Weblink\")","v":"Book Weblink"},null,"2017","January 2017",null,null,"Author","Jon Welzen",null,null,null,null,"B","50L","Grade K","Grade Pre-K - 1","Ten toes on our feet, four bases in baseball, two wheels on a bicycle—numbers are all around! This sunny book demonstrates how readers can identify numbers in familiar objects and situations, aided by carefully selected images, and encourages them to practice number recognition in their everyday lives. Number names, quantities, and counting are among the essential skills addressed in this valuable volume.","English",23.6,17.7,"513.2--dc23","24 pp.","https://www.garethstevens.com/9781482454697",null,{"$f":"Table1[[#This Row],[QTY]]*Table1[[#This Row],['# Books]]","v":0},{"$f":"Table1[[#This Row],[QTY]]*Table1[[#This Row],[S&L Price]]","v":0}]
[null,null,null,"What I Know",1,"I Know the Seasons","Library Bound Book",null,"978-1-4824-5475-8",{"$f":"HYPERLINK(Table1[[#This Row],[eCommerce Hyperlink]],\"Book Weblink\")","v":"Book Weblink"},null,"2017","January 2017","Library","7.000 X 7.000","Author","Jon Welzen",null,null,"2",null,"C","240L","Grade K","Grade Pre-K - 1","Winter, spring, summer, and fall. Each season has its unique identifying features as well as its exciting activities. Readers will become well acquainted with these as they learn about the four seasons in this beneficial book. They’ll also decide which is their favorite season. Thoughtfully chosen photographs correlate with the achievable text and illustrate the characteristics of each season.","English",23.6,17.7,"508.2--dc23","24 pp.","https://www.garethstevens.com/9781482454758",null,{"$f":"Table1[[#This Row],[QTY]]*Table1[[#This Row],['# Books]]","v":0},{"$f":"Table1[[#This Row],[QTY]]*Table1[[#This Row],[S&L Price]]","v":0}]
[null,null,null,"What I Know",1,"I Know the Seasons","eBook",null,"978-1-4824-5476-5",{"$f":"HYPERLINK(Table1[[#This Row],[eCommerce Hyperlink]],\"Book Weblink\")","v":"Book Weblink"},null,"2017","January 2017",null,null,"Author","Jon Welzen",null,null,"2",null,"C","240L","Grade K","Grade Pre-K - 1","Winter, spring, summer, and fall. Each season has its unique identifying features as well as its exciting activities. Readers will become well acquainted with these as they learn about the four seasons in this beneficial book. They’ll also decide which is their favorite season. Thoughtfully chosen photographs correlate with the achievable text and illustrate the characteristics of each season.","English",23.6,17.7,"508.2--dc23","24 pp.","https://www.garethstevens.com/9781482454765",null,{"$f":"Table1[[#This Row],[QTY]]*Table1[[#This Row],['# Books]]","v":0},{"$f":"Table1[[#This Row],[QTY]]*Table1[[#This Row],[S&L Price]]","v":0}]
[null,null,null,"Great Big Animals",1,"Enormous Elephants","eBook",null,"978-1-4339-9427-2",{"$f":"HYPERLINK(Table1[[#This Row],[eCommerce Hyperlink]],\"Book Weblink\")","v":"Book Weblink"},null,"2014","August 2013",null,null,"Author","Ryan Nagelhout","0.9","0.5","3","4","C","290L","Grade K","Grade K - 2","Why are elephants’ ears so big? Early readers will learn that and more in this exciting first concepts book filled with fun information and full-color photographs. Through easy-to-read text, readers will discover the difference between African and Asian elephants, and what they do with their large trunks. The biggest land animals on Earth will captivate even the most reluctant of readers as they come along on this exciting elephant adventure!    • High-interest topic engages young readers • Strong picture-text correlation aids in comprehension • Reading level supports beginning readers • Picture glossary helps develop vocabulary skills • Comprehendible index guides readers through each book    ","English",24.6,18.45,"599.61","24 pp.","https://www.garethstevens.com/9781433994272",null,{"$f":"Table1[[#This Row],[QTY]]*Table1[[#This Row],['# Books]]","v":0},{"$f":"Table1[[#This Row],[QTY]]*Table1[[#This Row],[S&L Price]]","v":0}]
[null,null,null,"Great Big Animals",1,"Giant Giraffes","eBook",null,"978-1-4339-9431-9",{"$f":"HYPERLINK(Table1[[#This Row],[eCommerce Hyperlink]],\"Book Weblink\")","v":"Book Weblink"},null,"2014","August 2013",null,null,"Author","Ryan Nagelhout","0.9","0.5","3","4","C",null,"Grade K","Grade K - 2","Giraffes are the tallest animals on Earth. Through the use of bright photographs and easy-to-read text, early readers will be fascinated by the lives of these big mammals. They'll discover how giraffes use their long necks, and how they use their giant tongues to reach leaves on tall trees! The exciting lives of these giant animals will offer plenty of facts that highlight early life science concepts for beginning readers.","English",24.6,18.45,"599.638","24 pp.","https://www.garethstevens.com/9781433994319",null,{"$f":"Table1[[#This Row],[QTY]]*Table1[[#This Row],['# Books]]","v":0},{"$f":"Table1[[#This Row],[QTY]]*Table1[[#This Row],[S&L Price]]","v":0}]
[null,null,null,"Great Big Animals",1,"Colossal Crocodiles","eBook",null,"978-1-5382-0898-4",{"$f":"HYPERLINK(Table1[[#This Row],[eCommerce Hyperlink]],\"Book Weblink\")","v":"Book Weblink"},null,"2018","January 2018",null,null,"Author","Francis MacIntire","0.9","0.5",null,null,"C",null,"Grade K","Grade Pre-K - 2","Crocodiles are massive eating machines that lurk in shallow waters. Their big, powerful jaws make them fearsome creatures to all kinds of animals, even humans. Through full-color photographs and easy-to-read text, young readers explore the aquatic world of these huge animals and see just how they live and eat. From their skin to their sharp teeth, they'll learn how these animals catch prey and the special advantages their bodies have that make these big creatures to survive. Early readers will love exploring the world of this unique animal in its home habitat.","English",23.6,17.7,"597.98'2--dc23","24 pp.","https://www.garethstevens.com/9781538208984",null,{"$f":"Table1[[#This Row],[QTY]]*Table1[[#This Row],['# Books]]","v":0},{"$f":"Table1[[#This Row],[QTY]]*Table1[[#This Row],[S&L Price]]","v":0}]
[null,null,null,"Great Big Animals",1,"Jumbo Blue Whales","Library Bound Book",null,"978-1-5382-0909-7",{"$f":"HYPERLINK(Table1[[#This Row],[eCommerce Hyperlink]],\"Book Weblink\")","v":"Book Weblink"},null,"2018","January 2018","Library","7.625 X 7.125","Author","Francis MacIntire","0.9","0.5",null,null,"C",null,"Grade K","Grade Pre-K - 2","Imagine an animal whose tongue can weigh as much as an elephant, and whose heart can weigh as much as a car. Blue whales are amazing animals that we have to weigh in tons, not pounds. This book explores the aquatic lives of the largest animals on Earth, from what they eat to where they live and just how big they really are. Through full-color photographs paired with accessible text, young readers will be amazed to learn that these massive animals survive by eating tiny plankton.","English",23.6,17.7,"599.5'248--dc23","24 pp.","https://www.garethstevens.com/9781538209097",null,{"$f":"Table1[[#This Row],[QTY]]*Table1[[#This Row],['# Books]]","v":0},{"$f":"Table1[[#This Row],[QTY]]*Table1[[#This Row],[S&L Price]]","v":0}]
[null,null,null,"That's Not a Pet!",6,"That's Not a Pet!","Library Set",null,"978-1-5382-1845-7",{"$f":"HYPERLINK(Table1[[#This Row],[eCommerce Hyperlink]],\"Book Weblink\")","v":"Book Weblink"},null,"2019","August 2018","Library","7.625 X 7.125",null,null,null,null,null,null,null,null,"Grade K","Grade Pre-K - 2","Pets and other kinds of animals are a perfect \"hook\" to interest both eager and reluctant readers of all levels. Add a touch of silliness, and each text becomes an engaging volume that will leave readers impatient to grab another and learn more. Each book presents information about high-interest animals such as crocodiles, elephants, and gorillas and explains why these creatures are better off in their native environments than a living room. Readers are introduced to science concepts and vocabulary while their imaginations are ignited by the lively text. Features include: Each accessible book is written at the low-ATOS level (below 1.0). Vibrant photographs are specially chosen to support reading comprehension. Readers can use informational text features such as the table of contents and index to locate facts, a standard of the English Language Arts Common Core.","English",141.6,106.2,null,"24 pp.","https://www.garethstevens.com/9781538218457",null,{"$f":"Table1[[#This Row],[QTY]]*Table1[[#This Row],['# Books]]","v":0},{"$f":"Table1[[#This Row],[QTY]]*Table1[[#This Row],[S&L Price]]","v":0}]
[null,null,null,"That's Not a Pet!",1,"Can I Have a Pet Eagle?","eBook",null,"978-1-5382-1785-6",{"$f":"HYPERLINK(Table1[[#This Row],[eCommerce Hyperlink]],\"Book Weblink\")","v":"Book Weblink"},null,"2019","August 2018",null,null,"Author","Michou Franco","0.9","0.5",null,null,"C",null,"Grade K","Grade Pre-K - 2","If people can have pet parakeets, why can't they have a pet eagle? The narrator of this fun book describes important facts about these majestic birds. Readers will find out that these birds of prey, and their supersharp talons, are much better off living in the wild than in our homes. The easy-to-follow sentences allow readers to practice their reading proficiency, while eye-catching photographs help demonstrate key points of the text.","English",23.6,17.7,"598.9/43--dc23","24 pp.","https://www.garethstevens.com/9781538217856",null,{"$f":"Table1[[#This Row],[QTY]]*Table1[[#This Row],['# Books]]","v":0},{"$f":"Table1[[#This Row],[QTY]]*Table1[[#This Row],[S&L Price]]","v":0}]
[null,null,null,"That's Not a Pet!",1,"Can I Have a Pet Gorilla?","Library Bound Book",null,"978-1-5382-1796-2",{"$f":"HYPERLINK(Table1[[#This Row],[eCommerce Hyperlink]],\"Book Weblink\")","v":"Book Weblink"},null,"2019","August 2018","Library","7.625 X 7.125","Author","Bert Wilberforce","0.9","0.5",null,null,"C",null,"Grade K","Grade Pre-K - 2","It's hairy, walks on all fours, and climbs trees. No, it's not a cat, it's a gorilla. Readers will imagine what it would be like to have a pet gorilla as they learn some intriguing details about the largest apes. They'll discover gorillas make nests to sleep in each day. They're only found in the rainforests of Africa and, because of their great strength and size, should probably stay there! This entertaining book, written at the low-ATOS level, is a perfect addition to any elementary science collection.","English",23.6,17.7,"599.884--dc23","24 pp.","https://www.garethstevens.com/9781538217962",null,{"$f":"Table1[[#This Row],[QTY]]*Table1[[#This Row],['# Books]]","v":0},{"$f":"Table1[[#This Row],[QTY]]*Table1[[#This Row],[S&L Price]]","v":0}]
[null,null,null,"Jungle Animals",1,"Bats","eBook",null,"978-1-4824-1747-0",{"$f":"HYPERLINK(Table1[[#This Row],[eCommerce Hyperlink]],\"Book Weblink\")","v":"Book Weblink"},null,"2015","January 2015",null,null,"Author","Rob Ryndak","0.9","0.5",null,null,"C",null,"Grade K","Grade K - 2","People might not normally think of bats when they think about jungle animals, but the trees are full of these winged wonders. At night, bats fly from tree to tree in the jungle looking for food and places to call home. Beginning readers take an up close and personal look at these wild animals thanks to accessible text and stunning photographs that show where these creatures like to live, when you can see them, and what they are eating in the diverse jungle ecosystem.","English",23.6,17.7,"599.4","24 pp.","https://www.garethstevens.com/9781482417470",null,{"$f":"Table1[[#This Row],[QTY]]*Table1[[#This Row],['# Books]]","v":0},{"$f":"Table1[[#This Row],[QTY]]*Table1[[#This Row],[S&L Price]]","v":0}]
[null,null,null,"Jungle Animals",1,"Monkeys","eBook",null,"978-1-4824-1755-5",{"$f":"HYPERLINK(Table1[[#This Row],[eCommerce Hyperlink]],\"Book Weblink\")","v":"Book Weblink"},null,"2015","January 2015",null,null,"Author","Rob Ryndak","0.9","0.5",null,null,"C",null,"Grade K","Grade K - 2","Many different kinds of monkeys call the trees in the jungle home. Beginning readers will love the amazing photographs of the many varieties featured in this book. From the loud howler monkeys to the distinctive colors and behaviors of the many other jungle primates, this book will take readers deep into the heart of the jungle environment and show them what’s living among the dense foliage.","English",23.6,17.7,"599.8","24 pp.","https://www.garethstevens.com/9781482417555",null,{"$f":"Table1[[#This Row],[QTY]]*Table1[[#This Row],['# Books]]","v":0},{"$f":"Table1[[#This Row],[QTY]]*Table1[[#This Row],[S&L Price]]","v":0}]
[null,null,null,"Jungle Animals",1,"Toucans","Library Bound Book",null,"978-1-4824-1764-7",{"$f":"HYPERLINK(Table1[[#This Row],[eCommerce Hyperlink]],\"Book Weblink\")","v":"Book Weblink"},null,"2015","January 2015","Library","7.625 X 7.125","Author","Rob Ryndak","0.9","0.5",null,null,"C",null,"Grade K","Grade K - 2","Toucans are most known for their bright, colorful beaks, but there is plenty more to learn about these interesting jungle birds. For instance, toucans like to play! They sometimes throw their food back and forth using their big, striped bills. Early readers will love learning about baby toucans, which don’t grow colorful bills until later in life. With the help of color photographs and accessible text, young readers will be captivated by life among the toucan flock in this exciting book.","English",23.6,17.7,"598.7","24 pp.","https://www.garethstevens.com/9781482417647",null,{"$f":"Table1[[#This Row],[QTY]]*Table1[[#This Row],['# Books]]","v":0},{"$f":"Table1[[#This Row],[QTY]]*Table1[[#This Row],[S&L Price]]","v":0}]
[null,null,null,"Farm Animals",1,"Cows on the Farm","Library Bound Book",null,"978-1-4339-7348-2",{"$f":"HYPERLINK(Table1[[#This Row],[eCommerce Hyperlink]],\"Book Weblink\")","v":"Book Weblink"},null,"2013","August 2012","Library","7.625 X 7.125","Author","Rose Carraway","0.9","0.5","3","4","C","290L","Grade K","Grade K - 2","Beginning readers will discover that the milk we drink comes mainly from cows, as well as other fun facts about these animals. Engaging and accessible text describes what life is like for cows on a farm as well as why cows are important to people. A picture glossary is included to help readers build strong vocabularies. Colorful photographs show a variety of farm cows, including small calves and spotted dairy cows.","English",24.6,18.45,"636.2","24 pp.","https://www.garethstevens.com/9781433973482",null,{"$f":"Table1[[#This Row],[QTY]]*Table1[[#This Row],['# Books]]","v":0},{"$f":"Table1[[#This Row],[QTY]]*Table1[[#This Row],[S&L Price]]","v":0}]
[null,null,null,"Farm Animals",1,"Cows on the Farm","Interactive eBook","Flash","978-1-4339-7927-9",{"$f":"HYPERLINK(Table1[[#This Row],[eCommerce Hyperlink]],\"Book Weblink\")","v":"Book Weblink"},null,"2013","August 2012",null,null,"Author","Rose Carraway","0.9","0.5","3","4","C","290L","Grade K","Grade K - 2","Beginning readers will discover that the milk we drink comes mainly from cows, as well as other fun facts about these animals. Engaging and accessible text describes what life is like for cows on a farm as well as why cows are important to people. A picture glossary is included to help readers build strong vocabularies. Colorful photographs show a variety of farm cows, including small calves and spotted dairy cows.","English",33.25,24.95,"636.2","24 pp.","https://www.garethstevens.com/9781433979279",null,{"$f":"Table1[[#This Row],[QTY]]*Table1[[#This Row],['# Books]]","v":0},{"$f":"Table1[[#This Row],[QTY]]*Table1[[#This Row],[S&L Price]]","v":0}]
[null,null,null,"Farm Animals",1,"Goats on the Farm","Interactive eBook","Flash","978-1-4339-7929-3",{"$f":"HYPERLINK(Table1[[#This Row],[eCommerce Hyperlink]],\"Book Weblink\")","v":"Book Weblink"},null,"2013","August 2012",null,null,"Author","Rose Carraway","0.9","0.5","3","4","C","240L","Grade K","Grade K - 2","Readers will discover what life is like on a farm for goats and about how they provide milk to make cheese and wool to make clothes. Readers learn what goats look like, what they eat, and even what their babies are called. Accessible text allows readers to learn these fun facts on their own, and a picture glossary helps clarify new words and strengthen vocabulary skills. Bright photographs illustrate the world of these smart animals and the farms they call home.","English",33.25,24.95,"636.3","24 pp.","https://www.garethstevens.com/9781433979293",null,{"$f":"Table1[[#This Row],[QTY]]*Table1[[#This Row],['# Books]]","v":0},{"$f":"Table1[[#This Row],[QTY]]*Table1[[#This Row],[S&L Price]]","v":0}]
[null,null,null,"Farm Animals",1,"Pigs on the Farm","eBook",null,"978-1-4339-7363-5",{"$f":"HYPERLINK(Table1[[#This Row],[eCommerce Hyperlink]],\"Book Weblink\")","v":"Book Weblink"},null,"2013","August 2012",null,null,"Author","Rose Carraway","0.9","0.5","3","4","C","340L","Grade K","Grade K - 2","Beginning readers learn what life is like for pigs on a farm, including what they eat, why they like to roll in the mud, and how to they communicate with each other. Fun facts are presented in simple text to allow readers the chance to discover new information about these well-known farm animals. Detailed photographs of a variety of pigs, as well as a picture glossary designed to aid in vocabulary development, accompany the informative text.","English",24.6,18.45,"636.4","24 pp.","https://www.garethstevens.com/9781433973635",null,{"$f":"Table1[[#This Row],[QTY]]*Table1[[#This Row],['# Books]]","v":0},{"$f":"Table1[[#This Row],[QTY]]*Table1[[#This Row],[S&L Price]]","v":0}]
[null,null,null,"Underwater World",6,"Underwater World","Library Set",null,"978-1-4339-8586-7",{"$f":"HYPERLINK(Table1[[#This Row],[eCommerce Hyperlink]],\"Book Weblink\")","v":"Book Weblink"},null,"2013","January 2013","Library","7.625 X 7.125",null,null,null,null,null,null,null,null,"Grade K","Grade K - 2","Beginning readers unlock the mysteries of the ocean in this exciting series featuring the most fascinating aquatic life on Earth. Through the use of accessible text, they discover fun facts about amazing animals such as sea stars, crabs, and turtles. Whale tales and shark stories highlight an engaging look at the cast of characters living in the depths of the sea, while colorful photos give readers an up-close look at each creature and the waters they call home.  • Strong picture-text correlation aids in comprehension • Reading level provides support for beginning readers • High-interest topic excites readers • Picture glossary helps develop vocabulary • Index guides readers through each book ","English",147.6,110.7,null,"24 pp.","https://www.garethstevens.com/9781433985867",null,{"$f":"Table1[[#This Row],[QTY]]*Table1[[#This Row],['# Books]]","v":0},{"$f":"Table1[[#This Row],[QTY]]*Table1[[#This Row],[S&L Price]]","v":0}]
[null,null,null,"Underwater World",1,"Sea Stars","eBook",null,"978-1-4339-8574-4",{"$f":"HYPERLINK(Table1[[#This Row],[eCommerce Hyperlink]],\"Book Weblink\")","v":"Book Weblink"},null,"2013","January 2013",null,null,"Author","Ryan Nagelhout","0.9","0.5","3","4","C","300L","Grade K","Grade K - 2","A sea star is one of the most durable creatures in the world. Through the use of accessible text, readers take an exciting look at the wet world these curious creatures call home. A picture glossary helps beginning readers strengthen their vocabulary skills, and vibrant, full-color photographs shows how these stunning animals survive under the waves.","English",24.6,18.45,"593.9","24 pp.","https://www.garethstevens.com/9781433985744",null,{"$f":"Table1[[#This Row],[QTY]]*Table1[[#This Row],['# Books]]","v":0},{"$f":"Table1[[#This Row],[QTY]]*Table1[[#This Row],[S&L Price]]","v":0}]
[null,null,null,"Underwater World",1,"Turtles","eBook",null,"978-1-4339-8581-2",{"$f":"HYPERLINK(Table1[[#This Row],[eCommerce Hyperlink]],\"Book Weblink\")","v":"Book Weblink"},null,"2013","January 2013",null,null,"Author","Ryan Nagelhout","0.9","0.5","3","4","C","350L","Grade K","Grade K - 2","The most dangerous swim of a sea turtle’s life is its first, a race from egg to ocean that very few survive. Through the use of accessible text, readers take an exciting look at the life cycle of the ocean’s most unique swimmer. A picture glossary helps beginning readers strengthen their vocabulary skills, and vibrant, full-color photographs shows how these animals make a home both under and above the waves.","English",24.6,18.45,"597.92","24 pp.","https://www.garethstevens.com/9781433985812",null,{"$f":"Table1[[#This Row],[QTY]]*Table1[[#This Row],['# Books]]","v":0},{"$f":"Table1[[#This Row],[QTY]]*Table1[[#This Row],[S&L Price]]","v":0}]
[null,null,null,"Itty Bitty Animals",1,"Itty Bitty Geckos","Library Bound Book",null,"978-1-4339-9878-2",{"$f":"HYPERLINK(Table1[[#This Row],[eCommerce Hyperlink]],\"Book Weblink\")","v":"Book Weblink"},null,"2014","January 2014","Library","7.625 X 7.125","Author","T. H. Baer ","1.1","0.5","3",null,"C","280L","Grade K","Grade K - 2","There are thousands of kinds of itty bitty geckos and each one of them has a story behind their lives. In this awesome early concepts book, readers learn how geckos stay safe thanks to their bright colors and use their amazing feet to climb all over the place. What happens when a gecko loses its tail? What if it gets something in its eye? This exciting book is filled with scientific facts and a fun picture glossary, answering all the interesting questions for young explorers.","English",24.6,18.45,"597.95/​2--dc23","24 pp.","https://www.garethstevens.com/9781433998782",null,{"$f":"Table1[[#This Row],[QTY]]*Table1[[#This Row],['# Books]]","v":0},{"$f":"Table1[[#This Row],[QTY]]*Table1[[#This Row],[S&L Price]]","v":0}]
[null,null,null,"Itty Bitty Animals",1,"Itty Bitty Hummingbirds","eBook",null,"978-1-4339-9887-4",{"$f":"HYPERLINK(Table1[[#This Row],[eCommerce Hyperlink]],\"Book Weblink\")","v":"Book Weblink"},null,"2014","January 2014",null,null,"Author","Peter Griff","1.2","0.5","3",null,"C",null,"Grade K","Grade K - 2","Hummingbirds are some of the smallest and most interesting animals on the planet. With more than 300 kinds floating and fluttering, there’s a lot to learn about these tiny birds. Young explorers will learn what causes them to hum and what they like to eat. An awesome picture glossary helps young readers learn concepts and definitions.","English",24.6,18.45,"598.7/​64--dc23","24 pp.","https://www.garethstevens.com/9781433998874",null,{"$f":"Table1[[#This Row],[QTY]]*Table1[[#This Row],['# Books]]","v":0},{"$f":"Table1[[#This Row],[QTY]]*Table1[[#This Row],[S&L Price]]","v":0}]
[null,null,null,"Itty Bitty Animals",1,"Itty Bitty Tree Frogs","eBook",null,"978-1-4339-9895-9",{"$f":"HYPERLINK(Table1[[#This Row],[eCommerce Hyperlink]],\"Book Weblink\")","v":"Book Weblink"},null,"2014","January 2014",null,null,"Author","Gunner Quick","1.1","0.5","3",null,"C","270L","Grade K","Grade K - 2","Tree frogs are some of the smallest and most dangerous animals in a rain forest. Readers learn about these bright creatures and how they use their long legs to leap all over the place. Toxic poison dart frogs are dangerous, but many of these itty bitty creatures are kept as pets and admired for their sticky feet and ability to change colors. Strong picture-text correlation aids in comprehension. Reading level supports beginning readers. A picture glossary helps develop vocabulary skills.","English",24.6,18.45,"597.878--dc23","24 pp.","https://www.garethstevens.com/9781433998959",null,{"$f":"Table1[[#This Row],[QTY]]*Table1[[#This Row],['# Books]]","v":0},{"$f":"Table1[[#This Row],[QTY]]*Table1[[#This Row],[S&L Price]]","v":0}]
[null,null,null,"Math Is Everywhere!",1,"Math at the Zoo","Library Bound Book",null,"978-1-4824-5502-1",{"$f":"HYPERLINK(Table1[[#This Row],[eCommerce Hyperlink]],\"Book Weblink\")","v":"Book Weblink"},null,"2017","January 2017","Library","7.625 X 7.125","Author","Elizabeth Powell","0.9","0.5",null,null,"B",null,"Grade K","Grade Pre-K - 2","In this entertaining volume, a class trip to the zoo is the backdrop for introducing and reviewing foundational math concepts such as comparing quantities, sizes, and lengths. Readers will love seeing their favorite animals such as tigers, giraffes, penguins, monkeys, and even a baby koala! They’ll be encouraged to recognize mathematics in similar situations in their own lives.","English",23.6,17.7,"513--dc23","24 pp.","https://www.garethstevens.com/9781482455021",null,{"$f":"Table1[[#This Row],[QTY]]*Table1[[#This Row],['# Books]]","v":0},{"$f":"Table1[[#This Row],[QTY]]*Table1[[#This Row],[S&L Price]]","v":0}]
[null,null,null,"Math Is Everywhere!",1,"Math in the Garden","eBook",null,"978-1-4824-5444-4",{"$f":"HYPERLINK(Table1[[#This Row],[eCommerce Hyperlink]],\"Book Weblink\")","v":"Book Weblink"},null,"2017","January 2017",null,null,"Author","Keiran Shah","0.9","0.5",null,null,"C",null,"Grade K","Grade Pre-K - 2","Grab a spade! It’s time to garden—and do math! Math is everywhere, as young mathematicians will understand as they read this brightly written book. They’ll add flowers, sort plants, and even learn some gardening vocabulary. Vivid photographs aid in both reading comprehension and math skill mastery.","English",23.6,17.7,"513--dc23","24 pp.","https://www.garethstevens.com/9781482454444",null,{"$f":"Table1[[#This Row],[QTY]]*Table1[[#This Row],['# Books]]","v":0},{"$f":"Table1[[#This Row],[QTY]]*Table1[[#This Row],[S&L Price]]","v":0}]
[null,null,null,"Math Is Everywhere!",1,"Math in the Kitchen","eBook",null,"978-1-4824-5452-9",{"$f":"HYPERLINK(Table1[[#This Row],[eCommerce Hyperlink]],\"Book Weblink\")","v":"Book Weblink"},null,"2017","January 2017",null,null,"Author","Keiran Shah","0.9","0.5",null,null,"C",null,"Grade K","Grade Pre-K - 2","Can math be delicious? It is when math skills are used to make cookies! Bakers are mathematicians when they add eggs and tablespoons of butter, measure flour and sugar, and mix them all together to make delectable treats. Readers will love this volume’s tempting photos and instructive, yet accessible text.","English",23.6,17.7,"513--dc23","24 pp.","https://www.garethstevens.com/9781482454529",null,{"$f":"Table1[[#This Row],[QTY]]*Table1[[#This Row],['# Books]]","v":0},{"$f":"Table1[[#This Row],[QTY]]*Table1[[#This Row],[S&L Price]]","v":0}]
[null,null,null,"Math Is Everywhere!",1,"Math with Toys","eBook",null,"978-1-4824-4614-2",{"$f":"HYPERLINK(Table1[[#This Row],[eCommerce Hyperlink]],\"Book Weblink\")","v":"Book Weblink"},null,"2017","August 2016",null,null,"Author","Rory McDonnell","0.8","0.5",null,null,"B","260L","Grade K","Grade Pre-K - 2","Math and toys, a perfect combination. This volume, full of high-interest and familiar toys, demonstrates to young readers how they can see mathematical concepts even in the midst of playtime. They’ll review Common Core math standards such as counting, sorting, comparing sizes, and identifying shapes and two-dimensional and three-dimensional objects. The bright, at-level text is mirrored by colorful photographs.","English",23.6,17.7,"510--dc23","24 pp.","https://www.garethstevens.com/9781482446142",null,{"$f":"Table1[[#This Row],[QTY]]*Table1[[#This Row],['# Books]]","v":0},{"$f":"Table1[[#This Row],[QTY]]*Table1[[#This Row],[S&L Price]]","v":0}]
[null,null,null,"In My Backyard",6,"In My Backyard: Set 2","Library Set",null,"978-1-5382-2941-5",{"$f":"HYPERLINK(Table1[[#This Row],[eCommerce Hyperlink]],\"Book Weblink\")","v":"Book Weblink"},null,"2019","January 2019","Library","7.625 X 7.125",null,null,null,null,null,null,null,null,"Grade K","Grade Pre-K - 2","What do a worm, an ant, and a toad have in common? They share habitats with people! These charming books focus on animals that are commonly seen in backyards and parks. Through lively and accessible text, readers will learn about each creature's characteristics, behaviors, and other valuable science concepts. Colorful photographs show each animal in the wild and aid in helping readers understand key ideas. A world of adventure awaits in the backyard with the help of this set. Features include: Understanding details in informational texts is essential to the English Language Arts Common Core standards. Concepts are explained through low-ATOS text. Knowledge of the natural world is an important component of elementary science curricula.","English",141.6,106.2,null,"24 pp.","https://www.garethstevens.com/9781538229415",null,{"$f":"Table1[[#This Row],[QTY]]*Table1[[#This Row],['# Books]]","v":0},{"$f":"Table1[[#This Row],[QTY]]*Table1[[#This Row],[S&L Price]]","v":0}]
[null,null,null,"In My Backyard",1,"I See a Bird","Library Bound Book",null,"978-1-4339-8539-3",{"$f":"HYPERLINK(Table1[[#This Row],[eCommerce Hyperlink]],\"Book Weblink\")","v":"Book Weblink"},null,"2013","January 2013","Library","7.625 X 7.125","Author","Alex Appleby","0.9","0.5","3","4","C","280L","Grade K","Grade K - 2","Birds of every shape and color soar through the sky, and many like to rest in backyards. Through the use of accessible text, readers take an exciting trip through the skies and into the lives of these bright creatures. A picture glossary helps beginning readers strengthen their vocabulary skills, and vibrant, full-color photographs show birds in flight and in the nest.","English",24.6,18.45,"598","24 pp.","https://www.garethstevens.com/9781433985393",null,{"$f":"Table1[[#This Row],[QTY]]*Table1[[#This Row],['# Books]]","v":0},{"$f":"Table1[[#This Row],[QTY]]*Table1[[#This Row],[S&L Price]]","v":0}]
[null,null,null,"In My Backyard",1,"I See a Chipmunk","eBook",null,"978-1-4339-8550-8",{"$f":"HYPERLINK(Table1[[#This Row],[eCommerce Hyperlink]],\"Book Weblink\")","v":"Book Weblink"},null,"2013","January 2013",null,null,"Author","Alex Appleby","0.9","0.5","3","4","C","240L","Grade K","Grade K - 2","Chipmunks know that winter is always right around the corner, and it’s never too early to start gathering food. Through the use of accessible text, readers take an exciting look at the life of these cheerful animals in their backyard. A picture glossary helps beginning readers strengthen their vocabulary skills, and vibrant, full-color photographs show chipmunks at home and abroad, filling their cheeks with nuts for a long winter of hibernation.","English",24.6,18.45,"599.36","24 pp.","https://www.garethstevens.com/9781433985508",null,{"$f":"Table1[[#This Row],[QTY]]*Table1[[#This Row],['# Books]]","v":0},{"$f":"Table1[[#This Row],[QTY]]*Table1[[#This Row],[S&L Price]]","v":0}]
[null,null,null,"In My Backyard",1,"I See a Ladybug","eBook",null,"978-1-4339-8558-4",{"$f":"HYPERLINK(Table1[[#This Row],[eCommerce Hyperlink]],\"Book Weblink\")","v":"Book Weblink"},null,"2013","January 2013",null,null,"Author","Alex Appleby","0.9","0.5","3","4","C","250L","Grade K","Grade K - 2","Ladybugs are full of mystery. Through the use of accessible text, readers take an exciting look at the life of these little red and black creatures flitting behind houses. A picture glossary helps beginning readers strengthen their vocabulary skills, and vibrant, full-color photographs show the how ladybugs frolic in the summer and stay warm in the winter.","English",24.6,18.45,"595.76","24 pp.","https://www.garethstevens.com/9781433985584",null,{"$f":"Table1[[#This Row],[QTY]]*Table1[[#This Row],['# Books]]","v":0},{"$f":"Table1[[#This Row],[QTY]]*Table1[[#This Row],[S&L Price]]","v":0}]
[null,null,null,"Fun on the Farm",1,"At the Dairy Farm","Library Bound Book",null,"978-1-4824-5518-2",{"$f":"HYPERLINK(Table1[[#This Row],[eCommerce Hyperlink]],\"Book Weblink\")","v":"Book Weblink"},null,"2017","January 2017","Library","7.625 X 7.125","Author","George Pendergast","0.9","0.5",null,null,"C","230L","Grade K","Grade Pre-K - 2","Taking care of cows isn’t always easy, but the reward is great: milk! Dairy farms are an important food source. This book takes a look at how cows live on dairy farms. From grazing in fields to life in the barn and how they are milked, young readers will love learning about these amazing animals and how they help give us food. Using full-color photographs and accessible text, readers learn what cows eat, where milk comes from, and many of the foods we eat that come from milk.","English",23.6,17.7,"636.2’142--dc23","24 pp.","https://www.garethstevens.com/9781482455182",null,{"$f":"Table1[[#This Row],[QTY]]*Table1[[#This Row],['# Books]]","v":0},{"$f":"Table1[[#This Row],[QTY]]*Table1[[#This Row],[S&L Price]]","v":0}]
[null,null,null,"Fun on the Farm",1,"At the Horse Farm","eBook",null,"978-1-4824-5527-4",{"$f":"HYPERLINK(Table1[[#This Row],[eCommerce Hyperlink]],\"Book Weblink\")","v":"Book Weblink"},null,"2017","January 2017",null,null,"Author","Bruce Esseltine","0.9","0.5",null,null,"C",null,"Grade K","Grade Pre-K - 2","Horses are amazing animals we use in a variety of different ways. Young readers ready for a ride will jump into the world of horse farms, exploring these amazing places to see how these animals live and play. Accessible text paired with full-color photographs show how farmers take care of horses, feeding them hay and brushing their hair to make sure they stay healthy. Readers also get to see horses play, running in open fields and being trained by farmers so people can ride them safely.","English",23.6,17.7,"636.1--dc23","24 pp.","https://www.garethstevens.com/9781482455274",null,{"$f":"Table1[[#This Row],[QTY]]*Table1[[#This Row],['# Books]]","v":0},{"$f":"Table1[[#This Row],[QTY]]*Table1[[#This Row],[S&L Price]]","v":0}]
[null,null,null,"Fun on the Farm",1,"At the Sheep Farm","eBook",null,"978-1-4824-5535-9",{"$f":"HYPERLINK(Table1[[#This Row],[eCommerce Hyperlink]],\"Book Weblink\")","v":"Book Weblink"},null,"2017","January 2017",null,null,"Author","Bruce Esseltine","0.9","0.5",null,null,"C",null,"Grade K","Grade Pre-K - 2","Sheep are useful farm animals because they help keep us warm! Through colorful photographs and accessible text, beginning readers will learn how these animals are raised by farmers to grow wool, how farmers cut it off them safely, and how that wool is used to make clothes! They’ll also learn how dogs help farmers herd these sheep and keep them safe on the farm, and how baby lambs are born in this exciting title that explores the lives of these special farm animals.","English",23.6,17.7,"636.3--dc23","24 pp.","https://www.garethstevens.com/9781482455359",null,{"$f":"Table1[[#This Row],[QTY]]*Table1[[#This Row],['# Books]]","v":0},{"$f":"Table1[[#This Row],[QTY]]*Table1[[#This Row],[S&L Price]]","v":0}]
[null,null,null,"Your Amazing Body!",1,"Your Eyes","eBook",null,"978-1-5382-1809-9",{"$f":"HYPERLINK(Table1[[#This Row],[eCommerce Hyperlink]],\"Book Weblink\")","v":"Book Weblink"},null,"2019","August 2018",null,null,"Author","Russell Hamdan","0.9","0.5",null,null,"C",null,"Grade K","Grade Pre-K - 2","Eyes perform many functions without us even having to think about them. Because of this, people may take their eyes for granted. They help us see, but they also do so much more. From blinking to producing tears, eyes can do so many extraordinary things. This book introduces readers to many key concepts having to do with the eyes and sight. With the use of low-ATOS text and colorful photographs, this book helps readers learn about the amazing things their eyes are capable of.","English",23.6,17.7,"612.8/4--dc23","24 pp.","https://www.garethstevens.com/9781538218099",null,{"$f":"Table1[[#This Row],[QTY]]*Table1[[#This Row],['# Books]]","v":0},{"$f":"Table1[[#This Row],[QTY]]*Table1[[#This Row],[S&L Price]]","v":0}]
[null,null,null,"Your Amazing Body!",1,"Your Mouth","Library Bound Book",null,"978-1-5382-1820-4",{"$f":"HYPERLINK(Table1[[#This Row],[eCommerce Hyperlink]],\"Book Weblink\")","v":"Book Weblink"},null,"2019","August 2018","Library","7.625 X 7.125","Author","Nancy Greenwood","0.9","0.5",null,null,"C",null,"Grade K","Grade Pre-K - 2","People use their mouths every day, but most rarely think about how amazing it is. With the help of this captivating volume, readers will learn about the body part that helps them eat, breathe, and speak. This book uses photographs that are closely related to the low-ATOS text to help beginning readers gain essential literacy and reading comprehension skills. Readers are also taught about the importance of keeping their mouths clean and how doing so will help maintain the health of this key body part.","English",23.6,17.7,"612.3/1--dc23","24 pp.","https://www.garethstevens.com/9781538218204",null,{"$f":"Table1[[#This Row],[QTY]]*Table1[[#This Row],['# Books]]","v":0},{"$f":"Table1[[#This Row],[QTY]]*Table1[[#This Row],[S&L Price]]","v":0}]
[null,null,null,"My Five Senses",1,"What I Hear","eBook",null,"978-1-4824-0777-8",{"$f":"HYPERLINK(Table1[[#This Row],[eCommerce Hyperlink]],\"Book Weblink\")","v":"Book Weblink"},null,"2015","August 2014",null,null,"Author","Alex Appleby","0.8","0.5","3",null,"C","230L","Grade K","Grade K - 2","Hearing is an important sense for those just beginning to explore the world. From the chirping of birds to the sound of cars and trucks, a good sense of hearing can teach people a lot about the beauty and dangers of the world around them. In this exciting book, early readers learn how hearing impacts their world. Full-color photographs also provide a strong picture-text correlation, while a picture glossary helps enhance vocabulary skills.","English",23.6,17.7,"612.8","24 pp.","https://www.garethstevens.com/9781482407778",null,{"$f":"Table1[[#This Row],[QTY]]*Table1[[#This Row],['# Books]]","v":0},{"$f":"Table1[[#This Row],[QTY]]*Table1[[#This Row],[S&L Price]]","v":0}]
[null,null,null,"My Five Senses",1,"What I Smell","eBook",null,"978-1-4824-0816-4",{"$f":"HYPERLINK(Table1[[#This Row],[eCommerce Hyperlink]],\"Book Weblink\")","v":"Book Weblink"},null,"2015","August 2014",null,null,"Author","Alex Appleby","0.9","0.5","3",null,"C","150L","Grade K","Grade K - 2","How do we know when it’s time to eat? Sometimes, it’s because we smell something yummy cooking! Early readers dive nose-first into the world of the smells around them, including bad smells like a garbage dump or good smells like apple pie. Accessible language and strong picture-text correlation introduces readers to all of the things the nose knows!","English",23.6,17.7,"612.8","24 pp.","https://www.garethstevens.com/9781482408164",null,{"$f":"Table1[[#This Row],[QTY]]*Table1[[#This Row],['# Books]]","v":0},{"$f":"Table1[[#This Row],[QTY]]*Table1[[#This Row],[S&L Price]]","v":0}]
[null,null,null,"Four Super Seasons",4,"Four Super Seasons","Library Set",null,"978-1-4824-0134-9",{"$f":"HYPERLINK(Table1[[#This Row],[eCommerce Hyperlink]],\"Book Weblink\")","v":"Book Weblink"},null,"2014","January 2014","Library","7.625 X 7.125",null,null,null,null,null,null,null,null,"Grade K","Grade K - 2","With each new season comes a new kind of weather and different things to do! Whether it’s swimming at the beach under the warm summer sun or building a snowman in winter, this exciting series is perfect for beginning readers looking to learn about our changing weather patterns. Each of the four seasons has its unique qualities, and young readers will learn about the differences between each with the help of accessible text and full-color photographs. A picture glossary and index reinforce comprehension for early readers.    • Strong picture-text correlation aids in comprehension • Reading level supports beginning readers • Picture glossary helps develop vocabulary skills   ","English",98.4,73.8,null,"24 pp.","https://www.garethstevens.com/9781482401349",null,{"$f":"Table1[[#This Row],[QTY]]*Table1[[#This Row],['# Books]]","v":0},{"$f":"Table1[[#This Row],[QTY]]*Table1[[#This Row],[S&L Price]]","v":0}]
[null,null,null,"Four Super Seasons",1,"What Happens in Summer?","eBook",null,"978-1-4824-0111-0",{"$f":"HYPERLINK(Table1[[#This Row],[eCommerce Hyperlink]],\"Book Weblink\")","v":"Book Weblink"},null,"2014","January 2014",null,null,"Author","Alex Appleby","1","0.5","3",null,"C","320L","Grade K","Grade K - 2","There's a lot to do when the weather is nice in summer. This book explores the warm weather that summer brings, including the activities of nature and fun ways to fill a summer day. Through the use of accessible text and simple science content, readers will learn why summer is unique from the other seasons. The strong picture-to-text correlation aids in comprehension. This volume's reading level supports beginning readers.","English",24.6,18.45,"508.2--dc23","24 pp.","https://www.garethstevens.com/9781482401110",null,{"$f":"Table1[[#This Row],[QTY]]*Table1[[#This Row],['# Books]]","v":0},{"$f":"Table1[[#This Row],[QTY]]*Table1[[#This Row],[S&L Price]]","v":0}]
[null,null,null,"Ways to Go",6,"Ways to Go","Library Set",null,"978-1-5382-1287-5",{"$f":"HYPERLINK(Table1[[#This Row],[eCommerce Hyperlink]],\"Book Weblink\")","v":"Book Weblink"},null,"2018","January 2018","Library","7.625 X 7.125",null,null,null,null,null,null,null,null,"Grade K","Grade Pre-K - 2","There are so many ways to get from here to there. This series puts beginning readers in the driver's seat as they explore the many ways we use transportation in our daily lives. Whether it's driving trucks, flying planes across the country, or just riding a bike around the neighborhood, readers will learn how many ways there are to go through full-color photographs and accessible text. Strong picture-to-text correlation introduces all major forms of transportation and their importance, covering bikes, boats, cars, planes, trains, and trucks.","English",141.6,106.2,null,"24 pp.","https://www.garethstevens.com/9781538212875",null,{"$f":"Table1[[#This Row],[QTY]]*Table1[[#This Row],['# Books]]","v":0},{"$f":"Table1[[#This Row],[QTY]]*Table1[[#This Row],[S&L Price]]","v":0}]
[null,null,null,"Ways to Go",1,"Bikes Go!","Library Bound Book",null,"978-1-5382-1011-6",{"$f":"HYPERLINK(Table1[[#This Row],[eCommerce Hyperlink]],\"Book Weblink\")","v":"Book Weblink"},null,"2018","January 2018","Library","7.625 X 7.125","Author","Sean MacDumont","0.9","0.5",null,null,"C",null,"Grade K","Grade Pre-K - 2","Learning to ride a bike is an important part of growing up. Those first pedals down the sidewalk open up a new world on the wheels of a young reader's bike. This book puts beginning readers behind the handlebars of these machines and all the places they can go. From a trip to the park to a ride to school, bikes are the perfect way to travel the neighborhood. Young readers experience these joys through accessible text paired with vibrant full-color photographs that show off all the places the wheels of a bike can take those willing to do a bit of pedaling.","English",23.6,17.7,"629.227'2--dc23","24 pp.","https://www.garethstevens.com/9781538210116",null,{"$f":"Table1[[#This Row],[QTY]]*Table1[[#This Row],['# Books]]","v":0},{"$f":"Table1[[#This Row],[QTY]]*Table1[[#This Row],[S&L Price]]","v":0}]
[null,null,null,"Ways to Go",1,"Cars Go!","eBook",null,"978-1-5382-1019-2",{"$f":"HYPERLINK(Table1[[#This Row],[eCommerce Hyperlink]],\"Book Weblink\")","v":"Book Weblink"},null,"2018","January 2018",null,null,"Author","John Matthew Williams","0.9","0.5",null,null,"C",null,"Grade K","Grade Pre-K - 2","Cars are everywhere people want to be. Motor vehicles zip around highways and through cities taking people from place to place with ease. This book features dazzling full-color photographs and accessible text that show cars on the move. From long drives across the country to short scoots to the store, readers learn that cars are an important part of daily life for many people.","English",23.6,17.7,"629.222--dc23","24 pp.","https://www.garethstevens.com/9781538210192",null,{"$f":"Table1[[#This Row],[QTY]]*Table1[[#This Row],['# Books]]","v":0},{"$f":"Table1[[#This Row],[QTY]]*Table1[[#This Row],[S&L Price]]","v":0}]
[null,null,null,"Ways to Go",1,"Trucks Go!","Library Bound Book",null,"978-1-5382-1030-7",{"$f":"HYPERLINK(Table1[[#This Row],[eCommerce Hyperlink]],\"Book Weblink\")","v":"Book Weblink"},null,"2018","January 2018","Library","7.625 X 7.125","Author","Sean MacDumont","0.9","0.5",null,null,"C",null,"Grade K","Grade Pre-K - 2","Readers may get scared when enormous trucks zoom by their car on the highway, but these big vehicles are doing an important job. These amazing machines are hauling lots of things from one place to another, bringing food and other goods to homes around the country. Through full-color photographs and accessible text, beginning readers get behind the wheel of these massive moving machines to see what it's like on the road, and learn how important these vehicles are to our everyday life.","English",23.6,17.7,"629.224--dc23","24 pp.","https://www.garethstevens.com/9781538210307",null,{"$f":"Table1[[#This Row],[QTY]]*Table1[[#This Row],['# Books]]","v":0},{"$f":"Table1[[#This Row],[QTY]]*Table1[[#This Row],[S&L Price]]","v":0}]
[null,null,null,"We Love Spring!",1,"Birds in Spring","eBook",null,"978-1-4824-5488-8",{"$f":"HYPERLINK(Table1[[#This Row],[eCommerce Hyperlink]],\"Book Weblink\")","v":"Book Weblink"},null,"2017","January 2017",null,null,"Author","Lorne Henshaw","0.9","0.5",null,null,"C",null,"Grade K","Grade Pre-K - 2","Baby animals are out and about in spring, including in the sky! Birds of all kinds take flight, finding food for their young and teaching them how to survive in the wild. This exciting book takes early readers into the skies. There, readers learn how these winged wonders enjoy the springtime through using full-color photographs showing these creatures in action, tending to their nests and making a home for their babies soon to hatch from eggs.","English",23.6,17.7,"598--dc23","24 pp.","https://www.garethstevens.com/9781482454888",null,{"$f":"Table1[[#This Row],[QTY]]*Table1[[#This Row],['# Books]]","v":0},{"$f":"Table1[[#This Row],[QTY]]*Table1[[#This Row],[S&L Price]]","v":0}]
[null,null,null,"We Love Spring!",1,"First Spring Flowers","eBook",null,"978-1-4824-5492-5",{"$f":"HYPERLINK(Table1[[#This Row],[eCommerce Hyperlink]],\"Book Weblink\")","v":"Book Weblink"},null,"2017","January 2017",null,null,"Author","Stanley Hollow","0.8","0.5",null,null,"C",null,"Grade K","Grade Pre-K - 2","Spring is a time for flowers to bloom. The first flowers of spring are a sign that the long winter is finally over. These amazing flowers can often push through snow still on the ground, showing how hearty plants can be. From seed to bloom, vivid full-color photographs will dazzle beginning readers exploring how these amazing early-season plants survive in harsh conditions. While some bloom early and are gone by mid spring, others begin a long life of looking and smelling wonderful in someone's garden.","English",23.6,17.7,"582.13--dc23","24 pp.","https://www.garethstevens.com/9781482454925",null,{"$f":"Table1[[#This Row],[QTY]]*Table1[[#This Row],['# Books]]","v":0},{"$f":"Table1[[#This Row],[QTY]]*Table1[[#This Row],[S&L Price]]","v":0}]
[null,null,null,"To the Rescue!",6,"To the Rescue!","Library Set",null,"978-1-4824-4522-0",{"$f":"HYPERLINK(Table1[[#This Row],[eCommerce Hyperlink]],\"Book Weblink\")","v":"Book Weblink"},null,"2017","August 2016","Library","7.625 X 7.125",null,null,null,null,null,null,null,null,"Grade K","Grade K - 2","When there’s trouble, we call for help. But how does help get to where the trouble is? They use rescue vehicles! From ambulances to fire trucks, emergency workers need wheels to help those in need. This series pairs accessible, kindergarten-level text with vibrant photographs to show the these great machines in action. Whether braving winter weather to reach difficult places in a snowmobile or soaring overhead in a rescue helicopter, this exciting series brings the intense world of search and rescue to readers’ fingertips.","English",141.6,106.2,null,"24 pp.","https://www.garethstevens.com/9781482445220",null,{"$f":"Table1[[#This Row],[QTY]]*Table1[[#This Row],['# Books]]","v":0},{"$f":"Table1[[#This Row],[QTY]]*Table1[[#This Row],[S&L Price]]","v":0}]
[null,null,null,"To the Rescue!",1,"Police Cars","eBook",null,"978-1-4824-4655-5",{"$f":"HYPERLINK(Table1[[#This Row],[eCommerce Hyperlink]],\"Book Weblink\")","v":"Book Weblink"},null,"2017","August 2016",null,null,"Author","Lois Fortuna","0.9","0.5",null,null,"C",null,"Grade K","Grade K - 2","Police cars are a common sight in cities, but not many people know just how they work. From their supercharged engines to their special equipment for chasing down vehicles, police cars are full of unique features. From patrol cars policing the streets to vehicles used on highways to chase down speeding drivers, beginning readers learn that there are many different makes and models of these important vehicles.","English",23.6,17.7,"629.225--dc23","24 pp.","https://www.garethstevens.com/9781482446555",null,{"$f":"Table1[[#This Row],[QTY]]*Table1[[#This Row],['# Books]]","v":0},{"$f":"Table1[[#This Row],[QTY]]*Table1[[#This Row],[S&L Price]]","v":0}]
[null,null,null,"To the Rescue!",1,"Rescue Helicopters","eBook",null,"978-1-4824-4657-9",{"$f":"HYPERLINK(Table1[[#This Row],[eCommerce Hyperlink]],\"Book Weblink\")","v":"Book Weblink"},null,"2017","August 2016",null,null,"Author","Lois Fortuna","0.9","0.5",null,null,"C",null,"Grade K","Grade K - 2","Helicopters are important assets for emergency crews when things go wrong. Taking to the air, helicopters use a different angle to get to those in trouble. Whether because of bad weather or natural disasters like earthquakes or forest fires, the brave crews working with rescue helicopters often put their own lives at risk to help those in need. This book for beginning readers looks at these special helicopters, explaining some important design features that make them different from ordinary helicopters.","English",23.6,17.7,"629.133/352--dc23","24 pp.","https://www.garethstevens.com/9781482446579",null,{"$f":"Table1[[#This Row],[QTY]]*Table1[[#This Row],['# Books]]","v":0},{"$f":"Table1[[#This Row],[QTY]]*Table1[[#This Row],[S&L Price]]","v":0}]
[null,null,null,"Inside My World",1,"Meet My Pet","Library Bound Book",null,"978-1-4824-1797-5",{"$f":"HYPERLINK(Table1[[#This Row],[eCommerce Hyperlink]],\"Book Weblink\")","v":"Book Weblink"},null,"2015","January 2015","Library","7.625 X 7.125","Author","Tina Benjamin","0.8","0.5",null,null,"B","250L","Grade K","Grade K - 2","Having a pet is one of the biggest responsibilities a young child can have. Early readers will love learning about Lucy, the pet parrot that loves to give her owner kisses. With exciting facts about what Lucy eats and what she likes to do, readers will love learning how to take care of and love a pet of their own. They’ll also learn about Jordan’s pet dog, Lucky, with the help of color photographs and engaging, accessible text.","English",23.6,17.7,"636","24 pp.","https://www.garethstevens.com/9781482417975",null,{"$f":"Table1[[#This Row],[QTY]]*Table1[[#This Row],['# Books]]","v":0},{"$f":"Table1[[#This Row],[QTY]]*Table1[[#This Row],[S&L Price]]","v":0}]
[null,null,null,"Inside My World",1,"My Family","eBook",null,"978-1-4824-1807-1",{"$f":"HYPERLINK(Table1[[#This Row],[eCommerce Hyperlink]],\"Book Weblink\")","v":"Book Weblink"},null,"2015","January 2015",null,null,"Author","Tina Benjamin","0.9","0.5",null,null,"C","260L","Grade K","Grade K - 2","Every family is different. That’s why it’s so much fun to spend time with different people and learn how they live. Beginning readers will love getting a look at what this family does on a day-to-day basis. From making dinner with the grandparents or taking a family walk, accessible text and color photographs show an active and healthy family enjoying the time they spend together. Readers will also learn about interpersonal relationships between parents, grandparents, and children.","English",23.6,17.7,"306.85","24 pp.","https://www.garethstevens.com/9781482418071",null,{"$f":"Table1[[#This Row],[QTY]]*Table1[[#This Row],['# Books]]","v":0},{"$f":"Table1[[#This Row],[QTY]]*Table1[[#This Row],[S&L Price]]","v":0}]
[null,null,null,"Inside My World",1,"Where I Live","eBook",null,"978-1-4824-1815-6",{"$f":"HYPERLINK(Table1[[#This Row],[eCommerce Hyperlink]],\"Book Weblink\")","v":"Book Weblink"},null,"2015","January 2015",null,null,"Author","Tina Benjamin","0.9","0.5",null,null,"C","280L","Grade K","Grade K - 2","Exploring your hometown can be like a vacation in your backyard, and learning about someone else’s city is a great way to expand your concept of home. This fun book takes a trip through the narrator’s town, complete with a trip through their backyard pool, school, and even the fire station. From the fountain in the town square to shopping on Main Street, beginning readers will love the accessible text and color photographs that leap off the page and bring a narrator’s hometown to life.","English",23.6,17.7,"307.76","24 pp.","https://www.garethstevens.com/9781482418156",null,{"$f":"Table1[[#This Row],[QTY]]*Table1[[#This Row],['# Books]]","v":0},{"$f":"Table1[[#This Row],[QTY]]*Table1[[#This Row],[S&L Price]]","v":0}]
[null,null,null,"When I Grow Up",1,"I Can Be a Singer","Library Bound Book",null,"978-1-4824-0757-0",{"$f":"HYPERLINK(Table1[[#This Row],[eCommerce Hyperlink]],\"Book Weblink\")","v":"Book Weblink"},null,"2015","August 2014","Library","7.625 X 7.125","Author","Alex Appleby","0.8","0.5","3",null,"C","250L","Grade K","Grade K - 2","Many people dream of singing in front of millions of people. In this book, early readers see they can stop singing in their showers and can bring their voice to the stage. With strong picture-text correlation and an innovative approach to learning basic vocabulary and literacy skills, readers learn that they can be anything they want when they grow up. This title published subject to a trademark license with WIGU Publishing, LLC.","English",23.6,17.7,"784","24 pp.","https://www.garethstevens.com/9781482407570",null,{"$f":"Table1[[#This Row],[QTY]]*Table1[[#This Row],['# Books]]","v":0},{"$f":"Table1[[#This Row],[QTY]]*Table1[[#This Row],[S&L Price]]","v":0}]
[null,null,null,"When I Grow Up",1,"I Can Be an Astronaut","eBook",null,"978-1-4824-0756-3",{"$f":"HYPERLINK(Table1[[#This Row],[eCommerce Hyperlink]],\"Book Weblink\")","v":"Book Weblink"},null,"2015","August 2014",null,null,"Author","Alex Appleby","0.9","0.5","3",null,"C","310L","Grade K","Grade K - 2","A dozen people have set foot on the moon, and many people dream of being the next person to see what Earth looks like from space. Beginning readers learn what it takes to make it to space as an astronaut, conducting training missions and taking flight to study the universe among the stars. With great full-color pictures to provide strong picture-text correlation and enhance reading skills, this book is sure to be a hit with readers looking for an out-of-this-world career. This title published subject to a trademark license with WIGU Publishing, LLC.","English",23.6,17.7,"629.45","24 pp.","https://www.garethstevens.com/9781482407563",null,{"$f":"Table1[[#This Row],[QTY]]*Table1[[#This Row],['# Books]]","v":0},{"$f":"Table1[[#This Row],[QTY]]*Table1[[#This Row],[S&L Price]]","v":0}]
[null,null,null,"When I Grow Up",1,"I Can Be the President","Library Bound Book",null,"978-1-4824-1030-3",{"$f":"HYPERLINK(Table1[[#This Row],[eCommerce Hyperlink]],\"Book Weblink\")","v":"Book Weblink"},null,"2015","August 2014","Library","7.625 X 7.125","Author","Alex Appleby","0.9","0.5","3",null,"C","330L","Grade K","Grade K - 2","Being the president isn’t easy, and neither is getting elected! For young readers hoping for a future in politics, this exciting book takes them on a journey all the way to the White House. Through accessible text and great full-color photographs showing life inside the White House, readers will get a great look at what the president does each day. This title published subject to a trademark license with WIGU Publishing, LLC.","English",23.6,17.7,"352.23","24 pp.","https://www.garethstevens.com/9781482410303",null,{"$f":"Table1[[#This Row],[QTY]]*Table1[[#This Row],['# Books]]","v":0},{"$f":"Table1[[#This Row],[QTY]]*Table1[[#This Row],[S&L Price]]","v":0}]
[null,null,null,"We Can Do It!",1,"Growing Plants","Library Bound Book",null,"978-1-4824-3805-5",{"$f":"HYPERLINK(Table1[[#This Row],[eCommerce Hyperlink]],\"Book Weblink\")","v":"Book Weblink"},null,"2016","January 2016","Library","7.625 X 7.125","Author","Lois Fortuna","0.8","0.5",null,null,"C","190L","Grade K","Grade K - 2","There are lots of different kinds of plants. From the grass beneath our feet to the fruits and vegetables we eat, plant life surrounds us. This engaging book gives budding readers a guide to growing plants of their own. Whether planting a vegetable garden or planting flowers, most plants come from tiny seeds. From there, readers learn how to water these seeds and tend to what soon comes out of the ground, learning an essential life process with the help of colorful photographs paired with simple text.","English",23.6,17.7,"630--dc23","24 pp.","https://www.garethstevens.com/9781482438055",null,{"$f":"Table1[[#This Row],[QTY]]*Table1[[#This Row],['# Books]]","v":0},{"$f":"Table1[[#This Row],[QTY]]*Table1[[#This Row],[S&L Price]]","v":0}]
[null,null,null,"We Can Do It!",1,"Helping a Friend","Library Bound Book",null,"978-1-4824-3809-3",{"$f":"HYPERLINK(Table1[[#This Row],[eCommerce Hyperlink]],\"Book Weblink\")","v":"Book Weblink"},null,"2016","January 2016","Library","7.625 X 7.125","Author","Lois Fortuna","0.9","0.5","3",null,"C","150L","Grade K","Grade K - 2","Whether they’re stuck on a homework question or just need a push on a swing, friends need each other! This book shows budding readers that not only could friends use a hand, but it can be rewarding and even fun to help out. Pairing accessible text with colorful photographs of friends lending others their time and effort, readers learn how their peers help their friends clean up their neighborhood or learn how to read. They even discover how they can team up with their own friends to stay safe or clean up trash in their neighborhood.","English",23.6,17.7,"177'.62--dc23","24 pp.","https://www.garethstevens.com/9781482438093",null,{"$f":"Table1[[#This Row],[QTY]]*Table1[[#This Row],['# Books]]","v":0},{"$f":"Table1[[#This Row],[QTY]]*Table1[[#This Row],[S&L Price]]","v":0}]
[null,null,null,"Winter Fun",6,"Winter Fun","Library Set",null,"978-1-4824-4280-9",{"$f":"HYPERLINK(Table1[[#This Row],[eCommerce Hyperlink]],\"Book Weblink\")","v":"Book Weblink"},null,"2016","January 2016","Library","7.625 X 7.125",null,null,null,null,null,null,null,null,"Grade K","Grade K - 2","Just because it’s cold outside doesn’t mean you can’t have fun! This series lets beginning readers explore the wonders of winter through accessible text and full-color photographs showing cold but creative ways to enjoy the outdoors during winter months. From building a snowman with fresh snowfall to ice-skating and sledding with friends, this engaging early reader series will show readers the coldest season can also be the most fun.\n•          ATOS reading level below 1.0\n•           High-interest topic will appeal to even reluctant readers\n•           Introduction to informational-text features, such as an index and table of contents","English",141.6,106.2,null,"24 pp.","https://www.garethstevens.com/9781482442809",null,{"$f":"Table1[[#This Row],[QTY]]*Table1[[#This Row],['# Books]]","v":0},{"$f":"Table1[[#This Row],[QTY]]*Table1[[#This Row],[S&L Price]]","v":0}]
[null,null,null,"Winter Fun",1,"Let's Go Ice-Skating!","Library Bound Book",null,"978-1-4824-3757-7",{"$f":"HYPERLINK(Table1[[#This Row],[eCommerce Hyperlink]],\"Book Weblink\")","v":"Book Weblink"},null,"2016","January 2016","Library","7.625 X 7.125","Author","Jasper Bix","0.9","0.5",null,null,"C",null,"Grade K","Grade K - 2","Even on the coldest winter days it’s easy to have fun outside! Early readers learn all they need is a pair of ice skates and a bit of patience, and they can enjoy the winter weather in style. From lacing up a pair of skates tightly to wearing a helmet for safety, readers learn all the basics needed to get on the ice and give skating a try for themselves! Accessible text presented alongside colorful photographs showing young children skating helps budding readers get motivated to stay active and have fun no matter what the weather outside.","English",23.6,17.7,"796.91--dc23","24 pp.","https://www.garethstevens.com/9781482437577",null,{"$f":"Table1[[#This Row],[QTY]]*Table1[[#This Row],['# Books]]","v":0},{"$f":"Table1[[#This Row],[QTY]]*Table1[[#This Row],[S&L Price]]","v":0}]
[null,null,null,"Winter Fun",1,"Winter Holidays","Library Bound Book",null,"978-1-4824-3765-2",{"$f":"HYPERLINK(Table1[[#This Row],[eCommerce Hyperlink]],\"Book Weblink\")","v":"Book Weblink"},null,"2016","January 2016","Library","7.625 X 7.125","Author","Jasper Bix","0.8","0.5",null,null,"C",null,"Grade K","Grade K - 2","Even in winter, there’s always something to celebrate! Budding readers are immersed in a variety of winter holidays and their traditions, from the cards and candy of Valentine’s Day to the New Year’s Eve parties that precede New Year’s Day. Color photographs paired with accessible text help early readers understand how others celebrate Christmas with evergreen trees and presents, adding holiday cheer to the snowy days that fill our coldest months.","English",23.6,17.7,"508.2--dc23","24 pp.","https://www.garethstevens.com/9781482437652",null,{"$f":"Table1[[#This Row],[QTY]]*Table1[[#This Row],['# Books]]","v":0},{"$f":"Table1[[#This Row],[QTY]]*Table1[[#This Row],[S&L Price]]","v":0}]
[null,null,null,"Let's Go Outdoors!",1,"Let's Dig in the Garden","eBook",null,"978-1-4824-2616-8",{"$f":"HYPERLINK(Table1[[#This Row],[eCommerce Hyperlink]],\"Book Weblink\")","v":"Book Weblink"},null,"2016","August 2015",null,null,"Author","Tina Benjamin","0.7","0.5",null,null,"B",null,"Grade K","Grade K - 2","Sometimes the best way to understand nature is to grab a shovel and dig right in. Tending to a garden is an exciting way to understand how things grow and how plants are an important source of food for people as well as other animals. Accessible text and supporting full-color photographs present gardening basics to beginning readers, inspiring them to plant their very own gardens.","English",23.6,17.7,"635","24 pp.","https://www.garethstevens.com/9781482426168",null,{"$f":"Table1[[#This Row],[QTY]]*Table1[[#This Row],['# Books]]","v":0},{"$f":"Table1[[#This Row],[QTY]]*Table1[[#This Row],[S&L Price]]","v":0}]
[null,null,null,"Let's Go Outdoors!",1,"Let's Have a Picnic","Library Bound Book",null,"978-1-4824-2627-4",{"$f":"HYPERLINK(Table1[[#This Row],[eCommerce Hyperlink]],\"Book Weblink\")","v":"Book Weblink"},null,"2016","August 2015","Library","7.625 X 7.125","Author","Tina Benjamin","0.8","0.5",null,null,"C",null,"Grade K","Grade K - 2","Whether sitting in the grass, on a blanket, or at a picnic table, there’s no a bad place to have a picnic on a nice day. Through simple text and supporting photographs, beginning readers discover there’s nothing like packing a picnic basket and spending an afternoon with your family enjoying a tasty meal under a tree. From the delicious food to the beautiful scenery, readers will enjoy a day at the park enjoying the sights, sounds, and tastes of a nice picnic.","English",23.6,17.7,"642","24 pp.","https://www.garethstevens.com/9781482426274",null,{"$f":"Table1[[#This Row],[QTY]]*Table1[[#This Row],['# Books]]","v":0},{"$f":"Table1[[#This Row],[QTY]]*Table1[[#This Row],[S&L Price]]","v":0}]
[null,null,null,"Let's Go Outdoors!",1,"Let's Walk in the Woods","Library Bound Book",null,"978-1-4824-2635-9",{"$f":"HYPERLINK(Table1[[#This Row],[eCommerce Hyperlink]],\"Book Weblink\")","v":"Book Weblink"},null,"2016","August 2015","Library","7.625 X 7.125","Author","Tina Benjamin","0.9","0.5",null,null,"C",null,"Grade K","Grade K - 2","A walk through the forest or a park is a great opportunity to take in some of nature’s beauty. Whether bird watching or squirrel watching, there are plenty of animals and amazing tall trees to explore. Through simple text and supporting photographs, readers will learn it’s important to follow the trail and not get lost while they seek out adventure at every turn. From spotting owls to finding, there’s always something to discover in the woods.","English",23.6,17.7,"591.73","24 pp.","https://www.garethstevens.com/9781482426359",null,{"$f":"Table1[[#This Row],[QTY]]*Table1[[#This Row],['# Books]]","v":0},{"$f":"Table1[[#This Row],[QTY]]*Table1[[#This Row],[S&L Price]]","v":0}]
[null,null,null,"The School Rules",1,"Rules in the Classroom","eBook",null,"978-1-4824-2644-1",{"$f":"HYPERLINK(Table1[[#This Row],[eCommerce Hyperlink]],\"Book Weblink\")","v":"Book Weblink"},null,"2016","August 2015",null,null,"Author","Paul Bloom","0.9","0.5",null,null,"C","240L","Grade K","Grade K - 2","The classroom is a place of learning, but it can also be filled with fun. Through simple text and supporting photographs, early readers will learn that listening to their teachers and being respectful of others is a lesson just as important as anything else learned in the classroom. Readers will understand the importance of basic classroom rules, such as raising your hand to ask a question, as well as how to interact with others in the classroom setting.","English",23.6,17.7,"372.18","24 pp.","https://www.garethstevens.com/9781482426441",null,{"$f":"Table1[[#This Row],[QTY]]*Table1[[#This Row],['# Books]]","v":0},{"$f":"Table1[[#This Row],[QTY]]*Table1[[#This Row],[S&L Price]]","v":0}]
[null,null,null,"The School Rules",1,"Rules on the Bus","Library Bound Book",null,"978-1-4824-2655-7",{"$f":"HYPERLINK(Table1[[#This Row],[eCommerce Hyperlink]],\"Book Weblink\")","v":"Book Weblink"},null,"2016","August 2015","Library","7.625 X 7.125","Author","Paul Bloom","0.9","0.5",null,null,"C","250L","Grade K","Grade K - 2","Many readers will take the bus to and from school for years. This familiar setting may seem boring at first, but taking a ride on a bus can be fun as long as readers follow the rules. Through simple, easy-to-understand text, beginning readers will learn to respect the rules while on the road as the bus driver takes them from home to classroom each morning, and then home each afternoon. Learning to get along and make bus rides fun is an important lesson for every reader.","English",23.6,17.7,"363.12","24 pp.","https://www.garethstevens.com/9781482426557",null,{"$f":"Table1[[#This Row],[QTY]]*Table1[[#This Row],['# Books]]","v":0},{"$f":"Table1[[#This Row],[QTY]]*Table1[[#This Row],[S&L Price]]","v":0}]
[null,null,null,"Going Places (New Edition)",1,"In a Car","eBook",null,"978-1-4339-6262-2",{"$f":"HYPERLINK(Table1[[#This Row],[eCommerce Hyperlink]],\"Book Weblink\")","v":"Book Weblink"},null,"2012","January 2012",null,null,"Author","Robert M. Hamilton ","0.9","0.5","2","3","C","290L","Grade K","Grade K - 2","Beginning readers learn new facts about cars, including how cars work, the gasoline that makes them run, and the speed limits that help to keep drivers, passengers, and pedestrians safe. Through the use of easy-to-follow text, beginning readers also explore the parts of a car. Colorful photographs show these machines in great detail allowing beginning readers to see a familiar vehicle in a new light.","English",24.6,18.45,"388.3","24 pp.","https://www.garethstevens.com/9781433962622",null,{"$f":"Table1[[#This Row],[QTY]]*Table1[[#This Row],['# Books]]","v":0},{"$f":"Table1[[#This Row],[QTY]]*Table1[[#This Row],[S&L Price]]","v":0}]
[null,null,null,"Going Places (New Edition)",1,"On a Bike","Library Bound Book",null,"978-1-4339-6265-3",{"$f":"HYPERLINK(Table1[[#This Row],[eCommerce Hyperlink]],\"Book Weblink\")","v":"Book Weblink"},null,"2012","January 2012","Library","7.625 X 7.125","Author","Robert M. Hamilton ","0.9","0.5","2","3","C","270L","Grade K","Grade K - 2","People love to ride bikes for fun, for exercise, and even for racing. Beginning readers discover the different kinds of bikes used for these different purposes and more in this book. Readers also explore the mechanics of bicycles with the help of accessible language, making it fun to learn what makes a bike move. Detailed photographs highlight the parts of a bike and how they work together to get a bike moving.","English",24.6,18.45,"388.3","24 pp.","https://www.garethstevens.com/9781433962653",null,{"$f":"Table1[[#This Row],[QTY]]*Table1[[#This Row],['# Books]]","v":0},{"$f":"Table1[[#This Row],[QTY]]*Table1[[#This Row],[S&L Price]]","v":0}]
[null,null,null,"Going Places (New Edition)",1,"On a Boat","Library Bound Book",null,"978-1-4339-6269-1",{"$f":"HYPERLINK(Table1[[#This Row],[eCommerce Hyperlink]],\"Book Weblink\")","v":"Book Weblink"},null,"2012","January 2012","Library","7.625 X 7.125","Author","Robert M. Hamilton ","0.9","0.5","2","3","C","200L","Grade K","Grade K - 2","There are many kinds of boats that work on the water, and beginning readers are able to see exactly how they work in this fun and informative book. Small sailboats and huge ships are a few that readers discover as they learn how different boats move, look, and help people around the world. Accessible text helps beginning readers uncover fun facts about the parts and purposes of various boats, and vibrant photographs make these facts even more exciting.","English",24.6,18.45,"623.82","24 pp.","https://www.garethstevens.com/9781433962691",null,{"$f":"Table1[[#This Row],[QTY]]*Table1[[#This Row],['# Books]]","v":0},{"$f":"Table1[[#This Row],[QTY]]*Table1[[#This Row],[S&L Price]]","v":0}]
[null,null,null,"Going Places (New Edition)",1,"On a Bus","Interactive eBook","Flash","978-1-4339-6877-8",{"$f":"HYPERLINK(Table1[[#This Row],[eCommerce Hyperlink]],\"Book Weblink\")","v":"Book Weblink"},null,"2012","January 2012",null,null,"Author","Robert M. Hamilton ","0.9","0.5","2","3","C","280L","Grade K","Grade K - 2","Beginning readers learn many fun facts about buses in this informative book. Easy-to-follow text makes new information about these familiar vehicles accessible for even the most reluctant of readers. Bright photographs show different types of buses on the road, and make identifying what kind of bus has a bathroom inside a fun exercise.","English",33.25,24.95,"388.3","24 pp.","https://www.garethstevens.com/9781433968778",null,{"$f":"Table1[[#This Row],[QTY]]*Table1[[#This Row],['# Books]]","v":0},{"$f":"Table1[[#This Row],[QTY]]*Table1[[#This Row],[S&L Price]]","v":0}]
[null,null,null,"Going Places (New Edition)",1,"On a Train","eBook",null,"978-1-4339-6282-0",{"$f":"HYPERLINK(Table1[[#This Row],[eCommerce Hyperlink]],\"Book Weblink\")","v":"Book Weblink"},null,"2012","January 2012",null,null,"Author","Robert M. Hamilton ","0.9","0.5","2","3","C","320L","Grade K","Grade K - 2","Beginning readers discover fun facts about trains—from their history to what makes them work, readers will learn how the first trains moved, which kind of train carries people, what a bullet train is, and more. Through easy-to-follow text, readers will explore for themselves the world of this popular mode of transportation. Detailed photographs give beginning readers an up-close look at a variety of trains in motion.","English",24.6,18.45,"385","24 pp.","https://www.garethstevens.com/9781433962820",null,{"$f":"Table1[[#This Row],[QTY]]*Table1[[#This Row],['# Books]]","v":0},{"$f":"Table1[[#This Row],[QTY]]*Table1[[#This Row],[S&L Price]]","v":0}]
[null,null,null,"People Around Town",1,"Meet the Farmer","Library Bound Book",null,"978-1-4339-9367-1",{"$f":"HYPERLINK(Table1[[#This Row],[eCommerce Hyperlink]],\"Book Weblink\")","v":"Book Weblink"},null,"2014","August 2013","Library","7.625 X 7.125","Author","Joyce Jeffries","0.9","0.5","3","4","C","250L","Grade K","Grade K - 2","Farmers know how to get the most out of the land, whether with crops or big farm animals. Readers learn more about the lives of these important community helpers with the help of full-color photographs and easy-to-read text. Readers discover how big tractors help farmers work quickly, and what kinds of animals call a farm home. Accessible text helps early readers grasp concepts, while a picture glossary pairs vocabulary with colorful photographs to help enhance comprehension.     • High-interest topic engages young readers • Strong picture-text correlation aids in comprehension • Reading level supports beginning readers • Picture glossary helps develop vocabulary skills • Comprehendible index guides readers through each book    ","English",24.6,18.45,"331.7","24 pp.","https://www.garethstevens.com/9781433993671",null,{"$f":"Table1[[#This Row],[QTY]]*Table1[[#This Row],['# Books]]","v":0},{"$f":"Table1[[#This Row],[QTY]]*Table1[[#This Row],[S&L Price]]","v":0}]
[null,null,null,"People Around Town",1,"Meet the Mayor","eBook",null,"978-1-4339-9380-0",{"$f":"HYPERLINK(Table1[[#This Row],[eCommerce Hyperlink]],\"Book Weblink\")","v":"Book Weblink"},null,"2014","August 2013",null,null,"Author","Joyce Jeffries","0.9","0.5","3","4","C","370L","Grade K","Grade K - 2","Every mayor is different, but they all want to help make towns and cities better places to live! Beginning readers learn what mayors can do to help everyday citizens with the help of full-color photographs and accessible text. They’ll discover how mayors help make laws, raise money for their towns and cities, and keep citizens safe. Strong picture-text correlation aids in reading comprehension, and a picture glossary reinforces vocabulary and concepts related to these important community leaders.    • High-interest topic engages young readers • Strong picture-text correlation aids in comprehension • Reading level supports beginning readers • Picture glossary helps develop vocabulary skills • Comprehendible index guides readers through each book  ","English",24.6,18.45,"352.23","24 pp.","https://www.garethstevens.com/9781433993800",null,{"$f":"Table1[[#This Row],[QTY]]*Table1[[#This Row],['# Books]]","v":0},{"$f":"Table1[[#This Row],[QTY]]*Table1[[#This Row],[S&L Price]]","v":0}]
[null,null,null,"People Around Town",1,"Meet the Baker","Library Bound Book",null,"978-1-4339-7320-8",{"$f":"HYPERLINK(Table1[[#This Row],[eCommerce Hyperlink]],\"Book Weblink\")","v":"Book Weblink"},null,"2013","August 2012","Library","7.625 X 7.125","Author","Joyce Jeffries","0.9","0.5","3","4","C","250L","Grade K","Grade K - 2","How a baker makes the breads, pies, and cakes that we love to eat is revealed though fun, engaging text. Beginning readers get an enjoyable and educational look at the work that bakers do every day—including mixing the batter and slicing the bread. Readers are introduced to the tools bakers need to do their jobs, and a picture glossary helps develop a stronger vocabulary. Bright photographs show bakers hard at work making delicious treats.","English",24.6,18.45,"641.81","24 pp.","https://www.garethstevens.com/9781433973208",null,{"$f":"Table1[[#This Row],[QTY]]*Table1[[#This Row],['# Books]]","v":0},{"$f":"Table1[[#This Row],[QTY]]*Table1[[#This Row],[S&L Price]]","v":0}]
[null,null,null,"People Around Town",1,"Meet the Bus Driver","eBook",null,"978-1-4339-7327-7",{"$f":"HYPERLINK(Table1[[#This Row],[eCommerce Hyperlink]],\"Book Weblink\")","v":"Book Weblink"},null,"2013","August 2012",null,null,"Author","Joyce Jeffries","0.9","0.5","3","4","C","220L","Grade K","Grade K - 2","Beginning readers discover why bus drivers are a very important part of a community. A variety of bus drivers are introduced with their own special job, including a school bus driver and a tour bus driver. Through fun, accessible text and a helpful picture glossary, young readers learn important facts about bus drivers and the vehicles they drive. Colorful photographs allow early learners to feel as if they are on an exciting bus ride, making this a reading experience they are sure to enjoy.","English",24.6,18.45,"388.3","24 pp.","https://www.garethstevens.com/9781433973277",null,{"$f":"Table1[[#This Row],[QTY]]*Table1[[#This Row],['# Books]]","v":0},{"$f":"Table1[[#This Row],[QTY]]*Table1[[#This Row],[S&L Price]]","v":0}]
[null,null,null,"People Around Town",1,"Meet the Nurse","eBook",null,"978-1-4339-7335-2",{"$f":"HYPERLINK(Table1[[#This Row],[eCommerce Hyperlink]],\"Book Weblink\")","v":"Book Weblink"},null,"2013","August 2012",null,null,"Author","Joyce Jeffries","0.9","0.5","3","4","C","340L","Grade K","Grade K - 2","Beginning readers discover the many ways nurses work to help people stay healthy. Nurses work with doctors and on their own in diverse environments. Achievable content introduces readers to some of the important tools nurses use every day. Easy-to-follow text and a helpful picture glossary aid in the retention of fun facts about nurses and the development of strong vocabulary skills. Colorful photographs provide young readers with a detailed look at nurses and the valuable work they do.","English",24.6,18.45,"610.73","24 pp.","https://www.garethstevens.com/9781433973352",null,{"$f":"Table1[[#This Row],[QTY]]*Table1[[#This Row],['# Books]]","v":0},{"$f":"Table1[[#This Row],[QTY]]*Table1[[#This Row],[S&L Price]]","v":0}]
[null,null,null,"People Around Town",1,"Meet the Teacher","eBook",null,"978-1-4339-7343-7",{"$f":"HYPERLINK(Table1[[#This Row],[eCommerce Hyperlink]],\"Book Weblink\")","v":"Book Weblink"},null,"2013","August 2012",null,null,"Author","Joyce Jeffries","0.9","0.5","3","4","C","360L","Grade K","Grade K - 2","A teacher is a familiar figure in the lives of many readers, but readers discover new information about the hard work teachers do every day through achievable content. Beginning readers are introduced to a variety of teachers and the tools they use to help their students learn. Accessible text and a picture glossary allow readers to see for themselves what a teacher’s job is like as they learn fun facts and build a stronger vocabulary with each turn of the page. Colorful photographs show teachers working hard in the classroom.","English",24.6,18.45,"371.1","24 pp.","https://www.garethstevens.com/9781433973437",null,{"$f":"Table1[[#This Row],[QTY]]*Table1[[#This Row],['# Books]]","v":0},{"$f":"Table1[[#This Row],[QTY]]*Table1[[#This Row],[S&L Price]]","v":0}]
[null,null,null,"My First Adventures",1,"My First Trip on an Airplane","Interactive eBook","Flash","978-1-4339-7937-8",{"$f":"HYPERLINK(Table1[[#This Row],[eCommerce Hyperlink]],\"Book Weblink\")","v":"Book Weblink"},null,"2013","August 2012",null,null,"Author","Katie Kawa","0.9","0.5","3","4","C","280L","Grade K","Grade K - 2","Using a fictionalized approach, readers follow one family’s journey from the airport to the air, learning new words and fun facts with each turn of the page. Colorful illustrations and accessible text show readers how much fun it is to fly in an airplane. A picture glossary helps strengthen vocabulary skills and encourages deeper learning development.","English",33.25,24.95,"387.7","24 pp.","https://www.garethstevens.com/9781433979378",null,{"$f":"Table1[[#This Row],[QTY]]*Table1[[#This Row],['# Books]]","v":0},{"$f":"Table1[[#This Row],[QTY]]*Table1[[#This Row],[S&L Price]]","v":0}]
[null,null,null,"My First Adventures",1,"My First Trip to a Baseball Game","eBook",null,"978-1-4339-7306-2",{"$f":"HYPERLINK(Table1[[#This Row],[eCommerce Hyperlink]],\"Book Weblink\")","v":"Book Weblink"},null,"2013","August 2012",null,null,"Author","Katie Kawa","0.9","0.5","3","4","C","260L","Grade K","Grade K - 2","Beginning readers follow along as one family experiences the fun and excitement of a trip to the ballpark—from the first bite of a hot dog to the last home run. This fictionalized approach to a common childhood experience helps young readers find enjoyment on each page while strengthening vocabulary skills. Accessible text and a helpful picture glossary are accompanied by bright illustrations that bring the thrill of a great baseball game to all readers.","English",24.6,18.45,"796.357","24 pp.","https://www.garethstevens.com/9781433973062",null,{"$f":"Table1[[#This Row],[QTY]]*Table1[[#This Row],['# Books]]","v":0},{"$f":"Table1[[#This Row],[QTY]]*Table1[[#This Row],[S&L Price]]","v":0}]
[null,null,null,"My First Adventures",1,"My First Trip to the Farm","Library Bound Book",null,"978-1-4339-7312-3",{"$f":"HYPERLINK(Table1[[#This Row],[eCommerce Hyperlink]],\"Book Weblink\")","v":"Book Weblink"},null,"2013","August 2012","Library","7.625 X 7.125","Author","Katie Kawa","0.8","0.5","3","4","C","270L","Grade K","Grade K - 2","A farm is a very busy place, and beginning readers discover why with the story of one class’s visit to a working farm. They learn fun facts about the food that we get from farms and the animals that call a farm their home. Using a fictionalized approach, readers discover all that this exciting place has to offer, including a trip to a pumpkin patch and a hayride. Accessible text and a picture glossary allow beginning readers to see for themselves what a trip to a farm is like, and bright illustrations guide them through this charming book.","English",24.6,18.45,"636","24 pp.","https://www.garethstevens.com/9781433973123",null,{"$f":"Table1[[#This Row],[QTY]]*Table1[[#This Row],['# Books]]","v":0},{"$f":"Table1[[#This Row],[QTY]]*Table1[[#This Row],[S&L Price]]","v":0}]
[null,null,null,"My First Adventures",1,"My First Trip to the Fire Station","Interactive eBook","Flash","978-1-4339-7947-7",{"$f":"HYPERLINK(Table1[[#This Row],[eCommerce Hyperlink]],\"Book Weblink\")","v":"Book Weblink"},null,"2013","August 2012",null,null,"Author","Katie Kawa","0.9","0.5","3","4","C","260L","Grade K","Grade K - 2","Beginning readers will be continually engaged as they find answers to questions regarding firefighters and how they put out fires. Vibrant illustrations give readers a detailed look at a fire station while learning fun facts about the people who fight fires. This educational and exciting book uses a fictionalized approach to present a fire station and the people who work there through the eyes of a relatable child. Easy-to-follow text helps readers discover new information for themselves, and a picture glossary helps strengthen vocabulary skills.","English",33.25,24.95,"628.9","24 pp.","https://www.garethstevens.com/9781433979477",null,{"$f":"Table1[[#This Row],[QTY]]*Table1[[#This Row],['# Books]]","v":0},{"$f":"Table1[[#This Row],[QTY]]*Table1[[#This Row],[S&L Price]]","v":0}]
[null,null,null,"My First Adventures",1,"My First Trip to the Dentist","Library Bound Book",null,"978-1-4339-6241-7",{"$f":"HYPERLINK(Table1[[#This Row],[eCommerce Hyperlink]],\"Book Weblink\")","v":"Book Weblink"},null,"2012","January 2012","Library","7.625 X 7.125","Author, Illustrated by","Katie Kawa, Jessica Livingston","0.9","0.5","3","4","C","170L","Grade K","Grade K - 2","Healthy teeth are very important, and a trip to the dentist helps keep them shiny and strong. Beginning readers get a firsthand glance at the people who work hard to keep our teeth looking and feeling their best. Presented in a fictionalized manner, this book allows young readers to follow along on a child’s visit to the dentist. Accessible text helps readers see what happens during a dental exam and learn about the people and tools that work together to clean our teeth. Bright, fun illustrations guide readers through the story.","English",24.6,18.45,"617","24 pp.","https://www.garethstevens.com/9781433962417",null,{"$f":"Table1[[#This Row],[QTY]]*Table1[[#This Row],['# Books]]","v":0},{"$f":"Table1[[#This Row],[QTY]]*Table1[[#This Row],[S&L Price]]","v":0}]
[null,null,null,"My First Adventures",1,"My First Trip to the Dentist","eBook",null,"978-1-4339-6242-4",{"$f":"HYPERLINK(Table1[[#This Row],[eCommerce Hyperlink]],\"Book Weblink\")","v":"Book Weblink"},null,"2012","January 2012",null,null,"Author, Illustrated by","Katie Kawa, Jessica Livingston","0.9","0.5","3","4","C","170L","Grade K","Grade K - 2","Healthy teeth are very important, and a trip to the dentist helps keep them shiny and strong. Beginning readers get a firsthand glance at the people who work hard to keep our teeth looking and feeling their best. Presented in a fictionalized manner, this book allows young readers to follow along on a child’s visit to the dentist. Accessible text helps readers see what happens during a dental exam and learn about the people and tools that work together to clean our teeth. Bright, fun illustrations guide readers through the story.","English",24.6,18.45,"617","24 pp.","https://www.garethstevens.com/9781433962424",null,{"$f":"Table1[[#This Row],[QTY]]*Table1[[#This Row],['# Books]]","v":0},{"$f":"Table1[[#This Row],[QTY]]*Table1[[#This Row],[S&L Price]]","v":0}]
[null,null,null,"My First Adventures",1,"My First Trip to the Library","Library Bound Book",null,"978-1-4339-6249-3",{"$f":"HYPERLINK(Table1[[#This Row],[eCommerce Hyperlink]],\"Book Weblink\")","v":"Book Weblink"},null,"2012","January 2012","Library","7.625 X 7.125","Author, Illustrated by","Katie Kawa, Jessica Livingston","0.9","0.5","3","4","C","260L","Grade K","Grade K - 2","Readers learn how fascinating a trip to the library can be as they read about one child’s exciting visit. This fictionalized approach to a popular childhood experience allows readers to learn important facts about the library in an accessible way. Easy-to-follow text and colorful illustrations keep readers entertained as they learn. Beginning readers will be eager to go to the library to find more books.","English",24.6,18.45,"20","24 pp.","https://www.garethstevens.com/9781433962493",null,{"$f":"Table1[[#This Row],[QTY]]*Table1[[#This Row],['# Books]]","v":0},{"$f":"Table1[[#This Row],[QTY]]*Table1[[#This Row],[S&L Price]]","v":0}]
[null,null,null,"My First Adventures",1,"My First Trip to the Zoo","Library Bound Book",null,"978-1-4339-6257-8",{"$f":"HYPERLINK(Table1[[#This Row],[eCommerce Hyperlink]],\"Book Weblink\")","v":"Book Weblink"},null,"2012","January 2012","Library","7.625 X 7.125","Author, Illustrated by","Katie Kawa, Jessica Livingston","0.9","0.5","3","4","C","310L","Grade K","Grade K - 2","Beginning readers discover the animals that can be seen during a day at the zoo. Using a fictionalized approach, this book takes readers on a journey as they follow one family’s trip to see their favorite animals. This book also provides the answer to how elephants stay cool in the hot sun and more. Vibrant illustrations of popular zoo animals and accessible text help beginning readers discover new facts about zoos and the animals that live in them. ","English",24.6,18.45,"590.73","24 pp.","https://www.garethstevens.com/9781433962578",null,{"$f":"Table1[[#This Row],[QTY]]*Table1[[#This Row],['# Books]]","v":0},{"$f":"Table1[[#This Row],[QTY]]*Table1[[#This Row],[S&L Price]]","v":0}]
[null,null,null,"Happy Holidays!",1,"Happy Fourth of July!","eBook",null,"978-1-4824-0208-7",{"$f":"HYPERLINK(Table1[[#This Row],[eCommerce Hyperlink]],\"Book Weblink\")","v":"Book Weblink"},null,"2014","January 2014",null,null,"Author","Alex Appleby","1","0.5","3",null,"C","220L","Grade K","Grade K - 2","The Fourth of July is one of the most important holidays of the year. Readers will learn why we set off fireworks to celebrate America's birthday and what other people do to honor the country on this fun holiday. From sparklers and hot dogs to parades and fun floats, readers will learn why the Fourth of July is a great holiday. Features include: Strong picture-text correlation that aids in comprehension. Reading level supports beginning readers. Picture glossary helps develop vocabulary skills.","English",24.6,18.45,"394.263","24 pp.","https://www.garethstevens.com/9781482402087",null,{"$f":"Table1[[#This Row],[QTY]]*Table1[[#This Row],['# Books]]","v":0},{"$f":"Table1[[#This Row],[QTY]]*Table1[[#This Row],[S&L Price]]","v":0}]
[null,null,null,"Happy Holidays!",1,"Happy Halloween!","eBook",null,"978-1-4339-9940-6",{"$f":"HYPERLINK(Table1[[#This Row],[eCommerce Hyperlink]],\"Book Weblink\")","v":"Book Weblink"},null,"2014","January 2014",null,null,"Author","Alex Appleby","1","0.5","3",null,"C",null,"Grade K","Grade K - 2","Halloween is a spooky and fun holiday for people of all ages. From its roots as All Hallow’s Eve to its fun traditions today, readers will learn all about how Halloween makes the end of October one of the most fun times of the year. Learn why people dress up in costumes and throw parties on October 31, and what trick or treating is all about with this great book.    • Strong picture-text correlation aids in comprehension • Reading level supports beginning readers • Picture glossary helps develop vocabulary skills  ","English",24.6,18.45,"394.2614","24 pp.","https://www.garethstevens.com/9781433999406",null,{"$f":"Table1[[#This Row],[QTY]]*Table1[[#This Row],['# Books]]","v":0},{"$f":"Table1[[#This Row],[QTY]]*Table1[[#This Row],[S&L Price]]","v":0}]
[null,null,null,"Happy Holidays!",1,"Happy Valentine's Day!","eBook",null,"978-1-4339-9952-9",{"$f":"HYPERLINK(Table1[[#This Row],[eCommerce Hyperlink]],\"Book Weblink\")","v":"Book Weblink"},null,"2014","January 2014",null,null,"Author","Alex Appleby","1","0.5","3",null,"C","200L","Grade K","Grade K - 2","Valentine's Day is a day of love. February 14 is a special day to celebrate the people you care about, but how did we pick that day? Through this interesting book, readers will learn about the history and traditions of Valentine's Day around the world. From hearts and roses to eating lots of chocolate, there's plenty to learn about Valentine's Day. The strong picture-to-text correlation aids in comprehension. This volume's reading level supports beginning readers.","English",24.6,18.45,"394.2618--dc23","24 pp.","https://www.garethstevens.com/9781433999529",null,{"$f":"Table1[[#This Row],[QTY]]*Table1[[#This Row],['# Books]]","v":0},{"$f":"Table1[[#This Row],[QTY]]*Table1[[#This Row],[S&L Price]]","v":0}]
[null,null,null,"How Do I Feel?",1,"I Feel Lonely","eBook",null,"978-1-4339-8114-2",{"$f":"HYPERLINK(Table1[[#This Row],[eCommerce Hyperlink]],\"Book Weblink\")","v":"Book Weblink"},null,"2013","January 2013",null,null,"Author","Katie Kawa","0.9","0.5","3","4","C",null,"Grade K","Grade K - 2","Loneliness can be an overwhelming emotion, but this engaging book teaches beginning readers healthy ways to deal with feeling lonely. Using a fictional approach, this book details the story of a child’s trip to the park—from the lonely feeling of watching other children play together to the joy of making a new friend. With the help of simple text and a useful picture glossary, young readers discover for themselves how easy it is to conquer loneliness by beginning a new friendship. Charming illustrations will draw beginning readers to this relatable story.","English",24.6,18.45,"152.4","24 pp.","https://www.garethstevens.com/9781433981142",null,{"$f":"Table1[[#This Row],[QTY]]*Table1[[#This Row],['# Books]]","v":0},{"$f":"Table1[[#This Row],[QTY]]*Table1[[#This Row],[S&L Price]]","v":0}]
[null,null,null,"How Do I Feel?",1,"I Feel Scared","eBook",null,"978-1-4339-8126-5",{"$f":"HYPERLINK(Table1[[#This Row],[eCommerce Hyperlink]],\"Book Weblink\")","v":"Book Weblink"},null,"2013","January 2013",null,null,"Author","Katie Kawa","0.9","0.5","3","4","C",null,"Grade K","Grade K - 2","Beginning readers discover that it’s normal to feel scared sometimes, and they learn that others can help us when we feel afraid. Using a fictionalized approach, this book presents young readers with the story of a relatable child on a stormy night. Darkness, thunder, and lightning are common fears for children, and this helpful book allows readers to see a child like them work through these fears with the help of a parent. Accessible text allows readers to follow the story all by themselves, and a helpful picture glossary builds strong vocabulary skills. Bright illustrations accompany these other features to provide a reading experience that is as enjoyable as it is enlightening.","English",24.6,18.45,"152.4","24 pp.","https://www.garethstevens.com/9781433981265",null,{"$f":"Table1[[#This Row],[QTY]]*Table1[[#This Row],['# Books]]","v":0},{"$f":"Table1[[#This Row],[QTY]]*Table1[[#This Row],[S&L Price]]","v":0}]
[null,null,null,"My Favorite Sports",1,"I Love Baseball","Library Bound Book",null,"978-1-4824-0719-8",{"$f":"HYPERLINK(Table1[[#This Row],[eCommerce Hyperlink]],\"Book Weblink\")","v":"Book Weblink"},null,"2015","August 2014","Library","7.625 X 7.125","Author","Ryan Nagelhout","0.8","0.5","3",null,"C","180L","Grade K","Grade K - 2","Baseball is a great sport for young readers to fall in love with. Beginning readers get in the game with this exciting book. Readers learn the basics of the game, like throwing and catching, and about the equipment that athletes use on the diamond every day. With accessible content and great color photographs, readers can dig into the dirt, hear the crack of a bat, and fall in love with America's pastime","English",23.6,17.7,"796.357--dc23","24 pp.","https://www.garethstevens.com/9781482407198",null,{"$f":"Table1[[#This Row],[QTY]]*Table1[[#This Row],['# Books]]","v":0},{"$f":"Table1[[#This Row],[QTY]]*Table1[[#This Row],[S&L Price]]","v":0}]
[null,null,null,"My Favorite Sports",1,"I Love Football","eBook",null,"978-1-4824-0725-9",{"$f":"HYPERLINK(Table1[[#This Row],[eCommerce Hyperlink]],\"Book Weblink\")","v":"Book Weblink"},null,"2015","August 2014",null,null,"Author","Ryan Nagelhout","0.9","0.5","3",null,"C","300L","Grade K","Grade K - 2","Football is the most popular sport in America, and this first look at the sport shows why. Early readers will be taken into the huddle and into the end zone while developing basic literacy skills and a foundation for future reading success. From running to passing and big plays on defense, readers will learn the ins and outs of life on the gridiron.","English",23.6,17.7,"796.332","24 pp.","https://www.garethstevens.com/9781482407259",null,{"$f":"Table1[[#This Row],[QTY]]*Table1[[#This Row],['# Books]]","v":0},{"$f":"Table1[[#This Row],[QTY]]*Table1[[#This Row],[S&L Price]]","v":0}]
[null,null,null,"My Favorite Sports",1,"I Love Hockey","eBook",null,"978-1-4824-0733-4",{"$f":"HYPERLINK(Table1[[#This Row],[eCommerce Hyperlink]],\"Book Weblink\")","v":"Book Weblink"},null,"2015","August 2014",null,null,"Author","Ryan Nagelhout","0.9","0.5","3",null,"C","290L","Grade K","Grade K - 2","The sights and sounds of ice hockey are unlike any other sport. From the playing surface to the big cheers from a goal, hockey is an easy sport to fall in love with. In this exhilarating book, readers will establish first concepts while exploring the world of ice hockey. From the pucks and sticks a player needs to play and the teamwork it takes to win, readers will fall for the fast pace of the game while building literacy skills and establishing a strong skill set for future reading success.","English",23.6,17.7,"796.962","24 pp.","https://www.garethstevens.com/9781482407334",null,{"$f":"Table1[[#This Row],[QTY]]*Table1[[#This Row],['# Books]]","v":0},{"$f":"Table1[[#This Row],[QTY]]*Table1[[#This Row],[S&L Price]]","v":0}]
[null,null,null,"World's Longest-Living Animals",1,"225-Year-Old-Kois!","Library Bound Book",null,"978-1-5382-1693-4",{"$f":"HYPERLINK(Table1[[#This Row],[eCommerce Hyperlink]],\"Book Weblink\")","v":"Book Weblink"},null,"2019","August 2018","Library","7.000 X 7.000","Author","Joni Kelly","3.2","0.5",null,null,"H",null,"Grade 1 - 2","Grade 1 - 3","Most people know kois as vibrant, colorful fish swimming slowly through a serene Japanese pond setting, transfixing passers-by. Most people don’t know that they’re some of the oldest living fish in the world. Young readers will love reading the story of Hanako, the 226-year-old, scarlet-colored koi that lived in Japan for centuries. Through vivid color photography and clean, age-appropriate writing, readers will learn about not only kois, but ecosystems, life cycles, environments, and other key science curriculum concepts.","English",23.6,17.7,"597'.03--dc23","24 pp.","https://www.garethstevens.com/9781538216934",null,{"$f":"Table1[[#This Row],[QTY]]*Table1[[#This Row],['# Books]]","v":0},{"$f":"Table1[[#This Row],[QTY]]*Table1[[#This Row],[S&L Price]]","v":0}]
[null,null,null,"World's Longest-Living Animals",1,"400-Year-Old Sharks!","eBook",null,"978-1-5382-1685-9",{"$f":"HYPERLINK(Table1[[#This Row],[eCommerce Hyperlink]],\"Book Weblink\")","v":"Book Weblink"},null,"2019","August 2018",null,null,"Author","Joni Kelly","3.5","0.5",null,null,"H",null,"Grade 1 - 2","Grade 1 - 3","Both terrifying and fascinating, sharks are the most well-known creature of the ocean ecosystem. Sharks are a guaranteed hit with young readers, but this book goes beyond basic shark 101 information. Now it’s possible for young readers to step into the wild, wonderful life cycle of the Greenland shark, the longest-living vertebrate in the world. Early elementary readers are sure to enjoy the colorful photography of this captivating text, and won’t even notice that they’re learning key science concepts, like ecosystems and food chains, along the way.","English",23.6,17.7,"597.3--dc23","24 pp.","https://www.garethstevens.com/9781538216859",null,{"$f":"Table1[[#This Row],[QTY]]*Table1[[#This Row],['# Books]]","v":0},{"$f":"Table1[[#This Row],[QTY]]*Table1[[#This Row],[S&L Price]]","v":0}]
[null,null,null,"World's Longest-Living Animals",1,"500-Year-Old Clams!","Library Bound Book",null,"978-1-5382-1682-8",{"$f":"HYPERLINK(Table1[[#This Row],[eCommerce Hyperlink]],\"Book Weblink\")","v":"Book Weblink"},null,"2019","August 2018","Library","7.000 X 7.000","Author","Joni Kelly","3.3","0.5",null,null,"I",null,"Grade 1 - 2","Grade 1 - 3","Poor old Ming was a very old clam indeed! This book introduces young audiences to the fascinating story of Ming the Quahog clam, whose story is a lesson in life cycles, ecology, climate change, environmentalism, responsible science, and much more. The best part is, all of these complex science concepts are made easy for young readers. By communicating this tale of marine science with accessible language and vivid, full-color photography, readers are sure to be bitten by the science bug, and inspired to learn more.","English",23.6,17.7,"594'.4--dc23","24 pp.","https://www.garethstevens.com/9781538216828",null,{"$f":"Table1[[#This Row],[QTY]]*Table1[[#This Row],['# Books]]","v":0},{"$f":"Table1[[#This Row],[QTY]]*Table1[[#This Row],[S&L Price]]","v":0}]
[null,null,null,"World's Longest-Living Animals",1,"100-Year-Old Tuataras!","eBook",null,"978-1-4824-5629-5",{"$f":"HYPERLINK(Table1[[#This Row],[eCommerce Hyperlink]],\"Book Weblink\")","v":"Book Weblink"},null,"2017","January 2017",null,null,"Author","Topper Evans","3.7","0.5",null,null,"H",null,"Grade 1 - 2","Grade 1 - 3","Tuataras are special animals because they’re old in many ways. They’re part of an order of reptiles that first appeared more than 200 million years ago! They can also live more than 100 years! Readers fascinated by these odd animals will love learning why they’re only found in New Zealand and how they adapted characteristics of many different kinds of animals, including amphibians, reptiles, and even fish! With full-color photographs showing off these features in great detail, this book is sure to impress young readers.","English",23.6,17.7,"597.9’45--dc23","24 pp.","https://www.garethstevens.com/9781482456295",null,{"$f":"Table1[[#This Row],[QTY]]*Table1[[#This Row],['# Books]]","v":0},{"$f":"Table1[[#This Row],[QTY]]*Table1[[#This Row],[S&L Price]]","v":0}]
[null,null,null,"World's Longest-Living Animals",1,"200-Year-Old Red Sea Urchins!","Library Bound Book",null,"978-1-4824-5597-7",{"$f":"HYPERLINK(Table1[[#This Row],[eCommerce Hyperlink]],\"Book Weblink\")","v":"Book Weblink"},null,"2017","January 2017","Library","7.000 X 7.000","Author","Topper Evans","3.7","0.5",null,null,"H",null,"Grade 1 - 2","Grade 1 - 3","The ocean is full of amazing creatures we know little about. Red sea urchins are one of those creatures. Previously thought to only live a few decades, scientists now think they can live up to 200 years! Through colorful photographs showing these bright creatures living in their shallow ocean habitats, readers learn exactly how these animals sustain long lives in the water. They also discover how scientists used atomic bomb testing research to decide these animals can live well over a century.","English",23.6,17.7,"593.9’5--dc23","24 pp.","https://www.garethstevens.com/9781482455977",null,{"$f":"Table1[[#This Row],[QTY]]*Table1[[#This Row],['# Books]]","v":0},{"$f":"Table1[[#This Row],[QTY]]*Table1[[#This Row],[S&L Price]]","v":0}]
[null,null,null,"World's Longest-Living Animals",1,"95-Year-Old Parrots!","eBook",null,"978-1-4824-5619-6",{"$f":"HYPERLINK(Table1[[#This Row],[eCommerce Hyperlink]],\"Book Weblink\")","v":"Book Weblink"},null,"2017","January 2017",null,null,"Author","Leonard Atlantic","3.3","0.5",null,null,"H",null,"Grade 1 - 2","Grade 1 - 3","Parrots are common pets, but not many people know that some parrots may outlive their owners! These amazing animals are the world’s longest-living birds. Readers will learn why parrots are not often prey for other animals, and how taking care of them in captivity can extend their lives even longer. Colorful photographs show off these bright, feathered birds at all ages, showing where they live and how they stay alive in some of the most dangerous places on Earth.","English",23.6,17.7,"598.7’1--dc23","24 pp.","https://www.garethstevens.com/9781482456196",null,{"$f":"Table1[[#This Row],[QTY]]*Table1[[#This Row],['# Books]]","v":0},{"$f":"Table1[[#This Row],[QTY]]*Table1[[#This Row],[S&L Price]]","v":0}]
[null,null,null,"Backyard Biomes",1,"There's a Desert in My Backyard!","eBook",null,"978-1-4824-5558-8",{"$f":"HYPERLINK(Table1[[#This Row],[eCommerce Hyperlink]],\"Book Weblink\")","v":"Book Weblink"},null,"2017","January 2017",null,null,"Author","Walter LaPlante","3.2","0.5",null,null,"H","630L","Grade 1 - 2","Grade 1 - 3","Deserts are the driest places on Earth, but they’re full of life! Cacti, kangaroo rats, shrubs, foxes, and more have found ways to adapt to the extreme temperatures and dry conditions of deserts around the world. Readers learn about many of these adaptations as well as the major features of the desert biome. Simple maps highlight some of the biggest deserts, helping readers learn map skills. Full-color photographs reinforce accessible information about the desert ecosystem, including a concluding message of conservation.","English",23.6,17.7,"577.54--dc23","24 pp.","https://www.garethstevens.com/9781482455588",null,{"$f":"Table1[[#This Row],[QTY]]*Table1[[#This Row],['# Books]]","v":0},{"$f":"Table1[[#This Row],[QTY]]*Table1[[#This Row],[S&L Price]]","v":0}]
[null,null,null,"Backyard Biomes",1,"There's a Swamp in My Backyard!","eBook",null,"978-1-4824-5574-8",{"$f":"HYPERLINK(Table1[[#This Row],[eCommerce Hyperlink]],\"Book Weblink\")","v":"Book Weblink"},null,"2017","January 2017",null,null,"Author","Seth Lynch","3.2","0.5",null,null,"H","580L","Grade 1 - 2","Grade 1 - 3","Swamps are one kind of wetland biome. Like other wetland biomes, a swamp’s water must be clean in order for the wildlife in it to thrive. Readers learn the main features of both freshwater and saltwater swamps, as well as where some of the biggest swamps are on Earth. Science curriculum topics such as food chains and conservation make the main content a great complement to classroom learning. Full-color photographs and inset maps aid readers in identifying this interesting biome in the world around them.","English",23.6,17.7,"577.68--dc23","24 pp.","https://www.garethstevens.com/9781482455748",null,{"$f":"Table1[[#This Row],[QTY]]*Table1[[#This Row],['# Books]]","v":0},{"$f":"Table1[[#This Row],[QTY]]*Table1[[#This Row],[S&L Price]]","v":0}]
[null,null,null,"Guess That Animal!",1,"Name That Amphibian!","Library Bound Book",null,"978-1-4824-4741-5",{"$f":"HYPERLINK(Table1[[#This Row],[eCommerce Hyperlink]],\"Book Weblink\")","v":"Book Weblink"},null,"2017","August 2016","Library","7.000 X 7.000","Author","Demi Jackson","3","0.5",null,null,"H","530L","Grade 1 - 2","Grade 1 - 3","Amphibians share many characteristics, including slimy-looking skin and a life cycle that includes time in the water and time on land. Many species of these fascinating animals have their own unique look. In this book, readers are introduced to the amphibian group and then are shown a super close-up of an animal. The following spread reveals what amphibian it is as well as more information about it. With cool images of amphibians such as the purple frog and the mysterious caecilian, this book is sure to intrigue readers with awesome, understandable biology information.","English",23.6,17.7,"597.8--dc23","24 pp.","https://www.garethstevens.com/9781482447415",null,{"$f":"Table1[[#This Row],[QTY]]*Table1[[#This Row],['# Books]]","v":0},{"$f":"Table1[[#This Row],[QTY]]*Table1[[#This Row],[S&L Price]]","v":0}]
[null,null,null,"Guess That Animal!",1,"Name That Bug!","eBook",null,"978-1-4824-4728-6",{"$f":"HYPERLINK(Table1[[#This Row],[eCommerce Hyperlink]],\"Book Weblink\")","v":"Book Weblink"},null,"2017","August 2016",null,null,"Author","Demi Jackson","2.7","0.5",null,null,"H","560L","Grade 1 - 2","Grade 1 - 3","One of the easiest ways to tell what animal group a bug belongs in is to count its legs. However, there are many other interesting bug body parts that give clues as to what kind of living thing it is. Readers learn all about insects and arachnids in a fun format in which they’re shown a close-up photograph and given a few facts about the pictured creature. The answer is revealed on the following pages. Wings, legs, mouths, and exoskeletons are shown in full-color and complemented by science text hinting at what awaits readers when they turn the page!","English",23.6,17.7,"595.7--dc23","24 pp.","https://www.garethstevens.com/9781482447286",null,{"$f":"Table1[[#This Row],[QTY]]*Table1[[#This Row],['# Books]]","v":0},{"$f":"Table1[[#This Row],[QTY]]*Table1[[#This Row],[S&L Price]]","v":0}]
[null,null,null,"Guess That Animal!",1,"Name That Mammal!","eBook",null,"978-1-4824-4738-5",{"$f":"HYPERLINK(Table1[[#This Row],[eCommerce Hyperlink]],\"Book Weblink\")","v":"Book Weblink"},null,"2017","August 2016",null,null,"Author","Santana Hunt",null,null,null,null,"H","560L","Grade 1 - 2","Grade 1 - 3","In order to be classified as a mammal, animals must have fur or hair, be warm-blooded, and mothers must give birth to live young. In this specially formatted book, readers learn about this animal group as well as many example of mammal species. Full-color photographs illustrate interesting body adaptations of each animal, first in close-up, along with facts about the animal that might clue readers in to what it is. The next pages reveal the whole animal and fun science information about it.","English",23.6,17.7,"599--dc23","24 pp.","https://www.garethstevens.com/9781482447385",null,{"$f":"Table1[[#This Row],[QTY]]*Table1[[#This Row],['# Books]]","v":0},{"$f":"Table1[[#This Row],[QTY]]*Table1[[#This Row],[S&L Price]]","v":0}]
[null,null,null,"Let's Get a Pet!",1,"My First Bunny","Library Bound Book",null,"978-1-4824-6443-6",{"$f":"HYPERLINK(Table1[[#This Row],[eCommerce Hyperlink]],\"Book Weblink\")","v":"Book Weblink"},null,"2018","August 2017","Library","7.000 X 7.000","Author","Joan Stoltman","2.8","0.5",null,null,"H",null,"Grade 1 - 2","Grade 1 - 3","Bunnies are a great first pet! This book teaches young, first-time pet owners how to care for and bond with their new furry, hopping friend! It details in simple, clean text exactly what a young reader should do to help their bunny friend thrive in a new home, including information about food and treats, activity and sleep, cage environment and cleanup! From the amusing—such as popular names for pet rabbits—to the useful—such as safety around rabbits— this book provides all the essential rabbit care information in one concise, engaging book!","English",23.6,17.7,"636.9’322--dc23","24 pp.","https://www.garethstevens.com/9781482464436",null,{"$f":"Table1[[#This Row],[QTY]]*Table1[[#This Row],['# Books]]","v":0},{"$f":"Table1[[#This Row],[QTY]]*Table1[[#This Row],[S&L Price]]","v":0}]
[null,null,null,"Let's Get a Pet!",1,"My First Fish","Library Bound Book",null,"978-1-4824-6455-9",{"$f":"HYPERLINK(Table1[[#This Row],[eCommerce Hyperlink]],\"Book Weblink\")","v":"Book Weblink"},null,"2018","August 2017","Library","7.000 X 7.000","Author","Joan Stoltman","2.9","0.5",null,null,"H",null,"Grade 1 - 2","Grade 1 - 3","Several recent animated movies have sparked fervor in young readers to have an aquarium in their own home. But maintaining a fish tank ecosystem isn’t a walk in the park. This book can help! Age-appropriate information on what fish need abounds in this practical yet engaging book, a valuable part of any library collection. Advice and instructions—on everything from cleaning the tank to feeding schedules to choosing a name—fill the pages of this colorful book that every young fish lover is sure to enjoy!","English",23.6,17.7,"639.34--dc23","24 pp.","https://www.garethstevens.com/9781482464559",null,{"$f":"Table1[[#This Row],[QTY]]*Table1[[#This Row],['# Books]]","v":0},{"$f":"Table1[[#This Row],[QTY]]*Table1[[#This Row],[S&L Price]]","v":0}]
[null,null,null,"A Look at Dinosaurs",1,"Allosaurus","Library Bound Book",null,"978-1-4824-1818-7",{"$f":"HYPERLINK(Table1[[#This Row],[eCommerce Hyperlink]],\"Book Weblink\")","v":"Book Weblink"},null,"2015","January 2015","Library","7.000 X 7.000","Author","Nina Theresa","3.1","0.5",null,null,"J",null,"Grade 1 - 2","Grade 1 - 3","Allosaurus lived a long time ago, but scientists have learned a lot about how this creature lived and what it looked like. “Allosaurus” means “different lizard,” and this creature’s bones are different than those of other dinosaurs. Unlike some dinosaurs, it also lived all over the world. Readers will love exploring the prehistoric world of dinosaurs and find out just what’s so “different” about Allosaurus in this exciting book with amazing illustrations.","English",23.6,17.7,"567.912","24 pp.","https://www.garethstevens.com/9781482418187",null,{"$f":"Table1[[#This Row],[QTY]]*Table1[[#This Row],['# Books]]","v":0},{"$f":"Table1[[#This Row],[QTY]]*Table1[[#This Row],[S&L Price]]","v":0}]
[null,null,null,"A Look at Dinosaurs",1,"Diplodocus","Library Bound Book",null,"978-1-4824-1823-1",{"$f":"HYPERLINK(Table1[[#This Row],[eCommerce Hyperlink]],\"Book Weblink\")","v":"Book Weblink"},null,"2015","January 2015","Library","7.000 X 7.000","Author","Thomas George","3.2","0.5",null,null,"I",null,"Grade 1 - 2","Grade 1 - 3","Diplodocus may have called prehistoric North America home, but there’s not much about his world that’s similar to ours. Diplodocus, which means “double beam,” is named after its bones. It knew how to fight off predators with a tail whip that was moved at 800 miles per hour! These fascinating creatures lived interesting lives long ago, and readers will love learning about them with the help of fantastic illustrations that show us just what these animals looked like.","English",23.6,17.7,"567.913","24 pp.","https://www.garethstevens.com/9781482418231",null,{"$f":"Table1[[#This Row],[QTY]]*Table1[[#This Row],['# Books]]","v":0},{"$f":"Table1[[#This Row],[QTY]]*Table1[[#This Row],[S&L Price]]","v":0}]
[null,null,null,"A Look at Dinosaurs",1,"Stegosaurus","eBook",null,"978-1-4824-1828-6",{"$f":"HYPERLINK(Table1[[#This Row],[eCommerce Hyperlink]],\"Book Weblink\")","v":"Book Weblink"},null,"2015","January 2015",null,null,"Author","Brian Thomas","3.4","0.5",null,null,"J","590L","Grade 1 - 2","Grade 1 - 3","Stegosaurus means “roofed lizard,” and everyone knows about the bony plates on its back. Scientists know a lot about these animals and their special plates, and now readers will learn how the plates kept Stegosaurus safe and even kept it warm when the weather outside was colder. From its spiky tail used to fight off other dinosaurs to the eggs it laid to have babies, Stegosaurus is an incredible animal readers will love learning about with the help of color illustrations showing what it likely looked like millions of years ago.","English",23.6,17.7,"567.915","24 pp.","https://www.garethstevens.com/9781482418286",null,{"$f":"Table1[[#This Row],[QTY]]*Table1[[#This Row],['# Books]]","v":0},{"$f":"Table1[[#This Row],[QTY]]*Table1[[#This Row],[S&L Price]]","v":0}]
[null,null,null,"A Look at Dinosaurs",1,"Velociraptor","Library Bound Book",null,"978-1-4824-1838-5",{"$f":"HYPERLINK(Table1[[#This Row],[eCommerce Hyperlink]],\"Book Weblink\")","v":"Book Weblink"},null,"2015","January 2015","Library","7.000 X 7.000","Author","Cory Lee","3.6","0.5",null,null,"J",null,"Grade 1 - 2","Grade 1 - 3","Velociraptor fossils were first discovered in 1923 and quickly became known as one of the fiercest—and feathered—predators of the prehistoric age. Only about 6 feet long as an adult, these amazing animals hunted in groups and used their brains to steal eggs and find other food. Readers will love learning what these creatures looked like with the help of colorful illustrations, and detailed text explains just how these dangerous dinosaurs lived millions of years ago.","English",23.6,17.7,"567.912","24 pp.","https://www.garethstevens.com/9781482418385",null,{"$f":"Table1[[#This Row],[QTY]]*Table1[[#This Row],['# Books]]","v":0},{"$f":"Table1[[#This Row],[QTY]]*Table1[[#This Row],[S&L Price]]","v":0}]
[null,null,null,"Animal Look-Alikes",1,"Dolphin or Porpoise?","eBook",null,"978-1-4824-2715-8",{"$f":"HYPERLINK(Table1[[#This Row],[eCommerce Hyperlink]],\"Book Weblink\")","v":"Book Weblink"},null,"2016","August 2015",null,null,"Author","Rob Ryndak","3.7","0.5",null,null,"I","730L","Grade 1 - 2","Grade 1 - 3","Dolphins and porpoises look very similar, but while these mammals share some features they aren't even in the same family. From tooth and jaw shape to the way they chat with one another, these amazing ocean animals are unique in many ways. It may be tough to tell them apart when catching a glimpse of a fin or nose in the water, but this book offers a closer look, transforming readers into dolphin and porpoise experts in no time.","English",23.6,17.7,"599.53","24 pp.","https://www.garethstevens.com/9781482427158",null,{"$f":"Table1[[#This Row],[QTY]]*Table1[[#This Row],['# Books]]","v":0},{"$f":"Table1[[#This Row],[QTY]]*Table1[[#This Row],[S&L Price]]","v":0}]
[null,null,null,"Animal Look-Alikes",1,"Seal or Sea Lion?","Library Bound Book",null,"978-1-4824-2726-4",{"$f":"HYPERLINK(Table1[[#This Row],[eCommerce Hyperlink]],\"Book Weblink\")","v":"Book Weblink"},null,"2016","August 2015","Library","7.000 X 7.000","Author","Rob Ryndak","3.3","0.5",null,null,"I","570L","Grade 1 - 2","Grade 1 - 3","What's the difference between a seal and a sea lion? These \"second cousins\" of the sea look similar, but there are many ways to tell them apart. From ear shape to the noises they make to communicate, seals and sea lions are amazing creatures with shared features and many truly unique attributes. They both share an ocean habitat, but when readers take a closer look, it's easy to discover how they each fight off predators, mate, and raise their young in different ways.","English",23.6,17.7,"599.79--dc23","24 pp.","https://www.garethstevens.com/9781482427264",null,{"$f":"Table1[[#This Row],[QTY]]*Table1[[#This Row],['# Books]]","v":0},{"$f":"Table1[[#This Row],[QTY]]*Table1[[#This Row],[S&L Price]]","v":0}]
[null,null,null,"Little Biographies of Big People",6,"Little Biographies of Big People: Set 3","Library Set",null,"978-1-5382-2946-0",{"$f":"HYPERLINK(Table1[[#This Row],[eCommerce Hyperlink]],\"Book Weblink\")","v":"Book Weblink"},null,"2019","January 2019","Library","7.000 X 7.000",null,null,null,null,null,null,null,null,"Grade 1 - 2","Grade 1 - 3","From the inspirational story of Malala Yousafzai to the meteoric rise to fame of Dwayne \"The Rock\" Johnson, biographies of well-known people are an engaging way for young readers to learn about the world around them. These volumes add both historic and modern personalities to our ongoing series, introducing First Lady Melania Trump, Beethoven, Thomas Edison, and Jane Goodall to inquisitive young readers. Their life stories, from childhood to present day, are told in age-appropriate language and detail with accompanying, full-color photographs. Features include: Each book includes a famous quote from the subject. Addresses STEAM concepts with discussion of artists' and scientists' lives. Presents cultural backgrounds to support the social studies curriculum introduction of global cultures.","English",141.6,106.2,null,"24 pp.","https://www.garethstevens.com/9781538229460",null,{"$f":"Table1[[#This Row],[QTY]]*Table1[[#This Row],['# Books]]","v":0},{"$f":"Table1[[#This Row],[QTY]]*Table1[[#This Row],[S&L Price]]","v":0}]
[null,null,null,"Sports MVPs",1,"LeBron James","Library Bound Book",null,"978-1-4824-4640-1",{"$f":"HYPERLINK(Table1[[#This Row],[eCommerce Hyperlink]],\"Book Weblink\")","v":"Book Weblink"},null,"2017","August 2016","Library","7.000 X 7.000","Author","Ryan Nagelhout","3.1","0.5",null,null,"J",null,"Grade 1 - 2","Grade 1 - 3","LeBron James joined the NBA out of high school and was immediately one of the most exciting players in basketball. His fascinating career has been full of titles and individual awards, from the NBA’s most valuable player to Olympic gold medals and even NBA titles. This superstar’s career from Cleveland to Miami and back to his hometown Cavaliers has captivated sports fans, and this book chronicles the latest in King James’ illustrious career. Readers will love learning more about LeBron and what makes him special both on and off the court.","English",23.6,17.7,"796.323092--dc23","24 pp.","https://www.garethstevens.com/9781482446401",null,{"$f":"Table1[[#This Row],[QTY]]*Table1[[#This Row],['# Books]]","v":0},{"$f":"Table1[[#This Row],[QTY]]*Table1[[#This Row],[S&L Price]]","v":0}]
[null,null,null,"Sports MVPs",1,"Lindsey Vonn","eBook",null,"978-1-4824-4636-4",{"$f":"HYPERLINK(Table1[[#This Row],[eCommerce Hyperlink]],\"Book Weblink\")","v":"Book Weblink"},null,"2017","August 2016",null,null,"Author","Ryan Nagelhout","3.3","0.5",null,null,"J",null,"Grade 1 - 2","Grade 1 - 3","Lindsey Vonn is one of the most decorated modern American athletes. This skier has won World Cups in all five alpine skiing disciplines, one of only six women to accomplish the feat. That hasn’t come easy, though. This book explores the highs and lows of Vonn’s career, from Olympic triumphs to major injuries that have taken championships and accomplishments away. Through it all, Vonn has shown herself as an American hero on the slopes, tackling all areas of skiing and proving herself a champion many times over.","English",23.6,17.7,"796.93092--dc23","24 pp.","https://www.garethstevens.com/9781482446364",null,{"$f":"Table1[[#This Row],[QTY]]*Table1[[#This Row],['# Books]]","v":0},{"$f":"Table1[[#This Row],[QTY]]*Table1[[#This Row],[S&L Price]]","v":0}]
[null,null,null,"Famous Lives",1,"The Life of Clara Barton","Library Bound Book",null,"978-1-4824-0375-6",{"$f":"HYPERLINK(Table1[[#This Row],[eCommerce Hyperlink]],\"Book Weblink\")","v":"Book Weblink"},null,"2014","January 2014","Library","7.000 X 7.000","Author","Kathleen Connors","3.1","0.5","16","15","I",null,"Grade 1 - 2","Grade 1 - 4","Clara Barton made a difference in the lives of many wounded soldiers during the American Civil War. She not only cared for them in hospitals, but also helped families identify those who died or went missing during battle. As founder of the American Red Cross, Clara Barton’s life continues to affect the United States for the better. Readers will find her story engaging and inspiring. Historical images enhance accessible social studies content and language, while a timeline aids readers in biographical understanding.","English",24.6,18.45,"361.7634","24 pp.","https://www.garethstevens.com/9781482403756",null,{"$f":"Table1[[#This Row],[QTY]]*Table1[[#This Row],['# Books]]","v":0},{"$f":"Table1[[#This Row],[QTY]]*Table1[[#This Row],[S&L Price]]","v":0}]
[null,null,null,"Famous Lives",1,"The Life of Florence Nightingale","Library Bound Book",null,"978-1-4824-0405-0",{"$f":"HYPERLINK(Table1[[#This Row],[eCommerce Hyperlink]],\"Book Weblink\")","v":"Book Weblink"},null,"2014","January 2014","Library","7.000 X 7.000","Author","Kathleen Connors","3.5","0.5","16","15","I",null,"Grade 1 - 2","Grade 1 - 4","Florence Nightingale’s parents believed the nursing profession was beneath her, but she felt a calling to help the sick. By the end of her life, Florence had bettered nurses’ training around the world and elevated nursing to a noble pursuit for women of all social classes. Including social studies information and a helpful timeline, the biography of Florence Nightingale will engage readers in a world very different from their own. Historical images immerse them in Victorian England and the hospital wards so marked by the good work of the “lady with the lamp.”","English",24.6,18.45,"610.73092","24 pp.","https://www.garethstevens.com/9781482404050",null,{"$f":"Table1[[#This Row],[QTY]]*Table1[[#This Row],['# Books]]","v":0},{"$f":"Table1[[#This Row],[QTY]]*Table1[[#This Row],[S&L Price]]","v":0}]
[null,null,null,"Famous Lives",1,"The Life of Harriet Tubman","Interactive eBook","Flash","978-1-4824-0414-2",{"$f":"HYPERLINK(Table1[[#This Row],[eCommerce Hyperlink]],\"Book Weblink\")","v":"Book Weblink"},null,"2014","January 2014",null,null,"Author","Kathleen Connors","3","0.5","16","15","I","720L","Grade 1 - 2","Grade 1 - 4","The true story of Harriet Tubman’s rise from slavery to freedom is one of the most inspirational in US history. She didn’t only free herself—she freed hundreds of others! Readers will be immersed in the amazing life of Harriet Tubman, as well as introductions to information included in the social studies curriculum, such as the Civil War and Underground Railroad. Historical images and accessible language allow readers to explore an era much different from their own and learn from a life of courage, dedication, and selflessness.","English",33.25,24.95,"973.7115","24 pp.","https://www.garethstevens.com/9781482404142",null,{"$f":"Table1[[#This Row],[QTY]]*Table1[[#This Row],['# Books]]","v":0},{"$f":"Table1[[#This Row],[QTY]]*Table1[[#This Row],[S&L Price]]","v":0}]
[null,null,null,"Famous Lives",1,"The Life of Rosa Parks","eBook",null,"978-1-4824-0420-3",{"$f":"HYPERLINK(Table1[[#This Row],[eCommerce Hyperlink]],\"Book Weblink\")","v":"Book Weblink"},null,"2014","January 2014",null,null,"Author","Kathleen Connors","3.2","0.5","14","15","I",null,"Grade 1 - 2","Grade 1 - 4","Known as the \"mother of the civil rights movement,\" Rosa Parks took a small stance that made a big impact. Just by sitting in a bus seat, she inspired thousands of black Americans to boycott buses altogether. Readers will be introduced to Rosa Parks and the civil rights movement through the details of her biography and the great change brought about by her actions. Historical photographs engage readers further, transporting them back to one of the most troubling times in American history, and a helpful timeline summarizes important events in Rosa's life.","English",24.6,18.45,"323.092--dc23","24 pp.","https://www.garethstevens.com/9781482404203",null,{"$f":"Table1[[#This Row],[QTY]]*Table1[[#This Row],['# Books]]","v":0},{"$f":"Table1[[#This Row],[QTY]]*Table1[[#This Row],[S&L Price]]","v":0}]
[null,null,null,"Famous Lives",1,"The Life of Abraham Lincoln","eBook",null,"978-1-4339-6342-1",{"$f":"HYPERLINK(Table1[[#This Row],[eCommerce Hyperlink]],\"Book Weblink\")","v":"Book Weblink"},null,"2012","January 2012",null,null,"Author","Maria Nelson","2.9","0.5","20","20","G","540L","Grade 1 - 2","Grade 1 - 4","Many consider Abraham Lincoln to be the greatest US president. This book explores Lincoln’s early life, including his self-taught education, law career, and influential presidency. Through age-appropriate language and content, beginning readers will learn about the Civil War and Lincoln’s inspiring leadership. Historical images and an informative timeline will enhance readers’ introduction to Lincoln’s extraordinary achievements and connect them to an important era in American history.","English",24.6,18.45,"973.7092","24 pp.","https://www.garethstevens.com/9781433963421",null,{"$f":"Table1[[#This Row],[QTY]]*Table1[[#This Row],['# Books]]","v":0},{"$f":"Table1[[#This Row],[QTY]]*Table1[[#This Row],[S&L Price]]","v":0}]
[null,null,null,"Famous Lives",1,"The Life of Paul Revere","Library Bound Book",null,"978-1-4339-6353-7",{"$f":"HYPERLINK(Table1[[#This Row],[eCommerce Hyperlink]],\"Book Weblink\")","v":"Book Weblink"},null,"2012","January 2012","Library","7.000 X 7.000","Author","Maria Nelson","2.7","0.5","24","20","H","580L","Grade 1 - 2","Grade 1 - 4","When Paul Revere warned colonists the British army was coming, he helped prepare a nation for battle. This exciting book will take readers through Revere’s life as a silver- and goldsmith and on his midnight ride at the start of the American Revolution. Through achievable content and language, beginning readers will engage with important historical facts and ideas. A helpful timeline of events and colorful images enhance the story of one of American history’s most famous folk heroes.","English",24.6,18.45,"974.4","24 pp.","https://www.garethstevens.com/9781433963537",null,{"$f":"Table1[[#This Row],[QTY]]*Table1[[#This Row],['# Books]]","v":0},{"$f":"Table1[[#This Row],[QTY]]*Table1[[#This Row],[S&L Price]]","v":0}]
[null,null,null,"Famous Lives",1,"The Life of Paul Revere","eBook",null,"978-1-4339-6354-4",{"$f":"HYPERLINK(Table1[[#This Row],[eCommerce Hyperlink]],\"Book Weblink\")","v":"Book Weblink"},null,"2012","January 2012",null,null,"Author","Maria Nelson","2.7","0.5","24","20","H","580L","Grade 1 - 2","Grade 1 - 4","When Paul Revere warned colonists the British army was coming, he helped prepare a nation for battle. This exciting book will take readers through Revere’s life as a silver- and goldsmith and on his midnight ride at the start of the American Revolution. Through achievable content and language, beginning readers will engage with important historical facts and ideas. A helpful timeline of events and colorful images enhance the story of one of American history’s most famous folk heroes.","English",24.6,18.45,"974.4","24 pp.","https://www.garethstevens.com/9781433963544",null,{"$f":"Table1[[#This Row],[QTY]]*Table1[[#This Row],['# Books]]","v":0},{"$f":"Table1[[#This Row],[QTY]]*Table1[[#This Row],[S&L Price]]","v":0}]
[null,null,null,"Wonderful World of Words",1,"Let's Learn Adjectives!","eBook",null,"978-1-5382-1880-8",{"$f":"HYPERLINK(Table1[[#This Row],[eCommerce Hyperlink]],\"Book Weblink\")","v":"Book Weblink"},null,"2019","August 2018",null,null,"Author","Kate Mikoley",null,null,null,null,"I",null,"Grade 1 - 2","Grade 1 - 3","Adjectives can make sentences more fun. They describe nouns and can make the things we say and read seem clearer. Readers of this engaging volume will learn why talking about \"the blue house\" can be more helpful than just talking about \"the house.\" Through the use of helpful exercises, readers will gain skills that support important language arts curricula. Vibrant photographs correlate closely with the book's text and aid in the understanding of key concepts that can be central to a student's success.","English",23.6,17.7,"425/.5--dc23","24 pp.","https://www.garethstevens.com/9781538218808",null,{"$f":"Table1[[#This Row],[QTY]]*Table1[[#This Row],['# Books]]","v":0},{"$f":"Table1[[#This Row],[QTY]]*Table1[[#This Row],[S&L Price]]","v":0}]
[null,null,null,"Wonderful World of Words",1,"Let's Learn Pronouns!","Library Bound Book",null,"978-1-5382-1891-4",{"$f":"HYPERLINK(Table1[[#This Row],[eCommerce Hyperlink]],\"Book Weblink\")","v":"Book Weblink"},null,"2019","August 2018","Library","7.000 X 7.000","Author","Kate Mikoley",null,null,null,null,"I",null,"Grade 1 - 2","Grade 1 - 3","Most young readers likely already use pronouns every day, but they may not realize it. With the help of this stimulating volume, readers will learn that pronouns are words that take the place of nouns. Clever exercises and questions help them understand why these words are important in their own speech and writing. Accessible text is closely related to colorful photographs and helps support the understanding of age-appropriate elementary curricula. This engaging book brings excitement and fun to key language arts concepts.","English",23.6,17.7,"428.2--dc23","24 pp.","https://www.garethstevens.com/9781538218914",null,{"$f":"Table1[[#This Row],[QTY]]*Table1[[#This Row],['# Books]]","v":0},{"$f":"Table1[[#This Row],[QTY]]*Table1[[#This Row],[S&L Price]]","v":0}]
[null,null,null,"Learn My Language! Spanish",1,"Spanish Words at School","Library Bound Book",null,"978-1-4824-0334-3",{"$f":"HYPERLINK(Table1[[#This Row],[eCommerce Hyperlink]],\"Book Weblink\")","v":"Book Weblink"},null,"2014","January 2014","Library","7.000 X 7.000","Author","Sydney Salazar",null,null,"14","14","H",null,"Grade 1 - 2","Grade 1 - 3","It's time for clase. That means \"class\" in Spanish. Readers of this book will find it easy to learn school-oriented Spanish vocabulary in the context of a day at school. Spanish words are introduced in an accessible way amid English text, reinforcing their meaning. A key on each page aids readers in proper pronunciation, and images labeled in Spanish add further support.","English",24.6,18.45,"468","24 pp.","https://www.garethstevens.com/9781482403343",null,{"$f":"Table1[[#This Row],[QTY]]*Table1[[#This Row],['# Books]]","v":0},{"$f":"Table1[[#This Row],[QTY]]*Table1[[#This Row],[S&L Price]]","v":0}]
[null,null,null,"Learn My Language! Spanish",1,"Spanish Words at the Post Office","eBook",null,"978-1-4824-0351-0",{"$f":"HYPERLINK(Table1[[#This Row],[eCommerce Hyperlink]],\"Book Weblink\")","v":"Book Weblink"},null,"2014","January 2014",null,null,"Author","Roman Patrick",null,null,"14","14","H",null,"Grade 1 - 2","Grade 1 - 3","Using new vocabulary in everyday situations is a great way to strengthen one's understanding of a language. And a trip to the post office, or oficina de correos, provides just that kind of situation in this book, an introduction to Spanish. Readers will tag along as the narrator takes mail to the post office and teaches various Spanish terms along the way. Pronunciations for each term are provided in a key in each chapter.","English",24.6,18.45,"468","24 pp.","https://www.garethstevens.com/9781482403510",null,{"$f":"Table1[[#This Row],[QTY]]*Table1[[#This Row],['# Books]]","v":0},{"$f":"Table1[[#This Row],[QTY]]*Table1[[#This Row],[S&L Price]]","v":0}]
[null,null,null,"Learn My Language! Spanish",1,"Spanish Words at the Zoo","eBook",null,"978-1-4824-0356-5",{"$f":"HYPERLINK(Table1[[#This Row],[eCommerce Hyperlink]],\"Book Weblink\")","v":"Book Weblink"},null,"2014","January 2014",null,null,"Author","Nora Dee",null,null,"14","14","H",null,"Grade 1 - 2","Grade 1 - 3","A school trip to the zoo is the entertaining setting for learning high-interest Spanish vocabulary in this fun book. Readers will love knowing the Spanish words for their favorite animals, such as the jirafa (giraffe) and oso (bear). Pronunciations and a word key in each chapter further reinforce the terms, as well as carefully chosen, labeled photographs.","English",24.6,18.45,"468","24 pp.","https://www.garethstevens.com/9781482403565",null,{"$f":"Table1[[#This Row],[QTY]]*Table1[[#This Row],['# Books]]","v":0},{"$f":"Table1[[#This Row],[QTY]]*Table1[[#This Row],[S&L Price]]","v":0}]
[null,null,null,"Learn My Language! Spanish",1,"Spanish Words on the Road","Library Bound Book",null,"978-1-4824-0365-7",{"$f":"HYPERLINK(Table1[[#This Row],[eCommerce Hyperlink]],\"Book Weblink\")","v":"Book Weblink"},null,"2014","January 2014","Library","7.000 X 7.000","Author","Julia Salazar",null,null,"14","14","H",null,"Grade 1 - 2","Grade 1 - 3","Spanish is especially fun to learn on vacation. Readers are invited to hit the road in this introduction to some key Spanish vocabulary. They'll see a motocicleta (motorcycle), a lago (lake), and a venado (deer) on the way to their destination. Pronunciations, word keys, and labeled photographs add support for the accessible text. Readers will be practicing Spanish whenever they're on the road.","English",24.6,18.45,"468","24 pp.","https://www.garethstevens.com/9781482403657",null,{"$f":"Table1[[#This Row],[QTY]]*Table1[[#This Row],['# Books]]","v":0},{"$f":"Table1[[#This Row],[QTY]]*Table1[[#This Row],[S&L Price]]","v":0}]
[null,null,null,"Animal Math",1,"Dolphin Doubles","eBook",null,"978-1-4339-9305-3",{"$f":"HYPERLINK(Table1[[#This Row],[eCommerce Hyperlink]],\"Book Weblink\")","v":"Book Weblink"},null,"2014","August 2013",null,null,"Author","Grace Vail",null,null,"10","10","F",null,"Grade 1 - 2","Grade 1 - 3","Dolphins are cute, friendly, and smart. They're so smart they can help readers learn to add and subtract doubles. This book pairs fun dolphin facts with doubles number sentences. Different kinds of dolphins are featured, including orcas and bottlenose dolphins, and vibrant photographs offer support for math problems. Math, science, and dolphins are the perfect high-interest, educational combination.","English",24.6,18.45,"513.211","24 pp.","https://www.garethstevens.com/9781433993053",null,{"$f":"Table1[[#This Row],[QTY]]*Table1[[#This Row],['# Books]]","v":0},{"$f":"Table1[[#This Row],[QTY]]*Table1[[#This Row],[S&L Price]]","v":0}]
[null,null,null,"Animal Math",1,"Graphs with Giraffes","eBook",null,"978-1-4339-9316-9",{"$f":"HYPERLINK(Table1[[#This Row],[eCommerce Hyperlink]],\"Book Weblink\")","v":"Book Weblink"},null,"2014","August 2013",null,null,"Author","E. T. Weingarten ",null,null,"10","10","F","430L","Grade 1 - 2","Grade 1 - 3","Giraffes are the tallest animals on land. It's easy to see how tall they are by comparing heights on a graph. This book introduces readers to several kinds of graphs, including bar graphs, pie graphs, and tally charts. While learning information about these towering African animals, readers will practice using graphs and charts to answer questions. Animals are an entertaining way to show how math is part of the real world.","English",24.6,18.45,"518.23","24 pp.","https://www.garethstevens.com/9781433993169",null,{"$f":"Table1[[#This Row],[QTY]]*Table1[[#This Row],['# Books]]","v":0},{"$f":"Table1[[#This Row],[QTY]]*Table1[[#This Row],[S&L Price]]","v":0}]
[null,null,null,"Animal Math",1,"Patterns with Pandas","Interactive eBook","HTML5","978-1-4339-9322-0",{"$f":"HYPERLINK(Table1[[#This Row],[eCommerce Hyperlink]],\"Book Weblink\")","v":"Book Weblink"},null,"2014","August 2013",null,null,"Author","Bobby Kennedy Shea",null,null,"10","10","F",null,"Grade 1 - 2","Grade 1 - 3"," Pandas are a top attraction at zoos, and the pandas in this book show us why. Cute, furry, and playful, pandas seem like real-life teddy bears. While discovering many facts about these Asian animals, readers learn how to recognize what comes next in a pattern. Panda patterns are a fun way to practice an important part of the elementary math curriculum. Colorful photographs are carefully chosen to reflect the text. ","English",33.25,24.95,"516.15","24 pp.","https://www.garethstevens.com/9781433993220",null,{"$f":"Table1[[#This Row],[QTY]]*Table1[[#This Row],['# Books]]","v":0},{"$f":"Table1[[#This Row],[QTY]]*Table1[[#This Row],[S&L Price]]","v":0}]
[null,null,null,"Animal Math",1,"Sorting with Snakes","Interactive eBook","HTML5","978-1-4339-9332-9",{"$f":"HYPERLINK(Table1[[#This Row],[eCommerce Hyperlink]],\"Book Weblink\")","v":"Book Weblink"},null,"2014","August 2013",null,null,"Author","Mary Rose McDonnell",null,null,"10","10","F",null,"Grade 1 - 2","Grade 1 - 3","Snakes, whether fat, skinny, long, or deadly, are always fascinating. In this fact-filled book, as readers practice their sorting math skills, they'll learn about different kinds of snakes. They'll find out that snakes shed their skin. They'll learn that some snakes jump from trees. And as they read, they'll consider which snakes belong in some groups and which belong in others. Sorting is a math skill best practiced while learning about something fun.","English",33.25,24.95,"511.322","24 pp.","https://www.garethstevens.com/9781433993329",null,{"$f":"Table1[[#This Row],[QTY]]*Table1[[#This Row],['# Books]]","v":0},{"$f":"Table1[[#This Row],[QTY]]*Table1[[#This Row],[S&L Price]]","v":0}]
[null,null,null,"Animal Math",1,"Counting Lions","Library Bound Book",null,"978-1-4339-5662-1",{"$f":"HYPERLINK(Table1[[#This Row],[eCommerce Hyperlink]],\"Book Weblink\")","v":"Book Weblink"},null,"2012","August 2011","Library","7.000 X 7.000","Author","Adeline Zubek","1.2","0.5","8","9","F",null,"Grade 1 - 2","Grade 1 - 3","Predatory lions prowl the plains of Africa looking for their next meal. People have long been awestruck by these big cats. This book provides a colorful expedition into the lives of these dangerous but beautiful animals while also teaching readers how to count. Students will be able to recite interesting facts about lions while also being able to count, compare, and add whole numbers easily.","English",24.6,18.45,"513.2","24 pp.","https://www.garethstevens.com/9781433956621",null,{"$f":"Table1[[#This Row],[QTY]]*Table1[[#This Row],['# Books]]","v":0},{"$f":"Table1[[#This Row],[QTY]]*Table1[[#This Row],[S&L Price]]","v":0}]
[null,null,null,"Animal Math",1,"Subtracting with Seals","Library Bound Book",null,"978-1-4339-5670-6",{"$f":"HYPERLINK(Table1[[#This Row],[eCommerce Hyperlink]],\"Book Weblink\")","v":"Book Weblink"},null,"2012","August 2011","Library","7.000 X 7.000","Author","Charles Sellers","1.8","0.5","8","9","F",null,"Grade 1 - 2","Grade 1 - 3","The shiny nose and playful spirit of seals is combined with fun facts to present a clever way to learn subtraction. Each spread not only shows these cute creatures in their natural environment, but presents a subtraction problem that seems a natural part of learning about this jolly aquatic mammal. Photographs and pictures aid readers in better understanding this basic math concept.","English",24.6,18.45,"513.2","24 pp.","https://www.garethstevens.com/9781433956706",null,{"$f":"Table1[[#This Row],[QTY]]*Table1[[#This Row],['# Books]]","v":0},{"$f":"Table1[[#This Row],[QTY]]*Table1[[#This Row],[S&L Price]]","v":0}]
[null,null,null,"Animal Math",1,"Subtracting with Seals","eBook",null,"978-1-4339-5671-3",{"$f":"HYPERLINK(Table1[[#This Row],[eCommerce Hyperlink]],\"Book Weblink\")","v":"Book Weblink"},null,"2012","August 2011",null,null,"Author","Charles Sellers","1.8","0.5","8","9","F",null,"Grade 1 - 2","Grade 1 - 3","The shiny nose and playful spirit of seals is combined with fun facts to present a clever way to learn subtraction. Each spread not only shows these cute creatures in their natural environment, but presents a subtraction problem that seems a natural part of learning about this jolly aquatic mammal. Photographs and pictures aid readers in better understanding this basic math concept.","English",24.6,18.45,"513.2","24 pp.","https://www.garethstevens.com/9781433956713",null,{"$f":"Table1[[#This Row],[QTY]]*Table1[[#This Row],['# Books]]","v":0},{"$f":"Table1[[#This Row],[QTY]]*Table1[[#This Row],[S&L Price]]","v":0}]
[null,null,null,"Animal Math",1,"Odd and Even with Otters","Library Bound Book",null,"978-1-5382-0853-3",{"$f":"HYPERLINK(Table1[[#This Row],[eCommerce Hyperlink]],\"Book Weblink\")","v":"Book Weblink"},null,"2018","January 2018","Library","7.000 X 7.000","Author","Rory McDonnell","2.5","0.5",null,null,"F",null,"Grade 1 - 2","Grade 1 - 3","Playful otters are some of the most high-interest animals in the zoo and in the wild. Finding out about otters while also learning about odd and even numbers makes math seem like play. The concept of odd and even is an important one in the elementary math curriculum. Readers will be motivated to count the otters in the colorful photographs and figure out if the sums are odd or even. Math questions are paired with an answer key for easy self-assessment.","English",23.6,17.7,"513--dc23","24 pp.","https://www.garethstevens.com/9781538208533",null,{"$f":"Table1[[#This Row],[QTY]]*Table1[[#This Row],['# Books]]","v":0},{"$f":"Table1[[#This Row],[QTY]]*Table1[[#This Row],[S&L Price]]","v":0}]
[null,null,null,"Animal Math",1,"Using Money at the Zoo","eBook",null,"978-1-5382-0867-0",{"$f":"HYPERLINK(Table1[[#This Row],[eCommerce Hyperlink]],\"Book Weblink\")","v":"Book Weblink"},null,"2018","January 2018",null,null,"Author","Mary Rose Osburn","1.7","0.5",null,null,"G","380L","Grade 1 - 2","Grade 1 - 3","Money and keeping track of spending are vital life skills as well as math standards. This curriculum-based book uses an entertaining setting, a zoo, and an appealing narrative to introduce and strengthen readers’ understanding of money concepts. Readers will be delighted by the many animals featured throughout, as well as the fun facts revealed about them. The cheerful text is accompanied by questions about coin values and addition with money, which can be used in combination with an answer key to assess understanding.","English",23.6,17.7,"332.024--dc23","24 pp.","https://www.garethstevens.com/9781538208670",null,{"$f":"Table1[[#This Row],[QTY]]*Table1[[#This Row],['# Books]]","v":0},{"$f":"Table1[[#This Row],[QTY]]*Table1[[#This Row],[S&L Price]]","v":0}]
[null,null,null,"Graph It!",6,"Graph It!","Library Set",null,"978-1-4824-1039-6",{"$f":"HYPERLINK(Table1[[#This Row],[eCommerce Hyperlink]],\"Book Weblink\")","v":"Book Weblink"},null,"2015","August 2014","Library","7.000 X 7.000",null,null,null,null,null,null,null,null,"Grade 1 - 2","Grade 1 - 3","Graphs are everywhere in our world, including on the Internet and in the news. They're a useful and easy-to-understand format to display data. In this valuable math series, each book explains how to read a kind of graph, including bar graphs, pictographs, and circle graphs. It also guides readers through the process of making their own graphs, highlighting the important elements involved in each. Colorful graphs and engaging topics make these books a fun way to present an important math concept.  • Reading and creating graphs addresses Common Core math standards, including measuring and interpreting data   •              Each book includes multiple graphs and examples  •  Question-and-answer key provides self-assessment opportunities  ","English",141.6,106.2,null,"24 pp.","https://www.garethstevens.com/9781482410396",null,{"$f":"Table1[[#This Row],[QTY]]*Table1[[#This Row],['# Books]]","v":0},{"$f":"Table1[[#This Row],[QTY]]*Table1[[#This Row],[S&L Price]]","v":0}]
[null,null,null,"Graph It!",1,"Making Line Graphs","Library Bound Book",null,"978-1-4824-0834-8",{"$f":"HYPERLINK(Table1[[#This Row],[eCommerce Hyperlink]],\"Book Weblink\")","v":"Book Weblink"},null,"2015","August 2014","Library","7.000 X 7.000","Author","Mary Molly Shea",null,null,"14",null,"H",null,"Grade 1 - 2","Grade 1 - 3","Line graphs are the perfect way to show how something changes over time. They can display how fast someone is growing, how many books they read each week, or how much money they make or lose over time. This book shows that line graphs are easy to read and fun to make! Questions within the text and an answer key help readers measure their understanding of this important math concept.","English",23.6,17.7,"510","24 pp.","https://www.garethstevens.com/9781482408348",null,{"$f":"Table1[[#This Row],[QTY]]*Table1[[#This Row],['# Books]]","v":0},{"$f":"Table1[[#This Row],[QTY]]*Table1[[#This Row],[S&L Price]]","v":0}]
[null,null,null,"Graph It!",1,"Making Venn Diagrams","Library Bound Book",null,"978-1-4824-0934-5",{"$f":"HYPERLINK(Table1[[#This Row],[eCommerce Hyperlink]],\"Book Weblink\")","v":"Book Weblink"},null,"2015","August 2014","Library","7.000 X 7.000","Author","Therese Harasymiw",null,null,"14",null,"H",null,"Grade 1 - 2","Grade 1 - 3","Venn diagrams are a visually effective method of showing how sets of data intersect. Though Venn diagrams are often used as graphic organizers in other classrooms, they are just as important to the math classroom. Readers are introduced to some kinds of Venn diagrams they may encounter and follow step-by-step instructions to make their own. Questions and an answer key help them assess their understanding of this valuable topic.","English",23.6,17.7,"511","24 pp.","https://www.garethstevens.com/9781482409345",null,{"$f":"Table1[[#This Row],[QTY]]*Table1[[#This Row],['# Books]]","v":0},{"$f":"Table1[[#This Row],[QTY]]*Table1[[#This Row],[S&L Price]]","v":0}]
[null,null,null,"Measure It!",1,"Measuring Height","Library Bound Book",null,"978-1-4824-3862-8",{"$f":"HYPERLINK(Table1[[#This Row],[eCommerce Hyperlink]],\"Book Weblink\")","v":"Book Weblink"},null,"2016","January 2016","Library","7.000 X 7.000","Author","T. H. Baer ","2.8","0.5",null,null,"H","540L","Grade 1 - 2","Grade 1 - 3","How tall is that tree? Let’s find out! Measuring the height of things is a great way to practice mathematics. This exciting book shows readers what tools are needed to measure and how a basic understanding of length and height can be used to tackle more complex math in the future. From measuring the height of a person to a giant skyscraper, this exciting book is a fun and easy way for young readers to tackle STEM topics with ease.","English",23.6,17.7,"530.8--dc23","24 pp.","https://www.garethstevens.com/9781482438628",null,{"$f":"Table1[[#This Row],[QTY]]*Table1[[#This Row],['# Books]]","v":0},{"$f":"Table1[[#This Row],[QTY]]*Table1[[#This Row],[S&L Price]]","v":0}]
[null,null,null,"Measure It!",1,"Measuring Temperature","Library Bound Book",null,"978-1-4824-3870-3",{"$f":"HYPERLINK(Table1[[#This Row],[eCommerce Hyperlink]],\"Book Weblink\")","v":"Book Weblink"},null,"2016","January 2016","Library","7.000 X 7.000","Author","T. H. Baer ","3.1","0.5",null,null,"H","640L","Grade 1 - 2","Grade 1 - 3","The temperature outside is always changing, which means getting an accurate read on it is important. This informative book shows readers how to measure temperature with a thermometer. Knowing the temperature will keep readers from diving into a freezing cold pool, or ensure they wear light clothes on a hot summer day. Showing measurements in both Fahrenheit and Celsius gives the book added value, and means readers will know the temperature no matter what kind of thermometer they use anywhere in the world.","English",23.6,17.7,"536'.50287--dc23","24 pp.","https://www.garethstevens.com/9781482438703",null,{"$f":"Table1[[#This Row],[QTY]]*Table1[[#This Row],['# Books]]","v":0},{"$f":"Table1[[#This Row],[QTY]]*Table1[[#This Row],[S&L Price]]","v":0}]
[null,null,null,"I'm Allergic",12,"I'm Allergic: Sets 1 – 2","Library Set",null,"978-1-5382-2951-4",{"$f":"HYPERLINK(Table1[[#This Row],[eCommerce Hyperlink]],\"Book Weblink\")","v":"Book Weblink"},null,"2019","January 2019","Library","7.000 X 7.000",null,null,null,null,null,null,null,null,"Grade 1 - 2","Grade 1 - 3","Many children have to deal with allergies, or have a friend that does. Even at a young age, these children have to be aware of what they can eat or things they need to avoid. The most common food allergies as well as allergies to dust, grass, pets, and bees are addressed in an informative, age-appropriate style with colorful photographs emphasizing important points. In this important series, readers learn the real causes and reactions they or a friend may have to allergens. It prepares readers to handle potentially dangerous situations that could occur at home, school, or at play. Features include: Highlights foods or behaviors to avoid in order to prevent allergic reactions. Alerts readers to the warning signs of an allergic reaction. Encourages compassion for friends and family members suffering from these allergies.","English",283.2,212.4,null,"24 pp.","https://www.garethstevens.com/9781538229514",null,{"$f":"Table1[[#This Row],[QTY]]*Table1[[#This Row],['# Books]]","v":0},{"$f":"Table1[[#This Row],[QTY]]*Table1[[#This Row],[S&L Price]]","v":0}]
[null,null,null,"Nature's Grossest",1,"Chicks Eat Puke!","eBook",null,"978-1-5382-0944-8",{"$f":"HYPERLINK(Table1[[#This Row],[eCommerce Hyperlink]],\"Book Weblink\")","v":"Book Weblink"},null,"2018","January 2018",null,null,"Author","Bert Wilberforce","3","0.5",null,null,"I",null,"Grade 1 - 2","Grade 1 - 3","Everyone finds some kind of food distasteful. That might be broccoli for some or olives for others. This book puts those foods into perspective, and young readers will eat it up. They’ll learn that bird parents will do anything to bring their chicks the nutrition they need and in a form they can ingest. That sometimes means chicks eat vomit. The accessible text explains this “fowl” behavior as well as other captivating facts that will motivate even reluctant readers.","English",23.6,17.7,"598.13'92--dc23","24 pp.","https://www.garethstevens.com/9781538209448",null,{"$f":"Table1[[#This Row],[QTY]]*Table1[[#This Row],['# Books]]","v":0},{"$f":"Table1[[#This Row],[QTY]]*Table1[[#This Row],[S&L Price]]","v":0}]
[null,null,null,"Nature's Grossest",1,"Rabbits Eat Poop!","eBook",null,"978-1-5382-0952-3",{"$f":"HYPERLINK(Table1[[#This Row],[eCommerce Hyperlink]],\"Book Weblink\")","v":"Book Weblink"},null,"2018","January 2018",null,null,"Author","Roberto Betances","2.7","0.5",null,null,"I",null,"Grade 1 - 2","Grade 1 - 3","Everyone loves petting a rabbit. They're so cute and fluffy...and gross? Readers will be delighted to find out why their favorite downy mammal actually eats its own excrement. Hint: It's full of nutrients. This accessible volume excels at explaining rabbits' unique digestive system, which helps them get the most vitamins possible from their herbivorous diet. This high-interest text, full of adorable images, is a fun introduction to several important elementary science topics.","English",23.6,17.7,"599.32--dc23","24 pp.","https://www.garethstevens.com/9781538209523",null,{"$f":"Table1[[#This Row],[QTY]]*Table1[[#This Row],['# Books]]","v":0},{"$f":"Table1[[#This Row],[QTY]]*Table1[[#This Row],[S&L Price]]","v":0}]
[null,null,null,"Nature's Grossest",1,"Lizard Blood","eBook",null,"978-1-4824-1844-6",{"$f":"HYPERLINK(Table1[[#This Row],[eCommerce Hyperlink]],\"Book Weblink\")","v":"Book Weblink"},null,"2015","January 2015",null,null,"Author","Roberto Betances","3.2","0.5","16",null,"I","630L","Grade 1 - 2","Grade 1 - 3","The horned lizard has one of the most astonishing ways of defending itself in the wild. It can shoot blood out of its eyes at its enemies! And that's not the only trick that this remarkable reptile performs. Readers will love learning about lizard adaptations in this entertaining look at one of nature's coolest, and weirdest, animals. Important science content is linked with fun, informative photographs and brightly written, achievable text.","English",23.6,17.7,"567.913","24 pp.","https://www.garethstevens.com/9781482418446",null,{"$f":"Table1[[#This Row],[QTY]]*Table1[[#This Row],['# Books]]","v":0},{"$f":"Table1[[#This Row],[QTY]]*Table1[[#This Row],[S&L Price]]","v":0}]
[null,null,null,"Nature's Grossest",1,"Snail Slime","Library Bound Book",null,"978-1-4824-1854-5",{"$f":"HYPERLINK(Table1[[#This Row],[eCommerce Hyperlink]],\"Book Weblink\")","v":"Book Weblink"},null,"2015","January 2015","Library","7.000 X 7.000","Author","Roberto Betances","3.3","0.5","18",null,"J","550L","Grade 1 - 2","Grade 1 - 3","Snails are definitely peculiar animals. They travel around on one foot with a spiral shell to protect them and leave a trail of slime as they go. Ew! Readers will find out why snails have this important adaptation, one that even helps them hang upside down. Vivid photographs of snails in action in the wild will help readers understand why some things we think are gross about animals are actually integral to their survival.","English",23.6,17.7,"594.3","24 pp.","https://www.garethstevens.com/9781482418545",null,{"$f":"Table1[[#This Row],[QTY]]*Table1[[#This Row],['# Books]]","v":0},{"$f":"Table1[[#This Row],[QTY]]*Table1[[#This Row],[S&L Price]]","v":0}]
[null,null,null,"Nature's Grossest",1,"Vulture Vomit","Library Bound Book",null,"978-1-4824-1858-3",{"$f":"HYPERLINK(Table1[[#This Row],[eCommerce Hyperlink]],\"Book Weblink\")","v":"Book Weblink"},null,"2015","January 2015","Library","7.000 X 7.000","Author","Bert Wilberforce","3.3","0.5","18",null,"J","590L","Grade 1 - 2","Grade 1 - 3","Vultures have some pretty disgusting habits. Their idea of a yummy meal is carrion, or rotting meat. But they have an even grosser idea of how to protect themselves from their predators. They throw up on them! Vultures can make their acidic vomit fly several feet to burn their enemy. This also makes them lighter so they can fly away. Readers may think these adaptations are gross, but they'll keep turning the page to find out even more in this entertaining and brightly designed book.","English",23.6,17.7,"598.9","24 pp.","https://www.garethstevens.com/9781482418583",null,{"$f":"Table1[[#This Row],[QTY]]*Table1[[#This Row],['# Books]]","v":0},{"$f":"Table1[[#This Row],[QTY]]*Table1[[#This Row],[S&L Price]]","v":0}]
[null,null,null,"Nature's Grossest",1,"Whale Poop","eBook",null,"978-1-4824-1864-4",{"$f":"HYPERLINK(Table1[[#This Row],[eCommerce Hyperlink]],\"Book Weblink\")","v":"Book Weblink"},null,"2015","January 2015",null,null,"Author","Bert Wilberforce","3.3","0.5","18",null,"J","600L","Grade 1 - 2","Grade 1 - 3","Whales are awe-inspiring creatures. They move their gigantic bodies through water gracefully. But some of these majestic marine animals have an odd way of protecting themselves from bloodthirsty sharks and other predators. They can create a cloud of waste, or poop, to hide in or to confuse their pursuer. While that's amazing, perhaps it's even more incredible that one kind of whale poop is so valuable it's called \"floating gold\"! Readers will love all these facts and more in this fun, accessible book about these beautiful mammals.","English",23.6,17.7,"599.5","24 pp.","https://www.garethstevens.com/9781482418644",null,{"$f":"Table1[[#This Row],[QTY]]*Table1[[#This Row],['# Books]]","v":0},{"$f":"Table1[[#This Row],[QTY]]*Table1[[#This Row],[S&L Price]]","v":0}]
[null,null,null,"Fantastic Farm Machines",1,"Cultivators","eBook",null,"978-1-4824-4576-3",{"$f":"HYPERLINK(Table1[[#This Row],[eCommerce Hyperlink]],\"Book Weblink\")","v":"Book Weblink"},null,"2017","August 2016",null,null,"Author","S. M. Maimone","3.3","0.5",null,null,"J",null,"Grade 1 - 2","Grade 1 - 3","Anyone who has ever tried to plant a garden—or even grow a plant—knows it’s not always an easy task. That’s why farmers do what they can to ensure a healthy crop, and that includes cultivating the soil. They till it, allowing air, nutrients, and water to circulate more easily. Doing this by hand would be nearly impossible on some farms, so farmers use some fantastic machines to aid them. Readers will love learning about the big machines called cultivators through labeled photographs and bright, accessible text.","English",23.6,17.7,"631.5/1--dc23","24 pp.","https://www.garethstevens.com/9781482445763",null,{"$f":"Table1[[#This Row],[QTY]]*Table1[[#This Row],['# Books]]","v":0},{"$f":"Table1[[#This Row],[QTY]]*Table1[[#This Row],[S&L Price]]","v":0}]
[null,null,null,"Fantastic Farm Machines",1,"Planters","eBook",null,"978-1-4824-4579-4",{"$f":"HYPERLINK(Table1[[#This Row],[eCommerce Hyperlink]],\"Book Weblink\")","v":"Book Weblink"},null,"2017","August 2016",null,null,"Author","E. T. Weingarten ","3.3","0.5",null,null,"I",null,"Grade 1 - 2","Grade 1 - 3","Sowing crops on a farm would be backbreaking working without the machines called planters. These tractor-pulled tools can look quite different. Some are small, sowing just one row, and some can plant as many as 48 rows at a time! Readers will find out how these machines work and see their parts in motion in labeled photographs. They’ll also discover how technology is changing this farm machine as well as some other seeding devices.","English",23.6,17.7,"681/.7631--dc23","24 pp.","https://www.garethstevens.com/9781482445794",null,{"$f":"Table1[[#This Row],[QTY]]*Table1[[#This Row],['# Books]]","v":0},{"$f":"Table1[[#This Row],[QTY]]*Table1[[#This Row],[S&L Price]]","v":0}]
[null,null,null,"Super Science Tools",1,"Using a Ruler","eBook",null,"978-1-4824-6404-7",{"$f":"HYPERLINK(Table1[[#This Row],[eCommerce Hyperlink]],\"Book Weblink\")","v":"Book Weblink"},null,"2018","August 2017",null,null,"Author","Nora Roman",null,null,null,null,"H","550L","Grade 1 - 2","Grade 1 - 3","Rulers seem like such simple tools, but their importance can't be overstated. Without rulers so many inventions and other human-made achievements would fall apart. Readers will review the basics and observe rulers being used in the working world. They’ll even test out their own ruler skills as they find out that rulers rule in science.","English",23.6,17.7,"530.8--dc23","24 pp.","https://www.garethstevens.com/9781482464047",null,{"$f":"Table1[[#This Row],[QTY]]*Table1[[#This Row],['# Books]]","v":0},{"$f":"Table1[[#This Row],[QTY]]*Table1[[#This Row],[S&L Price]]","v":0}]
[null,null,null,"Super Science Tools",1,"Using Lenses","Library Bound Book",null,"978-1-4824-6391-0",{"$f":"HYPERLINK(Table1[[#This Row],[eCommerce Hyperlink]],\"Book Weblink\")","v":"Book Weblink"},null,"2018","August 2017","Library","7.000 X 7.000","Author","Abigail B. Roberts",null,null,null,null,"I","720L","Grade 1 - 2","Grade 1 - 3","Observing objects closely is an important part of being a scientist. That’s why lenses are so important in the laboratory and in the science classroom. Young scientists may be surprised to learn that they’ve probably already used lenses—in the form of a magnifying glass. This tool and others, such as microscopes, help scientists see details of objects up close. This invaluable book introduces lenses and the concept of optics in an easy to understand way and encourages readers to experiment with lenses themselves!","English",23.6,17.7,"535--dc23","24 pp.","https://www.garethstevens.com/9781482463910",null,{"$f":"Table1[[#This Row],[QTY]]*Table1[[#This Row],['# Books]]","v":0},{"$f":"Table1[[#This Row],[QTY]]*Table1[[#This Row],[S&L Price]]","v":0}]
[null,null,null,"Super Science Tools",1,"Using Measuring Cups","eBook",null,"978-1-4824-6400-9",{"$f":"HYPERLINK(Table1[[#This Row],[eCommerce Hyperlink]],\"Book Weblink\")","v":"Book Weblink"},null,"2018","August 2017",null,null,"Author","Abigail B. Roberts",null,null,null,null,"H","710L","Grade 1 - 2","Grade 1 - 3","Measuring cups are essential in the kitchen, but they’re also crucial in the science lab. Scientists need to be precise in their experiments to test their hypotheses, and science tools such as cylinders for measuring volume aid them in their important research. This appealing book shows that young scientists, too, can use measuring containers for their own science experiments. Important STEM concepts such as volume and units of measurement are explained in a comprehensible manner.","English",23.6,17.7,"681’.2--dc23","24 pp.","https://www.garethstevens.com/9781482464009",null,{"$f":"Table1[[#This Row],[QTY]]*Table1[[#This Row],['# Books]]","v":0},{"$f":"Table1[[#This Row],[QTY]]*Table1[[#This Row],[S&L Price]]","v":0}]
[null,null,null,"Know Your Body",1,"Your Brain","eBook",null,"978-1-4824-4416-2",{"$f":"HYPERLINK(Table1[[#This Row],[eCommerce Hyperlink]],\"Book Weblink\")","v":"Book Weblink"},null,"2017","August 2016",null,null,"Author","Cyril Bassington","3.2","0.5",null,null,"K","630L","Grade 1 - 2","Grade 1 - 3","The amazing brain can send signals to body parts at a speed of 200 miles per hour. That comes in handy when someone is in danger or needs to move fast. Readers will appreciate the mysterious, fascinating organ in their skull known as the brain as they learn about the five main parts of the brain and their special functions. They’ll also find out what they can do to keep their brain working well. Simple illustrations and bright photographs make this volume a fun and informative introduction to the nervous system.","English",23.6,17.7,"612.8'2--dc23","24 pp.","https://www.garethstevens.com/9781482444162",null,{"$f":"Table1[[#This Row],[QTY]]*Table1[[#This Row],['# Books]]","v":0},{"$f":"Table1[[#This Row],[QTY]]*Table1[[#This Row],[S&L Price]]","v":0}]
[null,null,null,"Know Your Body",1,"Your Lungs","eBook",null,"978-1-4824-4418-6",{"$f":"HYPERLINK(Table1[[#This Row],[eCommerce Hyperlink]],\"Book Weblink\")","v":"Book Weblink"},null,"2017","August 2016",null,null,"Author","George Fittleworth","3.6","0.5",null,null,"K","720L","Grade 1 - 2","Grade 1 - 3","We need oxygen every moment of our lives, yet we don’t even need to think about breathing! The brain makes sure our lungs keep working, whether we’re aware of it or not. In this informative volume, readers will follow the path of a breath of air, both in and out of the lungs. Along the way, they’ll learn biology vocabulary and the importance of body parts working together to provide the body with life-giving oxygen and rid it of carbon dioxide. Simple illustrations and photographs further elucidate this beginner’s guide to the respiratory system.","English",23.6,17.7,"612.2'4--dc23","24 pp.","https://www.garethstevens.com/9781482444186",null,{"$f":"Table1[[#This Row],[QTY]]*Table1[[#This Row],['# Books]]","v":0},{"$f":"Table1[[#This Row],[QTY]]*Table1[[#This Row],[S&L Price]]","v":0}]
[null,null,null,"Your Body at Its Grossest",1,"Earwax and Boogers!","Library Bound Book",null,"978-1-4824-6463-4",{"$f":"HYPERLINK(Table1[[#This Row],[eCommerce Hyperlink]],\"Book Weblink\")","v":"Book Weblink"},null,"2018","August 2017","Library","7.000 X 7.000","Author","Melvin Hightower","3.2","0.5",null,null,"H",null,"Grade 1 - 2","Grade 1 - 3","Earwax and boogers come from different places, but they’re equally gross. This book explores why the body makes these icky, sticky substances and what it means when you find more than usual hanging around your ears and nose. Whether it means someone is getting sick or they just haven’t taken a bath in a few days, this book explores good hygiene while also explaining the scientific reasons behind these important body processes.","English",23.6,17.7,"612.8--dc23","24 pp.","https://www.garethstevens.com/9781482464634",null,{"$f":"Table1[[#This Row],[QTY]]*Table1[[#This Row],['# Books]]","v":0},{"$f":"Table1[[#This Row],[QTY]]*Table1[[#This Row],[S&L Price]]","v":0}]
[null,null,null,"Your Body at Its Grossest",1,"Pus and Scabs!","eBook",null,"978-1-4824-6471-9",{"$f":"HYPERLINK(Table1[[#This Row],[eCommerce Hyperlink]],\"Book Weblink\")","v":"Book Weblink"},null,"2018","August 2017",null,null,"Author","Melvin Hightower","3","0.5",null,null,"H",null,"Grade 1 - 2","Grade 1 - 3","Cuts and scrapes are no fun, and their end result can be gross. Wounds can leak pus and scabs are often tempting to pull and tear, but these gross by-products of cuts are an important part of the healing process. In this book, readers pair the science with the gross to discover just why the body makes and leaks pus. It also explores ways to prevent permanent scarring and the proper way to take care of skin injuries with bandages and other medicine to help the body heal correctly.","English",23.6,17.7,"617.1--dc23","24 pp.","https://www.garethstevens.com/9781482464719",null,{"$f":"Table1[[#This Row],[QTY]]*Table1[[#This Row],['# Books]]","v":0},{"$f":"Table1[[#This Row],[QTY]]*Table1[[#This Row],[S&L Price]]","v":0}]
[null,null,null,"Your Body at Its Grossest",1,"Spit and Phlegm!","eBook",null,"978-1-4824-6475-7",{"$f":"HYPERLINK(Table1[[#This Row],[eCommerce Hyperlink]],\"Book Weblink\")","v":"Book Weblink"},null,"2018","August 2017",null,null,"Author","Anthony Capicola","3.2","0.5",null,null,"H",null,"Grade 1 - 2","Grade 1 - 3","The human body is pretty gross when it gets sick. The nose gets stuffed up, and some people go through boxes of tissues trying to get it clear. But what is all that stuff in the ears, nose, and throat anyway? It's phlegm! This sometimes gross and always fascinating book explores why our bodies make spit and phlegm through colorful photographs and insightful explanations of bodily functions. Readers will discover the science behind this gross stuff, studying why we need saliva to eat and phlegm to protect ourselves from bacteria and illness.","English",23.6,17.7,"612.3’13--dc23","24 pp.","https://www.garethstevens.com/9781482464757",null,{"$f":"Table1[[#This Row],[QTY]]*Table1[[#This Row],['# Books]]","v":0},{"$f":"Table1[[#This Row],[QTY]]*Table1[[#This Row],[S&L Price]]","v":0}]
[null,null,null,"Confusing Creature Names",1,"Glowworms Are Not Worms!","Library Bound Book",null,"978-1-4824-0941-3",{"$f":"HYPERLINK(Table1[[#This Row],[eCommerce Hyperlink]],\"Book Weblink\")","v":"Book Weblink"},null,"2015","August 2014","Library","7.000 X 7.000","Author","Daisy Allyn","3.1","0.5",null,null,"J","550L","Grade 1 - 2","Grade 1 - 3","Glowworms are actually many different kinds of insects, and they live all over the world. While you’re probably most familiar with the glowing larvae and female adults we call fireflies, there are many other kinds of glowworms. Inside this informative and exciting guide, readers will learn where glowworms live, what they look like, and why they glow. Amazing and vivid photographs of numerous glowworms, as well as a graphic organizer, help readers comprehend the scientific text.","English",23.6,17.7,"595.76","24 pp.","https://www.garethstevens.com/9781482409413",null,{"$f":"Table1[[#This Row],[QTY]]*Table1[[#This Row],['# Books]]","v":0},{"$f":"Table1[[#This Row],[QTY]]*Table1[[#This Row],[S&L Price]]","v":0}]
[null,null,null,"Confusing Creature Names",1,"Glowworms Are Not Worms!","eBook",null,"978-1-4824-0944-4",{"$f":"HYPERLINK(Table1[[#This Row],[eCommerce Hyperlink]],\"Book Weblink\")","v":"Book Weblink"},null,"2015","August 2014",null,null,"Author","Daisy Allyn","3.1","0.5",null,null,"J","550L","Grade 1 - 2","Grade 1 - 3","Glowworms are actually many different kinds of insects, and they live all over the world. While you’re probably most familiar with the glowing larvae and female adults we call fireflies, there are many other kinds of glowworms. Inside this informative and exciting guide, readers will learn where glowworms live, what they look like, and why they glow. Amazing and vivid photographs of numerous glowworms, as well as a graphic organizer, help readers comprehend the scientific text.","English",23.6,17.7,"595.76","24 pp.","https://www.garethstevens.com/9781482409444",null,{"$f":"Table1[[#This Row],[QTY]]*Table1[[#This Row],['# Books]]","v":0},{"$f":"Table1[[#This Row],[QTY]]*Table1[[#This Row],[S&L Price]]","v":0}]
[null,null,null,"Confusing Creature Names",1,"Horned Toads Are Not Toads!","Library Bound Book",null,"978-1-4824-0956-7",{"$f":"HYPERLINK(Table1[[#This Row],[eCommerce Hyperlink]],\"Book Weblink\")","v":"Book Weblink"},null,"2015","August 2014","Library","7.000 X 7.000","Author","Wes Flynn","3","0.5",null,null,"J","570L","Grade 1 - 2","Grade 1 - 3","The horned toad has become a symbol of the southwestern United States, living mainly in desert areas. However, this misnamed creature can be found from Central Mexico all the way up to Southern Canada. Many people think it’s a toad because of its wide body and short snout, but it’s really a lizard. Readers will enjoy learning about the horned toad and the crazy ways it stays safe from predators. Color photographs of horned toads in the wild are sure to amaze readers.","English",23.6,17.7,"597.95","24 pp.","https://www.garethstevens.com/9781482409567",null,{"$f":"Table1[[#This Row],[QTY]]*Table1[[#This Row],['# Books]]","v":0},{"$f":"Table1[[#This Row],[QTY]]*Table1[[#This Row],[S&L Price]]","v":0}]
[null,null,null,"Cycles in Nature",1,"A Butterfly's Life Cycle","Library Bound Book",null,"978-1-4824-1650-3",{"$f":"HYPERLINK(Table1[[#This Row],[eCommerce Hyperlink]],\"Book Weblink\")","v":"Book Weblink"},null,"2016","August 2015","Library","7.000 X 7.000","Author","George Pendergast","3.1","0.5",null,null,"J","580L","Grade 1 - 2","Grade 1 - 3","The life cycle of a butterfly makes for a captivating journey, and readers will love learning the step-by-step process each creature takes to go from caterpillar to butterfly in this exciting book. Each stage is explained in detail, with photographs to show the incredible change each caterpillar undergoes before flying away from its cocoon. Learning about the chrysalis and other scientific terms that describe the life cycle will help expand science vocabulary and further readers’ understanding of the patterns and cycles of the world around them.","English",23.6,17.7,"595.78","24 pp.","https://www.garethstevens.com/9781482416503",null,{"$f":"Table1[[#This Row],[QTY]]*Table1[[#This Row],['# Books]]","v":0},{"$f":"Table1[[#This Row],[QTY]]*Table1[[#This Row],[S&L Price]]","v":0}]
[null,null,null,"Cycles in Nature",1,"Flowers: From Seed to Bloom","eBook",null,"978-1-4824-1661-9",{"$f":"HYPERLINK(Table1[[#This Row],[eCommerce Hyperlink]],\"Book Weblink\")","v":"Book Weblink"},null,"2016","August 2015",null,null,"Author","George Pendergast","2.5","0.5",null,null,"J","560L","Grade 1 - 2","Grade 1 - 3","Enjoying the view of a field of flowers on a nice day is delightful, but knowing how those beautiful flowers got there is even more interesting. Readers will follow the process seeds undergo from tiny shells to roots, stalks, and eventually flowers. These little seeds create the blooms we love to admire on nice summer days, and this book explains why water, sunlight, and other elements are necessary to create these beautiful flowers.","English",23.6,17.7,"582.13","24 pp.","https://www.garethstevens.com/9781482416619",null,{"$f":"Table1[[#This Row],[QTY]]*Table1[[#This Row],['# Books]]","v":0},{"$f":"Table1[[#This Row],[QTY]]*Table1[[#This Row],[S&L Price]]","v":0}]
[null,null,null,"Cycles in Nature",1,"The Water Cycle at Work","Library Bound Book",null,"978-1-4824-1670-1",{"$f":"HYPERLINK(Table1[[#This Row],[eCommerce Hyperlink]],\"Book Weblink\")","v":"Book Weblink"},null,"2016","August 2015","Library","7.000 X 7.000","Author","George Pendergast","3.1","0.5",null,null,"J","560L","Grade 1 - 2","Grade 1 - 3","Water is essential for life, but where does it come from? This exciting book dives into that question to explain to readers exactly what happens in the water cycle. From underground springs that feed rivers and lakes to ocean water, it all helps create the clouds that move water particles from place to place. The way water moves around changes the landscape, temperature, and climate all around the world, and readers learn how this much-needed cycle impacts their lives every day.","English",23.6,17.7,"551.48","24 pp.","https://www.garethstevens.com/9781482416701",null,{"$f":"Table1[[#This Row],[QTY]]*Table1[[#This Row],['# Books]]","v":0},{"$f":"Table1[[#This Row],[QTY]]*Table1[[#This Row],[S&L Price]]","v":0}]
[null,null,null,"Stories in the Stars",1,"The Story of Hercules","eBook",null,"978-1-4824-2672-4",{"$f":"HYPERLINK(Table1[[#This Row],[eCommerce Hyperlink]],\"Book Weblink\")","v":"Book Weblink"},null,"2016","August 2015",null,null,"Author","Ingrid Griffin","3.2","0.5","18",null,"J",null,"Grade 1 - 2","Grade 1 - 3","The Roman mythological hero Hercules is celebrated in books, television, and movies. But readers might be surprised to know that Hercules is a constellation they can see in the night sky, too. They'll learn how the incredibly strong baby Hercules killed deadly snakes in his crib as well as how he later performed twelve impossible labors. Some think the constellation shows Hercules standing on a dragon's head! This fun book is a fascinating door into the worlds of mythology and astronomy.","English",23.6,17.7,"292.1","24 pp.","https://www.garethstevens.com/9781482426724",null,{"$f":"Table1[[#This Row],[QTY]]*Table1[[#This Row],['# Books]]","v":0},{"$f":"Table1[[#This Row],[QTY]]*Table1[[#This Row],[S&L Price]]","v":0}]
[null,null,null,"Stories in the Stars",1,"The Story of Pegasus","Library Bound Book",null,"978-1-4824-2679-3",{"$f":"HYPERLINK(Table1[[#This Row],[eCommerce Hyperlink]],\"Book Weblink\")","v":"Book Weblink"},null,"2016","August 2015","Library","7.000 X 7.000","Author","Blanche Roesser","3.2","0.5","18",null,"J",null,"Grade 1 - 2","Grade 1 - 3","Many people can identify Pegasus, the winged horse from Greek myths, but they may not know that he sprung from the head of the monster Medusa! Pegasus's important roles in myths of the heroes Perseus and Bellerophon are featured in this thrilling retelling of the famous stories. Pegasus isn't just in the pages of books, though. The Pegasus constellation is one of the largest in the night sky from the end of summer through fall. Readers will learn what the constellation looks like through photographs as well as delight in the illustrations of the myths.","English",23.6,17.7,"292.1","24 pp.","https://www.garethstevens.com/9781482426793",null,{"$f":"Table1[[#This Row],[QTY]]*Table1[[#This Row],['# Books]]","v":0},{"$f":"Table1[[#This Row],[QTY]]*Table1[[#This Row],[S&L Price]]","v":0}]
[null,null,null,"My Body Does Strange Stuff!",12,"My Body Does Strange Stuff!: Sets 1 – 2","Library Set",null,"978-1-4824-0609-2",{"$f":"HYPERLINK(Table1[[#This Row],[eCommerce Hyperlink]],\"Book Weblink\")","v":"Book Weblink"},null,"2014","January 2014","Library","7.000 X 7.000",null,null,null,null,null,null,null,null,"Grade 1 - 2","Grade 1 - 3","Our bodies do some pretty strange things like yawning, crying, sneezing, burps, and bruising. Our bodies may seem gross at times, but they do all these things for very good reasons. Manageable, scientific narratives guide reader through a crash course in human physiology. Color photographs and illustrations help readers grasp potentially difficult topics. Features include: Simple diagrams guide readers in understanding main topic. Graphic organizers will aid comprehension. Science topics are presented in easy-to-understand language.","English",295.2,221.4,null,"24 pp.","https://www.garethstevens.com/9781482406092",null,{"$f":"Table1[[#This Row],[QTY]]*Table1[[#This Row],['# Books]]","v":0},{"$f":"Table1[[#This Row],[QTY]]*Table1[[#This Row],[S&L Price]]","v":0}]
[null,null,null,"My Body Does Strange Stuff!",1,"How Do Hair and Nails Grow?","Interactive eBook","HTML5","978-1-4824-0249-0",{"$f":"HYPERLINK(Table1[[#This Row],[eCommerce Hyperlink]],\"Book Weblink\")","v":"Book Weblink"},null,"2014","January 2014",null,null,"Author","Thomas Young",null,null,"16","15","I",null,"Grade 1 - 2","Grade 1 - 3","Did you know that hair and nails are actually forms of skin? In this book, readers will learn this and many other intriguing facts about our nails and hair. Colorful photographs and illustrations help readers understand this important science topic, and a graphic organizer helps them remember important facts from the text.","English",33.25,24.95,"612.7","24 pp.","https://www.garethstevens.com/9781482402490",null,{"$f":"Table1[[#This Row],[QTY]]*Table1[[#This Row],['# Books]]","v":0},{"$f":"Table1[[#This Row],[QTY]]*Table1[[#This Row],[S&L Price]]","v":0}]
[null,null,null,"My Body Does Strange Stuff!",1,"What Happens When I Cry?","eBook",null,"978-1-4824-0258-2",{"$f":"HYPERLINK(Table1[[#This Row],[eCommerce Hyperlink]],\"Book Weblink\")","v":"Book Weblink"},null,"2014","January 2014",null,null,"Author","Libby Landolfi",null,null,"18","17","J",null,"Grade 1 - 2","Grade 1 - 3","In this volume, readers learn the different reasons why we cry—whether it’s dirt in the air or a really strong emotion. They also learn about the parts of the body that make crying possible. Vibrant photographs and illustrations help readers make sense of a potentially difficult science topic. Readers are sure to find this book both humorous and educational.","English",24.6,18.45,"612.8","24 pp.","https://www.garethstevens.com/9781482402582",null,{"$f":"Table1[[#This Row],[QTY]]*Table1[[#This Row],['# Books]]","v":0},{"$f":"Table1[[#This Row],[QTY]]*Table1[[#This Row],[S&L Price]]","v":0}]
[null,null,null,"My Body Does Strange Stuff!",1,"What Makes Me Stinky?","Interactive eBook","HTML5","978-1-4824-0303-9",{"$f":"HYPERLINK(Table1[[#This Row],[eCommerce Hyperlink]],\"Book Weblink\")","v":"Book Weblink"},null,"2014","January 2014",null,null,"Author","Wes Flynn",null,null,"16","15","I",null,"Grade 1 - 2","Grade 1 - 3","As people grow up, they become more active and often get involved in physical activities. This can make us sweat, and sweating can make us stink! In this book, readers will discover how exactly sweat can make us stinky. Straightforward images of age-appropriate kids, as well as a helpful graphic organizer, helps make a potentially difficult science topic accessible and fun.","English",33.25,24.95,"613","24 pp.","https://www.garethstevens.com/9781482403039",null,{"$f":"Table1[[#This Row],[QTY]]*Table1[[#This Row],['# Books]]","v":0},{"$f":"Table1[[#This Row],[QTY]]*Table1[[#This Row],[S&L Price]]","v":0}]
[null,null,null,"My Body Does Strange Stuff!",1,"What Happens When I Cough?","Interactive eBook","HTML5","978-1-4339-9337-4",{"$f":"HYPERLINK(Table1[[#This Row],[eCommerce Hyperlink]],\"Book Weblink\")","v":"Book Weblink"},null,"2014","August 2013",null,null,"Author","Benjamin Herbst","3.2","0.5","16","15","I",null,"Grade 1 - 2","Grade 1 - 3","Having a cough that won’t go away can be really annoying. Sometimes it’s a cold that makes you cough, and some people with allergies cough a lot! However, there are other reasons for coughing, too. Readers learn about the human body and what causes us to cough. The accessible text is paired with relatable photographs to help readers better understand the topic, and in turn, their bodies.","English",33.25,24.95,"612.7","24 pp.","https://www.garethstevens.com/9781433993374",null,{"$f":"Table1[[#This Row],[QTY]]*Table1[[#This Row],['# Books]]","v":0},{"$f":"Table1[[#This Row],[QTY]]*Table1[[#This Row],[S&L Price]]","v":0}]
[null,null,null,"My Body Does Strange Stuff!",1,"What Happens When I Sneeze?","eBook",null,"978-1-4339-9345-9",{"$f":"HYPERLINK(Table1[[#This Row],[eCommerce Hyperlink]],\"Book Weblink\")","v":"Book Weblink"},null,"2014","August 2013",null,null,"Author","Madison Miller","3.2","0.5","18","17","J","600L","Grade 1 - 2","Grade 1 - 3","Everybody sneezes, whether its because of smoke, a cold, allergies, or too much pepper in food. Readers learn the science behind sneezing. Also addressed is why it's important to good health to cover the mouth when sneezing. Vibrant photographs and diagrams help readers further understand the scientific yet relatable narrative.","English",24.6,18.45,"612.2--dc23","24 pp.","https://www.garethstevens.com/9781433993459",null,{"$f":"Table1[[#This Row],[QTY]]*Table1[[#This Row],['# Books]]","v":0},{"$f":"Table1[[#This Row],[QTY]]*Table1[[#This Row],[S&L Price]]","v":0}]
[null,null,null,"My Body Does Strange Stuff!",1,"What Happens When I Sweat?","Interactive eBook","HTML5","978-1-4339-9351-0",{"$f":"HYPERLINK(Table1[[#This Row],[eCommerce Hyperlink]],\"Book Weblink\")","v":"Book Weblink"},null,"2014","August 2013",null,null,"Author","Lincoln James","3.3","0.5","18","17","J","610L","Grade 1 - 2","Grade 1 - 3","Sweating sure is gross, but everyone does it. It’s a good thing too, because it’s our body’s way of cooling us down. Readers will discover the reasons why we sweat, and how the body works to produce it. The text presents scientific terms and concepts in an accessible, relatable manner, and colorful photographs and diagrams help readers actually enjoy learning about this important body process.","English",33.25,24.95,"612.7921","24 pp.","https://www.garethstevens.com/9781433993510",null,{"$f":"Table1[[#This Row],[QTY]]*Table1[[#This Row],['# Books]]","v":0},{"$f":"Table1[[#This Row],[QTY]]*Table1[[#This Row],[S&L Price]]","v":0}]
[null,null,null,"My Body Does Strange Stuff!",1,"What Happens When I Throw Up?","Library Bound Book",null,"978-1-4339-9352-7",{"$f":"HYPERLINK(Table1[[#This Row],[eCommerce Hyperlink]],\"Book Weblink\")","v":"Book Weblink"},null,"2014","August 2013","Library","7.000 X 7.000","Author","Greg Roza","3.4","0.5","16","15","I",null,"Grade 1 - 2","Grade 1 - 3","There are many colorful terms for throwing up: puke, upchuck, spew, and lose your lunch, to name just a few. The words may sound funny, but anyone who has ever been sick will tell you there’s nothing funny about throwing up! This \"gross\" topic will fascinate readers, teaching them the science behind vomit and what causes it. Appropriate, relatable photographs and helpful diagrams complement the scientific yet accessible text.","English",24.6,18.45,"612.3","24 pp.","https://www.garethstevens.com/9781433993527",null,{"$f":"Table1[[#This Row],[QTY]]*Table1[[#This Row],['# Books]]","v":0},{"$f":"Table1[[#This Row],[QTY]]*Table1[[#This Row],[S&L Price]]","v":0}]
[null,null,null,"My Body Does Strange Stuff!",1,"What Happens When I Yawn?","Interactive eBook","HTML5","978-1-4339-9361-9",{"$f":"HYPERLINK(Table1[[#This Row],[eCommerce Hyperlink]],\"Book Weblink\")","v":"Book Weblink"},null,"2014","August 2013",null,null,"Author","Aleaha Schwinn","3.4","0.5","18","17","J","700L","Grade 1 - 2","Grade 1 - 3","Why do people yawn? Is it because we need oxygen? Or do we yawn to cool off our brain? The answer is, scientists aren’t totally sure just yet, but they have many great theories. The vibrant photographs and diagrams in this book help demonstrate what happens in the body when we yawn. The scientific yet accessible text was designed to both interest and enlighten readers of all ages.","English",33.25,24.95,"612.8","24 pp.","https://www.garethstevens.com/9781433993619",null,{"$f":"Table1[[#This Row],[QTY]]*Table1[[#This Row],['# Books]]","v":0},{"$f":"Table1[[#This Row],[QTY]]*Table1[[#This Row],[S&L Price]]","v":0}]
[null,null,null,"Adventures in Culture",1,"Cooking Around the World","eBook",null,"978-1-5382-1860-0",{"$f":"HYPERLINK(Table1[[#This Row],[eCommerce Hyperlink]],\"Book Weblink\")","v":"Book Weblink"},null,"2019","August 2018",null,null,"Author","Jeff Sferazza",null,null,"18",null,"J",null,"Grade 1 - 2","Grade 1 - 3","Baking, salt-packing, pickling, frying, stewing, roasting, grilling. These culinary techniques are used in countries around the world today, but they each originated out of the necessity of a certain region and its people to create meals for themselves. Readers will be so enthralled, they won't guess they're learning social studies as they journey across the world from kitchen to kitchen through the pages this book. Accessible text and foreign-yet-familiar photographs teach how different and the same we all are when it comes to preparing food.","English",23.6,17.7,"641.3--dc23","24 pp.","https://www.garethstevens.com/9781538218600",null,{"$f":"Table1[[#This Row],[QTY]]*Table1[[#This Row],['# Books]]","v":0},{"$f":"Table1[[#This Row],[QTY]]*Table1[[#This Row],[S&L Price]]","v":0}]
[null,null,null,"Adventures in Culture",1,"Toys Around the World","Library Bound Book",null,"978-1-5382-1875-4",{"$f":"HYPERLINK(Table1[[#This Row],[eCommerce Hyperlink]],\"Book Weblink\")","v":"Book Weblink"},null,"2019","August 2018","Library","7.000 X 7.000","Author","Mary Pat Ehmann",null,null,"18",null,"J",null,"Grade 1 - 2","Grade 1 - 3","Did you know that dolls have been found to be a toy in nearly every culture on Earth? In childhood, it's hard to imagine that there are even other places in the world, let alone that these places have children with totally different toys. This book shows the rich diversity of playthings children across the globe entertain themselves and learn with. Through easy-to-understand language and vivid full-color photography on every spread, this important work also teaches that we all have the same basic needs as humans. No children's library or classroom should be without this book.","English",23.6,17.7,"649/.55--dc23","24 pp.","https://www.garethstevens.com/9781538218754",null,{"$f":"Table1[[#This Row],[QTY]]*Table1[[#This Row],['# Books]]","v":0},{"$f":"Table1[[#This Row],[QTY]]*Table1[[#This Row],[S&L Price]]","v":0}]
[null,null,null,"Adventures in Culture",1,"Celebrations Around the World","eBook",null,"978-1-4824-5578-6",{"$f":"HYPERLINK(Table1[[#This Row],[eCommerce Hyperlink]],\"Book Weblink\")","v":"Book Weblink"},null,"2017","January 2017",null,null,"Author","Charles Murphy",null,null,null,null,"K","640L","Grade 1 - 2","Grade 1 - 3","It's time to party with people around the world! Readers will want to celebrate with the fascinating, diverse peoples featured in this culturally enriching book. Día de los Muertos in Latin America, Festima in West Africa, Loy Krathong in Southeast Asia, and Japan’s Obon are just some of the festivals featured. Important vocabulary and cultural concepts are stressed in the accessible text, while striking photographs highlight important associated events.","English",23.6,17.7,"394.26--dc23","24 pp.","https://www.garethstevens.com/9781482455786",null,{"$f":"Table1[[#This Row],[QTY]]*Table1[[#This Row],['# Books]]","v":0},{"$f":"Table1[[#This Row],[QTY]]*Table1[[#This Row],[S&L Price]]","v":0}]
[null,null,null,"Adventures in Culture",1,"Homes Around the World","Library Bound Book",null,"978-1-4824-5881-7",{"$f":"HYPERLINK(Table1[[#This Row],[eCommerce Hyperlink]],\"Book Weblink\")","v":"Book Weblink"},null,"2017","January 2017","Library","7.000 X 7.000","Author","Eleanor O'Connell",null,null,null,null,"J",null,"Grade 1 - 2","Grade 1 - 3","Apartments, houses, log cabins, and houseboats are all kinds of homes, though they can look vastly different. Around the world, families settle into homes that can look quite different than these, yet serve the same purpose: to shelter. This volume will capture readers’ imaginations, allowing them to view various types of homes, including the yaodongs of China and Queenslanders of Australia. Beautiful photographs serve to illustrate both architectural and cultural concepts.","English",23.6,17.7,"643’.1--dc23","24 pp.","https://www.garethstevens.com/9781482458817",null,{"$f":"Table1[[#This Row],[QTY]]*Table1[[#This Row],['# Books]]","v":0},{"$f":"Table1[[#This Row],[QTY]]*Table1[[#This Row],[S&L Price]]","v":0}]
[null,null,null,"Adventures in Culture",1,"Transportation Around the World","eBook",null,"978-1-4824-5596-0",{"$f":"HYPERLINK(Table1[[#This Row],[eCommerce Hyperlink]],\"Book Weblink\")","v":"Book Weblink"},null,"2017","January 2017",null,null,"Author","Eleanor O'Connell",null,null,null,null,"J",null,"Grade 1 - 2","Grade 1 - 3","Traveling a distance for many means taking a bus, car, train, or maybe a bicycle. In other parts of the world, however, forms of transportation may include rickshaws, gondolas, hovercraft, or cable cars. This fast-paced volume invites readers to hop aboard on a journey to test out some of the most fascinating modes of travel around the globe. Lively, accessible text and vivid photographs emphasize this interesting aspect of world cultures.","English",23.6,17.7,"388--dc23","24 pp.","https://www.garethstevens.com/9781482455960",null,{"$f":"Table1[[#This Row],[QTY]]*Table1[[#This Row],['# Books]]","v":0},{"$f":"Table1[[#This Row],[QTY]]*Table1[[#This Row],[S&L Price]]","v":0}]
[null,null,null,"Where on Earth? Mapping Parts of the World",1,"Earth's Hemispheres","eBook",null,"978-1-4824-6420-7",{"$f":"HYPERLINK(Table1[[#This Row],[eCommerce Hyperlink]],\"Book Weblink\")","v":"Book Weblink"},null,"2018","August 2017",null,null,"Author","Todd Bluthenthal",null,null,"14",null,"I","730L","Grade 1 - 2","Grade 1 - 3","The division of the Earth into hemispheres isn't the easiest concept to grasp. It involves geography, spatial awareness, and map-reading abilities. This volume makes it easy for any reader to develop a solid comprehension of this critical social studies lesson. Vivid, full-color maps and photographs are integrated with the accessible main narrative.","English",23.6,17.7,"526'.61--dc23","24 pp.","https://www.garethstevens.com/9781482464207",null,{"$f":"Table1[[#This Row],[QTY]]*Table1[[#This Row],['# Books]]","v":0},{"$f":"Table1[[#This Row],[QTY]]*Table1[[#This Row],[S&L Price]]","v":0}]
[null,null,null,"Where on Earth? Mapping Parts of the World",1,"The North Pole","Library Bound Book",null,"978-1-4824-6431-3",{"$f":"HYPERLINK(Table1[[#This Row],[eCommerce Hyperlink]],\"Book Weblink\")","v":"Book Weblink"},null,"2018","August 2017","Library","7.000 X 7.000","Author","Todd Bluthenthal",null,null,null,null,"H","700L","Grade 1 - 2","Grade 1 - 3","Many young readers think of the North Pole as the place where Santa Claus lives with his wife, reindeer, and elves. The North Pole presents the geography and science of this polar region to young readers in an age-appropriate way. The clear language and easy-to-read, colorful maps and photographs of the North Pole will engage and expand any young reader’s grasp on the concepts of continents, climate, Earth’s rotation, and more! The fascinating history of the remarkable explorers of this frigid landscape is also included in the main text, introducing a part of history that’s sure to inspire!","English",23.6,17.7,"971.9--dc23","24 pp.","https://www.garethstevens.com/9781482464313",null,{"$f":"Table1[[#This Row],[QTY]]*Table1[[#This Row],['# Books]]","v":0},{"$f":"Table1[[#This Row],[QTY]]*Table1[[#This Row],[S&L Price]]","v":0}]
[null,null,null,"A Look at Earth's Rocks",1,"What Are Igneous Rocks?","Library Bound Book",null,"978-1-4824-6254-8",{"$f":"HYPERLINK(Table1[[#This Row],[eCommerce Hyperlink]],\"Book Weblink\")","v":"Book Weblink"},null,"2018","August 2017","Library","6.500 X 9.125","Author","Kristen Rajczak Nelson",null,null,null,null,"K",null,"Grade 2","Grade 5 - 8","Igneous rocks are often portrayed as the result of one of Earth’s most exciting events, which is a volcanic eruption. While some may form that way, igneous rock on Earth can form much more quietly, and even underground. This volume presents readers with all the ways igneous rock can form, as well as the names and full-color photographs of some of the most common types. Written to be a simple but thorough review of the topic, the main content is suited to readers of all levels.","English",27.6,20.7,"552’.1--dc23","32 pp.","https://www.garethstevens.com/9781482462548",null,{"$f":"Table1[[#This Row],[QTY]]*Table1[[#This Row],['# Books]]","v":0},{"$f":"Table1[[#This Row],[QTY]]*Table1[[#This Row],[S&L Price]]","v":0}]
[null,null,null,"A Look at Earth's Rocks",1,"What Are Minerals?","Library Bound Book",null,"978-1-4824-6244-9",{"$f":"HYPERLINK(Table1[[#This Row],[eCommerce Hyperlink]],\"Book Weblink\")","v":"Book Weblink"},null,"2018","August 2017","Library","6.500 X 9.125","Author","Kristen Rajczak Nelson",null,null,null,null,"K","870L","Grade 2","Grade 5 - 8","Minerals are an essential part of the Earth science curriculum since silicate minerals make up more than 90 percent of Earth’s crust! In order to understand this fact, though, students need to know the difference between minerals and rocks, how minerals form, and how minerals are structured. This book breaks down these topics and more in simple, clear language ideal for struggling readers or those looking to review an important topic. Fact boxes elaborate on difficult concepts and define scientific terms, complementing the main content’s curriculum focus and full-color photographs of common minerals.","English",27.6,20.7,"549--dc23","32 pp.","https://www.garethstevens.com/9781482462449",null,{"$f":"Table1[[#This Row],[QTY]]*Table1[[#This Row],['# Books]]","v":0},{"$f":"Table1[[#This Row],[QTY]]*Table1[[#This Row],[S&L Price]]","v":0}]
[null,null,null,"A Look at Earth's Rocks",1,"What Is the Rock Cycle?","Library Bound Book",null,"978-1-4824-6021-6",{"$f":"HYPERLINK(Table1[[#This Row],[eCommerce Hyperlink]],\"Book Weblink\")","v":"Book Weblink"},null,"2018","August 2017","Library","6.500 X 9.125","Author","Frances Nagle",null,null,null,null,"K",null,"Grade 2","Grade 5 - 8","The science curriculum is full of processes that students need to understand and they can seem complicated when taken as a whole. This volume breaks down the rock cycle step by step, including brief explanations of the three kinds of rocks, erosion, and many key terms. Clear language and simple sentences present the information in an accessible way for readers of all levels. Complete with full-color photographs and a diagram showing the whole process, this book complements classroom learning and offers a great resource for readers in need of review.","English",27.6,20.7,"552--dc23","32 pp.","https://www.garethstevens.com/9781482460216",null,{"$f":"Table1[[#This Row],[QTY]]*Table1[[#This Row],['# Books]]","v":0},{"$f":"Table1[[#This Row],[QTY]]*Table1[[#This Row],[S&L Price]]","v":0}]
[null,null,null,"A Look at Earth's Rocks",1,"What Is the Rock Cycle?","eBook",null,"978-1-4824-6022-3",{"$f":"HYPERLINK(Table1[[#This Row],[eCommerce Hyperlink]],\"Book Weblink\")","v":"Book Weblink"},null,"2018","August 2017",null,null,"Author","Frances Nagle",null,null,null,null,"K",null,"Grade 2","Grade 5 - 8","The science curriculum is full of processes that students need to understand and they can seem complicated when taken as a whole. This volume breaks down the rock cycle step by step, including brief explanations of the three kinds of rocks, erosion, and many key terms. Clear language and simple sentences present the information in an accessible way for readers of all levels. Complete with full-color photographs and a diagram showing the whole process, this book complements classroom learning and offers a great resource for readers in need of review.","English",27.6,20.7,"552--dc23","32 pp.","https://www.garethstevens.com/9781482460223",null,{"$f":"Table1[[#This Row],[QTY]]*Table1[[#This Row],['# Books]]","v":0},{"$f":"Table1[[#This Row],[QTY]]*Table1[[#This Row],[S&L Price]]","v":0}]
[null,null,null,"A Look at Life Cycles",1,"Bird Life Cycles","eBook",null,"978-1-5382-1039-0",{"$f":"HYPERLINK(Table1[[#This Row],[eCommerce Hyperlink]],\"Book Weblink\")","v":"Book Weblink"},null,"2018","January 2018",null,null,"Author","Bray Jacobson","4.3","0.5",null,null,"I","580L","Grade 2","Grade 5 - 8","All birds lay eggs, but the size, shape, and colors are very different. Do these differences change the bird life cycle? Readers learn about the general life cycle of a bird from when the egg is laid to the different life-spans of various types of birds. Written specifically for students in need of review or extra help, this book gives a concise overview of a topic commonly included in science curricula. Alongside the main content’s simple explanations, colorful diagrams provide readers another way to learn about bird life cycles.","English",27.6,20.7,"598.156--dc23","32 pp.","https://www.garethstevens.com/9781538210390",null,{"$f":"Table1[[#This Row],[QTY]]*Table1[[#This Row],['# Books]]","v":0},{"$f":"Table1[[#This Row],[QTY]]*Table1[[#This Row],[S&L Price]]","v":0}]
[null,null,null,"A Look at Life Cycles",1,"Reptile Life Cycles","Library Bound Book",null,"978-1-5382-1054-3",{"$f":"HYPERLINK(Table1[[#This Row],[eCommerce Hyperlink]],\"Book Weblink\")","v":"Book Weblink"},null,"2018","January 2018","Library","6.500 X 9.125","Author","Bray Jacobson","4.3","0.5",null,null,"I","840L","Grade 2","Grade 5 - 8","Some reptiles lay eggs and some give birth to live young. In this book, readers learn about the reptile life cycle beginning in both ways. The main content gives a simple overview of the steps included in the reptile life cycle accompanied by helpful diagrams to aid readers’ understanding of this common science curriculum topic. Written with struggling readers in mind, this volume gives explanations in accessible language, which also makes it an excellent source for any reader to review the topic.","English",27.6,20.7,"597.9'156--dc23","32 pp.","https://www.garethstevens.com/9781538210543",null,{"$f":"Table1[[#This Row],[QTY]]*Table1[[#This Row],['# Books]]","v":0},{"$f":"Table1[[#This Row],[QTY]]*Table1[[#This Row],[S&L Price]]","v":0}]
[null,null,null,"A Look at Physical Science",1,"Electricity","Library Bound Book",null,"978-1-5382-2139-6",{"$f":"HYPERLINK(Table1[[#This Row],[eCommerce Hyperlink]],\"Book Weblink\")","v":"Book Weblink"},null,"2019","August 2018","Library","6.500 X 9.125","Author","Kathleen Connors",null,null,null,null,"J",null,"Grade 2","Grade 5 - 8","As technology improves, scientists find more and more ways to create electricity. Kids might wonder what exactly electricity is, which is a great question since it's part of the science curriculum. This volume covers everything readers need to know to master the topic of electricity. Diagrams and fact boxes help explain the most complex parts of the main text, and an extended glossary familiarizes readers with the vocabulary needed to talk about the topic in science class. This volume offers struggling readers an accessible overview of electricity and students in need of a review a chance to revisit key points.","English",27.6,20.7,"537--dc23","32 pp.","https://www.garethstevens.com/9781538221396",null,{"$f":"Table1[[#This Row],[QTY]]*Table1[[#This Row],['# Books]]","v":0},{"$f":"Table1[[#This Row],[QTY]]*Table1[[#This Row],[S&L Price]]","v":0}]
[null,null,null,"A Look at Physical Science",1,"Heat","eBook",null,"978-1-5382-2148-8",{"$f":"HYPERLINK(Table1[[#This Row],[eCommerce Hyperlink]],\"Book Weblink\")","v":"Book Weblink"},null,"2019","August 2018",null,null,"Author","Kathleen Connors",null,null,null,null,"J","780L","Grade 2","Grade 5 - 8","There's so much more to heat than hot and cold! How it moves, keeps us warm in the winter, and helps us cook our food is all part of this key science topic. Inside a colorful layout, the main text is written with struggling readers in mind, giving clear, concise explanations in understandable language to propel these readers to classroom success. Graphic organizers reinforce important topics for visual learners and those using the books as a \"crash course\" review of heat.","English",27.6,20.7,"536--dc23","32 pp.","https://www.garethstevens.com/9781538221488",null,{"$f":"Table1[[#This Row],[QTY]]*Table1[[#This Row],['# Books]]","v":0},{"$f":"Table1[[#This Row],[QTY]]*Table1[[#This Row],[S&L Price]]","v":0}]
[null,null,null,"A Look at Physical Science",1,"Sound","Library Bound Book",null,"978-1-5382-2159-4",{"$f":"HYPERLINK(Table1[[#This Row],[eCommerce Hyperlink]],\"Book Weblink\")","v":"Book Weblink"},null,"2019","August 2018","Library","6.500 X 9.125","Author","Kathleen Connors",null,null,null,null,"J",null,"Grade 2","Grade 5 - 8","The fact that sound travels as a vibration might really blow readers' minds, especially those in need of help understanding this science curriculum topic. Including simple discussions of the sound barrier and volume, the main content covers all aspects of sound readers might need to know for science class. Accessible language and colorful diagrams make this volume perfect for those struggling readers or other students in need of review. Key vocabulary terms are included in an extended glossary or fact box so all readers have the knowledge to discuss sound whenever they need to.","English",27.6,20.7,"534--dc23","32 pp.","https://www.garethstevens.com/9781538221594",null,{"$f":"Table1[[#This Row],[QTY]]*Table1[[#This Row],['# Books]]","v":0},{"$f":"Table1[[#This Row],[QTY]]*Table1[[#This Row],[S&L Price]]","v":0}]
[null,null,null,"A Look at Your Government",1,"What Does Congress Do?","Library Bound Book",null,"978-1-4824-6049-0",{"$f":"HYPERLINK(Table1[[#This Row],[eCommerce Hyperlink]],\"Book Weblink\")","v":"Book Weblink"},null,"2018","August 2017","Library","6.500 X 9.125","Author","Kathleen Connors","5.2","0.5",null,null,"K","900L","Grade 2","Grade 5 - 8","The Founding Fathers made Congress two houses for a reason. The Senate gives every state equal representation, while the House of Representatives allows states with a larger population a bigger voice in government. Learning how this system works is an important piece of understanding how laws are made in the United States. This book breaks down the many jobs of Congress as well as the specific qualifications needed to be a representative or senator. Written simply and clearly, the social studies content can aid any student looking to better understand how Congress works.","English",27.6,20.7,"328.73--dc23","32 pp.","https://www.garethstevens.com/9781482460490",null,{"$f":"Table1[[#This Row],[QTY]]*Table1[[#This Row],['# Books]]","v":0},{"$f":"Table1[[#This Row],[QTY]]*Table1[[#This Row],[S&L Price]]","v":0}]
[null,null,null,"A Look at Your Government",1,"What Does the U.S. Supreme Court Do?","eBook",null,"978-1-4824-6062-9",{"$f":"HYPERLINK(Table1[[#This Row],[eCommerce Hyperlink]],\"Book Weblink\")","v":"Book Weblink"},null,"2018","August 2017",null,null,"Author","Santana Hunt","4.9","0.5",null,null,"K","850L","Grade 2","Grade 5 - 8","The Supreme Court is the highest court in the United States. While it only hears about 80 cases out of the thousands that petition to be heard, the court’s decisions have a big impact. The most important job of the Supreme Court is to decide the constitutionality of laws and actions. This process is broken down for readers in simple terms that support their understanding of the judicial branch. The main content offers curriculum-based information about the court’s relationship with the Constitution, justice appointments, and how justices write opinions. Fact boxes supply definitions and further explanations of more complicated ideas.","English",27.6,20.7,"347.73/26--dc23","32 pp.","https://www.garethstevens.com/9781482460629",null,{"$f":"Table1[[#This Row],[QTY]]*Table1[[#This Row],['# Books]]","v":0},{"$f":"Table1[[#This Row],[QTY]]*Table1[[#This Row],[S&L Price]]","v":0}]
[null,null,null,"Daredevil Sports",1,"Barrel Racing","Library Bound Book",null,"978-1-5382-1103-8",{"$f":"HYPERLINK(Table1[[#This Row],[eCommerce Hyperlink]],\"Book Weblink\")","v":"Book Weblink"},null,"2018","January 2018","Library","6.500 X 9.125","Author","Hal Garrison","4.6","0.5",null,null,"I",null,"Grade 1 - 2","Grade 3 - 6","Experiencing the thrill of rodeo events like bull riding up close and personal is quite the thrill. The fastest rodeo event involves skilled people, talented horses, and barrels. Barrel racing is a fast-paced thrill ride unlike any other. Readers learn that barrel racing success depends on getting as close to the barrel as possible to ensure the fastest time. They learn about the history of the event, the role that women played in its early days, and how riders execute the cloverleaf pattern around the barrels.","English",27.6,20.7,"791.8'4--dc23","32 pp.","https://www.garethstevens.com/9781538211038",null,{"$f":"Table1[[#This Row],[QTY]]*Table1[[#This Row],['# Books]]","v":0},{"$f":"Table1[[#This Row],[QTY]]*Table1[[#This Row],[S&L Price]]","v":0}]
[null,null,null,"Daredevil Sports",1,"BASE Jumping","eBook",null,"978-1-5382-1108-3",{"$f":"HYPERLINK(Table1[[#This Row],[eCommerce Hyperlink]],\"Book Weblink\")","v":"Book Weblink"},null,"2018","January 2018",null,null,"Author","Hal Garrison","5","0.5",null,null,"I",null,"Grade 1 - 2","Grade 3 - 6","Jumping from a long way up is incredibly dangerous. That's why BASE jumping is a sport saved for the experts. These amazing athletes take leaps from fixed places like antennas and bridges and feel the wind through their hair before using safety equipment like parachutes to make it back to Earth without harm. Sometimes these daredevils will don wingsuits and actually fly while they fall back to earth. Full-color photographs and riveting text capture this sport up close and personal and take readers into the skies.","English",27.6,20.7,"797.5--dc23","32 pp.","https://www.garethstevens.com/9781538211083",null,{"$f":"Table1[[#This Row],[QTY]]*Table1[[#This Row],['# Books]]","v":0},{"$f":"Table1[[#This Row],[QTY]]*Table1[[#This Row],[S&L Price]]","v":0}]
[null,null,null,"Daredevil Sports",1,"Ice Climbing","eBook",null,"978-1-5382-1120-5",{"$f":"HYPERLINK(Table1[[#This Row],[eCommerce Hyperlink]],\"Book Weblink\")","v":"Book Weblink"},null,"2018","January 2018",null,null,"Author","Hal Garrison","4.3","0.5",null,null,"I",null,"Grade 1 - 2","Grade 3 - 6","Climbing is an exciting way to stay in shape. Ice climbing adds the thrills of rock climbing to the dangers of snow and cold, to create a brand new sport. Strapping on crampons, using ice-climbing axes, and scaling a sheer cliff of ice brings an incredible rush unlike any other. Readers dig into the thrilling world of climbing up cliffs and rock slabs in the middle of winter. From more dangerous climbs like frozen waterfalls to other ice formations, this book explores the equipment needed to safely ice climb and the history behind this amazing sport.","English",27.6,20.7,"796.9--dc23","32 pp.","https://www.garethstevens.com/9781538211205",null,{"$f":"Table1[[#This Row],[QTY]]*Table1[[#This Row],['# Books]]","v":0},{"$f":"Table1[[#This Row],[QTY]]*Table1[[#This Row],[S&L Price]]","v":0}]
[null,null,null,"Daredevil Sports",1,"MMA","eBook",null,"978-1-4824-2983-1",{"$f":"HYPERLINK(Table1[[#This Row],[eCommerce Hyperlink]],\"Book Weblink\")","v":"Book Weblink"},null,"2016","August 2015",null,null,"Author","Peter Castellano","5.0","0.5","16",null,"I","920L","Grade 1","Grade 3 - 6","Mixed martial arts, or MMA, has a long history since it includes techniques from older fighting styles like tae kwon do, muay thai, and Greco-Roman wrestling. But the popular sport is truly a modern invention that may result in blood, sweat, and tears. Readers learn about the fearless fighters who enter the cage for each bout, as well as MMA history and the formation of the UFC. MMA safety and rules are emphasized, including the need for specific training and great physical fitness. Full-color images highlight the intensity and drama of bouts for both the fighters and the crowd.","English",27.6,20.7,"796.815","32 pp.","https://www.garethstevens.com/9781482429831",null,{"$f":"Table1[[#This Row],[QTY]]*Table1[[#This Row],['# Books]]","v":0},{"$f":"Table1[[#This Row],[QTY]]*Table1[[#This Row],[S&L Price]]","v":0}]
[null,null,null,"Daredevil Sports",1,"Parkour","Library Bound Book",null,"978-1-4824-2994-7",{"$f":"HYPERLINK(Table1[[#This Row],[eCommerce Hyperlink]],\"Book Weblink\")","v":"Book Weblink"},null,"2016","August 2015","Library","6.500 X 9.125","Author","Demi Jackson","4.7","0.5","16",null,"I","910L","Grade 1","Grade 3 - 6","As a sport, parkour has only been around since the 1980s. However, it promotes a frame of mind often encouraged by snowboarders, skateboarders, and other extreme sports enthusiasts: see your environment differently and use it. Parkour athletes use their sport to get around doing anything but walking! Reader learns how parkour developed and also how it’s practiced around the world. Full-color photographs showcase different moves, styles, and events. Readers are sure to be inspired by the free-spirited daredevils of parkour, highlighted by a playful layout and exciting fact boxes.","English",27.6,20.7,"796.04","32 pp.","https://www.garethstevens.com/9781482429947",null,{"$f":"Table1[[#This Row],[QTY]]*Table1[[#This Row],['# Books]]","v":0},{"$f":"Table1[[#This Row],[QTY]]*Table1[[#This Row],[S&L Price]]","v":0}]
[null,null,null,"Daredevil Sports",1,"Roller Derby","Library Bound Book",null,"978-1-4824-2999-2",{"$f":"HYPERLINK(Table1[[#This Row],[eCommerce Hyperlink]],\"Book Weblink\")","v":"Book Weblink"},null,"2016","August 2015","Library","6.500 X 9.125","Author","Demi Jackson","4.8","0.5","16",null,"I","630L","Grade 1","Grade 3 - 6","Roller derby is an extreme sport making a comeback! With a history that dates back to the 1930s, in the last decade, roller derby teams have grown in number and popularity. Readers take a turn around the track and discover that, from hard hits to fast breaks, the action in roller derby is nonstop.  Full-color photographs highlight the mostly female teams who dominate the sport and the theatrical quality of each jam, or matchup. Safety tips offer help to new skaters, as this sport can get aggressive fast.","English",27.6,20.7,"796.21","32 pp.","https://www.garethstevens.com/9781482429992",null,{"$f":"Table1[[#This Row],[QTY]]*Table1[[#This Row],['# Books]]","v":0},{"$f":"Table1[[#This Row],[QTY]]*Table1[[#This Row],[S&L Price]]","v":0}]
[null,null,null,"Monsters!",1,"Bigfoot","Library Bound Book",null,"978-1-4824-4857-3",{"$f":"HYPERLINK(Table1[[#This Row],[eCommerce Hyperlink]],\"Book Weblink\")","v":"Book Weblink"},null,"2017","August 2016","Library","6.500 X 9.125","Author","Frances Nagle",null,null,null,null,"I",null,"Grade 1 - 2","Grade 3 - 6","It seems incredible that a huge, hairy human-ape could live in the forests of the Pacific Northwest without anyone knowing it’s there for sure. However, there’s still no real evidence for the existence of Bigfoot! Readers learn about the most famous Bigfoot sighting from 1967, which still hasn’t been proved to be a hoax. Full-color images illustrate how many envision Bigfoot today, as well as similar cryptids found around the world, such as the Yeti. Accessible language paired with fascinating content about a modern monster draws in even unenthusiastic readers.","English",27.6,20.7,"001.944--dc23","32 pp.","https://www.garethstevens.com/9781482448573",null,{"$f":"Table1[[#This Row],[QTY]]*Table1[[#This Row],['# Books]]","v":0},{"$f":"Table1[[#This Row],[QTY]]*Table1[[#This Row],[S&L Price]]","v":0}]
[null,null,null,"Monsters!",1,"Medusa","eBook",null,"978-1-4824-4870-2",{"$f":"HYPERLINK(Table1[[#This Row],[eCommerce Hyperlink]],\"Book Weblink\")","v":"Book Weblink"},null,"2017","August 2016",null,null,"Author","Frances Nagle",null,null,null,null,"I",null,"Grade 1 - 2","Grade 3 - 6","The story of Perseus beheading Medusa has been told for more than 2,000 years. Even today, images of Medusa can be found in popular culture. Through accessible language and content, readers learn the story of Medusa and the Gorgons in monstrous detail, including how Medusa may have gotten her hair turned to snakes! Full-color photographs show modern and historic depictions of this famous myth while fun fact boxes give readers context for one of the greatest monster stories in Greek mythology.","English",27.6,20.7,"398.2’0938’01--dc23","32 pp.","https://www.garethstevens.com/9781482448702",null,{"$f":"Table1[[#This Row],[QTY]]*Table1[[#This Row],['# Books]]","v":0},{"$f":"Table1[[#This Row],[QTY]]*Table1[[#This Row],[S&L Price]]","v":0}]
[null,null,null,"Monsters!",1,"Zombies","Library Bound Book",null,"978-1-4824-4882-5",{"$f":"HYPERLINK(Table1[[#This Row],[eCommerce Hyperlink]],\"Book Weblink\")","v":"Book Weblink"},null,"2017","August 2016","Library","6.500 X 9.125","Author","Frances Nagle",null,null,null,null,"I",null,"Grade 1 - 2","Grade 3 - 6","There’s little more terrifying than being chased by a moaning creature that wants to eat your flesh! Though zombies are currently popular on TV and in movies, stories of the undead have been around for centuries. The main content introduces readers to zombie tales from many cultures around the world in grisly detail via accessible language for reluctant readers. Full-color illustrations and photographs help readers imagine these monstrous myths while fun fact boxes debunk common beliefs and offer additional context for each terrifying tale.","English",27.6,20.7,"398’.45--dc23","32 pp.","https://www.garethstevens.com/9781482448825",null,{"$f":"Table1[[#This Row],[QTY]]*Table1[[#This Row],['# Books]]","v":0},{"$f":"Table1[[#This Row],[QTY]]*Table1[[#This Row],[S&L Price]]","v":0}]
[null,null,null,"Monsters!",1,"Dragons","eBook",null,"978-1-4824-4089-8",{"$f":"HYPERLINK(Table1[[#This Row],[eCommerce Hyperlink]],\"Book Weblink\")","v":"Book Weblink"},null,"2016","January 2016",null,null,"Author","Peter Castellano",null,null,null,null,"I","950L","Grade 1 - 2","Grade 3 - 6","Many cultures have myths about dragons. From the Greek Chimera to the fire-breathing creature of medieval Europe, dragons have taken many forms throughout history. Readers learn all about these myths and legends and explore the significance to the cultures they come from. Fascinating fact boxes explore how the dragon myth came about, including the animals that likely influences their famous features. Full-color photographs and illustrations enhance the main text, introducing the colorful Chinese dragons and the fearsome creatures in fantasy literature.","English",27.6,20.7,"398'.469--dc23","32 pp.","https://www.garethstevens.com/9781482440898",null,{"$f":"Table1[[#This Row],[QTY]]*Table1[[#This Row],['# Books]]","v":0},{"$f":"Table1[[#This Row],[QTY]]*Table1[[#This Row],[S&L Price]]","v":0}]
[null,null,null,"Monsters!",1,"Werewolves","Library Bound Book",null,"978-1-4824-4100-0",{"$f":"HYPERLINK(Table1[[#This Row],[eCommerce Hyperlink]],\"Book Weblink\")","v":"Book Weblink"},null,"2016","January 2016","Library","6.500 X 9.125","Author","Peter Castellano",null,null,null,null,"I",null,"Grade 1 - 2","Grade 3 - 6","Some say the legend of the werewolf may have come from a rare condition of abundant hair growth called hypertrichosis. However the stories began, they’ve persisted to present-day pop culture, continuously drawing in new audiences. Written in simple, clear language, all readers can explore the history of the werewolf myth. The main content includes all aspects of this high-interest topic, including how werewolves change from man to beast, why they change, and how one becomes a werewolf. Full-color images and fact boxes add elements of both fantasy and reality to help readers navigate the line between truth and legend.","English",27.6,20.7,"398.24'54--dc23","32 pp.","https://www.garethstevens.com/9781482441000",null,{"$f":"Table1[[#This Row],[QTY]]*Table1[[#This Row],['# Books]]","v":0},{"$f":"Table1[[#This Row],[QTY]]*Table1[[#This Row],[S&L Price]]","v":0}]
[null,null,null,"U.S. Armed Forces",1,"Join the Air Force","eBook",null,"978-1-5382-0533-4",{"$f":"HYPERLINK(Table1[[#This Row],[eCommerce Hyperlink]],\"Book Weblink\")","v":"Book Weblink"},null,"2018","August 2017",null,null,"Author","P. P. Mitchell","4.3","0.5",null,null,"I",null,"Grade 1 - 2","Grade 3 - 6","Most readers will at least have a cursory awareness of the air force, the awesome, flying arm of the US military fleet. This book is the next step for readers to learn and understand how to become part of this fighting force. Readers will enter the exciting world of the air force through accessible language and focused information that appeals to even reluctant readers. Full-color photographs—and a bonus diagram of the uniforms—bring the content to life, while fact boxes throughout provide a historical frame of reference.","English",27.6,20.7,"358.40023/73--dc23","32 pp.","https://www.garethstevens.com/9781538205334",null,{"$f":"Table1[[#This Row],[QTY]]*Table1[[#This Row],['# Books]]","v":0},{"$f":"Table1[[#This Row],[QTY]]*Table1[[#This Row],[S&L Price]]","v":0}]
[null,null,null,"U.S. Armed Forces",1,"Join the Coast Guard","Library Bound Book",null,"978-1-5382-0542-6",{"$f":"HYPERLINK(Table1[[#This Row],[eCommerce Hyperlink]],\"Book Weblink\")","v":"Book Weblink"},null,"2018","August 2017","Library","6.500 X 9.125","Author","P. P. Mitchell","5","0.5",null,null,"I",null,"Grade 1 - 2","Grade 3 - 6","The coast guard is a unique branch of the US military, operating under the Department of Homeland Security during peacetime, but able to be transferred to the navy by the president or Congress. They are organized in a way that allows for quick response to crises such as Hurricane Katrina and Tropical Storm Rita. Learning about this special part of the US military will appeal to readers of all abilities! Artwork including full-color photographs and diagrams bring this book to life, and a historical frame of reference is provided on each spread through fascinating fact boxes.","English",27.6,20.7,"363.28/602373--dc23","32 pp.","https://www.garethstevens.com/9781538205426",null,{"$f":"Table1[[#This Row],[QTY]]*Table1[[#This Row],['# Books]]","v":0},{"$f":"Table1[[#This Row],[QTY]]*Table1[[#This Row],[S&L Price]]","v":0}]
[null,null,null,"U.S. Armed Forces",1,"Join the Navy","eBook",null,"978-1-5382-0551-8",{"$f":"HYPERLINK(Table1[[#This Row],[eCommerce Hyperlink]],\"Book Weblink\")","v":"Book Weblink"},null,"2018","August 2017",null,null,"Author","P. P. Mitchell","4.7","0.5",null,null,"I",null,"Grade 1 - 2","Grade 3 - 6","How is the navy different than the coast guard or marines? Don’t they all work on boats? This book combines a high-interest topic with an accessible reading level that will grab the attention of even struggling readers. Helpful and captivating full-color photographs and diagrams illuminate the main content, while fact boxes help readers develop a deeper understanding of the navy by providing a historical frame of reference. Readers will explore the Navy’s missions, uniforms, special ops, ranks, equipment, and so much more!","English",27.6,20.7,"359.0023/73--dc23","32 pp.","https://www.garethstevens.com/9781538205518",null,{"$f":"Table1[[#This Row],[QTY]]*Table1[[#This Row],['# Books]]","v":0},{"$f":"Table1[[#This Row],[QTY]]*Table1[[#This Row],[S&L Price]]","v":0}]
[null,null,null,"Would You Dare?",1,"Would You Dare Fly a Fighter Jet?","eBook",null,"978-1-4824-5813-8",{"$f":"HYPERLINK(Table1[[#This Row],[eCommerce Hyperlink]],\"Book Weblink\")","v":"Book Weblink"},null,"2017","January 2017",null,null,"Author","Robert Kennedy","4.6","0.5",null,null,"K",null,"Grade 1 - 2","Grade 3 - 6","From the ground, piloting a fighter jet seems thrilling, but it also requires a lot of training and body conditioning. Readers' awe for aeronautical acrobatics will only increase as they learn about the forces at work to keep a fighter jet aloft. They’ll also learn about g-forces, ejection seats, and incredible speeds that future fighter jets may achieve. Exhilarating images, stimulating STEM concepts, and fascinating fact boxes make this high-interest volume a fun and motivating experience.","English",27.6,20.7,"623.74'64--dc23","32 pp.","https://www.garethstevens.com/9781482458138",null,{"$f":"Table1[[#This Row],[QTY]]*Table1[[#This Row],['# Books]]","v":0},{"$f":"Table1[[#This Row],[QTY]]*Table1[[#This Row],[S&L Price]]","v":0}]
[null,null,null,"Would You Dare?",1,"Would You Dare Sail Around the World?","Library Bound Book",null,"978-1-4824-5828-2",{"$f":"HYPERLINK(Table1[[#This Row],[eCommerce Hyperlink]],\"Book Weblink\")","v":"Book Weblink"},null,"2017","January 2017","Library","6.500 X 9.125","Author","Siobhan Sisk","4.3","0.5",null,null,"K",null,"Grade 1 - 2","Grade 3 - 6","Every once in a while someone who is attempting to sail around the world is in the news—often because they need to be rescued! Navigating around the globe is not an easy task, as this adventurous volume explains. The essential equipment to conquer the seas, nautical vocabulary, and exhilarating true stories are all included in this comprehensible and exciting text, accompanied by illuminating and impressive images.","English",27.6,20.7,"797.1’24--dc23","32 pp.","https://www.garethstevens.com/9781482458282",null,{"$f":"Table1[[#This Row],[QTY]]*Table1[[#This Row],['# Books]]","v":0},{"$f":"Table1[[#This Row],[QTY]]*Table1[[#This Row],[S&L Price]]","v":0}]
[null,null,null,"Would You Dare?",1,"Would You Dare Walk Across Niagara Falls?","eBook",null,"978-1-4824-5833-6",{"$f":"HYPERLINK(Table1[[#This Row],[eCommerce Hyperlink]],\"Book Weblink\")","v":"Book Weblink"},null,"2017","January 2017",null,null,"Author","Siobhan Sisk","4.2","0.5",null,null,"J",null,"Grade 1 - 2","Grade 3 - 6","In 2012, Nik Wallenda became the first person to tightrope-walk over Niagara Falls. He braved high winds and spray from the mighty flowing waters while doing so. Many marveled at the feat and wondered how it was possible. Wallenda’s story as well as tales of others who attempted the jaw-dropping deed are included in this high-interest text. Spine-tingling photographs and fun fact boxes are sure to amaze and delight readers.","English",27.6,20.7,"971.3’39--dc23","32 pp.","https://www.garethstevens.com/9781482458336",null,{"$f":"Table1[[#This Row],[QTY]]*Table1[[#This Row],['# Books]]","v":0},{"$f":"Table1[[#This Row],[QTY]]*Table1[[#This Row],[S&L Price]]","v":0}]
[null,null,null,"Fun Fact File: Animal Adaptations",1,"20 Fun Facts About Insect Adaptations","eBook",null,"978-1-4824-4411-7",{"$f":"HYPERLINK(Table1[[#This Row],[eCommerce Hyperlink]],\"Book Weblink\")","v":"Book Weblink"},null,"2017","August 2016",null,null,"Author","Kristen Rajczak Nelson","5.1","0.5",null,null,"N","910L","Grade 2 - 3","Grade 2 - 5","Insects are often the same color as their surroundings. Their mouthparts developed for exactly the food they like to eat. Grasshoppers have long, strong back legs for hopping over grass, whereas the cockroach’s long, thin legs let them run very quickly. None of this is an accident! Insects have many incredible adaptations that have made them the perfect residents of their environment. Short, easily digestible information draws readers into the insect world and introduces important science concepts. Full-color photographs allow readers to see adaptations and more up close.","English",26.25,19.7,"595.702--dc23","32 pp.","https://www.garethstevens.com/9781482444117",null,{"$f":"Table1[[#This Row],[QTY]]*Table1[[#This Row],['# Books]]","v":0},{"$f":"Table1[[#This Row],[QTY]]*Table1[[#This Row],[S&L Price]]","v":0}]
[null,null,null,"Fun Fact File: Animal Adaptations",1,"20 Fun Facts About Mammal Adaptations","Library Bound Book",null,"978-1-4824-4432-2",{"$f":"HYPERLINK(Table1[[#This Row],[eCommerce Hyperlink]],\"Book Weblink\")","v":"Book Weblink"},null,"2017","August 2016","Library","8.500 X 8.500","Author","Kristen Rajczak Nelson","5.2","0.5",null,null,"N","920L","Grade 2 - 3","Grade 2 - 5","One major adaptation of mammals is part of what differentiates them from other animals: the growth and nourishment of babies inside the mother’s body! Water-repelling fur, tough hides, camouflage, as well as the size and shape of various body parts are just a few other adaptations mammals have developed in order to better survive their environment. Readers learn many examples of how mammals have evolved to hide from predators and hunt for prey. Graphic organizers present even more information to aid readers’ understanding while full-color photographs bring them close to animals they might otherwise only see in a zoo!","English",26.25,19.7,"591.5--dc23","32 pp.","https://www.garethstevens.com/9781482444322",null,{"$f":"Table1[[#This Row],[QTY]]*Table1[[#This Row],['# Books]]","v":0},{"$f":"Table1[[#This Row],[QTY]]*Table1[[#This Row],[S&L Price]]","v":0}]
[null,null,null,"Fun Fact File: Earth Science",1,"20 Fun Facts About Astronomy","eBook",null,"978-1-5382-1176-2",{"$f":"HYPERLINK(Table1[[#This Row],[eCommerce Hyperlink]],\"Book Weblink\")","v":"Book Weblink"},null,"2018","January 2018",null,null,"Author","Jill Keppeler",null,null,null,null,"N","840L","Grade 2 - 3","Grade 2 - 5","From black holes to dark matter, galaxies to supernovas, nothing could be more fascinating than outer space, especially to young readers. Every day, scientists are discovering new, mind-blowing facts about the universe's infinite mysteries. This engaging volume is filled with amazing astronomical science concepts presented at an age-appropriate level via an entertaining fun-fact layout . Brilliant, full-color photography and clear graphic organizers accompany accessible text for a reading experience that's out of this world.","English",26.25,19.7,"520--dc23","32 pp.","https://www.garethstevens.com/9781538211762",null,{"$f":"Table1[[#This Row],[QTY]]*Table1[[#This Row],['# Books]]","v":0},{"$f":"Table1[[#This Row],[QTY]]*Table1[[#This Row],[S&L Price]]","v":0}]
[null,null,null,"Fun Fact File: Earth Science",1,"20 Fun Facts About Earth's Resources","Library Bound Book",null,"978-1-5382-1179-3",{"$f":"HYPERLINK(Table1[[#This Row],[eCommerce Hyperlink]],\"Book Weblink\")","v":"Book Weblink"},null,"2018","January 2018","Library","8.500 X 8.500","Author","Sarah Machajewski",null,null,null,null,"N","790L","Grade 2 - 3","Grade 2 - 5","Geothermal heat, made by the disintegration of the radioactive atoms in Earth's core, is not a subject young readers often get to learn about. Heavy metals and solar energy, two topics that are constantly appearing in technology news today, are typically left for more advanced readers to discover and understand. By using accessible yet exciting language and bold, colorful photography and art, this book lets young readers explore a plethora of fascinating yet digestible facts about what our planet naturally provides and how we harness it.","English",26.25,19.7,"333.7--dc23","32 pp.","https://www.garethstevens.com/9781538211793",null,{"$f":"Table1[[#This Row],[QTY]]*Table1[[#This Row],['# Books]]","v":0},{"$f":"Table1[[#This Row],[QTY]]*Table1[[#This Row],[S&L Price]]","v":0}]
[null,null,null,"Fun Fact File: Earth Science",1,"20 Fun Facts About Rocks and Gems","Library Bound Book",null,"978-1-5382-1191-5",{"$f":"HYPERLINK(Table1[[#This Row],[eCommerce Hyperlink]],\"Book Weblink\")","v":"Book Weblink"},null,"2018","January 2018","Library","8.500 X 8.500","Author","Theresa Morlock",null,null,null,null,"N","840L","Grade 2 - 3","Grade 2 - 5","The glittering shapes of gems and crystals, the strange glowing of phosphorescent rocks, these objects mesmerize young audiences. This volume of fascinating and accessible factoids introduces young readers to strange rocks and gems like tourmaline, which comes in every color and has been mistaken for other gems for centuries. It also explains the essential science concept of rock and gem formation in easy, age-appropriate language. Fantastic photographs compliment each fun fact, and a detailed graphic organizer provides a convenient summary of some of the coolest gems and rocks Earth has to offer.","English",26.25,19.7,"552.002--dc23","32 pp.","https://www.garethstevens.com/9781538211915",null,{"$f":"Table1[[#This Row],[QTY]]*Table1[[#This Row],['# Books]]","v":0},{"$f":"Table1[[#This Row],[QTY]]*Table1[[#This Row],[S&L Price]]","v":0}]
[null,null,null,"Fun Fact File: Founding Fathers",1,"20 Fun Facts About Aaron Burr","Library Bound Book",null,"978-1-5382-0281-4",{"$f":"HYPERLINK(Table1[[#This Row],[eCommerce Hyperlink]],\"Book Weblink\")","v":"Book Weblink"},null,"2018","August 2017","Library","8.500 X 8.500","Author","M. H. Seeley","5.6","0.5",null,null,"N","950L","Grade 2 - 3","Grade 2 - 5","Aaron Burr is likely best known as the person who killed Alexander Hamilton in a duel, but there’s so much more to this Founding Father’s life. For starters, most people don’t know that he almost became president! He was also charged with treason. This book full of fun facts takes history buffs deep into the life of one of the most interesting Founding Fathers, presenting a unique biography that provides color to a life led at the birth of America. The book also focuses on Burr’s political career and explains why he killed Hamilton in a duel in New Jersey, forever changing American history.","English",26.25,19.7,"973.4/6092--dc23","32 pp.","https://www.garethstevens.com/9781538202814",null,{"$f":"Table1[[#This Row],[QTY]]*Table1[[#This Row],['# Books]]","v":0},{"$f":"Table1[[#This Row],[QTY]]*Table1[[#This Row],[S&L Price]]","v":0}]
[null,null,null,"Fun Fact File: Founding Fathers",1,"20 Fun Facts About George Washington","eBook",null,"978-1-5382-0278-4",{"$f":"HYPERLINK(Table1[[#This Row],[eCommerce Hyperlink]],\"Book Weblink\")","v":"Book Weblink"},null,"2018","August 2017",null,null,"Author","Katie Kawa","5.3","0.5",null,null,"N","870L","Grade 2 - 3","Grade 2 - 5","George Washington is unmistakably America’s most famous Founding Father. He led the Continental Army during the American Revolution and later served as America’s first president. But Washington’s life is full of fun facts that many still don’t know. From his relationships with other Founding Fathers to his early history as a general, there’s much to discuss about one of America’s most famous citizens. This book separates the myths from fact, delving into his famous cherry tree story and other commonly held beliefs about this American icon that many mistake as fact.","English",26.25,19.7,"973.4/1092--dc23","32 pp.","https://www.garethstevens.com/9781538202784",null,{"$f":"Table1[[#This Row],[QTY]]*Table1[[#This Row],['# Books]]","v":0},{"$f":"Table1[[#This Row],[QTY]]*Table1[[#This Row],[S&L Price]]","v":0}]
[null,null,null,"Fun Fact File: Founding Fathers",1,"20 Fun Facts About Thomas Jefferson","Library Bound Book",null,"978-1-5382-0286-9",{"$f":"HYPERLINK(Table1[[#This Row],[eCommerce Hyperlink]],\"Book Weblink\")","v":"Book Weblink"},null,"2018","August 2017","Library","8.500 X 8.500","Author","Jill Keppeler","5","0.5",null,null,"N","820L","Grade 2 - 3","Grade 2 - 5","Thomas Jefferson is known as the writer of the Declaration of Independence and a champion of democracy, but there was much more to his life than just his writing. From his early life in Virginia to his later presidency and the Louisiana Purchase, the story of Jefferson’s life is full of fun facts readers will love learning. Whether exploring the details of his time in France or in George Washington’s cabinet as the Founding Fathers created the framework for America, readers will get an in-depth look at Jefferson’s role in the creation of their country in this exciting book.","English",26.25,19.7,"973.4/6092--dc23","32 pp.","https://www.garethstevens.com/9781538202869",null,{"$f":"Table1[[#This Row],[QTY]]*Table1[[#This Row],['# Books]]","v":0},{"$f":"Table1[[#This Row],[QTY]]*Table1[[#This Row],[S&L Price]]","v":0}]
[null,null,null,"Fun Fact File: U.S. History!",1,"20 Fun Facts About the Declaration of Independence","Interactive eBook","HTML5","978-1-4339-9187-5",{"$f":"HYPERLINK(Table1[[#This Row],[eCommerce Hyperlink]],\"Book Weblink\")","v":"Book Weblink"},null,"2014","August 2013",null,null,"Author","Heather Moore Niver","5.9","0.5","30",null,"N","870L","Grade 2 - 3","Grade 2 - 5","The Declaration of Independence is one of the most famous letters in human history. Thomas Jefferson and the other Founding Fathers created this important document to announce their freedom from England. It was one of the driving forces that sparked the Revolutionary War and lead to the formation of the United States. But there’s so much more to learn about this historic document that isn't in typical history books. The age-appropriate text in this book is paired with little-known fun facts, fascinating photographs and illustrations, and helpful graphic organizers to show just how interesting this pivotal document really is.","English",33.25,24.95,"973.3","32 pp.","https://www.garethstevens.com/9781433991875",null,{"$f":"Table1[[#This Row],[QTY]]*Table1[[#This Row],['# Books]]","v":0},{"$f":"Table1[[#This Row],[QTY]]*Table1[[#This Row],[S&L Price]]","v":0}]
[null,null,null,"Fun Fact File: U.S. History!",1,"20 Fun Facts About the U.S. Constitution","eBook",null,"978-1-4339-9201-8",{"$f":"HYPERLINK(Table1[[#This Row],[eCommerce Hyperlink]],\"Book Weblink\")","v":"Book Weblink"},null,"2014","August 2013",null,null,"Author","Therese M. Shea","6.2","0.5","30",null,"N","880L","Grade 2 - 3","Grade 2 - 5","The U.S. Constitution is the oldest, shortest, one-document constitution in the world, but this ground-breaking document is much more than that. It proved to be the driving force behind the fight for independence all over the world. Readers are sure to be surprised and entertained by the numerous fun facts featured in this book. The text is accompanied by helpful graphic organizers, historic images, maps, and photographs of the Constitution itself.","English",27.25,20.440000000000001,"342.73","32 pp.","https://www.garethstevens.com/9781433992018",null,{"$f":"Table1[[#This Row],[QTY]]*Table1[[#This Row],['# Books]]","v":0},{"$f":"Table1[[#This Row],[QTY]]*Table1[[#This Row],[S&L Price]]","v":0}]
[null,null,null,"Fun Fact File: U.S. History!",1,"20 Fun Facts About the White House","Library Bound Book",null,"978-1-4339-9203-2",{"$f":"HYPERLINK(Table1[[#This Row],[eCommerce Hyperlink]],\"Book Weblink\")","v":"Book Weblink"},null,"2014","August 2013","Library","8.500 X 8.500","Author","Ryan Nagelhout","4.9","0.5","28",null,"M","870L","Grade 2 - 3","Grade 2 - 5","Many US citizens know that the White House has been home to US presidents for over 200 years. But few people know that the \"President’s Mansion\" has experienced two large fires, or that everything but the outer walls was removed and rebuilt in the 1950s. Readers are sure to enjoy exploring the White House like never before. At-level text is paired with helpful graphic organizers and amazing photographs of the White House throughout its history.","English",27.25,20.440000000000001,"975.3","32 pp.","https://www.garethstevens.com/9781433992032",null,{"$f":"Table1[[#This Row],[QTY]]*Table1[[#This Row],['# Books]]","v":0},{"$f":"Table1[[#This Row],[QTY]]*Table1[[#This Row],[S&L Price]]","v":0}]
[null,null,null,"Fun Fact File: U.S. History!",1,"20 Fun Facts About U.S. Monuments","Interactive eBook","HTML5","978-1-4339-9212-4",{"$f":"HYPERLINK(Table1[[#This Row],[eCommerce Hyperlink]],\"Book Weblink\")","v":"Book Weblink"},null,"2014","August 2013",null,null,"Author","Heather Moore Niver","6.3","0.5","30",null,"N","1020L","Grade 2 - 3","Grade 2 - 5","Countless statutes, sculptures, and structures have been built to celebrate important moments and people in US history. However, some US monuments are structures build before the United States was even a country, and others are landforms produced by natural forces thousands of years ago. The dazzling photographs in this volume are sure to teach and tantalize readers. Age-appropriate text is paired with graphic organizers to help readers get the most from this entertaining guide to US monuments.","English",33.25,24.95,"973","32 pp.","https://www.garethstevens.com/9781433992124",null,{"$f":"Table1[[#This Row],[QTY]]*Table1[[#This Row],['# Books]]","v":0},{"$f":"Table1[[#This Row],[QTY]]*Table1[[#This Row],[S&L Price]]","v":0}]
[null,null,null,"Fun Fact File: U.S. History!",1,"20 Fun Facts About the Gold Rush","eBook",null,"978-1-5382-1910-2",{"$f":"HYPERLINK(Table1[[#This Row],[eCommerce Hyperlink]],\"Book Weblink\")","v":"Book Weblink"},null,"2019","August 2018",null,null,"Author","Joan Stoltman",null,null,"30",null,"N","960L","Grade 2 - 3","Grade 2 - 5","Did you know that part of San Francisco was built on top of ships from all over the world that were abandoned during the Gold Rush? Even the most reluctant readers will love discovering history through these strange, awesome, and unbelievable tidbits about the hundreds of thousands of people who left their lives behind and trekked out to California to strike it rich. Incredible early photographs and vivid illustrations bring each factoid into sharp focus, while captions add extra information to each page.","English",26.25,19.7,"978.4/04--dc23","32 pp.","https://www.garethstevens.com/9781538219102",null,{"$f":"Table1[[#This Row],[QTY]]*Table1[[#This Row],['# Books]]","v":0},{"$f":"Table1[[#This Row],[QTY]]*Table1[[#This Row],[S&L Price]]","v":0}]
[null,null,null,"Fun Fact File: U.S. History!",1,"20 Fun Facts About the Supreme Court","Library Bound Book",null,"978-1-5382-1917-1",{"$f":"HYPERLINK(Table1[[#This Row],[eCommerce Hyperlink]],\"Book Weblink\")","v":"Book Weblink"},null,"2019","August 2018","Library","8.500 X 8.500","Author","Joan Stoltman",null,null,"30",null,"N","1020L","Grade 2 - 3","Grade 2 - 5","Did you know that the Supreme Court only hears about 80 cases out of the thousands that petition every year to be heard? Many of the cases, decisions, and even judges throughout the history of this high court have been fascinating, and some even controversial. This book infuses fun and interest into this common social studies topic through cool factoids and vivid photography on every page. Carefully researched by a trained historian for maximum accuracy, even the most reluctant reader will find this supplement to the curriculum entertaining and engaging.","English",26.25,19.7,"347.73/26--dc23","32 pp.","https://www.garethstevens.com/9781538219171",null,{"$f":"Table1[[#This Row],[QTY]]*Table1[[#This Row],['# Books]]","v":0},{"$f":"Table1[[#This Row],[QTY]]*Table1[[#This Row],[S&L Price]]","v":0}]
[null,null,null,"100 Facts You Should Know",1,"Archaeology","eBook",null,"978-1-4824-5126-9",{"$f":"HYPERLINK(Table1[[#This Row],[eCommerce Hyperlink]],\"Book Weblink\")","v":"Book Weblink"},null,"2017","August 2016",null,null,"Author","John Farndon","6.2","1",null,null,"S","950L","Grade 4 - 5","Grade 4 - 6","Without archaeology, ancient cultures would remain a mystery to us. Ancient weapons, treasures, and even human remains await young archaeologists who crack the pages of this truly captivating book. One hundred facts offer an understanding of the study of archaeology as well as some of the amazing discoveries that archaeologists have unearthed. Activities and quizzes keep the reader engaged, while historical photographs and detailed illustrations enhance each fascinating fact. This volume is a perfect introduction to archaeology and a valuable support to the social studies curriculum.","English",32.950000000000003,24.7,"930.1--dc23","48 pp.","https://www.garethstevens.com/9781482451269",null,{"$f":"Table1[[#This Row],[QTY]]*Table1[[#This Row],['# Books]]","v":0},{"$f":"Table1[[#This Row],[QTY]]*Table1[[#This Row],[S&L Price]]","v":0}]
[null,null,null,"100 Facts You Should Know",1,"Astronomy","Library Bound Book",null,"978-1-4824-5133-7",{"$f":"HYPERLINK(Table1[[#This Row],[eCommerce Hyperlink]],\"Book Weblink\")","v":"Book Weblink"},null,"2017","August 2016","Library","8.500 X 11.00","Author","Sue Becklake","6.2","1",null,null,"T",null,"Grade 4 - 5","Grade 4 - 6","Astronomy is both a study and a skill, and both aspects of astronomy are thoughtfully presented in this beautiful volume that encourages readers to look to the sky. Even though our universe is vast, readers can travel to points around the solar system and galaxy through the stunning photographs and illustrations on each page. They’ll understand key points about space science through 100 interesting and accessible facts and hone their understanding through fun quizzes and activities, including making a sundial and demonstrating an eclipse for themselves and their friends!","English",32.950000000000003,24.7,"520--dc23","48 pp.","https://www.garethstevens.com/9781482451337",null,{"$f":"Table1[[#This Row],[QTY]]*Table1[[#This Row],['# Books]]","v":0},{"$f":"Table1[[#This Row],[QTY]]*Table1[[#This Row],[S&L Price]]","v":0}]
[null,null,null,"100 Facts You Should Know",1,"Myths and Legends","eBook",null,"978-1-4824-5129-0",{"$f":"HYPERLINK(Table1[[#This Row],[eCommerce Hyperlink]],\"Book Weblink\")","v":"Book Weblink"},null,"2017","August 2016",null,null,"Author","Fiona Macdonald","6.4","1",null,null,"S",null,"Grade 4 - 5","Grade 4 - 6","Myths and legends reveal much about a culture, including its most prized values and significant beliefs. Fables may feature animal characters, but they offer morals for real life. This fascinating book is bursting with 100 facts about the stories that have been handed down by different cultures around the world as well as accompanying images, quizzes, and activities, including crafts. Not only is each bite-sized topic interesting in itself, but readers will find connections to modern life, such as the origin of Valentine’s Day. These myths and legends offer unique opportunities for a truly entertaining and educational reading experience.","English",32.950000000000003,24.7,"398.2--dc23","48 pp.","https://www.garethstevens.com/9781482451290",null,{"$f":"Table1[[#This Row],[QTY]]*Table1[[#This Row],['# Books]]","v":0},{"$f":"Table1[[#This Row],[QTY]]*Table1[[#This Row],[S&L Price]]","v":0}]
[null,null,null,"100 Facts You Should Know",1,"Dinosaurs","Library Bound Book",null,"978-1-4824-3196-4",{"$f":"HYPERLINK(Table1[[#This Row],[eCommerce Hyperlink]],\"Book Weblink\")","v":"Book Weblink"},null,"2016","August 2015","Library","8.500 X 11.00","Author","Steve Parker",null,null,"40",null,"S",null,"Grade 4 - 5","Grade 4 - 6","The \"Age of Dinosaurs\" lasted from about 230 million to 65 million years ago. And yet, these formidable reptiles continue to captivate us even today. One hundred high-interest facts about the extinct creatures called dinosaurs cover many topics, such as evolution, adaptations, and fossils, and many species, including Spinosaurus, Tyrannosaurus rex, and Stegosaurus. Fun quizzes, clever crafts and activities, beneficial diagrams, and vivid photographs and illustrations keep readers actively engaged as they turn the colorful pages. This attention-grabbing volume is a must-read in any science collection.","English",32.950000000000003,24.7,"567.9","48 pp.","https://www.garethstevens.com/9781482431964",null,{"$f":"Table1[[#This Row],[QTY]]*Table1[[#This Row],['# Books]]","v":0},{"$f":"Table1[[#This Row],[QTY]]*Table1[[#This Row],[S&L Price]]","v":0}]
[null,null,null,"100 Facts You Should Know",1,"Horses and Ponies","eBook",null,"978-1-4824-3201-5",{"$f":"HYPERLINK(Table1[[#This Row],[eCommerce Hyperlink]],\"Book Weblink\")","v":"Book Weblink"},null,"2016","August 2015",null,null,"Author","Camilla De La Bédoyère",null,null,"44",null,"T","1020L","Grade 4 - 5","Grade 4 - 6","The graceful beauty and energy of horses have long attracted people. In fact, horses have been domesticated for thousands of years. Horse lovers will find everything they want to know in this high-interest book, including the differences between horses and ponies, what horse hooves are made of, and the different gaits of a moving horse. Numerous equine vocabulary words are defined, such as colt, filly, foal, and mare. Readers will also learn about the evolution of horses and ponies, competitions, and grooming and care. A bright design and varied text elements, such as diagrams, activities, and quizzes, augment this informative volume.","English",32.950000000000003,24.7,"636.1","48 pp.","https://www.garethstevens.com/9781482432015",null,{"$f":"Table1[[#This Row],[QTY]]*Table1[[#This Row],['# Books]]","v":0},{"$f":"Table1[[#This Row],[QTY]]*Table1[[#This Row],[S&L Price]]","v":0}]
[null,null,null,"100 Facts You Should Know",1,"Whales and Dolphins","Library Bound Book",null,"978-1-4824-3212-1",{"$f":"HYPERLINK(Table1[[#This Row],[eCommerce Hyperlink]],\"Book Weblink\")","v":"Book Weblink"},null,"2016","August 2015","Library","8.500 X 11.00","Author","Steve Parker",null,null,"44",null,"T",null,"Grade 4 - 5","Grade 4 - 6","Whales and dolphins are part of a group of marine mammals called cetaceans. Many species within this group are truly amazing, thanks to their sheer size, surprising intelligence, or bizarre adaptations. Readers of this in-depth volume will learn about these topics and more, including why narwhals fence with their tusks and the role of echolocation in cetacean sea life. Other notable issues including conservation are also included among the 100 essential facts in this enjoyable book, filled with fun photographs, illustrations, diagrams, activities, and quizzes.","English",32.950000000000003,24.7,"599.5","48 pp.","https://www.garethstevens.com/9781482432121",null,{"$f":"Table1[[#This Row],[QTY]]*Table1[[#This Row],['# Books]]","v":0},{"$f":"Table1[[#This Row],[QTY]]*Table1[[#This Row],[S&L Price]]","v":0}]
[null,null,null,"100 Facts You Should Know",1,"Knights and Castles","eBook",null,"978-1-4824-2176-7",{"$f":"HYPERLINK(Table1[[#This Row],[eCommerce Hyperlink]],\"Book Weblink\")","v":"Book Weblink"},null,"2015","January 2015",null,null,"Author","Jane Walker",null,null,"40",null,"S","950L","Grade 4 - 5","Grade 4 - 6","For those who've always wanted to live in a castle or become a knight, this engaging text presents 100 fun facts about these high-interest topics. Readers will find out what it was like to live in the Middle Ages, what it took to become a knight, and what happened on the battlefield. They'll love learning about the famous knights of fact and fiction as well as discovering the ins and outs of medieval castles, some of which are still standing today. Fun quizzes and colorful illustrations enhance the well-researched text and will inspire readers to find out more about this beguiling time period.","English",32.950000000000003,24.7,"940.1","48 pp.","https://www.garethstevens.com/9781482421767",null,{"$f":"Table1[[#This Row],[QTY]]*Table1[[#This Row],['# Books]]","v":0},{"$f":"Table1[[#This Row],[QTY]]*Table1[[#This Row],[S&L Price]]","v":0}]
[null,null,null,"100 Facts You Should Know",1,"Pyramids","Library Bound Book",null,"978-1-4824-2185-9",{"$f":"HYPERLINK(Table1[[#This Row],[eCommerce Hyperlink]],\"Book Weblink\")","v":"Book Weblink"},null,"2015","January 2015","Library","8.500 X 11.00","Author","John Malam",null,null,"44",null,"T","950L","Grade 4 - 5","Grade 4 - 6","People travel thousands of miles to see the pyramids in Giza, Egypt. Even with the amazing skyscrapers constructed today, these 4,500-year-old wonders remain some of the most astounding structures on Earth. In this well-researched volume, 100 facts about these intriguing buildings and other pyramids will take readers around the world to Egypt, China, Mexico, and even a glass pyramid in Paris, France. Vibrant photographs, interesting activities, and fun quizzes and diagrams will keep readers engaged as they learn about history, culture, architecture, and more.","English",32.950000000000003,24.7,"932","48 pp.","https://www.garethstevens.com/9781482421859",null,{"$f":"Table1[[#This Row],[QTY]]*Table1[[#This Row],['# Books]]","v":0},{"$f":"Table1[[#This Row],[QTY]]*Table1[[#This Row],[S&L Price]]","v":0}]
[null,null,null,"100 Facts You Should Know",1,"Extreme Earth","Library Bound Book",null,"978-1-4824-1464-6",{"$f":"HYPERLINK(Table1[[#This Row],[eCommerce Hyperlink]],\"Book Weblink\")","v":"Book Weblink"},null,"2015","August 2014","Library","8.500 X 11.00","Author","Anna Claybourne",null,null,"40",null,"S","950L","Grade 4 - 5","Grade 4 - 6","Towering Mount Everest is famous for its height, but the lowest point on Earth, Challenger Deep, is deeper than Everest is high. The Cave of Crystals in Mexico contains formations of gypsum that look like giant swords. Not only does Earth contain some extreme land formations such as these, but it's constantly changing. The world's largest desert, the Sahara, was once a swamp, and volcanoes are still building islands. These facts and many more, as well as quizzes, diagrams, and fun information boxes, create a book that will make readers truly appreciate Earth's awesome natural history.","English",32.950000000000003,24.7,"551.55","48 pp.","https://www.garethstevens.com/9781482414646",null,{"$f":"Table1[[#This Row],[QTY]]*Table1[[#This Row],['# Books]]","v":0},{"$f":"Table1[[#This Row],[QTY]]*Table1[[#This Row],[S&L Price]]","v":0}]
[null,null,null,"100 Facts You Should Know",1,"Science","eBook",null,"978-1-4824-1357-1",{"$f":"HYPERLINK(Table1[[#This Row],[eCommerce Hyperlink]],\"Book Weblink\")","v":"Book Weblink"},null,"2015","August 2014",null,null,"Author","Steve Parker",null,null,"44",null,"T",null,"Grade 4 - 5","Grade 4 - 6","Science buffs will find the topics that pique their curiosity in this book that spans the science spectrum, including simple machines, elements, computers, and sound, electrical, and light energy. Fun, easy projects demonstrate key concepts, while quizzes test reading comprehension. Bright diagrams, photographs, and illustrations offer support for each fact and contribute to the appeal of this wide-ranging reference.","English",32.950000000000003,24.7,"500","48 pp.","https://www.garethstevens.com/9781482413571",null,{"$f":"Table1[[#This Row],[QTY]]*Table1[[#This Row],['# Books]]","v":0},{"$f":"Table1[[#This Row],[QTY]]*Table1[[#This Row],[S&L Price]]","v":0}]
[null,null,null,"100 Facts You Should Know",1,"Volcanoes","Library Bound Book",null,"978-1-4824-1468-4",{"$f":"HYPERLINK(Table1[[#This Row],[eCommerce Hyperlink]],\"Book Weblink\")","v":"Book Weblink"},null,"2015","August 2014","Library","8.500 X 11.00","Author","Chris Oxlade",null,null,"40",null,"S","960L","Grade 4 - 5","Grade 4 - 6","Few natural events are as formidable and fascinating as an erupting volcano. Volcanoes are reminders of the constant processes taking place below the surface of Earth. While readers may have heard of the eruptions of Mount Vesuvius and Mount St. Helens, they may not know that Yellowstone National Park is due to erupt, too! The mechanics of plate tectonics, the kinds of volcanoes, historical eruptions, and geothermal energy are the diverse topics of these 100 facts. Awe-inspiring photographs and fun quizzes add to the valuable information.  ","English",32.950000000000003,24.7,"551.21","48 pp.","https://www.garethstevens.com/9781482414684",null,{"$f":"Table1[[#This Row],[QTY]]*Table1[[#This Row],['# Books]]","v":0},{"$f":"Table1[[#This Row],[QTY]]*Table1[[#This Row],[S&L Price]]","v":0}]
[null,null,null,"Handmade Holiday Crafts",1,"Handmade Easter Crafts","Library Bound Book",null,"978-1-4824-6156-5",{"$f":"HYPERLINK(Table1[[#This Row],[eCommerce Hyperlink]],\"Book Weblink\")","v":"Book Weblink"},null,"2017","January 2017","Library","8.500 X 11.00","Author","Ruth Owen",null,null,null,null,"L",null,"Grade 3","Grade 3 - 6","Instead of wood or plastic, imagine a woven Easter basket made of duct tape! Using materials from around the house, including recycled items, the crafts in this book are sure to make preparing for Easter even more fun. Readers are guided by detailed step-by-step instructions to create table centerpieces for Easter dinner, try great twists on traditional painted eggs, and more. Spring can be a rainy time of year, but these Easter crafts can help readers pass afternoons inside with creativity, imagination, and practice reading and following directions.","English",27.6,20.7,"745.594’1--dc23","32 pp.","https://www.garethstevens.com/9781482461565",null,{"$f":"Table1[[#This Row],[QTY]]*Table1[[#This Row],['# Books]]","v":0},{"$f":"Table1[[#This Row],[QTY]]*Table1[[#This Row],[S&L Price]]","v":0}]
[null,null,null,"Handmade Holiday Crafts",1,"Handmade St. Patrick's Day Crafts","eBook",null,"978-1-4824-6138-1",{"$f":"HYPERLINK(Table1[[#This Row],[eCommerce Hyperlink]],\"Book Weblink\")","v":"Book Weblink"},null,"2017","January 2017",null,null,"Author","Ruth Owen",null,null,null,null,"L",null,"Grade 3","Grade 3 - 6","There’s more to making St. Patrick’s Day crafts than the color green! Of course, this craft book with a St. Patrick’s Day theme features plenty of green, but readers are also led through making shamrock necklaces and bracelets, leprechaun hats filled with candy gold coins, and a “reach the rainbow” marble maze game made from Q-tips! Each project includes detailed step-by-step instructions and lots of opportunities for readers to use their own creativity to make designs that are special and individual.","English",27.6,20.7,"745.594’166--dc23","32 pp.","https://www.garethstevens.com/9781482461381",null,{"$f":"Table1[[#This Row],[QTY]]*Table1[[#This Row],['# Books]]","v":0},{"$f":"Table1[[#This Row],[QTY]]*Table1[[#This Row],[S&L Price]]","v":0}]
[null,null,null,"Design It!",6,"Design It!","Library Set",null,"978-1-5382-0777-2",{"$f":"HYPERLINK(Table1[[#This Row],[eCommerce Hyperlink]],\"Book Weblink\")","v":"Book Weblink"},null,"2018","August 2017","Library","8.500 X 11.00",null,null,null,null,null,null,null,null,"Grade 3 - 4","Grade 3 - 5","Nothing instills pride as much as creating a masterpiece! Readers are encouraged to become artists and designers in this inspired and inspiring series. Volumes span a variety of design disciplines, including books, hairstyles, food, clothing, and even fairy gardens! There's something for every interest, and each fun project is made achievable through clearly stated, step-by-step instructions and a colorful photograph of the finished product. Design tips, advice, and techniques lay a foundation for future creative endeavors, and perhaps even a career in design.","English",165.6,124.2,null,"32 pp.","https://www.garethstevens.com/9781538207772",null,{"$f":"Table1[[#This Row],[QTY]]*Table1[[#This Row],['# Books]]","v":0},{"$f":"Table1[[#This Row],[QTY]]*Table1[[#This Row],[S&L Price]]","v":0}]
[null,null,null,"Design It!",1,"Book Design","eBook",null,"978-1-5382-0790-1",{"$f":"HYPERLINK(Table1[[#This Row],[eCommerce Hyperlink]],\"Book Weblink\")","v":"Book Weblink"},null,"2018","August 2017",null,null,"Author","Alix Wood",null,null,null,null,"O",null,"Grade 3 - 4","Grade 3 - 5","Books come in all shapes and sizes. Anyone who has ever shopped for a book knows that sometimes appearances count. This fun project-filled volume invites readers to make their own books, beginning with striking covers and delving into inner design concepts such as fonts, colors, lift-the-flap components, and even pop-ups. Whether designers are interested in illustrating, writing, or creating a work of art, the perfect achievable activity is awaiting your readers.","English",27.6,20.7,"686.3--dc23","32 pp.","https://www.garethstevens.com/9781538207901",null,{"$f":"Table1[[#This Row],[QTY]]*Table1[[#This Row],['# Books]]","v":0},{"$f":"Table1[[#This Row],[QTY]]*Table1[[#This Row],[S&L Price]]","v":0}]
[null,null,null,"Design It!",1,"Fashion Design","Library Bound Book",null,"978-1-5382-0793-2",{"$f":"HYPERLINK(Table1[[#This Row],[eCommerce Hyperlink]],\"Book Weblink\")","v":"Book Weblink"},null,"2018","August 2017","Library","8.500 X 11.00","Author","Alix Wood",null,null,null,null,"O",null,"Grade 3 - 4","Grade 3 - 5","Some are content to simply follow the trends of fashion, but the bold are the designers who start the fads; they are the true fashionistas. This how-to guide presents creative readers with professional fashion designs as inspirations as well as step-by-step projects to make their own clothing and accessories. Each imaginative task utilizes easy-to-find everyday items and is accompanied by full-color photographs as visual aids.","English",27.6,20.7,"746.9'2--dc23","32 pp.","https://www.garethstevens.com/9781538207932",null,{"$f":"Table1[[#This Row],[QTY]]*Table1[[#This Row],['# Books]]","v":0},{"$f":"Table1[[#This Row],[QTY]]*Table1[[#This Row],[S&L Price]]","v":0}]
[null,null,null,"Design It!",1,"Interior Design","Library Bound Book",null,"978-1-5382-0796-3",{"$f":"HYPERLINK(Table1[[#This Row],[eCommerce Hyperlink]],\"Book Weblink\")","v":"Book Weblink"},null,"2018","August 2017","Library","8.500 X 11.00","Author","Alix Wood",null,null,null,null,"O",null,"Grade 3 - 4","Grade 3 - 5","Personalizing a space means decorating it or arranging it in a unique way. The space should reflect the designer’s personal aesthetic. Interior design isn’t just something to marvel at on TV, and people of all ages can grasp designers’ key principles. This motivating book offers plenty of practical interior design projects, as well as vibrant photographs to illustrate them, and expert tips that creative readers can apply to their home or classroom.","English",27.6,20.7,"747.7’7--dc23","32 pp.","https://www.garethstevens.com/9781538207963",null,{"$f":"Table1[[#This Row],[QTY]]*Table1[[#This Row],['# Books]]","v":0},{"$f":"Table1[[#This Row],[QTY]]*Table1[[#This Row],[S&L Price]]","v":0}]
[null,null,null,"Get Crafty with Pets!",1,"Awesome Hamster Crafts","eBook",null,"978-1-5382-2633-9",{"$f":"HYPERLINK(Table1[[#This Row],[eCommerce Hyperlink]],\"Book Weblink\")","v":"Book Weblink"},null,"2019","August 2018",null,null,"Author","Jane Yates",null,null,null,null,"P",null,"Grade 3 - 4","Grade 3 - 6","What could be more fun than watching a cute, fuzzy hamster find its way through a maze? Making the maze yourself! Through this colorful book, readers can do just that, as well as use their creativity to make 10 more awesome, hamster-themed crafts. From a walnut shell toy and climbing wall for a pet hamster to a hamster journal and pom-pom hamster to show one's hamster love, these crafts engage readers through step-by-step instructions and photographs of each step of the craft. Fact boxes give tips for making each craft better and fun information about readers' favorite pet, the hamster.","English",27.6,20.7,"745.59--dc23","32 pp.","https://www.garethstevens.com/9781538226339",null,{"$f":"Table1[[#This Row],[QTY]]*Table1[[#This Row],['# Books]]","v":0},{"$f":"Table1[[#This Row],[QTY]]*Table1[[#This Row],[S&L Price]]","v":0}]
[null,null,null,"Get Crafty with Pets!",1,"Sensational Bird Crafts","Library Bound Book",null,"978-1-5382-2626-1",{"$f":"HYPERLINK(Table1[[#This Row],[eCommerce Hyperlink]],\"Book Weblink\")","v":"Book Weblink"},null,"2019","August 2018","Library","8.500 X 11.00","Author","Jane Yates",null,null,null,null,"P",null,"Grade 3 - 4","Grade 3 - 6","Birds are fun animals to watch play. Why not try making toys for a favorite feathered friend at home? Crafts especially for bird lovers fill this colorful volume, including easy instructions for making a stacking toy, a mirror, and more to entertain pet birds. A felt bird, bird journal, and other bird-themed crafts draw in readers who simply enjoy birds but may not own one. Age-appropriate guidance through each fun craft makes this book a great addition to any children's library collection.","English",27.6,20.7,"745.59--dc23","32 pp.","https://www.garethstevens.com/9781538226261",null,{"$f":"Table1[[#This Row],[QTY]]*Table1[[#This Row],['# Books]]","v":0},{"$f":"Table1[[#This Row],[QTY]]*Table1[[#This Row],[S&L Price]]","v":0}]
[null,null,null,"Holiday Baking Party",6,"Holiday Baking Party","Library Set",null,"978-1-5382-1414-5",{"$f":"HYPERLINK(Table1[[#This Row],[eCommerce Hyperlink]],\"Book Weblink\")","v":"Book Weblink"},null,"2018","January 2018","Library","8.500 X 11.00",null,null,null,null,null,null,null,null,"Grade 3 - 4","Grade 3 - 6","One of the best parts of the holidays is the fun, decadent foods that families make together. Whether you're having a big party or a small dinner, planning the menu is an important step of the process. With this series of recipe books, kids can join in the holiday baking fun. Themed treats for Christmas, Halloween, St. Patrick's Day, Thanksgiving, Valentine's Day, and the Fourth of July are awaiting your future bakers. This series provides equipment and ingredients lists and easy-to-follow instructions so that readers can try their hand at creating festive foods for the whole family.","English",165.6,124.2,null,"32 pp.","https://www.garethstevens.com/9781538214145",null,{"$f":"Table1[[#This Row],[QTY]]*Table1[[#This Row],['# Books]]","v":0},{"$f":"Table1[[#This Row],[QTY]]*Table1[[#This Row],[S&L Price]]","v":0}]
[null,null,null,"Holiday Baking Party",1,"Let's Bake Halloween Treats!","Library Bound Book",null,"978-1-5382-1334-6",{"$f":"HYPERLINK(Table1[[#This Row],[eCommerce Hyperlink]],\"Book Weblink\")","v":"Book Weblink"},null,"2018","January 2018","Library","8.500 X 11.00","Author","Ruth Owen",null,null,null,null,"P",null,"Grade 3 - 4","Grade 3 - 6","Ghosts, witches, pumpkins, and candy are great baking inspiration. This book is chock-full of themed Halloween recipes for young bakers to tackle during the spookiest time of the year. Including baked items for every taste preference, this book breaks down each yummy recipe into an easy-to-follow set of instructions, as well as provides an ingredient and equipment list. Safety tips remind readers to ask for help with sharp or hot baking tools, but recipes have been specially chosen to be appropriate for young bakers of all experience levels.","English",27.6,20.7,"641.5'68--dc23","32 pp.","https://www.garethstevens.com/9781538213346",null,{"$f":"Table1[[#This Row],[QTY]]*Table1[[#This Row],['# Books]]","v":0},{"$f":"Table1[[#This Row],[QTY]]*Table1[[#This Row],[S&L Price]]","v":0}]
[null,null,null,"Holiday Baking Party",1,"Let's Bake St. Patrick's Day Treats!","eBook",null,"978-1-5382-1339-1",{"$f":"HYPERLINK(Table1[[#This Row],[eCommerce Hyperlink]],\"Book Weblink\")","v":"Book Weblink"},null,"2018","January 2018",null,null,"Author","Ruth Owen",null,null,null,null,"P",null,"Grade 3 - 4","Grade 3 - 6","The first trick to baking successful St. Patrick's Day treats is to make them green. The second way to make excellent treats for this March holiday is to make enough to feed everyone at the party. Readers can find excellent St. Patrick's Day baking inspiration by paging through this book's many themed recipes. Step-by-step instructions guide both new and experienced bakers through the recipe, and a full-color photograph of each finished product shows what they have to look forward to sharing with friends and family.","English",27.6,20.7,"641.5'68--dc23","32 pp.","https://www.garethstevens.com/9781538213391",null,{"$f":"Table1[[#This Row],[QTY]]*Table1[[#This Row],['# Books]]","v":0},{"$f":"Table1[[#This Row],[QTY]]*Table1[[#This Row],[S&L Price]]","v":0}]
[null,null,null,"Create It!",1,"Abstract Art","eBook",null,"978-1-4824-5046-0",{"$f":"HYPERLINK(Table1[[#This Row],[eCommerce Hyperlink]],\"Book Weblink\")","v":"Book Weblink"},null,"2017","August 2016",null,null,"Author","Alix Wood",null,null,null,null,"Q",null,"Grade 4 - 5","Grade 4 - 6","Abstract art might seem hard to define. But, by introducing readers to the major artists of the style, they’ll have a good idea of the general characteristics of an abstract piece. In addition to biographical information about Henri Matisse, Jasper Johns, Paul Klee, and more important abstract artists, readers learn about each master’s most famous pieces and ways they were able to achieve the look of the work. Fun, colorful projects accompany each artist’s spreads, showing readers how they, too, can make cool abstract art!","English",27.6,20.7,"709.04’052--dc23","32 pp.","https://www.garethstevens.com/9781482450460",null,{"$f":"Table1[[#This Row],[QTY]]*Table1[[#This Row],['# Books]]","v":0},{"$f":"Table1[[#This Row],[QTY]]*Table1[[#This Row],[S&L Price]]","v":0}]
[null,null,null,"Create It!",1,"Impressionist Art","Library Bound Book",null,"978-1-4824-5030-9",{"$f":"HYPERLINK(Table1[[#This Row],[eCommerce Hyperlink]],\"Book Weblink\")","v":"Book Weblink"},null,"2017","August 2016","Library","8.500 X 11.00","Author","Alix Wood",null,null,null,null,"Q",null,"Grade 4 - 5","Grade 4 - 6","Some of the most famous artists of all time were from the impressionist school. Claude Monet, Georges Seurat, and Edgar Degas all created works that have stood the test of time—and they were impressionists! Readers learn about the characteristics of impressionist art and the techniques used to create it. Master impressionists are profiled throughout the book, including information about their beautiful works. Readers can use this new knowledge to follow step-by-step instructions and make several art projects in the impressionist mode. Tips and full-color photographs help readers as they create, teaching them techniques they can use in future projects.","English",27.6,20.7,"759.05’4--dc23","32 pp.","https://www.garethstevens.com/9781482450309",null,{"$f":"Table1[[#This Row],[QTY]]*Table1[[#This Row],['# Books]]","v":0},{"$f":"Table1[[#This Row],[QTY]]*Table1[[#This Row],[S&L Price]]","v":0}]
[null,null,null,"Before They Were President",12,"Before They Were President: Sets 1 – 2","Library Set",null,"978-1-5382-2960-6",{"$f":"HYPERLINK(Table1[[#This Row],[eCommerce Hyperlink]],\"Book Weblink\")","v":"Book Weblink"},null,"2019","January 2019","Library","8.500 X 8.500",null,null,null,null,null,null,null,null,"Grade 2 - 3","Grade 2 - 5","All the American presidents led full lives before they even took office. From Donald Trump's real estate business to Ulysses S. Grant's military career, there's a lot to learn about who these commanders-in-chief are. This unique take on presidential biographies connects with readers as they learn about how these presidents grew up, their families, and what jobs they had as young people. Couched in historical context, the biographical information is written with detail suitable for young readers and social studies curricula in mind. Features include: Acquaints readers with U.S. history through the lens of the lives of our leaders. Includes timelines to support readers' review of what they've read. Relays relatable facts humanizing the president, including family, children, and pets.","English",283.2,212.4,null,"24 pp.","https://www.garethstevens.com/9781538229606",null,{"$f":"Table1[[#This Row],[QTY]]*Table1[[#This Row],['# Books]]","v":0},{"$f":"Table1[[#This Row],[QTY]]*Table1[[#This Row],[S&L Price]]","v":0}]
[null,null,null,"History's Most Murderous Villains",6,"History's Most Murderous Villains","Library Set",null,"978-1-4824-4607-4",{"$f":"HYPERLINK(Table1[[#This Row],[eCommerce Hyperlink]],\"Book Weblink\")","v":"Book Weblink"},null,"2017","August 2016","Library","6.500 X 9.125",null,null,null,null,null,null,null,null,"Grade 4 - 5","Grade 4 - 6","Certain people are remembered throughout history for such chilling and dastardly deeds that their very names are unnerving. Ivan the Terrible and Vlad the Impaler are two such foreboding figures. Others may not have such menacing monikers, but their reputations are just as frightening, such as Attila the Hun and Nero. This inspired series not only reveals the shocking biographical details for some of history’s most fascinating—and fearsome—individuals, it enlightens about the places and times in which they lived and the forces at work that shaped them into real-life villains.","English",165.6,124.2,null,"32 pp.","https://www.garethstevens.com/9781482446074",null,{"$f":"Table1[[#This Row],[QTY]]*Table1[[#This Row],['# Books]]","v":0},{"$f":"Table1[[#This Row],[QTY]]*Table1[[#This Row],[S&L Price]]","v":0}]
[null,null,null,"History's Most Murderous Villains",1,"Ivan the Terrible: Terrifying Tyrant of Russia","eBook",null,"978-1-4824-4797-2",{"$f":"HYPERLINK(Table1[[#This Row],[eCommerce Hyperlink]],\"Book Weblink\")","v":"Book Weblink"},null,"2017","August 2016",null,null,"Author","Ryan Nagelhout","6.2","1",null,null,"S",null,"Grade 4 - 5","Grade 4 - 6","Does Ivan Vasilyevich, also known as Ivan the Terrible, deserve his menacing moniker? The grand prince of Moscow built an empire in the 16th century to become the first tsar of Russia in 1547. Though his achievements were considerable during his time in power, his suspicions about the loyalty of his subjects led to thousands of executions, casting a bloody pall over his entire reign. This story of an intriguing—though chilling—ruler will captivate readers as well as give them an understanding of the conflicts in Europe and Asia at this time.","English",27.6,20.7,"947/.043092--dc23","32 pp.","https://www.garethstevens.com/9781482447972",null,{"$f":"Table1[[#This Row],[QTY]]*Table1[[#This Row],['# Books]]","v":0},{"$f":"Table1[[#This Row],[QTY]]*Table1[[#This Row],[S&L Price]]","v":0}]
[null,null,null,"History's Most Murderous Villains",1,"Nero: Ruthless Roman Emperor","Library Bound Book",null,"978-1-4824-4801-6",{"$f":"HYPERLINK(Table1[[#This Row],[eCommerce Hyperlink]],\"Book Weblink\")","v":"Book Weblink"},null,"2017","August 2016","Library","6.500 X 9.125","Author","Shalini Saxena","6.1","1",null,null,"S",null,"Grade 4 - 5","Grade 4 - 6","Nero was the ruthless ruler who “fiddled while Rome burned”—or was he? The fifth Roman emperor’s reputation is unsavory at best. However, in this detailed biography, Nero’s reign is thoroughly examined, casting doubt on some of the criticisms of the leader. Readers will be fascinated by the machinations of the royal Roman household that led to the rise and fall of the famous emperor. The carefully selected photographs reveal artwork and artifacts of the time period, while sidebars and fact boxes bring more valuable information about ancient Roman culture to light.","English",27.6,20.7,"937/.07092--dc23","32 pp.","https://www.garethstevens.com/9781482448016",null,{"$f":"Table1[[#This Row],[QTY]]*Table1[[#This Row],['# Books]]","v":0},{"$f":"Table1[[#This Row],[QTY]]*Table1[[#This Row],[S&L Price]]","v":0}]
[null,null,null,"Superwomen in STEM",1,"Women Scientists in Chemistry","eBook",null,"978-1-5382-1437-4",{"$f":"HYPERLINK(Table1[[#This Row],[eCommerce Hyperlink]],\"Book Weblink\")","v":"Book Weblink"},null,"2018","January 2018",null,null,"Author","Tracey Kelly","6.8","1",null,null,"U","990L","Grade 5","Grade 4 - 8","Marie Curie is one of the most famous chemists in history for her groundbreaking discoveries in radioactivity, but many people don't know that her daughter, Irène Joliot-Curie, also pioneered the field of chemistry and received the Nobel Prize in 1935. This engaging book sheds light on incredible women chemists, the obstacles they overcame, and their groundbreaking accomplishments. Mini bio boxes of each featured scientist give readers fast facts, and quotes from the scientists and their contemporaries inspire readers to explore the wonders of STEM for themselves. A gallery spread introduces to even more famous women chemists, while a thorough timeline marks the progress of women in chemistry. A concluding \"Science Now\" spread gives readers a view of where the field of chemistry is at today. Charmingly illustrated and full of stunning photographs, this book will be an inspiring addition to any library or classroom.","English",32.950000000000003,24.7,"540.92'52--dc23","48 pp.","https://www.garethstevens.com/9781538214374",null,{"$f":"Table1[[#This Row],[QTY]]*Table1[[#This Row],['# Books]]","v":0},{"$f":"Table1[[#This Row],[QTY]]*Table1[[#This Row],[S&L Price]]","v":0}]
[null,null,null,"Superwomen in STEM",1,"Women Scientists in Life Science","eBook",null,"978-1-5382-1407-7",{"$f":"HYPERLINK(Table1[[#This Row],[eCommerce Hyperlink]],\"Book Weblink\")","v":"Book Weblink"},null,"2018","January 2018",null,null,"Author","Nancy Dickmann","6.4","1",null,null,"U","940L","Grade 5","Grade 4 - 8","The phenomenal work of archeologist Mary Anning led to crucial discoveries and theories, such as Darwin's groundbreaking theory of evolution, yet her story is often overshadowed by men scientists whose work she inspired. This enlightening book explores the lives, accomplishments, and obstacles of vital women scientists in life sciences such as Anning. Mini bio and feature boxes give readers fast facts, while quotes from scientists and their contemporaries inspire readers to explore the wonders of STEM for themselves. A gallery spread introduces readers to even more women scientists. Readers will see the accomplishments of women in life sciences in a thorough timeline, while a \"Science Now\" section introduces readers to the where life sciences are at today.","English",32.950000000000003,24.7,"305.43'5--dc23","48 pp.","https://www.garethstevens.com/9781538214077",null,{"$f":"Table1[[#This Row],[QTY]]*Table1[[#This Row],['# Books]]","v":0},{"$f":"Table1[[#This Row],[QTY]]*Table1[[#This Row],[S&L Price]]","v":0}]
[null,null,null,"Superwomen in STEM",1,"Women Scientists in Physics and Engineering","Library Bound Book",null,"978-1-5382-1412-1",{"$f":"HYPERLINK(Table1[[#This Row],[eCommerce Hyperlink]],\"Book Weblink\")","v":"Book Weblink"},null,"2018","January 2018","Library","7.250 X 9.250","Author","Catherine Brereton","6.9","1",null,null,"U","1060L","Grade 5","Grade 4 - 8","Despite innumerable obstacles, women have been making crucial discoveries and contributions to science throughout history. This illuminating book shines a light on women physicists and engineers, their accomplishments and the hurdles they overcame. Mini bio and feature boxes offer fast and fascinating facts. Quotes from each featured scientist and their contemporaries inspire readers to explore STEM on their own, while charming illustrations and photographs immerse even reluctant readers. An information-rich timeline overviews the progress of women in physics and engineering, and a gallery spread introduces readers to even more ingenious women in STEM. Full of key scientific discoveries and inspiration, this unique combination of history and science will be perfect in any library and classroom.","English",32.950000000000003,24.7,"620.0082--dc23","48 pp.","https://www.garethstevens.com/9781538214121",null,{"$f":"Table1[[#This Row],[QTY]]*Table1[[#This Row],['# Books]]","v":0},{"$f":"Table1[[#This Row],[QTY]]*Table1[[#This Row],[S&L Price]]","v":0}]
[null,null,null,"Gareth Guides to an Extraordinary Life",1,"Gareth's Guide to Becoming a Deep-Sea Explorer","eBook",null,"978-1-5382-2044-3",{"$f":"HYPERLINK(Table1[[#This Row],[eCommerce Hyperlink]],\"Book Weblink\")","v":"Book Weblink"},null,"2019","August 2018",null,null,"Author","Barbara M. Linde",null,null,null,null,"S",null,"Grade 4 - 5","Grade 4 - 6","Scientists maintain that we've only explored 5 percent of Earth's oceans. These incredible expanses contain so many resources that many of us take for granted. Readers of this adventurous guide will be eager to find out how they can be explorers of Earth's final frontier. Whether they're seeking treasure in a wreck or searching for yet-unknown sea creatures, they'll learn what they need to do to prepare for a life in the water. Sidebars and fact boxes highlight information about real-life deep-sea explorers, while vivid photographs capture some truly captivating scenes of the undersea world.","English",28.93,21.7,"551.46'023--dc23","32 pp.","https://www.garethstevens.com/9781538220443",null,{"$f":"Table1[[#This Row],[QTY]]*Table1[[#This Row],['# Books]]","v":0},{"$f":"Table1[[#This Row],[QTY]]*Table1[[#This Row],[S&L Price]]","v":0}]
[null,null,null,"Gareth Guides to an Extraordinary Life",1,"Gareth's Guide to Saving the Environment","Library Bound Book",null,"978-1-5382-2059-7",{"$f":"HYPERLINK(Table1[[#This Row],[eCommerce Hyperlink]],\"Book Weblink\")","v":"Book Weblink"},null,"2019","August 2018","Library","6.500 X 9.125","Author","Jill Keppeler",null,null,null,null,"S",null,"Grade 4 - 5","Grade 4 - 6","\"Save Earth!\" If that sounds daunting, look no further. There are things we can all do each day to aid the environmental movement. This comprehensive guide for future environmentalists is an engaging exploration of the race to save habitats, animals, and resources that are currently in peril. Readers will learn about the people who have dedicated their lives to stopping destruction around the globe and about the careers available for those with a passion for our planet. Earth science topics abound in this beautifully designed volume full of significant sidebars, fascinating fact boxes, and interesting infographics.","English",28.93,21.7,"363.7--dc23","32 pp.","https://www.garethstevens.com/9781538220597",null,{"$f":"Table1[[#This Row],[QTY]]*Table1[[#This Row],['# Books]]","v":0},{"$f":"Table1[[#This Row],[QTY]]*Table1[[#This Row],[S&L Price]]","v":0}]
[null,null,null,"Gareth Guides to an Extraordinary Life",1,"Gareth's Guide to Writing a Best Seller","eBook",null,"978-1-5382-2064-1",{"$f":"HYPERLINK(Table1[[#This Row],[eCommerce Hyperlink]],\"Book Weblink\")","v":"Book Weblink"},null,"2019","August 2018",null,null,"Author","Kristen Rajczak Nelson",null,null,null,null,"S",null,"Grade 4 - 5","Grade 4 - 6","It's time to book the talk shows and literary journals, everyone wants to know how a best-selling author gets their ideas and crafts a masterpiece! This engrossing guide to becoming a successful writer explains the painstaking work behind beloved books. Readers will discover what they can do now to prepare for a literary triumph as well as how some of their favorite authors broke into the scene. The appealing design includes sidebars, fact boxes, infographics, and a graphic organizer to better organize the reader's path to fame.","English",28.93,21.7,"808.02--dc23","32 pp.","https://www.garethstevens.com/9781538220641",null,{"$f":"Table1[[#This Row],[QTY]]*Table1[[#This Row],['# Books]]","v":0},{"$f":"Table1[[#This Row],[QTY]]*Table1[[#This Row],[S&L Price]]","v":0}]
[null,null,null,"Gareth Guides to an Extraordinary Life",1,"Gareth's Guide to Becoming a Rock Star Coder","Library Bound Book",null,"978-1-5382-0359-0",{"$f":"HYPERLINK(Table1[[#This Row],[eCommerce Hyperlink]],\"Book Weblink\")","v":"Book Weblink"},null,"2018","August 2017","Library","6.500 X 9.125","Author","Patricia Harris Ph.D.","6.1","1",null,null,"T",null,"Grade 4 - 5","Grade 4 - 6","Computer literacy is nothing short of imperative, and many educators are advocating for students to understand code and even to become coders themselves. This motivating volume doesn’t just introduce different kinds of coding, it instills readers with an excitement for coding themselves. They’ll learn about special languages and programs that make coding achievable at all levels of proficiency. They’ll be introduced to professional coders and learn how coding requires practical knowledge as well as creativity in solving problems. An appealing design adds interest to this already high-interest topic, which supports STEM curricula.","English",28.93,21.7,"005.1023--dc23","32 pp.","https://www.garethstevens.com/9781538203590",null,{"$f":"Table1[[#This Row],[QTY]]*Table1[[#This Row],['# Books]]","v":0},{"$f":"Table1[[#This Row],[QTY]]*Table1[[#This Row],[S&L Price]]","v":0}]
[null,null,null,"Gareth Guides to an Extraordinary Life",1,"Gareth's Guide to Unearthing a Dinosaur","Library Bound Book",null,"978-1-5382-0360-6",{"$f":"HYPERLINK(Table1[[#This Row],[eCommerce Hyperlink]],\"Book Weblink\")","v":"Book Weblink"},null,"2018","August 2017","Library","6.500 X 9.125","Author","Melissa Raé Shofner","6.4","1",null,null,"T",null,"Grade 4 - 5","Grade 4 - 6","Paleontology is one of the most intriguing careers for those who have a passion for prehistoric life—or just dinosaurs! While we get to see the fruits of a successful excavation at museums, it’s extremely challenging to locate fossils, unearth them, and identify the remains. In this remarkable book, future fossil hunters will discover how paleontologists do what they do—and learn about opportunities for getting started early on this awesome profession. Fun infographics, interesting fact boxes, and captivating sidebars abound in this beautifully designed volume, which supports the elementary science curriculum.","English",28.93,21.7,"560--dc23","32 pp.","https://www.garethstevens.com/9781538203606",null,{"$f":"Table1[[#This Row],[QTY]]*Table1[[#This Row],['# Books]]","v":0},{"$f":"Table1[[#This Row],[QTY]]*Table1[[#This Row],[S&L Price]]","v":0}]
[null,null,null,"Get to Work!",1,"Digging Deep with an Archaeologist","Library Bound Book",null,"978-1-5382-1227-1",{"$f":"HYPERLINK(Table1[[#This Row],[eCommerce Hyperlink]],\"Book Weblink\")","v":"Book Weblink"},null,"2019","August 2018","Library","8.500 X 8.500","Author","Joan Stoltman","4.6","0.5",null,null,"L",null,"Grade 2 - 3","Grade 2 - 5","The life of an archaeologist is exciting and competitive, as these specialized scientists race to discover, change, and expand what the world knows about its history. With each breakthrough, books are rewritten and the stories of both nature and humans on this planet are illuminated, revealing a never-ending scope of fascinating, astonishing wonder. This volume dives right into the daily work of an archaeologist, explaining concepts and field terminology in an accessible way. Activities throughout the book will engage and inspire. By providing an \"inside scoop\" to young readers interested in this enthralling science, this volume is sure to be a hit.","English",23.6,17.7,"930.1--dc23","24 pp.","https://www.garethstevens.com/9781538212271",null,{"$f":"Table1[[#This Row],[QTY]]*Table1[[#This Row],['# Books]]","v":0},{"$f":"Table1[[#This Row],[QTY]]*Table1[[#This Row],[S&L Price]]","v":0}]
[null,null,null,"Get to Work!",1,"Looking for Clues with a Detective","eBook",null,"978-1-5382-1236-3",{"$f":"HYPERLINK(Table1[[#This Row],[eCommerce Hyperlink]],\"Book Weblink\")","v":"Book Weblink"},null,"2019","August 2018",null,null,"Author","Joan Stoltman","5.1","0.5",null,null,"L",null,"Grade 2 - 3","Grade 2 - 5","The classic detective character is an easily recognizable part of storytelling in so many books, television programs, and movies today. Now, young readers get a chance to learn how detective work is done from the inside. By explaining field terminology and investigative techniques in clear, engaging language, readers will get a compelling overview of the world of detective work. Further inspiration to solve a mystery comes from fun, stimulating activities throughout the book, including a larger project at the end. This volume is sure to be in heavy demand in any collection.","English",23.6,17.7,"363.25028'4--dc23","24 pp.","https://www.garethstevens.com/9781538212363",null,{"$f":"Table1[[#This Row],[QTY]]*Table1[[#This Row],['# Books]]","v":0},{"$f":"Table1[[#This Row],[QTY]]*Table1[[#This Row],[S&L Price]]","v":0}]
[null,null,null,"The Unofficial Minecraft® Tool Kit",5,"The Unofficial Minecraft® Tool Kit","Library Set",null,"978-1-5382-1717-7",{"$f":"HYPERLINK(Table1[[#This Row],[eCommerce Hyperlink]],\"Book Weblink\")","v":"Book Weblink"},null,"2018","January 2018","Library","8.500 X 11.00",null,null,null,null,null,null,null,null,"Grade 3 - 4","Grade 3 - 6","Night is approaching, and soon the monsters will be on the prowl. Better make a shelter, before it's too late. Welcome to Minecraft, a game of survival and creation. This set gives readers insider tips to survive and thrive in this virtual universe. Readers will explore the forests, waters, skies, tundra, and mountains of Minecraft, and the unique materials and monsters hiding in each biome. Each book provides three projects at different levels of difficulty: beginner, intermediate, and master. Step-by-step instructions with visuals and lists of necessary materials ensure each project is accessible. This immersive set helps Minecrafters develop STEM and problem-solving skills, encourages creative thinking, and fosters a love for engineering, coding, and architecture. Features include: Expert tips on game mechanics and techniques. Projects at different levels of difficulty with step-by-step instructions. Encourages interest in STEM, coding, and architecture.","English",118,88.5,null,"24 pp.","https://www.garethstevens.com/9781538217177",null,{"$f":"Table1[[#This Row],[QTY]]*Table1[[#This Row],['# Books]]","v":0},{"$f":"Table1[[#This Row],[QTY]]*Table1[[#This Row],[S&L Price]]","v":0}]
[null,null,null,"The Unofficial Minecraft® Tool Kit",1,"Ride the Waves with Minecraft®","Library Bound Book",null,"978-1-5382-1709-2",{"$f":"HYPERLINK(Table1[[#This Row],[eCommerce Hyperlink]],\"Book Weblink\")","v":"Book Weblink"},null,"2018","January 2018","Library","8.500 X 11.00","Author, Author, Author","Joey Davey, Jonathan Green, Juliet Stanley",null,null,null,null,"R",null,"Grade 3 - 4","Grade 3 - 6","What secrets are lurking beneath the pixelated waters of Minecraft? Readers of this behind-the-scenes guide will learn about the unique creatures and crafting materials they'll encounter underwater in this virtual universe. Expert tips teach readers how to master their own aquatic domain, from breathing underwater to building a squid farm and harvesting ink sacs. Three awesome projects of varying levels, beginner, intermediate, and master, help readers gain confidence in their construction skills. Readers will build their own wild water ride, secret underwater base, and epic aircraft carrier. Each project provides a time-to-completion estimate, a list of necessary materials, and step-by-step instructions with handy visuals.","English",23.6,17.7,"794.8--dc23","24 pp.","https://www.garethstevens.com/9781538217092",null,{"$f":"Table1[[#This Row],[QTY]]*Table1[[#This Row],['# Books]]","v":0},{"$f":"Table1[[#This Row],[QTY]]*Table1[[#This Row],[S&L Price]]","v":0}]
[null,null,null,"The Unofficial Minecraft® Tool Kit",1,"Snow Stopping You with Minecraft®","Library Bound Book",null,"978-1-5382-1711-5",{"$f":"HYPERLINK(Table1[[#This Row],[eCommerce Hyperlink]],\"Book Weblink\")","v":"Book Weblink"},null,"2018","January 2018","Library","8.500 X 11.00","Author, Author, Author","Joey Davey, Jonathan Green, Juliet Stanley",null,null,null,null,"R",null,"Grade 3 - 4","Grade 3 - 6","Polar bears, snowstorms, and zombies? Welcome to the wintery world of Minecraft. This handy guide gives readers the tools they'll need to survive in Minecraft's icy landscapes, and three epic projects to begin their own snow kingdom. Each project includes a list of necessary materials and step-by-step instructions with visuals. Readers will gain confidence in their engineering skills as they progress through beginner, intermediate, and master builds. They'll construct a cozy igloo library, a massive polar outpost, and a fancy ice hotel. Expert tips help readers create snow golem armies, find fish and other crucial materials.","English",23.6,17.7,"794.8--dc23","24 pp.","https://www.garethstevens.com/9781538217115",null,{"$f":"Table1[[#This Row],[QTY]]*Table1[[#This Row],['# Books]]","v":0},{"$f":"Table1[[#This Row],[QTY]]*Table1[[#This Row],[S&L Price]]","v":0}]
[null,null,null,"Magic Tricks",1,"Classic Magic","Library Bound Book",null,"978-1-5382-2591-2",{"$f":"HYPERLINK(Table1[[#This Row],[eCommerce Hyperlink]],\"Book Weblink\")","v":"Book Weblink"},null,"2019","August 2018","Library","8.500 X 11.00","Author","John Wood",null,null,null,null,"O",null,"Grade 3 - 4","Grade 3 - 6","Even today, years after they first began, people still love to watch magicians perform classic magic tricks. Readers of this illuminating volume learn about some of the oldest and most well-known magic tricks still being performed today. They investigate the magicians who perform these tricks, past and present, and even find out some of the secrets to how these illusions are done. This engaging book is packed with colorful photographs and interesting text that will keep curious readers turning the pages.","English",27.6,20.7,"793.8--dc23","32 pp.","https://www.garethstevens.com/9781538225912",null,{"$f":"Table1[[#This Row],[QTY]]*Table1[[#This Row],['# Books]]","v":0},{"$f":"Table1[[#This Row],[QTY]]*Table1[[#This Row],[S&L Price]]","v":0}]
[null,null,null,"Magic Tricks",1,"Magic Stunts","Library Bound Book",null,"978-1-5382-2587-5",{"$f":"HYPERLINK(Table1[[#This Row],[eCommerce Hyperlink]],\"Book Weblink\")","v":"Book Weblink"},null,"2019","August 2018","Library","8.500 X 11.00","Author","John Wood",null,null,null,null,"O",null,"Grade 3 - 4","Grade 3 - 6","Stunts are amazing feats of strength or skill, but magic stunts are even more interesting because they involve magicians performing feats that seem impossible. With the help of this engaging book, readers can explore the mysterious world of magic stunts and illusions. They'll learn about some of the famous people who perform these stunts and even learn some of the tricks behind them. Colorful photographs and stimulating text make for a captivating volume that imaginative readers of many ages will love.","English",27.6,20.7,"793.8--dc23","32 pp.","https://www.garethstevens.com/9781538225875",null,{"$f":"Table1[[#This Row],[QTY]]*Table1[[#This Row],['# Books]]","v":0},{"$f":"Table1[[#This Row],[QTY]]*Table1[[#This Row],[S&L Price]]","v":0}]
[null,null,null,"Q & A: Life's Mysteries Solved!",1,"Do Cows Have Two Stomachs?: And Other FAQs About Animals","eBook",null,"978-1-4824-4779-8",{"$f":"HYPERLINK(Table1[[#This Row],[eCommerce Hyperlink]],\"Book Weblink\")","v":"Book Weblink"},null,"2017","August 2016",null,null,"Author","Therese M. Shea","5","0.5",null,null,"Q","820L","Grade 3 - 4","Grade 3 - 6","Animals have a lot in common with people: they eat, sleep, and have babies. That’s sometimes where the similarities end! Rabbits, for example, eat their own poop so they can digest even more nutrients than they did the first time around. Readers might find this and other facts gross, but they’ll also love to repeat them! Full-color photographs and diagrams complement a fun design full of surprising and interesting information about animal bodies and behavior. Informal language draws readers into science concepts covering simple biology and environmental adaptation.","English",27.6,20.7,"590--dc23","32 pp.","https://www.garethstevens.com/9781482447798",null,{"$f":"Table1[[#This Row],[QTY]]*Table1[[#This Row],['# Books]]","v":0},{"$f":"Table1[[#This Row],[QTY]]*Table1[[#This Row],[S&L Price]]","v":0}]
[null,null,null,"Q & A: Life's Mysteries Solved!",1,"How Did the Liberty Bell Get Its Crack?: And Other FAQs About History","Library Bound Book",null,"978-1-4824-4743-9",{"$f":"HYPERLINK(Table1[[#This Row],[eCommerce Hyperlink]],\"Book Weblink\")","v":"Book Weblink"},null,"2017","August 2016","Library","8.500 X 11.00","Author","Michael Rajczak","5.4","0.5",null,null,"R","910L","Grade 3 - 4","Grade 3 - 6","The Liberty Bell cracked the very first time it was rung. However, the cracked Liberty Bell visitors can see on display in Philadelphia today isn’t that bell, which means another bell was made and cracked! This and a plethora of other historical facts show readers a fun, surprising, and sometimes-humorous side of history. The main content supports many parts of the social studies curriculum, while conversational language makes it even more engaging and understandable for readers. A colorful design draws readers in further with full-color photographs, maps, and fascinating fact boxes.","English",27.6,20.7,"973--dc23","32 pp.","https://www.garethstevens.com/9781482447439",null,{"$f":"Table1[[#This Row],[QTY]]*Table1[[#This Row],['# Books]]","v":0},{"$f":"Table1[[#This Row],[QTY]]*Table1[[#This Row],[S&L Price]]","v":0}]
[null,null,null,"Q & A: Life's Mysteries Solved!",1,"Why Do Cars Need Gas?: And Other FAQs About Machines","Library Bound Book",null,"978-1-4824-4775-0",{"$f":"HYPERLINK(Table1[[#This Row],[eCommerce Hyperlink]],\"Book Weblink\")","v":"Book Weblink"},null,"2017","August 2016","Library","8.500 X 11.00","Author","Amy Hayes","5.3","0.5",null,null,"Q","890L","Grade 3 - 4","Grade 3 - 6","So much of our days are spent inside cars—but do most people know how they work? After finishing this book, readers will know all about how cars use their fuel and move and much more about other machines! Including descriptions of simple physical science concepts and how some machines were invented, the main content is laid out in a fun, interactive way with lots of fact boxes and diagrams to aid readers’ understanding. Full-color photographs complement each spread, highlighting the information presented.","English",27.6,20.7,"629.04--dc23","32 pp.","https://www.garethstevens.com/9781482447750",null,{"$f":"Table1[[#This Row],[QTY]]*Table1[[#This Row],['# Books]]","v":0},{"$f":"Table1[[#This Row],[QTY]]*Table1[[#This Row],[S&L Price]]","v":0}]
[null,null,null,"A Cryptozoologist’s Guide to Curious Creatures",1,"Baba Yaga the Witch and Other Legendary Creatures of Russia","Library Bound Book",null,"978-1-5382-2702-2",{"$f":"HYPERLINK(Table1[[#This Row],[eCommerce Hyperlink]],\"Book Weblink\")","v":"Book Weblink"},null,"2019","August 2018","Library","7.125 X 8.500","Author","Craig Boutland","5.9","0.5",null,null,"S",null,"Grade 4 - 5","Grade 4 - 6","Some young readers may be unfamiliar with the child-stealing witch well known to Russian folklore. After reading this captivating book, they'll know all about Baba Yaga and other legendary creatures of Russia, such as the Brosno Dragon. This high-interest volume features colorful images paired with stimulating text. Eye-catching sidebars are included throughout the book and feature even more information about these interesting stories and creatures. This innovative book is sure to be a hit with curious readers of many ages and abilities.","English",27.6,20.7,"398.2'0947--dc23","32 pp.","https://www.garethstevens.com/9781538227022",null,{"$f":"Table1[[#This Row],[QTY]]*Table1[[#This Row],['# Books]]","v":0},{"$f":"Table1[[#This Row],[QTY]]*Table1[[#This Row],[S&L Price]]","v":0}]
[null,null,null,"A Cryptozoologist’s Guide to Curious Creatures",1,"Dullahan the Headless Horseman and Other Legendary Creatures of Ireland","eBook",null,"978-1-5382-2713-8",{"$f":"HYPERLINK(Table1[[#This Row],[eCommerce Hyperlink]],\"Book Weblink\")","v":"Book Weblink"},null,"2019","August 2018",null,null,"Author","Craig Boutland","6","1",null,null,"S",null,"Grade 4 - 5","Grade 4 - 6","The Headless Horseman has been a part of the folklore of quite a few different cultures for many years. In Ireland, the Dullahan is the name of the creature that rides atop a horse, often carrying its own head under an arm. Other legendary creatures, such as leprechauns and lake monsters, are discussed in this innovative volume. Readers will learn that these kinds of creatures and tales can sometimes exist similarly within different cultures. Packed with colorful images and illuminating sidebars, this engaging text is sure to be a popular addition to any library or classroom.","English",27.6,20.7,"398.20941--dc23","32 pp.","https://www.garethstevens.com/9781538227138",null,{"$f":"Table1[[#This Row],[QTY]]*Table1[[#This Row],['# Books]]","v":0},{"$f":"Table1[[#This Row],[QTY]]*Table1[[#This Row],[S&L Price]]","v":0}]
[null,null,null,"Sole Survivor",6,"Sole Survivor","Library Set",null,"978-1-4824-4974-7",{"$f":"HYPERLINK(Table1[[#This Row],[eCommerce Hyperlink]],\"Book Weblink\")","v":"Book Weblink"},null,"2017","August 2016","Library","7.250 X 9.250",null,null,null,null,null,null,null,null,"Grade 4 - 5","Grade 4 - 6","It’s obvious that the dry heat of a desert could be dangerous to the unprepared. But another major threat when traveling in the desert is the frigid cold at night! Readers are introduced to many environments that can quickly become deadly in certain circumstances—and those who have survived them! Real stories of avalanche, cold, and other extreme weather survivors add suspense and interest for adventurous readers. Full-color photographs accompany these stories, as well as explanations of how to build shelter, find food, and otherwise get through a trip gone awry in the rainforest, mountains, and more.","English",197.7,148.19999999999999,null,"48 pp.","https://www.garethstevens.com/9781482449747",null,{"$f":"Table1[[#This Row],[QTY]]*Table1[[#This Row],['# Books]]","v":0},{"$f":"Table1[[#This Row],[QTY]]*Table1[[#This Row],[S&L Price]]","v":0}]
[null,null,null,"Sole Survivor",1,"Surviving the Mountain","Library Bound Book",null,"978-1-4824-5085-9",{"$f":"HYPERLINK(Table1[[#This Row],[eCommerce Hyperlink]],\"Book Weblink\")","v":"Book Weblink"},null,"2017","August 2016","Library","7.250 X 9.250","Author","Louise Spilsbury",null,null,null,null,"R","930L","Grade 4 - 5","Grade 4 - 6","Climbing a mountain takes bravery and training even without considering the dangers that could await climbers. Lighting strikes, avalanches, sheer cliffs, and terrible cold can all be life-threatening, and readers hoping to trek high in the mountains need to know how to handle them! Through real-life survivor stories and supplemental fact boxes about each danger, readers are introduced to what it's like to travel in the mountains. Preparation and caution are emphasized, but instructions on what to do should a disaster occur are clear and understandable. Full-color photographs and multiple-choice questions engage readers further with this exciting and suspenseful topic.","English",32.950000000000003,24.7,"796.52’2--dc23","48 pp.","https://www.garethstevens.com/9781482450859",null,{"$f":"Table1[[#This Row],[QTY]]*Table1[[#This Row],['# Books]]","v":0},{"$f":"Table1[[#This Row],[QTY]]*Table1[[#This Row],[S&L Price]]","v":0}]
[null,null,null,"Sole Survivor",1,"Surviving the Rainforest","eBook",null,"978-1-4824-5082-8",{"$f":"HYPERLINK(Table1[[#This Row],[eCommerce Hyperlink]],\"Book Weblink\")","v":"Book Weblink"},null,"2017","August 2016",null,null,"Author","Louise Spilsbury",null,null,null,null,"R","900L","Grade 4 - 5","Grade 4 - 6","Those lost in the rainforest have a lot to be worried about. From sudden rainstorms to disease-carrying insects, there are a lot of dangers that need to be considered. However, readers of this book will be prepared! Through detailed descriptions of how to build shelter, gather food and water, and how to handle the possibility of wild animals, readers learn about the rainforest ecosystem and how to use it well. Survival stories of real people add a captivating element to the main content, and full-color photographs let readers travel deep into the rainforest without getting lost.","English",32.950000000000003,24.7,"613.6’9’09152-dc23","48 pp.","https://www.garethstevens.com/9781482450828",null,{"$f":"Table1[[#This Row],[QTY]]*Table1[[#This Row],['# Books]]","v":0},{"$f":"Table1[[#This Row],[QTY]]*Table1[[#This Row],[S&L Price]]","v":0}]
[null,null,null,"What Would You Choose?",1,"Megamachines","eBook",null,"978-1-4824-6175-6",{"$f":"HYPERLINK(Table1[[#This Row],[eCommerce Hyperlink]],\"Book Weblink\")","v":"Book Weblink"},null,"2017","January 2017",null,null,"Author","Helen Greathead",null,null,null,null,"R","1020L","Grade 4 - 5","Grade 4 - 6","Racing a monster truck, riding a hoverboard, or using a remote-control tank are some of the crazy activities daredevils can do today because of amazing machine technology. Just because it's possible doesn’t mean everyone wants to do it. In this book, readers are presented with cool megamachines and asked to choose between them. Readers not only learn about how superfast cars are made or how 3D printers work but also how to weigh two options and make a decision. Full-color photographs and an action-packed design energize readers as they zoom through amazing facts and discover more about modern machines.","English",27.6,20.7,"629.04'6--dc23","32 pp.","https://www.garethstevens.com/9781482461756",null,{"$f":"Table1[[#This Row],[QTY]]*Table1[[#This Row],['# Books]]","v":0},{"$f":"Table1[[#This Row],[QTY]]*Table1[[#This Row],[S&L Price]]","v":0}]
[null,null,null,"What Would You Choose?",1,"Wicked Wildlife","Library Bound Book",null,"978-1-4824-6180-0",{"$f":"HYPERLINK(Table1[[#This Row],[eCommerce Hyperlink]],\"Book Weblink\")","v":"Book Weblink"},null,"2017","January 2017","Library","6.500 X 9.125","Author","Helen Greathead",null,null,null,null,"R",null,"Grade 4 - 5","Grade 4 - 6","If it was possible to run as fast as a cheetah, would you? Or would you rather be able to fly? Readers are faced with this dilemma and many more in this book. Facts and true stories about each scenario help readers make tough choices as they read and envision what it might be like to be bitten by a great white shark or eat a scorpion. Full-color, up-close photographs engage readers' imaginations as they weigh the pros and cons of each choice, practicing decision-making skills useful beyond the pages of this book.","English",27.6,20.7,"591.6'5--dc23","32 pp.","https://www.garethstevens.com/9781482461800",null,{"$f":"Table1[[#This Row],[QTY]]*Table1[[#This Row],['# Books]]","v":0},{"$f":"Table1[[#This Row],[QTY]]*Table1[[#This Row],[S&L Price]]","v":0}]
[null,null,null,"What Would You Choose?",1,"Wicked Wildlife","eBook",null,"978-1-4824-6181-7",{"$f":"HYPERLINK(Table1[[#This Row],[eCommerce Hyperlink]],\"Book Weblink\")","v":"Book Weblink"},null,"2017","January 2017",null,null,"Author","Helen Greathead",null,null,null,null,"R",null,"Grade 4 - 5","Grade 4 - 6","If it was possible to run as fast as a cheetah, would you? Or would you rather be able to fly? Readers are faced with this dilemma and many more in this book. Facts and true stories about each scenario help readers make tough choices as they read and envision what it might be like to be bitten by a great white shark or eat a scorpion. Full-color, up-close photographs engage readers' imaginations as they weigh the pros and cons of each choice, practicing decision-making skills useful beyond the pages of this book.","English",27.6,20.7,"591.6'5--dc23","32 pp.","https://www.garethstevens.com/9781482461817",null,{"$f":"Table1[[#This Row],[QTY]]*Table1[[#This Row],['# Books]]","v":0},{"$f":"Table1[[#This Row],[QTY]]*Table1[[#This Row],[S&L Price]]","v":0}]
[null,null,null,"Mystery Hunters",1,"Fakes and Hoaxes","Library Bound Book",null,"978-1-4824-6006-3",{"$f":"HYPERLINK(Table1[[#This Row],[eCommerce Hyperlink]],\"Book Weblink\")","v":"Book Weblink"},null,"2017","January 2017","Library","7.250 X 9.250","Author","Sarah Levete","6.7","1",null,null,"T","1010L","Grade 5","Grade 4 - 6","The best fakes and hoaxes have just enough truth to lure people into the deception. This comprehensive book showcases some infamous hoaxes as well  as supposed-hoaxes that people won’t stop believing—Bigfoot, anyone? There’s so much to explore, from ancient lore of fairies and sea monsters to modern-day hoax baseball players and superhumans! Each high-interest subject is paired with imaginative images and colorful photographs. “Mysterious Facts” boxes list further points of proof. Readers will especially find a chapter on Internet hoaxes and digital forgeries applicable to their lives.","English",32.950000000000003,24.7,"001.9’5--dc23","48 pp.","https://www.garethstevens.com/9781482460063",null,{"$f":"Table1[[#This Row],[QTY]]*Table1[[#This Row],['# Books]]","v":0},{"$f":"Table1[[#This Row],[QTY]]*Table1[[#This Row],[S&L Price]]","v":0}]
[null,null,null,"Mystery Hunters",1,"Lost Kings and Kingdoms","eBook",null,"978-1-4824-6010-0",{"$f":"HYPERLINK(Table1[[#This Row],[eCommerce Hyperlink]],\"Book Weblink\")","v":"Book Weblink"},null,"2017","January 2017",null,null,"Author","Robyn Hardyman","6.6","1",null,null,"T","1000L","Grade 5","Grade 4 - 6","Great kingdoms and rulers from the distant past can become lost over time. For some, no records survive to prove their existence. For others, the records are woven with so many fanciful details they seem like legends. How do we distinguish what’s true and what’s false? This inclusive volume offers the latest insights into familiar legends such as Arthur and his Camelot, but also equally intriguing lore and history of lost kingdoms of Africa, Asia, and the early Americas. Readers will discover that the endeavor to unearth these realms reveals much culture, history, and geography about different world regions.","English",32.950000000000003,24.7,"930.1--dc23","48 pp.","https://www.garethstevens.com/9781482460100",null,{"$f":"Table1[[#This Row],[QTY]]*Table1[[#This Row],['# Books]]","v":0},{"$f":"Table1[[#This Row],[QTY]]*Table1[[#This Row],[S&L Price]]","v":0}]
[null,null,null,"Famous Legends",1,"Fairy and Leprechaun Legends","Library Bound Book",null,"978-1-5382-0355-2",{"$f":"HYPERLINK(Table1[[#This Row],[eCommerce Hyperlink]],\"Book Weblink\")","v":"Book Weblink"},null,"2018","August 2017","Library","8.500 X 8.500","Author","Theresa Morlock","4.6","0.5",null,null,"O",null,"Grade 2 - 3","Grade 2 - 5","Thanks to popular icons such as Tinkerbell, everyone knows what a fairy looks like—or do they? Many people might be surprised to discover that there are different kinds of fairies. In fact, leprechauns are a type of fairy! There are more surprises and plenty of magical myths and lore in this enchanting, high-interest volume, full of beautiful images of bewitching creatures.","English",26.25,19.7,"398.2109417--dc23","32 pp.","https://www.garethstevens.com/9781538203552",null,{"$f":"Table1[[#This Row],[QTY]]*Table1[[#This Row],['# Books]]","v":0},{"$f":"Table1[[#This Row],[QTY]]*Table1[[#This Row],[S&L Price]]","v":0}]
[null,null,null,"Famous Legends",1,"Pirate Legends","eBook",null,"978-1-5382-0385-9",{"$f":"HYPERLINK(Table1[[#This Row],[eCommerce Hyperlink]],\"Book Weblink\")","v":"Book Weblink"},null,"2018","August 2017",null,null,"Author","Jill Keppeler","5.2","0.5",null,null,"O",null,"Grade 2 - 3","Grade 2 - 5","Sorting the facts from the fiction in pirate legends can be tricky. Perhaps that’s why pirates have never lost their appeal for readers; they’re larger than life. This swashbuckling book presents some of the most exhilarating pirate lore, including historical legends, such as William Kidd and Grace O’Malley. Fact boxes provide extra information about tales, while specially chosen images will truly captivate young buccaneers’ imaginations.","English",26.25,19.7,"910.45--dc23","32 pp.","https://www.garethstevens.com/9781538203859",null,{"$f":"Table1[[#This Row],[QTY]]*Table1[[#This Row],['# Books]]","v":0},{"$f":"Table1[[#This Row],[QTY]]*Table1[[#This Row],[S&L Price]]","v":0}]
[null,null,null,"Famous Legends",1,"The Legend of Paul Bunyan","Library Bound Book",null,"978-1-5382-0378-1",{"$f":"HYPERLINK(Table1[[#This Row],[eCommerce Hyperlink]],\"Book Weblink\")","v":"Book Weblink"},null,"2018","August 2017","Library","8.500 X 8.500","Author","Julia McDonnell","4.9","0.5",null,null,"N",null,"Grade 2 - 3","Grade 2 - 5","Legendary lumberjack Paul Bunyan is often depicted as larger than life. Many places around the United States claim Bunyan really lived there. Scholars are still trying to discover whether Bunyan was an actual person or not. According to many stories, he was basically one of the first superheroes of fiction! Readers will love the folk tales describing the exploits of Bunyan and his pet, Babe the Blue Ox. Amusing images accompany the lively text, while fact boxes shed some light on each story’s origins.","English",26.25,19.7,"398.20973’02--dc23","32 pp.","https://www.garethstevens.com/9781538203781",null,{"$f":"Table1[[#This Row],[QTY]]*Table1[[#This Row],['# Books]]","v":0},{"$f":"Table1[[#This Row],[QTY]]*Table1[[#This Row],[S&L Price]]","v":0}]
[null,null,null,"Famous Legends",1,"The Legend of King Arthur","eBook",null,"978-1-4824-2739-4",{"$f":"HYPERLINK(Table1[[#This Row],[eCommerce Hyperlink]],\"Book Weblink\")","v":"Book Weblink"},null,"2016","August 2015",null,null,"Author","Shalini Saxena","4.6","0.5","30",null,"N","760L","Grade 2 - 3","Grade 2 - 5","Stories of King Arthur and his Knights of the Round Table are rife with adventure and romance. People never tire of the many legendary exploits of the ancient king of Britain. However, readers might be surprised that many historians believe Arthur was a real person. This accessible volume includes some of the most famous tales of the legend as well as their foundations in both history and myth. Beautiful artwork and intriguing fact boxes make this a unique and valuable addition to any fiction or nonfiction collection.","English",26.25,19.7,"942.01","32 pp.","https://www.garethstevens.com/9781482427394",null,{"$f":"Table1[[#This Row],[QTY]]*Table1[[#This Row],['# Books]]","v":0},{"$f":"Table1[[#This Row],[QTY]]*Table1[[#This Row],[S&L Price]]","v":0}]
[null,null,null,"Famous Legends",1,"The Legend of Sleepy Hollow","Library Bound Book",null,"978-1-4824-2754-7",{"$f":"HYPERLINK(Table1[[#This Row],[eCommerce Hyperlink]],\"Book Weblink\")","v":"Book Weblink"},null,"2016","August 2015","Library","8.500 X 8.500","Author","Shalini Saxena","4.8","0.5","34",null,"O","850L","Grade 2 - 3","Grade 2 - 5","Washington Irving's scary Headless Horseman has become a notorious fictional character. This appealing book, highlighting a popular example of early American fiction, features fun facts about the legend and its author as well as carefully chosen photographs and illustrations. Readers will love getting to know Ichabod Crane, the superstitious schoolteacher; Brom Bones, his adversary; and the beautiful Katrina Van Tassel in this gripping retelling of the early nineteenth century story.","English",26.25,19.7,"133.109747'277--dc23","32 pp.","https://www.garethstevens.com/9781482427547",null,{"$f":"Table1[[#This Row],[QTY]]*Table1[[#This Row],['# Books]]","v":0},{"$f":"Table1[[#This Row],[QTY]]*Table1[[#This Row],[S&L Price]]","v":0}]
[null,null,null,"Famous Legends",1,"The Legend of the Pied Piper","eBook",null,"978-1-4824-2743-1",{"$f":"HYPERLINK(Table1[[#This Row],[eCommerce Hyperlink]],\"Book Weblink\")","v":"Book Weblink"},null,"2016","August 2015",null,null,"Author","Katherine Ponka","4.9","0.5","30",null,"N","890L","Grade 2 - 3","Grade 2 - 5","Most of us know something about the legend of the Pied Piper of Hamlin, but few know that it may be based on a true story. This spellbinding account tells the story according to the Brothers Grimm as well as gives details of the historic records that support it. Throughout this high-interest volume, readers will remain engaged with surprising facts such as the possible connections to the plague and the Crusades. Colorful illustrations and photographs of the actual German town will leave readers pondering what's true and what's fiction.","English",26.25,19.7,"809","32 pp.","https://www.garethstevens.com/9781482427431",null,{"$f":"Table1[[#This Row],[QTY]]*Table1[[#This Row],['# Books]]","v":0},{"$f":"Table1[[#This Row],[QTY]]*Table1[[#This Row],[S&L Price]]","v":0}]
[null,null,null,"Fast Fact Math",1,"Fast Fact Fractions","Library Bound Book",null,"978-1-5382-1979-9",{"$f":"HYPERLINK(Table1[[#This Row],[eCommerce Hyperlink]],\"Book Weblink\")","v":"Book Weblink"},null,"2019","August 2018","Library","8.500 X 8.500","Author","Jagger Youssef",null,null,null,null,"M","690L","Grade 2 - 3","Grade 2 - 5","Understanding fractions is important in developing comprehension of numbers and operations in the elementary math classroom. This beneficial book illuminates the special terms used when working with fractions, how to recognize equivalent fractions, and how to compare fractions. Numerous pictorial models enable readers to visualize what fractions represent, while clearly explained \"fast facts\" help young math stars solve related fraction questions. Fractions are explained as significant and practical components of real-life situations.","English",23.6,17.7,"513.2'6--dc23","24 pp.","https://www.garethstevens.com/9781538219799",null,{"$f":"Table1[[#This Row],[QTY]]*Table1[[#This Row],['# Books]]","v":0},{"$f":"Table1[[#This Row],[QTY]]*Table1[[#This Row],[S&L Price]]","v":0}]
[null,null,null,"Fast Fact Math",1,"Fast Fact Subtraction","Library Bound Book",null,"978-1-5382-1991-1",{"$f":"HYPERLINK(Table1[[#This Row],[eCommerce Hyperlink]],\"Book Weblink\")","v":"Book Weblink"},null,"2019","August 2018","Library","8.500 X 8.500","Author","Blanche Roesser",null,null,null,null,"L",null,"Grade 2 - 3","Grade 2 - 5","Addition and subtraction are foundations of elementary math; continuous practice yields proficiency in both. This valuable volume helps young mathematicians hone their subtraction skills while reviewing important strategies that aid in teaching them how to subtract in their head. They'll also practice using this math operation in one- and two-step word problems, which stress that subtraction is used in everyday life. Math Mania! boxes allow readers to apply what they've learned, and provided answers allow for self-assessment.","English",23.6,17.7,"513.2/12--dc23","24 pp.","https://www.garethstevens.com/9781538219911",null,{"$f":"Table1[[#This Row],[QTY]]*Table1[[#This Row],['# Books]]","v":0},{"$f":"Table1[[#This Row],[QTY]]*Table1[[#This Row],[S&L Price]]","v":0}]
[null,null,null,"Solve It! Math in Space",1,"Math on Jupiter","Library Bound Book",null,"978-1-4824-4932-7",{"$f":"HYPERLINK(Table1[[#This Row],[eCommerce Hyperlink]],\"Book Weblink\")","v":"Book Weblink"},null,"2017","August 2016","Library","8.500 X 8.500","Author","Barbara M. Linde","4.2","0.5",null,null,"M",null,"Grade 2 - 3","Grade 2 - 5","Jupiter, named for the mythological king of the gods, demands a lot of respect in the night sky. Young scientists are invited to travel to this gas giant while taking part in “math missions” along their journey. By completing each mission using familiar math operations, they’ll discover fascinating facts about Jupiter, its rings, and its moons. They’ll learn about the storm called the Great Red Spot and the Juno spacecraft’s mission to Jupiter. Science and math are the perfect companions in this exciting volume about the largest planet in the solar system.","English",23.6,17.7,"523.45--dc23","24 pp.","https://www.garethstevens.com/9781482449327",null,{"$f":"Table1[[#This Row],[QTY]]*Table1[[#This Row],['# Books]]","v":0},{"$f":"Table1[[#This Row],[QTY]]*Table1[[#This Row],[S&L Price]]","v":0}]
[null,null,null,"Solve It! Math in Space",1,"Math on Jupiter","eBook",null,"978-1-4824-4964-8",{"$f":"HYPERLINK(Table1[[#This Row],[eCommerce Hyperlink]],\"Book Weblink\")","v":"Book Weblink"},null,"2017","August 2016",null,null,"Author","Barbara M. Linde","4.2","0.5",null,null,"M",null,"Grade 2 - 3","Grade 2 - 5","Jupiter, named for the mythological king of the gods, demands a lot of respect in the night sky. Young scientists are invited to travel to this gas giant while taking part in “math missions” along their journey. By completing each mission using familiar math operations, they’ll discover fascinating facts about Jupiter, its rings, and its moons. They’ll learn about the storm called the Great Red Spot and the Juno spacecraft’s mission to Jupiter. Science and math are the perfect companions in this exciting volume about the largest planet in the solar system.","English",23.6,17.7,"523.45--dc23","24 pp.","https://www.garethstevens.com/9781482449648",null,{"$f":"Table1[[#This Row],[QTY]]*Table1[[#This Row],['# Books]]","v":0},{"$f":"Table1[[#This Row],[QTY]]*Table1[[#This Row],[S&L Price]]","v":0}]
[null,null,null,"Solve It! Math in Space",1,"Math on Saturn","eBook",null,"978-1-4824-4929-7",{"$f":"HYPERLINK(Table1[[#This Row],[eCommerce Hyperlink]],\"Book Weblink\")","v":"Book Weblink"},null,"2017","August 2016",null,null,"Author","Sarah Machajewski","4.3","0.5",null,null,"N",null,"Grade 2 - 3","Grade 2 - 5","The planet Saturn, with its magnificent rings, is one of the most jaw-dropping sights in our solar system. The striking photographs in this attractive volume invite readers to dive into the essential facts and science vocabulary in the text. They’ll also be invited to solve math problems involving Saturn in which they’ll learn more data such as about Saturn’s 29½-year trip around the sun. Saturn’s rings, moons, and atmosphere are some of the topics that future astronomers will be introduced to in this valuable volume about the sixth planet from the sun.","English",23.6,17.7,"523.46--dc23","24 pp.","https://www.garethstevens.com/9781482449297",null,{"$f":"Table1[[#This Row],[QTY]]*Table1[[#This Row],['# Books]]","v":0},{"$f":"Table1[[#This Row],[QTY]]*Table1[[#This Row],[S&L Price]]","v":0}]
[null,null,null,"Do Math with Sports Stats!",6,"Do Math with Sports Stats!","Library Set",null,"978-1-5382-1291-2",{"$f":"HYPERLINK(Table1[[#This Row],[eCommerce Hyperlink]],\"Book Weblink\")","v":"Book Weblink"},null,"2018","January 2018","Library","8.500 X 11.00",null,null,null,null,null,null,null,null,"Grade 3 - 4","Grade 3 - 6","The excitement of sports doesn't end at the final whistle. This innovative math series explores the numbers behind the game, showing savvy students that math really is everywhere. From tracking the speed of a NASCAR pit stop to figuring out a pitcher's innings pitched, readers get the excitement of sports with the important math curriculum necessary to become an avid learner. Along the way they learn that math is crucial to the game, and even discover whether their favorite pro athletes are truly at the top of their game.","English",165.6,124.2,null,"32 pp.","https://www.garethstevens.com/9781538212912",null,{"$f":"Table1[[#This Row],[QTY]]*Table1[[#This Row],['# Books]]","v":0},{"$f":"Table1[[#This Row],[QTY]]*Table1[[#This Row],[S&L Price]]","v":0}]
[null,null,null,"Do Math with Sports Stats!",1,"Football: Stats, Facts, and Figures","Library Bound Book",null,"978-1-5382-1135-9",{"$f":"HYPERLINK(Table1[[#This Row],[eCommerce Hyperlink]],\"Book Weblink\")","v":"Book Weblink"},null,"2018","January 2018","Library","8.500 X 11.00","Author","Kate Mikoley",null,null,null,null,"O",null,"Grade 3 - 4","Grade 3 - 6","Yards and points are the lifeblood of football. As those numbers add up on the scoreboard and in the stat sheet, a whole world of mathematics is there to uncover. From yards passing and receiving to the averages teams have converting third downs, the gridiron's numbers are easy to explore while conveying important math concepts in the process. Readers learn how stars measure themselves against other players with rushing and receiving stats, and how those stats are calculated in the first place.","English",27.6,20.7,"796.332--dc23","32 pp.","https://www.garethstevens.com/9781538211359",null,{"$f":"Table1[[#This Row],[QTY]]*Table1[[#This Row],['# Books]]","v":0},{"$f":"Table1[[#This Row],[QTY]]*Table1[[#This Row],[S&L Price]]","v":0}]
[null,null,null,"Do Math with Sports Stats!",1,"NASCAR: Stats, Facts, and Figures","eBook",null,"978-1-5382-1144-1",{"$f":"HYPERLINK(Table1[[#This Row],[eCommerce Hyperlink]],\"Book Weblink\")","v":"Book Weblink"},null,"2018","January 2018",null,null,"Author","Kate Mikoley",null,null,null,null,"O",null,"Grade 3 - 4","Grade 3 - 6","Auto racing is a sport of metal and rubber, but it's also a game of numbers. From lap times around a track to the speed of each car at qualifying, NASCAR's unique brand of racing is an easy place to see math in action. Readers learn that different types of tracks are built in different lengths, and how differences in road courses and superspeedways impact speeds. All of these factors are ways to turn those numbers into innovative tools to learn about mathematics in new and exciting ways.","English",27.6,20.7,"796.720151--dc23","32 pp.","https://www.garethstevens.com/9781538211441",null,{"$f":"Table1[[#This Row],[QTY]]*Table1[[#This Row],['# Books]]","v":0},{"$f":"Table1[[#This Row],[QTY]]*Table1[[#This Row],[S&L Price]]","v":0}]
[null,null,null,"Fairy Tale Fixers: Fixing Fairy Tale Problems with STEM",1,"Goldilocks and the Three Bears: Take the Temperature Test and Solve the Porridge Puzzle!","eBook",null,"978-1-5382-0672-0",{"$f":"HYPERLINK(Table1[[#This Row],[eCommerce Hyperlink]],\"Book Weblink\")","v":"Book Weblink"},null,"2018","August 2017",null,null,"Author","Jasmine Brooke","4.2","0.5",null,null,"O",null,"Grade 3 - 4","Grade 3 - 5","Too hot! Too cold! Goldilocks is one picky eater. In this retelling of Goldilocks’ classic conundrums, readers will use science, technology, engineering, and math to solve problems, such as finding that perfect porridge temperature. This unique story-driven format is \"just right\" for readers who are reluctant to learn STEM materials. They'll love engineering their way to a happily ever after using critical thinking and creativity. Adorable illustrations immerse readers in this beloved fairy tale, while engaging activities allow them to strengthen their STEM skills. Unlike a certain blonde intruder, this versatile combination of literature and STEM will be at home in any library or classroom.","English",27.6,20.7,"[E]--dc23","32 pp.","https://www.garethstevens.com/9781538206720",null,{"$f":"Table1[[#This Row],[QTY]]*Table1[[#This Row],['# Books]]","v":0},{"$f":"Table1[[#This Row],[QTY]]*Table1[[#This Row],[S&L Price]]","v":0}]
[null,null,null,"Fairy Tale Fixers: Fixing Fairy Tale Problems with STEM",1,"The Princess and the Pea: Pass the Pea Pressure Test!","eBook",null,"978-1-5382-0670-6",{"$f":"HYPERLINK(Table1[[#This Row],[eCommerce Hyperlink]],\"Book Weblink\")","v":"Book Weblink"},null,"2018","August 2017",null,null,"Author","Jasmine Brooke","4.7","0.5",null,null,"O",null,"Grade 3 - 4","Grade 3 - 5","To prove her royalty, the princess must pass an impossible test: to feel a single pea under layers of mattresses. With this innovative retelling of the classic fairy tale, readers will problem-solve the princess out of her predicament. Fun activities introduce key science, technology, engineering, and mathematics concepts and challenge readers' critical thinking. They'll build confidence in their abilities and take interest in STEM material. Original illustrations and hands-on activities give readers an interactive experience. Even readers reluctant to learn STEM materials will love this immersive format, ensuring this book will be a popular addition to any library and classroom.","English",27.6,20.7,"[E]--dc23","32 pp.","https://www.garethstevens.com/9781538206706",null,{"$f":"Table1[[#This Row],[QTY]]*Table1[[#This Row],['# Books]]","v":0},{"$f":"Table1[[#This Row],[QTY]]*Table1[[#This Row],[S&L Price]]","v":0}]
[null,null,null,"Infographics: How It Works",1,"Our Planet","Library Bound Book",null,"978-1-5382-1359-9",{"$f":"HYPERLINK(Table1[[#This Row],[eCommerce Hyperlink]],\"Book Weblink\")","v":"Book Weblink"},null,"2018","January 2018","Library","8.500 X 11.00","Author, Author","Jon Richards, Ed Simkins",null,null,null,null,"S",null,"Grade 4 - 5","Grade 4 - 6","Earth science is made up of so many topics: weather, landforms, and even natural disasters. It can take a lot of time to learn about the details of each. Infographics are the perfect way to cover a lot of these subject areas in less time, including why earthquakes happen, the water cycle, and how mountains form, as well as many other parts of the Earth science curriculum. Each chapter aims to involve readers in what they're learning through succinct text and colorful, creative diagrams. In addition, \"Try This\" boxes suggest activities and questions through which readers can apply their knowledge.","English",27.6,20.7,"550--dc23","32 pp.","https://www.garethstevens.com/9781538213599",null,{"$f":"Table1[[#This Row],[QTY]]*Table1[[#This Row],['# Books]]","v":0},{"$f":"Table1[[#This Row],[QTY]]*Table1[[#This Row],[S&L Price]]","v":0}]
[null,null,null,"Infographics: How It Works",1,"Our Universe","eBook",null,"978-1-5382-1363-6",{"$f":"HYPERLINK(Table1[[#This Row],[eCommerce Hyperlink]],\"Book Weblink\")","v":"Book Weblink"},null,"2018","January 2018",null,null,"Author, Author","Jon Richards, Ed Simkins",null,null,null,null,"S",null,"Grade 4 - 5","Grade 4 - 6","Launching a rocket, getting into orbit, and then landing on a planet are all complicated, multi-step processes that can be difficult to comprehend. This book uses simple, well-designed infographics to make complicated ideas accessible. Covering a variety of STEM topics, this book presents unique information about the solar system, stars, and sun in a visual manner that can help both engage readers and reinforce their knowledge. Activities and questions throughout the book offer readers opportunities to synthesize what they've read and perhaps find ways to use their infographic knowledge in the future.","English",27.6,20.7,"520--dc23","32 pp.","https://www.garethstevens.com/9781538213636",null,{"$f":"Table1[[#This Row],[QTY]]*Table1[[#This Row],['# Books]]","v":0},{"$f":"Table1[[#This Row],[QTY]]*Table1[[#This Row],[S&L Price]]","v":0}]
[null,null,null,"Wild and Wacky Inventions",1,"Weird Beauty Inventions","Library Bound Book",null,"978-1-5382-2067-2",{"$f":"HYPERLINK(Table1[[#This Row],[eCommerce Hyperlink]],\"Book Weblink\")","v":"Book Weblink"},null,"2019","August 2018","Library","6.500 X 9.125","Author","Joan Stoltman",null,null,null,null,"T",null,"Grade 4 - 5","Grade 4 - 6","The world needs inventors to come up with new creations, but some of their ideas are just plain bizarre. Readers of this captivating book will be thrilled to learn about some of the craziest beauty inventions that people have come up with. From strange inventions to help people style their hair to weird makeup inventions, imaginative readers will love learning the stories behind how people came up with these ideas and how the inventions worked, or didn't. This high-interest volume will engage readers, and perhaps leave some wanting to design an invention of their own.","English",27.6,20.7,"646.7'2--dc23","32 pp.","https://www.garethstevens.com/9781538220672",null,{"$f":"Table1[[#This Row],[QTY]]*Table1[[#This Row],['# Books]]","v":0},{"$f":"Table1[[#This Row],[QTY]]*Table1[[#This Row],[S&L Price]]","v":0}]
[null,null,null,"Wild and Wacky Inventions",1,"Weird Inventions for Your Home","eBook",null,"978-1-5382-2080-1",{"$f":"HYPERLINK(Table1[[#This Row],[eCommerce Hyperlink]],\"Book Weblink\")","v":"Book Weblink"},null,"2019","August 2018",null,null,"Author","Daniel R. Faust",null,null,null,null,"T",null,"Grade 4 - 5","Grade 4 - 6","In an age of technology and convenience, there seem to be more and more products designed to help people in their homes. However, inventors have been coming up with creations for the home for as long as people have lived in homes. Over the years, many of these inventions have been quite strange. This innovative book takes a look at how these products worked and explains how some of them have even been remodeled over time to create different, more useful inventions.","English",27.6,20.7,"645--dc23","32 pp.","https://www.garethstevens.com/9781538220801",null,{"$f":"Table1[[#This Row],[QTY]]*Table1[[#This Row],['# Books]]","v":0},{"$f":"Table1[[#This Row],[QTY]]*Table1[[#This Row],[S&L Price]]","v":0}]
[null,null,null,"Wild and Wacky Inventions",1,"Weird Transportation Inventions","Library Bound Book",null,"978-1-5382-2087-0",{"$f":"HYPERLINK(Table1[[#This Row],[eCommerce Hyperlink]],\"Book Weblink\")","v":"Book Weblink"},null,"2019","August 2018","Library","6.500 X 9.125","Author","Kate Light",null,null,null,null,"T",null,"Grade 4 - 5","Grade 4 - 6","People don't often think about how they get from one place to another, but somewhere along the line, someone spent a lot of time coming up with the idea for that car, train, or bus. For all the modes of transportation we see and use every day, there are countless others that are less common or didn't take off. Some of these ideas may be hard to believe, but imaginative readers will get to take a ride on these offbeat inventions that, at least at one point in time, actually existed.","English",27.6,20.7,"388.09--dc23","32 pp.","https://www.garethstevens.com/9781538220870",null,{"$f":"Table1[[#This Row],[QTY]]*Table1[[#This Row],['# Books]]","v":0},{"$f":"Table1[[#This Row],[QTY]]*Table1[[#This Row],[S&L Price]]","v":0}]
[null,null,null,"Amazing World of Science and Math",1,"Chemistry Is Explosive","Library Bound Book",null,"978-1-4824-4992-1",{"$f":"HYPERLINK(Table1[[#This Row],[eCommerce Hyperlink]],\"Book Weblink\")","v":"Book Weblink"},null,"2017","August 2016","Library","7.250 X 9.250","Author","Lisa Regan","6.4","1",null,null,"T",null,"Grade 5","Grade 5 - 6","Chemical reactions are happening all around us, and inside our bodies. From a scab forming on a cut to the creation of carbon dioxide as a waste product, there are so many ways chemistry plays a part in how the human body works. Each spread of this colorful book offers readers a fascinating or surprising fact about popcorn, flour, or other familiar items and relates it to chemistry in understandable and age-appropriate language. These real-life examples and explanations of chemistry in our world engage readers with important STEM concepts such as states of matter, atoms, acids, and more.","English",32.950000000000003,24.7,"540--dc23","48 pp.","https://www.garethstevens.com/9781482449921",null,{"$f":"Table1[[#This Row],[QTY]]*Table1[[#This Row],['# Books]]","v":0},{"$f":"Table1[[#This Row],[QTY]]*Table1[[#This Row],[S&L Price]]","v":0}]
[null,null,null,"Amazing World of Science and Math",1,"Physics Is Out of This World","eBook",null,"978-1-4824-4985-3",{"$f":"HYPERLINK(Table1[[#This Row],[eCommerce Hyperlink]],\"Book Weblink\")","v":"Book Weblink"},null,"2017","August 2016",null,null,"Author","Lisa Regan","6.1","1",null,null,"T",null,"Grade 5","Grade 5 - 6","Some of the coolest science information in our world is out of it—in space! From how the celestial bodies move around our solar system to people’s ability to travel in it, space science is endlessly fascinating. It’s also an incredible vehicle for physics learning! In this book, readers learn about space, light and sound, machines, and forces in an engaging format that introduces each new concept with a real-life, surprising fact. Colorful photographs and understandable language present STEM curriculum topics in a new way, sure to draw readers in with their gravitational pull!","English",32.950000000000003,24.7,"530--dc23","48 pp.","https://www.garethstevens.com/9781482449853",null,{"$f":"Table1[[#This Row],[QTY]]*Table1[[#This Row],['# Books]]","v":0},{"$f":"Table1[[#This Row],[QTY]]*Table1[[#This Row],[S&L Price]]","v":0}]
[null,null,null,"Science in a Flash",6,"Science in a Flash","Library Set",null,"978-1-5382-1434-3",{"$f":"HYPERLINK(Table1[[#This Row],[eCommerce Hyperlink]],\"Book Weblink\")","v":"Book Weblink"},null,"2018","January 2018","Library","8.500 X 11.00",null,null,null,null,null,null,null,null,"Grade 5","Grade 4 - 6","Electricity, vibration, gravity, magnetism, and refraction are all science curriculum topics that can seem complicated and even a little boring to many of us. But when paired with colorful diagrams, pop quizzes, and interesting facts, these science subjects can be exciting. These books on electricity, forces, light, sound, and the states of matter cover all the major points of each topic in a relatable and high-energy way. Including simple definitions and everyday examples, each book engages readers with the science all around them, just in time for science class.","English",165.6,124.2,null,"32 pp.","https://www.garethstevens.com/9781538214343",null,{"$f":"Table1[[#This Row],[QTY]]*Table1[[#This Row],['# Books]]","v":0},{"$f":"Table1[[#This Row],[QTY]]*Table1[[#This Row],[S&L Price]]","v":0}]
[null,null,null,"Science in a Flash",1,"Light","eBook",null,"978-1-5382-1399-5",{"$f":"HYPERLINK(Table1[[#This Row],[eCommerce Hyperlink]],\"Book Weblink\")","v":"Book Weblink"},null,"2018","January 2018",null,null,"Author","Georgia Amson-Bradshaw",null,null,null,null,"T","850L","Grade 5","Grade 4 - 6","Light is the fastest thing in the universe. It travels so quickly that to people on Earth it seems to just appear and disappear. Through fun fact boxes, colorful diagrams, and straightforward explanations, this book introduces readers to important science concepts having to do with light such as reflection, refraction, shadows, and how light moves through materials. Riddles, quiz questions, and hands-on experiments engage readers with each chapter's main topic, helping them synthesize the science curriculum information they've read in a new way.","English",27.6,20.7,"535--dc23","32 pp.","https://www.garethstevens.com/9781538213995",null,{"$f":"Table1[[#This Row],[QTY]]*Table1[[#This Row],['# Books]]","v":0},{"$f":"Table1[[#This Row],[QTY]]*Table1[[#This Row],[S&L Price]]","v":0}]
[null,null,null,"Science in a Flash",1,"Sound","Library Bound Book",null,"978-1-5382-1400-8",{"$f":"HYPERLINK(Table1[[#This Row],[eCommerce Hyperlink]],\"Book Weblink\")","v":"Book Weblink"},null,"2018","January 2018","Library","8.500 X 11.00","Author","Georgia Amson-Bradshaw",null,null,null,null,"T","990L","Grade 5","Grade 4 - 6","It seems impossible that the tiny parts of the ear allow us to hear birds chirping, music, and someone speaking. Each sound travels through the air and causes the parts of the ear to vibrate. The brain uses this information to tell us what we've heard. That's just the beginning of what this book can teach readers about sound. Detailed, colorful diagrams and simple explanations show readers how echoes work, how sound is recorded, what ultrasounds are, and more. Riddles and pop quiz questions ask readers to consider what they've read, aiding their understanding of these science curriculum topics.","English",27.6,20.7,"534--dc23","32 pp.","https://www.garethstevens.com/9781538214008",null,{"$f":"Table1[[#This Row],[QTY]]*Table1[[#This Row],['# Books]]","v":0},{"$f":"Table1[[#This Row],[QTY]]*Table1[[#This Row],[S&L Price]]","v":0}]
[null,null,null,"Beyond the Theory: Science of the Future",1,"Are We Alone in the Universe? Theories About Intelligent Life on Other Planets","eBook",null,"978-1-5382-2675-9",{"$f":"HYPERLINK(Table1[[#This Row],[eCommerce Hyperlink]],\"Book Weblink\")","v":"Book Weblink"},null,"2019","August 2018",null,null,"Author","Tom Jackson","6.7","1",null,null,"V","1010L","Grade 5 - 6","Grade 5 - 8","The premise that alien life exists has had a grip on writers, artists, thinkers, and scientists since possibly the earliest days of civilization. This awesome text explores many of the critical parts of astrobiology from theories about exoplanets and the formation of solar systems to places like the Lowell Observatory and Roswell and people like H. G. Wells and Carl Sagan. Astrobiology, or the search for aliens, has never been so accessible as in this text. With full-color artwork and gripping, accessible main text, sidebars, and fact boxes, readers enjoy indulging in alien theories all the while learning science and history.","English",32.950000000000003,24.7,"576.8'39--dc23","48 pp.","https://www.garethstevens.com/9781538226759",null,{"$f":"Table1[[#This Row],[QTY]]*Table1[[#This Row],['# Books]]","v":0},{"$f":"Table1[[#This Row],[QTY]]*Table1[[#This Row],[S&L Price]]","v":0}]
[null,null,null,"Beyond the Theory: Science of the Future",1,"Is Time Travel Possible? Theories About Time","eBook",null,"978-1-5382-2663-6",{"$f":"HYPERLINK(Table1[[#This Row],[eCommerce Hyperlink]],\"Book Weblink\")","v":"Book Weblink"},null,"2019","August 2018",null,null,"Author","Tom Jackson","6.6","1",null,null,"V","970L","Grade 5 - 6","Grade 5 - 8","Even the most reluctant readers will be fascinated to read about how twin astronauts Scott and Mark Kelly are a different age because Scott spent a year living on the International Space Station. This book looks at how time travel has been thought of from ancient times to modern day. It even discusses what humans might do if they could travel in time. From string theory to Einstein's theory of relativity, Heisenberg's uncertainty principle to the grandfather paradox, and wormholes to quantum physics, everything time travel related is discussed here in easy-to-understand language and complimented by vivid artwork on every spread.","English",32.950000000000003,24.7,"530.11--dc23","48 pp.","https://www.garethstevens.com/9781538226636",null,{"$f":"Table1[[#This Row],[QTY]]*Table1[[#This Row],['# Books]]","v":0},{"$f":"Table1[[#This Row],[QTY]]*Table1[[#This Row],[S&L Price]]","v":0}]
[null,null,null,"Beyond the Theory: Science of the Future",1,"Will Robots Ever Be Smarter Than Humans? Theories About Artificial Intelligence","eBook",null,"978-1-5382-2660-5",{"$f":"HYPERLINK(Table1[[#This Row],[eCommerce Hyperlink]],\"Book Weblink\")","v":"Book Weblink"},null,"2019","August 2018",null,null,"Author","Tom Jackson","6.9","1",null,null,"V",null,"Grade 5 - 6","Grade 5 - 8","It may have been a distant future when The Jetsons aired, but now the reality of autonomous machines with artificial intelligence is real. The ability of machines to \"think\" and \"learn\" fascinates everyone, but now even the most reluctant readers have a chance to engage in learning about the history and future of robotics. This book covers everything from the 18th century French automatons to Elon Musk, Ada Lovelace to Alan Turing, self-driving cars and smart homes to assembly and military robots. Each spread is complimented with vivid artwork that further illuminates the accessible, exciting text.","English",32.950000000000003,24.7,"006.3--dc23","48 pp.","https://www.garethstevens.com/9781538226605",null,{"$f":"Table1[[#This Row],[QTY]]*Table1[[#This Row],['# Books]]","v":0},{"$f":"Table1[[#This Row],[QTY]]*Table1[[#This Row],[S&L Price]]","v":0}]
[null,null,null,"Crime Solvers",1,"Hunting the Cyber Trail: Be a Computer Forensic Scientist","eBook",null,"978-1-5382-0625-6",{"$f":"HYPERLINK(Table1[[#This Row],[eCommerce Hyperlink]],\"Book Weblink\")","v":"Book Weblink"},null,"2018","August 2017",null,null,"Author","Alix Wood",null,null,null,null,"V","810L","Grade 6","Grade 6 - 8","Forensic science is often associated with dead bodies, but forensics, the use of science to solve crimes, is increasingly needed in the modern world to crack cybercrimes. Computer forensic investigators locate and analyze data that can lead to the arrest of cybercriminals, such as those who plant malicious code and steal personal information. Future forensic scientists will love learning how professionals chase down criminals in the cyber world through a thrilling case in which essential aspects of this career are applied in true-to-life situations. Realistic photographs and images make this volume both gripping and educational.","English",32.950000000000003,24.7,"363.25’968--dc23","48 pp.","https://www.garethstevens.com/9781538206256",null,{"$f":"Table1[[#This Row],[QTY]]*Table1[[#This Row],['# Books]]","v":0},{"$f":"Table1[[#This Row],[QTY]]*Table1[[#This Row],[S&L Price]]","v":0}]
[null,null,null,"Crime Solvers",1,"The Body in the Woods: Be a Crime Scene Investigator","Library Bound Book",null,"978-1-5382-0629-4",{"$f":"HYPERLINK(Table1[[#This Row],[eCommerce Hyperlink]],\"Book Weblink\")","v":"Book Weblink"},null,"2018","August 2017","Library","7.250 X 9.250","Author","Alix Wood",null,null,null,null,"V","780L","Grade 6","Grade 6 - 8","When crime scene investigators (CSIs) are called to the location of a murder, they document what they see in detail and carefully collect the evidence. Evidence isn't always obvious to the untrained eye. Readers of this remarkable book, which includes dynamic photographs, will become trained to know what to look for at a crime scene as they tag along with scientists on an intriguing case. They'll learn about various kinds of evidence as well as how it's analyzed to provide essential clues about what happened at the scene and how to find the killer.","English",32.950000000000003,24.7,"363.25--dc23","48 pp.","https://www.garethstevens.com/9781538206294",null,{"$f":"Table1[[#This Row],[QTY]]*Table1[[#This Row],['# Books]]","v":0},{"$f":"Table1[[#This Row],[QTY]]*Table1[[#This Row],[S&L Price]]","v":0}]
[null,null,null,"Backyard Bird Watchers",1,"A Bird Watcher's Guide to Hummingbirds","Library Bound Book",null,"978-1-5382-0317-0",{"$f":"HYPERLINK(Table1[[#This Row],[eCommerce Hyperlink]],\"Book Weblink\")","v":"Book Weblink"},null,"2018","August 2017","Library","8.500 X 8.500","Author","Aife Arnim","3.8","0.5",null,null,"M",null,"Grade 2 - 3","Grade 2 - 5","Hummingbirds may be the most jaw-dropping birds. Their wings flap 80 times per second and they can also hover. Astonishing facts like these abound in this guide to the diminutive bird, in the appealing guise of a young bird watcher's journal. The narrator takes readers under his wing, showing them how they, too, can be bird watchers while addressing important science concepts accompanied by beautiful photographs of hummingbirds in flight.","English",26.25,19.7,"598.7/64--dc23","32 pp.","https://www.garethstevens.com/9781538203170",null,{"$f":"Table1[[#This Row],[QTY]]*Table1[[#This Row],['# Books]]","v":0},{"$f":"Table1[[#This Row],[QTY]]*Table1[[#This Row],[S&L Price]]","v":0}]
[null,null,null,"Backyard Bird Watchers",1,"A Bird Watcher's Guide to Mourning Doves","eBook",null,"978-1-5382-0326-2",{"$f":"HYPERLINK(Table1[[#This Row],[eCommerce Hyperlink]],\"Book Weblink\")","v":"Book Weblink"},null,"2018","August 2017",null,null,"Author","Aife Arnim","4","0.5",null,null,"M",null,"Grade 2 - 3","Grade 2 - 5","If you hear a mourning dove’s gentle cooing, don’t look up—look down. These graceful creatures like to forage for seeds on the ground. They’ve been known to gobble up as many as 17,000 seeds in a sitting! Young bird watchers will be fascinated by the hidden life of these birds including migration habits, habitats, mating rituals, and some awesome adaptations for survival. Their guide to all-things-birds is a young bird watcher, encouraging readers to get outside and try this hobby themselves.","English",26.25,19.7,"598.6’5--dc23","32 pp.","https://www.garethstevens.com/9781538203262",null,{"$f":"Table1[[#This Row],[QTY]]*Table1[[#This Row],['# Books]]","v":0},{"$f":"Table1[[#This Row],[QTY]]*Table1[[#This Row],[S&L Price]]","v":0}]
[null,null,null,"Backyard Bird Watchers",1,"A Bird Watcher's Guide to Wrens","Library Bound Book",null,"978-1-5382-0351-4",{"$f":"HYPERLINK(Table1[[#This Row],[eCommerce Hyperlink]],\"Book Weblink\")","v":"Book Weblink"},null,"2018","August 2017","Library","8.500 X 8.500","Author","Grace Elora","3.8","0.5",null,null,"L",null,"Grade 2 - 3","Grade 2 - 5","The fat bundle of feathers called the house wren is a cute bird. It often cheerfully trills its sweet songs. However, this little fowl’s mood can turn really foul when another bird has a nesting site it wants! It may peck at larger birds to get them to move—and even push eggs out of a nest. Readers of this absorbing book will find that, with all kinds of wrens, looks can be deceiving. They’ll love the diverting narrative and fun fact boxes and especially the up-close look at wrens in their native habitats.","English",26.25,19.7,"598.072’34--dc23","32 pp.","https://www.garethstevens.com/9781538203514",null,{"$f":"Table1[[#This Row],[QTY]]*Table1[[#This Row],['# Books]]","v":0},{"$f":"Table1[[#This Row],[QTY]]*Table1[[#This Row],[S&L Price]]","v":0}]
[null,null,null,"Backyard Bird Watchers",1,"A Bird Watcher's Guide to Chickadees","Library Bound Book",null,"978-1-4824-3901-4",{"$f":"HYPERLINK(Table1[[#This Row],[eCommerce Hyperlink]],\"Book Weblink\")","v":"Book Weblink"},null,"2016","January 2016","Library","8.500 X 8.500","Author","Mark J. Harasymiw ","4","0.5",null,null,"L",null,"Grade 2 - 3","Grade 2 - 5","“Chick-a-dee-dee-dee!” That’s the call of the chickadee! This amazing little creature is a favorite of many bird watchers. It can remember thousands of places where it hides its food, and its heart beats about 500 times a minute! These facts and more are presented in the form of a young bird watcher’s journal as he discovers the delights of the natural world in his own backyard. Readers will be entertained and educated by this unique presentation of nonfiction science themes such as life cycles and habitats. Fact boxes and diagrams abound in this valuable volume.","English",26.25,19.7,"598.8'24--dc23","32 pp.","https://www.garethstevens.com/9781482439014",null,{"$f":"Table1[[#This Row],[QTY]]*Table1[[#This Row],['# Books]]","v":0},{"$f":"Table1[[#This Row],[QTY]]*Table1[[#This Row],[S&L Price]]","v":0}]
[null,null,null,"Backyard Bird Watchers",1,"A Bird Watcher's Guide to Goldfinches","eBook",null,"978-1-4824-3906-9",{"$f":"HYPERLINK(Table1[[#This Row],[eCommerce Hyperlink]],\"Book Weblink\")","v":"Book Weblink"},null,"2016","January 2016",null,null,"Author","Shalini Saxena","4.2","0.5",null,null,"M",null,"Grade 2 - 3","Grade 2 - 5","American goldfinches are much beloved across North America, as evidenced by their status as state bird of Iowa, New Jersey, and Washington. These acrobatic little creatures seem to bounce through the air, making them a popular subject for backyard bird watchers. The narrator of this fun journal-styled volume offers a wealth of information about these little yellow-feathered birds as well as how readers can observe their behaviors for themselves. Cool facts, diagrams, and photographs show how interesting the hobby of bird-watching can be.","English",26.25,19.7,"598.8'85--dc23","32 pp.","https://www.garethstevens.com/9781482439069",null,{"$f":"Table1[[#This Row],[QTY]]*Table1[[#This Row],['# Books]]","v":0},{"$f":"Table1[[#This Row],[QTY]]*Table1[[#This Row],[S&L Price]]","v":0}]
[null,null,null,"Backyard Bird Watchers",1,"A Bird Watcher's Guide to Robins","eBook",null,"978-1-4824-3910-6",{"$f":"HYPERLINK(Table1[[#This Row],[eCommerce Hyperlink]],\"Book Weblink\")","v":"Book Weblink"},null,"2016","January 2016",null,null,"Author","Rebecca Carey Rohan","3.9","0.5",null,null,"M",null,"Grade 2 - 3","Grade 2 - 5","Winter-weary people everywhere rejoice when they finally spy robins, an early sign of spring. These cheery birds can be seen hopping on lawns, tugging worms out of the ground. This delightful account of a young bird watcher’s discoveries about robins will both entertain and educate future ornithologists about the robin’s habitat, nest-making behaviors, migratory habits, and other adaptations. Beautifully designed, this volume enthusiastically promotes the hobby of bird-watching.","English",26.25,19.7,"598.8'42--dc23","32 pp.","https://www.garethstevens.com/9781482439106",null,{"$f":"Table1[[#This Row],[QTY]]*Table1[[#This Row],['# Books]]","v":0},{"$f":"Table1[[#This Row],[QTY]]*Table1[[#This Row],[S&L Price]]","v":0}]
[null,null,null,"Cutest Animals...That Could Kill You!",1,"Deadly Pandas","eBook",null,"978-1-5382-1083-3",{"$f":"HYPERLINK(Table1[[#This Row],[eCommerce Hyperlink]],\"Book Weblink\")","v":"Book Weblink"},null,"2018","January 2018",null,null,"Author","Mary Molly Shea","4.3","0.5",null,null,"L",null,"Grade 2 - 3","Grade 2 - 5","Pandas are undeniably adorable. Their fluffy fur and big eyes look just like a teddy bear’s, but don’t even think of snuggling with them. They have one of the most powerful bites of any carnivore. Though they usually reserve their teeth for chewing tough pieces of bamboo, they’ve bitten people, too. This compelling volume, full of beautiful photographs and gripping facts, tells readers all about pandas’ life cycle as well as why it’s wise to keep a wary distance from these awesome animals.","English",23.6,17.7,"599.789--dc23","24 pp.","https://www.garethstevens.com/9781538210833",null,{"$f":"Table1[[#This Row],[QTY]]*Table1[[#This Row],['# Books]]","v":0},{"$f":"Table1[[#This Row],[QTY]]*Table1[[#This Row],[S&L Price]]","v":0}]
[null,null,null,"Cutest Animals...That Could Kill You!",1,"Perilous Pumas","eBook",null,"978-1-5382-1094-9",{"$f":"HYPERLINK(Table1[[#This Row],[eCommerce Hyperlink]],\"Book Weblink\")","v":"Book Weblink"},null,"2018","January 2018",null,null,"Author","Mary Molly Shea","4.1","0.5",null,null,"L",null,"Grade 2 - 3","Grade 2 - 5","Pumas, mountain lions, cougars, panthers, catamounts, they’re all the same big, breathtaking cat, but don’t even think about petting one. No matter how cute these cats are, they kill. This wild guide tracks down these fascinating felines in their native habitats and reveals to readers their hunting strategies as well as their essential role in their ecosystems. Jaw-dropping fact boxes and a graphic organizer provide further support for the important science concepts in this valuable volume.","English",23.6,17.7,"599.75'24--dc23","24 pp.","https://www.garethstevens.com/9781538210949",null,{"$f":"Table1[[#This Row],[QTY]]*Table1[[#This Row],['# Books]]","v":0},{"$f":"Table1[[#This Row],[QTY]]*Table1[[#This Row],[S&L Price]]","v":0}]
[null,null,null,"Cutest Animals...That Could Kill You!",1,"Vicious Monkeys","eBook",null,"978-1-5382-1100-7",{"$f":"HYPERLINK(Table1[[#This Row],[eCommerce Hyperlink]],\"Book Weblink\")","v":"Book Weblink"},null,"2018","January 2018",null,null,"Author","Rosie Banks","4.1","0.5",null,null,"M",null,"Grade 2 - 3","Grade 2 - 5","Monkeys are some of the most popular animals at the zoo, and with good reason. They're mischievous, funny, and endearing, but these charming beings can be very dangerous. Like all animals, when they feel threatened, they lash out. Monkeys have large, piercing teeth they can use as deadly weapons. They're also surprisingly strong. There's so much to learn about these primates, and this accessible volume contains the most important facts that young readers want to know.","English",23.6,17.7,"599.8--dc23","24 pp.","https://www.garethstevens.com/9781538211007",null,{"$f":"Table1[[#This Row],[QTY]]*Table1[[#This Row],['# Books]]","v":0},{"$f":"Table1[[#This Row],[QTY]]*Table1[[#This Row],[S&L Price]]","v":0}]
[null,null,null,"Cutest Animals...That Could Kill You!",1,"Fierce Frogs","Library Bound Book",null,"978-1-4824-4911-2",{"$f":"HYPERLINK(Table1[[#This Row],[eCommerce Hyperlink]],\"Book Weblink\")","v":"Book Weblink"},null,"2017","August 2016","Library","8.500 X 8.500","Author","Eleanor Snyder","4.9","0.5",null,null,"L",null,"Grade 2 - 3","Grade 2 - 5","Tiny colorful frogs seem like they’d make the cutest pets—until you learn that they’re poisonous! In this riveting volume, readers head into the rainforest to meet tiny amphibians with a most deadly adaptation. They’ll learn where frog poison comes from and how perhaps just 0.0000004 ounce is enough to kill an adult man! They’ll also find out about the newly discovered species of venomous frogs that inject poison using their spiny head. Vivid photographs highlight the beauty of these creatures, while text stresses the need to keep a safe distance from all such fierce frogs.","English",23.6,17.7,"597.8/77--dc23","24 pp.","https://www.garethstevens.com/9781482449112",null,{"$f":"Table1[[#This Row],[QTY]]*Table1[[#This Row],['# Books]]","v":0},{"$f":"Table1[[#This Row],[QTY]]*Table1[[#This Row],[S&L Price]]","v":0}]
[null,null,null,"Cutest Animals...That Could Kill You!",1,"Menacing Chimpanzees","Library Bound Book",null,"978-1-4824-4914-3",{"$f":"HYPERLINK(Table1[[#This Row],[eCommerce Hyperlink]],\"Book Weblink\")","v":"Book Weblink"},null,"2017","August 2016","Library","8.500 X 8.500","Author","Mary Molly Shea","4.5","0.5",null,null,"M",null,"Grade 2 - 3","Grade 2 - 5","The apes called chimpanzees are closely related to humans. These intelligent primates share many characteristics with their human counterparts, including sympathy, grief, and curiosity. They can solve problems and even use some tools. They also share another feature with us: they can be dangerous. Chimps are known to attack each other, and even people, with deadly results. This book answers why these mostly gentle creatures can turn violent and the dangers they face in their native habitats that have led to their endangered status. Arresting photographs and stunning facts make this high-interest volume especially appealing.","English",23.6,17.7,"599.885--dc23","24 pp.","https://www.garethstevens.com/9781482449143",null,{"$f":"Table1[[#This Row],[QTY]]*Table1[[#This Row],['# Books]]","v":0},{"$f":"Table1[[#This Row],[QTY]]*Table1[[#This Row],[S&L Price]]","v":0}]
[null,null,null,"Animal Invaders: Destroying Native Habitats",1,"Attack of the Asian Carp","eBook",null,"978-1-4824-5695-0",{"$f":"HYPERLINK(Table1[[#This Row],[eCommerce Hyperlink]],\"Book Weblink\")","v":"Book Weblink"},null,"2017","January 2017",null,null,"Author","Santana Hunt","5.4","0.5",null,null,"M",null,"Grade 2 - 3","Grade 2 - 5","In the 1970s, Asian carp were brought to Arkansas fish farms. Many escaped, and they’ve been invading US waterways ever since. Through the story of the Asian carp, readers learn about invasive species and the harm they cause to native plants and animals. Examples of recent attempts at controlling the Asian carp population, accompanying fact boxes, full-color photographs, and maps help readers understand the extent of the invasion. An overarching theme of conservation and respect for existing ecosystems add to the main content’s inclusion of science curriculum topics such as animal life cycles and food chains.","English",23.6,17.7,"578.6’2--dc23","24 pp.","https://www.garethstevens.com/9781482456950",null,{"$f":"Table1[[#This Row],[QTY]]*Table1[[#This Row],['# Books]]","v":0},{"$f":"Table1[[#This Row],[QTY]]*Table1[[#This Row],[S&L Price]]","v":0}]
[null,null,null,"Animal Invaders: Destroying Native Habitats",1,"Attack of the Killer Bees","Library Bound Book",null,"978-1-4824-5672-1",{"$f":"HYPERLINK(Table1[[#This Row],[eCommerce Hyperlink]],\"Book Weblink\")","v":"Book Weblink"},null,"2017","January 2017","Library","8.500 X 8.500","Author","Emily Mahoney","5.3","0.5",null,null,"M",null,"Grade 2 - 3","Grade 2 - 5","Since the mating of certain European and African bees in Brazil during the late 1950s, an aggressive bee has been slowly heading northward. These Africanized honeybees are known as invasive species today as they disrupt the ecosystems they enter. More information about the “killer bee’s” spread draws readers into the interesting scientific topic of invasive species. Fascinating fact boxes and terrifying maps of the bees’ spread highlight how serious a threat invasive species are. With discussions about ecosystem balance, food chains, and conservation, the main content undoubtedly supplements the science curriculum.","English",23.6,17.7,"595.79/9--dc23","24 pp.","https://www.garethstevens.com/9781482456721",null,{"$f":"Table1[[#This Row],[QTY]]*Table1[[#This Row],['# Books]]","v":0},{"$f":"Table1[[#This Row],[QTY]]*Table1[[#This Row],[S&L Price]]","v":0}]
[null,null,null,"Freaky Fish",6,"Freaky Fish","Library Set",null,"978-1-5382-0468-9",{"$f":"HYPERLINK(Table1[[#This Row],[eCommerce Hyperlink]],\"Book Weblink\")","v":"Book Weblink"},null,"2018","August 2017","Library","8.500 X 8.500",null,null,null,null,null,null,null,null,"Grade 2 - 3","Grade 2 - 5","The waters of the world are filled with strange, fantastic creatures that readers will enjoy learning about. From the high-voltage electric eel to the poisonous pufferfish, this set has the inside scoop on the bizarre lives, shapes, and habitats of some of the freakiest ocean creatures. Main content is brought into vivid focus with vibrant photographs and fact boxes full of wacky tidbits. Features include: Close-up photography shares details difficult to see in real life. Age-appropriate science concepts are easily introduced, such as habitats and ecosystems. Inspires further exploration of sea and marine life.","English",141.6,106.2,null,"24 pp.","https://www.garethstevens.com/9781538204689",null,{"$f":"Table1[[#This Row],[QTY]]*Table1[[#This Row],['# Books]]","v":0},{"$f":"Table1[[#This Row],[QTY]]*Table1[[#This Row],[S&L Price]]","v":0}]
[null,null,null,"Freaky Fish",1,"Frogfish","Library Bound Book",null,"978-1-5382-0259-3",{"$f":"HYPERLINK(Table1[[#This Row],[eCommerce Hyperlink]],\"Book Weblink\")","v":"Book Weblink"},null,"2018","August 2017","Library","8.500 X 8.500","Author","Tanya Dellaccio","4.8","0.5",null,null,"L",null,"Grade 2 - 3","Grade 2 - 5","They can change color. They can strike in as little as 6 milliseconds. They can regenerate parts of their body. They are frogfish! Even reluctant readers are sure to enjoy learning all about these wacky, weird, and wonderful fish. Full-color photographs and exciting, age-appropriate text show just how varied the frogfish can be in shape, size, and color. This book provides a great opportunity to learn about evolution, ecosystems, and so much more. Fact boxes pop exciting, sensationally strange tidbits onto every page, making the readers’ experience both fun and educational.","English",23.6,17.7,"597’.62--dc23","24 pp.","https://www.garethstevens.com/9781538202593",null,{"$f":"Table1[[#This Row],[QTY]]*Table1[[#This Row],['# Books]]","v":0},{"$f":"Table1[[#This Row],[QTY]]*Table1[[#This Row],[S&L Price]]","v":0}]
[null,null,null,"Freaky Fish",1,"Leafy Sea Dragons","eBook",null,"978-1-5382-0254-8",{"$f":"HYPERLINK(Table1[[#This Row],[eCommerce Hyperlink]],\"Book Weblink\")","v":"Book Weblink"},null,"2018","August 2017",null,null,"Author","Jill Keppeler","4.6","0.5",null,null,"L",null,"Grade 2 - 3","Grade 2 - 5","Off the southern and western coasts of Australia lives a fish with transparent fins shaped like seaweed, undulating slowly in the water, mimicking its plant surroundings to survive. This incredible example of evolution is an endangered species, a sad reality but a great opportunity to teach. This book highlights the incredible physical attributes of the leafy sea dragon through astonishing full-color photographs, and includes wacky tidbits on every page to entice readers of all ages into learning about biology, ecosystems, and more!","English",23.6,17.7,"597’.679--dc23","24 pp.","https://www.garethstevens.com/9781538202548",null,{"$f":"Table1[[#This Row],[QTY]]*Table1[[#This Row],['# Books]]","v":0},{"$f":"Table1[[#This Row],[QTY]]*Table1[[#This Row],[S&L Price]]","v":0}]
[null,null,null,"Insects: Six-Legged Nightmares",1,"Assassin Bugs Kill!","eBook",null,"978-1-5382-1250-9",{"$f":"HYPERLINK(Table1[[#This Row],[eCommerce Hyperlink]],\"Book Weblink\")","v":"Book Weblink"},null,"2018","January 2018",null,null,"Author","Kristen Rajczak Nelson","5","0.5",null,null,"M",null,"Grade 2 - 3","Grade 2 - 5","Assassin bugs are amazing creatures that use their long mouthparts to kill their prey. These ambushing bugs wait on flowers, where other bugs will land while looking for a meal. Unfortunately for them, however, they become the assassin bug's meal. Assassin bugs snatch their prey and drink their body fluids as if through a straw. With vivid photographs showing these creepy killers in action, readers experience the wild world bugs live in where no potential meal is safe.","English",23.6,17.7,"595--dc23","24 pp.","https://www.garethstevens.com/9781538212509",null,{"$f":"Table1[[#This Row],[QTY]]*Table1[[#This Row],['# Books]]","v":0},{"$f":"Table1[[#This Row],[QTY]]*Table1[[#This Row],[S&L Price]]","v":0}]
[null,null,null,"Insects: Six-Legged Nightmares",1,"Giant Wetas Shock!","Library Bound Book",null,"978-1-5382-1261-5",{"$f":"HYPERLINK(Table1[[#This Row],[eCommerce Hyperlink]],\"Book Weblink\")","v":"Book Weblink"},null,"2018","January 2018","Library","8.500 X 8.500","Author","Janey Levy","4.5","0.5",null,null,"M",null,"Grade 2 - 3","Grade 2 - 5","Giant wetas can't jump, which is a good thing because they're gigantic. This ancient animal is the heaviest insect ever found and can weigh as much as a mouse. Its name means 'God of ugly things.' Though these creepy-crawlies are huge and scary-looking, readers learn they aren't dangerous to humans. In fact, these giant insects mostly love carrots. Through colorful photographs of these supersized insects, readers get an up close and personal look at these oversized but harmless bugs.","English",23.6,17.7,"595.7'26--dc23","24 pp.","https://www.garethstevens.com/9781538212615",null,{"$f":"Table1[[#This Row],[QTY]]*Table1[[#This Row],['# Books]]","v":0},{"$f":"Table1[[#This Row],[QTY]]*Table1[[#This Row],[S&L Price]]","v":0}]
[null,null,null,"Insects: Six-Legged Nightmares",1,"Giant Wetas Shock!","eBook",null,"978-1-5382-1262-2",{"$f":"HYPERLINK(Table1[[#This Row],[eCommerce Hyperlink]],\"Book Weblink\")","v":"Book Weblink"},null,"2018","January 2018",null,null,"Author","Janey Levy","4.5","0.5",null,null,"M",null,"Grade 2 - 3","Grade 2 - 5","Giant wetas can't jump, which is a good thing because they're gigantic. This ancient animal is the heaviest insect ever found and can weigh as much as a mouse. Its name means 'God of ugly things.' Though these creepy-crawlies are huge and scary-looking, readers learn they aren't dangerous to humans. In fact, these giant insects mostly love carrots. Through colorful photographs of these supersized insects, readers get an up close and personal look at these oversized but harmless bugs.","English",23.6,17.7,"595.7'26--dc23","24 pp.","https://www.garethstevens.com/9781538212622",null,{"$f":"Table1[[#This Row],[QTY]]*Table1[[#This Row],['# Books]]","v":0},{"$f":"Table1[[#This Row],[QTY]]*Table1[[#This Row],[S&L Price]]","v":0}]
[null,null,null,"Insects: Six-Legged Nightmares",1,"Jewel Wasps Take Over!","eBook",null,"978-1-5382-1270-7",{"$f":"HYPERLINK(Table1[[#This Row],[eCommerce Hyperlink]],\"Book Weblink\")","v":"Book Weblink"},null,"2018","January 2018",null,null,"Author","Caitie McAneney","4.8","0.5",null,null,"M",null,"Grade 2 - 3","Grade 2 - 5","The jewel wasp is a unique creature that is not afraid to take advantage of the bugs around it. This creepy insect, also known as the emerald cockroach wasp, actually takes over the body of its cockroach victims to make them zombies. Jewel wasps use their unique venom to control a cockroach and use it as a nest for their eggs. With full-color photographs of these jewel wasps showcasing their amazing abilities, readers learn how they survive with the unwilling help of other creatures.","English",23.6,17.7,"595.79'8--dc23","24 pp.","https://www.garethstevens.com/9781538212707",null,{"$f":"Table1[[#This Row],[QTY]]*Table1[[#This Row],['# Books]]","v":0},{"$f":"Table1[[#This Row],[QTY]]*Table1[[#This Row],[S&L Price]]","v":0}]
[null,null,null,"Spiders: Eight-Legged Terrors",1,"Black Widows","eBook",null,"978-1-4824-6498-6",{"$f":"HYPERLINK(Table1[[#This Row],[eCommerce Hyperlink]],\"Book Weblink\")","v":"Book Weblink"},null,"2018","August 2017",null,null,"Author","Jill Keppeler","4.6","0.5",null,null,"M",null,"Grade 2 - 3","Grade 2 - 5","The name “black widow” strikes fear into hearts of those living where these spiders reside. These fearsome arachnids have venom about 15 times more powerful than that of a rattlesnake! With their distinctive black bodies and red mark on their abdomens, black widows terrorize those afraid of spiders and their poisonous bites. This book explores how these creatures live, where to find them, and what they use all that venom for. It also gives readers a look at why these spiders are so feared, and what to do if they bite humans.","English",23.6,17.7,"595.4’4--dc23","24 pp.","https://www.garethstevens.com/9781482464986",null,{"$f":"Table1[[#This Row],[QTY]]*Table1[[#This Row],['# Books]]","v":0},{"$f":"Table1[[#This Row],[QTY]]*Table1[[#This Row],[S&L Price]]","v":0}]
[null,null,null,"Spiders: Eight-Legged Terrors",1,"Giant Huntsman Spiders","eBook",null,"978-1-5382-0212-8",{"$f":"HYPERLINK(Table1[[#This Row],[eCommerce Hyperlink]],\"Book Weblink\")","v":"Book Weblink"},null,"2018","August 2017",null,null,"Author","Melissa Raé Shofner","4.8","0.5",null,null,"M",null,"Grade 2 - 3","Grade 2 - 5","If a spider has “giant” in its name, it’s bound to terrorize people of all ages. These large arachnids are the world’s largest spider by leg span. What’s more—they don’t build webs! Instead, they hunt down their prey like so many other predators. Through full-color photographs of these dazzling creatures and engaging text, readers explore the world of the giant huntsman to learn how and where they live, and just how large these monster creatures can grow.","English",23.6,17.7,"595.4’4--dc23","24 pp.","https://www.garethstevens.com/9781538202128",null,{"$f":"Table1[[#This Row],[QTY]]*Table1[[#This Row],['# Books]]","v":0},{"$f":"Table1[[#This Row],[QTY]]*Table1[[#This Row],[S&L Price]]","v":0}]
[null,null,null,"Living with the Dinosaurs",1,"Crocodiles Lived with the Dinosaurs!","Library Bound Book",null,"978-1-4824-5647-9",{"$f":"HYPERLINK(Table1[[#This Row],[eCommerce Hyperlink]],\"Book Weblink\")","v":"Book Weblink"},null,"2017","January 2017","Library","8.500 X 8.500","Author","Melissa Raé Shofner","4.9","0.5",null,null,"O","900L","Grade 2 - 3","Grade 2 - 5","It’s incredible to think that crocodiles were contemporaries of the dinosaurs. Not all crocs looked like the creatures we know today, though. Some were real monsters—such as Machimosaurus rex. It was 30 feet (10 m) long! Reptile lovers and dinosaur enthusiasts will love the details and images found in this high-interest book. They’ll also review important science concepts, such as adaptation and extinction, and relish sharing the fascinating facts they absorb with their friends!","English",23.6,17.7,"597.98’2--dc23","24 pp.","https://www.garethstevens.com/9781482456479",null,{"$f":"Table1[[#This Row],[QTY]]*Table1[[#This Row],['# Books]]","v":0},{"$f":"Table1[[#This Row],[QTY]]*Table1[[#This Row],[S&L Price]]","v":0}]
[null,null,null,"Living with the Dinosaurs",1,"Horseshoe Crabs Lived with the Dinosaurs!","eBook",null,"978-1-4824-5658-5",{"$f":"HYPERLINK(Table1[[#This Row],[eCommerce Hyperlink]],\"Book Weblink\")","v":"Book Weblink"},null,"2017","January 2017",null,null,"Author","Sarah Machajewski","4.7","0.5",null,null,"O","860L","Grade 2 - 3","Grade 2 - 5","Ancestors of horseshoe crabs date back over 450 million years. That's before dinosaurs walked Earth. Readers will find out more about these intriguing arthropods, which aren't even crabs! They will explore theories about why they survived while dinosaurs became extinct. They’ll learn about horseshoe crabs' unique behaviors, how they've adapted over the years, and gain an overall appreciation for these magnificent marine creatures.","English",23.6,17.7,"595.4’92--dc23","24 pp.","https://www.garethstevens.com/9781482456585",null,{"$f":"Table1[[#This Row],[QTY]]*Table1[[#This Row],['# Books]]","v":0},{"$f":"Table1[[#This Row],[QTY]]*Table1[[#This Row],[S&L Price]]","v":0}]
[null,null,null,"Living with the Dinosaurs",1,"Spiders Lived with the Dinosaurs!","eBook",null,"978-1-4824-5685-1",{"$f":"HYPERLINK(Table1[[#This Row],[eCommerce Hyperlink]],\"Book Weblink\")","v":"Book Weblink"},null,"2017","January 2017",null,null,"Author","Tanya Dellaccio","5","0.5",null,null,"O","880L","Grade 2 - 3","Grade 2 - 5","Some spiders today are definitely scary. They might look hairy, have a poisonous bite, or especially long legs. But some spiders that lived during the age of the dinosaurs were really scary—and large! Yet, readers won’t want to run away from the astonishing images and information in this volume about prehistoric spiders. They’ll love discovering what these creatures were like and how they changed over the centuries into the creatures we know today. Important science concepts and vocabulary make this motivating volume a perfect addition to any animal library.","English",23.6,17.7,"595.4’4--dc23","24 pp.","https://www.garethstevens.com/9781482456851",null,{"$f":"Table1[[#This Row],[QTY]]*Table1[[#This Row],['# Books]]","v":0},{"$f":"Table1[[#This Row],[QTY]]*Table1[[#This Row],[S&L Price]]","v":0}]
[null,null,null,"Massive Animal Migrations",1,"Journey of the Caribou","eBook",null,"978-1-5382-1652-1",{"$f":"HYPERLINK(Table1[[#This Row],[eCommerce Hyperlink]],\"Book Weblink\")","v":"Book Weblink"},null,"2019","August 2018",null,null,"Author","Benjamin O. Samuelson","4.8","0.5",null,null,"N",null,"Grade 2 - 3","Grade 2 - 5","It's hard to imagine a herd 96,000 square miles large, that's nearly half the size of France. It's harder still to imagine that enormous herd of majestic, gigantic creatures traveling 600 miles across the great white north every year. Caribou are one of the world's largest migratory animals, and now their journey is accessible to young readers. This volume details their daunting travel in clear, engaging language complemented by easy-to-understand graphics and vibrant full-color photography. A map is also included to give readers a visual sense of the great lengths these hardy creatures endure to complete their truly massive migration.","English",23.6,17.7,"599.65'8--dc23","24 pp.","https://www.garethstevens.com/9781538216521",null,{"$f":"Table1[[#This Row],[QTY]]*Table1[[#This Row],['# Books]]","v":0},{"$f":"Table1[[#This Row],[QTY]]*Table1[[#This Row],[S&L Price]]","v":0}]
[null,null,null,"Massive Animal Migrations",1,"Journey of the Elephant Seals","Library Bound Book",null,"978-1-5382-1645-3",{"$f":"HYPERLINK(Table1[[#This Row],[eCommerce Hyperlink]],\"Book Weblink\")","v":"Book Weblink"},null,"2019","August 2018","Library","8.500 X 8.500","Author","AnneReneé Goyette","4.8","0.5",null,null,"N",null,"Grade 2 - 3","Grade 2 - 5","Elephant seals have such a fascinating migration story. Unlike migrations of many other animals, male and female elephant seals actually take different migratory routes. They arrive in different parts of the world, eat different food sources, swim different lengths, and spend time in two different temperatures of water, among other things. This fun and informative volume tells the tale of the epic elephant seal journey with accessible, exciting language accompanied by fantastic full-color photographs. A map of both journeys provides opportunity for visual comprehension of the lengths these animals go to every year.","English",23.6,17.7,"599.79'4--dc23","24 pp.","https://www.garethstevens.com/9781538216453",null,{"$f":"Table1[[#This Row],[QTY]]*Table1[[#This Row],['# Books]]","v":0},{"$f":"Table1[[#This Row],[QTY]]*Table1[[#This Row],[S&L Price]]","v":0}]
[null,null,null,"Animals Are Wild!",1,"Amazing Sharks","Library Bound Book",null,"978-1-4824-5020-0",{"$f":"HYPERLINK(Table1[[#This Row],[eCommerce Hyperlink]],\"Book Weblink\")","v":"Book Weblink"},null,"2017","August 2016","Library","8.500 X 11.00","Author","Steve Parker","6.8","1",null,null,"N","1140L","Grade 3 - 4","Grade 3 - 5","The great white shark is the biggest predatory fish on Earth. Its formidable teeth and ability to swim up to 37 miles (60 km) per hour make it a deadly enemy. Readers can check out the great white shark up close, as well as 19 other amazing species of shark. Full-color photographs introduce readers to the teeth, fins, and other body adaptations that make sharks some of the coolest animals out there. Fact boxes detail each shark’s behaviors, including hunting practices, and statistics telling their lifespan, size, and range.","English",32.950000000000003,24.7,"597.3--dc23","40 pp.","https://www.garethstevens.com/9781482450200",null,{"$f":"Table1[[#This Row],[QTY]]*Table1[[#This Row],['# Books]]","v":0},{"$f":"Table1[[#This Row],[QTY]]*Table1[[#This Row],[S&L Price]]","v":0}]
[null,null,null,"Animals Are Wild!",1,"Extreme Animals","eBook",null,"978-1-4824-5013-2",{"$f":"HYPERLINK(Table1[[#This Row],[eCommerce Hyperlink]],\"Book Weblink\")","v":"Book Weblink"},null,"2017","August 2016",null,null,"Author","Steve Parker","7.3","1",null,null,"N","1230L","Grade 3 - 4","Grade 3 - 5","Being the biggest fish in the world seems like it would help the whale shark survive. However, its size actually makes it slow and easy to attack. Similarly, giraffes’ height allows them to grab food other animals can’t, but it makes drinking from a pool on the ground very awkward! Readers find out many more cases of extreme animal adaptions and their drawbacks. Fact boxes accompany full-color photographs of each animal, describing the animal’s most interesting physical features as well as their range, size, and lifespan.","English",32.950000000000003,24.7,"591.5--dc23","40 pp.","https://www.garethstevens.com/9781482450132",null,{"$f":"Table1[[#This Row],[QTY]]*Table1[[#This Row],['# Books]]","v":0},{"$f":"Table1[[#This Row],[QTY]]*Table1[[#This Row],[S&L Price]]","v":0}]
[null,null,null,"Animals Are Wild!",1,"Weird Animals","Library Bound Book",null,"978-1-4824-5000-2",{"$f":"HYPERLINK(Table1[[#This Row],[eCommerce Hyperlink]],\"Book Weblink\")","v":"Book Weblink"},null,"2017","August 2016","Library","8.500 X 11.00","Author","Steve Parker","6.9","1",null,null,"N","1170L","Grade 3 - 4","Grade 3 - 5","What could a male Jackson’s chameleon need three horns for besides fighting? Actually, this odd-looking animal has horns to scare predators and attract females more than defense! Some animals’ bodies can lead readers to question the purpose of their weird features. This book has the answers they’re looking for! From how the echidna uses its spines to keep predators away to how the hornbill uses its large beak, the main content features some of nature’s most interesting bodies. Colorful, up-close photographs and concise fact boxes introduce readers to many kinds of animal habitats, behaviors, and life cycles.","English",32.950000000000003,24.7,"591--dc23","40 pp.","https://www.garethstevens.com/9781482450002",null,{"$f":"Table1[[#This Row],[QTY]]*Table1[[#This Row],['# Books]]","v":0},{"$f":"Table1[[#This Row],[QTY]]*Table1[[#This Row],[S&L Price]]","v":0}]
[null,null,null,"Ultimate Animal Defenses",1,"Deadly Animal Poisons","Library Bound Book",null,"978-1-4824-4424-7",{"$f":"HYPERLINK(Table1[[#This Row],[eCommerce Hyperlink]],\"Book Weblink\")","v":"Book Weblink"},null,"2017","August 2016","Library","8.500 X 8.500","Author","Madeleine Fortescue","4.9","0.5",null,null,"N","900L","Grade 2 - 3","Grade 2 - 5","Many animal species have developed a deadly adaptation to thwart their predators: poison! Some infamous spiders and snakes are feared, and rightly so, for their toxic defenses. However, many other animals are just as deadly. In this fascinating volume, readers will find out the difference between poison and venom. They’ll learn about several creatures and the toxins they use to survive in the wild, such as the pufferfish, the poison dart frog, the cone snail, and the blue-ringed octopus. Beautiful color photographs, a graphic organizer, and fact boxes with stunning information augment this exciting volume.","English",23.6,17.7,"591.6'5--dc23","24 pp.","https://www.garethstevens.com/9781482444247",null,{"$f":"Table1[[#This Row],[QTY]]*Table1[[#This Row],['# Books]]","v":0},{"$f":"Table1[[#This Row],[QTY]]*Table1[[#This Row],[S&L Price]]","v":0}]
[null,null,null,"Ultimate Animal Defenses",1,"Deadly Animal Poisons","eBook",null,"978-1-4824-4404-9",{"$f":"HYPERLINK(Table1[[#This Row],[eCommerce Hyperlink]],\"Book Weblink\")","v":"Book Weblink"},null,"2017","August 2016",null,null,"Author","Madeleine Fortescue","4.9","0.5",null,null,"N","900L","Grade 2 - 3","Grade 2 - 5","Many animal species have developed a deadly adaptation to thwart their predators: poison! Some infamous spiders and snakes are feared, and rightly so, for their toxic defenses. However, many other animals are just as deadly. In this fascinating volume, readers will find out the difference between poison and venom. They’ll learn about several creatures and the toxins they use to survive in the wild, such as the pufferfish, the poison dart frog, the cone snail, and the blue-ringed octopus. Beautiful color photographs, a graphic organizer, and fact boxes with stunning information augment this exciting volume.","English",23.6,17.7,"591.6'5--dc23","24 pp.","https://www.garethstevens.com/9781482444049",null,{"$f":"Table1[[#This Row],[QTY]]*Table1[[#This Row],['# Books]]","v":0},{"$f":"Table1[[#This Row],[QTY]]*Table1[[#This Row],[S&L Price]]","v":0}]
[null,null,null,"Ultimate Animal Defenses",1,"Super Skin: Spines, Quills, and Plates","Library Bound Book",null,"978-1-4824-4425-4",{"$f":"HYPERLINK(Table1[[#This Row],[eCommerce Hyperlink]],\"Book Weblink\")","v":"Book Weblink"},null,"2017","August 2016","Library","8.500 X 8.500","Author","Madeleine Fortescue","4.6","0.5",null,null,"N",null,"Grade 2 - 3","Grade 2 - 5","Some species of porcupines have 30,000 quills. Sea horses have bony plates to make them less appetizing, and a sea urchin’s spines may be 1 foot (30 cm) long and venomous. These animals are definitely equipped to survive in their native habitats, much to the disappointment of their predators! In this lively volume, young zoologists will learn about various types of body coverings that help creatures, such as the echidna and the pangolin, stay alive. Photographs of animals in action and a graphic organizer further reinforce the importance of adaptations in the wild.","English",23.6,17.7,"591.47'7--dc23","24 pp.","https://www.garethstevens.com/9781482444254",null,{"$f":"Table1[[#This Row],[QTY]]*Table1[[#This Row],['# Books]]","v":0},{"$f":"Table1[[#This Row],[QTY]]*Table1[[#This Row],[S&L Price]]","v":0}]
[null,null,null,"Odd Adaptations",1,"Why Do Lobsters Eat Each Other?: And Other Odd Crustacean Adaptations","eBook",null,"978-1-5382-2024-5",{"$f":"HYPERLINK(Table1[[#This Row],[eCommerce Hyperlink]],\"Book Weblink\")","v":"Book Weblink"},null,"2019","August 2018",null,null,"Author","Therese M. Shea","5.7","0.5",null,null,"P",null,"Grade 3 - 4","Grade 3 - 6","There are few behavioral adaptations that seem more odd to us than cannibalism. Scientists have noticed the rising incidence of lobster cannibals in recent years, and the reason may be connected to global warming. Readers will find the odd information about these and other crustaceans to be a fascinating study in animal adaptations, a crucial component of the elementary science curriculum. Vivid photographs and informative sidebars reinforce the engaging text.","English",27.6,20.7,"595.3--dc23","32 pp.","https://www.garethstevens.com/9781538220245",null,{"$f":"Table1[[#This Row],[QTY]]*Table1[[#This Row],['# Books]]","v":0},{"$f":"Table1[[#This Row],[QTY]]*Table1[[#This Row],[S&L Price]]","v":0}]
[null,null,null,"Odd Adaptations",1,"Why Do Pitcher Plants Eat Bugs?: And Other Odd Plant Adaptations","eBook",null,"978-1-5382-2032-0",{"$f":"HYPERLINK(Table1[[#This Row],[eCommerce Hyperlink]],\"Book Weblink\")","v":"Book Weblink"},null,"2019","August 2018",null,null,"Author","Brianna Battista","5.5","0.5",null,null,"O",null,"Grade 3 - 4","Grade 3 - 6","Because of plants' sedentary lives, they're not often placed among the more bizarre organisms on Earth. This beguiling book contains plenty of peculiar plants to entice future botanists. They'll find out about carnivorous pitcher plants as well as many other kinds of valuable vegetation and why they've developed similarly strange adaptations. This is a perfect way to delve into the study of plants and plant parts, a key part of life science curricula. Readers will never look at plants the same way again.","English",27.6,20.7,"581.4--dc23","32 pp.","https://www.garethstevens.com/9781538220320",null,{"$f":"Table1[[#This Row],[QTY]]*Table1[[#This Row],['# Books]]","v":0},{"$f":"Table1[[#This Row],[QTY]]*Table1[[#This Row],[S&L Price]]","v":0}]
[null,null,null,"Odd Adaptations",1,"Why Don’t Jellyfish Have Brains?: And Other Odd Invertebrate Adaptations","Library Bound Book",null,"978-1-5382-2039-9",{"$f":"HYPERLINK(Table1[[#This Row],[eCommerce Hyperlink]],\"Book Weblink\")","v":"Book Weblink"},null,"2019","August 2018","Library","8.500 X 11.00","Author","Caitie McAneney","5.5","0.5",null,null,"P",null,"Grade 3 - 4","Grade 3 - 6","Jellyfish are some of the creepiest creatures out there. They're about 95 percent water and basically evaporate when they wash up on a beach, and, they don't have brains! This absorbing book details how these animals survive without this important organ and other weird facts about the invertebrate world. Even more fascinating than the freaky facts are the eye-catching images that illustrate each crucial concept. Sidebars and graphic organizers present more valuable information.","English",27.6,20.7,"593.5/3--dc23","32 pp.","https://www.garethstevens.com/9781538220399",null,{"$f":"Table1[[#This Row],[QTY]]*Table1[[#This Row],['# Books]]","v":0},{"$f":"Table1[[#This Row],[QTY]]*Table1[[#This Row],[S&L Price]]","v":0}]
[null,null,null,"Odd Adaptations",1,"Why Do Frogs Have Teeth?: And Other Curious Amphibian Adaptations","eBook",null,"978-1-5382-0392-7",{"$f":"HYPERLINK(Table1[[#This Row],[eCommerce Hyperlink]],\"Book Weblink\")","v":"Book Weblink"},null,"2018","August 2017",null,null,"Author","Patricia Fletcher","5.4","0.5",null,null,"P",null,"Grade 3 - 4","Grade 3 - 6","Not many people report being bitten by a frog. But many will notice the weird ooze that seeps out of a toad’s skin when they’re picked up. These are just two strange adaptations that have helped amphibians survive in their environment. That’s also why salamanders need the ability to regrow limbs—or even part of their brain! Curious future scientists learn all about these awesome adaptations as well as other important topics such as the unique amphibian life cycle, all complemented by full-color, up-close photographs.","English",27.6,20.7,"597.8’9--dc23","32 pp.","https://www.garethstevens.com/9781538203927",null,{"$f":"Table1[[#This Row],[QTY]]*Table1[[#This Row],['# Books]]","v":0},{"$f":"Table1[[#This Row],[QTY]]*Table1[[#This Row],[S&L Price]]","v":0}]
[null,null,null,"Odd Adaptations",1,"Why Do Thorny Devils Have Two Heads?: And Other Curious Reptile Adaptations","Library Bound Book",null,"978-1-5382-0407-8",{"$f":"HYPERLINK(Table1[[#This Row],[eCommerce Hyperlink]],\"Book Weblink\")","v":"Book Weblink"},null,"2018","August 2017","Library","8.500 X 11.00","Author","Patricia Fletcher","5.6","0.5",null,null,"P",null,"Grade 3 - 4","Grade 3 - 6","There’s a good reason why the thorny devil has a “false head” on its shoulders. It’s an adaptation that developed to help protect the thorny devil when the reptile feels threatened. Most adaptations have a good explanation—but that doesn’t make some of them any less odd! From snakes shedding their skin a few times a year to the almost unbreakable shells of reptile eggs, reptile adaptations are made even more fascinating in this book through full-color, up-close photographs. In addition to cool adaptations, readers learn science curriculum topics such as the main features of reptiles, evolution, and life cycles.","English",27.6,20.7,"597.95’5--dc23","32 pp.","https://www.garethstevens.com/9781538204078",null,{"$f":"Table1[[#This Row],[QTY]]*Table1[[#This Row],['# Books]]","v":0},{"$f":"Table1[[#This Row],[QTY]]*Table1[[#This Row],[S&L Price]]","v":0}]
[null,null,null,"Space Mysteries",1,"Could We Live on Other Planets?","Library Bound Book",null,"978-1-4339-9213-1",{"$f":"HYPERLINK(Table1[[#This Row],[eCommerce Hyperlink]],\"Book Weblink\")","v":"Book Weblink"},null,"2014","August 2013","Library","8.500 X 8.500","Author","Michael Portman",null,null,"30","22","N","900L","Grade 2 - 3","Grade 2 - 5","The Kepler space telescope searches for planets outside of our solar system. So far, it's found more than 100. Scientists have tried to find out whether any of these planets could be habitable, a possible second home for us. Readers of this fascinating topic will find out what we'd need to live on another planet. They'll learn the latest theories about creating another Earthlike world. Imaginative images will help them picture themselves as one of the first settlers of a new home planet.","English",28.6,21.45,"523.4","32 pp.","https://www.garethstevens.com/9781433992131",null,{"$f":"Table1[[#This Row],[QTY]]*Table1[[#This Row],['# Books]]","v":0},{"$f":"Table1[[#This Row],[QTY]]*Table1[[#This Row],[S&L Price]]","v":0}]
[null,null,null,"Space Mysteries",1,"How Are Stars Born?","Interactive eBook","HTML5","978-1-4339-9222-3",{"$f":"HYPERLINK(Table1[[#This Row],[eCommerce Hyperlink]],\"Book Weblink\")","v":"Book Weblink"},null,"2014","August 2013",null,null,"Author","Greg Roza",null,null,"30","22","N","880L","Grade 2 - 3","Grade 2 - 5","The night sky seems so constant. In reality, stars are being born, burning, and dying all the time. There's just so many of them, and they're so far away that we barely notice without the help of sophisticated scientific tools such as the Hubble Space Telescope. In this book, budding astronomers will learn about the life cycle of a star. They'll read how stars differ and how our sun compares to some of these stars. Incredible, colorful photographs and thought-provoking text will ignite imaginations.","English",33.25,24.95,"523.8","32 pp.","https://www.garethstevens.com/9781433992223",null,{"$f":"Table1[[#This Row],[QTY]]*Table1[[#This Row],['# Books]]","v":0},{"$f":"Table1[[#This Row],[QTY]]*Table1[[#This Row],[S&L Price]]","v":0}]
[null,null,null,"Space Mysteries",1,"How Long Will the Sun Last?","Interactive eBook","HTML5","978-1-4339-9227-8",{"$f":"HYPERLINK(Table1[[#This Row],[eCommerce Hyperlink]],\"Book Weblink\")","v":"Book Weblink"},null,"2014","August 2013",null,null,"Author","Michael Sabatino",null,null,"30","22","N","960L","Grade 2 - 3","Grade 2 - 5","Our sun is our constant companion, giving us a seemingly endless supply of light, heat, and energy. But it will have an end. Like all stars, the sun had a beginning, and it will die, too. This book details how this will happen and the likely effects the sun's end will have on Earth. Readers learn how gravity and nuclear fusion work together in the birth and death of stars. This captivating glimpse into the far, far future will awe enthusiasts of astronomy.","English",33.25,24.95,"523.7","32 pp.","https://www.garethstevens.com/9781433992278",null,{"$f":"Table1[[#This Row],[QTY]]*Table1[[#This Row],['# Books]]","v":0},{"$f":"Table1[[#This Row],[QTY]]*Table1[[#This Row],[S&L Price]]","v":0}]
[null,null,null,"Space Mysteries",1,"What Is a Black Hole?","Interactive eBook","HTML5","978-1-4339-9232-2",{"$f":"HYPERLINK(Table1[[#This Row],[eCommerce Hyperlink]],\"Book Weblink\")","v":"Book Weblink"},null,"2014","August 2013",null,null,"Author","Greg Roza",null,null,"30","22","N","920L","Grade 2 - 3","Grade 2 - 5","Black holes seem like the stuff of science fiction. It's incredible to think there's a mass in the universe with such a strong pull of gravity that not even light can escape it. But it's not science fiction, and there isn't just one black hole out there. Diagrams and photographs help readers explore concepts that even scientists can't fully explain yet. This book will encourage future astrophysicists that more is going on in the night sky than meets the eye.","English",33.25,24.95,"523.8","32 pp.","https://www.garethstevens.com/9781433992322",null,{"$f":"Table1[[#This Row],[QTY]]*Table1[[#This Row],['# Books]]","v":0},{"$f":"Table1[[#This Row],[QTY]]*Table1[[#This Row],[S&L Price]]","v":0}]
[null,null,null,"Space Mysteries",1,"Why Do Astronauts Wear Spacesuits?","eBook",null,"978-1-4339-9241-4",{"$f":"HYPERLINK(Table1[[#This Row],[eCommerce Hyperlink]],\"Book Weblink\")","v":"Book Weblink"},null,"2014","August 2013",null,null,"Author","Michael Portman",null,null,"30","22","N","920L","Grade 2 - 3","Grade 2 - 5","The image of Neil Armstrong stepping onto the moon in his spacesuit is a familiar one to most people. Few stop to think what an amazing invention the spacesuit is. Without it and similar ones of today, astronauts couldn't have accomplished the breathtaking feats they have. This book explores the many features of spacesuits, no ordinary uniforms. Photographs of astronauts performing spacewalks and other remarkable achievements show off the spacesuit in action.","English",28.6,21.45,"629.45","32 pp.","https://www.garethstevens.com/9781433992414",null,{"$f":"Table1[[#This Row],[QTY]]*Table1[[#This Row],['# Books]]","v":0},{"$f":"Table1[[#This Row],[QTY]]*Table1[[#This Row],[S&L Price]]","v":0}]
[null,null,null,"Space Mysteries",1,"Are There Other Earths?","Interactive eBook","HTML5","978-1-4339-8261-3",{"$f":"HYPERLINK(Table1[[#This Row],[eCommerce Hyperlink]],\"Book Weblink\")","v":"Book Weblink"},null,"2013","January 2013",null,null,"Author","Michael Portman",null,"0","30","22","N","780L","Grade 2 - 3","Grade 2 - 5","Readers will find out about the other planets that scientists have discovered through accessible text, fun fact boxes, and amazing photographs. They will be introduced to amazing scientific tools including the Kepler telescope, which has assisted in locating many planets outside of our solar system. The question of other planets sustaining life, as it is on earth, has been plaguing scientists and curious minds for some time. Along with fuel scientists, readers will speculate whether there are habitable planets and if people could move to them or not.","English",33.25,24.95,"523.2","32 pp.","https://www.garethstevens.com/9781433982613",null,{"$f":"Table1[[#This Row],[QTY]]*Table1[[#This Row],['# Books]]","v":0},{"$f":"Table1[[#This Row],[QTY]]*Table1[[#This Row],[S&L Price]]","v":0}]
[null,null,null,"Space Mysteries",1,"Are UFOs Real?","Interactive eBook","HTML5","978-1-4339-8266-8",{"$f":"HYPERLINK(Table1[[#This Row],[eCommerce Hyperlink]],\"Book Weblink\")","v":"Book Weblink"},null,"2013","January 2013",null,null,"Author","Michael Portman",null,"0","30","22","N","850L","Grade 2 - 3","Grade 2 - 5","Though some people consider UFOs to be purely science fiction, others keep an open mind. Alien visitations, government conspiracies, and optical illusions are just three of the possible explanations for UFOs. Readers of this book will decide which side they are on. They can examine UFO photographs, learn more about famous sightings, and create their own theories. ","English",33.25,24.95,"1.942","32 pp.","https://www.garethstevens.com/9781433982668",null,{"$f":"Table1[[#This Row],[QTY]]*Table1[[#This Row],['# Books]]","v":0},{"$f":"Table1[[#This Row],[QTY]]*Table1[[#This Row],[S&L Price]]","v":0}]
[null,null,null,"Space Mysteries",1,"Could an Asteroid Harm Earth?","eBook",null,"978-1-4339-8270-5",{"$f":"HYPERLINK(Table1[[#This Row],[eCommerce Hyperlink]],\"Book Weblink\")","v":"Book Weblink"},null,"2013","January 2013",null,null,"Author","Michael Portman",null,"0","30","22","N","910L","Grade 2 - 3","Grade 2 - 5","An asteroid plummeting to Earth seems extremely unlikely, no wonder several movies have used it as a plot. But asteroids, comets, and meteorites do fall to Earth every day. In recent years, none have been of a significant enough size to cause great damage. However, it is theorized that a space object was responsible for the extinction of dinosaurs 65 million years ago. Readers will explore whether or not such an event could threaten life on Earth again, learn how scientists monitor asteroids and other space objects, and learn some theoretical plans to avoid a global catastrophe.","English",28.6,21.45,"363.34","32 pp.","https://www.garethstevens.com/9781433982705",null,{"$f":"Table1[[#This Row],[QTY]]*Table1[[#This Row],['# Books]]","v":0},{"$f":"Table1[[#This Row],[QTY]]*Table1[[#This Row],[S&L Price]]","v":0}]
[null,null,null,"Space Mysteries",1,"Where Did the Moon Come From?","Library Bound Book",null,"978-1-4339-8277-4",{"$f":"HYPERLINK(Table1[[#This Row],[eCommerce Hyperlink]],\"Book Weblink\")","v":"Book Weblink"},null,"2013","January 2013","Library","8.500 X 8.500","Author","Michael Portman",null,"0","30","22","N","780L","Grade 2 - 3","Grade 2 - 5","We see the moon waxing and waning every month, and we know it controls the tides. However, we rarely wonder how it got there in the first place and why it continues to accompany Earth around the sun. Readers will learn some fascinating theories about the moon's origin and decide for themselves if they agree with the current accepted explanation.","English",28.6,21.45,"523.3","32 pp.","https://www.garethstevens.com/9781433982774",null,{"$f":"Table1[[#This Row],[QTY]]*Table1[[#This Row],['# Books]]","v":0},{"$f":"Table1[[#This Row],[QTY]]*Table1[[#This Row],[S&L Price]]","v":0}]
[null,null,null,"Space Mysteries",1,"How Big Is the Universe?","Library Bound Book",null,"978-1-5382-1947-8",{"$f":"HYPERLINK(Table1[[#This Row],[eCommerce Hyperlink]],\"Book Weblink\")","v":"Book Weblink"},null,"2019","August 2018","Library","8.500 X 8.500","Author","Matt Jankowski","5.1","0.5","30",null,"N",null,"Grade 2 - 3","Grade 2 - 5","Questions about the universe are as popular as they are daunting to answer. Let this book help satiate young readers curiosity about outer space and the universe by answering this important question. Each page is written with accessible, age-appropriate language and paired with visual aids, including tons of photography from NASA. Fact boxes with \"Out of this World!\" tidbits add interest throughout the work, while graphic organizers enhance engagement and comprehension. This book will be right at home in any library or classroom.","English",27.6,20.7,"520--dc23","32 pp.","https://www.garethstevens.com/9781538219478",null,{"$f":"Table1[[#This Row],[QTY]]*Table1[[#This Row],['# Books]]","v":0},{"$f":"Table1[[#This Row],[QTY]]*Table1[[#This Row],[S&L Price]]","v":0}]
[null,null,null,"Space Mysteries",1,"What Happens to Space Probes?","Library Bound Book",null,"978-1-5382-1959-1",{"$f":"HYPERLINK(Table1[[#This Row],[eCommerce Hyperlink]],\"Book Weblink\")","v":"Book Weblink"},null,"2019","August 2018","Library","8.500 X 8.500","Author","Todd Swatling","5.4","0.5","30",null,"N",null,"Grade 2 - 3","Grade 2 - 5","We've come so far in space exploration in just the past 10 years. Young readers know that NASA sends spacecrafts to space regularly. They may even hear in the news about the incredible photographs and information they send back. But do they know how they work once they're released into space? This book makes STEAM studies exciting for even the most reluctant reader by framing science curriculum topics within the awesome field of astronomy, and by using easy-to-understand language and bold graphics.","English",27.6,20.7,"629.43/54--dc23","32 pp.","https://www.garethstevens.com/9781538219591",null,{"$f":"Table1[[#This Row],[QTY]]*Table1[[#This Row],['# Books]]","v":0},{"$f":"Table1[[#This Row],[QTY]]*Table1[[#This Row],[S&L Price]]","v":0}]
[null,null,null,"Space Mysteries",1,"What Is on the Far Side of the Moon?","eBook",null,"978-1-5382-1964-5",{"$f":"HYPERLINK(Table1[[#This Row],[eCommerce Hyperlink]],\"Book Weblink\")","v":"Book Weblink"},null,"2019","August 2018",null,null,"Author","Emily Mahoney","4.9","0.5","30",null,"N",null,"Grade 2 - 3","Grade 2 - 5","The moon is a constant presence that children become aware of in their earliest days. So many young readers wonder and ask about the moon soon after they learn to speak, and it's the topic of many early childhood bedtime books. The author's expertise as an educator on communicating complex concepts to children through easy, accessible language brings the subject of the moon engagingly up-close, even for the most reluctant of readers. Color photography from NASA and graphics add to comprehension of a range of STEAM topics.","English",27.6,20.7,"523.3--dc23","32 pp.","https://www.garethstevens.com/9781538219645",null,{"$f":"Table1[[#This Row],[QTY]]*Table1[[#This Row],['# Books]]","v":0},{"$f":"Table1[[#This Row],[QTY]]*Table1[[#This Row],[S&L Price]]","v":0}]
[null,null,null,"Where's the Water?",1,"Earth's Oceans","Library Bound Book",null,"978-1-4824-4678-4",{"$f":"HYPERLINK(Table1[[#This Row],[eCommerce Hyperlink]],\"Book Weblink\")","v":"Book Weblink"},null,"2017","August 2016","Library","8.500 X 8.500","Author","Peter Castellano","5.4","0.5",null,null,"L",null,"Grade 2 - 3","Grade 2 - 5","Many people know that about 70 percent of Earth’s surface is covered by water. But they may not know that the oceans hold nearly 97 percent of the water on Earth! From the Arctic to the Pacific, these huge bodies of water are important to the health of our planet. Readers learn the different boundaries and characteristics of each of Earth’s oceans, complemented by full-color photographs both above and below the surface. The main content and fun fact boxes include both the water cycle and geographic information and emphasize other science and social studies curriculum topics, such as conservation.","English",23.6,17.7,"551.46--dc23","24 pp.","https://www.garethstevens.com/9781482446784",null,{"$f":"Table1[[#This Row],[QTY]]*Table1[[#This Row],['# Books]]","v":0},{"$f":"Table1[[#This Row],[QTY]]*Table1[[#This Row],[S&L Price]]","v":0}]
[null,null,null,"Where's the Water?",1,"The Water Cycle","Library Bound Book",null,"978-1-4824-4690-6",{"$f":"HYPERLINK(Table1[[#This Row],[eCommerce Hyperlink]],\"Book Weblink\")","v":"Book Weblink"},null,"2017","August 2016","Library","8.500 X 8.500","Author","Barbara M. Linde","4.1","0.5","18",null,"L","630L","Grade 2 - 3","Grade 2 - 5","The amount of water on Earth today is the same amount that will be on it tomorrow! How is this possible? Through understandable descriptions and helpful graphic organizers, readers are introduced to the water cycle. Full-color photographs and fun fact boxes supplement the main content, which takes readers through the cycle step by step. Basic science concepts such as precipitation, evaporation, and groundwater are explored, and readers are presented with an overview of water conservation they can easily implement in their homes.","English",23.6,17.7,"551.48--dc23","24 pp.","https://www.garethstevens.com/9781482446906",null,{"$f":"Table1[[#This Row],[QTY]]*Table1[[#This Row],['# Books]]","v":0},{"$f":"Table1[[#This Row],[QTY]]*Table1[[#This Row],[S&L Price]]","v":0}]
[null,null,null,"From the Earth: How Resources Are Made",6,"From the Earth: How Resources Are Made","Library Set",null,"978-1-4824-4605-0",{"$f":"HYPERLINK(Table1[[#This Row],[eCommerce Hyperlink]],\"Book Weblink\")","v":"Book Weblink"},null,"2017","August 2016","Library","8.500 X 11.00",null,null,null,null,null,null,null,null,"Grade 3 - 4","Grade 3 - 6","Natural resources power our world, give structure to our buildings, decorate our bodies, and fulfill countless other functions. This informative series guides readers through the amazing processes within Earth that produce our most precious resources. While highlighting key concepts of the elementary science curriculum, each valuable volume, full of colorful images, includes surprising and interesting facts that will make readers recognize how these natural resources are connected to their lives. Mining and other controversial issues associated with natural resources are thoughtfully presented, which invites debate and the opportunity for readers to construct their own opinions.","English",165.6,124.2,null,"32 pp.","https://www.garethstevens.com/9781482446050",null,{"$f":"Table1[[#This Row],[QTY]]*Table1[[#This Row],['# Books]]","v":0},{"$f":"Table1[[#This Row],[QTY]]*Table1[[#This Row],[S&L Price]]","v":0}]
[null,null,null,"From the Earth: How Resources Are Made",1,"How Iron Ore Forms","Library Bound Book",null,"978-1-4824-4715-6",{"$f":"HYPERLINK(Table1[[#This Row],[eCommerce Hyperlink]],\"Book Weblink\")","v":"Book Weblink"},null,"2017","August 2016","Library","8.500 X 11.00","Author","Caroline Kennon","6","0.5",null,null,"O",null,"Grade 3 - 4","Grade 3 - 6","Without iron ore, we wouldn’t have steel, and without steel, we wouldn’t have the magnificent skyscrapers, bridges, and many other structures that demand building materials of considerable strength. In fact, about 98 percent of all mined iron ore is used in the production of steel. Future architects and engineers will discover how the mineral substance iron ore forms, where it’s found, and how it’s transformed through smelting into a useful industrial metal. Charts, diagrams, and photographs present more beneficial information, while sidebars help readers understand why iron ore is significant to their lives.","English",27.6,20.7,"553.3--dc23","32 pp.","https://www.garethstevens.com/9781482447156",null,{"$f":"Table1[[#This Row],[QTY]]*Table1[[#This Row],['# Books]]","v":0},{"$f":"Table1[[#This Row],[QTY]]*Table1[[#This Row],[S&L Price]]","v":0}]
[null,null,null,"From the Earth: How Resources Are Made",1,"How Oil Is Formed","eBook",null,"978-1-4824-4725-5",{"$f":"HYPERLINK(Table1[[#This Row],[eCommerce Hyperlink]],\"Book Weblink\")","v":"Book Weblink"},null,"2017","August 2016",null,null,"Author","Kristen Rajczak Nelson","5.9","0.5",null,null,"O",null,"Grade 3 - 4","Grade 3 - 6","Oil, also known as petroleum, is one of the most significant sources of energy in an energy-hungry world. Every day, more than 80 million barrels of oil are used in people’s homes, businesses, and vehicles. This thorough book covers the important processes of this fossil fuel, from its origins and formation to its extraction and refining, aided by perfectly selected photographs. Readers will weigh in on the controversies surrounding oil’s use as well as learn of its surprising applications—such as a medicine for ancient Egyptians and in materials that make our clothes.","English",27.6,20.7,"553.2/82--dc23","32 pp.","https://www.garethstevens.com/9781482447255",null,{"$f":"Table1[[#This Row],[QTY]]*Table1[[#This Row],['# Books]]","v":0},{"$f":"Table1[[#This Row],[QTY]]*Table1[[#This Row],[S&L Price]]","v":0}]
[null,null,null,"Science on Patrol",6,"Science on Patrol","Library Set",null,"978-1-4824-5860-2",{"$f":"HYPERLINK(Table1[[#This Row],[eCommerce Hyperlink]],\"Book Weblink\")","v":"Book Weblink"},null,"2017","January 2017","Library","8.500 X 11.00",null,null,null,null,null,null,null,null,"Grade 4 - 5","Grade 4 - 6","Brilliant scientists working in Earth’s most extreme places are making incredible discoveries, but the challenges they face in these environments can be met only by using cutting-edge technology and state-of-the-art engineering. Readers find out about scientists at work at the very ends of the Earth and beyond. The main content details their scientific discoveries, the equipment they use, how they communicate with the outside world, and the transportation they use to travel in each environment. Full-color photographs allow readers to see scientists and their work at the poles, in space, underground, and more up close.\n","English",197.7,148.19999999999999,null,"48 pp.","https://www.garethstevens.com/9781482458602",null,{"$f":"Table1[[#This Row],[QTY]]*Table1[[#This Row],['# Books]]","v":0},{"$f":"Table1[[#This Row],[QTY]]*Table1[[#This Row],[S&L Price]]","v":0}]
[null,null,null,"Science on Patrol",1,"In the Rainforest","Library Bound Book",null,"978-1-4824-5982-1",{"$f":"HYPERLINK(Table1[[#This Row],[eCommerce Hyperlink]],\"Book Weblink\")","v":"Book Weblink"},null,"2017","January 2017","Library","7.250 X 9.250","Author, Author","Louise Spilsbury, Richard Spilsbury","7.1","1",null,null,"T",null,"Grade 4 - 5","Grade 4 - 6","The rainforest habitat is incredibly diverse—so diverse that scientists are discovering new species of plants and animals all the time! In this book, readers journey deep into the rainforest with many kinds of scientists and learn about what they study, their methods, and recent discoveries. Full-color photographs show researchers and their tools and technology up close, from sun-protective gear to infrared cameras. The main content also touches on important STEM curriculum content, including conservation and features of this amazing habitat.","English",32.950000000000003,24.7,"577.34--dc23","48 pp.","https://www.garethstevens.com/9781482459821",null,{"$f":"Table1[[#This Row],[QTY]]*Table1[[#This Row],['# Books]]","v":0},{"$f":"Table1[[#This Row],[QTY]]*Table1[[#This Row],[S&L Price]]","v":0}]
[null,null,null,"Science on Patrol",1,"Under the Ocean","eBook",null,"978-1-4824-5991-3",{"$f":"HYPERLINK(Table1[[#This Row],[eCommerce Hyperlink]],\"Book Weblink\")","v":"Book Weblink"},null,"2017","January 2017",null,null,"Author, Author","Louise Spilsbury, Richard Spilsbury","7.2","1","50",null,"T",null,"Grade 4 - 5","Grade 4 - 6","Scientists estimate that less than 5 percent of the ocean has been explored. That leaves a lot to be discovered—and a large amount of people needed to make those discoveries. Readers dive deep into the research being done under the ocean and the many STEM career possibilities for those interested in such research. Full-color photographs of the latest technology and scientists at work show readers an exciting world they can be part of. In addition, the main content discusses many STEM topics related to the ocean, including habitats, biodiversity, pollution, and climate change.","English",32.950000000000003,24.7,"551.46--dc23","48 pp.","https://www.garethstevens.com/9781482459913",null,{"$f":"Table1[[#This Row],[QTY]]*Table1[[#This Row],['# Books]]","v":0},{"$f":"Table1[[#This Row],[QTY]]*Table1[[#This Row],[S&L Price]]","v":0}]
[null,null,null,"Earth Under Attack!",6,"Earth Under Attack!","Library Set",null,"978-1-5382-1430-5",{"$f":"HYPERLINK(Table1[[#This Row],[eCommerce Hyperlink]],\"Book Weblink\")","v":"Book Weblink"},null,"2018","January 2018","Library","7.250 X 9.250",null,null,null,null,null,null,null,null,"Grade 5","Grade 4 - 8","Natural disasters are powerful forces of nature that deeply affect the lives of those who live through them. This series explores both the science behind these disasters as well as the often tragic aftermath of earthquakes, forest fires, hurricanes, tornadoes, tsunamis, and volcanoes. Each book uses a news-style layout complete with attention-grabbing headlines and eyewitness accounts to introduce key science curriculum material while telling the harrowing tales of recent disasters, including the cleanup process and long-lasting effects of each.","English",197.7,148.19999999999999,null,"48 pp.","https://www.garethstevens.com/9781538214305",null,{"$f":"Table1[[#This Row],[QTY]]*Table1[[#This Row],['# Books]]","v":0},{"$f":"Table1[[#This Row],[QTY]]*Table1[[#This Row],[S&L Price]]","v":0}]
[null,null,null,"Earth Under Attack!",1,"Hurricane Hits the Coast","eBook",null,"978-1-5382-1310-0",{"$f":"HYPERLINK(Table1[[#This Row],[eCommerce Hyperlink]],\"Book Weblink\")","v":"Book Weblink"},null,"2018","January 2018",null,null,"Author, Author","Louise Spilsbury, Richard Spilsbury","6.9","1",null,null,"T","1100L","Grade 5","Grade 4 - 8","The Atlantic coast of the United States faces high winds, torrential rain, and more during hurricane season from about August to October. When these huge storms hit land, the streets may flood and buildings can be completely leveled. Seeing devastation like that on the news can leave readers with a lot of questions. This book introduces readers to how hurricanes form, why they can be so strong, and what communities do to prepare for them. Stories of recent hurricanes make these huge storms seem more real to readers and help them understand the consequences of natural disasters.","English",32.950000000000003,24.7,"551.55'2--dc23","48 pp.","https://www.garethstevens.com/9781538213100",null,{"$f":"Table1[[#This Row],[QTY]]*Table1[[#This Row],['# Books]]","v":0},{"$f":"Table1[[#This Row],[QTY]]*Table1[[#This Row],[S&L Price]]","v":0}]
[null,null,null,"Earth Under Attack!",1,"Tsunami Crushes Coastline","eBook",null,"978-1-5382-1318-6",{"$f":"HYPERLINK(Table1[[#This Row],[eCommerce Hyperlink]],\"Book Weblink\")","v":"Book Weblink"},null,"2018","January 2018",null,null,"Author, Author","Louise Spilsbury, Richard Spilsbury","7.1","1",null,null,"T","1110L","Grade 5","Grade 4 - 8","The Fukushima nuclear power plant was seriously damaged by a tsunami in 2011. Today, environmental problems continue, showing just how far-reaching damage from the massive waves of a tsunami can be. Other headline-grabbing tsunamis are profiled in this volume, providing readers with true-life examples as they learn about what causes tsunamis, where they are likely to hit, and how areas prepare for them throughout the main content. Full-color photographs of tsunami-caused devastation accompany the STEM content, boxes of real disaster statistics, and quotes from those who lived through a tsunami.","English",32.950000000000003,24.7,"551.46'37--dc23","48 pp.","https://www.garethstevens.com/9781538213186",null,{"$f":"Table1[[#This Row],[QTY]]*Table1[[#This Row],['# Books]]","v":0},{"$f":"Table1[[#This Row],[QTY]]*Table1[[#This Row],[S&L Price]]","v":0}]
[null,null,null,"Unnatural Disasters",1,"Chemical Catastrophes","eBook",null,"978-1-5382-0419-1",{"$f":"HYPERLINK(Table1[[#This Row],[eCommerce Hyperlink]],\"Book Weblink\")","v":"Book Weblink"},null,"2018","August 2017",null,null,"Author","Danielle Haynes",null,null,null,null,"T",null,"Grade 4 - 5","Grade 4 - 6","DDT, Agent Orange, and asbestos are just some of the many frightening examples used in this book to illustrate how people's disastrous decisions impact human life. Along with compelling main text and arresting historical photographs, sidebars of harrowing statistics help readers understand the scope of the damage more fully. Each spread also includes a fact box that tells the lasting effects of each disaster and chronicles the legal changes made, and not made, in the wake of these events. This book concludes with a discussion of what work still needs to be done to reverse and prevent chemical disasters.","English",27.6,20.7,"363.11’09--dc23","32 pp.","https://www.garethstevens.com/9781538204191",null,{"$f":"Table1[[#This Row],[QTY]]*Table1[[#This Row],['# Books]]","v":0},{"$f":"Table1[[#This Row],[QTY]]*Table1[[#This Row],[S&L Price]]","v":0}]
[null,null,null,"Unnatural Disasters",1,"Lethal Leaks and Spills","eBook",null,"978-1-5382-0443-6",{"$f":"HYPERLINK(Table1[[#This Row],[eCommerce Hyperlink]],\"Book Weblink\")","v":"Book Weblink"},null,"2018","August 2017",null,null,"Author","Danielle Haynes",null,null,null,null,"T","1090L","Grade 4 - 5","Grade 4 - 6","Industrial accidents occur all over the world at an alarming rate, and readers have no doubt heard of at least one in their lifetime. This topical book chronicles the frightening stories of several of the world’s worst examples of chemical leaks and spills, detailing the environmental impact not only in the text, but also through graphic, full-color images, and through sidebars full of real statistics. Fact boxes chronicle the legal response in the direct wake of disasters like Bhopal, Amoco Cadiz, Exxon Valdez, Deepwater Horizon, and more. The book closes with a note about activism and how to help.","English",27.6,20.7,"363.17--dc23","32 pp.","https://www.garethstevens.com/9781538204436",null,{"$f":"Table1[[#This Row],[QTY]]*Table1[[#This Row],['# Books]]","v":0},{"$f":"Table1[[#This Row],[QTY]]*Table1[[#This Row],[S&L Price]]","v":0}]
[null,null,null,"Unnatural Disasters",1,"Wasted Waters","eBook",null,"978-1-5382-0530-3",{"$f":"HYPERLINK(Table1[[#This Row],[eCommerce Hyperlink]],\"Book Weblink\")","v":"Book Weblink"},null,"2018","August 2017",null,null,"Author","Emily Mahoney",null,null,null,null,"T",null,"Grade 4 - 5","Grade 4 - 6","Disasters like Love Canal and more recently in Flint, Michigan, happened slowly over years, and caused lasting damage. A powerful way to demonstrate cause and effect in ecosystems, this book chronicles each disaster’s story, and even the resulting legal battles. This book is lamentably timely, and all readers will easily be drawn in by these morality stories of corporations’ terrible impact in the effort to save money. Statistics on each spread communicate the impact of the disasters, another way to drive home to readers the damage they cause. The final pages aim to engage readers in environmental conversation and good citizenship through specific ways that affect our water.","English",27.6,20.7,"363.739’4--dc23","32 pp.","https://www.garethstevens.com/9781538205303",null,{"$f":"Table1[[#This Row],[QTY]]*Table1[[#This Row],['# Books]]","v":0},{"$f":"Table1[[#This Row],[QTY]]*Table1[[#This Row],[S&L Price]]","v":0}]
[null,null,null,"Mind-Blowing Science Experiments",1,"Cool Experiments with Heat and Cold","eBook",null,"978-1-5382-0738-3",{"$f":"HYPERLINK(Table1[[#This Row],[eCommerce Hyperlink]],\"Book Weblink\")","v":"Book Weblink"},null,"2018","August 2017",null,null,"Author, Illustrated by","Thomas Canavan, Adam Linley",null,null,null,null,"T",null,"Grade 4 - 5","Grade 4 - 6","Reading about heat and cold is just the tip of the iceberg. This book lets readers create their own icebergs. Hands-on activities make learning about heat and cold both tangible and fun. Simple explanations help readers grasp complex concepts while step-by-step instructions and accompanying photographs ensure they will master each experiment. Helpful tips keep readers safe and offer suggestions for improvements! Aspiring young scientists will enjoy trying the recommended additions and twists to activities. They’ll also learn real-life applications for the same scientific principles they’re working with at home, such as how air pockets in igloos work as insulation!","English",27.6,20.7,"536.078--dc23","32 pp.","https://www.garethstevens.com/9781538207383",null,{"$f":"Table1[[#This Row],[QTY]]*Table1[[#This Row],['# Books]]","v":0},{"$f":"Table1[[#This Row],[QTY]]*Table1[[#This Row],[S&L Price]]","v":0}]
[null,null,null,"Mind-Blowing Science Experiments",1,"Magnificent Experiments with Materials","eBook",null,"978-1-5382-0735-2",{"$f":"HYPERLINK(Table1[[#This Row],[eCommerce Hyperlink]],\"Book Weblink\")","v":"Book Weblink"},null,"2018","August 2017",null,null,"Author, Illustrated by","Thomas Canavan, Adam Linley",null,null,null,null,"T",null,"Grade 4 - 5","Grade 4 - 6","Plastic milk? Carbon dragons? Readers will explore these and other whacky experiments in this awesome book on the science of materials! Accessible language breaks down complex concepts, and hands-on activities allow readers to experience science firsthand. Using supplies from around the house, they’ll stack liquids, slice ice, and build a tower on a base of eggshells! Readers will love learning about the real-life applications of scientific principles. They’ll launch vinegar rockets using the same science behind car engines! Step-by-step instructions with accompanying photographs and helpful tips make activities safe and easy to follow.","English",27.6,20.7,"530.4078--dc23","32 pp.","https://www.garethstevens.com/9781538207352",null,{"$f":"Table1[[#This Row],[QTY]]*Table1[[#This Row],['# Books]]","v":0},{"$f":"Table1[[#This Row],[QTY]]*Table1[[#This Row],[S&L Price]]","v":0}]
[null,null,null,"Mind-Blowing Science Experiments",1,"Super Experiments with Light and Sound","eBook",null,"978-1-5382-0734-5",{"$f":"HYPERLINK(Table1[[#This Row],[eCommerce Hyperlink]],\"Book Weblink\")","v":"Book Weblink"},null,"2018","August 2017",null,null,"Author, Illustrated by","Thomas Canavan, Adam Linley",null,null,null,null,"T",null,"Grade 4 - 5","Grade 4 - 6","Disappearing coins, balloon megaphones, CD rainbows...the science of light and sound sometimes seems like magic. Readers will learn the amazing facts behind these phenomena that are more fascinating than fiction. Simple language explains the properties of light and sound, while hands-on activities give readers tangible examples to help them retain crucial science information. Helpful tips make experiments easy and safe, and step-by-step instructions with photographs ensure accessibility. Readers will love focusing light to pop balloons, talking to friends over plastic cup telephones, and other whacky adventures in scientific principles. They’ll learn incredible real-life examples of the same concepts they’re exploring at home, such as how laser beams focus light to produce heat!","English",27.6,20.7,"535.078--dc23","32 pp.","https://www.garethstevens.com/9781538207345",null,{"$f":"Table1[[#This Row],[QTY]]*Table1[[#This Row],['# Books]]","v":0},{"$f":"Table1[[#This Row],[QTY]]*Table1[[#This Row],[S&L Price]]","v":0}]
[null,null,null,"Miracles of Medicine",1,"Artificial Limbs","eBook",null,"978-1-4824-6167-1",{"$f":"HYPERLINK(Table1[[#This Row],[eCommerce Hyperlink]],\"Book Weblink\")","v":"Book Weblink"},null,"2017","January 2017",null,null,"Author","Kira Freed",null,null,null,null,"U","1220L","Grade 6","Grade 6 - 8","Artificial limbs, or prosthetics, have been recorded in history as early as ancient Egypt. Innovations over the centuries mean that many who are missing or have lost a limb, whether through trauma, disease, or congenital condition, can be fitted with limbs that not only look authentic, but also effectuate the movements of human limbs. This wide-ranging work details the kinds of prostheses available today, how they're made, how they work, the challenges that face those who use them, and exciting advances in prosthetic technology. Readers will marvel at these medical wonders as well as the people who fabricate and utilize them.","English",32.950000000000003,24.7,"617.5’8--dc23","48 pp.","https://www.garethstevens.com/9781482461671",null,{"$f":"Table1[[#This Row],[QTY]]*Table1[[#This Row],['# Books]]","v":0},{"$f":"Table1[[#This Row],[QTY]]*Table1[[#This Row],[S&L Price]]","v":0}]
[null,null,null,"Miracles of Medicine",1,"Vaccines","eBook",null,"978-1-4824-6173-2",{"$f":"HYPERLINK(Table1[[#This Row],[eCommerce Hyperlink]],\"Book Weblink\")","v":"Book Weblink"},null,"2017","January 2017",null,null,"Author","Vic Kovacs",null,null,null,null,"U","1070L","Grade 6","Grade 6 - 8","Some vaccines may be controversial today, but undoubtedly they have saved millions of lives since their introduction. Mass inoculations began with the polio vaccine in 1952 and since then have become a part of modern life. This important volume makes vaccine technology understandable, describing the different types, how they’re administered, and their side effects and limitations. Readers will feel well-informed as they come to comprehend key topics such as herd immunity, the anti-vaccination movement, and new developments in vaccine technology, including the diseases they may treat in the future and how they’re delivered.","English",32.950000000000003,24.7,"615’.372--dc23","48 pp.","https://www.garethstevens.com/9781482461732",null,{"$f":"Table1[[#This Row],[QTY]]*Table1[[#This Row],['# Books]]","v":0},{"$f":"Table1[[#This Row],[QTY]]*Table1[[#This Row],[S&L Price]]","v":0}]
[null,null,null,"Technology Takes on Nature",1,"Earth Borers","eBook",null,"978-1-4824-5786-5",{"$f":"HYPERLINK(Table1[[#This Row],[eCommerce Hyperlink]],\"Book Weblink\")","v":"Book Weblink"},null,"2017","January 2017",null,null,"Author","Ryan Nagelhout","6.1","0.5",null,null,"Q","1120L","Grade 3 - 4","Grade 3 - 6","Earth borers are huge, amazing tools that help build tunnels. Readers will dig deep underground with these massive machines to learn how they chew up rocks and dirt and help engineers build new things far below Earth’s surface. Vibrant full-color photographs showcase these large borers and the tunnels they create, which are used by cars, trucks, and even trains to take people from place to place. This innovative title also looks at the environmental impact these machines have on our lives and potential problems they cause, such as sinkholes.","English",27.6,20.7,"621.8’65--dc23","32 pp.","https://www.garethstevens.com/9781482457865",null,{"$f":"Table1[[#This Row],[QTY]]*Table1[[#This Row],['# Books]]","v":0},{"$f":"Table1[[#This Row],[QTY]]*Table1[[#This Row],[S&L Price]]","v":0}]
[null,null,null,"Technology Takes on Nature",1,"Earthquake-Proof Buildings","Library Bound Book",null,"978-1-4824-5769-8",{"$f":"HYPERLINK(Table1[[#This Row],[eCommerce Hyperlink]],\"Book Weblink\")","v":"Book Weblink"},null,"2017","January 2017","Library","8.500 X 11.00","Author","Melissa Raé Shofner","6.3","0.5",null,null,"Q","1020L","Grade 3 - 4","Grade 3 - 6","There’s no telling when an earthquake can strike, which is why engineers building in earthquake-prone places need to be careful. Earthquake-proofing buildings takes cutting-edge science and lots of testing, but these amazing creations help keep people safe and prevent further chaos in the event of disaster. Full-color photographs that chronicle the construction of simple bunker-like rooms as well as more complex buildings yet to be tested by major geological events will mesmerize readers. They’ll also get a look at how high-rises are built to combat the shaking and swaying that comes with these natural disasters.","English",27.6,20.7,"690--dc23","32 pp.","https://www.garethstevens.com/9781482457698",null,{"$f":"Table1[[#This Row],[QTY]]*Table1[[#This Row],['# Books]]","v":0},{"$f":"Table1[[#This Row],[QTY]]*Table1[[#This Row],[S&L Price]]","v":0}]
[null,null,null,"Technology Takes on Nature",1,"Icebreakers","Library Bound Book",null,"978-1-4824-5781-0",{"$f":"HYPERLINK(Table1[[#This Row],[eCommerce Hyperlink]],\"Book Weblink\")","v":"Book Weblink"},null,"2017","January 2017","Library","8.500 X 11.00","Author","Nick Veronica","6.3","0.5",null,null,"Q","1100L","Grade 3 - 4","Grade 3 - 6","Traveling by boat in cold climates would be extremely difficult without icebreakers. These special boats help create paths in ice that allow other vessels to travel frigid, ice-filled waters to deliver people and supplies to places often inaccessible without their hard work. Readers will dive in to explore how icebreakers work and what special tools they have to keep other boats safe in the water. Full-color photographs show icebreakers leading ships to Antarctica and other ice breaking projects while exploring the other places these boats work around the world.","English",27.6,20.7,"623.82’8--dc23","32 pp.","https://www.garethstevens.com/9781482457810",null,{"$f":"Table1[[#This Row],[QTY]]*Table1[[#This Row],['# Books]]","v":0},{"$f":"Table1[[#This Row],[QTY]]*Table1[[#This Row],[S&L Price]]","v":0}]
[null,null,null,"Science Fiction to Science Fact",1,"Bionic Limbs","Library Bound Book",null,"978-1-5382-1380-3",{"$f":"HYPERLINK(Table1[[#This Row],[eCommerce Hyperlink]],\"Book Weblink\")","v":"Book Weblink"},null,"2018","January 2018","Library","6.500 X 9.125","Author","Holly Duhig","6.1","1",null,null,"S",null,"Grade 4 - 5","Grade 4 - 6","Cyborgs, heroes with missing hands, and prosthetics that allow sight in the blind are just some of the unbelievable plot points in science fiction that began years ago. Today, much of this technology exists. Those without legs can be fitted with bionic limbs so well made they can run marathons. Readers learn the history of bionic limbs in science fiction and popular culture and connect it to the real, amazing science of today. Full of interesting STEM content, each chapter engages readers with the ideas behind, execution, and future of this technology.","English",27.6,20.7,"617.9--dc23","32 pp.","https://www.garethstevens.com/9781538213803",null,{"$f":"Table1[[#This Row],[QTY]]*Table1[[#This Row],['# Books]]","v":0},{"$f":"Table1[[#This Row],[QTY]]*Table1[[#This Row],[S&L Price]]","v":0}]
[null,null,null,"Science Fiction to Science Fact",1,"Solar Sails","Library Bound Book",null,"978-1-5382-1388-9",{"$f":"HYPERLINK(Table1[[#This Row],[eCommerce Hyperlink]],\"Book Weblink\")","v":"Book Weblink"},null,"2018","January 2018","Library","6.500 X 9.125","Author","Holly Duhig","6","1",null,null,"S","960L","Grade 4 - 5","Grade 4 - 6","Solar sails use the sun’s energy to fly spacecraft, or “flight by light.” It sounds like something out of a science fiction novel. In fact, it is, first being mentioned in Jules Verne’s From Earth to the Moon in 1865. It's been used as a way for characters to travel through space in many other books and movies, including Tron in 1985. Today, solar sails are a reality, and readers learn how their technology works as well as how successful trials with solar sail apparatuses have been. Could light energy be the best way to move through space in the future? Readers find out for themselves.","English",27.6,20.7,"629.47'5--dc23","32 pp.","https://www.garethstevens.com/9781538213889",null,{"$f":"Table1[[#This Row],[QTY]]*Table1[[#This Row],['# Books]]","v":0},{"$f":"Table1[[#This Row],[QTY]]*Table1[[#This Row],[S&L Price]]","v":0}]
[null,null,null,"Science Fiction to Science Fact",1,"Tractor Beams","Library Bound Book",null,"978-1-5382-1390-2",{"$f":"HYPERLINK(Table1[[#This Row],[eCommerce Hyperlink]],\"Book Weblink\")","v":"Book Weblink"},null,"2018","January 2018","Library","6.500 X 9.125","Author","Holly Duhig","6.2","1",null,null,"S",null,"Grade 4 - 5","Grade 4 - 6","The first time the term “tractor beam” was used was in 1931. Since then, tractor beams have been used in many science fiction books, movies, and TV shows to draw in spacecraft, people, and objects in space. This science fiction technology has become science fact. In 2015, scientists used sound waves to move tiny objects. Through reading about this and other modern technology, readers are engaged with incredible STEM information as well as their imaginations as they also learn the connections between this technology and popular science fiction.","English",27.6,20.7,"621.36'6--dc23","32 pp.","https://www.garethstevens.com/9781538213902",null,{"$f":"Table1[[#This Row],[QTY]]*Table1[[#This Row],['# Books]]","v":0},{"$f":"Table1[[#This Row],[QTY]]*Table1[[#This Row],[S&L Price]]","v":0}]
[null,null,null,"STEM in Our World",1,"Medical Technology: Genomics, Growing Organs, and More","Library Bound Book",null,"978-1-5382-2646-9",{"$f":"HYPERLINK(Table1[[#This Row],[eCommerce Hyperlink]],\"Book Weblink\")","v":"Book Weblink"},null,"2019","August 2018","Library","8.500 X 11.00","Author","John Wood","6.1","1",null,null,"U",null,"Grade 4 - 5","Grade 4 - 6","Thousands of people get organ transplants every year, but the need greatly outweighs the supply of organs. What if scientists could grow organs to help make people well? The technology isn't so far fetched anymore. Readers learn all about how this could be possible, as well as work in areas like genetics, and much more in the riveting pages of this book. Chock full of STEM topics, including careers in the medical, research, and technology fields, this volume is a great complement to the science curriculum and classroom library.","English",27.6,20.7,"610.1'4--dc23","32 pp.","https://www.garethstevens.com/9781538226469",null,{"$f":"Table1[[#This Row],[QTY]]*Table1[[#This Row],['# Books]]","v":0},{"$f":"Table1[[#This Row],[QTY]]*Table1[[#This Row],[S&L Price]]","v":0}]
[null,null,null,"STEM in Our World",1,"Sports Technology: Cryotherapy, LED Courts, and More","Library Bound Book",null,"978-1-5382-2634-6",{"$f":"HYPERLINK(Table1[[#This Row],[eCommerce Hyperlink]],\"Book Weblink\")","v":"Book Weblink"},null,"2019","August 2018","Library","8.500 X 11.00","Author","John Wood","5.9","1",null,null,"U",null,"Grade 4 - 5","Grade 4 - 6","A professional athlete's number one priority is staying healthy. Technology for injury prevention and recovery, such as cryotherapy and cupping, is in high demand. Those aren't the only amazing technologies being developed for athletes or in sports today. High-tech gear, playing surfaces, and more are explored in this engrossing volume, complete with full-color photographs of the technology in action. Sports fanatics and computer lovers alike can find something fascinating and new to learn in this high-interest take on STEM topics.","English",27.6,20.7,"688.76--dc23","32 pp.","https://www.garethstevens.com/9781538226346",null,{"$f":"Table1[[#This Row],[QTY]]*Table1[[#This Row],['# Books]]","v":0},{"$f":"Table1[[#This Row],[QTY]]*Table1[[#This Row],[S&L Price]]","v":0}]
[null,null,null,"Cutting-Edge Technology",1,"3-D Printers","eBook",null,"978-1-4824-5155-9",{"$f":"HYPERLINK(Table1[[#This Row],[eCommerce Hyperlink]],\"Book Weblink\")","v":"Book Weblink"},null,"2017","August 2016",null,null,"Author","James Bow",null,null,null,null,"W","1050L","Grade 6 - 8","Grade 6 - 8","With a bit of programming and some high-tech science, 3-D printers can use a wide variety of materials such as plastic or wood to create an infinite amount of different creations. This book explores the science behind this incredible technology, including the history of 3-D printing and what scientists hope to achieve with these unique tools. Whether used for art, medicine, or just to make something cool at home, 3-D printing is poised to have a remarkable impact on our lives, and this book chronicles the technology’s journey from concept to reality.","English",32.950000000000003,24.7,"621.9’88--dc23","48 pp.","https://www.garethstevens.com/9781482451559",null,{"$f":"Table1[[#This Row],[QTY]]*Table1[[#This Row],['# Books]]","v":0},{"$f":"Table1[[#This Row],[QTY]]*Table1[[#This Row],[S&L Price]]","v":0}]
[null,null,null,"Cutting-Edge Technology",1,"GMOs","Library Bound Book",null,"978-1-4824-5157-3",{"$f":"HYPERLINK(Table1[[#This Row],[eCommerce Hyperlink]],\"Book Weblink\")","v":"Book Weblink"},null,"2017","August 2016","Library","7.250 X 9.250","Author","Mary Colson",null,null,null,null,"W","1070L","Grade 6 - 8","Grade 6 - 8","Genetically Modified Organisms can be difficult to understand. These laboratory-modified plants and animals are a controversial part of the agricultural industry—and a person’s diet. This book explores the pros and cons of these modified crops, such as corn, rice, and soybeans. While exploring what changes scientists make to these plants and how these changes impact their consumption, it also studies the potential risks of altering natural genetic material and how consuming GMOs impacts humans. As future development of GMOs such as corn and salmon progresses, governments and their citizens face difficult decisions about whether GMOs should enter the food supply, and about the safety of these incredible technological developments.","English",32.950000000000003,24.7,"641.3--dc23","48 pp.","https://www.garethstevens.com/9781482451573",null,{"$f":"Table1[[#This Row],[QTY]]*Table1[[#This Row],['# Books]]","v":0},{"$f":"Table1[[#This Row],[QTY]]*Table1[[#This Row],[S&L Price]]","v":0}]
[null,null,null,"Cutting-Edge Technology",1,"Robotics","Library Bound Book",null,"978-1-4824-5160-3",{"$f":"HYPERLINK(Table1[[#This Row],[eCommerce Hyperlink]],\"Book Weblink\")","v":"Book Weblink"},null,"2017","August 2016","Library","7.250 X 9.250","Author, Author","Louise Spilsbury, Richard Spilsbury",null,null,null,null,"W","1110L","Grade 6 - 8","Grade 6 - 8","Every day, robots become a bigger part of our lives. From the robots vacuuming our homes to self-scanning machines at the supermarket, robots do jobs faster than humans and often with fewer mistakes. This book takes a look at the amazing developments in robotic technology, from the early days of robots to the varied landscape of robotics we see today. Readers will learn the differences between robots being developed to look just like humans and the complex thinking machines designed to play chess or build cars, and explore the potential future robots have to change the world.","English",32.950000000000003,24.7,"629.8’92--dc23","48 pp.","https://www.garethstevens.com/9781482451603",null,{"$f":"Table1[[#This Row],[QTY]]*Table1[[#This Row],['# Books]]","v":0},{"$f":"Table1[[#This Row],[QTY]]*Table1[[#This Row],[S&L Price]]","v":0}]
[null,null,null,"Eyewitness to History",1,"Inside the Civil Rights Movement","eBook",null,"978-1-5382-1156-4",{"$f":"HYPERLINK(Table1[[#This Row],[eCommerce Hyperlink]],\"Book Weblink\")","v":"Book Weblink"},null,"2018","January 2018",null,null,"Author","Kristen Rajczak Nelson",null,null,null,null,"T","1080L","Grade 4 - 5","Grade 4 - 6","The U.S. civil rights movement rose to prominence in the 1950s, with protests finally compelling civil rights legislation in the mid-1960s. But activists still contended with institutional racism embedded in America’s economic, political, and cultural systems. This important, wide-ranging volume tells the story of the early movement and the figures who fought for equality, such as Martin Luther King, Rosa Parks, and Malcolm X. It also includes discussion of the ramifications of the movement and the actions of its leaders today. Historical photographs, primary sources, and powerful quotes from eyewitnesses of events will resonate with readers.","English",27.6,20.7,"323.1196/0730904--dc23","32 pp.","https://www.garethstevens.com/9781538211564",null,{"$f":"Table1[[#This Row],[QTY]]*Table1[[#This Row],['# Books]]","v":0},{"$f":"Table1[[#This Row],[QTY]]*Table1[[#This Row],[S&L Price]]","v":0}]
[null,null,null,"Eyewitness to History",1,"Inside the LGBTQ+ Movement","Library Bound Book",null,"978-1-5382-1167-0",{"$f":"HYPERLINK(Table1[[#This Row],[eCommerce Hyperlink]],\"Book Weblink\")","v":"Book Weblink"},null,"2018","January 2018","Library","6.500 X 9.125","Author","Jennifer Lombardo",null,null,null,null,"U",null,"Grade 4 - 5","Grade 4 - 6","The first American gay rights organization formed in 1924, but was soon pressured to disband. Another wouldn’t form until the 1950s. The history of the U.S. movement to achieve progressive rights for people who identify as lesbian, gay, bisexual, transgender, transsexual, or queer is full of stops and starts and victories and tragedies, but also hope for the future. This important and timely volume describes a topic of history often glossed over and a movement that is still working to effect change. Key figures are featured as well as crucial events, both past and present.","English",27.6,20.7,"306.76--dc23","32 pp.","https://www.garethstevens.com/9781538211670",null,{"$f":"Table1[[#This Row],[QTY]]*Table1[[#This Row],['# Books]]","v":0},{"$f":"Table1[[#This Row],[QTY]]*Table1[[#This Row],[S&L Price]]","v":0}]
[null,null,null,"Eyewitness to History",1,"Inside the Women's Rights Movement","eBook",null,"978-1-5382-1172-4",{"$f":"HYPERLINK(Table1[[#This Row],[eCommerce Hyperlink]],\"Book Weblink\")","v":"Book Weblink"},null,"2018","January 2018",null,null,"Author","Jill Keppeler",null,null,null,null,"T","1060L","Grade 4 - 5","Grade 4 - 6","The women’s rights movement is sometimes abbreviated in history books, but it’s crucial that today’s generation understands the many key moments that led not only to the 19th Amendment to the Constitution, but also the other hard-fought victories. And the movement didn’t stop in the 20th century, both women and men are still fighting for women’s equality in the workplace. This well-researched book features quotes by significant players in the women’s rights movement and primary sources that show an insider’s views of events. Fact boxes, sidebars, and historical images add more valuable material to explore.","English",27.6,20.7,"305.42'0973--dc23","32 pp.","https://www.garethstevens.com/9781538211724",null,{"$f":"Table1[[#This Row],[QTY]]*Table1[[#This Row],['# Books]]","v":0},{"$f":"Table1[[#This Row],[QTY]]*Table1[[#This Row],[S&L Price]]","v":0}]
[null,null,null,"Eyewitness to History",1,"Cesar Chavez in His Own Words","Library Bound Book",null,"978-1-4824-4060-7",{"$f":"HYPERLINK(Table1[[#This Row],[eCommerce Hyperlink]],\"Book Weblink\")","v":"Book Weblink"},null,"2016","January 2016","Library","6.500 X 9.125","Author","Sarah Machajewski","6","1",null,null,"U","920L","Grade 4 - 5","Grade 4 - 6","Cesar Chavez was one of the most influential labor leaders of the twentieth century. His story, from migrant field worker to champion of the voiceless, is a fascinating one that resonates today. Readers will be able to learn about the man Robert F. Kennedy called one of the “heroic figures of our time” through this account which interweaves Chavez’s own words throughout the biographical text. Historic photographs bring the man to life, while sidebars and fact boxes offer more background information on his important work.","English",27.6,20.7,"331.88'13092--dc23","32 pp.","https://www.garethstevens.com/9781482440607",null,{"$f":"Table1[[#This Row],[QTY]]*Table1[[#This Row],['# Books]]","v":0},{"$f":"Table1[[#This Row],[QTY]]*Table1[[#This Row],[S&L Price]]","v":0}]
[null,null,null,"Eyewitness to History",1,"Eleanor Roosevelt in Her Own Words","eBook",null,"978-1-4824-4065-2",{"$f":"HYPERLINK(Table1[[#This Row],[eCommerce Hyperlink]],\"Book Weblink\")","v":"Book Weblink"},null,"2016","January 2016",null,null,"Author","John M. Shea ","6","1",null,null,"U","920L","Grade 4 - 5","Grade 4 - 6","Eleanor Roosevelt wasn’t content to be a seldom-seen, never-heard First Lady. Instead, she worked tirelessly for the many causes dear to her heart, including the rights of African Americans, women, and the poor. After Franklin D. Roosevelt’s death, she traveled the world promoting peace in the aftermath of World War II. Roosevelt was so beloved she became known as the “First Lady of the World.” This extraordinary woman’s life and work is presented in this charming biography that utilizes her own words from her prolific writings. Roosevelt’s wit, charm, and intelligence shine in each passage, while carefully chosen photographs reflect important moments in her life.","English",27.6,20.7,"973.917092--dc23","32 pp.","https://www.garethstevens.com/9781482440652",null,{"$f":"Table1[[#This Row],[QTY]]*Table1[[#This Row],['# Books]]","v":0},{"$f":"Table1[[#This Row],[QTY]]*Table1[[#This Row],[S&L Price]]","v":0}]
[null,null,null,"Eyewitness to History",1,"Elizabeth Cady Stanton in Her Own Words","eBook",null,"978-1-4824-1406-6",{"$f":"HYPERLINK(Table1[[#This Row],[eCommerce Hyperlink]],\"Book Weblink\")","v":"Book Weblink"},null,"2015","August 2014",null,null,"Author","Nicole Shea",null,null,"44",null,"T","990L","Grade 4 - 5","Grade 4 - 6","For over 50 years, Elizabeth Cady Stanton was one of the most influential leaders of the women's rights movement of the 1800s. In this book, abundant with interesting photographs and images, readers are given a glimpse of Stanton's public and personal life through her own writings. Her friendship with Susan B. Anthony, work for the women's rights convention of 1848, and connection with the antislavery movement are especially highlighted. Sidebars and fact boxes offer more about this period in US and world history.","English",27.6,20.7,"324.6","32 pp.","https://www.garethstevens.com/9781482414066",null,{"$f":"Table1[[#This Row],[QTY]]*Table1[[#This Row],['# Books]]","v":0},{"$f":"Table1[[#This Row],[QTY]]*Table1[[#This Row],[S&L Price]]","v":0}]
[null,null,null,"Eyewitness to History",1,"Leonardo da Vinci in His Own Words","eBook",null,"978-1-4824-4077-5",{"$f":"HYPERLINK(Table1[[#This Row],[eCommerce Hyperlink]],\"Book Weblink\")","v":"Book Weblink"},null,"2016","January 2016",null,null,"Author","Caroline Kennon","6.2","1",null,null,"U","970L","Grade 4 - 5","Grade 4 - 6","Leonardo da Vinci defies categorization. He was an artist, scientist, mathematician, engineer, and more. He truly was a Renaissance man. This comprehensive volume presents the biography of a remarkable man using his own words and works. Readers will come to appreciate the genius of the inventor who devised early airplanes and helicopters more than 300 years before flying machines would be successfully developed! His paintings, sculptures, blueprints, notebooks, and other reminders of his legacy are well represented throughout this beautifully designed and well-researched book.","English",27.6,20.7,"709.2--dc23","32 pp.","https://www.garethstevens.com/9781482440775",null,{"$f":"Table1[[#This Row],[QTY]]*Table1[[#This Row],['# Books]]","v":0},{"$f":"Table1[[#This Row],[QTY]]*Table1[[#This Row],[S&L Price]]","v":0}]
[null,null,null,"Eyewitness to History",1,"Lewis and Clark in Their Own Words","Library Bound Book",null,"978-1-4339-9929-1",{"$f":"HYPERLINK(Table1[[#This Row],[eCommerce Hyperlink]],\"Book Weblink\")","v":"Book Weblink"},null,"2014","January 2014","Library","6.500 X 9.000","Author","Janey Levy",null,null,"40","30","T","1120L","Grade 4 - 5","Grade 4 - 6","The journey of Meriwether Lewis and William Clark across the newly acquired Louisiana Territory from 1804 to 1806 was truly extraordinary. It's best explained using the journals of these two explorers. In this book, primary source materials were carefully chosen to highlight the most interesting and exciting parts of the adventure. Maps, sidebars, and fact boxes highlight many of the exploits of the Corps of Discovery.","English",28.6,21.45,"917.804--dc23","32 pp.","https://www.garethstevens.com/9781433999291",null,{"$f":"Table1[[#This Row],[QTY]]*Table1[[#This Row],['# Books]]","v":0},{"$f":"Table1[[#This Row],[QTY]]*Table1[[#This Row],[S&L Price]]","v":0}]
[null,null,null,"Eyewitness to History",1,"Franklin D. Roosevelt in His Own Words","Library Bound Book",null,"978-1-4824-1476-9",{"$f":"HYPERLINK(Table1[[#This Row],[eCommerce Hyperlink]],\"Book Weblink\")","v":"Book Weblink"},null,"2015","August 2014","Library","6.500 X 9.000","Author","John M. Shea ",null,null,"44",null,"U","1030L","Grade 4 - 5","Grade 4 - 6","Franklin D. Roosevelt was one of the most powerful and popular US presidents. He was the only one to serve 12 years and was elected four times. As the leader of the nation, he saw the country through an economic depression and World War II. Through primary sources, personal and political writings, and quotations, readers will become familiar with the man behind the famous name, from his early life to his momentous presidency. This book is a unique way to examine US history in the early twentieth century through the biography of one remarkable man.","English",27.6,20.7,"973.917","32 pp.","https://www.garethstevens.com/9781482414769",null,{"$f":"Table1[[#This Row],[QTY]]*Table1[[#This Row],['# Books]]","v":0},{"$f":"Table1[[#This Row],[QTY]]*Table1[[#This Row],[S&L Price]]","v":0}]
[null,null,null,"Eyewitness to History",1,"Henry Ford in His Own Words","Library Bound Book",null,"978-1-4824-1480-6",{"$f":"HYPERLINK(Table1[[#This Row],[eCommerce Hyperlink]],\"Book Weblink\")","v":"Book Weblink"},null,"2015","August 2014","Library","6.500 X 9.000","Author","Ryan Nagelhout",null,null,"44",null,"U","960L","Grade 4 - 5","Grade 4 - 6","Henry Ford, founder of the Ford Motor Company, didn't invent the car or even his famous assembly line. However, he was the innovator who made these things wildly successful. In fact, his practices and ideas shaped American life and business in the twentieth century, even helping the war effort in World War II, and continue to do so today. This biography uses quotations and writings to trace Henry Ford's rise from humble farm boy to thriving entrepreneur.","English",27.6,20.7,"338.7","32 pp.","https://www.garethstevens.com/9781482414806",null,{"$f":"Table1[[#This Row],[QTY]]*Table1[[#This Row],['# Books]]","v":0},{"$f":"Table1[[#This Row],[QTY]]*Table1[[#This Row],[S&L Price]]","v":0}]
[null,null,null,"Eyewitness to History",1,"Sitting Bull in His Own Words","eBook",null,"978-1-4824-1401-1",{"$f":"HYPERLINK(Table1[[#This Row],[eCommerce Hyperlink]],\"Book Weblink\")","v":"Book Weblink"},null,"2015","August 2014",null,null,"Author","Julia McDonnell",null,null,"44",null,"U","1000L","Grade 4 - 5","Grade 4 - 6","Sitting Bull, the well-known Native American chief, united the Lakota Sioux in the northern Great Plains and led a mighty resistance of tribes who refused to be placed on reservations. This struggle resulted in violence, most famously at Little Bighorn in 1876. Though Sitting Bull fled to Canada, he ultimately returned to the United States in 1881. This book uses Sitting Bull's powerful words to examine the leader's considerable courage and determination as well as his aspirations for Native Americans.","English",27.6,20.7,"978.004","32 pp.","https://www.garethstevens.com/9781482414011",null,{"$f":"Table1[[#This Row],[QTY]]*Table1[[#This Row],['# Books]]","v":0},{"$f":"Table1[[#This Row],[QTY]]*Table1[[#This Row],[S&L Price]]","v":0}]
[null,null,null,"My Place in History",1,"My Life as a Chinese Immigrant","eBook",null,"978-1-5382-0296-8",{"$f":"HYPERLINK(Table1[[#This Row],[eCommerce Hyperlink]],\"Book Weblink\")","v":"Book Weblink"},null,"2018","August 2017",null,null,"Author","Max Caswell","4.9","0.5",null,null,"M",null,"Grade 2 - 3","Grade 2 - 5","The progress of America after the Industrial Revolution came at the cost of many unnamed lives, and there's no story more indicative of this than the plight of the Chinese men who built the Transcontinental Railroad. Young readers will be transported through first-person accounts, and even a Western Union telegram, into the Central Pacific camp, learning how track was laid, how perilous the job was, and how deeply racism affected these men who thanklessly connected the coasts. Black-and-white photography brings historical details into sharp focus, while a table of powerful statistics exposes the incredible reality of the epic project.","English",23.6,17.7,"973/.04951--dc23","24 pp.","https://www.garethstevens.com/9781538202968",null,{"$f":"Table1[[#This Row],[QTY]]*Table1[[#This Row],['# Books]]","v":0},{"$f":"Table1[[#This Row],[QTY]]*Table1[[#This Row],[S&L Price]]","v":0}]
[null,null,null,"My Place in History",1,"My Life in the Plymouth Colony","Library Bound Book",null,"978-1-5382-0307-1",{"$f":"HYPERLINK(Table1[[#This Row],[eCommerce Hyperlink]],\"Book Weblink\")","v":"Book Weblink"},null,"2018","August 2017","Library","8.500 X 8.500","Author","Max Caswell","5.3","0.5",null,null,"L",null,"Grade 2 - 3","Grade 2 - 5","The world of the pilgrims is presented here through a captivating mixture of fact and fiction. This accessible volume chronicles how the earliest American pilgrims lived, exploring their clothing, hobbies, sleep, food, and more through carefully researched fictional \"found\" ephemera. Fact boxes throughout the text present historical events, places, and people, connecting the fiction of the main text to the social studies curriculum. The book abounds with opportunity for thoughtful comparison to modern life that young readers are sure to enjoy.","English",23.6,17.7,"974.4/02--dc23","24 pp.","https://www.garethstevens.com/9781538203071",null,{"$f":"Table1[[#This Row],[QTY]]*Table1[[#This Row],['# Books]]","v":0},{"$f":"Table1[[#This Row],[QTY]]*Table1[[#This Row],[S&L Price]]","v":0}]
[null,null,null,"My Place in History",1,"My Journey on the Underground Railroad","eBook",null,"978-1-4824-3998-4",{"$f":"HYPERLINK(Table1[[#This Row],[eCommerce Hyperlink]],\"Book Weblink\")","v":"Book Weblink"},null,"2016","January 2016",null,null,"Author","Lynda Arnéz","4.7","0.5",null,null,"L","840L","Grade 2 - 3","Grade 2 - 5","Perhaps one of the most harrowing journeys in US history, traveling the Underground Railroad was dangerous, long, and often very uncomfortable. Men, women, and children often had to walk hundreds of miles to safe houses, usually at night, and stay in cramped quarters until it was safe for them to keep moving. Readers learn what it was like to travel on the Underground Railroad through the eyes of a child escaping slavery. From food to traveling conditions, the narrator’s unique perspective will enhance readers' understanding of what it was like to be a slave in early America.","English",23.6,17.7,"973.7'115--dc23","24 pp.","https://www.garethstevens.com/9781482439984",null,{"$f":"Table1[[#This Row],[QTY]]*Table1[[#This Row],['# Books]]","v":0},{"$f":"Table1[[#This Row],[QTY]]*Table1[[#This Row],[S&L Price]]","v":0}]
[null,null,null,"My Place in History",1,"My Life in an Algonquian Village","eBook",null,"978-1-4824-3987-8",{"$f":"HYPERLINK(Table1[[#This Row],[eCommerce Hyperlink]],\"Book Weblink\")","v":"Book Weblink"},null,"2016","January 2016",null,null,"Author","Lynda Arnéz","4.6","0.5",null,null,"L","660L","Grade 2 - 3","Grade 2 - 5","Childhood has changed exponentially since the early 1600s. From what chores one must do to the roles of men and women, children today don’t have much in common with children of Algonquian tribes. Readers learn from a unique first-person narrator about growing up as a Powhatan child. Food, clothing, and shelter are covered in the main content, as well as historical context of tribes living near the Jamestown settlement. Readers will feel transported to a different time and a whole new, exciting culture.","English",23.6,17.7,"973.04'973--dc23","24 pp.","https://www.garethstevens.com/9781482439878",null,{"$f":"Table1[[#This Row],[QTY]]*Table1[[#This Row],['# Books]]","v":0},{"$f":"Table1[[#This Row],[QTY]]*Table1[[#This Row],[S&L Price]]","v":0}]
[null,null,null,"My Place in History",1,"My Life in the American Colonies","eBook",null,"978-1-4824-3995-3",{"$f":"HYPERLINK(Table1[[#This Row],[eCommerce Hyperlink]],\"Book Weblink\")","v":"Book Weblink"},null,"2016","January 2016",null,null,"Author","Lynda Arnéz","4.8","0.5",null,null,"L","870L","Grade 2 - 3","Grade 2 - 5","Living in the American colonies was difficult at times as towns were built, governance was established, and people from many different backgrounds, including Native Americans, learned to live together. By the 1770s, many colonists were asserting their belief in a new country free from English rule. Readers meet a young colonist growing up during the tumult of the pre-Revolutionary era. This unique, first-person perspective introduces readers to a period important to the social studies curriculum. Historical images and fact boxes add context to the main content, which focuses more on the chores, schooling, and family life of colonial children.","English",23.6,17.7,"973.2--dc23","24 pp.","https://www.garethstevens.com/9781482439953",null,{"$f":"Table1[[#This Row],[QTY]]*Table1[[#This Row],['# Books]]","v":0},{"$f":"Table1[[#This Row],[QTY]]*Table1[[#This Row],[S&L Price]]","v":0}]
[null,null,null,"Weird America",1,"America's Oddest Crimes","eBook",null,"978-1-4824-5746-9",{"$f":"HYPERLINK(Table1[[#This Row],[eCommerce Hyperlink]],\"Book Weblink\")","v":"Book Weblink"},null,"2017","January 2017",null,null,"Author","Janey Levy","5.3","0.5",null,null,"R",null,"Grade 3 - 4","Grade 3 - 6","Crime and punishment can be a complicated subject, but sometimes it gets downright strange. Robberies gone wrong and attempts to cash billion-dollar checks are just some of the wacky crimes covered in this book. With colorful photographs and graphics bring these crimes to life, readers learn that criminals often have strange motivations for the odd things they do. Some even commit crimes you might never think would be punishable by law—like laughing too loud—or crimes from history that rarely happen today like train robbing.","English",27.6,20.7,"364.152’3--dc23","32 pp.","https://www.garethstevens.com/9781482457469",null,{"$f":"Table1[[#This Row],[QTY]]*Table1[[#This Row],['# Books]]","v":0},{"$f":"Table1[[#This Row],[QTY]]*Table1[[#This Row],[S&L Price]]","v":0}]
[null,null,null,"Weird America",1,"America's Oddest Fads","Library Bound Book",null,"978-1-4824-5749-0",{"$f":"HYPERLINK(Table1[[#This Row],[eCommerce Hyperlink]],\"Book Weblink\")","v":"Book Weblink"},null,"2017","January 2017","Library","8.500 X 11.00","Author","M. H. Seeley","5.9","0.5",null,null,"R","1030L","Grade 3 - 4","Grade 3 - 6","Fads come and go, but they’re almost always weird. From troll dolls to pet rocks and even goldfish swallowing, there are plenty of weird fads hidden in American history. Full-color photographs introduce readers to one of America’s earliest fads—drawing panoramas of towns—as well as some of the weirder phenomena like flagpole sitting or dance contests. With full-color photographs highlighting these odd toys, games, and hobbies, readers learn some of the reasons behind these trends in American history.","English",27.6,20.7,"306.0973--dc23","32 pp.","https://www.garethstevens.com/9781482457490",null,{"$f":"Table1[[#This Row],[QTY]]*Table1[[#This Row],['# Books]]","v":0},{"$f":"Table1[[#This Row],[QTY]]*Table1[[#This Row],[S&L Price]]","v":0}]
[null,null,null,"Weird America",1,"America's Oddest Jobs","eBook",null,"978-1-4824-5758-2",{"$f":"HYPERLINK(Table1[[#This Row],[eCommerce Hyperlink]],\"Book Weblink\")","v":"Book Weblink"},null,"2017","January 2017",null,null,"Author","Therese M. Shea","5.4","0.5",null,null,"R","890L","Grade 3 - 4","Grade 3 - 6","Some of the weirdest occupations on the planet can be found right in our backyards. For every golf course near our homes, for example, there might be someone diving in its ponds searching for golf balls. Some people even collect snake venom or teach dogs how to surf! Curious readers get to explore the many odd jobs that dot the American landscape through colorful photographs and graphics that highlight some of the strangest things people do for a living.","English",27.6,20.7,"331.702--dc23","32 pp.","https://www.garethstevens.com/9781482457582",null,{"$f":"Table1[[#This Row],[QTY]]*Table1[[#This Row],['# Books]]","v":0},{"$f":"Table1[[#This Row],[QTY]]*Table1[[#This Row],[S&L Price]]","v":0}]
[null,null,null,"Weird America",1,"America's Oddest Hobbies","eBook",null,"978-1-4824-4018-8",{"$f":"HYPERLINK(Table1[[#This Row],[eCommerce Hyperlink]],\"Book Weblink\")","v":"Book Weblink"},null,"2016","January 2016",null,null,"Author","Michael Canfield","5.3","0.5",null,null,"R","970L","Grade 3 - 4","Grade 3 - 6","Leisure time is for people do anything they want, but sometimes their interests are really freaky. While some people like to read books and others play board games with their families, many hobbies are a bit stranger. This wild book looks at the collections Americans treasure and the games they love—even if the collection is of their own fingernails and the game is bug fighting! Engaging subject matter and incredible photos show Americans relaxing in the oddest ways imaginable, delighting even the most reluctant of readers.","English",27.6,20.7,"790.13--dc23","32 pp.","https://www.garethstevens.com/9781482440188",null,{"$f":"Table1[[#This Row],[QTY]]*Table1[[#This Row],['# Books]]","v":0},{"$f":"Table1[[#This Row],[QTY]]*Table1[[#This Row],[S&L Price]]","v":0}]
[null,null,null,"Weird America",1,"America's Oddest Landmarks","eBook",null,"978-1-4824-4026-3",{"$f":"HYPERLINK(Table1[[#This Row],[eCommerce Hyperlink]],\"Book Weblink\")","v":"Book Weblink"},null,"2016","January 2016",null,null,"Author","Sarah Machajewski","5.9","0.5",null,null,"R","1040L","Grade 3 - 4","Grade 3 - 6","The American landscape is dotted with sites important to our nation’s history. This book is not about those landmarks, but those that are truly odd and unusual. Most readers know about Stonehenge in Europe, but what about Carhenge in Alliance, Nebraska? Amazing photographs put readers up close and personal with incredibly odd feats of engineering, such as the world’s largest beagle and the world’s largest ball of twine. Engaging material straight from the wackiest interstate billboards fill the pages of this wild and wonderful book.","English",27.6,20.7,"917.304--dc 3","32 pp.","https://www.garethstevens.com/9781482440263",null,{"$f":"Table1[[#This Row],[QTY]]*Table1[[#This Row],['# Books]]","v":0},{"$f":"Table1[[#This Row],[QTY]]*Table1[[#This Row],[S&L Price]]","v":0}]
[null,null,null,"Hidden History",6,"Hidden History","Library Set",null,"978-1-4824-5874-9",{"$f":"HYPERLINK(Table1[[#This Row],[eCommerce Hyperlink]],\"Book Weblink\")","v":"Book Weblink"},null,"2017","January 2017","Library","6.500 X 9.125",null,null,null,null,null,null,null,null,"Grade 4 - 5","Grade 4 - 6","Sometimes uncovering the truth—the hidden history—means going to the source to unearth it. Budding historians, archaeologists, and anthropologists will find plenty to unearth in the sites and discoveries of this thought-provoking series. Each insightful volume provides critical information about significant subjects and time periods, supporting key issues in the elementary social studies curriculum. Highlighted topics include New York City’s African Burial Ground, the shipwrecks of the Great Lakes, and the Jamestown Colony. Readers will appreciate absorbing details seldom found in textbooks as well as historical images and what they reveal about the past.","English",165.6,124.2,null,"32 pp.","https://www.garethstevens.com/9781482458749",null,{"$f":"Table1[[#This Row],[QTY]]*Table1[[#This Row],['# Books]]","v":0},{"$f":"Table1[[#This Row],[QTY]]*Table1[[#This Row],[S&L Price]]","v":0}]
[null,null,null,"Hidden History",1,"North America's First People","eBook",null,"978-1-4824-5793-3",{"$f":"HYPERLINK(Table1[[#This Row],[eCommerce Hyperlink]],\"Book Weblink\")","v":"Book Weblink"},null,"2017","January 2017",null,null,"Author","Janey Levy","6.3","1",null,null,"T","990L","Grade 4 - 5","Grade 4 - 6","Who were the earliest Americans? When, how, and from where did they enter and spread across the continent? And what is their relationship to modern Native Americans? Anthropologists develop theories to answer these questions based on the evidence they discover. Their theories—and the discoveries that prove and disprove them—are highlighted in this fascinating volume, full of awe-inspiring facts and incredible breakthroughs. Readers will feel like anthropologists and archaeologists themselves as they read about bones and artifacts, and what they reveal about the ancient cultures that roamed North America, some more than 13,000 years ago!","English",27.6,20.7,"970.01--dc23","32 pp.","https://www.garethstevens.com/9781482457933",null,{"$f":"Table1[[#This Row],[QTY]]*Table1[[#This Row],['# Books]]","v":0},{"$f":"Table1[[#This Row],[QTY]]*Table1[[#This Row],[S&L Price]]","v":0}]
[null,null,null,"Hidden History",1,"The African Burial Ground","eBook",null,"978-1-4824-5884-8",{"$f":"HYPERLINK(Table1[[#This Row],[eCommerce Hyperlink]],\"Book Weblink\")","v":"Book Weblink"},null,"2017","January 2017",null,null,"Author","Therese M. Shea","6.5","1",null,null,"S","990L","Grade 4 - 5","Grade 4 - 6","In 1991, preparation for the construction of a new federal office building led to a startling discovery: a skeleton. Further excavation exposed the bones of 420 men, women, and children. This area of New York had been a burial ground set aside for both free and enslaved Africans during the 1600s and 1700s. It’s thought to be one of the most important archaeological discoveries of the 20th century. This noteworthy book—which includes sidebars, fact boxes, a timeline, and maps—fills in the gaps of history books, exposing much about what life was like in colonial New York for Africans.","English",27.6,20.7,"974.7/01--dc23","32 pp.","https://www.garethstevens.com/9781482458848",null,{"$f":"Table1[[#This Row],[QTY]]*Table1[[#This Row],['# Books]]","v":0},{"$f":"Table1[[#This Row],[QTY]]*Table1[[#This Row],[S&L Price]]","v":0}]
[null,null,null,"Be The Change! Shaping Your Community",1,"Be a Citizen Scientist!","eBook",null,"978-1-5382-1996-6",{"$f":"HYPERLINK(Table1[[#This Row],[eCommerce Hyperlink]],\"Book Weblink\")","v":"Book Weblink"},null,"2019","August 2018",null,null,"Author","Michael Rajczak",null,null,null,null,"O",null,"Grade 3 - 4","Grade 3 - 6","Citizen science, when scientists need observations from ordinary people to build a database and complete research, is hot right now in many science fields. Climate change, migration patterns, plant growth, population changes, and more require an all-hands-on-deck approach to data gathering that allows even young readers to participate in scientific pursuits. But how? This book, written by a veteran teacher, answers all the questions children have about how, where, and why it's so important to engage in citizen science. Accessible language and web resources throughout the text point young readers in the right direction.","English",27.6,20.7,"500.2072'1--dc23","32 pp.","https://www.garethstevens.com/9781538219966",null,{"$f":"Table1[[#This Row],[QTY]]*Table1[[#This Row],['# Books]]","v":0},{"$f":"Table1[[#This Row],[QTY]]*Table1[[#This Row],[S&L Price]]","v":0}]
[null,null,null,"Be The Change! Shaping Your Community",1,"Be a Mentor!","eBook",null,"978-1-5382-2008-5",{"$f":"HYPERLINK(Table1[[#This Row],[eCommerce Hyperlink]],\"Book Weblink\")","v":"Book Weblink"},null,"2019","August 2018",null,null,"Author","Kate Mikoley",null,null,null,null,"O",null,"Grade 3 - 4","Grade 3 - 6","Mentorship is an informal building block of modern civilization. For society to remain viable, it is essential that people help others and pass on skills and lessons. But how can young readers participate in this process? This book explains through the use of many examples just how easy it is for students to begin mentoring at any age. The work further engages through the use of \"Your Turn!\" sidebars directed at the reader and by connecting common experiences they've had to the act of mentoring.","English",27.6,20.7,"158.3--dc23","32 pp.","https://www.garethstevens.com/9781538220085",null,{"$f":"Table1[[#This Row],[QTY]]*Table1[[#This Row],['# Books]]","v":0},{"$f":"Table1[[#This Row],[QTY]]*Table1[[#This Row],[S&L Price]]","v":0}]
[null,null,null,"Be The Change! Shaping Your Community",1,"Be an Activist!","eBook",null,"978-1-5382-2012-2",{"$f":"HYPERLINK(Table1[[#This Row],[eCommerce Hyperlink]],\"Book Weblink\")","v":"Book Weblink"},null,"2019","August 2018",null,null,"Author","Jill Keppeler",null,null,null,null,"O",null,"Grade 3 - 4","Grade 3 - 6","No one should take for granted the fact that Americans have the opportunity to say what we feel about issues. Young readers are taught in the social studies curriculum to engage in their community and be an active citizen, but how can they when they can't yet vote? This book teaches both the history of and necessity for activism in our society through easy-to-understand language. Each spread is complemented with a sidebar, many of which are directed right at young readers.","English",27.6,20.7,"302/.14--dc23","32 pp.","https://www.garethstevens.com/9781538220122",null,{"$f":"Table1[[#This Row],[QTY]]*Table1[[#This Row],['# Books]]","v":0},{"$f":"Table1[[#This Row],[QTY]]*Table1[[#This Row],[S&L Price]]","v":0}]
[null,null,null,"Our Basic Freedoms",1,"Freedom of Speech","Library Bound Book",null,"978-1-4824-6186-2",{"$f":"HYPERLINK(Table1[[#This Row],[eCommerce Hyperlink]],\"Book Weblink\")","v":"Book Weblink"},null,"2017","January 2017","Library","7.250 X 9.250","Author","Jennifer Mason",null,null,null,null,"W","1110L","Grade 6","Grade 6 - 8","Sometimes, citizens believe having freedom of speech means they can say anything with no consequences. But over time, laws and Supreme Court rulings have limited the full “freedom” of this right to exclude hate speech and other potentially harmful expressions. Through examples, historical context, and clear explanations, readers learn the full extent of their freedom of speech. Modern court cases, particularly those having to do with students, show the relevance of this right in readers’ lives. Fact boxes, sidebars, historical images, and full-color photographs add even more information about the history of the Bill of Rights and the First Amendment.","English",32.950000000000003,24.7,"342.7308’53--dc23","48 pp.","https://www.garethstevens.com/9781482461862",null,{"$f":"Table1[[#This Row],[QTY]]*Table1[[#This Row],['# Books]]","v":0},{"$f":"Table1[[#This Row],[QTY]]*Table1[[#This Row],[S&L Price]]","v":0}]
[null,null,null,"Our Basic Freedoms",1,"The Right to Bear Arms","eBook",null,"978-1-4824-6191-6",{"$f":"HYPERLINK(Table1[[#This Row],[eCommerce Hyperlink]],\"Book Weblink\")","v":"Book Weblink"},null,"2017","January 2017",null,null,"Author","Kelly Wittmann",null,null,null,null,"W","1170L","Grade 6","Grade 6 - 8","The Second Amendment remains a controversial one today. Broadly worded within the Bill of Rights, its meaning has been challenged by numerous Supreme Court cases and continues to be challenged frequently in the court of public opinion. This book presents an unbiased look at the meaning and history of the right to bear arms. Through age-appropriate language and relevant examples, the main content shows readers how difficult interpreting civil rights can be and aids them in sorting out their own views. Fact boxes and sidebars add further explanations and perspectives appropriate for readers learning about this timely topic.","English",32.950000000000003,24.7,"344.7305’33--dc23","48 pp.","https://www.garethstevens.com/9781482461916",null,{"$f":"Table1[[#This Row],[QTY]]*Table1[[#This Row],['# Books]]","v":0},{"$f":"Table1[[#This Row],[QTY]]*Table1[[#This Row],[S&L Price]]","v":0}]
[null,null,null,"Road Trip: Famous Routes",1,"Route 66","eBook",null,"978-1-4824-4953-2",{"$f":"HYPERLINK(Table1[[#This Row],[eCommerce Hyperlink]],\"Book Weblink\")","v":"Book Weblink"},null,"2017","August 2016",null,null,"Author","Maria Nelson","5.5","0.5",null,null,"L",null,"Grade 2 - 3","Grade 2 - 5","No road in the United States is more iconic than Route 66. From a song named after the route to being a setting in famous books On the Road and The Grapes of Wrath, Route 66 has made an impression on American popular culture. Through this lens, readers are introduced to the almost 100-year old highway as well as the many fun road trip stops along its length. Fun fact boxes offer interesting historical context and destination suggestions as full-color photographs highlight this famous road.  ","English",23.6,17.7,"917.304--dc23","24 pp.","https://www.garethstevens.com/9781482449532",null,{"$f":"Table1[[#This Row],[QTY]]*Table1[[#This Row],['# Books]]","v":0},{"$f":"Table1[[#This Row],[QTY]]*Table1[[#This Row],[S&L Price]]","v":0}]
[null,null,null,"Road Trip: Famous Routes",1,"The Appalachian Trail","Library Bound Book",null,"978-1-4824-4954-9",{"$f":"HYPERLINK(Table1[[#This Row],[eCommerce Hyperlink]],\"Book Weblink\")","v":"Book Weblink"},null,"2017","August 2016","Library","8.500 X 8.500","Author","Walter LaPlante","5.5","0.5",null,null,"L",null,"Grade 2 - 3","Grade 2 - 5","The man who conceived of the Appalachian Trail believed that time outdoors was good for a clear mind. Millions of people couldn’t agree more and hike the trail each year! In addition to the history of this famous trail, readers learn some of the coolest hikes they can go on along the trail as well as the national parks they might find along the way. Fact boxes introduce more information about where to go when on a road trip near the Appalachian Trail, and full-color photographs show a sneak peak of the gorgeous foliage and scenery the trail is known for.","English",23.6,17.7,"796.510974--dc23","24 pp.","https://www.garethstevens.com/9781482449549",null,{"$f":"Table1[[#This Row],[QTY]]*Table1[[#This Row],['# Books]]","v":0},{"$f":"Table1[[#This Row],[QTY]]*Table1[[#This Row],[S&L Price]]","v":0}]
[null,null,null,"Road Trip: Famous Routes",1,"The Oregon Trail","Library Bound Book",null,"978-1-4824-4956-3",{"$f":"HYPERLINK(Table1[[#This Row],[eCommerce Hyperlink]],\"Book Weblink\")","v":"Book Weblink"},null,"2017","August 2016","Library","8.500 X 8.500","Author","Benjamin Proudfit","5.5","0.5",null,null,"L",null,"Grade 2 - 3","Grade 2 - 5","For more than three decades in the mid-1800s, the Oregon Trail was the main way settlers traveled west. Today, people can visit parts of this historic trail, and even walk where pioneers did as they made their way to new lives in the Pacific Northwest and California. Complemented by full-color photographs, the main content addresses the historical context of the trail to supplement the social studies curriculum. Fact boxes offer tips to those traveling along the trail and suggest cool, quirky, and fun destinations near it.","English",23.6,17.7,"978--dc23","24 pp.","https://www.garethstevens.com/9781482449563",null,{"$f":"Table1[[#This Row],[QTY]]*Table1[[#This Row],['# Books]]","v":0},{"$f":"Table1[[#This Row],[QTY]]*Table1[[#This Row],[S&L Price]]","v":0}]
[null,null,null,"Road Trip: Famous Routes",1,"The Pan-American Highway","eBook",null,"978-1-4824-4952-5",{"$f":"HYPERLINK(Table1[[#This Row],[eCommerce Hyperlink]],\"Book Weblink\")","v":"Book Weblink"},null,"2017","August 2016",null,null,"Author","Benjamin Proudfit","5.5","0.5",null,null,"L",null,"Grade 2 - 3","Grade 2 - 5","It might seem impossible to drive from Alaska to Argentina, but with a passport handy, that's a road trip people can take. The Pan-American Highway is a system of connected roads and highways that travel roughly north to south through North and South America. Readers learn about the many environments travelers would drive through on such a journey as well as the history of the highway. Full-color photographs illustrate the many cool destinations along the way as fun fact boxes suggest places to see along the route.","English",23.6,17.7,"917.04--dc23","24 pp.","https://www.garethstevens.com/9781482449525",null,{"$f":"Table1[[#This Row],[QTY]]*Table1[[#This Row],['# Books]]","v":0},{"$f":"Table1[[#This Row],[QTY]]*Table1[[#This Row],[S&L Price]]","v":0}]
[null,null,null,"The Land and the People",1,"India","Library Bound Book",null,"978-1-4824-5109-2",{"$f":"HYPERLINK(Table1[[#This Row],[eCommerce Hyperlink]],\"Book Weblink\")","v":"Book Weblink"},null,"2017","August 2016","Library","8.500 X 11.00","Author","Susie Brooks",null,null,"40",null,"S","1070L","Grade 5","Grade 5 - 6","Vibrant cities, colorful rainforests, massive mountains, and beautiful beaches all await in the amazing country called India. While India is full of visual wonders, a characteristic featured in this volume’s photographs, it’s also a diverse nation with a fascinating history. Readers will discover all this about India as well as learn about its current thriving economy, multiethnic cultures, and daily lifestyles. Sidebars and statistics throughout the text offer additional interesting information that will help readers understand more about this captivating country.","English",32.950000000000003,24.7,"954--dc23","48 pp.","https://www.garethstevens.com/9781482451092",null,{"$f":"Table1[[#This Row],[QTY]]*Table1[[#This Row],['# Books]]","v":0},{"$f":"Table1[[#This Row],[QTY]]*Table1[[#This Row],[S&L Price]]","v":0}]
[null,null,null,"The Land and the People",1,"Mexico","Library Bound Book",null,"978-1-4824-5101-6",{"$f":"HYPERLINK(Table1[[#This Row],[eCommerce Hyperlink]],\"Book Weblink\")","v":"Book Weblink"},null,"2017","August 2016","Library","8.500 X 11.00","Author","Cath Senker",null,null,"40",null,"S","1060L","Grade 5","Grade 5 - 6","It’s time to take a tour of the enthralling country called Mexico. Along the way, readers will see rainforests, deserts, mountains, beaches, and wildlife. To understand Mexico’s people, they’ll imagine walking through street fairs, tasting traditional foods, and meet Mexicans of different backgrounds. They’ll learn what daily life is like for Mexicans of all economic backgrounds and celebrate Mexican culture with mariachi music, sugar skulls, and colorful clothes. Enthusiastic and informative text coupled with interesting sidebars and photographs give readers a comprehensive understanding of this stunning nation and its remarkable people.","English",32.950000000000003,24.7,"972--dc23","48 pp.","https://www.garethstevens.com/9781482451016",null,{"$f":"Table1[[#This Row],[QTY]]*Table1[[#This Row],['# Books]]","v":0},{"$f":"Table1[[#This Row],[QTY]]*Table1[[#This Row],[S&L Price]]","v":0}]
[null,null,null,"Myths Across the Map",1,"Dragon Myths","eBook",null,"978-1-5382-1369-8",{"$f":"HYPERLINK(Table1[[#This Row],[eCommerce Hyperlink]],\"Book Weblink\")","v":"Book Weblink"},null,"2018","January 2018",null,null,"Author","Jennifer Mason","7.3","1",null,null,"U",null,"Grade 5 - 6","Grade 4 - 8","They're called drakon in Greek, azhdaha in Persian, kelekona in Hawaiian, and have names in numerous other cultures as well. They're dragons. Many cultures even agree on what the giant serpents look like, though they may differ on whether these mythical creatures are benevolent or evil. This ultra-compelling volume takes readers on a tour of world cultures and dragon lore. Sometimes, this folklore is entwined with actual historical events, such as a Roman general's supposed encounter with a water-spewing dragon on a march to Africa. Breathtaking images and fascinating fact boxes contribute to this extremely high-interest text.","English",32.950000000000003,24.7,"398.24'54--dc23","48 pp.","https://www.garethstevens.com/9781538213698",null,{"$f":"Table1[[#This Row],[QTY]]*Table1[[#This Row],['# Books]]","v":0},{"$f":"Table1[[#This Row],[QTY]]*Table1[[#This Row],[S&L Price]]","v":0}]
[null,null,null,"Myths Across the Map",1,"Vampire Myths","Library Bound Book",null,"978-1-5382-1374-2",{"$f":"HYPERLINK(Table1[[#This Row],[eCommerce Hyperlink]],\"Book Weblink\")","v":"Book Weblink"},null,"2018","January 2018","Library","7.250 X 9.250","Author","Jennifer Mason","7.3","1",null,null,"U",null,"Grade 5 - 6","Grade 4 - 8","Whether characters in movies, books, or nightmares, vampires are among the most recognizable monsters in the world. Today, vampires are characterized by fangs and an unshakable lust for human blood, but some vampire myths differ from these notions. Vampire lore around the world is an entertaining introduction to a variety of cultures. Readers will be thrilled to discover that some ancient myths are actually scarier than modern stories. They'll also find several explanations for vampire behavior to be entertainingly bizarre, such as people clawing their way out of graves because they weren't quite dead yet.","English",32.950000000000003,24.7,"398.21--dc23","48 pp.","https://www.garethstevens.com/9781538213742",null,{"$f":"Table1[[#This Row],[QTY]]*Table1[[#This Row],['# Books]]","v":0},{"$f":"Table1[[#This Row],[QTY]]*Table1[[#This Row],[S&L Price]]","v":0}]
[null,null,null,"Native American Cultures",12,"Native American Cultures: Sets 1 – 2","Library Set",null,"978-1-5382-1296-7",{"$f":"HYPERLINK(Table1[[#This Row],[eCommerce Hyperlink]],\"Book Weblink\")","v":"Book Weblink"},null,"2018","January 2018","Library","8.500 X 8.500",null,null,null,null,null,null,null,null,"Grade 2 - 3","Grade 2 - 5","There are hundreds of native cultures in the United States and Canada today. Each proudly has its own distinct history and traditions. This important collection puts the spotlight on some of these remarkable peoples and their ways of life, from sacred ceremonies to extraordinary art. Each elegantly designed volume includes fact boxes and carefully chosen historical and present-day images to accompany the accessible text. Readers will attain an in-depth understanding and appreciation of the rich legacy of native cultures.","English",315,236.4,null,"32 pp.","https://www.garethstevens.com/9781538212967",null,{"$f":"Table1[[#This Row],[QTY]]*Table1[[#This Row],['# Books]]","v":0},{"$f":"Table1[[#This Row],[QTY]]*Table1[[#This Row],[S&L Price]]","v":0}]
[null,null,null,"Native American Cultures",1,"Native American Ceremonies and Celebrations: From Potlatches to Powwows","eBook",null,"978-1-5382-0891-5",{"$f":"HYPERLINK(Table1[[#This Row],[eCommerce Hyperlink]],\"Book Weblink\")","v":"Book Weblink"},null,"2018","January 2018",null,null,"Author","Kate Mikoley",null,null,null,null,"O","900L","Grade 2 - 3","Grade 2 - 5","Native American celebrations are packed with symbolic gestures and intriguing details. A kind of party called a potlatch, staged by native peoples of the Pacific Northwest, was marked by guests receiving gifts, not giving them, and were sometimes put on to get back at an enemy. This appealing volume about a high-interest aspect of native cultures highlights several celebrations and ceremonies important to Native Americans across North America. Thought-provoking fact boxes, historical images, and modern-day customs will engage readers of all levels.","English",26.25,19.7,"970.004'97--dc23","32 pp.","https://www.garethstevens.com/9781538208915",null,{"$f":"Table1[[#This Row],[QTY]]*Table1[[#This Row],['# Books]]","v":0},{"$f":"Table1[[#This Row],[QTY]]*Table1[[#This Row],[S&L Price]]","v":0}]
[null,null,null,"Native American Cultures",1,"Native American Governments: From Tribal Councils to Constitutions","Library Bound Book",null,"978-1-5382-0886-1",{"$f":"HYPERLINK(Table1[[#This Row],[eCommerce Hyperlink]],\"Book Weblink\")","v":"Book Weblink"},null,"2018","January 2018","Library","8.500 X 8.500","Author","Sarah Machajewski",null,null,null,null,"O","960L","Grade 2 - 3","Grade 2 - 5","Since ancient times, many native peoples across America governed themselves with a tribal council or another system of government. Many developed constitutions to codify their laws as well. This important aspect of Native American history is carefully explained in this well-researched and accessible book, which focuses on the governments of several native peoples. Historical images, interesting fact boxes, and a colorful design make this significant subject even more appealing to young historians.","English",26.25,19.7,"970.004/97--dc23","32 pp.","https://www.garethstevens.com/9781538208861",null,{"$f":"Table1[[#This Row],[QTY]]*Table1[[#This Row],['# Books]]","v":0},{"$f":"Table1[[#This Row],[QTY]]*Table1[[#This Row],[S&L Price]]","v":0}]
[null,null,null,"Native American Cultures",1,"The Cherokee People","Library Bound Book",null,"978-1-4824-1979-5",{"$f":"HYPERLINK(Table1[[#This Row],[eCommerce Hyperlink]],\"Book Weblink\")","v":"Book Weblink"},null,"2015","January 2015","Library","8.500 X 8.500","Author","Sarah Machajewski",null,null,"30",null,"N","860L","Grade 2 - 3","Grade 2 - 5","The Cherokee is the largest native tribe in the United States today. Their history dates back 15,000 years, when their ancestors made the long trek to North America from Asia. Readers will find out where the Cherokee originally settled, where and why they migrated, and what happened when European settlers encroached on Cherokee land, with special attention to the infamous Trail of Tears march of 1838-1839. This valuable account makes note of the Cherokee people's extraordinary resilience in rebuilding their culture on reservations and beyond, despite great obstacles.","English",26.25,19.7,"975.004","32 pp.","https://www.garethstevens.com/9781482419795",null,{"$f":"Table1[[#This Row],[QTY]]*Table1[[#This Row],['# Books]]","v":0},{"$f":"Table1[[#This Row],[QTY]]*Table1[[#This Row],[S&L Price]]","v":0}]
[null,null,null,"Native American Cultures",1,"The Hopi People","Library Bound Book",null,"978-1-4824-1987-0",{"$f":"HYPERLINK(Table1[[#This Row],[eCommerce Hyperlink]],\"Book Weblink\")","v":"Book Weblink"},null,"2015","January 2015","Library","8.500 X 8.500","Author","Therese M. Shea",null,null,"34",null,"O","850L","Grade 2 - 3","Grade 2 - 5","The Hopi village of Oraibi was settled around AD 1050, making it the oldest continuously inhabited village in the United States. The Hopi had to be a resilient people to survive in the hot deserts of the Southwest. Today, people are captivated with Hopi culture, which has endured despite years of forced assimilation. Historic photographs and descriptive text aid readers in entering the world of the traditional Hopi, with spotlights on ceremonies, rituals, housing, and fashion. Hopi history and modern life further make this volume a valuable addition to any social studies collection.","English",26.25,19.7,"979.1004","32 pp.","https://www.garethstevens.com/9781482419870",null,{"$f":"Table1[[#This Row],[QTY]]*Table1[[#This Row],['# Books]]","v":0},{"$f":"Table1[[#This Row],[QTY]]*Table1[[#This Row],[S&L Price]]","v":0}]
[null,null,null,"Native American Cultures",1,"The Shoshone People","eBook",null,"978-1-4824-1996-2",{"$f":"HYPERLINK(Table1[[#This Row],[eCommerce Hyperlink]],\"Book Weblink\")","v":"Book Weblink"},null,"2015","January 2015",null,null,"Author","Kristen Rajczak Nelson",null,null,"30",null,"N","860L","Grade 2 - 3","Grade 2 - 5","The Shoshone people's history is forever tied to the period known as westward expansion in the United States. Occupying lands in present-day Idaho, Wyoming, Utah, California, and Nevada, the Shoshone tribe lived in western North America for hundreds of years before white settlers were drawn there by land and gold. In fact, most Shoshone never encountered a white person until the 1800s! Readers are introduced to the Shoshone people through their history and culture. Full-color photographs and historic images highlight their nomadic lifestyle, and fact boxes add interesting detail to curriculum-supporting content.","English",26.25,19.7,"978.004","32 pp.","https://www.garethstevens.com/9781482419962",null,{"$f":"Table1[[#This Row],[QTY]]*Table1[[#This Row],['# Books]]","v":0},{"$f":"Table1[[#This Row],[QTY]]*Table1[[#This Row],[S&L Price]]","v":0}]
[null,null,null,"Native Peoples of North America",8,"Native Peoples of North America","Library Set",null,"978-1-4824-4590-9",{"$f":"HYPERLINK(Table1[[#This Row],[eCommerce Hyperlink]],\"Book Weblink\")","v":"Book Weblink"},null,"2017","August 2016","Library","8.500 X 8.500",null,null,null,null,null,null,null,null,"Grade 2 - 3","Grade 2 - 5","Before the birth of the United States, North America was populated by diverse groups of people. From those who fished on the coasts of the Pacific Northwest to the buffalo hunters of the Great Plains, these cultures were rich and well established. In this series, readers are introduced to the many groups of native peoples living in major regions of North America before European settlement. Each region is defined, and readers learn how each impacted those living in that area. Historic images and fact boxes add even more detail about the specific peoples discussed.","English",210,157.6,null,"32 pp.","https://www.garethstevens.com/9781482445909",null,{"$f":"Table1[[#This Row],[QTY]]*Table1[[#This Row],['# Books]]","v":0},{"$f":"Table1[[#This Row],[QTY]]*Table1[[#This Row],[S&L Price]]","v":0}]
[null,null,null,"Native Peoples of North America",1,"Native Peoples of the Great Plains","Library Bound Book",null,"978-1-4824-4811-5",{"$f":"HYPERLINK(Table1[[#This Row],[eCommerce Hyperlink]],\"Book Weblink\")","v":"Book Weblink"},null,"2017","August 2016","Library","8.500 X 8.500","Author","Lynda Arnéz",null,null,null,null,"M","970L","Grade 2 - 3","Grade 2 - 5","For the native peoples of the Great Plains, history is broken into two periods: before horses arrived and after. The Spanish introduced horses to these native groups around 1540, and their lives were heavily impacted. No longer did they have to hunt buffalo on foot. They could ride the speed of the herd through parts of modern-day Wisconsin, Minnesota, Missouri, Iowa, Texas, Saskatchewan, Alberta, and more! Readers learn much more about the lifestyles of the native peoples of the Great Plains, including their societal structure, relationship with early European settlers, and more. Historical images and full-color photographs illustrate the main content while fun fact boxes add even more social studies information.","English",26.25,19.7,"978.004/97--dc23","32 pp.","https://www.garethstevens.com/9781482448115",null,{"$f":"Table1[[#This Row],[QTY]]*Table1[[#This Row],['# Books]]","v":0},{"$f":"Table1[[#This Row],[QTY]]*Table1[[#This Row],[S&L Price]]","v":0}]
[null,null,null,"Native Peoples of North America",1,"Native Peoples of the Southwest","Library Bound Book",null,"978-1-4824-4820-7",{"$f":"HYPERLINK(Table1[[#This Row],[eCommerce Hyperlink]],\"Book Weblink\")","v":"Book Weblink"},null,"2017","August 2016","Library","8.500 X 8.500","Author","Amy Hayes",null,null,null,null,"M","900L","Grade 2 - 3","Grade 2 - 5","The Apache, Navajo, and Pueblo peoples are often part of the social studies curriculum. However, they aren’t the only native groups that come from the American southwest! Readers are introduced to some of the largest groups of native peoples in the southwest while learning about the main ways native peoples lived, ate, and dressed in this region. Complemented by full-color photographs, historical images, and fun fact boxes, the main content includes the traditional culture of the groups who lived in parts of the states of Colorado, Utah, Nevada, New Mexico, Texas, and California, in addition to northern Mexico.","English",26.25,19.7,"979.004/97--dc23","32 pp.","https://www.garethstevens.com/9781482448207",null,{"$f":"Table1[[#This Row],[QTY]]*Table1[[#This Row],['# Books]]","v":0},{"$f":"Table1[[#This Row],[QTY]]*Table1[[#This Row],[S&L Price]]","v":0}]
[null,null,null,"Native Peoples of North America",1,"Native Peoples of the Subarctic","Library Bound Book",null,"978-1-4824-4821-4",{"$f":"HYPERLINK(Table1[[#This Row],[eCommerce Hyperlink]],\"Book Weblink\")","v":"Book Weblink"},null,"2017","August 2016","Library","8.500 X 8.500","Author","Amy Hayes",null,null,null,null,"M","930L","Grade 2 - 3","Grade 2 - 5","Much of Canada and Alaska can be called the subarctic. This area features the taiga and often cold temperatures. The native peoples of this region had to adapt to this climate in many ways, including making clothes from fur, wearing snowshoes, and carefully insulating their homes. Readers are introduced to which groups can be classified as subarctic and the traditional ways of life they practice. Full-color photographs and historical images highlight the weather’s role in their lives as fun fact boxes add more detail about how the fur trade impacted these groups, how they found food, and more.","English",26.25,19.7,"971.9’01--dc23","32 pp.","https://www.garethstevens.com/9781482448214",null,{"$f":"Table1[[#This Row],[QTY]]*Table1[[#This Row],['# Books]]","v":0},{"$f":"Table1[[#This Row],[QTY]]*Table1[[#This Row],[S&L Price]]","v":0}]
[null,null,null,"Discovering Ancient Civilizations",1,"The Ancient Greeks","Library Bound Book",null,"978-1-4824-5065-1",{"$f":"HYPERLINK(Table1[[#This Row],[eCommerce Hyperlink]],\"Book Weblink\")","v":"Book Weblink"},null,"2017","August 2016","Library","8.500 X 11.00","Author","David West",null,null,null,null,"N","970L","Grade 3","Grade 3 - 5","Civilization today owes much to the ancient Greeks. Greek philosophers, inventors, and mathematicians made contributions to their fields that we still recognize and utilize. This comprehensive but accessible volume offers a wealth of information about the ancient Greeks, including what their homes looked like, how they practiced their religion, what happened when they waged war, and what their theater and sports were like. Both colorful, original artwork and photographs of Greek artifacts aid readers in understanding more about this people and the times in which they lived.","English",27.6,20.7,"938--dc23","32 pp.","https://www.garethstevens.com/9781482450651",null,{"$f":"Table1[[#This Row],[QTY]]*Table1[[#This Row],['# Books]]","v":0},{"$f":"Table1[[#This Row],[QTY]]*Table1[[#This Row],[S&L Price]]","v":0}]
[null,null,null,"Discovering Ancient Civilizations",1,"The Incas","Library Bound Book",null,"978-1-4824-5053-8",{"$f":"HYPERLINK(Table1[[#This Row],[eCommerce Hyperlink]],\"Book Weblink\")","v":"Book Weblink"},null,"2017","August 2016","Library","8.500 X 11.00","Author","David West",null,null,null,null,"N",null,"Grade 3","Grade 3 - 5","The South American Indians known as the Incas had a vast empire that extended along the Pacific coast from today’s Ecuador south to central Chile and inland across the Andes. In those regions today, people can still see evidence of their brilliant engineering. Way stations, terraced farms, and an extensive road system marked the advanced infrastructure of this civilization. This beneficial book and its vivid artwork relates much about the Inca culture and history, including their laws, customs, homes, and religions. It also relays what happened after the conquistadors arrived in the New World.","English",27.6,20.7,"980’.013--dc23","32 pp.","https://www.garethstevens.com/9781482450538",null,{"$f":"Table1[[#This Row],[QTY]]*Table1[[#This Row],['# Books]]","v":0},{"$f":"Table1[[#This Row],[QTY]]*Table1[[#This Row],[S&L Price]]","v":0}]
[null,null,null,"Crypts, Tombs, and Secret Rooms",6,"Crypts, Tombs, and Secret Rooms","Library Set",null,"978-1-5382-0605-8",{"$f":"HYPERLINK(Table1[[#This Row],[eCommerce Hyperlink]],\"Book Weblink\")","v":"Book Weblink"},null,"2018","August 2017","Library","7.250 X 9.250",null,null,null,null,null,null,null,null,"Grade 4 - 5","Grade 4 - 6","It's difficult not to think of tombs as creepy places. Some are positively spine-tingling. However, we can also imagine that tombs, crypts, and graves are time machines. While they can't really transport us physically back to times gone by, they certainly reveal much about how cultures viewed life, death, and the afterlife. This riveting series offers both ghostly chills and historical thrills as readers tour some intriguing final resting places around the globe, including Russia's City of the Dead, the tomb of China's first emperor, Egypt's Pyramids of Giza, and England's Westminster Abbey. Features include: Appealing design includes spectacular photographs. The English Language Arts Common Core standards call for proficiency in reading historical texts.","English",197.7,148.19999999999999,null,"48 pp.","https://www.garethstevens.com/9781538206058",null,{"$f":"Table1[[#This Row],[QTY]]*Table1[[#This Row],['# Books]]","v":0},{"$f":"Table1[[#This Row],[QTY]]*Table1[[#This Row],[S&L Price]]","v":0}]
[null,null,null,"Crypts, Tombs, and Secret Rooms",1,"The Pyramids of Giza","Library Bound Book",null,"978-1-5382-0654-6",{"$f":"HYPERLINK(Table1[[#This Row],[eCommerce Hyperlink]],\"Book Weblink\")","v":"Book Weblink"},null,"2018","August 2017","Library","7.250 X 9.250","Author","Enzo George",null,null,null,null,"T",null,"Grade 4 - 5","Grade 4 - 6","The Pyramids of Giza are 4,000-year-old tombs built for three Egyptian pharaohs. Though all have been looted over the years, they still hold many surprises and curiosities. And they reflect much about Egyptian culture at that time. This comprehensive volume covers the structures’ histories, including still-controversial theories about how they were built, and the latest excavations and discoveries. Modern photographs will give readers an idea of the pyramids’ magnitude, while a timeline will make them realize how truly enduring these extraordinary monuments are.","English",32.950000000000003,24.7,"932--dc23","48 pp.","https://www.garethstevens.com/9781538206546",null,{"$f":"Table1[[#This Row],[QTY]]*Table1[[#This Row],['# Books]]","v":0},{"$f":"Table1[[#This Row],[QTY]]*Table1[[#This Row],[S&L Price]]","v":0}]
[null,null,null,"Crypts, Tombs, and Secret Rooms",1,"Westminster Abbey","Library Bound Book",null,"978-1-5382-0658-4",{"$f":"HYPERLINK(Table1[[#This Row],[eCommerce Hyperlink]],\"Book Weblink\")","v":"Book Weblink"},null,"2018","August 2017","Library","7.250 X 9.250","Author","Enzo George",null,null,null,null,"T","1050L","Grade 4 - 5","Grade 4 - 6","Westminster Abbey is a breathtakingly beautiful church in London, England—that happens to hold more than a thousand tombs! Many of the most famous British personalities were laid to rest in Westminster, including Charles Darwin, Isaac Newton, and Charles Dickens. Readers will learn about both British history and architecture as they investigate the church through the appealing pages of this well-designed volume, complete with interesting sidebars, vivid photographs, and a summarizing timeline.","English",32.950000000000003,24.7,"942.1'32--dc23","48 pp.","https://www.garethstevens.com/9781538206584",null,{"$f":"Table1[[#This Row],[QTY]]*Table1[[#This Row],['# Books]]","v":0},{"$f":"Table1[[#This Row],[QTY]]*Table1[[#This Row],[S&L Price]]","v":0}]
[null,null,null,"The Great Race: Fight to the Finish",1,"Building the Transcontinental Railroad: Race of the Railroad Companies","eBook",null,"978-1-5382-0813-7",{"$f":"HYPERLINK(Table1[[#This Row],[eCommerce Hyperlink]],\"Book Weblink\")","v":"Book Weblink"},null,"2018","August 2017",null,null,"Author","Kelly Wittmann",null,null,null,null,"T","1090L","Grade 4 - 5","Grade 4 - 6","A railroad across the United States was once thought to be nearly impossible. The vast expanse from the Pacific to the Atlantic Oceans had so many obstacles, including towering mountain ranges and broad rivers. However, the 1862 Pacific Railroad Act tasked two railroad companies—the Central Pacific and the Union Pacific—with building a transcontinental railroad to link the coasts. How they managed to meet finally in 1869 is the important account detailed in this well-researched volume. Readers will learn about key characters, such as engineer Theodore Judah and investor Leland Stanford, and the innovations and technologies that made their extraordinary feat a reality.","English",32.950000000000003,24.7,"385.0978--dc23","48 pp.","https://www.garethstevens.com/9781538208137",null,{"$f":"Table1[[#This Row],[QTY]]*Table1[[#This Row],['# Books]]","v":0},{"$f":"Table1[[#This Row],[QTY]]*Table1[[#This Row],[S&L Price]]","v":0}]
[null,null,null,"The Great Race: Fight to the Finish",1,"The Nuclear Arms Race","eBook",null,"978-1-5382-0811-3",{"$f":"HYPERLINK(Table1[[#This Row],[eCommerce Hyperlink]],\"Book Weblink\")","v":"Book Weblink"},null,"2018","August 2017",null,null,"Author","Jennifer Mason",null,null,null,null,"T",null,"Grade 4 - 5","Grade 4 - 6","The nuclear arms race was a competition for supremacy in nuclear weaponry between the United States, the Soviet Union, and their allies during the Cold War. This significant volume outlines how dangerous this race really was, detailing its historical origins and the science behind nuclear technology, and stresses the consequences of a nuclear war. Readers will see how this is reflected in the devastation of Hiroshima and Nagasaki, Japan, at the end of World War II. Though the Soviet Union is no more, readers will find out how nuclear power is still being used around the world.","English",32.950000000000003,24.7,"355.02'17--dc23","48 pp.","https://www.garethstevens.com/9781538208113",null,{"$f":"Table1[[#This Row],[QTY]]*Table1[[#This Row],['# Books]]","v":0},{"$f":"Table1[[#This Row],[QTY]]*Table1[[#This Row],[S&L Price]]","v":0}]
[null,null,null,"Rebellions, Revolts, and Uprisings",6,"Rebellions, Revolts, and Uprisings","Library Set",null,"978-1-5382-0837-3",{"$f":"HYPERLINK(Table1[[#This Row],[eCommerce Hyperlink]],\"Book Weblink\")","v":"Book Weblink"},null,"2018","August 2017","Library","7.250 X 9.250",null,null,null,null,null,null,null,null,"Grade 5","Grade 5 - 6","\"A little rebellion now and then is a good thing, and as necessary in the political world as storms in the physical,\" mused Thomas Jefferson. Rebellions have undeniably played a large part in the evolution of the United States. Many were unsuccessful at the time, but had lasting ramifications that led to great social and political change, such as John Brown's raid on the Harpers Ferry arsenal in 1859. Each comprehensive volume in this must-read series presents the circumstances that led to an uprising, key players involved, essential events that led to its success or failure, and its impact on American history.","English",197.7,148.19999999999999,null,"48 pp.","https://www.garethstevens.com/9781538208373",null,{"$f":"Table1[[#This Row],[QTY]]*Table1[[#This Row],['# Books]]","v":0},{"$f":"Table1[[#This Row],[QTY]]*Table1[[#This Row],[S&L Price]]","v":0}]
[null,null,null,"Rebellions, Revolts, and Uprisings",1,"The Amistad Revolt","Library Bound Book",null,"978-1-5382-0764-2",{"$f":"HYPERLINK(Table1[[#This Row],[eCommerce Hyperlink]],\"Book Weblink\")","v":"Book Weblink"},null,"2018","August 2017","Library","7.250 X 9.250","Author","Ellis Roxburgh",null,null,null,null,"T","990L","Grade 5","Grade 5 - 6","The slave revolt on the ship Amistad in 1839 was a crucial event in the early abolitionist movement in the United States. When the vessel arrived in America, a fierce debate began about whether the Africans were free or enslaved and whether they should be allowed to return to Africa. The argument became a legal battle that eventually ended up in the US Supreme Court, with former president John Quincy Adams representing the Africans. This remarkable story and its repercussions are presented in this beautifully designed volume, replete with images to complement the narrative and a timeline that summarizes key events.","English",32.950000000000003,24.7,"326'.80973--dc23","48 pp.","https://www.garethstevens.com/9781538207642",null,{"$f":"Table1[[#This Row],[QTY]]*Table1[[#This Row],['# Books]]","v":0},{"$f":"Table1[[#This Row],[QTY]]*Table1[[#This Row],[S&L Price]]","v":0}]
[null,null,null,"Rebellions, Revolts, and Uprisings",1,"The Raid on Harpers Ferry","eBook",null,"978-1-5382-0761-1",{"$f":"HYPERLINK(Table1[[#This Row],[eCommerce Hyperlink]],\"Book Weblink\")","v":"Book Weblink"},null,"2018","August 2017",null,null,"Author","Ellis Roxburgh",null,null,null,null,"T","900L","Grade 5","Grade 5 - 6","No study of the American Civil War is complete without an understanding of the events that unfolded in Harpers Ferry, Virginia, in 1859. Abolitionist John Brown became a martyr to many through his raid on the federal arsenal there, in support of a slave rebellion. But he became a reviled enemy to those opposed to abolition. This in-depth account provides many fascinating details of the planning of the raid, such as Brown’s attempt to recruit Frederick Douglass to the cause. It also explains the aftershocks of the attack in a nation truly on the brink of war.","English",32.950000000000003,24.7,"973.7'116--dc23","48 pp.","https://www.garethstevens.com/9781538207611",null,{"$f":"Table1[[#This Row],[QTY]]*Table1[[#This Row],['# Books]]","v":0},{"$f":"Table1[[#This Row],[QTY]]*Table1[[#This Row],[S&L Price]]","v":0}]
[null,null,null,"Rebellions, Revolts, and Uprisings",1,"The Seminole Wars","eBook",null,"978-1-5382-0760-4",{"$f":"HYPERLINK(Table1[[#This Row],[eCommerce Hyperlink]],\"Book Weblink\")","v":"Book Weblink"},null,"2018","August 2017",null,null,"Author","Ellis Roxburgh",null,null,null,null,"T","950L","Grade 5","Grade 5 - 6","The Seminole Wars were comprised of three separate clashes between the United States and the Seminole Indians of Florida between 1817 and 1858. The first touched off when the US Army invaded Seminole territory in order to capture fugitive slaves living among the native people. The Seminoles were pushed farther and farther south into Florida. Ultimately, the Seminoles lost their land and Florida became American territory opened up for white settlers. This well-researched narrative provides essential facts about an important chapter in the history of Native Americans in the growing United States.","English",32.950000000000003,24.7,"973.5'7--dc23","48 pp.","https://www.garethstevens.com/9781538207604",null,{"$f":"Table1[[#This Row],[QTY]]*Table1[[#This Row],['# Books]]","v":0},{"$f":"Table1[[#This Row],[QTY]]*Table1[[#This Row],[S&L Price]]","v":0}]
[null,null,null,"Analyze the Ancients",1,"Ancient China","eBook",null,"978-1-5382-2553-0",{"$f":"HYPERLINK(Table1[[#This Row],[eCommerce Hyperlink]],\"Book Weblink\")","v":"Book Weblink"},null,"2019","August 2018",null,null,"Author","Louise Spilsbury",null,null,null,null,"U",null,"Grade 5 - 6","Grade 4 - 6","Ancient China may have existed thousands of years ago, but its civilization was incredibly rich with culture. This book explores the clues that have been left behind from this fascinating civilization. Specifically looking at artifacts, the main text invites readers to analyze items from Ancient China and draw conclusions following the questions and prompts. From the bamboo staff to oracle bones, these items help young learners learn about a culture that existed so long ago, and get them ready for the challenge of thinking like an archaeologist themselves.","English",32.950000000000003,24.7,"931--dc23","48 pp.","https://www.garethstevens.com/9781538225530",null,{"$f":"Table1[[#This Row],[QTY]]*Table1[[#This Row],['# Books]]","v":0},{"$f":"Table1[[#This Row],[QTY]]*Table1[[#This Row],[S&L Price]]","v":0}]
[null,null,null,"Analyze the Ancients",1,"Ancient Rome","eBook",null,"978-1-5382-2551-6",{"$f":"HYPERLINK(Table1[[#This Row],[eCommerce Hyperlink]],\"Book Weblink\")","v":"Book Weblink"},null,"2019","August 2018",null,null,"Author","Louise Spilsbury",null,null,null,null,"U",null,"Grade 5 - 6","Grade 4 - 6","The amazing accomplishments of Ancient Rome can still feel like a mystery to many. From the modern day calendar to the earliest incarnation of the book, it is stunning to learn how many innovations came from this advanced civilization. Along with learning about the culture, readers get the chance to study amazing Roman artifacts. They're asked to put their thinking caps on, and using questions and prompts, draw their own conclusions about Ancient Rome. This book is sure to wow readers with Rome's impressive civilization and excite them enough to discover some facts on their own.","English",32.950000000000003,24.7,"937'.06--dc23","48 pp.","https://www.garethstevens.com/9781538225516",null,{"$f":"Table1[[#This Row],[QTY]]*Table1[[#This Row],['# Books]]","v":0},{"$f":"Table1[[#This Row],[QTY]]*Table1[[#This Row],[S&L Price]]","v":0}]
[null,null,null,"Analyze the Ancients",1,"The Maya","eBook",null,"978-1-5382-2550-9",{"$f":"HYPERLINK(Table1[[#This Row],[eCommerce Hyperlink]],\"Book Weblink\")","v":"Book Weblink"},null,"2019","August 2018",null,null,"Author","Louise Spilsbury",null,null,null,null,"U",null,"Grade 5 - 6","Grade 4 - 6","Nestled in the rainforest, the Maya were an incredibly advanced civilization for their time. They created amazing inventions to help them thrive in such an intense environment. This book introduces their amazing culture, teaching readers about topics such as Maya beliefs, their daily life, and even the interesting games they played. Then, readers get the chance to examine artifacts left behind from the civilization and draw their own conclusions based on what they've learned so far. Readers are immersed in Maya culture, as they get to examine this prosperous civilization that existed so long ago.","English",32.950000000000003,24.7,"972.81--dc23","48 pp.","https://www.garethstevens.com/9781538225509",null,{"$f":"Table1[[#This Row],[QTY]]*Table1[[#This Row],['# Books]]","v":0},{"$f":"Table1[[#This Row],[QTY]]*Table1[[#This Row],[S&L Price]]","v":0}]
[null,null,null,"The Bizarre History of Beauty",1,"Brutal Body Binding and Modification","Library Bound Book",null,"978-1-5382-2682-7",{"$f":"HYPERLINK(Table1[[#This Row],[eCommerce Hyperlink]],\"Book Weblink\")","v":"Book Weblink"},null,"2019","August 2018","Library","7.250 X 9.250","Author","Anita Croy",null,null,null,null,"V",null,"Grade 5 - 6","Grade 5 - 8","Piercings and tattoos, scarification and cosmetic surgery, foot binding and body building, corsets, and crinolines. People have long altered the shape of their body parts using physical modifications or specially designed clothing in order to fulfill a beauty standard. Then, they learned that other culture's ideas were different. For instance, exploration and trade brought Europeans into contact with peoples who had far different ideals of physical beauty from their own. This exciting tome covers world and cultural history in an enticing, easy-to-read way that is sure to keep it in high demand.","English",32.950000000000003,24.7,"306.4--dc23","48 pp.","https://www.garethstevens.com/9781538226827",null,{"$f":"Table1[[#This Row],[QTY]]*Table1[[#This Row],['# Books]]","v":0},{"$f":"Table1[[#This Row],[QTY]]*Table1[[#This Row],[S&L Price]]","v":0}]
[null,null,null,"The Bizarre History of Beauty",1,"Horrendous Hair Care","eBook",null,"978-1-5382-2690-2",{"$f":"HYPERLINK(Table1[[#This Row],[eCommerce Hyperlink]],\"Book Weblink\")","v":"Book Weblink"},null,"2019","August 2018",null,null,"Author","Anita Croy",null,null,null,null,"V","1020L","Grade 5 - 6","Grade 5 - 8","Did you know that Louis XIV, the Sun King, had 48 wigmakers to help him hide his premature baldness? Hair has always been a part of what makes a person look both attractive and powerful, but it's also frequently been the subject of regulation and public opinion. From afros to wigs, modest bonnets to beehives, side burns to shaved looks, and so much more, the history of hair is decidedly weird and complicated. Samson and Delilah, the Beatles, Farrah Fawcett, Princess Diana, Clara Bow, they're all brought into sharp focus through this fascinating book that readers are sure to love.","English",32.950000000000003,24.7,"646.724--dc23","48 pp.","https://www.garethstevens.com/9781538226902",null,{"$f":"Table1[[#This Row],[QTY]]*Table1[[#This Row],['# Books]]","v":0},{"$f":"Table1[[#This Row],[QTY]]*Table1[[#This Row],[S&L Price]]","v":0}]
[null,null,null,"The Bizarre History of Beauty",1,"Terrible and Toxic Makeup","eBook",null,"978-1-5382-2678-0",{"$f":"HYPERLINK(Table1[[#This Row],[eCommerce Hyperlink]],\"Book Weblink\")","v":"Book Weblink"},null,"2019","August 2018",null,null,"Author","Anita Croy",null,null,null,null,"V","990L","Grade 5 - 6","Grade 5 - 8","Did you know that a Roman woman was executed in the 1600s for selling a poisonous lipstick that women kissed their husbands to death with? Or that women painted their teeth and nails with radium for a special glow? From Cleopatra to Carole Lombard, Madam C.J. Walker to Madame de Pompadour, Elizabeth I to Elizabeth Taylor, and geishas to flappers, the history of makeup has many exciting, and some deadly moments. This fascinating book is sure to attract fans of history and science. The history of entrepreneurship, commerce, and beauty standards give context to some of the most bizarre stories of beauty around.","English",32.950000000000003,24.7,"646.7'2--dc23","48 pp.","https://www.garethstevens.com/9781538226780",null,{"$f":"Table1[[#This Row],[QTY]]*Table1[[#This Row],['# Books]]","v":0},{"$f":"Table1[[#This Row],[QTY]]*Table1[[#This Row],[S&L Price]]","v":0}]
[null,null,null,"Why War Happened",1,"What Caused the Civil War?","Library Bound Book",null,"978-1-4824-5180-1",{"$f":"HYPERLINK(Table1[[#This Row],[eCommerce Hyperlink]],\"Book Weblink\")","v":"Book Weblink"},null,"2017","August 2016","Library","7.250 X 9.250","Author","Robyn Hardyman",null,null,"60",null,"V","970L","Grade 6 - 8","Grade 6 - 8","During the American Civil War, the United States was on the brink of falling apart irrevocably. As states seceded and brother turned against brother, hope for reconciliation was dim. This conflict, an essential topic of the social studies curriculum, is skillfully presented from its origins in the Southern slave-trade economy to bloody battles and, later, Reconstruction. Striking photographs and artwork of integral events and people will resonate with readers, while interesting sidebar information gives them more to reflect on about this terrible war and the lessons it taught us.","English",32.950000000000003,24.7,"973.7--dc23","48 pp.","https://www.garethstevens.com/9781482451801",null,{"$f":"Table1[[#This Row],[QTY]]*Table1[[#This Row],['# Books]]","v":0},{"$f":"Table1[[#This Row],[QTY]]*Table1[[#This Row],[S&L Price]]","v":0}]
[null,null,null,"Why War Happened",1,"What Caused World War I?","eBook",null,"978-1-4824-5205-1",{"$f":"HYPERLINK(Table1[[#This Row],[eCommerce Hyperlink]],\"Book Weblink\")","v":"Book Weblink"},null,"2017","August 2016",null,null,"Author","Robyn Hardyman",null,null,"50",null,"V","940L","Grade 6 - 8","Grade 6 - 8","For a truly worldwide war to erupt, many conflicts and interests are at work. That’s exactly what happened in the years leading up to World War I, also called the Great War. Conflicts between empires, alliances among nations, fights over boundaries and colonies, and the 1914 assassination of the archduke Franz Ferdinand were among the myriad of causes for this widespread war. This volume, which includes remarkable photographs from the time period, gives a thorough overview of the war and its aftermath, which would pave the way for another terrible world war just two decades later.","English",32.950000000000003,24.7,"940.3--dc23","48 pp.","https://www.garethstevens.com/9781482452051",null,{"$f":"Table1[[#This Row],[QTY]]*Table1[[#This Row],['# Books]]","v":0},{"$f":"Table1[[#This Row],[QTY]]*Table1[[#This Row],[S&L Price]]","v":0}]
[null,null,null,"Benched: Dealing with Sports Injuries",1,"What If I Break a Bone?","eBook",null,"978-1-4824-4875-7",{"$f":"HYPERLINK(Table1[[#This Row],[eCommerce Hyperlink]],\"Book Weblink\")","v":"Book Weblink"},null,"2017","August 2016",null,null,"Author","Kristen Rajczak Nelson",null,null,null,null,"N",null,"Grade 2 - 3","Grade 2 - 5","No athlete wants to break a bone on the field, but injuries are bound to happen when playing sports. Learning what steps to take and how to recover from serious injuries is an important part of being an athlete. This book teaches readers what to do in case of serious injury, the differences between bone breaks and less serious sprains or bruises, and what to do if they think they’ve suffered a serious injury. With the expert help of doctors and other adults and the knowledge gained from this book, these once-injured young athletes will be back in the lineup and on the field quickly.","English",23.6,17.7,"617.1/027--dc23","24 pp.","https://www.garethstevens.com/9781482448757",null,{"$f":"Table1[[#This Row],[QTY]]*Table1[[#This Row],['# Books]]","v":0},{"$f":"Table1[[#This Row],[QTY]]*Table1[[#This Row],[S&L Price]]","v":0}]
[null,null,null,"Benched: Dealing with Sports Injuries",1,"What If I Feel Faint?","Library Bound Book",null,"978-1-4824-4887-0",{"$f":"HYPERLINK(Table1[[#This Row],[eCommerce Hyperlink]],\"Book Weblink\")","v":"Book Weblink"},null,"2017","August 2016","Library","8.500 X 8.500","Author","Amy Hayes",null,null,null,null,"N",null,"Grade 2 - 3","Grade 2 - 5","Passing out or feeling light-headed is no joke when playing sports; it could be a serious sign of an injury or illness. Readers learn what to do if they have problems with fainting or just feeling dizzy. Whether it's a concussion, an illness like the flu, or something as simple as not eating enough, children need to know how to deal with fainting spells when they're on the field. Through scientific information and carefully worded explanations, this book offers the answers and gives readers a chance to learn something new about their bodies in an accessible way.","English",23.6,17.7,"617.1'027--dc23","24 pp.","https://www.garethstevens.com/9781482448870",null,{"$f":"Table1[[#This Row],[QTY]]*Table1[[#This Row],['# Books]]","v":0},{"$f":"Table1[[#This Row],[QTY]]*Table1[[#This Row],[S&L Price]]","v":0}]
[null,null,null,"Benched: Dealing with Sports Injuries",1,"What If I Need Stitches?","eBook",null,"978-1-4824-4884-9",{"$f":"HYPERLINK(Table1[[#This Row],[eCommerce Hyperlink]],\"Book Weblink\")","v":"Book Weblink"},null,"2017","August 2016",null,null,"Author","Therese M. Shea",null,null,null,null,"N",null,"Grade 2 - 3","Grade 2 - 5","When a cut is too deep, it often needs stitches to heal properly. How these stitches work and what they do isn't easy to understand. This book dives into the why and how of stitches and the kind of injuries readers may suffer that requires a trip to the emergency room. Sports like soccer, hockey, and lacrosse may lead to cuts and bleeding that might need a few stitches to help heal. Readers also learn what to do when they get a sports injury, how to talk to doctors, and what steps they need to take in order to retake the field when their injuries heal.","English",23.6,17.7,"617.044--dc23","24 pp.","https://www.garethstevens.com/9781482448849",null,{"$f":"Table1[[#This Row],[QTY]]*Table1[[#This Row],['# Books]]","v":0},{"$f":"Table1[[#This Row],[QTY]]*Table1[[#This Row],[S&L Price]]","v":0}]
[null,null,null,"Let's Talk Sports!",6,"Let's Talk Sports!","Library Set",null,"978-1-4824-5876-3",{"$f":"HYPERLINK(Table1[[#This Row],[eCommerce Hyperlink]],\"Book Weblink\")","v":"Book Weblink"},null,"2017","January 2017","Library","8.500 X 8.500",null,null,null,null,null,null,null,null,"Grade 2 - 3","Grade 2 - 5","Learning a new sport is often like learning a new language. There are so many terms and expressions used during a game that it can be hard to keep up. This series coaches young readers on the ins and outs of some of today’s most popular sports. From the tactics and shifts a baseball manager might call out to how NASCAR drivers know what’s behind them thanks to their spotter, each sport has its own special language, and knowing the lingo can be the extra advantage that gets readers a big win or a spot on the podium!\n","English",157.5,118.2,null,"32 pp.","https://www.garethstevens.com/9781482458763",null,{"$f":"Table1[[#This Row],[QTY]]*Table1[[#This Row],['# Books]]","v":0},{"$f":"Table1[[#This Row],[QTY]]*Table1[[#This Row],[S&L Price]]","v":0}]
[null,null,null,"Let's Talk Sports!",1,"Talk Like a Football Player","Library Bound Book",null,"978-1-4824-5702-5",{"$f":"HYPERLINK(Table1[[#This Row],[eCommerce Hyperlink]],\"Book Weblink\")","v":"Book Weblink"},null,"2017","January 2017","Library","8.500 X 8.500","Author","Ryan Nagelhout","4.6","0.5",null,null,"N",null,"Grade 2 - 3","Grade 2 - 5","The game of football has lots of odd language hidden in its history. Why is a field called a \"gridiron?\" Why are players called \"quarterback\" and \"fullback?\" Getting in the game can be intimidating if you don't know the lingo, which is why this book is full of football terms and their origins. From the difference between a safety as in the player, and a safety as in a scoring play, full-color photographs and graphic organizers show readers everything they need to watch this exciting sport as an informed fan.","English",26.25,19.7,"796.332'64--dc23","32 pp.","https://www.garethstevens.com/9781482457025",null,{"$f":"Table1[[#This Row],[QTY]]*Table1[[#This Row],['# Books]]","v":0},{"$f":"Table1[[#This Row],[QTY]]*Table1[[#This Row],[S&L Price]]","v":0}]
[null,null,null,"Let's Talk Sports!",1,"Talk Like a Race Car Driver","Library Bound Book",null,"978-1-4824-5710-0",{"$f":"HYPERLINK(Table1[[#This Row],[eCommerce Hyperlink]],\"Book Weblink\")","v":"Book Weblink"},null,"2017","January 2017","Library","8.500 X 8.500","Author","Ryan Nagelhout","4.6","0.5",null,null,"N",null,"Grade 2 - 3","Grade 2 - 5","There's a lot more to auto racing than just driving around in a circle. From engine maintenance to understanding wind physics while drafting, drivers and their crews are smart people making decisions in the blink of an eye. Making tough calls in an instant is often the difference between taking the checkered flag for the win or settling for a finish in the back of the pack. With vivid graphics and full-color photographs illustrating the fast-paced world of race car drivers, readers learn how spotters help drivers through crashes and some of the technical terms used in the pits to help make racing champions.","English",26.25,19.7,"796.72--dc23","32 pp.","https://www.garethstevens.com/9781482457100",null,{"$f":"Table1[[#This Row],[QTY]]*Table1[[#This Row],['# Books]]","v":0},{"$f":"Table1[[#This Row],[QTY]]*Table1[[#This Row],[S&L Price]]","v":0}]
[null,null,null,"Sports: What's Your Position?",1,"Baseball: Who Does What?","eBook",null,"978-1-5382-0421-4",{"$f":"HYPERLINK(Table1[[#This Row],[eCommerce Hyperlink]],\"Book Weblink\")","v":"Book Weblink"},null,"2018","August 2017",null,null,"Author","Ryan Nagelhout","5.1","0.5",null,null,"R","980L","Grade 3 - 4","Grade 3 - 6","Nine is the magic number in baseball. It’s the number of innings in a standard game and the number of players each team fields when on defense. But every player on the field is different, and this book studies each unique position to explore those differences and the skills needed to play there. From turning double plays at shortstop to throwing off the pitcher’s mound, each spot on the diamond has its quirks. Readers learn how catchers help pitchers know what pitch to throw and catch runners stealing second base in this exciting title that puts them on the diamond and in the midst of this exciting game.","English",27.6,20.7,"796.357--dc23","32 pp.","https://www.garethstevens.com/9781538204214",null,{"$f":"Table1[[#This Row],[QTY]]*Table1[[#This Row],['# Books]]","v":0},{"$f":"Table1[[#This Row],[QTY]]*Table1[[#This Row],[S&L Price]]","v":0}]
[null,null,null,"Sports: What's Your Position?",1,"Hockey: Who Does What?","Library Bound Book",null,"978-1-5382-0431-3",{"$f":"HYPERLINK(Table1[[#This Row],[eCommerce Hyperlink]],\"Book Weblink\")","v":"Book Weblink"},null,"2018","August 2017","Library","8.500 X 11.00","Author","Ryan Nagelhout","5.3","0.5",null,null,"R","960L","Grade 3 - 4","Grade 3 - 6","Hockey is a fast and fun game that kids can learn quickly. The concept is simple: put the puck in the net. But beyond that is a world of strategy. When should a defender pinch to keep the puck in the zone? Where should a forward be when backchecking? This book explores those questions and explains what hockey players are doing on the ice, from the basics of each position to an advanced look at what makes great players stand out. With colorful photos and graphics explaining each role in detail, readers will see hockey from every angle and be ready to hit the ice themselves and show off their skills.","English",27.6,20.7,"796.962--dc23","32 pp.","https://www.garethstevens.com/9781538204313",null,{"$f":"Table1[[#This Row],[QTY]]*Table1[[#This Row],['# Books]]","v":0},{"$f":"Table1[[#This Row],[QTY]]*Table1[[#This Row],[S&L Price]]","v":0}]
[null,null,null,"Sports: What's Your Position?",1,"Soccer: Who Does What?","Library Bound Book",null,"978-1-5382-0415-3",{"$f":"HYPERLINK(Table1[[#This Row],[eCommerce Hyperlink]],\"Book Weblink\")","v":"Book Weblink"},null,"2018","August 2017","Library","8.500 X 11.00","Author","Ryan Nagelhout","5.8","0.5",null,null,"R","1010L","Grade 3 - 4","Grade 3 - 6","Taking the soccer pitch can be intimidating if you’re not sure where to go. It’s a big field and each position on the “starting 11” has a big responsibility. Whether exploring all the ways a keeper makes saves or how the defense works in front of them, readers will love experiencing the game of soccer in this exciting title. Filled with golden goals and brilliant passes, readers take a deep dive into “the beautiful game” and learn important ways they can succeed with their friends on the pitch.","English",27.6,20.7,"796.334--dc23","32 pp.","https://www.garethstevens.com/9781538204153",null,{"$f":"Table1[[#This Row],[QTY]]*Table1[[#This Row],['# Books]]","v":0},{"$f":"Table1[[#This Row],[QTY]]*Table1[[#This Row],[S&L Price]]","v":0}]
[null,null,null,"Mind vs Muscle: The Psychology of Sports",1,"Basketball","eBook",null,"978-1-5382-2543-1",{"$f":"HYPERLINK(Table1[[#This Row],[eCommerce Hyperlink]],\"Book Weblink\")","v":"Book Weblink"},null,"2019","August 2018",null,null,"Author","Cathleen Small","7.3","1",null,null,"U",null,"Grade 5 - 6","Grade 4 - 6","The top basketball players know that it's more than their physical strength that helps them play a good game. If they aren't focused and aren't using their heads, all the muscle in the world won't help them in the game. This book explores how the mind works together with muscle strength and memory to create basketball players to be reckoned with. Readers are introduced to the basics of the game, learn their favorite players' strategies and tips, and discover the importance of mental toughness. This book is sure to inspire young readers, whether they're currently practicing on the court or not.","English",32.950000000000003,24.7,"796.323--dc23","48 pp.","https://www.garethstevens.com/9781538225431",null,{"$f":"Table1[[#This Row],[QTY]]*Table1[[#This Row],['# Books]]","v":0},{"$f":"Table1[[#This Row],[QTY]]*Table1[[#This Row],[S&L Price]]","v":0}]
[null,null,null,"Mind vs Muscle: The Psychology of Sports",1,"Lacrosse","Library Bound Book",null,"978-1-5382-2533-2",{"$f":"HYPERLINK(Table1[[#This Row],[eCommerce Hyperlink]],\"Book Weblink\")","v":"Book Weblink"},null,"2019","August 2018","Library","7.250 X 9.250","Author","Cathleen Small","7.6","1",null,null,"U",null,"Grade 5 - 6","Grade 4 - 6","Lacrosse is a sport that has been around for a long time. Originating with the Native American Indians, this sport is fast paced and men's leagues in particular can be very aggressive. Readers have fun learning the ins and outs of this sport, the culture behind it, and the strategies of both offensive and defensive players. In this colorful book, readers find out that lacrosse is both an art and a science, and the best players are the ones who use their mind to find the balance between both.","English",32.950000000000003,24.7,"796.36'2--dc23","48 pp.","https://www.garethstevens.com/9781538225332",null,{"$f":"Table1[[#This Row],[QTY]]*Table1[[#This Row],['# Books]]","v":0},{"$f":"Table1[[#This Row],[QTY]]*Table1[[#This Row],[S&L Price]]","v":0}]
[null,null,null,"¿Dónde está…? Mapas del mundo (Where on Earth? Mapping Parts of the World)",1,"Cómo hacer mapas (Making Maps)","Library Bound Book",null,"978-1-5382-0511-2",{"$f":"HYPERLINK(Table1[[#This Row],[eCommerce Hyperlink]],\"Book Weblink\")","v":"Book Weblink"},null,"2018","August 2017","Library","7.000 X 7.000","Author, Translated by","Todd Bluthenthal, Esther Sarfatti",null,null,null,null,"H",null,"Grade 1 - 2","Grade 1 - 3","Is there such a thing as a fun way to develop spatial awareness? Yes, and readers can do so by reading this book. Readers will engage in and expand their understanding of the world around them through a creative, rewarding map-making activity developed with learning and fun in mind. Step-by-step instructions guide them through this rewarding exercise, while a simple history and explanation of cartography allows them to feel a part of something both fascinating and epic.","Spanish",23.6,17.7,"526--dc23","24 pp.","https://www.garethstevens.com/9781538205112",null,{"$f":"Table1[[#This Row],[QTY]]*Table1[[#This Row],['# Books]]","v":0},{"$f":"Table1[[#This Row],[QTY]]*Table1[[#This Row],[S&L Price]]","v":0}]
[null,null,null,"¿Dónde está…? Mapas del mundo (Where on Earth? Mapping Parts of the World)",1,"Continentes de la Tierra (Earth’s Continents)","Library Bound Book",null,"978-1-5382-0509-9",{"$f":"HYPERLINK(Table1[[#This Row],[eCommerce Hyperlink]],\"Book Weblink\")","v":"Book Weblink"},null,"2018","August 2017","Library","7.000 X 7.000","Author, Translated by","Todd Bluthenthal, Esther Sarfatti",null,null,null,null,"H",null,"Grade 1 - 2","Grade 1 - 3","Why do continents matter? From economics to weather science, knowing the characteristics of the continents expands readers' perspectives in every school subject. This fundamental information is a building block of many future lessons and an essential part of elementary education. This book presents a focused, clear, age-appropriate look at Earth's continents that young readers are sure to find both informative and interesting. This volume is also packed with colorful maps that are labeled and explained to foster young readers' comprehension of this important topic.","Spanish",23.6,17.7,"551.41--dc23","24 pp.","https://www.garethstevens.com/9781538205099",null,{"$f":"Table1[[#This Row],[QTY]]*Table1[[#This Row],['# Books]]","v":0},{"$f":"Table1[[#This Row],[QTY]]*Table1[[#This Row],[S&L Price]]","v":0}]
[null,null,null,"¿Dónde está…? Mapas del mundo (Where on Earth? Mapping Parts of the World)",1,"El polo sur (The South Pole)","eBook",null,"978-1-5382-0502-0",{"$f":"HYPERLINK(Table1[[#This Row],[eCommerce Hyperlink]],\"Book Weblink\")","v":"Book Weblink"},null,"2018","August 2017",null,null,"Author, Translated by","Todd Bluthenthal, Esther Sarfatti",null,null,null,null,"H",null,"Grade 1 - 2","Grade 1 - 3","The South Pole is cold, but there’s more to it than that! This book presents the cartography and earth science of this polar region to young readers in an engaging yet informative way. Several spreads are dedicated to the fascinating history of the brave explorers of this icy landscape, a part of history that is sure to impress all elementary readers! The colorful, easily understood maps and vivid photographs of the South Pole will expand reader’s grasp on the concepts of poles, continents, climate, Earth’s rotation, and so much more!","Spanish",23.6,17.7,"919.89--dc23","24 pp.","https://www.garethstevens.com/9781538205020",null,{"$f":"Table1[[#This Row],[QTY]]*Table1[[#This Row],['# Books]]","v":0},{"$f":"Table1[[#This Row],[QTY]]*Table1[[#This Row],[S&L Price]]","v":0}]
[null,null,null,"Biomas donde yo vivo (Backyard Biomes)",1,"Vivo cerca de un desierto (There's a Desert in My Backyard!)","Library Bound Book",null,"978-1-4824-6212-8",{"$f":"HYPERLINK(Table1[[#This Row],[eCommerce Hyperlink]],\"Book Weblink\")","v":"Book Weblink"},null,"2017","January 2017","Library","7.000 X 7.000","Author, Translated by","Walter LaPlante, Alberto Jiménez","3.2","0.5",null,null,"H",null,"Grade 1 - 2","Grade 1 - 3","Deserts are the driest places on Earth, but they're full of life! Cacti, kangaroo rats, shrubs, foxes, and more have found ways to adapt to the extreme temperatures and dry conditions of deserts around the world. Readers learn about many of these adaptations as well as the major features of the desert biome. Simple maps highlight some of the biggest deserts, helping readers learn map skills. Full-color photographs reinforce accessible information about the desert ecosystem, including a concluding message of conservation.","Spanish",23.6,17.7,"577.54--dc23","24 pp.","https://www.garethstevens.com/9781482462128",null,{"$f":"Table1[[#This Row],[QTY]]*Table1[[#This Row],['# Books]]","v":0},{"$f":"Table1[[#This Row],[QTY]]*Table1[[#This Row],[S&L Price]]","v":0}]
[null,null,null,"Biomas donde yo vivo (Backyard Biomes)",1,"Vivo cerca de un océano (There's an Ocean in My Backyard!)\t","Library Bound Book",null,"978-1-4824-6217-3",{"$f":"HYPERLINK(Table1[[#This Row],[eCommerce Hyperlink]],\"Book Weblink\")","v":"Book Weblink"},null,"2017","January 2017","Library","7.000 X 7.000","Author, Translated by","Seth Lynch, Alberto Jiménez","4.8","0.5",null,null,"H",null,"Grade 1 - 2","Grade 1 - 3","The ocean covers about 70 percent of Earth. That makes it the planet’s largest biome! With millions of species of plants and animals living in it, this biome needs special care as climate change affects Earth. Readers learn about the five named oceans and where they are on a simple map. Important concepts from the science curriculum are introduced in age-appropriate language, including food webs, animal adaptations, and conservation. Full-color photographs of ocean life further emphasize the diversity and interconnectedness of the ocean biome.","Spanish",23.6,17.7,"577.7’22--dc23","24 pp.","https://www.garethstevens.com/9781482462173",null,{"$f":"Table1[[#This Row],[QTY]]*Table1[[#This Row],['# Books]]","v":0},{"$f":"Table1[[#This Row],[QTY]]*Table1[[#This Row],[S&L Price]]","v":0}]
[null,null,null,"Biomas donde yo vivo (Backyard Biomes)",1,"Vivo cerca de un océano (There's an Ocean in My Backyard!)\t","eBook",null,"978-1-4824-6136-7",{"$f":"HYPERLINK(Table1[[#This Row],[eCommerce Hyperlink]],\"Book Weblink\")","v":"Book Weblink"},null,"2017","January 2017",null,null,"Author, Translated by","Seth Lynch, Alberto Jiménez","4.8","0.5",null,null,"H",null,"Grade 1 - 2","Grade 1 - 3","The ocean covers about 70 percent of Earth. That makes it the planet’s largest biome! With millions of species of plants and animals living in it, this biome needs special care as climate change affects Earth. Readers learn about the five named oceans and where they are on a simple map. Important concepts from the science curriculum are introduced in age-appropriate language, including food webs, animal adaptations, and conservation. Full-color photographs of ocean life further emphasize the diversity and interconnectedness of the ocean biome.","Spanish",23.6,17.7,"577.7’22--dc23","24 pp.","https://www.garethstevens.com/9781482461367",null,{"$f":"Table1[[#This Row],[QTY]]*Table1[[#This Row],['# Books]]","v":0},{"$f":"Table1[[#This Row],[QTY]]*Table1[[#This Row],[S&L Price]]","v":0}]
[null,null,null,"Superherramientas científicas (Super Science Tools)",6,"Superherramientas científicas (Super Science Tools)","Library Set",null,"978-1-5382-0477-1",{"$f":"HYPERLINK(Table1[[#This Row],[eCommerce Hyperlink]],\"Book Weblink\")","v":"Book Weblink"},null,"2018","August 2017","Library","7.000 X 7.000",null,null,null,null,null,null,null,null,"Grade 1 - 2","Grade 1 - 3","Instilling a passion for science and curiosity for technology lays a solid foundation for future STEM education. This important and accessible series introduces some of the basic tools of science and how scientists—professional and amateur—use them every day. After learning about these key instruments, including scales, thermometers, and measuring cups, readers will want to explore them in their own experiments, encouraging fun hands-on learning experiences.","Spanish",141.6,106.2,null,"24 pp.","https://www.garethstevens.com/9781538204771",null,{"$f":"Table1[[#This Row],[QTY]]*Table1[[#This Row],['# Books]]","v":0},{"$f":"Table1[[#This Row],[QTY]]*Table1[[#This Row],[S&L Price]]","v":0}]
[null,null,null,"Superherramientas científicas (Super Science Tools)",1,"Cómo utilizar un termómetro (Using a Thermometer)","Library Bound Book",null,"978-1-5382-0594-5",{"$f":"HYPERLINK(Table1[[#This Row],[eCommerce Hyperlink]],\"Book Weblink\")","v":"Book Weblink"},null,"2018","August 2017","Library","7.000 X 7.000","Author, Translated by","Abigail B. Roberts, Alberto Jiménez",null,null,null,null,"I",null,"Grade 1 - 2","Grade 1 - 3","Thermometers are so important in our daily lives. We consult them to know how to dress before going outside. We check our temperature when we think we're sick. We even use thermometers when we're cooking and baking in the kitchen. Thermometers are everywhere, but they're also important tools of science. In this engaging volume, with the aid of appealing photographs and an instructive activity, readers will learn how scientists of all ages use thermometers and how they can, too.","Spanish",23.6,17.7,"536'.50287--dc23","24 pp.","https://www.garethstevens.com/9781538205945",null,{"$f":"Table1[[#This Row],[QTY]]*Table1[[#This Row],['# Books]]","v":0},{"$f":"Table1[[#This Row],[QTY]]*Table1[[#This Row],[S&L Price]]","v":0}]
[null,null,null,"Conoce las ciencias físicas (A Look at Physical Science)",6,"Conoce las ciencias físicas (A Look at Physical Science)","Library Set",null,"978-1-5382-2793-0",{"$f":"HYPERLINK(Table1[[#This Row],[eCommerce Hyperlink]],\"Book Weblink\")","v":"Book Weblink"},null,"2019","August 2018","Library","6.500 X 9.125",null,null,null,null,null,null,null,null,"Grade 2","Grade 5 - 8","Magnetism, electricity, and forces are difficult concepts for students to grasp; they are even more difficult for struggling readers. This series tackles key topics within the physical science curriculum. These books are written in an accessible format for students who need help reading or processing new information. Each volume follows the Next Generation Science Standards and gives students a well-rounded view of the topics at hand. Diagrams and graphic organizers further aid students in their comprehension of each topic. Features include: Provides readers a resource to turn to when preparing for a test or struggling through a brand-new physical science topic. Written with the progression of knowledge in mind, starting with simpler ideas and building upon them as readers would in the classroom. Offers expanded glossaries of important vocabulary terms vital to each topic area.","Spanish",165.6,124.2,null,"32 pp.","https://www.garethstevens.com/9781538227930",null,{"$f":"Table1[[#This Row],[QTY]]*Table1[[#This Row],['# Books]]","v":0},{"$f":"Table1[[#This Row],[QTY]]*Table1[[#This Row],[S&L Price]]","v":0}]
[null,null,null,"Conoce las ciencias físicas (A Look at Physical Science)",1,"El calor (Heat)","eBook",null,"978-1-5382-2776-3",{"$f":"HYPERLINK(Table1[[#This Row],[eCommerce Hyperlink]],\"Book Weblink\")","v":"Book Weblink"},null,"2019","August 2018",null,null,"Author, Translated by","Kathleen Connors, Alberto Jiménez",null,null,null,null,"J",null,"Grade 2","Grade 5 - 8","There's so much more to heat than hot and cold! How it moves, keeps us warm in the winter, and helps us cook our food is all part of this key science topic. Inside a colorful layout, the main text is written with struggling readers in mind, giving clear, concise explanations in understandable language to propel these readers to classroom success. Graphic organizers reinforce important topics for visual learners and those using the books as a \"crash course\" review of heat.","Spanish",27.6,20.7,"536--dc23","32 pp.","https://www.garethstevens.com/9781538227763",null,{"$f":"Table1[[#This Row],[QTY]]*Table1[[#This Row],['# Books]]","v":0},{"$f":"Table1[[#This Row],[QTY]]*Table1[[#This Row],[S&L Price]]","v":0}]
[null,null,null,"Conoce las ciencias físicas (A Look at Physical Science)",1,"La electricidad (Electricity)","Library Bound Book",null,"978-1-5382-2765-7",{"$f":"HYPERLINK(Table1[[#This Row],[eCommerce Hyperlink]],\"Book Weblink\")","v":"Book Weblink"},null,"2019","August 2018","Library","6.500 X 9.125","Author, Translated by","Kathleen Connors, Alberto Jiménez",null,null,null,null,"J",null,"Grade 2","Grade 5 - 8","As technology improves, scientists find more and more ways to create electricity. Kids might wonder what exactly electricity is, which is a great question since it's part of the science curriculum. This volume covers everything readers need to know to master the topic of electricity. Diagrams and fact boxes help explain the most complex parts of the main text, and an extended glossary familiarizes readers with the vocabulary needed to talk about the topic in science class. This volume offers struggling readers an accessible overview of electricity and students in need of a review a chance to revisit key points.","Spanish",27.6,20.7,"537--dc23","32 pp.","https://www.garethstevens.com/9781538227657",null,{"$f":"Table1[[#This Row],[QTY]]*Table1[[#This Row],['# Books]]","v":0},{"$f":"Table1[[#This Row],[QTY]]*Table1[[#This Row],[S&L Price]]","v":0}]
[null,null,null,"Conoce tu gobierno (A Look at Your Government)",6,"Conoce tu gobierno (A Look at Your Government)","Library Set",null,"978-1-4824-6290-6",{"$f":"HYPERLINK(Table1[[#This Row],[eCommerce Hyperlink]],\"Book Weblink\")","v":"Book Weblink"},null,"2018","August 2017","Library","6.500 X 9.125",null,null,null,null,null,null,null,null,"Grade 2","Grade 5 - 8","There’s a lot readers need to know about how the US government works. From the division of power between three branches to the Electoral College, it can seem complicated and overwhelming. This series breaks down how the government is run to the most important points covered in the social studies curriculum. Written in accessible language for readers of all abilities, an overview of the job of the House of Representatives, Senate, Supreme Court, and president can help clarify the system for readers or simply aid in test preparation.","Spanish",165.6,124.2,null,"32 pp.","https://www.garethstevens.com/9781482462906",null,{"$f":"Table1[[#This Row],[QTY]]*Table1[[#This Row],['# Books]]","v":0},{"$f":"Table1[[#This Row],[QTY]]*Table1[[#This Row],[S&L Price]]","v":0}]
[null,null,null,"Conoce tu gobierno (A Look at Your Government)",1,"¿Qué es el colegio electoral? (What Is the Electoral College?)","eBook",null,"978-1-4824-6270-8",{"$f":"HYPERLINK(Table1[[#This Row],[eCommerce Hyperlink]],\"Book Weblink\")","v":"Book Weblink"},null,"2018","August 2017",null,null,"Author, Translated by","Santana Hunt, Esther Sarfatti","5.5","0.5",null,null,"K",null,"Grade 2","Grade 5 - 8","When the Constitution was written, some of the Founding Fathers wanted to include a provision that only those in Congress vote for president. Others felt it was important that the former colonists got to vote directly for their president. The Electoral College was the compromise reached, and it's still how the president and vice president are elected today. This often-confusing topic is simplified, step by step for readers. Simple language and elaborating fact boxes target readers new to understanding the Electoral College system and those looking for a thorough but succinct review.","Spanish",27.6,20.7,"324.6’3--dc23","32 pp.","https://www.garethstevens.com/9781482462708",null,{"$f":"Table1[[#This Row],[QTY]]*Table1[[#This Row],['# Books]]","v":0},{"$f":"Table1[[#This Row],[QTY]]*Table1[[#This Row],[S&L Price]]","v":0}]
[null,null,null,"Conoce tu gobierno (A Look at Your Government)",1,"¿Qué hace el presidente? (What Does the President Do?)","eBook",null,"978-1-4824-6262-3",{"$f":"HYPERLINK(Table1[[#This Row],[eCommerce Hyperlink]],\"Book Weblink\")","v":"Book Weblink"},null,"2018","August 2017",null,null,"Author, Translated by","Kathleen Connors, Esther Sarfatti","5.6","0.5",null,null,"K",null,"Grade 2","Grade 5 - 8","The US president is the face of the United States to the rest of the world. However, he or she doesn’t have unlimited power within the country. The president has certain powers given by the Constitution, including the ability to make treaties, appoint some important government officials, and veto laws. Readers learn the many duties of the president in simple, clear language appropriate for both younger readers and older readers looking for a succinct review of the topic. Fact boxes supplement the main content with important details about checks and balances, amendments, and more that affect the presidency today.","Spanish",27.6,20.7,"352.23’0973--dc23","32 pp.","https://www.garethstevens.com/9781482462623",null,{"$f":"Table1[[#This Row],[QTY]]*Table1[[#This Row],['# Books]]","v":0},{"$f":"Table1[[#This Row],[QTY]]*Table1[[#This Row],[S&L Price]]","v":0}]
[null,null,null,"Veamos los ciclos de vida (A Look at Life Cycles)",1,"Los ciclos de vida de las aves (Bird Life Cycles)","eBook",null,"978-1-5382-1519-7",{"$f":"HYPERLINK(Table1[[#This Row],[eCommerce Hyperlink]],\"Book Weblink\")","v":"Book Weblink"},null,"2018","January 2018",null,null,"Author, Translated by","Bray Jacobson, Alberto Jiménez","3.7","0.5",null,null,"I",null,"Grade 2","Grade 5 - 8","All birds lay eggs, but the size, shape, and colors are very different. Do these differences change the bird life cycle? Readers learn about the general life cycle of a bird from when the egg is laid to the different life-spans of various types of birds. Written specifically for students in need of review or extra help, this book gives a concise overview of a topic commonly included in science curricula. Alongside the main content’s simple explanations, colorful diagrams provide readers another way to learn about bird life cycles.","Spanish",27.6,20.7,"598.156--dc23","32 pp.","https://www.garethstevens.com/9781538215197",null,{"$f":"Table1[[#This Row],[QTY]]*Table1[[#This Row],['# Books]]","v":0},{"$f":"Table1[[#This Row],[QTY]]*Table1[[#This Row],[S&L Price]]","v":0}]
[null,null,null,"Veamos los ciclos de vida (A Look at Life Cycles)",1,"Los ciclos de vida de los insectos (Insect Life Cycles)","eBook",null,"978-1-5382-1518-0",{"$f":"HYPERLINK(Table1[[#This Row],[eCommerce Hyperlink]],\"Book Weblink\")","v":"Book Weblink"},null,"2018","January 2018",null,null,"Author, Translated by","Bray Jacobson, Alberto Jiménez","3.7","0.5",null,null,"I",null,"Grade 2","Grade 5 - 8","Many insects hatch from eggs and molt several times as they grow bigger. Others, such as butterflies, undergo a complete metamorphosis. A common science curriculum topic, insect life cycles may be confusing because of these differences. However, this book breaks down these cycles into easy-to-understand steps in both accessible language and colorful diagrams readers can turn to for review again and again. The most important vocabulary needed to talk about insect life cycles is further explained in fact boxes and an extended glossary.","Spanish",27.6,20.7,"595.7156--dc23","32 pp.","https://www.garethstevens.com/9781538215180",null,{"$f":"Table1[[#This Row],[QTY]]*Table1[[#This Row],['# Books]]","v":0},{"$f":"Table1[[#This Row],[QTY]]*Table1[[#This Row],[S&L Price]]","v":0}]
[null,null,null,"Veamos los ciclos de vida (A Look at Life Cycles)",1,"Los ciclos de vida de los reptiles (Reptile Life Cycles)","eBook",null,"978-1-5382-1515-9",{"$f":"HYPERLINK(Table1[[#This Row],[eCommerce Hyperlink]],\"Book Weblink\")","v":"Book Weblink"},null,"2018","January 2018",null,null,"Author, Translated by","Bray Jacobson, Alberto Jiménez","4","0.5",null,null,"I",null,"Grade 2","Grade 5 - 8","Some reptiles lay eggs and some give birth to live young. In this book, readers learn about the reptile life cycle beginning in both ways. The main content gives a simple overview of the steps included in the reptile life cycle accompanied by helpful diagrams to aid readers’ understanding of this common science curriculum topic. Written with struggling readers in mind, this volume gives explanations in accessible language, which also makes it an excellent source for any reader to review the topic.","Spanish",27.6,20.7,"597.9'156--dc23","32 pp.","https://www.garethstevens.com/9781538215159",null,{"$f":"Table1[[#This Row],[QTY]]*Table1[[#This Row],['# Books]]","v":0},{"$f":"Table1[[#This Row],[QTY]]*Table1[[#This Row],[S&L Price]]","v":0}]
[null,null,null,"¡Resuelve! Matemáticas en el espacio (Solve It! Math in Space)",1,"Matemáticas en el Sol (Math on the Sun)","eBook",null,"978-1-4824-5229-7",{"$f":"HYPERLINK(Table1[[#This Row],[eCommerce Hyperlink]],\"Book Weblink\")","v":"Book Weblink"},null,"2017","August 2016",null,null,"Author, Translated by","Mark J. Harasymiw , Alberto Jiménez","4.9","0.5",null,null,"N",null,"Grade 2 - 3","Grade 2 - 5","The sun's importance to Earth and the solar system can't be exaggerated; it's the linchpin for life itself. The sun's structure, atmosphere, and other features are introduced in collaboration with related mathematical problems in this noteworthy companion to the elementary science and math curricula. Readers discover fascinating facts about the sun such as its age: it's 4.6 billion years old. Engaging text and motivating math problems make learning fun. Amazing photographs and illustrations highlight the awesome power of the sun and add to the volume's appeal.","Spanish",23.6,17.7,"523.7--dc23","24 pp.","https://www.garethstevens.com/9781482452297",null,{"$f":"Table1[[#This Row],[QTY]]*Table1[[#This Row],['# Books]]","v":0},{"$f":"Table1[[#This Row],[QTY]]*Table1[[#This Row],[S&L Price]]","v":0}]
[null,null,null,"¡Resuelve! Matemáticas en el espacio (Solve It! Math in Space)",1,"Matemáticas en Júpiter (Math on Jupiter)","Library Bound Book",null,"978-1-4824-5232-7",{"$f":"HYPERLINK(Table1[[#This Row],[eCommerce Hyperlink]],\"Book Weblink\")","v":"Book Weblink"},null,"2017","August 2016","Library","8.500 X 8.500","Author, Translated by","Mark J. Harasymiw , Alberto Jiménez","4","0.5",null,null,"M",null,"Grade 2 - 3","Grade 2 - 5","Jupiter, named for the mythological king of the gods, demands a lot of respect in the night sky. Young scientists are invited to travel to this gas giant while taking part in ﾓmath missionsﾔ along their journey. By completing each mission using familiar math operations, they'll discover fascinating facts about Jupiter, its rings, and its moons. They'll learn about the storm called the Great Red Spot and the Juno spacecraft's mission to Jupiter. Science and math are the perfect companions in this exciting volume about the largest planet in the solar system.","Spanish",23.6,17.7,"523.45--dc23","24 pp.","https://www.garethstevens.com/9781482452327",null,{"$f":"Table1[[#This Row],[QTY]]*Table1[[#This Row],['# Books]]","v":0},{"$f":"Table1[[#This Row],[QTY]]*Table1[[#This Row],[S&L Price]]","v":0}]
[null,null,null,"¡Resuelve! Matemáticas en el espacio (Solve It! Math in Space)",1,"Matemáticas en Saturno (Math on Saturn)","eBook",null,"978-1-4824-5245-7",{"$f":"HYPERLINK(Table1[[#This Row],[eCommerce Hyperlink]],\"Book Weblink\")","v":"Book Weblink"},null,"2017","August 2016",null,null,"Author, Translated by","Mark J. Harasymiw , Alberto Jiménez","4.5","0.5",null,null,"N",null,"Grade 2 - 3","Grade 2 - 5","The planet Saturn, with its magnificent rings, is one of the most jawdropping sights in our solar system. The striking photographs in this attractive volume invite readers to dive into the essential facts and science vocabulary in the text. They'll also be invited to solve math problems involving Saturn in which they'll learn more data such as about Saturn's 29 1/2 year trip around the sun. Saturn's rings, moons, and atmosphere are some of the topics that future astronomers will be introduced to in this valuable volume about the sixth planet from the sun.\n","Spanish",23.6,17.7,"523.46--dc23","24 pp.","https://www.garethstevens.com/9781482452457",null,{"$f":"Table1[[#This Row],[QTY]]*Table1[[#This Row],['# Books]]","v":0},{"$f":"Table1[[#This Row],[QTY]]*Table1[[#This Row],[S&L Price]]","v":0}]
[null,null,null,"Pueblos indígenas de Norteamérica (Native Peoples of North America)",1,"Pueblos indígenas de California (Native Peoples of California)","Library Bound Book",null,"978-1-4824-5248-8",{"$f":"HYPERLINK(Table1[[#This Row],[eCommerce Hyperlink]],\"Book Weblink\")","v":"Book Weblink"},null,"2017","August 2016","Library","8.500 X 8.500","Author, Translated by","Barbara M. Linde, Esther Sarfatti",null,null,null,null,"M",null,"Grade 2 - 3","Grade 2 - 5","When the Spanish began colonizing California in the late 1700s, there were more than 300,000 native peoples living there. By 1860, their population had been cut down to 30,000 by the European diseases they were unprepared to fight, poverty, and other hardships. In this book, readers learn about the traditional culture of the native peoples of California, including the time period before European and American settlement as well as its influence on these groups. Full-color photographs and historical images illustrate their lifestyles as the main content and fact boxes introduce specific groups and their unique customs.","Spanish",26.25,19.7,"979.4004/97--dc23","32 pp.","https://www.garethstevens.com/9781482452488",null,{"$f":"Table1[[#This Row],[QTY]]*Table1[[#This Row],['# Books]]","v":0},{"$f":"Table1[[#This Row],[QTY]]*Table1[[#This Row],[S&L Price]]","v":0}]
[null,null,null,"Pueblos indígenas de Norteamérica (Native Peoples of North America)",1,"Pueblos indígenas del Ártico (Native Peoples of the Arctic)","Library Bound Book",null,"978-1-4824-5260-0",{"$f":"HYPERLINK(Table1[[#This Row],[eCommerce Hyperlink]],\"Book Weblink\")","v":"Book Weblink"},null,"2017","August 2016","Library","8.500 X 8.500","Author, Translated by","Lynda Arnéz, Esther Sarfatti",null,null,null,null,"M",null,"Grade 2 - 3","Grade 2 - 5","In the Arctic, survival is paramount. Yet, for thousands of years, people have made their home in present-day Canada and Alaska among the snow and ice. They value sharing and working together to make the coldest, toughest times of the year bearable. Through migration, hunting, and fishing, the peoples of the North American Arctic have made the best of their environment. Readers discover how and why people settled so far north as well as how they lived. Historical images and photographs showcase the tools, homes, and clothing of the Arctic peoples, while fact boxes offer more insight into their culture.","Spanish",26.25,19.7,"970.004/9712--dc23","32 pp.","https://www.garethstevens.com/9781482452600",null,{"$f":"Table1[[#This Row],[QTY]]*Table1[[#This Row],['# Books]]","v":0},{"$f":"Table1[[#This Row],[QTY]]*Table1[[#This Row],[S&L Price]]","v":0}]
[null,null,null,"Pueblos indígenas de Norteamérica (Native Peoples of North America)",1,"Pueblos indígenas del Subártico (Native Peoples of the Subarctic)","eBook",null,"978-1-4824-5277-8",{"$f":"HYPERLINK(Table1[[#This Row],[eCommerce Hyperlink]],\"Book Weblink\")","v":"Book Weblink"},null,"2017","August 2016",null,null,"Author, Translated by","Amy Hayes, Esther Sarfatti",null,null,null,null,"M",null,"Grade 2 - 3","Grade 2 - 5","Much of Canada and Alaska can be called the subarctic. This area features the taiga and often cold temperatures. The native peoples of this region had to adapt to this climate in many ways, including making clothes from fur, wearing snowshoes, and carefully insulating their homes. Readers are introduced to which groups can be classified as subarctic and the traditional ways of life they practice. Full-color photographs and historical images highlight the weather’s role in their lives as fun fact boxes add more detail about how the fur trade impacted these groups, how they found food, and more.","Spanish",26.25,19.7,"971.9’01--dc23","32 pp.","https://www.garethstevens.com/9781482452778",null,{"$f":"Table1[[#This Row],[QTY]]*Table1[[#This Row],['# Books]]","v":0},{"$f":"Table1[[#This Row],[QTY]]*Table1[[#This Row],[S&L Price]]","v":0}]
[null,null,null,"La historia oculta (Hidden History)",1,"El Cementerio Africano (The African Burial Ground)","Library Bound Book",null,"978-1-4824-6219-7",{"$f":"HYPERLINK(Table1[[#This Row],[eCommerce Hyperlink]],\"Book Weblink\")","v":"Book Weblink"},null,"2017","January 2017","Library","6.500 X 9.125","Author, Translated by","Therese M. Shea, Ana Maria Garcia","7.4","1",null,null,"S",null,"Grade 4 - 5","Grade 4 - 6","In 1991, preparation for the construction of a new federal office building led to a startling discovery: a skeleton. Further excavation exposed the bones of 420 men, women, and children. This area of New York had been a burial ground set aside for both free and enslaved Africans during the 1600s and 1700s. It’s thought to be one of the most important archaeological discoveries of the 20th century. This noteworthy book—which includes sidebars, fact boxes, a timeline, and maps—fills in the gaps of history books, exposing much about what life was like in colonial New York for Africans.","Spanish",27.6,20.7,"974.7/01--dc23","32 pp.","https://www.garethstevens.com/9781482462197",null,{"$f":"Table1[[#This Row],[QTY]]*Table1[[#This Row],['# Books]]","v":0},{"$f":"Table1[[#This Row],[QTY]]*Table1[[#This Row],[S&L Price]]","v":0}]
[null,null,null,"La historia oculta (Hidden History)",1,"La esclavitud en Mount Vernon (Slavery at Mount Vernon)","Library Bound Book",null,"978-1-4824-6230-2",{"$f":"HYPERLINK(Table1[[#This Row],[eCommerce Hyperlink]],\"Book Weblink\")","v":"Book Weblink"},null,"2017","January 2017","Library","6.500 X 9.125","Author, Translated by","Janey Levy, Ana Maria Garcia","7","1",null,null,"S",null,"Grade 4 - 5","Grade 4 - 6","Mount Vernon, which was George Washington’s residence, holds a special place in American history and in the hearts of many Americans. Its history of slavery has remained largely hidden until recently. That’s because it’s difficult to accept the contradiction of a Founding Father who fought for liberty, but engaged in the practice of slavery. This thought-provoking volume uses the discoveries of archaeologists as well as the writings of Washington himself to shed light on the lives of the slaves who dwelled on this land. Readers will especially appreciate the illustrative photographs and enlightening sidebars and fact boxes.","Spanish",27.6,20.7,"306.3/6209755291--dc23","32 pp.","https://www.garethstevens.com/9781482462302",null,{"$f":"Table1[[#This Row],[QTY]]*Table1[[#This Row],['# Books]]","v":0},{"$f":"Table1[[#This Row],[QTY]]*Table1[[#This Row],[S&L Price]]","v":0}]
[null,null,null,"La historia oculta (Hidden History)",1,"Los naufragios de los Grandes Lagos (Great Lakes Shipwrecks)","eBook",null,"978-1-4824-6228-9",{"$f":"HYPERLINK(Table1[[#This Row],[eCommerce Hyperlink]],\"Book Weblink\")","v":"Book Weblink"},null,"2017","January 2017",null,null,"Author, Translated by","Melissa Raé Shofner, Ana Maria Garcia","6.9","1",null,null,"T",null,"Grade 4 - 5","Grade 4 - 6","The Great Lakes are the largest group of freshwater lakes on Earth and have always been important channels of shipping and trade. Though they are lakes, their waters have proven to be as challenging as the oceans. That’s why there are more than 6,000 shipwrecks in the Great Lakes! This captivating book relates the stories of some of these wrecks, including the Edmund Fitzgerald, Argo, and Lady Elgin, their survivors, and the not-so-lucky. It also explains how wrecks are found and what happens after their discovery. Amazing photographs and sidebar information will provoke readers’ imaginations about these undersea artifacts.","Spanish",27.6,20.7,"005.1--dc23","32 pp.","https://www.garethstevens.com/9781482462289",null,{"$f":"Table1[[#This Row],[QTY]]*Table1[[#This Row],['# Books]]","v":0},{"$f":"Table1[[#This Row],[QTY]]*Table1[[#This Row],[S&L Price]]","v":0}]
[null,null,null,"¡A jugar! / Ways to Play",1,"¡A disfrazarnos! / We Play Dress-up!","Library Bound Book",null,"978-1-5382-0570-9",{"$f":"HYPERLINK(Table1[[#This Row],[eCommerce Hyperlink]],\"Book Weblink\")","v":"Book Weblink"},null,"2018","August 2017","Library","7.625 X 7.125","Author, Translated by","Leonard Atlantic, Eida de la Vega","1","0.5",null,null,"C",null,"Grade K","Grade Pre-K - 2","Growing up, it’s important to learn that there are countless ways to play with friends. Just a few pieces of clothing and a couple of hats can help create an imaginary world full of wonder. Early readers will discover how much fun that world can be, thanks to full-color photographs paired with accessible text that shows children enjoying dress-up in a variety of ways. Whether trying on dresses or playing like a cowboy, readers learn there are lots of ways to have fun with just the clothes in your closet!","Bilingual (Spanish, English)",23.6,17.7,"391--dc23","24 pp.","https://www.garethstevens.com/9781538205709",null,{"$f":"Table1[[#This Row],[QTY]]*Table1[[#This Row],['# Books]]","v":0},{"$f":"Table1[[#This Row],[QTY]]*Table1[[#This Row],[S&L Price]]","v":0}]
[null,null,null,"¡A jugar! / Ways to Play",1,"¡A hacer música! / We Play Music!","Library Bound Book",null,"978-1-5382-0572-3",{"$f":"HYPERLINK(Table1[[#This Row],[eCommerce Hyperlink]],\"Book Weblink\")","v":"Book Weblink"},null,"2018","August 2017","Library","7.625 X 7.125","Author, Translated by","Leonard Atlantic, Eida de la Vega","0.9","0.5",null,null,"C",null,"Grade K","Grade Pre-K - 2","Learning an instrument is a great way to explore the fun and wonder of music. Whether it’s the drums or the piano, learning how to play an instrument is an amazing and empowering creative experience that instills a sense of discipline, even for early learners. It’s also a great way to write unique songs and play inspiring music with friends. From jamming out in a bedroom to learning an instrument at school, beginning readers will love exploring the world of music through full-color photographs and engaging, age-appropriate text.","Bilingual (Spanish, English)",23.6,17.7,"784.19--dc23","24 pp.","https://www.garethstevens.com/9781538205723",null,{"$f":"Table1[[#This Row],[QTY]]*Table1[[#This Row],['# Books]]","v":0},{"$f":"Table1[[#This Row],[QTY]]*Table1[[#This Row],[S&L Price]]","v":0}]
[null,null,null,"¡A jugar! / Ways to Play",1,"¡A jugar en casa! / We Play with Things Around the House!","eBook",null,"978-1-5382-0579-2",{"$f":"HYPERLINK(Table1[[#This Row],[eCommerce Hyperlink]],\"Book Weblink\")","v":"Book Weblink"},null,"2018","August 2017",null,null,"Author, Translated by","Leonard Atlantic, Eida de la Vega","0.8","0.5",null,null,"C",null,"Grade K","Grade Pre-K - 2","There’s never a shortage of ways to play when you get creative! Even without fancy sports or craft supplies, letting young readers explore the treasures found at home is a great way to invent a brand-new game. Allowing readers’ imaginations to take over engages them in creative improvisation and builds confidence in their own logic. This book pairs full-color photographs with accessible text to show budding readers just how easy it is to turn ordinary household objects into an endless fountain of fun!","Bilingual (Spanish, English)",23.6,17.7,"790--dc23","24 pp.","https://www.garethstevens.com/9781538205792",null,{"$f":"Table1[[#This Row],[QTY]]*Table1[[#This Row],['# Books]]","v":0},{"$f":"Table1[[#This Row],[QTY]]*Table1[[#This Row],[S&L Price]]","v":0}]
[null,null,null,"¡Matemáticas en todas partes! / Math Is Everywhere!",1,"Matemáticas con juguetes / Math with Toys","Library Bound Book",null,"978-1-4824-5214-3",{"$f":"HYPERLINK(Table1[[#This Row],[eCommerce Hyperlink]],\"Book Weblink\")","v":"Book Weblink"},null,"2017","August 2016","Library","7.625 X 7.125","Author, Translated by","Rory McDonnell, Eida de la Vega","1.9","0.5",null,null,"B",null,"Grade K","Grade Pre-K - 2","Math and toys, a perfect combination. This volume, full of high-interest and familiar toys, demonstrates to young readers how they can see mathematical concepts even in the midst of playtime. They'll review Common Core math standards such as counting, sorting, comparing sizes, and identifying shapes and two-dimensional and three-dimensional objects. The bright, at-level text is mirrored by colorful photographs.","Bilingual (Spanish, English)",23.6,17.7,"510--dc23","24 pp.","https://www.garethstevens.com/9781482452143",null,{"$f":"Table1[[#This Row],[QTY]]*Table1[[#This Row],['# Books]]","v":0},{"$f":"Table1[[#This Row],[QTY]]*Table1[[#This Row],[S&L Price]]","v":0}]
[null,null,null,"¡Matemáticas en todas partes! / Math Is Everywhere!",1,"Matemáticas con mascotas / Math with Pets","Library Bound Book",null,"978-1-4824-5216-7",{"$f":"HYPERLINK(Table1[[#This Row],[eCommerce Hyperlink]],\"Book Weblink\")","v":"Book Weblink"},null,"2017","August 2016","Library","7.625 X 7.125","Author, Translated by","Claire Romaine, Eida de la Vega","1.2","0.5",null,null,"C",null,"Grade K","Grade Pre-K - 2","The pet store is a perfect place to exercise math concepts. Readers will be delighted as this fun volume introduces them to parrots, kittens, puppies, and other animals while reviewing important standards of the math curriculum. They'll review size comparison, sorting, numbers, and counting. This high-interest topic and the vivid accompanying photographs provide an accessible and enjoyable introduction or review of elementary math skills.","Bilingual (Spanish, English)",23.6,17.7,"510--dc23","24 pp.","https://www.garethstevens.com/9781482452167",null,{"$f":"Table1[[#This Row],[QTY]]*Table1[[#This Row],['# Books]]","v":0},{"$f":"Table1[[#This Row],[QTY]]*Table1[[#This Row],[S&L Price]]","v":0}]
[null,null,null,"¡Matemáticas en todas partes! / Math Is Everywhere!",1,"Matemáticas con ruedas / Math with Wheels","eBook",null,"978-1-4824-5219-8",{"$f":"HYPERLINK(Table1[[#This Row],[eCommerce Hyperlink]],\"Book Weblink\")","v":"Book Weblink"},null,"2017","August 2016",null,null,"Author, Translated by","Rory McDonnell, Eida de la Vega","1.4","0.5",null,null,"C",null,"Grade K","Grade Pre-K - 2","Grab your bike, it's time to ride. That's the fun activity that begins this inviting book. The narrator looks for wheels in a ride around town, adding them as he goes and encouraging readers to do the same. He encounters friends on bikes with training wheels, a unicycle, and even a policeman on a motorcycle. Math is everywhere, even on wheels.\n","Bilingual (Spanish, English)",23.6,17.7,"510--dc23","24 pp.","https://www.garethstevens.com/9781482452198",null,{"$f":"Table1[[#This Row],[QTY]]*Table1[[#This Row],['# Books]]","v":0},{"$f":"Table1[[#This Row],[QTY]]*Table1[[#This Row],[S&L Price]]","v":0}]
[null,null,null,"¡Puedo ser lo que quiera! / I Can Be Anything!",1,"Puedo ser actor / I Can Be an Actor","Library Bound Book",null,"978-1-5382-2734-3",{"$f":"HYPERLINK(Table1[[#This Row],[eCommerce Hyperlink]],\"Book Weblink\")","v":"Book Weblink"},null,"2019","August 2018","Library","7.625 X 7.125","Author, Translated by","Anthony Ardely, Eida de la Vega","1.1","0.5",null,null,"C",null,"Grade K","Grade Pre-K - 2","When watching a movie, many young people have pictured themselves on the big screen. This exciting book introduces young readers to the many ways people get involved with acting and describes the different jobs an actor has. Accessible vocabulary and vibrant photographs support the development of reading comprehension skills. Those interested in creative careers, or who have ever dreamt of taking the stage or starring in a television show, will love this entertaining glimpse into the fast-paced world of acting.","Bilingual (Spanish, English)",23.6,17.7,"792.028--dc23","24 pp.","https://www.garethstevens.com/9781538227343",null,{"$f":"Table1[[#This Row],[QTY]]*Table1[[#This Row],['# Books]]","v":0},{"$f":"Table1[[#This Row],[QTY]]*Table1[[#This Row],[S&L Price]]","v":0}]
[null,null,null,"¡Puedo ser lo que quiera! / I Can Be Anything!",1,"Puedo ser chef / I Can Be a Chef","eBook",null,"978-1-5382-2731-2",{"$f":"HYPERLINK(Table1[[#This Row],[eCommerce Hyperlink]],\"Book Weblink\")","v":"Book Weblink"},null,"2019","August 2018",null,null,"Author, Translated by","Miller Slenzak, Eida de la Vega","0.9","0.5",null,null,"C",null,"Grade K","Grade Pre-K - 2","For many, a love of cooking great cuisine starts early. Some find this passion by helping a parent in the kitchen, others may find it by reading about it. With the help of this fun volume, readers learn what it takes to work in a busy restaurant kitchen. Colorful photographs are paired with engaging, low-ATOS text to support beginning readers. After reading about the tools they use and the responsibilities they have, readers can decide if being a chef is a career they would like to pursue.","Bilingual (Spanish, English)",23.6,17.7,"641.5023--dc23","24 pp.","https://www.garethstevens.com/9781538227312",null,{"$f":"Table1[[#This Row],[QTY]]*Table1[[#This Row],['# Books]]","v":0},{"$f":"Table1[[#This Row],[QTY]]*Table1[[#This Row],[S&L Price]]","v":0}]
[null,null,null,"¡Puedo ser lo que quiera! / I Can Be Anything!",1,"Puedo ser veterinaria / I Can Be a Veterinarian","eBook",null,"978-1-5382-2739-8",{"$f":"HYPERLINK(Table1[[#This Row],[eCommerce Hyperlink]],\"Book Weblink\")","v":"Book Weblink"},null,"2019","August 2018",null,null,"Author, Translated by","Anthony Ardely, Eida de la Vega","2","0.5",null,null,"C",null,"Grade K","Grade Pre-K - 2","Working with animals would be a dream come true for many young people. This book explores the many different jobs veterinarians perform and shows readers that they, too, can become a veterinarian if they want to. It also teaches readers about the concept of proper pet care, and gives examples of how readers can help care for their own pets. Close picture-to-text correlation makes for engaging content that will inspire young animal lovers and veterinarians-in-training to start learning new skills.","Bilingual (Spanish, English)",23.6,17.7,"636.089--dc23","24 pp.","https://www.garethstevens.com/9781538227398",null,{"$f":"Table1[[#This Row],[QTY]]*Table1[[#This Row],['# Books]]","v":0},{"$f":"Table1[[#This Row],[QTY]]*Table1[[#This Row],[S&L Price]]","v":0}]
[null,null,null,"¡Tu increíble cuerpo! / Your Amazing Body!",1,"Tu nariz / Your Nose","Library Bound Book",null,"978-1-5382-2763-3",{"$f":"HYPERLINK(Table1[[#This Row],[eCommerce Hyperlink]],\"Book Weblink\")","v":"Book Weblink"},null,"2019","August 2018","Library","7.625 X 7.125","Author, Translated by","Russell Hamdan, Esther Ortiz","0.9","0.5",null,null,"C",null,"Grade K","Grade Pre-K - 2","The nose is an important body part. It helps with breathing and smelling, but there's also so much more to know about it. This informative book will help readers learn how they use their nose everyday in so many different ways. They'll also learn why smell is an important sense and how the nose helps with it. Low-ATOS text and vibrant photographs make for an accessible and exciting volume about this incredibly useful facial feature.","Bilingual (Spanish, English)",23.6,17.7,"612.8/6--dc23","24 pp.","https://www.garethstevens.com/9781538227633",null,{"$f":"Table1[[#This Row],[QTY]]*Table1[[#This Row],['# Books]]","v":0},{"$f":"Table1[[#This Row],[QTY]]*Table1[[#This Row],[S&L Price]]","v":0}]
[null,null,null,"¡Tu increíble cuerpo! / Your Amazing Body!",1,"Tus oidos / Your Ears","eBook",null,"978-1-5382-2790-9",{"$f":"HYPERLINK(Table1[[#This Row],[eCommerce Hyperlink]],\"Book Weblink\")","v":"Book Weblink"},null,"2019","August 2018",null,null,"Author, Translated by","Nancy Greenwood, Esther Ortiz","0.6","0.5",null,null,"C",null,"Grade K","Grade Pre-K - 2","Ears are the body parts that allow people to easily use one of the major senses, hearing. This engaging book touches on each of the five main senses, but focuses specifically on the ears and hearing. Readers are taught about listening and learn about specific parts of the human ear. Relevant, low-ATOS text paired with colorful photographs makes it easy for early readers to understand the content of the book in relation to their own bodies.","Bilingual (Spanish, English)",23.6,17.7,"612.8/5--dc23","24 pp.","https://www.garethstevens.com/9781538227909",null,{"$f":"Table1[[#This Row],[QTY]]*Table1[[#This Row],['# Books]]","v":0},{"$f":"Table1[[#This Row],[QTY]]*Table1[[#This Row],[S&L Price]]","v":0}]
[null,null,null,"¡Tu increíble cuerpo! / Your Amazing Body!",1,"Tus pies / Your Feet","eBook",null,"978-1-5382-2760-2",{"$f":"HYPERLINK(Table1[[#This Row],[eCommerce Hyperlink]],\"Book Weblink\")","v":"Book Weblink"},null,"2019","August 2018",null,null,"Author, Translated by","Liza Raine, Esther Ortiz","1","0.5",null,null,"C",null,"Grade K","Grade Pre-K - 2","Running, walking, riding a bike, without the use of the feet none of these things would be possible. This informative book teaches young readers about the different parts of the feet and the different ways they help us move. They'll also learn why we wear socks and shoes on our feet. Bright photographs help readers understand the book's textual content relative to their own bodies. This fun volume is an exciting and engaging way for beginning readers to develop important literacy skills while learning about their own bodies.","Bilingual (Spanish, English)",23.6,17.7,"612.9/8--dc23","24 pp.","https://www.garethstevens.com/9781538227602",null,{"$f":"Table1[[#This Row],[QTY]]*Table1[[#This Row],['# Books]]","v":0},{"$f":"Table1[[#This Row],[QTY]]*Table1[[#This Row],[S&L Price]]","v":0}]
[null,null,null,"Lo que conozco / What I Know",1,"Conozco a la gente donde vivo / I Know People Around Town","Library Bound Book",null,"978-1-5382-0560-0",{"$f":"HYPERLINK(Table1[[#This Row],[eCommerce Hyperlink]],\"Book Weblink\")","v":"Book Weblink"},null,"2018","August 2017","Library","7.000 X 7.000","Author, Translated by","Colin Matthews, Eida de la Vega",null,null,null,null,"B",null,"Grade K","Grade Pre-K - 1","Young people are always interested in those in the community who make it run, especially uniformed heroes such as firefighters and police officers. This fun volume walks readers around town introducing them to community workers, including the mail carrier, dentist, and librarian. Carefully chosen photographs correlate with the achievable vocabulary and illustrate characteristics of each job.","Bilingual (Spanish, English)",23.6,17.7,"331.7--dc23","24 pp.","https://www.garethstevens.com/9781538205600",null,{"$f":"Table1[[#This Row],[QTY]]*Table1[[#This Row],['# Books]]","v":0},{"$f":"Table1[[#This Row],[QTY]]*Table1[[#This Row],[S&L Price]]","v":0}]
[null,null,null,"Lo que conozco / What I Know",1,"Conozco los opuestos / I Know Opposites","Library Bound Book",null,"978-1-5382-0558-7",{"$f":"HYPERLINK(Table1[[#This Row],[eCommerce Hyperlink]],\"Book Weblink\")","v":"Book Weblink"},null,"2018","August 2017","Library","7.000 X 7.000","Author, Translated by","Colin Matthews, Eida de la Vega",null,null,null,null,"B",null,"Grade K","Grade Pre-K - 1","The concept of opposites is a crucial one at the early elementary level. Learning opposites opens up a reader’s vocabulary and ability to communicate. This colorful volume is a helpful aid for teaching and reviewing opposites, displaying opposite pairs visually next to the accompanying accessible text. Readers are encouraged to identify opposites in their own world, reinforcing these essential ideas in their daily lives.","Bilingual (Spanish, English)",23.6,17.7,"428.1--dc23","24 pp.","https://www.garethstevens.com/9781538205587",null,{"$f":"Table1[[#This Row],[QTY]]*Table1[[#This Row],['# Books]]","v":0},{"$f":"Table1[[#This Row],[QTY]]*Table1[[#This Row],[S&L Price]]","v":0}]
[null,null,null,"Lo que conozco / What I Know",1,"Conozco las formas / I Know Shapes","eBook",null,"978-1-4824-6206-7",{"$f":"HYPERLINK(Table1[[#This Row],[eCommerce Hyperlink]],\"Book Weblink\")","v":"Book Weblink"},null,"2017","January 2017",null,null,"Author, Translated by","Jon Welzen, Fatima Rateb",null,null,null,null,"B",null,"Grade K","Grade Pre-K - 1","Discovering the obvious and hidden shapes in the world around us is a great way to strengthen geometric concepts. This motivating volume points out shapes in common and interesting objects. Readers will be inspired by accessible text and colorful photographs to apply their understanding of shapes' attributes to their own surroundings, reinforcing fundamental mathematic ideas.","Bilingual (Spanish, English)",23.6,17.7,"516'.15--dc23","24 pp.","https://www.garethstevens.com/9781482462067",null,{"$f":"Table1[[#This Row],[QTY]]*Table1[[#This Row],['# Books]]","v":0},{"$f":"Table1[[#This Row],[QTY]]*Table1[[#This Row],[S&L Price]]","v":0}]
[null,null,null,"Lo que conozco / What I Know",1,"Conozco las partes del cuerpo / I Know Body Parts","eBook",null,"978-1-4824-6202-9",{"$f":"HYPERLINK(Table1[[#This Row],[eCommerce Hyperlink]],\"Book Weblink\")","v":"Book Weblink"},null,"2017","January 2017",null,null,"Author, Translated by","Mary Rose Osburn, Fatima Rateb",null,null,null,null,"B",null,"Grade K","Grade Pre-K - 1","Knowing body parts and accompanying vocabulary are essential topics in both health and science elementary curricula. In this helpful volume, close text and image correlation make fundamental concepts comprehensible. Readers will recognize body parts in each colorful photograph and associate them with their own. They'll consider how they use these body parts in their daily lives.","Bilingual (Spanish, English)",23.6,17.7,"612--dc23","24 pp.","https://www.garethstevens.com/9781482462029",null,{"$f":"Table1[[#This Row],[QTY]]*Table1[[#This Row],['# Books]]","v":0},{"$f":"Table1[[#This Row],[QTY]]*Table1[[#This Row],[S&L Price]]","v":0}]
[null,null,null,"Our Favorite Colors",1,"We Love Blue!","eBook",null,"978-1-4824-3726-3",{"$f":"HYPERLINK(Table1[[#This Row],[eCommerce Hyperlink]],\"Book Weblink\")","v":"Book Weblink"},null,"2016","January 2016",null,null,"Author","Emma O'Connell",null,null,null,null,"B","30L","Grade K","Grade K - 1","Blue is a beautiful color, and it’s all around us, as this volume demonstrates. Readers are presented with multiple vivid hues of the color blue through recognizable objects, such as flowers, fish, and blueberries. They’ll also be able to practice their vocabulary while reading comprehensible sentences. They can demonstrate their understanding of the color concept by completing the activity at the end of the book.","English",23.6,17.7,"535.6--dc23","24 pp.","https://www.garethstevens.com/9781482437263",null,{"$f":"Table1[[#This Row],[QTY]]*Table1[[#This Row],['# Books]]","v":0},{"$f":"Table1[[#This Row],[QTY]]*Table1[[#This Row],[S&L Price]]","v":0}]
[null,null,null,"Our Favorite Colors",1,"We Love Purple!","Library Bound Book",null,"978-1-4824-3737-9",{"$f":"HYPERLINK(Table1[[#This Row],[eCommerce Hyperlink]],\"Book Weblink\")","v":"Book Weblink"},null,"2016","January 2016","Library","7.000 X 7.000","Author","Richard Little",null,null,null,null,"B","70L","Grade K","Grade K - 1","Grapes, plums, jams...some tasty things are the color purple. Readers of this bright volume will discover this fun fact as well as see varying shades of color in common objects from their lives as they turn each page. Recognizable items and comprehensible text make this book a valuable tool for improving reading comprehension and reviewing color concepts.","English",23.6,17.7,"535.6--dc23","24 pp.","https://www.garethstevens.com/9781482437379",null,{"$f":"Table1[[#This Row],[QTY]]*Table1[[#This Row],['# Books]]","v":0},{"$f":"Table1[[#This Row],[QTY]]*Table1[[#This Row],[S&L Price]]","v":0}]
[null,null,null,"Our Favorite Colors",1,"We Love Yellow!","eBook",null,"978-1-4824-3746-1",{"$f":"HYPERLINK(Table1[[#This Row],[eCommerce Hyperlink]],\"Book Weblink\")","v":"Book Weblink"},null,"2016","January 2016",null,null,"Author","Richard Little",null,null,null,null,"B","60L","Grade K","Grade K - 1","Yellow is an important part of our daily lives. Yellow school buses, traffic lights, bananas, butter, and more populate our day, whether we realize it or not. This accessible text will reveal to readers the many shades of yellow all around them. As they turn each page, they’ll recognize objects in the photos, identify them, and practice the accompanying vocabulary. A concluding activity will help them display their understanding of the concept of yellow.","English",23.6,17.7,"535.6--dc23","24 pp.","https://www.garethstevens.com/9781482437461",null,{"$f":"Table1[[#This Row],[QTY]]*Table1[[#This Row],['# Books]]","v":0},{"$f":"Table1[[#This Row],[QTY]]*Table1[[#This Row],[S&L Price]]","v":0}]
[null,null,null,"Sort It Out!",1,"Sort It by Color","Library Bound Book",null,"978-1-4824-2567-3",{"$f":"HYPERLINK(Table1[[#This Row],[eCommerce Hyperlink]],\"Book Weblink\")","v":"Book Weblink"},null,"2016","August 2015","Library","7.000 X 7.000","Author","Emmett Alexander",null,null,"3",null,"C","180L","Grade K - 1","Grade K - 2","Learning to identify colors is an essential skill in the early elementary classroom. Learning to sort by color takes this aptitude one step further. Through accessible text and helpful photographs, beginning readers will be able to see familiar objects, such as toys and crayons, both mixed up and sorted into their favorite colors. They'll be able to demonstrate their mastery of the concept by this inviting book's end.","English",23.6,17.7,"512.2","24 pp.","https://www.garethstevens.com/9781482425673",null,{"$f":"Table1[[#This Row],[QTY]]*Table1[[#This Row],['# Books]]","v":0},{"$f":"Table1[[#This Row],[QTY]]*Table1[[#This Row],[S&L Price]]","v":0}]
[null,null,null,"Sort It Out!",1,"Sort It by Size","Library Bound Book",null,"978-1-4824-2575-8",{"$f":"HYPERLINK(Table1[[#This Row],[eCommerce Hyperlink]],\"Book Weblink\")","v":"Book Weblink"},null,"2016","August 2015","Library","7.000 X 7.000","Author","Emmett Alexander",null,null,"3",null,"C","210L","Grade K - 1","Grade K - 2","Small and large, short and tall, little and big, these are all words that help us describe size. This math concepts volume doesn't just \"tell\"; it shows early learners the difference between concepts, introduces them to synonyms, and helps them learn to sort a group according to size. Classification is an important concept for the early elementary mathematics student, but the text and photographs in this book, including dogs, fish, and birds, make it fun!","English",23.6,17.7,"512","24 pp.","https://www.garethstevens.com/9781482425758",null,{"$f":"Table1[[#This Row],[QTY]]*Table1[[#This Row],['# Books]]","v":0},{"$f":"Table1[[#This Row],[QTY]]*Table1[[#This Row],[S&L Price]]","v":0}]
[null,null,null,"Sort It Out!",1,"Sort It by Weight","Library Bound Book",null,"978-1-4824-2587-1",{"$f":"HYPERLINK(Table1[[#This Row],[eCommerce Hyperlink]],\"Book Weblink\")","v":"Book Weblink"},null,"2016","August 2015","Library","7.000 X 7.000","Author","Nicholas O'Hara",null,null,"3",null,"C","180L","Grade K - 1","Grade K - 2","Weight is an important concept in the elementary math classroom as is learning how to sort and classify objects. This colorful book uses familiar objects to exhibit the differences between the adjectives \"heavy\" and \"light\" and how objects that match these descriptions can be sorted from one another. After reviewing the concepts, readers can demonstrate their understanding at the conclusion of the book and apply their knowledge to situations outside the classroom, too.","English",23.6,17.7,"530.8","24 pp.","https://www.garethstevens.com/9781482425871",null,{"$f":"Table1[[#This Row],[QTY]]*Table1[[#This Row],['# Books]]","v":0},{"$f":"Table1[[#This Row],[QTY]]*Table1[[#This Row],[S&L Price]]","v":0}]
[null,null,null,"Fun Fact File: Sports!",1,"20 Fun Facts About Basketball","eBook",null,"978-1-4824-4006-5",{"$f":"HYPERLINK(Table1[[#This Row],[eCommerce Hyperlink]],\"Book Weblink\")","v":"Book Weblink"},null,"2016","January 2016",null,null,"Author","Ryan Nagelhout",null,null,null,null,"M","980L","Grade 2 - 3","Grade 2 - 5","Put the ball in the hoop and don't let the other team score. It sounds simple, but there's so much more to the game of basketball. This exciting book takes a look at the game in a quick and fun way that will have readers begging for more fun facts. From the highest scoring game and the greatest teams in NBA history to the greats of the women's game, this book uses vibrant photographs to show the all-time best at the top of their game.","English",26.25,19.7,"796.323--dc23","32 pp.","https://www.garethstevens.com/9781482440065",null,{"$f":"Table1[[#This Row],[QTY]]*Table1[[#This Row],['# Books]]","v":0},{"$f":"Table1[[#This Row],[QTY]]*Table1[[#This Row],[S&L Price]]","v":0}]
[null,null,null,"Fun Fact File: Sports!",1,"20 Fun Facts About Football","eBook",null,"978-1-4824-3977-9",{"$f":"HYPERLINK(Table1[[#This Row],[eCommerce Hyperlink]],\"Book Weblink\")","v":"Book Weblink"},null,"2016","January 2016",null,null,"Author","Ryan Nagelhout",null,null,null,null,"M","1080L","Grade 2 - 3","Grade 2 - 5","The National Football League is America's favorite sports league. Football is fast-paced and full of big hits and even bigger plays from its superstars. These players have set some impressive records over the years. From the amazing seasons running backs have had breaking the 2,000-yard rushing mark, or quarterbacks gunning for the single-season touchdown record, learning about the stats and facts that make up football’s history fun. Graphics and photographs show how the game's rules, equipment, and even its field have changed over the years, letting readers dive into the huddle and explore football at their own pace.","English",26.25,19.7,"796.332'64021--dc23","32 pp.","https://www.garethstevens.com/9781482439779",null,{"$f":"Table1[[#This Row],[QTY]]*Table1[[#This Row],['# Books]]","v":0},{"$f":"Table1[[#This Row],[QTY]]*Table1[[#This Row],[S&L Price]]","v":0}]
[null,null,null,"Fun Fact File: Women in History",1,"20 Fun Facts About Native American Women","eBook",null,"978-1-4824-2811-7",{"$f":"HYPERLINK(Table1[[#This Row],[eCommerce Hyperlink]],\"Book Weblink\")","v":"Book Weblink"},null,"2016","August 2015",null,null,"Author","Caitie McAneney",null,null,"30",null,"N","920L","Grade 2 - 3","Grade 2 - 5","Many people know that some Native American tribes are matrilineal. That means that historically, women had power in governance and some control in her home life. For the European patriarchs that came to North America, that was quite a shock! Through short, surprising, and often amusing facts, readers learn the role of Native American women in their tribes. Including tribes from across North America, the main content emphasizes their daily lives, clothing, and marriage customs, and introduces important female figures in history. A colorful layout and full-color photographs showcase the power of the Native American woman, a power that still resonates today.","English",26.25,19.7,"305.48","32 pp.","https://www.garethstevens.com/9781482428117",null,{"$f":"Table1[[#This Row],[QTY]]*Table1[[#This Row],['# Books]]","v":0},{"$f":"Table1[[#This Row],[QTY]]*Table1[[#This Row],[S&L Price]]","v":0}]
[null,null,null,"Fun Fact File: Women in History",1,"20 Fun Facts About Women in Ancient Greece and Rome","Library Bound Book",null,"978-1-4824-2818-6",{"$f":"HYPERLINK(Table1[[#This Row],[eCommerce Hyperlink]],\"Book Weblink\")","v":"Book Weblink"},null,"2016","August 2015","Library","8.500 X 8.500","Author","Kristen Rajczak Nelson",null,null,"30",null,"N","910L","Grade 2 - 3","Grade 2 - 5","In recent years, scholars have taken a closer look at the women of the ancient world and found poets, landowners, athletes, and more—not just wives. However, for most women, their household was their domain and their husband their master. Readers learn about both perspectives in an engaging format of fun facts, as well as about famous women in power, important goddesses, and many other interesting details of the time period. Historical images of women in ancient Greece and Rome and full-color photographs of the places they lived enhance curriculum-supporting content and graphic organizers that further explore important concepts.","English",26.25,19.7,"305.40938","32 pp.","https://www.garethstevens.com/9781482428186",null,{"$f":"Table1[[#This Row],[QTY]]*Table1[[#This Row],['# Books]]","v":0},{"$f":"Table1[[#This Row],[QTY]]*Table1[[#This Row],[S&L Price]]","v":0}]
[null,null,null,"Superheroes of Science",1,"Galileo: Conqueror of the Stars","Library Bound Book",null,"978-1-4824-3138-4",{"$f":"HYPERLINK(Table1[[#This Row],[eCommerce Hyperlink]],\"Book Weblink\")","v":"Book Weblink"},null,"2016","August 2015","Library","7.250 X 9.250","Author","Nancy Dickmann","7.1","1",null,null,"W","1070L","Grade 6","Grade 6 - 8","Questioning established knowledge isn’t usually a popular course of action. Galileo learned this throughout his life as he tested scientific theories using mathematical calculations. He challenged the Catholic Church and Aristotle, which got him into trouble, but also added him to the pantheon of great scientists. Readers learn all about Galileo’s most important discoveries through the story of his life, complete with historical images. Sidebars add detail and understandable explanations to the main content, including concepts such as the scientific method and the planets orbiting the sun.","English",32.950000000000003,24.7,"520","48 pp.","https://www.garethstevens.com/9781482431384",null,{"$f":"Table1[[#This Row],[QTY]]*Table1[[#This Row],['# Books]]","v":0},{"$f":"Table1[[#This Row],[QTY]]*Table1[[#This Row],[S&L Price]]","v":0}]
[null,null,null,"Superheroes of Science",1,"Mary Anning: Fossil Hunter","Library Bound Book",null,"978-1-4824-3146-9",{"$f":"HYPERLINK(Table1[[#This Row],[eCommerce Hyperlink]],\"Book Weblink\")","v":"Book Weblink"},null,"2016","August 2015","Library","7.250 X 9.250","Author","Robert Snedden","7.6","1",null,null,"W","1160L","Grade 6","Grade 6 - 8","In 2010, the Royal Society named Mary Anning one of the 10 British women most influential in the history of science. Though she wasn’t appreciated in her time because she was a woman, Anning certainly earned this distinction. Readers are introduced to one of the premier fossil hunters of 19th century England through biography, historic images, and detailed sidebars. Anning learned how to find and clean fossils from her father and began doing so when she was a child. With this in mind, readers can find inspiration—as well as interesting scientific content—in her story.","English",32.950000000000003,24.7,"560","48 pp.","https://www.garethstevens.com/9781482431469",null,{"$f":"Table1[[#This Row],[QTY]]*Table1[[#This Row],['# Books]]","v":0},{"$f":"Table1[[#This Row],[QTY]]*Table1[[#This Row],[S&L Price]]","v":0}]
[null,null,null,"Superheroes of Science",1,"Sir Isaac Newton: Overlord of Gravity","eBook",null,"978-1-4824-3155-1",{"$f":"HYPERLINK(Table1[[#This Row],[eCommerce Hyperlink]],\"Book Weblink\")","v":"Book Weblink"},null,"2016","August 2015",null,null,"Author","Angela Royston","7.4","1",null,null,"W","1110L","Grade 6","Grade 6 - 8","Most people know the story of Sir Issac Newton discovering gravity. An apple fell from a tree, hitting him on the head. However, Newton is also responsible for articulating the laws of motion and many early studies on light and color, including work with prisms. Learning about Newton’s life during his discoveries engages readers with the curiosity and hypotheses involved in scientific inquiry. Colorful photographs and historic images highlight important events and scientific fact as readers discover Newton and his many breakthroughs.","English",32.950000000000003,24.7,"530","48 pp.","https://www.garethstevens.com/9781482431551",null,{"$f":"Table1[[#This Row],[QTY]]*Table1[[#This Row],['# Books]]","v":0},{"$f":"Table1[[#This Row],[QTY]]*Table1[[#This Row],[S&L Price]]","v":0}]
[null,null,null,"Defend and Protect",1,"Police Force","eBook",null,"978-1-4824-4112-3",{"$f":"HYPERLINK(Table1[[#This Row],[eCommerce Hyperlink]],\"Book Weblink\")","v":"Book Weblink"},null,"2016","January 2016",null,null,"Author","Geoff Barker","6.9","1",null,null,"S","1030L","Grade 4 - 5","Grade 4 - 6","In this book, readers discover just what it takes to be a member of a law enforcement agency. This high-interest book covers many aspects of law enforcement, from 911 dispatch to investigating crimes, and everything in between. Readers can engage with mental and physical training techniques, and learn how to be a team player—a vital aspect of police work. This book closely examines what’s necessary to work in law enforcement, from physical requirements such as strength and stamina, to mental necessities such as honesty and commitment. Readers can also take a test to see if they can make the grade as a police officer.","English",32.950000000000003,24.7,"363.2--dc23","48 pp.","https://www.garethstevens.com/9781482441123",null,{"$f":"Table1[[#This Row],[QTY]]*Table1[[#This Row],['# Books]]","v":0},{"$f":"Table1[[#This Row],[QTY]]*Table1[[#This Row],[S&L Price]]","v":0}]
[null,null,null,"Defend and Protect",1,"The Army","eBook",null,"978-1-4824-4122-2",{"$f":"HYPERLINK(Table1[[#This Row],[eCommerce Hyperlink]],\"Book Weblink\")","v":"Book Weblink"},null,"2016","January 2016",null,null,"Author","Sarah Levete","6.7","1",null,null,"S","980L","Grade 4 - 5","Grade 4 - 6","Some men and women in the armed forces shoot right to the top. Special Forces are the elite troops who work alone or in small teams on special and dangerous missions around the world. These high-caliber troops are the best of the best. Green Berets, Delta Force, Navy SEALs, and others perform and engage in secret unseen missions. From training programs and tests through the missions themselves, this book introduces readers to the adventurous and action-filled world of Special Forces, and highlights what it takes to be a part of this exclusive team.","English",32.950000000000003,24.7,"355.00973--dc23","48 pp.","https://www.garethstevens.com/9781482441222",null,{"$f":"Table1[[#This Row],[QTY]]*Table1[[#This Row],['# Books]]","v":0},{"$f":"Table1[[#This Row],[QTY]]*Table1[[#This Row],[S&L Price]]","v":0}]
[null,null,null,"Fact or Phony?",1,"The Fact or Fiction Behind Animals","Library Bound Book",null,"978-1-4824-4276-2",{"$f":"HYPERLINK(Table1[[#This Row],[eCommerce Hyperlink]],\"Book Weblink\")","v":"Book Weblink"},null,"2016","January 2016","Library","6.000 X 9.000","Author","Paul Mason",null,null,null,null,"R",null,"Grade 5 - 6","Grade 4 - 6","The world is full of amazing animals, but some “facts” about them often seem too strange to be true. Do goldfish really have short memories? Is cow flatulence really ruining the ozone layer? This book takes a magnifying glass to some of the wildest things people say about animals to find the truth behind the exaggerations, misunderstandings, or even lies we accidentally spread as fact. Fact boxes throughout the book help readers separate the facts from fiction, and entertaining cartoons and illustrations add to the animal fun.","English",34.25,25.7,"590--dc23","96 pp.","https://www.garethstevens.com/9781482442762",null,{"$f":"Table1[[#This Row],[QTY]]*Table1[[#This Row],['# Books]]","v":0},{"$f":"Table1[[#This Row],[QTY]]*Table1[[#This Row],[S&L Price]]","v":0}]
[null,null,null,"Fact or Phony?",1,"The Fact or Fiction Behind Animals","eBook",null,"978-1-4824-4278-6",{"$f":"HYPERLINK(Table1[[#This Row],[eCommerce Hyperlink]],\"Book Weblink\")","v":"Book Weblink"},null,"2016","January 2016",null,null,"Author","Paul Mason",null,null,null,null,"R",null,"Grade 5 - 6","Grade 4 - 6","The world is full of amazing animals, but some “facts” about them often seem too strange to be true. Do goldfish really have short memories? Is cow flatulence really ruining the ozone layer? This book takes a magnifying glass to some of the wildest things people say about animals to find the truth behind the exaggerations, misunderstandings, or even lies we accidentally spread as fact. Fact boxes throughout the book help readers separate the facts from fiction, and entertaining cartoons and illustrations add to the animal fun.","English",34.25,25.7,"590--dc23","96 pp.","https://www.garethstevens.com/9781482442786",null,{"$f":"Table1[[#This Row],[QTY]]*Table1[[#This Row],['# Books]]","v":0},{"$f":"Table1[[#This Row],[QTY]]*Table1[[#This Row],[S&L Price]]","v":0}]
[null,null,null,"Fact or Phony?",1,"The Fact or Fiction Behind Shakespeare","Library Bound Book",null,"978-1-4824-4277-9",{"$f":"HYPERLINK(Table1[[#This Row],[eCommerce Hyperlink]],\"Book Weblink\")","v":"Book Weblink"},null,"2016","January 2016","Library","6.000 X 9.000","Author","Kay Barnham",null,null,null,null,"R",null,"Grade 5 - 6","Grade 4 - 6","William Shakespeare wrote some of the most famous plays in history, but there is plenty of misinformation about his life and times. This book dives into those so-called “facts” and discovers what’s real and what’s fake with entertaining ease. Did Shakespeare really burn down the Globe Theatre? Did he write all of his plays on his own? Brilliant fact boxes help provide historical context to Shakespeare’s life and works, while “The Bard’s Best Bits” add Shakespeare quotes and phrases we still use in everyday life to this day.","English",34.25,25.7,"822.33--dc23","96 pp.","https://www.garethstevens.com/9781482442779",null,{"$f":"Table1[[#This Row],[QTY]]*Table1[[#This Row],['# Books]]","v":0},{"$f":"Table1[[#This Row],[QTY]]*Table1[[#This Row],[S&L Price]]","v":0}]
[null,null,null,"Fact or Phony?",1,"The Fact or Fiction Behind Urban Myths","eBook",null,"978-1-4824-4275-5",{"$f":"HYPERLINK(Table1[[#This Row],[eCommerce Hyperlink]],\"Book Weblink\")","v":"Book Weblink"},null,"2016","January 2016",null,null,"Author","Paul Mason",null,null,null,null,"T","1000L","Grade 5 - 6","Grade 4 - 6","There are urban myths about all kinds of different things, but how many of these myths are actually true? This book takes a look at many different myths, exploring their origins and assigning a “fact” or “phony” label to each after careful evaluation. Fun fact boxes and amusing cartoons and illustrations help explore common beliefs—can people get sucked out of an airplane bathroom’s toilet? Do human fingernails keep growing after a person dies? The only way to find the truth is to keep turning the page!","English",34.25,25.7,"001.9'6--dc23","96 pp.","https://www.garethstevens.com/9781482442755",null,{"$f":"Table1[[#This Row],[QTY]]*Table1[[#This Row],['# Books]]","v":0},{"$f":"Table1[[#This Row],[QTY]]*Table1[[#This Row],[S&L Price]]","v":0}]
[null,null,null,"Silly Stories",1,"How the Dragon Was Tricked and Other Silly Stories","Library Bound Book",null,"978-1-4824-4189-5",{"$f":"HYPERLINK(Table1[[#This Row],[eCommerce Hyperlink]],\"Book Weblink\")","v":"Book Weblink"},null,"2016","January 2016","Library","6.500 X 9.125","Compiled by","Vic Parker","4.6","1",null,null,"N","820L","Grade 2 - 3","Grade 2 - 5","To the cunning young man in “How the Dragon Was Tricked,” duping a dragon is easy and fooling a king is even easier! The magic and fun of this story, as well as in “Buttercup,” “Wishing for Wings,” and “The Lad and the Devil,” engage readers with the language arts curriculum’s focus on creative word choice and storytelling. Full-color illustrations make scenes from each of the fanciful tales real, while readers’ imaginations are sparked to fill in the rest.","English",32.950000000000003,24.7,"398.2--dc23","40 pp.","https://www.garethstevens.com/9781482441895",null,{"$f":"Table1[[#This Row],[QTY]]*Table1[[#This Row],['# Books]]","v":0},{"$f":"Table1[[#This Row],[QTY]]*Table1[[#This Row],[S&L Price]]","v":0}]
[null,null,null,"Silly Stories",1,"The Blind Men and the Elephant and Other Silly Stories","eBook",null,"978-1-4824-4198-7",{"$f":"HYPERLINK(Table1[[#This Row],[eCommerce Hyperlink]],\"Book Weblink\")","v":"Book Weblink"},null,"2016","January 2016",null,null,"Compiled by","Vic Parker","5.1","1",null,null,"N","980L","Grade 2 - 3","Grade 2 - 5","\"The Blind Men and the Elephant\" is more than just an amusing tale. It offers readers a final, meaningful thought; neither someone who is blind nor someone who can see well can truly judge the whole when only knowing part of it. \"The Simpleton,\" \"The Foolish Weaver,\" and \"The Field of Boliauns\" engage readers’ imaginations further, providing amusement as well as showcasing storytelling conventions, such as tone and creative word choice, that are part of the Common Core language arts curriculum. Illustrations complement each tale with colorful interpretations of characters and events.","English",32.950000000000003,24.7,"398.2--dc23","40 pp.","https://www.garethstevens.com/9781482441987",null,{"$f":"Table1[[#This Row],[QTY]]*Table1[[#This Row],['# Books]]","v":0},{"$f":"Table1[[#This Row],[QTY]]*Table1[[#This Row],[S&L Price]]","v":0}]
[null,null,null,"Silly Stories",1,"The Musicians of Bremen and Other Silly Stories","eBook",null,"978-1-4824-4210-6",{"$f":"HYPERLINK(Table1[[#This Row],[eCommerce Hyperlink]],\"Book Weblink\")","v":"Book Weblink"},null,"2016","January 2016",null,null,"Compiled by","Vic Parker","5.2","1",null,null,"N","1040L","Grade 2 - 3","Grade 2 - 5","The Brothers Grimm are often thought of when discussing fairy tales, especially the dark and gruesome parts that have been left out in more modern retellings. However, their writing can be lighthearted, too, as evidenced in the whimsy of the both “The Musicians of Bremen” and “The Three Spinsters.” Along with “The Stone Soup” and “The Greedy Brownie,” these stories offer readers a chance to exercise their imagination with talking animals, fantastic settings, and more. Colorful illustrations accompany each silly story, adding additional bits of amusement.","English",32.950000000000003,24.7,"398.2'0943'0452--dc23","40 pp.","https://www.garethstevens.com/9781482442106",null,{"$f":"Table1[[#This Row],[QTY]]*Table1[[#This Row],['# Books]]","v":0},{"$f":"Table1[[#This Row],[QTY]]*Table1[[#This Row],[S&L Price]]","v":0}]
[null,null,null,"Silly Stories",1,"The Remarkable Rocket and Other Silly Stories","eBook",null,"978-1-4824-4218-2",{"$f":"HYPERLINK(Table1[[#This Row],[eCommerce Hyperlink]],\"Book Weblink\")","v":"Book Weblink"},null,"2016","January 2016",null,null,"Compiled by","Vic Parker","4.6","1",null,null,"N","720L","Grade 2 - 3","Grade 2 - 5","Tales of princes and princesses are common in fantasy stories. But what makes “The Remarkable Rocket” particularly silly isn’t the royal wedding—it’s the fireworks chatter and personality that put it over the top! Colorful illustrations show the rocket and his fiery friends in great detail, inspiring readers’ imaginations as they continue to page through this book’s full-color illustrations throughout. “Mr. Vinegar,” “The Moon-Cake,” and “A Visitor from Paradise” offer readers additional opportunities to imagine strange characters and fanciful events.","English",32.950000000000003,24.7,"398.2--dc23","40 pp.","https://www.garethstevens.com/9781482442182",null,{"$f":"Table1[[#This Row],[QTY]]*Table1[[#This Row],['# Books]]","v":0},{"$f":"Table1[[#This Row],[QTY]]*Table1[[#This Row],[S&L Price]]","v":0}]
[null,null,null,"Scary Fairy Tales",1,"The Demon with the Matted Hair and Other Stories","eBook",null,"978-1-4824-3075-2",{"$f":"HYPERLINK(Table1[[#This Row],[eCommerce Hyperlink]],\"Book Weblink\")","v":"Book Weblink"},null,"2016","August 2015",null,null,"Edited by","Vic Parker","5.5","1",null,null,"R",null,"Grade 3 - 4","Grade 3 - 5","“Rapunzel” and “Cinderella” have both been imagined as movies with happy endings and positive morals. However, both stories began as haunting fairy tales long ago. In “Rushen Coatie,” a similar story to “Cinderella,” the wicked stepsisters don’t just end up without the prince, their toes are cut off! And Rapunzel’s witch? She sends Rapunzel to live in the desert! Though old, these tales will enthrall readers familiar with happier fairy tales and stimulate their imaginations with full-color images and illustrations. Other dark fairy tales from around the world, including \"The Dragon of the North\" and \"The Demon with the Matted Hair,\"  introduce readers to new tales of terror and woe.","English",32.950000000000003,24.7,"398.2","40 pp.","https://www.garethstevens.com/9781482430752",null,{"$f":"Table1[[#This Row],[QTY]]*Table1[[#This Row],['# Books]]","v":0},{"$f":"Table1[[#This Row],[QTY]]*Table1[[#This Row],[S&L Price]]","v":0}]
[null,null,null,"Scary Fairy Tales",1,"The Ogre of Rashomon and Other Stories","Library Bound Book",null,"978-1-4824-3094-3",{"$f":"HYPERLINK(Table1[[#This Row],[eCommerce Hyperlink]],\"Book Weblink\")","v":"Book Weblink"},null,"2016","August 2015","Library","6.500 X 9.125","Edited by","Vic Parker","5.4","1",null,null,"R",null,"Grade 3 - 4","Grade 3 - 5","When an ogress kills a man’s two brothers, he sets out to find out what happened. Though beginning with this frightening premise, the tale “Tritill, Litill, and the Birds” teaches readers not about defeating an ogress, but about the benefits of being kind to those in need. This and other stories introduce readers to more traditional fairy tales that don’t always end happily. Full-color images and illustrations draw readers into a world of dark fantasy as \"The Sprightly Tailer,\" \"The Ogre of Rashoman,\" and \"The Gifts of the Little People\" demonstrate the skill and imagination needed to tell a good tale.","English",32.950000000000003,24.7,"398.2","40 pp.","https://www.garethstevens.com/9781482430943",null,{"$f":"Table1[[#This Row],[QTY]]*Table1[[#This Row],['# Books]]","v":0},{"$f":"Table1[[#This Row],[QTY]]*Table1[[#This Row],[S&L Price]]","v":0}]
[null,null,null,"Scary Fairy Tales",1,"The Rat Catcher and Other Stories","Library Bound Book",null,"978-1-4824-3102-5",{"$f":"HYPERLINK(Table1[[#This Row],[eCommerce Hyperlink]],\"Book Weblink\")","v":"Book Weblink"},null,"2016","August 2015","Library","6.500 X 9.125","Edited by","Vic Parker","5.5","1",null,null,"S",null,"Grade 3 - 4","Grade 3 - 5","What could be more terrifying than a city crawling with rats? In \"The Ratcatcher,\" a story eerily similar to the legend of the Piped Piper, readers are taken to an old German town where that's exactly the problem. However, by the end of the tale, it isn't just the rats that have disappeared...where are all the town's children? This and other terrible tales are accompanied by full-color images and illustrations that add some beauty to otherwise dark literary worlds. The fire of readers' imaginations will be lit as they encounter unforgettable storytelling in \"Gold-tree and Silver-tree,\" \"The Devil and his Grandmother,\" and \"The King Who Would See Paradise.\"","English",32.950000000000003,24.7,"398.2","40 pp.","https://www.garethstevens.com/9781482431025",null,{"$f":"Table1[[#This Row],[QTY]]*Table1[[#This Row],['# Books]]","v":0},{"$f":"Table1[[#This Row],[QTY]]*Table1[[#This Row],[S&L Price]]","v":0}]
[null,null,null,"Bloopers of Invention",1,"The Problem with Early Cameras","Library Bound Book",null,"978-1-4824-2758-5",{"$f":"HYPERLINK(Table1[[#This Row],[eCommerce Hyperlink]],\"Book Weblink\")","v":"Book Weblink"},null,"2016","August 2015","Library","8.500 X 8.500","Author","Ryan Nagelhout",null,null,null,null,"N","960L","Grade 2 - 3","Grade 2 - 5","Early commercial cameras were big, boxy, and you had to actually give your camera back to the camera maker to develop your photos. Before that, making photographs was actually even more difficult. Complex chemicals and long hours in darkrooms were required to develop even a single shot. Readers take a journey through photography’s history,  from solutions and glass plates to point-and-shoot cameras. The story is complex and amazing—just the like the cameras we use today.","English",23.6,17.7,"770","24 pp.","https://www.garethstevens.com/9781482427585",null,{"$f":"Table1[[#This Row],[QTY]]*Table1[[#This Row],['# Books]]","v":0},{"$f":"Table1[[#This Row],[QTY]]*Table1[[#This Row],[S&L Price]]","v":0}]
[null,null,null,"Bloopers of Invention",1,"The Problem with Early Clocks","eBook",null,"978-1-4824-2771-4",{"$f":"HYPERLINK(Table1[[#This Row],[eCommerce Hyperlink]],\"Book Weblink\")","v":"Book Weblink"},null,"2016","August 2015",null,null,"Author","Ryan Nagelhout",null,null,null,null,"N","910L","Grade 2 - 3","Grade 2 - 5","Telling time wasn’t always as easy as looking at a cell phone. Clocks are incredibly complex machines that help make sure we’re on time for school and many other tasks in our everyday lives. But how did we learn how to tell time? What amazing minds learned how to make machines that helped us keep track of the days, hours, and minutes? From the early time-telling methods of Egyptian sun clocks and ancient Greek water clocks to the earliest watchmakers and today’s super accurate atomic clicks, telling time has been one of the many amazing things humans have learned to do.","English",23.6,17.7,"681.1","24 pp.","https://www.garethstevens.com/9781482427714",null,{"$f":"Table1[[#This Row],[QTY]]*Table1[[#This Row],['# Books]]","v":0},{"$f":"Table1[[#This Row],[QTY]]*Table1[[#This Row],[S&L Price]]","v":0}]
[null,null,null,"Bloopers of Invention",1,"The Problem with Early Computers","eBook",null,"978-1-4824-2775-2",{"$f":"HYPERLINK(Table1[[#This Row],[eCommerce Hyperlink]],\"Book Weblink\")","v":"Book Weblink"},null,"2016","August 2015",null,null,"Author","Ryan Nagelhout",null,null,null,null,"N","1010L","Grade 2 - 3","Grade 2 - 5","Computer technology has come a long way from the machines that took hours to do even simple tasks. The history of computing is full of computers that were the size of a room and did very little. Years of technological developments have helped turn those giant machines into tiny machines that put the world at our fingertips, but it certainly wasn’t easy. From power failures to broken parts and wacky inventions doomed to fail, readers discover that the history of computers is filled with outrageous bloopers and pitfalls that eventually led to the technology we take for granted today.","English",23.6,17.7,"004.09","24 pp.","https://www.garethstevens.com/9781482427752",null,{"$f":"Table1[[#This Row],[QTY]]*Table1[[#This Row],['# Books]]","v":0},{"$f":"Table1[[#This Row],[QTY]]*Table1[[#This Row],[S&L Price]]","v":0}]
[null,null,null,"Bloopers of Invention",1,"The Problem with Early Navigation Tools","Library Bound Book",null,"978-1-4824-2778-3",{"$f":"HYPERLINK(Table1[[#This Row],[eCommerce Hyperlink]],\"Book Weblink\")","v":"Book Weblink"},null,"2016","August 2015","Library","8.500 X 8.500","Author","Ryan Nagelhout",null,null,null,null,"N","980L","Grade 2 - 3","Grade 2 - 5","It’s fascinating to think about how people ever found their way around. For instance, how did people navigate hundreds or even thousands of years ago? They likely didn’t ask for directions, as they were all alone trying to explore uncharted territory. We’ve come a long way with navigation tools, whether it’s simply following a map or something a bit more advanced. Readers discover the history of navigation, from using the sun or stars to help find the way to advanced technology like GPS. This book demonstrates how important it is to learn from the mistakes and wrong turns—only bloopers and follies have helped us develop reliable methods to find our way home!","English",23.6,17.7,"623.89028'4--dc23","24 pp.","https://www.garethstevens.com/9781482427783",null,{"$f":"Table1[[#This Row],[QTY]]*Table1[[#This Row],['# Books]]","v":0},{"$f":"Table1[[#This Row],[QTY]]*Table1[[#This Row],[S&L Price]]","v":0}]
[null,null,null,"Gems: Nature's Jewels",1,"Amethysts","eBook",null,"978-1-4824-2859-9",{"$f":"HYPERLINK(Table1[[#This Row],[eCommerce Hyperlink]],\"Book Weblink\")","v":"Book Weblink"},null,"2016","August 2015",null,null,"Author","Emily Mahoney","5.4","0.5","24",null,"L","930L","Grade 2 - 3","Grade 2 - 5","The amethyst has been a desirable gem for thousands of years. Today, the purple stones are mined all over the world and set into brilliant jewelry. Readers learn the geologic process that creates an amethyst as well as how the presence of iron or manganese may contribute to its color. Interesting fact boxes add even more detail to the main content, which covers topics supportive of the science and social studies curriculums. Full-color photographs bring readers close to this precious gem both polished and set and in its natural state inside a geode.","English",23.6,17.7,"553.8","24 pp.","https://www.garethstevens.com/9781482428599",null,{"$f":"Table1[[#This Row],[QTY]]*Table1[[#This Row],['# Books]]","v":0},{"$f":"Table1[[#This Row],[QTY]]*Table1[[#This Row],[S&L Price]]","v":0}]
[null,null,null,"Gems: Nature's Jewels",1,"Pearls","eBook",null,"978-1-4824-2871-1",{"$f":"HYPERLINK(Table1[[#This Row],[eCommerce Hyperlink]],\"Book Weblink\")","v":"Book Weblink"},null,"2016","August 2015",null,null,"Author","Sarah Machajewski","4.9","0.5","24",null,"L","860L","Grade 2 - 3","Grade 2 - 5","Some historians believe Julius Caesar conquered Great Britain partly to have better access to locations where pearls were found. European explorers found Native Americans wearing pearls, too. These gems have been valued for thousands of years. Readers are introduced to how pearls are made, the difference between naturally formed pearls and cultured pearls, and even how to tell a fake pearl from a real one! Full-color images showcase the luster and beauty of pearls as the main content and interesting fact boxes highlight the geological, historical, and scientific studies of pearls.","English",23.6,17.7,"639.412","24 pp.","https://www.garethstevens.com/9781482428711",null,{"$f":"Table1[[#This Row],[QTY]]*Table1[[#This Row],['# Books]]","v":0},{"$f":"Table1[[#This Row],[QTY]]*Table1[[#This Row],[S&L Price]]","v":0}]
[null,null,null,"Real-Life Vampires",1,"Bloodsucking Fleas and Ticks","Library Bound Book",null,"978-1-4824-3945-8",{"$f":"HYPERLINK(Table1[[#This Row],[eCommerce Hyperlink]],\"Book Weblink\")","v":"Book Weblink"},null,"2016","January 2016","Library","8.500 X 8.500","Author","Christine Honders","4.7","0.5",null,null,"M",null,"Grade 2 - 3","Grade 2 - 5","Ticks have been long known to transmit Lyme disease. However, there are more than 800 species of tick, and only two of these carry disease to humans at all! That doesn't stop tick bites from being a great annoyance, especially considering they're caused by a tick sucking your blood! Often grouped with another real-life vampire, the flea, ticks use this blood to complete their life cycle while fleas use it for food. Surprising facts about the life cycle, habitat, and feeding habits of these bugs engage readers while full-color photographs bring these tiny creatures into clear view.","English",23.6,17.7,"595--dc23","24 pp.","https://www.garethstevens.com/9781482439458",null,{"$f":"Table1[[#This Row],[QTY]]*Table1[[#This Row],['# Books]]","v":0},{"$f":"Table1[[#This Row],[QTY]]*Table1[[#This Row],[S&L Price]]","v":0}]
[null,null,null,"Real-Life Vampires",1,"Bloodsucking Leeches","Library Bound Book",null,"978-1-4824-3953-3",{"$f":"HYPERLINK(Table1[[#This Row],[eCommerce Hyperlink]],\"Book Weblink\")","v":"Book Weblink"},null,"2016","January 2016","Library","8.500 X 8.500","Author","Tayler Cole","4.9","0.5",null,null,"M",null,"Grade 2 - 3","Grade 2 - 5","There are over 650 different types of leeches, and most want to suck your blood! These real-life vampires are nocturnal, like dark places, and only come out when they get thirsty. But can these bloodsuckers actually help humans? The ancient Egyptians may have been on to something. Readers learn about the habitats, history, and medical uses of the bloodsucking leech. Full-color photographs offer an up close view of these thirsty worms, and fact boxes share more details about their fascinating lives.","English",23.6,17.7,"592'.66--dc23","24 pp.","https://www.garethstevens.com/9781482439533",null,{"$f":"Table1[[#This Row],[QTY]]*Table1[[#This Row],['# Books]]","v":0},{"$f":"Table1[[#This Row],[QTY]]*Table1[[#This Row],[S&L Price]]","v":0}]
[null,null,null,"Things That Sting",1,"Hornets","Library Bound Book",null,"978-1-4824-1698-5",{"$f":"HYPERLINK(Table1[[#This Row],[eCommerce Hyperlink]],\"Book Weblink\")","v":"Book Weblink"},null,"2016","August 2015","Library","8.500 X 8.500","Author","Amy Hayes","4.7","0.5","28",null,"M","890L","Grade 2 - 3","Grade 2 - 5","There are many insects that can—and will—sting when they feel threatened. However, many types can only sting once and their stinger is lost in whatever has been stung. Not the hornet! Hornets have a smooth, supersharp stinger that can be used over and over. That’s not the only danger these insects pose—and readers can learn all about it. Full-color photographs allow readers a closer look at an insect better left alone in the wild. Fun fact boxes and a colorful layout augment science content, including the hornet’s stinging behavior and the building of their nests.","English",23.6,17.7,"595.79","24 pp.","https://www.garethstevens.com/9781482416985",null,{"$f":"Table1[[#This Row],[QTY]]*Table1[[#This Row],['# Books]]","v":0},{"$f":"Table1[[#This Row],[QTY]]*Table1[[#This Row],[S&L Price]]","v":0}]
[null,null,null,"Things That Sting",1,"Killer Bees","eBook",null,"978-1-4824-1709-8",{"$f":"HYPERLINK(Table1[[#This Row],[eCommerce Hyperlink]],\"Book Weblink\")","v":"Book Weblink"},null,"2016","August 2015",null,null,"Author","Sarah Machajewski","4.3","0.5","28",null,"M","830L","Grade 2 - 3","Grade 2 - 5","Africanized honeybees were created when some African honeybees escaped a research area in Brazil. They then bred with local European honeybees, and their offspring inherited some pretty scary traits. Now these killer bees have migrated to the United States, and readers may even encounter them! Information about the aggressive nature of these stinging creatures can help readers stay safe if they find themselves near a hive. Full-color photographs show swarming behavior and what venomous stingers look like up close, since it’s ill advised for readers to get near them in real life!","English",23.6,17.7,"595.79","24 pp.","https://www.garethstevens.com/9781482417098",null,{"$f":"Table1[[#This Row],[QTY]]*Table1[[#This Row],['# Books]]","v":0},{"$f":"Table1[[#This Row],[QTY]]*Table1[[#This Row],[S&L Price]]","v":0}]
[null,null,null,"Things That Sting",1,"Sea Anemones","Library Bound Book",null,"978-1-4824-1710-4",{"$f":"HYPERLINK(Table1[[#This Row],[eCommerce Hyperlink]],\"Book Weblink\")","v":"Book Weblink"},null,"2016","August 2015","Library","8.500 X 8.500","Author","Walter LaPlante","4.6","0.5","28",null,"M","880L","Grade 2 - 3","Grade 2 - 5","Even the most inactive animals can be dangerous! The deadly stinging tentacles of the sea anemone are useful and multifunctional. They’re used to kill and capture food, keep predators away, and protect territory. Readers dive deep into the world of these fascinating invertebrates, learning many facts, including details about their body structure and their symbiotic relationship with clown fish. Brightly colored photographs showcase the beauty of the sea anemone and its marine environment. Fact boxes add even more information to main content that supports the science curriculum.","English",23.6,17.7,"975.3","24 pp.","https://www.garethstevens.com/9781482417104",null,{"$f":"Table1[[#This Row],[QTY]]*Table1[[#This Row],['# Books]]","v":0},{"$f":"Table1[[#This Row],[QTY]]*Table1[[#This Row],[S&L Price]]","v":0}]
[null,null,null,"Things That Sting",1,"Sea Anemones","eBook",null,"978-1-4824-1713-5",{"$f":"HYPERLINK(Table1[[#This Row],[eCommerce Hyperlink]],\"Book Weblink\")","v":"Book Weblink"},null,"2016","August 2015",null,null,"Author","Walter LaPlante","4.6","0.5","28",null,"M","880L","Grade 2 - 3","Grade 2 - 5","Even the most inactive animals can be dangerous! The deadly stinging tentacles of the sea anemone are useful and multifunctional. They’re used to kill and capture food, keep predators away, and protect territory. Readers dive deep into the world of these fascinating invertebrates, learning many facts, including details about their body structure and their symbiotic relationship with clown fish. Brightly colored photographs showcase the beauty of the sea anemone and its marine environment. Fact boxes add even more information to main content that supports the science curriculum.","English",23.6,17.7,"975.3","24 pp.","https://www.garethstevens.com/9781482417135",null,{"$f":"Table1[[#This Row],[QTY]]*Table1[[#This Row],['# Books]]","v":0},{"$f":"Table1[[#This Row],[QTY]]*Table1[[#This Row],[S&L Price]]","v":0}]
[null,null,null,"Things That Sting",1,"Sea Urchins","Library Bound Book",null,"978-1-4824-1718-0",{"$f":"HYPERLINK(Table1[[#This Row],[eCommerce Hyperlink]],\"Book Weblink\")","v":"Book Weblink"},null,"2016","August 2015","Library","8.500 X 8.500","Author","Michael Rajczak","4.6","0.5","28",null,"M","880L","Grade 2 - 3","Grade 2 - 5","Spiny, small, and edible, sea urchins are found in oceans all over the world. Their spines can be long or short and can cause great injury in their own right. In addition, some sea urchins’ spines are venomous. Divers are familiar with how to deal with a sea urchin sting, and readers will be, too. From why sea urchins sting to the rest of their body structures, this volume’s science content gives a great overview of this fascinating creature. Full-color photographs take readers into the ocean to see sea urchins up close—but not close enough that they’ll get stung.","English",23.6,17.7,"593.9","24 pp.","https://www.garethstevens.com/9781482417180",null,{"$f":"Table1[[#This Row],[QTY]]*Table1[[#This Row],['# Books]]","v":0},{"$f":"Table1[[#This Row],[QTY]]*Table1[[#This Row],[S&L Price]]","v":0}]
[null,null,null,"Things That Sting",1,"Sea Urchins","eBook",null,"978-1-4824-1721-0",{"$f":"HYPERLINK(Table1[[#This Row],[eCommerce Hyperlink]],\"Book Weblink\")","v":"Book Weblink"},null,"2016","August 2015",null,null,"Author","Michael Rajczak","4.6","0.5","28",null,"M","880L","Grade 2 - 3","Grade 2 - 5","Spiny, small, and edible, sea urchins are found in oceans all over the world. Their spines can be long or short and can cause great injury in their own right. In addition, some sea urchins’ spines are venomous. Divers are familiar with how to deal with a sea urchin sting, and readers will be, too. From why sea urchins sting to the rest of their body structures, this volume’s science content gives a great overview of this fascinating creature. Full-color photographs take readers into the ocean to see sea urchins up close—but not close enough that they’ll get stung.","English",23.6,17.7,"593.9","24 pp.","https://www.garethstevens.com/9781482417210",null,{"$f":"Table1[[#This Row],[QTY]]*Table1[[#This Row],['# Books]]","v":0},{"$f":"Table1[[#This Row],[QTY]]*Table1[[#This Row],[S&L Price]]","v":0}]
[null,null,null,"Zombie Animals: Parasites Take Control!",1,"Zombie Ants","Library Bound Book",null,"978-1-4824-2830-8",{"$f":"HYPERLINK(Table1[[#This Row],[eCommerce Hyperlink]],\"Book Weblink\")","v":"Book Weblink"},null,"2016","August 2015","Library","8.500 X 8.500","Author","Frances Nagle","5.2","0.5","28",null,"M",null,"Grade 2 - 3","Grade 2 - 5","Ants are known for being industrious insects. They follow set paths to find food and are often seen walking in a straight line. If you follow them, they’ll lead you right back to their nest. When scientists found ants that were walking off course in tropical forests, they knew something was wrong. Readers learn all the latest information about these fascinating zombie ants, including what causes their strange behavior and what threat it poses to their species. Full-color photographs show the deadly end of these ants, and fact boxes offer more details about a rare parasitic phenomenon.","English",23.6,17.7,"578.6","24 pp.","https://www.garethstevens.com/9781482428308",null,{"$f":"Table1[[#This Row],[QTY]]*Table1[[#This Row],['# Books]]","v":0},{"$f":"Table1[[#This Row],[QTY]]*Table1[[#This Row],[S&L Price]]","v":0}]
[null,null,null,"Zombie Animals: Parasites Take Control!",1,"Zombie Ants","eBook",null,"978-1-4824-2831-5",{"$f":"HYPERLINK(Table1[[#This Row],[eCommerce Hyperlink]],\"Book Weblink\")","v":"Book Weblink"},null,"2016","August 2015",null,null,"Author","Frances Nagle","5.2","0.5","28",null,"M",null,"Grade 2 - 3","Grade 2 - 5","Ants are known for being industrious insects. They follow set paths to find food and are often seen walking in a straight line. If you follow them, they’ll lead you right back to their nest. When scientists found ants that were walking off course in tropical forests, they knew something was wrong. Readers learn all the latest information about these fascinating zombie ants, including what causes their strange behavior and what threat it poses to their species. Full-color photographs show the deadly end of these ants, and fact boxes offer more details about a rare parasitic phenomenon.","English",23.6,17.7,"578.6","24 pp.","https://www.garethstevens.com/9781482428315",null,{"$f":"Table1[[#This Row],[QTY]]*Table1[[#This Row],['# Books]]","v":0},{"$f":"Table1[[#This Row],[QTY]]*Table1[[#This Row],[S&L Price]]","v":0}]
[null,null,null,"Zombie Animals: Parasites Take Control!",1,"Zombie Caterpillars","Library Bound Book",null,"978-1-4824-2834-6",{"$f":"HYPERLINK(Table1[[#This Row],[eCommerce Hyperlink]],\"Book Weblink\")","v":"Book Weblink"},null,"2016","August 2015","Library","8.500 X 8.500","Author","Frances Nagle","5.4","0.5","28",null,"M",null,"Grade 2 - 3","Grade 2 - 5","Birds, spiders, and other insects all like to eat caterpillars. But some kinds of caterpillars face a scarier threat: predators that take control of them! Readers learn all about parasites, specifically those that make zombies out of their caterpillar prey. Full-color photographs show these parasites in action, from the gross emergence of wasp larvae to the disgusting liquefaction of dead caterpillars by a nasty virus. Fascinating fact boxes engage readers with a host of details fit for a horror movie—even though they could happen right in your backyard!","English",23.6,17.7,"595.7813","24 pp.","https://www.garethstevens.com/9781482428346",null,{"$f":"Table1[[#This Row],[QTY]]*Table1[[#This Row],['# Books]]","v":0},{"$f":"Table1[[#This Row],[QTY]]*Table1[[#This Row],[S&L Price]]","v":0}]
[null,null,null,"Zombie Animals: Parasites Take Control!",1,"Zombie Caterpillars","eBook",null,"978-1-4824-2835-3",{"$f":"HYPERLINK(Table1[[#This Row],[eCommerce Hyperlink]],\"Book Weblink\")","v":"Book Weblink"},null,"2016","August 2015",null,null,"Author","Frances Nagle","5.4","0.5","28",null,"M",null,"Grade 2 - 3","Grade 2 - 5","Birds, spiders, and other insects all like to eat caterpillars. But some kinds of caterpillars face a scarier threat: predators that take control of them! Readers learn all about parasites, specifically those that make zombies out of their caterpillar prey. Full-color photographs show these parasites in action, from the gross emergence of wasp larvae to the disgusting liquefaction of dead caterpillars by a nasty virus. Fascinating fact boxes engage readers with a host of details fit for a horror movie—even though they could happen right in your backyard!","English",23.6,17.7,"595.7813","24 pp.","https://www.garethstevens.com/9781482428353",null,{"$f":"Table1[[#This Row],[QTY]]*Table1[[#This Row],['# Books]]","v":0},{"$f":"Table1[[#This Row],[QTY]]*Table1[[#This Row],[S&L Price]]","v":0}]
[null,null,null,"Zombie Animals: Parasites Take Control!",1,"Zombie Crabs","Library Bound Book",null,"978-1-4824-2838-4",{"$f":"HYPERLINK(Table1[[#This Row],[eCommerce Hyperlink]],\"Book Weblink\")","v":"Book Weblink"},null,"2016","August 2015","Library","8.500 X 8.500","Author","Jolene Alessi","5","0.5","28",null,"M",null,"Grade 2 - 3","Grade 2 - 5","A parasite exists that can make a male crab believe it’s a female crab. It forces the crab it infects to care for parasite eggs and even help release the larvae into the ocean to infect other crabs! These zombie crabs are never aware that they are infected nor do they harm the parasite. A fascinating look at the parasite-host relationship, this volume will keep readers turning pages with great interest. Full-color photographs of infected crabs offer captivating examples of how the parasite takes over the crab’s body, while the main content also includes how it takes over the crab’s mind.","English",23.6,17.7,"578.6","24 pp.","https://www.garethstevens.com/9781482428384",null,{"$f":"Table1[[#This Row],[QTY]]*Table1[[#This Row],['# Books]]","v":0},{"$f":"Table1[[#This Row],[QTY]]*Table1[[#This Row],[S&L Price]]","v":0}]
[null,null,null,"Zombie Animals: Parasites Take Control!",1,"Zombie Crabs","eBook",null,"978-1-4824-2839-1",{"$f":"HYPERLINK(Table1[[#This Row],[eCommerce Hyperlink]],\"Book Weblink\")","v":"Book Weblink"},null,"2016","August 2015",null,null,"Author","Jolene Alessi","5","0.5","28",null,"M",null,"Grade 2 - 3","Grade 2 - 5","A parasite exists that can make a male crab believe it’s a female crab. It forces the crab it infects to care for parasite eggs and even help release the larvae into the ocean to infect other crabs! These zombie crabs are never aware that they are infected nor do they harm the parasite. A fascinating look at the parasite-host relationship, this volume will keep readers turning pages with great interest. Full-color photographs of infected crabs offer captivating examples of how the parasite takes over the crab’s body, while the main content also includes how it takes over the crab’s mind.","English",23.6,17.7,"578.6","24 pp.","https://www.garethstevens.com/9781482428391",null,{"$f":"Table1[[#This Row],[QTY]]*Table1[[#This Row],['# Books]]","v":0},{"$f":"Table1[[#This Row],[QTY]]*Table1[[#This Row],[S&L Price]]","v":0}]
[null,null,null,"Zombie Animals: Parasites Take Control!",1,"Zombie Fish","Library Bound Book",null,"978-1-4824-2842-1",{"$f":"HYPERLINK(Table1[[#This Row],[eCommerce Hyperlink]],\"Book Weblink\")","v":"Book Weblink"},null,"2016","August 2015","Library","8.500 X 8.500","Author","Jolene Alessi","5.1","0.5","28",null,"M",null,"Grade 2 - 3","Grade 2 - 5","Tapeworms aren’t just a problem for people. They control a fish called the stickleback, directing it to superhot water where the tapeworm has a chance to grow as big as it can. If the tapeworm gets its way—and it often does—infected fish end up with huge bellies full of a tapeworm that may be bigger than the fish! Readers learn all about this terrible parasite as well as others that turn fish into zombies. Full-color photographs enhance intriguing science content, including how the fish survives a parasitic infestation and how each parasite spreads.","English",23.6,17.7,"597","24 pp.","https://www.garethstevens.com/9781482428421",null,{"$f":"Table1[[#This Row],[QTY]]*Table1[[#This Row],['# Books]]","v":0},{"$f":"Table1[[#This Row],[QTY]]*Table1[[#This Row],[S&L Price]]","v":0}]
[null,null,null,"Zombie Animals: Parasites Take Control!",1,"Zombie Fish","eBook",null,"978-1-4824-2843-8",{"$f":"HYPERLINK(Table1[[#This Row],[eCommerce Hyperlink]],\"Book Weblink\")","v":"Book Weblink"},null,"2016","August 2015",null,null,"Author","Jolene Alessi","5.1","0.5","28",null,"M",null,"Grade 2 - 3","Grade 2 - 5","Tapeworms aren’t just a problem for people. They control a fish called the stickleback, directing it to superhot water where the tapeworm has a chance to grow as big as it can. If the tapeworm gets its way—and it often does—infected fish end up with huge bellies full of a tapeworm that may be bigger than the fish! Readers learn all about this terrible parasite as well as others that turn fish into zombies. Full-color photographs enhance intriguing science content, including how the fish survives a parasitic infestation and how each parasite spreads.","English",23.6,17.7,"597","24 pp.","https://www.garethstevens.com/9781482428438",null,{"$f":"Table1[[#This Row],[QTY]]*Table1[[#This Row],['# Books]]","v":0},{"$f":"Table1[[#This Row],[QTY]]*Table1[[#This Row],[S&L Price]]","v":0}]
[null,null,null,"Zombie Animals: Parasites Take Control!",1,"Zombie Grasshoppers","Library Bound Book",null,"978-1-4824-2846-9",{"$f":"HYPERLINK(Table1[[#This Row],[eCommerce Hyperlink]],\"Book Weblink\")","v":"Book Weblink"},null,"2016","August 2015","Library","8.500 X 8.500","Author","Jolene Alessi","5.1","0.5","28",null,"M",null,"Grade 2 - 3","Grade 2 - 5","A parasite’s main goal is to survive—whether or not their host does. The hairworm is a prime example of this, forcing its grasshopper host to leap to its death so the hairworm can swim away happily. Including an introduction to parasite-host relationships, the main content in this volume will fascinate readers and supports the science curriculum. Detailed fact boxes and colorful photographs add even more fun, gross, and terrifying information about the zombie grasshopper and its terrible traveling companion, the hairworm.","English",23.6,17.7,"595.7","24 pp.","https://www.garethstevens.com/9781482428469",null,{"$f":"Table1[[#This Row],[QTY]]*Table1[[#This Row],['# Books]]","v":0},{"$f":"Table1[[#This Row],[QTY]]*Table1[[#This Row],[S&L Price]]","v":0}]
[null,null,null,"Zombie Animals: Parasites Take Control!",1,"Zombie Grasshoppers","eBook",null,"978-1-4824-2847-6",{"$f":"HYPERLINK(Table1[[#This Row],[eCommerce Hyperlink]],\"Book Weblink\")","v":"Book Weblink"},null,"2016","August 2015",null,null,"Author","Jolene Alessi","5.1","0.5","28",null,"M",null,"Grade 2 - 3","Grade 2 - 5","A parasite’s main goal is to survive—whether or not their host does. The hairworm is a prime example of this, forcing its grasshopper host to leap to its death so the hairworm can swim away happily. Including an introduction to parasite-host relationships, the main content in this volume will fascinate readers and supports the science curriculum. Detailed fact boxes and colorful photographs add even more fun, gross, and terrifying information about the zombie grasshopper and its terrible traveling companion, the hairworm.","English",23.6,17.7,"595.7","24 pp.","https://www.garethstevens.com/9781482428476",null,{"$f":"Table1[[#This Row],[QTY]]*Table1[[#This Row],['# Books]]","v":0},{"$f":"Table1[[#This Row],[QTY]]*Table1[[#This Row],[S&L Price]]","v":0}]
[null,null,null,"Zombie Animals: Parasites Take Control!",1,"Zombie Snails","Library Bound Book",null,"978-1-4824-2850-6",{"$f":"HYPERLINK(Table1[[#This Row],[eCommerce Hyperlink]],\"Book Weblink\")","v":"Book Weblink"},null,"2016","August 2015","Library","8.500 X 8.500","Author","Jolene Alessi","5","0.5","28",null,"M",null,"Grade 2 - 3","Grade 2 - 5","A worm call Leucochloridium needs to reach a bird's stomach in order to reproduce and spread in the bird's waste. How it gets there sounds like science fiction! By infesting a snail’s eyestalks and controlling its brain, this parasite sends the snail into the open with eyestalks that now resemble caterpillars, which are a bird’s favorite snack. Readers are introduced to the poor zombie snail and its role in the parasite-host relationship. Full-color photographs showcase the incredible changes the snail undergoes once infected by the parasite. Fascinating fact boxes and main content offer readers the gross, but cool, details.","English",23.6,17.7,"594'.3--dc23","24 pp.","https://www.garethstevens.com/9781482428506",null,{"$f":"Table1[[#This Row],[QTY]]*Table1[[#This Row],['# Books]]","v":0},{"$f":"Table1[[#This Row],[QTY]]*Table1[[#This Row],[S&L Price]]","v":0}]
[null,null,null,"Zombie Animals: Parasites Take Control!",1,"Zombie Snails","eBook",null,"978-1-4824-2851-3",{"$f":"HYPERLINK(Table1[[#This Row],[eCommerce Hyperlink]],\"Book Weblink\")","v":"Book Weblink"},null,"2016","August 2015",null,null,"Author","Jolene Alessi","5","0.5","28",null,"M",null,"Grade 2 - 3","Grade 2 - 5","A worm call Leucochloridium needs to reach a bird's stomach in order to reproduce and spread in the bird's waste. How it gets there sounds like science fiction! By infesting a snail’s eyestalks and controlling its brain, this parasite sends the snail into the open with eyestalks that now resemble caterpillars, which are a bird’s favorite snack. Readers are introduced to the poor zombie snail and its role in the parasite-host relationship. Full-color photographs showcase the incredible changes the snail undergoes once infected by the parasite. Fascinating fact boxes and main content offer readers the gross, but cool, details.","English",23.6,17.7,"594'.3--dc23","24 pp.","https://www.garethstevens.com/9781482428513",null,{"$f":"Table1[[#This Row],[QTY]]*Table1[[#This Row],['# Books]]","v":0},{"$f":"Table1[[#This Row],[QTY]]*Table1[[#This Row],[S&L Price]]","v":0}]
[null,null,null,"Eye on the Sky",1,"When Blizzards Blow","Library Bound Book",null,"978-1-4824-2878-0",{"$f":"HYPERLINK(Table1[[#This Row],[eCommerce Hyperlink]],\"Book Weblink\")","v":"Book Weblink"},null,"2016","August 2015","Library","8.500 X 11.00","Author","Therese M. Shea",null,null,"40",null,"R",null,"Grade 3 - 4","Grade 3 - 6","Blizzards can be particularly dangerous weather events, especially for the unprepared. People out in the storm are at risk for hypothermia and frostbite, and those inside have to worry about power and phone outages. Cars may get stuck on the highway, and pilots may feel unsure about landing a plane. Readers learn the severity of blizzards of the past, including 2010's \"Snowmageddon,\" as well as how these blizzards form. Dramatic, full-color photographs show readers blizzards' aftermath, and safety tips help readers prepare for a blizzard should a blizzard watch be issued in their area.","English",27.6,20.7,"551.55","32 pp.","https://www.garethstevens.com/9781482428780",null,{"$f":"Table1[[#This Row],[QTY]]*Table1[[#This Row],['# Books]]","v":0},{"$f":"Table1[[#This Row],[QTY]]*Table1[[#This Row],[S&L Price]]","v":0}]
[null,null,null,"Eye on the Sky",1,"When Blizzards Blow","eBook",null,"978-1-4824-2879-7",{"$f":"HYPERLINK(Table1[[#This Row],[eCommerce Hyperlink]],\"Book Weblink\")","v":"Book Weblink"},null,"2016","August 2015",null,null,"Author","Therese M. Shea",null,null,"40",null,"R",null,"Grade 3 - 4","Grade 3 - 6","Blizzards can be particularly dangerous weather events, especially for the unprepared. People out in the storm are at risk for hypothermia and frostbite, and those inside have to worry about power and phone outages. Cars may get stuck on the highway, and pilots may feel unsure about landing a plane. Readers learn the severity of blizzards of the past, including 2010's \"Snowmageddon,\" as well as how these blizzards form. Dramatic, full-color photographs show readers blizzards' aftermath, and safety tips help readers prepare for a blizzard should a blizzard watch be issued in their area.","English",27.6,20.7,"551.55","32 pp.","https://www.garethstevens.com/9781482428797",null,{"$f":"Table1[[#This Row],[QTY]]*Table1[[#This Row],['# Books]]","v":0},{"$f":"Table1[[#This Row],[QTY]]*Table1[[#This Row],[S&L Price]]","v":0}]
[null,null,null,"Eye on the Sky",1,"When Floods Flow","Library Bound Book",null,"978-1-4824-2882-7",{"$f":"HYPERLINK(Table1[[#This Row],[eCommerce Hyperlink]],\"Book Weblink\")","v":"Book Weblink"},null,"2016","August 2015","Library","8.500 X 11.00","Author","Barbara M. Linde",null,null,"40",null,"R",null,"Grade 3 - 4","Grade 3 - 6","In many cases, floods are a sneaky disaster. They often take awhile to occur as rain builds up over many hours or days, or a river’s volume slowly increases and overflows its banks. However, once flooding is happening, it’s very hard to stop. Additionally, flash floods don’t offer those living nearby much time to prepare or evacuate. Readers face the devastation that floods can cause as they learn how they occur. Full-color photographs show floods up close, emphasizing the importance of preparing for a flood should readers live in an area where they’re common—or not.","English",27.6,20.7,"551.48","32 pp.","https://www.garethstevens.com/9781482428827",null,{"$f":"Table1[[#This Row],[QTY]]*Table1[[#This Row],['# Books]]","v":0},{"$f":"Table1[[#This Row],[QTY]]*Table1[[#This Row],[S&L Price]]","v":0}]
[null,null,null,"Eye on the Sky",1,"When Floods Flow","eBook",null,"978-1-4824-2883-4",{"$f":"HYPERLINK(Table1[[#This Row],[eCommerce Hyperlink]],\"Book Weblink\")","v":"Book Weblink"},null,"2016","August 2015",null,null,"Author","Barbara M. Linde",null,null,"40",null,"R",null,"Grade 3 - 4","Grade 3 - 6","In many cases, floods are a sneaky disaster. They often take awhile to occur as rain builds up over many hours or days, or a river’s volume slowly increases and overflows its banks. However, once flooding is happening, it’s very hard to stop. Additionally, flash floods don’t offer those living nearby much time to prepare or evacuate. Readers face the devastation that floods can cause as they learn how they occur. Full-color photographs show floods up close, emphasizing the importance of preparing for a flood should readers live in an area where they’re common—or not.","English",27.6,20.7,"551.48","32 pp.","https://www.garethstevens.com/9781482428834",null,{"$f":"Table1[[#This Row],[QTY]]*Table1[[#This Row],['# Books]]","v":0},{"$f":"Table1[[#This Row],[QTY]]*Table1[[#This Row],[S&L Price]]","v":0}]
[null,null,null,"Eye on the Sky",1,"When Hail Hits","Library Bound Book",null,"978-1-4824-2886-5",{"$f":"HYPERLINK(Table1[[#This Row],[eCommerce Hyperlink]],\"Book Weblink\")","v":"Book Weblink"},null,"2016","August 2015","Library","8.500 X 11.00","Author","Christine Honders",null,null,"40",null,"R",null,"Grade 3 - 4","Grade 3 - 6","Most of the time, hail occurs as tiny pellets not much bigger than gravel or sand. But when the conditions are right, hailstones can be as big as golf balls or even baseballs! They crack car windshields, take down power lines, and even injure people outside when they fall. Readers learn lots of cool science about not just how hail forms, but what conditions need to be for hail to be destructive. Full-color photographs emphasize just how big hailstones can be and how much damage they can cause. Relatable sidebars tackle important details and highlight real-life hail events for interested readers. ","English",27.6,20.7,"551.57","32 pp.","https://www.garethstevens.com/9781482428865",null,{"$f":"Table1[[#This Row],[QTY]]*Table1[[#This Row],['# Books]]","v":0},{"$f":"Table1[[#This Row],[QTY]]*Table1[[#This Row],[S&L Price]]","v":0}]
[null,null,null,"Eye on the Sky",1,"When Hail Hits","eBook",null,"978-1-4824-2887-2",{"$f":"HYPERLINK(Table1[[#This Row],[eCommerce Hyperlink]],\"Book Weblink\")","v":"Book Weblink"},null,"2016","August 2015",null,null,"Author","Christine Honders",null,null,"40",null,"R",null,"Grade 3 - 4","Grade 3 - 6","Most of the time, hail occurs as tiny pellets not much bigger than gravel or sand. But when the conditions are right, hailstones can be as big as golf balls or even baseballs! They crack car windshields, take down power lines, and even injure people outside when they fall. Readers learn lots of cool science about not just how hail forms, but what conditions need to be for hail to be destructive. Full-color photographs emphasize just how big hailstones can be and how much damage they can cause. Relatable sidebars tackle important details and highlight real-life hail events for interested readers. ","English",27.6,20.7,"551.57","32 pp.","https://www.garethstevens.com/9781482428872",null,{"$f":"Table1[[#This Row],[QTY]]*Table1[[#This Row],['# Books]]","v":0},{"$f":"Table1[[#This Row],[QTY]]*Table1[[#This Row],[S&L Price]]","v":0}]
[null,null,null,"Eye on the Sky",1,"When Hurricanes Howl","Library Bound Book",null,"978-1-4824-2890-2",{"$f":"HYPERLINK(Table1[[#This Row],[eCommerce Hyperlink]],\"Book Weblink\")","v":"Book Weblink"},null,"2016","August 2015","Library","8.500 X 11.00","Author","Barbara M. Linde",null,null,"40",null,"R",null,"Grade 3 - 4","Grade 3 - 6","When Hurricane Sandy hit the northeastern United States in 2012, the destruction was extensive. It would prove to be the worst Atlantic hurricane of the 2012 season and took years to rebuild from. With hurricanes a reality for many who live on the coasts of the United States, understanding how to prepare for one is of utmost importance. This volume offers readers safety tips for preparing and enduring a hurricane, as well as explains the science behind hurricane formation and strength. Engaging sidebars about hurricane watches, warnings, and tracking complement full-color photographs of hurricane devastation around the world.","English",27.6,20.7,"551.55","32 pp.","https://www.garethstevens.com/9781482428902",null,{"$f":"Table1[[#This Row],[QTY]]*Table1[[#This Row],['# Books]]","v":0},{"$f":"Table1[[#This Row],[QTY]]*Table1[[#This Row],[S&L Price]]","v":0}]
[null,null,null,"Eye on the Sky",1,"When Hurricanes Howl","eBook",null,"978-1-4824-2891-9",{"$f":"HYPERLINK(Table1[[#This Row],[eCommerce Hyperlink]],\"Book Weblink\")","v":"Book Weblink"},null,"2016","August 2015",null,null,"Author","Barbara M. Linde",null,null,"40",null,"R",null,"Grade 3 - 4","Grade 3 - 6","When Hurricane Sandy hit the northeastern United States in 2012, the destruction was extensive. It would prove to be the worst Atlantic hurricane of the 2012 season and took years to rebuild from. With hurricanes a reality for many who live on the coasts of the United States, understanding how to prepare for one is of utmost importance. This volume offers readers safety tips for preparing and enduring a hurricane, as well as explains the science behind hurricane formation and strength. Engaging sidebars about hurricane watches, warnings, and tracking complement full-color photographs of hurricane devastation around the world.","English",27.6,20.7,"551.55","32 pp.","https://www.garethstevens.com/9781482428919",null,{"$f":"Table1[[#This Row],[QTY]]*Table1[[#This Row],['# Books]]","v":0},{"$f":"Table1[[#This Row],[QTY]]*Table1[[#This Row],[S&L Price]]","v":0}]
[null,null,null,"Eye on the Sky",1,"When Lightning Strikes","Library Bound Book",null,"978-1-4824-2894-0",{"$f":"HYPERLINK(Table1[[#This Row],[eCommerce Hyperlink]],\"Book Weblink\")","v":"Book Weblink"},null,"2016","August 2015","Library","8.500 X 11.00","Author","Ryan Nagelhout",null,null,"40",null,"R",null,"Grade 3 - 4","Grade 3 - 6","Lightning can strike in the same place twice. It's for this reason that readers need to learn how to avoid being in dangerous places during a storm with lightning! While a spectacular weather phenomenon to witness, lightning can cause destruction and even death. Readers learn what causes lightning and other science content regarding the occurrence of lightning, including its connection to rain and thunder. Succinct sidebars add even more detail about specific, real-life lightning events complete with full-color photographs of amazing lightning strikes.","English",27.6,20.7,"551.56'32--dc23","32 pp.","https://www.garethstevens.com/9781482428940",null,{"$f":"Table1[[#This Row],[QTY]]*Table1[[#This Row],['# Books]]","v":0},{"$f":"Table1[[#This Row],[QTY]]*Table1[[#This Row],[S&L Price]]","v":0}]
[null,null,null,"Eye on the Sky",1,"When Lightning Strikes","eBook",null,"978-1-4824-2895-7",{"$f":"HYPERLINK(Table1[[#This Row],[eCommerce Hyperlink]],\"Book Weblink\")","v":"Book Weblink"},null,"2016","August 2015",null,null,"Author","Ryan Nagelhout",null,null,"40",null,"R",null,"Grade 3 - 4","Grade 3 - 6","Lightning can strike in the same place twice. It's for this reason that readers need to learn how to avoid being in dangerous places during a storm with lightning! While a spectacular weather phenomenon to witness, lightning can cause destruction and even death. Readers learn what causes lightning and other science content regarding the occurrence of lightning, including its connection to rain and thunder. Succinct sidebars add even more detail about specific, real-life lightning events complete with full-color photographs of amazing lightning strikes.","English",27.6,20.7,"551.56'32--dc23","32 pp.","https://www.garethstevens.com/9781482428957",null,{"$f":"Table1[[#This Row],[QTY]]*Table1[[#This Row],['# Books]]","v":0},{"$f":"Table1[[#This Row],[QTY]]*Table1[[#This Row],[S&L Price]]","v":0}]
[null,null,null,"Eye on the Sky",1,"When Tornadoes Touch Down","Library Bound Book",null,"978-1-4824-2898-8",{"$f":"HYPERLINK(Table1[[#This Row],[eCommerce Hyperlink]],\"Book Weblink\")","v":"Book Weblink"},null,"2016","August 2015","Library","8.500 X 11.00","Author","Therese M. Shea",null,null,"40",null,"R",null,"Grade 3 - 4","Grade 3 - 6","For years, people in “Tornado Alley” were the ones who had to worry most about tornadoes occurring near their homes. However, as climate change occurs, tornadoes have become more common around the United States. Tornado prediction and tracking has gotten increasingly better, too. Readers learn how tornadoes happen, how they are measured, and what to do if a tornado watch or warning is issued. Real-life stories of tornado devastation, such as those that occurred in Joplin, Mississippi, in 2011, emphasize how serious this weather event can be. Full-color photographs and sidebars offer additional perspectives about tornado chasing, destruction, and preparation.","English",27.6,20.7,"551.55'3--dc23","32 pp.","https://www.garethstevens.com/9781482428988",null,{"$f":"Table1[[#This Row],[QTY]]*Table1[[#This Row],['# Books]]","v":0},{"$f":"Table1[[#This Row],[QTY]]*Table1[[#This Row],[S&L Price]]","v":0}]
[null,null,null,"Eye on the Sky",1,"When Tornadoes Touch Down","eBook",null,"978-1-4824-2899-5",{"$f":"HYPERLINK(Table1[[#This Row],[eCommerce Hyperlink]],\"Book Weblink\")","v":"Book Weblink"},null,"2016","August 2015",null,null,"Author","Therese M. Shea",null,null,"40",null,"R",null,"Grade 3 - 4","Grade 3 - 6","For years, people in “Tornado Alley” were the ones who had to worry most about tornadoes occurring near their homes. However, as climate change occurs, tornadoes have become more common around the United States. Tornado prediction and tracking has gotten increasingly better, too. Readers learn how tornadoes happen, how they are measured, and what to do if a tornado watch or warning is issued. Real-life stories of tornado devastation, such as those that occurred in Joplin, Mississippi, in 2011, emphasize how serious this weather event can be. Full-color photographs and sidebars offer additional perspectives about tornado chasing, destruction, and preparation.","English",27.6,20.7,"551.55'3--dc23","32 pp.","https://www.garethstevens.com/9781482428995",null,{"$f":"Table1[[#This Row],[QTY]]*Table1[[#This Row],['# Books]]","v":0},{"$f":"Table1[[#This Row],[QTY]]*Table1[[#This Row],[S&L Price]]","v":0}]
[null,null,null,"Amazing Robots",1,"Robots in Industry","Library Bound Book",null,"978-1-4824-3002-8",{"$f":"HYPERLINK(Table1[[#This Row],[eCommerce Hyperlink]],\"Book Weblink\")","v":"Book Weblink"},null,"2016","August 2015","Library","7.250 X 9.250","Author, Author","Louise Spilsbury, Richard Spilsbury",null,null,null,null,"U","1160L","Grade 4 - 5","Grade 4 - 8","People tire easily and make mistakes when they work too long. They need to sleep and eat enough in order to do their best. Robots, however, can do repetitive tasks perfectly every time! They rarely need breaks and definitely don’t need naps! Readers learn how integral robots have become in many parts of industry, including in production, factories, and in situations dangerous for people. Full-color photographs provide readers with a unique look at a growing branch of science. The main content and sidebars highlight real-life examples of robots at work as well as understandable explanations of their technology.","English",32.950000000000003,24.7,"629.8","48 pp.","https://www.garethstevens.com/9781482430028",null,{"$f":"Table1[[#This Row],[QTY]]*Table1[[#This Row],['# Books]]","v":0},{"$f":"Table1[[#This Row],[QTY]]*Table1[[#This Row],[S&L Price]]","v":0}]
[null,null,null,"Amazing Robots",1,"Robots in Industry","eBook",null,"978-1-4824-3003-5",{"$f":"HYPERLINK(Table1[[#This Row],[eCommerce Hyperlink]],\"Book Weblink\")","v":"Book Weblink"},null,"2016","August 2015",null,null,"Author, Author","Louise Spilsbury, Richard Spilsbury",null,null,null,null,"U","1160L","Grade 4 - 5","Grade 4 - 8","People tire easily and make mistakes when they work too long. They need to sleep and eat enough in order to do their best. Robots, however, can do repetitive tasks perfectly every time! They rarely need breaks and definitely don’t need naps! Readers learn how integral robots have become in many parts of industry, including in production, factories, and in situations dangerous for people. Full-color photographs provide readers with a unique look at a growing branch of science. The main content and sidebars highlight real-life examples of robots at work as well as understandable explanations of their technology.","English",32.950000000000003,24.7,"629.8","48 pp.","https://www.garethstevens.com/9781482430035",null,{"$f":"Table1[[#This Row],[QTY]]*Table1[[#This Row],['# Books]]","v":0},{"$f":"Table1[[#This Row],[QTY]]*Table1[[#This Row],[S&L Price]]","v":0}]
[null,null,null,"Amazing Robots",1,"Robots in Law Enforcement","Library Bound Book",null,"978-1-4824-3006-6",{"$f":"HYPERLINK(Table1[[#This Row],[eCommerce Hyperlink]],\"Book Weblink\")","v":"Book Weblink"},null,"2016","August 2015","Library","7.250 X 9.250","Author, Author","Louise Spilsbury, Richard Spilsbury",null,null,null,null,"U","1200L","Grade 4 - 5","Grade 4 - 8","Robotics is already used to protect people in cities all around the United States. As robot technology continues to grow, patrolling human police officers could someday be a thing of the past! Humanoid robots might be rolling around city streets or heading into dangerous situations in place of police officers. From surveillance cameras to bomb disposal, the incredible robots already used in law enforcement will engage and surprise readers. The main text explains the real-life technology used today, and full-color photographs enhance the science and engineering content.","English",32.950000000000003,24.7,"629.8","48 pp.","https://www.garethstevens.com/9781482430066",null,{"$f":"Table1[[#This Row],[QTY]]*Table1[[#This Row],['# Books]]","v":0},{"$f":"Table1[[#This Row],[QTY]]*Table1[[#This Row],[S&L Price]]","v":0}]
[null,null,null,"Amazing Robots",1,"Robots in Law Enforcement","eBook",null,"978-1-4824-3007-3",{"$f":"HYPERLINK(Table1[[#This Row],[eCommerce Hyperlink]],\"Book Weblink\")","v":"Book Weblink"},null,"2016","August 2015",null,null,"Author, Author","Louise Spilsbury, Richard Spilsbury",null,null,null,null,"U","1200L","Grade 4 - 5","Grade 4 - 8","Robotics is already used to protect people in cities all around the United States. As robot technology continues to grow, patrolling human police officers could someday be a thing of the past! Humanoid robots might be rolling around city streets or heading into dangerous situations in place of police officers. From surveillance cameras to bomb disposal, the incredible robots already used in law enforcement will engage and surprise readers. The main text explains the real-life technology used today, and full-color photographs enhance the science and engineering content.","English",32.950000000000003,24.7,"629.8","48 pp.","https://www.garethstevens.com/9781482430073",null,{"$f":"Table1[[#This Row],[QTY]]*Table1[[#This Row],['# Books]]","v":0},{"$f":"Table1[[#This Row],[QTY]]*Table1[[#This Row],[S&L Price]]","v":0}]
[null,null,null,"Amazing Robots",1,"Robots in Medicine","Library Bound Book",null,"978-1-4824-3010-3",{"$f":"HYPERLINK(Table1[[#This Row],[eCommerce Hyperlink]],\"Book Weblink\")","v":"Book Weblink"},null,"2016","August 2015","Library","7.250 X 9.250","Author, Author","Louise Spilsbury, Richard Spilsbury",null,null,null,null,"U","1190L","Grade 4 - 5","Grade 4 - 8","In 2000, the FDA approved the Da Vinci surgical robotic system. The Da Vinci is a robot controlled by a surgeon used to do delicate and technical surgeries, and it represents a whole segment of robots used to aid doctors, pharmacists, and others in the medical field. Readers are introduced to cutting-edge medical technology with full-color photographs of robots actually used in hospitals and doctors’ offices today. The main content offers detailed, but understandable, information about the science of these incredible machines. Additionally, readers learn about the integration of these robots into many careers in medicine, technology, and science.","English",32.950000000000003,24.7,"629.8","48 pp.","https://www.garethstevens.com/9781482430103",null,{"$f":"Table1[[#This Row],[QTY]]*Table1[[#This Row],['# Books]]","v":0},{"$f":"Table1[[#This Row],[QTY]]*Table1[[#This Row],[S&L Price]]","v":0}]
[null,null,null,"Amazing Robots",1,"Robots in Medicine","eBook",null,"978-1-4824-3011-0",{"$f":"HYPERLINK(Table1[[#This Row],[eCommerce Hyperlink]],\"Book Weblink\")","v":"Book Weblink"},null,"2016","August 2015",null,null,"Author, Author","Louise Spilsbury, Richard Spilsbury",null,null,null,null,"U","1190L","Grade 4 - 5","Grade 4 - 8","In 2000, the FDA approved the Da Vinci surgical robotic system. The Da Vinci is a robot controlled by a surgeon used to do delicate and technical surgeries, and it represents a whole segment of robots used to aid doctors, pharmacists, and others in the medical field. Readers are introduced to cutting-edge medical technology with full-color photographs of robots actually used in hospitals and doctors’ offices today. The main content offers detailed, but understandable, information about the science of these incredible machines. Additionally, readers learn about the integration of these robots into many careers in medicine, technology, and science.","English",32.950000000000003,24.7,"629.8","48 pp.","https://www.garethstevens.com/9781482430110",null,{"$f":"Table1[[#This Row],[QTY]]*Table1[[#This Row],['# Books]]","v":0},{"$f":"Table1[[#This Row],[QTY]]*Table1[[#This Row],[S&L Price]]","v":0}]
[null,null,null,"Amazing Robots",1,"Robots in Space","Library Bound Book",null,"978-1-4824-3014-1",{"$f":"HYPERLINK(Table1[[#This Row],[eCommerce Hyperlink]],\"Book Weblink\")","v":"Book Weblink"},null,"2016","August 2015","Library","7.250 X 9.250","Author, Author","Louise Spilsbury, Richard Spilsbury",null,null,null,null,"U","1160L","Grade 4 - 5","Grade 4 - 8","NASA wouldn’t know nearly as much about the planet Mars without space probes. A special kind of robot that can fly through space, space probes have gone to the asteroid belt and even traveled near Jupiter to take pictures of it! Readers learn all about these incredible robots as well as other space technology including robotnauts, or robot astronauts! Examples of the robots used in space are shown in full-color photographs, complete with explanations of their abilities. The main content and sidebars delve into the technological and scientific side of creating robots and how important they’ve become to space exploration.","English",32.950000000000003,24.7,"629.43","48 pp.","https://www.garethstevens.com/9781482430141",null,{"$f":"Table1[[#This Row],[QTY]]*Table1[[#This Row],['# Books]]","v":0},{"$f":"Table1[[#This Row],[QTY]]*Table1[[#This Row],[S&L Price]]","v":0}]
[null,null,null,"Amazing Robots",1,"Robots in Space","eBook",null,"978-1-4824-3015-8",{"$f":"HYPERLINK(Table1[[#This Row],[eCommerce Hyperlink]],\"Book Weblink\")","v":"Book Weblink"},null,"2016","August 2015",null,null,"Author, Author","Louise Spilsbury, Richard Spilsbury",null,null,null,null,"U","1160L","Grade 4 - 5","Grade 4 - 8","NASA wouldn’t know nearly as much about the planet Mars without space probes. A special kind of robot that can fly through space, space probes have gone to the asteroid belt and even traveled near Jupiter to take pictures of it! Readers learn all about these incredible robots as well as other space technology including robotnauts, or robot astronauts! Examples of the robots used in space are shown in full-color photographs, complete with explanations of their abilities. The main content and sidebars delve into the technological and scientific side of creating robots and how important they’ve become to space exploration.","English",32.950000000000003,24.7,"629.43","48 pp.","https://www.garethstevens.com/9781482430158",null,{"$f":"Table1[[#This Row],[QTY]]*Table1[[#This Row],['# Books]]","v":0},{"$f":"Table1[[#This Row],[QTY]]*Table1[[#This Row],[S&L Price]]","v":0}]
[null,null,null,"Amazing Robots",1,"Robots in the Military","Library Bound Book",null,"978-1-4824-3018-9",{"$f":"HYPERLINK(Table1[[#This Row],[eCommerce Hyperlink]],\"Book Weblink\")","v":"Book Weblink"},null,"2016","August 2015","Library","7.250 X 9.250","Author, Author","Louise Spilsbury, Richard Spilsbury",null,null,null,null,"U","1190L","Grade 4 - 5","Grade 4 - 8","Today, robots are responsible for much of military reconnaissance. Drones fly above enemy combatants or areas of interest and collect tons of information for military leaders. That’s not all they can do! Robots find and dispose of bombs, transport troops, and shoot missiles. Readers have much to explore in the detailed main content, including specific examples of robots used by the US military and full-color photographs that give a rare close-up view of these amazing machines. From the sea to the air, robots can be found in all branches of the military, and their number will only grow as technology continues to improve.","English",32.950000000000003,24.7,"623","48 pp.","https://www.garethstevens.com/9781482430189",null,{"$f":"Table1[[#This Row],[QTY]]*Table1[[#This Row],['# Books]]","v":0},{"$f":"Table1[[#This Row],[QTY]]*Table1[[#This Row],[S&L Price]]","v":0}]
[null,null,null,"Amazing Robots",1,"Robots in the Military","eBook",null,"978-1-4824-3019-6",{"$f":"HYPERLINK(Table1[[#This Row],[eCommerce Hyperlink]],\"Book Weblink\")","v":"Book Weblink"},null,"2016","August 2015",null,null,"Author, Author","Louise Spilsbury, Richard Spilsbury",null,null,null,null,"U","1190L","Grade 4 - 5","Grade 4 - 8","Today, robots are responsible for much of military reconnaissance. Drones fly above enemy combatants or areas of interest and collect tons of information for military leaders. That’s not all they can do! Robots find and dispose of bombs, transport troops, and shoot missiles. Readers have much to explore in the detailed main content, including specific examples of robots used by the US military and full-color photographs that give a rare close-up view of these amazing machines. From the sea to the air, robots can be found in all branches of the military, and their number will only grow as technology continues to improve.","English",32.950000000000003,24.7,"623","48 pp.","https://www.garethstevens.com/9781482430196",null,{"$f":"Table1[[#This Row],[QTY]]*Table1[[#This Row],['# Books]]","v":0},{"$f":"Table1[[#This Row],[QTY]]*Table1[[#This Row],[S&L Price]]","v":0}]
[null,null,null,"Amazing Robots",1,"Robots Underwater","Library Bound Book",null,"978-1-4824-3022-6",{"$f":"HYPERLINK(Table1[[#This Row],[eCommerce Hyperlink]],\"Book Weblink\")","v":"Book Weblink"},null,"2016","August 2015","Library","7.250 X 9.250","Author, Author","Louise Spilsbury, Richard Spilsbury",null,null,null,null,"U","1190L","Grade 4 - 5","Grade 4 - 8","Without underwater robots, people never would have been able to explore the shipwreck of the Titanic as much as they have. From mapping the ocean floor to testing water quality, the jobs these robots can do are astounding. Through many examples and full-color photographs, readers dive deep with underwater robots, learning the technology behind these amazing machines and how they help people every day. Sidebars complement the main content with information about robotics engineers, environmental issues underwater, and the truly inventive science of underwater robots.","English",32.950000000000003,24.7,"623.8","48 pp.","https://www.garethstevens.com/9781482430226",null,{"$f":"Table1[[#This Row],[QTY]]*Table1[[#This Row],['# Books]]","v":0},{"$f":"Table1[[#This Row],[QTY]]*Table1[[#This Row],[S&L Price]]","v":0}]
[null,null,null,"Amazing Robots",1,"Robots Underwater","eBook",null,"978-1-4824-3023-3",{"$f":"HYPERLINK(Table1[[#This Row],[eCommerce Hyperlink]],\"Book Weblink\")","v":"Book Weblink"},null,"2016","August 2015",null,null,"Author, Author","Louise Spilsbury, Richard Spilsbury",null,null,null,null,"U","1190L","Grade 4 - 5","Grade 4 - 8","Without underwater robots, people never would have been able to explore the shipwreck of the Titanic as much as they have. From mapping the ocean floor to testing water quality, the jobs these robots can do are astounding. Through many examples and full-color photographs, readers dive deep with underwater robots, learning the technology behind these amazing machines and how they help people every day. Sidebars complement the main content with information about robotics engineers, environmental issues underwater, and the truly inventive science of underwater robots.","English",32.950000000000003,24.7,"623.8","48 pp.","https://www.garethstevens.com/9781482430233",null,{"$f":"Table1[[#This Row],[QTY]]*Table1[[#This Row],['# Books]]","v":0},{"$f":"Table1[[#This Row],[QTY]]*Table1[[#This Row],[S&L Price]]","v":0}]
[null,null,null,"Danger! Dinosaurs",1,"Dinosaur Defenders","Library Bound Book",null,"978-1-4824-3026-4",{"$f":"HYPERLINK(Table1[[#This Row],[eCommerce Hyperlink]],\"Book Weblink\")","v":"Book Weblink"},null,"2016","August 2015","Library","8.500 X 11.00","Author","Liz Miles","6.9","1","44",null,"V",null,"Grade 4 - 5","Grade 3 - 6","With vicious and violent beasts such as Tyrannosaurus rex on the loose, the odds of a peaceful herbivore surviving an encounter with a carnivorous dinosaur seem long. However, plant-eating dinosaurs had plenty of defenses to help them battle such brutes. Pachycephalosaurids had especially thick bones to head-butt their enemies. Stegosauruses had plates and spikes to deter carnivores. Other dinosaurs, such as Ankylosaurs, had tough, plated bodies, like tanks! This dinosaur-packed volume showcases remarkable details about these creatures as well as touches upon important science topics, such as adaptations and the predator/prey relationship.","English",27.6,20.7,"567.9","32 pp.","https://www.garethstevens.com/9781482430264",null,{"$f":"Table1[[#This Row],[QTY]]*Table1[[#This Row],['# Books]]","v":0},{"$f":"Table1[[#This Row],[QTY]]*Table1[[#This Row],[S&L Price]]","v":0}]
[null,null,null,"Danger! Dinosaurs",1,"Dinosaur Defenders","eBook",null,"978-1-4824-3027-1",{"$f":"HYPERLINK(Table1[[#This Row],[eCommerce Hyperlink]],\"Book Weblink\")","v":"Book Weblink"},null,"2016","August 2015",null,null,"Author","Liz Miles","6.9","1","44",null,"V",null,"Grade 4 - 5","Grade 3 - 6","With vicious and violent beasts such as Tyrannosaurus rex on the loose, the odds of a peaceful herbivore surviving an encounter with a carnivorous dinosaur seem long. However, plant-eating dinosaurs had plenty of defenses to help them battle such brutes. Pachycephalosaurids had especially thick bones to head-butt their enemies. Stegosauruses had plates and spikes to deter carnivores. Other dinosaurs, such as Ankylosaurs, had tough, plated bodies, like tanks! This dinosaur-packed volume showcases remarkable details about these creatures as well as touches upon important science topics, such as adaptations and the predator/prey relationship.","English",27.6,20.7,"567.9","32 pp.","https://www.garethstevens.com/9781482430271",null,{"$f":"Table1[[#This Row],[QTY]]*Table1[[#This Row],['# Books]]","v":0},{"$f":"Table1[[#This Row],[QTY]]*Table1[[#This Row],[S&L Price]]","v":0}]
[null,null,null,"Danger! Dinosaurs",1,"Dinosaur Record Breakers","Library Bound Book",null,"978-1-4824-3030-1",{"$f":"HYPERLINK(Table1[[#This Row],[eCommerce Hyperlink]],\"Book Weblink\")","v":"Book Weblink"},null,"2016","August 2015","Library","8.500 X 11.00","Author","Liz Miles","6.6","1","44",null,"U",null,"Grade 4 - 5","Grade 3 - 6","Sauroposeidon, the tallest dinosaur at 34 feet (10 m), had a long, thin tail that could have been used like a whip. Luckily for other animals, it was a plant eater. The biggest meat eater was the Spinosaurus, which probably had the head of a crocodile and the body of a dragon. This beguiling book combines two high-interest topics: dinosaurs and record-breaking animals. The combination means a collection of the most fascinating beasts to ever walk Earth. Compelling text and vivid illustrations help bring these reptiles to life, while graphic organizers aid readers in organizing the information they'll want to remember.","English",27.6,20.7,"567.9","32 pp.","https://www.garethstevens.com/9781482430301",null,{"$f":"Table1[[#This Row],[QTY]]*Table1[[#This Row],['# Books]]","v":0},{"$f":"Table1[[#This Row],[QTY]]*Table1[[#This Row],[S&L Price]]","v":0}]
[null,null,null,"Danger! Dinosaurs",1,"Dinosaur Record Breakers","eBook",null,"978-1-4824-3031-8",{"$f":"HYPERLINK(Table1[[#This Row],[eCommerce Hyperlink]],\"Book Weblink\")","v":"Book Weblink"},null,"2016","August 2015",null,null,"Author","Liz Miles","6.6","1","44",null,"U",null,"Grade 4 - 5","Grade 3 - 6","Sauroposeidon, the tallest dinosaur at 34 feet (10 m), had a long, thin tail that could have been used like a whip. Luckily for other animals, it was a plant eater. The biggest meat eater was the Spinosaurus, which probably had the head of a crocodile and the body of a dragon. This beguiling book combines two high-interest topics: dinosaurs and record-breaking animals. The combination means a collection of the most fascinating beasts to ever walk Earth. Compelling text and vivid illustrations help bring these reptiles to life, while graphic organizers aid readers in organizing the information they'll want to remember.","English",27.6,20.7,"567.9","32 pp.","https://www.garethstevens.com/9781482430318",null,{"$f":"Table1[[#This Row],[QTY]]*Table1[[#This Row],['# Books]]","v":0},{"$f":"Table1[[#This Row],[QTY]]*Table1[[#This Row],[S&L Price]]","v":0}]
[null,null,null,"Danger! Dinosaurs",1,"Dinosaurs and the Prehistoric World","Library Bound Book",null,"978-1-4824-3034-9",{"$f":"HYPERLINK(Table1[[#This Row],[eCommerce Hyperlink]],\"Book Weblink\")","v":"Book Weblink"},null,"2016","August 2015","Library","8.500 X 11.00","Author","Liz Miles","6.7","1","44",null,"U",null,"Grade 4 - 5","Grade 3 - 6","Our world is in a constant state of gradual change. And Earth today is very different from the place where dinosaurs once roamed. This intriguing volume covers not just the jaw-dropping dinosaurs of the Triassic, Jurassic, and Cretaceous periods, but also the strange insects, fish, mammals, and other animal life that emerged before and after. Imaginative illustrations, captivating text, and fun fact boxes introduce readers to some of the most bizarre beasts of the prehistoric era, while a timeline aids them in tracing life-forms from their most primitive to today.","English",27.6,20.7,"567.9","32 pp.","https://www.garethstevens.com/9781482430349",null,{"$f":"Table1[[#This Row],[QTY]]*Table1[[#This Row],['# Books]]","v":0},{"$f":"Table1[[#This Row],[QTY]]*Table1[[#This Row],[S&L Price]]","v":0}]
[null,null,null,"Danger! Dinosaurs",1,"Dinosaurs and the Prehistoric World","eBook",null,"978-1-4824-3035-6",{"$f":"HYPERLINK(Table1[[#This Row],[eCommerce Hyperlink]],\"Book Weblink\")","v":"Book Weblink"},null,"2016","August 2015",null,null,"Author","Liz Miles","6.7","1","44",null,"U",null,"Grade 4 - 5","Grade 3 - 6","Our world is in a constant state of gradual change. And Earth today is very different from the place where dinosaurs once roamed. This intriguing volume covers not just the jaw-dropping dinosaurs of the Triassic, Jurassic, and Cretaceous periods, but also the strange insects, fish, mammals, and other animal life that emerged before and after. Imaginative illustrations, captivating text, and fun fact boxes introduce readers to some of the most bizarre beasts of the prehistoric era, while a timeline aids them in tracing life-forms from their most primitive to today.","English",27.6,20.7,"567.9","32 pp.","https://www.garethstevens.com/9781482430356",null,{"$f":"Table1[[#This Row],[QTY]]*Table1[[#This Row],['# Books]]","v":0},{"$f":"Table1[[#This Row],[QTY]]*Table1[[#This Row],[S&L Price]]","v":0}]
[null,null,null,"Danger! Dinosaurs",1,"Flying Monsters","Library Bound Book",null,"978-1-4824-3038-7",{"$f":"HYPERLINK(Table1[[#This Row],[eCommerce Hyperlink]],\"Book Weblink\")","v":"Book Weblink"},null,"2016","August 2015","Library","8.500 X 11.00","Author","Liz Miles","6.6","1","44",null,"V",null,"Grade 4 - 5","Grade 3 - 6","Imagine outrunning a superfast dinosaur, just to be plucked from the ground by a pterosaur in flight. That's probably just what happened to many small prey in the age of the dinosaurs. Pterosaurs were all sizes, from creatures as small as songbirds to the biggest flyer ever known, Quetzalcoatlus. It had a wingspan of 36 feet (11 m)! Readers will get to know much more about various kinds of pterosaurs in this brilliantly illustrated book. A timeline, world map, sidebars, and diagrams further enhance the intriguing text.","English",27.6,20.7,"567.918","32 pp.","https://www.garethstevens.com/9781482430387",null,{"$f":"Table1[[#This Row],[QTY]]*Table1[[#This Row],['# Books]]","v":0},{"$f":"Table1[[#This Row],[QTY]]*Table1[[#This Row],[S&L Price]]","v":0}]
[null,null,null,"Danger! Dinosaurs",1,"Flying Monsters","eBook",null,"978-1-4824-3039-4",{"$f":"HYPERLINK(Table1[[#This Row],[eCommerce Hyperlink]],\"Book Weblink\")","v":"Book Weblink"},null,"2016","August 2015",null,null,"Author","Liz Miles","6.6","1","44",null,"V",null,"Grade 4 - 5","Grade 3 - 6","Imagine outrunning a superfast dinosaur, just to be plucked from the ground by a pterosaur in flight. That's probably just what happened to many small prey in the age of the dinosaurs. Pterosaurs were all sizes, from creatures as small as songbirds to the biggest flyer ever known, Quetzalcoatlus. It had a wingspan of 36 feet (11 m)! Readers will get to know much more about various kinds of pterosaurs in this brilliantly illustrated book. A timeline, world map, sidebars, and diagrams further enhance the intriguing text.","English",27.6,20.7,"567.918","32 pp.","https://www.garethstevens.com/9781482430394",null,{"$f":"Table1[[#This Row],[QTY]]*Table1[[#This Row],['# Books]]","v":0},{"$f":"Table1[[#This Row],[QTY]]*Table1[[#This Row],[S&L Price]]","v":0}]
[null,null,null,"Danger! Dinosaurs",1,"Killer Dinosaurs","Library Bound Book",null,"978-1-4824-3042-4",{"$f":"HYPERLINK(Table1[[#This Row],[eCommerce Hyperlink]],\"Book Weblink\")","v":"Book Weblink"},null,"2016","August 2015","Library","8.500 X 11.00","Author","Liz Miles","6.8","1","44",null,"U",null,"Grade 4 - 5","Grade 3 - 6","Some dinosaurs have undoubtedly earned their killer reputations. Reptilian carnivores used many different methods to catch and kill. Bone-crushing jaws, flesh-ripping teeth, and skin-slashing claws panicked prey during the age of the dinosaurs. Some carnivores hunted alone, and others worked in packs. Many were speedy, while others were wily or powerful. This mesmerizing book covers high-interest dinosaurs, such as Tyrannosaurus rex and Velociraptor, as well as future favorites, such as Utahraptor and Carnotaurus. Dinosaur lovers will discover lots to absorb in the detailed charts, labeled illustrations, and spellbinding sidebars.","English",27.6,20.7,"567.9","32 pp.","https://www.garethstevens.com/9781482430424",null,{"$f":"Table1[[#This Row],[QTY]]*Table1[[#This Row],['# Books]]","v":0},{"$f":"Table1[[#This Row],[QTY]]*Table1[[#This Row],[S&L Price]]","v":0}]
[null,null,null,"Danger! Dinosaurs",1,"Killer Dinosaurs","eBook",null,"978-1-4824-3043-1",{"$f":"HYPERLINK(Table1[[#This Row],[eCommerce Hyperlink]],\"Book Weblink\")","v":"Book Weblink"},null,"2016","August 2015",null,null,"Author","Liz Miles","6.8","1","44",null,"U",null,"Grade 4 - 5","Grade 3 - 6","Some dinosaurs have undoubtedly earned their killer reputations. Reptilian carnivores used many different methods to catch and kill. Bone-crushing jaws, flesh-ripping teeth, and skin-slashing claws panicked prey during the age of the dinosaurs. Some carnivores hunted alone, and others worked in packs. Many were speedy, while others were wily or powerful. This mesmerizing book covers high-interest dinosaurs, such as Tyrannosaurus rex and Velociraptor, as well as future favorites, such as Utahraptor and Carnotaurus. Dinosaur lovers will discover lots to absorb in the detailed charts, labeled illustrations, and spellbinding sidebars.","English",27.6,20.7,"567.9","32 pp.","https://www.garethstevens.com/9781482430431",null,{"$f":"Table1[[#This Row],[QTY]]*Table1[[#This Row],['# Books]]","v":0},{"$f":"Table1[[#This Row],[QTY]]*Table1[[#This Row],[S&L Price]]","v":0}]
[null,null,null,"Danger! Dinosaurs",1,"Sea Monsters","Library Bound Book",null,"978-1-4824-3046-2",{"$f":"HYPERLINK(Table1[[#This Row],[eCommerce Hyperlink]],\"Book Weblink\")","v":"Book Weblink"},null,"2016","August 2015","Library","8.500 X 11.00","Author","Liz Miles","6.8","1","44",null,"V",null,"Grade 4 - 5","Grade 3 - 6","While land-dwelling dinosaurs get a lot of attention, prehistoric seas were teeming with weird-looking creatures, too. Some of them were just as ferocious as any T. rex, like the Megalodon with its massive teeth and bottomless appetite. Swamps, lakes, rivers, and estuaries were also dangerous places for land animals, just ask the prey of the \"super croc,\" the Sarcosuchus. Dino fans will love diving in to this fact-filled book. Exciting text and colorful images will spark their imaginations to run wild and make them happy these creatures aren't still looking for a tasty bite!","English",27.6,20.7,"591.77","32 pp.","https://www.garethstevens.com/9781482430462",null,{"$f":"Table1[[#This Row],[QTY]]*Table1[[#This Row],['# Books]]","v":0},{"$f":"Table1[[#This Row],[QTY]]*Table1[[#This Row],[S&L Price]]","v":0}]
[null,null,null,"Danger! Dinosaurs",1,"Sea Monsters","eBook",null,"978-1-4824-3047-9",{"$f":"HYPERLINK(Table1[[#This Row],[eCommerce Hyperlink]],\"Book Weblink\")","v":"Book Weblink"},null,"2016","August 2015",null,null,"Author","Liz Miles","6.8","1","44",null,"V",null,"Grade 4 - 5","Grade 3 - 6","While land-dwelling dinosaurs get a lot of attention, prehistoric seas were teeming with weird-looking creatures, too. Some of them were just as ferocious as any T. rex, like the Megalodon with its massive teeth and bottomless appetite. Swamps, lakes, rivers, and estuaries were also dangerous places for land animals, just ask the prey of the \"super croc,\" the Sarcosuchus. Dino fans will love diving in to this fact-filled book. Exciting text and colorful images will spark their imaginations to run wild and make them happy these creatures aren't still looking for a tasty bite!","English",27.6,20.7,"591.77","32 pp.","https://www.garethstevens.com/9781482430479",null,{"$f":"Table1[[#This Row],[QTY]]*Table1[[#This Row],['# Books]]","v":0},{"$f":"Table1[[#This Row],[QTY]]*Table1[[#This Row],[S&L Price]]","v":0}]
[null,null,null,"Native American Heroes",1,"Geronimo","Library Bound Book",null,"978-1-4824-2687-8",{"$f":"HYPERLINK(Table1[[#This Row],[eCommerce Hyperlink]],\"Book Weblink\")","v":"Book Weblink"},null,"2016","August 2015","Library","7.000 X 7.000","Author","Santana Hunt","3.6","0.5","18",null,"J",null,"Grade 1 - 2","Grade 1 - 3","Geronimo earned his place in the pantheon of Native American heroes by standing up for his people, even in the face of punishment. Though he never regained his tribe’s lands from the US government, he is remembered by many Apache for his leadership and courage. Readers learn about Geronimo’s fight for Apache territory as well as his early life in the present-day American Southwest. Historical images of him and early Native American reservations enhance an important social studies topic.","English",23.6,17.7,"979","24 pp.","https://www.garethstevens.com/9781482426878",null,{"$f":"Table1[[#This Row],[QTY]]*Table1[[#This Row],['# Books]]","v":0},{"$f":"Table1[[#This Row],[QTY]]*Table1[[#This Row],[S&L Price]]","v":0}]
[null,null,null,"Native American Heroes",1,"Geronimo","eBook",null,"978-1-4824-2688-5",{"$f":"HYPERLINK(Table1[[#This Row],[eCommerce Hyperlink]],\"Book Weblink\")","v":"Book Weblink"},null,"2016","August 2015",null,null,"Author","Santana Hunt","3.6","0.5","18",null,"J",null,"Grade 1 - 2","Grade 1 - 3","Geronimo earned his place in the pantheon of Native American heroes by standing up for his people, even in the face of punishment. Though he never regained his tribe’s lands from the US government, he is remembered by many Apache for his leadership and courage. Readers learn about Geronimo’s fight for Apache territory as well as his early life in the present-day American Southwest. Historical images of him and early Native American reservations enhance an important social studies topic.","English",23.6,17.7,"979","24 pp.","https://www.garethstevens.com/9781482426885",null,{"$f":"Table1[[#This Row],[QTY]]*Table1[[#This Row],['# Books]]","v":0},{"$f":"Table1[[#This Row],[QTY]]*Table1[[#This Row],[S&L Price]]","v":0}]
[null,null,null,"Native American Heroes",1,"Osceola","Library Bound Book",null,"978-1-4824-2691-5",{"$f":"HYPERLINK(Table1[[#This Row],[eCommerce Hyperlink]],\"Book Weblink\")","v":"Book Weblink"},null,"2016","August 2015","Library","7.000 X 7.000","Author","Santana Hunt","3.3","0.5","18",null,"J",null,"Grade 1 - 2","Grade 1 - 3","Osceola may not be a name everyone knows, but his influence on the Seminole people was great. During the 1830s, the US government worked to move Native American tribes off their territory to reservations in the West. Osceola fought against the movement of his people from Florida to Oklahoma, resulting in his imprisonment. Readers learn about life as a Native American during a significant part of their history through both Osceola’s biography and the historic context. Accessible text introduces an important social studies topic, and relevant images illustrate the time period in detail.","English",23.6,17.7,"975.90049738590092","24 pp.","https://www.garethstevens.com/9781482426915",null,{"$f":"Table1[[#This Row],[QTY]]*Table1[[#This Row],['# Books]]","v":0},{"$f":"Table1[[#This Row],[QTY]]*Table1[[#This Row],[S&L Price]]","v":0}]
[null,null,null,"Native American Heroes",1,"Osceola","eBook",null,"978-1-4824-2988-6",{"$f":"HYPERLINK(Table1[[#This Row],[eCommerce Hyperlink]],\"Book Weblink\")","v":"Book Weblink"},null,"2016","August 2015",null,null,"Author","Santana Hunt","3.3","0.5","18",null,"J",null,"Grade 1 - 2","Grade 1 - 3","Osceola may not be a name everyone knows, but his influence on the Seminole people was great. During the 1830s, the US government worked to move Native American tribes off their territory to reservations in the West. Osceola fought against the movement of his people from Florida to Oklahoma, resulting in his imprisonment. Readers learn about life as a Native American during a significant part of their history through both Osceola’s biography and the historic context. Accessible text introduces an important social studies topic, and relevant images illustrate the time period in detail.","English",23.6,17.7,"975.90049738590092","24 pp.","https://www.garethstevens.com/9781482429886",null,{"$f":"Table1[[#This Row],[QTY]]*Table1[[#This Row],['# Books]]","v":0},{"$f":"Table1[[#This Row],[QTY]]*Table1[[#This Row],[S&L Price]]","v":0}]
[null,null,null,"Native American Heroes",1,"Red Cloud","Library Bound Book",null,"978-1-4824-2694-6",{"$f":"HYPERLINK(Table1[[#This Row],[eCommerce Hyperlink]],\"Book Weblink\")","v":"Book Weblink"},null,"2016","August 2015","Library","7.000 X 7.000","Author","Maria Nelson","3.2","0.5","18",null,"J",null,"Grade 1 - 2","Grade 1 - 3","Red Cloud did something no other Native American leader was able to: He successfully led his people against the United States in order to keep their historical lands. While the Sioux were forced off their lands less than a decade after he signed a peace treaty with the United States, Red Cloud still stood up for his people with great bravery. Readers are introduced to Red Cloud and his great leadership and historical images complement both the biographical information and the historical context surrounding Red Cloud’s life. A new perspective on westward expansion allows readers to see an often overlooked cultural viewpoint.","English",23.6,17.7,"978.0049752440092","24 pp.","https://www.garethstevens.com/9781482426946",null,{"$f":"Table1[[#This Row],[QTY]]*Table1[[#This Row],['# Books]]","v":0},{"$f":"Table1[[#This Row],[QTY]]*Table1[[#This Row],[S&L Price]]","v":0}]
[null,null,null,"Native American Heroes",1,"Red Cloud","eBook",null,"978-1-4824-2695-3",{"$f":"HYPERLINK(Table1[[#This Row],[eCommerce Hyperlink]],\"Book Weblink\")","v":"Book Weblink"},null,"2016","August 2015",null,null,"Author","Maria Nelson","3.2","0.5","18",null,"J",null,"Grade 1 - 2","Grade 1 - 3","Red Cloud did something no other Native American leader was able to: He successfully led his people against the United States in order to keep their historical lands. While the Sioux were forced off their lands less than a decade after he signed a peace treaty with the United States, Red Cloud still stood up for his people with great bravery. Readers are introduced to Red Cloud and his great leadership and historical images complement both the biographical information and the historical context surrounding Red Cloud’s life. A new perspective on westward expansion allows readers to see an often overlooked cultural viewpoint.","English",23.6,17.7,"978.0049752440092","24 pp.","https://www.garethstevens.com/9781482426953",null,{"$f":"Table1[[#This Row],[QTY]]*Table1[[#This Row],['# Books]]","v":0},{"$f":"Table1[[#This Row],[QTY]]*Table1[[#This Row],[S&L Price]]","v":0}]
[null,null,null,"Native American Heroes",1,"Red Jacket","Library Bound Book",null,"978-1-4824-2698-4",{"$f":"HYPERLINK(Table1[[#This Row],[eCommerce Hyperlink]],\"Book Weblink\")","v":"Book Weblink"},null,"2016","August 2015","Library","7.000 X 7.000","Author","Maria Nelson","3.4","0.5","18",null,"J",null,"Grade 1 - 2","Grade 1 - 3","Red Jacket is remembered as a great speaker who stood up for the Seneca tribe and their territory following the American Revolution. He worked with the Founding Fathers, including George Washington and John Adams, to secure a future for his people in the new United States. Readers discover a piece of Native American history through the biography of Red Jacket. The main content includes both events of his life as well as understandable historical context. Historical images also offer readers a unique perspective on the revolutionary period—that of the Native Americans who lived during that dramatic time.","English",23.6,17.7,"974.7004","24 pp.","https://www.garethstevens.com/9781482426984",null,{"$f":"Table1[[#This Row],[QTY]]*Table1[[#This Row],['# Books]]","v":0},{"$f":"Table1[[#This Row],[QTY]]*Table1[[#This Row],[S&L Price]]","v":0}]
[null,null,null,"Native American Heroes",1,"Red Jacket","eBook",null,"978-1-4824-2699-1",{"$f":"HYPERLINK(Table1[[#This Row],[eCommerce Hyperlink]],\"Book Weblink\")","v":"Book Weblink"},null,"2016","August 2015",null,null,"Author","Maria Nelson","3.4","0.5","18",null,"J",null,"Grade 1 - 2","Grade 1 - 3","Red Jacket is remembered as a great speaker who stood up for the Seneca tribe and their territory following the American Revolution. He worked with the Founding Fathers, including George Washington and John Adams, to secure a future for his people in the new United States. Readers discover a piece of Native American history through the biography of Red Jacket. The main content includes both events of his life as well as understandable historical context. Historical images also offer readers a unique perspective on the revolutionary period—that of the Native Americans who lived during that dramatic time.","English",23.6,17.7,"974.7004","24 pp.","https://www.garethstevens.com/9781482426991",null,{"$f":"Table1[[#This Row],[QTY]]*Table1[[#This Row],['# Books]]","v":0},{"$f":"Table1[[#This Row],[QTY]]*Table1[[#This Row],[S&L Price]]","v":0}]
[null,null,null,"Native American Heroes",1,"Sitting Bull","Library Bound Book",null,"978-1-4824-2702-8",{"$f":"HYPERLINK(Table1[[#This Row],[eCommerce Hyperlink]],\"Book Weblink\")","v":"Book Weblink"},null,"2016","August 2015","Library","7.000 X 7.000","Author","Walter LaPlante","3.4","0.5","18",null,"J",null,"Grade 1 - 2","Grade 1 - 3","Sitting Bull is best known for his part in the Battle of the Little Bighorn. He continually resisted the U.S. government's mandate that all Native Americans must move to reservations they set up. Sitting Bull became an important leader to his people, the Lakota, and a symbol to others who wished to resist the U.S. laws as well. With an emphasis on the Native American experience, this volume introduces readers to Sitting Bull and his cause. Important events are enhanced by historical images and collected in a timeline to aid understanding of a trying time in American history.","English",23.6,17.7,"978.004","24 pp.","https://www.garethstevens.com/9781482427028",null,{"$f":"Table1[[#This Row],[QTY]]*Table1[[#This Row],['# Books]]","v":0},{"$f":"Table1[[#This Row],[QTY]]*Table1[[#This Row],[S&L Price]]","v":0}]
[null,null,null,"Native American Heroes",1,"Sitting Bull","eBook",null,"978-1-4824-2703-5",{"$f":"HYPERLINK(Table1[[#This Row],[eCommerce Hyperlink]],\"Book Weblink\")","v":"Book Weblink"},null,"2016","August 2015",null,null,"Author","Walter LaPlante","3.4","0.5","18",null,"J",null,"Grade 1 - 2","Grade 1 - 3","Sitting Bull is best known for his part in the Battle of the Little Bighorn. He continually resisted the U.S. government's mandate that all Native Americans must move to reservations they set up. Sitting Bull became an important leader to his people, the Lakota, and a symbol to others who wished to resist the U.S. laws as well. With an emphasis on the Native American experience, this volume introduces readers to Sitting Bull and his cause. Important events are enhanced by historical images and collected in a timeline to aid understanding of a trying time in American history.","English",23.6,17.7,"978.004","24 pp.","https://www.garethstevens.com/9781482427035",null,{"$f":"Table1[[#This Row],[QTY]]*Table1[[#This Row],['# Books]]","v":0},{"$f":"Table1[[#This Row],[QTY]]*Table1[[#This Row],[S&L Price]]","v":0}]
[null,null,null,"Native American Heroes",1,"Tecumseh","Library Bound Book",null,"978-1-4824-2706-6",{"$f":"HYPERLINK(Table1[[#This Row],[eCommerce Hyperlink]],\"Book Weblink\")","v":"Book Weblink"},null,"2016","August 2015","Library","7.000 X 7.000","Author","Walter LaPlante","3.6","0.5","18",null,"J",null,"Grade 1 - 2","Grade 1 - 3","Tecumseh played a role in much of early U.S. history. He formed a confederacy of Native American tribes in the early 1800s, fought future president William Henry Harrison in the Battle of Tippecanoe, and then sided with the British in the War of 1812. The life of this great Shawnee orator and leader teaches readers about standing up for one’s beliefs as well as the Native American experience during the early 1800s. The main content includes biography and many important events of the era, both of which are also included in an end-of-book timeline.","English",23.6,17.7,"977.004973170092","24 pp.","https://www.garethstevens.com/9781482427066",null,{"$f":"Table1[[#This Row],[QTY]]*Table1[[#This Row],['# Books]]","v":0},{"$f":"Table1[[#This Row],[QTY]]*Table1[[#This Row],[S&L Price]]","v":0}]
[null,null,null,"Native American Heroes",1,"Tecumseh","eBook",null,"978-1-4824-2707-3",{"$f":"HYPERLINK(Table1[[#This Row],[eCommerce Hyperlink]],\"Book Weblink\")","v":"Book Weblink"},null,"2016","August 2015",null,null,"Author","Walter LaPlante","3.6","0.5","18",null,"J",null,"Grade 1 - 2","Grade 1 - 3","Tecumseh played a role in much of early U.S. history. He formed a confederacy of Native American tribes in the early 1800s, fought future president William Henry Harrison in the Battle of Tippecanoe, and then sided with the British in the War of 1812. The life of this great Shawnee orator and leader teaches readers about standing up for one’s beliefs as well as the Native American experience during the early 1800s. The main content includes biography and many important events of the era, both of which are also included in an end-of-book timeline.","English",23.6,17.7,"977.004973170092","24 pp.","https://www.garethstevens.com/9781482427073",null,{"$f":"Table1[[#This Row],[QTY]]*Table1[[#This Row],['# Books]]","v":0},{"$f":"Table1[[#This Row],[QTY]]*Table1[[#This Row],[S&L Price]]","v":0}]
[null,null,null,"Road Trip: National Parks",1,"Acadia National Park","Library Bound Book",null,"978-1-4824-1674-9",{"$f":"HYPERLINK(Table1[[#This Row],[eCommerce Hyperlink]],\"Book Weblink\")","v":"Book Weblink"},null,"2016","August 2015","Library","8.500 X 8.500","Author","Kathleen Connors",null,null,"24",null,"L","1000L","Grade 2 - 3","Grade 2 - 5","Mount Desert Island, home to Acadia National Park, has been inhabited for more than 5,000 years and enjoyed by vacationers for more than 200! Its many plants, animals, and scenic views make the island and its famous park one of the most visited places in the United States. Colorful photographs and descriptions take readers along the historic carriage roads and to the top of Cadillac Mountain. Readers learn how the park came to be and some of the unique aspects of its geography and nature that keep visitors coming back year after year.","English",23.6,17.7,"974.1","24 pp.","https://www.garethstevens.com/9781482416749",null,{"$f":"Table1[[#This Row],[QTY]]*Table1[[#This Row],['# Books]]","v":0},{"$f":"Table1[[#This Row],[QTY]]*Table1[[#This Row],[S&L Price]]","v":0}]
[null,null,null,"Road Trip: National Parks",1,"Acadia National Park","eBook",null,"978-1-4824-1677-0",{"$f":"HYPERLINK(Table1[[#This Row],[eCommerce Hyperlink]],\"Book Weblink\")","v":"Book Weblink"},null,"2016","August 2015",null,null,"Author","Kathleen Connors",null,null,"24",null,"L","1000L","Grade 2 - 3","Grade 2 - 5","Mount Desert Island, home to Acadia National Park, has been inhabited for more than 5,000 years and enjoyed by vacationers for more than 200! Its many plants, animals, and scenic views make the island and its famous park one of the most visited places in the United States. Colorful photographs and descriptions take readers along the historic carriage roads and to the top of Cadillac Mountain. Readers learn how the park came to be and some of the unique aspects of its geography and nature that keep visitors coming back year after year.","English",23.6,17.7,"974.1","24 pp.","https://www.garethstevens.com/9781482416770",null,{"$f":"Table1[[#This Row],[QTY]]*Table1[[#This Row],['# Books]]","v":0},{"$f":"Table1[[#This Row],[QTY]]*Table1[[#This Row],[S&L Price]]","v":0}]
[null,null,null,"Road Trip: National Parks",1,"Everglades National Park","Library Bound Book",null,"978-1-4824-1678-7",{"$f":"HYPERLINK(Table1[[#This Row],[eCommerce Hyperlink]],\"Book Weblink\")","v":"Book Weblink"},null,"2016","August 2015","Library","8.500 X 8.500","Author","Kathleen Connors",null,null,"24",null,"L","950L","Grade 2 - 3","Grade 2 - 5","Everglades National Park was established in 1934 to protect one of the most unique ecosystems in the world. From hardwood forests to the estuarine habitat of Florida Bay, the many habitats in the park are home to about 1,000 species of plants and hundreds of animal species, some of which are endangered. Readers learn the park’s history and roots in conservation through the social studies and science content included in the main text. Colorful photographs show the park’s beauty up close, enhancing reader interest through the rare and fascinating flora and fauna of the Everglades.","English",23.6,17.7,"917.59","24 pp.","https://www.garethstevens.com/9781482416787",null,{"$f":"Table1[[#This Row],[QTY]]*Table1[[#This Row],['# Books]]","v":0},{"$f":"Table1[[#This Row],[QTY]]*Table1[[#This Row],[S&L Price]]","v":0}]
[null,null,null,"Road Trip: National Parks",1,"Everglades National Park","eBook",null,"978-1-4824-1681-7",{"$f":"HYPERLINK(Table1[[#This Row],[eCommerce Hyperlink]],\"Book Weblink\")","v":"Book Weblink"},null,"2016","August 2015",null,null,"Author","Kathleen Connors",null,null,"24",null,"L","950L","Grade 2 - 3","Grade 2 - 5","Everglades National Park was established in 1934 to protect one of the most unique ecosystems in the world. From hardwood forests to the estuarine habitat of Florida Bay, the many habitats in the park are home to about 1,000 species of plants and hundreds of animal species, some of which are endangered. Readers learn the park’s history and roots in conservation through the social studies and science content included in the main text. Colorful photographs show the park’s beauty up close, enhancing reader interest through the rare and fascinating flora and fauna of the Everglades.","English",23.6,17.7,"917.59","24 pp.","https://www.garethstevens.com/9781482416817",null,{"$f":"Table1[[#This Row],[QTY]]*Table1[[#This Row],['# Books]]","v":0},{"$f":"Table1[[#This Row],[QTY]]*Table1[[#This Row],[S&L Price]]","v":0}]
[null,null,null,"Road Trip: National Parks",1,"Grand Canyon National Park","Library Bound Book",null,"978-1-4824-1682-4",{"$f":"HYPERLINK(Table1[[#This Row],[eCommerce Hyperlink]],\"Book Weblink\")","v":"Book Weblink"},null,"2016","August 2015","Library","8.500 X 8.500","Author","Santana Hunt",null,null,"24",null,"L","1030L","Grade 2 - 3","Grade 2 - 5","Within Grand Canyon National Park is one of the most majestic sites in the United States; the Grand Canyon. For adventurous road trippers, this national park is the perfect place to visit. Miles of hiking trails for visitors have been built around the rim of the canyon, down its steep sides, and even across the beautiful Colorado River. Readers learn how the Grand Canyon formed and about the creation of Grand Canyon National Park around it. Through full-color photographs of the beautiful landscape, readers can experience one of the natural wonders of the world without having to be there in person.","English",23.6,17.7,"979.1--dc23","24 pp.","https://www.garethstevens.com/9781482416824",null,{"$f":"Table1[[#This Row],[QTY]]*Table1[[#This Row],['# Books]]","v":0},{"$f":"Table1[[#This Row],[QTY]]*Table1[[#This Row],[S&L Price]]","v":0}]
[null,null,null,"Road Trip: National Parks",1,"Grand Canyon National Park","eBook",null,"978-1-4824-1685-5",{"$f":"HYPERLINK(Table1[[#This Row],[eCommerce Hyperlink]],\"Book Weblink\")","v":"Book Weblink"},null,"2016","August 2015",null,null,"Author","Santana Hunt",null,null,"24",null,"L","1030L","Grade 2 - 3","Grade 2 - 5","Within Grand Canyon National Park is one of the most majestic sites in the United States; the Grand Canyon. For adventurous road trippers, this national park is the perfect place to visit. Miles of hiking trails for visitors have been built around the rim of the canyon, down its steep sides, and even across the beautiful Colorado River. Readers learn how the Grand Canyon formed and about the creation of Grand Canyon National Park around it. Through full-color photographs of the beautiful landscape, readers can experience one of the natural wonders of the world without having to be there in person.","English",23.6,17.7,"979.1--dc23","24 pp.","https://www.garethstevens.com/9781482416855",null,{"$f":"Table1[[#This Row],[QTY]]*Table1[[#This Row],['# Books]]","v":0},{"$f":"Table1[[#This Row],[QTY]]*Table1[[#This Row],[S&L Price]]","v":0}]
[null,null,null,"Road Trip: National Parks",1,"Great Smoky Mountains National Park","Library Bound Book",null,"978-1-4824-1686-2",{"$f":"HYPERLINK(Table1[[#This Row],[eCommerce Hyperlink]],\"Book Weblink\")","v":"Book Weblink"},null,"2016","August 2015","Library","8.500 X 8.500","Author","Santana Hunt",null,null,"24",null,"L","1020L","Grade 2 - 3","Grade 2 - 5","People have inhabited the Great Smoky Mountains for thousands of years. The area was once a part of the Cherokee Nation and later farmed and logged by white settlers. Today, a good portion of this part of the Appalachian Mountains is protected as Great Smoky Mountains National Park. Through full-color photographs, readers travel to the heights of Clingmans Dome and around the hundreds of miles of hiking trails that wind through the park. An introduction to the history of the park is accompanied by information about the wildlife, plant life, and attractions found in the park today.","English",23.6,17.7,"976.8","24 pp.","https://www.garethstevens.com/9781482416862",null,{"$f":"Table1[[#This Row],[QTY]]*Table1[[#This Row],['# Books]]","v":0},{"$f":"Table1[[#This Row],[QTY]]*Table1[[#This Row],[S&L Price]]","v":0}]
[null,null,null,"Road Trip: National Parks",1,"Great Smoky Mountains National Park","eBook",null,"978-1-4824-1689-3",{"$f":"HYPERLINK(Table1[[#This Row],[eCommerce Hyperlink]],\"Book Weblink\")","v":"Book Weblink"},null,"2016","August 2015",null,null,"Author","Santana Hunt",null,null,"24",null,"L","1020L","Grade 2 - 3","Grade 2 - 5","People have inhabited the Great Smoky Mountains for thousands of years. The area was once a part of the Cherokee Nation and later farmed and logged by white settlers. Today, a good portion of this part of the Appalachian Mountains is protected as Great Smoky Mountains National Park. Through full-color photographs, readers travel to the heights of Clingmans Dome and around the hundreds of miles of hiking trails that wind through the park. An introduction to the history of the park is accompanied by information about the wildlife, plant life, and attractions found in the park today.","English",23.6,17.7,"976.8","24 pp.","https://www.garethstevens.com/9781482416893",null,{"$f":"Table1[[#This Row],[QTY]]*Table1[[#This Row],['# Books]]","v":0},{"$f":"Table1[[#This Row],[QTY]]*Table1[[#This Row],[S&L Price]]","v":0}]
[null,null,null,"Road Trip: National Parks",1,"Yellowstone National Park","Library Bound Book",null,"978-1-4824-1690-9",{"$f":"HYPERLINK(Table1[[#This Row],[eCommerce Hyperlink]],\"Book Weblink\")","v":"Book Weblink"},null,"2016","August 2015","Library","8.500 X 8.500","Author","Frances Nagle",null,null,"24",null,"L","950L","Grade 2 - 3","Grade 2 - 5","Yellowstone National Park is considered the first national park in the world! Created in 1872, the park encompasses many types of habitats but is best known for its Old Faithful Geyser. Readers join the more than 3 million yearly park visitors in discovering the beauty of Yellowstone National Park. Including important aspects of the social studies curriculum such as geography and conservation, this volume also introduces readers to the plants, wildlife, and attractions of this famous park. Enthralled by the full-color photographs of this lovely landscape, readers will certainly hope their next road trip heads to Yellowstone!","English",23.6,17.7,"979.4","24 pp.","https://www.garethstevens.com/9781482416909",null,{"$f":"Table1[[#This Row],[QTY]]*Table1[[#This Row],['# Books]]","v":0},{"$f":"Table1[[#This Row],[QTY]]*Table1[[#This Row],[S&L Price]]","v":0}]
[null,null,null,"Road Trip: National Parks",1,"Yellowstone National Park","eBook",null,"978-1-4824-1693-0",{"$f":"HYPERLINK(Table1[[#This Row],[eCommerce Hyperlink]],\"Book Weblink\")","v":"Book Weblink"},null,"2016","August 2015",null,null,"Author","Frances Nagle",null,null,"24",null,"L","950L","Grade 2 - 3","Grade 2 - 5","Yellowstone National Park is considered the first national park in the world! Created in 1872, the park encompasses many types of habitats but is best known for its Old Faithful Geyser. Readers join the more than 3 million yearly park visitors in discovering the beauty of Yellowstone National Park. Including important aspects of the social studies curriculum such as geography and conservation, this volume also introduces readers to the plants, wildlife, and attractions of this famous park. Enthralled by the full-color photographs of this lovely landscape, readers will certainly hope their next road trip heads to Yellowstone!","English",23.6,17.7,"979.4","24 pp.","https://www.garethstevens.com/9781482416930",null,{"$f":"Table1[[#This Row],[QTY]]*Table1[[#This Row],['# Books]]","v":0},{"$f":"Table1[[#This Row],[QTY]]*Table1[[#This Row],[S&L Price]]","v":0}]
[null,null,null,"Road Trip: National Parks",1,"Yosemite National Park","Library Bound Book",null,"978-1-4824-1694-7",{"$f":"HYPERLINK(Table1[[#This Row],[eCommerce Hyperlink]],\"Book Weblink\")","v":"Book Weblink"},null,"2016","August 2015","Library","8.500 X 8.500","Author","Frances Nagle",null,null,"24",null,"L","980L","Grade 2 - 3","Grade 2 - 5","Waterfalls, giant sequoias, and majestic granite cliffs bring millions of people to Yosemite National Park each year. Found in eastern California, Yosemite is partly made up of the western Sierra Nevada mountains and has a variety of woodland and alpine habitats. With hundreds of miles of hiking trails and amazing natural views, Yosemite National Park is easy to show off in the full-color photographs in this volume. Readers learn how the park came to be as well as the climbing spots, wildlife viewing, and other activities that make Yosemite a great road trip stop.","English",23.6,17.7,"979.4","24 pp.","https://www.garethstevens.com/9781482416947",null,{"$f":"Table1[[#This Row],[QTY]]*Table1[[#This Row],['# Books]]","v":0},{"$f":"Table1[[#This Row],[QTY]]*Table1[[#This Row],[S&L Price]]","v":0}]
[null,null,null,"Road Trip: National Parks",1,"Yosemite National Park","eBook",null,"978-1-4824-1697-8",{"$f":"HYPERLINK(Table1[[#This Row],[eCommerce Hyperlink]],\"Book Weblink\")","v":"Book Weblink"},null,"2016","August 2015",null,null,"Author","Frances Nagle",null,null,"24",null,"L","980L","Grade 2 - 3","Grade 2 - 5","Waterfalls, giant sequoias, and majestic granite cliffs bring millions of people to Yosemite National Park each year. Found in eastern California, Yosemite is partly made up of the western Sierra Nevada mountains and has a variety of woodland and alpine habitats. With hundreds of miles of hiking trails and amazing natural views, Yosemite National Park is easy to show off in the full-color photographs in this volume. Readers learn how the park came to be as well as the climbing spots, wildlife viewing, and other activities that make Yosemite a great road trip stop.","English",23.6,17.7,"979.4","24 pp.","https://www.garethstevens.com/9781482416978",null,{"$f":"Table1[[#This Row],[QTY]]*Table1[[#This Row],['# Books]]","v":0},{"$f":"Table1[[#This Row],[QTY]]*Table1[[#This Row],[S&L Price]]","v":0}]
[null,null,null,"Who's Your Candidate? Choosing Government Leaders",1,"Becoming a House Representative","Library Bound Book",null,"978-1-4824-4037-9",{"$f":"HYPERLINK(Table1[[#This Row],[eCommerce Hyperlink]],\"Book Weblink\")","v":"Book Weblink"},null,"2016","January 2016","Library","8.500 X 11.00","Author","Maria Nelson","6","0.5",null,null,"Q",null,"Grade 3 - 4","Grade 3 - 6","The House of Representatives is the voice of the American people, just like the student council speaks for the student body or class. Being part of student council or taking another leadership role in school can be a great experience for students. But the road to election can seem like a long one—and even longer for those who aspire to a political career! With main content including the setup of the House, who is eligible, and how one is elected, this book uniquely relates House candidates’ experiences to readers working for student leadership positions.","English",27.6,20.7,"328.73'072--dc23","32 pp.","https://www.garethstevens.com/9781482440379",null,{"$f":"Table1[[#This Row],[QTY]]*Table1[[#This Row],['# Books]]","v":0},{"$f":"Table1[[#This Row],[QTY]]*Table1[[#This Row],[S&L Price]]","v":0}]
[null,null,null,"Who's Your Candidate? Choosing Government Leaders",1,"Becoming a House Representative","eBook",null,"978-1-4824-4038-6",{"$f":"HYPERLINK(Table1[[#This Row],[eCommerce Hyperlink]],\"Book Weblink\")","v":"Book Weblink"},null,"2016","January 2016",null,null,"Author","Maria Nelson","6","0.5",null,null,"Q",null,"Grade 3 - 4","Grade 3 - 6","The House of Representatives is the voice of the American people, just like the student council speaks for the student body or class. Being part of student council or taking another leadership role in school can be a great experience for students. But the road to election can seem like a long one—and even longer for those who aspire to a political career! With main content including the setup of the House, who is eligible, and how one is elected, this book uniquely relates House candidates’ experiences to readers working for student leadership positions.","English",27.6,20.7,"328.73'072--dc23","32 pp.","https://www.garethstevens.com/9781482440386",null,{"$f":"Table1[[#This Row],[QTY]]*Table1[[#This Row],['# Books]]","v":0},{"$f":"Table1[[#This Row],[QTY]]*Table1[[#This Row],[S&L Price]]","v":0}]
[null,null,null,"Who's Your Candidate? Choosing Government Leaders",1,"Becoming a Senator","Library Bound Book",null,"978-1-4824-4045-4",{"$f":"HYPERLINK(Table1[[#This Row],[eCommerce Hyperlink]],\"Book Weblink\")","v":"Book Weblink"},null,"2016","January 2016","Library","8.500 X 11.00","Author","Maria Nelson","6","0.5",null,null,"Q",null,"Grade 3 - 4","Grade 3 - 6","Called the Higher House of Congress, the US Senate is structured so that older, wiser state representatives hold office in it. The Founding Fathers wanted one part of Congress to have longer terms to take on bigger responsibilities and see them through. Similarly, students running for a leadership position in a school-wide organization need to have experience and vision. Readers explore the process of becoming a senator through the unique lens of wanting to obtain leadership themselves. Clear tie-ins to readers’ campaigns engage them with the main content, including integral parts of the social studies curriculum.","English",27.6,20.7,"328.73--dc23","32 pp.","https://www.garethstevens.com/9781482440454",null,{"$f":"Table1[[#This Row],[QTY]]*Table1[[#This Row],['# Books]]","v":0},{"$f":"Table1[[#This Row],[QTY]]*Table1[[#This Row],[S&L Price]]","v":0}]
[null,null,null,"Who's Your Candidate? Choosing Government Leaders",1,"Becoming a Senator","eBook",null,"978-1-4824-4046-1",{"$f":"HYPERLINK(Table1[[#This Row],[eCommerce Hyperlink]],\"Book Weblink\")","v":"Book Weblink"},null,"2016","January 2016",null,null,"Author","Maria Nelson","6","0.5",null,null,"Q",null,"Grade 3 - 4","Grade 3 - 6","Called the Higher House of Congress, the US Senate is structured so that older, wiser state representatives hold office in it. The Founding Fathers wanted one part of Congress to have longer terms to take on bigger responsibilities and see them through. Similarly, students running for a leadership position in a school-wide organization need to have experience and vision. Readers explore the process of becoming a senator through the unique lens of wanting to obtain leadership themselves. Clear tie-ins to readers’ campaigns engage them with the main content, including integral parts of the social studies curriculum.","English",27.6,20.7,"328.73--dc23","32 pp.","https://www.garethstevens.com/9781482440461",null,{"$f":"Table1[[#This Row],[QTY]]*Table1[[#This Row],['# Books]]","v":0},{"$f":"Table1[[#This Row],[QTY]]*Table1[[#This Row],[S&L Price]]","v":0}]
[null,null,null,"Who's Your Candidate? Choosing Government Leaders",1,"Becoming a State Governor","Library Bound Book",null,"978-1-4824-4049-2",{"$f":"HYPERLINK(Table1[[#This Row],[eCommerce Hyperlink]],\"Book Weblink\")","v":"Book Weblink"},null,"2016","January 2016","Library","8.500 X 11.00","Author","Emily Mahoney","6.3","0.5",null,null,"Q","1060L","Grade 3 - 4","Grade 3 - 6","A state governor is the leader of all the people of a state, just like a leader of an organization speaks for its people. Being a leader in a school or community organization is a great experience, but it takes a lot of work. The road to becoming a politician can seem complicated, especially when you think about being elected. With content that explores the role of the state governor, who is eligible, and how one is elected, this book uniquely relates state governors’ experiences to readers working for student leadership positions.","English",27.6,20.7,"352.23'21302373--dc23","32 pp.","https://www.garethstevens.com/9781482440492",null,{"$f":"Table1[[#This Row],[QTY]]*Table1[[#This Row],['# Books]]","v":0},{"$f":"Table1[[#This Row],[QTY]]*Table1[[#This Row],[S&L Price]]","v":0}]
[null,null,null,"Who's Your Candidate? Choosing Government Leaders",1,"Becoming a State Governor","eBook",null,"978-1-4824-4050-8",{"$f":"HYPERLINK(Table1[[#This Row],[eCommerce Hyperlink]],\"Book Weblink\")","v":"Book Weblink"},null,"2016","January 2016",null,null,"Author","Emily Mahoney","6.3","0.5",null,null,"Q","1060L","Grade 3 - 4","Grade 3 - 6","A state governor is the leader of all the people of a state, just like a leader of an organization speaks for its people. Being a leader in a school or community organization is a great experience, but it takes a lot of work. The road to becoming a politician can seem complicated, especially when you think about being elected. With content that explores the role of the state governor, who is eligible, and how one is elected, this book uniquely relates state governors’ experiences to readers working for student leadership positions.","English",27.6,20.7,"352.23'21302373--dc23","32 pp.","https://www.garethstevens.com/9781482440508",null,{"$f":"Table1[[#This Row],[QTY]]*Table1[[#This Row],['# Books]]","v":0},{"$f":"Table1[[#This Row],[QTY]]*Table1[[#This Row],[S&L Price]]","v":0}]
[null,null,null,"Who's Your Candidate? Choosing Government Leaders",1,"Becoming a Supreme Court Justice","Library Bound Book",null,"978-1-4824-4053-9",{"$f":"HYPERLINK(Table1[[#This Row],[eCommerce Hyperlink]],\"Book Weblink\")","v":"Book Weblink"},null,"2016","January 2016","Library","8.500 X 11.00","Author","Barbara M. Linde","5.4","0.5",null,null,"R",null,"Grade 3 - 4","Grade 3 - 6","A Supreme Court justice’s first job is upholding the US Constitution. The path to becoming an esteemed justice is long and the process for appointment can be very controversial. In addition to an introduction to this important branch of the US government, the main content and complementary sidebars relate becoming a justice to positions of student leadership readers themselves may hold. Positions on student courts and disciplinary committees can be difficult but valuable experiences, and this book aids readers as they navigate them.","English",27.6,20.7,"347.73'2634--dc23","32 pp.","https://www.garethstevens.com/9781482440539",null,{"$f":"Table1[[#This Row],[QTY]]*Table1[[#This Row],['# Books]]","v":0},{"$f":"Table1[[#This Row],[QTY]]*Table1[[#This Row],[S&L Price]]","v":0}]
[null,null,null,"Who's Your Candidate? Choosing Government Leaders",1,"Becoming a Supreme Court Justice","eBook",null,"978-1-4824-4054-6",{"$f":"HYPERLINK(Table1[[#This Row],[eCommerce Hyperlink]],\"Book Weblink\")","v":"Book Weblink"},null,"2016","January 2016",null,null,"Author","Barbara M. Linde","5.4","0.5",null,null,"R",null,"Grade 3 - 4","Grade 3 - 6","A Supreme Court justice’s first job is upholding the US Constitution. The path to becoming an esteemed justice is long and the process for appointment can be very controversial. In addition to an introduction to this important branch of the US government, the main content and complementary sidebars relate becoming a justice to positions of student leadership readers themselves may hold. Positions on student courts and disciplinary committees can be difficult but valuable experiences, and this book aids readers as they navigate them.","English",27.6,20.7,"347.73'2634--dc23","32 pp.","https://www.garethstevens.com/9781482440546",null,{"$f":"Table1[[#This Row],[QTY]]*Table1[[#This Row],['# Books]]","v":0},{"$f":"Table1[[#This Row],[QTY]]*Table1[[#This Row],[S&L Price]]","v":0}]
[null,null,null,"Who's Your Candidate? Choosing Government Leaders",1,"Becoming President","Library Bound Book",null,"978-1-4824-4041-6",{"$f":"HYPERLINK(Table1[[#This Row],[eCommerce Hyperlink]],\"Book Weblink\")","v":"Book Weblink"},null,"2016","January 2016","Library","8.500 X 11.00","Author","Michael Rajczak","5.9","0.5",null,null,"R",null,"Grade 3 - 4","Grade 3 - 6","Becoming one of the most powerful leaders in the world is enticing, but the path to U.S. president is a difficult one. The campaign may be years long, and financing is complicated. While running for student council president or other major student leadership position may not cost as much, preparation for the job can also be daunting. This book not only introduces readers to the process of becoming the American president, but also guides them through their own campaign. The main content relates the electoral process to readers' lives whenever possible, including sidebars written for ambitious students eager to lead.","English",27.6,20.7,"324.973--dc23","32 pp.","https://www.garethstevens.com/9781482440416",null,{"$f":"Table1[[#This Row],[QTY]]*Table1[[#This Row],['# Books]]","v":0},{"$f":"Table1[[#This Row],[QTY]]*Table1[[#This Row],[S&L Price]]","v":0}]
[null,null,null,"Who's Your Candidate? Choosing Government Leaders",1,"Becoming President","eBook",null,"978-1-4824-4042-3",{"$f":"HYPERLINK(Table1[[#This Row],[eCommerce Hyperlink]],\"Book Weblink\")","v":"Book Weblink"},null,"2016","January 2016",null,null,"Author","Michael Rajczak","5.9","0.5",null,null,"R",null,"Grade 3 - 4","Grade 3 - 6","Becoming one of the most powerful leaders in the world is enticing, but the path to U.S. president is a difficult one. The campaign may be years long, and financing is complicated. While running for student council president or other major student leadership position may not cost as much, preparation for the job can also be daunting. This book not only introduces readers to the process of becoming the American president, but also guides them through their own campaign. The main content relates the electoral process to readers' lives whenever possible, including sidebars written for ambitious students eager to lead.","English",27.6,20.7,"324.973--dc23","32 pp.","https://www.garethstevens.com/9781482440423",null,{"$f":"Table1[[#This Row],[QTY]]*Table1[[#This Row],['# Books]]","v":0},{"$f":"Table1[[#This Row],[QTY]]*Table1[[#This Row],[S&L Price]]","v":0}]
[null,null,null,"Who's Your Candidate? Choosing Government Leaders",1,"Becoming Vice President","Library Bound Book",null,"978-1-4824-4057-7",{"$f":"HYPERLINK(Table1[[#This Row],[eCommerce Hyperlink]],\"Book Weblink\")","v":"Book Weblink"},null,"2016","January 2016","Library","8.500 X 11.00","Author","Maria Nelson","6.1","0.5",null,null,"R",null,"Grade 3 - 4","Grade 3 - 6","When in a position of leadership, there’s almost nothing more valuable than a person who always supports and challenges you. The vice president of an organization, much like the vice president of the United States, aids the president in any way they can, including stepping up to the top role if the president can no longer hold it. Readers learn about how one becomes US vice president and the duties of this sometimes-overlooked position. In addition, specially designated sidebars and content relate this federal process to student elections and organizations to aid readers in pursuing their leadership ambitions.","English",27.6,20.7,"352.23'90973--dc23","32 pp.","https://www.garethstevens.com/9781482440577",null,{"$f":"Table1[[#This Row],[QTY]]*Table1[[#This Row],['# Books]]","v":0},{"$f":"Table1[[#This Row],[QTY]]*Table1[[#This Row],[S&L Price]]","v":0}]
[null,null,null,"Who's Your Candidate? Choosing Government Leaders",1,"Becoming Vice President","eBook",null,"978-1-4824-4058-4",{"$f":"HYPERLINK(Table1[[#This Row],[eCommerce Hyperlink]],\"Book Weblink\")","v":"Book Weblink"},null,"2016","January 2016",null,null,"Author","Maria Nelson","6.1","0.5",null,null,"R",null,"Grade 3 - 4","Grade 3 - 6","When in a position of leadership, there’s almost nothing more valuable than a person who always supports and challenges you. The vice president of an organization, much like the vice president of the United States, aids the president in any way they can, including stepping up to the top role if the president can no longer hold it. Readers learn about how one becomes US vice president and the duties of this sometimes-overlooked position. In addition, specially designated sidebars and content relate this federal process to student elections and organizations to aid readers in pursuing their leadership ambitions.","English",27.6,20.7,"352.23'90973--dc23","32 pp.","https://www.garethstevens.com/9781482440584",null,{"$f":"Table1[[#This Row],[QTY]]*Table1[[#This Row],['# Books]]","v":0},{"$f":"Table1[[#This Row],[QTY]]*Table1[[#This Row],[S&L Price]]","v":0}]
[null,null,null,"Doomed!",1,"Plague: The Black Death","Library Bound Book",null,"978-1-4824-2942-8",{"$f":"HYPERLINK(Table1[[#This Row],[eCommerce Hyperlink]],\"Book Weblink\")","v":"Book Weblink"},null,"2016","August 2015","Library","6.500 X 9.125","Author","Janey Levy","6.8","1.0","44",null,"T","1010L","Grade 4 - 5","Grade 4 - 6","The plague, aptly known as the Black Death, swept through Europe in the 1300s, killing more than 20 million people. Not only deadly but incredibly painful, the disease was characterized by black boils all over the body that oozed blood and pus. While providing more details about the plague, this book, an asset to any social studies collection, also addresses where the lethal outbreak originated and whether it could return. Aided by striking illustrations, sidebars, and fact boxes, readers will discover the conditions in the Middle Ages that made it possible for such an appalling disease to spread so easily.","English",27.6,20.7,"614.5'732094--dc23","32 pp.","https://www.garethstevens.com/9781482429428",null,{"$f":"Table1[[#This Row],[QTY]]*Table1[[#This Row],['# Books]]","v":0},{"$f":"Table1[[#This Row],[QTY]]*Table1[[#This Row],[S&L Price]]","v":0}]
[null,null,null,"Doomed!",1,"Plague: The Black Death","eBook",null,"978-1-4824-2943-5",{"$f":"HYPERLINK(Table1[[#This Row],[eCommerce Hyperlink]],\"Book Weblink\")","v":"Book Weblink"},null,"2016","August 2015",null,null,"Author","Janey Levy","6.8","1.0","44",null,"T","1010L","Grade 4 - 5","Grade 4 - 6","The plague, aptly known as the Black Death, swept through Europe in the 1300s, killing more than 20 million people. Not only deadly but incredibly painful, the disease was characterized by black boils all over the body that oozed blood and pus. While providing more details about the plague, this book, an asset to any social studies collection, also addresses where the lethal outbreak originated and whether it could return. Aided by striking illustrations, sidebars, and fact boxes, readers will discover the conditions in the Middle Ages that made it possible for such an appalling disease to spread so easily.","English",27.6,20.7,"614.5'732094--dc23","32 pp.","https://www.garethstevens.com/9781482429435",null,{"$f":"Table1[[#This Row],[QTY]]*Table1[[#This Row],['# Books]]","v":0},{"$f":"Table1[[#This Row],[QTY]]*Table1[[#This Row],[S&L Price]]","v":0}]
[null,null,null,"Doomed!",1,"The City of Pompeii","Library Bound Book",null,"978-1-4824-2926-8",{"$f":"HYPERLINK(Table1[[#This Row],[eCommerce Hyperlink]],\"Book Weblink\")","v":"Book Weblink"},null,"2016","August 2015","Library","6.500 X 9.125","Author","Janey Levy","6.5","1.0","44",null,"T","1040L","Grade 4 - 5","Grade 4 - 6","In AD 79, the residents of the booming Roman city of Pompeii were shocked when a nearby mountain exploded, releasing superhot ash, rock, and gas on the surrounding areas. What happens next is the extraordinary account of a volcano in action. Though the people who didn't flee Pompeii were doomed, the volcano preserved their remains, allowing us to better understand a fascinating time in the Roman Empire. Astonishing photographs of Pompeii, primary source records of the occurrence, and riveting text are just some highlights of this high-interest volume.","English",27.6,20.7,"937","32 pp.","https://www.garethstevens.com/9781482429268",null,{"$f":"Table1[[#This Row],[QTY]]*Table1[[#This Row],['# Books]]","v":0},{"$f":"Table1[[#This Row],[QTY]]*Table1[[#This Row],[S&L Price]]","v":0}]
[null,null,null,"Doomed!",1,"The City of Pompeii","eBook",null,"978-1-4824-2927-5",{"$f":"HYPERLINK(Table1[[#This Row],[eCommerce Hyperlink]],\"Book Weblink\")","v":"Book Weblink"},null,"2016","August 2015",null,null,"Author","Janey Levy","6.5","1.0","44",null,"T","1040L","Grade 4 - 5","Grade 4 - 6","In AD 79, the residents of the booming Roman city of Pompeii were shocked when a nearby mountain exploded, releasing superhot ash, rock, and gas on the surrounding areas. What happens next is the extraordinary account of a volcano in action. Though the people who didn't flee Pompeii were doomed, the volcano preserved their remains, allowing us to better understand a fascinating time in the Roman Empire. Astonishing photographs of Pompeii, primary source records of the occurrence, and riveting text are just some highlights of this high-interest volume.","English",27.6,20.7,"937","32 pp.","https://www.garethstevens.com/9781482429275",null,{"$f":"Table1[[#This Row],[QTY]]*Table1[[#This Row],['# Books]]","v":0},{"$f":"Table1[[#This Row],[QTY]]*Table1[[#This Row],[S&L Price]]","v":0}]
[null,null,null,"Doomed!",1,"The Donner Party","Library Bound Book",null,"978-1-4824-2930-5",{"$f":"HYPERLINK(Table1[[#This Row],[eCommerce Hyperlink]],\"Book Weblink\")","v":"Book Weblink"},null,"2016","August 2015","Library","6.500 X 9.125","Author","Kristen Rajczak Nelson","6","1","44",null,"T","980L","Grade 4 - 5","Grade 4 - 6","In 1846, travelers heading for California became trapped high in the mountains of the Sierra Nevada. Snowdrifts surrounded their shelters, and food supplies dwindled. How they stayed alive remains one of the most gruesome stories in US history. However, some facts that have come to light recently through archaeological digs will surprise even those who think they know the story. This gripping book, including maps and images of the era, tells the true account of the doomed Donner party.","English",27.6,20.7,"978","32 pp.","https://www.garethstevens.com/9781482429305",null,{"$f":"Table1[[#This Row],[QTY]]*Table1[[#This Row],['# Books]]","v":0},{"$f":"Table1[[#This Row],[QTY]]*Table1[[#This Row],[S&L Price]]","v":0}]
[null,null,null,"Doomed!",1,"The Donner Party","eBook",null,"978-1-4824-2931-2",{"$f":"HYPERLINK(Table1[[#This Row],[eCommerce Hyperlink]],\"Book Weblink\")","v":"Book Weblink"},null,"2016","August 2015",null,null,"Author","Kristen Rajczak Nelson","6","1","44",null,"T","980L","Grade 4 - 5","Grade 4 - 6","In 1846, travelers heading for California became trapped high in the mountains of the Sierra Nevada. Snowdrifts surrounded their shelters, and food supplies dwindled. How they stayed alive remains one of the most gruesome stories in US history. However, some facts that have come to light recently through archaeological digs will surprise even those who think they know the story. This gripping book, including maps and images of the era, tells the true account of the doomed Donner party.","English",27.6,20.7,"978","32 pp.","https://www.garethstevens.com/9781482429312",null,{"$f":"Table1[[#This Row],[QTY]]*Table1[[#This Row],['# Books]]","v":0},{"$f":"Table1[[#This Row],[QTY]]*Table1[[#This Row],[S&L Price]]","v":0}]
[null,null,null,"Doomed!",1,"The Great Fire of London","Library Bound Book",null,"978-1-4824-2934-3",{"$f":"HYPERLINK(Table1[[#This Row],[eCommerce Hyperlink]],\"Book Weblink\")","v":"Book Weblink"},null,"2016","August 2015","Library","6.500 X 9.125","Author","Sarah Machajewski","5.8","1.0","40",null,"S","930L","Grade 4 - 5","Grade 4 - 6","In September 1666, a small fire broke out at the king's bakery in London, England, in the early morning. Several fateful factors worked together to turn this small blaze into a catastrophic conflagration that changed the city forever. This riveting account of a city set ablaze is supported by primary sources such as maps, diaries, and royal proclamations. Readers will be fascinated by old-fashioned firefighting techniques and people's reactions as the fire spread and burned for days. Images of London on fire will ignite their imaginations and further enable them to understand this era and setting in European history.","English",27.6,20.7,"942.1","32 pp.","https://www.garethstevens.com/9781482429343",null,{"$f":"Table1[[#This Row],[QTY]]*Table1[[#This Row],['# Books]]","v":0},{"$f":"Table1[[#This Row],[QTY]]*Table1[[#This Row],[S&L Price]]","v":0}]
[null,null,null,"Doomed!",1,"The Great Fire of London","eBook",null,"978-1-4824-2935-0",{"$f":"HYPERLINK(Table1[[#This Row],[eCommerce Hyperlink]],\"Book Weblink\")","v":"Book Weblink"},null,"2016","August 2015",null,null,"Author","Sarah Machajewski","5.8","1.0","40",null,"S","930L","Grade 4 - 5","Grade 4 - 6","In September 1666, a small fire broke out at the king's bakery in London, England, in the early morning. Several fateful factors worked together to turn this small blaze into a catastrophic conflagration that changed the city forever. This riveting account of a city set ablaze is supported by primary sources such as maps, diaries, and royal proclamations. Readers will be fascinated by old-fashioned firefighting techniques and people's reactions as the fire spread and burned for days. Images of London on fire will ignite their imaginations and further enable them to understand this era and setting in European history.","English",27.6,20.7,"942.1","32 pp.","https://www.garethstevens.com/9781482429350",null,{"$f":"Table1[[#This Row],[QTY]]*Table1[[#This Row],['# Books]]","v":0},{"$f":"Table1[[#This Row],[QTY]]*Table1[[#This Row],[S&L Price]]","v":0}]
[null,null,null,"Doomed!",1,"The Hindenburg Disaster","Library Bound Book",null,"978-1-4824-2938-1",{"$f":"HYPERLINK(Table1[[#This Row],[eCommerce Hyperlink]],\"Book Weblink\")","v":"Book Weblink"},null,"2016","August 2015","Library","6.500 X 9.125","Author","Ryan Nagelhout","6.6","1.0","40",null,"S","1080L","Grade 4 - 5","Grade 4 - 6","The Hindenburg, the largest airship ever built and the pride of Nazi Germany, burst into flames over Lakehurst, New Jersey, in 1937. It swiftly fell from the sky and was incinerated. This incident is remembered as the most infamous airship accident, killing 36 people and sinking the dirigible transportation industry. Fascinated readers will explore why and how this giant hydrogen-filled ship was made and the reasons it may have been doomed to fail. They'll also learn conspiracy theories and surprising facts about the circumstances of the terrible disaster. Authentic photographs and thoughtful sidebars add to the historical content. \n\t\n","English",27.6,20.7,"363.12","32 pp.","https://www.garethstevens.com/9781482429381",null,{"$f":"Table1[[#This Row],[QTY]]*Table1[[#This Row],['# Books]]","v":0},{"$f":"Table1[[#This Row],[QTY]]*Table1[[#This Row],[S&L Price]]","v":0}]
[null,null,null,"Doomed!",1,"The Hindenburg Disaster","eBook",null,"978-1-4824-2939-8",{"$f":"HYPERLINK(Table1[[#This Row],[eCommerce Hyperlink]],\"Book Weblink\")","v":"Book Weblink"},null,"2016","August 2015",null,null,"Author","Ryan Nagelhout","6.6","1.0","40",null,"S","1080L","Grade 4 - 5","Grade 4 - 6","The Hindenburg, the largest airship ever built and the pride of Nazi Germany, burst into flames over Lakehurst, New Jersey, in 1937. It swiftly fell from the sky and was incinerated. This incident is remembered as the most infamous airship accident, killing 36 people and sinking the dirigible transportation industry. Fascinated readers will explore why and how this giant hydrogen-filled ship was made and the reasons it may have been doomed to fail. They'll also learn conspiracy theories and surprising facts about the circumstances of the terrible disaster. Authentic photographs and thoughtful sidebars add to the historical content. \n\t\n","English",27.6,20.7,"363.12","32 pp.","https://www.garethstevens.com/9781482429398",null,{"$f":"Table1[[#This Row],[QTY]]*Table1[[#This Row],['# Books]]","v":0},{"$f":"Table1[[#This Row],[QTY]]*Table1[[#This Row],[S&L Price]]","v":0}]
[null,null,null,"Doomed!",1,"The Sinking of the Titanic","Library Bound Book",null,"978-1-4824-2946-6",{"$f":"HYPERLINK(Table1[[#This Row],[eCommerce Hyperlink]],\"Book Weblink\")","v":"Book Weblink"},null,"2016","August 2015","Library","6.500 X 9.125","Author","Therese M. Shea","6","1","40",null,"S","910L","Grade 4 - 5","Grade 4 - 6","The unsinkable luxury liner known as the Titanic may have sunk on its first transatlantic voyage in 1912, but people remain riveted to its storied legend. The collision with the iceberg in the North Atlantic was not the only mistake that was made that day. In this spellbinding volume, readers will learn about the passengers and crew aboard the doomed ship and what really happened that tragic night. Historical photographs will transport them back to the glamorous era, while the narrative paints an absorbing picture of the Titanic's sad fate.","English",27.6,20.7,"910.9163","32 pp.","https://www.garethstevens.com/9781482429466",null,{"$f":"Table1[[#This Row],[QTY]]*Table1[[#This Row],['# Books]]","v":0},{"$f":"Table1[[#This Row],[QTY]]*Table1[[#This Row],[S&L Price]]","v":0}]
[null,null,null,"Doomed!",1,"The Sinking of the Titanic","eBook",null,"978-1-4824-2947-3",{"$f":"HYPERLINK(Table1[[#This Row],[eCommerce Hyperlink]],\"Book Weblink\")","v":"Book Weblink"},null,"2016","August 2015",null,null,"Author","Therese M. Shea","6","1","40",null,"S","910L","Grade 4 - 5","Grade 4 - 6","The unsinkable luxury liner known as the Titanic may have sunk on its first transatlantic voyage in 1912, but people remain riveted to its storied legend. The collision with the iceberg in the North Atlantic was not the only mistake that was made that day. In this spellbinding volume, readers will learn about the passengers and crew aboard the doomed ship and what really happened that tragic night. Historical photographs will transport them back to the glamorous era, while the narrative paints an absorbing picture of the Titanic's sad fate.","English",27.6,20.7,"910.9163","32 pp.","https://www.garethstevens.com/9781482429473",null,{"$f":"Table1[[#This Row],[QTY]]*Table1[[#This Row],['# Books]]","v":0},{"$f":"Table1[[#This Row],[QTY]]*Table1[[#This Row],[S&L Price]]","v":0}]
[null,null,null,"Awfully Ancient",1,"Banished, Beheaded, or Boiled in Oil: A Hair-Raising History of Crime and Punishment Throughout the Ages!","Library Bound Book",null,"978-1-4824-3122-3",{"$f":"HYPERLINK(Table1[[#This Row],[eCommerce Hyperlink]],\"Book Weblink\")","v":"Book Weblink"},null,"2016","August 2015","Library","8.500 X 11.00","Author","Neil Tonge","6.5","1",null,null,"U","980L","Grade 5","Grade 4 - 8","The history of punishing criminals is a long and gruesome one. In 620 BC, a Greek named Draco wrote a legal code that punished almost every crime with death—except murder! For that, criminals were exiled. Odd facts about crime and punishment like this abound in history. Readers encounter many places and periods, from ancient China to the Victorian era, to learn all about the terrible, gross, and strange ways crimes were punished in the past. A colorful layout full of amusing and informative illustrations reinforce the main content, providing historical context and detail that will keep readers turning pages. \n\n","English",27.6,20.7,"364.9","32 pp.","https://www.garethstevens.com/9781482431223",null,{"$f":"Table1[[#This Row],[QTY]]*Table1[[#This Row],['# Books]]","v":0},{"$f":"Table1[[#This Row],[QTY]]*Table1[[#This Row],[S&L Price]]","v":0}]
[null,null,null,"Awfully Ancient",1,"Banished, Beheaded, or Boiled in Oil: A Hair-Raising History of Crime and Punishment Throughout the Ages!","eBook",null,"978-1-4824-3123-0",{"$f":"HYPERLINK(Table1[[#This Row],[eCommerce Hyperlink]],\"Book Weblink\")","v":"Book Weblink"},null,"2016","August 2015",null,null,"Author","Neil Tonge","6.5","1",null,null,"U","980L","Grade 5","Grade 4 - 8","The history of punishing criminals is a long and gruesome one. In 620 BC, a Greek named Draco wrote a legal code that punished almost every crime with death—except murder! For that, criminals were exiled. Odd facts about crime and punishment like this abound in history. Readers encounter many places and periods, from ancient China to the Victorian era, to learn all about the terrible, gross, and strange ways crimes were punished in the past. A colorful layout full of amusing and informative illustrations reinforce the main content, providing historical context and detail that will keep readers turning pages. \n\n","English",27.6,20.7,"364.9","32 pp.","https://www.garethstevens.com/9781482431230",null,{"$f":"Table1[[#This Row],[QTY]]*Table1[[#This Row],['# Books]]","v":0},{"$f":"Table1[[#This Row],[QTY]]*Table1[[#This Row],[S&L Price]]","v":0}]
[null,null,null,"Awfully Ancient",1,"Gory Gladiators, Savage Centurions, and Caesar's Sticky End: A Menacing History of the Unruly Romans!","Library Bound Book",null,"978-1-4824-3114-8",{"$f":"HYPERLINK(Table1[[#This Row],[eCommerce Hyperlink]],\"Book Weblink\")","v":"Book Weblink"},null,"2016","August 2015","Library","8.500 X 11.00","Author","Kay Barnham","5.8","1",null,null,"U","890L","Grade 5","Grade 4 - 8","Because the Roman Army was so large, they had to be very serious about punishing those who broke the rules. For disobeying an order, a soldier would get as many as 200 lashes with a whip. And deserters? They were stoned or beaten to death. These penalties sound harsh in today’s world, but they can tell readers a lot about life during the Roman Empire! Dreadful deaths and creative killings offer a unique lens through which to examine a major historical period. Cute, full-color illustrations offer a humorous look at a bleak topic and add interesting details.","English",27.6,20.7,"937","32 pp.","https://www.garethstevens.com/9781482431148",null,{"$f":"Table1[[#This Row],[QTY]]*Table1[[#This Row],['# Books]]","v":0},{"$f":"Table1[[#This Row],[QTY]]*Table1[[#This Row],[S&L Price]]","v":0}]
[null,null,null,"Awfully Ancient",1,"Gory Gladiators, Savage Centurions, and Caesar's Sticky End: A Menacing History of the Unruly Romans!","eBook",null,"978-1-4824-3115-5",{"$f":"HYPERLINK(Table1[[#This Row],[eCommerce Hyperlink]],\"Book Weblink\")","v":"Book Weblink"},null,"2016","August 2015",null,null,"Author","Kay Barnham","5.8","1",null,null,"U","890L","Grade 5","Grade 4 - 8","Because the Roman Army was so large, they had to be very serious about punishing those who broke the rules. For disobeying an order, a soldier would get as many as 200 lashes with a whip. And deserters? They were stoned or beaten to death. These penalties sound harsh in today’s world, but they can tell readers a lot about life during the Roman Empire! Dreadful deaths and creative killings offer a unique lens through which to examine a major historical period. Cute, full-color illustrations offer a humorous look at a bleak topic and add interesting details.","English",27.6,20.7,"937","32 pp.","https://www.garethstevens.com/9781482431155",null,{"$f":"Table1[[#This Row],[QTY]]*Table1[[#This Row],['# Books]]","v":0},{"$f":"Table1[[#This Row],[QTY]]*Table1[[#This Row],[S&L Price]]","v":0}]
[null,null,null,"Awfully Ancient",1,"Loos, Poos, and Number Twos: A Disgusting Journey Through the Bowels of History!","Library Bound Book",null,"978-1-4824-3118-6",{"$f":"HYPERLINK(Table1[[#This Row],[eCommerce Hyperlink]],\"Book Weblink\")","v":"Book Weblink"},null,"2016","August 2015","Library","8.500 X 11.00","Author","Peter Hepplewhite","6.4","1",null,null,"U","1030L","Grade 5","Grade 4 - 8","Nothing could be more interesting to young readers than the history of the toilet! From the sewage system of ancient Athens to the muckrakers of the Middle Ages, there’s plenty to learn about history from discovering the “how” and “where” of the loos of many important civilizations. Unique information reframes common social studies topics and time periods including ancient China, Victorian times, and more. Amusing illustrations and a full-color layout enhance the main content as readers traverse the dirty details.","English",27.6,20.7,"392.3","32 pp.","https://www.garethstevens.com/9781482431186",null,{"$f":"Table1[[#This Row],[QTY]]*Table1[[#This Row],['# Books]]","v":0},{"$f":"Table1[[#This Row],[QTY]]*Table1[[#This Row],[S&L Price]]","v":0}]
[null,null,null,"Awfully Ancient",1,"Loos, Poos, and Number Twos: A Disgusting Journey Through the Bowels of History!","eBook",null,"978-1-4824-3119-3",{"$f":"HYPERLINK(Table1[[#This Row],[eCommerce Hyperlink]],\"Book Weblink\")","v":"Book Weblink"},null,"2016","August 2015",null,null,"Author","Peter Hepplewhite","6.4","1",null,null,"U","1030L","Grade 5","Grade 4 - 8","Nothing could be more interesting to young readers than the history of the toilet! From the sewage system of ancient Athens to the muckrakers of the Middle Ages, there’s plenty to learn about history from discovering the “how” and “where” of the loos of many important civilizations. Unique information reframes common social studies topics and time periods including ancient China, Victorian times, and more. Amusing illustrations and a full-color layout enhance the main content as readers traverse the dirty details.","English",27.6,20.7,"392.3","32 pp.","https://www.garethstevens.com/9781482431193",null,{"$f":"Table1[[#This Row],[QTY]]*Table1[[#This Row],['# Books]]","v":0},{"$f":"Table1[[#This Row],[QTY]]*Table1[[#This Row],[S&L Price]]","v":0}]
[null,null,null,"Awfully Ancient",1,"Mangy Mummies, Menacing Pharaohs, and the Awful Afterlife: A Moth-Eaten History of the Extraordinary Egyptians!","Library Bound Book",null,"978-1-4824-3126-1",{"$f":"HYPERLINK(Table1[[#This Row],[eCommerce Hyperlink]],\"Book Weblink\")","v":"Book Weblink"},null,"2016","August 2015","Library","8.500 X 11.00","Author","Kay Barnham","5.7","1",null,null,"U","910L","Grade 5","Grade 4 - 8","From feast days of gods and goddesses to victory celebrations, the ancient Egyptians looked for any excuse to throw a party. However, the largest social group included slaves, laborers, and peasants who worked really hard and likely didn’t get to enjoy these occasions as much as the pharaoh or his family. Fun facts about how mummies were created, the ins and outs of the Egyptians gods and goddesses, and more engage readers in an important historical period. A colorful layout, complete with comical illustrations, complements the main content’s lighthearted tone and entertaining take on ancient Egypt.  \n\n","English",27.6,20.7,"932","32 pp.","https://www.garethstevens.com/9781482431261",null,{"$f":"Table1[[#This Row],[QTY]]*Table1[[#This Row],['# Books]]","v":0},{"$f":"Table1[[#This Row],[QTY]]*Table1[[#This Row],[S&L Price]]","v":0}]
[null,null,null,"Awfully Ancient",1,"Mangy Mummies, Menacing Pharaohs, and the Awful Afterlife: A Moth-Eaten History of the Extraordinary Egyptians!","eBook",null,"978-1-4824-3127-8",{"$f":"HYPERLINK(Table1[[#This Row],[eCommerce Hyperlink]],\"Book Weblink\")","v":"Book Weblink"},null,"2016","August 2015",null,null,"Author","Kay Barnham","5.7","1",null,null,"U","910L","Grade 5","Grade 4 - 8","From feast days of gods and goddesses to victory celebrations, the ancient Egyptians looked for any excuse to throw a party. However, the largest social group included slaves, laborers, and peasants who worked really hard and likely didn’t get to enjoy these occasions as much as the pharaoh or his family. Fun facts about how mummies were created, the ins and outs of the Egyptians gods and goddesses, and more engage readers in an important historical period. A colorful layout, complete with comical illustrations, complements the main content’s lighthearted tone and entertaining take on ancient Egypt.  \n\n","English",27.6,20.7,"932","32 pp.","https://www.garethstevens.com/9781482431278",null,{"$f":"Table1[[#This Row],[QTY]]*Table1[[#This Row],['# Books]]","v":0},{"$f":"Table1[[#This Row],[QTY]]*Table1[[#This Row],[S&L Price]]","v":0}]
[null,null,null,"Awfully Ancient",1,"Royals, Rebels, and Horrible Headchoppers: A Bloodthirsty History of the Terrifying Tudors!","Library Bound Book",null,"978-1-4824-3130-8",{"$f":"HYPERLINK(Table1[[#This Row],[eCommerce Hyperlink]],\"Book Weblink\")","v":"Book Weblink"},null,"2016","August 2015","Library","8.500 X 11.00","Author","Peter Hepplewhite","6.5","1",null,null,"U","980L","Grade 5","Grade 4 - 8","While living in Tudor England wasn’t a picnic for many people, the unluckiest were at the top of the social ladder—queens. Henry VIII was one of the Tudor kings and he famously divorced and killed many of his queens in his quest for a male heir. That’s not all that happened during the Tudors’ reign! Readers learn about the place of rebellions, the plague, and even the use of leeches in the history of England. A colorful layout, playful tone, and relatable content keep readers engaged with a distinctive historic era.","English",27.6,20.7,"941.05","32 pp.","https://www.garethstevens.com/9781482431308",null,{"$f":"Table1[[#This Row],[QTY]]*Table1[[#This Row],['# Books]]","v":0},{"$f":"Table1[[#This Row],[QTY]]*Table1[[#This Row],[S&L Price]]","v":0}]
[null,null,null,"Awfully Ancient",1,"Royals, Rebels, and Horrible Headchoppers: A Bloodthirsty History of the Terrifying Tudors!","eBook",null,"978-1-4824-3131-5",{"$f":"HYPERLINK(Table1[[#This Row],[eCommerce Hyperlink]],\"Book Weblink\")","v":"Book Weblink"},null,"2016","August 2015",null,null,"Author","Peter Hepplewhite","6.5","1",null,null,"U","980L","Grade 5","Grade 4 - 8","While living in Tudor England wasn’t a picnic for many people, the unluckiest were at the top of the social ladder—queens. Henry VIII was one of the Tudor kings and he famously divorced and killed many of his queens in his quest for a male heir. That’s not all that happened during the Tudors’ reign! Readers learn about the place of rebellions, the plague, and even the use of leeches in the history of England. A colorful layout, playful tone, and relatable content keep readers engaged with a distinctive historic era.","English",27.6,20.7,"941.05","32 pp.","https://www.garethstevens.com/9781482431315",null,{"$f":"Table1[[#This Row],[QTY]]*Table1[[#This Row],['# Books]]","v":0},{"$f":"Table1[[#This Row],[QTY]]*Table1[[#This Row],[S&L Price]]","v":0}]
[null,null,null,"Awfully Ancient",1,"Thomas Crapper, Corsets, and Cruel Britannia: A Grim History of the Vexing Victorians!","Library Bound Book",null,"978-1-4824-3134-6",{"$f":"HYPERLINK(Table1[[#This Row],[eCommerce Hyperlink]],\"Book Weblink\")","v":"Book Weblink"},null,"2016","August 2015","Library","8.500 X 11.00","Author","Peter Hepplewhite","6.2","1",null,null,"U","990L","Grade 5","Grade 4 - 8","Victorian fashion is unlikely to become popular again. Corsets were in style during the second half of the 1800s and were forced on the waists of girls as young as 5 years old! Tied too tight and the wearer might not be able to sit or breathe, and many sustained broken ribs. More fascinating truths about those living during the Victorian era, including the opium-based drugs used to keep children calm and prison-like schools, will inspire thankfulness in today’s readers! Full-color illustrations offer colorful commentary on this buttoned-up time period as well as supplementary historical details.","English",27.6,20.7,"941.081","32 pp.","https://www.garethstevens.com/9781482431346",null,{"$f":"Table1[[#This Row],[QTY]]*Table1[[#This Row],['# Books]]","v":0},{"$f":"Table1[[#This Row],[QTY]]*Table1[[#This Row],[S&L Price]]","v":0}]
[null,null,null,"Awfully Ancient",1,"Thomas Crapper, Corsets, and Cruel Britannia: A Grim History of the Vexing Victorians!","eBook",null,"978-1-4824-3135-3",{"$f":"HYPERLINK(Table1[[#This Row],[eCommerce Hyperlink]],\"Book Weblink\")","v":"Book Weblink"},null,"2016","August 2015",null,null,"Author","Peter Hepplewhite",null,null,null,null,"U","990L","Grade 5","Grade 4 - 8","Victorian fashion is unlikely to become popular again. Corsets were in style during the second half of the 1800s and were forced on the waists of girls as young as 5 years old! Tied too tight and the wearer might not be able to sit or breathe, and many sustained broken ribs. More fascinating truths about those living during the Victorian era, including the opium-based drugs used to keep children calm and prison-like schools, will inspire thankfulness in today’s readers! Full-color illustrations offer colorful commentary on this buttoned-up time period as well as supplementary historical details.","English",27.6,20.7,"941.081","32 pp.","https://www.garethstevens.com/9781482431353",null,{"$f":"Table1[[#This Row],[QTY]]*Table1[[#This Row],['# Books]]","v":0},{"$f":"Table1[[#This Row],[QTY]]*Table1[[#This Row],[S&L Price]]","v":0}]
[null,null,null,"Frontline Families",1,"The Afghanistan War: Frontline Soldiers and Their Families","Library Bound Book",null,"978-1-4824-3050-9",{"$f":"HYPERLINK(Table1[[#This Row],[eCommerce Hyperlink]],\"Book Weblink\")","v":"Book Weblink"},null,"2016","August 2015","Library","7.250 X 9.250","Author","Sarah Levete",null,null,"44",null,"T","1040L","Grade 5 - 6","Grade 5 - 8","The war in Afghanistan, a conflict that continues to rage on more than a decade after it began, has changed the lives of many families both in the country itself and in the many nations that have sent soldiers to fight there, including the United States and Canada. Readers of this notable volume will learn why this war began as well as its wide-reaching consequences. Photographs and other primary sources will further enlighten about the current conflict. This commendable text contains essential content for any classroom or library concerned with keeping readers informed about current events.","English",32.950000000000003,24.7,"958.104","48 pp.","https://www.garethstevens.com/9781482430509",null,{"$f":"Table1[[#This Row],[QTY]]*Table1[[#This Row],['# Books]]","v":0},{"$f":"Table1[[#This Row],[QTY]]*Table1[[#This Row],[S&L Price]]","v":0}]
[null,null,null,"Frontline Families",1,"The Afghanistan War: Frontline Soldiers and Their Families","eBook",null,"978-1-4824-3051-6",{"$f":"HYPERLINK(Table1[[#This Row],[eCommerce Hyperlink]],\"Book Weblink\")","v":"Book Weblink"},null,"2016","August 2015",null,null,"Author","Sarah Levete",null,null,"44",null,"T","1040L","Grade 5 - 6","Grade 5 - 8","The war in Afghanistan, a conflict that continues to rage on more than a decade after it began, has changed the lives of many families both in the country itself and in the many nations that have sent soldiers to fight there, including the United States and Canada. Readers of this notable volume will learn why this war began as well as its wide-reaching consequences. Photographs and other primary sources will further enlighten about the current conflict. This commendable text contains essential content for any classroom or library concerned with keeping readers informed about current events.","English",32.950000000000003,24.7,"958.104","48 pp.","https://www.garethstevens.com/9781482430516",null,{"$f":"Table1[[#This Row],[QTY]]*Table1[[#This Row],['# Books]]","v":0},{"$f":"Table1[[#This Row],[QTY]]*Table1[[#This Row],[S&L Price]]","v":0}]
[null,null,null,"Frontline Families",1,"The American Revolution: Frontline Soldiers and Their Families","Library Bound Book",null,"978-1-4824-3054-7",{"$f":"HYPERLINK(Table1[[#This Row],[eCommerce Hyperlink]],\"Book Weblink\")","v":"Book Weblink"},null,"2016","August 2015","Library","7.250 X 9.250","Author","Sara Howell","5.1","0.5","44",null,"T","1030L","Grade 5 - 6","Grade 5 - 8","Without the American Revolution, there would be no United States. The impact of the war is undeniable. And yet studies of this conflict, essential in every elementary school, are often cursory. This valuable volume delivers a more complete look of the war, including the real experiences of soldiers on the frontlines as well as their families at home. Readers will be particularly interested in the experiences of young people during the war. Founding Fathers and ordinary colonists both feature in this well-designed book, filled with important dates, facts, maps, and primary sources.","English",32.950000000000003,24.7,"973.3","48 pp.","https://www.garethstevens.com/9781482430547",null,{"$f":"Table1[[#This Row],[QTY]]*Table1[[#This Row],['# Books]]","v":0},{"$f":"Table1[[#This Row],[QTY]]*Table1[[#This Row],[S&L Price]]","v":0}]
[null,null,null,"Frontline Families",1,"The American Revolution: Frontline Soldiers and Their Families","eBook",null,"978-1-4824-3055-4",{"$f":"HYPERLINK(Table1[[#This Row],[eCommerce Hyperlink]],\"Book Weblink\")","v":"Book Weblink"},null,"2016","August 2015",null,null,"Author","Sara Howell","5.1","0.5","44",null,"T","1030L","Grade 5 - 6","Grade 5 - 8","Without the American Revolution, there would be no United States. The impact of the war is undeniable. And yet studies of this conflict, essential in every elementary school, are often cursory. This valuable volume delivers a more complete look of the war, including the real experiences of soldiers on the frontlines as well as their families at home. Readers will be particularly interested in the experiences of young people during the war. Founding Fathers and ordinary colonists both feature in this well-designed book, filled with important dates, facts, maps, and primary sources.","English",32.950000000000003,24.7,"973.3","48 pp.","https://www.garethstevens.com/9781482430554",null,{"$f":"Table1[[#This Row],[QTY]]*Table1[[#This Row],['# Books]]","v":0},{"$f":"Table1[[#This Row],[QTY]]*Table1[[#This Row],[S&L Price]]","v":0}]
[null,null,null,"Frontline Families",1,"The Civil War: Frontline Soldiers and Their Families","Library Bound Book",null,"978-1-4824-3058-5",{"$f":"HYPERLINK(Table1[[#This Row],[eCommerce Hyperlink]],\"Book Weblink\")","v":"Book Weblink"},null,"2016","August 2015","Library","7.250 X 9.250","Author","Sara Howell",null,null,"44",null,"V",null,"Grade 5 - 6","Grade 5 - 8","The American Civil War began in 1861 when a group of Southern states voted to secede. At that point, no one knew what a heavy toll the ensuing war would have on both sides of the conflict. Not only did more than 850,000 die, but millions more would suffer in other ways. Families of soldiers were left behind, just hoping to see their loved ones again. This indispensable book provides important facts about the war as well as critical information about its impact on family life. Abundant primary sources and a timeline enhance the volume's text, photographs, and beautiful design.","English",32.950000000000003,24.7,"973.7","48 pp.","https://www.garethstevens.com/9781482430585",null,{"$f":"Table1[[#This Row],[QTY]]*Table1[[#This Row],['# Books]]","v":0},{"$f":"Table1[[#This Row],[QTY]]*Table1[[#This Row],[S&L Price]]","v":0}]
[null,null,null,"Frontline Families",1,"The Civil War: Frontline Soldiers and Their Families","eBook",null,"978-1-4824-3059-2",{"$f":"HYPERLINK(Table1[[#This Row],[eCommerce Hyperlink]],\"Book Weblink\")","v":"Book Weblink"},null,"2016","August 2015",null,null,"Author","Sara Howell",null,null,"44",null,"V",null,"Grade 5 - 6","Grade 5 - 8","The American Civil War began in 1861 when a group of Southern states voted to secede. At that point, no one knew what a heavy toll the ensuing war would have on both sides of the conflict. Not only did more than 850,000 die, but millions more would suffer in other ways. Families of soldiers were left behind, just hoping to see their loved ones again. This indispensable book provides important facts about the war as well as critical information about its impact on family life. Abundant primary sources and a timeline enhance the volume's text, photographs, and beautiful design.","English",32.950000000000003,24.7,"973.7","48 pp.","https://www.garethstevens.com/9781482430592",null,{"$f":"Table1[[#This Row],[QTY]]*Table1[[#This Row],['# Books]]","v":0},{"$f":"Table1[[#This Row],[QTY]]*Table1[[#This Row],[S&L Price]]","v":0}]
[null,null,null,"Frontline Families",1,"The Vietnam War: Frontline Soldiers and Their Families","Library Bound Book",null,"978-1-4824-3062-2",{"$f":"HYPERLINK(Table1[[#This Row],[eCommerce Hyperlink]],\"Book Weblink\")","v":"Book Weblink"},null,"2016","August 2015","Library","7.250 X 9.250","Author","Sarah Levete",null,null,"44",null,"U","1060L","Grade 5 - 6","Grade 5 - 8","The Vietnam War lasted just over 20 years. The conflict's impact on the people of Vietnam as well as citizens of the United States and other countries still echoes to this day. For every one of the millions who fought and died, there was a family who worried and grieved. This important book tackles the difficult nature of this war, including how the explosions, gunfire, and fear ruled the hearts of soldiers and families back home. The text carefully explains the causes and effects of the Vietnam War augmented by well-chosen primary sources and photographs.","English",32.950000000000003,24.7,"959.704","48 pp.","https://www.garethstevens.com/9781482430622",null,{"$f":"Table1[[#This Row],[QTY]]*Table1[[#This Row],['# Books]]","v":0},{"$f":"Table1[[#This Row],[QTY]]*Table1[[#This Row],[S&L Price]]","v":0}]
[null,null,null,"Frontline Families",1,"The Vietnam War: Frontline Soldiers and Their Families","eBook",null,"978-1-4824-3063-9",{"$f":"HYPERLINK(Table1[[#This Row],[eCommerce Hyperlink]],\"Book Weblink\")","v":"Book Weblink"},null,"2016","August 2015",null,null,"Author","Sarah Levete",null,null,"44",null,"U","1060L","Grade 5 - 6","Grade 5 - 8","The Vietnam War lasted just over 20 years. The conflict's impact on the people of Vietnam as well as citizens of the United States and other countries still echoes to this day. For every one of the millions who fought and died, there was a family who worried and grieved. This important book tackles the difficult nature of this war, including how the explosions, gunfire, and fear ruled the hearts of soldiers and families back home. The text carefully explains the causes and effects of the Vietnam War augmented by well-chosen primary sources and photographs.","English",32.950000000000003,24.7,"959.704","48 pp.","https://www.garethstevens.com/9781482430639",null,{"$f":"Table1[[#This Row],[QTY]]*Table1[[#This Row],['# Books]]","v":0},{"$f":"Table1[[#This Row],[QTY]]*Table1[[#This Row],[S&L Price]]","v":0}]
[null,null,null,"Frontline Families",1,"World War I: Frontline Soldiers and Their Families","Library Bound Book",null,"978-1-4824-3066-0",{"$f":"HYPERLINK(Table1[[#This Row],[eCommerce Hyperlink]],\"Book Weblink\")","v":"Book Weblink"},null,"2016","August 2015","Library","7.250 X 9.250","Author","Nick Hunter",null,null,"44",null,"U","1090L","Grade 5 - 6","Grade 5 - 8","In the summer of 1914, life changed dramatically for millions of people. Europe was plunged into a devastating war that persisted for more than 4 years. This conflict, called the Great War or World War I, didn't just change the lives of the millions of soldiers who fought in it. It also had a big impact on families and children far from the frontline. Loved ones were often separated for long, difficult periods of time. This powerful volume explains the toll of the war through perceptive text, historical photographs, and insightful primary sources.","English",32.950000000000003,24.7,"940.3","48 pp.","https://www.garethstevens.com/9781482430660",null,{"$f":"Table1[[#This Row],[QTY]]*Table1[[#This Row],['# Books]]","v":0},{"$f":"Table1[[#This Row],[QTY]]*Table1[[#This Row],[S&L Price]]","v":0}]
[null,null,null,"Frontline Families",1,"World War I: Frontline Soldiers and Their Families","eBook",null,"978-1-4824-3067-7",{"$f":"HYPERLINK(Table1[[#This Row],[eCommerce Hyperlink]],\"Book Weblink\")","v":"Book Weblink"},null,"2016","August 2015",null,null,"Author","Nick Hunter",null,null,"44",null,"U","1090L","Grade 5 - 6","Grade 5 - 8","In the summer of 1914, life changed dramatically for millions of people. Europe was plunged into a devastating war that persisted for more than 4 years. This conflict, called the Great War or World War I, didn't just change the lives of the millions of soldiers who fought in it. It also had a big impact on families and children far from the frontline. Loved ones were often separated for long, difficult periods of time. This powerful volume explains the toll of the war through perceptive text, historical photographs, and insightful primary sources.","English",32.950000000000003,24.7,"940.3","48 pp.","https://www.garethstevens.com/9781482430677",null,{"$f":"Table1[[#This Row],[QTY]]*Table1[[#This Row],['# Books]]","v":0},{"$f":"Table1[[#This Row],[QTY]]*Table1[[#This Row],[S&L Price]]","v":0}]
[null,null,null,"Frontline Families",1,"World War II: Frontline Soldiers and Their Families","Library Bound Book",null,"978-1-4824-3070-7",{"$f":"HYPERLINK(Table1[[#This Row],[eCommerce Hyperlink]],\"Book Weblink\")","v":"Book Weblink"},null,"2016","August 2015","Library","7.250 X 9.250","Author","Nick Hunter",null,null,"44",null,"V","1110L","Grade 5 - 6","Grade 5 - 8","Studies of World War II often focus on the millions who fought so bravely, many of whom ultimately lost their lives. But learning only about soldiers and battlefield maneuvers doesn't give a clear picture of the full impact of war. These troops had families at home as well as working in hospitals, factories, and helping out the war effort in other ways. These people, too, should be recognized and understood for their contribution. This comprehensive book, complete with a timeline of the war and numerous primary sources, provides readers with valuable information about this terrible war, on the frontlines and at home.","English",32.950000000000003,24.7,"940.53","48 pp.","https://www.garethstevens.com/9781482430707",null,{"$f":"Table1[[#This Row],[QTY]]*Table1[[#This Row],['# Books]]","v":0},{"$f":"Table1[[#This Row],[QTY]]*Table1[[#This Row],[S&L Price]]","v":0}]
[null,null,null,"Frontline Families",1,"World War II: Frontline Soldiers and Their Families","eBook",null,"978-1-4824-3071-4",{"$f":"HYPERLINK(Table1[[#This Row],[eCommerce Hyperlink]],\"Book Weblink\")","v":"Book Weblink"},null,"2016","August 2015",null,null,"Author","Nick Hunter",null,null,"44",null,"V","1110L","Grade 5 - 6","Grade 5 - 8","Studies of World War II often focus on the millions who fought so bravely, many of whom ultimately lost their lives. But learning only about soldiers and battlefield maneuvers doesn't give a clear picture of the full impact of war. These troops had families at home as well as working in hospitals, factories, and helping out the war effort in other ways. These people, too, should be recognized and understood for their contribution. This comprehensive book, complete with a timeline of the war and numerous primary sources, provides readers with valuable information about this terrible war, on the frontlines and at home.","English",32.950000000000003,24.7,"940.53","48 pp.","https://www.garethstevens.com/9781482430714",null,{"$f":"Table1[[#This Row],[QTY]]*Table1[[#This Row],['# Books]]","v":0},{"$f":"Table1[[#This Row],[QTY]]*Table1[[#This Row],[S&L Price]]","v":0}]
[null,null,null,"History's Fearless Fighters",1,"Conquistadors","Library Bound Book",null,"978-1-4824-3162-9",{"$f":"HYPERLINK(Table1[[#This Row],[eCommerce Hyperlink]],\"Book Weblink\")","v":"Book Weblink"},null,"2016","August 2015","Library","7.250 X 9.250","Author","Rupert Matthews",null,null,null,null,"U","960L","Grade 5 - 6","Grade 5 - 8","The native people of the Americas never had a chance against European soldiers. The troops of the conquistadors had guns and armor, not to mention new diseases! As readers are drawn through the bloody history of early settlement in the New World, they’ll learn about the conquistadors’ wish for gold and to convert the native peoples to Christianity. Chapters focusing on major conquistadors—including de Coronado, Pizarro, Cortes, and more—incorporate major topics from the social studies curriculum. Full-color maps show the European domination of the Americas and enhance the main content’s detailed account of what they found there.","English",32.950000000000003,24.7,"970.01","48 pp.","https://www.garethstevens.com/9781482431629",null,{"$f":"Table1[[#This Row],[QTY]]*Table1[[#This Row],['# Books]]","v":0},{"$f":"Table1[[#This Row],[QTY]]*Table1[[#This Row],[S&L Price]]","v":0}]
[null,null,null,"History's Fearless Fighters",1,"Conquistadors","eBook",null,"978-1-4824-3163-6",{"$f":"HYPERLINK(Table1[[#This Row],[eCommerce Hyperlink]],\"Book Weblink\")","v":"Book Weblink"},null,"2016","August 2015",null,null,"Author","Rupert Matthews",null,null,null,null,"U","960L","Grade 5 - 6","Grade 5 - 8","The native people of the Americas never had a chance against European soldiers. The troops of the conquistadors had guns and armor, not to mention new diseases! As readers are drawn through the bloody history of early settlement in the New World, they’ll learn about the conquistadors’ wish for gold and to convert the native peoples to Christianity. Chapters focusing on major conquistadors—including de Coronado, Pizarro, Cortes, and more—incorporate major topics from the social studies curriculum. Full-color maps show the European domination of the Americas and enhance the main content’s detailed account of what they found there.","English",32.950000000000003,24.7,"970.01","48 pp.","https://www.garethstevens.com/9781482431636",null,{"$f":"Table1[[#This Row],[QTY]]*Table1[[#This Row],['# Books]]","v":0},{"$f":"Table1[[#This Row],[QTY]]*Table1[[#This Row],[S&L Price]]","v":0}]
[null,null,null,"History's Fearless Fighters",1,"Gladiators","Library Bound Book",null,"978-1-4824-3166-7",{"$f":"HYPERLINK(Table1[[#This Row],[eCommerce Hyperlink]],\"Book Weblink\")","v":"Book Weblink"},null,"2016","August 2015","Library","7.250 X 9.250","Author","Rupert Matthews",null,null,null,null,"U","970L","Grade 5 - 6","Grade 5 - 8","The Romans who fearlessly fought in the Colosseum had varied backgrounds. Some were slaves and criminals forced to fight to the death. Others trained and volunteered for the task. Their goal was clear from the first step in the arena: the floor was sandy, so blood would be easy to clean up. Gladiator combat is a common topic when discussing the Roman Empire. Readers of this volume, however, will discover all the incredible details of gladiator life from the porridge they ate to the muscle massages they received! A glossary of gladiator terms and a timeline complement the main content.","English",32.950000000000003,24.7,"796.8","48 pp.","https://www.garethstevens.com/9781482431667",null,{"$f":"Table1[[#This Row],[QTY]]*Table1[[#This Row],['# Books]]","v":0},{"$f":"Table1[[#This Row],[QTY]]*Table1[[#This Row],[S&L Price]]","v":0}]
[null,null,null,"History's Fearless Fighters",1,"Gladiators","eBook",null,"978-1-4824-3167-4",{"$f":"HYPERLINK(Table1[[#This Row],[eCommerce Hyperlink]],\"Book Weblink\")","v":"Book Weblink"},null,"2016","August 2015",null,null,"Author","Rupert Matthews",null,null,null,null,"U","970L","Grade 5 - 6","Grade 5 - 8","The Romans who fearlessly fought in the Colosseum had varied backgrounds. Some were slaves and criminals forced to fight to the death. Others trained and volunteered for the task. Their goal was clear from the first step in the arena: the floor was sandy, so blood would be easy to clean up. Gladiator combat is a common topic when discussing the Roman Empire. Readers of this volume, however, will discover all the incredible details of gladiator life from the porridge they ate to the muscle massages they received! A glossary of gladiator terms and a timeline complement the main content.","English",32.950000000000003,24.7,"796.8","48 pp.","https://www.garethstevens.com/9781482431674",null,{"$f":"Table1[[#This Row],[QTY]]*Table1[[#This Row],['# Books]]","v":0},{"$f":"Table1[[#This Row],[QTY]]*Table1[[#This Row],[S&L Price]]","v":0}]
[null,null,null,"History's Fearless Fighters",1,"Mongols","Library Bound Book",null,"978-1-4824-3170-4",{"$f":"HYPERLINK(Table1[[#This Row],[eCommerce Hyperlink]],\"Book Weblink\")","v":"Book Weblink"},null,"2016","August 2015","Library","7.250 X 9.250","Author","Rupert Matthews",null,null,null,null,"U","960L","Grade 5 - 6","Grade 5 - 8","Historians estimate that the Mongols killed 40 million people—women and children included. Fierce, ruthless warriors, the Mongols were protecting an enormous empire spanning much of Asia and Europe. From Genghis Khan to his equally notorious son Ogedai Khan, this volume introduces readers to one of the bloodiest wars ever fought. Historical images highlight some of the most devastating moments, such as the conquest of Baghdad, while chapters focusing on the Mongols’ battle tactics show readers just how they conquered so much land. A detailed timeline organizes the history of the empire for readers’ reference.","English",32.950000000000003,24.7,"950","48 pp.","https://www.garethstevens.com/9781482431704",null,{"$f":"Table1[[#This Row],[QTY]]*Table1[[#This Row],['# Books]]","v":0},{"$f":"Table1[[#This Row],[QTY]]*Table1[[#This Row],[S&L Price]]","v":0}]
[null,null,null,"History's Fearless Fighters",1,"Mongols","eBook",null,"978-1-4824-3171-1",{"$f":"HYPERLINK(Table1[[#This Row],[eCommerce Hyperlink]],\"Book Weblink\")","v":"Book Weblink"},null,"2016","August 2015",null,null,"Author","Rupert Matthews",null,null,null,null,"U","960L","Grade 5 - 6","Grade 5 - 8","Historians estimate that the Mongols killed 40 million people—women and children included. Fierce, ruthless warriors, the Mongols were protecting an enormous empire spanning much of Asia and Europe. From Genghis Khan to his equally notorious son Ogedai Khan, this volume introduces readers to one of the bloodiest wars ever fought. Historical images highlight some of the most devastating moments, such as the conquest of Baghdad, while chapters focusing on the Mongols’ battle tactics show readers just how they conquered so much land. A detailed timeline organizes the history of the empire for readers’ reference.","English",32.950000000000003,24.7,"950","48 pp.","https://www.garethstevens.com/9781482431711",null,{"$f":"Table1[[#This Row],[QTY]]*Table1[[#This Row],['# Books]]","v":0},{"$f":"Table1[[#This Row],[QTY]]*Table1[[#This Row],[S&L Price]]","v":0}]
[null,null,null,"History's Fearless Fighters",1,"Ninjas","Library Bound Book",null,"978-1-4824-3174-2",{"$f":"HYPERLINK(Table1[[#This Row],[eCommerce Hyperlink]],\"Book Weblink\")","v":"Book Weblink"},null,"2016","August 2015","Library","7.250 X 9.250","Author","Rupert Matthews",null,null,null,null,"U","1020L","Grade 5 - 6","Grade 5 - 8","Today, many people use the word “ninja” to describe being particularly good or stealthy about something. But ninjas were real Japanese fighters! Most active from about 1450 to just after 1600, ninjas were highly trained, silent killers. Readers learn to parse the truth from the legends about ninjas through detailed historical content, including the 18 skills ninjas of the 1700s were taught. A colorful layout and up-close photographs of ninja weapons enhance the high-interest topic and emphasize the amazing truths of these fearless fighters throughout history.","English",32.950000000000003,24.7,"355.5","48 pp.","https://www.garethstevens.com/9781482431742",null,{"$f":"Table1[[#This Row],[QTY]]*Table1[[#This Row],['# Books]]","v":0},{"$f":"Table1[[#This Row],[QTY]]*Table1[[#This Row],[S&L Price]]","v":0}]
[null,null,null,"History's Fearless Fighters",1,"Ninjas","eBook",null,"978-1-4824-3175-9",{"$f":"HYPERLINK(Table1[[#This Row],[eCommerce Hyperlink]],\"Book Weblink\")","v":"Book Weblink"},null,"2016","August 2015",null,null,"Author","Rupert Matthews",null,null,null,null,"U","1020L","Grade 5 - 6","Grade 5 - 8","Today, many people use the word “ninja” to describe being particularly good or stealthy about something. But ninjas were real Japanese fighters! Most active from about 1450 to just after 1600, ninjas were highly trained, silent killers. Readers learn to parse the truth from the legends about ninjas through detailed historical content, including the 18 skills ninjas of the 1700s were taught. A colorful layout and up-close photographs of ninja weapons enhance the high-interest topic and emphasize the amazing truths of these fearless fighters throughout history.","English",32.950000000000003,24.7,"355.5","48 pp.","https://www.garethstevens.com/9781482431759",null,{"$f":"Table1[[#This Row],[QTY]]*Table1[[#This Row],['# Books]]","v":0},{"$f":"Table1[[#This Row],[QTY]]*Table1[[#This Row],[S&L Price]]","v":0}]
[null,null,null,"History's Fearless Fighters",1,"Samurai","Library Bound Book",null,"978-1-4824-3178-0",{"$f":"HYPERLINK(Table1[[#This Row],[eCommerce Hyperlink]],\"Book Weblink\")","v":"Book Weblink"},null,"2016","August 2015","Library","7.250 X 9.250","Author","Rupert Matthews",null,null,null,null,"U","980L","Grade 5 - 6","Grade 5 - 8","Japanese samurai followed a strict code of honor called bushido. Though they were professional fighters, samurai valued courage, benevolence, and respect above all else. Many took their own lives after breaking the code. This interesting part of Japanese history will draw in readers with its mystery, brutality, and cultural significance. Full-color photographs and historical images of real samurai give faces to these fearless fighters, and photographs of samurai weapons are impressive to modern eyes. Fascinating details about samurai training and the fighters’ influence on modern Japan will engage readers with both the nation’s history and present-day reality.","English",32.950000000000003,24.7,"355.00952","48 pp.","https://www.garethstevens.com/9781482431780",null,{"$f":"Table1[[#This Row],[QTY]]*Table1[[#This Row],['# Books]]","v":0},{"$f":"Table1[[#This Row],[QTY]]*Table1[[#This Row],[S&L Price]]","v":0}]
[null,null,null,"History's Fearless Fighters",1,"Samurai","eBook",null,"978-1-4824-3179-7",{"$f":"HYPERLINK(Table1[[#This Row],[eCommerce Hyperlink]],\"Book Weblink\")","v":"Book Weblink"},null,"2016","August 2015",null,null,"Author","Rupert Matthews",null,null,null,null,"U","980L","Grade 5 - 6","Grade 5 - 8","Japanese samurai followed a strict code of honor called bushido. Though they were professional fighters, samurai valued courage, benevolence, and respect above all else. Many took their own lives after breaking the code. This interesting part of Japanese history will draw in readers with its mystery, brutality, and cultural significance. Full-color photographs and historical images of real samurai give faces to these fearless fighters, and photographs of samurai weapons are impressive to modern eyes. Fascinating details about samurai training and the fighters’ influence on modern Japan will engage readers with both the nation’s history and present-day reality.","English",32.950000000000003,24.7,"355.00952","48 pp.","https://www.garethstevens.com/9781482431797",null,{"$f":"Table1[[#This Row],[QTY]]*Table1[[#This Row],['# Books]]","v":0},{"$f":"Table1[[#This Row],[QTY]]*Table1[[#This Row],[S&L Price]]","v":0}]
[null,null,null,"History's Fearless Fighters",1,"Spartans","Library Bound Book",null,"978-1-4824-3182-7",{"$f":"HYPERLINK(Table1[[#This Row],[eCommerce Hyperlink]],\"Book Weblink\")","v":"Book Weblink"},null,"2016","August 2015","Library","7.250 X 9.250","Author","Rupert Matthews",null,null,null,null,"U","980L","Grade 5 - 6","Grade 5 - 8","Spartan soldiers trained for life. As long as they could walk, men into their 70s took part in the vigorous, brutal preparation for war. Strength was so valued, weak babies were left to die on a nearby mountain. Readers learn about these fearless fighters, as well as Spartan cultivation of strength, through historical images and detailed descriptions of Spartan warfare, soldier training, and more. Fully supportive of the social studies curriculum, the main content guides readers through the story of the 300 and King Leonidas and weapons and armor of this ancient Greek city-state.","English",32.950000000000003,24.7,"938","48 pp.","https://www.garethstevens.com/9781482431827",null,{"$f":"Table1[[#This Row],[QTY]]*Table1[[#This Row],['# Books]]","v":0},{"$f":"Table1[[#This Row],[QTY]]*Table1[[#This Row],[S&L Price]]","v":0}]
[null,null,null,"History's Fearless Fighters",1,"Spartans","eBook",null,"978-1-4824-3183-4",{"$f":"HYPERLINK(Table1[[#This Row],[eCommerce Hyperlink]],\"Book Weblink\")","v":"Book Weblink"},null,"2016","August 2015",null,null,"Author","Rupert Matthews",null,null,null,null,"U","980L","Grade 5 - 6","Grade 5 - 8","Spartan soldiers trained for life. As long as they could walk, men into their 70s took part in the vigorous, brutal preparation for war. Strength was so valued, weak babies were left to die on a nearby mountain. Readers learn about these fearless fighters, as well as Spartan cultivation of strength, through historical images and detailed descriptions of Spartan warfare, soldier training, and more. Fully supportive of the social studies curriculum, the main content guides readers through the story of the 300 and King Leonidas and weapons and armor of this ancient Greek city-state.","English",32.950000000000003,24.7,"938","48 pp.","https://www.garethstevens.com/9781482431834",null,{"$f":"Table1[[#This Row],[QTY]]*Table1[[#This Row],['# Books]]","v":0},{"$f":"Table1[[#This Row],[QTY]]*Table1[[#This Row],[S&L Price]]","v":0}]
[null,null,null,"History's Greatest Rivals",1,"Abraham Lincoln vs. Jefferson Davis: Presidents of a Divided Nation","Library Bound Book",null,"978-1-4824-4221-2",{"$f":"HYPERLINK(Table1[[#This Row],[eCommerce Hyperlink]],\"Book Weblink\")","v":"Book Weblink"},null,"2016","January 2016","Library","7.250 X 9.250","Author","Ellis Roxburgh",null,null,null,null,"U","940L","Grade 6 - 8","Grade 6 - 8","Abraham Lincoln and Jefferson Davis rose to power during unprecedented times. What had once been a unified nation—the United States of America—was now at odds in a civil war. This volume offers a unique way to study the events of the Civil War, through the relationship between Lincoln and Davis and their fateful decisions during the bloody conflict. Readers will delve into key topics of the elementary social studies curriculum in this engaging text, which is augmented by historical paintings, photographs, primary sources, and a timeline.","English",32.950000000000003,24.7,"973.7--dc23","48 pp.","https://www.garethstevens.com/9781482442212",null,{"$f":"Table1[[#This Row],[QTY]]*Table1[[#This Row],['# Books]]","v":0},{"$f":"Table1[[#This Row],[QTY]]*Table1[[#This Row],[S&L Price]]","v":0}]
[null,null,null,"History's Greatest Rivals",1,"Abraham Lincoln vs. Jefferson Davis: Presidents of a Divided Nation","eBook",null,"978-1-4824-4222-9",{"$f":"HYPERLINK(Table1[[#This Row],[eCommerce Hyperlink]],\"Book Weblink\")","v":"Book Weblink"},null,"2016","January 2016",null,null,"Author","Ellis Roxburgh",null,null,null,null,"U","940L","Grade 6 - 8","Grade 6 - 8","Abraham Lincoln and Jefferson Davis rose to power during unprecedented times. What had once been a unified nation—the United States of America—was now at odds in a civil war. This volume offers a unique way to study the events of the Civil War, through the relationship between Lincoln and Davis and their fateful decisions during the bloody conflict. Readers will delve into key topics of the elementary social studies curriculum in this engaging text, which is augmented by historical paintings, photographs, primary sources, and a timeline.","English",32.950000000000003,24.7,"973.7--dc23","48 pp.","https://www.garethstevens.com/9781482442229",null,{"$f":"Table1[[#This Row],[QTY]]*Table1[[#This Row],['# Books]]","v":0},{"$f":"Table1[[#This Row],[QTY]]*Table1[[#This Row],[S&L Price]]","v":0}]
[null,null,null,"History's Greatest Rivals",1,"Cleopatra vs. the Roman Empire: Power, Conquest, and Tragedy","Library Bound Book",null,"978-1-4824-4225-0",{"$f":"HYPERLINK(Table1[[#This Row],[eCommerce Hyperlink]],\"Book Weblink\")","v":"Book Weblink"},null,"2016","January 2016","Library","7.250 X 9.250","Author","Ellis Roxburgh",null,null,null,null,"U","980L","Grade 6 - 8","Grade 6 - 8","Egyptian queen Cleopatra VII’s life reads like a thrilling novel. Her struggle to retain her throne led her to join forces with Roman ruler Julius Caesar and later Mark Anthony. The power struggles within Rome came to a head at the Battle of Actium in 31 BC. The victory of Octavian meant the tragic downfalls of both Cleopatra and Mark Anthony and the expansion of Roman influence. This in-depth look at two empires in turmoil is enhanced by beautiful illustrations and insightful quotation boxes. Readers will gain an appreciation for these ancient empires through this historical text.","English",32.950000000000003,24.7,"932/​.021--dc23","48 pp.","https://www.garethstevens.com/9781482442250",null,{"$f":"Table1[[#This Row],[QTY]]*Table1[[#This Row],['# Books]]","v":0},{"$f":"Table1[[#This Row],[QTY]]*Table1[[#This Row],[S&L Price]]","v":0}]
[null,null,null,"History's Greatest Rivals",1,"Cleopatra vs. the Roman Empire: Power, Conquest, and Tragedy","eBook",null,"978-1-4824-4226-7",{"$f":"HYPERLINK(Table1[[#This Row],[eCommerce Hyperlink]],\"Book Weblink\")","v":"Book Weblink"},null,"2016","January 2016",null,null,"Author","Ellis Roxburgh",null,null,null,null,"U","980L","Grade 6 - 8","Grade 6 - 8","Egyptian queen Cleopatra VII’s life reads like a thrilling novel. Her struggle to retain her throne led her to join forces with Roman ruler Julius Caesar and later Mark Anthony. The power struggles within Rome came to a head at the Battle of Actium in 31 BC. The victory of Octavian meant the tragic downfalls of both Cleopatra and Mark Anthony and the expansion of Roman influence. This in-depth look at two empires in turmoil is enhanced by beautiful illustrations and insightful quotation boxes. Readers will gain an appreciation for these ancient empires through this historical text.","English",32.950000000000003,24.7,"932/​.021--dc23","48 pp.","https://www.garethstevens.com/9781482442267",null,{"$f":"Table1[[#This Row],[QTY]]*Table1[[#This Row],['# Books]]","v":0},{"$f":"Table1[[#This Row],[QTY]]*Table1[[#This Row],[S&L Price]]","v":0}]
[null,null,null,"History's Greatest Rivals",1,"Elizabeth I of England vs. Mary, Queen of Scots: Battle for the Throne","Library Bound Book",null,"978-1-4824-4229-8",{"$f":"HYPERLINK(Table1[[#This Row],[eCommerce Hyperlink]],\"Book Weblink\")","v":"Book Weblink"},null,"2016","January 2016","Library","7.250 X 9.250","Author","Ellis Roxburgh",null,null,null,null,"U","1010L","Grade 6 - 8","Grade 6 - 8","British monarch Elizabeth I’s long reign is remembered as a period of stability for England. Yet, her relationship with her cousin, Mary, Queen of Scots, was contentious at best, leading to a fatal ending for one of the monarchs. This intrigue-filled volume transports readers into the throne rooms of Europe during the 16th century, where they’ll learn of shifting lines of succession, clashes between religions, and assassination plots. Actual quotes from the rulers themselves as well as stunning portraits and paintings mark the pages of this well-designed book, and a timeline summarizes the essential events of this historical rivalry.","English",32.950000000000003,24.7,"941.05/​50922--dc23","48 pp.","https://www.garethstevens.com/9781482442298",null,{"$f":"Table1[[#This Row],[QTY]]*Table1[[#This Row],['# Books]]","v":0},{"$f":"Table1[[#This Row],[QTY]]*Table1[[#This Row],[S&L Price]]","v":0}]
[null,null,null,"History's Greatest Rivals",1,"Elizabeth I of England vs. Mary, Queen of Scots: Battle for the Throne","eBook",null,"978-1-4824-4230-4",{"$f":"HYPERLINK(Table1[[#This Row],[eCommerce Hyperlink]],\"Book Weblink\")","v":"Book Weblink"},null,"2016","January 2016",null,null,"Author","Ellis Roxburgh",null,null,null,null,"U","1010L","Grade 6 - 8","Grade 6 - 8","British monarch Elizabeth I’s long reign is remembered as a period of stability for England. Yet, her relationship with her cousin, Mary, Queen of Scots, was contentious at best, leading to a fatal ending for one of the monarchs. This intrigue-filled volume transports readers into the throne rooms of Europe during the 16th century, where they’ll learn of shifting lines of succession, clashes between religions, and assassination plots. Actual quotes from the rulers themselves as well as stunning portraits and paintings mark the pages of this well-designed book, and a timeline summarizes the essential events of this historical rivalry.","English",32.950000000000003,24.7,"941.05/​50922--dc23","48 pp.","https://www.garethstevens.com/9781482442304",null,{"$f":"Table1[[#This Row],[QTY]]*Table1[[#This Row],['# Books]]","v":0},{"$f":"Table1[[#This Row],[QTY]]*Table1[[#This Row],[S&L Price]]","v":0}]
[null,null,null,"History's Greatest Rivals",1,"Robert Peary vs. Frederick Cook: Race to the North Pole","Library Bound Book",null,"978-1-4824-4233-5",{"$f":"HYPERLINK(Table1[[#This Row],[eCommerce Hyperlink]],\"Book Weblink\")","v":"Book Weblink"},null,"2016","January 2016","Library","7.250 X 9.250","Author","Ellis Roxburgh",null,null,null,null,"U","990L","Grade 6 - 8","Grade 6 - 8","When explorer Robert Peary returned from reaching the North Pole in 1909—his third attempt—he was shocked to learn Dr. Frederick Cook claimed to have reached it nearly a whole year before him. Both men’s assertions are now in doubt! That doesn’t make this exciting account of the race to the North Pole any less fascinating. Readers will immerse themselves in the world of Arctic exploration and all that entailed at the beginning of the 20th century, including adopting Inuit customs. Quotations from each explorer, a timeline, and photographs of the people and places involved in this intense rivalry will cast light on the controversial competition.","English",32.950000000000003,24.7,"910'.9163'2--dc23","48 pp.","https://www.garethstevens.com/9781482442335",null,{"$f":"Table1[[#This Row],[QTY]]*Table1[[#This Row],['# Books]]","v":0},{"$f":"Table1[[#This Row],[QTY]]*Table1[[#This Row],[S&L Price]]","v":0}]
[null,null,null,"History's Greatest Rivals",1,"Robert Peary vs. Frederick Cook: Race to the North Pole","eBook",null,"978-1-4824-4234-2",{"$f":"HYPERLINK(Table1[[#This Row],[eCommerce Hyperlink]],\"Book Weblink\")","v":"Book Weblink"},null,"2016","January 2016",null,null,"Author","Ellis Roxburgh",null,null,null,null,"U","990L","Grade 6 - 8","Grade 6 - 8","When explorer Robert Peary returned from reaching the North Pole in 1909—his third attempt—he was shocked to learn Dr. Frederick Cook claimed to have reached it nearly a whole year before him. Both men’s assertions are now in doubt! That doesn’t make this exciting account of the race to the North Pole any less fascinating. Readers will immerse themselves in the world of Arctic exploration and all that entailed at the beginning of the 20th century, including adopting Inuit customs. Quotations from each explorer, a timeline, and photographs of the people and places involved in this intense rivalry will cast light on the controversial competition.","English",32.950000000000003,24.7,"910'.9163'2--dc23","48 pp.","https://www.garethstevens.com/9781482442342",null,{"$f":"Table1[[#This Row],[QTY]]*Table1[[#This Row],['# Books]]","v":0},{"$f":"Table1[[#This Row],[QTY]]*Table1[[#This Row],[S&L Price]]","v":0}]
[null,null,null,"History's Greatest Rivals",1,"Sitting Bull vs. George Armstrong Custer: The Battle of the Little Bighorn","Library Bound Book",null,"978-1-4824-4237-3",{"$f":"HYPERLINK(Table1[[#This Row],[eCommerce Hyperlink]],\"Book Weblink\")","v":"Book Weblink"},null,"2016","January 2016","Library","7.250 X 9.250","Author","Ellis Roxburgh",null,null,null,null,"U","1000L","Grade 6 - 8","Grade 6 - 8","The outcome of the Battle of the Little Bighorn of 1876 stunned Americans. They were astounded that Native Americans could have defeated a US army force so decidedly. Only after examining the charismatic leaders in this conflict—Sioux chief Sitting Bull and Lieutenant Colonel George Armstrong Custer—can young historians understand how such a brutal battle took place. In this indispensable volume, filled with quotes, photographs, and paintings, many crucial events between Native Americans and the US government are scrutinized as well as the decisions made by the influential leaders that led to their ultimate demise.","English",32.950000000000003,24.7,"973.8/​2--dc23","48 pp.","https://www.garethstevens.com/9781482442373",null,{"$f":"Table1[[#This Row],[QTY]]*Table1[[#This Row],['# Books]]","v":0},{"$f":"Table1[[#This Row],[QTY]]*Table1[[#This Row],[S&L Price]]","v":0}]
[null,null,null,"History's Greatest Rivals",1,"Sitting Bull vs. George Armstrong Custer: The Battle of the Little Bighorn","eBook",null,"978-1-4824-4238-0",{"$f":"HYPERLINK(Table1[[#This Row],[eCommerce Hyperlink]],\"Book Weblink\")","v":"Book Weblink"},null,"2016","January 2016",null,null,"Author","Ellis Roxburgh",null,null,null,null,"U","1000L","Grade 6 - 8","Grade 6 - 8","The outcome of the Battle of the Little Bighorn of 1876 stunned Americans. They were astounded that Native Americans could have defeated a US army force so decidedly. Only after examining the charismatic leaders in this conflict—Sioux chief Sitting Bull and Lieutenant Colonel George Armstrong Custer—can young historians understand how such a brutal battle took place. In this indispensable volume, filled with quotes, photographs, and paintings, many crucial events between Native Americans and the US government are scrutinized as well as the decisions made by the influential leaders that led to their ultimate demise.","English",32.950000000000003,24.7,"973.8/​2--dc23","48 pp.","https://www.garethstevens.com/9781482442380",null,{"$f":"Table1[[#This Row],[QTY]]*Table1[[#This Row],['# Books]]","v":0},{"$f":"Table1[[#This Row],[QTY]]*Table1[[#This Row],[S&L Price]]","v":0}]
[null,null,null,"History's Greatest Rivals",1,"Thomas Jefferson vs. John Adams: Founding Fathers and Political Rivals","Library Bound Book",null,"978-1-4824-4241-0",{"$f":"HYPERLINK(Table1[[#This Row],[eCommerce Hyperlink]],\"Book Weblink\")","v":"Book Weblink"},null,"2016","January 2016","Library","7.250 X 9.250","Author","Ellis Roxburgh",null,null,null,null,"U","940L","Grade 6 - 8","Grade 6 - 8","It may be surprising to even history buffs that Founding Fathers Thomas Jefferson and John Adams were at odds for years after the American Revolution. Each held tightly to their opposing views of how the new nation should be governed. This absorbing text not only reviews many important benchmarks of American history—such as the writing of the US Constitution and the establishment of political parties—it also provides well-rounded analyses of these two powerful men, their relationship, and their eventual reconciliation. Their prolific writings provide many significant quotations throughout this valuable and insightful volume.","English",32.950000000000003,24.7,"973.4/​6092--dc23","48 pp.","https://www.garethstevens.com/9781482442410",null,{"$f":"Table1[[#This Row],[QTY]]*Table1[[#This Row],['# Books]]","v":0},{"$f":"Table1[[#This Row],[QTY]]*Table1[[#This Row],[S&L Price]]","v":0}]
[null,null,null,"History's Greatest Rivals",1,"Thomas Jefferson vs. John Adams: Founding Fathers and Political Rivals","eBook",null,"978-1-4824-4242-7",{"$f":"HYPERLINK(Table1[[#This Row],[eCommerce Hyperlink]],\"Book Weblink\")","v":"Book Weblink"},null,"2016","January 2016",null,null,"Author","Ellis Roxburgh",null,null,null,null,"U","940L","Grade 6 - 8","Grade 6 - 8","It may be surprising to even history buffs that Founding Fathers Thomas Jefferson and John Adams were at odds for years after the American Revolution. Each held tightly to their opposing views of how the new nation should be governed. This absorbing text not only reviews many important benchmarks of American history—such as the writing of the US Constitution and the establishment of political parties—it also provides well-rounded analyses of these two powerful men, their relationship, and their eventual reconciliation. Their prolific writings provide many significant quotations throughout this valuable and insightful volume.","English",32.950000000000003,24.7,"973.4/​6092--dc23","48 pp.","https://www.garethstevens.com/9781482442427",null,{"$f":"Table1[[#This Row],[QTY]]*Table1[[#This Row],['# Books]]","v":0},{"$f":"Table1[[#This Row],[QTY]]*Table1[[#This Row],[S&L Price]]","v":0}]
[null,null,null,"Wanted! Famous Outlaws",1,"Billy the Kid: A Notorious Gunfighter of the Wild West","Library Bound Book",null,"978-1-4824-4245-8",{"$f":"HYPERLINK(Table1[[#This Row],[eCommerce Hyperlink]],\"Book Weblink\")","v":"Book Weblink"},null,"2016","January 2016","Library","7.250 X 9.250","Author","Tim Cooke",null,null,null,null,"R","800L","Grade 6 - 8","Grade 6 - 8","Though born in Manhattan in 1859, William Henry McCarty, Jr.—also known as Billy the Kid—became a legend of the Wild West. Focusing on Billy as a horse thief, cattle rustler, and gunfighter, this stirring biography examines both the hard facts and what may be fiction about the infamous outlaw. His association with the Regulators, pursuit by Pat Garrett, and eventual demise are all included in this fast-paced volume. Historical photographs, intriguing quotations, and other appealing design features—including a Rogues’ Gallery of criminals—bring the era of the gunslinger to life.","English",32.950000000000003,24.7,"364.15'52092--dc23","48 pp.","https://www.garethstevens.com/9781482442458",null,{"$f":"Table1[[#This Row],[QTY]]*Table1[[#This Row],['# Books]]","v":0},{"$f":"Table1[[#This Row],[QTY]]*Table1[[#This Row],[S&L Price]]","v":0}]
[null,null,null,"Wanted! Famous Outlaws",1,"Billy the Kid: A Notorious Gunfighter of the Wild West","eBook",null,"978-1-4824-4246-5",{"$f":"HYPERLINK(Table1[[#This Row],[eCommerce Hyperlink]],\"Book Weblink\")","v":"Book Weblink"},null,"2016","January 2016",null,null,"Author","Tim Cooke",null,null,null,null,"R","800L","Grade 6 - 8","Grade 6 - 8","Though born in Manhattan in 1859, William Henry McCarty, Jr.—also known as Billy the Kid—became a legend of the Wild West. Focusing on Billy as a horse thief, cattle rustler, and gunfighter, this stirring biography examines both the hard facts and what may be fiction about the infamous outlaw. His association with the Regulators, pursuit by Pat Garrett, and eventual demise are all included in this fast-paced volume. Historical photographs, intriguing quotations, and other appealing design features—including a Rogues’ Gallery of criminals—bring the era of the gunslinger to life.","English",32.950000000000003,24.7,"364.15'52092--dc23","48 pp.","https://www.garethstevens.com/9781482442465",null,{"$f":"Table1[[#This Row],[QTY]]*Table1[[#This Row],['# Books]]","v":0},{"$f":"Table1[[#This Row],[QTY]]*Table1[[#This Row],[S&L Price]]","v":0}]
[null,null,null,"Wanted! Famous Outlaws",1,"Blackbeard: A Notorious Pirate in the Caribbean","Library Bound Book",null,"978-1-4824-4249-6",{"$f":"HYPERLINK(Table1[[#This Row],[eCommerce Hyperlink]],\"Book Weblink\")","v":"Book Weblink"},null,"2016","January 2016","Library","7.250 X 9.250","Author","Tim Cooke",null,null,null,null,"R","860L","Grade 6 - 8","Grade 6 - 8","Edward Teach, otherwise known as the pirate Blackbeard, was a terror of the seas in the 1700s. Merchant ships had little choice but to surrender to his 40-cannon Queen Anne’s Revenge. At one point, Teach accepted a pardon but couldn’t retire from piracy for good. This adventurous volume takes readers into the background of the famous figure, explains the origins of his striking monikor, and describes the bloody skirmish that ended his life. Sidebars and fact boxes offer more information about both pirates and privateers and the perils of each chosen path. Beautiful illustrations and photographs further enhance this high-interest book.","English",32.950000000000003,24.7,"910.4'5--dc23","48 pp.","https://www.garethstevens.com/9781482442496",null,{"$f":"Table1[[#This Row],[QTY]]*Table1[[#This Row],['# Books]]","v":0},{"$f":"Table1[[#This Row],[QTY]]*Table1[[#This Row],[S&L Price]]","v":0}]
[null,null,null,"Wanted! Famous Outlaws",1,"Blackbeard: A Notorious Pirate in the Caribbean","eBook",null,"978-1-4824-4250-2",{"$f":"HYPERLINK(Table1[[#This Row],[eCommerce Hyperlink]],\"Book Weblink\")","v":"Book Weblink"},null,"2016","January 2016",null,null,"Author","Tim Cooke",null,null,null,null,"R","860L","Grade 6 - 8","Grade 6 - 8","Edward Teach, otherwise known as the pirate Blackbeard, was a terror of the seas in the 1700s. Merchant ships had little choice but to surrender to his 40-cannon Queen Anne’s Revenge. At one point, Teach accepted a pardon but couldn’t retire from piracy for good. This adventurous volume takes readers into the background of the famous figure, explains the origins of his striking monikor, and describes the bloody skirmish that ended his life. Sidebars and fact boxes offer more information about both pirates and privateers and the perils of each chosen path. Beautiful illustrations and photographs further enhance this high-interest book.","English",32.950000000000003,24.7,"910.4'5--dc23","48 pp.","https://www.garethstevens.com/9781482442502",null,{"$f":"Table1[[#This Row],[QTY]]*Table1[[#This Row],['# Books]]","v":0},{"$f":"Table1[[#This Row],[QTY]]*Table1[[#This Row],[S&L Price]]","v":0}]
[null,null,null,"Wanted! Famous Outlaws",1,"Bonnie and Clyde: Notorious Outlaws of the Great Depression","Library Bound Book",null,"978-1-4824-4253-3",{"$f":"HYPERLINK(Table1[[#This Row],[eCommerce Hyperlink]],\"Book Weblink\")","v":"Book Weblink"},null,"2016","January 2016","Library","7.250 X 9.250","Author","Tim Cooke",null,null,null,null,"S",null,"Grade 6 - 8","Grade 6 - 8","Clyde Barrow and Bonnie Parker, the notorious Bonnie and Clyde, ruled the front of newspapers and the public’s imagination in the 1930s. While most of the nation suffered under the Great Depression, the duo and their gang pulled off a string of robberies, leaving many dead in their daring escapes. Readers will learn why these two famous figures have been romanticized by so many, even today, and follow Texas Ranger Frank Hamer as his posse tracks down and ambushes the outlaws. Primary sources, historical photographs, and revealing quotations shed more light on the dramatic true story.","English",32.950000000000003,24.7,"364.15'52092273--dc23","48 pp.","https://www.garethstevens.com/9781482442533",null,{"$f":"Table1[[#This Row],[QTY]]*Table1[[#This Row],['# Books]]","v":0},{"$f":"Table1[[#This Row],[QTY]]*Table1[[#This Row],[S&L Price]]","v":0}]
[null,null,null,"Wanted! Famous Outlaws",1,"Bonnie and Clyde: Notorious Outlaws of the Great Depression","eBook",null,"978-1-4824-4254-0",{"$f":"HYPERLINK(Table1[[#This Row],[eCommerce Hyperlink]],\"Book Weblink\")","v":"Book Weblink"},null,"2016","January 2016",null,null,"Author","Tim Cooke",null,null,null,null,"S",null,"Grade 6 - 8","Grade 6 - 8","Clyde Barrow and Bonnie Parker, the notorious Bonnie and Clyde, ruled the front of newspapers and the public’s imagination in the 1930s. While most of the nation suffered under the Great Depression, the duo and their gang pulled off a string of robberies, leaving many dead in their daring escapes. Readers will learn why these two famous figures have been romanticized by so many, even today, and follow Texas Ranger Frank Hamer as his posse tracks down and ambushes the outlaws. Primary sources, historical photographs, and revealing quotations shed more light on the dramatic true story.","English",32.950000000000003,24.7,"364.15'52092273--dc23","48 pp.","https://www.garethstevens.com/9781482442540",null,{"$f":"Table1[[#This Row],[QTY]]*Table1[[#This Row],['# Books]]","v":0},{"$f":"Table1[[#This Row],[QTY]]*Table1[[#This Row],[S&L Price]]","v":0}]
[null,null,null,"Wanted! Famous Outlaws",1,"Butch Cassidy and the Sundance Kid: Notorious Outlaws of the West","Library Bound Book",null,"978-1-4824-4257-1",{"$f":"HYPERLINK(Table1[[#This Row],[eCommerce Hyperlink]],\"Book Weblink\")","v":"Book Weblink"},null,"2016","January 2016","Library","7.250 X 9.250","Author","Tim Cooke",null,null,null,null,"S","890L","Grade 6 - 8","Grade 6 - 8","Robert Leroy Parker’s transformation into Butch Cassidy wasn’t immediate. He worked on ranches as a cowboy, was a butcher for a time, and finally chose a path of crime in the American West in the late 1800s. Cassidy’s involvement with the band of outlaws known as the Wild Bunch and later partnership with Harry Longabaugh, the “Sundance Kid,” resulted in a crime spree and a life on the run. Butch Cassidy and the Sundance Kid fled to South America, where their fate remains a mystery. This lively, well-researched volume—filled with fascinating photographs and fact boxes—provides a gripping account of a fugitive’s life and legend.","English",32.950000000000003,24.7,"364.1552092--dc23","48 pp.","https://www.garethstevens.com/9781482442571",null,{"$f":"Table1[[#This Row],[QTY]]*Table1[[#This Row],['# Books]]","v":0},{"$f":"Table1[[#This Row],[QTY]]*Table1[[#This Row],[S&L Price]]","v":0}]
[null,null,null,"Wanted! Famous Outlaws",1,"Butch Cassidy and the Sundance Kid: Notorious Outlaws of the West","eBook",null,"978-1-4824-4258-8",{"$f":"HYPERLINK(Table1[[#This Row],[eCommerce Hyperlink]],\"Book Weblink\")","v":"Book Weblink"},null,"2016","January 2016",null,null,"Author","Tim Cooke",null,null,null,null,"S","890L","Grade 6 - 8","Grade 6 - 8","Robert Leroy Parker’s transformation into Butch Cassidy wasn’t immediate. He worked on ranches as a cowboy, was a butcher for a time, and finally chose a path of crime in the American West in the late 1800s. Cassidy’s involvement with the band of outlaws known as the Wild Bunch and later partnership with Harry Longabaugh, the “Sundance Kid,” resulted in a crime spree and a life on the run. Butch Cassidy and the Sundance Kid fled to South America, where their fate remains a mystery. This lively, well-researched volume—filled with fascinating photographs and fact boxes—provides a gripping account of a fugitive’s life and legend.","English",32.950000000000003,24.7,"364.1552092--dc23","48 pp.","https://www.garethstevens.com/9781482442588",null,{"$f":"Table1[[#This Row],[QTY]]*Table1[[#This Row],['# Books]]","v":0},{"$f":"Table1[[#This Row],[QTY]]*Table1[[#This Row],[S&L Price]]","v":0}]
[null,null,null,"Wanted! Famous Outlaws",1,"Jesse James: A Notorious Bank Robber of the Wild West","Library Bound Book",null,"978-1-4824-4261-8",{"$f":"HYPERLINK(Table1[[#This Row],[eCommerce Hyperlink]],\"Book Weblink\")","v":"Book Weblink"},null,"2016","January 2016","Library","7.250 X 9.250","Author","Tim Cooke",null,null,null,null,"R","800L","Grade 6 - 8","Grade 6 - 8","Jesse James’s rise as a notorious outlaw was concurrent with the upheaval the West experienced before, during, and after the American Civil War. In fact, Jesse and his brother Frank became heroes to many who viewed them as Confederates battling the Union more than murderers and thieves. This thought-provoking volume tells the story of Jesse, from childhood to violent death, as well as relates valuable information about events in the United States that cultivated outlaws like the James brothers, including Bleeding Kansas and Reconstruction. The infamous man comes to life through photographs, illustrations, and an exciting narrative.","English",32.950000000000003,24.7,"364.1552092--dc23","48 pp.","https://www.garethstevens.com/9781482442618",null,{"$f":"Table1[[#This Row],[QTY]]*Table1[[#This Row],['# Books]]","v":0},{"$f":"Table1[[#This Row],[QTY]]*Table1[[#This Row],[S&L Price]]","v":0}]
[null,null,null,"Wanted! Famous Outlaws",1,"Jesse James: A Notorious Bank Robber of the Wild West","eBook",null,"978-1-4824-4265-6",{"$f":"HYPERLINK(Table1[[#This Row],[eCommerce Hyperlink]],\"Book Weblink\")","v":"Book Weblink"},null,"2016","January 2016",null,null,"Author","Tim Cooke",null,null,null,null,"R","800L","Grade 6 - 8","Grade 6 - 8","Jesse James’s rise as a notorious outlaw was concurrent with the upheaval the West experienced before, during, and after the American Civil War. In fact, Jesse and his brother Frank became heroes to many who viewed them as Confederates battling the Union more than murderers and thieves. This thought-provoking volume tells the story of Jesse, from childhood to violent death, as well as relates valuable information about events in the United States that cultivated outlaws like the James brothers, including Bleeding Kansas and Reconstruction. The infamous man comes to life through photographs, illustrations, and an exciting narrative.","English",32.950000000000003,24.7,"364.1552092--dc23","48 pp.","https://www.garethstevens.com/9781482442656",null,{"$f":"Table1[[#This Row],[QTY]]*Table1[[#This Row],['# Books]]","v":0},{"$f":"Table1[[#This Row],[QTY]]*Table1[[#This Row],[S&L Price]]","v":0}]
[null,null,null,"Wanted! Famous Outlaws",1,"Ned Kelly: A Notorious Bandit of the Australian Outback","Library Bound Book",null,"978-1-4824-4262-5",{"$f":"HYPERLINK(Table1[[#This Row],[eCommerce Hyperlink]],\"Book Weblink\")","v":"Book Weblink"},null,"2016","January 2016","Library","7.250 X 9.250","Author","Tim Cooke",null,null,null,null,"S","880L","Grade 6 - 8","Grade 6 - 8","Ned Kelly, famous outlaw and folk hero, grew up in Australia in the late 1800s. His life of crime began as a teenager stealing horses and later escalated to murder. Kelly soon had a price on his head, which could be collected through his capture or death. This high-interest volume relays the events that led to Kelly’s hanging in 1880 and why he became a hero to many Australians. Photographs of Kelly and his accomplices, additional information in sidebars and fact boxes, and direct quotations from those involved reveal much about Australia’s history and culture.","English",32.950000000000003,24.7,"364.15'5092--dc23","48 pp.","https://www.garethstevens.com/9781482442625",null,{"$f":"Table1[[#This Row],[QTY]]*Table1[[#This Row],['# Books]]","v":0},{"$f":"Table1[[#This Row],[QTY]]*Table1[[#This Row],[S&L Price]]","v":0}]
[null,null,null,"Wanted! Famous Outlaws",1,"Ned Kelly: A Notorious Bandit of the Australian Outback","eBook",null,"978-1-4824-4263-2",{"$f":"HYPERLINK(Table1[[#This Row],[eCommerce Hyperlink]],\"Book Weblink\")","v":"Book Weblink"},null,"2016","January 2016",null,null,"Author","Tim Cooke",null,null,null,null,"S","880L","Grade 6 - 8","Grade 6 - 8","Ned Kelly, famous outlaw and folk hero, grew up in Australia in the late 1800s. His life of crime began as a teenager stealing horses and later escalated to murder. Kelly soon had a price on his head, which could be collected through his capture or death. This high-interest volume relays the events that led to Kelly’s hanging in 1880 and why he became a hero to many Australians. Photographs of Kelly and his accomplices, additional information in sidebars and fact boxes, and direct quotations from those involved reveal much about Australia’s history and culture.","English",32.950000000000003,24.7,"364.15'5092--dc23","48 pp.","https://www.garethstevens.com/9781482442632",null,{"$f":"Table1[[#This Row],[QTY]]*Table1[[#This Row],['# Books]]","v":0},{"$f":"Table1[[#This Row],[QTY]]*Table1[[#This Row],[S&L Price]]","v":0}]
[null,null,null,"Field & Stream's Guide to the Outdoors",1,"Field & Stream's Guide to Catching Bass","Library Bound Book",null,"978-1-4824-3185-8",{"$f":"HYPERLINK(Table1[[#This Row],[eCommerce Hyperlink]],\"Book Weblink\")","v":"Book Weblink"},null,"2016","August 2015","Library","5.750 X 8.250","Author, Edited by","Joe Cermele, The Editors of Field and Stream",null,null,"44",null,"V",null,"Grade 6 - 8","Grade 6 - 8","Fishing is a sport that both the inexperienced and the expert can enjoy, and bass fishing is one of the most exhilarating kinds. In fact, the largemouth bass is the number-one most sought-after gamefish species in the United States. This well-researched guide levels the playing field for those on the lookout for both smallmouth and largemouth bass. Readers will get to know the best bait, lures, fishing spots, and methods to snag their prize, even if they don't have a boat. Beautiful photographs, diagrams, and illustrations accompany the motivating and easy-to-follow narrative.","English",36.950000000000003,27.7,"799.17--dc23","96 pp.","https://www.garethstevens.com/9781482431858",null,{"$f":"Table1[[#This Row],[QTY]]*Table1[[#This Row],['# Books]]","v":0},{"$f":"Table1[[#This Row],[QTY]]*Table1[[#This Row],[S&L Price]]","v":0}]
[null,null,null,"Field & Stream's Guide to the Outdoors",1,"Field & Stream's Guide to Catching Bass","eBook",null,"978-1-4824-3186-5",{"$f":"HYPERLINK(Table1[[#This Row],[eCommerce Hyperlink]],\"Book Weblink\")","v":"Book Weblink"},null,"2016","August 2015",null,null,"Author, Edited by","Joe Cermele, The Editors of Field and Stream",null,null,"44",null,"V",null,"Grade 6 - 8","Grade 6 - 8","Fishing is a sport that both the inexperienced and the expert can enjoy, and bass fishing is one of the most exhilarating kinds. In fact, the largemouth bass is the number-one most sought-after gamefish species in the United States. This well-researched guide levels the playing field for those on the lookout for both smallmouth and largemouth bass. Readers will get to know the best bait, lures, fishing spots, and methods to snag their prize, even if they don't have a boat. Beautiful photographs, diagrams, and illustrations accompany the motivating and easy-to-follow narrative.","English",36.950000000000003,27.7,"799.17--dc23","96 pp.","https://www.garethstevens.com/9781482431865",null,{"$f":"Table1[[#This Row],[QTY]]*Table1[[#This Row],['# Books]]","v":0},{"$f":"Table1[[#This Row],[QTY]]*Table1[[#This Row],[S&L Price]]","v":0}]
[null,null,null,"Field & Stream's Guide to the Outdoors",1,"Field & Stream's Guide to Hunting Whitetail","Library Bound Book",null,"978-1-4824-3187-2",{"$f":"HYPERLINK(Table1[[#This Row],[eCommerce Hyperlink]],\"Book Weblink\")","v":"Book Weblink"},null,"2016","August 2015","Library","5.750 X 8.250","Author, Author, Edited by","Scott Bestful, Dave Hurteau, The Editors of Field and Stream",null,null,"44",null,"V",null,"Grade 6 - 8","Grade 6 - 8","From the basics of deer hunting to advanced tactics, this comprehensive volume has tips and tricks for whitetail hunters of all levels. Readers will get to know how to cover their own scent, \"read\" scrapes, and track a deer, as well as what to do once a buck is down. They'll become familiar with various kinds of gear they'll need for a successful expedition, and they'll be reminded of safety practices imperative to hunting with weapons. Numbered instructions, labeled illustrations, and colorful maps, diagrams, and photographs make this book an instructive and entertaining how-to guide.","English",36.950000000000003,27.7,"799.2--dc23","96 pp.","https://www.garethstevens.com/9781482431872",null,{"$f":"Table1[[#This Row],[QTY]]*Table1[[#This Row],['# Books]]","v":0},{"$f":"Table1[[#This Row],[QTY]]*Table1[[#This Row],[S&L Price]]","v":0}]
[null,null,null,"Field & Stream's Guide to the Outdoors",1,"Field & Stream's Guide to Hunting Whitetail","eBook",null,"978-1-4824-3188-9",{"$f":"HYPERLINK(Table1[[#This Row],[eCommerce Hyperlink]],\"Book Weblink\")","v":"Book Weblink"},null,"2016","August 2015",null,null,"Author, Author, Edited by","Scott Bestful, Dave Hurteau, The Editors of Field and Stream",null,null,"44",null,"V",null,"Grade 6 - 8","Grade 6 - 8","From the basics of deer hunting to advanced tactics, this comprehensive volume has tips and tricks for whitetail hunters of all levels. Readers will get to know how to cover their own scent, \"read\" scrapes, and track a deer, as well as what to do once a buck is down. They'll become familiar with various kinds of gear they'll need for a successful expedition, and they'll be reminded of safety practices imperative to hunting with weapons. Numbered instructions, labeled illustrations, and colorful maps, diagrams, and photographs make this book an instructive and entertaining how-to guide.","English",36.950000000000003,27.7,"799.2--dc23","96 pp.","https://www.garethstevens.com/9781482431889",null,{"$f":"Table1[[#This Row],[QTY]]*Table1[[#This Row],['# Books]]","v":0},{"$f":"Table1[[#This Row],[QTY]]*Table1[[#This Row],[S&L Price]]","v":0}]
[null,null,null,"Field & Stream's Guide to the Outdoors",1,"Outdoor Life's Disaster Survival Guide","Library Bound Book",null,"978-1-4824-3189-6",{"$f":"HYPERLINK(Table1[[#This Row],[eCommerce Hyperlink]],\"Book Weblink\")","v":"Book Weblink"},null,"2016","August 2015","Library","5.750 X 8.250","Author, Author","Rich Johnson, Robert F. James",null,null,"44",null,"V","1020L","Grade 6 - 8","Grade 6 - 8","Hurricanes, floods, volcanic eruptions, forest fires, sandstorms, blizzards, and tsunamis. These are the many disasters that people face around the world. Often, a little knowledge is what separates survivors and victims. This attention-grabbing volume is crammed with lifesaving content for all readers, and not only methods of surviving major disasters but also events such as broken bones. First-aid techniques, the Heimlich maneuver, and CPR are included in this helpful guide. The high-interest content is well organized and easy to navigate. Each valuable section of information is accompanied by beneficial diagrams, illustrations, and photographs.","English",36.950000000000003,27.7,"613.69--dc23","96 pp.","https://www.garethstevens.com/9781482431896",null,{"$f":"Table1[[#This Row],[QTY]]*Table1[[#This Row],['# Books]]","v":0},{"$f":"Table1[[#This Row],[QTY]]*Table1[[#This Row],[S&L Price]]","v":0}]
[null,null,null,"Field & Stream's Guide to the Outdoors",1,"Outdoor Life's Disaster Survival Guide","eBook",null,"978-1-4824-3190-2",{"$f":"HYPERLINK(Table1[[#This Row],[eCommerce Hyperlink]],\"Book Weblink\")","v":"Book Weblink"},null,"2016","August 2015",null,null,"Author, Author","Rich Johnson, Robert F. James",null,null,"44",null,"V","1020L","Grade 6 - 8","Grade 6 - 8","Hurricanes, floods, volcanic eruptions, forest fires, sandstorms, blizzards, and tsunamis. These are the many disasters that people face around the world. Often, a little knowledge is what separates survivors and victims. This attention-grabbing volume is crammed with lifesaving content for all readers, and not only methods of surviving major disasters but also events such as broken bones. First-aid techniques, the Heimlich maneuver, and CPR are included in this helpful guide. The high-interest content is well organized and easy to navigate. Each valuable section of information is accompanied by beneficial diagrams, illustrations, and photographs.","English",36.950000000000003,27.7,"613.69--dc23","96 pp.","https://www.garethstevens.com/9781482431902",null,{"$f":"Table1[[#This Row],[QTY]]*Table1[[#This Row],['# Books]]","v":0},{"$f":"Table1[[#This Row],[QTY]]*Table1[[#This Row],[S&L Price]]","v":0}]
[null,null,null,"¡A medir! (Measure It!)",1,"Medir el peso (Measuring Weight)","Library Bound Book",null,"978-1-4824-4364-6",{"$f":"HYPERLINK(Table1[[#This Row],[eCommerce Hyperlink]],\"Book Weblink\")","v":"Book Weblink"},null,"2016","January 2016","Library","7.000 X 7.000","Author, Translated by","T. H. Baer , Esther Sarfatti","2.8","0.5",null,null,"H",null,"Grade 1 - 2","Grade 1 - 3","It’s usually rude to ask how much someone weighs, but in science it’s an important thing to know! Readers learn how to measure weight in a variety of different ways, from ounces or grams used for small measurements, pounds or kilograms used to measure people, and tons and metric tons we used to measure larger loads. Using simple text to explain scientific and engineering principles fulfills STEM course requirements in a fun and engaging way and colorful photographs and graphics make the content even more accessible.","Spanish",23.6,17.7,"530.8--dc23","24 pp.","https://www.garethstevens.com/9781482443646",null,{"$f":"Table1[[#This Row],[QTY]]*Table1[[#This Row],['# Books]]","v":0},{"$f":"Table1[[#This Row],[QTY]]*Table1[[#This Row],[S&L Price]]","v":0}]
[null,null,null,"¡A medir! (Measure It!)",1,"Medir el peso (Measuring Weight)","eBook",null,"978-1-4824-4336-3",{"$f":"HYPERLINK(Table1[[#This Row],[eCommerce Hyperlink]],\"Book Weblink\")","v":"Book Weblink"},null,"2016","January 2016",null,null,"Author, Translated by","T. H. Baer , Esther Sarfatti","2.8","0.5",null,null,"H",null,"Grade 1 - 2","Grade 1 - 3","It’s usually rude to ask how much someone weighs, but in science it’s an important thing to know! Readers learn how to measure weight in a variety of different ways, from ounces or grams used for small measurements, pounds or kilograms used to measure people, and tons and metric tons we used to measure larger loads. Using simple text to explain scientific and engineering principles fulfills STEM course requirements in a fun and engaging way and colorful photographs and graphics make the content even more accessible.","Spanish",23.6,17.7,"530.8--dc23","24 pp.","https://www.garethstevens.com/9781482443363",null,{"$f":"Table1[[#This Row],[QTY]]*Table1[[#This Row],['# Books]]","v":0},{"$f":"Table1[[#This Row],[QTY]]*Table1[[#This Row],[S&L Price]]","v":0}]
[null,null,null,"¡A medir! (Measure It!)",1,"Medir el volumen (Measuring Volume)","Library Bound Book",null,"978-1-4824-4366-0",{"$f":"HYPERLINK(Table1[[#This Row],[eCommerce Hyperlink]],\"Book Weblink\")","v":"Book Weblink"},null,"2016","January 2016","Library","7.000 X 7.000","Author, Translated by","T. H. Baer , Esther Sarfatti","2.9","0.5",null,null,"H",null,"Grade 1 - 2","Grade 1 - 3","Volume is the amount of space a liquid takes up in a container. This engaging book takes a look at how to measure volume and why it’s useful. Whether using the displacement method or simple containers marked with measurements, there are many different ways to measure liquids. Readers will learn to measure volume in both U.S. and International measurements to further their learning and ensure they can measure volume no matter what kind of container they use.","Spanish",23.6,17.7,"516.1--dc23","24 pp.","https://www.garethstevens.com/9781482443660",null,{"$f":"Table1[[#This Row],[QTY]]*Table1[[#This Row],['# Books]]","v":0},{"$f":"Table1[[#This Row],[QTY]]*Table1[[#This Row],[S&L Price]]","v":0}]
[null,null,null,"¡A medir! (Measure It!)",1,"Medir el volumen (Measuring Volume)","eBook",null,"978-1-4824-4338-7",{"$f":"HYPERLINK(Table1[[#This Row],[eCommerce Hyperlink]],\"Book Weblink\")","v":"Book Weblink"},null,"2016","January 2016",null,null,"Author, Translated by","T. H. Baer , Esther Sarfatti","2.9","0.5",null,null,"H",null,"Grade 1 - 2","Grade 1 - 3","Volume is the amount of space a liquid takes up in a container. This engaging book takes a look at how to measure volume and why it’s useful. Whether using the displacement method or simple containers marked with measurements, there are many different ways to measure liquids. Readers will learn to measure volume in both U.S. and International measurements to further their learning and ensure they can measure volume no matter what kind of container they use.","Spanish",23.6,17.7,"516.1--dc23","24 pp.","https://www.garethstevens.com/9781482443387",null,{"$f":"Table1[[#This Row],[QTY]]*Table1[[#This Row],['# Books]]","v":0},{"$f":"Table1[[#This Row],[QTY]]*Table1[[#This Row],[S&L Price]]","v":0}]
[null,null,null,"¡A medir! (Measure It!)",1,"Medir la altura (Measuring Height)","Library Bound Book",null,"978-1-4824-4361-5",{"$f":"HYPERLINK(Table1[[#This Row],[eCommerce Hyperlink]],\"Book Weblink\")","v":"Book Weblink"},null,"2016","January 2016","Library","7.000 X 7.000","Author, Translated by","T. H. Baer , Esther Sarfatti","2.7","0.5",null,null,"H",null,"Grade 1 - 2","Grade 1 - 3","How tall is that tree? Let's find out! Measuring the height of things is a great way to practice mathematics. This exciting book shows readers what tools are needed to measure and how a basic understanding of length and height can be used to tackle more complex math in the future. From measuring the height of a person to a giant skyscraper, this exciting book is a fun and easy way for young readers to tackle STEM topics with ease.","Spanish",23.6,17.7,"530.8--dc23","24 pp.","https://www.garethstevens.com/9781482443615",null,{"$f":"Table1[[#This Row],[QTY]]*Table1[[#This Row],['# Books]]","v":0},{"$f":"Table1[[#This Row],[QTY]]*Table1[[#This Row],[S&L Price]]","v":0}]
[null,null,null,"¡A medir! (Measure It!)",1,"Medir la altura (Measuring Height)","eBook",null,"978-1-4824-4333-2",{"$f":"HYPERLINK(Table1[[#This Row],[eCommerce Hyperlink]],\"Book Weblink\")","v":"Book Weblink"},null,"2016","January 2016",null,null,"Author, Translated by","T. H. Baer , Esther Sarfatti","2.7","0.5",null,null,"H",null,"Grade 1 - 2","Grade 1 - 3","How tall is that tree? Let's find out! Measuring the height of things is a great way to practice mathematics. This exciting book shows readers what tools are needed to measure and how a basic understanding of length and height can be used to tackle more complex math in the future. From measuring the height of a person to a giant skyscraper, this exciting book is a fun and easy way for young readers to tackle STEM topics with ease.","Spanish",23.6,17.7,"530.8--dc23","24 pp.","https://www.garethstevens.com/9781482443332",null,{"$f":"Table1[[#This Row],[QTY]]*Table1[[#This Row],['# Books]]","v":0},{"$f":"Table1[[#This Row],[QTY]]*Table1[[#This Row],[S&L Price]]","v":0}]
[null,null,null,"¡A medir! (Measure It!)",1,"Medir la distancia (Measuring Distance)","Library Bound Book",null,"978-1-4824-4362-2",{"$f":"HYPERLINK(Table1[[#This Row],[eCommerce Hyperlink]],\"Book Weblink\")","v":"Book Weblink"},null,"2016","January 2016","Library","7.000 X 7.000","Author, Translated by","T. H. Baer , Esther Sarfatti","2.6","0.5",null,null,"H",null,"Grade 1 - 2","Grade 1 - 3","Math is much more than measuring the sides of a triangle. This exciting book makes readers grab their rulers and maybe even their tape measures to explore the concept of distance in exciting and unpredictable ways. Readers learn through simple text the concept of distance, what increments to use when measuring it, and why knowing the distance between two points is an important concept for any student.","Spanish",23.6,17.7,"530.8--dc23","24 pp.","https://www.garethstevens.com/9781482443622",null,{"$f":"Table1[[#This Row],[QTY]]*Table1[[#This Row],['# Books]]","v":0},{"$f":"Table1[[#This Row],[QTY]]*Table1[[#This Row],[S&L Price]]","v":0}]
[null,null,null,"¡A medir! (Measure It!)",1,"Medir la distancia (Measuring Distance)","eBook",null,"978-1-4824-4334-9",{"$f":"HYPERLINK(Table1[[#This Row],[eCommerce Hyperlink]],\"Book Weblink\")","v":"Book Weblink"},null,"2016","January 2016",null,null,"Author, Translated by","T. H. Baer , Esther Sarfatti","2.6","0.5",null,null,"H",null,"Grade 1 - 2","Grade 1 - 3","Math is much more than measuring the sides of a triangle. This exciting book makes readers grab their rulers and maybe even their tape measures to explore the concept of distance in exciting and unpredictable ways. Readers learn through simple text the concept of distance, what increments to use when measuring it, and why knowing the distance between two points is an important concept for any student.","Spanish",23.6,17.7,"530.8--dc23","24 pp.","https://www.garethstevens.com/9781482443349",null,{"$f":"Table1[[#This Row],[QTY]]*Table1[[#This Row],['# Books]]","v":0},{"$f":"Table1[[#This Row],[QTY]]*Table1[[#This Row],[S&L Price]]","v":0}]
[null,null,null,"¡A medir! (Measure It!)",1,"Medir la temperatura (Measuring Temperature)","Library Bound Book",null,"978-1-4824-4363-9",{"$f":"HYPERLINK(Table1[[#This Row],[eCommerce Hyperlink]],\"Book Weblink\")","v":"Book Weblink"},null,"2016","January 2016","Library","7.000 X 7.000","Author, Translated by","T. H. Baer , Esther Sarfatti","2.9","0.5",null,null,"H",null,"Grade 1 - 2","Grade 1 - 3","The temperature outside is always changing, which means getting an accurate read on it is important. This informative book shows readers how to measure temperature with a thermometer. Knowing the temperature will keep readers from diving into a freezing cold pool, or ensure they wear light clothes on a hot summer day. Showing measurements in both Fahrenheit and Celsius gives this book added value, and means readers will know the temperature no matter what kind of thermometer they use anywhere in the world.","Spanish",23.6,17.7,"536'.50287--dc23","24 pp.","https://www.garethstevens.com/9781482443639",null,{"$f":"Table1[[#This Row],[QTY]]*Table1[[#This Row],['# Books]]","v":0},{"$f":"Table1[[#This Row],[QTY]]*Table1[[#This Row],[S&L Price]]","v":0}]
[null,null,null,"¡A medir! (Measure It!)",1,"Medir la temperatura (Measuring Temperature)","eBook",null,"978-1-4824-4335-6",{"$f":"HYPERLINK(Table1[[#This Row],[eCommerce Hyperlink]],\"Book Weblink\")","v":"Book Weblink"},null,"2016","January 2016",null,null,"Author, Translated by","T. H. Baer , Esther Sarfatti","2.9","0.5",null,null,"H",null,"Grade 1 - 2","Grade 1 - 3","The temperature outside is always changing, which means getting an accurate read on it is important. This informative book shows readers how to measure temperature with a thermometer. Knowing the temperature will keep readers from diving into a freezing cold pool, or ensure they wear light clothes on a hot summer day. Showing measurements in both Fahrenheit and Celsius gives this book added value, and means readers will know the temperature no matter what kind of thermometer they use anywhere in the world.","Spanish",23.6,17.7,"536'.50287--dc23","24 pp.","https://www.garethstevens.com/9781482443356",null,{"$f":"Table1[[#This Row],[QTY]]*Table1[[#This Row],['# Books]]","v":0},{"$f":"Table1[[#This Row],[QTY]]*Table1[[#This Row],[S&L Price]]","v":0}]
[null,null,null,"¡A medir! (Measure It!)",1,"Medir la velocidad (Measuring Speed)","Library Bound Book",null,"978-1-4824-4365-3",{"$f":"HYPERLINK(Table1[[#This Row],[eCommerce Hyperlink]],\"Book Weblink\")","v":"Book Weblink"},null,"2016","January 2016","Library","7.000 X 7.000","Author, Translated by","T. H. Baer , Esther Sarfatti","3.2","0.5",null,null,"H",null,"Grade 1 - 2","Grade 1 - 3","When a bird flies by a window or a car zooms by on the highway, we often wonder how fast the two objects traveled. This book explains the concept of speed to readers while showing them accessible ways to measure it for themselves. Learning the amount of distance traveled, and how quickly that distance was covered, is a great way to implement a variety of STEM topics while practicing this essential mathematical skill.","Spanish",23.6,17.7,"531'.112--dc23","24 pp.","https://www.garethstevens.com/9781482443653",null,{"$f":"Table1[[#This Row],[QTY]]*Table1[[#This Row],['# Books]]","v":0},{"$f":"Table1[[#This Row],[QTY]]*Table1[[#This Row],[S&L Price]]","v":0}]
[null,null,null,"¡A medir! (Measure It!)",1,"Medir la velocidad (Measuring Speed)","eBook",null,"978-1-4824-4337-0",{"$f":"HYPERLINK(Table1[[#This Row],[eCommerce Hyperlink]],\"Book Weblink\")","v":"Book Weblink"},null,"2016","January 2016",null,null,"Author, Translated by","T. H. Baer , Esther Sarfatti","3.2","0.5",null,null,"H",null,"Grade 1 - 2","Grade 1 - 3","When a bird flies by a window or a car zooms by on the highway, we often wonder how fast the two objects traveled. This book explains the concept of speed to readers while showing them accessible ways to measure it for themselves. Learning the amount of distance traveled, and how quickly that distance was covered, is a great way to implement a variety of STEM topics while practicing this essential mathematical skill.","Spanish",23.6,17.7,"531'.112--dc23","24 pp.","https://www.garethstevens.com/9781482443370",null,{"$f":"Table1[[#This Row],[QTY]]*Table1[[#This Row],['# Books]]","v":0},{"$f":"Table1[[#This Row],[QTY]]*Table1[[#This Row],[S&L Price]]","v":0}]
[null,null,null,"Similares pero no iguales (Animal Look-Alikes)",1,"¿Caimán o cocodrilo? (Alligator or Crocodile?)","Library Bound Book",null,"978-1-4824-3244-2",{"$f":"HYPERLINK(Table1[[#This Row],[eCommerce Hyperlink]],\"Book Weblink\")","v":"Book Weblink"},null,"2016","August 2015","Library","7.000 X 7.000","Author","Rob Ryndak",null,null,null,null,"I",null,"Grade 1 - 2","Grade 1 - 3","If a person were ever face-to-face with a huge, hungry animal with sharp teeth, they probably wouldn’t care exactly what that animal was! But from a safe location, can we tell whether it was a crocodile or alligator that wanted to take a bite? By examining their jaw structure, teeth, and other physical features, we can easily tell these two animals apart! Graphic organizers and amazing images highlight each animal’s habitat and other small differences between the two fearsome creatures, showing readers just what creature is lurking below the waters.","Spanish",23.6,17.7,"597.98","24 pp.","https://www.garethstevens.com/9781482432442",null,{"$f":"Table1[[#This Row],[QTY]]*Table1[[#This Row],['# Books]]","v":0},{"$f":"Table1[[#This Row],[QTY]]*Table1[[#This Row],[S&L Price]]","v":0}]
[null,null,null,"Similares pero no iguales (Animal Look-Alikes)",1,"¿Caimán o cocodrilo? (Alligator or Crocodile?)","eBook",null,"978-1-4824-3245-9",{"$f":"HYPERLINK(Table1[[#This Row],[eCommerce Hyperlink]],\"Book Weblink\")","v":"Book Weblink"},null,"2016","August 2015",null,null,"Author","Rob Ryndak",null,null,null,null,"I",null,"Grade 1 - 2","Grade 1 - 3","If a person were ever face-to-face with a huge, hungry animal with sharp teeth, they probably wouldn’t care exactly what that animal was! But from a safe location, can we tell whether it was a crocodile or alligator that wanted to take a bite? By examining their jaw structure, teeth, and other physical features, we can easily tell these two animals apart! Graphic organizers and amazing images highlight each animal’s habitat and other small differences between the two fearsome creatures, showing readers just what creature is lurking below the waters.","Spanish",23.6,17.7,"597.98","24 pp.","https://www.garethstevens.com/9781482432459",null,{"$f":"Table1[[#This Row],[QTY]]*Table1[[#This Row],['# Books]]","v":0},{"$f":"Table1[[#This Row],[QTY]]*Table1[[#This Row],[S&L Price]]","v":0}]
[null,null,null,"Similares pero no iguales (Animal Look-Alikes)",1,"¿Delfín o marsopa? (Dolphin or Porpoise?)","Library Bound Book",null,"978-1-4824-3249-7",{"$f":"HYPERLINK(Table1[[#This Row],[eCommerce Hyperlink]],\"Book Weblink\")","v":"Book Weblink"},null,"2016","August 2015","Library","7.000 X 7.000","Author","Rob Ryndak",null,null,null,null,"I",null,"Grade 1 - 2","Grade 1 - 3","Dolphins and porpoises look very similar, but while these mammals share some features they aren’t even in the same family! From tooth and jaw shape to the way they chat with one another, these amazing ocean animals are unique in many ways. It may be tough to tell them apart when catching a glimpse of a fin or nose in the water, but this book offers a closer look, transforming readers into dolphin and porpoise experts in no time!","Spanish",23.6,17.7,"599.53","24 pp.","https://www.garethstevens.com/9781482432497",null,{"$f":"Table1[[#This Row],[QTY]]*Table1[[#This Row],['# Books]]","v":0},{"$f":"Table1[[#This Row],[QTY]]*Table1[[#This Row],[S&L Price]]","v":0}]
[null,null,null,"Similares pero no iguales (Animal Look-Alikes)",1,"¿Delfín o marsopa? (Dolphin or Porpoise?)","eBook",null,"978-1-4824-3251-0",{"$f":"HYPERLINK(Table1[[#This Row],[eCommerce Hyperlink]],\"Book Weblink\")","v":"Book Weblink"},null,"2016","August 2015",null,null,"Author","Rob Ryndak",null,null,null,null,"I",null,"Grade 1 - 2","Grade 1 - 3","Dolphins and porpoises look very similar, but while these mammals share some features they aren’t even in the same family! From tooth and jaw shape to the way they chat with one another, these amazing ocean animals are unique in many ways. It may be tough to tell them apart when catching a glimpse of a fin or nose in the water, but this book offers a closer look, transforming readers into dolphin and porpoise experts in no time!","Spanish",23.6,17.7,"599.53","24 pp.","https://www.garethstevens.com/9781482432510",null,{"$f":"Table1[[#This Row],[QTY]]*Table1[[#This Row],['# Books]]","v":0},{"$f":"Table1[[#This Row],[QTY]]*Table1[[#This Row],[S&L Price]]","v":0}]
[null,null,null,"Similares pero no iguales (Animal Look-Alikes)",1,"¿Foca o león marino? (Seal or Sea Lion?)","Library Bound Book",null,"978-1-4824-3272-5",{"$f":"HYPERLINK(Table1[[#This Row],[eCommerce Hyperlink]],\"Book Weblink\")","v":"Book Weblink"},null,"2016","August 2015","Library","7.000 X 7.000","Author","Rob Ryndak",null,null,null,null,"I",null,"Grade 1 - 2","Grade 1 - 3","What's the difference between a seal and a sea lion? These \"second cousins\" of the sea look similar, but there are many ways to tell them apart. From ear shape to the noises they make to communicate, seals and sea lions are amazing creatures with shared features and many truly unique attributes. They both share an ocean habitat, but when readers take a closer look, it's easy to discover how they each fight off predators, mate, and raise their young in different ways.","Spanish",23.6,17.7,"599.79--dc23","24 pp.","https://www.garethstevens.com/9781482432725",null,{"$f":"Table1[[#This Row],[QTY]]*Table1[[#This Row],['# Books]]","v":0},{"$f":"Table1[[#This Row],[QTY]]*Table1[[#This Row],[S&L Price]]","v":0}]
[null,null,null,"Similares pero no iguales (Animal Look-Alikes)",1,"¿Foca o león marino? (Seal or Sea Lion?)","eBook",null,"978-1-4824-3417-0",{"$f":"HYPERLINK(Table1[[#This Row],[eCommerce Hyperlink]],\"Book Weblink\")","v":"Book Weblink"},null,"2016","August 2015",null,null,"Author","Rob Ryndak",null,null,null,null,"I",null,"Grade 1 - 2","Grade 1 - 3","What's the difference between a seal and a sea lion? These \"second cousins\" of the sea look similar, but there are many ways to tell them apart. From ear shape to the noises they make to communicate, seals and sea lions are amazing creatures with shared features and many truly unique attributes. They both share an ocean habitat, but when readers take a closer look, it's easy to discover how they each fight off predators, mate, and raise their young in different ways.","Spanish",23.6,17.7,"599.79--dc23","24 pp.","https://www.garethstevens.com/9781482434170",null,{"$f":"Table1[[#This Row],[QTY]]*Table1[[#This Row],['# Books]]","v":0},{"$f":"Table1[[#This Row],[QTY]]*Table1[[#This Row],[S&L Price]]","v":0}]
[null,null,null,"Similares pero no iguales (Animal Look-Alikes)",1,"¿Leopardo o jaguar? (Leopard or Jaguar?)","Library Bound Book",null,"978-1-4824-3264-0",{"$f":"HYPERLINK(Table1[[#This Row],[eCommerce Hyperlink]],\"Book Weblink\")","v":"Book Weblink"},null,"2016","August 2015","Library","7.000 X 7.000","Author","Rob Ryndak",null,null,null,null,"I",null,"Grade 1 - 2","Grade 1 - 3","Jungle cats can be tough to tell apart, but often it’s the spots that give an animal away. With leopards and jaguars, knowing where the animal lives can be a big hint as to which cat is stalking its prey. Telling the two animals apart is easy once we take a closer look. Jaguars are heavier than leopards and their features are unique when you take a good look at their heads. Amazing full-color photographs ensure readers don’t have to tell these magnificent animals apart!","Spanish",23.6,17.7,"599.75","24 pp.","https://www.garethstevens.com/9781482432640",null,{"$f":"Table1[[#This Row],[QTY]]*Table1[[#This Row],['# Books]]","v":0},{"$f":"Table1[[#This Row],[QTY]]*Table1[[#This Row],[S&L Price]]","v":0}]
[null,null,null,"Similares pero no iguales (Animal Look-Alikes)",1,"¿Leopardo o jaguar? (Leopard or Jaguar?)","eBook",null,"978-1-4824-3266-4",{"$f":"HYPERLINK(Table1[[#This Row],[eCommerce Hyperlink]],\"Book Weblink\")","v":"Book Weblink"},null,"2016","August 2015",null,null,"Author","Rob Ryndak",null,null,null,null,"I",null,"Grade 1 - 2","Grade 1 - 3","Jungle cats can be tough to tell apart, but often it’s the spots that give an animal away. With leopards and jaguars, knowing where the animal lives can be a big hint as to which cat is stalking its prey. Telling the two animals apart is easy once we take a closer look. Jaguars are heavier than leopards and their features are unique when you take a good look at their heads. Amazing full-color photographs ensure readers don’t have to tell these magnificent animals apart!","Spanish",23.6,17.7,"599.75","24 pp.","https://www.garethstevens.com/9781482432664",null,{"$f":"Table1[[#This Row],[QTY]]*Table1[[#This Row],['# Books]]","v":0},{"$f":"Table1[[#This Row],[QTY]]*Table1[[#This Row],[S&L Price]]","v":0}]
[null,null,null,"Similares pero no iguales (Animal Look-Alikes)",1,"¿Rana o sapo? (Frog or Toad?)","Library Bound Book",null,"978-1-4824-3256-5",{"$f":"HYPERLINK(Table1[[#This Row],[eCommerce Hyperlink]],\"Book Weblink\")","v":"Book Weblink"},null,"2016","August 2015","Library","7.000 X 7.000","Author","Rob Ryndak",null,null,null,null,"I",null,"Grade 1 - 2","Grade 1 - 3","Frogs and toads are some of the most confusing amphibians to classify. From poisonous skin and bulging eyes to their amazing life cycles, readers learn these creatures are as interesting to study as they're difficult to categorize.","Spanish",23.6,17.7,"597.8--dc23","24 pp.","https://www.garethstevens.com/9781482432565",null,{"$f":"Table1[[#This Row],[QTY]]*Table1[[#This Row],['# Books]]","v":0},{"$f":"Table1[[#This Row],[QTY]]*Table1[[#This Row],[S&L Price]]","v":0}]
[null,null,null,"Similares pero no iguales (Animal Look-Alikes)",1,"¿Rana o sapo? (Frog or Toad?)","eBook",null,"978-1-4824-3258-9",{"$f":"HYPERLINK(Table1[[#This Row],[eCommerce Hyperlink]],\"Book Weblink\")","v":"Book Weblink"},null,"2016","August 2015",null,null,"Author","Rob Ryndak",null,null,null,null,"I",null,"Grade 1 - 2","Grade 1 - 3","Frogs and toads are some of the most confusing amphibians to classify. From poisonous skin and bulging eyes to their amazing life cycles, readers learn these creatures are as interesting to study as they're difficult to categorize.","Spanish",23.6,17.7,"597.8--dc23","24 pp.","https://www.garethstevens.com/9781482432589",null,{"$f":"Table1[[#This Row],[QTY]]*Table1[[#This Row],['# Books]]","v":0},{"$f":"Table1[[#This Row],[QTY]]*Table1[[#This Row],[S&L Price]]","v":0}]
[null,null,null,"Similares pero no iguales (Animal Look-Alikes)",1,"¿Tortuga o galápago? (Turtle or Tortoise?)","Library Bound Book",null,"978-1-4824-3420-0",{"$f":"HYPERLINK(Table1[[#This Row],[eCommerce Hyperlink]],\"Book Weblink\")","v":"Book Weblink"},null,"2016","August 2015","Library","7.000 X 7.000","Author","Rob Ryndak",null,null,null,null,"J",null,"Grade 1 - 2","Grade 1 - 3","Both turtles and tortoises have shells and move pretty slowly. So what makes them different? And where to terrapins fit in? There’s much more going on with these amazing creatures than just carapaces and plastrons. From their family ties and foot size to their habitats, these animals look, live, and even eat differently. Some of these awesome animals can live for centuries! Readers will discover which of these reptiles can survive hundreds of years longer than humans, along with a host of other fun facts. Vivid photographs of turtles and tortoises in their natural habitat add further fascination for readers ready to tackle the differences between these two reptiles.","Spanish",23.6,17.7,"597.92--dc23","24 pp.","https://www.garethstevens.com/9781482434200",null,{"$f":"Table1[[#This Row],[QTY]]*Table1[[#This Row],['# Books]]","v":0},{"$f":"Table1[[#This Row],[QTY]]*Table1[[#This Row],[S&L Price]]","v":0}]
[null,null,null,"Similares pero no iguales (Animal Look-Alikes)",1,"¿Tortuga o galápago? (Turtle or Tortoise?)","eBook",null,"978-1-4824-3421-7",{"$f":"HYPERLINK(Table1[[#This Row],[eCommerce Hyperlink]],\"Book Weblink\")","v":"Book Weblink"},null,"2016","August 2015",null,null,"Author","Rob Ryndak",null,null,null,null,"J",null,"Grade 1 - 2","Grade 1 - 3","Both turtles and tortoises have shells and move pretty slowly. So what makes them different? And where to terrapins fit in? There’s much more going on with these amazing creatures than just carapaces and plastrons. From their family ties and foot size to their habitats, these animals look, live, and even eat differently. Some of these awesome animals can live for centuries! Readers will discover which of these reptiles can survive hundreds of years longer than humans, along with a host of other fun facts. Vivid photographs of turtles and tortoises in their natural habitat add further fascination for readers ready to tackle the differences between these two reptiles.","Spanish",23.6,17.7,"597.92--dc23","24 pp.","https://www.garethstevens.com/9781482434217",null,{"$f":"Table1[[#This Row],[QTY]]*Table1[[#This Row],['# Books]]","v":0},{"$f":"Table1[[#This Row],[QTY]]*Table1[[#This Row],[S&L Price]]","v":0}]
[null,null,null,"El mundo y la ingeniería (Engineering our World)",1,"Cómo se construye un auto (How a Car Is Made)","Library Bound Book",null,"978-1-4824-4368-4",{"$f":"HYPERLINK(Table1[[#This Row],[eCommerce Hyperlink]],\"Book Weblink\")","v":"Book Weblink"},null,"2016","January 2016","Library","8.500 X 8.500","Author","Sam Aloian","5.4","0.5",null,null,"N",null,"Grade 2 - 3","Grade 2 - 5","Automobiles are an essential part of life for many, but few really understand how that car arrives in their garage in the first place. This book takes an exciting look at just how interesting that process is, from the design phase in an engineer's office to the floor of a factory where it is assembled piece by piece by both people and machines. Full-color photographs bring the process to life in vivid detail, and a step-by-step how-to guide explains how readers can even build their very own model car.","Spanish",23.6,17.7,"629.2'3--dc23","24 pp.","https://www.garethstevens.com/9781482443684",null,{"$f":"Table1[[#This Row],[QTY]]*Table1[[#This Row],['# Books]]","v":0},{"$f":"Table1[[#This Row],[QTY]]*Table1[[#This Row],[S&L Price]]","v":0}]
[null,null,null,"El mundo y la ingeniería (Engineering our World)",1,"Cómo se construye un auto (How a Car Is Made)","eBook",null,"978-1-4824-4339-4",{"$f":"HYPERLINK(Table1[[#This Row],[eCommerce Hyperlink]],\"Book Weblink\")","v":"Book Weblink"},null,"2016","January 2016",null,null,"Author","Sam Aloian","5.4","0.5",null,null,"N",null,"Grade 2 - 3","Grade 2 - 5","Automobiles are an essential part of life for many, but few really understand how that car arrives in their garage in the first place. This book takes an exciting look at just how interesting that process is, from the design phase in an engineer's office to the floor of a factory where it is assembled piece by piece by both people and machines. Full-color photographs bring the process to life in vivid detail, and a step-by-step how-to guide explains how readers can even build their very own model car.","Spanish",23.6,17.7,"629.2'3--dc23","24 pp.","https://www.garethstevens.com/9781482443394",null,{"$f":"Table1[[#This Row],[QTY]]*Table1[[#This Row],['# Books]]","v":0},{"$f":"Table1[[#This Row],[QTY]]*Table1[[#This Row],[S&L Price]]","v":0}]
[null,null,null,"El mundo y la ingeniería (Engineering our World)",1,"Cómo se construye un avión (How a Plane Is Made)","Library Bound Book",null,"978-1-4824-4348-6",{"$f":"HYPERLINK(Table1[[#This Row],[eCommerce Hyperlink]],\"Book Weblink\")","v":"Book Weblink"},null,"2016","January 2016","Library","8.500 X 8.500","Author","Amy Hayes","5","0.5",null,null,"N",null,"Grade 2 - 3","Grade 2 - 5","From the largest cargo planes and passenger jets to the smallest of single-engine crafts, airplanes are modern marvels. But just how do people build planes and what keeps them safe in the air? This exciting book takes readers inside the hangars where bolts and metal are turned into winged creations ready to take people all around the world. Amazing photographs show the aircraft construction process step-by-step, while engaging text gives a strong technical explanation of the science at work during every flight in this innovative STEM book.","Spanish",23.6,17.7,"629.134--dc23","24 pp.","https://www.garethstevens.com/9781482443486",null,{"$f":"Table1[[#This Row],[QTY]]*Table1[[#This Row],['# Books]]","v":0},{"$f":"Table1[[#This Row],[QTY]]*Table1[[#This Row],[S&L Price]]","v":0}]
[null,null,null,"El mundo y la ingeniería (Engineering our World)",1,"Cómo se construye un avión (How a Plane Is Made)","eBook",null,"978-1-4824-4340-0",{"$f":"HYPERLINK(Table1[[#This Row],[eCommerce Hyperlink]],\"Book Weblink\")","v":"Book Weblink"},null,"2016","January 2016",null,null,"Author","Amy Hayes","5","0.5",null,null,"N",null,"Grade 2 - 3","Grade 2 - 5","From the largest cargo planes and passenger jets to the smallest of single-engine crafts, airplanes are modern marvels. But just how do people build planes and what keeps them safe in the air? This exciting book takes readers inside the hangars where bolts and metal are turned into winged creations ready to take people all around the world. Amazing photographs show the aircraft construction process step-by-step, while engaging text gives a strong technical explanation of the science at work during every flight in this innovative STEM book.","Spanish",23.6,17.7,"629.134--dc23","24 pp.","https://www.garethstevens.com/9781482443400",null,{"$f":"Table1[[#This Row],[QTY]]*Table1[[#This Row],['# Books]]","v":0},{"$f":"Table1[[#This Row],[QTY]]*Table1[[#This Row],[S&L Price]]","v":0}]
[null,null,null,"El mundo y la ingeniería (Engineering our World)",1,"Cómo se construye un barco (How a Ship Is Built)","Library Bound Book",null,"978-1-4824-4367-7",{"$f":"HYPERLINK(Table1[[#This Row],[eCommerce Hyperlink]],\"Book Weblink\")","v":"Book Weblink"},null,"2016","January 2016","Library","8.500 X 8.500","Author","Sam Aloian","5.5","0.5",null,null,"N",null,"Grade 2 - 3","Grade 2 - 5","Automobiles are an essential part of life for many, but few really understand how that car arrives in their garage in the first place. This book takes an exciting look at just how interesting that process is, from the design phase in an engineer’s office to the floor of a factory where it is assembled piece by piece by both people and machines. Full-color photographs bring the process to life in vivid detail, and a step-by-step how-to guide explains how readers can even build their very own model car.","Spanish",23.6,17.7,"623.82--dc23","24 pp.","https://www.garethstevens.com/9781482443677",null,{"$f":"Table1[[#This Row],[QTY]]*Table1[[#This Row],['# Books]]","v":0},{"$f":"Table1[[#This Row],[QTY]]*Table1[[#This Row],[S&L Price]]","v":0}]
[null,null,null,"El mundo y la ingeniería (Engineering our World)",1,"Cómo se construye un barco (How a Ship Is Built)","eBook",null,"978-1-4824-4341-7",{"$f":"HYPERLINK(Table1[[#This Row],[eCommerce Hyperlink]],\"Book Weblink\")","v":"Book Weblink"},null,"2016","January 2016",null,null,"Author","Sam Aloian","5.5","0.5",null,null,"N",null,"Grade 2 - 3","Grade 2 - 5","Automobiles are an essential part of life for many, but few really understand how that car arrives in their garage in the first place. This book takes an exciting look at just how interesting that process is, from the design phase in an engineer’s office to the floor of a factory where it is assembled piece by piece by both people and machines. Full-color photographs bring the process to life in vivid detail, and a step-by-step how-to guide explains how readers can even build their very own model car.","Spanish",23.6,17.7,"623.82--dc23","24 pp.","https://www.garethstevens.com/9781482443417",null,{"$f":"Table1[[#This Row],[QTY]]*Table1[[#This Row],['# Books]]","v":0},{"$f":"Table1[[#This Row],[QTY]]*Table1[[#This Row],[S&L Price]]","v":0}]
[null,null,null,"El mundo y la ingeniería (Engineering our World)",1,"Cómo se construye un puente (How a Bridge Is Built)","Library Bound Book",null,"978-1-4824-4347-9",{"$f":"HYPERLINK(Table1[[#This Row],[eCommerce Hyperlink]],\"Book Weblink\")","v":"Book Weblink"},null,"2016","January 2016","Library","8.500 X 8.500","Author","Sam Aloian","5.4","0.5",null,null,"N",null,"Grade 2 - 3","Grade 2 - 5","Bridges are a big part of how people get from place to place. But how do they work and how are they built? In this engaging text, readers will explore these important engineering marvels that link places divided by water. Along the way they’ll learn how to build their own model bridge with a step-by-step guide accompanied by full-color photographs of each step. Accessible text illuminates the science behind every span we drive over and sometimes under.","Spanish",23.6,17.7,"624.2--dc23","24 pp.","https://www.garethstevens.com/9781482443479",null,{"$f":"Table1[[#This Row],[QTY]]*Table1[[#This Row],['# Books]]","v":0},{"$f":"Table1[[#This Row],[QTY]]*Table1[[#This Row],[S&L Price]]","v":0}]
[null,null,null,"El mundo y la ingeniería (Engineering our World)",1,"Cómo se construye un puente (How a Bridge Is Built)","eBook",null,"978-1-4824-4343-1",{"$f":"HYPERLINK(Table1[[#This Row],[eCommerce Hyperlink]],\"Book Weblink\")","v":"Book Weblink"},null,"2016","January 2016",null,null,"Author","Sam Aloian","5.4","0.5",null,null,"N",null,"Grade 2 - 3","Grade 2 - 5","Bridges are a big part of how people get from place to place. But how do they work and how are they built? In this engaging text, readers will explore these important engineering marvels that link places divided by water. Along the way they’ll learn how to build their own model bridge with a step-by-step guide accompanied by full-color photographs of each step. Accessible text illuminates the science behind every span we drive over and sometimes under.","Spanish",23.6,17.7,"624.2--dc23","24 pp.","https://www.garethstevens.com/9781482443431",null,{"$f":"Table1[[#This Row],[QTY]]*Table1[[#This Row],['# Books]]","v":0},{"$f":"Table1[[#This Row],[QTY]]*Table1[[#This Row],[S&L Price]]","v":0}]
[null,null,null,"El mundo y la ingeniería (Engineering our World)",1,"Cómo se construye un rascacielos (How a Skyscraper Is Built)","Library Bound Book",null,"978-1-4824-4345-5",{"$f":"HYPERLINK(Table1[[#This Row],[eCommerce Hyperlink]],\"Book Weblink\")","v":"Book Weblink"},null,"2016","January 2016","Library","8.500 X 8.500","Author","Therese M. Shea","6.2","0.5",null,null,"N",null,"Grade 2 - 3","Grade 2 - 5","The towering buildings that fill our cities definitely weren't built in a day. Skyscrapers are huge construction projects full of complicated steps. From drilling anchor holes and erecting steel beams to laying acres and acres of concrete, it takes lots of people and lots of smarts to build a vertical city. Readers will love putting on their hard hats and seeing the construction for themselves through vivid photographs and diagrams of a building on its way from its beginning on an empty lot to a monster skyscraper touching the skies.","Spanish",23.6,17.7,"720.483--dc23","24 pp.","https://www.garethstevens.com/9781482443455",null,{"$f":"Table1[[#This Row],[QTY]]*Table1[[#This Row],['# Books]]","v":0},{"$f":"Table1[[#This Row],[QTY]]*Table1[[#This Row],[S&L Price]]","v":0}]
[null,null,null,"El mundo y la ingeniería (Engineering our World)",1,"Cómo se construye un rascacielos (How a Skyscraper Is Built)","eBook",null,"978-1-4824-4344-8",{"$f":"HYPERLINK(Table1[[#This Row],[eCommerce Hyperlink]],\"Book Weblink\")","v":"Book Weblink"},null,"2016","January 2016",null,null,"Author","Therese M. Shea","6.2","0.5",null,null,"N",null,"Grade 2 - 3","Grade 2 - 5","The towering buildings that fill our cities definitely weren't built in a day. Skyscrapers are huge construction projects full of complicated steps. From drilling anchor holes and erecting steel beams to laying acres and acres of concrete, it takes lots of people and lots of smarts to build a vertical city. Readers will love putting on their hard hats and seeing the construction for themselves through vivid photographs and diagrams of a building on its way from its beginning on an empty lot to a monster skyscraper touching the skies.","Spanish",23.6,17.7,"720.483--dc23","24 pp.","https://www.garethstevens.com/9781482443448",null,{"$f":"Table1[[#This Row],[QTY]]*Table1[[#This Row],['# Books]]","v":0},{"$f":"Table1[[#This Row],[QTY]]*Table1[[#This Row],[S&L Price]]","v":0}]
[null,null,null,"El mundo y la ingeniería (Engineering our World)",1,"Cómo se construye una computadora (How a Computer Is Made)","Library Bound Book",null,"978-1-4824-4346-2",{"$f":"HYPERLINK(Table1[[#This Row],[eCommerce Hyperlink]],\"Book Weblink\")","v":"Book Weblink"},null,"2016","January 2016","Library","8.500 X 8.500","Author","Sam Aloian","7","0.5",null,null,"N",null,"Grade 2 - 3","Grade 2 - 5","Today's computers come in all shapes and sizes, but not many people actually know how they're made. The journey from circuits and wires to a ready-to-use computer is a fascinating exploration of science and engineering. Readers get a look inside their laptops, desktops, and even their tablets as they're shown step-by-step how these electronic marvels are assembled. Readers will love knowing what goes on inside their own machines, and color photographs and simple instructions will show them how they can build their own computer.","Spanish",23.6,17.7,"004--dc23","24 pp.","https://www.garethstevens.com/9781482443462",null,{"$f":"Table1[[#This Row],[QTY]]*Table1[[#This Row],['# Books]]","v":0},{"$f":"Table1[[#This Row],[QTY]]*Table1[[#This Row],[S&L Price]]","v":0}]
[null,null,null,"El mundo y la ingeniería (Engineering our World)",1,"Cómo se construye una computadora (How a Computer Is Made)","eBook",null,"978-1-4824-4342-4",{"$f":"HYPERLINK(Table1[[#This Row],[eCommerce Hyperlink]],\"Book Weblink\")","v":"Book Weblink"},null,"2016","January 2016",null,null,"Author","Sam Aloian","7","0.5",null,null,"N",null,"Grade 2 - 3","Grade 2 - 5","Today's computers come in all shapes and sizes, but not many people actually know how they're made. The journey from circuits and wires to a ready-to-use computer is a fascinating exploration of science and engineering. Readers get a look inside their laptops, desktops, and even their tablets as they're shown step-by-step how these electronic marvels are assembled. Readers will love knowing what goes on inside their own machines, and color photographs and simple instructions will show them how they can build their own computer.","Spanish",23.6,17.7,"004--dc23","24 pp.","https://www.garethstevens.com/9781482443424",null,{"$f":"Table1[[#This Row],[QTY]]*Table1[[#This Row],['# Books]]","v":0},{"$f":"Table1[[#This Row],[QTY]]*Table1[[#This Row],[S&L Price]]","v":0}]
[null,null,null,"Desastres (Doomed)",1,"El desastre del Hindenburg (The Hindenburg Disaster)","Library Bound Book",null,"978-1-4824-3257-2",{"$f":"HYPERLINK(Table1[[#This Row],[eCommerce Hyperlink]],\"Book Weblink\")","v":"Book Weblink"},null,"2016","August 2015","Library","6.500 X 9.125","Author, Translated by","Ryan Nagelhout, Esther Sarfatti",null,null,"40",null,"S",null,"Grade 4 - 5","Grade 4 - 6","The Hindenburg, the largest airship ever built and the pride of Nazi Germany, burst into flames over Lakehurst, New Jersey, in 1937. It swiftly fell from the sky and was incinerated. This incident is remembered as the most infamous airship accident, killing 36 people and sinking the dirigible transportation industry. Fascinated readers will explore why and how this giant hydrogen-filled ship was made and the reasons it may have been doomed to fail. They'll also learn conspiracy theories and surprising facts about the circumstances of the terrible disaster. Authentic photographs and thoughtful sidebars add to the historical content. \n\t\n","Spanish",27.6,20.7,"363.12","32 pp.","https://www.garethstevens.com/9781482432572",null,{"$f":"Table1[[#This Row],[QTY]]*Table1[[#This Row],['# Books]]","v":0},{"$f":"Table1[[#This Row],[QTY]]*Table1[[#This Row],[S&L Price]]","v":0}]
[null,null,null,"Desastres (Doomed)",1,"El desastre del Hindenburg (The Hindenburg Disaster)","eBook",null,"978-1-4824-3255-8",{"$f":"HYPERLINK(Table1[[#This Row],[eCommerce Hyperlink]],\"Book Weblink\")","v":"Book Weblink"},null,"2016","August 2015",null,null,"Author, Translated by","Ryan Nagelhout, Esther Sarfatti",null,null,"40",null,"S",null,"Grade 4 - 5","Grade 4 - 6","The Hindenburg, the largest airship ever built and the pride of Nazi Germany, burst into flames over Lakehurst, New Jersey, in 1937. It swiftly fell from the sky and was incinerated. This incident is remembered as the most infamous airship accident, killing 36 people and sinking the dirigible transportation industry. Fascinated readers will explore why and how this giant hydrogen-filled ship was made and the reasons it may have been doomed to fail. They'll also learn conspiracy theories and surprising facts about the circumstances of the terrible disaster. Authentic photographs and thoughtful sidebars add to the historical content. \n\t\n","Spanish",27.6,20.7,"363.12","32 pp.","https://www.garethstevens.com/9781482432558",null,{"$f":"Table1[[#This Row],[QTY]]*Table1[[#This Row],['# Books]]","v":0},{"$f":"Table1[[#This Row],[QTY]]*Table1[[#This Row],[S&L Price]]","v":0}]
[null,null,null,"Desastres (Doomed)",1,"El gran incendio de Londres (The Great Fire of London)","Library Bound Book",null,"978-1-4824-3265-7",{"$f":"HYPERLINK(Table1[[#This Row],[eCommerce Hyperlink]],\"Book Weblink\")","v":"Book Weblink"},null,"2016","August 2015","Library","6.500 X 9.125","Author, Translated by","Sarah Machajewski, Esther Sarfatti",null,null,"40",null,"S",null,"Grade 4 - 5","Grade 4 - 6","In September 1666, a small fire broke out at the king's bakery in London, England, in the early morning. Several fateful factors worked together to turn this small blaze into a catastrophic conflagration that changed the city forever. This riveting account of a city set ablaze is supported by primary sources such as maps, diaries, and royal proclamations. Readers will be fascinated by old-fashioned firefighting techniques and people's reactions as the fire spread and burned for days. Images of London on fire will ignite their imaginations and further enable them to understand this era and setting in European history.","Spanish",27.6,20.7,"942.1","32 pp.","https://www.garethstevens.com/9781482432657",null,{"$f":"Table1[[#This Row],[QTY]]*Table1[[#This Row],['# Books]]","v":0},{"$f":"Table1[[#This Row],[QTY]]*Table1[[#This Row],[S&L Price]]","v":0}]
[null,null,null,"Desastres (Doomed)",1,"El gran incendio de Londres (The Great Fire of London)","eBook",null,"978-1-4824-3263-3",{"$f":"HYPERLINK(Table1[[#This Row],[eCommerce Hyperlink]],\"Book Weblink\")","v":"Book Weblink"},null,"2016","August 2015",null,null,"Author, Translated by","Sarah Machajewski, Esther Sarfatti",null,null,"40",null,"S",null,"Grade 4 - 5","Grade 4 - 6","In September 1666, a small fire broke out at the king's bakery in London, England, in the early morning. Several fateful factors worked together to turn this small blaze into a catastrophic conflagration that changed the city forever. This riveting account of a city set ablaze is supported by primary sources such as maps, diaries, and royal proclamations. Readers will be fascinated by old-fashioned firefighting techniques and people's reactions as the fire spread and burned for days. Images of London on fire will ignite their imaginations and further enable them to understand this era and setting in European history.","Spanish",27.6,20.7,"942.1","32 pp.","https://www.garethstevens.com/9781482432633",null,{"$f":"Table1[[#This Row],[QTY]]*Table1[[#This Row],['# Books]]","v":0},{"$f":"Table1[[#This Row],[QTY]]*Table1[[#This Row],[S&L Price]]","v":0}]
[null,null,null,"Desastres (Doomed)",1,"El hundimiento del Titanic (The Sinking of the Titanic)","Library Bound Book",null,"978-1-4824-3238-1",{"$f":"HYPERLINK(Table1[[#This Row],[eCommerce Hyperlink]],\"Book Weblink\")","v":"Book Weblink"},null,"2016","August 2015","Library","6.500 X 9.125","Author, Translated by","Therese M. Shea, Esther Sarfatti",null,null,"40",null,"S",null,"Grade 4 - 5","Grade 4 - 6","The unsinkable luxury liner known as the Titanic may have sunk on its first transatlantic voyage in 1912, but people remain riveted to its storied legend. The collision with the iceberg in the North Atlantic was not the only mistake that was made that day. In this spellbinding volume, readers will learn about the passengers and crew aboard the doomed ship and what really happened that tragic night. Historical photographs will transport them back to the glamorous era, while the narrative paints an absorbing picture of the Titanic's sad fate.","Spanish",27.6,20.7,"910.9163","32 pp.","https://www.garethstevens.com/9781482432381",null,{"$f":"Table1[[#This Row],[QTY]]*Table1[[#This Row],['# Books]]","v":0},{"$f":"Table1[[#This Row],[QTY]]*Table1[[#This Row],[S&L Price]]","v":0}]
[null,null,null,"Desastres (Doomed)",1,"El hundimiento del Titanic (The Sinking of the Titanic)","eBook",null,"978-1-4824-3236-7",{"$f":"HYPERLINK(Table1[[#This Row],[eCommerce Hyperlink]],\"Book Weblink\")","v":"Book Weblink"},null,"2016","August 2015",null,null,"Author, Translated by","Therese M. Shea, Esther Sarfatti",null,null,"40",null,"S",null,"Grade 4 - 5","Grade 4 - 6","The unsinkable luxury liner known as the Titanic may have sunk on its first transatlantic voyage in 1912, but people remain riveted to its storied legend. The collision with the iceberg in the North Atlantic was not the only mistake that was made that day. In this spellbinding volume, readers will learn about the passengers and crew aboard the doomed ship and what really happened that tragic night. Historical photographs will transport them back to the glamorous era, while the narrative paints an absorbing picture of the Titanic's sad fate.","Spanish",27.6,20.7,"910.9163","32 pp.","https://www.garethstevens.com/9781482432367",null,{"$f":"Table1[[#This Row],[QTY]]*Table1[[#This Row],['# Books]]","v":0},{"$f":"Table1[[#This Row],[QTY]]*Table1[[#This Row],[S&L Price]]","v":0}]
[null,null,null,"Desastres (Doomed)",1,"La ciudad de Pompeya (The City of Pompeii)","Library Bound Book",null,"978-1-4824-3423-1",{"$f":"HYPERLINK(Table1[[#This Row],[eCommerce Hyperlink]],\"Book Weblink\")","v":"Book Weblink"},null,"2016","August 2015","Library","6.500 X 9.125","Author, Translated by","Janey Levy, Esther Sarfatti",null,null,"44",null,"T",null,"Grade 4 - 5","Grade 4 - 6","In AD 79, the residents of the booming Roman city of Pompeii were shocked when a nearby mountain exploded, releasing superhot ash, rock, and gas on the surrounding areas. What happens next is the extraordinary account of a volcano in action. Though the people who didn't flee Pompeii were doomed, the volcano preserved their remains, allowing us to better understand a fascinating time in the Roman Empire. Astonishing photographs of Pompeii, primary source records of the occurrence, and riveting text are just some highlights of this high-interest volume.","Spanish",27.6,20.7,"937","32 pp.","https://www.garethstevens.com/9781482434231",null,{"$f":"Table1[[#This Row],[QTY]]*Table1[[#This Row],['# Books]]","v":0},{"$f":"Table1[[#This Row],[QTY]]*Table1[[#This Row],[S&L Price]]","v":0}]
[null,null,null,"Desastres (Doomed)",1,"La ciudad de Pompeya (The City of Pompeii)","eBook",null,"978-1-4824-3424-8",{"$f":"HYPERLINK(Table1[[#This Row],[eCommerce Hyperlink]],\"Book Weblink\")","v":"Book Weblink"},null,"2016","August 2015",null,null,"Author, Translated by","Janey Levy, Esther Sarfatti",null,null,"44",null,"T",null,"Grade 4 - 5","Grade 4 - 6","In AD 79, the residents of the booming Roman city of Pompeii were shocked when a nearby mountain exploded, releasing superhot ash, rock, and gas on the surrounding areas. What happens next is the extraordinary account of a volcano in action. Though the people who didn't flee Pompeii were doomed, the volcano preserved their remains, allowing us to better understand a fascinating time in the Roman Empire. Astonishing photographs of Pompeii, primary source records of the occurrence, and riveting text are just some highlights of this high-interest volume.","Spanish",27.6,20.7,"937","32 pp.","https://www.garethstevens.com/9781482434248",null,{"$f":"Table1[[#This Row],[QTY]]*Table1[[#This Row],['# Books]]","v":0},{"$f":"Table1[[#This Row],[QTY]]*Table1[[#This Row],[S&L Price]]","v":0}]
[null,null,null,"Desastres (Doomed)",1,"La expedición Donner (The Donner Party)","Library Bound Book",null,"978-1-4824-3273-2",{"$f":"HYPERLINK(Table1[[#This Row],[eCommerce Hyperlink]],\"Book Weblink\")","v":"Book Weblink"},null,"2016","August 2015","Library","6.500 X 9.125","Author, Translated by","Kristen Rajczak Nelson, Esther Sarfatti",null,null,"44",null,"T",null,"Grade 4 - 5","Grade 4 - 6","In 1846, travelers heading for California became trapped high in the mountains of the Sierra Nevada. Snowdrifts surrounded their shelters, and food supplies dwindled. How they stayed alive remains one of the most gruesome stories in US history. However, some facts that have come to light recently through archaeological digs will surprise even those who think they know the story. This gripping book, including maps and images of the era, tells the true account of the doomed Donner party.","Spanish",27.6,20.7,"978","32 pp.","https://www.garethstevens.com/9781482432732",null,{"$f":"Table1[[#This Row],[QTY]]*Table1[[#This Row],['# Books]]","v":0},{"$f":"Table1[[#This Row],[QTY]]*Table1[[#This Row],[S&L Price]]","v":0}]
[null,null,null,"Desastres (Doomed)",1,"La expedición Donner (The Donner Party)","eBook",null,"978-1-4824-3271-8",{"$f":"HYPERLINK(Table1[[#This Row],[eCommerce Hyperlink]],\"Book Weblink\")","v":"Book Weblink"},null,"2016","August 2015",null,null,"Author, Translated by","Kristen Rajczak Nelson, Esther Sarfatti",null,null,"44",null,"T",null,"Grade 4 - 5","Grade 4 - 6","In 1846, travelers heading for California became trapped high in the mountains of the Sierra Nevada. Snowdrifts surrounded their shelters, and food supplies dwindled. How they stayed alive remains one of the most gruesome stories in US history. However, some facts that have come to light recently through archaeological digs will surprise even those who think they know the story. This gripping book, including maps and images of the era, tells the true account of the doomed Donner party.","Spanish",27.6,20.7,"978","32 pp.","https://www.garethstevens.com/9781482432718",null,{"$f":"Table1[[#This Row],[QTY]]*Table1[[#This Row],['# Books]]","v":0},{"$f":"Table1[[#This Row],[QTY]]*Table1[[#This Row],[S&L Price]]","v":0}]
[null,null,null,"Desastres (Doomed)",1,"Plaga: La Peste Negra (Plague: The Black Death)","Library Bound Book",null,"978-1-4824-3248-0",{"$f":"HYPERLINK(Table1[[#This Row],[eCommerce Hyperlink]],\"Book Weblink\")","v":"Book Weblink"},null,"2016","August 2015","Library","6.500 X 9.125","Author, Translated by","Janey Levy, Esther Sarfatti",null,null,"44",null,"T",null,"Grade 4 - 5","Grade 4 - 6","The plague, aptly known as the Black Death, swept through Europe in the 1300s, killing more than 20 million people. Not only deadly but incredibly painful, the disease was characterized by black boils all over the body that oozed blood and pus. While providing more details about the plague, this book, an asset to any social studies collection, also addresses where the lethal outbreak originated and whether it could return. Aided by striking illustrations, sidebars, and fact boxes, readers will discover the conditions in the Middle Ages that made it possible for such an appalling disease to spread so easily.","Spanish",27.6,20.7,"614.5'732094--dc23","32 pp.","https://www.garethstevens.com/9781482432480",null,{"$f":"Table1[[#This Row],[QTY]]*Table1[[#This Row],['# Books]]","v":0},{"$f":"Table1[[#This Row],[QTY]]*Table1[[#This Row],[S&L Price]]","v":0}]
[null,null,null,"Desastres (Doomed)",1,"Plaga: La Peste Negra (Plague: The Black Death)","eBook",null,"978-1-4824-3722-5",{"$f":"HYPERLINK(Table1[[#This Row],[eCommerce Hyperlink]],\"Book Weblink\")","v":"Book Weblink"},null,"2016","August 2015",null,null,"Author, Translated by","Janey Levy, Esther Sarfatti",null,null,"44",null,"T",null,"Grade 4 - 5","Grade 4 - 6","The plague, aptly known as the Black Death, swept through Europe in the 1300s, killing more than 20 million people. Not only deadly but incredibly painful, the disease was characterized by black boils all over the body that oozed blood and pus. While providing more details about the plague, this book, an asset to any social studies collection, also addresses where the lethal outbreak originated and whether it could return. Aided by striking illustrations, sidebars, and fact boxes, readers will discover the conditions in the Middle Ages that made it possible for such an appalling disease to spread so easily.","Spanish",27.6,20.7,"614.5'732094--dc23","32 pp.","https://www.garethstevens.com/9781482437225",null,{"$f":"Table1[[#This Row],[QTY]]*Table1[[#This Row],['# Books]]","v":0},{"$f":"Table1[[#This Row],[QTY]]*Table1[[#This Row],[S&L Price]]","v":0}]
[null,null,null,"¡Podemos hacerlo! / We Can Do It!",1,"¡A limpiar! / Let's Clean Up!","Library Bound Book",null,"978-1-4824-4355-4",{"$f":"HYPERLINK(Table1[[#This Row],[eCommerce Hyperlink]],\"Book Weblink\")","v":"Book Weblink"},null,"2016","January 2016","Library","7.625 X 7.125","Author, Translated by","Lois Fortuna, Nathalie Beullens-Maoui",null,null,null,null,"C",null,"Grade K","Grade K - 2","Cleaning sounds like a tough and dirty job, but it can be fun! Budding readers learn how to take the tough task of cleaning up and make the most of it, helping their families and the environment along the way. Through vivid photographs paired with accessible text, readers see how a family cleans up bedrooms, the kitchen, the car, and even the front yard. This engaging book is sure to get readers on a spring cleaning kick, as they learn the value of a clean home and a job well done.","Bilingual (Spanish, English)",23.6,17.7,"648--dc23","24 pp.","https://www.garethstevens.com/9781482443554",null,{"$f":"Table1[[#This Row],[QTY]]*Table1[[#This Row],['# Books]]","v":0},{"$f":"Table1[[#This Row],[QTY]]*Table1[[#This Row],[S&L Price]]","v":0}]
[null,null,null,"¡Podemos hacerlo! / We Can Do It!",1,"¡A limpiar! / Let's Clean Up!","eBook",null,"978-1-4824-4327-1",{"$f":"HYPERLINK(Table1[[#This Row],[eCommerce Hyperlink]],\"Book Weblink\")","v":"Book Weblink"},null,"2016","January 2016",null,null,"Author, Translated by","Lois Fortuna, Nathalie Beullens-Maoui",null,null,null,null,"C",null,"Grade K","Grade K - 2","Cleaning sounds like a tough and dirty job, but it can be fun! Budding readers learn how to take the tough task of cleaning up and make the most of it, helping their families and the environment along the way. Through vivid photographs paired with accessible text, readers see how a family cleans up bedrooms, the kitchen, the car, and even the front yard. This engaging book is sure to get readers on a spring cleaning kick, as they learn the value of a clean home and a job well done.","Bilingual (Spanish, English)",23.6,17.7,"648--dc23","24 pp.","https://www.garethstevens.com/9781482443271",null,{"$f":"Table1[[#This Row],[QTY]]*Table1[[#This Row],['# Books]]","v":0},{"$f":"Table1[[#This Row],[QTY]]*Table1[[#This Row],[S&L Price]]","v":0}]
[null,null,null,"¡Podemos hacerlo! / We Can Do It!",1,"Ayudar a un amigo / Helping a Friend","Library Bound Book",null,"978-1-4824-4356-1",{"$f":"HYPERLINK(Table1[[#This Row],[eCommerce Hyperlink]],\"Book Weblink\")","v":"Book Weblink"},null,"2016","January 2016","Library","7.625 X 7.125","Author, Translated by","Lois Fortuna, Nathalie Beullens-Maoui",null,null,null,null,"C",null,"Grade K","Grade K - 2","Whether they're stuck on a homework question or just need a push on a swing, friends need each other! This book shows budding readers that not only could friends use a hand, but it can be rewarding and even fun to help out. Pairing accessible text with colorful photographs of friends lending others their time and effort, readers learn how their peers help their friends clean up their neighborhood or learn how to read. They even discover how they can team up with their own friends to stay safe or clean up trash in their neighborhood.","Bilingual (Spanish, English)",23.6,17.7,"177'.62--dc23","24 pp.","https://www.garethstevens.com/9781482443561",null,{"$f":"Table1[[#This Row],[QTY]]*Table1[[#This Row],['# Books]]","v":0},{"$f":"Table1[[#This Row],[QTY]]*Table1[[#This Row],[S&L Price]]","v":0}]
[null,null,null,"¡Podemos hacerlo! / We Can Do It!",1,"Ayudar a un amigo / Helping a Friend","eBook",null,"978-1-4824-4328-8",{"$f":"HYPERLINK(Table1[[#This Row],[eCommerce Hyperlink]],\"Book Weblink\")","v":"Book Weblink"},null,"2016","January 2016",null,null,"Author, Translated by","Lois Fortuna, Nathalie Beullens-Maoui",null,null,null,null,"C",null,"Grade K","Grade K - 2","Whether they're stuck on a homework question or just need a push on a swing, friends need each other! This book shows budding readers that not only could friends use a hand, but it can be rewarding and even fun to help out. Pairing accessible text with colorful photographs of friends lending others their time and effort, readers learn how their peers help their friends clean up their neighborhood or learn how to read. They even discover how they can team up with their own friends to stay safe or clean up trash in their neighborhood.","Bilingual (Spanish, English)",23.6,17.7,"177'.62--dc23","24 pp.","https://www.garethstevens.com/9781482443288",null,{"$f":"Table1[[#This Row],[QTY]]*Table1[[#This Row],['# Books]]","v":0},{"$f":"Table1[[#This Row],[QTY]]*Table1[[#This Row],[S&L Price]]","v":0}]
[null,null,null,"¡Podemos hacerlo! / We Can Do It!",1,"Ayudar con la cena / Helping with Dinner","Library Bound Book",null,"978-1-4824-4357-8",{"$f":"HYPERLINK(Table1[[#This Row],[eCommerce Hyperlink]],\"Book Weblink\")","v":"Book Weblink"},null,"2016","January 2016","Library","7.625 X 7.125","Author, Translated by","Lois Fortuna, Nathalie Beullens-Maoui",null,null,null,null,"C",null,"Grade K","Grade K - 2","Everyone loves a good meal. Readers join the fun as friends chop vegetables and prepare a salad. They also get a look at how to make pasta, using a wooden spoon to stir as it cooks. This hands-on look at creating food for the dinner table will inspire readers to get into the kitchen.","Bilingual (Spanish, English)",23.6,17.7,"641.5--dc23","24 pp.","https://www.garethstevens.com/9781482443578",null,{"$f":"Table1[[#This Row],[QTY]]*Table1[[#This Row],['# Books]]","v":0},{"$f":"Table1[[#This Row],[QTY]]*Table1[[#This Row],[S&L Price]]","v":0}]
[null,null,null,"¡Podemos hacerlo! / We Can Do It!",1,"Ayudar con la cena / Helping with Dinner","eBook",null,"978-1-4824-4329-5",{"$f":"HYPERLINK(Table1[[#This Row],[eCommerce Hyperlink]],\"Book Weblink\")","v":"Book Weblink"},null,"2016","January 2016",null,null,"Author, Translated by","Lois Fortuna, Nathalie Beullens-Maoui",null,null,null,null,"C",null,"Grade K","Grade K - 2","Everyone loves a good meal. Readers join the fun as friends chop vegetables and prepare a salad. They also get a look at how to make pasta, using a wooden spoon to stir as it cooks. This hands-on look at creating food for the dinner table will inspire readers to get into the kitchen.","Bilingual (Spanish, English)",23.6,17.7,"641.5--dc23","24 pp.","https://www.garethstevens.com/9781482443295",null,{"$f":"Table1[[#This Row],[QTY]]*Table1[[#This Row],['# Books]]","v":0},{"$f":"Table1[[#This Row],[QTY]]*Table1[[#This Row],[S&L Price]]","v":0}]
[null,null,null,"¡Podemos hacerlo! / We Can Do It!",1,"Cuidar de una mascota / Caring for a Pet","Library Bound Book",null,"978-1-4824-4358-5",{"$f":"HYPERLINK(Table1[[#This Row],[eCommerce Hyperlink]],\"Book Weblink\")","v":"Book Weblink"},null,"2016","January 2016","Library","7.625 X 7.125","Author, Translated by","Lois Fortuna, Nathalie Beullens-Maoui",null,null,null,null,"C",null,"Grade K","Grade K - 2","Pets are wonderful and loving members of any family, but they need special care. Through colorful photographs and accessible text, early readers learn how to care for their special animal friends. Dogs, cats, and fish are great pets for young children, and teaching them how to care for a pet lets them learn responsibility and how to complete tasks at a young age. By watching others take care of pets, readers gain knowledge they can put to good use with the pets in their own home.","Bilingual (Spanish, English)",23.6,17.7,"636.088'7--dc23","24 pp.","https://www.garethstevens.com/9781482443585",null,{"$f":"Table1[[#This Row],[QTY]]*Table1[[#This Row],['# Books]]","v":0},{"$f":"Table1[[#This Row],[QTY]]*Table1[[#This Row],[S&L Price]]","v":0}]
[null,null,null,"¡Podemos hacerlo! / We Can Do It!",1,"Cuidar de una mascota / Caring for a Pet","eBook",null,"978-1-4824-4330-1",{"$f":"HYPERLINK(Table1[[#This Row],[eCommerce Hyperlink]],\"Book Weblink\")","v":"Book Weblink"},null,"2016","January 2016",null,null,"Author, Translated by","Lois Fortuna, Nathalie Beullens-Maoui",null,null,null,null,"C",null,"Grade K","Grade K - 2","Pets are wonderful and loving members of any family, but they need special care. Through colorful photographs and accessible text, early readers learn how to care for their special animal friends. Dogs, cats, and fish are great pets for young children, and teaching them how to care for a pet lets them learn responsibility and how to complete tasks at a young age. By watching others take care of pets, readers gain knowledge they can put to good use with the pets in their own home.","Bilingual (Spanish, English)",23.6,17.7,"636.088'7--dc23","24 pp.","https://www.garethstevens.com/9781482443301",null,{"$f":"Table1[[#This Row],[QTY]]*Table1[[#This Row],['# Books]]","v":0},{"$f":"Table1[[#This Row],[QTY]]*Table1[[#This Row],[S&L Price]]","v":0}]
[null,null,null,"¡Podemos hacerlo! / We Can Do It!",1,"Listos para la escuela / Getting Ready for School","Library Bound Book",null,"978-1-4824-4360-8",{"$f":"HYPERLINK(Table1[[#This Row],[eCommerce Hyperlink]],\"Book Weblink\")","v":"Book Weblink"},null,"2016","January 2016","Library","7.625 X 7.125","Author, Translated by","Lois Fortuna, Nathalie Beullens-Maoui",null,null,null,null,"C",null,"Grade K","Grade K - 2","Whether wearing a uniform or picking out their own clothes, it’s not always easy for children to get up and get ready in the morning. In this book, early readers learn about this essential part of everyday life, learning how they can help their own families get the day started. This glimpse at a typical morning in a house sending its two children off to school is aided by colorful photographs matched with accessible text, showing readers how peers prepare for school by getting dressed and taking care of basic hygiene like brushing their hair.","Bilingual (Spanish, English)",23.6,17.7,"372--dc23","24 pp.","https://www.garethstevens.com/9781482443608",null,{"$f":"Table1[[#This Row],[QTY]]*Table1[[#This Row],['# Books]]","v":0},{"$f":"Table1[[#This Row],[QTY]]*Table1[[#This Row],[S&L Price]]","v":0}]
[null,null,null,"¡Podemos hacerlo! / We Can Do It!",1,"Listos para la escuela / Getting Ready for School","eBook",null,"978-1-4824-4332-5",{"$f":"HYPERLINK(Table1[[#This Row],[eCommerce Hyperlink]],\"Book Weblink\")","v":"Book Weblink"},null,"2016","January 2016",null,null,"Author, Translated by","Lois Fortuna, Nathalie Beullens-Maoui",null,null,null,null,"C",null,"Grade K","Grade K - 2","Whether wearing a uniform or picking out their own clothes, it’s not always easy for children to get up and get ready in the morning. In this book, early readers learn about this essential part of everyday life, learning how they can help their own families get the day started. This glimpse at a typical morning in a house sending its two children off to school is aided by colorful photographs matched with accessible text, showing readers how peers prepare for school by getting dressed and taking care of basic hygiene like brushing their hair.","Bilingual (Spanish, English)",23.6,17.7,"372--dc23","24 pp.","https://www.garethstevens.com/9781482443325",null,{"$f":"Table1[[#This Row],[QTY]]*Table1[[#This Row],['# Books]]","v":0},{"$f":"Table1[[#This Row],[QTY]]*Table1[[#This Row],[S&L Price]]","v":0}]
[null,null,null,"¡Podemos hacerlo! / We Can Do It!",1,"Sembrar plantas / Growing Plants","Library Bound Book",null,"978-1-4824-4359-2",{"$f":"HYPERLINK(Table1[[#This Row],[eCommerce Hyperlink]],\"Book Weblink\")","v":"Book Weblink"},null,"2016","January 2016","Library","7.625 X 7.125","Author, Translated by","Lois Fortuna, Nathalie Beullens-Maoui",null,null,null,null,"C",null,"Grade K","Grade K - 2","There are lots of different kinds of plants. From the grass beneath our feet to the fruits and vegetables we eat, plant life surrounds us. This engaging book gives budding readers a guide to growing plants of their own. Whether planting a vegetable garden or planting flowers, most plants come from tiny seeds. From there, readers learn how to water these seeds and tend to what soon comes out of the ground, learning an essential life process with the help of colorful photographs paired with simple text.","Bilingual (Spanish, English)",23.6,17.7,"630--dc23","24 pp.","https://www.garethstevens.com/9781482443592",null,{"$f":"Table1[[#This Row],[QTY]]*Table1[[#This Row],['# Books]]","v":0},{"$f":"Table1[[#This Row],[QTY]]*Table1[[#This Row],[S&L Price]]","v":0}]
[null,null,null,"¡Podemos hacerlo! / We Can Do It!",1,"Sembrar plantas / Growing Plants","eBook",null,"978-1-4824-4331-8",{"$f":"HYPERLINK(Table1[[#This Row],[eCommerce Hyperlink]],\"Book Weblink\")","v":"Book Weblink"},null,"2016","January 2016",null,null,"Author, Translated by","Lois Fortuna, Nathalie Beullens-Maoui",null,null,null,null,"C",null,"Grade K","Grade K - 2","There are lots of different kinds of plants. From the grass beneath our feet to the fruits and vegetables we eat, plant life surrounds us. This engaging book gives budding readers a guide to growing plants of their own. Whether planting a vegetable garden or planting flowers, most plants come from tiny seeds. From there, readers learn how to water these seeds and tend to what soon comes out of the ground, learning an essential life process with the help of colorful photographs paired with simple text.","Bilingual (Spanish, English)",23.6,17.7,"630--dc23","24 pp.","https://www.garethstevens.com/9781482443318",null,{"$f":"Table1[[#This Row],[QTY]]*Table1[[#This Row],['# Books]]","v":0},{"$f":"Table1[[#This Row],[QTY]]*Table1[[#This Row],[S&L Price]]","v":0}]
[null,null,null,"Nuestros colores preferidos / Our Favorite Colors",1,"¡Nos encanta el amarillo! / We Love Yellow!","Library Bound Book",null,"978-1-4824-4350-9",{"$f":"HYPERLINK(Table1[[#This Row],[eCommerce Hyperlink]],\"Book Weblink\")","v":"Book Weblink"},null,"2016","January 2016","Library","7.000 X 7.000","Author, Translated by","Richard Little, Eida de la Vega",null,null,null,null,"B",null,"Grade K","Grade K - 1","Yellow is an important part of our daily lives. Yellow school buses, traffic lights, bananas, butter, and more populate our day, whether we realize it or not. This accessible text will reveal to readers the many shades of yellow all around them. As they turn each page, they'll recognize objects in the photographs, identify them, and practice the accompanying vocabulary. A concluding activity will help them display their understanding of the concept of yellow.","Bilingual (Spanish, English)",23.6,17.7,"535.6--dc23","24 pp.","https://www.garethstevens.com/9781482443509",null,{"$f":"Table1[[#This Row],[QTY]]*Table1[[#This Row],['# Books]]","v":0},{"$f":"Table1[[#This Row],[QTY]]*Table1[[#This Row],[S&L Price]]","v":0}]
[null,null,null,"Nuestros colores preferidos / Our Favorite Colors",1,"¡Nos encanta el amarillo! / We Love Yellow!","eBook",null,"978-1-4824-4322-6",{"$f":"HYPERLINK(Table1[[#This Row],[eCommerce Hyperlink]],\"Book Weblink\")","v":"Book Weblink"},null,"2016","January 2016",null,null,"Author, Translated by","Richard Little, Eida de la Vega",null,null,null,null,"B",null,"Grade K","Grade K - 1","Yellow is an important part of our daily lives. Yellow school buses, traffic lights, bananas, butter, and more populate our day, whether we realize it or not. This accessible text will reveal to readers the many shades of yellow all around them. As they turn each page, they'll recognize objects in the photographs, identify them, and practice the accompanying vocabulary. A concluding activity will help them display their understanding of the concept of yellow.","Bilingual (Spanish, English)",23.6,17.7,"535.6--dc23","24 pp.","https://www.garethstevens.com/9781482443226",null,{"$f":"Table1[[#This Row],[QTY]]*Table1[[#This Row],['# Books]]","v":0},{"$f":"Table1[[#This Row],[QTY]]*Table1[[#This Row],[S&L Price]]","v":0}]
[null,null,null,"Nuestros colores preferidos / Our Favorite Colors",1,"¡Nos encanta el anaranjado! / We Love Orange!","Library Bound Book",null,"978-1-4824-4351-6",{"$f":"HYPERLINK(Table1[[#This Row],[eCommerce Hyperlink]],\"Book Weblink\")","v":"Book Weblink"},null,"2016","January 2016","Library","7.000 X 7.000","Author, Translated by","Emma O'Connell, Eida de la Vega",null,null,null,null,"C",null,"Grade K","Grade K - 1","Crunchy carrots, bouncy basketballs, and flashy fish can all be the color orange. After examining this important color concept in the pages of this accessible volume, readers’ eyes will be opened to the many hues of orange in their world, as well as other colors. They’ll also review vocabulary through the simple sentences that accompany each photograph. A final evaluation completes this bright book.","Bilingual (Spanish, English)",23.6,17.7,"535.6--dc23","24 pp.","https://www.garethstevens.com/9781482443516",null,{"$f":"Table1[[#This Row],[QTY]]*Table1[[#This Row],['# Books]]","v":0},{"$f":"Table1[[#This Row],[QTY]]*Table1[[#This Row],[S&L Price]]","v":0}]
[null,null,null,"Nuestros colores preferidos / Our Favorite Colors",1,"¡Nos encanta el anaranjado! / We Love Orange!","eBook",null,"978-1-4824-4323-3",{"$f":"HYPERLINK(Table1[[#This Row],[eCommerce Hyperlink]],\"Book Weblink\")","v":"Book Weblink"},null,"2016","January 2016",null,null,"Author, Translated by","Emma O'Connell, Eida de la Vega",null,null,null,null,"C",null,"Grade K","Grade K - 1","Crunchy carrots, bouncy basketballs, and flashy fish can all be the color orange. After examining this important color concept in the pages of this accessible volume, readers’ eyes will be opened to the many hues of orange in their world, as well as other colors. They’ll also review vocabulary through the simple sentences that accompany each photograph. A final evaluation completes this bright book.","Bilingual (Spanish, English)",23.6,17.7,"535.6--dc23","24 pp.","https://www.garethstevens.com/9781482443233",null,{"$f":"Table1[[#This Row],[QTY]]*Table1[[#This Row],['# Books]]","v":0},{"$f":"Table1[[#This Row],[QTY]]*Table1[[#This Row],[S&L Price]]","v":0}]
[null,null,null,"Nuestros colores preferidos / Our Favorite Colors",1,"¡Nos encanta el azul! / We Love Blue!","Library Bound Book",null,"978-1-4824-4349-3",{"$f":"HYPERLINK(Table1[[#This Row],[eCommerce Hyperlink]],\"Book Weblink\")","v":"Book Weblink"},null,"2016","January 2016","Library","7.000 X 7.000","Author, Translated by","Emma O'Connell, Eida de la Vega",null,null,null,null,"B",null,"Grade K","Grade K - 1","Blue is a beautiful color, and it's all around us, as this volume demonstrates. Readers are presented with multiple vivid hues of the color blue through recognizable objects, such as flowers, fish, and blueberries. They'll also be able to practice their vocabulary while reading comprehensible sentences. They can demonstrate their understanding of the color concept by completing the activity at the end of this book.","Bilingual (Spanish, English)",23.6,17.7,"535.6--dc23","24 pp.","https://www.garethstevens.com/9781482443493",null,{"$f":"Table1[[#This Row],[QTY]]*Table1[[#This Row],['# Books]]","v":0},{"$f":"Table1[[#This Row],[QTY]]*Table1[[#This Row],[S&L Price]]","v":0}]
[null,null,null,"Nuestros colores preferidos / Our Favorite Colors",1,"¡Nos encanta el azul! / We Love Blue!","eBook",null,"978-1-4824-4319-6",{"$f":"HYPERLINK(Table1[[#This Row],[eCommerce Hyperlink]],\"Book Weblink\")","v":"Book Weblink"},null,"2016","January 2016",null,null,"Author, Translated by","Emma O'Connell, Eida de la Vega",null,null,null,null,"B",null,"Grade K","Grade K - 1","Blue is a beautiful color, and it's all around us, as this volume demonstrates. Readers are presented with multiple vivid hues of the color blue through recognizable objects, such as flowers, fish, and blueberries. They'll also be able to practice their vocabulary while reading comprehensible sentences. They can demonstrate their understanding of the color concept by completing the activity at the end of this book.","Bilingual (Spanish, English)",23.6,17.7,"535.6--dc23","24 pp.","https://www.garethstevens.com/9781482443196",null,{"$f":"Table1[[#This Row],[QTY]]*Table1[[#This Row],['# Books]]","v":0},{"$f":"Table1[[#This Row],[QTY]]*Table1[[#This Row],[S&L Price]]","v":0}]
[null,null,null,"Nuestros colores preferidos / Our Favorite Colors",1,"¡Nos encanta el morado! / We Love Purple!","Library Bound Book",null,"978-1-4824-4352-3",{"$f":"HYPERLINK(Table1[[#This Row],[eCommerce Hyperlink]],\"Book Weblink\")","v":"Book Weblink"},null,"2016","January 2016","Library","7.000 X 7.000","Translated by, Author","Eida de la Vega, Richard Little",null,null,null,null,"B",null,"Grade K","Grade K - 1","Grapes, plums, jams...some tasty things are the color purple. Readers of this bright volume will discover this fun fact as well as see varying shades of color in common objects from their lives as they turn each page. Recognizable items and comprehensible text make this book a valuable tool for improving reading comprehension and reviewing color concepts.","Bilingual (Spanish, English)",23.6,17.7,"535.6--dc23","24 pp.","https://www.garethstevens.com/9781482443523",null,{"$f":"Table1[[#This Row],[QTY]]*Table1[[#This Row],['# Books]]","v":0},{"$f":"Table1[[#This Row],[QTY]]*Table1[[#This Row],[S&L Price]]","v":0}]
[null,null,null,"Nuestros colores preferidos / Our Favorite Colors",1,"¡Nos encanta el morado! / We Love Purple!","eBook",null,"978-1-4824-4324-0",{"$f":"HYPERLINK(Table1[[#This Row],[eCommerce Hyperlink]],\"Book Weblink\")","v":"Book Weblink"},null,"2016","January 2016",null,null,"Translated by, Author","Eida de la Vega, Richard Little",null,null,null,null,"B",null,"Grade K","Grade K - 1","Grapes, plums, jams...some tasty things are the color purple. Readers of this bright volume will discover this fun fact as well as see varying shades of color in common objects from their lives as they turn each page. Recognizable items and comprehensible text make this book a valuable tool for improving reading comprehension and reviewing color concepts.","Bilingual (Spanish, English)",23.6,17.7,"535.6--dc23","24 pp.","https://www.garethstevens.com/9781482443240",null,{"$f":"Table1[[#This Row],[QTY]]*Table1[[#This Row],['# Books]]","v":0},{"$f":"Table1[[#This Row],[QTY]]*Table1[[#This Row],[S&L Price]]","v":0}]
[null,null,null,"Nuestros colores preferidos / Our Favorite Colors",1,"¡Nos encanta el rojo! / We Love Red!","Library Bound Book",null,"978-1-4824-4353-0",{"$f":"HYPERLINK(Table1[[#This Row],[eCommerce Hyperlink]],\"Book Weblink\")","v":"Book Weblink"},null,"2016","January 2016","Library","7.000 X 7.000","Author, Translated by","Richard Little, Eida de la Vega",null,null,null,null,"B",null,"Grade K","Grade K - 1","The eye-catching color of red tints delicious apples, shiny toy cars, juicy tomatoes, and so much more in the world around us. Readers of this cheerful volume are invited to recognize red in well-known objects in each photograph as well as to review important vocabulary words in at-level sentences. A simple activity at the end of the book allows them to self-evaluate their mastery of this color concept.","Bilingual (Spanish, English)",23.6,17.7,"535.6--dc23","24 pp.","https://www.garethstevens.com/9781482443530",null,{"$f":"Table1[[#This Row],[QTY]]*Table1[[#This Row],['# Books]]","v":0},{"$f":"Table1[[#This Row],[QTY]]*Table1[[#This Row],[S&L Price]]","v":0}]
[null,null,null,"Nuestros colores preferidos / Our Favorite Colors",1,"¡Nos encanta el rojo! / We Love Red!","eBook",null,"978-1-4824-4325-7",{"$f":"HYPERLINK(Table1[[#This Row],[eCommerce Hyperlink]],\"Book Weblink\")","v":"Book Weblink"},null,"2016","January 2016",null,null,"Author, Translated by","Richard Little, Eida de la Vega",null,null,null,null,"B",null,"Grade K","Grade K - 1","The eye-catching color of red tints delicious apples, shiny toy cars, juicy tomatoes, and so much more in the world around us. Readers of this cheerful volume are invited to recognize red in well-known objects in each photograph as well as to review important vocabulary words in at-level sentences. A simple activity at the end of the book allows them to self-evaluate their mastery of this color concept.","Bilingual (Spanish, English)",23.6,17.7,"535.6--dc23","24 pp.","https://www.garethstevens.com/9781482443257",null,{"$f":"Table1[[#This Row],[QTY]]*Table1[[#This Row],['# Books]]","v":0},{"$f":"Table1[[#This Row],[QTY]]*Table1[[#This Row],[S&L Price]]","v":0}]
[null,null,null,"Nuestros colores preferidos / Our Favorite Colors",1,"¡Nos encanta el verde! / We Love Green!","Library Bound Book",null,"978-1-4824-4354-7",{"$f":"HYPERLINK(Table1[[#This Row],[eCommerce Hyperlink]],\"Book Weblink\")","v":"Book Weblink"},null,"2016","January 2016","Library","7.000 X 7.000","Author, Translated by","Emma O'Connell, Eida de la Vega",null,null,null,null,"B",null,"Grade K","Grade K - 1","Grasping the concept of colors is an important step in early education. Readers dive into the color green with turtles, snakes, grapes, leaves, and other familiar objects. They'll also review vocabulary words of the depicted items. The end of the volume provides an opportunity for evaluation of newly learned information.","Bilingual (Spanish, English)",23.6,17.7,"535.6--dc23","24 pp.","https://www.garethstevens.com/9781482443547",null,{"$f":"Table1[[#This Row],[QTY]]*Table1[[#This Row],['# Books]]","v":0},{"$f":"Table1[[#This Row],[QTY]]*Table1[[#This Row],[S&L Price]]","v":0}]
[null,null,null,"Nuestros colores preferidos / Our Favorite Colors",1,"¡Nos encanta el verde! / We Love Green!","eBook",null,"978-1-4824-4326-4",{"$f":"HYPERLINK(Table1[[#This Row],[eCommerce Hyperlink]],\"Book Weblink\")","v":"Book Weblink"},null,"2016","January 2016",null,null,"Author, Translated by","Emma O'Connell, Eida de la Vega",null,null,null,null,"B",null,"Grade K","Grade K - 1","Grasping the concept of colors is an important step in early education. Readers dive into the color green with turtles, snakes, grapes, leaves, and other familiar objects. They'll also review vocabulary words of the depicted items. The end of the volume provides an opportunity for evaluation of newly learned information.","Bilingual (Spanish, English)",23.6,17.7,"535.6--dc23","24 pp.","https://www.garethstevens.com/9781482443264",null,{"$f":"Table1[[#This Row],[QTY]]*Table1[[#This Row],['# Books]]","v":0},{"$f":"Table1[[#This Row],[QTY]]*Table1[[#This Row],[S&L Price]]","v":0}]
[null,null,null,"Vamos a agrupar por… / Sort It Out!",1,"Colores / Sort It by Color","Library Bound Book",null,"978-1-4824-3215-2",{"$f":"HYPERLINK(Table1[[#This Row],[eCommerce Hyperlink]],\"Book Weblink\")","v":"Book Weblink"},null,"2016","August 2015","Library","7.000 X 7.000","Author, Translated by","Emmett Alexander, Eida de la Vega",null,null,"3",null,"C",null,"Grade K - 1","Grade K - 2","Learning to identify colors is an essential skill in the early elementary classroom. Learning to sort by color takes this aptitude one step further. Through accessible text and helpful photographs, beginning readers will be able to see familiar objects, such as toys and crayons, both mixed up and sorted into their favorite colors. They'll be able to demonstrate their mastery of the concept by this inviting book's end.","Bilingual (Spanish, English)",23.6,17.7,"512.2","24 pp.","https://www.garethstevens.com/9781482432152",null,{"$f":"Table1[[#This Row],[QTY]]*Table1[[#This Row],['# Books]]","v":0},{"$f":"Table1[[#This Row],[QTY]]*Table1[[#This Row],[S&L Price]]","v":0}]
[null,null,null,"Vamos a agrupar por… / Sort It Out!",1,"Colores / Sort It by Color","eBook",null,"978-1-4824-3216-9",{"$f":"HYPERLINK(Table1[[#This Row],[eCommerce Hyperlink]],\"Book Weblink\")","v":"Book Weblink"},null,"2016","August 2015",null,null,"Author, Translated by","Emmett Alexander, Eida de la Vega",null,null,"3",null,"C",null,"Grade K - 1","Grade K - 2","Learning to identify colors is an essential skill in the early elementary classroom. Learning to sort by color takes this aptitude one step further. Through accessible text and helpful photographs, beginning readers will be able to see familiar objects, such as toys and crayons, both mixed up and sorted into their favorite colors. They'll be able to demonstrate their mastery of the concept by this inviting book's end.","Bilingual (Spanish, English)",23.6,17.7,"512.2","24 pp.","https://www.garethstevens.com/9781482432169",null,{"$f":"Table1[[#This Row],[QTY]]*Table1[[#This Row],['# Books]]","v":0},{"$f":"Table1[[#This Row],[QTY]]*Table1[[#This Row],[S&L Price]]","v":0}]
[null,null,null,"Vamos a agrupar por… / Sort It Out!",1,"Formas / Sort It by Shape","Library Bound Book",null,"978-1-4824-3217-6",{"$f":"HYPERLINK(Table1[[#This Row],[eCommerce Hyperlink]],\"Book Weblink\")","v":"Book Weblink"},null,"2016","August 2015","Library","7.000 X 7.000","Author, Translated by","Emmett Alexander, Eida de la Vega",null,null,"4",null,"D",null,"Grade K - 1","Grade K - 2","Our world is made up of shapes. This colorful book will enable beginning readers to visualize that as they examine photographs of objects in their daily lives, such as books, clocks, and sandwiches. They'll also learn how to sort certain shapes from other shapes through clear text and supporting photographs. This valuable book is a beneficial introduction to essential concepts in the early elementary mathematics curriculum.","Bilingual (Spanish, English)",23.6,17.7,"512.2","24 pp.","https://www.garethstevens.com/9781482432176",null,{"$f":"Table1[[#This Row],[QTY]]*Table1[[#This Row],['# Books]]","v":0},{"$f":"Table1[[#This Row],[QTY]]*Table1[[#This Row],[S&L Price]]","v":0}]
[null,null,null,"Vamos a agrupar por… / Sort It Out!",1,"Formas / Sort It by Shape","eBook",null,"978-1-4824-3218-3",{"$f":"HYPERLINK(Table1[[#This Row],[eCommerce Hyperlink]],\"Book Weblink\")","v":"Book Weblink"},null,"2016","August 2015",null,null,"Author, Translated by","Emmett Alexander, Eida de la Vega",null,null,"4",null,"D",null,"Grade K - 1","Grade K - 2","Our world is made up of shapes. This colorful book will enable beginning readers to visualize that as they examine photographs of objects in their daily lives, such as books, clocks, and sandwiches. They'll also learn how to sort certain shapes from other shapes through clear text and supporting photographs. This valuable book is a beneficial introduction to essential concepts in the early elementary mathematics curriculum.","Bilingual (Spanish, English)",23.6,17.7,"512.2","24 pp.","https://www.garethstevens.com/9781482432183",null,{"$f":"Table1[[#This Row],[QTY]]*Table1[[#This Row],['# Books]]","v":0},{"$f":"Table1[[#This Row],[QTY]]*Table1[[#This Row],[S&L Price]]","v":0}]
[null,null,null,"Vamos a agrupar por… / Sort It Out!",1,"Peso / Sort It by Weight","Library Bound Book",null,"978-1-4824-3226-8",{"$f":"HYPERLINK(Table1[[#This Row],[eCommerce Hyperlink]],\"Book Weblink\")","v":"Book Weblink"},null,"2016","August 2015","Library","7.000 X 7.000","Author, Translated by","Nicholas O'Hara, Eida de la Vega",null,null,"3",null,"C",null,"Grade K - 1","Grade K - 2","Weight is an important concept in the elementary math classroom as is learning how to sort and classify objects. This colorful book uses familiar objects to exhibit the differences between the adjectives \"heavy\" and \"light\" and how objects that match these descriptions can be sorted from one another. After reviewing the concepts, readers can demonstrate their understanding at the conclusion of the book and apply their knowledge to situations outside the classroom, too.","Bilingual (Spanish, English)",23.6,17.7,"530.8","24 pp.","https://www.garethstevens.com/9781482432268",null,{"$f":"Table1[[#This Row],[QTY]]*Table1[[#This Row],['# Books]]","v":0},{"$f":"Table1[[#This Row],[QTY]]*Table1[[#This Row],[S&L Price]]","v":0}]
[null,null,null,"Vamos a agrupar por… / Sort It Out!",1,"Peso / Sort It by Weight","eBook",null,"978-1-4824-3225-1",{"$f":"HYPERLINK(Table1[[#This Row],[eCommerce Hyperlink]],\"Book Weblink\")","v":"Book Weblink"},null,"2016","August 2015",null,null,"Author, Translated by","Nicholas O'Hara, Eida de la Vega",null,null,"3",null,"C",null,"Grade K - 1","Grade K - 2","Weight is an important concept in the elementary math classroom as is learning how to sort and classify objects. This colorful book uses familiar objects to exhibit the differences between the adjectives \"heavy\" and \"light\" and how objects that match these descriptions can be sorted from one another. After reviewing the concepts, readers can demonstrate their understanding at the conclusion of the book and apply their knowledge to situations outside the classroom, too.","Bilingual (Spanish, English)",23.6,17.7,"530.8","24 pp.","https://www.garethstevens.com/9781482432251",null,{"$f":"Table1[[#This Row],[QTY]]*Table1[[#This Row],['# Books]]","v":0},{"$f":"Table1[[#This Row],[QTY]]*Table1[[#This Row],[S&L Price]]","v":0}]
[null,null,null,"Vamos a agrupar por… / Sort It Out!",1,"Sonidos / Sort It by Sound","Library Bound Book",null,"978-1-4824-3221-3",{"$f":"HYPERLINK(Table1[[#This Row],[eCommerce Hyperlink]],\"Book Weblink\")","v":"Book Weblink"},null,"2016","August 2015","Library","7.000 X 7.000","Author, Translated by","Nicholas O'Hara, Eida de la Vega",null,null,"3",null,"C",null,"Grade K - 1","Grade K - 2","People sort and classify using several kinds of categories, including sound. Readers of this accessible book will consider what's loud and what's quiet in the world around them. They'll discover some things, like music and people, can be loud or quiet. Sorting one from another is perfectly illustrated with carefully chosen photographs throughout this inviting book.","Bilingual (Spanish, English)",23.6,17.7,"534","24 pp.","https://www.garethstevens.com/9781482432213",null,{"$f":"Table1[[#This Row],[QTY]]*Table1[[#This Row],['# Books]]","v":0},{"$f":"Table1[[#This Row],[QTY]]*Table1[[#This Row],[S&L Price]]","v":0}]
[null,null,null,"Vamos a agrupar por… / Sort It Out!",1,"Sonidos / Sort It by Sound","eBook",null,"978-1-4824-3222-0",{"$f":"HYPERLINK(Table1[[#This Row],[eCommerce Hyperlink]],\"Book Weblink\")","v":"Book Weblink"},null,"2016","August 2015",null,null,"Author, Translated by","Nicholas O'Hara, Eida de la Vega",null,null,"3",null,"C",null,"Grade K - 1","Grade K - 2","People sort and classify using several kinds of categories, including sound. Readers of this accessible book will consider what's loud and what's quiet in the world around them. They'll discover some things, like music and people, can be loud or quiet. Sorting one from another is perfectly illustrated with carefully chosen photographs throughout this inviting book.","Bilingual (Spanish, English)",23.6,17.7,"534","24 pp.","https://www.garethstevens.com/9781482432220",null,{"$f":"Table1[[#This Row],[QTY]]*Table1[[#This Row],['# Books]]","v":0},{"$f":"Table1[[#This Row],[QTY]]*Table1[[#This Row],[S&L Price]]","v":0}]
[null,null,null,"Vamos a agrupar por… / Sort It Out!",1,"Tamaños / Sort It by Size","Library Bound Book",null,"978-1-4824-3219-0",{"$f":"HYPERLINK(Table1[[#This Row],[eCommerce Hyperlink]],\"Book Weblink\")","v":"Book Weblink"},null,"2016","August 2015","Library","7.000 X 7.000","Author, Translated by","Emmett Alexander, Eida de la Vega",null,null,"3",null,"C",null,"Grade K - 1","Grade K - 2","Small and large, short and tall, little and big, these are all words that help us describe size. This math concepts volume doesn't just \"tell\"; it shows early learners the difference between concepts, introduces them to synonyms, and helps them learn to sort a group according to size. Classification is an important concept for the early elementary mathematics student, but the text and photographs in this book, including dogs, fish, and birds, make it fun!","Bilingual (Spanish, English)",23.6,17.7,"512","24 pp.","https://www.garethstevens.com/9781482432190",null,{"$f":"Table1[[#This Row],[QTY]]*Table1[[#This Row],['# Books]]","v":0},{"$f":"Table1[[#This Row],[QTY]]*Table1[[#This Row],[S&L Price]]","v":0}]
[null,null,null,"Vamos a agrupar por… / Sort It Out!",1,"Tamaños / Sort It by Size","eBook",null,"978-1-4824-3220-6",{"$f":"HYPERLINK(Table1[[#This Row],[eCommerce Hyperlink]],\"Book Weblink\")","v":"Book Weblink"},null,"2016","August 2015",null,null,"Author, Translated by","Emmett Alexander, Eida de la Vega",null,null,"3",null,"C",null,"Grade K - 1","Grade K - 2","Small and large, short and tall, little and big, these are all words that help us describe size. This math concepts volume doesn't just \"tell\"; it shows early learners the difference between concepts, introduces them to synonyms, and helps them learn to sort a group according to size. Classification is an important concept for the early elementary mathematics student, but the text and photographs in this book, including dogs, fish, and birds, make it fun!","Bilingual (Spanish, English)",23.6,17.7,"512","24 pp.","https://www.garethstevens.com/9781482432206",null,{"$f":"Table1[[#This Row],[QTY]]*Table1[[#This Row],['# Books]]","v":0},{"$f":"Table1[[#This Row],[QTY]]*Table1[[#This Row],[S&L Price]]","v":0}]
[null,null,null,"Vamos a agrupar por… / Sort It Out!",1,"Textura / Sort It by Texture","Library Bound Book",null,"978-1-4824-3223-7",{"$f":"HYPERLINK(Table1[[#This Row],[eCommerce Hyperlink]],\"Book Weblink\")","v":"Book Weblink"},null,"2016","August 2015","Library","7.000 X 7.000","Author, Translated by","Nicholas O'Hara, Eida de la Vega",null,null,"4",null,"D",null,"Grade K - 1","Grade K - 2","Eww, that feels gross! Young learners love learning about texture up close. This accessible book enables readers to imagine how objects would feel that might not be available in the classroom, such as an alligator! Smooth, bumpy, dry, sticky, hard, and soft are just some of the adjectives introduced in this valuable volume. The text and photographs demonstrate objects that illustrate each adjective as well as how to sort objects of a certain texture from a mixed group.","Bilingual (Spanish, English)",23.6,17.7,"620.1","24 pp.","https://www.garethstevens.com/9781482432237",null,{"$f":"Table1[[#This Row],[QTY]]*Table1[[#This Row],['# Books]]","v":0},{"$f":"Table1[[#This Row],[QTY]]*Table1[[#This Row],[S&L Price]]","v":0}]
[null,null,null,"Vamos a agrupar por… / Sort It Out!",1,"Textura / Sort It by Texture","eBook",null,"978-1-4824-3224-4",{"$f":"HYPERLINK(Table1[[#This Row],[eCommerce Hyperlink]],\"Book Weblink\")","v":"Book Weblink"},null,"2016","August 2015",null,null,"Author, Translated by","Nicholas O'Hara, Eida de la Vega",null,null,"4",null,"D",null,"Grade K - 1","Grade K - 2","Eww, that feels gross! Young learners love learning about texture up close. This accessible book enables readers to imagine how objects would feel that might not be available in the classroom, such as an alligator! Smooth, bumpy, dry, sticky, hard, and soft are just some of the adjectives introduced in this valuable volume. The text and photographs demonstrate objects that illustrate each adjective as well as how to sort objects of a certain texture from a mixed group.","Bilingual (Spanish, English)",23.6,17.7,"620.1","24 pp.","https://www.garethstevens.com/9781482432244",null,{"$f":"Table1[[#This Row],[QTY]]*Table1[[#This Row],['# Books]]","v":0},{"$f":"Table1[[#This Row],[QTY]]*Table1[[#This Row],[S&L Price]]","v":0}]

{"sheet":"Sheet2","index":2,"n_rows":27,"n_cols":10,"rows_kept":27,"cut":false,"hidden":false,"merged":[[21,5,21,6],[22,5,22,6],[24,5,24,6],[13,5,13,6],[15,1,15,2],[15,4,15,6],[16,5,16,6],[17,5,17,6],[18,5,18,6],[23,5,23,6],[0,4,3,6],[12,5,12,6],[4,1,4,2],[5,4,7,4],[10,5,10,6],[11,5,11,6]]}
[null,null,null,null,"Gareth Stevens Publishing\n111 East 14th Street, Suite 349 • New York, NY 10003\nPhone: 800-542-2595 • Fax: 877-542-2596\ngarethstevens.com"]
[null,null,null,null,null,null,null,null,null,{"$f":"COUNT(I:I)","v":0}]
[]
[]
[null,"BILL TO:",null,null,null,null,null,null,null,"Visa"]
[null,"School/Library",{"$f":"Sheet1!J8","v":0},null,"For Credit card orders \nselect one:",null,null,null,null,"Mastercard"]
[null,"Attention",{"$f":"Sheet1!J9","v":0},null,null,null,"Select Card Type",null,null,"AMEX"]
[null,"Address",{"$f":"Sheet1!J11","v":0}]
[null,"City",{"$f":"Sheet1!J12","v":0}]
[null,"State",{"$f":"Sheet1!J13","v":0}]
[null,"Zip",{"$f":"Sheet1!J14","v":0},null,"Card Number"]
[null,"Phone",{"$f":"Sheet1!J16","v":0},null,"Name on Card"]
[null,"Fax",{"$f":"Sheet1!J17","v":0},null,"Exp. Date"]
[null,"email",{"$f":"Sheet1!J18","v":0},null,"CVV Code"]
[]
[null,"SHIP TO:",null,null,"SUMMARY"]
[null,"School/Library",{"$f":"Sheet1!F8","v":0},null,"Book Subtotal",{"$f":"Sheet1!AD11","v":0}]
[null,"Attention",{"$f":"Sheet1!F9","v":0},null,"Library Processing",{"$f":"Sheet1!AD12","v":0}]
[null,"Address",{"$f":"Sheet1!F11","v":0},null,"S&H",{"$f":"Sheet1!AD13","v":0}]
[null,"City",{"$f":"Sheet1!F12","v":0}]
[null,"State",{"$f":"Sheet1!F13","v":0}]
[null,"Zip",{"$f":"Sheet1!F14","v":0},null,"Tax",{"$f":"Sheet1!AD14","v":0},null,"Notes"]
[null,"Phone",{"$f":"Sheet1!F16","v":0},null,"GRAND TOTAL",{"$f":"Sheet1!AD15","v":0}]
[null,"Fax",{"$f":"Sheet1!F17","v":0},null,"Total # of Books Ordered",{"$f":"Sheet1!X9+Sheet1!Z9+Sheet1!AB9+Sheet1!AD9","v":0}]
[null,"email",{"$f":"Sheet1!F18","v":0},null,"Purchase Order #",{"$f":"Sheet1!F20","v":0}]
[]
["QTY","ISBN","Title","Series","Product Type","# of Books","© Date","Price (ea.)","Total"]